Workbook

Sheet List_VISl_projection
A1: Supplementary Table 5. Summary of experiments mapping the anterograde projections from VISl
A2: image_series_id | B2: primary structure-abbrev | C2: Mouse Line | D2: Manual assigned PN type | E2: sex | F2: Hemisphere | G2: Tracer | H2: experiment_page_url
A3: 114250546 | B3: VISl | C3: C57BL/6J | D3: IT PT CT | E3: M | F3: Right | G3: EGFP | H3: http://connectivity.brain-map.org/projection/experiment/114250546
A4: 116903968 | B4: VISl | C4: C57BL/6J | D4: IT PT CT | E4: M | F4: Right | G4: EGFP | H4: http://connectivity.brain-map.org/projection/experiment/116903968
A5: 146858755 | B5: VISl | C5: C57BL/6J | D5: IT PT CT | E5: M | F5: Right | G5: EGFP | H5: http://connectivity.brain-map.org/projection/experiment/146858755
A6: 159224478 | B6: VISl | C6: Syt6-Cre_KI148 | D6: CT | E6: F | F6: Right | G6: EGFP | H6: http://connectivity.brain-map.org/projection/experiment/159224478
A7: 166461899 | B7: VISl | C7: A930038C07Rik-Tg1-Cre | D7: PT | E7: F | F7: Right | G7: EGFP | H7: http://connectivity.brain-map.org/projection/experiment/166461899
A8: 266487079 | B8: VISl | C8: Cux2-IRES-Cre | D8: IT | E8: M | F8: Right | G8: EGFP | H8: http://connectivity.brain-map.org/projection/experiment/266487079
A9: 277849965 | B9: VISl | C9: Nr5a1-Cre | D9: IT | E9: F | F9: Right | G9: EGFP | H9: http://connectivity.brain-map.org/projection/experiment/277849965
A10: 283017324 | B10: VISl | C10: A930038C07Rik-Tg1-Cre | D10: PT | E10: M | F10: Right | G10: EGFP | H10: http://connectivity.brain-map.org/projection/experiment/283017324
A11: 286835688 | B11: VISl | C11: Efr3a-Cre_NO108 | D11: PT | E11: F | F11: Right | G11: EGFP | H11: http://connectivity.brain-map.org/projection/experiment/286835688
A12: 287036898 | B12: VISl | C12: Ntsr1-Cre_GN220 | D12: CT | E12: F | F12: Right | G12: EGFP | H12: http://connectivity.brain-map.org/projection/experiment/287036898
A13: 287495026 | B13: VISl | C13: Cux2-IRES-Cre | D13: IT | E13: F | F13: Right | G13: EGFP | H13: http://connectivity.brain-map.org/projection/experiment/287495026
A14: 294266031 | B14: VISl | C14: Efr3a-Cre_NO108 | D14: CT | E14: F | F14: Right | G14: EGFP | H14: http://connectivity.brain-map.org/projection/experiment/294266031
... A45: 592518697 | B45: VISl | C45: Cux2-IRES-Cre | D45: IT | E45: M | F45: Left | G45: EGFP | H45: http://connectivity.brain-map.org/projection/experiment/592518697

Sheet ipsi_projection_VISl
A1: Supplementary Table 5. Normalized projection volume per structure in the ipsilateral hemisphere for anterograde projections from VISl
A2: Mouse Line | B2: image_series_id | C2: Specimen | D2: FRP | E2: MOp | F2: MOs | G2: SSp-n | H2: SSp-bfd | I2: SSp-ll | J2: SSp-m | K2: SSp-ul | L2: SSp-tr | M2: SSp-un | N2: SSs | O2: GU | P2: VISC | Q2: AUDd | R2: AUDp | S2: AUDpo | T2: AUDv | U2: VISal | V2: VISam | W2: VISl | X2: VISp | Y2: VISpl | Z2: VISpm | AA2: VISli | AB2: VISpor | AC2: ACAd | AD2: ACAv | AE2: PL | AF2: ILA | AG2: ORBl | AH2: ORBm | AI2: ORBvl | AJ2: AId | AK2: AIp | AL2: AIv | AM2: RSPagl | AN2: RSPd | AO2: RSPv | AP2: VISa | AQ2: VISrl | AR2: TEa | AS2: PERI | AT2: ECT | AU2: MOB | AV2: AOB | AW2: AON | AX2: TT | AY2: DP | AZ2: PIR | BA2: NLOT | BB2: COAa | BC2: COAp | BD2: PAA | BE2: TR | BF2: CA1 | BG2: CA2 | BH2: CA3 | BI2: DG | BJ2: FC | BK2: IG | BL2: ENTl | BM2: ENTm | BN2: PAR | BO2: POST | BP2: PRE | BQ2: SUB | BR2: ProS | BS2: HATA | BT2: APr | BU2: CLA | BV2: EPd | BW2: EPv | BX2: LA | BY2: BLA | BZ2: BMA | CA2: PA | CB2: CP | CC2: ACB | CD2: FS | CE2: OT | CF2: LSc | CG2: LSr | CH2: LSv | CI2: SF | CJ2: SH | CK2: AAA | CL2: BA | CM2: CEA | CN2: IA | CO2: MEA | CP2: GPe | CQ2: GPi | CR2: SI | CS2: MA | CT2: MS | CU2: NDB | CV2: TRS | CW2: BST | CX2: BAC | CY2: VAL | CZ2: VM | DA2: VPL | DB2: VPLpc | DC2: VPM | DD2: VPMpc | DE2: PoT | DF2: SPFm | DG2: SPFp | DH2: SPA | DI2: PP | DJ2: MG | DK2: LGd | DL2: LP | DM2: PO | DN2: POL | DO2: SGN | DP2: AV | DQ2: AM | DR2: AD | DS2: IAM | DT2: IAD | DU2: LD | DV2: IMD | DW2: MD | DX2: SMT | DY2: PR | DZ2: PVT | EA2: PT | EB2: RE | EC2: Xi | ED2: RH | EE2: CM | EF2: PCN | EG2: CL | EH2: PF | EI2: PIL | EJ2: RT | EK2: IGL | EL2: IntG | EM2: LGv | EN2: SubG | EO2: MH | EP2: LH | EQ2: SO | ER2: ASO | ES2: PVH | ET2: PVa | EU2: PVi | EV2: ARH | EW2: ADP | EX2: AVP | EY2: AVPV | EZ2: DMH | FA2: MEPO | FB2: MPO | FC2: OV | FD2: PD | FE2: PS | FF2: PVp | FG2: PVpo | FH2: SBPV | FI2: SCH | FJ2: SFO | FK2: VMPO | FL2: VLPO | FM2: AHN | FN2: LM | FO2: MM | FP2: SUM | FQ2: TMd | FR2: TMv | FS2: MPN | FT2: PMd | FU2: PMv | FV2: PVHd | FW2: VMH | FX2: PH | FY2: LHA | FZ2: LPO | GA2: PST | GB2: PSTN | GC2: PeF | GD2: RCH | GE2: STN | GF2: TU | GG2: ZI | GH2: ME | GI2: SCs | GJ2: IC | GK2: NB | GL2: SAG | GM2: PBG | GN2: MEV | GO2: SCO | GP2: SNr | GQ2: VTA | GR2: PN | GS2: RR | GT2: MRN | GU2: SCm | GV2: PAG | GW2: APN | GX2: MPT | GY2: NOT | GZ2: NPC | HA2: OP | HB2: PPT | HC2: CUN | HD2: RN | HE2: III | HF2: MA3 | HG2: EW | HH2: IV | HI2: Pa4 | HJ2: VTN | HK2: AT | HL2: LT | HM2: DT | HN2: MT | HO2: SNc | HP2: PPN | HQ2: IF | HR2: IPN | HS2: RL | HT2: CLI | HU2: DR | HV2: NLL | HW2: PSV | HX2: PB | HY2: SOC | HZ2: B | IA2: DTN | IB2: PDTg | IC2: PCG | ID2: PG | IE2: PRNc | IF2: SG | IG2: SUT | IH2: TRN | II2: V | IJ2: P5 | IK2: Acs5 | IL2: PC5 | IM2: I5 | IN2: CS | IO2: LC | IP2: LDT | IQ2: NI | IR2: PRNr | IS2: RPO | IT2: SLC | IU2: SLD | IV2: AP | IW2: DCO | IX2: VCO | IY2: CU | IZ2: GR | JA2: ECU | JB2: NTB | JC2: NTS | JD2: SPVC | JE2: SPVI | JF2: SPVO | JG2: Pa5 | JH2: VI | JI2: VII | JJ2: ACVII | JK2: AMB | JL2: DMX | JM2: GRN | JN2: ICB | JO2: IO | JP2: IRN | JQ2: ISN | JR2: LIN | JS2: LRN | JT2: MARN | JU2: MDRNd | JV2: MDRNv | JW2: PARN | JX2: PAS | JY2: PGRNd | JZ2: PGRNl | KA2: NR | KB2: PRP | KC2: PPY | KD2: LAV | KE2: MV | KF2: SPIV | KG2: SUV | KH2: x | KI2: XII | KJ2: y | KK2: RM | KL2: RPA | KM2: RO | KN2: LING | KO2: CENT | KP2: CUL | KQ2: DEC | KR2: FOTU | KS2: PYR | KT2: UVU | KU2: NOD | KV2: SIM | KW2: AN | KX2: PRM | KY2: COPY | KZ2: PFL | LA2: FL | LB2: FN | LC2: IP | LD2: DN | LE2: VeCB
A3: =VLOOKUP(B3,List_VISl_projection!A:C,3, FALSE) -> A930038C07Rik-Tg1-Cre | B3: 520341802 | C3: A930038C07Rik-Tg1-Cre-242326 | D3: 0 | E3: 0 | F3: 0.00014672217 | G3: 0 | H3: 0 | I3: 0 | J3: 0 | K3: 0 | L3: 0.00071531683 | M3: 0 | N3: 0 | O3: 0 | P3: 0 | Q3: 0.004409111 | R3: 0 | S3: 0.0046565555 | T3: 0 | U3: 0.049616287 | V3: 6.4055397e-05 | W3: 0.080695348 | X3: 0.047028725 | Y3: 0 | Z3: 0.0011741676 | AA3: 0.027645052 | AB3: 0.0064003256 | AC3: 0 | AD3: 0 | AE3: 0 | AF3: 0 | AG3: 0 | AH3: 0 | AI3: 0 | AJ3: 0 | AK3: 0 | AL3: 0 | AM3: 0 | AN3: 0.0025824996 | AO3: 0.0036652254 | AP3: 0.0098449054 | AQ3: 0.0076912419 | AR3: 0.013073078 | AS3: 7.5210786e-06 | AT3: 0.00053839796 | AU3: 0 | AV3: 0 | AW3: 0 | AX3: 0 | AY3: 0 | AZ3: 0 | BA3: 0 | BB3: 0 | BC3: 0.00087090808 | BD3: 0 | BE3: 0 | BF3: 0 | BG3: 0 | BH3: 0 | BI3: 0 | BJ3: 0 | BK3: 0 | BL3: 0 | BM3: 0 | BN3: 0 | BO3: 0 | BP3: 0 | BQ3: 0 | BR3: 0 | BS3: 0 | BT3: 0 | BU3: 0 | BV3: 0 | BW3: 0 | BX3: 0.0033097271 | BY3: 0 | BZ3: 3.813709e-05 | CA3: 4.6617804e-06 | CB3: 0.11946832 | CC3: 0 | CD3: 0 | CE3: 0 | CF3: 0 | CG3: 0 | CH3: 0 | CI3: 0 | CJ3: 1.3863077e-05 | CK3: 0 | CL3: 0 | CM3: 0 | CN3: 0 | CO3: 0 | CP3: 5.6178956e-05 | CQ3: 0 | CR3: 0 | CS3: 0 | CT3: 0 | CU3: 0 | CV3: 2.7021695e-05 | CW3: 0 | CX3: 0 | CY3: 0 | CZ3: 0 | DA3: 0.0042998465 | DB3: 0 | DC3: 0.010505445 | DD3: 0 | DE3: 0.0029836897 | DF3: 0 | DG3: 0 | DH3: 0 | DI3: 0.00054223925 | DJ3: 0.0026426639 | DK3: 0.024809059 | DL3: 0.3005258 | DM3: 0.061192963 | DN3: 0.0070472158 | DO3: 0.0069611068 | DP3: 0 | DQ3: 0.00066669314 | DR3: 0 | DS3: 0 | DT3: 0 | DU3: 0.024905968 | DV3: 0 | DW3: 7.008751e-07 | DX3: 0.00023690421 | DY3: 0 | DZ3: 0 | EA3: 9.4245085e-06 | EB3: 0.0011459916 | EC3: 0 | ED3: 2.7568706e-05 | EE3: 2.5068955e-07 | EF3: 0 | EG3: 0.00047032795 | EH3: 0 | EI3: 0.00040892194 | EJ3: 0.041620512 | EK3: 0.0062586896 | EL3: 0.00012732478 | EM3: 0.021043516 | EN3: 0.001397532 | EO3: 0 | EP3: 3.6588598e-06 | EQ3: 0 | ER3: 0 | ES3: 0 | ET3: 0 | EU3: 0 | EV3: 0 | EW3: 0 | EX3: 0 | EY3: 0 | EZ3: 0 | FA3: 5.6477351e-06 | FB3: 0 | FC3: 0 | FD3: 0 | FE3: 0 | FF3: 0 | FG3: 0 | FH3: 0 | FI3: 0 | FJ3: 0 | FK3: 0 | FL3: 0 | FM3: 0 | FN3: 0 | FO3: 0 | FP3: 0 | FQ3: 1.0748941e-06 | FR3: 0 | FS3: 0 | FT3: 0 | FU3: 0 | FV3: 0 | FW3: 0 | FX3: 0 | FY3: 0 | FZ3: 0 | GA3: 0 | GB3: 0 | GC3: 0 | GD3: 0 | GE3: 0 | GF3: 0 | GG3: 0.00053528138 | GH3: 0 | GI3: 0.010578852 | GJ3: 0 | GK3: 0 | GL3: 0.00013019891 | GM3: 0 | GN3: 1.095384e-06 | GO3: 8.5524541e-05 | GP3: 0 | GQ3: 0 | GR3: 0 | GS3: 0 | GT3: 0 | GU3: 0.038007076 | GV3: 7.9005546e-05 | GW3: 0.025213963 | GX3: 0.00091795339 | GY3: 0.00045332578 | GZ3: 0 | HA3: 0.0022455791 | HB3: 0.013767746 | HC3: 0 | HD3: 0 | HE3: 0 | HF3: 0 | HG3: 0 | HH3: 0 | HI3: 0 | HJ3: 0 | HK3: 0 | HL3: 0.00034430106 | HM3: 0 | HN3: 0 | HO3: 0 | HP3: 0 | HQ3: 2.3897905e-05 | HR3: 0 | HS3: 0 | HT3: 0 | HU3: 2.0396144e-09 | HV3: 0 | HW3: 0 | HX3: 0 | HY3: 0 | HZ3: 0 | IA3: 0 | IB3: 0 | IC3: 0 | ID3: 0.00072969116 | IE3: 0 | IF3: 0 | IG3: 2.8800078e-06 | IH3: 0 | II3: 0 | IJ3: 0 | IK3: 0 | IL3: 0 | IM3: 0 | IN3: 1.2397385e-05 | IO3: 8.0210989e-07 | IP3: 0 | IQ3: 0 | IR3: 0 | IS3: 0 | IT3: 0 | IU3: 0 | IV3: 4.0858212e-05 | IW3: 0 | IX3: 0 | IY3: 0 | IZ3: 0.00034101944 | JA3: 0 | JB3: 0 | JC3: 0.00014482323 | JD3: 0 | JE3: 0 | JF3: 0 | JG3: 0 | JH3: 0 | JI3: 5.8165072e-06 | JJ3: 0 | JK3: 0 | JL3: 0 | JM3: 0 | JN3: 0 | JO3: 0 | JP3: 0 | JQ3: 0 | JR3: 6.4408849e-06 | JS3: 0 | JT3: 0 | JU3: 0 | JV3: 0 | JW3: 0 | JX3: 0 | JY3: 0 | JZ3: 0 | KA3: 0 | KB3: 0 | KC3: 0 | KD3: 0 | KE3: 0 | KF3: 0 | KG3: 0 | KH3: 0 | KI3: 0 | KJ3: 0 | KK3: 3.0582733e-06 | KL3: 0 | KM3: 0 | KN3: 0 | KO3: 0 | KP3: 0 | KQ3: 0 | KR3: 0 | KS3: 0 | KT3: 0 | KU3: 0 | KV3: 0 | KW3: 0 | KX3: 0 | KY3: 0 | KZ3: 0 | LA3: 0 | LB3: 0 | LC3: 0 | LD3: 0 | LE3: 5.466639e-06
A4: =VLOOKUP(B4,List_VISl_projection!A:C,3, FALSE) -> A930038C07Rik-Tg1-Cre | B4: 552430870 | C4: A930038C07Rik-Tg1-Cre-270159 | D4: 0 | E4: 0 | F4: 0 | G4: 0 | H4: 0 | I4: 0 | J4: 0.0072936702 | K4: 0.00063536913 | L4: 0 | M4: 0 | N4: 0 | O4: 0.00048066277 | P4: 0 | Q4: 0 | R4: 0 | S4: 0 | T4: 0 | U4: 0.0048876378 | V4: 0.0015879784 | W4: 0.10562222 | X4: 0.1167187 | Y4: 0.0036121726 | Z4: 0.0043310606 | AA4: 0.0040998259 | AB4: 0.0067295888 | AC4: 0.0002089318 | AD4: 0 | AE4: 0 | AF4: 0 | AG4: 0 | AH4: 0 | AI4: 0 | AJ4: 0 | AK4: 0 | AL4: 0 | AM4: 0.002286317 | AN4: 0.005889381 | AO4: 0 | AP4: 0.00018428718 | AQ4: 0.0039593715 | AR4: 0.00066322418 | AS4: 0 | AT4: 0 | AU4: 0 | AV4: 0 | AW4: 0 | AX4: 0 | AY4: 0 | AZ4: 0 | BA4: 0.00051105781 | BB4: 0.00042053342 | BC4: 0.0002041427 | BD4: 0.0002837023 | BE4: 0 | BF4: 0 | BG4: 0 | BH4: 0 | BI4: 0 | BJ4: 0 | BK4: 0 | BL4: 0 | BM4: 0 | BN4: 0 | BO4: 0 | BP4: 0.00013071855 | BQ4: 0 | BR4: 0 | BS4: 0 | BT4: 0 | BU4: 0 | BV4: 0.00028486579 | BW4: 0 | BX4: 9.2356493e-05 | BY4: 0 | BZ4: 0.00028374879 | CA4: 0 | CB4: 0.10029977 | CC4: 0 | CD4: 0 | CE4: 0 | CF4: 0 | CG4: 0 | CH4: 0 | CI4: 0 | CJ4: 0 | CK4: 0 | CL4: 2.2216856e-07 | CM4: 0.00014024241 | CN4: 0 | CO4: 0 | CP4: 0.0037595763 | CQ4: 0 | CR4: 0 | CS4: 0 | CT4: 0 | CU4: 0 | CV4: 0 | CW4: 0 | CX4: 0 | CY4: 0 | CZ4: 0 | DA4: 0.00036305376 | DB4: 4.7849103e-05 | DC4: 0.0037413046 | DD4: 3.5742486e-05 | DE4: 0.0012515079 | DF4: 9.6167968e-06 | DG4: 6.3463208e-07 | DH4: 9.1744535e-06 | DI4: 0.0009432603 | DJ4: 0.0034256887 | DK4: 0.063501561 | DL4: 0.16017778 | DM4: 0.013707467 | DN4: 0.0037288561 | DO4: 0.00074330878 | DP4: 0 | DQ4: 0 | DR4: 0 | DS4: 0 | DT4: 0 | DU4: 0.038535705 | DV4: 0 | DW4: 6.9905818e-05 | DX4: 0.00024797498 | DY4: 0 | DZ4: 0 | EA4: 0 | EB4: 7.5862724e-05 | EC4: 0 | ED4: 0 | EE4: 0 | EF4: 0 | EG4: 9.2879439e-05 | EH4: 0.0011618768 | EI4: 0.00058832164 | EJ4: 0.01761119 | EK4: 0.013754966 | EL4: 0.00095686594 | EM4: 0.073383113 | EN4: 0.0036819796 | EO4: 0 | EP4: 0.00013978023 | EQ4: 0 | ER4: 0 | ES4: 0 | ET4: 0 | EU4: 0 | EV4: 0 | EW4: 0 | EX4: 0 | EY4: 4.0253146e-05 | EZ4: 0 | FA4: 0 | FB4: 0 | FC4: 0 | FD4: 0 | FE4: 0 | FF4: 0 | FG4: 1.3920904e-05 | FH4: 0 | FI4: 0 | FJ4: 0 | FK4: 0 | FL4: 0.00010371031 | FM4: 0 | FN4: 0 | FO4: 0 | FP4: 0 | FQ4: 0 | FR4: 0 | FS4: 0 | FT4: 0 | FU4: 0 | FV4: 4.0787666e-05 | FW4: 1.5949262e-05 | FX4: 0 | FY4: 0 | FZ4: 0 | GA4: 0 | GB4: 0 | GC4: 0 | GD4: 0 | GE4: 0 | GF4: 0 | GG4: 0.0057726823 | GH4: 0 | GI4: 0.029065921 | GJ4: 0 | GK4: 0 | GL4: 0.0001691189 | GM4: 0 | GN4: 0 | GO4: 0 | GP4: 0.0028048425 | GQ4: 0 | GR4: 0 | GS4: 0 | GT4: 0.00039578583 | GU4: 0.038768282 | GV4: 0 | GW4: 0.07120337 | GX4: 0.0059239675 | GY4: 0.0047021961 | GZ4: 0.00077731836 | HA4: 0.010658201 | HB4: 0.013959811 | HC4: 0 | HD4: 0 | HE4: 0 | HF4: 0 | HG4: 0 | HH4: 0 | HI4: 0 | HJ4: 0 | HK4: 0 | HL4: 0.0015752373 | HM4: 0 | HN4: 0 | HO4: 0 | HP4: 0 | HQ4: 0 | HR4: 0 | HS4: 0 | HT4: 0 | HU4: 0 | HV4: 0 | HW4: 0 | HX4: 0 | HY4: 0 | HZ4: 0 | IA4: 0 | IB4: 0 | IC4: 0 | ID4: 0.018983245 | IE4: 0 | IF4: 0 | IG4: 0 | IH4: 0.0056242332 | II4: 0 | IJ4: 0 | IK4: 0 | IL4: 0 | IM4: 0 | IN4: 0 | IO4: 0 | IP4: 0 | IQ4: 0 | IR4: 0 | IS4: 0 | IT4: 0 | IU4: 0 | IV4: 0 | IW4: 0 | IX4: 0 | IY4: 0 | IZ4: 0 | JA4: 0 | JB4: 0 | JC4: 0 | JD4: 0 | JE4: 0 | JF4: 0 | JG4: 0 | JH4: 0 | JI4: 1.9003693e-08 | JJ4: 0 | JK4: 0 | JL4: 0 | JM4: 0 | JN4: 0 | JO4: 0 | JP4: 0 | JQ4: 0 | JR4: 0 | JS4: 0 | JT4: 0 | JU4: 0 | JV4: 0 | JW4: 0 | JX4: 0 | JY4: 0 | JZ4: 0 | KA4: 0 | KB4: 0 | KC4: 0 | KD4: 0 | KE4: 0 | KF4: 0 | KG4: 0 | KH4: 0 | KI4: 0 | KJ4: 0 | KK4: 0 | KL4: 0 | KM4: 0 | KN4: 0 | KO4: 0 | KP4: 0 | KQ4: 0 | KR4: 0 | KS4: 0 | KT4: 0 | KU4: 0 | KV4: 0 | KW4: 0 | KX4: 0 | KY4: 0 | KZ4: 0 | LA4: 0 | LB4: 0 | LC4: 0 | LD4: 0 | LE4: 0
A5: =VLOOKUP(B5,List_VISl_projection!A:C,3, FALSE) -> Cux2-IRES-Cre | B5: 484503464 | C5: Cux2-IRES-Cre-198364 | D5: 0 | E5: 0.00031275363 | F5: 0.0091520297 | G5: 0 | H5: 0.036290901 | I5: 0.00019453907 | J5: 0 | K5: 0 | L5: 0.00097481981 | M5: 0 | N5: 0.00074498455 | O5: 0 | P5: 0 | Q5: 0.0015088355 | R5: 0.0011216501 | S5: 0.0018121744 | T5: 0.00054198037 | U5: 0.02799838 | V5: 0.014998669 | W5: 0.064556771 | X5: 0.30058128 | Y5: 0.020987821 | Z5: 0.047187244 | AA5: 0.027077646 | AB5: 0.058928835 | AC5: 0.020196559 | AD5: 0.0053732259 | AE5: 0 | AF5: 2.4691471e-06 | AG5: 0 | AH5: 0 | AI5: 0 | AJ5: 0 | AK5: 0 | AL5: 0 | AM5: 0.0066922631 | AN5: 0.026124632 | AO5: 0.016979006 | AP5: 0.0051171436 | AQ5: 0.073103938 | AR5: 0.0074195791 | AS5: 0.00082071359 | AT5: 0.0013783694 | AU5: 0 | AV5: 0 | AW5: 0 | AX5: 0 | AY5: 3.9723276e-05 | AZ5: 0 | BA5: 0 | BB5: 0 | BC5: 0 | BD5: 0 | BE5: 0 | BF5: 0.00029428011 | BG5: 6.9378021e-06 | BH5: 0 | BI5: 0 | BJ5: 0 | BK5: 0 | BL5: 0.01310513 | BM5: 0.0041867823 | BN5: 0.001032616 | BO5: 0.0077451178 | BP5: 0.0010878174 | BQ5: 0.00012883187 | BR5: 7.0679555e-05 | BS5: 1.0336423e-06 | BT5: 0.0016213315 | BU5: 7.5844001e-05 | BV5: 0 | BW5: 4.2355075e-06 | BX5: 0.0005425214 | BY5: 0.0002313393 | BZ5: 3.0413162e-06 | CA5: 0 | CB5: 0.072706358 | CC5: 0 | CD5: 0 | CE5: 0 | CF5: 1.1585853e-05 | CG5: 0.0003971433 | CH5: 0 | CI5: 2.8764354e-05 | CJ5: 9.6442567e-07 | CK5: 0 | CL5: 0 | CM5: 7.8024883e-05 | CN5: 3.2348598e-06 | CO5: 0 | CP5: 2.1013063e-05 | CQ5: 0 | CR5: 0 | CS5: 0 | CT5: 0 | CU5: 0 | CV5: 1.7240954e-06 | CW5: 0 | CX5: 0 | CY5: 0 | CZ5: 0 | DA5: 0 | DB5: 0 | DC5: 1.1334073e-06 | DD5: 7.9720509e-08 | DE5: 6.7794436e-06 | DF5: 2.760107e-06 | DG5: 0 | DH5: 0 | DI5: 0 | DJ5: 0 | DK5: 0.00039214956 | DL5: 0.00098161782 | DM5: 3.9188357e-05 | DN5: 5.204603e-05 | DO5: 0 | DP5: 0 | DQ5: 0 | DR5: 0 | DS5: 0 | DT5: 0 | DU5: 0.00013994188 | DV5: 0 | DW5: 0 | DX5: 1.0026567e-07 | DY5: 0 | DZ5: 0 | EA5: 0 | EB5: 0 | EC5: 0 | ED5: 0 | EE5: 0 | EF5: 0 | EG5: 0 | EH5: 0 | EI5: 0 | EJ5: 0.00012016439 | EK5: 8.1446743e-05 | EL5: 1.1571926e-06 | EM5: 0.00024523633 | EN5: 2.2360652e-05 | EO5: 0 | EP5: 0 | EQ5: 0 | ER5: 0 | ES5: 0 | ET5: 0 | EU5: 0 | EV5: 0 | EW5: 0 | EX5: 0 | EY5: 0 | EZ5: 0 | FA5: 0 | FB5: 0 | FC5: 0 | FD5: 0 | FE5: 0 | FF5: 0 | FG5: 0 | FH5: 0 | FI5: 0 | FJ5: 0 | FK5: 0 | FL5: 0 | FM5: 0 | FN5: 0 | FO5: 0 | FP5: 0 | FQ5: 0 | FR5: 0 | FS5: 0 | FT5: 0 | FU5: 0 | FV5: 0 | FW5: 0 | FX5: 0 | FY5: 0 | FZ5: 0 | GA5: 0 | GB5: 0 | GC5: 0 | GD5: 0 | GE5: 0 | GF5: 0 | GG5: 0 | GH5: 0 | GI5: 0.0046167662 | GJ5: 0 | GK5: 0 | GL5: 3.3001733e-06 | GM5: 0 | GN5: 0 | GO5: 0 | GP5: 0 | GQ5: 0 | GR5: 0 | GS5: 0 | GT5: 0 | GU5: 0.0028416562 | GV5: 9.8033365e-07 | GW5: 0.00037931442 | GX5: 2.3804702e-05 | GY5: 4.4508085e-05 | GZ5: 0 | HA5: 7.4474762e-05 | HB5: 0.00020383312 | HC5: 0 | HD5: 0 | HE5: 0 | HF5: 0 | HG5: 0 | HH5: 0 | HI5: 0 | HJ5: 0 | HK5: 0 | HL5: 3.9895435e-06 | HM5: 0 | HN5: 0 | HO5: 0 | HP5: 0 | HQ5: 0 | HR5: 0 | HS5: 0 | HT5: 0 | HU5: 0 | HV5: 0 | HW5: 0 | HX5: 0 | HY5: 0 | HZ5: 0 | IA5: 0 | IB5: 0 | IC5: 0 | ID5: 0 | IE5: 0 | IF5: 0 | IG5: 3.9221923e-07 | IH5: 0 | II5: 0 | IJ5: 0 | IK5: 0 | IL5: 0 | IM5: 0 | IN5: 1.4564905e-07 | IO5: 0 | IP5: 0 | IQ5: 0 | IR5: 0 | IS5: 0 | IT5: 0 | IU5: 0 | IV5: 0 | IW5: 0 | IX5: 0 | IY5: 0 | IZ5: 0 | JA5: 0 | JB5: 0 | JC5: 1.0350096e-08 | JD5: 0 | JE5: 0 | JF5: 0 | JG5: 0 | JH5: 0 | JI5: 0 | JJ5: 0 | JK5: 0 | JL5: 0 | JM5: 0 | JN5: 0 | JO5: 0 | JP5: 0 | JQ5: 0 | JR5: 0 | JS5: 0 | JT5: 0 | JU5: 0 | JV5: 0 | JW5: 0 | JX5: 0 | JY5: 0 | JZ5: 0 | KA5: 0 | KB5: 0 | KC5: 0 | KD5: 0 | KE5: 0 | KF5: 0 | KG5: 0 | KH5: 0 | KI5: 0 | KJ5: 0 | KK5: 3.6069695e-08 | KL5: 0 | KM5: 0 | KN5: 0 | KO5: 0 | KP5: 0 | KQ5: 0 | KR5: 0 | KS5: 0 | KT5: 0 | KU5: 0 | KV5: 0 | KW5: 0 | KX5: 0 | KY5: 0 | KZ5: 0 | LA5: 0 | LB5: 0 | LC5: 0 | LD5: 0 | LE5: 0
A6: =VLOOKUP(B6,List_VISl_projection!A:C,3, FALSE) -> Cux2-IRES-Cre | B6: 495344543 | C6: Cux2-IRES-Cre-203183 | D6: 0 | E6: 0.00038112102 | F6: 0.0078030034 | G6: 0 | H6: 0.020628396 | I6: 0.00035871805 | J6: 0 | K6: 0 | L6: 0.0015341728 | M6: 0 | N6: 0.00047123091 | O6: 0 | P6: 0.00010057013 | Q6: 0.0057631038 | R6: 0.0049961117 | S6: 0.0082540441 | T6: 0.0025788784 | U6: 0.030058351 | V6: 0.032389753 | W6: 0.058366727 | X6: 0.31400101 | Y6: 0.016139904 | Z6: 0.078535634 | AA6: 0.024692135 | AB6: 0.063249123 | AC6: 0.010100998 | AD6: 0.0033069262 | AE6: 0 | AF6: 3.8573348e-05 | AG6: 0 | AH6: 0 | AI6: 0 | AJ6: 0 | AK6: 0.00028151263 | AL6: 0 | AM6: 0.018451539 | AN6: 0.015008842 | AO6: 0.0014293854 | AP6: 0.037159929 | AQ6: 0.067930068 | AR6: 0.028258678 | AS6: 0.0025263387 | AT6: 0.010169243 | AU6: 0 | AV6: 0 | AW6: 0 | AX6: 0 | AY6: 0 | AZ6: 0 | BA6: 0 | BB6: 8.7355535e-05 | BC6: 3.8203787e-05 | BD6: 1.9569112e-05 | BE6: 0 | BF6: 0.00064959852 | BG6: 0.00014708866 | BH6: 0.00014782615 | BI6: 0 | BJ6: 0 | BK6: 0 | BL6: 0.022186941 | BM6: 0.0052261421 | BN6: 0.00050376151 | BO6: 0.0013525074 | BP6: 0.00064528961 | BQ6: 0.00012402589 | BR6: 2.292057e-05 | BS6: 1.5942436e-05 | BT6: 0.00052297017 | BU6: 0.00022151474 | BV6: 7.3114408e-05 | BW6: 2.4999935e-05 | BX6: 0.0020843339 | BY6: 0.0015491573 | BZ6: 3.1804349e-05 | CA6: 2.1532339e-07 | CB6: 0.084996392 | CC6: 0 | CD6: 2.5801409e-05 | CE6: 0 | CF6: 2.9374319e-05 | CG6: 0 | CH6: 0 | CI6: 5.5155853e-06 | CJ6: 3.4795974e-07 | CK6: 3.6349145e-05 | CL6: 0 | CM6: 0.00019813383 | CN6: 2.2433324e-05 | CO6: 0 | CP6: 0 | CQ6: 0 | CR6: 0 | CS6: 0 | CT6: 0 | CU6: 0 | CV6: 0 | CW6: 9.8502001e-06 | CX6: 0 | CY6: 0 | CZ6: 0 | DA6: 0 | DB6: 0 | DC6: 2.1460027e-08 | DD6: 0 | DE6: 2.0628491e-06 | DF6: 0 | DG6: 0 | DH6: 0 | DI6: 3.0281057e-06 | DJ6: 0.00014643331 | DK6: 0.00015322694 | DL6: 0.0030720238 | DM6: 8.5182465e-05 | DN6: 1.8865816e-05 | DO6: 8.4667319e-05 | DP6: 0 | DQ6: 9.9795269e-06 | DR6: 0 | DS6: 0 | DT6: 9.7374033e-07 | DU6: 0.00017065551 | DV6: 0 | DW6: 2.0969446e-05 | DX6: 1.1101402e-05 | DY6: 0 | DZ6: 0 | EA6: 1.2954052e-08 | EB6: 0 | EC6: 0 | ED6: 0 | EE6: 0 | EF6: 8.4632794e-07 | EG6: 2.3573077e-05 | EH6: 0 | EI6: 0 | EJ6: 1.996936e-05 | EK6: 2.5572035e-05 | EL6: 5.9294938e-06 | EM6: 7.5860423e-06 | EN6: 6.0320865e-06 | EO6: 0 | EP6: 0 | EQ6: 0 | ER6: 0 | ES6: 0 | ET6: 0 | EU6: 0 | EV6: 0 | EW6: 0 | EX6: 0 | EY6: 0 | EZ6: 0 | FA6: 0 | FB6: 4.5854676e-06 | FC6: 0 | FD6: 0 | FE6: 0 | FF6: 4.1962597e-06 | FG6: 0 | FH6: 0 | FI6: 0 | FJ6: 0 | FK6: 0 | FL6: 0 | FM6: 0 | FN6: 0 | FO6: 4.0090696e-06 | FP6: 0 | FQ6: 3.7698966e-08 | FR6: 0 | FS6: 0 | FT6: 0 | FU6: 0 | FV6: 0 | FW6: 0 | FX6: 0 | FY6: 0 | FZ6: 0 | GA6: 0 | GB6: 0 | GC6: 0 | GD6: 0 | GE6: 0 | GF6: 0 | GG6: 0 | GH6: 0 | GI6: 0.000275731 | GJ6: 0 | GK6: 0 | GL6: 3.250066e-05 | GM6: 0 | GN6: 0 | GO6: 0 | GP6: 0 | GQ6: 0 | GR6: 0 | GS6: 0 | GT6: 4.4703717e-07 | GU6: 0.0010307719 | GV6: 0 | GW6: 6.8941076e-05 | GX6: 5.1815521e-06 | GY6: 0 | GZ6: 0 | HA6: 6.4514619e-06 | HB6: 0.00014883748 | HC6: 0 | HD6: 0 | HE6: 0 | HF6: 0 | HG6: 0 | HH6: 0 | HI6: 0 | HJ6: 0 | HK6: 0 | HL6: 1.437284e-05 | HM6: 0 | HN6: 0 | HO6: 0 | HP6: 0 | HQ6: 0 | HR6: 0 | HS6: 0 | HT6: 0 | HU6: 0 | HV6: 0 | HW6: 0 | HX6: 0 | HY6: 0 | HZ6: 0 | IA6: 0 | IB6: 0 | IC6: 0 | ID6: 0 | IE6: 0 | IF6: 0 | IG6: 0 | IH6: 0 | II6: 0 | IJ6: 0 | IK6: 0 | IL6: 0 | IM6: 0 | IN6: 0 | IO6: 0 | IP6: 0 | IQ6: 0 | IR6: 0 | IS6: 0 | IT6: 0 | IU6: 0 | IV6: 0 | IW6: 0 | IX6: 0 | IY6: 0 | IZ6: 0 | JA6: 0 | JB6: 0 | JC6: 4.7921367e-06 | JD6: 0 | JE6: 0 | JF6: 0 | JG6: 0 | JH6: 0 | JI6: 0 | JJ6: 0 | JK6: 0 | JL6: 0 | JM6: 0 | JN6: 0 | JO6: 0 | JP6: 0 | JQ6: 0 | JR6: 0 | JS6: 0 | JT6: 0 | JU6: 0 | JV6: 0 | JW6: 0 | JX6: 0 | JY6: 0 | JZ6: 0 | KA6: 0 | KB6: 0 | KC6: 0 | KD6: 0 | KE6: 0 | KF6: 0 | KG6: 0 | KH6: 0 | KI6: 0 | KJ6: 0 | KK6: 0 | KL6: 0 | KM6: 0 | KN6: 0 | KO6: 0 | KP6: 0 | KQ6: 0 | KR6: 0 | KS6: 0 | KT6: 0 | KU6: 0 | KV6: 0 | KW6: 0 | KX6: 0 | KY6: 0 | KZ6: 0 | LA6: 0 | LB6: 0 | LC6: 0 | LD6: 0 | LE6: 0
A7: =VLOOKUP(B7,List_VISl_projection!A:C,3, FALSE) -> Cux2-IRES-Cre | B7: 587344810 | C7: Cux2-IRES-Cre-309605 | D7: 0 | E7: 0.00045824706 | F7: 0.0027864481 | G7: 0 | H7: 0.0047389807 | I7: 0.00057276725 | J7: 0 | K7: 7.0890257e-05 | L7: 0.0020758678 | M7: 0 | N7: 0.0026824178 | O7: 0 | P7: 0.00013215738 | Q7: 0.00486182 | R7: 0.0044728943 | S7: 0.0043097837 | T7: 0.0040534617 | U7: 0.029059767 | V7: 0.024762651 | W7: 0.035697668 | X7: 0.23141773 | Y7: 0.0209694 | Z7: 0.030554506 | AA7: 0.016875447 | AB7: 0.043355622 | AC7: 0.0073744848 | AD7: 0.007246597 | AE7: 0.00033032546 | AF7: 7.1083726e-05 | AG7: 0 | AH7: 0 | AI7: 1.8070687e-05 | AJ7: 0 | AK7: 0.00043192747 | AL7: 2.849548e-05 | AM7: 0.072633997 | AN7: 0.095959553 | AO7: 0.036852906 | AP7: 0.016121127 | AQ7: 0.012642872 | AR7: 0.022731908 | AS7: 0.0035307153 | AT7: 0.0085808866 | AU7: 0 | AV7: 0 | AW7: 0 | AX7: 0.00031617072 | AY7: 0.00055513457 | AZ7: 0 | BA7: 0 | BB7: 0 | BC7: 0 | BD7: 2.3503781e-05 | BE7: 9.2224489e-06 | BF7: 0.0028054999 | BG7: 0.00016220099 | BH7: 0.00010201898 | BI7: 8.5787515e-05 | BJ7: 1.4135029e-05 | BK7: 0 | BL7: 0.021660223 | BM7: 0.011682661 | BN7: 0.0018486544 | BO7: 0.0086223618 | BP7: 0.0043503206 | BQ7: 0.0010834609 | BR7: 0.00019049699 | BS7: 1.5643017e-07 | BT7: 0.0068843882 | BU7: 0.00056285483 | BV7: 0.00020146453 | BW7: 6.5553789e-05 | BX7: 0.0033489172 | BY7: 0.0023165431 | BZ7: 9.0046303e-05 | CA7: 0 | CB7: 0.075060203 | CC7: 0 | CD7: 0 | CE7: 0 | CF7: 7.8199848e-05 | CG7: 0.00028004486 | CH7: 1.1268689e-05 | CI7: 6.5230474e-05 | CJ7: 4.0256418e-05 | CK7: 0 | CL7: 0 | CM7: 0.00011918161 | CN7: 1.0506459e-05 | CO7: 0 | CP7: 0.00028473342 | CQ7: 0 | CR7: 0 | CS7: 0 | CT7: 0 | CU7: 0 | CV7: 4.1888229e-05 | CW7: 0 | CX7: 0 | CY7: 2.8364968e-05 | CZ7: 0 | DA7: 5.5149663e-07 | DB7: 0 | DC7: 9.6089887e-05 | DD7: 0 | DE7: 3.9276568e-05 | DF7: 0 | DG7: 0 | DH7: 0 | DI7: 2.5092564e-05 | DJ7: 0.00012429904 | DK7: 0.0012583576 | DL7: 0.010934887 | DM7: 0.00017375359 | DN7: 0.00027314178 | DO7: 0.0001263062 | DP7: 0 | DQ7: 7.8313568e-05 | DR7: 0 | DS7: 0 | DT7: 0 | DU7: 0.0014100524 | DV7: 0 | DW7: 6.232946e-06 | DX7: 6.0639586e-06 | DY7: 0 | DZ7: 0 | EA7: 0 | EB7: 2.4739349e-06 | EC7: 1.1511614e-05 | ED7: 3.669828e-05 | EE7: 0 | EF7: 6.3768944e-09 | EG7: 7.6958128e-05 | EH7: 0 | EI7: 0 | EJ7: 0.0012320756 | EK7: 0.00013994675 | EL7: 1.098162e-07 | EM7: 0.00057480864 | EN7: 4.458251e-05 | EO7: 0 | EP7: 3.4331985e-07 | EQ7: 0 | ER7: 0 | ES7: 0 | ET7: 0 | EU7: 0 | EV7: 0 | EW7: 0 | EX7: 0 | EY7: 0 | EZ7: 2.0841036e-07 | FA7: 0 | FB7: 0 | FC7: 0 | FD7: 0 | FE7: 0 | FF7: 0 | FG7: 0 | FH7: 0 | FI7: 0 | FJ7: 0 | FK7: 0 | FL7: 0 | FM7: 0 | FN7: 0 | FO7: 0 | FP7: 0 | FQ7: 0 | FR7: 0 | FS7: 0 | FT7: 0 | FU7: 0 | FV7: 0 | FW7: 0 | FX7: 0 | FY7: 0 | FZ7: 0 | GA7: 0 | GB7: 0 | GC7: 0 | GD7: 0 | GE7: 0 | GF7: 0 | GG7: 4.3301694e-05 | GH7: 0 | GI7: 0.0020998365 | GJ7: 0 | GK7: 0 | GL7: 6.5324372e-05 | GM7: 0 | GN7: 0 | GO7: 0 | GP7: 0 | GQ7: 0 | GR7: 0 | GS7: 0 | GT7: 0 | GU7: 0.0019480155 | GV7: 5.5250794e-06 | GW7: 0.00061110238 | GX7: 0.0001933927 | GY7: 0.00014351824 | GZ7: 0 | HA7: 9.0424976e-05 | HB7: 0.00014908455 | HC7: 0 | HD7: 0 | HE7: 0 | HF7: 0 | HG7: 0 | HH7: 0 | HI7: 0 | HJ7: 0 | HK7: 0 | HL7: 3.917634e-06 | HM7: 0 | HN7: 0 | HO7: 0 | HP7: 0 | HQ7: 0 | HR7: 0 | HS7: 0 | HT7: 0 | HU7: 0 | HV7: 0 | HW7: 0 | HX7: 0 | HY7: 0 | HZ7: 0 | IA7: 0 | IB7: 0 | IC7: 0 | ID7: 0 | IE7: 0 | IF7: 0 | IG7: 0 | IH7: 0 | II7: 0 | IJ7: 0 | IK7: 0 | IL7: 0 | IM7: 0 | IN7: 0 | IO7: 0 | IP7: 0 | IQ7: 0 | IR7: 0 | IS7: 0 | IT7: 0 | IU7: 0 | IV7: 0 | IW7: 0 | IX7: 0 | IY7: 0 | IZ7: 0 | JA7: 0 | JB7: 0 | JC7: 0 | JD7: 0 | JE7: 0 | JF7: 0 | JG7: 0 | JH7: 0 | JI7: 0 | JJ7: 0 | JK7: 0 | JL7: 0 | JM7: 0 | JN7: 0 | JO7: 0 | JP7: 0 | JQ7: 0 | JR7: 0 | JS7: 0 | JT7: 0 | JU7: 0 | JV7: 0 | JW7: 0 | JX7: 0 | JY7: 0 | JZ7: 0 | KA7: 0 | KB7: 0 | KC7: 0 | KD7: 0 | KE7: 0 | KF7: 0 | KG7: 0 | KH7: 0 | KI7: 0 | KJ7: 0 | KK7: 0 | KL7: 0 | KM7: 0 | KN7: 0 | KO7: 0 | KP7: 0 | KQ7: 0 | KR7: 0 | KS7: 0 | KT7: 0 | KU7: 0 | KV7: 0 | KW7: 0 | KX7: 0 | KY7: 0 | KZ7: 0 | LA7: 0 | LB7: 0 | LC7: 0 | LD7: 0 | LE7: 0
A8: =VLOOKUP(B8,List_VISl_projection!A:C,3, FALSE) -> Cux2-IRES-Cre | B8: 592518697 | C8: Cux2-IRES-Cre-314798 | D8: 0 | E8: 0.00089262465 | F8: 0.0057894837 | G8: 0 | H8: 0.0082907827 | I8: 0.00066863835 | J8: 0 | K8: 8.4116235e-05 | L8: 0.0025785325 | M8: 9.4598618e-05 | N8: 0.0032018369 | O8: 0 | P8: 0.00061231433 | Q8: 0.0087652558 | R8: 0.0088069699 | S8: 0.0092076446 | T8: 0.0085820848 | U8: 0.03823667 | V8: 0.029621649 | W8: 0.019935195 | X8: 0.21055876 | Y8: 0.02296423 | Z8: 0.045525944 | AA8: 0.0079223964 | AB8: 0.039867726 | AC8: 0.0080686593 | AD8: 0.0054500207 | AE8: 0.0018524576 | AF8: 0.00037539083 | AG8: 0.00014554955 | AH8: 0.00038566676 | AI8: 0.0011842782 | AJ8: 0.0001726944 | AK8: 0.0016178242 | AL8: 0.00071691379 | AM8: 0.051702675 | AN8: 0.057391772 | AO8: 0.012859809 | AP8: 0.019197617 | AQ8: 0.012105757 | AR8: 0.038087195 | AS8: 0.0067684682 | AT8: 0.019492231 | AU8: 0 | AV8: 0 | AW8: 0 | AX8: 0.00022076373 | AY8: 0.00044882033 | AZ8: 0.00037832191 | BA8: 6.2614962e-07 | BB8: 8.5537678e-06 | BC8: 7.150886e-05 | BD8: 2.5496388e-05 | BE8: 0.000410197 | BF8: 0.0016059625 | BG8: 0.00012529342 | BH8: 0.00016037104 | BI8: 0 | BJ8: 4.7667187e-05 | BK8: 0 | BL8: 0.065621718 | BM8: 0.026531282 | BN8: 0.0030613549 | BO8: 0.007668062 | BP8: 0.002286217 | BQ8: 0.0016397981 | BR8: 0.0016751779 | BS8: 0 | BT8: 0.0041195065 | BU8: 0.001410562 | BV8: 0.00054243218 | BW8: 0.00020540843 | BX8: 0.010280802 | BY8: 0.011816979 | BZ8: 0.00095743897 | CA8: 4.635771e-06 | CB8: 0.075268397 | CC8: 0.00012506621 | CD8: 8.2603547e-05 | CE8: 0 | CF8: 9.4932169e-05 | CG8: 0.00068232252 | CH8: 1.2976959e-08 | CI8: 7.4499041e-05 | CJ8: 1.862276e-05 | CK8: 2.2765132e-05 | CL8: 2.6772729e-08 | CM8: 0.0014991544 | CN8: 0.00017653592 | CO8: 0 | CP8: 0.00011109839 | CQ8: 0 | CR8: 0 | CS8: 0 | CT8: 2.1051658e-05 | CU8: 0 | CV8: 3.240132e-05 | CW8: 2.8738448e-07 | CX8: 0 | CY8: 4.201275e-05 | CZ8: 5.3695934e-05 | DA8: 4.0878452e-05 | DB8: 0 | DC8: 3.0535751e-05 | DD8: 9.3112545e-09 | DE8: 7.0926011e-06 | DF8: 8.4673738e-07 | DG8: 0 | DH8: 1.979317e-07 | DI8: 0 | DJ8: 6.8487435e-05 | DK8: 0.0014374458 | DL8: 0.0067241465 | DM8: 0.00013946324 | DN8: 0.00040341498 | DO8: 0.0001971229 | DP8: 0 | DQ8: 0.00016009788 | DR8: 0 | DS8: 2.0397841e-07 | DT8: 0 | DU8: 0.00052379996 | DV8: 0 | DW8: 0 | DX8: 4.156765e-05 | DY8: 1.8266026e-05 | DZ8: 0 | EA8: 3.7495188e-06 | EB8: 2.7809111e-05 | EC8: 0 | ED8: 3.1461379e-05 | EE8: 4.0845327e-09 | EF8: 4.8012301e-07 | EG8: 1.5662439e-05 | EH8: 7.3764446e-06 | EI8: 5.8147454e-06 | EJ8: 0.00061388402 | EK8: 0.00013759069 | EL8: 6.381507e-06 | EM8: 0.00065371437 | EN8: 3.3753465e-05 | EO8: 0 | EP8: 8.7852281e-07 | EQ8: 0 | ER8: 0 | ES8: 0 | ET8: 0 | EU8: 0 | EV8: 0 | EW8: 0 | EX8: 0 | EY8: 0 | EZ8: 1.8227325e-06 | FA8: 0 | FB8: 0 | FC8: 0 | FD8: 0 | FE8: 0 | FF8: 0 | FG8: 0 | FH8: 0 | FI8: 1.8948804e-07 | FJ8: 0 | FK8: 0 | FL8: 0 | FM8: 0 | FN8: 0 | FO8: 0 | FP8: 0 | FQ8: 0 | FR8: 0 | FS8: 0 | FT8: 0 | FU8: 0 | FV8: 0 | FW8: 9.1630102e-07 | FX8: 1.9713629e-06 | FY8: 0 | FZ8: 0 | GA8: 0 | GB8: 0 | GC8: 0 | GD8: 0 | GE8: 0 | GF8: 0 | GG8: 5.7404959e-06 | GH8: 0 | GI8: 0.002286935 | GJ8: 0 | GK8: 0 | GL8: 3.7247029e-05 | GM8: 8.7509393e-06 | GN8: 0 | GO8: 0 | GP8: 0 | GQ8: 0 | GR8: 0 | GS8: 0 | GT8: 2.301885e-05 | GU8: 0.0022441579 | GV8: 4.8802628e-06 | GW8: 0.00055232786 | GX8: 3.8295701e-05 | GY8: 0.00026029671 | GZ8: 0 | HA8: 4.4476193e-05 | HB8: 6.8004396e-05 | HC8: 0 | HD8: 0 | HE8: 0 | HF8: 0 | HG8: 0 | HH8: 0 | HI8: 0 | HJ8: 0 | HK8: 0 | HL8: 3.6933508e-07 | HM8: 0 | HN8: 0 | HO8: 0 | HP8: 0 | HQ8: 0 | HR8: 0 | HS8: 0 | HT8: 0 | HU8: 0 | HV8: 0 | HW8: 0 | HX8: 0 | HY8: 0 | HZ8: 0 | IA8: 0 | IB8: 0 | IC8: 0 | ID8: 0 | IE8: 0 | IF8: 0 | IG8: 2.6734799e-07 | IH8: 0 | II8: 0 | IJ8: 2.4893144e-08 | IK8: 0 | IL8: 0 | IM8: 0 | IN8: 6.4234849e-06 | IO8: 0 | IP8: 0 | IQ8: 0 | IR8: 1.2919175e-06 | IS8: 0 | IT8: 0 | IU8: 0 | IV8: 0 | IW8: 0 | IX8: 0 | IY8: 0 | IZ8: 0 | JA8: 0 | JB8: 0 | JC8: 0 | JD8: 0 | JE8: 0 | JF8: 0 | JG8: 0 | JH8: 0 | JI8: 0 | JJ8: 0 | JK8: 0 | JL8: 0 | JM8: 0 | JN8: 0 | JO8: 0 | JP8: 0 | JQ8: 0 | JR8: 0 | JS8: 0 | JT8: 0 | JU8: 0 | JV8: 0 | JW8: 0 | JX8: 0 | JY8: 0 | JZ8: 0 | KA8: 0 | KB8: 0 | KC8: 0 | KD8: 0 | KE8: 0 | KF8: 0 | KG8: 0 | KH8: 0 | KI8: 0 | KJ8: 0 | KK8: 0 | KL8: 0 | KM8: 0 | KN8: 0 | KO8: 0 | KP8: 0 | KQ8: 0 | KR8: 0 | KS8: 0 | KT8: 0 | KU8: 0 | KV8: 0 | KW8: 0 | KX8: 0 | KY8: 0 | KZ8: 0 | LA8: 0 | LB8: 0 | LC8: 0 | LD8: 0 | LE8: 0
A9: =VLOOKUP(B9,List_VISl_projection!A:C,3, FALSE) -> Emx1-IRES-Cre | B9: 479673887 | C9: Emx1-IRES-Cre-191133 | D9: 0 | E9: 0.00080783944 | F9: 0.0094962122 | G9: 0 | H9: 0.0083331552 | I9: 0.00050047979 | J9: 0 | K9: 8.5757525e-05 | L9: 0.00099038481 | M9: 2.1136552e-05 | N9: 0.001478335 | O9: 0 | P9: 0 | Q9: 0.0034002446 | R9: 0.0047529081 | S9: 0.0063427863 | T9: 0.0014461323 | U9: 0.03617217 | V9: 0.014290774 | W9: 0.038390656 | X9: 0.23388049 | Y9: 0.02779234 | Z9: 0.036349747 | AA9: 0.022933636 | AB9: 0.047584075 | AC9: 0.01438275 | AD9: 0.0055216221 | AE9: 0.00016948256 | AF9: 8.3362545e-05 | AG9: 0.00055314326 | AH9: 0.00015156924 | AI9: 0.0030689879 | AJ9: 9.7745601e-06 | AK9: 0.00018532476 | AL9: 5.996087e-05 | AM9: 0.017863049 | AN9: 0.034912772 | AO9: 0.014682938 | AP9: 0.0068681883 | AQ9: 0.020998279 | AR9: 0.014312087 | AS9: 0.00055220612 | AT9: 0.0013285789 | AU9: 0 | AV9: 0 | AW9: 0 | AX9: 5.5171009e-06 | AY9: 7.353165e-05 | AZ9: 0 | BA9: 0 | BB9: 1.8476794e-06 | BC9: 0 | BD9: 0 | BE9: 0 | BF9: 0.00082314659 | BG9: 0.00010358351 | BH9: 0.00020488634 | BI9: 6.3670823e-06 | BJ9: 0 | BK9: 3.6877408e-05 | BL9: 0.0080120672 | BM9: 0.011158966 | BN9: 0.0032460585 | BO9: 0.0050123685 | BP9: 0.0018593635 | BQ9: 0.00036545453 | BR9: 1.9025397e-05 | BS9: 0 | BT9: 0.003323856 | BU9: 0.00063408133 | BV9: 0.00019189646 | BW9: 9.8156007e-06 | BX9: 0.0012741099 | BY9: 6.740134e-05 | BZ9: 1.5139636e-06 | CA9: 0 | CB9: 0.08651745 | CC9: 0 | CD9: 0 | CE9: 0 | CF9: 9.3745151e-06 | CG9: 2.3610052e-05 | CH9: 9.0452075e-09 | CI9: 8.4278367e-07 | CJ9: 4.1321256e-06 | CK9: 0 | CL9: 6.4773663e-08 | CM9: 0 | CN9: 0 | CO9: 0 | CP9: 0.00022216723 | CQ9: 0 | CR9: 0 | CS9: 0 | CT9: 0 | CU9: 0 | CV9: 0 | CW9: 4.2037251e-06 | CX9: 0 | CY9: 0.00045708216 | CZ9: 2.0798277e-05 | DA9: 0.0010046536 | DB9: 1.099421e-07 | DC9: 0.0012359866 | DD9: 8.9999437e-07 | DE9: 0.0003967588 | DF9: 4.6460121e-06 | DG9: 2.1451034e-05 | DH9: 1.9290322e-06 | DI9: 0.00024814139 | DJ9: 0.002868138 | DK9: 0.019865951 | DL9: 0.029394343 | DM9: 0.00098361082 | DN9: 0.00073784096 | DO9: 0.0015789553 | DP9: 0.00019403082 | DQ9: 3.8114803e-05 | DR9: 0.00019136335 | DS9: 9.1830956e-06 | DT9: 3.8957383e-05 | DU9: 0.012738847 | DV9: 0 | DW9: 2.2927741e-05 | DX9: 1.4970824e-05 | DY9: 1.7863942e-05 | DZ9: 2.3117084e-07 | EA9: 2.5200398e-07 | EB9: 2.1799516e-05 | EC9: 9.7373953e-07 | ED9: 2.3183942e-06 | EE9: 3.0713754e-06 | EF9: 1.173644e-06 | EG9: 0.00070715803 | EH9: 4.3246279e-06 | EI9: 0.00016105117 | EJ9: 0.0078224104 | EK9: 0.0014428865 | EL9: 0.00018302901 | EM9: 0.0071871967 | EN9: 0.00037595869 | EO9: 4.1407198e-09 | EP9: 7.7245764e-05 | EQ9: 0 | ER9: 0 | ES9: 1.1460181e-08 | ET9: 0 | EU9: 0 | EV9: 0 | EW9: 0 | EX9: 0 | EY9: 0 | EZ9: 0 | FA9: 1.3748478e-07 | FB9: 0 | FC9: 0 | FD9: 0 | FE9: 0 | FF9: 7.7500857e-07 | FG9: 0 | FH9: 0 | FI9: 0 | FJ9: 0 | FK9: 0 | FL9: 8.760554e-07 | FM9: 0 | FN9: 0 | FO9: 0 | FP9: 0 | FQ9: 2.9623233e-07 | FR9: 0 | FS9: 0 | FT9: 0 | FU9: 0 | FV9: 0 | FW9: 0 | FX9: 0 | FY9: 0 | FZ9: 0 | GA9: 0 | GB9: 0 | GC9: 0 | GD9: 0 | GE9: 1.5410065e-06 | GF9: 0 | GG9: 0.0011852807 | GH9: 8.6258193e-06 | GI9: 0.014030825 | GJ9: 0 | GK9: 0 | GL9: 0.00013863442 | GM9: 0.00021458784 | GN9: 1.6471762e-06 | GO9: 7.4647003e-08 | GP9: 0.00019480302 | GQ9: 0 | GR9: 0 | GS9: 0 | GT9: 0.00065918822 | GU9: 0.017649249 | GV9: 0.00013088373 | GW9: 0.0066205811 | GX9: 0.00078034874 | GY9: 0.0030304109 | GZ9: 3.2985838e-05 | HA9: 0.0010762986 | HB9: 0.0021157893 | HC9: 0 | HD9: 0 | HE9: 0 | HF9: 0 | HG9: 0 | HH9: 0 | HI9: 0 | HJ9: 0 | HK9: 0 | HL9: 0.000194497 | HM9: 0 | HN9: 0 | HO9: 1.945706e-08 | HP9: 3.6418549e-09 | HQ9: 0 | HR9: 0 | HS9: 9.4585593e-07 | HT9: 0 | HU9: 6.3362517e-09 | HV9: 0 | HW9: 0 | HX9: 0 | HY9: 1.8338912e-06 | HZ9: 0 | IA9: 0 | IB9: 0 | IC9: 0 | ID9: 0.00068899345 | IE9: 1.7453532e-06 | IF9: 0 | IG9: 2.2354089e-06 | IH9: 0.00023995655 | II9: 7.4305141e-08 | IJ9: 0 | IK9: 0 | IL9: 0 | IM9: 0 | IN9: 0 | IO9: 0 | IP9: 0 | IQ9: 0 | IR9: 3.0433742e-05 | IS9: 0 | IT9: 0 | IU9: 0 | IV9: 5.0281561e-07 | IW9: 0 | IX9: 4.9913308e-06 | IY9: 0 | IZ9: 0 | JA9: 0 | JB9: 3.9056451e-06 | JC9: 8.0071464e-07 | JD9: 0 | JE9: 0 | JF9: 5.2797056e-07 | JG9: 2.2127438e-05 | JH9: 4.0517324e-08 | JI9: 2.2178626e-06 | JJ9: 0 | JK9: 4.3860865e-07 | JL9: 0 | JM9: 6.4612523e-05 | JN9: 1.3642794e-06 | JO9: 5.737654e-06 | JP9: 3.0485088e-06 | JQ9: 0 | JR9: 1.0598604e-06 | JS9: 2.8761924e-05 | JT9: 4.6081531e-06 | JU9: 1.1087603e-05 | JV9: 1.0602157e-05 | JW9: 1.9405834e-05 | JX9: 0 | JY9: 1.9314658e-07 | JZ9: 2.9568883e-05 | KA9: 0 | KB9: 0 | KC9: 9.4621341e-06 | KD9: 0 | KE9: 0 | KF9: 0 | KG9: 0 | KH9: 6.3808226e-07 | KI9: 0 | KJ9: 0 | KK9: 6.3508167e-07 | KL9: 0 | KM9: 6.8299813e-07 | KN9: 0 | KO9: 0 | KP9: 0 | KQ9: 0 | KR9: 0 | KS9: 0 | KT9: 0 | KU9: 0 | KV9: 0 | KW9: 0 | KX9: 0 | KY9: 0 | KZ9: 0 | LA9: 0 | LB9: 0 | LC9: 0 | LD9: 0 | LE9: 9.487888e-07
A10: =VLOOKUP(B10,List_VISl_projection!A:C,3, FALSE) -> Emx1-IRES-Cre | B10: 479700629 | C10: Emx1-IRES-Cre-191134 | D10: 0 | E10: 0.00069353368 | F10: 0.010129328 | G10: 0 | H10: 0.011385235 | I10: 0.00026561752 | J10: 0 | K10: 2.7300951e-06 | L10: 0.00052636054 | M10: 0 | N10: 0.001108275 | O10: 0 | P10: 0 | Q10: 0.0034993865 | R10: 0.0032889056 | S10: 0.0058268559 | T10: 0.0012714951 | U10: 0.045577177 | V10: 0.01375859 | W10: 0.037817474 | X10: 0.22704692 | Y10: 0.039154454 | Z10: 0.051810165 | AA10: 0.023827136 | AB10: 0.05445763 | AC10: 0.01316566 | AD10: 0.0042404514 | AE10: 4.1407326e-05 | AF10: 8.7090497e-05 | AG10: 0 | AH10: 0 | AI10: 0.0015778147 | AJ10: 0 | AK10: 6.9125966e-05 | AL10: 7.2072758e-05 | AM10: 0.013146194 | AN10: 0.026410094 | AO10: 0.005213112 | AP10: 0.0063799903 | AQ10: 0.020083337 | AR10: 0.016551609 | AS10: 0.0029170651 | AT10: 0.0042895763 | AU10: 0 | AV10: 0 | AW10: 0 | AX10: 3.1448753e-05 | AY10: 0.00018867198 | AZ10: 0 | BA10: 0 | BB10: 0 | BC10: 0 | BD10: 0 | BE10: 0 | BF10: 0.0011744295 | BG10: 0.00018483845 | BH10: 0.00055752519 | BI10: 0 | BJ10: 0 | BK10: 0 | BL10: 0.02673302 | BM10: 0.01648264 | BN10: 0.0026025533 | BO10: 0.0053633843 | BP10: 0.0020036401 | BQ10: 0.00053937818 | BR10: 6.2086591e-05 | BS10: 0 | BT10: 0.0035739324 | BU10: 0.00012452206 | BV10: 4.5997008e-05 | BW10: 0 | BX10: 0.0013777825 | BY10: 0.00091662376 | BZ10: 2.0454903e-05 | CA10: 0 | CB10: 0.11605564 | CC10: 0 | CD10: 0 | CE10: 0 | CF10: 3.4195454e-05 | CG10: 8.5676966e-05 | CH10: 1.198981e-06 | CI10: 0 | CJ10: 1.5560417e-05 | CK10: 0 | CL10: 0 | CM10: 8.0918217e-05 | CN10: 1.2623272e-05 | CO10: 0 | CP10: 0.00015855967 | CQ10: 0 | CR10: 0 | CS10: 0 | CT10: 0 | CU10: 0 | CV10: 0 | CW10: 2.0048543e-06 | CX10: 0 | CY10: 2.0518323e-05 | CZ10: 4.8438732e-06 | DA10: 0.00017423173 | DB10: 0 | DC10: 0.00075379209 | DD10: 2.3969868e-09 | DE10: 0.00016921386 | DF10: 0 | DG10: 8.0414365e-07 | DH10: 6.2804826e-07 | DI10: 0.00021858669 | DJ10: 0.0022105856 | DK10: 0.012431918 | DL10: 0.024686681 | DM10: 0.00087129792 | DN10: 0.0007249889 | DO10: 0.00098294857 | DP10: 2.63536e-05 | DQ10: 1.6501164e-06 | DR10: 4.9385928e-06 | DS10: 0 | DT10: 4.3512444e-06 | DU10: 0.0082993996 | DV10: 0 | DW10: 6.925529e-10 | DX10: 1.1941157e-05 | DY10: 2.0020969e-06 | DZ10: 0 | EA10: 3.9689625e-08 | EB10: 7.090622e-06 | EC10: 6.3998498e-06 | ED10: 3.356504e-07 | EE10: 0 | EF10: 0 | EG10: 9.2659008e-05 | EH10: 1.4597252e-06 | EI10: 0.000108587 | EJ10: 0.0037238539 | EK10: 0.0016648184 | EL10: 0.00018736883 | EM10: 0.0076018603 | EN10: 0.0004027569 | EO10: 0 | EP10: 5.8251315e-06 | EQ10: 0 | ER10: 0 | ES10: 0 | ET10: 0 | EU10: 0 | EV10: 0 | EW10: 0 | EX10: 0 | EY10: 0 | EZ10: 2.5946895e-07 | FA10: 3.605001e-07 | FB10: 0 | FC10: 0 | FD10: 0 | FE10: 0 | FF10: 0 | FG10: 0 | FH10: 0 | FI10: 0 | FJ10: 0 | FK10: 0 | FL10: 0 | FM10: 0 | FN10: 0 | FO10: 0 | FP10: 0 | FQ10: 0 | FR10: 0 | FS10: 0 | FT10: 0 | FU10: 0 | FV10: 0 | FW10: 0 | FX10: 0 | FY10: 0 | FZ10: 0 | GA10: 0 | GB10: 1.4935331e-06 | GC10: 0 | GD10: 0 | GE10: 0 | GF10: 0 | GG10: 0.00081218297 | GH10: 0 | GI10: 0.010929932 | GJ10: 0 | GK10: 0 | GL10: 7.5165668e-05 | GM10: 6.5508963e-05 | GN10: 0 | GO10: 0 | GP10: 0.00023988998 | GQ10: 0 | GR10: 0 | GS10: 0 | GT10: 0.00026717909 | GU10: 0.013152121 | GV10: 4.5149075e-05 | GW10: 0.0072534771 | GX10: 0.00060634004 | GY10: 0.0034833062 | GZ10: 2.279041e-06 | HA10: 0.00098087738 | HB10: 0.0025744173 | HC10: 0 | HD10: 0 | HE10: 0 | HF10: 0 | HG10: 0 | HH10: 0 | HI10: 0 | HJ10: 0 | HK10: 0 | HL10: 0.00012472538 | HM10: 0 | HN10: 0 | HO10: 7.2193692e-10 | HP10: 7.6262096e-06 | HQ10: 0 | HR10: 0 | HS10: 0 | HT10: 0 | HU10: 0 | HV10: 0 | HW10: 0 | HX10: 0 | HY10: 0 | HZ10: 0 | IA10: 0 | IB10: 0 | IC10: 0 | ID10: 0.00091597757 | IE10: 0 | IF10: 0 | IG10: 0 | IH10: 0.00035063707 | II10: 0 | IJ10: 0 | IK10: 0 | IL10: 0 | IM10: 0 | IN10: 0 | IO10: 0 | IP10: 0 | IQ10: 0 | IR10: 6.0398251e-07 | IS10: 0 | IT10: 0 | IU10: 0 | IV10: 0 | IW10: 0 | IX10: 0 | IY10: 0 | IZ10: 0 | JA10: 0 | JB10: 0 | JC10: 0 | JD10: 0 | JE10: 0 | JF10: 0 | JG10: 0 | JH10: 0 | JI10: 0 | JJ10: 0 | JK10: 0 | JL10: 0 | JM10: 0 | JN10: 0 | JO10: 0 | JP10: 0 | JQ10: 0 | JR10: 0 | JS10: 0 | JT10: 0 | JU10: 0 | JV10: 0 | JW10: 0 | JX10: 0 | JY10: 0 | JZ10: 0 | KA10: 0 | KB10: 0 | KC10: 0 | KD10: 0 | KE10: 0 | KF10: 0 | KG10: 0 | KH10: 0 | KI10: 0 | KJ10: 0 | KK10: 0 | KL10: 0 | KM10: 0 | KN10: 0 | KO10: 0 | KP10: 0 | KQ10: 0 | KR10: 0 | KS10: 0 | KT10: 0 | KU10: 0 | KV10: 0 | KW10: 0 | KX10: 0 | KY10: 0 | KZ10: 0 | LA10: 0 | LB10: 0 | LC10: 0 | LD10: 0 | LE10: 0
A11: =VLOOKUP(B11,List_VISl_projection!A:C,3, FALSE) -> Emx1-IRES-Cre | B11: 479673174 | C11: Emx1-IRES-Cre-191135 | D11: 0 | E11: 0.0014405844 | F11: 0.0096628829 | G11: 0 | H11: 0.0093787074 | I11: 0.00060928591 | J11: 0 | K11: 0.0002097618 | L11: 0.0017758321 | M11: 0.00014076781 | N11: 0.0031740662 | O11: 2.0538795e-06 | P11: 0.00069486613 | Q11: 0.0041517804 | R11: 0.0079329202 | S11: 0.0053946493 | T11: 0.0053551376 | U11: 0.0089798631 | V11: 0.016200669 | W11: 0.011586357 | X11: 0.17105332 | Y11: 0.012315631 | Z11: 0.033896514 | AA11: 0.0050295919 | AB11: 0.029782509 | AC11: 0.0089617335 | AD11: 0.0044993801 | AE11: 0.00059852116 | AF11: 0.00012432792 | AG11: 0.0004589402 | AH11: 0.00016980402 | AI11: 0.0027138641 | AJ11: 7.9229503e-05 | AK11: 0.00098921961 | AL11: 0.00028575342 | AM11: 0.020983951 | AN11: 0.024832306 | AO11: 0.0071894902 | AP11: 0.009225078 | AQ11: 0.018778029 | AR11: 0.024565251 | AS11: 0.0041010813 | AT11: 0.010965853 | AU11: 0 | AV11: 0 | AW11: 0 | AX11: 0.00042621368 | AY11: 0.00046060542 | AZ11: 0.00037406097 | BA11: 8.2687427e-06 | BB11: 1.2104233e-05 | BC11: 1.4497416e-05 | BD11: 2.5086975e-06 | BE11: 0.0001006945 | BF11: 0.0035389423 | BG11: 0.00037428367 | BH11: 0.0010727413 | BI11: 0.00010541122 | BJ11: 1.7477196e-06 | BK11: 2.5997107e-05 | BL11: 0.037997958 | BM11: 0.020550826 | BN11: 0.0027456113 | BO11: 0.0056667921 | BP11: 0.0021688773 | BQ11: 0.0015411037 | BR11: 0.0010700939 | BS11: 4.8676329e-07 | BT11: 0.0027596431 | BU11: 0.0010448371 | BV11: 0.00058092791 | BW11: 0.00015241584 | BX11: 0.0047700544 | BY11: 0.0058020289 | BZ11: 0.00041730006 | CA11: 9.8940147e-08 | CB11: 0.09900031 | CC11: 0.00019878251 | CD11: 2.9527722e-05 | CE11: 0 | CF11: 6.6281275e-05 | CG11: 0.00040036805 | CH11: 2.6352277e-06 | CI11: 6.0063463e-05 | CJ11: 2.7081478e-05 | CK11: 3.1677405e-05 | CL11: 6.2245642e-08 | CM11: 0.00093001171 | CN11: 0.00014669512 | CO11: 2.5556735e-05 | CP11: 0.0013937944 | CQ11: 3.4483804e-05 | CR11: 1.938331e-05 | CS11: 0 | CT11: 8.3024301e-06 | CU11: 0 | CV11: 4.2302383e-05 | CW11: 9.2098502e-07 | CX11: 0 | CY11: 0.00022386093 | CZ11: 0.0001099469 | DA11: 0.00091899361 | DB11: 1.8575531e-06 | DC11: 0.0015512986 | DD11: 5.6260736e-06 | DE11: 0.00083779649 | DF11: 2.6915472e-05 | DG11: 0.00011381272 | DH11: 9.8703913e-06 | DI11: 0.00092015712 | DJ11: 0.0036897811 | DK11: 0.019039923 | DL11: 0.034644899 | DM11: 0.0012814947 | DN11: 0.0014349663 | DO11: 0.0015203392 | DP11: 0.00018140523 | DQ11: 2.6657622e-05 | DR11: 0.00012149446 | DS11: 1.0450515e-06 | DT11: 1.0795856e-05 | DU11: 0.016547597 | DV11: 6.3991661e-08 | DW11: 3.0339741e-05 | DX11: 9.7796976e-05 | DY11: 6.978109e-05 | DZ11: 7.0291905e-06 | EA11: 1.6147014e-06 | EB11: 0.00012931727 | EC11: 8.8510461e-06 | ED11: 2.2051325e-05 | EE11: 8.5764137e-07 | EF11: 1.367697e-06 | EG11: 0.00062200688 | EH11: 0.00015276223 | EI11: 0.00077886878 | EJ11: 0.006758751 | EK11: 0.0030090958 | EL11: 0.00039172095 | EM11: 0.016728003 | EN11: 0.0009187637 | EO11: 1.633525e-05 | EP11: 6.4379322e-05 | EQ11: 0 | ER11: 0 | ES11: 4.9929578e-07 | ET11: 0 | EU11: 0 | EV11: 0 | EW11: 0 | EX11: 0 | EY11: 4.348222e-07 | EZ11: 1.1607217e-09 | FA11: 1.2268463e-06 | FB11: 3.6350949e-07 | FC11: 0 | FD11: 0 | FE11: 0 | FF11: 0 | FG11: 9.3361363e-07 | FH11: 0 | FI11: 1.8645981e-06 | FJ11: 0 | FK11: 1.9560358e-07 | FL11: 0 | FM11: 2.6542429e-06 | FN11: 0 | FO11: 0 | FP11: 0 | FQ11: 1.9957414e-08 | FR11: 0 | FS11: 1.9596118e-06 | FT11: 0 | FU11: 0 | FV11: 2.459773e-06 | FW11: 8.9895146e-09 | FX11: 8.5775485e-06 | FY11: 0 | FZ11: 6.0315739e-06 | GA11: 0 | GB11: 0 | GC11: 0 | GD11: 0 | GE11: 4.7655552e-05 | GF11: 0 | GG11: 0.0046268288 | GH11: 0 | GI11: 0.028715125 | GJ11: 0.00272264 | GK11: 0.00046445248 | GL11: 0.00065863724 | GM11: 0.00028703314 | GN11: 0 | GO11: 1.661437e-07 | GP11: 0.00042098654 | GQ11: 3.3805083e-06 | GR11: 0 | GS11: 3.0070142e-07 | GT11: 0.0035590169 | GU11: 0.051413441 | GV11: 0.0024394906 | GW11: 0.013007681 | GX11: 0.00095742609 | GY11: 0.0045288795 | GZ11: 8.4048237e-05 | HA11: 0.0012470427 | HB11: 0.0042416202 | HC11: 0.00011340899 | HD11: 4.9208198e-05 | HE11: 2.8443834e-08 | HF11: 0 | HG11: 0 | HH11: 0 | HI11: 0 | HJ11: 0 | HK11: 3.8227518e-08 | HL11: 0.00031766874 | HM11: 8.1129964e-05 | HN11: 1.2614812e-05 | HO11: 7.6593062e-06 | HP11: 0.00024152052 | HQ11: 3.4859953e-07 | HR11: 0 | HS11: 0 | HT11: 0 | HU11: 2.860227e-08 | HV11: 0 | HW11: 0 | HX11: 8.2068955e-06 | HY11: 4.6798408e-07 | HZ11: 0 | IA11: 0 | IB11: 0 | IC11: 0 | ID11: 0.00293409 | IE11: 7.0882998e-06 | IF11: 0 | IG11: 6.0370593e-07 | IH11: 0.00058611482 | II11: 2.6687079e-08 | IJ11: 0 | IK11: 0 | IL11: 0 | IM11: 0 | IN11: 3.5178291e-06 | IO11: 0 | IP11: 3.3749652e-06 | IQ11: 7.4956858e-07 | IR11: 0.00026311325 | IS11: 0 | IT11: 0 | IU11: 8.4735079e-08 | IV11: 1.0502637e-07 | IW11: 0 | IX11: 0 | IY11: 0 | IZ11: 0 | JA11: 0 | JB11: 1.3044372e-07 | JC11: 0 | JD11: 0 | JE11: 0 | JF11: 0 | JG11: 0 | JH11: 0 | JI11: 2.9648555e-07 | JJ11: 0 | JK11: 0 | JL11: 0 | JM11: 0 | JN11: 0 | JO11: 0 | JP11: 0 | JQ11: 0 | JR11: 0 | JS11: 0 | JT11: 0 | JU11: 0 | JV11: 0 | JW11: 0 | JX11: 0 | JY11: 0 | JZ11: 0 | KA11: 0 | KB11: 0 | KC11: 1.0124985e-07 | KD11: 0 | KE11: 0 | KF11: 0 | KG11: 0 | KH11: 0 | KI11: 0 | KJ11: 0 | KK11: 3.9150101e-08 | KL11: 0 | KM11: 0 | KN11: 0 | KO11: 0 | KP11: 0 | KQ11: 0 | KR11: 0 | KS11: 0 | KT11: 0 | KU11: 0 | KV11: 0 | KW11: 0 | KX11: 0 | KY11: 0 | KZ11: 0 | LA11: 0 | LB11: 0 | LC11: 0 | LD11: 0 | LE11: 0
A12: =VLOOKUP(B12,List_VISl_projection!A:C,3, FALSE) -> Emx1-IRES-Cre | B12: 479980810 | C12: Emx1-IRES-Cre-194296 | D12: 0 | E12: 0.00091378631 | F12: 0.0058413288 | G12: 0 | H12: 0.0096490025 | I12: 0.00036508839 | J12: 6.259382e-05 | K12: 0.00028994139 | L12: 0.001311988 | M12: 0.00010490478 | N12: 0.0012353483 | O12: 0 | P12: 0.00023949411 | Q12: 0.0028897011 | R12: 0.0057501432 | S12: 0.0069890362 | T12: 0.0031259746 | U12: 0.025616095 | V12: 0.014772035 | W12: 0.046130642 | X12: 0.21935367 | Y12: 0.026407115 | Z12: 0.028380976 | AA12: 0.02054087 | AB12: 0.042658546 | AC12: 0.010823298 | AD12: 0.0055239385 | AE12: 0.00040107761 | AF12: 5.1307775e-05 | AG12: 0.0012439686 | AH12: 0.00027224424 | AI12: 0.0050574845 | AJ12: 0.00017197283 | AK12: 0.00024638107 | AL12: 0.00011916028 | AM12: 0.016978136 | AN12: 0.031093859 | AO12: 0.011501208 | AP12: 0.0082412581 | AQ12: 0.016965509 | AR12: 0.017733223 | AS12: 0.0010144669 | AT12: 0.002797261 | AU12: 0.0012195805 | AV12: 8.2585743e-05 | AW12: 0 | AX12: 2.9933108e-05 | AY12: 5.4731694e-05 | AZ12: 0.00035374556 | BA12: 3.3912818e-05 | BB12: 2.3224628e-06 | BC12: 3.2701556e-05 | BD12: 4.4901278e-06 | BE12: 9.6439426e-06 | BF12: 0.00041375514 | BG12: 4.7204231e-05 | BH12: 0.00021987851 | BI12: 0 | BJ12: 5.6209346e-08 | BK12: 0 | BL12: 0.0073135802 | BM12: 0.006793574 | BN12: 0.0019099493 | BO12: 0.0041741497 | BP12: 0.0016237361 | BQ12: 0.00037429814 | BR12: 9.7990623e-05 | BS12: 3.3378081e-06 | BT12: 0.0020774431 | BU12: 0.00099482153 | BV12: 0.00021406357 | BW12: 3.1981833e-05 | BX12: 0.0015122362 | BY12: 0.00016669723 | BZ12: 3.8529822e-05 | CA12: 5.9493334e-06 | CB12: 0.070208703 | CC12: 7.2012146e-06 | CD12: 1.332868e-05 | CE12: 7.1170293e-05 | CF12: 2.5975805e-05 | CG12: 7.251319e-05 | CH12: 7.7399598e-07 | CI12: 1.0230107e-06 | CJ12: 2.0823876e-06 | CK12: 1.4333115e-05 | CL12: 6.220925e-07 | CM12: 6.8487587e-05 | CN12: 1.2000396e-06 | CO12: 2.372349e-06 | CP12: 0.00054576341 | CQ12: 0 | CR12: 0.00015449472 | CS12: 6.4015211e-05 | CT12: 4.3825083e-05 | CU12: 0 | CV12: 6.0402057e-06 | CW12: 5.7361778e-06 | CX12: 5.3591155e-08 | CY12: 0.001172247 | CZ12: 0.0001740554 | DA12: 0.0018323463 | DB12: 3.7104915e-06 | DC12: 0.0025208663 | DD12: 1.5091443e-05 | DE12: 0.0006200613 | DF12: 2.1732931e-05 | DG12: 3.3125038e-05 | DH12: 8.5041546e-06 | DI12: 0.0001363955 | DJ12: 0.0039933233 | DK12: 0.024724025 | DL12: 0.047719804 | DM12: 0.0028506519 | DN12: 0.0013050375 | DO12: 0.002050067 | DP12: 0.00026951019 | DQ12: 0.00023200712 | DR12: 0.0003779908 | DS12: 2.0035888e-05 | DT12: 6.2583966e-05 | DU12: 0.020592133 | DV12: 8.3264421e-08 | DW12: 6.7383749e-05 | DX12: 0.0002248542 | DY12: 8.6948204e-05 | DZ12: 2.6239688e-05 | EA12: 2.6161455e-05 | EB12: 0.00026381853 | EC12: 1.4903089e-05 | ED12: 6.1892873e-05 | EE12: 1.1796471e-05 | EF12: 1.587206e-05 | EG12: 0.0015829194 | EH12: 6.5165413e-05 | EI12: 0.0002092872 | EJ12: 0.0085900887 | EK12: 0.0011591877 | EL12: 0.00016490436 | EM12: 0.0068590603 | EN12: 0.00032293978 | EO12: 0 | EP12: 0.00010656603 | EQ12: 0 | ER12: 0 | ES12: 2.475887e-07 | ET12: 0 | EU12: 0 | EV12: 0 | EW12: 0 | EX12: 8.4573965e-08 | EY12: 7.4747403e-07 | EZ12: 2.0001741e-06 | FA12: 3.9881326e-07 | FB12: 1.1980775e-05 | FC12: 0 | FD12: 0 | FE12: 8.6981898e-06 | FF12: 0 | FG12: 9.533398e-07 | FH12: 7.9755271e-07 | FI12: 2.6054692e-07 | FJ12: 6.247197e-07 | FK12: 4.9913122e-08 | FL12: 8.0774538e-07 | FM12: 5.9087073e-06 | FN12: 0 | FO12: 4.9524474e-05 | FP12: 0 | FQ12: 2.7903045e-08 | FR12: 0 | FS12: 1.9045303e-06 | FT12: 1.1301906e-05 | FU12: 0 | FV12: 4.0960252e-07 | FW12: 2.8550678e-06 | FX12: 1.8384171e-05 | FY12: 2.0109391e-05 | FZ12: 5.1887998e-08 | GA12: 2.2649699e-08 | GB12: 1.7740241e-06 | GC12: 1.5330683e-05 | GD12: 5.7184772e-07 | GE12: 5.8323503e-05 | GF12: 0 | GG12: 0.0017567633 | GH12: 1.3081371e-05 | GI12: 0.014609549 | GJ12: 8.4678199e-05 | GK12: 1.0509745e-05 | GL12: 8.4203996e-05 | GM12: 2.1630615e-05 | GN12: 6.1729187e-08 | GO12: 0 | GP12: 0.00022707206 | GQ12: 1.739318e-05 | GR12: 0 | GS12: 1.7348267e-05 | GT12: 0.00031444217 | GU12: 0.011707867 | GV12: 0.00038914739 | GW12: 0.0055277304 | GX12: 0.00062537727 | GY12: 0.0020842651 | GZ12: 9.5205145e-05 | HA12: 0.00069142836 | HB12: 0.001595098 | HC12: 0 | HD12: 0.00010481111 | HE12: 8.5804302e-10 | HF12: 8.6790268e-08 | HG12: 1.1341299e-07 | HH12: 0 | HI12: 0 | HJ12: 0 | HK12: 2.0335242e-06 | HL12: 8.0667073e-05 | HM12: 0 | HN12: 3.1460092e-06 | HO12: 1.2832384e-05 | HP12: 3.7337513e-05 | HQ12: 1.7259067e-06 | HR12: 0 | HS12: 0 | HT12: 0 | HU12: 7.2070199e-08 | HV12: 0 | HW12: 0 | HX12: 1.5410405e-06 | HY12: 0 | HZ12: 0 | IA12: 0 | IB12: 0 | IC12: 0 | ID12: 0.00088637954 | IE12: 0 | IF12: 0 | IG12: 4.5907123e-07 | IH12: 0.00024754863 | II12: 8.0279564e-08 | IJ12: 1.2961608e-08 | IK12: 0 | IL12: 0 | IM12: 0 | IN12: 2.7736562e-05 | IO12: 8.2804732e-10 | IP12: 0 | IQ12: 0 | IR12: 0.00017473131 | IS12: 0 | IT12: 0 | IU12: 0 | IV12: 0 | IW12: 0 | IX12: 0 | IY12: 0 | IZ12: 0 | JA12: 0 | JB12: 0 | JC12: 5.376435e-09 | JD12: 0 | JE12: 0 | JF12: 0 | JG12: 0 | JH12: 0 | JI12: 0 | JJ12: 0 | JK12: 0 | JL12: 0 | JM12: 0 | JN12: 0 | JO12: 0 | JP12: 0 | JQ12: 0 | JR12: 0 | JS12: 0 | JT12: 0 | JU12: 0 | JV12: 0 | JW12: 0 | JX12: 0 | JY12: 0 | JZ12: 0 | KA12: 0 | KB12: 0 | KC12: 0 | KD12: 0 | KE12: 0 | KF12: 0 | KG12: 0 | KH12: 0 | KI12: 0 | KJ12: 0 | KK12: 1.1889944e-08 | KL12: 0 | KM12: 0 | KN12: 0 | KO12: 0 | KP12: 0 | KQ12: 0 | KR12: 0 | KS12: 0 | KT12: 0 | KU12: 0 | KV12: 0 | KW12: 0 | KX12: 0 | KY12: 0 | KZ12: 0 | LA12: 0 | LB12: 0 | LC12: 0 | LD12: 0 | LE12: 0
A13: =VLOOKUP(B13,List_VISl_projection!A:C,3, FALSE) -> Emx1-IRES-Cre | B13: 500836105 | C13: Emx1-IRES-Cre-212771 | D13: 0 | E13: 0.0015397844 | F13: 0.028514234 | G13: 0 | H13: 0.019554262 | I13: 0.00067194976 | J13: 0 | K13: 0.00019911027 | L13: 0.0016505425 | M13: 0.00010001225 | N13: 0.0060956083 | O13: 0 | P13: 9.4600297e-05 | Q13: 0.0091176232 | R13: 0.0093425157 | S13: 0.011113464 | T13: 0.0029256514 | U13: 0.020365692 | V13: 0.020260046 | W13: 0.034993319 | X13: 0.18308346 | Y13: 0.01061468 | Z13: 0.031367279 | AA13: 0.015364226 | AB13: 0.030055376 | AC13: 0.0270397 | AD13: 0.0056917805 | AE13: 0.00017924758 | AF13: 4.1428213e-05 | AG13: 0.0025552416 | AH13: 0.00018558372 | AI13: 0.0058107994 | AJ13: 0 | AK13: 3.9655239e-05 | AL13: 1.0384031e-05 | AM13: 0.010347253 | AN13: 0.027180332 | AO13: 0.0082486032 | AP13: 0.018121319 | AQ13: 0.032897908 | AR13: 0.018149068 | AS13: 0.001019174 | AT13: 0.0019419465 | AU13: 0 | AV13: 0 | AW13: 0 | AX13: 9.9389929e-05 | AY13: 0.00017628199 | AZ13: 0 | BA13: 0 | BB13: 3.7996012e-07 | BC13: 0 | BD13: 0 | BE13: 0 | BF13: 9.9473887e-05 | BG13: 1.9179753e-05 | BH13: 0 | BI13: 0 | BJ13: 0 | BK13: 0 | BL13: 0.016599685 | BM13: 0.0066511993 | BN13: 0.0007512045 | BO13: 0.0026157815 | BP13: 0.00032905512 | BQ13: 3.9238676e-05 | BR13: 0 | BS13: 0 | BT13: 0.00036417324 | BU13: 0.00075098462 | BV13: 0.00012101596 | BW13: 6.8428236e-06 | BX13: 0.00022399873 | BY13: 3.4850859e-05 | BZ13: 8.006438e-07 | CA13: 0 | CB13: 0.090821874 | CC13: 0 | CD13: 0 | CE13: 0 | CF13: 0 | CG13: 0 | CH13: 1.0295136e-08 | CI13: 0 | CJ13: 2.2262586e-06 | CK13: 0 | CL13: 2.39541e-06 | CM13: 4.6500298e-06 | CN13: 0 | CO13: 0 | CP13: 0.00034438518 | CQ13: 0 | CR13: 0 | CS13: 0 | CT13: 0 | CU13: 0 | CV13: 0 | CW13: 0 | CX13: 0 | CY13: 0.0050766672 | CZ13: 0.00055703353 | DA13: 0.0053260444 | DB13: 2.2591794e-07 | DC13: 0.0065856564 | DD13: 6.4000835e-06 | DE13: 0.0012496161 | DF13: 3.7049713e-05 | DG13: 5.3948805e-05 | DH13: 8.2750898e-06 | DI13: 0.00021120841 | DJ13: 0.0055007874 | DK13: 0.013643787 | DL13: 0.058124059 | DM13: 0.011145893 | DN13: 0.0014693638 | DO13: 0.0029070346 | DP13: 0.00047408311 | DQ13: 0.00070072009 | DR13: 0.00037011363 | DS13: 9.4276491e-06 | DT13: 0.00015214043 | DU13: 0.022587116 | DV13: 8.2997711e-08 | DW13: 0.00025379532 | DX13: 0.00086312764 | DY13: 8.183093e-05 | DZ13: 5.2093993e-06 | EA13: 7.5639858e-06 | EB13: 0.00023179072 | EC13: 2.7083471e-05 | ED13: 0.00013366025 | EE13: 1.1221377e-05 | EF13: 7.038306e-05 | EG13: 0.0025859667 | EH13: 0.00033691877 | EI13: 0.00027389076 | EJ13: 0.0076992267 | EK13: 0.0006380733 | EL13: 0.00026551654 | EM13: 0.0028046861 | EN13: 0.00028559702 | EO13: 0 | EP13: 0.00012064841 | EQ13: 0 | ER13: 0 | ES13: 4.2190011e-09 | ET13: 0 | EU13: 0 | EV13: 0 | EW13: 0 | EX13: 0 | EY13: 0 | EZ13: 0 | FA13: 0 | FB13: 0 | FC13: 0 | FD13: 0 | FE13: 0 | FF13: 0 | FG13: 0 | FH13: 0 | FI13: 0 | FJ13: 0 | FK13: 0 | FL13: 0 | FM13: 0 | FN13: 0 | FO13: 0 | FP13: 0 | FQ13: 0 | FR13: 0 | FS13: 0 | FT13: 0 | FU13: 0 | FV13: 4.3802081e-07 | FW13: 0 | FX13: 3.341968e-05 | FY13: 0 | FZ13: 0 | GA13: 0 | GB13: 0 | GC13: 0 | GD13: 0 | GE13: 4.258755e-06 | GF13: 0 | GG13: 0.0043045413 | GH13: 0 | GI13: 0.0036270107 | GJ13: 0 | GK13: 0 | GL13: 4.0442456e-05 | GM13: 0 | GN13: 0 | GO13: 0 | GP13: 0.00018448013 | GQ13: 3.0096572e-06 | GR13: 0 | GS13: 5.442176e-07 | GT13: 0.00036762606 | GU13: 0.01415988 | GV13: 0.00036344569 | GW13: 0.006594404 | GX13: 0.00014142164 | GY13: 0.00066547751 | GZ13: 8.9454746e-05 | HA13: 0.00020322141 | HB13: 0.0014228589 | HC13: 0 | HD13: 9.6814394e-05 | HE13: 3.499761e-08 | HF13: 1.3366901e-06 | HG13: 3.7787661e-08 | HH13: 0 | HI13: 0 | HJ13: 0 | HK13: 0 | HL13: 6.7576414e-05 | HM13: 0 | HN13: 0 | HO13: 9.8683803e-07 | HP13: 6.9179589e-06 | HQ13: 0 | HR13: 0 | HS13: 0 | HT13: 0 | HU13: 1.201301e-06 | HV13: 0 | HW13: 0 | HX13: 0 | HY13: 0 | HZ13: 0 | IA13: 0 | IB13: 0 | IC13: 0 | ID13: 0.0024733473 | IE13: 2.3004781e-06 | IF13: 0 | IG13: 1.5482569e-06 | IH13: 0.00015883179 | II13: 0 | IJ13: 6.6556471e-07 | IK13: 0 | IL13: 0 | IM13: 0 | IN13: 1.5490475e-07 | IO13: 0 | IP13: 0 | IQ13: 0 | IR13: 3.7231173e-05 | IS13: 0 | IT13: 0 | IU13: 1.8347097e-07 | IV13: 0 | IW13: 0 | IX13: 0 | IY13: 0 | IZ13: 0 | JA13: 0 | JB13: 0 | JC13: 2.3476508e-06 | JD13: 0 | JE13: 0 | JF13: 0 | JG13: 0 | JH13: 0 | JI13: 9.3490657e-07 | JJ13: 0 | JK13: 0 | JL13: 1.1153113e-07 | JM13: 0 | JN13: 0 | JO13: 0 | JP13: 0 | JQ13: 0 | JR13: 0 | JS13: 0 | JT13: 0 | JU13: 0 | JV13: 0 | JW13: 0 | JX13: 0 | JY13: 2.0885314e-06 | JZ13: 0 | KA13: 0 | KB13: 0 | KC13: 9.1813679e-07 | KD13: 0 | KE13: 0 | KF13: 0 | KG13: 0 | KH13: 0 | KI13: 0 | KJ13: 0 | KK13: 0 | KL13: 0 | KM13: 0 | KN13: 0 | KO13: 0 | KP13: 0 | KQ13: 0 | KR13: 0 | KS13: 0 | KT13: 0 | KU13: 0 | KV13: 0 | KW13: 0 | KX13: 0 | KY13: 0 | KZ13: 0 | LA13: 0 | LB13: 0 | LC13: 0 | LD13: 0 | LE13: 0
A14: =VLOOKUP(B14,List_VISl_projection!A:C,3, FALSE) -> Emx1-IRES-Cre | B14: 562520963 | C14: Emx1-IRES-Cre-283751 | D14: 0 | E14: 0.0012687182 | F14: 0.011769369 | G14: 0 | H14: 0.030959957 | I14: 0.00079881949 | J14: 0 | K14: 0.0001008196 | L14: 0.0012691697 | M14: 0.00021654947 | N14: 0.0017184371 | O14: 0 | P14: 0 | Q14: 0.0030225142 | R14: 0.0025984707 | S14: 0.0047141316 | T14: 0.00027859691 | U14: 0.031137153 | V14: 0.017843902 | W14: 0.045865093 | X14: 0.18318525 | Y14: 0.019570975 | Z14: 0.018089671 | AA14: 0.011867076 | AB14: 0.038961173 | AC14: 0.024343243 | AD14: 0.0096022082 | AE14: 0 | AF14: 0 | AG14: 0 | AH14: 0 | AI14: 0.00055953366 | AJ14: 0 | AK14: 0 | AL14: 0 | AM14: 0.013055559 | AN14: 0.024126768 | AO14: 0.0050958333 | AP14: 0.0059443534 | AQ14: 0.043352699 | AR14: 0.0098091085 | AS14: 0.00030048507 | AT14: 0.00068343266 | AU14: 0 | AV14: 0 | AW14: 0 | AX14: 0.00011125945 | AY14: 0.0001869593 | AZ14: 0 | BA14: 1.1357631e-05 | BB14: 0 | BC14: 0 | BD14: 2.6544382e-05 | BE14: 0 | BF14: 0.00076459488 | BG14: 0.00014441572 | BH14: 2.2747972e-06 | BI14: 0 | BJ14: 0 | BK14: 0 | BL14: 0.0046640646 | BM14: 0.0036438863 | BN14: 0.00093310457 | BO14: 0.005134529 | BP14: 0.00073391358 | BQ14: 0.00025833925 | BR14: 0 | BS14: 0 | BT14: 0.0025283928 | BU14: 0.00025600067 | BV14: 4.9984337e-06 | BW14: 1.9491681e-05 | BX14: 0.00035241949 | BY14: 0.00042805808 | BZ14: 3.4759541e-07 | CA14: 0 | CB14: 0.12129447 | CC14: 0 | CD14: 4.6712422e-06 | CE14: 0 | CF14: 6.3161739e-05 | CG14: 0 | CH14: 0 | CI14: 0 | CJ14: 3.3649605e-05 | CK14: 1.3270313e-06 | CL14: 2.7089818e-06 | CM14: 9.512275e-07 | CN14: 8.6537186e-06 | CO14: 0 | CP14: 0.00011579493 | CQ14: 0 | CR14: 0 | CS14: 2.7986008e-05 | CT14: 0 | CU14: 0 | CV14: 0 | CW14: 9.9452704e-06 | CX14: 0 | CY14: 1.072502e-05 | CZ14: 0 | DA14: 0.0003929862 | DB14: 1.8236587e-07 | DC14: 0.001152792 | DD14: 8.353854e-06 | DE14: 0.00025346281 | DF14: 0 | DG14: 0 | DH14: 0 | DI14: 0.00030924414 | DJ14: 0.0030467392 | DK14: 0.018810261 | DL14: 0.02802087 | DM14: 0.0015440043 | DN14: 0.0013360244 | DO14: 0.0011033804 | DP14: 0 | DQ14: 0 | DR14: 0 | DS14: 0 | DT14: 0 | DU14: 0.01129809 | DV14: 0 | DW14: 4.7280709e-07 | DX14: 1.09434e-06 | DY14: 5.9725704e-07 | DZ14: 0 | EA14: 0 | EB14: 1.9365373e-06 | EC14: 0 | ED14: 2.0034281e-07 | EE14: 0 | EF14: 0 | EG14: 2.8753507e-05 | EH14: 3.6432001e-06 | EI14: 9.4308316e-05 | EJ14: 0.0058463512 | EK14: 0.002560237 | EL14: 0.00037410528 | EM14: 0.011063022 | EN14: 0.00092637812 | EO14: 0 | EP14: 1.9691511e-07 | EQ14: 0 | ER14: 0 | ES14: 1.8966541e-08 | ET14: 0 | EU14: 0 | EV14: 0 | EW14: 0 | EX14: 0 | EY14: 0 | EZ14: 0 | FA14: 0 | FB14: 0 | FC14: 2.9414371e-07 | FD14: 0 | FE14: 0 | FF14: 0 | FG14: 0 | FH14: 0 | FI14: 0 | FJ14: 0 | FK14: 6.551137e-08 | FL14: 0 | FM14: 0 | FN14: 0 | FO14: 0 | FP14: 0 | FQ14: 9.5717307e-08 | FR14: 0 | FS14: 0 | FT14: 0 | FU14: 0 | FV14: 0 | FW14: 0 | FX14: 0 | FY14: 0 | FZ14: 0 | GA14: 0 | GB14: 0 | GC14: 0 | GD14: 0 | GE14: 1.7348962e-06 | GF14: 0 | GG14: 0.0040706174 | GH14: 0 | GI14: 0.017268813 | GJ14: 0 | GK14: 0 | GL14: 0.00015498139 | GM14: 9.9605912e-07 | GN14: 0 | GO14: 0 | GP14: 0.00060915719 | GQ14: 0 | GR14: 0 | GS14: 0 | GT14: 0.00044418543 | GU14: 0.023729598 | GV14: 0.00011877828 | GW14: 0.014203738 | GX14: 0.00078447999 | GY14: 0.0038849847 | GZ14: 0 | HA14: 0.001416475 | HB14: 0.0043327032 | HC14: 0 | HD14: 0 | HE14: 0 | HF14: 0 | HG14: 0 | HH14: 0 | HI14: 0 | HJ14: 0 | HK14: 0 | HL14: 0.00023092582 | HM14: 0 | HN14: 0 | HO14: 0 | HP14: 0 | HQ14: 0 | HR14: 0 | HS14: 0 | HT14: 0 | HU14: 0 | HV14: 0 | HW14: 0 | HX14: 0 | HY14: 0 | HZ14: 0 | IA14: 0 | IB14: 0 | IC14: 0 | ID14: 0.0033203527 | IE14: 0 | IF14: 0 | IG14: 0 | IH14: 0.00096942592 | II14: 0 | IJ14: 0 | IK14: 0 | IL14: 0 | IM14: 0 | IN14: 0 | IO14: 0 | IP14: 0 | IQ14: 0 | IR14: 4.8761002e-05 | IS14: 0 | IT14: 0 | IU14: 0 | IV14: 0 | IW14: 0 | IX14: 0 | IY14: 0 | IZ14: 0 | JA14: 0 | JB14: 0 | JC14: 0 | JD14: 0 | JE14: 0 | JF14: 0 | JG14: 0 | JH14: 0 | JI14: 2.6860148e-09 | JJ14: 0 | JK14: 0 | JL14: 0 | JM14: 0 | JN14: 0 | JO14: 0 | JP14: 0 | JQ14: 0 | JR14: 0 | JS14: 0 | JT14: 0 | JU14: 0 | JV14: 0 | JW14: 0 | JX14: 0 | JY14: 0 | JZ14: 0 | KA14: 0 | KB14: 0 | KC14: 0 | KD14: 0 | KE14: 0 | KF14: 0 | KG14: 0 | KH14: 0 | KI14: 0 | KJ14: 0 | KK14: 0 | KL14: 0 | KM14: 0 | KN14: 0 | KO14: 0 | KP14: 0 | KQ14: 0 | KR14: 0 | KS14: 0 | KT14: 0 | KU14: 0 | KV14: 0 | KW14: 0 | KX14: 0 | KY14: 0 | KZ14: 0 | LA14: 0 | LB14: 0 | LC14: 0 | LD14: 0 | LE14: 0
... A45: =VLOOKUP(B45,List_VISl_projection!A:C,3, FALSE) -> Tlx3-Cre_PL56 | B45: 297593942 | C45: Tlx3-Cre-125627 | D45: 0 | E45: 0.0023463328 | F45: 0.013493451 | G45: 0 | H45: 0.0046937186 | I45: 0.0013752806 | J45: 0 | K45: 0.00027211586 | L45: 0.0028243529 | M45: 5.9304685e-05 | N45: 0.0042866571 | O45: 0.00013500091 | P45: 0.00045155847 | Q45: 0.0069390684 | R45: 0.0061206025 | S45: 0.0071731473 | T45: 0.0037756477 | U45: 0.029201615 | V45: 0.023995539 | W45: 0.087867065 | X45: 0.09422927 | Y45: 0.037973124 | Z45: 0.036617066 | AA45: 0.022834499 | AB45: 0.053582511 | AC45: 0.0088673895 | AD45: 0.004029402 | AE45: 0.0014913393 | AF45: 0 | AG45: 0.00057383304 | AH45: 0.00010662268 | AI45: 0.0052584672 | AJ45: 0.00062614832 | AK45: 0.001587727 | AL45: 0.00055356469 | AM45: 0.02893941 | AN45: 0.025943834 | AO45: 0.0014701746 | AP45: 0.0224429 | AQ45: 0.0070664152 | AR45: 0.03131841 | AS45: 0.0052648756 | AT45: 0.0070948685 | AU45: 0 | AV45: 0 | AW45: 0 | AX45: 0.00033492811 | AY45: 0.00093404945 | AZ45: 0.00024567179 | BA45: 0 | BB45: 4.0012512e-06 | BC45: 0 | BD45: 0 | BE45: 1.3051071e-05 | BF45: 0.00015231561 | BG45: 9.1014449e-05 | BH45: 0 | BI45: 0 | BJ45: 0 | BK45: 0 | BL45: 0.040304492 | BM45: 0.015803728 | BN45: 0.002664524 | BO45: 0.0030188392 | BP45: 0.00050302333 | BQ45: 0.00019085052 | BR45: 3.9049386e-05 | BS45: 0 | BT45: 0.0017623725 | BU45: 0.0017804788 | BV45: 0.00065439837 | BW45: 0.00011247613 | BX45: 0.0037701111 | BY45: 0.0020340204 | BZ45: 0 | CA45: 0 | CB45: 0.17931709 | CC45: 0.00014827696 | CD45: 2.275631e-05 | CE45: 0 | CF45: 1.3180706e-05 | CG45: 0.00033133603 | CH45: 5.0390326e-07 | CI45: 0.00042800954 | CJ45: 0.00017023227 | CK45: 4.1830628e-08 | CL45: 0 | CM45: 0.00011510024 | CN45: 5.5529759e-06 | CO45: 0 | CP45: 0 | CQ45: 0 | CR45: 0 | CS45: 0 | CT45: 0 | CU45: 0 | CV45: 3.7670726e-05 | CW45: 4.1830874e-05 | CX45: 0 | CY45: 0 | CZ45: 0 | DA45: 0 | DB45: 0 | DC45: 0 | DD45: 0 | DE45: 0 | DF45: 0 | DG45: 0 | DH45: 0 | DI45: 0 | DJ45: 0 | DK45: 0 | DL45: 0 | DM45: 0 | DN45: 0 | DO45: 0 | DP45: 0 | DQ45: 0 | DR45: 0 | DS45: 0 | DT45: 0 | DU45: 0 | DV45: 0 | DW45: 0 | DX45: 0 | DY45: 0 | DZ45: 1.616652e-06 | EA45: 0 | EB45: 0 | EC45: 0 | ED45: 0 | EE45: 0 | EF45: 0 | EG45: 2.9923203e-09 | EH45: 0 | EI45: 0 | EJ45: 0 | EK45: 1.2402786e-06 | EL45: 0 | EM45: 0 | EN45: 0 | EO45: 0 | EP45: 0 | EQ45: 0 | ER45: 0 | ES45: 0 | ET45: 0 | EU45: 0 | EV45: 0 | EW45: 0 | EX45: 0 | EY45: 2.0745636e-07 | EZ45: 0 | FA45: 0 | FB45: 0 | FC45: 3.6280428e-08 | FD45: 0 | FE45: 0 | FF45: 1.012056e-06 | FG45: 0 | FH45: 0 | FI45: 0 | FJ45: 0 | FK45: 0 | FL45: 1.555996e-05 | FM45: 0 | FN45: 0 | FO45: 0 | FP45: 0 | FQ45: 0 | FR45: 0 | FS45: 0 | FT45: 0 | FU45: 1.7380716e-06 | FV45: 0 | FW45: 0 | FX45: 1.7051795e-06 | FY45: 0 | FZ45: 0 | GA45: 0 | GB45: 0 | GC45: 0 | GD45: 3.7408469e-08 | GE45: 0 | GF45: 8.8729511e-06 | GG45: 0 | GH45: 4.2323761e-05 | GI45: 0 | GJ45: 0 | GK45: 0 | GL45: 0 | GM45: 0 | GN45: 2.2971549e-06 | GO45: 0 | GP45: 0 | GQ45: 0 | GR45: 0 | GS45: 0 | GT45: 0 | GU45: 0 | GV45: 0 | GW45: 0 | GX45: 0 | GY45: 0 | GZ45: 0 | HA45: 0 | HB45: 0 | HC45: 0 | HD45: 0 | HE45: 0 | HF45: 0 | HG45: 0 | HH45: 0 | HI45: 0 | HJ45: 0 | HK45: 0 | HL45: 0 | HM45: 0 | HN45: 2.8104616e-06 | HO45: 0 | HP45: 2.2489398e-07 | HQ45: 0 | HR45: 2.3610631e-05 | HS45: 1.2455137e-06 | HT45: 0 | HU45: 0 | HV45: 0 | HW45: 0 | HX45: 0 | HY45: 2.898273e-06 | HZ45: 0 | IA45: 0 | IB45: 0 | IC45: 1.0214772e-08 | ID45: 0 | IE45: 0 | IF45: 0 | IG45: 0 | IH45: 0 | II45: 0 | IJ45: 0 | IK45: 0 | IL45: 0 | IM45: 0 | IN45: 0 | IO45: 0 | IP45: 0 | IQ45: 0 | IR45: 3.8535194e-08 | IS45: 7.4858401e-07 | IT45: 0 | IU45: 0 | IV45: 1.2520202e-06 | IW45: 0 | IX45: 1.1022562e-05 | IY45: 0 | IZ45: 0 | JA45: 0 | JB45: 0 | JC45: 0 | JD45: 0 | JE45: 0 | JF45: 0 | JG45: 8.5593807e-06 | JH45: 0 | JI45: 0 | JJ45: 0 | JK45: 0 | JL45: 0 | JM45: 2.060423e-05 | JN45: 0 | JO45: 0 | JP45: 0 | JQ45: 0 | JR45: 0 | JS45: 7.9416292e-05 | JT45: 3.6709522e-06 | JU45: 0 | JV45: 0 | JW45: 0 | JX45: 0 | JY45: 0 | JZ45: 1.7362031e-05 | KA45: 0 | KB45: 1.8345861e-07 | KC45: 8.8238897e-06 | KD45: 0 | KE45: 0 | KF45: 0 | KG45: 3.3496873e-07 | KH45: 1.9645912e-08 | KI45: 0 | KJ45: 0 | KK45: 1.1345489e-06 | KL45: 0 | KM45: 0 | KN45: 0 | KO45: 0 | KP45: 0 | KQ45: 0 | KR45: 0 | KS45: 0 | KT45: 0 | KU45: 0 | KV45: 0 | KW45: 0 | KX45: 0 | KY45: 0 | KZ45: 0 | LA45: 0 | LB45: 0 | LC45: 0 | LD45: 0 | LE45: 2.667164e-08

Sheet contra_projection_VISl
A1: Supplementary Table 5. Normalized projection volume per structure in the contralateral hemisphere for anterograde projections from VISl
A2: =VLOOKUP(B2,List_VISl_projection!A:C,3, FALSE) -> Mouse Line | B2: image_series_id | C2: Specimen | D2: FRP | E2: MOp | F2: MOs | G2: SSp-n | H2: SSp-bfd | I2: SSp-ll | J2: SSp-m | K2: SSp-ul | L2: SSp-tr | M2: SSp-un | N2: SSs | O2: GU | P2: VISC | Q2: AUDd | R2: AUDp | S2: AUDpo | T2: AUDv | U2: VISal | V2: VISam | W2: VISl | X2: VISp | Y2: VISpl | Z2: VISpm | AA2: VISli | AB2: VISpor | AC2: ACAd | AD2: ACAv | AE2: PL | AF2: ILA | AG2: ORBl | AH2: ORBm | AI2: ORBvl | AJ2: AId | AK2: AIp | AL2: AIv | AM2: RSPagl | AN2: RSPd | AO2: RSPv | AP2: VISa | AQ2: VISrl | AR2: TEa | AS2: PERI | AT2: ECT | AU2: MOB | AV2: AOB | AW2: AON | AX2: TT | AY2: DP | AZ2: PIR | BA2: NLOT | BB2: COAa | BC2: COAp | BD2: PAA | BE2: TR | BF2: CA1 | BG2: CA2 | BH2: CA3 | BI2: DG | BJ2: FC | BK2: IG | BL2: ENTl | BM2: ENTm | BN2: PAR | BO2: POST | BP2: PRE | BQ2: SUB | BR2: ProS | BS2: HATA | BT2: APr | BU2: CLA | BV2: EPd | BW2: EPv | BX2: LA | BY2: BLA | BZ2: BMA | CA2: PA | CB2: CP | CC2: ACB | CD2: FS | CE2: OT | CF2: LSc | CG2: LSr | CH2: LSv | CI2: SF | CJ2: SH | CK2: AAA | CL2: BA | CM2: CEA | CN2: IA | CO2: MEA | CP2: GPe | CQ2: GPi | CR2: SI | CS2: MA | CT2: MS | CU2: NDB | CV2: TRS | CW2: BST | CX2: BAC | CY2: VAL | CZ2: VM | DA2: VPL | DB2: VPLpc | DC2: VPM | DD2: VPMpc | DE2: PoT | DF2: SPFm | DG2: SPFp | DH2: SPA | DI2: PP | DJ2: MG | DK2: LGd | DL2: LP | DM2: PO | DN2: POL | DO2: SGN | DP2: AV | DQ2: AM | DR2: AD | DS2: IAM | DT2: IAD | DU2: LD | DV2: IMD | DW2: MD | DX2: SMT | DY2: PR | DZ2: PVT | EA2: PT | EB2: RE | EC2: Xi | ED2: RH | EE2: CM | EF2: PCN | EG2: CL | EH2: PF | EI2: PIL | EJ2: RT | EK2: IGL | EL2: IntG | EM2: LGv | EN2: SubG | EO2: MH | EP2: LH | EQ2: SO | ER2: ASO | ES2: PVH | ET2: PVa | EU2: PVi | EV2: ARH | EW2: ADP | EX2: AVP | EY2: AVPV | EZ2: DMH | FA2: MEPO | FB2: MPO | FC2: OV | FD2: PD | FE2: PS | FF2: PVp | FG2: PVpo | FH2: SBPV | FI2: SCH | FJ2: SFO | FK2: VMPO | FL2: VLPO | FM2: AHN | FN2: LM | FO2: MM | FP2: SUM | FQ2: TMd | FR2: TMv | FS2: MPN | FT2: PMd | FU2: PMv | FV2: PVHd | FW2: VMH | FX2: PH | FY2: LHA | FZ2: LPO | GA2: PST | GB2: PSTN | GC2: PeF | GD2: RCH | GE2: STN | GF2: TU | GG2: ZI | GH2: ME | GI2: SCs | GJ2: IC | GK2: NB | GL2: SAG | GM2: PBG | GN2: MEV | GO2: SCO | GP2: SNr | GQ2: VTA | GR2: PN | GS2: RR | GT2: MRN | GU2: SCm | GV2: PAG | GW2: APN | GX2: MPT | GY2: NOT | GZ2: NPC | HA2: OP | HB2: PPT | HC2: CUN | HD2: RN | HE2: III | HF2: MA3 | HG2: EW | HH2: IV | HI2: Pa4 | HJ2: VTN | HK2: AT | HL2: LT | HM2: DT | HN2: MT | HO2: SNc | HP2: PPN | HQ2: IF | HR2: IPN | HS2: RL | HT2: CLI | HU2: DR | HV2: NLL | HW2: PSV | HX2: PB | HY2: SOC | HZ2: B | IA2: DTN | IB2: PDTg | IC2: PCG | ID2: PG | IE2: PRNc | IF2: SG | IG2: SUT | IH2: TRN | II2: V | IJ2: P5 | IK2: Acs5 | IL2: PC5 | IM2: I5 | IN2: CS | IO2: LC | IP2: LDT | IQ2: NI | IR2: PRNr | IS2: RPO | IT2: SLC | IU2: SLD | IV2: AP | IW2: DCO | IX2: VCO | IY2: CU | IZ2: GR | JA2: ECU | JB2: NTB | JC2: NTS | JD2: SPVC | JE2: SPVI | JF2: SPVO | JG2: Pa5 | JH2: VI | JI2: VII | JJ2: ACVII | JK2: AMB | JL2: DMX | JM2: GRN | JN2: ICB | JO2: IO | JP2: IRN | JQ2: ISN | JR2: LIN | JS2: LRN | JT2: MARN | JU2: MDRNd | JV2: MDRNv | JW2: PARN | JX2: PAS | JY2: PGRNd | JZ2: PGRNl | KA2: NR | KB2: PRP | KC2: PPY | KD2: LAV | KE2: MV | KF2: SPIV | KG2: SUV | KH2: x | KI2: XII | KJ2: y | KK2: RM | KL2: RPA | KM2: RO | KN2: LING | KO2: CENT | KP2: CUL | KQ2: DEC | KR2: FOTU | KS2: PYR | KT2: UVU | KU2: NOD | KV2: SIM | KW2: AN | KX2: PRM | KY2: COPY | KZ2: PFL | LA2: FL | LB2: FN | LC2: IP | LD2: DN | LE2: VeCB
A3: =VLOOKUP(B3,List_VISl_projection!A:C,3, FALSE) -> A930038C07Rik-Tg1-Cre | B3: 520341802 | C3: A930038C07Rik-Tg1-Cre-242326 | D3: 0 | E3: 0 | F3: 0 | G3: 0 | H3: 0 | I3: 0.00020781096 | J3: 0 | K3: 0 | L3: 0 | M3: 0 | N3: 0 | O3: 0 | P3: 0 | Q3: 0 | R3: 0 | S3: 0 | T3: 0 | U3: 0 | V3: 0 | W3: 0 | X3: 0 | Y3: 0.00028629529 | Z3: 0 | AA3: 0 | AB3: 0 | AC3: 0.00028853811 | AD3: 0 | AE3: 0 | AF3: 0 | AG3: 0 | AH3: 0 | AI3: 0 | AJ3: 0 | AK3: 0 | AL3: 0 | AM3: 0 | AN3: 0 | AO3: 0 | AP3: 0 | AQ3: 0 | AR3: 0 | AS3: 0 | AT3: 0 | AU3: 0 | AV3: 0 | AW3: 0 | AX3: 0 | AY3: 0 | AZ3: 0 | BA3: 0 | BB3: 0.00022744667 | BC3: 0 | BD3: 0 | BE3: 0 | BF3: 0 | BG3: 0 | BH3: 0 | BI3: 0 | BJ3: 0 | BK3: 0 | BL3: 0 | BM3: 0 | BN3: 0 | BO3: 0 | BP3: 0 | BQ3: 0 | BR3: 0 | BS3: 0 | BT3: 0.00043946023 | BU3: 0 | BV3: 0 | BW3: 0 | BX3: 0 | BY3: 0 | BZ3: 0 | CA3: 0 | CB3: 0 | CC3: 0 | CD3: 3.3103503e-05 | CE3: 0 | CF3: 0 | CG3: 0 | CH3: 0 | CI3: 0 | CJ3: 3.406561e-05 | CK3: 0 | CL3: 0 | CM3: 0.00010493416 | CN3: 3.5759345e-07 | CO3: 0 | CP3: 0 | CQ3: 0 | CR3: 0 | CS3: 0 | CT3: 0 | CU3: 0 | CV3: 0 | CW3: 1.0635634e-05 | CX3: 0 | CY3: 0 | CZ3: 0 | DA3: 0 | DB3: 0 | DC3: 3.0724452e-06 | DD3: 0 | DE3: 0 | DF3: 5.162029e-05 | DG3: 0 | DH3: 0 | DI3: 0 | DJ3: 0 | DK3: 0 | DL3: 0 | DM3: 0 | DN3: 2.759242e-06 | DO3: 0 | DP3: 0 | DQ3: 0 | DR3: 0 | DS3: 0 | DT3: 0 | DU3: 0 | DV3: 0 | DW3: 0 | DX3: 0 | DY3: 0 | DZ3: 0.00012852928 | EA3: 0 | EB3: 0 | EC3: 0 | ED3: 0 | EE3: 0 | EF3: 0 | EG3: 4.668635e-05 | EH3: 0 | EI3: 0 | EJ3: 0 | EK3: 1.1008506e-05 | EL3: 0 | EM3: 0 | EN3: 0 | EO3: 0.00022484152 | EP3: 0 | EQ3: 0 | ER3: 0 | ES3: 3.9756427e-05 | ET3: 0 | EU3: 0.00013444259 | EV3: 0 | EW3: 0 | EX3: 0 | EY3: 1.8302313e-05 | EZ3: 0 | FA3: 2.0025447e-06 | FB3: 0 | FC3: 1.3411199e-05 | FD3: 0 | FE3: 0 | FF3: 0 | FG3: 0.00013276021 | FH3: 0 | FI3: 0 | FJ3: 0 | FK3: 0 | FL3: 9.0298644e-05 | FM3: 0 | FN3: 0 | FO3: 0 | FP3: 0 | FQ3: 2.0952373e-05 | FR3: 0 | FS3: 0 | FT3: 0 | FU3: 2.644355e-06 | FV3: 7.8944595e-06 | FW3: 0 | FX3: 0 | FY3: 0 | FZ3: 0 | GA3: 0 | GB3: 0 | GC3: 0 | GD3: 5.9972465e-07 | GE3: 0 | GF3: 0 | GG3: 0 | GH3: 0 | GI3: 0 | GJ3: 0 | GK3: 0 | GL3: 0 | GM3: 0 | GN3: 0 | GO3: 0 | GP3: 0 | GQ3: 0 | GR3: 0 | GS3: 0 | GT3: 0 | GU3: 0 | GV3: 0 | GW3: 0 | GX3: 0 | GY3: 0 | GZ3: 0 | HA3: 0 | HB3: 0 | HC3: 0 | HD3: 0 | HE3: 0 | HF3: 0 | HG3: 0 | HH3: 0 | HI3: 0 | HJ3: 0 | HK3: 0 | HL3: 0 | HM3: 0 | HN3: 0 | HO3: 0 | HP3: 0 | HQ3: 0 | HR3: 0 | HS3: 4.6714311e-07 | HT3: 0 | HU3: 1.0271019e-08 | HV3: 0 | HW3: 0 | HX3: 0 | HY3: 0 | HZ3: 0 | IA3: 0 | IB3: 0 | IC3: 9.569387e-06 | ID3: 0 | IE3: 0 | IF3: 0 | IG3: 0 | IH3: 0 | II3: 0 | IJ3: 0 | IK3: 0 | IL3: 0 | IM3: 0 | IN3: 0 | IO3: 0 | IP3: 6.7309235e-06 | IQ3: 1.326687e-06 | IR3: 4.7655518e-06 | IS3: 0 | IT3: 0 | IU3: 0 | IV3: 1.781985e-05 | IW3: 0 | IX3: 0 | IY3: 0 | IZ3: 0 | JA3: 0 | JB3: 0 | JC3: 0 | JD3: 0 | JE3: 0 | JF3: 0 | JG3: 0 | JH3: 0 | JI3: 0 | JJ3: 0 | JK3: 0 | JL3: 0 | JM3: 0 | JN3: 0 | JO3: 0 | JP3: 0 | JQ3: 0 | JR3: 0 | JS3: 0 | JT3: 0 | JU3: 0 | JV3: 0 | JW3: 0 | JX3: 0 | JY3: 0 | JZ3: 0 | KA3: 0 | KB3: 9.0399241e-05 | KC3: 0 | KD3: 0 | KE3: 0 | KF3: 0 | KG3: 2.5993838e-05 | KH3: 0 | KI3: 0 | KJ3: 0 | KK3: 1.4309627e-05 | KL3: 0 | KM3: 0 | KN3: 0 | KO3: 0 | KP3: 0 | KQ3: 0 | KR3: 0 | KS3: 0 | KT3: 0 | KU3: 0 | KV3: 0 | KW3: 0 | KX3: 0 | KY3: 0 | KZ3: 0 | LA3: 0 | LB3: 0 | LC3: 0 | LD3: 0 | LE3: 3.228637e-06
A4: =VLOOKUP(B4,List_VISl_projection!A:C,3, FALSE) -> A930038C07Rik-Tg1-Cre | B4: 552430870 | C4: A930038C07Rik-Tg1-Cre-270159 | D4: 0 | E4: 0 | F4: 0 | G4: 0 | H4: 0 | I4: 0 | J4: 0 | K4: 0 | L4: 0 | M4: 0 | N4: 0.0033583211 | O4: 0 | P4: 0 | Q4: 0 | R4: 0 | S4: 0 | T4: 0 | U4: 0 | V4: 0 | W4: 0.0005561991 | X4: 0 | Y4: 0 | Z4: 0 | AA4: 0 | AB4: 0 | AC4: 0 | AD4: 0 | AE4: 0 | AF4: 0 | AG4: 0 | AH4: 0 | AI4: 0 | AJ4: 0.00016972716 | AK4: 0 | AL4: 0 | AM4: 0 | AN4: 0 | AO4: 0 | AP4: 0 | AQ4: 0 | AR4: 5.7254047e-05 | AS4: 0 | AT4: 0 | AU4: 0 | AV4: 0 | AW4: 0 | AX4: 0 | AY4: 0 | AZ4: 0 | BA4: 0 | BB4: 0.0015814518 | BC4: 0.00017158182 | BD4: 0 | BE4: 0 | BF4: 0 | BG4: 0 | BH4: 0 | BI4: 0 | BJ4: 0 | BK4: 0 | BL4: 0 | BM4: 0 | BN4: 0 | BO4: 0 | BP4: 0 | BQ4: 0 | BR4: 0 | BS4: 0 | BT4: 0 | BU4: 0 | BV4: 0.0026209829 | BW4: 0 | BX4: 0 | BY4: 0 | BZ4: 0.00035450836 | CA4: 0 | CB4: 0 | CC4: 0 | CD4: 0.0009635743 | CE4: 0 | CF4: 0 | CG4: 0 | CH4: 0 | CI4: 0 | CJ4: 0 | CK4: 0.00053651982 | CL4: 0 | CM4: 0.00034996185 | CN4: 0 | CO4: 0 | CP4: 0 | CQ4: 0 | CR4: 0 | CS4: 0 | CT4: 0 | CU4: 0 | CV4: 0 | CW4: 0 | CX4: 0 | CY4: 0 | CZ4: 0 | DA4: 0 | DB4: 0 | DC4: 0 | DD4: 0 | DE4: 0 | DF4: 0 | DG4: 0 | DH4: 0 | DI4: 0 | DJ4: 0 | DK4: 0 | DL4: 0 | DM4: 0 | DN4: 0 | DO4: 0 | DP4: 0 | DQ4: 0 | DR4: 0 | DS4: 0 | DT4: 0 | DU4: 0 | DV4: 0 | DW4: 0 | DX4: 0 | DY4: 1.3095027e-06 | DZ4: 0 | EA4: 0 | EB4: 0 | EC4: 0 | ED4: 0 | EE4: 0 | EF4: 0 | EG4: 9.4067211e-05 | EH4: 0 | EI4: 0 | EJ4: 0 | EK4: 0.00021764238 | EL4: 0 | EM4: 9.6369659e-05 | EN4: 0 | EO4: 0 | EP4: 0 | EQ4: 0 | ER4: 0 | ES4: 0 | ET4: 0 | EU4: 0 | EV4: 0 | EW4: 0 | EX4: 0 | EY4: 1.8418465e-05 | EZ4: 0 | FA4: 0 | FB4: 0 | FC4: 4.0677695e-06 | FD4: 0 | FE4: 0 | FF4: 0 | FG4: 0 | FH4: 0 | FI4: 0 | FJ4: 0 | FK4: 0 | FL4: 0 | FM4: 0.00022629574 | FN4: 0 | FO4: 0 | FP4: 0 | FQ4: 0 | FR4: 0 | FS4: 0 | FT4: 0 | FU4: 0 | FV4: 0.00018776073 | FW4: 0 | FX4: 0.00012017429 | FY4: 0 | FZ4: 0 | GA4: 0 | GB4: 0 | GC4: 0 | GD4: 0 | GE4: 0 | GF4: 1.8440204e-05 | GG4: 0 | GH4: 0 | GI4: 0 | GJ4: 0 | GK4: 0 | GL4: 0 | GM4: 0 | GN4: 1.2258933e-09 | GO4: 0 | GP4: 0 | GQ4: 0 | GR4: 0 | GS4: 0 | GT4: 0 | GU4: 0 | GV4: 0 | GW4: 0 | GX4: 0 | GY4: 0 | GZ4: 0 | HA4: 0 | HB4: 0 | HC4: 0 | HD4: 0 | HE4: 3.6351829e-09 | HF4: 0 | HG4: 0 | HH4: 0 | HI4: 0 | HJ4: 0 | HK4: 0 | HL4: 0 | HM4: 1.8138875e-09 | HN4: 0 | HO4: 0 | HP4: 0 | HQ4: 0 | HR4: 0 | HS4: 4.2313527e-05 | HT4: 1.2083789e-06 | HU4: 0 | HV4: 0 | HW4: 0 | HX4: 0 | HY4: 0 | HZ4: 0 | IA4: 0 | IB4: 0 | IC4: 0 | ID4: 0 | IE4: 0 | IF4: 0 | IG4: 0 | IH4: 0 | II4: 0 | IJ4: 0 | IK4: 0 | IL4: 0 | IM4: 0 | IN4: 0 | IO4: 0 | IP4: 0 | IQ4: 0 | IR4: 6.443064e-05 | IS4: 0 | IT4: 0 | IU4: 0 | IV4: 0 | IW4: 0 | IX4: 0 | IY4: 0 | IZ4: 0 | JA4: 0 | JB4: 0 | JC4: 0 | JD4: 0 | JE4: 0 | JF4: 0 | JG4: 0 | JH4: 0 | JI4: 0 | JJ4: 0 | JK4: 0 | JL4: 0 | JM4: 0 | JN4: 0 | JO4: 0 | JP4: 0 | JQ4: 0 | JR4: 0 | JS4: 0 | JT4: 0 | JU4: 0 | JV4: 0 | JW4: 0 | JX4: 0 | JY4: 0 | JZ4: 0 | KA4: 0 | KB4: 0 | KC4: 0 | KD4: 0 | KE4: 0 | KF4: 0 | KG4: 0 | KH4: 0 | KI4: 0 | KJ4: 0 | KK4: 0 | KL4: 0 | KM4: 0 | KN4: 0 | KO4: 0 | KP4: 0 | KQ4: 0 | KR4: 0 | KS4: 0 | KT4: 0 | KU4: 0 | KV4: 0 | KW4: 0 | KX4: 0 | KY4: 0 | KZ4: 0 | LA4: 0 | LB4: 0 | LC4: 0 | LD4: 0 | LE4: 0
A5: =VLOOKUP(B5,List_VISl_projection!A:C,3, FALSE) -> Cux2-IRES-Cre | B5: 484503464 | C5: Cux2-IRES-Cre-198364 | D5: 0 | E5: 0 | F5: 0 | G5: 0 | H5: 0 | I5: 0 | J5: 0 | K5: 0 | L5: 0 | M5: 0 | N5: 0 | O5: 0 | P5: 0 | Q5: 0 | R5: 0 | S5: 0 | T5: 0 | U5: 0.0035451954 | V5: 0.00052657519 | W5: 0.011394451 | X5: 0.080512368 | Y5: 0.00073308001 | Z5: 0.0018130847 | AA5: 0.00024630377 | AB5: 0.0022254456 | AC5: 0.00032061562 | AD5: 0 | AE5: 0 | AF5: 0 | AG5: 0 | AH5: 0 | AI5: 0 | AJ5: 0 | AK5: 0 | AL5: 0 | AM5: 0.00052771208 | AN5: 0.00095859524 | AO5: 0.00015392504 | AP5: 0 | AQ5: 0.0033098155 | AR5: 0.0001164748 | AS5: 1.2992797e-05 | AT5: 0 | AU5: 0 | AV5: 0 | AW5: 0 | AX5: 0 | AY5: 0 | AZ5: 0 | BA5: 0 | BB5: 0 | BC5: 0 | BD5: 0 | BE5: 0 | BF5: 0 | BG5: 0 | BH5: 0 | BI5: 0 | BJ5: 0 | BK5: 0 | BL5: 0.00035065946 | BM5: 0.00011288108 | BN5: 0 | BO5: 0 | BP5: 0 | BQ5: 0 | BR5: 0 | BS5: 0 | BT5: 9.8851541e-05 | BU5: 0 | BV5: 0 | BW5: 0 | BX5: 0 | BY5: 0 | BZ5: 0 | CA5: 0 | CB5: 0.0011545424 | CC5: 0 | CD5: 0 | CE5: 0 | CF5: 0 | CG5: 0 | CH5: 0 | CI5: 0 | CJ5: 4.7088533e-08 | CK5: 0 | CL5: 0 | CM5: 0 | CN5: 0 | CO5: 0 | CP5: 0 | CQ5: 0 | CR5: 0 | CS5: 0 | CT5: 0 | CU5: 0 | CV5: 0 | CW5: 0 | CX5: 0 | CY5: 0 | CZ5: 0 | DA5: 0 | DB5: 0 | DC5: 0 | DD5: 0 | DE5: 0 | DF5: 0 | DG5: 0 | DH5: 0 | DI5: 0 | DJ5: 0 | DK5: 0 | DL5: 0 | DM5: 0 | DN5: 0 | DO5: 0 | DP5: 0 | DQ5: 0 | DR5: 0 | DS5: 0 | DT5: 0 | DU5: 0 | DV5: 0 | DW5: 0 | DX5: 0 | DY5: 0 | DZ5: 0 | EA5: 0 | EB5: 0 | EC5: 0 | ED5: 0 | EE5: 0 | EF5: 0 | EG5: 0 | EH5: 0 | EI5: 0 | EJ5: 0 | EK5: 0 | EL5: 2.6584928e-07 | EM5: 0 | EN5: 0 | EO5: 0 | EP5: 0 | EQ5: 0 | ER5: 0 | ES5: 0 | ET5: 0 | EU5: 0 | EV5: 0 | EW5: 0 | EX5: 0 | EY5: 2.4024306e-07 | EZ5: 0 | FA5: 0 | FB5: 0 | FC5: 0 | FD5: 0 | FE5: 0 | FF5: 0 | FG5: 0 | FH5: 0 | FI5: 0 | FJ5: 0 | FK5: 0 | FL5: 4.2781308e-07 | FM5: 0 | FN5: 0 | FO5: 0 | FP5: 0 | FQ5: 0 | FR5: 0 | FS5: 0 | FT5: 0 | FU5: 7.8558739e-07 | FV5: 0 | FW5: 0 | FX5: 0 | FY5: 0 | FZ5: 0 | GA5: 0 | GB5: 0 | GC5: 0 | GD5: 0 | GE5: 0 | GF5: 0 | GG5: 0 | GH5: 0 | GI5: 0 | GJ5: 0 | GK5: 0 | GL5: 0 | GM5: 0 | GN5: 0 | GO5: 0 | GP5: 0 | GQ5: 0 | GR5: 0 | GS5: 0 | GT5: 0 | GU5: 0 | GV5: 0 | GW5: 0 | GX5: 0 | GY5: 0 | GZ5: 0 | HA5: 0 | HB5: 0 | HC5: 0 | HD5: 0 | HE5: 0 | HF5: 0 | HG5: 0 | HH5: 0 | HI5: 0 | HJ5: 0 | HK5: 0 | HL5: 0 | HM5: 0 | HN5: 0 | HO5: 0 | HP5: 0 | HQ5: 0 | HR5: 0 | HS5: 4.4527727e-09 | HT5: 0 | HU5: 0 | HV5: 0 | HW5: 0 | HX5: 0 | HY5: 0 | HZ5: 0 | IA5: 0 | IB5: 0 | IC5: 0 | ID5: 0 | IE5: 0 | IF5: 0 | IG5: 0 | IH5: 0 | II5: 0 | IJ5: 0 | IK5: 0 | IL5: 0 | IM5: 0 | IN5: 0 | IO5: 0 | IP5: 0 | IQ5: 0 | IR5: 0 | IS5: 0 | IT5: 0 | IU5: 0 | IV5: 0 | IW5: 0 | IX5: 0 | IY5: 0 | IZ5: 0 | JA5: 0 | JB5: 0 | JC5: 0 | JD5: 0 | JE5: 0 | JF5: 0 | JG5: 0 | JH5: 0 | JI5: 0 | JJ5: 0 | JK5: 0 | JL5: 0 | JM5: 0 | JN5: 0 | JO5: 0 | JP5: 0 | JQ5: 0 | JR5: 0 | JS5: 0 | JT5: 0 | JU5: 0 | JV5: 0 | JW5: 0 | JX5: 0 | JY5: 0 | JZ5: 0 | KA5: 0 | KB5: 0 | KC5: 0 | KD5: 0 | KE5: 0 | KF5: 0 | KG5: 0 | KH5: 0 | KI5: 0 | KJ5: 0 | KK5: 0 | KL5: 0 | KM5: 0 | KN5: 0 | KO5: 0 | KP5: 0 | KQ5: 0 | KR5: 0 | KS5: 0 | KT5: 0 | KU5: 0 | KV5: 0 | KW5: 0 | KX5: 0 | KY5: 0 | KZ5: 0 | LA5: 0 | LB5: 0 | LC5: 0 | LD5: 0 | LE5: 0
A6: =VLOOKUP(B6,List_VISl_projection!A:C,3, FALSE) -> Cux2-IRES-Cre | B6: 495344543 | C6: Cux2-IRES-Cre-203183 | D6: 0 | E6: 0 | F6: 0 | G6: 0 | H6: 0 | I6: 0 | J6: 0 | K6: 0 | L6: 0 | M6: 0 | N6: 0 | O6: 0 | P6: 0 | Q6: 0 | R6: 0 | S6: 3.0143351e-05 | T6: 0 | U6: 0.00032899518 | V6: 0 | W6: 0.00025977302 | X6: 0.002844794 | Y6: 7.8845993e-05 | Z6: 0.00018264179 | AA6: 0.0023845823 | AB6: 0.00042322786 | AC6: 0 | AD6: 0 | AE6: 0 | AF6: 0 | AG6: 0 | AH6: 0 | AI6: 0 | AJ6: 0 | AK6: 0 | AL6: 0 | AM6: 1.5706157e-05 | AN6: 0 | AO6: 0 | AP6: 0 | AQ6: 0.00084388612 | AR6: 0.00061150459 | AS6: 1.7261857e-05 | AT6: 1.1117448e-05 | AU6: 0 | AV6: 0 | AW6: 0 | AX6: 0 | AY6: 0 | AZ6: 0 | BA6: 0 | BB6: 4.2337018e-05 | BC6: 2.514791e-05 | BD6: 0 | BE6: 2.8769627e-05 | BF6: 0 | BG6: 0 | BH6: 0 | BI6: 0 | BJ6: 0 | BK6: 0 | BL6: 0.00026844259 | BM6: 0 | BN6: 0 | BO6: 0 | BP6: 0 | BQ6: 0 | BR6: 0 | BS6: 0 | BT6: 0 | BU6: 0 | BV6: 0 | BW6: 1.3211816e-05 | BX6: 0 | BY6: 0 | BZ6: 1.5458257e-05 | CA6: 7.1599707e-06 | CB6: 0 | CC6: 0 | CD6: 0 | CE6: 0 | CF6: 0 | CG6: 0 | CH6: 0 | CI6: 0 | CJ6: 4.8108185e-07 | CK6: 8.4277854e-06 | CL6: 0 | CM6: 1.1604352e-05 | CN6: 3.8190067e-07 | CO6: 0 | CP6: 0 | CQ6: 0 | CR6: 0 | CS6: 0 | CT6: 0 | CU6: 0 | CV6: 0 | CW6: 1.016876e-06 | CX6: 0 | CY6: 0 | CZ6: 0 | DA6: 0 | DB6: 0 | DC6: 0 | DD6: 0 | DE6: 0 | DF6: 0 | DG6: 0 | DH6: 0 | DI6: 0 | DJ6: 0 | DK6: 0 | DL6: 0 | DM6: 0 | DN6: 0 | DO6: 0 | DP6: 0 | DQ6: 0 | DR6: 0 | DS6: 0 | DT6: 0 | DU6: 0 | DV6: 0 | DW6: 0 | DX6: 0 | DY6: 0 | DZ6: 5.8161895e-07 | EA6: 0 | EB6: 0 | EC6: 0 | ED6: 2.0741801e-06 | EE6: 2.1444564e-07 | EF6: 0 | EG6: 0 | EH6: 0 | EI6: 0 | EJ6: 0 | EK6: 0 | EL6: 0 | EM6: 0 | EN6: 0 | EO6: 0 | EP6: 0 | EQ6: 1.248847e-06 | ER6: 0 | ES6: 8.1241288e-06 | ET6: 0 | EU6: 0 | EV6: 0 | EW6: 0 | EX6: 0 | EY6: 1.5313605e-05 | EZ6: 0 | FA6: 0 | FB6: 0 | FC6: 0 | FD6: 0 | FE6: 0 | FF6: 3.8536344e-07 | FG6: 0 | FH6: 0 | FI6: 0 | FJ6: 0 | FK6: 0 | FL6: 0 | FM6: 0 | FN6: 0 | FO6: 0 | FP6: 0 | FQ6: 0 | FR6: 0 | FS6: 0 | FT6: 0 | FU6: 5.284635e-09 | FV6: 3.3226173e-07 | FW6: 2.0100613e-06 | FX6: 0 | FY6: 1.8323769e-07 | FZ6: 1.3270779e-06 | GA6: 0 | GB6: 0 | GC6: 0 | GD6: 0 | GE6: 0 | GF6: 0 | GG6: 0 | GH6: 9.749499e-06 | GI6: 0 | GJ6: 0 | GK6: 0 | GL6: 1.3862003e-06 | GM6: 0 | GN6: 0 | GO6: 0 | GP6: 0 | GQ6: 0 | GR6: 0 | GS6: 0 | GT6: 0 | GU6: 0 | GV6: 0 | GW6: 0 | GX6: 0 | GY6: 0 | GZ6: 0 | HA6: 0 | HB6: 0 | HC6: 0 | HD6: 0 | HE6: 0 | HF6: 0 | HG6: 0 | HH6: 0 | HI6: 0 | HJ6: 0 | HK6: 0 | HL6: 0 | HM6: 0 | HN6: 0 | HO6: 0 | HP6: 0 | HQ6: 0 | HR6: 5.1464576e-05 | HS6: 0 | HT6: 0 | HU6: 0 | HV6: 0 | HW6: 0 | HX6: 0 | HY6: 0 | HZ6: 0 | IA6: 0 | IB6: 0 | IC6: 5.9673983e-10 | ID6: 1.637032e-05 | IE6: 0 | IF6: 0 | IG6: 0 | IH6: 0 | II6: 0 | IJ6: 0 | IK6: 0 | IL6: 0 | IM6: 0 | IN6: 0 | IO6: 0 | IP6: 3.3998126e-07 | IQ6: 0 | IR6: 0 | IS6: 0 | IT6: 0 | IU6: 0 | IV6: 0 | IW6: 0 | IX6: 0 | IY6: 0 | IZ6: 0 | JA6: 0 | JB6: 0 | JC6: 0 | JD6: 0 | JE6: 0 | JF6: 0 | JG6: 0 | JH6: 0 | JI6: 0 | JJ6: 0 | JK6: 0 | JL6: 0 | JM6: 0 | JN6: 0 | JO6: 0 | JP6: 0 | JQ6: 0 | JR6: 0 | JS6: 0 | JT6: 0 | JU6: 0 | JV6: 0 | JW6: 0 | JX6: 0 | JY6: 0 | JZ6: 0 | KA6: 0 | KB6: 0 | KC6: 0 | KD6: 0 | KE6: 0 | KF6: 0 | KG6: 8.9859393e-07 | KH6: 0 | KI6: 0 | KJ6: 0 | KK6: 0 | KL6: 0 | KM6: 0 | KN6: 0 | KO6: 0 | KP6: 0 | KQ6: 0 | KR6: 0 | KS6: 0 | KT6: 0 | KU6: 0 | KV6: 0 | KW6: 0 | KX6: 0 | KY6: 0 | KZ6: 0 | LA6: 0 | LB6: 0 | LC6: 0 | LD6: 0 | LE6: 0
A7: =VLOOKUP(B7,List_VISl_projection!A:C,3, FALSE) -> Cux2-IRES-Cre | B7: 587344810 | C7: Cux2-IRES-Cre-309605 | D7: 0 | E7: 0 | F7: 0 | G7: 0 | H7: 0 | I7: 2.0532536e-05 | J7: 0 | K7: 0 | L7: 4.0881581e-05 | M7: 0 | N7: 0 | O7: 0 | P7: 5.9020112e-05 | Q7: 0.00012445763 | R7: 0 | S7: 9.0645146e-05 | T7: 6.048286e-05 | U7: 0.0010710375 | V7: 0.0010798406 | W7: 0.019764162 | X7: 0.030137398 | Y7: 0.0033367266 | Z7: 0.0004481912 | AA7: 0.003646756 | AB7: 0.0069454687 | AC7: 0.00010096694 | AD7: 0.00046955679 | AE7: 0 | AF7: 0 | AG7: 0 | AH7: 0 | AI7: 0 | AJ7: 0 | AK7: 0 | AL7: 0 | AM7: 0.0048975331 | AN7: 0.0026952555 | AO7: 0.00048080126 | AP7: 0.0002243973 | AQ7: 0.00056026713 | AR7: 0.0017483774 | AS7: 0.00015459823 | AT7: 0.00042275234 | AU7: 0 | AV7: 0 | AW7: 0 | AX7: 0 | AY7: 0 | AZ7: 0 | BA7: 0 | BB7: 3.0152109e-05 | BC7: 0 | BD7: 0 | BE7: 0 | BF7: 0.00024907134 | BG7: 4.3507918e-05 | BH7: 0 | BI7: 0 | BJ7: 1.0048508e-05 | BK7: 0 | BL7: 0.003191942 | BM7: 0.0019815975 | BN7: 0.00010157298 | BO7: 0.00030010076 | BP7: 0 | BQ7: 6.0442741e-05 | BR7: 0 | BS7: 0 | BT7: 0.00022620026 | BU7: 0 | BV7: 2.0517142e-05 | BW7: 5.1655864e-06 | BX7: 8.2056345e-05 | BY7: 1.7175594e-05 | BZ7: 0 | CA7: 0 | CB7: 0.00099039931 | CC7: 0 | CD7: 3.9542193e-06 | CE7: 0 | CF7: 6.7303414e-05 | CG7: 0.00017501699 | CH7: 2.5674693e-06 | CI7: 0.00025604749 | CJ7: 2.6547881e-05 | CK7: 5.6859948e-06 | CL7: 0 | CM7: 2.2100488e-06 | CN7: 2.0037389e-06 | CO7: 0 | CP7: 0 | CQ7: 0 | CR7: 0 | CS7: 0 | CT7: 0 | CU7: 0 | CV7: 5.1104819e-05 | CW7: 0 | CX7: 0 | CY7: 0 | CZ7: 0 | DA7: 0 | DB7: 0 | DC7: 0 | DD7: 0 | DE7: 0 | DF7: 0 | DG7: 0 | DH7: 0 | DI7: 0 | DJ7: 0 | DK7: 0 | DL7: 0 | DM7: 0 | DN7: 0 | DO7: 0 | DP7: 0 | DQ7: 0 | DR7: 0 | DS7: 0 | DT7: 0 | DU7: 0 | DV7: 0 | DW7: 0 | DX7: 0 | DY7: 0 | DZ7: 0 | EA7: 0 | EB7: 8.0455348e-09 | EC7: 9.5779939e-06 | ED7: 7.9475618e-07 | EE7: 0 | EF7: 0 | EG7: 0 | EH7: 0 | EI7: 0 | EJ7: 0 | EK7: 0 | EL7: 0 | EM7: 0 | EN7: 0 | EO7: 0 | EP7: 0 | EQ7: 0 | ER7: 0 | ES7: 0 | ET7: 0 | EU7: 0 | EV7: 0 | EW7: 0 | EX7: 0 | EY7: 3.7710752e-10 | EZ7: 0 | FA7: 0 | FB7: 0 | FC7: 0 | FD7: 0 | FE7: 0 | FF7: 0 | FG7: 0 | FH7: 0 | FI7: 0 | FJ7: 0 | FK7: 0 | FL7: 9.653787e-07 | FM7: 0 | FN7: 0 | FO7: 0 | FP7: 0 | FQ7: 0 | FR7: 0 | FS7: 0 | FT7: 0 | FU7: 1.5308939e-05 | FV7: 0 | FW7: 0 | FX7: 1.2981576e-07 | FY7: 0 | FZ7: 0 | GA7: 0 | GB7: 0 | GC7: 0 | GD7: 5.7401399e-11 | GE7: 0 | GF7: 0 | GG7: 0 | GH7: 0 | GI7: 0 | GJ7: 0 | GK7: 0 | GL7: 0 | GM7: 0 | GN7: 0 | GO7: 0 | GP7: 0 | GQ7: 0 | GR7: 0 | GS7: 0 | GT7: 0 | GU7: 0 | GV7: 0 | GW7: 0 | GX7: 0 | GY7: 0 | GZ7: 0 | HA7: 0 | HB7: 0 | HC7: 0 | HD7: 0 | HE7: 0 | HF7: 0 | HG7: 0 | HH7: 0 | HI7: 0 | HJ7: 0 | HK7: 0 | HL7: 0 | HM7: 0 | HN7: 0 | HO7: 0 | HP7: 0 | HQ7: 0 | HR7: 0 | HS7: 0 | HT7: 0 | HU7: 0 | HV7: 0 | HW7: 0 | HX7: 0 | HY7: 0 | HZ7: 0 | IA7: 0 | IB7: 0 | IC7: 0 | ID7: 0 | IE7: 0 | IF7: 0 | IG7: 0 | IH7: 0 | II7: 0 | IJ7: 0 | IK7: 0 | IL7: 0 | IM7: 0 | IN7: 0 | IO7: 0 | IP7: 0 | IQ7: 0 | IR7: 0 | IS7: 0 | IT7: 0 | IU7: 0 | IV7: 0 | IW7: 0 | IX7: 0 | IY7: 0 | IZ7: 0 | JA7: 0 | JB7: 0 | JC7: 0 | JD7: 0 | JE7: 0 | JF7: 0 | JG7: 0 | JH7: 0 | JI7: 0 | JJ7: 0 | JK7: 0 | JL7: 0 | JM7: 0 | JN7: 0 | JO7: 0 | JP7: 0 | JQ7: 0 | JR7: 0 | JS7: 0 | JT7: 0 | JU7: 0 | JV7: 0 | JW7: 0 | JX7: 0 | JY7: 0 | JZ7: 0 | KA7: 0 | KB7: 0 | KC7: 0 | KD7: 0 | KE7: 0 | KF7: 0 | KG7: 0 | KH7: 0 | KI7: 0 | KJ7: 0 | KK7: 0 | KL7: 0 | KM7: 0 | KN7: 0 | KO7: 0 | KP7: 0 | KQ7: 0 | KR7: 0 | KS7: 0 | KT7: 0 | KU7: 0 | KV7: 0 | KW7: 0 | KX7: 0 | KY7: 0 | KZ7: 0 | LA7: 0 | LB7: 0 | LC7: 0 | LD7: 0 | LE7: 0
A8: =VLOOKUP(B8,List_VISl_projection!A:C,3, FALSE) -> Cux2-IRES-Cre | B8: 592518697 | C8: Cux2-IRES-Cre-314798 | D8: 0 | E8: 0 | F8: 0 | G8: 0 | H8: 0 | I8: 0 | J8: 0 | K8: 0 | L8: 0 | M8: 0 | N8: 0 | O8: 0 | P8: 0 | Q8: 0 | R8: 0 | S8: 9.8281866e-05 | T8: 2.73219e-05 | U8: 0.00031563176 | V8: 0.00017807321 | W8: 0.0078658731 | X8: 0.016587137 | Y8: 0.002802542 | Z8: 0.00061524534 | AA8: 0.003721792 | AB8: 0.0069270684 | AC8: 1.6813594e-05 | AD8: 0.00036307916 | AE8: 0 | AF8: 0.00012872607 | AG8: 0 | AH8: 0 | AI8: 0 | AJ8: 0 | AK8: 0 | AL8: 0 | AM8: 0.0021736071 | AN8: 0.0010953553 | AO8: 2.0632e-05 | AP8: 7.6080934e-05 | AQ8: 9.0472274e-05 | AR8: 0.0025893997 | AS8: 0.00044994955 | AT8: 0.00072463002 | AU8: 0 | AV8: 0 | AW8: 0 | AX8: 0.00011473997 | AY8: 0.00047829968 | AZ8: 0 | BA8: 0 | BB8: 0 | BC8: 0 | BD8: 0 | BE8: 0 | BF8: 0 | BG8: 6.1013217e-06 | BH8: 0 | BI8: 0 | BJ8: 1.1293696e-05 | BK8: 0 | BL8: 0.0030908595 | BM8: 0.00080793541 | BN8: 7.5254384e-06 | BO8: 0.00026929633 | BP8: 2.3919024e-05 | BQ8: 3.8080721e-05 | BR8: 3.635105e-05 | BS8: 0 | BT8: 6.5928222e-05 | BU8: 0 | BV8: 5.2284558e-06 | BW8: 1.2581365e-06 | BX8: 9.5080961e-05 | BY8: 8.7845562e-05 | BZ8: 0 | CA8: 0 | CB8: 0.00076801899 | CC8: 1.2087975e-05 | CD8: 0 | CE8: 0 | CF8: 6.2095436e-05 | CG8: 0.00068365301 | CH8: 3.6456567e-06 | CI8: 6.1975317e-05 | CJ8: 3.1008638e-05 | CK8: 0 | CL8: 0 | CM8: 3.5926507e-06 | CN8: 1.437365e-06 | CO8: 0 | CP8: 0 | CQ8: 0 | CR8: 0 | CS8: 0 | CT8: 0 | CU8: 0 | CV8: 1.1262645e-05 | CW8: 2.5915832e-06 | CX8: 0 | CY8: 0 | CZ8: 0 | DA8: 0 | DB8: 0 | DC8: 0 | DD8: 0 | DE8: 0 | DF8: 0 | DG8: 0 | DH8: 0 | DI8: 0 | DJ8: 0 | DK8: 0 | DL8: 0 | DM8: 0 | DN8: 0 | DO8: 0 | DP8: 0 | DQ8: 0 | DR8: 0 | DS8: 0 | DT8: 0 | DU8: 0 | DV8: 0 | DW8: 0 | DX8: 0 | DY8: 0 | DZ8: 0 | EA8: 0 | EB8: 0 | EC8: 0 | ED8: 0 | EE8: 0 | EF8: 0 | EG8: 5.2423771e-06 | EH8: 0 | EI8: 0 | EJ8: 0 | EK8: 0 | EL8: 0 | EM8: 0 | EN8: 0 | EO8: 0 | EP8: 0 | EQ8: 0 | ER8: 0 | ES8: 0 | ET8: 0 | EU8: 0 | EV8: 0 | EW8: 0 | EX8: 0 | EY8: 2.5839816e-06 | EZ8: 0 | FA8: 0 | FB8: 0 | FC8: 0 | FD8: 0 | FE8: 0 | FF8: 0 | FG8: 0 | FH8: 0 | FI8: 0 | FJ8: 0 | FK8: 0 | FL8: 7.6684541e-07 | FM8: 0 | FN8: 0 | FO8: 0 | FP8: 0 | FQ8: 0 | FR8: 0 | FS8: 0 | FT8: 0 | FU8: 0 | FV8: 1.5361121e-06 | FW8: 0 | FX8: 0 | FY8: 0 | FZ8: 0 | GA8: 0 | GB8: 0 | GC8: 0 | GD8: 0 | GE8: 0 | GF8: 4.4258626e-06 | GG8: 0 | GH8: 0 | GI8: 0 | GJ8: 0 | GK8: 0 | GL8: 0 | GM8: 0 | GN8: 0 | GO8: 0 | GP8: 0 | GQ8: 0 | GR8: 0 | GS8: 0 | GT8: 0 | GU8: 0 | GV8: 0 | GW8: 3.349318e-07 | GX8: 0 | GY8: 3.8054192e-07 | GZ8: 0 | HA8: 0 | HB8: 0 | HC8: 0 | HD8: 0 | HE8: 0 | HF8: 0 | HG8: 0 | HH8: 0 | HI8: 0 | HJ8: 0 | HK8: 0 | HL8: 0 | HM8: 0 | HN8: 0 | HO8: 0 | HP8: 0 | HQ8: 0 | HR8: 0 | HS8: 4.0440186e-07 | HT8: 0 | HU8: 0 | HV8: 0 | HW8: 0 | HX8: 0 | HY8: 0 | HZ8: 0 | IA8: 0 | IB8: 0 | IC8: 0 | ID8: 0 | IE8: 0 | IF8: 0 | IG8: 0 | IH8: 0 | II8: 0 | IJ8: 0 | IK8: 0 | IL8: 0 | IM8: 0 | IN8: 0 | IO8: 0 | IP8: 0 | IQ8: 0 | IR8: 3.0760438e-06 | IS8: 0 | IT8: 0 | IU8: 0 | IV8: 0 | IW8: 0 | IX8: 0 | IY8: 0 | IZ8: 0 | JA8: 0 | JB8: 0 | JC8: 0 | JD8: 0 | JE8: 0 | JF8: 0 | JG8: 0 | JH8: 0 | JI8: 0 | JJ8: 0 | JK8: 0 | JL8: 0 | JM8: 0 | JN8: 0 | JO8: 0 | JP8: 0 | JQ8: 0 | JR8: 0 | JS8: 0 | JT8: 0 | JU8: 0 | JV8: 0 | JW8: 0 | JX8: 0 | JY8: 0 | JZ8: 0 | KA8: 0 | KB8: 0 | KC8: 0 | KD8: 0 | KE8: 0 | KF8: 0 | KG8: 0 | KH8: 0 | KI8: 0 | KJ8: 0 | KK8: 0 | KL8: 0 | KM8: 0 | KN8: 0 | KO8: 0 | KP8: 0 | KQ8: 0 | KR8: 0 | KS8: 0 | KT8: 0 | KU8: 0 | KV8: 0 | KW8: 0 | KX8: 0 | KY8: 0 | KZ8: 0 | LA8: 0 | LB8: 0 | LC8: 0 | LD8: 0 | LE8: 0
A9: =VLOOKUP(B9,List_VISl_projection!A:C,3, FALSE) -> Emx1-IRES-Cre | B9: 479673887 | C9: Emx1-IRES-Cre-191133 | D9: 0 | E9: 9.2091885e-06 | F9: 0.00036502902 | G9: 0 | H9: 0.00028330652 | I9: 4.694393e-08 | J9: 0 | K9: 0 | L9: 5.9683486e-05 | M9: 0 | N9: 4.3274553e-05 | O9: 0 | P9: 0 | Q9: 0.0001501069 | R9: 6.7579967e-05 | S9: 0.00018137902 | T9: 2.5822704e-05 | U9: 0.0059315334 | V9: 0.0029364094 | W9: 0.017276088 | X9: 0.040553604 | Y9: 0.0031178333 | Z9: 0.0066058264 | AA9: 0.0012140206 | AB9: 0.0065392948 | AC9: 0.00059678459 | AD9: 0.00016743782 | AE9: 0 | AF9: 0 | AG9: 0 | AH9: 0 | AI9: 0.00030452717 | AJ9: 0 | AK9: 0 | AL9: 0 | AM9: 0.0020175732 | AN9: 0.0029474478 | AO9: 0.0016925017 | AP9: 0.00046835891 | AQ9: 0.0032766764 | AR9: 0.00094203247 | AS9: 0.00011210736 | AT9: 8.0710523e-05 | AU9: 0 | AV9: 0 | AW9: 0 | AX9: 0 | AY9: 0 | AZ9: 0 | BA9: 0 | BB9: 0 | BC9: 0 | BD9: 0 | BE9: 0 | BF9: 0.00064506475 | BG9: 3.7240902e-05 | BH9: 0 | BI9: 0 | BJ9: 2.0808806e-06 | BK9: 1.0310758e-05 | BL9: 0.00056750173 | BM9: 0.00028887488 | BN9: 0.00016333036 | BO9: 0.00025581969 | BP9: 1.6658179e-05 | BQ9: 2.7397536e-05 | BR9: 0 | BS9: 0 | BT9: 7.1746066e-05 | BU9: 8.9326006e-06 | BV9: 0 | BW9: 0 | BX9: 0 | BY9: 0 | BZ9: 0 | CA9: 0 | CB9: 0.0061310125 | CC9: 0 | CD9: 0 | CE9: 0 | CF9: 1.7841956e-05 | CG9: 1.5352919e-05 | CH9: 0 | CI9: 8.6483227e-06 | CJ9: 1.5502167e-05 | CK9: 0 | CL9: 0 | CM9: 0 | CN9: 0 | CO9: 0 | CP9: 0 | CQ9: 0 | CR9: 0 | CS9: 0 | CT9: 0 | CU9: 0 | CV9: 0 | CW9: 0 | CX9: 0 | CY9: 0 | CZ9: 0 | DA9: 0 | DB9: 0 | DC9: 0 | DD9: 2.8776581e-06 | DE9: 0 | DF9: 1.5246483e-06 | DG9: 0 | DH9: 0 | DI9: 0 | DJ9: 0 | DK9: 0 | DL9: 0 | DM9: 0 | DN9: 0 | DO9: 0 | DP9: 0 | DQ9: 1.7638783e-07 | DR9: 0 | DS9: 3.3612224e-07 | DT9: 0 | DU9: 0 | DV9: 0 | DW9: 0 | DX9: 3.4082962e-07 | DY9: 2.558753e-06 | DZ9: 7.0117844e-06 | EA9: 1.1130418e-06 | EB9: 3.2818868e-05 | EC9: 3.9968879e-06 | ED9: 6.7617746e-06 | EE9: 6.1195447e-07 | EF9: 0 | EG9: 0 | EH9: 0 | EI9: 0 | EJ9: 0 | EK9: 0 | EL9: 0 | EM9: 0 | EN9: 0 | EO9: 0 | EP9: 0 | EQ9: 0 | ER9: 0 | ES9: 1.8794478e-09 | ET9: 0 | EU9: 0 | EV9: 1.6655131e-05 | EW9: 0 | EX9: 0 | EY9: 2.8351703e-07 | EZ9: 0 | FA9: 1.1258644e-08 | FB9: 0 | FC9: 0 | FD9: 0 | FE9: 0 | FF9: 3.0424129e-06 | FG9: 1.5792587e-07 | FH9: 0 | FI9: 9.3213124e-11 | FJ9: 0 | FK9: 0 | FL9: 0 | FM9: 0 | FN9: 0 | FO9: 0 | FP9: 0 | FQ9: 1.1790277e-06 | FR9: 0 | FS9: 0 | FT9: 0 | FU9: 3.5047818e-07 | FV9: 1.3426916e-07 | FW9: 0 | FX9: 0 | FY9: 0 | FZ9: 0 | GA9: 0 | GB9: 0 | GC9: 0 | GD9: 0 | GE9: 0 | GF9: 0 | GG9: 0 | GH9: 1.9093669e-05 | GI9: 0 | GJ9: 0 | GK9: 0 | GL9: 0 | GM9: 0 | GN9: 0 | GO9: 0 | GP9: 0 | GQ9: 3.6567113e-07 | GR9: 0 | GS9: 0 | GT9: 0 | GU9: 0 | GV9: 0 | GW9: 0 | GX9: 0 | GY9: 0 | GZ9: 0 | HA9: 0 | HB9: 0 | HC9: 0 | HD9: 1.5615293e-07 | HE9: 0 | HF9: 0 | HG9: 0 | HH9: 0 | HI9: 0 | HJ9: 0 | HK9: 0 | HL9: 0 | HM9: 0 | HN9: 3.3441977e-07 | HO9: 0 | HP9: 0 | HQ9: 0 | HR9: 0 | HS9: 2.4295413e-07 | HT9: 0 | HU9: 1.2464629e-09 | HV9: 0 | HW9: 0 | HX9: 0 | HY9: 3.7269352e-06 | HZ9: 0 | IA9: 0 | IB9: 0 | IC9: 1.9929507e-08 | ID9: 0 | IE9: 0 | IF9: 0 | IG9: 3.9556267e-08 | IH9: 1.6393064e-06 | II9: 0 | IJ9: 0 | IK9: 0 | IL9: 0 | IM9: 0 | IN9: 0 | IO9: 0 | IP9: 0 | IQ9: 0 | IR9: 2.7625924e-06 | IS9: 7.5786624e-11 | IT9: 0 | IU9: 0 | IV9: 2.0994197e-07 | IW9: 0 | IX9: 3.7416111e-05 | IY9: 1.6240356e-06 | IZ9: 0 | JA9: 0 | JB9: 1.0695074e-05 | JC9: 0 | JD9: 0 | JE9: 0 | JF9: 0 | JG9: 0 | JH9: 0 | JI9: 0 | JJ9: 0 | JK9: 1.5348195e-06 | JL9: 0 | JM9: 5.769986e-05 | JN9: 6.3782741e-07 | JO9: 1.0167905e-05 | JP9: 1.8174188e-05 | JQ9: 0 | JR9: 1.4975276e-07 | JS9: 6.5865333e-05 | JT9: 7.8744624e-06 | JU9: 4.5522752e-05 | JV9: 7.7820464e-06 | JW9: 1.776947e-05 | JX9: 0 | JY9: 4.0636472e-06 | JZ9: 3.5777506e-05 | KA9: 0 | KB9: 1.1756344e-07 | KC9: 2.5750638e-06 | KD9: 0 | KE9: 0 | KF9: 0 | KG9: 1.3947694e-06 | KH9: 5.4301251e-07 | KI9: 0 | KJ9: 0 | KK9: 9.0131217e-08 | KL9: 0 | KM9: 3.1308145e-06 | KN9: 0 | KO9: 0 | KP9: 0 | KQ9: 0 | KR9: 0 | KS9: 0 | KT9: 0 | KU9: 0 | KV9: 0 | KW9: 0 | KX9: 0 | KY9: 0 | KZ9: 0 | LA9: 0 | LB9: 0 | LC9: 0 | LD9: 0 | LE9: 1.207044e-06
A10: =VLOOKUP(B10,List_VISl_projection!A:C,3, FALSE) -> Emx1-IRES-Cre | B10: 479700629 | C10: Emx1-IRES-Cre-191134 | D10: 0 | E10: 0 | F10: 0 | G10: 0 | H10: 0 | I10: 0 | J10: 0 | K10: 0 | L10: 0 | M10: 0 | N10: 0 | O10: 0 | P10: 0 | Q10: 0 | R10: 0 | S10: 6.3259616e-05 | T10: 8.7967466e-07 | U10: 0.0031293837 | V10: 0.0031159317 | W10: 0.012117211 | X10: 0.019395334 | Y10: 0.0041553555 | Z10: 0.0061395265 | AA10: 0.00067433929 | AB10: 0.0071599924 | AC10: 0.00038012539 | AD10: 0.00010569094 | AE10: 0 | AF10: 0 | AG10: 0 | AH10: 0 | AI10: 0 | AJ10: 0 | AK10: 0 | AL10: 0 | AM10: 0.0019336577 | AN10: 0.00096657531 | AO10: 0.00026328108 | AP10: 0.00014895146 | AQ10: 0.001101926 | AR10: 0.00086077641 | AS10: 0.00017479188 | AT10: 0.00020132659 | AU10: 0 | AV10: 0 | AW10: 0 | AX10: 0 | AY10: 0 | AZ10: 0 | BA10: 0 | BB10: 0 | BC10: 0 | BD10: 0 | BE10: 0 | BF10: 1.2160461e-05 | BG10: 1.4198712e-05 | BH10: 0 | BI10: 0 | BJ10: 0 | BK10: 0 | BL10: 0.0015539879 | BM10: 0.0010174762 | BN10: 0.00022620534 | BO10: 5.2782349e-05 | BP10: 0 | BQ10: 0 | BR10: 0 | BS10: 0 | BT10: 0.00014084902 | BU10: 0 | BV10: 0 | BW10: 0 | BX10: 3.8929648e-06 | BY10: 0 | BZ10: 0 | CA10: 0 | CB10: 0.0033126165 | CC10: 0 | CD10: 0 | CE10: 0 | CF10: 0.00012866125 | CG10: 1.7289048e-05 | CH10: 0 | CI10: 7.2052031e-06 | CJ10: 3.0714743e-06 | CK10: 0 | CL10: 0 | CM10: 0 | CN10: 0 | CO10: 0 | CP10: 0 | CQ10: 0 | CR10: 0 | CS10: 0 | CT10: 0 | CU10: 0 | CV10: 0 | CW10: 0 | CX10: 0 | CY10: 0 | CZ10: 6.1634697e-07 | DA10: 0 | DB10: 0 | DC10: 0 | DD10: 0 | DE10: 0 | DF10: 0 | DG10: 0 | DH10: 2.5064057e-07 | DI10: 0 | DJ10: 0 | DK10: 0 | DL10: 0 | DM10: 0 | DN10: 0 | DO10: 0 | DP10: 0 | DQ10: 0 | DR10: 0 | DS10: 0 | DT10: 0 | DU10: 0 | DV10: 0 | DW10: 0 | DX10: 2.1381975e-06 | DY10: 0 | DZ10: 0 | EA10: 0 | EB10: 7.3554876e-07 | EC10: 6.9622605e-07 | ED10: 1.3209072e-06 | EE10: 0 | EF10: 0 | EG10: 0 | EH10: 0 | EI10: 0 | EJ10: 0 | EK10: 0 | EL10: 0 | EM10: 0 | EN10: 0 | EO10: 0 | EP10: 0 | EQ10: 0 | ER10: 0 | ES10: 0 | ET10: 0 | EU10: 0 | EV10: 0 | EW10: 0 | EX10: 0 | EY10: 0 | EZ10: 0 | FA10: 0 | FB10: 0 | FC10: 0 | FD10: 0 | FE10: 0 | FF10: 0 | FG10: 0 | FH10: 0 | FI10: 0 | FJ10: 0 | FK10: 0 | FL10: 0 | FM10: 0 | FN10: 0 | FO10: 0 | FP10: 0 | FQ10: 0 | FR10: 0 | FS10: 0 | FT10: 0 | FU10: 0 | FV10: 1.0499885e-07 | FW10: 0 | FX10: 0 | FY10: 0 | FZ10: 0 | GA10: 0 | GB10: 0 | GC10: 0 | GD10: 0 | GE10: 0 | GF10: 0 | GG10: 0 | GH10: 0 | GI10: 0 | GJ10: 0 | GK10: 0 | GL10: 0 | GM10: 0 | GN10: 0 | GO10: 0 | GP10: 0 | GQ10: 0 | GR10: 0 | GS10: 0 | GT10: 0 | GU10: 0 | GV10: 0 | GW10: 0 | GX10: 0 | GY10: 0 | GZ10: 0 | HA10: 0 | HB10: 0 | HC10: 0 | HD10: 0 | HE10: 0 | HF10: 0 | HG10: 0 | HH10: 0 | HI10: 0 | HJ10: 0 | HK10: 0 | HL10: 0 | HM10: 0 | HN10: 0 | HO10: 0 | HP10: 0 | HQ10: 0 | HR10: 0 | HS10: 0 | HT10: 0 | HU10: 0 | HV10: 0 | HW10: 0 | HX10: 0 | HY10: 0 | HZ10: 0 | IA10: 0 | IB10: 0 | IC10: 0 | ID10: 0 | IE10: 0 | IF10: 0 | IG10: 0 | IH10: 0 | II10: 0 | IJ10: 0 | IK10: 0 | IL10: 0 | IM10: 0 | IN10: 0 | IO10: 0 | IP10: 0 | IQ10: 0 | IR10: 0 | IS10: 0 | IT10: 0 | IU10: 0 | IV10: 0 | IW10: 0 | IX10: 0 | IY10: 0 | IZ10: 0 | JA10: 0 | JB10: 0 | JC10: 0 | JD10: 0 | JE10: 0 | JF10: 0 | JG10: 0 | JH10: 0 | JI10: 0 | JJ10: 0 | JK10: 0 | JL10: 0 | JM10: 0 | JN10: 0 | JO10: 0 | JP10: 0 | JQ10: 0 | JR10: 0 | JS10: 0 | JT10: 0 | JU10: 0 | JV10: 0 | JW10: 0 | JX10: 0 | JY10: 0 | JZ10: 0 | KA10: 0 | KB10: 0 | KC10: 0 | KD10: 0 | KE10: 0 | KF10: 0 | KG10: 0 | KH10: 0 | KI10: 0 | KJ10: 0 | KK10: 0 | KL10: 0 | KM10: 0 | KN10: 0 | KO10: 0 | KP10: 0 | KQ10: 0 | KR10: 0 | KS10: 0 | KT10: 0 | KU10: 0 | KV10: 0 | KW10: 0 | KX10: 0 | KY10: 0 | KZ10: 0 | LA10: 0 | LB10: 0 | LC10: 0 | LD10: 0 | LE10: 0
A11: =VLOOKUP(B11,List_VISl_projection!A:C,3, FALSE) -> Emx1-IRES-Cre | B11: 479673174 | C11: Emx1-IRES-Cre-191135 | D11: 0 | E11: 9.6498109e-05 | F11: 0.00040562183 | G11: 0 | H11: 0.00039066658 | I11: 2.9142264e-05 | J11: 0 | K11: 1.7436104e-05 | L11: 0.00011876457 | M11: 8.7921531e-06 | N11: 0.00022205566 | O11: 0 | P11: 6.7882466e-06 | Q11: 0.00027222812 | R11: 0.00025570442 | S11: 0.0010400233 | T11: 0.00012586864 | U11: 0.0029234617 | V11: 0.002163624 | W11: 0.013133831 | X11: 0.020000467 | Y11: 0.0047168858 | Z11: 0.0034821277 | AA11: 0.0025133158 | AB11: 0.0087066868 | AC11: 0.00020457901 | AD11: 0.00012334891 | AE11: 0 | AF11: 1.9508413e-05 | AG11: 0.00015150935 | AH11: 0 | AI11: 0.00035512225 | AJ11: 0 | AK11: 2.4984908e-05 | AL11: 0 | AM11: 0.001889178 | AN11: 0.0014616674 | AO11: 0.00038822268 | AP11: 0.00063354792 | AQ11: 0.002051679 | AR11: 0.0045268957 | AS11: 0.00020745811 | AT11: 0.0002514638 | AU11: 0 | AV11: 0 | AW11: 0 | AX11: 0 | AY11: 0 | AZ11: 0 | BA11: 0 | BB11: 1.6748821e-05 | BC11: 0 | BD11: 0 | BE11: 0 | BF11: 0.00062525466 | BG11: 9.1070349e-05 | BH11: 0.00012261091 | BI11: 0 | BJ11: 0 | BK11: 0 | BL11: 0.0014926215 | BM11: 0.0010926158 | BN11: 0.00012073372 | BO11: 0.00023535233 | BP11: 7.4817314e-06 | BQ11: 1.4257276e-05 | BR11: 0 | BS11: 0 | BT11: 0.00013002176 | BU11: 4.3474905e-05 | BV11: 1.9946099e-05 | BW11: 1.8116379e-05 | BX11: 0.00012951522 | BY11: 4.3994178e-05 | BZ11: 1.3499603e-05 | CA11: 0 | CB11: 0.010003856 | CC11: 7.434261e-05 | CD11: 2.8472559e-06 | CE11: 0 | CF11: 3.3982762e-05 | CG11: 0.00016589478 | CH11: 1.7018457e-07 | CI11: 2.8900842e-05 | CJ11: 1.8382212e-06 | CK11: 6.9954675e-06 | CL11: 0 | CM11: 1.3398147e-05 | CN11: 1.0227864e-07 | CO11: 0 | CP11: 4.1097739e-06 | CQ11: 1.3861049e-05 | CR11: 0 | CS11: 4.9121742e-06 | CT11: 1.3779212e-06 | CU11: 1.0467532e-05 | CV11: 7.8051303e-06 | CW11: 1.9544167e-06 | CX11: 0 | CY11: 2.7758149e-07 | CZ11: 5.6117595e-06 | DA11: 0 | DB11: 0 | DC11: 0 | DD11: 7.8929398e-08 | DE11: 0 | DF11: 3.1419839e-06 | DG11: 4.5811498e-08 | DH11: 9.8000929e-06 | DI11: 2.1792005e-07 | DJ11: 0 | DK11: 0 | DL11: 7.8196466e-07 | DM11: 0 | DN11: 0 | DO11: 0 | DP11: 0 | DQ11: 1.1025663e-05 | DR11: 0 | DS11: 0 | DT11: 1.9362558e-06 | DU11: 0 | DV11: 1.8766213e-07 | DW11: 8.9821619e-06 | DX11: 3.1399124e-05 | DY11: 1.1797165e-05 | DZ11: 1.0516334e-05 | EA11: 0 | EB11: 4.4650864e-05 | EC11: 6.2438748e-06 | ED11: 6.3503726e-06 | EE11: 0 | EF11: 4.5570507e-07 | EG11: 9.71786e-06 | EH11: 2.3032138e-09 | EI11: 8.9514445e-08 | EJ11: 1.4245282e-06 | EK11: 1.3597594e-06 | EL11: 8.1609157e-09 | EM11: 2.0795098e-06 | EN11: 0 | EO11: 7.1206459e-06 | EP11: 0 | EQ11: 0 | ER11: 0 | ES11: 1.3649159e-06 | ET11: 0 | EU11: 1.1166072e-07 | EV11: 0 | EW11: 0 | EX11: 0 | EY11: 1.1353875e-06 | EZ11: 0 | FA11: 2.2864763e-06 | FB11: 4.5339034e-08 | FC11: 0 | FD11: 0 | FE11: 0 | FF11: 0 | FG11: 2.5984901e-07 | FH11: 0 | FI11: 1.7742226e-08 | FJ11: 1.5226624e-05 | FK11: 1.0530423e-09 | FL11: 0 | FM11: 1.1643922e-06 | FN11: 0 | FO11: 0 | FP11: 0 | FQ11: 8.6004696e-08 | FR11: 0 | FS11: 0 | FT11: 0 | FU11: 2.1762636e-08 | FV11: 1.8697158e-06 | FW11: 0 | FX11: 9.3004306e-06 | FY11: 9.5181545e-06 | FZ11: 3.2417813e-06 | GA11: 0 | GB11: 0 | GC11: 0 | GD11: 2.7288073e-06 | GE11: 0 | GF11: 6.0627332e-07 | GG11: 7.3291804e-07 | GH11: 3.8837391e-07 | GI11: 0.0001139403 | GJ11: 0 | GK11: 0 | GL11: 0 | GM11: 0 | GN11: 0 | GO11: 0 | GP11: 0 | GQ11: 0 | GR11: 0 | GS11: 0 | GT11: 0 | GU11: 0.00050710552 | GV11: 1.9678162e-05 | GW11: 5.3351459e-08 | GX11: 0 | GY11: 0 | GZ11: 3.9746417e-06 | HA11: 0 | HB11: 1.6445607e-07 | HC11: 0 | HD11: 0 | HE11: 0 | HF11: 0 | HG11: 0 | HH11: 0 | HI11: 0 | HJ11: 1.2490616e-10 | HK11: 2.0953511e-07 | HL11: 0 | HM11: 0 | HN11: 0 | HO11: 0 | HP11: 0 | HQ11: 1.4391101e-06 | HR11: 0 | HS11: 9.1829574e-08 | HT11: 1.5067654e-07 | HU11: 3.3833405e-07 | HV11: 0 | HW11: 0 | HX11: 0 | HY11: 0 | HZ11: 0 | IA11: 0 | IB11: 0 | IC11: 4.7277279e-08 | ID11: 0 | IE11: 0 | IF11: 0 | IG11: 0 | IH11: 0 | II11: 0 | IJ11: 0 | IK11: 0 | IL11: 0 | IM11: 0 | IN11: 0 | IO11: 0 | IP11: 1.4965359e-07 | IQ11: 0 | IR11: 2.6905459e-06 | IS11: 0 | IT11: 0 | IU11: 0 | IV11: 3.3062089e-08 | IW11: 0 | IX11: 0 | IY11: 0 | IZ11: 0 | JA11: 0 | JB11: 0 | JC11: 0 | JD11: 0 | JE11: 0 | JF11: 0 | JG11: 0 | JH11: 0 | JI11: 0 | JJ11: 0 | JK11: 0 | JL11: 0 | JM11: 0 | JN11: 0 | JO11: 0 | JP11: 0 | JQ11: 0 | JR11: 2.1043799e-07 | JS11: 0 | JT11: 2.8853359e-07 | JU11: 0 | JV11: 0 | JW11: 0 | JX11: 0 | JY11: 0 | JZ11: 0 | KA11: 0 | KB11: 0 | KC11: 0 | KD11: 0 | KE11: 0 | KF11: 0 | KG11: 6.603821e-07 | KH11: 0 | KI11: 0 | KJ11: 0 | KK11: 0 | KL11: 0 | KM11: 0 | KN11: 0 | KO11: 0 | KP11: 0 | KQ11: 0 | KR11: 0 | KS11: 0 | KT11: 0 | KU11: 0 | KV11: 0 | KW11: 0 | KX11: 0 | KY11: 0 | KZ11: 0 | LA11: 0 | LB11: 0 | LC11: 0 | LD11: 0 | LE11: 0
A12: =VLOOKUP(B12,List_VISl_projection!A:C,3, FALSE) -> Emx1-IRES-Cre | B12: 479980810 | C12: Emx1-IRES-Cre-194296 | D12: 0 | E12: 0.00023415463 | F12: 0.00051382395 | G12: 0 | H12: 0.0005930349 | I12: 7.1652168e-05 | J12: 0 | K12: 8.0992543e-05 | L12: 5.9983862e-05 | M12: 1.0609276e-05 | N12: 0.00041077545 | O12: 3.2377948e-05 | P12: 9.9062789e-05 | Q12: 0.00048484322 | R12: 0.00085960848 | S12: 0.0010836887 | T12: 0.00039122242 | U12: 0.0063457321 | V12: 0.0016841818 | W12: 0.019844653 | X12: 0.046431159 | Y12: 0.0057870994 | Z12: 0.00551238 | AA12: 0.0022641963 | AB12: 0.0090745403 | AC12: 0.00044896918 | AD12: 0.00025023484 | AE12: 0 | AF12: 0 | AG12: 8.4724475e-05 | AH12: 0 | AI12: 0.00071016508 | AJ12: 4.4268547e-05 | AK12: 7.3424419e-06 | AL12: 0 | AM12: 0.0026984258 | AN12: 0.0031313663 | AO12: 0.0010494422 | AP12: 0.00053471057 | AQ12: 0.0022570772 | AR12: 0.0032743488 | AS12: 0.00011836044 | AT12: 0.00021484281 | AU12: 0.0017594281 | AV12: 0 | AW12: 5.085595e-05 | AX12: 0 | AY12: 0 | AZ12: 5.2762185e-05 | BA12: 2.9995345e-06 | BB12: 7.1271889e-06 | BC12: 1.2291044e-05 | BD12: 0 | BE12: 3.2024796e-07 | BF12: 0.00018203793 | BG12: 2.4557372e-05 | BH12: 0 | BI12: 0 | BJ12: 0 | BK12: 0 | BL12: 0.002012139 | BM12: 0.0026026017 | BN12: 0.00019841829 | BO12: 0.00056511727 | BP12: 7.0193687e-06 | BQ12: 4.9994838e-05 | BR12: 1.3665193e-05 | BS12: 0 | BT12: 0.00016259755 | BU12: 0.00011483733 | BV12: 8.646451e-06 | BW12: 1.2182592e-05 | BX12: 1.3188838e-05 | BY12: 2.7889151e-05 | BZ12: 7.1006926e-06 | CA12: 2.0958079e-05 | CB12: 0.0063606366 | CC12: 8.008517e-05 | CD12: 5.5857579e-06 | CE12: 3.1646277e-05 | CF12: 2.8116515e-06 | CG12: 9.7792395e-06 | CH12: 4.6494146e-07 | CI12: 1.0985857e-06 | CJ12: 2.0312196e-07 | CK12: 5.8120327e-05 | CL12: 0 | CM12: 3.0674172e-05 | CN12: 4.613447e-06 | CO12: 0 | CP12: 6.6900068e-06 | CQ12: 0 | CR12: 0.00012881568 | CS12: 7.7371734e-05 | CT12: 0 | CU12: 3.1656466e-05 | CV12: 0 | CW12: 4.6195279e-06 | CX12: 6.172154e-07 | CY12: 2.1977299e-05 | CZ12: 4.9480023e-06 | DA12: 4.405194e-05 | DB12: 1.0545336e-06 | DC12: 3.0675526e-05 | DD12: 1.3020396e-06 | DE12: 0 | DF12: 2.6202356e-06 | DG12: 3.9477861e-07 | DH12: 1.460538e-06 | DI12: 3.2875792e-08 | DJ12: 0 | DK12: 0 | DL12: 1.1792232e-05 | DM12: 0 | DN12: 7.6895348e-07 | DO12: 0 | DP12: 0 | DQ12: 2.3145273e-05 | DR12: 0 | DS12: 5.8904281e-06 | DT12: 0 | DU12: 1.3763324e-05 | DV12: 1.9117296e-09 | DW12: 0 | DX12: 3.3548227e-05 | DY12: 1.863844e-05 | DZ12: 4.3520913e-05 | EA12: 7.8049419e-07 | EB12: 5.952014e-05 | EC12: 1.1302009e-05 | ED12: 2.6505708e-05 | EE12: 1.0315878e-05 | EF12: 1.5154768e-05 | EG12: 3.2129513e-06 | EH12: 1.6538549e-06 | EI12: 9.3915349e-07 | EJ12: 6.1281919e-05 | EK12: 2.3173653e-06 | EL12: 3.4913075e-08 | EM12: 1.2479727e-05 | EN12: 1.2365757e-05 | EO12: 0 | EP12: 2.7380558e-06 | EQ12: 2.7199917e-07 | ER12: 0 | ES12: 4.5193615e-07 | ET12: 0 | EU12: 0 | EV12: 0 | EW12: 3.3006427e-09 | EX12: 7.4563071e-07 | EY12: 1.3121334e-07 | EZ12: 1.2789356e-06 | FA12: 1.7108374e-07 | FB12: 1.8122766e-05 | FC12: 0 | FD12: 4.0849625e-08 | FE12: 1.3664154e-05 | FF12: 5.4906523e-07 | FG12: 0 | FH12: 1.2981493e-11 | FI12: 1.3778764e-07 | FJ12: 0 | FK12: 1.9075348e-07 | FL12: 4.3004486e-08 | FM12: 5.4411441e-05 | FN12: 8.8903524e-06 | FO12: 2.8642959e-05 | FP12: 0 | FQ12: 8.4876142e-08 | FR12: 0 | FS12: 3.8774978e-06 | FT12: 4.1358059e-05 | FU12: 4.1486416e-07 | FV12: 8.3775665e-07 | FW12: 1.0713923e-05 | FX12: 2.3934239e-05 | FY12: 6.0117337e-05 | FZ12: 1.319372e-05 | GA12: 2.3945499e-07 | GB12: 1.678228e-05 | GC12: 1.238494e-05 | GD12: 6.9437453e-06 | GE12: 2.4746681e-05 | GF12: 0 | GG12: 0.00023415698 | GH12: 2.7729721e-06 | GI12: 0 | GJ12: 0 | GK12: 6.9698093e-08 | GL12: 1.493231e-06 | GM12: 5.3381683e-08 | GN12: 0 | GO12: 0 | GP12: 5.1407408e-05 | GQ12: 3.004329e-05 | GR12: 2.3699672e-07 | GS12: 8.8841506e-06 | GT12: 0.00011341499 | GU12: 0.00036413385 | GV12: 1.7743231e-05 | GW12: 5.2800866e-05 | GX12: 4.3380363e-06 | GY12: 2.310667e-05 | GZ12: 8.6408748e-06 | HA12: 0 | HB12: 1.8970106e-05 | HC12: 0 | HD12: 9.3874627e-05 | HE12: 0 | HF12: 8.8904514e-08 | HG12: 1.4799376e-07 | HH12: 0 | HI12: 0 | HJ12: 0 | HK12: 0 | HL12: 0 | HM12: 0 | HN12: 8.9244915e-07 | HO12: 1.5923095e-05 | HP12: 7.294549e-07 | HQ12: 5.6301179e-07 | HR12: 0 | HS12: 9.8549443e-07 | HT12: 0 | HU12: 2.6022398e-08 | HV12: 1.0169856e-05 | HW12: 0 | HX12: 0 | HY12: 0 | HZ12: 0 | IA12: 0 | IB12: 0 | IC12: 4.687728e-10 | ID12: 0.00018813536 | IE12: 0 | IF12: 0 | IG12: 1.9743665e-07 | IH12: 7.7429358e-05 | II12: 0 | IJ12: 3.1940227e-07 | IK12: 2.9414393e-08 | IL12: 0 | IM12: 0 | IN12: 6.3439923e-06 | IO12: 0 | IP12: 0 | IQ12: 0 | IR12: 0.00013568786 | IS12: 0 | IT12: 0 | IU12: 0 | IV12: 0 | IW12: 0 | IX12: 0 | IY12: 0 | IZ12: 0 | JA12: 0 | JB12: 0 | JC12: 0 | JD12: 0 | JE12: 0 | JF12: 0 | JG12: 0 | JH12: 0 | JI12: 0 | JJ12: 0 | JK12: 0 | JL12: 0 | JM12: 0 | JN12: 0 | JO12: 0 | JP12: 0 | JQ12: 0 | JR12: 0 | JS12: 0 | JT12: 0 | JU12: 0 | JV12: 0 | JW12: 0 | JX12: 0 | JY12: 0 | JZ12: 0 | KA12: 0 | KB12: 0 | KC12: 0 | KD12: 0 | KE12: 0 | KF12: 0 | KG12: 0 | KH12: 0 | KI12: 0 | KJ12: 0 | KK12: 0 | KL12: 0 | KM12: 0 | KN12: 0 | KO12: 0 | KP12: 0 | KQ12: 0 | KR12: 0 | KS12: 0 | KT12: 0 | KU12: 0 | KV12: 0 | KW12: 0 | KX12: 0 | KY12: 0 | KZ12: 0 | LA12: 0 | LB12: 0 | LC12: 0 | LD12: 0 | LE12: 0
A13: =VLOOKUP(B13,List_VISl_projection!A:C,3, FALSE) -> Emx1-IRES-Cre | B13: 500836105 | C13: Emx1-IRES-Cre-212771 | D13: 0 | E13: 0 | F13: 0.0001177131 | G13: 0 | H13: 0.0018208237 | I13: 0 | J13: 0 | K13: 0 | L13: 5.1673157e-05 | M13: 0 | N13: 0.00044075074 | O13: 0 | P13: 0 | Q13: 0.00087703665 | R13: 0.0010963578 | S13: 0.001607407 | T13: 0.00033373688 | U13: 0.0094924176 | V13: 0.0033017153 | W13: 0.011689368 | X13: 0.022857566 | Y13: 0.00078058428 | Z13: 0.0034033256 | AA13: 0.0015048628 | AB13: 0.0035895857 | AC13: 0.00069485372 | AD13: 8.881627e-05 | AE13: 0 | AF13: 0 | AG13: 0 | AH13: 0 | AI13: 0.00026800707 | AJ13: 0 | AK13: 0 | AL13: 0 | AM13: 0.0010048974 | AN13: 0.0022681894 | AO13: 0.00069670906 | AP13: 0.0012156732 | AQ13: 0.009011955 | AR13: 0.0029053082 | AS13: 0.00016419801 | AT13: 0.00010876473 | AU13: 0 | AV13: 0 | AW13: 0 | AX13: 0 | AY13: 0 | AZ13: 0 | BA13: 0 | BB13: 1.1961e-06 | BC13: 0 | BD13: 0 | BE13: 0 | BF13: 5.8852836e-05 | BG13: 1.4473588e-06 | BH13: 0 | BI13: 0 | BJ13: 0 | BK13: 0 | BL13: 0.00094902993 | BM13: 0.00024222576 | BN13: 0 | BO13: 3.8313185e-05 | BP13: 0 | BQ13: 0 | BR13: 0 | BS13: 0 | BT13: 4.6178845e-06 | BU13: 4.2451751e-05 | BV13: 0 | BW13: 0 | BX13: 0 | BY13: 0 | BZ13: 0 | CA13: 0 | CB13: 0.01228168 | CC13: 0 | CD13: 0 | CE13: 0 | CF13: 0 | CG13: 0 | CH13: 0 | CI13: 0 | CJ13: 8.9497814e-07 | CK13: 0 | CL13: 0 | CM13: 0 | CN13: 0 | CO13: 0 | CP13: 0 | CQ13: 0 | CR13: 0 | CS13: 0 | CT13: 0 | CU13: 0 | CV13: 0 | CW13: 0 | CX13: 0 | CY13: 2.7010172e-05 | CZ13: 3.1234538e-05 | DA13: 0 | DB13: 0 | DC13: 0 | DD13: 1.1947391e-06 | DE13: 0 | DF13: 4.0804489e-07 | DG13: 0 | DH13: 2.8997868e-06 | DI13: 0 | DJ13: 0 | DK13: 0 | DL13: 0 | DM13: 1.1060112e-07 | DN13: 0 | DO13: 0 | DP13: 0 | DQ13: 0.00011235708 | DR13: 0 | DS13: 5.2838805e-06 | DT13: 7.7693192e-06 | DU13: 0 | DV13: 1.4778328e-08 | DW13: 0 | DX13: 0.00010773069 | DY13: 1.1242391e-05 | DZ13: 4.1220693e-06 | EA13: 1.9245769e-06 | EB13: 9.5798728e-05 | EC13: 1.7370684e-05 | ED13: 4.6075374e-05 | EE13: 8.0863424e-06 | EF13: 2.4621536e-06 | EG13: 2.3965381e-07 | EH13: 1.4726926e-07 | EI13: 0 | EJ13: 0 | EK13: 3.0178878e-07 | EL13: 0 | EM13: 0 | EN13: 0 | EO13: 0 | EP13: 0 | EQ13: 0 | ER13: 0 | ES13: 0 | ET13: 0 | EU13: 0 | EV13: 0 | EW13: 0 | EX13: 0 | EY13: 0 | EZ13: 0 | FA13: 0 | FB13: 0 | FC13: 0 | FD13: 0 | FE13: 0 | FF13: 0 | FG13: 0 | FH13: 0 | FI13: 0 | FJ13: 0 | FK13: 0 | FL13: 0 | FM13: 0 | FN13: 0 | FO13: 0 | FP13: 0 | FQ13: 0 | FR13: 0 | FS13: 0 | FT13: 0 | FU13: 1.2614613e-08 | FV13: 2.4070908e-07 | FW13: 0 | FX13: 0 | FY13: 0 | FZ13: 0 | GA13: 0 | GB13: 0 | GC13: 0 | GD13: 0 | GE13: 0 | GF13: 0 | GG13: 0 | GH13: 0 | GI13: 0 | GJ13: 0 | GK13: 0 | GL13: 0 | GM13: 0 | GN13: 0 | GO13: 0 | GP13: 0 | GQ13: 0 | GR13: 0 | GS13: 0 | GT13: 0 | GU13: 0 | GV13: 5.8145533e-06 | GW13: 0 | GX13: 0 | GY13: 0 | GZ13: 1.5704872e-07 | HA13: 0 | HB13: 8.5238778e-09 | HC13: 0 | HD13: 0 | HE13: 0 | HF13: 0 | HG13: 4.5176191e-07 | HH13: 0 | HI13: 0 | HJ13: 0 | HK13: 0 | HL13: 0 | HM13: 0 | HN13: 0 | HO13: 0 | HP13: 0 | HQ13: 0 | HR13: 0 | HS13: 0 | HT13: 0 | HU13: 5.4437365e-09 | HV13: 0 | HW13: 0 | HX13: 0 | HY13: 0 | HZ13: 0 | IA13: 0 | IB13: 0 | IC13: 4.8417513e-08 | ID13: 0 | IE13: 0 | IF13: 0 | IG13: 0 | IH13: 0 | II13: 0 | IJ13: 0 | IK13: 0 | IL13: 0 | IM13: 0 | IN13: 0 | IO13: 0 | IP13: 0 | IQ13: 0 | IR13: 0 | IS13: 0 | IT13: 0 | IU13: 0 | IV13: 0 | IW13: 0 | IX13: 0 | IY13: 0 | IZ13: 0 | JA13: 0 | JB13: 0 | JC13: 1.0373434e-07 | JD13: 0 | JE13: 0 | JF13: 0 | JG13: 0 | JH13: 0 | JI13: 0 | JJ13: 0 | JK13: 0 | JL13: 0 | JM13: 0 | JN13: 0 | JO13: 0 | JP13: 0 | JQ13: 0 | JR13: 0 | JS13: 0 | JT13: 0 | JU13: 0 | JV13: 0 | JW13: 0 | JX13: 0 | JY13: 0 | JZ13: 0 | KA13: 0 | KB13: 0 | KC13: 0 | KD13: 0 | KE13: 0 | KF13: 0 | KG13: 0 | KH13: 0 | KI13: 0 | KJ13: 0 | KK13: 0 | KL13: 0 | KM13: 0 | KN13: 0 | KO13: 0 | KP13: 0 | KQ13: 0 | KR13: 0 | KS13: 0 | KT13: 0 | KU13: 0 | KV13: 0 | KW13: 0 | KX13: 0 | KY13: 0 | KZ13: 0 | LA13: 0 | LB13: 0 | LC13: 0 | LD13: 0 | LE13: 0
A14: =VLOOKUP(B14,List_VISl_projection!A:C,3, FALSE) -> Emx1-IRES-Cre | B14: 562520963 | C14: Emx1-IRES-Cre-283751 | D14: 0 | E14: 0 | F14: 0.0007344322 | G14: 0 | H14: 0.0015174086 | I14: 0 | J14: 0 | K14: 0 | L14: 6.6270141e-06 | M14: 0 | N14: 0 | O14: 1.9448007e-05 | P14: 0 | Q14: 8.2815625e-05 | R14: 3.840158e-05 | S14: 0.00028257252 | T14: 0 | U14: 0.0071810617 | V14: 0.0035370301 | W14: 0.023414575 | X14: 0.051228751 | Y14: 0.0018354365 | Z14: 0.0057006887 | AA14: 0.00069286483 | AB14: 0.0057097036 | AC14: 0.0012682805 | AD14: 0.00025554484 | AE14: 0 | AF14: 0 | AG14: 0 | AH14: 0 | AI14: 0 | AJ14: 6.3398662e-05 | AK14: 0 | AL14: 0 | AM14: 0.0019344797 | AN14: 0.0023224774 | AO14: 0.00021339515 | AP14: 0.00045299348 | AQ14: 0.010634283 | AR14: 0.00082721645 | AS14: 8.5660433e-06 | AT14: 6.681136e-05 | AU14: 0 | AV14: 0 | AW14: 0 | AX14: 0 | AY14: 0 | AZ14: 0 | BA14: 0 | BB14: 4.3338583e-05 | BC14: 0 | BD14: 0 | BE14: 0 | BF14: 0.00024117106 | BG14: 2.0277069e-05 | BH14: 0 | BI14: 0 | BJ14: 0 | BK14: 0 | BL14: 0.00035745142 | BM14: 0.00036715212 | BN14: 0.0001738941 | BO14: 0 | BP14: 0 | BQ14: 0 | BR14: 0 | BS14: 0 | BT14: 6.9024297e-05 | BU14: 0 | BV14: 8.3779192e-06 | BW14: 1.7534979e-05 | BX14: 0 | BY14: 0 | BZ14: 0 | CA14: 0 | CB14: 0.010987816 | CC14: 0 | CD14: 0 | CE14: 0 | CF14: 1.1256804e-05 | CG14: 0 | CH14: 0 | CI14: 0 | CJ14: 1.4030987e-06 | CK14: 0 | CL14: 0 | CM14: 3.5790393e-06 | CN14: 8.9005416e-06 | CO14: 0 | CP14: 0 | CQ14: 0 | CR14: 0 | CS14: 0 | CT14: 0 | CU14: 0 | CV14: 0 | CW14: 0 | CX14: 0 | CY14: 0 | CZ14: 0 | DA14: 0 | DB14: 0 | DC14: 0 | DD14: 0 | DE14: 0 | DF14: 0 | DG14: 0 | DH14: 0 | DI14: 0 | DJ14: 0 | DK14: 0 | DL14: 0 | DM14: 0 | DN14: 0 | DO14: 0 | DP14: 0 | DQ14: 0 | DR14: 0 | DS14: 0 | DT14: 0 | DU14: 0 | DV14: 0 | DW14: 0 | DX14: 0 | DY14: 0 | DZ14: 0 | EA14: 0 | EB14: 0 | EC14: 0 | ED14: 0 | EE14: 0 | EF14: 0 | EG14: 3.474552e-07 | EH14: 0 | EI14: 0 | EJ14: 0 | EK14: 0 | EL14: 0 | EM14: 0 | EN14: 0 | EO14: 0 | EP14: 0 | EQ14: 0 | ER14: 0 | ES14: 9.3614043e-08 | ET14: 0 | EU14: 0 | EV14: 0 | EW14: 0 | EX14: 0 | EY14: 0 | EZ14: 0 | FA14: 0 | FB14: 0 | FC14: 1.2053893e-07 | FD14: 0 | FE14: 0 | FF14: 0 | FG14: 0 | FH14: 0 | FI14: 0 | FJ14: 0 | FK14: 0 | FL14: 1.114646e-06 | FM14: 0 | FN14: 0 | FO14: 0 | FP14: 0 | FQ14: 0 | FR14: 0 | FS14: 0 | FT14: 0 | FU14: 1.6126485e-08 | FV14: 0 | FW14: 0 | FX14: 6.3645776e-07 | FY14: 0 | FZ14: 0 | GA14: 0 | GB14: 0 | GC14: 0 | GD14: 0 | GE14: 0 | GF14: 0 | GG14: 0 | GH14: 0 | GI14: 0 | GJ14: 0 | GK14: 0 | GL14: 0 | GM14: 0 | GN14: 0 | GO14: 0 | GP14: 0 | GQ14: 0 | GR14: 0 | GS14: 0 | GT14: 0 | GU14: 0 | GV14: 0 | GW14: 0 | GX14: 0 | GY14: 0 | GZ14: 0 | HA14: 0 | HB14: 0 | HC14: 0 | HD14: 0 | HE14: 0 | HF14: 4.1414156e-08 | HG14: 2.2833511e-07 | HH14: 0 | HI14: 0 | HJ14: 0 | HK14: 0 | HL14: 0 | HM14: 0 | HN14: 0 | HO14: 0 | HP14: 0 | HQ14: 0 | HR14: 0 | HS14: 1.6861412e-08 | HT14: 0 | HU14: 0 | HV14: 0 | HW14: 0 | HX14: 0 | HY14: 0 | HZ14: 0 | IA14: 0 | IB14: 0 | IC14: 0 | ID14: 0 | IE14: 0 | IF14: 0 | IG14: 0 | IH14: 0 | II14: 0 | IJ14: 0 | IK14: 0 | IL14: 0 | IM14: 0 | IN14: 0 | IO14: 0 | IP14: 0 | IQ14: 0 | IR14: 0 | IS14: 0 | IT14: 0 | IU14: 0 | IV14: 8.6775347e-09 | IW14: 0 | IX14: 0 | IY14: 0 | IZ14: 0 | JA14: 0 | JB14: 0 | JC14: 0 | JD14: 0 | JE14: 0 | JF14: 0 | JG14: 0 | JH14: 0 | JI14: 0 | JJ14: 0 | JK14: 0 | JL14: 0 | JM14: 0 | JN14: 0 | JO14: 0 | JP14: 0 | JQ14: 0 | JR14: 0 | JS14: 0 | JT14: 0 | JU14: 0 | JV14: 0 | JW14: 0 | JX14: 0 | JY14: 0 | JZ14: 0 | KA14: 0 | KB14: 0 | KC14: 0 | KD14: 0 | KE14: 0 | KF14: 0 | KG14: 0 | KH14: 0 | KI14: 0 | KJ14: 0 | KK14: 0 | KL14: 0 | KM14: 0 | KN14: 0 | KO14: 0 | KP14: 0 | KQ14: 0 | KR14: 0 | KS14: 0 | KT14: 0 | KU14: 0 | KV14: 0 | KW14: 0 | KX14: 0 | KY14: 0 | KZ14: 0 | LA14: 0 | LB14: 0 | LC14: 0 | LD14: 0 | LE14: 0
... A45: =VLOOKUP(B45,List_VISl_projection!A:C,3, FALSE) -> Tlx3-Cre_PL56 | B45: 297593942 | C45: Tlx3-Cre-125627 | D45: 0 | E45: 0 | F45: 0.00096335616 | G45: 0 | H45: 0 | I45: 0 | J45: 0 | K45: 0 | L45: 5.8304453e-05 | M45: 0 | N45: 0 | O45: 0 | P45: 0 | Q45: 0.0019055766 | R45: 0.00013162208 | S45: 0.00093419156 | T45: 0.00019235049 | U45: 0.0063148949 | V45: 0.0052629962 | W45: 0.027670537 | X45: 0.02003462 | Y45: 0.010188042 | Z45: 0.0072285913 | AA45: 0.0032840478 | AB45: 0.016826703 | AC45: 0.00048267686 | AD45: 0.00060256102 | AE45: 0 | AF45: 1.894694e-07 | AG45: 0 | AH45: 0 | AI45: 7.2531488e-06 | AJ45: 0 | AK45: 0 | AL45: 0 | AM45: 0.0050242394 | AN45: 0.003042146 | AO45: 2.8988218e-05 | AP45: 0.0014014892 | AQ45: 0.00089379503 | AR45: 0.0056141284 | AS45: 0.00099358971 | AT45: 0.0010278256 | AU45: 0 | AV45: 0 | AW45: 0 | AX45: 0.0013316408 | AY45: 0.0008921638 | AZ45: 0 | BA45: 5.7142713e-06 | BB45: 0 | BC45: 1.5071601e-05 | BD45: 2.1684917e-05 | BE45: 0 | BF45: 0.00039148023 | BG45: 4.5196517e-05 | BH45: 0 | BI45: 2.1380859e-05 | BJ45: 0 | BK45: 0 | BL45: 0.0082153467 | BM45: 0.0016635035 | BN45: 0 | BO45: 0.00033007783 | BP45: 8.3349829e-06 | BQ45: 0 | BR45: 0 | BS45: 0 | BT45: 8.5316144e-05 | BU45: 7.5688594e-05 | BV45: 3.4655089e-05 | BW45: 2.128579e-05 | BX45: 0.00055648556 | BY45: 0.00028812469 | BZ45: 0 | CA45: 3.3137933e-08 | CB45: 0.01573024 | CC45: 0.00017509831 | CD45: 0 | CE45: 0 | CF45: 3.9610508e-05 | CG45: 0.00057732765 | CH45: 1.0897601e-06 | CI45: 0.00044423546 | CJ45: 8.6784317e-05 | CK45: 0 | CL45: 8.2235896e-07 | CM45: 1.2726518e-05 | CN45: 0 | CO45: 0 | CP45: 0 | CQ45: 0 | CR45: 0 | CS45: 0 | CT45: 0 | CU45: 0 | CV45: 4.3736911e-05 | CW45: 0 | CX45: 0 | CY45: 0 | CZ45: 0 | DA45: 0 | DB45: 0 | DC45: 1.3556142e-11 | DD45: 0 | DE45: 0 | DF45: 0 | DG45: 0 | DH45: 0 | DI45: 0 | DJ45: 0 | DK45: 0 | DL45: 0 | DM45: 0 | DN45: 0 | DO45: 0 | DP45: 0 | DQ45: 0 | DR45: 0 | DS45: 0 | DT45: 0 | DU45: 0 | DV45: 0 | DW45: 0 | DX45: 0 | DY45: 0 | DZ45: 0 | EA45: 0 | EB45: 0 | EC45: 0 | ED45: 0 | EE45: 0 | EF45: 0 | EG45: 0 | EH45: 0 | EI45: 0 | EJ45: 0 | EK45: 0 | EL45: 0 | EM45: 0 | EN45: 0 | EO45: 0 | EP45: 2.1309124e-08 | EQ45: 0 | ER45: 0 | ES45: 0 | ET45: 0 | EU45: 0 | EV45: 0 | EW45: 0 | EX45: 0 | EY45: 0 | EZ45: 0 | FA45: 0 | FB45: 0 | FC45: 5.2610458e-09 | FD45: 0 | FE45: 0 | FF45: 1.0191897e-06 | FG45: 6.8341902e-09 | FH45: 0 | FI45: 0 | FJ45: 0 | FK45: 0 | FL45: 5.6347986e-07 | FM45: 0 | FN45: 0 | FO45: 0 | FP45: 0 | FQ45: 0 | FR45: 0 | FS45: 0 | FT45: 0 | FU45: 0 | FV45: 0 | FW45: 0 | FX45: 0 | FY45: 0 | FZ45: 0 | GA45: 0 | GB45: 0 | GC45: 1.97674e-06 | GD45: 0 | GE45: 0 | GF45: 0 | GG45: 0 | GH45: 5.2849187e-06 | GI45: 0 | GJ45: 0 | GK45: 0 | GL45: 0 | GM45: 0 | GN45: 2.5726435e-07 | GO45: 3.5271185e-08 | GP45: 0 | GQ45: 0 | GR45: 0 | GS45: 0 | GT45: 0 | GU45: 0 | GV45: 1.191904e-06 | GW45: 0 | GX45: 0 | GY45: 0 | GZ45: 0 | HA45: 0 | HB45: 0 | HC45: 0 | HD45: 0 | HE45: 0 | HF45: 0 | HG45: 2.2375813e-06 | HH45: 0 | HI45: 2.3648673e-09 | HJ45: 0 | HK45: 0 | HL45: 6.9783772e-07 | HM45: 0 | HN45: 0 | HO45: 0 | HP45: 0 | HQ45: 0 | HR45: 0 | HS45: 7.9228159e-07 | HT45: 0 | HU45: 0 | HV45: 0 | HW45: 0 | HX45: 0 | HY45: 1.1892739e-05 | HZ45: 0 | IA45: 0 | IB45: 0 | IC45: 0 | ID45: 0 | IE45: 0 | IF45: 0 | IG45: 0 | IH45: 0 | II45: 0 | IJ45: 0 | IK45: 0 | IL45: 0 | IM45: 0 | IN45: 0 | IO45: 0 | IP45: 0 | IQ45: 0 | IR45: 0 | IS45: 0 | IT45: 0 | IU45: 0 | IV45: 2.0293059e-06 | IW45: 0 | IX45: 6.2478875e-05 | IY45: 0 | IZ45: 5.9863552e-10 | JA45: 0 | JB45: 2.4244766e-06 | JC45: 1.1599794e-06 | JD45: 0 | JE45: 0 | JF45: 4.087213e-06 | JG45: 3.4833583e-05 | JH45: 0 | JI45: 4.8476423e-06 | JJ45: 0 | JK45: 0 | JL45: 0 | JM45: 4.1994059e-05 | JN45: 1.4665482e-07 | JO45: 0 | JP45: 9.7930101e-06 | JQ45: 0 | JR45: 0 | JS45: 0.00012896508 | JT45: 0 | JU45: 0.00010537667 | JV45: 3.3810616e-05 | JW45: 4.9017187e-05 | JX45: 0 | JY45: 6.2499432e-07 | JZ45: 4.4497969e-05 | KA45: 0 | KB45: 0 | KC45: 1.7425247e-05 | KD45: 0 | KE45: 0 | KF45: 0 | KG45: 0 | KH45: 0 | KI45: 0 | KJ45: 0 | KK45: 1.0195892e-06 | KL45: 1.1978661e-05 | KM45: 0 | KN45: 0 | KO45: 0 | KP45: 0 | KQ45: 0 | KR45: 0 | KS45: 0 | KT45: 0 | KU45: 0 | KV45: 0 | KW45: 0 | KX45: 0 | KY45: 0 | KZ45: 0 | LA45: 0 | LB45: 0 | LC45: 0 | LD45: 0 | LE45: 0

Sheet source_areas_project_to_VISl
A1: Supplementary Table 5. Summary of experiments in areas sending projections to VISl
A2: image_series_id | B2: Injection | C2: Source Module | D2: Mouse Line | E2: Projection Class | F2: Layer | G2: Top Cre Line (Figure 1d) | H2: sex | I2: product-id | J2: Injected Hemisphere | K2: Tracer | L2: experiment_page_url | M2: Manual assigned PN type
A3: 100140949 | B3: RSPv | C3: Medial | D3: C57BL/6J | E3: IT PT CT | F3: L2-L6 | G3: Yes | H3: M | I3: 5 | J3: Right | K3: EGFP | L3: http://connectivity.brain-map.org/projection/experiment/100140949 | M3: IT PT CT
A4: 100148142 | B4: RSPv | C4: Medial | D4: C57BL/6J | E4: IT PT CT | F4: L2-L6 | G4: Yes | H4: M | I4: 5 | J4: Right | K4: EGFP | L4: http://connectivity.brain-map.org/projection/experiment/100148142 | M4: IT PT CT
A5: 112423392 | B5: ORBvl | C5: PFC | D5: C57BL/6J | E5: IT PT CT | F5: L2-L6 | G5: Yes | H5: M | I5: 5 | J5: Right | K5: EGFP | L5: http://connectivity.brain-map.org/projection/experiment/112423392 | M5: IT PT CT
A6: 112458114 | B6: ACAd | C6: PFC | D6: C57BL/6J | E6: IT PT CT | F6: L2-L6 | G6: Yes | H6: M | I6: 5 | J6: Right | K6: EGFP | L6: http://connectivity.brain-map.org/projection/experiment/112458114 | M6: IT PT CT
A7: 112595376 | B7: RSPv | C7: Medial | D7: C57BL/6J | E7: IT PT CT | F7: L2-L6 | G7: Yes | H7: M | I7: 5 | J7: Right | K7: EGFP | L7: http://connectivity.brain-map.org/projection/experiment/112595376 | M7: IT PT CT
A8: 114428632 | B8: ACAd | C8: PFC | D8: Etv1-CreERT2 | E8: IT PT | F8: L5 | G8: No | H8: F | I8: 5 | J8: Right | K8: EGFP | L8: http://connectivity.brain-map.org/projection/experiment/114428632 | M8: IT PT
A9: 125833030 | B9: ACAd | C9: PFC | D9: Rbp4-Cre_KL100 | E9: IT PT | F9: L5 | G9: Yes | H9: M | I9: 5 | J9: Right | K9: EGFP | L9: http://connectivity.brain-map.org/projection/experiment/125833030 | M9: IT PT
A10: 139426984 | B10: ACAd | C10: PFC | D10: C57BL/6J | E10: IT PT CT | F10: L2-L6 | G10: Yes | H10: M | I10: 5 | J10: Right | K10: EGFP | L10: http://connectivity.brain-map.org/projection/experiment/139426984 | M10: IT PT CT
A11: 146593590 | B11: ACAd | C11: PFC | D11: C57BL/6J | E11: IT PT CT | F11: L2-L6 | G11: Yes | H11: M | I11: 5 | J11: Right | K11: EGFP | L11: http://connectivity.brain-map.org/projection/experiment/146593590 | M11: IT PT CT
A12: 156198187 | B12: LGd | C12: Thalamus | D12: Scnn1a-Tg2-Cre | E12: core | G12: N/A | H12: M | I12: 5 | J12: Right | K12: EGFP | L12: http://connectivity.brain-map.org/projection/experiment/156198187 | M12: core
A13: 156785529 | B13: ACAd | C13: PFC | D13: Syt6-Cre_KI148 | E13: CT | F13: L6 | G13: Yes | H13: M | I13: 5 | J13: Right | K13: EGFP | L13: http://connectivity.brain-map.org/projection/experiment/156785529 | M13: PT
A14: 157711043 | B14: RSPv | C14: Medial | D14: Syt6-Cre_KI148 | E14: CT | F14: L6 | G14: Yes | H14: F | I14: 5 | J14: Right | K14: EGFP | L14: http://connectivity.brain-map.org/projection/experiment/157711043 | M14: CT
A15: 158018630 | B15: ACAd | C15: PFC | D15: Gng7-Cre_KH71 | E15: IT PT | F15: L5 | G15: No | H15: M | I15: 5 | J15: Right | K15: EGFP | L15: http://connectivity.brain-map.org/projection/experiment/158018630 | M15: IT PT
A16: 158435116 | B16: ORBvl | C16: PFC | D16: C57BL/6J | E16: IT PT CT | F16: L2-L6 | G16: Yes | H16: M | I16: 5 | J16: Right | K16: EGFP | L16: http://connectivity.brain-map.org/projection/experiment/158435116 | M16: IT PT CT
A17: 159097209 | B17: RSPv | C17: Medial | D17: Etv1-CreERT2 | E17: IT PT | F17: L5 | G17: No | H17: F | I17: 5 | J17: Right | K17: EGFP | L17: http://connectivity.brain-map.org/projection/experiment/159097209 | M17: IT PT
A18: 159330754 | B18: ACAd | C18: PFC | D18: Syt6-Cre_KI148 | E18: CT | F18: L6 | G18: Yes | H18: F | I18: 5 | J18: Right | K18: EGFP | L18: http://connectivity.brain-map.org/projection/experiment/159330754 | M18: PT
A19: 159551564 | B19: ACAd | C19: PFC | D19: Ntsr1-Cre_GN220 | E19: CT | F19: L6 | G19: Yes | H19: M | I19: 5 | J19: Right | K19: EGFP | L19: http://connectivity.brain-map.org/projection/experiment/159551564 | M19: CT
A20: 159832064 | B20: RSPv | C20: Medial | D20: Rbp4-Cre_KL100 | E20: IT PT | F20: L5 | G20: Yes | H20: F | I20: 5 | J20: Right | K20: EGFP | L20: http://connectivity.brain-map.org/projection/experiment/159832064 | M20: IT PT
A21: 166054929 | B21: RSPv | C21: Medial | D21: Rbp4-Cre_KL100 | E21: IT PT | F21: L5 | G21: Yes | H21: M | I21: 5 | J21: Right | K21: EGFP | L21: http://connectivity.brain-map.org/projection/experiment/166054929 | M21: IT PT
A22: 166269090 | B22: RSPv | C22: Medial | D22: Scnn1a-Tg3-Cre | E22: IT | F22: L4/5 | G22: Yes | H22: F | I22: 5 | J22: Right | K22: EGFP | L22: http://connectivity.brain-map.org/projection/experiment/166269090 | M22: IT
A23: 166271142 | B23: RSPv | C23: Medial | D23: A930038C07Rik-Tg1-Cre | E23: PT | F23: L5 | G23: Yes | H23: F | I23: 5 | J23: Right | K23: EGFP | L23: http://connectivity.brain-map.org/projection/experiment/166271142 | M23: IT PT
A24: 166323896 | B24: ACAd | C24: PFC | D24: A930038C07Rik-Tg1-Cre | E24: PT | F24: L5 | G24: Yes | H24: M | I24: 5 | J24: Right | K24: EGFP | L24: http://connectivity.brain-map.org/projection/experiment/166323896 | M24: PT
... A35: 182338356 | B35: RSPv | C35: Medial | D35: Cux2-IRES-Cre | E35: IT | F35: L2/3 | G35: Yes | H35: M | I35: 5 | J35: Right | K35: EGFP | L35: http://connectivity.brain-map.org/projection/experiment/182338356 | M35: IT
A36: 183175010 | B36: LP | C36: Thalamus | D36: Grik4-Cre | E36: matrix(m) | G36: N/A | H36: F | I36: 5 | J36: Right | K36: EGFP | L36: http://connectivity.brain-map.org/projection/experiment/183175010 | M36: matrix(m)
A37: 183282261 | B37: LP | C37: Thalamus | D37: Calb2-IRES-Cre | E37: IL matrix(f) matrix(m) | G37: N/A | H37: M | I37: 5 | J37: Right | K37: EGFP | L37: http://connectivity.brain-map.org/projection/experiment/183282261 | M37: matrix(m)
A38: 183282970 | B38: LP | C38: Thalamus | D38: Calb2-IRES-Cre | E38: IL matrix(f) matrix(m) | G38: N/A | H38: M | I38: 5 | J38: Right | K38: EGFP | L38: http://connectivity.brain-map.org/projection/experiment/183282970 | M38: matrix(m)
A39: 183472596 | B39: ACAd | C39: PFC | D39: Grp-Cre_KH288 | E39: IT | F39: L2/3 | G39: No | H39: M | I39: 5 | J39: Right | K39: EGFP | L39: http://connectivity.brain-map.org/projection/experiment/183472596 | M39: IT
A40: 183618845 | B40: ORBvl | C40: PFC | D40: Htr2a-Cre_KM207 | E40: IT PT | F40: L2/3, L5 | G40: No | H40: M | I40: 5 | J40: Right | K40: EGFP | L40: http://connectivity.brain-map.org/projection/experiment/183618845 | M40: IT PT
A41: 184168193 | B41: RSPv | C41: Medial | D41: Cux2-IRES-Cre | E41: IT | F41: L2/3 | G41: Yes | H41: M | I41: 5 | J41: Right | K41: EGFP | L41: http://connectivity.brain-map.org/projection/experiment/184168193 | M41: IT
A42: 258316155 | B42: ACAd | C42: PFC | D42: Gpr26-Cre_KO250 | E42: IT PT | F42: L5 | G42: No | H42: F | I42: 5 | J42: Right | K42: EGFP | L42: http://connectivity.brain-map.org/projection/experiment/258316155 | M42: IT PT
A43: 263241470 | B43: LGd | C43: Thalamus | D43: Scnn1a-Tg2-Cre | E43: core | G43: N/A | H43: M | I43: 5 | J43: Right | K43: EGFP | L43: http://connectivity.brain-map.org/projection/experiment/263241470 | M43: core
A44: 266564027 | B44: ORBvl | C44: PFC | D44: Grp-Cre_KH288 | E44: IT | F44: L2/3 | G44: No | H44: F | I44: 5 | J44: Right | K44: EGFP | L44: http://connectivity.brain-map.org/projection/experiment/266564027 | M44: IT
A45: 266964075 | B45: ACAd | C45: PFC | D45: Ntsr1-Cre_GN220 | E45: CT | F45: L6 | G45: Yes | H45: M | I45: 5 | J45: Right | K45: EGFP | L45: http://connectivity.brain-map.org/projection/experiment/266964075 | M45: CT
A46: 267101850 | B46: ACAd | C46: PFC | D46: Scnn1a-Tg3-Cre | E46: IT | F46: L4/5 | G46: Yes | H46: F | I46: 5 | J46: Right | K46: EGFP | L46: http://connectivity.brain-map.org/projection/experiment/267101850 | M46: local
A47: 267658040 | B47: RSPv | C47: Medial | D47: Gpr26-Cre_KO250 | E47: IT PT | F47: L5 | G47: No | H47: F | I47: 5 | J47: Right | K47: EGFP | L47: http://connectivity.brain-map.org/projection/experiment/267658040 | M47: IT PT
A48: 267661018 | B48: RSPv | C48: Medial | D48: Efr3a-Cre_NO108 | E48: PT | F48: L5 | G48: Yes | H48: M | I48: 5 | J48: Right | K48: EGFP | L48: http://connectivity.brain-map.org/projection/experiment/267661018 | M48: PT
A49: 267705378 | B49: ACAd | C49: PFC | D49: Efr3a-Cre_NO108 | E49: PT | F49: L5 | G49: Yes | H49: F | I49: 5 | J49: Right | K49: EGFP | L49: http://connectivity.brain-map.org/projection/experiment/267705378 | M49: PT
A50: 268039675 | B50: ACAd | C50: PFC | D50: Scnn1a-Tg3-Cre | E50: IT | F50: L4/5 | G50: Yes | H50: F | I50: 5 | J50: Right | K50: EGFP | L50: http://connectivity.brain-map.org/projection/experiment/268039675 | M50: local
A51: 272735744 | B51: RSPv | C51: Medial | D51: Cux2-IRES-Cre | E51: IT | F51: L2/3 | G51: Yes | H51: M | I51: 5 | J51: Right | K51: EGFP | L51: http://connectivity.brain-map.org/projection/experiment/272735744 | M51: IT
A52: 277908168 | B52: ACAd | C52: PFC | D52: Efr3a-Cre_NO108 | E52: PT | F52: L5 | G52: Yes | H52: F | I52: 5 | J52: Right | K52: EGFP | L52: http://connectivity.brain-map.org/projection/experiment/277908168 | M52: PT
A53: 278069982 | B53: ACAd | C53: PFC | D53: Chrna2-Cre_OE25 | E53: PT | F53: L5 | G53: Yes | H53: M | I53: 5 | J53: Right | K53: EGFP | L53: http://connectivity.brain-map.org/projection/experiment/278069982 | M53: PT
A54: 286774770 | B54: ACAd | C54: PFC | D54: A930038C07Rik-Tg1-Cre | E54: PT | F54: L5 | G54: Yes | H54: M | I54: 5 | J54: Right | K54: EGFP | L54: http://connectivity.brain-map.org/projection/experiment/286774770 | M54: IT PT
A55: 287248684 | B55: ACAd | C55: PFC | D55: Gpr26-Cre_KO250 | E55: IT PT | F55: L5 | G55: No | H55: F | I55: 5 | J55: Right | K55: EGFP | L55: http://connectivity.brain-map.org/projection/experiment/287248684 | M55: IT PT
... A66: 293433283 | B66: ORBvl | C66: PFC | D66: Tlx3-Cre_PL56 | E66: IT | F66: L5 | G66: Yes | H66: M | I66: 5 | J66: Right | K66: EGFP | L66: http://connectivity.brain-map.org/projection/experiment/293433283 | M66: IT
A67: 293914766 | B67: LGd | C67: Thalamus | D67: Slc17a6-IRES-Cre | E67: core matrix(f) matrix(m) | G67: N/A | H67: F | I67: 5 | J67: Right | K67: EGFP | L67: http://connectivity.brain-map.org/projection/experiment/293914766 | M67: core
A68: 297892843 | B68: ORBvl | C68: PFC | D68: Chrna2-Cre_OE25 | E68: PT | F68: L5 | G68: Yes | H68: F | I68: 5 | J68: Right | K68: EGFP | L68: http://connectivity.brain-map.org/projection/experiment/297892843 | M68: PT
A69: 298275548 | B69: RSPv | C69: Medial | D69: Chrna2-Cre_OE25 | E69: PT | F69: L5 | G69: Yes | H69: F | I69: 5 | J69: Right | K69: EGFP | L69: http://connectivity.brain-map.org/projection/experiment/298275548 | M69: IT PT
A70: 298758841 | B70: ACAd | C70: PFC | D70: Rasgrf2-2A-dCre | E70: IT | F70: L2/3 | G70: No | H70: M | I70: 5 | J70: Right | K70: EGFP | L70: http://connectivity.brain-map.org/projection/experiment/298758841 | M70: IT
A71: 308721884 | B71: RSPv | C71: Medial | D71: Trib2-2A-CreERT2 | E71: IT PT | F71: L5 | G71: No | H71: M | I71: 5 | J71: Right | K71: EGFP | L71: http://connectivity.brain-map.org/projection/experiment/308721884 | M71: IT
A72: 478376911 | B72: ACAd | C72: PFC | D72: Emx1-IRES-Cre | E72: IT PT CT | F72: L2-L6 | G72: Yes | H72: M | I72: 36 | J72: Left | K72: SypEGFP | L72: http://connectivity.brain-map.org/projection/experiment/478376911 | M72: IT PT CT
A73: 478491090 | B73: ACAd | C73: PFC | D73: Emx1-IRES-Cre | E73: IT PT CT | F73: L2-L6 | G73: Yes | H73: M | I73: 35 | J73: Left | K73: EGFP | L73: http://connectivity.brain-map.org/projection/experiment/478491090 | M73: IT PT CT
A74: 479670988 | B74: LGd | C74: Thalamus | D74: Slc17a6-IRES-Cre | E74: core matrix(f) matrix(m) | G74: N/A | H74: M | I74: 36 | J74: Left | K74: SypEGFP | L74: http://connectivity.brain-map.org/projection/experiment/479670988 | M74: core
A75: 479671695 | B75: LGd | C75: Thalamus | D75: Scnn1a-Tg2-Cre | E75: core | G75: N/A | H75: M | I75: 36 | J75: Left | K75: SypEGFP | L75: http://connectivity.brain-map.org/projection/experiment/479671695 | M75: core
A76: 479891303 | B76: LGd | C76: Thalamus | D76: Scnn1a-Tg2-Cre | E76: core | G76: N/A | H76: M | I76: 35 | J76: Left | K76: EGFP | L76: http://connectivity.brain-map.org/projection/experiment/479891303 | M76: core
A77: 480994108 | B77: ORBvl | C77: PFC | D77: Rbp4-Cre_KL100 | E77: IT PT | F77: L5 | G77: Yes | H77: M | I77: 36 | J77: Left | K77: SypEGFP | L77: http://connectivity.brain-map.org/projection/experiment/480994108 | M77: IT PT
A78: 496113850 | B78: RSPv | C78: Medial | D78: Rbp4-Cre_KL100 | E78: IT PT | F78: L5 | G78: Yes | H78: M | I78: 36 | J78: Left | K78: SypEGFP | L78: http://connectivity.brain-map.org/projection/experiment/496113850 | M78: IT PT
A79: 496576666 | B79: ACAd | C79: PFC | D79: Rbp4-Cre_KL100 | E79: IT PT | F79: L5 | G79: Yes | H79: F | I79: 35 | J79: Left | K79: EGFP | L79: http://connectivity.brain-map.org/projection/experiment/496576666 | M79: IT PT
A80: 501483880 | B80: ACAd | C80: PFC | D80: Emx1-IRES-Cre | E80: IT PT CT | F80: L2-L6 | G80: Yes | H80: M | I80: 36 | J80: Left | K80: SypEGFP | L80: http://connectivity.brain-map.org/projection/experiment/501483880 | M80: IT PT CT
A81: 501484658 | B81: RSPv | C81: Medial | D81: Emx1-IRES-Cre | E81: IT PT CT | F81: L2-L6 | G81: Yes | H81: M | I81: 36 | J81: Left | K81: SypEGFP | L81: http://connectivity.brain-map.org/projection/experiment/501484658 | M81: IT PT CT
A82: 516838033 | B82: RSPv | C82: Medial | D82: Drd3-Cre_KI196 | E82: IT PT | F82: L5 | G82: No | H82: M | I82: 5 | J82: Right | K82: EGFP | L82: http://connectivity.brain-map.org/projection/experiment/516838033 | M82: IT PT
A83: 516848198 | B83: ACAd | C83: PFC | D83: Drd3-Cre_KI196 | E83: IT PT | F83: L5 | G83: No | H83: M | I83: 5 | J83: Right | K83: EGFP | L83: http://connectivity.brain-map.org/projection/experiment/516848198 | M83: PT
A84: 521264566 | B84: RSPv | C84: Medial | D84: Drd3-Cre_KI196 | E84: IT PT | F84: L5 | G84: No | H84: F | I84: 5 | J84: Right | K84: EGFP | L84: http://connectivity.brain-map.org/projection/experiment/521264566 | M84: IT PT
A85: 522773270 | B85: ORBvl | C85: PFC | D85: Cux2-IRES-Cre | E85: IT | F85: L2/3 | G85: Yes | H85: F | I85: 35 | J85: Left | K85: EGFP | L85: http://connectivity.brain-map.org/projection/experiment/522773270 | M85: IT
A86: 522774029 | B86: ACAd | C86: PFC | D86: Cux2-IRES-Cre | E86: IT | F86: L2/3 | G86: Yes | H86: M | I86: 35 | J86: Left | K86: EGFP | L86: http://connectivity.brain-map.org/projection/experiment/522774029 | M86: IT
A87: 526502961 | B87: RSPv | C87: Medial | D87: Sepw1-Cre_NP39 | E87: IT | F87: L2/3 | G87: Yes | H87: M | I87: 5 | J87: Right | K87: EGFP | L87: http://connectivity.brain-map.org/projection/experiment/526502961 | M87: IT
A88: 526783054 | B88: ACAd | C88: PFC | D88: Rbp4-Cre_KL100 | E88: IT PT | F88: L5 | G88: Yes | H88: F | I88: 36 | J88: Left | K88: SypEGFP | L88: http://connectivity.brain-map.org/projection/experiment/526783054 | M88: IT PT
... A99: 606778738 | B99: RSPv | C99: Medial | D99: A930038C07Rik-Tg1-Cre | E99: PT | F99: L5 | G99: Yes | H99: M | I99: 35 | J99: Left | K99: EGFP | L99: http://connectivity.brain-map.org/projection/experiment/606778738 | M99: PT
A100: 642177206 | B100: LGd | C100: Thalamus | D100: Scnn1a-Tg2-Cre | E100: core | G100: N/A | H100: F | I100: 5 | J100: Right | K100: EGFP | L100: http://connectivity.brain-map.org/projection/experiment/642177206 | M100: core
A101: 642480973 | B101: LGd | C101: Thalamus | D101: Vipr2-IRES2-Cre | E101: matrix(m) | G101: N/A | H101: F | I101: 5 | J101: Right | K101: EGFP | L101: http://connectivity.brain-map.org/projection/experiment/642480973 | M101: core
A102: 642811309 | B102: LGd | C102: Thalamus | D102: Scnn1a-Tg2-Cre | E102: core | G102: N/A | H102: F | I102: 5 | J102: Right | K102: EGFP | L102: http://connectivity.brain-map.org/projection/experiment/642811309 | M102: core

Sheet mean_terminus_in_VISl
A1: Injection | B1: Mouse Line | C1: Projection Class | D1: Layer | E1: VISl1 | F1: VISl2/3 | G1: VISl4 | H1: VISl5 | I1: VISl6a
A2: ACAd | B2: Cux2-IRES-Cre | C2: IT | D2: L2/3 | E2: 0.83768387 | F2: 0.085211485 | G2: 0.013359689 | H2: 0.04919046 | I2: 0.012171414
A3: ACAd | B3: Grp-Cre_KH288 | C3: IT | D3: L2/3 | E3: 0.31561687 | F3: 0.02280185 | G3: 0.00028337818 | H3: 0.49849722 | I3: 0.12147843
A4: ACAd | B4: Rasgrf2-2A-dCre | C4: IT | D4: L2/3 | E4: 1 | F4: 0 | G4: 0 | H4: 0 | I4: 0
A5: ACAd | B5: Scnn1a-Tg3-Cre | C5: IT | D5: L5 | E5: 0.5022702 | F5: 0.18612835 | G5: 0 | H5: 0.28308102 | I5: 0.028520424
A6: ACAd | B6: Tlx3-Cre_PL56 | C6: IT | D6: L5 | E6: 0.37083052 | F6: 0.069353972 | G6: 0.0071245572 | H6: 0.14084894 | I6: 0.35942995
A7: ACAd | B7: Rbp4-Cre_KL100 | C7: IT PT | D7: L5 | E7: 0.35835927 | F7: 0.18977971 | G7: 0.035238427 | H7: 0.12026821 | I7: 0.24486182
A8: ACAd | B8: Trib2-2A-CreERT2 | C8: IT PT | D8: L5 | E8: 0.53194868 | F8: 0.16135412 | G8: 0.033128042 | H8: 0.090950795 | I8: 0.14603721
A9: ACAd | B9: Etv1-CreERT2 | C9: IT PT | D9: L5 | E9: 0.66625119 | F9: 0.080912497 | G9: 0.0016377352 | H9: 0.020271067 | I9: 0.20750759
A10: ACAd | B10: Gng7-Cre_KH71 | C10: IT PT | D10: L5 | E10: 0.63336425 | F10: 0.056178835 | G10: 0.015088329 | H10: 0.088640335 | I10: 0.17000214
A11: ACAd | B11: Gpr26-Cre_KO250 | C11: IT PT | D11: L5 | E11: 0.35863105 | F11: 0.10749235 | G11: 0.031639339 | H11: 0.12687537 | I11: 0.31287041
A12: ACAd | B12: A930038C07Rik-Tg1-Cre | C12: PT | D12: L5 | E12: 0.32081022 | F12: 0.0064935008 | G12: 0.029335556 | H12: 0.051545475 | I12: 0.45004104
A13: ACAd | B13: Chrna2-Cre_OE25 | C13: PT | D13: L5 | E13: 1 | F13: 0 | G13: 0 | H13: 0 | I13: 0 | N13: 1 | O13: 1
A14: ACAd | B14: Efr3a-Cre_NO108 | C14: PT | D14: L5 | E14: 1 | F14: 0 | G14: 0 | H14: 0 | I14: 0 | N14: =N13-0.05 -> 0.95
A15: ACAd | B15: Npr3-IRES2-Cre | C15: PT | D15: L5 | E15: 0.54646773 | F15: 0.035863933 | G15: 0.0059552347 | H15: 0.061204844 | I15: 0.25688809 | N15: =N14-0.05 -> 0.9
A16: ACAd | B16: Ntsr1-Cre_GN220 | C16: CT | D16: L6 | E16: 0.60073577 | F16: 0.065067678 | G16: 0 | H16: 0.19358678 | I16: 0.13360029 | N16: =N15-0.05 -> 0.85
A17: ACAd | B17: Syt6-Cre_KI148 | C17: CT | D17: L6 | E17: 0.21693753 | F17: 0.010554322 | G17: 0.0079334384 | H17: 0.36626207 | I17: 0.29712271 | N17: =N16-0.05 -> 0.8
A18: ACAd | B18: Emx1-IRES-Cre | C18: IT PT CT | D18: L2-L6 | E18: 0.26497476 | F18: 0.13753282 | G18: 0.026418372 | H18: 0.11765321 | I18: 0.34372877 | N18: =N17-0.05 -> 0.75
A19: ACAd | B19: C57BL/6J | C19: IT PT CT | D19: L2-L6 | E19: 0.40977822 | F19: 0.12577793 | G19: 0.034367301 | H19: 0.11312013 | I19: 0.25575053 | N19: =N18-0.05 -> 0.7
N20: =N19-0.05 -> 0.65
A21: ORBvl | B21: Grp-Cre_KH288 | C21: IT | D21: L2/3 | E21: 0.23982964 | F21: 0.34518249 | G21: 0.042236425 | H21: 0.37275144 | I21: 0 | N21: =N20-0.05 -> 0.6
A22: ORBvl | B22: Cux2-IRES-Cre | C22: IT | D22: L2/3, L5 | E22: 0.11210879 | F22: 0.30122342 | G22: 0.03653016 | H22: 0.38732678 | I22: 0.15065442 | N22: =N21-0.05 -> 0.55
A23: ORBvl | B23: Htr2a-Cre_KM207 | C23: IT PT | D23: L2/3, L5 | E23: 0.050960875 | F23: 0.12054636 | G23: 0.24741997 | H23: 0.019953979 | I23: 0.4227171 | N23: =N22-0.05 -> 0.5 | O23: 0.5
A24: ORBvl | B24: Rbp4-Cre_KL100 | C24: IT PT | D24: L2/3, L5 | E24: 0.18973697 | F24: 0.20308917 | G24: 0.050045486 | H24: 0.35676237 | I24: 0.18331678 | N24: =N23-0.05 -> 0.45
A25: ORBvl | B25: Tlx3-Cre_PL56 | C25: IT | D25: L5 | E25: 0 | F25: 0 | G25: 0 | H25: 1 | I25: 0 | N25: =N24-0.05 -> 0.4
A26: ORBvl | B26: C57BL/6J | C26: IT PT CT | D26: L2-L6 | E26: 0.11821762 | F26: 0.1550767 | G26: 0.024150651 | H26: 0.4884354 | I26: 0.20317183 | N26: =N25-0.05 -> 0.35
N27: =N26-0.05 -> 0.3
A28: TEa | B28: Chrna2-Cre_OE25 | C28: PT | D28: L5 | E28: 0.55458935 | F28: 0.064922277 | G28: 0.017491391 | H28: 0.16917136 | I28: 0.15485384 | N28: =N27-0.05 -> 0.25
A29: TEa | B29: Ntsr1-Cre_GN220 | C29: CT | D29: L6 | E29: 0.2435741 | F29: 0.061256477 | G29: 0.024805399 | H29: 0.30313007 | I29: 0.26823379 | N29: =N28-0.05 -> 0.2
N30: =N29-0.05 -> 0.15
A31: RSPv | B31: Cux2-IRES-Cre | C31: IT | D31: L2/3 | E31: 0.87774562 | F31: 0.050940582 | G31: 0.016555201 | H31: 0.023505791 | I31: 0.029895661 | N31: =N30-0.05 -> 0.1
A32: RSPv | B32: Scnn1a-Tg3-Cre | C32: IT | D32: L5 | E32: 0.4387525 | F32: 0.038541315 | G32: 0.018031992 | H32: 0.07573797 | I32: 0.36227707 | N32: =N31-0.05 -> 0.05
A33: RSPv | B33: Etv1-CreERT2 | C33: IT PT | D33: L5 | E33: 0.098009027 | F33: 0 | G33: 0.014117472 | H33: 0.046946048 | I33: 0.66061433 | N33: 0 | O33: 0
A34: RSPv | B34: Gpr26-Cre_KO250 | C34: IT PT | D34: L5 | E34: 0.076798633 | F34: 0.20021512 | G34: 0.11619222 | H34: 0.15423657 | I34: 0.38208948
A35: RSPv | B35: Drd3-Cre_KI196 | C35: IT PT | D35: L5 | E35: 0.39175571 | F35: 0.07843512 | G35: 0.037735622 | H35: 0.10741357 | I35: 0.31431728
A36: RSPv | B36: Rbp4-Cre_KL100 | C36: IT PT | D36: L5 | E36: 0.24956672 | F36: 0.10304006 | G36: 0.06090043 | H36: 0.19515336 | I36: 0.32613629
A37: RSPv | B37: Trib2-2A-CreERT2 | C37: IT PT | D37: L5 | E37: 0.49154958 | F37: 0 | G37: 0 | H37: 0 | I37: 0.5
A38: RSPv | B38: A930038C07Rik-Tg1-Cre | C38: PT | D38: L5 | E38: 0.21887783 | F38: 0.023492771 | G38: 0.017613233 | H38: 0.15804326 | I38: 0.46316178
A39: RSPv | B39: Chrna2-Cre_OE25 | C39: PT | D39: L5 | E39: 0.8244578 | F39: 0.033283116 | G39: 0.020977719 | H39: 0.0070914206 | I39: 0.05963333
A40: RSPv | B40: Efr3a-Cre_NO108 | C40: PT | D40: L5 | E40: 1 | F40: 0 | G40: 0 | H40: 0 | I40: 0
A41: RSPv | B41: Npr3-IRES2-Cre | C41: PT | D41: L5 | E41: 0.34855286 | F41: 0.065265905 | G41: 0.021403971 | H41: 0.095242029 | I41: 0.37927419
A42: RSPv | B42: Syt6-Cre_KI148 | C42: CT | D42: L6 | E42: 0.50637751 | F42: 0.026979579 | G42: 0.019009499 | H42: 0.080697284 | I42: 0.29664661
A43: RSPv | B43: Emx1-IRES-Cre | C43: IT PT CT | D43: L2-L6 | E43: 0.2984157 | F43: 0.13218265 | G43: 0.061699211 | H43: 0.13435812 | I43: 0.313473
A44: RSPv | B44: C57BL/6J | C44: IT PT CT | D44: L2-L6 | E44: 0.26675094 | F44: 0.030869459 | G44: 0.019442442 | H44: 0.1449873 | I44: 0.44798964
A46: LGd | B46: Scnn1a-Tg2-Cre | C46: core | D46: core | E46: 0.010204183 | F46: 0.095436815 | G46: 0.25605273 | H46: 0.18081197 | I46: 0.2444043
... A51: LP | B51: Grik4-Cre | C51: matrix(m) | D51: matrix(m) | E51: 0.1207527 | F51: 0.15356639 | G51: 0.20984736 | H51: 0.27495045 | I51: 0.16510601
