Workbook

Sheet List_VISl_projection
A1: Supplementary Table 5. Summary of experiments mapping the anterograde projections from VISl
A2: image_series_id | B2: primary structure-abbrev | C2: Mouse Line | D2: Manual assigned PN type | E2: sex | F2: Hemisphere | G2: Tracer | H2: experiment_page_url
A3: 114250546 | B3: VISl | C3: C57BL/6J | D3: IT PT CT | E3: M | F3: Right | G3: EGFP | H3: http://connectivity.brain-map.org/projection/experiment/114250546
A4: 116903968 | B4: VISl | C4: C57BL/6J | D4: IT PT CT | E4: M | F4: Right | G4: EGFP | H4: http://connectivity.brain-map.org/projection/experiment/116903968
A5: 146858755 | B5: VISl | C5: C57BL/6J | D5: IT PT CT | E5: M | F5: Right | G5: EGFP | H5: http://connectivity.brain-map.org/projection/experiment/146858755
A6: 159224478 | B6: VISl | C6: Syt6-Cre_KI148 | D6: CT | E6: F | F6: Right | G6: EGFP | H6: http://connectivity.brain-map.org/projection/experiment/159224478
A7: 166461899 | B7: VISl | C7: A930038C07Rik-Tg1-Cre | D7: PT | E7: F | F7: Right | G7: EGFP | H7: http://connectivity.brain-map.org/projection/experiment/166461899
A8: 266487079 | B8: VISl | C8: Cux2-IRES-Cre | D8: IT | E8: M | F8: Right | G8: EGFP | H8: http://connectivity.brain-map.org/projection/experiment/266487079
A9: 277849965 | B9: VISl | C9: Nr5a1-Cre | D9: IT | E9: F | F9: Right | G9: EGFP | H9: http://connectivity.brain-map.org/projection/experiment/277849965
A10: 283017324 | B10: VISl | C10: A930038C07Rik-Tg1-Cre | D10: PT | E10: M | F10: Right | G10: EGFP | H10: http://connectivity.brain-map.org/projection/experiment/283017324
A11: 286835688 | B11: VISl | C11: Efr3a-Cre_NO108 | D11: PT | E11: F | F11: Right | G11: EGFP | H11: http://connectivity.brain-map.org/projection/experiment/286835688
A12: 287036898 | B12: VISl | C12: Ntsr1-Cre_GN220 | D12: CT | E12: F | F12: Right | G12: EGFP | H12: http://connectivity.brain-map.org/projection/experiment/287036898
A13: 287495026 | B13: VISl | C13: Cux2-IRES-Cre | D13: IT | E13: F | F13: Right | G13: EGFP | H13: http://connectivity.brain-map.org/projection/experiment/287495026
A14: 294266031 | B14: VISl | C14: Efr3a-Cre_NO108 | D14: CT | E14: F | F14: Right | G14: EGFP | H14: http://connectivity.brain-map.org/projection/experiment/294266031
... A45: 592518697 | B45: VISl | C45: Cux2-IRES-Cre | D45: IT | E45: M | F45: Left | G45: EGFP | H45: http://connectivity.brain-map.org/projection/experiment/592518697

Sheet ipsi_projection_VISl
A1: Supplementary Table 5. Normalized projection volume per structure in the ipsilateral hemisphere for anterograde projections from VISl
A2: Mouse Line | B2: image_series_id | C2: Specimen | D2: FRP | E2: MOp | F2: MOs | G2: SSp-n | H2: SSp-bfd | I2: SSp-ll | J2: SSp-m | K2: SSp-ul | L2: SSp-tr | M2: SSp-un | N2: SSs | O2: GU | P2: VISC | Q2: AUDd | R2: AUDp | S2: AUDpo | T2: AUDv | U2: VISal | V2: VISam | W2: VISl | X2: VISp | Y2: VISpl | Z2: VISpm | AA2: VISli | AB2: VISpor | AC2: ACAd | AD2: ACAv | AE2: PL | AF2: ILA | AG2: ORBl | AH2: ORBm | AI2: ORBvl | AJ2: AId | AK2: AIp | AL2: AIv | AM2: RSPagl | AN2: RSPd | AO2: RSPv | AP2: VISa | AQ2: VISrl | AR2: TEa | AS2: PERI | AT2: ECT | AU2: MOB | AV2: AOB | AW2: AON | AX2: TT | AY2: DP | AZ2: PIR | BA2: NLOT | BB2: COAa | BC2: COAp | BD2: PAA | BE2: TR | BF2: CA1 | BG2: CA2 | BH2: CA3 | BI2: DG | BJ2: FC | BK2: IG | BL2: ENTl | BM2: ENTm | BN2: PAR | BO2: POST | BP2: PRE | BQ2: SUB | BR2: ProS | BS2: HATA | BT2: APr | BU2: CLA | BV2: EPd | BW2: EPv | BX2: LA | BY2: BLA | BZ2: BMA | CA2: PA | CB2: CP | CC2: ACB | CD2: FS | CE2: OT | CF2: LSc | CG2: LSr | CH2: LSv | CI2: SF | CJ2: SH | CK2: AAA | CL2: BA | CM2: CEA | CN2: IA | CO2: MEA | CP2: GPe | CQ2: GPi | CR2: SI | CS2: MA | CT2: MS | CU2: NDB | CV2: TRS | CW2: BST | CX2: BAC | CY2: VAL | CZ2: VM | DA2: VPL | DB2: VPLpc | DC2: VPM | DD2: VPMpc | DE2: PoT | DF2: SPFm | DG2: SPFp | DH2: SPA | DI2: PP | DJ2: MG | DK2: LGd | DL2: LP | DM2: PO | DN2: POL | DO2: SGN | DP2: AV | DQ2: AM | DR2: AD | DS2: IAM | DT2: IAD | DU2: LD | DV2: IMD | DW2: MD | DX2: SMT | DY2: PR | DZ2: PVT | EA2: PT | EB2: RE | EC2: Xi | ED2: RH | EE2: CM | EF2: PCN | EG2: CL | EH2: PF | EI2: PIL | EJ2: RT | EK2: IGL | EL2: IntG | EM2: LGv | EN2: SubG | EO2: MH | EP2: LH | EQ2: SO | ER2: ASO | ES2: PVH | ET2: PVa | EU2: PVi | EV2: ARH | EW2: ADP | EX2: AVP | EY2: AVPV | EZ2: DMH | FA2: MEPO | FB2: MPO | FC2: OV | FD2: PD | FE2: PS | FF2: PVp | FG2: PVpo | FH2: SBPV | FI2: SCH | FJ2: SFO | FK2: VMPO | FL2: VLPO | FM2: AHN | FN2: LM | FO2: MM | FP2: SUM | FQ2: TMd | FR2: TMv | FS2: MPN | FT2: PMd | FU2: PMv | FV2: PVHd | FW2: VMH | FX2: PH | FY2: LHA | FZ2: LPO | GA2: PST | GB2: PSTN | GC2: PeF | GD2: RCH | GE2: STN | GF2: TU | GG2: ZI | GH2: ME | GI2: SCs | GJ2: IC | GK2: NB | GL2: SAG | GM2: PBG | GN2: MEV | GO2: SCO | GP2: SNr | GQ2: VTA | GR2: PN | GS2: RR | GT2: MRN | GU2: SCm | GV2: PAG | GW2: APN | GX2: MPT | GY2: NOT | GZ2: NPC | HA2: OP | HB2: PPT | HC2: CUN | HD2: RN | HE2: III | HF2: MA3 | HG2: EW | HH2: IV | HI2: Pa4 | HJ2: VTN | HK2: AT | HL2: LT | HM2: DT | HN2: MT | HO2: SNc | HP2: PPN | HQ2: IF | HR2: IPN | HS2: RL | HT2: CLI | HU2: DR | HV2: NLL | HW2: PSV | HX2: PB | HY2: SOC | HZ2: B | IA2: DTN | IB2: PDTg | IC2: PCG | ID2: PG | IE2: PRNc | IF2: SG | IG2: SUT | IH2: TRN | II2: V | IJ2: P5 | IK2: Acs5 | IL2: PC5 | IM2: I5 | IN2: CS | IO2: LC | IP2: LDT | IQ2: NI | IR2: PRNr | IS2: RPO | IT2: SLC | IU2: SLD | IV2: AP | IW2: DCO | IX2: VCO | IY2: CU | IZ2: GR | JA2: ECU | JB2: NTB | JC2: NTS | JD2: SPVC | JE2: SPVI | JF2: SPVO | JG2: Pa5 | JH2: VI | JI2: VII | JJ2: ACVII | JK2: AMB | JL2: DMX | JM2: GRN | JN2: ICB | JO2: IO | JP2: IRN | JQ2: ISN | JR2: LIN | JS2: LRN | JT2: MARN | JU2: MDRNd | JV2: MDRNv | JW2: PARN | JX2: PAS | JY2: PGRNd | JZ2: PGRNl | KA2: NR | KB2: PRP | KC2: PPY | KD2: LAV | KE2: MV | KF2: SPIV | KG2: SUV | KH2: x | KI2: XII | KJ2: y | KK2: RM | KL2: RPA | KM2: RO | KN2: LING | KO2: CENT | KP2: CUL | KQ2: DEC | KR2: FOTU | KS2: PYR | KT2: UVU | KU2: NOD | KV2: SIM | KW2: AN | KX2: PRM | KY2: COPY | KZ2: PFL | LA2: FL | LB2: FN | LC2: IP | LD2: DN | LE2: VeCB
A3: =VLOOKUP(B3,List_VISl_projection!A:C,3, FALSE) -> A930038C07Rik-Tg1-Cre | B3: 520341802 | C3: A930038C07Rik-Tg1-Cre-242326 | D3: 0 | E3: 0 | F3: 0.00014672217 | G3: 0 | H3: 0 | I3: 0 | J3: 0 | K3: 0 | L3: 0.00071531683 | M3: 0 | N3: 0 | O3: 0 | P3: 0 | Q3: 0.004409111 | R3: 0 | S3: 0.0046565555 | T3: 0 | U3: 0.049616287 | V3: 6.4055397e-05 | W3: 0.080695348 | X3: 0.047028725 | Y3: 0 | Z3: 0.0011741676 | AA3: 0.027645052 | AB3: 0.0064003256 | AC3: 0 | AD3: 0 | AE3: 0 | AF3: 0 | AG3: 0 | AH3: 0 | AI3: 0 | AJ3: 0 | AK3: 0 | AL3: 0 | AM3: 0 | AN3: 0.0025824996 | AO3: 0.0036652254 | AP3: 0.0098449054 | AQ3: 0.0076912419 | AR3: 0.013073078 | AS3: 7.5210786e-06 | AT3: 0.00053839796 | AU3: 0 | AV3: 0 | AW3: 0 | AX3: 0 | AY3: 0 | AZ3: 0 | BA3: 0 | BB3: 0 | BC3: 0.00087090808 | BD3: 0 | BE3: 0 | BF3: 0 | BG3: 0 | BH3: 0 | BI3: 0 | BJ3: 0 | BK3: 0 | BL3: 0 | BM3: 0 | BN3: 0 | BO3: 0 | BP3: 0 | BQ3: 0 | BR3: 0 | BS3: 0 | BT3: 0 | BU3: 0 | BV3: 0 | BW3: 0 | BX3: 0.0033097271 | BY3: 0 | BZ3: 3.813709e-05 | CA3: 4.6617804e-06 | CB3: 0.11946832 | CC3: 0 | CD3: 0 | CE3: 0 | CF3: 0 | CG3: 0 | CH3: 0 | CI3: 0 | CJ3: 1.3863077e-05 | CK3: 0 | CL3: 0 | CM3: 0 | CN3: 0 | CO3: 0 | CP3: 5.6178956e-05 | CQ3: 0 | CR3: 0 | CS3: 0 | CT3: 0 | CU3: 0 | CV3: 2.7021695e-05 | CW3: 0 | CX3: 0 | CY3: 0 | CZ3: 0 | DA3: 0.0042998465 | DB3: 0 | DC3: 0.010505445 | DD3: 0 | DE3: 0.0029836897 | DF3: 0 | DG3: 0 | DH3: 0 | DI3: 0.00054223925 | DJ3: 0.0026426639 | DK3: 0.024809059 | DL3: 0.3005258 | DM3: 0.061192963 | DN3: 0.0070472158 | DO3: 0.0069611068 | DP3: 0 | DQ3: 0.00066669314 | DR3: 0 | DS3: 0 | DT3: 0 | DU3: 0.024905968 | DV3: 0 | DW3: 7.008751e-07 | DX3: 0.00023690421 | DY3: 0 | DZ3: 0 | EA3: 9.4245085e-06 | EB3: 0.0011459916 | EC3: 0 | ED3: 2.7568706e-05 | EE3: 2.5068955e-07 | EF3: 0 | EG3: 0.00047032795 | EH3: 0 | EI3: 0.00040892194 | EJ3: 0.041620512 | EK3: 0.0062586896 | EL3: 0.00012732478 | EM3: 0.021043516 | EN3: 0.001397532 | EO3: 0 | EP3: 3.6588598e-06 | EQ3: 0 | ER3: 0 | ES3: 0 | ET3: 0 | EU3: 0 | EV3: 0 | EW3: 0 | EX3: 0 | EY3: 0 | EZ3: 0 | FA3: 5.6477351e-06 | FB3: 0 | FC3: 0 | FD3: 0 | FE3: 0 | FF3: 0 | FG3: 0 | FH3: 0 | FI3: 0 | FJ3: 0 | FK3: 0 | FL3: 0 | FM3: 0 | FN3: 0 | FO3: 0 | FP3: 0 | FQ3: 1.0748941e-06 | FR3: 0 | FS3: 0 | FT3: 0 | FU3: 0 | FV3: 0 | FW3: 0 | FX3: 0 | FY3: 0 | FZ3: 0 | GA3: 0 | GB3: 0 | GC3: 0 | GD3: 0 | GE3: 0 | GF3: 0 | GG3: 0.00053528138 | GH3: 0 | GI3: 0.010578852 | GJ3: 0 | GK3: 0 | GL3: 0.00013019891 | GM3: 0 | GN3: 1.095384e-06 | GO3: 8.5524541e-05 | GP3: 0 | GQ3: 0 | GR3: 0 | GS3: 0 | GT3: 0 | GU3: 0.038007076 | GV3: 7.9005546e-05 | GW3: 0.025213963 | GX3: 0.00091795339 | GY3: 0.00045332578 | GZ3: 0 | HA3: 0.0022455791 | HB3: 0.013767746 | HC3: 0 | HD3: 0 | HE3: 0 | HF3: 0 | HG3: 0 | HH3: 0 | HI3: 0 | HJ3: 0 | HK3: 0 | HL3: 0.00034430106 | HM3: 0 | HN3: 0 | HO3: 0 | HP3: 0 | HQ3: 2.3897905e-05 | HR3: 0 | HS3: 0 | HT3: 0 | HU3: 2.0396144e-09 | HV3: 0 | HW3: 0 | HX3: 0 | HY3: 0 | HZ3: 0 | IA3: 0 | IB3: 0 | IC3: 0 | ID3: 0.00072969116 | IE3: 0 | IF3: 0 | IG3: 2.8800078e-06 | IH3: 0 | II3: 0 | IJ3: 0 | IK3: 0 | IL3: 0 | IM3: 0 | IN3: 1.2397385e-05 | IO3: 8.0210989e-07 | IP3: 0 | IQ3: 0 | IR3: 0 | IS3: 0 | IT3: 0 | IU3: 0 | IV3: 4.0858212e-05 | IW3: 0 | IX3: 0 | IY3: 0 | IZ3: 0.00034101944 | JA3: 0 | JB3: 0 | JC3: 0.00014482323 | JD3: 0 | JE3: 0 | JF3: 0 | JG3: 0 | JH3: 0 | JI3: 5.8165072e-06 | JJ3: 0 | JK3: 0 | JL3: 0 | JM3: 0 | JN3: 0 | JO3: 0 | JP3: 0 | JQ3: 0 | JR3: 6.4408849e-06 | JS3: 0 | JT3: 0 | JU3: 0 | JV3: 0 | JW3: 0 | JX3: 0 | JY3: 0 | JZ3: 0 | KA3: 0 | KB3: 0 | KC3: 0 | KD3: 0 | KE3: 0 | KF3: 0 | KG3: 0 | KH3: 0 | KI3: 0 | KJ3: 0 | KK3: 3.0582733e-06 | KL3: 0 | KM3: 0 | KN3: 0 | KO3: 0 | KP3: 0 | KQ3: 0 | KR3: 0 | KS3: 0 | KT3: 0 | KU3: 0 | KV3: 0 | KW3: 0 | KX3: 0 | KY3: 0 | KZ3: 0 | LA3: 0 | LB3: 0 | LC3: 0 | LD3: 0 | LE3: 5.466639e-06
A4: =VLOOKUP(B4,List_VISl_projection!A:C,3, FALSE) -> A930038C07Rik-Tg1-Cre | B4: 552430870 | C4: A930038C07Rik-Tg1-Cre-270159 | D4: 0 | E4: 0 | F4: 0 | G4: 0 | H4: 0 | I4: 0 | J4: 0.0072936702 | K4: 0.00063536913 | L4: 0 | M4: 0 | N4: 0 | O4: 0.00048066277 | P4: 0 | Q4: 0 | R4: 0 | S4: 0 | T4: 0 | U4: 0.0048876378 | V4: 0.0015879784 | W4: 0.10562222 | X4: 0.1167187 | Y4: 0.0036121726 | Z4: 0.0043310606 | AA4: 0.0040998259 | AB4: 0.0067295888 | AC4: 0.0002089318 | AD4: 0 | AE4: 0 | AF4: 0 | AG4: 0 | AH4: 0 | AI4: 0 | AJ4: 0 | AK4: 0 | AL4: 0 | AM4: 0.002286317 | AN4: 0.005889381 | AO4: 0 | AP4: 0.00018428718 | AQ4: 0.0039593715 | AR4: 0.00066322418 | AS4: 0 | AT4: 0 | AU4: 0 | AV4: 0 | AW4: 0 | AX4: 0 | AY4: 0 | AZ4: 0 | BA4: 0.00051105781 | BB4: 0.00042053342 | BC4: 0.0002041427 | BD4: 0.0002837023 | BE4: 0 | BF4: 0 | BG4: 0 | BH4: 0 | BI4: 0 | BJ4: 0 | BK4: 0 | BL4: 0 | BM4: 0 | BN4: 0 | BO4: 0 | BP4: 0.00013071855 | BQ4: 0 | BR4: 0 | BS4: 0 | BT4: 0 | BU4: 0 | BV4: 0.00028486579 | BW4: 0 | BX4: 9.2356493e-05 | BY4: 0 | BZ4: 0.00028374879 | CA4: 0 | CB4: 0.10029977 | CC4: 0 | CD4: 0 | CE4: 0 | CF4: 0 | CG4: 0 | CH4: 0 | CI4: 0 | CJ4: 0 | CK4: 0 | CL4: 2.2216856e-07 | CM4: 0.00014024241 | CN4: 0 | CO4: 0 | CP4: 0.0037595763 | CQ4: 0 | CR4: 0 | CS4: 0 | CT4: 0 | CU4: 0 | CV4: 0 | CW4: 0 | CX4: 0 | CY4: 0 | CZ4: 0 | DA4: 0.00036305376 | DB4: 4.7849103e-05 | DC4: 0.0037413046 | DD4: 3.5742486e-05 | DE4: 0.0012515079 | DF4: 9.6167968e-06 | DG4: 6.3463208e-07 | DH4: 9.1744535e-06 | DI4: 0.0009432603 | DJ4: 0.0034256887 | DK4: 0.063501561 | DL4: 0.16017778 | DM4: 0.013707467 | DN4: 0.0037288561 | DO4: 0.00074330878 | DP4: 0 | DQ4: 0 | DR4: 0 | DS4: 0 | DT4: 0 | DU4: 0.038535705 | DV4: 0 | DW4: 6.9905818e-05 | DX4: 0.00024797498 | DY4: 0 | DZ4: 0 | EA4: 0 | EB4: 7.5862724e-05 | EC4: 0 | ED4: 0 | EE4: 0 | EF4: 0 | EG4: 9.2879439e-05 | EH4: 0.0011618768 | EI4: 0.00058832164 | EJ4: 0.01761119 | EK4: 0.013754966 | EL4: 0.00095686594 | EM4: 0.073383113 | EN4: 0.0036819796 | EO4: 0 | EP4: 0.00013978023 | EQ4: 0 | ER4: 0 | ES4: 0 | ET4: 0 | EU4: 0 | EV4: 0 | EW4: 0 | EX4: 0 | EY4: 4.0253146e-05 | EZ4: 0 | FA4: 0 | FB4: 0 | FC4: 0 | FD4: 0 | FE4: 0 | FF4: 0 | FG4: 1.3920904e-05 | FH4: 0 | FI4: 0 | FJ4: 0 | FK4: 0 | FL4: 0.00010371031 | FM4: 0 | FN4: 0 | FO4: 0 | FP4: 0 | FQ4: 0 | FR4: 0 | FS4: 0 | FT4: 0 | FU4: 0 | FV4: 4.0787666e-05 | FW4: 1.5949262e-05 | FX4: 0 | FY4: 0 | FZ4: 0 | GA4: 0 | GB4: 0 | GC4: 0 | GD4: 0 | GE4: 0 | GF4: 0 | GG4: 0.0057726823 | GH4: 0 | GI4: 0.029065921 | GJ4: 0 | GK4: 0 | GL4: 0.0001691189 | GM4: 0 | GN4: 0 | GO4: 0 | GP4: 0.0028048425 | GQ4: 0 | GR4: 0 | GS4: 0 | GT4: 0.00039578583 | GU4: 0.038768282 | GV4: 0 | GW4: 0.07120337 | GX4: 0.0059239675 | GY4: 0.0047021961 | GZ4: 0.00077731836 | HA4: 0.010658201 | HB4: 0.013959811 | HC4: 0 | HD4: 0 | HE4: 0 | HF4: 0 | HG4: 0 | HH4: 0 | HI4: 0 | HJ4: 0 | HK4: 0 | HL4: 0.0015752373 | HM4: 0 | HN4: 0 | HO4: 0 | HP4: 0 | HQ4: 0 | HR4: 0 | HS4: 0 | HT4: 0 | HU4: 0 | HV4: 0 | HW4: 0 | HX4: 0 | HY4: 0 | HZ4: 0 | IA4: 0 | IB4: 0 | IC4: 0 | ID4: 0.018983245 | IE4: 0 | IF4: 0 | IG4: 0 | IH4: 0.0056242332 | II4: 0 | IJ4: 0 | IK4: 0 | IL4: 0 | IM4: 0 | IN4: 0 | IO4: 0 | IP4: 0 | IQ4: 0 | IR4: 0 | IS4: 0 | IT4: 0 | IU4: 0 | IV4: 0 | IW4: 0 | IX4: 0 | IY4: 0 | IZ4: 0 | JA4: 0 | JB4: 0 | JC4: 0 | JD4: 0 | JE4: 0 | JF4: 0 | JG4: 0 | JH4: 0 | JI4: 1.9003693e-08 | JJ4: 0 | JK4: 0 | JL4: 0 | JM4: 0 | JN4: 0 | JO4: 0 | JP4: 0 | JQ4: 0 | JR4: 0 | JS4: 0 | JT4: 0 | JU4: 0 | JV4: 0 | JW4: 0 | JX4: 0 | JY4: 0 | JZ4: 0 | KA4: 0 | KB4: 0 | KC4: 0 | KD4: 0 | KE4: 0 | KF4: 0 | KG4: 0 | KH4: 0 | KI4: 0 | KJ4: 0 | KK4: 0 | KL4: 0 | KM4: 0 | KN4: 0 | KO4: 0 | KP4: 0 | KQ4: 0 | KR4: 0 | KS4: 0 | KT4: 0 | KU4: 0 | KV4: 0 | KW4: 0 | KX4: 0 | KY4: 0 | KZ4: 0 | LA4: 0 | LB4: 0 | LC4: 0 | LD4: 0 | LE4: 0
A5: =VLOOKUP(B5,List_VISl_projection!A:C,3, FALSE) -> Cux2-IRES-Cre | B5: 484503464 | C5: Cux2-IRES-Cre-198364 | D5: 0 | E5: 0.00031275363 | F5: 0.0091520297 | G5: 0 | H5: 0.036290901 | I5: 0.00019453907 | J5: 0 | K5: 0 | L5: 0.00097481981 | M5: 0 | N5: 0.00074498455 | O5: 0 | P5: 0 | Q5: 0.0015088355 | R5: 0.0011216501 | S5: 0.0018121744 | T5: 0.00054198037 | U5: 0.02799838 | V5: 0.014998669 | W5: 0.064556771 | X5: 0.30058128 | Y5: 0.020987821 | Z5: 0.047187244 | AA5: 0.027077646 | AB5: 0.058928835 | AC5: 0.020196559 | AD5: 0.0053732259 | AE5: 0 | AF5: 2.4691471e-06 | AG5: 0 | AH5: 0 | AI5: 0 | AJ5: 0 | AK5: 0 | AL5: 0 | AM5: 0.0066922631 | AN5: 0.026124632 | AO5: 0.016979006 | AP5: 0.0051171436 | AQ5: 0.073103938 | AR5: 0.0074195791 | AS5: 0.00082071359 | AT5: 0.0013783694 | AU5: 0 | AV5: 0 | AW5: 0 | AX5: 0 | AY5: 3.9723276e-05 | AZ5: 0 | BA5: 0 | BB5: 0 | BC5: 0 | BD5: 0 | BE5: 0 | BF5: 0.00029428011 | BG5: 6.9378021e-06 | BH5: 0 | BI5: 0 | BJ5: 0 | BK5: 0 | BL5: 0.01310513 | BM5: 0.0041867823 | BN5: 0.001032616 | BO5: 0.0077451178 | BP5: 0.0010878174 | BQ5: 0.00012883187 | BR5: 7.0679555e-05 | BS5: 1.0336423e-06 | BT5: 0.0016213315 | BU5: 7.5844001e-05 | BV5: 0 | BW5: 4.2355075e-06 | BX5: 0.0005425214 | BY5: 0.0002313393 | BZ5: 3.0413162e-06 | CA5: 0 | CB5: 0.072706358 | CC5: 0 | CD5: 0 | CE5: 0 | CF5: 1.1585853e-05 | CG5: 0.0003971433 | CH5: 0 | CI5: 2.8764354e-05 | CJ5: 9.6442567e-07 | CK5: 0 | CL5: 0 | CM5: 7.8024883e-05 | CN5: 3.2348598e-06 | CO5: 0 | CP5: 2.1013063e-05 | CQ5: 0 | CR5: 0 | CS5: 0 | CT5: 0 | CU5: 0 | CV5: 1.7240954e-06 | CW5: 0 | CX5: 0 | CY5: 0 | CZ5: 0 | DA5: 0 | DB5: 0 | DC5: 1.1334073e-06 | DD5: 7.9720509e-08 | DE5: 6.7794436e-06 | DF5: 2.760107e-06 | DG5: 0 | DH5: 0 | DI5: 0 | DJ5: 0 | DK5: 0.00039214956 | DL5: 0.00098161782 | DM5: 3.9188357e-05 | DN5: 5.204603e-05 | DO5: 0 | DP5: 0 | DQ5: 0 | DR5: 0 | DS5: 0 | DT5: 0 | DU5: 0.00013994188 | DV5: 0 | DW5: 0 | DX5: 1.0026567e-07 | DY5: 0 | DZ5: 0 | EA5: 0 | EB5: 0 | EC5: 0 | ED5: 0 | EE5: 0 | EF5: 0 | EG5: 0 | EH5: 0 | EI5: 0 | EJ5: 0.00012016439 | EK5: 8.1446743e-05 | EL5: 1.1571926e-06 | EM5: 0.00024523633 | EN5: 2.2360652e-05 | EO5: 0 | EP5: 0 | EQ5: 0 | ER5: 0 | ES5: 0 | ET5: 0 | EU5: 0 | EV5: 0 | EW5: 0 | EX5: 0 | EY5: 0 | EZ5: 0 | FA5: 0 | FB5: 0 | FC5: 0 | FD5: 0 | FE5: 0 | FF5: 0 | FG5: 0 | FH5: 0 | FI5: 0 | FJ5: 0 | FK5: 0 | FL5: 0 | FM5: 0 | FN5: 0 | FO5: 0 | FP5: 0 | FQ5: 0 | FR5: 0 | FS5: 0 | FT5: 0 | FU5: 0 | FV5: 0 | FW5: 0 | FX5: 0 | FY5: 0 | FZ5: 0 | GA5: 0 | GB5: 0 | GC5: 0 | GD5: 0 | GE5: 0 | GF5: 0 | GG5: 0 | GH5: 0 | GI5: 0.0046167662 | GJ5: 0 | GK5: 0 | GL5: 3.3001733e-06 | GM5: 0 | GN5: 0 | GO5: 0 | GP5: 0 | GQ5: 0 | GR5: 0 | GS5: 0 | GT5: 0 | GU5: 0.0028416562 | GV5: 9.8033365e-07 | GW5: 0.00037931442 | GX5: 2.3804702e-05 | GY5: 4.4508085e-05 | GZ5: 0 | HA5: 7.4474762e-05 | HB5: 0.00020383312 | HC5: 0 | HD5: 0 | HE5: 0 | HF5: 0 | HG5: 0 | HH5: 0 | HI5: 0 | HJ5: 0 | HK5: 0 | HL5: 3.9895435e-06 | HM5: 0 | HN5: 0 | HO5: 0 | HP5: 0 | HQ5: 0 | HR5: 0 | HS5: 0 | HT5: 0 | HU5: 0 | HV5: 0 | HW5: 0 | HX5: 0 | HY5: 0 | HZ5: 0 | IA5: 0 | IB5: 0 | IC5: 0 | ID5: 0 | IE5: 0 | IF5: 0 | IG5: 3.9221923e-07 | IH5: 0 | II5: 0 | IJ5: 0 | IK5: 0 | IL5: 0 | IM5: 0 | IN5: 1.4564905e-07 | IO5: 0 | IP5: 0 | IQ5: 0 | IR5: 0 | IS5: 0 | IT5: 0 | IU5: 0 | IV5: 0 | IW5: 0 | IX5: 0 | IY5: 0 | IZ5: 0 | JA5: 0 | JB5: 0 | JC5: 1.0350096e-08 | JD5: 0 | JE5: 0 | JF5: 0 | JG5: 0 | JH5: 0 | JI5: 0 | JJ5: 0 | JK5: 0 | JL5: 0 | JM5: 0 | JN5: 0 | JO5: 0 | JP5: 0 | JQ5: 0 | JR5: 0 | JS5: 0 | JT5: 0 | JU5: 0 | JV5: 0 | JW5: 0 | JX5: 0 | JY5: 0 | JZ5: 0 | KA5: 0 | KB5: 0 | KC5: 0 | KD5: 0 | KE5: 0 | KF5: 0 | KG5: 0 | KH5: 0 | KI5: 0 | KJ5: 0 | KK5: 3.6069695e-08 | KL5: 0 | KM5: 0 | KN5: 0 | KO5: 0 | KP5: 0 | KQ5: 0 | KR5: 0 | KS5: 0 | KT5: 0 | KU5: 0 | KV5: 0 | KW5: 0 | KX5: 0 | KY5: 0 | KZ5: 0 | LA5: 0 | LB5: 0 | LC5: 0 | LD5: 0 | LE5: 0
A6: =VLOOKUP(B6,List_VISl_projection!A:C,3, FALSE) -> Cux2-IRES-Cre | B6: 495344543 | C6: Cux2-IRES-Cre-203183 | D6: 0 | E6: 0.00038112102 | F6: 0.0078030034 | G6: 0 | H6: 0.020628396 | I6: 0.00035871805 | J6: 0 | K6: 0 | L6: 0.0015341728 | M6: 0 | N6: 0.00047123091 | O6: 0 | P6: 0.00010057013 | Q6: 0.0057631038 | R6: 0.0049961117 | S6: 0.0082540441 | T6: 0.0025788784 | U6: 0.030058351 | V6: 0.032389753 | W6: 0.058366727 | X6: 0.31400101 | Y6: 0.016139904 | Z6: 0.078535634 | AA6: 0.024692135 | AB6: 0.063249123 | AC6: 0.010100998 | AD6: 0.0033069262 | AE6: 0 | AF6: 3.8573348e-05 | AG6: 0 | AH6: 0 | AI6: 0 | AJ6: 0 | AK6: 0.00028151263 | AL6: 0 | AM6: 0.018451539 | AN6: 0.015008842 | AO6: 0.0014293854 | AP6: 0.037159929 | AQ6: 0.067930068 | AR6: 0.028258678 | AS6: 0.0025263387 | AT6: 0.010169243 | AU6: 0 | AV6: 0 | AW6: 0 | AX6: 0 | AY6: 0 | AZ6: 0 | BA6: 0 | BB6: 8.7355535e-05 | BC6: 3.8203787e-05 | BD6: 1.9569112e-05 | BE6: 0 | BF6: 0.00064959852 | BG6: 0.00014708866 | BH6: 0.00014782615 | BI6: 0 | BJ6: 0 | BK6: 0 | BL6: 0.022186941 | BM6: 0.0052261421 | BN6: 0.00050376151 | BO6: 0.0013525074 | BP6: 0.00064528961 | BQ6: 0.00012402589 | BR6: 2.292057e-05 | BS6: 1.5942436e-05 | BT6: 0.00052297017 | BU6: 0.00022151474 | BV6: 7.3114408e-05 | BW6: 2.4999935e-05 | BX6: 0.0020843339 | BY6: 0.0015491573 | BZ6: 3.1804349e-05 | CA6: 2.1532339e-07 | CB6: 0.084996392 | CC6: 0 | CD6: 2.5801409e-05 | CE6: 0 | CF6: 2.9374319e-05 | CG6: 0 | CH6: 0 | CI6: 5.5155853e-06 | CJ6: 3.4795974e-07 | CK6: 3.6349145e-05 | CL6: 0 | CM6: 0.00019813383 | CN6: 2.2433324e-05 | CO6: 0 | CP6: 0 | CQ6: 0 | CR6: 0 | CS6: 0 | CT6: 0 | CU6: 0 | CV6: 0 | CW6: 9.8502001e-06 | CX6: 0 | CY6: 0 | CZ6: 0 | DA6: 0 | DB6: 0 | DC6: 2.1460027e-08 | DD6: 0 | DE6: 2.0628491e-06 | DF6: 0 | DG6: 0 | DH6: 0 | DI6: 3.0281057e-06 | DJ6: 0.00014643331 | DK6: 0.00015322694 | DL6: 0.0030720238 | DM6: 8.5182465e-05 | DN6: 1.8865816e-05 | DO6: 8.4667319e-05 | DP6: 0 | DQ6: 9.9795269e-06 | DR6: 0 | DS6: 0 | DT6: 9.7374033e-07 | DU6: 0.00017065551 | DV6: 0 | DW6: 2.0969446e-05 | DX6: 1.1101402e-05 | DY6: 0 | DZ6: 0 | EA6: 1.2954052e-08 | EB6: 0 | EC6: 0 | ED6: 0 | EE6: 0 | EF6: 8.4632794e-07 | EG6: 2.3573077e-05 | EH6: 0 | EI6: 0 | EJ6: 1.996936e-05 | EK6: 2.5572035e-05 | EL6: 5.9294938e-06 | EM6: 7.5860423e-06 | EN6: 6.0320865e-06 | EO6: 0 | EP6: 0 | EQ6: 0 | ER6: 0 | ES6: 0 | ET6: 0 | EU6: 0 | EV6: 0 | EW6: 0 | EX6: 0 | EY6: 0 | EZ6: 0 | FA6: 0 | FB6: 4.5854676e-06 | FC6: 0 | FD6: 0 | FE6: 0 | FF6: 4.1962597e-06 | FG6: 0 | FH6: 0 | FI6: 0 | FJ6: 0 | FK6: 0 | FL6: 0 | FM6: 0 | FN6: 0 | FO6: 4.0090696e-06 | FP6: 0 | FQ6: 3.7698966e-08 | FR6: 0 | FS6: 0 | FT6: 0 | FU6: 0 | FV6: 0 | FW6: 0 | FX6: 0 | FY6: 0 | FZ6: 0 | GA6: 0 | GB6: 0 | GC6: 0 | GD6: 0 | GE6: 0 | GF6: 0 | GG6: 0 | GH6: 0 | GI6: 0.000275731 | GJ6: 0 | GK6: 0 | GL6: 3.250066e-05 | GM6: 0 | GN6: 0 | GO6: 0 | GP6: 0 | GQ6: 0 | GR6: 0 | GS6: 0 | GT6: 4.4703717e-07 | GU6: 0.0010307719 | GV6: 0 | GW6: 6.8941076e-05 | GX6: 5.1815521e-06 | GY6: 0 | GZ6: 0 | HA6: 6.4514619e-06 | HB6: 0.00014883748 | HC6: 0 | HD6: 0 | HE6: 0 | HF6: 0 | HG6: 0 | HH6: 0 | HI6: 0 | HJ6: 0 | HK6: 0 | HL6: 1.437284e-05 | HM6: 0 | HN6: 0 | HO6: 0 | HP6: 0 | HQ6: 0 | HR6: 0 | HS6: 0 | HT6: 0 | HU6: 0 | HV6: 0 | HW6: 0 | HX6: 0 | HY6: 0 | HZ6: 0 | IA6: 0 | IB6: 0 | IC6: 0 | ID6: 0 | IE6: 0 | IF6: 0 | IG6: 0 | IH6: 0 | II6: 0 | IJ6: 0 | IK6: 0 | IL6: 0 | IM6: 0 | IN6: 0 | IO6: 0 | IP6: 0 | IQ6: 0 | IR6: 0 | IS6: 0 | IT6: 0 | IU6: 0 | IV6: 0 | IW6: 0 | IX6: 0 | IY6: 0 | IZ6: 0 | JA6: 0 | JB6: 0 | JC6: 4.7921367e-06 | JD6: 0 | JE6: 0 | JF6: 0 | JG6: 0 | JH6: 0 | JI6: 0 | JJ6: 0 | JK6: 0 | JL6: 0 | JM6: 0 | JN6: 0 | JO6: 0 | JP6: 0 | JQ6: 0 | JR6: 0 | JS6: 0 | JT6: 0 | JU6: 0 | JV6: 0 | JW6: 0 | JX6: 0 | JY6: 0 | JZ6: 0 | KA6: 0 | KB6: 0 | KC6: 0 | KD6: 0 | KE6: 0 | KF6: 0 | KG6: 0 | KH6: 0 | KI6: 0 | KJ6: 0 | KK6: 0 | KL6: 0 | KM6: 0 | KN6: 0 | KO6: 0 | KP6: 0 | KQ6: 0 | KR6: 0 | KS6: 0 | KT6: 0 | KU6: 0 | KV6: 0 | KW6: 0 | KX6: 0 | KY6: 0 | KZ6: 0 | LA6: 0 | LB6: 0 | LC6: 0 | LD6: 0 | LE6: 0
A7: =VLOOKUP(B7,List_VISl_projection!A:C,3, FALSE) -> Cux2-IRES-Cre | B7: 587344810 | C7: Cux2-IRES-Cre-309605 | D7: 0 | E7: 0.00045824706 | F7: 0.0027864481 | G7: 0 | H7: 0.0047389807 | I7: 0.00057276725 | J7: 0 | K7: 7.0890257e-05 | L7: 0.0020758678 | M7: 0 | N7: 0.0026824178 | O7: 0 | P7: 0.00013215738 | Q7: 0.00486182 | R7: 0.0044728943 | S7: 0.0043097837 | T7: 0.0040534617 | U7: 0.029059767 | V7: 0.024762651 | W7: 0.035697668 | X7: 0.23141773 | Y7: 0.0209694 | Z7: 0.030554506 | AA7: 0.016875447 | AB7: 0.043355622 | AC7: 0.0073744848 | AD7: 0.007246597 | AE7: 0.00033032546 | AF7: 7.1083726e-05 | AG7: 0 | AH7: 0 | AI7: 1.8070687e-05 | AJ7: 0 | AK7: 0.00043192747 | AL7: 2.849548e-05 | AM7: 0.072633997 | AN7: 0.095959553 | AO7: 0.036852906 | AP7: 0.016121127 | AQ7: 0.012642872 | AR7: 0.022731908 | AS7: 0.0035307153 | AT7: 0.0085808866 | AU7: 0 | AV7: 0 | AW7: 0 | AX7: 0.00031617072 | AY7: 0.00055513457 | AZ7: 0 | BA7: 0 | BB7: 0 | BC7: 0 | BD7: 2.3503781e-05 | BE7: 9.2224489e-06 | BF7: 0.0028054999 | BG7: 0.00016220099 | BH7: 0.00010201898 | BI7: 8.5787515e-05 | BJ7: 1.4135029e-05 | BK7: 0 | BL7: 0.021660223 | BM7: 0.011682661 | BN7: 0.0018486544 | BO7: 0.0086223618 | BP7: 0.0043503206 | BQ7: 0.0010834609 | BR7: 0.00019049699 | BS7: 1.5643017e-07 | BT7: 0.0068843882 | BU7: 0.00056285483 | BV7: 0.00020146453 | BW7: 6.5553789e-05 | BX7: 0.0033489172 | BY7: 0.0023165431 | BZ7: 9.0046303e-05 | CA7: 0 | CB7: 0.075060203 | CC7: 0 | CD7: 0 | CE7: 0 | CF7: 7.8199848e-05 | CG7: 0.00028004486 | CH7: 1.1268689e-05 | CI7: 6.5230474e-05 | CJ7: 4.0256418e-05 | CK7: 0 | CL7: 0 | CM7: 0.00011918161 | CN7: 1.0506459e-05 | CO7: 0 | CP7: 0.00028473342 | CQ7: 0 | CR7: 0 | CS7: 0 | CT7: 0 | CU7: 0 | CV7: 4.1888229e-05 | CW7: 0 | CX7: 0 | CY7: 2.8364968e-05 | CZ7: 0 | DA7: 5.5149663e-07 | DB7: 0 | DC7: 9.6089887e-05 | DD7: 0 | DE7: 3.9276568e-05 | DF7: 0 | DG7: 0 | DH7: 0 | DI7: 2.5092564e-05 | DJ7: 0.00012429904 | DK7: 0.0012583576 | DL7: 0.010934887 | DM7: 0.00017375359 | DN7: 0.00027314178 | DO7: 0.0001263062 | DP7: 0 | DQ7: 7.8313568e-05 | DR7: 0 | DS7: 0 | DT7: 0 | DU7: 0.0014100524 | DV7: 0 | DW7: 6.232946e-06 | DX7: 6.0639586e-06 | DY7: 0 | DZ7: 0 | EA7: 0 | EB7: 2.4739349e-06 | EC7: 1.1511614e-05 | ED7: 3.669828e-05 | EE7: 0 | EF7: 6.3768944e-09 | EG7: 7.6958128e-05 | EH7: 0 | EI7: 0 | EJ7: 0.0012320756 | EK7: 0.00013994675 | EL7: 1.098162e-07 | EM7: 0.00057480864 | EN7: 4.458251e-05 | EO7: 0 | EP7: 3.4331985e-07 | EQ7: 0 | ER7: 0 | ES7: 0 | ET7: 0 | EU7: 0 | EV7: 0 | EW7: 0 | EX7: 0 | EY7: 0 | EZ7: 2.0841036e-07 | FA7: 0 | FB7: 0 | FC7: 0 | FD7: 0 | FE7: 0 | FF7: 0 | FG7: 0 | FH7: 0 | FI7: 0 | FJ7: 0 | FK7: 0 | FL7: 0 | FM7: 0 | FN7: 0 | FO7: 0 | FP7: 0 | FQ7: 0 | FR7: 0 | FS7: 0 | FT7: 0 | FU7: 0 | FV7: 0 | FW7: 0 | FX7: 0 | FY7: 0 | FZ7: 0 | GA7: 0 | GB7: 0 | GC7: 0 | GD7: 0 | GE7: 0 | GF7: 0 | GG7: 4.3301694e-05 | GH7: 0 | GI7: 0.0020998365 | GJ7: 0 | GK7: 0 | GL7: 6.5324372e-05 | GM7: 0 | GN7: 0 | GO7: 0 | GP7: 0 | GQ7: 0 | GR7: 0 | GS7: 0 | GT7: 0 | GU7: 0.0019480155 | GV7: 5.5250794e-06 | GW7: 0.00061110238 | GX7: 0.0001933927 | GY7: 0.00014351824 | GZ7: 0 | HA7: 9.0424976e-05 | HB7: 0.00014908455 | HC7: 0 | HD7: 0 | HE7: 0 | HF7: 0 | HG7: 0 | HH7: 0 | HI7: 0 | HJ7: 0 | HK7: 0 | HL7: 3.917634e-06 | HM7: 0 | HN7: 0 | HO7: 0 | HP7: 0 | HQ7: 0 | HR7: 0 | HS7: 0 | HT7: 0 | HU7: 0 | HV7: 0 | HW7: 0 | HX7: 0 | HY7: 0 | HZ7: 0 | IA7: 0 | IB7: 0 | IC7: 0 | ID7: 0 | IE7: 0 | IF7: 0 | IG7: 0 | IH7: 0 | II7: 0 | IJ7: 0 | IK7: 0 | IL7: 0 | IM7: 0 | IN7: 0 | IO7: 0 | IP7: 0 | IQ7: 0 | IR7: 0 | IS7: 0 | IT7: 0 | IU7: 0 | IV7: 0 | IW7: 0 | IX7: 0 | IY7: 0 | IZ7: 0 | JA7: 0 | JB7: 0 | JC7: 0 | JD7: 0 | JE7: 0 | JF7: 0 | JG7: 0 | JH7: 0 | JI7: 0 | JJ7: 0 | JK7: 0 | JL7: 0 | JM7: 0 | JN7: 0 | JO7: 0 | JP7: 0 | JQ7: 0 | JR7: 0 | JS7: 0 | JT7: 0 | JU7: 0 | JV7: 0 | JW7: 0 | JX7: 0 | JY7: 0 | JZ7: 0 | KA7: 0 | KB7: 0 | KC7: 0 | KD7: 0 | KE7: 0 | KF7: 0 | KG7: 0 | KH7: 0 | KI7: 0 | KJ7: 0 | KK7: 0 | KL7: 0 | KM7: 0 | KN7: 0 | KO7: 0 | KP7: 0 | KQ7: 0 | KR7: 0 | KS7: 0 | KT7: 0 | KU7: 0 | KV7: 0 | KW7: 0 | KX7: 0 | KY7: 0 | KZ7: 0 | LA7: 0 | LB7: 0 | LC7: 0 | LD7: 0 | LE7: 0
A8: =VLOOKUP(B8,List_VISl_projection!A:C,3, FALSE) -> Cux2-IRES-Cre | B8: 592518697 | C8: Cux2-IRES-Cre-314798 | D8: 0 | E8: 0.00089262465 | F8: 0.0057894837 | G8: 0 | H8: 0.0082907827 | I8: 0.00066863835 | J8: 0 | K8: 8.4116235e-05 | L8: 0.0025785325 | M8: 9.4598618e-05 | N8: 0.0032018369 | O8: 0 | P8: 0.00061231433 | Q8: 0.0087652558 | R8: 0.0088069699 | S8: 0.0092076446 | T8: 0.0085820848 | U8: 0.03823667 | V8: 0.029621649 | W8: 0.019935195 | X8: 0.21055876 | Y8: 0.02296423 | Z8: 0.045525944 | AA8: 0.0079223964 | AB8: 0.039867726 | AC8: 0.0080686593 | AD8: 0.0054500207 | AE8: 0.0018524576 | AF8: 0.00037539083 | AG8: 0.00014554955 | AH8: 0.00038566676 | AI8: 0.0011842782 | AJ8: 0.0001726944 | AK8: 0.0016178242 | AL8: 0.00071691379 | AM8: 0.051702675 | AN8: 0.057391772 | AO8: 0.012859809 | AP8: 0.019197617 | AQ8: 0.012105757 | AR8: 0.038087195 | AS8: 0.0067684682 | AT8: 0.019492231 | AU8: 0 | AV8: 0 | AW8: 0 | AX8: 0.00022076373 | AY8: 0.00044882033 | AZ8: 0.00037832191 | BA8: 6.2614962e-07 | BB8: 8.5537678e-06 | BC8: 7.150886e-05 | BD8: 2.5496388e-05 | BE8: 0.000410197 | BF8: 0.0016059625 | BG8: 0.00012529342 | BH8: 0.00016037104 | BI8: 0 | BJ8: 4.7667187e-05 | BK8: 0 | BL8: 0.065621718 | BM8: 0.026531282 | BN8: 0.0030613549 | BO8: 0.007668062 | BP8: 0.002286217 | BQ8: 0.0016397981 | BR8: 0.0016751779 | BS8: 0 | BT8: 0.0041195065 | BU8: 0.001410562 | BV8: 0.00054243218 | BW8: 0.00020540843 | BX8: 0.010280802 | BY8: 0.011816979 | BZ8: 0.00095743897 | CA8: 4.635771e-06 | CB8: 0.075268397 | CC8: 0.00012506621 | CD8: 8.2603547e-05 | CE8: 0 | CF8: 9.4932169e-05 | CG8: 0.00068232252 | CH8: 1.2976959e-08 | CI8: 7.4499041e-05 | CJ8: 1.862276e-05 | CK8: 2.2765132e-05 | CL8: 2.6772729e-08 | CM8: 0.0014991544 | CN8: 0.00017653592 | CO8: 0 | CP8: 0.00011109839 | CQ8: 0 | CR8: 0 | CS8: 0 | CT8: 2.1051658e-05 | CU8: 0 | CV8: 3.240132e-05 | CW8: 2.8738448e-07 | CX8: 0 | CY8: 4.201275e-05 | CZ8: 5.3695934e-05 | DA8: 4.0878452e-05 | DB8: 0 | DC8: 3.0535751e-05 | DD8: 9.3112545e-09 | DE8: 7.0926011e-06 | DF8: 8.4673738e-07 | DG8: 0 | DH8: 1.979317e-07 | DI8: 0 | DJ8: 6.8487435e-05 | DK8: 0.0014374458 | DL8: 0.0067241465 | DM8: 0.00013946324 | DN8: 0.00040341498 | DO8: 0.0001971229 | DP8: 0 | DQ8: 0.00016009788 | DR8: 0 | DS8: 2.0397841e-07 | DT8: 0 | DU8: 0.00052379996 | DV8: 0 | DW8: 0 | DX8: 4.156765e-05 | DY8: 1.8266026e-05 | DZ8: 0 | EA8: 3.7495188e-06 | EB8: 2.7809111e-05 | EC8: 0 | ED8: 3.1461379e-05 | EE8: 4.0845327e-09 | EF8: 4.8012301e-07 | EG8: 1.5662439e-05 | EH8: 7.3764446e-06 | EI8: 5.8147454e-06 | EJ8: 0.00061388402 | EK8: 0.00013759069 | EL8: 6.381507e-06 | EM8: 0.00065371437 | EN8: 3.3753465e-05 | EO8: 0 | EP8: 8.7852281e-07 | EQ8: 0 | ER8: 0 | ES8: 0 | ET8: 0 | EU8: 0 | EV8: 0 | EW8: 0 | EX8: 0 | EY8: 0 | EZ8: 1.8227325e-06 | FA8: 0 | FB8: 0 | FC8: 0 | FD8: 0 | FE8: 0 | FF8: 0 | FG8: 0 | FH8: 0 | FI8: 1.8948804e-07 | FJ8: 0 | FK8: 0 | FL8: 0 | FM8: 0 | FN8: 0 | FO8: 0 | FP8: 0 | FQ8: 0 | FR8: 0 | FS8: 0 | FT8: 0 | FU8: 0 | FV8: 0 | FW8: 9.1630102e-07 | FX8: 1.9713629e-06 | FY8: 0 | FZ8: 0 | GA8: 0 | GB8: 0 | GC8: 0 | GD8: 0 | GE8: 0 | GF8: 0 | GG8: 5.7404959e-06 | GH8: 0 | GI8: 0.002286935 | GJ8: 0 | GK8: 0 | GL8: 3.7247029e-05 | GM8: 8.7509393e-06 | GN8: 0 | GO8: 0 | GP8: 0 | GQ8: 0 | GR8: 0 | GS8: 0 | GT8: 2.301885e-05 | GU8: 0.0022441579 | GV8: 4.8802628e-06 | GW8: 0.00055232786 | GX8: 3.8295701e-05 | GY8: 0.00026029671 | GZ8: 0 | HA8: 4.4476193e-05 | HB8: 6.8004396e-05 | HC8: 0 | HD8: 0 | HE8: 0 | HF8: 0 | HG8: 0 | HH8: 0 | HI8: 0 | HJ8: 0 | HK8: 0 | HL8: 3.6933508e-07 | HM8: 0 | HN8: 0 | HO8: 0 | HP8: 0 | HQ8: 0 | HR8: 0 | HS8: 0 | HT8: 0 | HU8: 0 | HV8: 0 | HW8: 0 | HX8: 0 | HY8: 0 | HZ8: 0 | IA8: 0 | IB8: 0 | IC8: 0 | ID8: 0 | IE8: 0 | IF8: 0 | IG8: 2.6734799e-07 | IH8: 0 | II8: 0 | IJ8: 2.4893144e-08 | IK8: 0 | IL8: 0 | IM8: 0 | IN8: 6.4234849e-06 | IO8: 0 | IP8: 0 | IQ8: 0 | IR8: 1.2919175e-06 | IS8: 0 | IT8: 0 | IU8: 0 | IV8: 0 | IW8: 0 | IX8: 0 | IY8: 0 | IZ8: 0 | JA8: 0 | JB8: 0 | JC8: 0 | JD8: 0 | JE8: 0 | JF8: 0 | JG8: 0 | JH8: 0 | JI8: 0 | JJ8: 0 | JK8: 0 | JL8: 0 | JM8: 0 | JN8: 0 | JO8: 0 | JP8: 0 | JQ8: 0 | JR8: 0 | JS8: 0 | JT8: 0 | JU8: 0 | JV8: 0 | JW8: 0 | JX8: 0 | JY8: 0 | JZ8: 0 | KA8: 0 | KB8: 0 | KC8: 0 | KD8: 0 | KE8: 0 | KF8: 0 | KG8: 0 | KH8: 0 | KI8: 0 | KJ8: 0 | KK8: 0 | KL8: 0 | KM8: 0 | KN8: 0 | KO8: 0 | KP8: 0 | KQ8: 0 | KR8: 0 | KS8: 0 | KT8: 0 | KU8: 0 | KV8: 0 | KW8: 0 | KX8: 0 | KY8: 0 | KZ8: 0 | LA8: 0 | LB8: 0 | LC8: 0 | LD8: 0 | LE8: 0
A9: =VLOOKUP(B9,List_VISl_projection!A:C,3, FALSE) -> Emx1-IRES-Cre | B9: 479673887 | C9: Emx1-IRES-Cre-191133 | D9: 0 | E9: 0.00080783944 | F9: 0.0094962122 | G9: 0 | H9: 0.0083331552 | I9: 0.00050047979 | J9: 0 | K9: 8.5757525e-05 | L9: 0.00099038481 | M9: 2.1136552e-05 | N9: 0.001478335 | O9: 0 | P9: 0 | Q9: 0.0034002446 | R9: 0.0047529081 | S9: 0.0063427863 | T9: 0.0014461323 | U9: 0.03617217 | V9: 0.014290774 | W9: 0.038390656 | X9: 0.23388049 | Y9: 0.02779234 | Z9: 0.036349747 | AA9: 0.022933636 | AB9: 0.047584075 | AC9: 0.01438275 | AD9: 0.0055216221 | AE9: 0.00016948256 | AF9: 8.3362545e-05 | AG9: 0.00055314326 | AH9: 0.00015156924 | AI9: 0.0030689879 | AJ9: 9.7745601e-06 | AK9: 0.00018532476 | AL9: 5.996087e-05 | AM9: 0.017863049 | AN9: 0.034912772 | AO9: 0.014682938 | AP9: 0.0068681883 | AQ9: 0.020998279 | AR9: 0.014312087 | AS9: 0.00055220612 | AT9: 0.0013285789 | AU9: 0 | AV9: 0 | AW9: 0 | AX9: 5.5171009e-06 | AY9: 7.353165e-05 | AZ9: 0 | BA9: 0 | BB9: 1.8476794e-06 | BC9: 0 | BD9: 0 | BE9: 0 | BF9: 0.00082314659 | BG9: 0.00010358351 | BH9: 0.00020488634 | BI9: 6.3670823e-06 | BJ9: 0 | BK9: 3.6877408e-05 | BL9: 0.0080120672 | BM9: 0.011158966 | BN9: 0.0032460585 | BO9: 0.0050123685 | BP9: 0.0018593635 | BQ9: 0.00036545453 | BR9: 1.9025397e-05 | BS9: 0 | BT9: 0.003323856 | BU9: 0.00063408133 | BV9: 0.00019189646 | BW9: 9.8156007e-06 | BX9: 0.0012741099 | BY9: 6.740134e-05 | BZ9: 1.5139636e-06 | CA9: 0 | CB9: 0.08651745 | CC9: 0 | CD9: 0 | CE9: 0 | CF9: 9.3745151e-06 | CG9: 2.3610052e-05 | CH9: 9.0452075e-09 | CI9: 8.4278367e-07 | CJ9: 4.1321256e-06 | CK9: 0 | CL9: 6.4773663e-08 | CM9: 0 | CN9: 0 | CO9: 0 | CP9: 0.00022216723 | CQ9: 0 | CR9: 0 | CS9: 0 | CT9: 0 | CU9: 0 | CV9: 0 | CW9: 4.2037251e-06 | CX9: 0 | CY9: 0.00045708216 | CZ9: 2.0798277e-05 | DA9: 0.0010046536 | DB9: 1.099421e-07 | DC9: 0.0012359866 | DD9: 8.9999437e-07 | DE9: 0.0003967588 | DF9: 4.6460121e-06 | DG9: 2.1451034e-05 | DH9: 1.9290322e-06 | DI9: 0.00024814139 | DJ9: 0.002868138 | DK9: 0.019865951 | DL9: 0.029394343 | DM9: 0.00098361082 | DN9: 0.00073784096 | DO9: 0.0015789553 | DP9: 0.00019403082 | DQ9: 3.8114803e-05 | DR9: 0.00019136335 | DS9: 9.1830956e-06 | DT9: 3.8957383e-05 | DU9: 0.012738847 | DV9: 0 | DW9: 2.2927741e-05 | DX9: 1.4970824e-05 | DY9: 1.7863942e-05 | DZ9: 2.3117084e-07 | EA9: 2.5200398e-07 | EB9: 2.1799516e-05 | EC9: 9.7373953e-07 | ED9: 2.3183942e-06 | EE9: 3.0713754e-06 | EF9: 1.173644e-06 | EG9: 0.00070715803 | EH9: 4.3246279e-06 | EI9: 0.00016105117 | EJ9: 0.0078224104 | EK9: 0.0014428865 | EL9: 0.00018302901 | EM9: 0.0071871967 | EN9: 0.00037595869 | EO9: 4.1407198e-09 | EP9: 7.7245764e-05 | EQ9: 0 | ER9: 0 | ES9: 1.1460181e-08 | ET9: 0 | EU9: 0 | EV9: 0 | EW9: 0 | EX9: 0 | EY9: 0 | EZ9: 0 | FA9: 1.3748478e-07 | FB9: 0 | FC9: 0 | FD9: 0 | FE9: 0 | FF9: 7.7500857e-07 | FG9: 0 | FH9: 0 | FI9: 0 | FJ9: 0 | FK9: 0 | FL9: 8.760554e-07 | FM9: 0 | FN9: 0 | FO9: 0 | FP9: 0 | FQ9: 2.9623233e-07 | FR9: 0 | FS9: 0 | FT9: 0 | FU9: 0 | FV9: 0 | FW9: 0 | FX9: 0 | FY9: 0 | FZ9: 0 | GA9: 0 | GB9: 0 | GC9: 0 | GD9: 0 | GE9: 1.5410065e-06 | GF9: 0 | GG9: 0.0011852807 | GH9: 8.6258193e-06 | GI9: 0.014030825 | GJ9: 0 | GK9: 0 | GL9: 0.00013863442 | GM9: 0.00021458784 | GN9: 1.6471762e-06 | GO9: 7.4647003e-08 | GP9: 0.00019480302 | GQ9: 0 | GR9: 0 | GS9: 0 | GT9: 0.00065918822 | GU9: 0.017649249 | GV9: 0.00013088373 | GW9: 0.0066205811 | GX9: 0.00078034874 | GY9: 0.0030304109 | GZ9: 3.2985838e-05 | HA9: 0.0010762986 | HB9: 0.0021157893 | HC9: 0 | HD9: 0 | HE9: 0 | HF9: 0 | HG9: 0 | HH9: 0 | HI9: 0 | HJ9: 0 | HK9: 0 | HL9: 0.000194497 | HM9: 0 | HN9: 0 | HO9: 1.945706e-08 | HP9: 3.6418549e-09 | HQ9: 0 | HR9: 0 | HS9: 9.4585593e-07 | HT9: 0 | HU9: 6.3362517e-09 | HV9: 0 | HW9: 0 | HX9: 0 | HY9: 1.8338912e-06 | HZ9: 0 | IA9: 0 | IB9: 0 | IC9: 0 | ID9: 0.00068899345 | IE9: 1.7453532e-06 | IF9: 0 | IG9: 2.2354089e-06 | IH9: 0.00023995655 | II9: 7.4305141e-08 | IJ9: 0 | IK9: 0 | IL9: 0 | IM9: 0 | IN9: 0 | IO9: 0 | IP9: 0 | IQ9: 0 | IR9: 3.0433742e-05 | IS9: 0 | IT9: 0 | IU9: 0 | IV9: 5.0281561e-07 | IW9: 0 | IX9: 4.9913308e-06 | IY9: 0 | IZ9: 0 | JA9: 0 | JB9: 3.9056451e-06 | JC9: 8.0071464e-07 | JD9: 0 | JE9: 0 | JF9: 5.2797056e-07 | JG9: 2.2127438e-05 | JH9: 4.0517324e-08 | JI9: 2.2178626e-06 | JJ9: 0 | JK9: 4.3860865e-07 | JL9: 0 | JM9: 6.4612523e-05 | JN9: 1.3642794e-06 | JO9: 5.737654e-06 | JP9: 3.0485088e-06 | JQ9: 0 | JR9: 1.0598604e-06 | JS9: 2.8761924e-05 | JT9: 4.6081531e-06 | JU9: 1.1087603e-05 | JV9: 1.0602157e-05 | JW9: 1.9405834e-05 | JX9: 0 | JY9: 1.9314658e-07 | JZ9: 2.9568883e-05 | KA9: 0 | KB9: 0 | KC9: 9.4621341e-06 | KD9: 0 | KE9: 0 | KF9: 0 | KG9: 0 | KH9: 6.3808226e-07 | KI9: 0 | KJ9: 0 | KK9: 6.3508167e-07 | KL9: 0 | KM9: 6.8299813e-07 | KN9: 0 | KO9: 0 | KP9: 0 | KQ9: 0 | KR9: 0 | KS9: 0 | KT9: 0 | KU9: 0 | KV9: 0 | KW9: 0 | KX9: 0 | KY9: 0 | KZ9: 0 | LA9: 0 | LB9: 0 | LC9: 0 | LD9: 0 | LE9: 9.487888e-07
A10: =VLOOKUP(B10,List_VISl_projection!A:C,3, FALSE) -> Emx1-IRES-Cre | B10: 479700629 | C10: Emx1-IRES-Cre-191134 | D10: 0 | E10: 0.00069353368 | F10: 0.010129328 | G10: 0 | H10: 0.011385235 | I10: 0.00026561752 | J10: 0 | K10: 2.7300951e-06 | L10: 0.00052636054 | M10: 0 | N10: 0.001108275 | O10: 0 | P10: 0 | Q10: 0.0034993865 | R10: 0.0032889056 | S10: 0.0058268559 | T10: 0.0012714951 | U10: 0.045577177 | V10: 0.01375859 | W10: 0.037817474 | X10: 0.22704692 | Y10: 0.039154454 | Z10: 0.051810165 | AA10: 0.023827136 | AB10: 0.05445763 | AC10: 0.01316566 | AD10: 0.0042404514 | AE10: 4.1407326e-05 | AF10: 8.7090497e-05 | AG10: 0 | AH10: 0 | AI10: 0.0015778147 | AJ10: 0 | AK10: 6.9125966e-05 | AL10: 7.2072758e-05 | AM10: 0.013146194 | AN10: 0.026410094 | AO10: 0.005213112 | AP10: 0.0063799903 | AQ10: 0.020083337 | AR10: 0.016551609 | AS10: 0.0029170651 | AT10: 0.0042895763 | AU10: 0 | AV10: 0 | AW10: 0 | AX10: 3.1448753e-05 | AY10: 0.00018867198 | AZ10: 0 | BA10: 0 | BB10: 0 | BC10: 0 | BD10: 0 | BE10: 0 | BF10: 0.0011744295 | BG10: 0.00018483845 | BH10: 0.00055752519 | BI10: 0 | BJ10: 0 | BK10: 0 | BL10: 0.02673302 | BM10: 0.01648264 | BN10: 0.0026025533 | BO10: 0.0053633843 | BP10: 0.0020036401 | BQ10: 0.00053937818 | BR10: 6.2086591e-05 | BS10: 0 | BT10: 0.0035739324 | BU10: 0.00012452206 | BV10: 4.5997008e-05 | BW10: 0 | BX10: 0.0013777825 | BY10: 0.00091662376 | BZ10: 2.0454903e-05 | CA10: 0 | CB10: 0.11605564 | CC10: 0 | CD10: 0 | CE10: 0 | CF10: 3.4195454e-05 | CG10: 8.5676966e-05 | CH10: 1.198981e-06 | CI10: 0 | CJ10: 1.5560417e-05 | CK10: 0 | CL10: 0 | CM10: 8.0918217e-05 | CN10: 1.2623272e-05 | CO10: 0 | CP10: 0.00015855967 | CQ10: 0 | CR10: 0 | CS10: 0 | CT10: 0 | CU10: 0 | CV10: 0 | CW10: 2.0048543e-06 | CX10: 0 | CY10: 2.0518323e-05 | CZ10: 4.8438732e-06 | DA10: 0.00017423173 | DB10: 0 | DC10: 0.00075379209 | DD10: 2.3969868e-09 | DE10: 0.00016921386 | DF10: 0 | DG10: 8.0414365e-07 | DH10: 6.2804826e-07 | DI10: 0.00021858669 | DJ10: 0.0022105856 | DK10: 0.012431918 | DL10: 0.024686681 | DM10: 0.00087129792 | DN10: 0.0007249889 | DO10: 0.00098294857 | DP10: 2.63536e-05 | DQ10: 1.6501164e-06 | DR10: 4.9385928e-06 | DS10: 0 | DT10: 4.3512444e-06 | DU10: 0.0082993996 | DV10: 0 | DW10: 6.925529e-10 | DX10: 1.1941157e-05 | DY10: 2.0020969e-06 | DZ10: 0 | EA10: 3.9689625e-08 | EB10: 7.090622e-06 | EC10: 6.3998498e-06 | ED10: 3.356504e-07 | EE10: 0 | EF10: 0 | EG10: 9.2659008e-05 | EH10: 1.4597252e-06 | EI10: 0.000108587 | EJ10: 0.0037238539 | EK10: 0.0016648184 | EL10: 0.00018736883 | EM10: 0.0076018603 | EN10: 0.0004027569 | EO10: 0 | EP10: 5.8251315e-06 | EQ10: 0 | ER10: 0 | ES10: 0 | ET10: 0 | EU10: 0 | EV10: 0 | EW10: 0 | EX10: 0 | EY10: 0 | EZ10: 2.5946895e-07 | FA10: 3.605001e-07 | FB10: 0 | FC10: 0 | FD10: 0 | FE10: 0 | FF10: 0 | FG10: 0 | FH10: 0 | FI10: 0 | FJ10: 0 | FK10: 0 | FL10: 0 | FM10: 0 | FN10: 0 | FO10: 0 | FP10: 0 | FQ10: 0 | FR10: 0 | FS10: 0 | FT10: 0 | FU10: 0 | FV10: 0 | FW10: 0 | FX10: 0 | FY10: 0 | FZ10: 0 | GA10: 0 | GB10: 1.4935331e-06 | GC10: 0 | GD10: 0 | GE10: 0 | GF10: 0 | GG10: 0.00081218297 | GH10: 0 | GI10: 0.010929932 | GJ10: 0 | GK10: 0 | GL10: 7.5165668e-05 | GM10: 6.5508963e-05 | GN10: 0 | GO10: 0 | GP10: 0.00023988998 | GQ10: 0 | GR10: 0 | GS10: 0 | GT10: 0.00026717909 | GU10: 0.013152121 | GV10: 4.5149075e-05 | GW10: 0.0072534771 | GX10: 0.00060634004 | GY10: 0.0034833062 | GZ10: 2.279041e-06 | HA10: 0.00098087738 | HB10: 0.0025744173 | HC10: 0 | HD10: 0 | HE10: 0 | HF10: 0 | HG10: 0 | HH10: 0 | HI10: 0 | HJ10: 0 | HK10: 0 | HL10: 0.00012472538 | HM10: 0 | HN10: 0 | HO10: 7.2193692e-10 | HP10: 7.6262096e-06 | HQ10: 0 | HR10: 0 | HS10: 0 | HT10: 0 | HU10: 0 | HV10: 0 | HW10: 0 | HX10: 0 | HY10: 0 | HZ10: 0 | IA10: 0 | IB10: 0 | IC10: 0 | ID10: 0.00091597757 | IE10: 0 | IF10: 0 | IG10: 0 | IH10: 0.00035063707 | II10: 0 | IJ10: 0 | IK10: 0 | IL10: 0 | IM10: 0 | IN10: 0 | IO10: 0 | IP10: 0 | IQ10: 0 | IR10: 6.0398251e-07 | IS10: 0 | IT10: 0 | IU10: 0 | IV10: 0 | IW10: 0 | IX10: 0 | IY10: 0 | IZ10: 0 | JA10: 0 | JB10: 0 | JC10: 0 | JD10: 0 | JE10: 0 | JF10: 0 | JG10: 0 | JH10: 0 | JI10: 0 | JJ10: 0 | JK10: 0 | JL10: 0 | JM10: 0 | JN10: 0 | JO10: 0 | JP10: 0 | JQ10: 0 | JR10: 0 | JS10: 0 | JT10: 0 | JU10: 0 | JV10: 0 | JW10: 0 | JX10: 0 | JY10: 0 | JZ10: 0 | KA10: 0 | KB10: 0 | KC10: 0 | KD10: 0 | KE10: 0 | KF10: 0 | KG10: 0 | KH10: 0 | KI10: 0 | KJ10: 0 | KK10: 0 | KL10: 0 | KM10: 0 | KN10: 0 | KO10: 0 | KP10: 0 | KQ10: 0 | KR10: 0 | KS10: 0 | KT10: 0 | KU10: 0 | KV10: 0 | KW10: 0 | KX10: 0 | KY10: 0 | KZ10: 0 | LA10: 0 | LB10: 0 | LC10: 0 | LD10: 0 | LE10: 0
A11: =VLOOKUP(B11,List_VISl_projection!A:C,3, FALSE) -> Emx1-IRES-Cre | B11: 479673174 | C11: Emx1-IRES-Cre-191135 | D11: 0 | E11: 0.0014405844 | F11: 0.0096628829 | G11: 0 | H11: 0.0093787074 | I11: 0.00060928591 | J11: 0 | K11: 0.0002097618 | L11: 0.0017758321 | M11: 0.00014076781 | N11: 0.0031740662 | O11: 2.0538795e-06 | P11: 0.00069486613 | Q11: 0.0041517804 | R11: 0.0079329202 | S11: 0.0053946493 | T11: 0.0053551376 | U11: 0.0089798631 | V11: 0.016200669 | W11: 0.011586357 | X11: 0.17105332 | Y11: 0.012315631 | Z11: 0.033896514 | AA11: 0.0050295919 | AB11: 0.029782509 | AC11: 0.0089617335 | AD11: 0.0044993801 | AE11: 0.00059852116 | AF11: 0.00012432792 | AG11: 0.0004589402 | AH11: 0.00016980402 | AI11: 0.0027138641 | AJ11: 7.9229503e-05 | AK11: 0.00098921961 | AL11: 0.00028575342 | AM11: 0.020983951 | AN11: 0.024832306 | AO11: 0.0071894902 | AP11: 0.009225078 | AQ11: 0.018778029 | AR11: 0.024565251 | AS11: 0.0041010813 | AT11: 0.010965853 | AU11: 0 | AV11: 0 | AW11: 0 | AX11: 0.00042621368 | AY11: 0.00046060542 | AZ11: 0.00037406097 | BA11: 8.2687427e-06 | BB11: 1.2104233e-05 | BC11: 1.4497416e-05 | BD11: 2.5086975e-06 | BE11: 0.0001006945 | BF11: 0.0035389423 | BG11: 0.00037428367 | BH11: 0.0010727413 | BI11: 0.00010541122 | BJ11: 1.7477196e-06 | BK11: 2.5997107e-05 | BL11: 0.037997958 | BM11: 0.020550826 | BN11: 0.0027456113 | BO11: 0.0056667921 | BP11: 0.0021688773 | BQ11: 0.0015411037 | BR11: 0.0010700939 | BS11: 4.8676329e-07 | BT11: 0.0027596431 | BU11: 0.0010448371 | BV11: 0.00058092791 | BW11: 0.00015241584 | BX11: 0.0047700544 | BY11: 0.0058020289 | BZ11: 0.00041730006 | CA11: 9.8940147e-08 | CB11: 0.09900031 | CC11: 0.00019878251 | CD11: 2.9527722e-05 | CE11: 0 | CF11: 6.6281275e-05 | CG11: 0.00040036805 | CH11: 2.6352277e-06 | CI11: 6.0063463e-05 | CJ11: 2.7081478e-05 | CK11: 3.1677405e-05 | CL11: 6.2245642e-08 | CM11: 0.00093001171 | CN11: 0.00014669512 | CO11: 2.5556735e-05 | CP11: 0.0013937944 | CQ11: 3.4483804e-05 | CR11: 1.938331e-05 | CS11: 0 | CT11: 8.3024301e-06 | CU11: 0 | CV11: 4.2302383e-05 | CW11: 9.2098502e-07 | CX11: 0 | CY11: 0.00022386093 | CZ11: 0.0001099469 | DA11: 0.00091899361 | DB11: 1.8575531e-06 | DC11: 0.0015512986 | DD11: 5.6260736e-06 | DE11: 0.00083779649 | DF11: 2.6915472e-05 | DG11: 0.00011381272 | DH11: 9.8703913e-06 | DI11: 0.00092015712 | DJ11: 0.0036897811 | DK11: 0.019039923 | DL11: 0.034644899 | DM11: 0.0012814947 | DN11: 0.0014349663 | DO11: 0.0015203392 | DP11: 0.00018140523 | DQ11: 2.6657622e-05 | DR11: 0.00012149446 | DS11: 1.0450515e-06 | DT11: 1.0795856e-05 | DU11: 0.016547597 | DV11: 6.3991661e-08 | DW11: 3.0339741e-05 | DX11: 9.7796976e-05 | DY11: 6.978109e-05 | DZ11: 7.0291905e-06 | EA11: 1.6147014e-06 | EB11: 0.00012931727 | EC11: 8.8510461e-06 | ED11: 2.2051325e-05 | EE11: 8.5764137e-07 | EF11: 1.367697e-06 | EG11: 0.00062200688 | EH11: 0.00015276223 | EI11: 0.00077886878 | EJ11: 0.006758751 | EK11: 0.0030090958 | EL11: 0.00039172095 | EM11: 0.016728003 | EN11: 0.0009187637 | EO11: 1.633525e-05 | EP11: 6.4379322e-05 | EQ11: 0 | ER11: 0 | ES11: 4.9929578e-07 | ET11: 0 | EU11: 0 | EV11: 0 | EW11: 0 | EX11: 0 | EY11: 4.348222e-07 | EZ11: 1.1607217e-09 | FA11: 1.2268463e-06 | FB11: 3.6350949e-07 | FC11: 0 | FD11: 0 | FE11: 0 | FF11: 0 | FG11: 9.3361363e-07 | FH11: 0 | FI11: 1.8645981e-06 | FJ11: 0 | FK11: 1.9560358e-07 | FL11: 0 | FM11: 2.6542429e-06 | FN11: 0 | FO11: 0 | FP11: 0 | FQ11: 1.9957414e-08 | FR11: 0 | FS11: 1.9596118e-06 | FT11: 0 | FU11: 0 | FV11: 2.459773e-06 | FW11: 8.9895146e-09 | FX11: 8.5775485e-06 | FY11: 0 | FZ11: 6.0315739e-06 | GA11: 0 | GB11: 0 | GC11: 0 | GD11: 0 | GE11: 4.7655552e-05 | GF11: 0 | GG11: 0.0046268288 | GH11: 0 | GI11: 0.028715125 | GJ11: 0.00272264 | GK11: 0.00046445248 | GL11: 0.00065863724 | GM11: 0.00028703314 | GN11: 0 | GO11: 1.661437e-07 | GP11: 0.00042098654 | GQ11: 3.3805083e-06 | GR11: 0 | GS11: 3.0070142e-07 | GT11: 0.0035590169 | GU11: 0.051413441 | GV11: 0.0024394906 | GW11: 0.013007681 | GX11: 0.00095742609 | GY11: 0.0045288795 | GZ11: 8.4048237e-05 | HA11: 0.0012470427 | HB11: 0.0042416202 | HC11: 0.00011340899 | HD11: 4.9208198e-05 | HE11: 2.8443834e-08 | HF11: 0 | HG11: 0 | HH11: 0 | HI11: 0 | HJ11: 0 | HK11: 3.8227518e-08 | HL11: 0.00031766874 | HM11: 8.1129964e-05 | HN11: 1.2614812e-05 | HO11: 7.6593062e-06 | HP11: 0.00024152052 | HQ11: 3.4859953e-07 | HR11: 0 | HS11: 0 | HT11: 0 | HU11: 2.860227e-08 | HV11: 0 | HW11: 0 | HX11: 8.2068955e-06 | HY11: 4.6798408e-07 | HZ11: 0 | IA11: 0 | IB11: 0 | IC11: 0 | ID11: 0.00293409 | IE11: 7.0882998e-06 | IF11: 0 | IG11: 6.0370593e-07 | IH11: 0.00058611482 | II11: 2.6687079e-08 | IJ11: 0 | IK11: 0 | IL11: 0 | IM11: 0 | IN11: 3.5178291e-06 | IO11: 0 | IP11: 3.3749652e-06 | IQ11: 7.4956858e-07 | IR11: 0.00026311325 | IS11: 0 | IT11: 0 | IU11: 8.4735079e-08 | IV11: 1.0502637e-07 | IW11: 0 | IX11: 0 | IY11: 0 | IZ11: 0 | JA11: 0 | JB11: 1.3044372e-07 | JC11: 0 | JD11: 0 | JE11: 0 | JF11: 0 | JG11: 0 | JH11: 0 | JI11: 2.9648555e-07 | JJ11: 0 | JK11: 0 | JL11: 0 | JM11: 0 | JN11: 0 | JO11: 0 | JP11: 0 | JQ11: 0 | JR11: 0 | JS11: 0 | JT11: 0 | JU11: 0 | JV11: 0 | JW11: 0 | JX11: 0 | JY11: 0 | JZ11: 0 | KA11: 0 | KB11: 0 | KC11: 1.0124985e-07 | KD11: 0 | KE11: 0 | KF11: 0 | KG11: 0 | KH11: 0 | KI11: 0 | KJ11: 0 | KK11: 3.9150101e-08 | KL11: 0 | KM11: 0 | KN11: 0 | KO11: 0 | KP11: 0 | KQ11: 0 | KR11: 0 | KS11: 0 | KT11: 0 | KU11: 0 | KV11: 0 | KW11: 0 | KX11: 0 | KY11: 0 | KZ11: 0 | LA11: 0 | LB11: 0 | LC11: 0 | LD11: 0 | LE11: 0
A12: =VLOOKUP(B12,List_VISl_projection!A:C,3, FALSE) -> Emx1-IRES-Cre | B12: 479980810 | C12: Emx1-IRES-Cre-194296 | D12: 0 | E12: 0.00091378631 | F12: 0.0058413288 | G12: 0 | H12: 0.0096490025 | I12: 0.00036508839 | J12: 6.259382e-05 | K12: 0.00028994139 | L12: 0.001311988 | M12: 0.00010490478 | N12: 0.0012353483 | O12: 0 | P12: 0.00023949411 | Q12: 0.0028897011 | R12: 0.0057501432 | S12: 0.0069890362 | T12: 0.0031259746 | U12: 0.025616095 | V12: 0.014772035 | W12: 0.046130642 | X12: 0.21935367 | Y12: 0.026407115 | Z12: 0.028380976 | AA12: 0.02054087 | AB12: 0.042658546 | AC12: 0.010823298 | AD12: 0.0055239385 | AE12: 0.00040107761 | AF12: 5.1307775e-05 | AG12: 0.0012439686 | AH12: 0.00027224424 | AI12: 0.0050574845 | AJ12: 0.00017197283 | AK12: 0.00024638107 | AL12: 0.00011916028 | AM12: 0.016978136 | AN12: 0.031093859 | AO12: 0.011501208 | AP12: 0.0082412581 | AQ12: 0.016965509 | AR12: 0.017733223 | AS12: 0.0010144669 | AT12: 0.002797261 | AU12: 0.0012195805 | AV12: 8.2585743e-05 | AW12: 0 | AX12: 2.9933108e-05 | AY12: 5.4731694e-05 | AZ12: 0.00035374556 | BA12: 3.3912818e-05 | BB12: 2.3224628e-06 | BC12: 3.2701556e-05 | BD12: 4.4901278e-06 | BE12: 9.6439426e-06 | BF12: 0.00041375514 | BG12: 4.7204231e-05 | BH12: 0.00021987851 | BI12: 0 | BJ12: 5.6209346e-08 | BK12: 0 | BL12: 0.0073135802 | BM12: 0.006793574 | BN12: 0.0019099493 | BO12: 0.0041741497 | BP12: 0.0016237361 | BQ12: 0.00037429814 | BR12: 9.7990623e-05 | BS12: 3.3378081e-06 | BT12: 0.0020774431 | BU12: 0.00099482153 | BV12: 0.00021406357 | BW12: 3.1981833e-05 | BX12: 0.0015122362 | BY12: 0.00016669723 | BZ12: 3.8529822e-05 | CA12: 5.9493334e-06 | CB12: 0.070208703 | CC12: 7.2012146e-06 | CD12: 1.332868e-05 | CE12: 7.1170293e-05 | CF12: 2.5975805e-05 | CG12: 7.251319e-05 | CH12: 7.7399598e-07 | CI12: 1.0230107e-06 | CJ12: 2.0823876e-06 | CK12: 1.4333115e-05 | CL12: 6.220925e-07 | CM12: 6.8487587e-05 | CN12: 1.2000396e-06 | CO12: 2.372349e-06 | CP12: 0.00054576341 | CQ12: 0 | CR12: 0.00015449472 | CS12: 6.4015211e-05 | CT12: 4.3825083e-05 | CU12: 0 | CV12: 6.0402057e-06 | CW12: 5.7361778e-06 | CX12: 5.3591155e-08 | CY12: 0.001172247 | CZ12: 0.0001740554 | DA12: 0.0018323463 | DB12: 3.7104915e-06 | DC12: 0.0025208663 | DD12: 1.5091443e-05 | DE12: 0.0006200613 | DF12: 2.1732931e-05 | DG12: 3.3125038e-05 | DH12: 8.5041546e-06 | DI12: 0.0001363955 | DJ12: 0.0039933233 | DK12: 0.024724025 | DL12: 0.047719804 | DM12: 0.0028506519 | DN12: 0.0013050375 | DO12: 0.002050067 | DP12: 0.00026951019 | DQ12: 0.00023200712 | DR12: 0.0003779908 | DS12: 2.0035888e-05 | DT12: 6.2583966e-05 | DU12: 0.020592133 | DV12: 8.3264421e-08 | DW12: 6.7383749e-05 | DX12: 0.0002248542 | DY12: 8.6948204e-05 | DZ12: 2.6239688e-05 | EA12: 2.6161455e-05 | EB12: 0.00026381853 | EC12: 1.4903089e-05 | ED12: 6.1892873e-05 | EE12: 1.1796471e-05 | EF12: 1.587206e-05 | EG12: 0.0015829194 | EH12: 6.5165413e-05 | EI12: 0.0002092872 | EJ12: 0.0085900887 | EK12: 0.0011591877 | EL12: 0.00016490436 | EM12: 0.0068590603 | EN12: 0.00032293978 | EO12: 0 | EP12: 0.00010656603 | EQ12: 0 | ER12: 0 | ES12: 2.475887e-07 | ET12: 0 | EU12: 0 | EV12: 0 | EW12: 0 | EX12: 8.4573965e-08 | EY12: 7.4747403e-07 | EZ12: 2.0001741e-06 | FA12: 3.9881326e-07 | FB12: 1.1980775e-05 | FC12: 0 | FD12: 0 | FE12: 8.6981898e-06 | FF12: 0 | FG12: 9.533398e-07 | FH12: 7.9755271e-07 | FI12: 2.6054692e-07 | FJ12: 6.247197e-07 | FK12: 4.9913122e-08 | FL12: 8.0774538e-07 | FM12: 5.9087073e-06 | FN12: 0 | FO12: 4.9524474e-05 | FP12: 0 | FQ12: 2.7903045e-08 | FR12: 0 | FS12: 1.9045303e-06 | FT12: 1.1301906e-05 | FU12: 0 | FV12: 4.0960252e-07 | FW12: 2.8550678e-06 | FX12: 1.8384171e-05 | FY12: 2.0109391e-05 | FZ12: 5.1887998e-08 | GA12: 2.2649699e-08 | GB12: 1.7740241e-06 | GC12: 1.5330683e-05 | GD12: 5.7184772e-07 | GE12: 5.8323503e-05 | GF12: 0 | GG12: 0.0017567633 | GH12: 1.3081371e-05 | GI12: 0.014609549 | GJ12: 8.4678199e-05 | GK12: 1.0509745e-05 | GL12: 8.4203996e-05 | GM12: 2.1630615e-05 | GN12: 6.1729187e-08 | GO12: 0 | GP12: 0.00022707206 | GQ12: 1.739318e-05 | GR12: 0 | GS12: 1.7348267e-05 | GT12: 0.00031444217 | GU12: 0.011707867 | GV12: 0.00038914739 | GW12: 0.0055277304 | GX12: 0.00062537727 | GY12: 0.0020842651 | GZ12: 9.5205145e-05 | HA12: 0.00069142836 | HB12: 0.001595098 | HC12: 0 | HD12: 0.00010481111 | HE12: 8.5804302e-10 | HF12: 8.6790268e-08 | HG12: 1.1341299e-07 | HH12: 0 | HI12: 0 | HJ12: 0 | HK12: 2.0335242e-06 | HL12: 8.0667073e-05 | HM12: 0 | HN12: 3.1460092e-06 | HO12: 1.2832384e-05 | HP12: 3.7337513e-05 | HQ12: 1.7259067e-06 | HR12: 0 | HS12: 0 | HT12: 0 | HU12: 7.2070199e-08 | HV12: 0 | HW12: 0 | HX12: 1.5410405e-06 | HY12: 0 | HZ12: 0 | IA12: 0 | IB12: 0 | IC12: 0 | ID12: 0.00088637954 | IE12: 0 | IF12: 0 | IG12: 4.5907123e-07 | IH12: 0.00024754863 | II12: 8.0279564e-08 | IJ12: 1.2961608e-08 | IK12: 0 | IL12: 0 | IM12: 0 | IN12: 2.7736562e-05 | IO12: 8.2804732e-10 | IP12: 0 | IQ12: 0 | IR12: 0.00017473131 | IS12: 0 | IT12: 0 | IU12: 0 | IV12: 0 | IW12: 0 | IX12: 0 | IY12: 0 | IZ12: 0 | JA12: 0 | JB12: 0 | JC12: 5.376435e-09 | JD12: 0 | JE12: 0 | JF12: 0 | JG12: 0 | JH12: 0 | JI12: 0 | JJ12: 0 | JK12: 0 | JL12: 0 | JM12: 0 | JN12: 0 | JO12: 0 | JP12: 0 | JQ12: 0 | JR12: 0 | JS12: 0 | JT12: 0 | JU12: 0 | JV12: 0 | JW12: 0 | JX12: 0 | JY12: 0 | JZ12: 0 | KA12: 0 | KB12: 0 | KC12: 0 | KD12: 0 | KE12: 0 | KF12: 0 | KG12: 0 | KH12: 0 | KI12: 0 | KJ12: 0 | KK12: 1.1889944e-08 | KL12: 0 | KM12: 0 | KN12: 0 | KO12: 0 | KP12: 0 | KQ12: 0 | KR12: 0 | KS12: 0 | KT12: 0 | KU12: 0 | KV12: 0 | KW12: 0 | KX12: 0 | KY12: 0 | KZ12: 0 | LA12: 0 | LB12: 0 | LC12: 0 | LD12: 0 | LE12: 0
A13: =VLOOKUP(B13,List_VISl_projection!A:C,3, FALSE) -> Emx1-IRES-Cre | B13: 500836105 | C13: Emx1-IRES-Cre-212771 | D13: 0 | E13: 0.0015397844 | F13: 0.028514234 | G13: 0 | H13: 0.019554262 | I13: 0.00067194976 | J13: 0 | K13: 0.00019911027 | L13: 0.0016505425 | M13: 0.00010001225 | N13: 0.0060956083 | O13: 0 | P13: 9.4600297e-05 | Q13: 0.0091176232 | R13: 0.0093425157 | S13: 0.011113464 | T13: 0.0029256514 | U13: 0.020365692 | V13: 0.020260046 | W13: 0.034993319 | X13: 0.18308346 | Y13: 0.01061468 | Z13: 0.031367279 | AA13: 0.015364226 | AB13: 0.030055376 | AC13: 0.0270397 | AD13: 0.0056917805 | AE13: 0.00017924758 | AF13: 4.1428213e-05 | AG13: 0.0025552416 | AH13: 0.00018558372 | AI13: 0.0058107994 | AJ13: 0 | AK13: 3.9655239e-05 | AL13: 1.0384031e-05 | AM13: 0.010347253 | AN13: 0.027180332 | AO13: 0.0082486032 | AP13: 0.018121319 | AQ13: 0.032897908 | AR13: 0.018149068 | AS13: 0.001019174 | AT13: 0.0019419465 | AU13: 0 | AV13: 0 | AW13: 0 | AX13: 9.9389929e-05 | AY13: 0.00017628199 | AZ13: 0 | BA13: 0 | BB13: 3.7996012e-07 | BC13: 0 | BD13: 0 | BE13: 0 | BF13: 9.9473887e-05 | BG13: 1.9179753e-05 | BH13: 0 | BI13: 0 | BJ13: 0 | BK13: 0 | BL13: 0.016599685 | BM13: 0.0066511993 | BN13: 0.0007512045 | BO13: 0.0026157815 | BP13: 0.00032905512 | BQ13: 3.9238676e-05 | BR13: 0 | BS13: 0 | BT13: 0.00036417324 | BU13: 0.00075098462 | BV13: 0.00012101596 | BW13: 6.8428236e-06 | BX13: 0.00022399873 | BY13: 3.4850859e-05 | BZ13: 8.006438e-07 | CA13: 0 | CB13: 0.090821874 | CC13: 0 | CD13: 0 | CE13: 0 | CF13: 0 | CG13: 0 | CH13: 1.0295136e-08 | CI13: 0 | CJ13: 2.2262586e-06 | CK13: 0 | CL13: 2.39541e-06 | CM13: 4.6500298e-06 | CN13: 0 | CO13: 0 | CP13: 0.00034438518 | CQ13: 0 | CR13: 0 | CS13: 0 | CT13: 0 | CU13: 0 | CV13: 0 | CW13: 0 | CX13: 0 | CY13: 0.0050766672 | CZ13: 0.00055703353 | DA13: 0.0053260444 | DB13: 2.2591794e-07 | DC13: 0.0065856564 | DD13: 6.4000835e-06 | DE13: 0.0012496161 | DF13: 3.7049713e-05 | DG13: 5.3948805e-05 | DH13: 8.2750898e-06 | DI13: 0.00021120841 | DJ13: 0.0055007874 | DK13: 0.013643787 | DL13: 0.058124059 | DM13: 0.011145893 | DN13: 0.0014693638 | DO13: 0.0029070346 | DP13: 0.00047408311 | DQ13: 0.00070072009 | DR13: 0.00037011363 | DS13: 9.4276491e-06 | DT13: 0.00015214043 | DU13: 0.022587116 | DV13: 8.2997711e-08 | DW13: 0.00025379532 | DX13: 0.00086312764 | DY13: 8.183093e-05 | DZ13: 5.2093993e-06 | EA13: 7.5639858e-06 | EB13: 0.00023179072 | EC13: 2.7083471e-05 | ED13: 0.00013366025 | EE13: 1.1221377e-05 | EF13: 7.038306e-05 | EG13: 0.0025859667 | EH13: 0.00033691877 | EI13: 0.00027389076 | EJ13: 0.0076992267 | EK13: 0.0006380733 | EL13: 0.00026551654 | EM13: 0.0028046861 | EN13: 0.00028559702 | EO13: 0 | EP13: 0.00012064841 | EQ13: 0 | ER13: 0 | ES13: 4.2190011e-09 | ET13: 0 | EU13: 0 | EV13: 0 | EW13: 0 | EX13: 0 | EY13: 0 | EZ13: 0 | FA13: 0 | FB13: 0 | FC13: 0 | FD13: 0 | FE13: 0 | FF13: 0 | FG13: 0 | FH13: 0 | FI13: 0 | FJ13: 0 | FK13: 0 | FL13: 0 | FM13: 0 | FN13: 0 | FO13: 0 | FP13: 0 | FQ13: 0 | FR13: 0 | FS13: 0 | FT13: 0 | FU13: 0 | FV13: 4.3802081e-07 | FW13: 0 | FX13: 3.341968e-05 | FY13: 0 | FZ13: 0 | GA13: 0 | GB13: 0 | GC13: 0 | GD13: 0 | GE13: 4.258755e-06 | GF13: 0 | GG13: 0.0043045413 | GH13: 0 | GI13: 0.0036270107 | GJ13: 0 | GK13: 0 | GL13: 4.0442456e-05 | GM13: 0 | GN13: 0 | GO13: 0 | GP13: 0.00018448013 | GQ13: 3.0096572e-06 | GR13: 0 | GS13: 5.442176e-07 | GT13: 0.00036762606 | GU13: 0.01415988 | GV13: 0.00036344569 | GW13: 0.006594404 | GX13: 0.00014142164 | GY13: 0.00066547751 | GZ13: 8.9454746e-05 | HA13: 0.00020322141 | HB13: 0.0014228589 | HC13: 0 | HD13: 9.6814394e-05 | HE13: 3.499761e-08 | HF13: 1.3366901e-06 | HG13: 3.7787661e-08 | HH13: 0 | HI13: 0 | HJ13: 0 | HK13: 0 | HL13: 6.7576414e-05 | HM13: 0 | HN13: 0 | HO13: 9.8683803e-07 | HP13: 6.9179589e-06 | HQ13: 0 | HR13: 0 | HS13: 0 | HT13: 0 | HU13: 1.201301e-06 | HV13: 0 | HW13: 0 | HX13: 0 | HY13: 0 | HZ13: 0 | IA13: 0 | IB13: 0 | IC13: 0 | ID13: 0.0024733473 | IE13: 2.3004781e-06 | IF13: 0 | IG13: 1.5482569e-06 | IH13: 0.00015883179 | II13: 0 | IJ13: 6.6556471e-07 | IK13: 0 | IL13: 0 | IM13: 0 | IN13: 1.5490475e-07 | IO13: 0 | IP13: 0 | IQ13: 0 | IR13: 3.7231173e-05 | IS13: 0 | IT13: 0 | IU13: 1.8347097e-07 | IV13: 0 | IW13: 0 | IX13: 0 | IY13: 0 | IZ13: 0 | JA13: 0 | JB13: 0 | JC13: 2.3476508e-06 | JD13: 0 | JE13: 0 | JF13: 0 | JG13: 0 | JH13: 0 | JI13: 9.3490657e-07 | JJ13: 0 | JK13: 0 | JL13: 1.1153113e-07 | JM13: 0 | JN13: 0 | JO13: 0 | JP13: 0 | JQ13: 0 | JR13: 0 | JS13: 0 | JT13: 0 | JU13: 0 | JV13: 0 | JW13: 0 | JX13: 0 | JY13: 2.0885314e-06 | JZ13: 0 | KA13: 0 | KB13: 0 | KC13: 9.1813679e-07 | KD13: 0 | KE13: 0 | KF13: 0 | KG13: 0 | KH13: 0 | KI13: 0 | KJ13: 0 | KK13: 0 | KL13: 0 | KM13: 0 | KN13: 0 | KO13: 0 | KP13: 0 | KQ13: 0 | KR13: 0 | KS13: 0 | KT13: 0 | KU13: 0 | KV13: 0 | KW13: 0 | KX13: 0 | KY13: 0 | KZ13: 0 | LA13: 0 | LB13: 0 | LC13: 0 | LD13: 0 | LE13: 0
