Workbook

Sheet List_VISp_projection
A1: Supplementary Table 4. Summary of experiments mapping the anterograde projections from VISp
A2: image_series_id | B2: primary structure-abbrev | C2: Mouse Line | D2: Manual assigned PN type | E2: sex | F2: Hemisphere | G2: Tracer | H2: experiment_page_url
A3: 100141219 | B3: VISp | C3: C57BL/6J | D3: IT ET CT | E3: M | F3: Right | G3: EGFP | H3: http://connectivity.brain-map.org/projection/experiment/100141219
A4: 100147853 | B4: VISp | C4: C57BL/6J | D4: IT ET CT | E4: M | F4: Right | G4: EGFP | H4: http://connectivity.brain-map.org/projection/experiment/100147853
A5: 113887162 | B5: VISp | C5: C57BL/6J | D5: IT ET CT | E5: M | F5: Right | G5: EGFP | H5: http://connectivity.brain-map.org/projection/experiment/113887162
A6: 113887868 | B6: VISp | C6: C57BL/6J | D6: IT ET CT | E6: M | F6: Right | G6: EGFP | H6: http://connectivity.brain-map.org/projection/experiment/113887868
A7: 121510421 | B7: VISp | C7: Rbp4-Cre_KL100 | D7: IT ET | E7: F | F7: Right | G7: EGFP | H7: http://connectivity.brain-map.org/projection/experiment/121510421
A8: 126862385 | B8: VISp | C8: C57BL/6J | D8: IT ET CT | E8: M | F8: Right | G8: EGFP | H8: http://connectivity.brain-map.org/projection/experiment/126862385
A9: 127138787 | B9: VISp | C9: C57BL/6J | D9: IT ET CT | E9: M | F9: Right | G9: EGFP | H9: http://connectivity.brain-map.org/projection/experiment/127138787
A10: 156545918 | B10: VISp | C10: Ntsr1-Cre_GN220 | D10: CT | E10: M | F10: Right | G10: EGFP | H10: http://connectivity.brain-map.org/projection/experiment/156545918
A11: 157767683 | B11: VISp | C11: Nr5a1-Cre | D11: IT | E11: F | F11: Right | G11: EGFP | H11: http://connectivity.brain-map.org/projection/experiment/157767683
A12: 158255941 | B12: VISp | C12: A930038C07Rik-Tg1-Cre | D12: ET | E12: F | F12: Right | G12: EGFP | H12: http://connectivity.brain-map.org/projection/experiment/158255941
A13: 159550125 | B13: VISp | C13: Ntsr1-Cre_GN220 | D13: CT | E13: F | F13: Right | G13: EGFP | H13: http://connectivity.brain-map.org/projection/experiment/159550125
A14: 166324604 | B14: VISp | C14: A930038C07Rik-Tg1-Cre | D14: IT ET | E14: M | F14: Right | G14: EGFP | H14: http://connectivity.brain-map.org/projection/experiment/166324604
... A172: 627869431 | B172: VISp | C172: Ctgf-T2A-dgCre | D172: IT | E172: F | F172: Right | G172: EGFP | H172: http://connectivity.brain-map.org/projection/experiment/627869431

Sheet ipsi_projection_VISp
A1: Supplementary Table 4. Normalized projection volume per structure in the ipsilateral hemisphere for anterograde projections from VISp
A2: Mouse Line | B2: image_series_id | C2: Specimen | D2: FRP | E2: MOp | F2: MOs | G2: SSp-n | H2: SSp-bfd | I2: SSp-ll | J2: SSp-m | K2: SSp-ul | L2: SSp-tr | M2: SSp-un | N2: SSs | O2: GU | P2: VISC | Q2: AUDd | R2: AUDp | S2: AUDpo | T2: AUDv | U2: VISal | V2: VISam | W2: VISl | X2: VISp | Y2: VISpl | Z2: VISpm | AA2: VISli | AB2: VISpor | AC2: ACAd | AD2: ACAv | AE2: PL | AF2: ILA | AG2: ORBl | AH2: ORBm | AI2: ORBvl | AJ2: AId | AK2: AIp | AL2: AIv | AM2: RSPagl | AN2: RSPd | AO2: RSPv | AP2: VISa | AQ2: VISrl | AR2: TEa | AS2: PERI | AT2: ECT | AU2: MOB | AV2: AOB | AW2: AON | AX2: TT | AY2: DP | AZ2: PIR | BA2: NLOT | BB2: COAa | BC2: COAp | BD2: PAA | BE2: TR | BF2: CA1 | BG2: CA2 | BH2: CA3 | BI2: DG | BJ2: FC | BK2: IG | BL2: ENTl | BM2: ENTm | BN2: PAR | BO2: POST | BP2: PRE | BQ2: SUB | BR2: ProS | BS2: HATA | BT2: APr | BU2: CLA | BV2: EPd | BW2: EPv | BX2: LA | BY2: BLA | BZ2: BMA | CA2: PA | CB2: CP | CC2: ACB | CD2: FS | CE2: OT | CF2: LSc | CG2: LSr | CH2: LSv | CI2: SF | CJ2: SH | CK2: AAA | CL2: BA | CM2: CEA | CN2: IA | CO2: MEA | CP2: GPe | CQ2: GPi | CR2: SI | CS2: MA | CT2: MS | CU2: NDB | CV2: TRS | CW2: BST | CX2: BAC | CY2: VAL | CZ2: VM | DA2: VPL | DB2: VPLpc | DC2: VPM | DD2: VPMpc | DE2: PoT | DF2: SPFm | DG2: SPFp | DH2: SPA | DI2: PP | DJ2: MG | DK2: LGd | DL2: LP | DM2: PO | DN2: POL | DO2: SGN | DP2: AV | DQ2: AM | DR2: AD | DS2: IAM | DT2: IAD | DU2: LD | DV2: IMD | DW2: MD | DX2: SMT | DY2: PR | DZ2: PVT | EA2: PT | EB2: RE | EC2: Xi | ED2: RH | EE2: CM | EF2: PCN | EG2: CL | EH2: PF | EI2: PIL | EJ2: RT | EK2: IGL | EL2: IntG | EM2: LGv | EN2: SubG | EO2: MH | EP2: LH | EQ2: SO | ER2: ASO | ES2: PVH | ET2: PVa | EU2: PVi | EV2: ARH | EW2: ADP | EX2: AVP | EY2: AVPV | EZ2: DMH | FA2: MEPO | FB2: MPO | FC2: OV | FD2: PD | FE2: PS | FF2: PVp | FG2: PVpo | FH2: SBPV | FI2: SCH | FJ2: SFO | FK2: VMPO | FL2: VLPO | FM2: AHN | FN2: LM | FO2: MM | FP2: SUM | FQ2: TMd | FR2: TMv | FS2: MPN | FT2: PMd | FU2: PMv | FV2: PVHd | FW2: VMH | FX2: PH | FY2: LHA | FZ2: LPO | GA2: PST | GB2: PSTN | GC2: PeF | GD2: RCH | GE2: STN | GF2: TU | GG2: ZI | GH2: ME | GI2: SCs | GJ2: IC | GK2: NB | GL2: SAG | GM2: PBG | GN2: MEV | GO2: SCO | GP2: SNr | GQ2: VTA | GR2: PN | GS2: RR | GT2: MRN | GU2: SCm | GV2: PAG | GW2: APN | GX2: MPT | GY2: NOT | GZ2: NPC | HA2: OP | HB2: PPT | HC2: CUN | HD2: RN | HE2: III | HF2: MA3 | HG2: EW | HH2: IV | HI2: Pa4 | HJ2: VTN | HK2: AT | HL2: LT | HM2: DT | HN2: MT | HO2: SNc | HP2: PPN | HQ2: IF | HR2: IPN | HS2: RL | HT2: CLI | HU2: DR | HV2: NLL | HW2: PSV | HX2: PB | HY2: SOC | HZ2: B | IA2: DTN | IB2: PDTg | IC2: PCG | ID2: PG | IE2: PRNc | IF2: SG | IG2: SUT | IH2: TRN | II2: V | IJ2: P5 | IK2: Acs5 | IL2: PC5 | IM2: I5 | IN2: CS | IO2: LC | IP2: LDT | IQ2: NI | IR2: PRNr | IS2: RPO | IT2: SLC | IU2: SLD | IV2: AP | IW2: DCO | IX2: VCO | IY2: CU | IZ2: GR | JA2: ECU | JB2: NTB | JC2: NTS | JD2: SPVC | JE2: SPVI | JF2: SPVO | JG2: Pa5 | JH2: VI | JI2: VII | JJ2: ACVII | JK2: AMB | JL2: DMX | JM2: GRN | JN2: ICB | JO2: IO | JP2: IRN | JQ2: ISN | JR2: LIN | JS2: LRN | JT2: MARN | JU2: MDRNd | JV2: MDRNv | JW2: PARN | JX2: PAS | JY2: PGRNd | JZ2: PGRNl | KA2: NR | KB2: PRP | KC2: PPY | KD2: LAV | KE2: MV | KF2: SPIV | KG2: SUV | KH2: x | KI2: XII | KJ2: y | KK2: RM | KL2: RPA | KM2: RO | KN2: LING | KO2: CENT | KP2: CUL | KQ2: DEC | KR2: FOTU | KS2: PYR | KT2: UVU | KU2: NOD | KV2: SIM | KW2: AN | KX2: PRM | KY2: COPY | KZ2: PFL | LA2: FL | LB2: FN | LC2: IP | LD2: DN | LE2: VeCB
A3: =VLOOKUP(B3,List_VISp_projection!A:C,3, FALSE) -> A930038C07Rik-Tg1-Cre | B3: 478256439 | C3: A930038C07Rik-Tg1-Cre-186363 | D3: 0 | E3: 0.01977597 | F3: 0.021458503 | G3: 0 | H3: 0.0048229711 | I3: 0.0045624952 | J3: 0.0059864497 | K3: 0.0040179555 | L3: 0.0031793919 | M3: 0.0013876333 | N3: 5.7959092e-05 | O3: 0 | P3: 0 | Q3: 7.577669e-05 | R3: 0.001059894 | S3: 0.00021072123 | T3: 0.00046926376 | U3: 0.0027329056 | V3: 0.0011454898 | W3: 0.011103668 | X3: 0.14463991 | Y3: 0.00096761364 | Z3: 0.0094164695 | AA3: 0.00028992581 | AB3: 0.003005742 | AC3: 0.0015212117 | AD3: 0.0018750033 | AE3: 0 | AF3: 0.00010182921 | AG3: 0.0022208647 | AH3: 0 | AI3: 0 | AJ3: 0.0070764305 | AK3: 0 | AL3: 0.0015110312 | AM3: 0.017154075 | AN3: 0.025427955 | AO3: 0.021003732 | AP3: 0.0024068382 | AQ3: 0.0011210453 | AR3: 0.0011211181 | AS3: 0.00018626395 | AT3: 0.00029702344 | AU3: 0.0075089387 | AV3: 0 | AW3: 0 | AX3: 0 | AY3: 0 | AZ3: 0.0021108382 | BA3: 0.00013927915 | BB3: 8.8721878e-05 | BC3: 0.00013645657 | BD3: 0.00011620041 | BE3: 8.7548815e-05 | BF3: 0.0040736837 | BG3: 0.0001994802 | BH3: 0.0033065549 | BI3: 0 | BJ3: 7.2384796e-05 | BK3: 0 | BL3: 0.0055688206 | BM3: 0.0020957483 | BN3: 0 | BO3: 0.037599881 | BP3: 0.00080367775 | BQ3: 0.003374324 | BR3: 0.00035040268 | BS3: 8.3072197e-06 | BT3: 0.0057946357 | BU3: 0 | BV3: 2.9973673e-05 | BW3: 8.8817257e-06 | BX3: 0 | BY3: 0 | BZ3: 0.00010825373 | CA3: 5.4436807e-05 | CB3: 0.030339838 | CC3: 0.0015503745 | CD3: 5.9748309e-05 | CE3: 0 | CF3: 0.00022622343 | CG3: 2.9118879e-05 | CH3: 5.0550097e-06 | CI3: 0.00058090488 | CJ3: 0 | CK3: 0.00052768782 | CL3: 1.1690621e-06 | CM3: 0.00059357974 | CN3: 1.2401872e-05 | CO3: 0 | CP3: 0.00032603548 | CQ3: 0 | CR3: 0 | CS3: 0 | CT3: 0.00057298342 | CU3: 0.00095323333 | CV3: 0.00024888615 | CW3: 4.9904903e-05 | CX3: 0 | CY3: 8.0519372e-05 | CZ3: 2.1761072e-06 | DA3: 0.00086876579 | DB3: 0 | DC3: 0.0002555897 | DD3: 9.3602351e-06 | DE3: 3.4057508e-05 | DF3: 2.8660873e-05 | DG3: 0 | DH3: 0 | DI3: 0.00024475617 | DJ3: 0.00051526058 | DK3: 0.05560675 | DL3: 0.060219308 | DM3: 0.00073034598 | DN3: 0.0021531848 | DO3: 0.00065510962 | DP3: 0.00029366605 | DQ3: 3.9244681e-05 | DR3: 0 | DS3: 0 | DT3: 4.2385646e-05 | DU3: 0.045259823 | DV3: 0 | DW3: 5.6782487e-06 | DX3: 3.9098235e-05 | DY3: 6.9047742e-05 | DZ3: 0 | EA3: 1.8137067e-05 | EB3: 1.4239891e-05 | EC3: 0 | ED3: 0 | EE3: 0 | EF3: 0 | EG3: 0 | EH3: 3.2364255e-06 | EI3: 8.5218599e-06 | EJ3: 0.0058374784 | EK3: 0.0076228722 | EL3: 0.00037976838 | EM3: 0.041203087 | EN3: 0.0017380906 | EO3: 0 | EP3: 5.826824e-06 | EQ3: 0 | ER3: 0 | ES3: 0 | ET3: 0 | EU3: 0 | EV3: 0 | EW3: 0 | EX3: 1.1251353e-05 | EY3: 0 | EZ3: 1.6135346e-05 | FA3: 3.6364596e-06 | FB3: 8.1495976e-05 | FC3: 0 | FD3: 7.1596613e-08 | FE3: 0 | FF3: 0 | FG3: 3.9250798e-06 | FH3: 0 | FI3: 0 | FJ3: 0 | FK3: 0 | FL3: 1.4337604e-06 | FM3: 7.7386331e-07 | FN3: 0 | FO3: 6.1641072e-05 | FP3: 0 | FQ3: 0 | FR3: 0 | FS3: 1.7036648e-06 | FT3: 0 | FU3: 0 | FV3: 9.0539138e-06 | FW3: 0 | FX3: 9.0398093e-05 | FY3: 0 | FZ3: 1.660643e-05 | GA3: 0 | GB3: 1.0329485e-05 | GC3: 3.1686706e-06 | GD3: 0 | GE3: 1.6236421e-05 | GF3: 0 | GG3: 0.0025010897 | GH3: 3.2089575e-06 | GI3: 0.055567929 | GJ3: 0.00061462876 | GK3: 0 | GL3: 0.00055013422 | GM3: 0 | GN3: 0 | GO3: 0 | GP3: 0.00013127993 | GQ3: 0 | GR3: 0 | GS3: 2.1734892e-06 | GT3: 0.00011009763 | GU3: 0.057415614 | GV3: 0.00016177425 | GW3: 0.033504493 | GX3: 0.001503356 | GY3: 0.0055926404 | GZ3: 0 | HA3: 0.0050763825 | HB3: 0.012128137 | HC3: 0 | HD3: 0 | HE3: 0 | HF3: 0 | HG3: 0 | HH3: 0 | HI3: 0 | HJ3: 0 | HK3: 0 | HL3: 0.00032243568 | HM3: 0 | HN3: 0 | HO3: 6.0329426e-07 | HP3: 5.4038677e-05 | HQ3: 2.1882948e-06 | HR3: 0 | HS3: 0 | HT3: 0 | HU3: 0 | HV3: 0 | HW3: 0 | HX3: 0 | HY3: 1.4659546e-05 | HZ3: 0 | IA3: 0 | IB3: 2.4341879e-06 | IC3: 0 | ID3: 0.0019312759 | IE3: 0 | IF3: 0 | IG3: 0 | IH3: 0.00042670446 | II3: 1.3564218e-05 | IJ3: 0 | IK3: 0 | IL3: 1.535628e-05 | IM3: 2.3430852e-06 | IN3: 5.3601835e-06 | IO3: 0 | IP3: 0 | IQ3: 0 | IR3: 0.0032883483 | IS3: 0 | IT3: 0 | IU3: 0 | IV3: 0 | IW3: 0 | IX3: 0 | IY3: 0 | IZ3: 0 | JA3: 0 | JB3: 0 | JC3: 0 | JD3: 0 | JE3: 0 | JF3: 0 | JG3: 0 | JH3: 0 | JI3: 0 | JJ3: 0 | JK3: 0 | JL3: 0 | JM3: 0 | JN3: 0 | JO3: 0 | JP3: 0 | JQ3: 0 | JR3: 0 | JS3: 0 | JT3: 0 | JU3: 0 | JV3: 0 | JW3: 0 | JX3: 0 | JY3: 1.3626445e-06 | JZ3: 0 | KA3: 0 | KB3: 0 | KC3: 0 | KD3: 0 | KE3: 0 | KF3: 0 | KG3: 0 | KH3: 0 | KI3: 0 | KJ3: 0 | KK3: 0 | KL3: 0 | KM3: 0 | KN3: 0 | KO3: 0 | KP3: 0 | KQ3: 0 | KR3: 0 | KS3: 0 | KT3: 0 | KU3: 0 | KV3: 0 | KW3: 0 | KX3: 0 | KY3: 0 | KZ3: 0 | LA3: 0 | LB3: 0 | LC3: 0 | LD3: 0 | LE3: 0
A4: =VLOOKUP(B4,List_VISp_projection!A:C,3, FALSE) -> A930038C07Rik-Tg1-Cre | B4: 478257195 | C4: A930038C07Rik-Tg1-Cre-186365 | D4: 0 | E4: 0.010458476 | F4: 0.032195044 | G4: 0 | H4: 0 | I4: 0.0008968651 | J4: 0 | K4: 0.0018453532 | L4: 0.00014639227 | M4: 0 | N4: 0 | O4: 0 | P4: 0 | Q4: 0 | R4: 0 | S4: 0 | T4: 0.001182815 | U4: 0 | V4: 0.0010392794 | W4: 0.010228516 | X4: 0.18290959 | Y4: 0.0055426197 | Z4: 0.016477495 | AA4: 0.001499042 | AB4: 0.000832311 | AC4: 0.0014646216 | AD4: 0.00069631721 | AE4: 0 | AF4: 0 | AG4: 0 | AH4: 0 | AI4: 0 | AJ4: 0 | AK4: 0 | AL4: 0 | AM4: 0.019527486 | AN4: 0.021008849 | AO4: 0.0016617905 | AP4: 0.00025553157 | AQ4: 3.6626664e-05 | AR4: 0.003637709 | AS4: 0.0007045816 | AT4: 0.002056328 | AU4: 0 | AV4: 0 | AW4: 0 | AX4: 0 | AY4: 0 | AZ4: 0 | BA4: 0.00036642502 | BB4: 0 | BC4: 0.00019616769 | BD4: 0.00062036445 | BE4: 0 | BF4: 0 | BG4: 0 | BH4: 0 | BI4: 0 | BJ4: 0 | BK4: 0 | BL4: 0 | BM4: 0 | BN4: 0 | BO4: 0 | BP4: 5.4337717e-05 | BQ4: 0 | BR4: 0 | BS4: 0.00041327359 | BT4: 0.0063952464 | BU4: 0 | BV4: 0 | BW4: 0.00019360043 | BX4: 0 | BY4: 0 | BZ4: 0.00010313469 | CA4: 1.4962888e-05 | CB4: 0.0060704166 | CC4: 0 | CD4: 0 | CE4: 0 | CF4: 0 | CG4: 0 | CH4: 1.0447351e-05 | CI4: 0 | CJ4: 0 | CK4: 0 | CL4: 6.6837145e-07 | CM4: 1.5296673e-06 | CN4: 0 | CO4: 0 | CP4: 0 | CQ4: 0 | CR4: 0 | CS4: 0 | CT4: 0 | CU4: 0 | CV4: 0 | CW4: 0 | CX4: 1.2403243e-07 | CY4: 0 | CZ4: 2.5557086e-05 | DA4: 0.00073821976 | DB4: 2.8454405e-10 | DC4: 0.0010897055 | DD4: 0.00025978583 | DE4: 3.018454e-05 | DF4: 0.00014666057 | DG4: 0 | DH4: 0 | DI4: 0.00010874961 | DJ4: 0.0011386934 | DK4: 0.080413336 | DL4: 0.080408465 | DM4: 0.0016199156 | DN4: 0.0015942458 | DO4: 9.7063624e-06 | DP4: 0 | DQ4: 3.632902e-05 | DR4: 0 | DS4: 0 | DT4: 2.4797238e-05 | DU4: 0.077418896 | DV4: 1.2868813e-05 | DW4: 6.8873939e-05 | DX4: 7.6052372e-05 | DY4: 0 | DZ4: 0 | EA4: 3.4560817e-05 | EB4: 7.9372742e-07 | EC4: 0 | ED4: 3.0961606e-05 | EE4: 5.0358579e-05 | EF4: 7.4288932e-06 | EG4: 0.00018701128 | EH4: 0 | EI4: 0 | EJ4: 0.020644812 | EK4: 0.0096558426 | EL4: 0.0010305013 | EM4: 0.064429053 | EN4: 0.0040513181 | EO4: 0 | EP4: 3.0321821e-05 | EQ4: 0 | ER4: 0 | ES4: 2.5917249e-07 | ET4: 0 | EU4: 0 | EV4: 0 | EW4: 0 | EX4: 8.5836407e-06 | EY4: 0 | EZ4: 2.1954275e-10 | FA4: 8.2891158e-06 | FB4: 8.9189697e-06 | FC4: 0 | FD4: 2.6921676e-06 | FE4: 4.4058745e-06 | FF4: 0 | FG4: 0 | FH4: 0 | FI4: 0 | FJ4: 0 | FK4: 0 | FL4: 1.4974167e-05 | FM4: 0 | FN4: 0 | FO4: 0 | FP4: 0 | FQ4: 0 | FR4: 0 | FS4: 1.3203538e-06 | FT4: 0 | FU4: 0 | FV4: 0 | FW4: 0 | FX4: 0 | FY4: 0 | FZ4: 0 | GA4: 0 | GB4: 0 | GC4: 0 | GD4: 0 | GE4: 0 | GF4: 0.0001047448 | GG4: 0.0035218637 | GH4: 7.5347678e-05 | GI4: 0.1531788 | GJ4: 0 | GK4: 0 | GL4: 1.6833809e-05 | GM4: 0 | GN4: 0 | GO4: 0 | GP4: 0 | GQ4: 0 | GR4: 8.0313009e-08 | GS4: 4.939433e-05 | GT4: 0 | GU4: 0.022103573 | GV4: 0.00020138903 | GW4: 0.059268925 | GX4: 0.00057901918 | GY4: 0.0087068773 | GZ4: 0 | HA4: 0.0036996652 | HB4: 0.00826397 | HC4: 0 | HD4: 0 | HE4: 0 | HF4: 9.8678242e-07 | HG4: 1.7457094e-05 | HH4: 0 | HI4: 0 | HJ4: 0 | HK4: 0 | HL4: 0.0001545067 | HM4: 0 | HN4: 0 | HO4: 1.0424925e-05 | HP4: 0 | HQ4: 9.5228941e-05 | HR4: 0 | HS4: 2.224381e-05 | HT4: 0 | HU4: 0 | HV4: 0 | HW4: 0 | HX4: 0 | HY4: 0 | HZ4: 0 | IA4: 0 | IB4: 0 | IC4: 0 | ID4: 0.00095571907 | IE4: 0 | IF4: 0 | IG4: 0 | IH4: 1.3332444e-05 | II4: 0 | IJ4: 1.2080645e-05 | IK4: 0 | IL4: 0 | IM4: 0 | IN4: 0.00013407966 | IO4: 0 | IP4: 0 | IQ4: 0 | IR4: 5.6310567e-05 | IS4: 0 | IT4: 0 | IU4: 0 | IV4: 0 | IW4: 0 | IX4: 0 | IY4: 0 | IZ4: 0 | JA4: 0 | JB4: 0 | JC4: 1.5665453e-06 | JD4: 0 | JE4: 0 | JF4: 0 | JG4: 0 | JH4: 0 | JI4: 0 | JJ4: 0 | JK4: 0 | JL4: 0 | JM4: 0 | JN4: 0 | JO4: 0 | JP4: 0 | JQ4: 0 | JR4: 0 | JS4: 0 | JT4: 0 | JU4: 0 | JV4: 0 | JW4: 0 | JX4: 0 | JY4: 0 | JZ4: 0 | KA4: 0 | KB4: 0 | KC4: 0 | KD4: 0 | KE4: 0 | KF4: 0 | KG4: 0 | KH4: 0 | KI4: 0 | KJ4: 0 | KK4: 0 | KL4: 0 | KM4: 0 | KN4: 0 | KO4: 0 | KP4: 0 | KQ4: 0 | KR4: 0 | KS4: 0 | KT4: 0 | KU4: 0 | KV4: 0 | KW4: 0 | KX4: 0 | KY4: 0 | KZ4: 0 | LA4: 0 | LB4: 0 | LC4: 0 | LD4: 0 | LE4: 0
A5: =VLOOKUP(B5,List_VISp_projection!A:C,3, FALSE) -> A930038C07Rik-Tg1-Cre | B5: 479203646 | C5: A930038C07Rik-Tg1-Cre-190112 | D5: 0 | E5: 0 | F5: 0 | G5: 0 | H5: 0 | I5: 0 | J5: 0 | K5: 0 | L5: 0 | M5: 0 | N5: 0 | O5: 0 | P5: 0 | Q5: 0 | R5: 0 | S5: 0 | T5: 0 | U5: 0.0081147247 | V5: 0.00040861635 | W5: 0.12423858 | X5: 0.29195179 | Y5: 0.049834821 | Z5: 0.021511354 | AA5: 0.00085057402 | AB5: 0.018182585 | AC5: 0 | AD5: 0 | AE5: 0 | AF5: 0 | AG5: 0 | AH5: 0 | AI5: 0 | AJ5: 0 | AK5: 0 | AL5: 0 | AM5: 0.0019951454 | AN5: 0.021997989 | AO5: 0.0094778152 | AP5: 0 | AQ5: 0 | AR5: 0 | AS5: 0 | AT5: 0 | AU5: 0 | AV5: 0 | AW5: 0 | AX5: 0 | AY5: 0 | AZ5: 0 | BA5: 0 | BB5: 0 | BC5: 0 | BD5: 0 | BE5: 0 | BF5: 0 | BG5: 0 | BH5: 0 | BI5: 0 | BJ5: 0 | BK5: 0 | BL5: 0 | BM5: 0 | BN5: 0 | BO5: 0 | BP5: 0 | BQ5: 0 | BR5: 0 | BS5: 0 | BT5: 0.00590084 | BU5: 0 | BV5: 0 | BW5: 0 | BX5: 0 | BY5: 0 | BZ5: 0 | CA5: 0 | CB5: 0 | CC5: 0 | CD5: 0 | CE5: 0 | CF5: 0 | CG5: 0 | CH5: 0 | CI5: 0 | CJ5: 0 | CK5: 0 | CL5: 0 | CM5: 0 | CN5: 0 | CO5: 0 | CP5: 0 | CQ5: 0 | CR5: 0 | CS5: 0 | CT5: 0 | CU5: 0 | CV5: 0 | CW5: 0 | CX5: 0 | CY5: 0 | CZ5: 0 | DA5: 0 | DB5: 0 | DC5: 0.00038134616 | DD5: 0 | DE5: 0.00031660214 | DF5: 0 | DG5: 0 | DH5: 0 | DI5: 0 | DJ5: 0 | DK5: 0.0099288032 | DL5: 0.11196328 | DM5: 0.00061345725 | DN5: 0.0013879394 | DO5: 0.0007884548 | DP5: 0 | DQ5: 0 | DR5: 0 | DS5: 0 | DT5: 0 | DU5: 0.029794051 | DV5: 0 | DW5: 0 | DX5: 0 | DY5: 0 | DZ5: 0 | EA5: 0 | EB5: 0 | EC5: 0 | ED5: 0 | EE5: 0 | EF5: 0 | EG5: 0 | EH5: 0 | EI5: 9.1985683e-05 | EJ5: 0.0072181283 | EK5: 0.005588011 | EL5: 0.00056112547 | EM5: 0.036608246 | EN5: 0.0010914889 | EO5: 0 | EP5: 0 | EQ5: 0 | ER5: 0 | ES5: 0 | ET5: 0 | EU5: 0 | EV5: 0 | EW5: 0 | EX5: 0 | EY5: 0 | EZ5: 0 | FA5: 0 | FB5: 0 | FC5: 0 | FD5: 0 | FE5: 0 | FF5: 0 | FG5: 0 | FH5: 0 | FI5: 0 | FJ5: 0 | FK5: 0 | FL5: 0 | FM5: 0 | FN5: 0 | FO5: 0 | FP5: 0 | FQ5: 0 | FR5: 0 | FS5: 0 | FT5: 0 | FU5: 0 | FV5: 0 | FW5: 0 | FX5: 0 | FY5: 0 | FZ5: 0 | GA5: 0 | GB5: 0 | GC5: 0 | GD5: 0 | GE5: 0 | GF5: 0 | GG5: 0 | GH5: 0 | GI5: 0.1152464 | GJ5: 0 | GK5: 0 | GL5: 0.00020190039 | GM5: 0 | GN5: 0 | GO5: 0 | GP5: 0 | GQ5: 0 | GR5: 0 | GS5: 0 | GT5: 0 | GU5: 0 | GV5: 0 | GW5: 0.044674216 | GX5: 0.0010577649 | GY5: 0 | GZ5: 0 | HA5: 0.0015646186 | HB5: 0.0021192705 | HC5: 0 | HD5: 0 | HE5: 0 | HF5: 0 | HG5: 0 | HH5: 0 | HI5: 0 | HJ5: 0 | HK5: 0 | HL5: 0.00042583068 | HM5: 0 | HN5: 0 | HO5: 0 | HP5: 0 | HQ5: 0 | HR5: 0 | HS5: 0 | HT5: 0 | HU5: 0 | HV5: 0 | HW5: 0 | HX5: 0 | HY5: 0 | HZ5: 0 | IA5: 0 | IB5: 0 | IC5: 0 | ID5: 0.0011576621 | IE5: 0 | IF5: 0 | IG5: 0 | IH5: 0.00051418043 | II5: 0 | IJ5: 0 | IK5: 0 | IL5: 0 | IM5: 0 | IN5: 0 | IO5: 0 | IP5: 0 | IQ5: 0 | IR5: 0 | IS5: 0 | IT5: 0 | IU5: 0 | IV5: 0 | IW5: 0 | IX5: 0 | IY5: 0 | IZ5: 0 | JA5: 0 | JB5: 0 | JC5: 0 | JD5: 0 | JE5: 0 | JF5: 0 | JG5: 0 | JH5: 0 | JI5: 0 | JJ5: 0 | JK5: 0 | JL5: 0 | JM5: 0 | JN5: 0 | JO5: 0 | JP5: 0 | JQ5: 0 | JR5: 0 | JS5: 0 | JT5: 0 | JU5: 0 | JV5: 0 | JW5: 0 | JX5: 0 | JY5: 0 | JZ5: 0 | KA5: 0 | KB5: 0 | KC5: 0 | KD5: 0 | KE5: 0 | KF5: 0 | KG5: 0 | KH5: 0 | KI5: 0 | KJ5: 0 | KK5: 0 | KL5: 0 | KM5: 0 | KN5: 0 | KO5: 0 | KP5: 0 | KQ5: 0 | KR5: 0 | KS5: 0 | KT5: 0 | KU5: 0 | KV5: 0 | KW5: 0 | KX5: 0 | KY5: 0 | KZ5: 0 | LA5: 0 | LB5: 0 | LC5: 0 | LD5: 0 | LE5: 0
A6: =VLOOKUP(B6,List_VISp_projection!A:C,3, FALSE) -> A930038C07Rik-Tg1-Cre | B6: 496252297 | C6: A930038C07Rik-Tg1-Cre-212449 | D6: 0 | E6: 0 | F6: 0 | G6: 0 | H6: 0 | I6: 0 | J6: 0 | K6: 0 | L6: 0 | M6: 0 | N6: 0 | O6: 0 | P6: 0 | Q6: 0 | R6: 0 | S6: 0 | T6: 0 | U6: 0.0093144083 | V6: 0.011187479 | W6: 0.034761754 | X6: 0.29072357 | Y6: 0.014650671 | Z6: 0.012660581 | AA6: 0.0020051247 | AB6: 0.0051918489 | AC6: 0.010926481 | AD6: 0.0095069481 | AE6: 0 | AF6: 0 | AG6: 0 | AH6: 0 | AI6: 0 | AJ6: 0 | AK6: 0 | AL6: 0 | AM6: 0.039957057 | AN6: 0.034519298 | AO6: 0.0010937533 | AP6: 0 | AQ6: 0.0024661372 | AR6: 0.0019184173 | AS6: 0 | AT6: 0 | AU6: 0 | AV6: 0 | AW6: 0 | AX6: 0 | AY6: 0 | AZ6: 0 | BA6: 0 | BB6: 0 | BC6: 0 | BD6: 0 | BE6: 0 | BF6: 0 | BG6: 0 | BH6: 0 | BI6: 0 | BJ6: 0 | BK6: 0 | BL6: 0 | BM6: 0 | BN6: 0 | BO6: 0 | BP6: 0.00025858712 | BQ6: 0 | BR6: 0 | BS6: 0 | BT6: 0.0081853433 | BU6: 0 | BV6: 0 | BW6: 0 | BX6: 0 | BY6: 0 | BZ6: 2.3200145e-06 | CA6: 0 | CB6: 0.066704052 | CC6: 0 | CD6: 0 | CE6: 0 | CF6: 0 | CG6: 0 | CH6: 2.959939e-06 | CI6: 0 | CJ6: 1.0977363e-06 | CK6: 0 | CL6: 0 | CM6: 0 | CN6: 0 | CO6: 0 | CP6: 0 | CQ6: 0 | CR6: 0 | CS6: 0 | CT6: 0 | CU6: 0 | CV6: 0 | CW6: 0 | CX6: 0 | CY6: 0 | CZ6: 0.00010639941 | DA6: 4.7365424e-05 | DB6: 0 | DC6: 0.00027094258 | DD6: 0 | DE6: 0.00012777027 | DF6: 0 | DG6: 0 | DH6: 0 | DI6: 0 | DJ6: 0 | DK6: 0.029107191 | DL6: 0.045910563 | DM6: 0.0015344629 | DN6: 0.00084679196 | DO6: 0.00022327953 | DP6: 0 | DQ6: 0 | DR6: 0 | DS6: 0 | DT6: 0 | DU6: 0.087093959 | DV6: 0 | DW6: 4.5908885e-05 | DX6: 0 | DY6: 4.8020282e-08 | DZ6: 0 | EA6: 0 | EB6: 2.5365956e-05 | EC6: 3.476476e-07 | ED6: 0 | EE6: 0 | EF6: 0 | EG6: 0.000170991 | EH6: 0 | EI6: 3.1918905e-05 | EJ6: 0.0093248521 | EK6: 0.0028654962 | EL6: 0.00019008431 | EM6: 0.033037377 | EN6: 0.0030191497 | EO6: 0 | EP6: 0 | EQ6: 0 | ER6: 0 | ES6: 0 | ET6: 0 | EU6: 0 | EV6: 0 | EW6: 0 | EX6: 0 | EY6: 0 | EZ6: 0 | FA6: 7.6222473e-06 | FB6: 0 | FC6: 0 | FD6: 0 | FE6: 2.5155555e-06 | FF6: 0 | FG6: 1.1404292e-07 | FH6: 0 | FI6: 5.4012172e-08 | FJ6: 0 | FK6: 1.3266865e-07 | FL6: 0 | FM6: 0 | FN6: 0 | FO6: 0 | FP6: 0 | FQ6: 0 | FR6: 0 | FS6: 0 | FT6: 0 | FU6: 0 | FV6: 0 | FW6: 2.5437098e-06 | FX6: 0 | FY6: 0 | FZ6: 0 | GA6: 0 | GB6: 0 | GC6: 0 | GD6: 0 | GE6: 0 | GF6: 0 | GG6: 0.0025781497 | GH6: 0 | GI6: 0.13784582 | GJ6: 0 | GK6: 0 | GL6: 0 | GM6: 0 | GN6: 0 | GO6: 0 | GP6: 0 | GQ6: 0 | GR6: 6.2056738e-08 | GS6: 0 | GT6: 0 | GU6: 0.024353075 | GV6: 0.00012511483 | GW6: 0.041811372 | GX6: 0.00018839484 | GY6: 0.0045636633 | GZ6: 0 | HA6: 0.0028465129 | HB6: 0.0080091773 | HC6: 0 | HD6: 0 | HE6: 0 | HF6: 0 | HG6: 0 | HH6: 0 | HI6: 0 | HJ6: 0 | HK6: 0 | HL6: 9.5182213e-05 | HM6: 0 | HN6: 0 | HO6: 0 | HP6: 0 | HQ6: 0 | HR6: 0 | HS6: 0 | HT6: 0 | HU6: 0 | HV6: 0 | HW6: 0 | HX6: 0 | HY6: 0 | HZ6: 0 | IA6: 0 | IB6: 0 | IC6: 0 | ID6: 0.00020890789 | IE6: 0 | IF6: 0 | IG6: 0 | IH6: 0 | II6: 0 | IJ6: 0 | IK6: 0 | IL6: 0 | IM6: 0 | IN6: 0 | IO6: 0 | IP6: 0 | IQ6: 0 | IR6: 0 | IS6: 0 | IT6: 0 | IU6: 0 | IV6: 6.5463968e-07 | IW6: 0 | IX6: 0 | IY6: 0 | IZ6: 0 | JA6: 0 | JB6: 0 | JC6: 2.0476968e-06 | JD6: 0 | JE6: 0 | JF6: 0 | JG6: 0 | JH6: 0 | JI6: 4.1741803e-06 | JJ6: 0 | JK6: 0 | JL6: 0 | JM6: 0 | JN6: 0 | JO6: 0 | JP6: 0 | JQ6: 0 | JR6: 2.7485481e-07 | JS6: 0 | JT6: 0 | JU6: 0 | JV6: 0 | JW6: 0 | JX6: 0 | JY6: 0 | JZ6: 0 | KA6: 0 | KB6: 0 | KC6: 0 | KD6: 0 | KE6: 0 | KF6: 0 | KG6: 0 | KH6: 0 | KI6: 0 | KJ6: 0 | KK6: 3.3662107e-08 | KL6: 0 | KM6: 0 | KN6: 0 | KO6: 0 | KP6: 0 | KQ6: 0 | KR6: 0 | KS6: 0 | KT6: 0 | KU6: 0 | KV6: 0 | KW6: 0 | KX6: 0 | KY6: 0 | KZ6: 0 | LA6: 0 | LB6: 0 | LC6: 0 | LD6: 0 | LE6: 0
A7: =VLOOKUP(B7,List_VISp_projection!A:C,3, FALSE) -> A930038C07Rik-Tg1-Cre | B7: 496152279 | C7: A930038C07Rik-Tg1-Cre-212451 | D7: 0 | E7: 0 | F7: 0 | G7: 0 | H7: 0 | I7: 0 | J7: 0 | K7: 0 | L7: 0 | M7: 0 | N7: 0 | O7: 0 | P7: 0 | Q7: 0 | R7: 0 | S7: 0 | T7: 0 | U7: 0.0016030466 | V7: 0.0028239991 | W7: 0.050734125 | X7: 0.17026573 | Y7: 0.040717977 | Z7: 0.020847189 | AA7: 0 | AB7: 0.02372763 | AC7: 0 | AD7: 0 | AE7: 0 | AF7: 0 | AG7: 0 | AH7: 0 | AI7: 0 | AJ7: 0 | AK7: 0 | AL7: 0 | AM7: 0.0059680719 | AN7: 0.01522136 | AO7: 0 | AP7: 0 | AQ7: 0 | AR7: 0 | AS7: 0 | AT7: 0 | AU7: 0 | AV7: 0 | AW7: 0 | AX7: 0 | AY7: 0 | AZ7: 0 | BA7: 0 | BB7: 0 | BC7: 0 | BD7: 0 | BE7: 0 | BF7: 0 | BG7: 0 | BH7: 0 | BI7: 0 | BJ7: 0 | BK7: 0 | BL7: 0 | BM7: 0 | BN7: 0 | BO7: 0.0021149031 | BP7: 0.0018975553 | BQ7: 0 | BR7: 0 | BS7: 0 | BT7: 0.028040207 | BU7: 0 | BV7: 0 | BW7: 0 | BX7: 0 | BY7: 0 | BZ7: 1.8281831e-05 | CA7: 1.6292325e-06 | CB7: 0.031348725 | CC7: 0 | CD7: 0 | CE7: 0 | CF7: 0 | CG7: 0 | CH7: 3.9971295e-06 | CI7: 0 | CJ7: 0 | CK7: 0 | CL7: 1.5242646e-08 | CM7: 0 | CN7: 0 | CO7: 0 | CP7: 0 | CQ7: 0 | CR7: 0 | CS7: 0 | CT7: 0 | CU7: 0 | CV7: 0 | CW7: 0 | CX7: 0 | CY7: 0 | CZ7: 0 | DA7: 0 | DB7: 0 | DC7: 0.000361443 | DD7: 1.4706888e-06 | DE7: 0.00032844512 | DF7: 2.1286903e-05 | DG7: 0 | DH7: 0 | DI7: 0 | DJ7: 0 | DK7: 0.035141546 | DL7: 0.06434183 | DM7: 0.00046137473 | DN7: 0.0011335716 | DO7: 0.00021832487 | DP7: 0 | DQ7: 0 | DR7: 0 | DS7: 0 | DT7: 5.480383e-08 | DU7: 0.069109782 | DV7: 0 | DW7: 3.1818697e-06 | DX7: 0 | DY7: 0 | DZ7: 0 | EA7: 9.6453348e-06 | EB7: 0 | EC7: 0 | ED7: 0 | EE7: 0 | EF7: 0 | EG7: 0 | EH7: 0 | EI7: 1.4614895e-05 | EJ7: 0.0049615349 | EK7: 0.0081151598 | EL7: 9.7460761e-05 | EM7: 0.065181266 | EN7: 0.0013060791 | EO7: 0 | EP7: 1.7135567e-06 | EQ7: 0 | ER7: 0 | ES7: 0 | ET7: 0 | EU7: 0 | EV7: 0 | EW7: 0 | EX7: 0 | EY7: 0 | EZ7: 0 | FA7: 4.190394e-07 | FB7: 0 | FC7: 0 | FD7: 0 | FE7: 0 | FF7: 0 | FG7: 2.0197972e-08 | FH7: 0 | FI7: 2.6897623e-07 | FJ7: 0 | FK7: 4.8691273e-08 | FL7: 0 | FM7: 0 | FN7: 0 | FO7: 0 | FP7: 0 | FQ7: 4.9557035e-06 | FR7: 0 | FS7: 0 | FT7: 0 | FU7: 0 | FV7: 0 | FW7: 4.9580117e-06 | FX7: 0 | FY7: 0 | FZ7: 0 | GA7: 0 | GB7: 0 | GC7: 0 | GD7: 0 | GE7: 0 | GF7: 0 | GG7: 0.00049773219 | GH7: 0 | GI7: 0.23216329 | GJ7: 0 | GK7: 0 | GL7: 2.0507094e-05 | GM7: 0 | GN7: 0 | GO7: 8.1068547e-06 | GP7: 0 | GQ7: 0 | GR7: 3.1729762e-08 | GS7: 1.2129629e-05 | GT7: 0 | GU7: 0.020610037 | GV7: 0 | GW7: 0.05415378 | GX7: 0.0031775913 | GY7: 0.0043052846 | GZ7: 0 | HA7: 0.0054979337 | HB7: 0.0071556348 | HC7: 0 | HD7: 0 | HE7: 0 | HF7: 0 | HG7: 0 | HH7: 0 | HI7: 0 | HJ7: 0 | HK7: 0 | HL7: 9.4450726e-05 | HM7: 0 | HN7: 0 | HO7: 0 | HP7: 0 | HQ7: 0 | HR7: 0 | HS7: 0 | HT7: 0 | HU7: 0 | HV7: 0 | HW7: 0 | HX7: 0 | HY7: 0 | HZ7: 0 | IA7: 0 | IB7: 0 | IC7: 0 | ID7: 0.010813088 | IE7: 0 | IF7: 0 | IG7: 0 | IH7: 0 | II7: 0 | IJ7: 4.2366068e-07 | IK7: 0 | IL7: 0 | IM7: 8.8450949e-07 | IN7: 6.5991671e-06 | IO7: 0 | IP7: 0 | IQ7: 0 | IR7: 0 | IS7: 0 | IT7: 0 | IU7: 0 | IV7: 0 | IW7: 0 | IX7: 0 | IY7: 0 | IZ7: 0 | JA7: 0 | JB7: 0 | JC7: 3.0955136e-06 | JD7: 0 | JE7: 0 | JF7: 0 | JG7: 0 | JH7: 0 | JI7: 1.5282312e-05 | JJ7: 0 | JK7: 3.5133807e-07 | JL7: 0 | JM7: 0 | JN7: 0 | JO7: 0 | JP7: 0 | JQ7: 0 | JR7: 8.9809884e-07 | JS7: 0 | JT7: 0 | JU7: 0 | JV7: 0 | JW7: 0 | JX7: 0 | JY7: 3.8255111e-06 | JZ7: 0 | KA7: 0 | KB7: 0 | KC7: 0 | KD7: 0 | KE7: 0 | KF7: 0 | KG7: 0 | KH7: 0 | KI7: 0 | KJ7: 0 | KK7: 1.1620032e-06 | KL7: 0 | KM7: 0 | KN7: 0 | KO7: 0 | KP7: 0 | KQ7: 0 | KR7: 0 | KS7: 0 | KT7: 0 | KU7: 0 | KV7: 0 | KW7: 0 | KX7: 0 | KY7: 0 | KZ7: 0 | LA7: 0 | LB7: 0 | LC7: 0 | LD7: 0 | LE7: 0
A8: =VLOOKUP(B8,List_VISp_projection!A:C,3, FALSE) -> A930038C07Rik-Tg1-Cre | B8: 508889322 | C8: A930038C07Rik-Tg1-Cre-231780 | D8: 0 | E8: 0 | F8: 0 | G8: 0 | H8: 0 | I8: 0 | J8: 0 | K8: 0 | L8: 0 | M8: 0 | N8: 0 | O8: 0 | P8: 0 | Q8: 0 | R8: 0 | S8: 0 | T8: 0 | U8: 0 | V8: 0.00024071856 | W8: 0.021095201 | X8: 0.10661039 | Y8: 0.011275727 | Z8: 0.010921101 | AA8: 0 | AB8: 0.002735203 | AC8: 0 | AD8: 0 | AE8: 0 | AF8: 0 | AG8: 0 | AH8: 0 | AI8: 0 | AJ8: 0 | AK8: 0 | AL8: 0 | AM8: 0.0065144411 | AN8: 0.0070579743 | AO8: 0 | AP8: 0 | AQ8: 0 | AR8: 0 | AS8: 0 | AT8: 0 | AU8: 0 | AV8: 0 | AW8: 0 | AX8: 0 | AY8: 0 | AZ8: 0 | BA8: 0 | BB8: 0 | BC8: 0 | BD8: 0 | BE8: 0 | BF8: 0.0052853604 | BG8: 0.00025817592 | BH8: 0 | BI8: 0 | BJ8: 0 | BK8: 0 | BL8: 0 | BM8: 0 | BN8: 0 | BO8: 0.00015652488 | BP8: 6.9102366e-05 | BQ8: 0 | BR8: 3.3384689e-05 | BS8: 0 | BT8: 0.012925251 | BU8: 0 | BV8: 0 | BW8: 0 | BX8: 0 | BY8: 0 | BZ8: 1.9861918e-05 | CA8: 0 | CB8: 0.018472472 | CC8: 0 | CD8: 0 | CE8: 0 | CF8: 0 | CG8: 0 | CH8: 0 | CI8: 0 | CJ8: 0 | CK8: 0 | CL8: 0 | CM8: 0 | CN8: 0 | CO8: 0 | CP8: 0.00061504686 | CQ8: 0 | CR8: 0 | CS8: 0 | CT8: 0 | CU8: 0 | CV8: 0 | CW8: 0 | CX8: 0 | CY8: 0 | CZ8: 0 | DA8: 0.00010103098 | DB8: 0 | DC8: 0.00082249201 | DD8: 0 | DE8: 0.00025514855 | DF8: 1.0185962e-05 | DG8: 0 | DH8: 7.6705515e-07 | DI8: 0.00018475986 | DJ8: 0.00021949605 | DK8: 0.057743897 | DL8: 0.11848312 | DM8: 0.002123925 | DN8: 0.0019868462 | DO8: 0.00057070135 | DP8: 0 | DQ8: 0 | DR8: 0 | DS8: 0 | DT8: 0 | DU8: 0.092227998 | DV8: 0 | DW8: 0 | DX8: 0 | DY8: 0 | DZ8: 0 | EA8: 0 | EB8: 0 | EC8: 0 | ED8: 0 | EE8: 0 | EF8: 0 | EG8: 0 | EH8: 0 | EI8: 0 | EJ8: 0.0085691559 | EK8: 0.013009454 | EL8: 0.0002439455 | EM8: 0.10073822 | EN8: 0.0024499234 | EO8: 0 | EP8: 0 | EQ8: 0 | ER8: 0 | ES8: 0 | ET8: 0 | EU8: 0 | EV8: 0 | EW8: 0 | EX8: 0 | EY8: 0 | EZ8: 0 | FA8: 0 | FB8: 0 | FC8: 0 | FD8: 0 | FE8: 0 | FF8: 0 | FG8: 0 | FH8: 0 | FI8: 0 | FJ8: 0 | FK8: 0 | FL8: 0 | FM8: 0 | FN8: 0 | FO8: 0 | FP8: 0 | FQ8: 0 | FR8: 0 | FS8: 0 | FT8: 0 | FU8: 0 | FV8: 0 | FW8: 0 | FX8: 0 | FY8: 0 | FZ8: 0 | GA8: 0 | GB8: 0 | GC8: 0 | GD8: 0 | GE8: 0 | GF8: 0 | GG8: 0.0022933018 | GH8: 0 | GI8: 0.22633224 | GJ8: 0 | GK8: 0 | GL8: 0 | GM8: 0 | GN8: 0 | GO8: 0 | GP8: 0 | GQ8: 0 | GR8: 0 | GS8: 0 | GT8: 0 | GU8: 0.030554391 | GV8: 0 | GW8: 0.080718774 | GX8: 0.0095871774 | GY8: 0.016113053 | GZ8: 0 | HA8: 0.0080104529 | HB8: 0.013929526 | HC8: 0 | HD8: 0 | HE8: 0 | HF8: 0 | HG8: 0 | HH8: 0 | HI8: 0 | HJ8: 0 | HK8: 0 | HL8: 0.00012871601 | HM8: 0 | HN8: 0 | HO8: 0 | HP8: 0 | HQ8: 1.076072e-05 | HR8: 0 | HS8: 0 | HT8: 0 | HU8: 0 | HV8: 0 | HW8: 0 | HX8: 0 | HY8: 0 | HZ8: 0 | IA8: 0 | IB8: 0 | IC8: 0 | ID8: 0.0061345928 | IE8: 0 | IF8: 0 | IG8: 0 | IH8: 0.00030871743 | II8: 0 | IJ8: 0 | IK8: 0 | IL8: 0 | IM8: 0 | IN8: 0 | IO8: 0 | IP8: 0 | IQ8: 0 | IR8: 0 | IS8: 0 | IT8: 0 | IU8: 0 | IV8: 0 | IW8: 0 | IX8: 0 | IY8: 0 | IZ8: 0 | JA8: 0 | JB8: 0 | JC8: 0 | JD8: 0 | JE8: 0 | JF8: 0 | JG8: 0 | JH8: 0 | JI8: 2.463135e-08 | JJ8: 0 | JK8: 0 | JL8: 0 | JM8: 0 | JN8: 0 | JO8: 0 | JP8: 0 | JQ8: 0 | JR8: 0 | JS8: 0 | JT8: 0 | JU8: 0 | JV8: 0 | JW8: 0 | JX8: 0 | JY8: 0 | JZ8: 0 | KA8: 0 | KB8: 0 | KC8: 0 | KD8: 0 | KE8: 0 | KF8: 0 | KG8: 0 | KH8: 0 | KI8: 0 | KJ8: 0 | KK8: 0 | KL8: 0 | KM8: 0 | KN8: 0 | KO8: 0 | KP8: 0 | KQ8: 0 | KR8: 0 | KS8: 0 | KT8: 0 | KU8: 0 | KV8: 0 | KW8: 0 | KX8: 0 | KY8: 0 | KZ8: 0 | LA8: 0 | LB8: 0 | LC8: 0 | LD8: 0 | LE8: 0
A9: =VLOOKUP(B9,List_VISp_projection!A:C,3, FALSE) -> A930038C07Rik-Tg1-Cre | B9: 519486602 | C9: A930038C07Rik-Tg1-Cre-241721 | D9: 0 | E9: 0 | F9: 0 | G9: 0 | H9: 0 | I9: 0 | J9: 0 | K9: 0 | L9: 0 | M9: 0 | N9: 0 | O9: 0 | P9: 0 | Q9: 0 | R9: 0 | S9: 0 | T9: 0 | U9: 0 | V9: 0.00083084267 | W9: 0.0086769807 | X9: 0.092324925 | Y9: 0.01363649 | Z9: 0.031067665 | AA9: 0.0037889715 | AB9: 0.0043417945 | AC9: 0 | AD9: 0 | AE9: 0 | AF9: 0 | AG9: 0 | AH9: 0 | AI9: 0 | AJ9: 0 | AK9: 0 | AL9: 0 | AM9: 0.03926524 | AN9: 0.065493143 | AO9: 0.015851345 | AP9: 0 | AQ9: 0 | AR9: 7.529336e-06 | AS9: 0 | AT9: 0 | AU9: 0 | AV9: 0 | AW9: 0 | AX9: 0 | AY9: 0 | AZ9: 0 | BA9: 0 | BB9: 0 | BC9: 0 | BD9: 0 | BE9: 0 | BF9: 0.00029992201 | BG9: 0 | BH9: 0 | BI9: 0 | BJ9: 0 | BK9: 0 | BL9: 0 | BM9: 0 | BN9: 0 | BO9: 0.0033688466 | BP9: 0.00036161487 | BQ9: 0 | BR9: 0 | BS9: 3.3433511e-06 | BT9: 0.060335157 | BU9: 0 | BV9: 0 | BW9: 0 | BX9: 0 | BY9: 0 | BZ9: 1.7395816e-06 | CA9: 0 | CB9: 0 | CC9: 0 | CD9: 0 | CE9: 0 | CF9: 0 | CG9: 0 | CH9: 0 | CI9: 0 | CJ9: 0 | CK9: 0 | CL9: 0 | CM9: 0 | CN9: 0 | CO9: 0 | CP9: 0 | CQ9: 0 | CR9: 0 | CS9: 0 | CT9: 0 | CU9: 0 | CV9: 0 | CW9: 0 | CX9: 0 | CY9: 0 | CZ9: 1.163722e-05 | DA9: 0.00094863862 | DB9: 0 | DC9: 0.0005993219 | DD9: 2.2657918e-07 | DE9: 5.1465673e-05 | DF9: 2.7656614e-05 | DG9: 2.8087384e-06 | DH9: 3.7247972e-09 | DI9: 0 | DJ9: 0.00031136475 | DK9: 0.045848517 | DL9: 0.066180595 | DM9: 0.00065764977 | DN9: 0.00090386523 | DO9: 0.00021023661 | DP9: 0 | DQ9: 5.000728e-05 | DR9: 0 | DS9: 0 | DT9: 0 | DU9: 0.067935206 | DV9: 1.1920748e-06 | DW9: 5.5523345e-07 | DX9: 0 | DY9: 0 | DZ9: 0 | EA9: 0 | EB9: 8.6265302e-06 | EC9: 0 | ED9: 0 | EE9: 1.2185513e-09 | EF9: 0 | EG9: 0 | EH9: 0 | EI9: 1.8620219e-05 | EJ9: 0.004128567 | EK9: 0.0041885111 | EL9: 6.1423589e-05 | EM9: 0.057356719 | EN9: 0.0020054517 | EO9: 0 | EP9: 1.8935867e-05 | EQ9: 0 | ER9: 0 | ES9: 0 | ET9: 0 | EU9: 0 | EV9: 0 | EW9: 0 | EX9: 0 | EY9: 0 | EZ9: 0 | FA9: 1.6356108e-06 | FB9: 0 | FC9: 0 | FD9: 0 | FE9: 0 | FF9: 0 | FG9: 0 | FH9: 0 | FI9: 0 | FJ9: 0 | FK9: 0 | FL9: 0 | FM9: 0 | FN9: 0 | FO9: 0 | FP9: 0 | FQ9: 0 | FR9: 0 | FS9: 0 | FT9: 0 | FU9: 0 | FV9: 0 | FW9: 2.3905572e-06 | FX9: 0 | FY9: 0 | FZ9: 0 | GA9: 0 | GB9: 0 | GC9: 0 | GD9: 0 | GE9: 0 | GF9: 0 | GG9: 1.1556363e-05 | GH9: 0 | GI9: 0.26685993 | GJ9: 0 | GK9: 0 | GL9: 1.8385004e-05 | GM9: 0 | GN9: 0 | GO9: 7.6724752e-07 | GP9: 0 | GQ9: 0 | GR9: 0 | GS9: 0 | GT9: 0 | GU9: 0.059226385 | GV9: 0.001733716 | GW9: 0.049964279 | GX9: 0.0019345172 | GY9: 0.013906032 | GZ9: 0.00012992692 | HA9: 0.004103745 | HB9: 0.010376238 | HC9: 0 | HD9: 0 | HE9: 0 | HF9: 0 | HG9: 0 | HH9: 0 | HI9: 0 | HJ9: 0 | HK9: 0 | HL9: 1.893942e-06 | HM9: 0 | HN9: 0 | HO9: 0 | HP9: 0 | HQ9: 0 | HR9: 0 | HS9: 0 | HT9: 0 | HU9: 0 | HV9: 0 | HW9: 0 | HX9: 0 | HY9: 0 | HZ9: 0 | IA9: 0 | IB9: 0 | IC9: 0 | ID9: 0 | IE9: 0 | IF9: 0 | IG9: 0 | IH9: 0 | II9: 0 | IJ9: 4.1821105e-07 | IK9: 0 | IL9: 0 | IM9: 0 | IN9: 0 | IO9: 0 | IP9: 0 | IQ9: 0 | IR9: 0 | IS9: 0 | IT9: 0 | IU9: 0 | IV9: 1.2613822e-07 | IW9: 0 | IX9: 0 | IY9: 0 | IZ9: 0 | JA9: 0 | JB9: 0 | JC9: 0 | JD9: 0 | JE9: 0 | JF9: 0 | JG9: 0 | JH9: 0 | JI9: 0 | JJ9: 0 | JK9: 0 | JL9: 0 | JM9: 0 | JN9: 0 | JO9: 0 | JP9: 0 | JQ9: 0 | JR9: 0 | JS9: 0 | JT9: 0 | JU9: 0 | JV9: 0 | JW9: 0 | JX9: 0 | JY9: 0 | JZ9: 0 | KA9: 0 | KB9: 0 | KC9: 0 | KD9: 0 | KE9: 0 | KF9: 0 | KG9: 0 | KH9: 0 | KI9: 0 | KJ9: 0 | KK9: 0 | KL9: 0 | KM9: 0 | KN9: 0 | KO9: 0 | KP9: 0 | KQ9: 0 | KR9: 0 | KS9: 0 | KT9: 0 | KU9: 0 | KV9: 0 | KW9: 0 | KX9: 0 | KY9: 0 | KZ9: 0 | LA9: 0 | LB9: 0 | LC9: 0 | LD9: 0 | LE9: 0
A10: =VLOOKUP(B10,List_VISp_projection!A:C,3, FALSE) -> A930038C07Rik-Tg1-Cre | B10: 519488493 | C10: A930038C07Rik-Tg1-Cre-241723 | D10: 0.00027024716 | E10: 0.016686875 | F10: 0.044178417 | G10: 0 | H10: 0.0048872783 | I10: 0.0014798626 | J10: 0.0065612504 | K10: 0.0033481851 | L10: 0.0020645465 | M10: 0.0006258944 | N10: 0.006546515 | O10: 0.0011584913 | P10: 0.0039287517 | Q10: 0.0011790612 | R10: 0.0020170709 | S10: 0.00082321346 | T10: 0.0034413374 | U10: 0.004509438 | V10: 0.0042359711 | W10: 0.0057717312 | X10: 0.031314993 | Y10: 0.00054108853 | Z10: 0.0056496363 | AA10: 0.0070287924 | AB10: 0.0021465863 | AC10: 0.013011619 | AD10: 0.0030174193 | AE10: 0.0018237696 | AF10: 0.00059092531 | AG10: 0.0028844966 | AH10: 0 | AI10: 0.0016837222 | AJ10: 0.011956199 | AK10: 0.0074716797 | AL10: 0.0017564866 | AM10: 0.003931302 | AN10: 0.0059255134 | AO10: 0.0041978774 | AP10: 0.007907558 | AQ10: 0.017095652 | AR10: 0.0066723368 | AS10: 0.001047118 | AT10: 0.0029461826 | AU10: 0.012890578 | AV10: 0.00069345863 | AW10: 0.0091150918 | AX10: 0.0015957223 | AY10: 0.0002344046 | AZ10: 0.030656497 | BA10: 0.00071920517 | BB10: 0.0020187192 | BC10: 0.0059061053 | BD10: 0.0024903654 | BE10: 0.0020908424 | BF10: 0.0038443701 | BG10: 8.0509886e-05 | BH10: 0.0041220751 | BI10: 0.0010552918 | BJ10: 7.1642251e-06 | BK10: 0 | BL10: 0.0090768901 | BM10: 0.0023925499 | BN10: 9.0891133e-05 | BO10: 0.00064680841 | BP10: 0.00041956194 | BQ10: 0.00066404611 | BR10: 0.00054097592 | BS10: 0.00063334561 | BT10: 0.00020659109 | BU10: 0.0013128725 | BV10: 0.0036845337 | BW10: 0.0015573775 | BX10: 0.00083614141 | BY10: 0.00314653 | BZ10: 0.0031968264 | CA10: 0.0021163935 | CB10: 0.038865458 | CC10: 0.0033247179 | CD10: 0.00056308871 | CE10: 0.014266126 | CF10: 0.00087896105 | CG10: 0.0015375453 | CH10: 0.00069769761 | CI10: 0.0001768298 | CJ10: 4.4751968e-05 | CK10: 0.0012729419 | CL10: 4.373903e-05 | CM10: 0.0022890493 | CN10: 0.00023950427 | CO10: 0.0049859928 | CP10: 0.00049692763 | CQ10: 0 | CR10: 0.0056200721 | CS10: 0.00047857647 | CT10: 0.00022799163 | CU10: 0.0011466244 | CV10: 0.00030857212 | CW10: 0.0013439696 | CX10: 7.5348933e-06 | CY10: 0.00013786334 | CZ10: 0.00013017737 | DA10: 0.00026239779 | DB10: 4.6791722e-06 | DC10: 0.00021927161 | DD10: 7.8922862e-05 | DE10: 4.2012445e-05 | DF10: 3.5767884e-05 | DG10: 3.5438671e-06 | DH10: 3.5708916e-05 | DI10: 0 | DJ10: 0.0011193827 | DK10: 0.0030984983 | DL10: 0.0048353379 | DM10: 0.0037753892 | DN10: 4.088499e-05 | DO10: 0.00011944825 | DP10: 0.00010408221 | DQ10: 0.0002068634 | DR10: 3.3802912e-05 | DS10: 2.1706645e-06 | DT10: 1.9258556e-05 | DU10: 0.004997617 | DV10: 4.1324975e-05 | DW10: 0.00017631145 | DX10: 3.3201053e-05 | DY10: 0.00010212921 | DZ10: 3.4286542e-05 | EA10: 4.791517e-05 | EB10: 0.00016256951 | EC10: 9.123098e-05 | ED10: 8.8741364e-06 | EE10: 6.0906909e-05 | EF10: 3.7716552e-05 | EG10: 8.3384379e-05 | EH10: 4.6928217e-05 | EI10: 3.761338e-05 | EJ10: 0.00086469098 | EK10: 4.0636425e-06 | EL10: 3.1364155e-05 | EM10: 0.00089100672 | EN10: 0.00010337025 | EO10: 0 | EP10: 3.1628704e-05 | EQ10: 1.0389701e-05 | ER10: 2.5067437e-06 | ES10: 9.5642738e-05 | ET10: 0 | EU10: 3.1224104e-05 | EV10: 0.00012729406 | EW10: 7.1097964e-05 | EX10: 0.00043612434 | EY10: 0.00026259708 | EZ10: 0.00080127983 | FA10: 6.7187093e-05 | FB10: 0.0016816973 | FC10: 3.5640495e-06 | FD10: 5.5257917e-05 | FE10: 0.0003881859 | FF10: 9.9559125e-05 | FG10: 4.7029558e-05 | FH10: 0.00015545348 | FI10: 0.00011495949 | FJ10: 3.4634087e-05 | FK10: 1.3604235e-05 | FL10: 8.1043872e-05 | FM10: 0.0016044214 | FN10: 0 | FO10: 0.00027668093 | FP10: 0 | FQ10: 2.0806575e-05 | FR10: 0 | FS10: 0.00071084484 | FT10: 0.00010491849 | FU10: 0.00013087472 | FV10: 4.5789202e-05 | FW10: 0.0024704449 | FX10: 0.00086921391 | FY10: 0.00026916642 | FZ10: 0.0010302167 | GA10: 1.1698022e-05 | GB10: 0.00019336376 | GC10: 0.00052647979 | GD10: 0.00061875213 | GE10: 0.00016836608 | GF10: 0.0009874327 | GG10: 0.0013726954 | GH10: 0 | GI10: 0.0075762024 | GJ10: 0.0014404797 | GK10: 0 | GL10: 5.4087881e-05 | GM10: 0 | GN10: 8.6374711e-06 | GO10: 2.2048984e-07 | GP10: 0.0020503542 | GQ10: 0.00016954175 | GR10: 7.739048e-07 | GS10: 8.0640534e-06 | GT10: 0 | GU10: 0.016402434 | GV10: 0.0011426802 | GW10: 0.002576346 | GX10: 0 | GY10: 0 | GZ10: 4.8243266e-07 | HA10: 2.8284867e-05 | HB10: 0.00065092501 | HC10: 5.9421514e-05 | HD10: 0 | HE10: 3.389421e-07 | HF10: 2.1377914e-06 | HG10: 7.4026583e-06 | HH10: 8.9212888e-07 | HI10: 2.1498008e-08 | HJ10: 3.5252765e-07 | HK10: 0 | HL10: 4.875646e-05 | HM10: 0 | HN10: 1.9768282e-05 | HO10: 0.00023959754 | HP10: 0.00027467984 | HQ10: 4.3481341e-05 | HR10: 4.2457418e-06 | HS10: 0 | HT10: 0 | HU10: 7.4896743e-05 | HV10: 0 | HW10: 0.0010581247 | HX10: 0.00088173105 | HY10: 0.00024503015 | HZ10: 8.2099945e-06 | IA10: 2.0303798e-05 | IB10: 1.8417627e-05 | IC10: 0.0002649249 | ID10: 0.0065533696 | IE10: 0.00035966533 | IF10: 4.8505162e-06 | IG10: 0.00033359322 | IH10: 0.000313725 | II10: 0.00050238148 | IJ10: 0.0004875786 | IK10: 2.2159499e-05 | IL10: 4.8622129e-05 | IM10: 5.4816737e-05 | IN10: 3.9612559e-05 | IO10: 1.0394939e-05 | IP10: 8.5332823e-05 | IQ10: 3.5189729e-05 | IR10: 0.0011030861 | IS10: 0 | IT10: 8.4354435e-06 | IU10: 2.3959626e-05 | IV10: 1.7443401e-05 | IW10: 0.0003067354 | IX10: 0.00098239659 | IY10: 0 | IZ10: 1.1374867e-05 | JA10: 0 | JB10: 4.3782461e-06 | JC10: 0.0012450479 | JD10: 0.00083044923 | JE10: 0.00077296231 | JF10: 0.00047256838 | JG10: 9.3170413e-06 | JH10: 1.3610088e-05 | JI10: 0.0018446156 | JJ10: 1.0391369e-05 | JK10: 6.1102704e-05 | JL10: 0.00040822659 | JM10: 0.00071140164 | JN10: 3.1394276e-07 | JO10: 0.00035386391 | JP10: 0.0023234855 | JQ10: 2.1831906e-05 | JR10: 8.6068227e-05 | JS10: 0.00015320185 | JT10: 0.00046459764 | JU10: 0.00021969961 | JV10: 0.00041263342 | JW10: 0.0012920835 | JX10: 4.9206061e-07 | JY10: 2.1350125e-05 | JZ10: 0.00031171182 | KA10: 2.9276564e-05 | KB10: 4.6330221e-05 | KC10: 1.5167746e-05 | KD10: 3.8723397e-05 | KE10: 0.00098710671 | KF10: 0 | KG10: 0.00026049794 | KH10: 1.1731738e-05 | KI10: 0.00031012652 | KJ10: 6.1123582e-05 | KK10: 5.2517647e-05 | KL10: 0 | KM10: 0 | KN10: 0.00018101439 | KO10: 0.005858607 | KP10: 0.0030412281 | KQ10: 0.0055671612 | KR10: 0.0019151414 | KS10: 0.00089918402 | KT10: 0.0044003649 | KU10: 0.0047137674 | KV10: 0.010154042 | KW10: 0.024621143 | KX10: 0.0056876861 | KY10: 0.004227804 | KZ10: 0.01237531 | LA10: 0.0025506214 | LB10: 4.3901865e-05 | LC10: 0.0014106112 | LD10: 0.00094398109 | LE10: 8.006252e-06
A11: =VLOOKUP(B11,List_VISp_projection!A:C,3, FALSE) -> A930038C07Rik-Tg1-Cre | B11: 520019334 | C11: A930038C07Rik-Tg1-Cre-242325 | D11: 0 | E11: 0 | F11: 0 | G11: 0 | H11: 0 | I11: 0 | J11: 0 | K11: 0 | L11: 0 | M11: 0 | N11: 0 | O11: 0 | P11: 0 | Q11: 0 | R11: 0 | S11: 0.0018223227 | T11: 0 | U11: 0.010058096 | V11: 0.0017852158 | W11: 0.087411571 | X11: 0.18689975 | Y11: 0.010900834 | Z11: 0.0072177144 | AA11: 0.0023211313 | AB11: 0.01016884 | AC11: 0.0022327064 | AD11: 0 | AE11: 0 | AF11: 0 | AG11: 0 | AH11: 0 | AI11: 0 | AJ11: 0 | AK11: 0 | AL11: 0 | AM11: 0.019604294 | AN11: 0.013907515 | AO11: 0.0034118201 | AP11: 0 | AQ11: 0.0046841715 | AR11: 2.1716425e-05 | AS11: 0 | AT11: 0.0002352601 | AU11: 0 | AV11: 0 | AW11: 0 | AX11: 0 | AY11: 0 | AZ11: 0 | BA11: 0 | BB11: 2.5393855e-05 | BC11: 0 | BD11: 0 | BE11: 0 | BF11: 0 | BG11: 0 | BH11: 0 | BI11: 0 | BJ11: 0 | BK11: 0 | BL11: 0 | BM11: 0 | BN11: 0 | BO11: 0 | BP11: 0 | BQ11: 0 | BR11: 0 | BS11: 0 | BT11: 0 | BU11: 0 | BV11: 0 | BW11: 4.0530151e-05 | BX11: 0.00066986659 | BY11: 0 | BZ11: 6.412088e-05 | CA11: 0 | CB11: 0.09893246 | CC11: 0 | CD11: 0 | CE11: 0 | CF11: 0.00011773621 | CG11: 0 | CH11: 2.9542785e-05 | CI11: 0 | CJ11: 0 | CK11: 0 | CL11: 0 | CM11: 0 | CN11: 0 | CO11: 0 | CP11: 0 | CQ11: 0 | CR11: 0 | CS11: 0 | CT11: 0 | CU11: 0 | CV11: 0 | CW11: 0 | CX11: 0 | CY11: 0 | CZ11: 0.00021408626 | DA11: 0 | DB11: 0 | DC11: 0.00026344669 | DD11: 0 | DE11: 0.0017291494 | DF11: 0 | DG11: 0 | DH11: 0 | DI11: 0.00038159319 | DJ11: 0.010807198 | DK11: 0.094504976 | DL11: 0.16551582 | DM11: 0.0047589057 | DN11: 0.00067341872 | DO11: 0.0047042542 | DP11: 0 | DQ11: 7.4367826e-06 | DR11: 0 | DS11: 0 | DT11: 0 | DU11: 0.043173177 | DV11: 0 | DW11: 0 | DX11: 0.00065668449 | DY11: 0 | DZ11: 0 | EA11: 0 | EB11: 0 | EC11: 0 | ED11: 3.6190238e-05 | EE11: 0 | EF11: 0 | EG11: 0 | EH11: 0 | EI11: 0.00086641641 | EJ11: 0.0074174507 | EK11: 0.016561682 | EL11: 0.0018586791 | EM11: 0.055912025 | EN11: 0.0018168689 | EO11: 0 | EP11: 0 | EQ11: 0 | ER11: 0 | ES11: 0 | ET11: 0 | EU11: 0 | EV11: 0 | EW11: 0 | EX11: 0 | EY11: 0 | EZ11: 0 | FA11: 3.7797293e-05 | FB11: 0 | FC11: 0 | FD11: 0 | FE11: 0 | FF11: 0 | FG11: 0 | FH11: 0 | FI11: 0 | FJ11: 0 | FK11: 0 | FL11: 0 | FM11: 0 | FN11: 0 | FO11: 0 | FP11: 0 | FQ11: 1.5517597e-06 | FR11: 0 | FS11: 0 | FT11: 0 | FU11: 0 | FV11: 0 | FW11: 0 | FX11: 0 | FY11: 0 | FZ11: 0 | GA11: 0 | GB11: 0 | GC11: 0 | GD11: 0 | GE11: 0 | GF11: 0 | GG11: 0.0024243543 | GH11: 0 | GI11: 0.036709592 | GJ11: 0 | GK11: 0 | GL11: 1.021992e-05 | GM11: 0 | GN11: 0 | GO11: 0 | GP11: 0.0007839867 | GQ11: 0 | GR11: 0 | GS11: 0 | GT11: 0 | GU11: 0.0084757338 | GV11: 2.1187705e-05 | GW11: 0.041547054 | GX11: 0.0029888452 | GY11: 0.0089423249 | GZ11: 0 | HA11: 0.0048863902 | HB11: 0.0085333318 | HC11: 0 | HD11: 0 | HE11: 0 | HF11: 0 | HG11: 0 | HH11: 0 | HI11: 0 | HJ11: 0 | HK11: 0 | HL11: 0.00097203532 | HM11: 0 | HN11: 0 | HO11: 0 | HP11: 0 | HQ11: 0.00011085274 | HR11: 0 | HS11: 0 | HT11: 0 | HU11: 0 | HV11: 0 | HW11: 0 | HX11: 0 | HY11: 0 | HZ11: 0 | IA11: 0 | IB11: 0 | IC11: 0 | ID11: 0.0084225586 | IE11: 0 | IF11: 0 | IG11: 0 | IH11: 0 | II11: 0 | IJ11: 0 | IK11: 0 | IL11: 0 | IM11: 0 | IN11: 0 | IO11: 0 | IP11: 0 | IQ11: 0 | IR11: 0 | IS11: 0 | IT11: 0 | IU11: 0 | IV11: 0 | IW11: 0 | IX11: 0 | IY11: 0 | IZ11: 0 | JA11: 0 | JB11: 0 | JC11: 0 | JD11: 0 | JE11: 0 | JF11: 0 | JG11: 0 | JH11: 0 | JI11: 0 | JJ11: 0 | JK11: 0 | JL11: 0 | JM11: 0 | JN11: 0 | JO11: 0 | JP11: 0 | JQ11: 0 | JR11: 0 | JS11: 0 | JT11: 0 | JU11: 0 | JV11: 0 | JW11: 0 | JX11: 0 | JY11: 0 | JZ11: 0 | KA11: 0 | KB11: 0 | KC11: 0 | KD11: 0 | KE11: 0 | KF11: 0 | KG11: 0 | KH11: 0 | KI11: 0 | KJ11: 0 | KK11: 0 | KL11: 0 | KM11: 0 | KN11: 0 | KO11: 0 | KP11: 0 | KQ11: 0 | KR11: 0 | KS11: 0 | KT11: 0 | KU11: 0 | KV11: 0 | KW11: 0 | KX11: 0 | KY11: 0 | KZ11: 0 | LA11: 0 | LB11: 0 | LC11: 0 | LD11: 0 | LE11: 0
A12: =VLOOKUP(B12,List_VISp_projection!A:C,3, FALSE) -> A930038C07Rik-Tg1-Cre | B12: 520985971 | C12: A930038C07Rik-Tg1-Cre-242566 | D12: 0 | E12: 0.0032001137 | F12: 0.0027986086 | G12: 0 | H12: 0 | I12: 0 | J12: 0 | K12: 0.00011572521 | L12: 6.3249671e-05 | M12: 0 | N12: 0 | O12: 0 | P12: 0 | Q12: 0 | R12: 0 | S12: 0 | T12: 0.00077560639 | U12: 0.0015746434 | V12: 0 | W12: 0.01733487 | X12: 0.14145847 | Y12: 0.01408364 | Z12: 0.0068494226 | AA12: 0 | AB12: 0.0014145162 | AC12: 0 | AD12: 0 | AE12: 0 | AF12: 0 | AG12: 0 | AH12: 0 | AI12: 0 | AJ12: 0 | AK12: 0 | AL12: 0 | AM12: 0.0026438451 | AN12: 0.0038660628 | AO12: 0 | AP12: 0 | AQ12: 0 | AR12: 0.00059349179 | AS12: 0 | AT12: 0.00096517825 | AU12: 0 | AV12: 0 | AW12: 0 | AX12: 0 | AY12: 0 | AZ12: 0 | BA12: 0 | BB12: 0.00022496174 | BC12: 0.00012480875 | BD12: 0.00054793153 | BE12: 0 | BF12: 0.0011966228 | BG12: 0 | BH12: 0 | BI12: 0 | BJ12: 0 | BK12: 0 | BL12: 0 | BM12: 0 | BN12: 0 | BO12: 0.00055460692 | BP12: 0 | BQ12: 0 | BR12: 0 | BS12: 5.8367469e-05 | BT12: 0.0074668666 | BU12: 0 | BV12: 0.00020623197 | BW12: 3.328701e-05 | BX12: 0.00030341419 | BY12: 0 | BZ12: 2.2153016e-05 | CA12: 0 | CB12: 0.022321507 | CC12: 0 | CD12: 6.3242892e-05 | CE12: 0 | CF12: 0.00015584858 | CG12: 0 | CH12: 0 | CI12: 0 | CJ12: 0 | CK12: 0 | CL12: 0 | CM12: 6.1217257e-05 | CN12: 0 | CO12: 0 | CP12: 0.00016403065 | CQ12: 0 | CR12: 0 | CS12: 0 | CT12: 0 | CU12: 0 | CV12: 1.5375779e-05 | CW12: 9.6706013e-05 | CX12: 0 | CY12: 0 | CZ12: 0 | DA12: 0 | DB12: 0 | DC12: 0.00039107947 | DD12: 0 | DE12: 0.00012613263 | DF12: 0 | DG12: 0 | DH12: 1.1987178e-05 | DI12: 9.7212676e-05 | DJ12: 0.0018362232 | DK12: 0.13640697 | DL12: 0.13915021 | DM12: 0.0008362545 | DN12: 0.003504855 | DO12: 0.00022156386 | DP12: 0 | DQ12: 2.0301607e-05 | DR12: 0 | DS12: 0 | DT12: 0 | DU12: 0.071988034 | DV12: 0 | DW12: 4.8613137e-07 | DX12: 0 | DY12: 0 | DZ12: 0 | EA12: 0 | EB12: 0 | EC12: 0 | ED12: 0 | EE12: 0 | EF12: 0 | EG12: 0 | EH12: 0 | EI12: 0 | EJ12: 0.0124688 | EK12: 0.017668261 | EL12: 0.0004731107 | EM12: 0.083328891 | EN12: 0.0040648304 | EO12: 0 | EP12: 0 | EQ12: 0 | ER12: 0 | ES12: 0 | ET12: 0 | EU12: 0 | EV12: 0 | EW12: 0 | EX12: 0 | EY12: 0 | EZ12: 4.6210794e-05 | FA12: 3.0809905e-05 | FB12: 0 | FC12: 4.1360563e-06 | FD12: 0 | FE12: 0 | FF12: 0 | FG12: 4.8632305e-07 | FH12: 0 | FI12: 0 | FJ12: 0 | FK12: 0 | FL12: 0 | FM12: 0 | FN12: 0 | FO12: 0 | FP12: 0 | FQ12: 4.1300629e-06 | FR12: 0 | FS12: 0 | FT12: 0 | FU12: 0 | FV12: 0 | FW12: 0 | FX12: 0 | FY12: 0 | FZ12: 0 | GA12: 0 | GB12: 0 | GC12: 0 | GD12: 0 | GE12: 0 | GF12: 0 | GG12: 0.0017167682 | GH12: 0 | GI12: 0.10446927 | GJ12: 0 | GK12: 0 | GL12: 0 | GM12: 0 | GN12: 0 | GO12: 0 | GP12: 0 | GQ12: 0 | GR12: 0 | GS12: 0 | GT12: 0 | GU12: 0.068150405 | GV12: 0 | GW12: 0.069170784 | GX12: 0.0065260237 | GY12: 0.014452181 | GZ12: 0 | HA12: 0.0096801021 | HB12: 0.015070264 | HC12: 0 | HD12: 0 | HE12: 0 | HF12: 0 | HG12: 0 | HH12: 0 | HI12: 0 | HJ12: 0 | HK12: 0 | HL12: 0.00018181851 | HM12: 0 | HN12: 0 | HO12: 0 | HP12: 0 | HQ12: 1.9341866e-05 | HR12: 0 | HS12: 0 | HT12: 0 | HU12: 0 | HV12: 0 | HW12: 0 | HX12: 0 | HY12: 0 | HZ12: 0 | IA12: 0 | IB12: 0 | IC12: 0 | ID12: 0.0028342636 | IE12: 0 | IF12: 0 | IG12: 0 | IH12: 0 | II12: 0 | IJ12: 0 | IK12: 0 | IL12: 0 | IM12: 0 | IN12: 0 | IO12: 0 | IP12: 0 | IQ12: 0 | IR12: 0 | IS12: 0 | IT12: 0 | IU12: 0 | IV12: 0 | IW12: 0 | IX12: 0 | IY12: 0 | IZ12: 0 | JA12: 0 | JB12: 0 | JC12: 2.8533346e-06 | JD12: 0 | JE12: 0 | JF12: 0 | JG12: 0 | JH12: 0 | JI12: 0 | JJ12: 0 | JK12: 0 | JL12: 0 | JM12: 0 | JN12: 0 | JO12: 0 | JP12: 0 | JQ12: 0 | JR12: 0 | JS12: 0 | JT12: 0 | JU12: 0 | JV12: 0 | JW12: 0 | JX12: 0 | JY12: 0 | JZ12: 0 | KA12: 0 | KB12: 0 | KC12: 0 | KD12: 0 | KE12: 0 | KF12: 0 | KG12: 0 | KH12: 0 | KI12: 0 | KJ12: 0 | KK12: 0 | KL12: 0 | KM12: 0 | KN12: 0 | KO12: 0 | KP12: 0 | KQ12: 0 | KR12: 0 | KS12: 0 | KT12: 0 | KU12: 0 | KV12: 0 | KW12: 0 | KX12: 0 | KY12: 0 | KZ12: 0 | LA12: 0 | LB12: 0 | LC12: 0 | LD12: 0 | LE12: 0
A13: =VLOOKUP(B13,List_VISp_projection!A:C,3, FALSE) -> A930038C07Rik-Tg1-Cre | B13: 527576192 | C13: A930038C07Rik-Tg1-Cre-249275 | D13: 0 | E13: 0 | F13: 0.001278185 | G13: 0 | H13: 0 | I13: 0.00049478262 | J13: 0 | K13: 0 | L13: 0.00063839367 | M13: 0 | N13: 0 | O13: 0 | P13: 0 | Q13: 0 | R13: 0 | S13: 0 | T13: 0 | U13: 4.8465774e-05 | V13: 0.00059916354 | W13: 0.00035568581 | X13: 0.10548992 | Y13: 0.013282843 | Z13: 0.023421804 | AA13: 0.00063306296 | AB13: 0.00010731572 | AC13: 0 | AD13: 0 | AE13: 0 | AF13: 0 | AG13: 0 | AH13: 0 | AI13: 0 | AJ13: 0 | AK13: 0 | AL13: 0 | AM13: 0.032024163 | AN13: 0.043637312 | AO13: 0.0092806891 | AP13: 0.00033351497 | AQ13: 0 | AR13: 0 | AS13: 0 | AT13: 0 | AU13: 0 | AV13: 0 | AW13: 0 | AX13: 0 | AY13: 0 | AZ13: 0 | BA13: 0 | BB13: 0 | BC13: 6.0721575e-05 | BD13: 0 | BE13: 0 | BF13: 0.0042973491 | BG13: 0.0002182269 | BH13: 0 | BI13: 0 | BJ13: 0 | BK13: 0 | BL13: 0 | BM13: 0 | BN13: 0.00046909656 | BO13: 0.0081396401 | BP13: 0.00053954353 | BQ13: 0 | BR13: 0 | BS13: 0 | BT13: 0.030876764 | BU13: 0 | BV13: 0 | BW13: 0.00014642394 | BX13: 0 | BY13: 0 | BZ13: 3.1121363e-06 | CA13: 4.8166155e-06 | CB13: 0.011161907 | CC13: 0 | CD13: 0 | CE13: 0 | CF13: 7.4371954e-05 | CG13: 0 | CH13: 0 | CI13: 0 | CJ13: 0 | CK13: 0 | CL13: 0 | CM13: 0.00012275876 | CN13: 0 | CO13: 0 | CP13: 0 | CQ13: 0 | CR13: 0 | CS13: 0 | CT13: 0 | CU13: 0 | CV13: 0 | CW13: 0 | CX13: 0 | CY13: 0 | CZ13: 0 | DA13: 0.00064177008 | DB13: 0 | DC13: 0.00077399501 | DD13: 0 | DE13: 0.0001064851 | DF13: 6.5065805e-06 | DG13: 0 | DH13: 3.7439754e-06 | DI13: 8.0828808e-05 | DJ13: 0.0016235826 | DK13: 0.08543798 | DL13: 0.094474986 | DM13: 0.0008680652 | DN13: 0.0039381945 | DO13: 0.00035054407 | DP13: 0 | DQ13: 0 | DR13: 0 | DS13: 0 | DT13: 0 | DU13: 0.030373492 | DV13: 0 | DW13: 4.4819913e-06 | DX13: 0 | DY13: 0 | DZ13: 0 | EA13: 0 | EB13: 0 | EC13: 0 | ED13: 0 | EE13: 0 | EF13: 1.2084958e-05 | EG13: 3.2725914e-05 | EH13: 0 | EI13: 3.9921203e-06 | EJ13: 0.013327578 | EK13: 0.01379376 | EL13: 0.0002903016 | EM13: 0.070053589 | EN13: 0.0033027757 | EO13: 0 | EP13: 1.1664292e-05 | EQ13: 0 | ER13: 0 | ES13: 0 | ET13: 0 | EU13: 0 | EV13: 0 | EW13: 0 | EX13: 0 | EY13: 0 | EZ13: 0 | FA13: 1.4178387e-06 | FB13: 0 | FC13: 2.7703396e-06 | FD13: 0 | FE13: 0 | FF13: 0 | FG13: 2.6839916e-06 | FH13: 0 | FI13: 0 | FJ13: 0 | FK13: 0 | FL13: 0 | FM13: 0 | FN13: 0 | FO13: 0 | FP13: 0 | FQ13: 0 | FR13: 0 | FS13: 0 | FT13: 0 | FU13: 0 | FV13: 0 | FW13: 0 | FX13: 1.4923005e-05 | FY13: 0 | FZ13: 0 | GA13: 0 | GB13: 0 | GC13: 0 | GD13: 0 | GE13: 0 | GF13: 0 | GG13: 0.0014620644 | GH13: 2.0094486e-05 | GI13: 0.18837029 | GJ13: 0 | GK13: 0 | GL13: 2.6509865e-06 | GM13: 0 | GN13: 0 | GO13: 7.7856412e-08 | GP13: 0 | GQ13: 0 | GR13: 0 | GS13: 0 | GT13: 0 | GU13: 0.10047177 | GV13: 4.7841623e-05 | GW13: 0.049283902 | GX13: 0.0038491256 | GY13: 0.019396972 | GZ13: 0 | HA13: 0.0086547428 | HB13: 0.016234335 | HC13: 0 | HD13: 0 | HE13: 0 | HF13: 0 | HG13: 0 | HH13: 0 | HI13: 0 | HJ13: 0 | HK13: 0 | HL13: 0.00019910786 | HM13: 0 | HN13: 0 | HO13: 0 | HP13: 0 | HQ13: 7.3378401e-05 | HR13: 0 | HS13: 0 | HT13: 0 | HU13: 3.7802158e-06 | HV13: 0 | HW13: 0 | HX13: 0 | HY13: 0 | HZ13: 0 | IA13: 0 | IB13: 0 | IC13: 0 | ID13: 0 | IE13: 0 | IF13: 0 | IG13: 0 | IH13: 0 | II13: 0 | IJ13: 0 | IK13: 0 | IL13: 0 | IM13: 0 | IN13: 0 | IO13: 0 | IP13: 0 | IQ13: 0 | IR13: 0 | IS13: 0 | IT13: 0 | IU13: 0 | IV13: 3.9024573e-06 | IW13: 0 | IX13: 0 | IY13: 0 | IZ13: 0 | JA13: 0 | JB13: 0 | JC13: 4.7878642e-05 | JD13: 0 | JE13: 0 | JF13: 0 | JG13: 3.0880459e-05 | JH13: 0 | JI13: 0 | JJ13: 0 | JK13: 0 | JL13: 0 | JM13: 0 | JN13: 0 | JO13: 0 | JP13: 0 | JQ13: 0 | JR13: 0 | JS13: 0 | JT13: 0 | JU13: 0 | JV13: 0 | JW13: 0 | JX13: 0 | JY13: 0 | JZ13: 0 | KA13: 0 | KB13: 0 | KC13: 0 | KD13: 0 | KE13: 0 | KF13: 0 | KG13: 0 | KH13: 0 | KI13: 0 | KJ13: 0 | KK13: 1.474223e-06 | KL13: 0 | KM13: 0 | KN13: 0 | KO13: 0 | KP13: 0 | KQ13: 0 | KR13: 0 | KS13: 0 | KT13: 0 | KU13: 0 | KV13: 0 | KW13: 0 | KX13: 0 | KY13: 0 | KZ13: 0 | LA13: 0 | LB13: 0 | LC13: 0 | LD13: 0 | LE13: 0
A14: =VLOOKUP(B14,List_VISp_projection!A:C,3, FALSE) -> A930038C07Rik-Tg1-Cre | B14: 527575484 | C14: A930038C07Rik-Tg1-Cre-249277 | D14: 0 | E14: 0 | F14: 0 | G14: 0 | H14: 0 | I14: 0 | J14: 0 | K14: 0 | L14: 0 | M14: 0 | N14: 0 | O14: 0 | P14: 0 | Q14: 0 | R14: 0 | S14: 0 | T14: 0 | U14: 0.0014709138 | V14: 0.017898615 | W14: 0.11873206 | X14: 0.20910375 | Y14: 0.035157097 | Z14: 0.043951781 | AA14: 0.0025000783 | AB14: 0.014317979 | AC14: 0 | AD14: 0 | AE14: 0 | AF14: 0 | AG14: 0 | AH14: 0 | AI14: 0 | AJ14: 0 | AK14: 0 | AL14: 0 | AM14: 0.01170922 | AN14: 0.02261743 | AO14: 0.001978862 | AP14: 0 | AQ14: 0.0012861351 | AR14: 0.0005069599 | AS14: 0 | AT14: 0 | AU14: 0 | AV14: 0 | AW14: 0 | AX14: 0 | AY14: 0 | AZ14: 0 | BA14: 0 | BB14: 8.2569185e-05 | BC14: 0 | BD14: 0.00054027873 | BE14: 0 | BF14: 0 | BG14: 0 | BH14: 0 | BI14: 0 | BJ14: 0 | BK14: 0 | BL14: 0 | BM14: 0 | BN14: 0 | BO14: 0 | BP14: 0 | BQ14: 0 | BR14: 0 | BS14: 6.6558935e-05 | BT14: 0.004396945 | BU14: 0 | BV14: 0.00010991043 | BW14: 0.00015094642 | BX14: 0 | BY14: 0 | BZ14: 0.00018135709 | CA14: 5.7757294e-05 | CB14: 0.013315606 | CC14: 0 | CD14: 0 | CE14: 0 | CF14: 0 | CG14: 0 | CH14: 1.4990328e-05 | CI14: 0 | CJ14: 8.7562287e-06 | CK14: 0 | CL14: 8.1202242e-06 | CM14: 0 | CN14: 0 | CO14: 0 | CP14: 0 | CQ14: 0 | CR14: 0 | CS14: 0 | CT14: 0 | CU14: 0 | CV14: 0 | CW14: 0 | CX14: 0 | CY14: 0 | CZ14: 2.1435678e-05 | DA14: 0 | DB14: 0 | DC14: 0.00025729297 | DD14: 6.2851798e-05 | DE14: 1.6388264e-06 | DF14: 2.1478636e-05 | DG14: 5.1751783e-06 | DH14: 7.3335736e-06 | DI14: 0 | DJ14: 0 | DK14: 0.012935533 | DL14: 0.051856634 | DM14: 0.0014827907 | DN14: 0.0018363726 | DO14: 0 | DP14: 0 | DQ14: 4.9443323e-06 | DR14: 0 | DS14: 0 | DT14: 4.5072056e-09 | DU14: 0.031579568 | DV14: 2.6343941e-05 | DW14: 3.2442351e-05 | DX14: 1.4987564e-05 | DY14: 0 | DZ14: 0 | EA14: 2.0842377e-05 | EB14: 1.8755391e-08 | EC14: 0 | ED14: 8.7052791e-07 | EE14: 2.3472991e-05 | EF14: 1.3270438e-05 | EG14: 0 | EH14: 0 | EI14: 0 | EJ14: 0.00026338572 | EK14: 0.0018104812 | EL14: 8.7766363e-07 | EM14: 0.018964082 | EN14: 4.6981279e-05 | EO14: 0 | EP14: 1.053359e-05 | EQ14: 0 | ER14: 0 | ES14: 5.4585667e-05 | ET14: 0 | EU14: 0 | EV14: 0 | EW14: 5.7568138e-07 | EX14: 0 | EY14: 0 | EZ14: 0.00022619276 | FA14: 4.5729051e-06 | FB14: 0 | FC14: 0 | FD14: 0 | FE14: 0 | FF14: 7.1454886e-05 | FG14: 1.861669e-05 | FH14: 7.790439e-05 | FI14: 2.4380234e-05 | FJ14: 0 | FK14: 1.1968822e-05 | FL14: 0 | FM14: 0 | FN14: 0 | FO14: 0 | FP14: 0 | FQ14: 1.3619781e-05 | FR14: 0 | FS14: 0.00013101334 | FT14: 0 | FU14: 0 | FV14: 0 | FW14: 6.755052e-05 | FX14: 0 | FY14: 0 | FZ14: 0 | GA14: 6.3410257e-07 | GB14: 0 | GC14: 3.9042151e-05 | GD14: 0 | GE14: 0 | GF14: 0 | GG14: 0.0032941384 | GH14: 0 | GI14: 0.16730805 | GJ14: 0 | GK14: 0 | GL14: 9.9836379e-06 | GM14: 0 | GN14: 1.3176133e-07 | GO14: 1.9141639e-06 | GP14: 0 | GQ14: 0 | GR14: 1.0771299e-06 | GS14: 2.0228206e-05 | GT14: 0 | GU14: 0.05451282 | GV14: 0.00019323548 | GW14: 0.055207402 | GX14: 0.0073829762 | GY14: 0.0069299341 | GZ14: 0 | HA14: 0.0019697675 | HB14: 0.0068413829 | HC14: 0 | HD14: 0 | HE14: 0 | HF14: 0 | HG14: 0 | HH14: 0 | HI14: 0 | HJ14: 0 | HK14: 0 | HL14: 2.9511741e-05 | HM14: 0 | HN14: 0 | HO14: 2.9968805e-05 | HP14: 0 | HQ14: 6.2474156e-06 | HR14: 0 | HS14: 0 | HT14: 0 | HU14: 2.1671932e-05 | HV14: 0 | HW14: 0 | HX14: 0 | HY14: 0 | HZ14: 7.6903838e-07 | IA14: 2.1444316e-06 | IB14: 0 | IC14: 0 | ID14: 0.0052797205 | IE14: 0 | IF14: 0 | IG14: 0 | IH14: 0 | II14: 1.169814e-05 | IJ14: 2.5895662e-05 | IK14: 0 | IL14: 0 | IM14: 0 | IN14: 1.6886501e-06 | IO14: 5.1377456e-06 | IP14: 0 | IQ14: 1.401345e-05 | IR14: 0 | IS14: 0 | IT14: 0 | IU14: 1.5378469e-06 | IV14: 3.7027749e-06 | IW14: 0 | IX14: 0 | IY14: 0 | IZ14: 1.9107582e-06 | JA14: 0 | JB14: 0 | JC14: 0.00016844672 | JD14: 0 | JE14: 0 | JF14: 0 | JG14: 0 | JH14: 1.6547041e-06 | JI14: 1.3205123e-05 | JJ14: 0 | JK14: 0 | JL14: 2.3014121e-05 | JM14: 0 | JN14: 2.1983877e-09 | JO14: 0 | JP14: 0 | JQ14: 0 | JR14: 2.4788408e-07 | JS14: 0 | JT14: 0 | JU14: 0 | JV14: 0 | JW14: 0 | JX14: 0 | JY14: 2.215619e-06 | JZ14: 0 | KA14: 0 | KB14: 0 | KC14: 0 | KD14: 0 | KE14: 0 | KF14: 0 | KG14: 0 | KH14: 0 | KI14: 0 | KJ14: 0 | KK14: 4.2649046e-07 | KL14: 0 | KM14: 0 | KN14: 0 | KO14: 0 | KP14: 0 | KQ14: 0 | KR14: 0 | KS14: 0 | KT14: 0 | KU14: 0 | KV14: 0 | KW14: 0 | KX14: 0 | KY14: 0 | KZ14: 0 | LA14: 0 | LB14: 0 | LC14: 0 | LD14: 0 | LE14: 0
... A172: =VLOOKUP(B172,List_VISp_projection!A:C,3, FALSE) -> Tlx3-Cre_PL56 | B172: 288171964 | C172: Tlx3-Cre_LURC-3605 | D172: 0 | E172: 0.00040065097 | F172: 0 | G172: 0 | H172: 0 | I172: 7.9550861e-05 | J172: 0 | K172: 0 | L172: 0 | M172: 0 | N172: 0 | O172: 0.00023610698 | P172: 0 | Q172: 0 | R172: 0 | S172: 2.2234614e-05 | T172: 0 | U172: 0.0051828549 | V172: 0.0089908584 | W172: 0.066527256 | X172: 0.53357428 | Y172: 0.06578235 | Z172: 0.039444385 | AA172: 0.022762156 | AB172: 0.031495492 | AC172: 0.0006498544 | AD172: 0 | AE172: 0 | AF172: 0 | AG172: 0 | AH172: 0 | AI172: 0 | AJ172: 0.00012169497 | AK172: 0 | AL172: 0 | AM172: 0.033063789 | AN172: 0.044161846 | AO172: 0.021616956 | AP172: 0 | AQ172: 0.00037755531 | AR172: 0.0021736585 | AS172: 0.00014947938 | AT172: 3.8220815e-06 | AU172: 0 | AV172: 0 | AW172: 0 | AX172: 0 | AY172: 0 | AZ172: 0 | BA172: 0 | BB172: 1.9499874e-05 | BC172: 0.00032015328 | BD172: 3.5253964e-05 | BE172: 7.6550206e-05 | BF172: 0 | BG172: 0 | BH172: 0 | BI172: 0 | BJ172: 0 | BK172: 0 | BL172: 0.0012044194 | BM172: 0.002682525 | BN172: 0.0047133783 | BO172: 0.011070208 | BP172: 0.0023725829 | BQ172: 4.4087121e-05 | BR172: 2.7730656e-06 | BS172: 0 | BT172: 0.027139347 | BU172: 0 | BV172: 0 | BW172: 0 | BX172: 0.00010177649 | BY172: 4.8163843e-05 | BZ172: 0 | CA172: 6.7230125e-08 | CB172: 0.040845523 | CC172: 0 | CD172: 0 | CE172: 0 | CF172: 2.705654e-05 | CG172: 0 | CH172: 6.3788523e-07 | CI172: 2.6112316e-06 | CJ172: 1.7132623e-07 | CK172: 0 | CL172: 0 | CM172: 1.0039309e-05 | CN172: 2.4163857e-08 | CO172: 0 | CP172: 0 | CQ172: 0 | CR172: 0 | CS172: 0 | CT172: 0 | CU172: 0 | CV172: 0 | CW172: 1.0039098e-05 | CX172: 2.8301154e-08 | CY172: 0 | CZ172: 0 | DA172: 0 | DB172: 0 | DC172: 0 | DD172: 4.7376253e-08 | DE172: 0 | DF172: 2.0938882e-06 | DG172: 0 | DH172: 0 | DI172: 0 | DJ172: 0 | DK172: 0 | DL172: 0 | DM172: 0 | DN172: 0 | DO172: 0 | DP172: 0 | DQ172: 0 | DR172: 0 | DS172: 0 | DT172: 0 | DU172: 0 | DV172: 0 | DW172: 0 | DX172: 0 | DY172: 0 | DZ172: 5.8465898e-06 | EA172: 0 | EB172: 0 | EC172: 0 | ED172: 0 | EE172: 0 | EF172: 0 | EG172: 8.5140741e-07 | EH172: 7.1357668e-07 | EI172: 0 | EJ172: 0 | EK172: 0 | EL172: 2.9901688e-08 | EM172: 0 | EN172: 0 | EO172: 0 | EP172: 0 | EQ172: 0 | ER172: 0 | ES172: 0 | ET172: 0 | EU172: 0 | EV172: 0 | EW172: 0 | EX172: 0 | EY172: 1.0647301e-06 | EZ172: 0 | FA172: 4.4947456e-06 | FB172: 0 | FC172: 0 | FD172: 0 | FE172: 0 | FF172: 1.1847906e-05 | FG172: 0 | FH172: 0 | FI172: 0 | FJ172: 3.9137421e-05 | FK172: 0 | FL172: 0 | FM172: 0 | FN172: 0 | FO172: 0 | FP172: 0 | FQ172: 0 | FR172: 0 | FS172: 0 | FT172: 1.8937343e-08 | FU172: 7.365314e-06 | FV172: 0 | FW172: 0 | FX172: 5.5964054e-06 | FY172: 0 | FZ172: 0 | GA172: 0 | GB172: 0 | GC172: 0 | GD172: 0 | GE172: 0 | GF172: 3.7986003e-05 | GG172: 0 | GH172: 0.00012292569 | GI172: 0 | GJ172: 0 | GK172: 0 | GL172: 1.0338148e-06 | GM172: 0 | GN172: 0 | GO172: 0 | GP172: 0 | GQ172: 0 | GR172: 0 | GS172: 0 | GT172: 0 | GU172: 0 | GV172: 0 | GW172: 0 | GX172: 0 | GY172: 0 | GZ172: 5.0183487e-07 | HA172: 0 | HB172: 0 | HC172: 4.7018866e-06 | HD172: 0 | HE172: 0 | HF172: 0 | HG172: 0 | HH172: 0 | HI172: 0 | HJ172: 0 | HK172: 0 | HL172: 0 | HM172: 0 | HN172: 0 | HO172: 0 | HP172: 0 | HQ172: 0 | HR172: 0 | HS172: 0 | HT172: 1.1839221e-06 | HU172: 4.9165355e-07 | HV172: 0 | HW172: 0 | HX172: 0 | HY172: 0 | HZ172: 0 | IA172: 0 | IB172: 8.2445618e-08 | IC172: 1.5328718e-05 | ID172: 0 | IE172: 0 | IF172: 0 | IG172: 1.6364633e-06 | IH172: 0 | II172: 0 | IJ172: 0 | IK172: 0 | IL172: 0 | IM172: 0 | IN172: 0 | IO172: 0 | IP172: 2.3224428e-06 | IQ172: 1.8480689e-07 | IR172: 8.9094547e-07 | IS172: 0 | IT172: 2.2583312e-07 | IU172: 0 | IV172: 5.0145445e-06 | IW172: 0 | IX172: 0 | IY172: 0 | IZ172: 0 | JA172: 0 | JB172: 0 | JC172: 0 | JD172: 0 | JE172: 0 | JF172: 0 | JG172: 0 | JH172: 1.7211321e-09 | JI172: 0 | JJ172: 0 | JK172: 0 | JL172: 7.6411335e-07 | JM172: 0 | JN172: 0 | JO172: 0 | JP172: 0 | JQ172: 7.2120148e-09 | JR172: 0 | JS172: 0 | JT172: 0 | JU172: 0 | JV172: 0 | JW172: 0 | JX172: 0 | JY172: 0 | JZ172: 0 | KA172: 0 | KB172: 1.7272748e-05 | KC172: 0 | KD172: 0 | KE172: 0 | KF172: 0 | KG172: 2.486147e-05 | KH172: 1.1306685e-07 | KI172: 0 | KJ172: 0 | KK172: 0 | KL172: 0 | KM172: 0 | KN172: 0 | KO172: 0 | KP172: 0 | KQ172: 0 | KR172: 0 | KS172: 0 | KT172: 0 | KU172: 0 | KV172: 0 | KW172: 0.0016208029 | KX172: 0 | KY172: 0 | KZ172: 0.0011999156 | LA172: 0 | LB172: 0 | LC172: 0 | LD172: 0 | LE172: 2.0653947e-06

