Workbook

Sheet 1. General
A1: Example of the New Input-Output Table proposed for an economy with three input and two final goods. A guide to these exemplary calculations are provided in the file "Supporting Information Guide"
A3: 1.1 General
A4: 1. Good | B4: Price | C4: Quantity
A5: Input 1 | B5: 35 | C5: =C18/B5 -> 17.370067
A6: Input 2 | B6: 16 | C6: =D18/B6 -> 29.271878
A7: Input 3 | B7: 20 | C7: =E18/B7 -> 12.31637
A8: Final 1 | B8: 27 | C8: =F18/B8 -> 1.144848
A9: Final 2 | B9: 21 | C9: =G18/B9 -> 3.7002973
A11: 2. New Table (NT)
C12: Input industries | F12: Final industries | H12: Direct cons. | I12: Expenses
C13: 1 | D13: 2 | E13: 3 | F13: 1 | G13: 2
A14: Inputs | B14: 1 | C14: =D52*(B63+B64) -> 212.64908 | D14: =D90*(B101+B102) -> 128.80216 | E14: =D128*(B139+B140) -> 102.35742 | F14: =D166*(B178+B179) -> 11.212103 | G14: =D205*(B217+B218) -> 22.258444 | H14: =C18-SUM(C14:G14) -> 130.67316 | I14: =SUM(C14:H14) -> 607.95236
B15: 2 | C15: =D53*(C63+C64) -> 151.85384 | D15: =D91*(C101+C102) -> 222.47217 | E15: =D129*(C139+C140) -> 24.632739 | F15: =D167*(C178+C179) -> 5.0299242 | G15: =D206*(C217+C218) -> 16.331321 | H15: =D18-SUM(C15:G15) -> 48.030057 | I15: =SUM(C15:H15) -> 468.35006
B16: 3 | C16: =D54*(D63+D64) -> 91.327101 | D16: =D92*(D101+D102) -> 58.537863 | E16: =D130*(D139+D140) -> 31.747539 | F16: =D168*(D178+D179) -> 6.5478547 | G16: =D207*(D217+D218) -> 31.082497 | H16: =E18-SUM(C16:G16) -> 27.084537 | I16: =SUM(C16:H16) -> 246.32739
A17: Rent | C17: =B73+B74 -> 152.12234 | D17: =B111+B112 -> 58.537863 | E17: =B149+B150 -> 87.589697 | F17: =B188+B189 -> 8.1210138 | G17: =B227+B228 -> 8.0339817
A18: Income | C18: =F79+F80 -> 607.95236 | D18: =F117+F118 -> 468.35006 | E18: =F155+F156 -> 246.32739 | F18: =F194+F195 -> 30.910896 | G18: =F233+F234 -> 77.706244
A20: 3. New Table of Coeficients (NTC)
C21: Input industries | F21: Final industries | H21: Direct cons. | I21: Expenses
C22: 1 | D22: 2 | E22: 3 | F22: 1 | G22: 2
A23: Inputs | B23: 1 | C23: =C14/$C$18 -> 0.34977918 | D23: =D14/$D$18 -> 0.27501259 | E23: =E14/$E$18 -> 0.41553404 | F23: =F14/$F$18 -> 0.36272334 | G23: =G14/$G$18 -> 0.28644344 | H23: - | I23: -
B24: 2 | C24: =C15/$C$18 -> 0.24977918 | D24: =D15/$D$18 -> 0.47501259 | E24: =E15/$E$18 -> 0.1 | F24: =F15/$F$18 -> 0.16272334 | G24: =G15/$G$18 -> 0.21016742 | H24: - | I24: -
B25: 3 | C25: =C16/$C$18 -> 0.15022082 | D25: =D16/$D$18 -> 0.12498741 | E25: =E16/$E$18 -> 0.12888351 | F25: =F16/$F$18 -> 0.21182999 | G25: =G16/$G$18 -> 0.4 | H25: - | I25: -
A26: Rent | C26: =C17/$C$18 -> 0.25022082 | D26: =D17/$D$18 -> 0.12498741 | E26: =E17/$E$18 -> 0.35558245 | F26: =F17/$F$18 -> 0.26272334 | G26: =G17/$G$18 -> 0.10338914
A27: Income | C27: =C18/C18 -> 1 | D27: =D18/$D$18 -> 1 | E27: =E18/$E$18 -> 1 | F27: =F18/$F$18 -> 1 | G27: =G18/$G$18 -> 1
A29: 4. Leontief Inverse
A30: Matrix A | D30: Matrix B | F30: Vector X | G30: Vector Y | H30: Vector D
A31: =C23 -> 0.34977918 | B31: =D23 -> 0.27501259 | C31: =E23 -> 0.41553404 | D31: =F23 -> 0.36272334 | E31: =G23 -> 0.28644344 | F31: =C18 -> 607.95236 | G31: =F18 -> 30.910896 | H31: =H14 -> 130.67316
A32: =C24 -> 0.24977918 | B32: =D24 -> 0.47501259 | C32: =E24 -> 0.1 | D32: =F24 -> 0.16272334 | E32: =G24 -> 0.21016742 | F32: =D18 -> 468.35006 | G32: =G18 -> 77.706244 | H32: =H15 -> 48.030057
A33: =C25 -> 0.15022082 | B33: =D25 -> 0.12498741 | C33: =E25 -> 0.12888351 | D33: =F25 -> 0.21182999 | E33: =G25 -> 0.4 | F33: =E18 -> 246.32739 | H33: =H16 -> 27.084537
A34: Eq. (11) | B34: LHS | C34: RHS
B35: {=MMULT(A31:C33,F31:F33)+MMULT(D31:E33,G31:G32)+H31:H33} -> 607.95236 | C35: {=F31:F33} -> 607.95236
B36: 468.35006 | C36: 468.35006
B37: 246.32739 | C37: 246.32739
A38: Eq. (12) | B38: LHS | C38: RHS
B39: {=F31:F33} -> 607.95236 | C39: {=MMULT(MINVERSE(_xlfn.MUNIT(3)-A31:C33),MMULT(D31:E33,G31:G32)+H31:H33)} -> 607.95236
B40: 468.35006 | C40: 468.35006
B41: 246.32739 | C41: 246.32739
A43: 5. Final demand and rents
A44: Eq. (13) | B44: LHS | C44: RHS
B45: =F18+G18+H14+H15+H16 -> 314.40489 | C45: =SUM(C17:G17) -> 314.40489
...

Sheet 2. Government
A1: Example of the New Input-Output Table proposed for an economy with three input and two final goods and government
A3: 2.1 General
A4: 1. Good | B4: Price | C4: Quantity | D4: Taxes | E4: Amount
A5: Input 1 | B5: 35 | C5: =C19/B5 -> 17.370067 | D5: Rent tax | E5: 0.1
A6: Input 2 | B6: 16 | C6: =D19/B6 -> 29.271878 | D6: Lump sum | E6: 0.5
A7: Input 3 | B7: 20 | C7: =E19/B7 -> 12.31637
A8: Final 1 | B8: 27 | C8: =F19/B8 -> 1.144848
A9: Final 2 | B9: 21 | C9: =G19/B9 -> 3.7002973
A11: 2. New Table (NT) with government
C12: Input industries | F12: Final industries | H12: Direct cons. | I12: Gov. | J12: Expenses
C13: 1 | D13: 2 | E13: 3 | F13: 1 | G13: 2
A14: Inputs | B14: 1 | C14: =B5*(B65+B66) -> 212.64908 | D14: =B5*(B104+B105) -> 128.80216 | E14: =B5*(B143+B144) -> 102.35742 | F14: =B5*(B183+B184) -> 11.212103 | G14: =B5*(B223+B224) -> 22.258444 | H14: =C19-SUM(C14:G14)-I14 -> 107.53381 | I14: 23.139345 | J14: =SUM(C14:I14) -> 607.95236
B15: 2 | C15: =B6*(C65+C66) -> 151.85384 | D15: =B6*(C104+C105) -> 222.47217 | E15: =B6*(C143+C144) -> 24.632739 | F15: =B6*(C183+C184) -> 5.0299242 | G15: =B6*(C223+C224) -> 16.331321 | H15: =D19-SUM(C15:G15)-I15 -> 39.52499 | I15: 8.5050678 | J15: =SUM(C15:I15) -> 468.35006
B16: 3 | C16: =B7*(D65+D66) -> 91.327101 | D16: =B7*(D104+D105) -> 58.537863 | E16: =B7*(D143+D144) -> 31.747539 | F16: =B7*(D183+D184) -> 6.5478547 | G16: =B7*(D223+D224) -> 31.082497 | H16: =E19-SUM(C16:G16)-I16 -> 22.288461 | I16: 4.7960764 | J16: =SUM(C16:I16) -> 246.32739
A17: Tax | C17: =D75+D76 -> 16.212234 | D17: =D114+D115 -> 6.8537863 | E17: =D153+D154 -> 9.7589697 | F17: =D193+D194 -> 1.8121014 | G17: =D233+D234 -> 1.8033982 | J17: =SUM(C17:G17) -> 36.440489
A18: Private Rent | C18: =C75+C76 -> 135.9101 | D18: =C114+C115 -> 51.684076 | E18: =C153+C154 -> 77.830727 | F18: =C193+C194 -> 6.3089124 | G18: =C233+C234 -> 6.2305835
A19: Income | C19: =F81+F82 -> 607.95236 | D19: =F120+F121 -> 468.35006 | E19: =F159+F160 -> 246.32739 | F19: =F199+F200 -> 30.910896 | G19: =F239+F240 -> 77.706244 | I19: =SUM(I14:I16) -> 36.440489
A21: 3. New Table of Coeficients (NTC) with government
C22: Input industries | F22: Final industries | H22: Direct cons. | I22: Gov. | J22: Expenses
C23: 1 | D23: 2 | E23: 3 | F23: 1 | G23: 2
A24: Inputs | B24: 1 | C24: =C14/$C$19 -> 0.34977918 | D24: =D14/$D$19 -> 0.27501259 | E24: =E14/$E$19 -> 0.41553404 | F24: =F14/$F$19 -> 0.36272334 | G24: =G14/$G$19 -> 0.28644344 | H24: - | I24: - | J24: -
B25: 2 | C25: =C15/$C$19 -> 0.24977918 | D25: =D15/$D$19 -> 0.47501259 | E25: =E15/$E$19 -> 0.1 | F25: =F15/$F$19 -> 0.16272334 | G25: =G15/$G$19 -> 0.21016742 | H25: - | I25: - | J25: -
B26: 3 | C26: =C16/$C$19 -> 0.15022082 | D26: =D16/$D$19 -> 0.12498741 | E26: =E16/$E$19 -> 0.12888351 | F26: =F16/$F$19 -> 0.21182999 | G26: =G16/$G$19 -> 0.4 | H26: - | I26: - | J26: -
A27: Tax | C27: =C17/$C$19 -> 0.026666948 | D27: =D17/$D$19 -> 0.014633897 | E27: =E17/$E$19 -> 0.039617882 | F27: =F17/$F$19 -> 0.058623386 | G27: =G17/$G$19 -> 0.023207893 | J27: -
A28: Private Rent | C28: =C18/$C$19 -> 0.22355387 | D28: =D18/$D$19 -> 0.11035352 | E28: =E18/$E$19 -> 0.31596456 | F28: =F18/$F$19 -> 0.20409995 | G28: =G18/$G$19 -> 0.080181247
A29: Income | C29: =C19/C19 -> 1 | D29: =D19/$D$19 -> 1 | E29: =E19/$E$19 -> 1 | F29: =F19/$F$19 -> 1 | G29: =G19/$G$19 -> 1 | I29: -
A31: 4. Leontief Inverse
A32: Matrix A | D32: Matrix B | F32: Vector X | G32: Vector Y | H32: Vector D | I32: Vector G
A33: =C24 -> 0.34977918 | B33: =D24 -> 0.27501259 | C33: =E24 -> 0.41553404 | D33: =F24 -> 0.36272334 | E33: =G24 -> 0.28644344 | F33: =C19 -> 607.95236 | G33: =F19 -> 30.910896 | H33: =H14 -> 107.53381 | I33: =I14 -> 23.139345
A34: =C25 -> 0.24977918 | B34: =D25 -> 0.47501259 | C34: =E25 -> 0.1 | D34: =F25 -> 0.16272334 | E34: =G25 -> 0.21016742 | F34: =D19 -> 468.35006 | G34: =G19 -> 77.706244 | H34: =H15 -> 39.52499 | I34: =I15 -> 8.5050678
A35: =C26 -> 0.15022082 | B35: =D26 -> 0.12498741 | C35: =E26 -> 0.12888351 | D35: =F26 -> 0.21182999 | E35: =G26 -> 0.4 | F35: =E19 -> 246.32739 | H35: =H16 -> 22.288461 | I35: =I16 -> 4.7960764
A36: Eq. (19) | B36: LHS | C36: RHS
B37: {=MMULT(A33:C35,F33:F35)+MMULT(D33:E35,G33:G34)+H33:H35+I33:I35} -> 607.95236 | C37: {=F33:F35} -> 607.95236
B38: 468.35006 | C38: 468.35006
B39: 246.32739 | C39: 246.32739
A40: Eq. (20) | B40: LHS | C40: RHS
B41: {=F33:F35} -> 607.95236 | C41: {=MMULT(MINVERSE(_xlfn.MUNIT(3)-A33:C35),MMULT(D33:E35,G33:G34)+H14:H16+I33:I35)} -> 607.95236
B42: 468.35006 | C42: 468.35006
B43: 246.32739 | C43: 246.32739
A45: 5. Final demand and rents
...

Sheet 3. Foreign trade
A1: Example of the New Input-Output Table proposed for an economy with three input and two final goods, government, and foreign trade
A3: 3.1 General
A4: 1. Good | B4: Price | C4: Quantity | D4: Taxes | E4: Amount | F4: Trade balance
A5: Input 1 | B5: 35 | C5: =C21/B5 -> 17.370067 | D5: Rent tax | E5: 0.1 | F5: Exports | G5: =H21+I21 -> 184.60694
A6: Input 2 | B6: 16 | C6: =D21/B6 -> 29.271878 | D6: Lump sum | E6: 0.5 | F6: Imports | G6: =L16+L17+L18 -> 184.60694
A7: Input 3 | B7: 20 | C7: =E21/B7 -> 12.31637
A8: Final 1 | B8: 27 | C8: =F21/B8 -> 1.144848
A9: Final 2 | B9: 21 | C9: =G21/B9 -> 3.7002973
A10: Export 1 | B10: 15 | C10: =H21/B10 -> 11.748621
A11: Export 2 | B11: 10 | C11: =I21/B11 -> 0.8377624
A13: 2. New Table (NT) with government
C14: Input industries | F14: Final industries | H14: Export industries | J14: Direct cons. | K14: Gov. | L14: Imp. | M14: Expenses
C15: 1 | D15: 2 | E15: 3 | F15: 1 | G15: 2 | H15: 1 | I15: 2
A16: Inputs | B16: 1 | C16: =B5*(B61+B62) -> 212.64908 | D16: =B5*(B100+B101) -> 128.80216 | E16: =B5*(B139+B140) -> 102.35742 | F16: =B5*(B179+B180) -> 11.212103 | G16: =B5*(B219+B220) -> 22.258444 | H16: =B5*(B259+B260) -> 61.680261 | I16: =B5*(B299+B300) -> 1.934231 | J16: =C21-SUM(C16:I16)-K16+L16 -> 133.61333 | K16: 24.448754 | L16: =G5/71*B5 -> 91.003422 | M16: =SUM(C16:K16)-L16 -> 607.95236
B17: 2 | C17: =B6*(C61+C62) -> 151.85384 | D17: =B6*(C100+C101) -> 222.47217 | E17: =B6*(C139+C140) -> 24.632739 | F17: =B6*(C179+C180) -> 5.0299242 | G17: =B6*(C219+C220) -> 16.331321 | H17: =B6*(C259+C260) -> 31.505 | I17: =B6*(C299+C300) -> 1.5769936 | J17: =D21-SUM(C17:I17)-K17+L17 -> 46.735151 | K17: 9.8144769 | L17: =G5/71*B6 -> 41.601564 | M17: =SUM(C17:K17)-L17 -> 468.35006
B18: 3 | C18: =B7*(D61+D62) -> 91.327101 | D18: =B7*(D100+D101) -> 58.537863 | E18: =B7*(D139+D140) -> 31.747539 | F18: =B7*(D179+D180) -> 6.5478547 | G18: =B7*(D219+D220) -> 31.082497 | H18: =B7*(D259+D260) -> 66.435245 | I18: =B7*(D299+D300) -> 2.1929372 | J18: =E21-SUM(C18:I18)-K18+L18 -> 4.3528249 | K18: 6.1054855 | L18: =G5/71*B7 -> 52.001955 | M18: =SUM(C18:K18)-L18 -> 246.32739
A19: Tax | C19: =D71+D72 -> 16.212234 | D19: =D110+D111 -> 6.8537863 | E19: =D149+D150 -> 9.7589697 | F19: =D189+D190 -> 1.8121014 | G19: =D229+D230 -> 1.8033982 | H19: =D269+D270 -> 2.6608811 | I19: =D309+D310 -> 1.2673462 | M19: =SUM(C19:I19) -> 40.368717
A20: Private Rent | C20: =C71+C72 -> 135.9101 | D20: =C110+C111 -> 51.684076 | E20: =C149+C150 -> 77.830727 | F20: =C189+C190 -> 6.3089124 | G20: =C229+C230 -> 6.2305835 | H20: =C269+C270 -> 13.94793 | I20: =C309+C310 -> 1.406116
A21: Income | C21: =F77+F78 -> 607.95236 | D21: =F116+F117 -> 468.35006 | E21: =F155+F156 -> 246.32739 | F21: =F195+F196 -> 30.910896 | G21: =F235+F236 -> 77.706244 | H21: =F275+F276 -> 176.22932 | I21: =F315+F316 -> 8.377624 | K21: =SUM(K16:K18) -> 40.368717
A23: 3. New Table of Coeficients (NTC) with government
C24: Input industries | F24: Final industries | H24: Export industries | J24: Direct cons. | K24: Gov. | L24: Imp. | M24: Expenses
C25: 1 | D25: 2 | E25: 3 | F25: 1 | G25: 2 | H25: 1 | I25: 2
A26: Inputs | B26: 1 | C26: =C16/$C$21 -> 0.34977918 | D26: =D16/$D$21 -> 0.27501259 | E26: =E16/$E$21 -> 0.41553404 | F26: =F16/$F$21 -> 0.36272334 | G26: =G16/$G$21 -> 0.28644344 | H26: =H16/$H$21 -> 0.35 | I26: =I16/$I$21 -> 0.23088062 | J26: - | K26: - | L26: - | M26: =M16/C21 -> 1
B27: 2 | C27: =C17/$C$21 -> 0.24977918 | D27: =D17/$D$21 -> 0.47501259 | E27: =E17/$E$21 -> 0.1 | F27: =F17/$F$21 -> 0.16272334 | G27: =G17/$G$21 -> 0.21016742 | H27: =H17/$H$21 -> 0.17877275 | I27: =I17/$I$21 -> 0.18823876 | J27: - | K27: - | L27: - | M27: =M17/D21 -> 1
B28: 3 | C28: =C18/$C$21 -> 0.15022082 | D28: =D18/$D$21 -> 0.12498741 | E28: =E18/$E$21 -> 0.12888351 | F28: =F18/$F$21 -> 0.21182999 | G28: =G18/$G$21 -> 0.4 | H28: =H18/$H$21 -> 0.3769818 | I28: =I18/$I$21 -> 0.26176124 | J28: - | K28: - | L28: - | M28: =M18/E21 -> 1
A29: Tax | C29: =C19/$C$21 -> 0.026666948 | D29: =D19/$D$21 -> 0.014633897 | E29: =E19/$E$21 -> 0.039617882 | F29: =F19/$F$21 -> 0.058623386 | G29: =G19/$G$21 -> 0.023207893 | H29: =H19/$H$21 -> 0.01509897 | I29: =I19/$I$21 -> 0.15127752 | M29: -
A30: Private Rent | C30: =C20/$C$21 -> 0.22355387 | D30: =D20/$D$21 -> 0.11035352 | E30: =E20/$E$21 -> 0.31596456 | F30: =F20/$F$21 -> 0.20409995 | G30: =G20/$G$21 -> 0.080181247 | H30: =H20/$H$21 -> 0.07914648 | I30: =I20/$I$21 -> 0.16784186
A31: Income | C31: =C21/C21 -> 1 | D31: =D21/$D$21 -> 1 | E31: =E21/$E$21 -> 1 | F31: =F21/$F$21 -> 1 | G31: =G21/$G$21 -> 1 | H31: =H21/$H$21 -> 1 | I31: =I21/$I$21 -> 1 | K31: -
A33: 4. Leontief Inverse
A34: Matrix A | D34: Matrix B | F34: Matrix C | H34: Vector X | I34: Vector Y | J34: Vector Z | K34: Vector D | L34: Vector G | M34: Vector M
A35: =C26 -> 0.34977918 | B35: =D26 -> 0.27501259 | C35: =E26 -> 0.41553404 | D35: =F26 -> 0.36272334 | E35: =G26 -> 0.28644344 | F35: =H26 -> 0.35 | G35: =I26 -> 0.23088062 | H35: =C21 -> 607.95236 | I35: =F21 -> 30.910896 | J35: =H21 -> 176.22932 | K35: =J16 -> 133.61333 | L35: =K16 -> 24.448754 | M35: =L16 -> 91.003422
A36: =C27 -> 0.24977918 | B36: =D27 -> 0.47501259 | C36: =E27 -> 0.1 | D36: =F27 -> 0.16272334 | E36: =G27 -> 0.21016742 | F36: =H27 -> 0.17877275 | G36: =I27 -> 0.18823876 | H36: =D21 -> 468.35006 | I36: =G21 -> 77.706244 | J36: =I21 -> 8.377624 | K36: =J17 -> 46.735151 | L36: =K17 -> 9.8144769 | M36: =L17 -> 41.601564
A37: =C28 -> 0.15022082 | B37: =D28 -> 0.12498741 | C37: =E28 -> 0.12888351 | D37: =F28 -> 0.21182999 | E37: =G28 -> 0.4 | F37: =H28 -> 0.3769818 | G37: =I28 -> 0.26176124 | H37: =E21 -> 246.32739 | K37: =J18 -> 4.3528249 | L37: =K18 -> 6.1054855 | M37: =L18 -> 52.001955
A38: Eq. (23) | B38: LHS | C38: RHS
B39: {=MMULT(A35:C37,H35:H37)+MMULT(D35:E37,I35:I36)+MMULT(F35:G37,J35:J36)+K35:K37+L35:L37-M35:M37} -> 607.95236 | C39: {=H35:H37} -> 607.95236
B40: 468.35006 | C40: 468.35006
B41: 246.32739 | C41: 246.32739
A42: Eq. (24) | B42: LHS | C42: RHS
B43: {=H35:H37} -> 607.95236 | C43: {=MMULT(MINVERSE(_xlfn.MUNIT(3)-A35:C37),MMULT(D35:E37,I35:I36)+MMULT(F35:G37,J35:J36)+K35:K37+L35:L37-M35:M37)} -> 607.95236
B44: 468.35006 | C44: 468.35006
...
