Workbook
Name Arrival_Pattern_Covid: 'Arrival Schedule'!$AB$30
Name Arrival_Pattern_ED: 'Arrival Schedule'!$AY$30
Name Baseload_Mortuary: 'Input Parameters'!$C$112
Name Baseload_Patients: 'Input Parameters'!$C$130:$C$135
Name BaseLoadO2FlowRate: 'Input Parameters'!$D$21
Name Chosen_Arrival_Numbers: 'Input Parameters'!B1
Name Chosen_Arrival_Schedule: 'Input Parameters'!A1
Name COVID_Scenario: 'Input Parameters'!$D$120
Name Emergency_Department: 'Arrival Schedule'!$V$2:$V$85
Name FullCapacityGreen: 'Ward Capacity'!$AE$3:$AE$76
Name FullCapacityRed: 'Ward Capacity'!$AC$3:$AC$76
Name FullCapacityRedO2: 'Ward Capacity'!$AD$3:$AD$76
Name GreenGIMBeds: 'Input Parameters'!$C$81
Name GreenICUBeds: 'Input Parameters'!$C$82
Name GreenPAEDBeds: 'Input Parameters'!$C$83
Name GreenPICUBeds: 'Input Parameters'!$C$84
Name ICU_ventilator_Covid: 'Input Parameters'!$C$116
Name ICU_ventilator_nonCovid: 'Input Parameters'!$C$117
Name ICURequired: 'Input Parameters'!$C$41
Name LoS_Complicated_ICU: 'Input Parameters'!$C$31
Name LoS_Complicated_PostICU: 'Input Parameters'!$C$32
Name LoS_Complicated_PreICU: 'Input Parameters'!$C$30
Name LoS_Network: 'Surgery Emergency'!$AM$18:$AU$29
Name LoS_Network_Elective: 'Surgery Elective'!$P$4:$X$9
Name LoS_Network_Emergency: 'Surgery Emergency'!$P$4:$X$9
Name LoS_Table_Emergency: 'Surgery Emergency'!$P$4:$X$9
Name LoS_Uncomplicated_Stay_Death: 'Input Parameters'!$C$29
Name LoS_Uncomplicated_Stay_Survived: 'Input Parameters'!$C$28
Name MaxWaitTimeGIM: 'Input Parameters'!$C$107
Name MaxWaitTimeICU: 'Input Parameters'!$C$108
Name Mortuary_Capacity: 'Input Parameters'!$M$5:$N$21
Name Mortuary_Duration: 'Input Parameters'!$C$98
Name Number_of_Replications: 'Input Parameters'!$C$92
Name O2_Prop_Patient_GIM: 'Input Parameters'!$C$50
Name O2_Prop_Patient_ICU: 'Input Parameters'!$C$51
Name o2days_PostICU_phase_1: 'Input Parameters'!$C$63
Name o2days_PostICU_phase_2: 'Input Parameters'!$C$64
Name o2days_PreICU_phase_1: 'Input Parameters'!$C$60
Name o2days_Uncomp_phase_1: 'Input Parameters'!$C$66
Name o2days_Uncomp_phase_2: 'Input Parameters'!$C$67
Name o2days_Uncomp_phase_3: 'Input Parameters'!$C$68
Name o2days_Uncomp_phase_4: 'Input Parameters'!$C$69
Name o2flow_ICU_phase_1: 'Input Parameters'!$D$62
Name o2flow_PostICU_phase_1: 'Input Parameters'!$D$63
Name o2flow_PostICU_phase_2: 'Input Parameters'!$D$64
Name o2flow_PostICU_phase_3: 'Input Parameters'!$D$65
Name o2flow_PreICU_phase_1: 'Input Parameters'!$D$60
Name o2flow_PreICU_phase_2: 'Input Parameters'!$D$61
Name o2flow_Uncomp_phase_1: 'Input Parameters'!$D$66
Name o2flow_Uncomp_phase_2: 'Input Parameters'!$D$67
Name o2flow_Uncomp_phase_3: 'Input Parameters'!$D$68
Name o2flow_Uncomp_phase_4: 'Input Parameters'!$D$69
Name o2flow_Uncomp_phase_5: 'Input Parameters'!$D$70
Name O2HoursPerDay_GIM: 'Input Parameters'!$C$55
Name O2HoursPerDay_ICU: 'Input Parameters'!$C$56
Name Open_GIM_Buffer: 'Input Parameters'!$C$76
Name Open_ICU_Buffer: 'Input Parameters'!$C$77
Name Peak_Date_COVID: 'Input Parameters'!$C$25
Name Peak_Start_Trigger: 'Input Parameters'!$D$124
Name Pre_ICU_Required: 'Input Parameters'!$C$42

Sheet Arrival Schedule
A1: Date | B1: Scenario 1 | E1: Scenario 2 | H1: Scenario 3 | K1: Actual and Base Case | N1: Scenario 1 - Numbers | O1: Scenario 2 - Numbers | P1: Scenario 3 - Numbers | Q1: Actual and Base Numbers | S1: Transfer-in (Complicated) | T1: Transfer-in (Regular) | V1: Emergency Department | X1: Scenarios | Y1: Column1 | AA1: COVID Arrivals | AX1: Emergency Department Arrivals
A2: 44074 | B2: 0 | C2: 1 | E2: 0 | F2: 1 | H2: 0 | I2: 1 | K2: 0 | L2: 1 | N2: =B2 -> 0 | O2: =E2 -> 0 | P2: =H2 -> 0 | Q2: =K2 -> 0 | S2: 0 | T2: 0 | V2: 0 | X2: Scenario - Actual | Y2: 0 | AA2: Time Bucket | AB2: Percentage | AC2: Cumulative Percentage | AX2: Time Bucket | AY2: Percentage | AZ2: Cumulative Percentage
A3: 44075 | B3: 0 | C3: 1 | E3: 0 | F3: 1 | H3: 0 | I3: 1 | K3: 0 | L3: 1 | N3: =B3 -> 0 | O3: =E3 -> 0 | P3: =H3 -> 0 | Q3: =K3 -> 0 | S3: 0 | T3: 0 | V3: 0 | X3: Scenario - 1 | Y3: 1 | AA3: 0 | AB3: 0.062 | AC3: =AB3 -> 0.062 | AX3: 0 | AY3: 0.0241 | AZ3: =AY3 -> 0.0241
A4: 44076 | B4: 1 | C4: 1 | E4: 0 | F4: 1 | H4: 0 | I4: 1 | K4: 1 | L4: 1 | N4: =B4 -> 1 | O4: =E4 -> 0 | P4: =H4 -> 0 | Q4: =K4 -> 1 | S4: 0 | T4: 0 | V4: 0 | X4: Scenario - Base Case | Y4: 2 | AA4: 1 | AB4: 0.048 | AC4: =AC3+AB4 -> 0.11 | AX4: 1 | AY4: 0.0175 | AZ4: =AZ3+AY4 -> 0.0416
A5: 44077 | B5: 0 | C5: 1 | E5: 0 | F5: 1 | H5: 0 | I5: 1 | K5: 0 | L5: 1 | N5: =B5 -> 0 | O5: =E5 -> 0 | P5: =H5 -> 0 | Q5: =K5 -> 0 | S5: 0 | T5: 0 | V5: 0 | X5: Scenario - Worst Case | Y5: 3 | AA5: 2 | AB5: 0.021 | AC5: =AC4+AB5 -> 0.131 | AX5: 2 | AY5: 0.0138 | AZ5: =AZ4+AY5 -> 0.0554
A6: 44078 | B6: 0 | C6: 1 | E6: 0 | F6: 1 | H6: 0 | I6: 1 | K6: 0 | L6: 1 | N6: =B6 -> 0 | O6: =E6 -> 0 | P6: =H6 -> 0 | Q6: =K6 -> 0 | S6: 0 | T6: 0 | V6: 0 | AA6: 3 | AB6: 0.014 | AC6: =AC5+AB6 -> 0.145 | AX6: 3 | AY6: 0.0131 | AZ6: =AZ5+AY6 -> 0.0685
A7: 44079 | B7: 1 | C7: 1 | E7: 0 | F7: 1 | H7: 0 | I7: 1 | K7: 1 | L7: 1 | N7: =B7 -> 1 | O7: =E7 -> 0 | P7: =H7 -> 0 | Q7: =K7 -> 1 | S7: 0 | T7: 0 | V7: 0 | X7: Scenarios | Y7: Column1 | AA7: 4 | AB7: 0.014 | AC7: =AC6+AB7 -> 0.159 | AX7: 4 | AY7: 0.0124 | AZ7: =AZ6+AY7 -> 0.0809
A8: 44080 | B8: 2 | C8: 1 | E8: 0 | F8: 1 | H8: 0 | I8: 1 | K8: 2 | L8: 1 | N8: =B8 -> 2 | O8: =E8 -> 0 | P8: =H8 -> 0 | Q8: =K8 -> 2 | S8: 0 | T8: 0 | V8: 0 | X8: Scenario - Normal | Y8: 0 | AA8: 5 | AB8: 0.028 | AC8: =AC7+AB8 -> 0.187 | AX8: 5 | AY8: 0.0126 | AZ8: =AZ7+AY8 -> 0.0935
A9: 44081 | B9: 1 | C9: 1 | E9: 0 | F9: 1 | H9: 0 | I9: 1 | K9: 1 | L9: 1 | N9: =B9 -> 1 | O9: =E9 -> 0 | P9: =H9 -> 0 | Q9: =K9 -> 1 | S9: 0 | T9: 0 | V9: 0 | X9: Scenario - Proactive Cancellation | Y9: 1 | AA9: 6 | AB9: 0.021 | AC9: =AC8+AB9 -> 0.208 | AX9: 6 | AY9: 0.0136 | AZ9: =AZ8+AY9 -> 0.1071
A10: 44082 | B10: 2 | C10: 1 | E10: 0 | F10: 1 | H10: 0 | I10: 1 | K10: 2 | L10: 1 | N10: =B10 -> 2 | O10: =E10 -> 0 | P10: =H10 -> 0 | Q10: =K10 -> 2 | S10: 0 | T10: 0 | V10: 0 | X10: Scenario - Reactive Cancellation | Y10: 2 | AA10: 7 | AB10: 0.021 | AC10: =AC9+AB10 -> 0.229 | AX10: 7 | AY10: 0.0172 | AZ10: =AZ9+AY10 -> 0.1243
A11: 44083 | B11: 1 | C11: 1 | E11: 0 | F11: 1 | H11: 0 | I11: 1 | K11: 1 | L11: 1 | N11: =B11 -> 1 | O11: =E11 -> 0 | P11: =H11 -> 0 | Q11: =K11 -> 1 | S11: 0 | T11: 0 | V11: 0 | X11: Scenario - Ring-fencing | Y11: 3 | AA11: 8 | AB11: 0.007 | AC11: =AC10+AB11 -> 0.236 | AX11: 8 | AY11: 0.0283 | AZ11: =AZ10+AY11 -> 0.1526
A12: 44084 | B12: 3 | C12: 1 | E12: 0 | F12: 1 | H12: 0 | I12: 1 | K12: 3 | L12: 1 | N12: =B12 -> 3 | O12: =E12 -> 0 | P12: =H12 -> 0 | Q12: =K12 -> 3 | S12: 0 | T12: 0 | V12: 0 | AA12: 9 | AB12: 0.034 | AC12: =AC11+AB12 -> 0.27 | AX12: 9 | AY12: 0.0482 | AZ12: =AZ11+AY12 -> 0.2008
A13: 44085 | B13: 0 | C13: 1 | E13: 0 | F13: 1 | H13: 0 | I13: 1 | K13: 0 | L13: 1 | N13: =B13 -> 0 | O13: =E13 -> 0 | P13: =H13 -> 0 | Q13: =K13 -> 0 | S13: 0 | T13: 0 | V13: 0 | AA13: 10 | AB13: 0.028 | AC13: =AC12+AB13 -> 0.298 | AX13: 10 | AY13: 0.0618 | AZ13: =AZ12+AY13 -> 0.2626
A14: 44086 | B14: 4 | C14: 1 | E14: 0 | F14: 1 | H14: 0 | I14: 1 | K14: 4 | L14: 1 | N14: =B14 -> 4 | O14: =E14 -> 0 | P14: =H14 -> 0 | Q14: =K14 -> 4 | S14: 0 | T14: 0 | V14: 0 | AA14: 11 | AB14: 0.062 | AC14: =AC13+AB14 -> 0.36 | AX14: 11 | AY14: 0.0675 | AZ14: =AZ13+AY14 -> 0.3301
A15: 44087 | B15: 2 | C15: 1 | E15: 0 | F15: 1 | H15: 0 | I15: 1 | K15: 2 | L15: 1 | N15: =B15 -> 2 | O15: =E15 -> 0 | P15: =H15 -> 0 | Q15: =K15 -> 2 | S15: 0 | T15: 0 | V15: 0 | AA15: 12 | AB15: 0.041 | AC15: =AC14+AB15 -> 0.401 | AX15: 12 | AY15: 0.0688 | AZ15: =AZ14+AY15 -> 0.3989
A16: 44088 | B16: 4 | C16: 1 | E16: 0 | F16: 1 | H16: 0 | I16: 1 | K16: 4 | L16: 1 | N16: =B16 -> 4 | O16: =E16 -> 0 | P16: =H16 -> 0 | Q16: =K16 -> 4 | S16: 0 | T16: 0 | V16: 0 | AA16: 13 | AB16: 0.055 | AC16: =AC15+AB16 -> 0.456 | AX16: 13 | AY16: 0.0661 | AZ16: =AZ15+AY16 -> 0.465
A17: 44089 | B17: 3 | C17: 1 | E17: 0 | F17: 1 | H17: 0 | I17: 1 | K17: 3 | L17: 1 | N17: =B17 -> 3 | O17: =E17 -> 0 | P17: =H17 -> 0 | Q17: =K17 -> 3 | S17: 0 | T17: 0 | V17: 0 | AA17: 14 | AB17: 0.055 | AC17: =AC16+AB17 -> 0.511 | AX17: 14 | AY17: 0.0618 | AZ17: =AZ16+AY17 -> 0.5268
A18: 44090 | B18: 13 | C18: 1 | E18: 0 | F18: 1 | H18: 0 | I18: 1 | K18: 13 | L18: 1 | N18: =B18 -> 13 | O18: =E18 -> 0 | P18: =H18 -> 0 | Q18: =K18 -> 13 | S18: 0 | T18: 0 | V18: 0 | AA18: 15 | AB18: 0.09 | AC18: =AC17+AB18 -> 0.601 | AX18: 15 | AY18: 0.06 | AZ18: =AZ17+AY18 -> 0.5868
A19: 44091 | B19: 10 | C19: 1 | E19: 0 | F19: 1 | H19: 0 | I19: 1 | K19: 10 | L19: 1 | N19: =B19 -> 10 | O19: =E19 -> 0 | P19: =H19 -> 0 | Q19: =K19 -> 10 | S19: 0 | T19: 0 | V19: 0 | AA19: 16 | AB19: 0.055 | AC19: =AC18+AB19 -> 0.656 | AX19: 16 | AY19: 0.06 | AZ19: =AZ18+AY19 -> 0.6468
A20: 44092 | B20: 11 | C20: 1 | E20: 0 | F20: 1 | H20: 0 | I20: 1 | K20: 11 | L20: 1 | N20: =B20 -> 11 | O20: =E20 -> 0 | P20: =H20 -> 0 | Q20: =K20 -> 11 | S20: 0 | T20: 0 | V20: 0 | AA20: 17 | AB20: 0.076 | AC20: =AC19+AB20 -> 0.732 | AX20: 17 | AY20: 0.0619 | AZ20: =AZ19+AY20 -> 0.7087
A21: 44093 | B21: 5 | C21: 1 | E21: 0 | F21: 1 | H21: 0 | I21: 1 | K21: 5 | L21: 1 | N21: =B21 -> 5 | O21: =E21 -> 0 | P21: =H21 -> 0 | Q21: =K21 -> 5 | S21: 0 | T21: 0 | V21: 0 | AA21: 18 | AB21: 0.048 | AC21: =AC20+AB21 -> 0.78 | AX21: 18 | AY21: 0.0656 | AZ21: =AZ20+AY21 -> 0.7743
A22: 44094 | B22: 16 | C22: 1 | E22: 0 | F22: 1 | H22: 0 | I22: 1 | K22: 16 | L22: 1 | N22: =B22 -> 16 | O22: =E22 -> 0 | P22: =H22 -> 0 | Q22: =K22 -> 16 | S22: 0 | T22: 0 | V22: 0 | AA22: 19 | AB22: 0.041 | AC22: =AC21+AB22 -> 0.821 | AX22: 19 | AY22: 0.0591 | AZ22: =AZ21+AY22 -> 0.8334
A23: 44095 | B23: 10 | C23: 1 | E23: 0 | F23: 1 | H23: 0 | I23: 1 | K23: 10 | L23: 1 | N23: =B23 -> 10 | O23: =E23 -> 0 | P23: =H23 -> 0 | Q23: =K23 -> 10 | S23: 0 | T23: 0 | V23: 0 | AA23: 20 | AB23: 0.048 | AC23: =AC22+AB23 -> 0.869 | AX23: 20 | AY23: 0.0522 | AZ23: =AZ22+AY23 -> 0.8856
A24: 44096 | B24: 13 | C24: 1 | E24: 0 | F24: 1 | H24: 0 | I24: 1 | K24: 13 | L24: 1 | N24: =B24 -> 13 | O24: =E24 -> 0 | P24: =H24 -> 0 | Q24: =K24 -> 13 | S24: 0 | T24: 0 | V24: 0 | AA24: 21 | AB24: 0.028 | AC24: =AC23+AB24 -> 0.897 | AX24: 21 | AY24: 0.0443 | AZ24: =AZ23+AY24 -> 0.9299
A25: 44097 | B25: 12 | C25: 1 | E25: 2 | F25: 1 | H25: 1 | I25: 1 | K25: 12 | L25: 1 | N25: =B25 -> 12 | O25: =E25 -> 2 | P25: =H25 -> 1 | Q25: =K25 -> 12 | S25: 0 | T25: 0 | V25: 0 | AA25: 22 | AB25: 0.055 | AC25: =AC24+AB25 -> 0.952 | AD25: Status | AX25: 22 | AY25: 0.038 | AZ25: =AZ24+AY25 -> 0.9679 | BA25: Status
A26: 44098 | B26: 13 | C26: 1 | E26: 3 | F26: 1 | H26: 3 | I26: 1 | K26: 13 | L26: 1 | N26: =B26 -> 13 | O26: =E26 -> 3 | P26: =H26 -> 3 | Q26: =K26 -> 13 | S26: 0 | T26: 0 | V26: 0 | AA26: 23 | AB26: 0.048 | AC26: =AC25+AB26 -> 1 | AD26: =IF(NOT(AC26=1),"ERROR: Probabilities should add up to 1","OK") -> OK | AX26: 23 | AY26: 0.0321 | AZ26: =AZ25+AY26 -> 1 | BA26: =IF(NOT(AZ26=1),"ERROR: Probabilities should add up to 1","OK") -> OK
A27: 44099 | B27: 10 | C27: 1 | E27: 3 | F27: 1 | H27: 2 | I27: 1 | K27: 10 | L27: 1 | N27: =B27 -> 10 | O27: =E27 -> 3 | P27: =H27 -> 2 | Q27: =K27 -> 10 | S27: 0 | T27: 0 | V27: 0 | AA27: Source: March 2020, CHEQS/Ben W./James H.? | AX27: Source: CHEQS ED DASHBOARD, 2019
A28: 44100 | B28: 2 | C28: 1 | E28: 2 | F28: 1 | H28: 0 | I28: 1 | K28: 2 | L28: 1 | N28: =B28 -> 2 | O28: =E28 -> 2 | P28: =H28 -> 0 | Q28: =K28 -> 2 | S28: 0 | T28: 0 | V28: 0
A29: 44101 | B29: 11 | C29: 1 | E29: 2 | F29: 1 | H29: 1 | I29: 1 | K29: 11 | L29: 1 | N29: =B29 -> 11 | O29: =E29 -> 2 | P29: =H29 -> 1 | Q29: =K29 -> 11 | S29: 0 | T29: 0 | V29: 0 | AB29: Probability Distribution: | AY29: Probability Distribution:
A30: 44102 | B30: 21 | C30: 1 | E30: 2 | F30: 1 | H30: 0 | I30: 1 | K30: 21 | L30: 1 | N30: =B30 -> 21 | O30: =E30 -> 2 | P30: =H30 -> 0 | Q30: =K30 -> 21 | S30: 0 | T30: 0 | V30: 0 | AB30: ="DISC("&AC3&",0,"&AC4&",1,"&AC5&",2,"&AC6&",3,"&AC7&",4,"&AC8&",5,"&AC9&",6,"&AC10&",7,"&AC11&",8,"&AC12&",9,"&AC13&",10,"&AC14&",11,"&AC15&",12,"&AC16&",13,"&AC17&",14,"&AC18&",15,"&AC19&",16,"&AC20&",17,"&AC21&",18,"&AC22&",19,"&AC23&",20,"&AC24&",21,"&AC25&",22,"&AC26&",23)" -> DISC(0.062,0,0.11,1,0.131,2,0.145,3,0.159,4,0.187,5,0.208,6,0.229,7,0.236,8,0.27,9,0.298,10,0.36,11,0.401,12,0.456,13,0.511,14,0.601,15,0.656,16,0.732,17,0.78,18,0.821,19,0.869,20,0.897,21,0.952,22,1,23) | AY30: ="DISC("&AZ3&",0,"&AZ4&",1,"&AZ5&",2,"&AZ6&",3,"&AZ7&",4,"&AZ8&",5,"&AZ9&",6,"&AZ10&",7,"&AZ11&",8,"&AZ12&",9,"&AZ13&",10,"&AZ14&",11,"&AZ15&",12,"&AZ16&",13,"&AZ17&",14,"&AZ18&",15,"&AZ19&",16,"&AZ20&",17,"&AZ21&",18,"&AZ22&",19,"&AZ23&",20,"&AZ24&",21,"&AZ25&",22,"&AZ26&",23)" -> DISC(0,0241,0,0,0416,1,0,0554,2,0,0685,3,0,0809,4,0,0935,5,0,1071,6,0,1243,7,0,1526,8,0,2008,9,0,2626,10,0,3301,11,0,3989,12,0,465,13,0,5268,14,0,5868,15,0,6468,16,0,7087,17,0,7743,18,0,8334,19,0,8856,20,0,9299,21,0,9679,22,1,23)
A31: 44103 | B31: 9 | C31: 1 | E31: 1 | F31: 1 | H31: 0 | I31: 1 | K31: 9 | L31: 1 | N31: =B31 -> 9 | O31: =E31 -> 1 | P31: =H31 -> 0 | Q31: =K31 -> 9 | S31: 0 | T31: 0 | V31: 0
A32: 44104 | B32: 8 | C32: 1 | E32: 3 | F32: 1 | H32: 3 | I32: 1 | K32: 8 | L32: 1 | N32: =B32 -> 8 | O32: =E32 -> 3 | P32: =H32 -> 3 | Q32: =K32 -> 8 | S32: 0 | T32: 0 | V32: 0
A33: 44105 | B33: 16 | C33: 1 | E33: 1 | F33: 1 | H33: 2 | I33: 1 | K33: 16 | L33: 1 | N33: =B33 -> 16 | O33: =E33 -> 1 | P33: =H33 -> 2 | Q33: =K33 -> 16 | S33: 0 | T33: 0 | V33: 0
A34: 44106 | B34: 9 | C34: 1 | E34: 1 | F34: 1 | H34: 3 | I34: 1 | K34: 9 | L34: 1 | N34: =B34 -> 9 | O34: =E34 -> 1 | P34: =H34 -> 3 | Q34: =K34 -> 9 | S34: 0 | T34: 0 | V34: 0
A35: 44107 | B35: 9 | C35: 1 | E35: 2 | F35: 1 | H35: 2 | I35: 1 | K35: 9 | L35: 1 | N35: =B35 -> 9 | O35: =E35 -> 2 | P35: =H35 -> 2 | Q35: =K35 -> 9 | S35: 0 | T35: 0 | V35: 0
A36: 44108 | B36: 16 | C36: 1 | E36: 1 | F36: 1 | H36: 0 | I36: 1 | K36: 16 | L36: 1 | N36: =B36 -> 16 | O36: =E36 -> 1 | P36: =H36 -> 0 | Q36: =K36 -> 16 | S36: 0 | T36: 0 | V36: 0
A37: 44109 | B37: 7 | C37: 1 | E37: 0 | F37: 1 | H37: 3 | I37: 1 | K37: 7 | L37: 1 | N37: =B37 -> 7 | O37: =E37 -> 0 | P37: =H37 -> 3 | Q37: =K37 -> 7 | S37: 0 | T37: 0 | V37: 0
A38: 44110 | B38: 9 | C38: 1 | E38: 2 | F38: 1 | H38: 0 | I38: 1 | K38: 9 | L38: 1 | N38: =B38 -> 9 | O38: =E38 -> 2 | P38: =H38 -> 0 | Q38: =K38 -> 9 | S38: 0 | T38: 0 | V38: 0
A39: 44111 | B39: 6 | C39: 1 | E39: 2 | F39: 1 | H39: 3 | I39: 1 | K39: 6 | L39: 1 | N39: =B39 -> 6 | O39: =E39 -> 2 | P39: =H39 -> 3 | Q39: =K39 -> 6 | S39: 0 | T39: 0 | V39: 0
A40: 44112 | B40: 4 | C40: 1 | E40: 1 | F40: 1 | H40: 1 | I40: 1 | K40: 4 | L40: 1 | N40: =B40 -> 4 | O40: =E40 -> 1 | P40: =H40 -> 1 | Q40: =K40 -> 4 | S40: 0 | T40: 0 | V40: 0
A41: 44113 | B41: 8 | C41: 1 | E41: 1 | F41: 1 | H41: 0 | I41: 1 | K41: 8 | L41: 1 | N41: =B41 -> 8 | O41: =E41 -> 1 | P41: =H41 -> 0 | Q41: =K41 -> 8 | S41: 0 | T41: 0 | V41: 0
A42: 44114 | B42: 8 | C42: 1 | E42: 3 | F42: 1 | H42: 2 | I42: 1 | K42: 8 | L42: 1 | N42: =B42 -> 8 | O42: =E42 -> 3 | P42: =H42 -> 2 | Q42: =K42 -> 8 | S42: 0 | T42: 0 | V42: 0
... A85: 44157 | B85: 1 | C85: 1 | E85: 11 | F85: 1 | H85: 30 | I85: 1 | K85: 8 | L85: 1 | N85: =B85 -> 1 | O85: =E85 -> 11 | P85: =H85 -> 30 | Q85: =K85 -> 8 | S85: 0 | T85: 0 | V85: 0
A86: 44158 | B86: 1 | C86: 1 | E86: 11 | F86: 1 | H86: 32 | I86: 1 | K86: 6 | L86: 1 | N86: =B86 -> 1 | O86: =E86 -> 11 | P86: =H86 -> 32 | Q86: =K86 -> 6 | S86: 0 | T86: 0
A87: 44159 | B87: 1 | C87: 1 | E87: 10 | F87: 1 | H87: 29 | I87: 1 | K87: 5 | L87: 1 | N87: =B87 -> 1 | O87: =E87 -> 10 | P87: =H87 -> 29 | Q87: =K87 -> 5 | S87: 0 | T87: 0
A88: 44160 | B88: 1 | C88: 1 | E88: 10 | F88: 1 | H88: 33 | I88: 1 | K88: 4 | L88: 1 | N88: =B88 -> 1 | O88: =E88 -> 10 | P88: =H88 -> 33 | Q88: =K88 -> 4 | S88: 0 | T88: 0
A89: 44161 | B89: 3 | C89: 1 | E89: 10 | F89: 1 | H89: 30 | I89: 1 | K89: 7 | L89: 1 | N89: =B89 -> 3 | O89: =E89 -> 10 | P89: =H89 -> 30 | Q89: =K89 -> 7 | S89: 0 | T89: 0
A90: 44162 | B90: 0 | C90: 1 | E90: 13 | F90: 1 | H90: 30 | I90: 1 | K90: 4 | L90: 1 | N90: =B90 -> 0 | O90: =E90 -> 13 | P90: =H90 -> 30 | Q90: =K90 -> 4 | S90: 0 | T90: 0
A91: 44163 | B91: 0 | C91: 1 | E91: 10 | F91: 1 | H91: 32 | I91: 1 | K91: 6 | L91: 1 | N91: =B91 -> 0 | O91: =E91 -> 10 | P91: =H91 -> 32 | Q91: =K91 -> 6 | S91: 0 | T91: 0
A92: 44164 | B92: 2 | C92: 1 | E92: 10 | F92: 1 | H92: 32 | I92: 1 | K92: 4 | L92: 1 | N92: =B92 -> 2 | O92: =E92 -> 10 | P92: =H92 -> 32 | Q92: =K92 -> 4 | S92: 0 | T92: 0
A93: 44165 | B93: 2 | C93: 1 | E93: 11 | F93: 1 | H93: 31 | I93: 1 | K93: 2 | L93: 1 | N93: =B93 -> 2 | O93: =E93 -> 11 | P93: =H93 -> 31 | Q93: =K93 -> 2 | S93: 0 | T93: 0
A94: 44166 | B94: 2 | C94: 1 | E94: 10 | F94: 1 | H94: 31 | I94: 1 | K94: 4 | L94: 1 | N94: =B94 -> 2 | O94: =E94 -> 10 | P94: =H94 -> 31 | Q94: =K94 -> 4 | S94: 0 | T94: 0
A95: 44167 | B95: 1 | C95: 1 | E95: 10 | F95: 1 | H95: 30 | I95: 1 | K95: 4 | L95: 1 | N95: =B95 -> 1 | O95: =E95 -> 10 | P95: =H95 -> 30 | Q95: =K95 -> 4 | S95: 0 | T95: 0
A96: 44168 | B96: 0 | C96: 1 | E96: 11 | F96: 1 | H96: 31 | I96: 1 | K96: 3 | L96: 1 | N96: =B96 -> 0 | O96: =E96 -> 11 | P96: =H96 -> 31 | Q96: =K96 -> 3 | S96: 0 | T96: 0
A97: 44169 | B97: 1 | C97: 1 | E97: 11 | F97: 1 | H97: 29 | I97: 1 | K97: 1 | L97: 1 | N97: =B97 -> 1 | O97: =E97 -> 11 | P97: =H97 -> 29 | Q97: =K97 -> 1 | S97: 0 | T97: 0
... A299: 44371 | B299: 2 | C299: 1 | E299: 0 | F299: 1 | H299: 0 | I299: 1 | K299: 0 | L299: 1 | N299: =B299 -> 2 | O299: =E299 -> 0 | P299: =H299 -> 0 | Q299: =K299 -> 0 | S299: 0 | T299: 0

Sheet Ward Capacity
B1: General Wards | H1: ICU | N1: General Paeds | T1: PICU | Z1: General Wards | AG1: All Wards
B2: Ward Number | C2: Ward Name | D2: CapacityRed | E2: CapacityRedO2 | F2: CapacityGreen | H2: Ward Number | I2: Ward Name | J2: CapacityRed | K2: CapacityRedO2 | L2: CapacityGreen | N2: Ward Number | O2: Ward Name | P2: CapacityRed | Q2: CapacityRedO2 | R2: CapacityGreen | T2: Ward Number | U2: Ward Name | V2: CapacityRed | W2: CapacityRedO2 | X2: CapacityGreen | Z2: Ward Number | AA2: Ward Name | AB2: Ward Name O2 | AC2: FullCapacityRed | AD2: FullCapacityRedO2 | AE2: FullCapacityGreen | AG2: Ward | AH2: Footprint | AI2: March 2020 | AJ2: Comment | AK2: Include/exclude for COVID clean GIM | AL2: Green Beds GIM | AM2: Green Beds PAEDs
B3: 1 | C3: GIM-D10 | D3: 11 | E3: 11 | F3: 11 | H3: 40 | I3: ICU-JVF-NCCU | J3: 59 | K3: 59 | L3: 0 | N3: 60 | O3: PAED-C3 | P3: 17 | Q3: 17 | R3: 17 | T3: 70 | U3: PICU-PICU | V3: 8 | W3: 8 | X3: 8 | Z3: 1 | AA3: =IF(ISBLANK(C3),"",C3) -> GIM-D10 | AB3: =AA3&"O2" -> GIM-D10O2 | AC3: =D3 -> 11 | AD3: =E3 -> 11 | AE3: =F3 -> 11 | AG3: A4 | AH3: neuro | AI3: 26 | AK3: INCLUDE | AL3: =IF(AK3="INCLUDE",AI3,0) -> 26 | AM3: =IF(AH3="paeds",AI3,0) -> 0
B4: 2 | C4: GIM-MSEU | D4: 26 | E4: 26 | F4: 26 | H4: 41 | I4: ICU-Surge | J4: 23 | K4: 23 | L4: 0 | N4: 61 | O4: PAED-CDU | P4: 8 | Q4: 8 | R4: 8 | T4: 71 | U4: PICU-Extra1 | V4: 0 | W4: 0 | X4: 0 | Z4: 2 | AA4: =IF(ISBLANK(C4),"",C4) -> GIM-MSEU | AB4: =AA4&"O2" -> GIM-MSEUO2 | AC4: =D4 -> 26 | AD4: =E4 -> 26 | AE4: =F4 -> 26 | AG4: A5 | AH4: neuro | AI4: 28 | AK4: INCLUDE | AL4: =IF(AK4="INCLUDE",AI4,0) -> 28 | AM4: =IF(AH4="paeds",AI4,0) -> 0
B5: 3 | C5: GIM-C5 | D5: 23 | E5: 14 | F5: 23 | H5: 42 | I5: ICU-A3 | J5: 8 | K5: 8 | L5: 0 | N5: 62 | O5: PAED-D2 | P5: 19 | Q5: 15 | R5: 19 | T5: 72 | U5: PICU-Extra2 | V5: 0 | W5: 0 | X5: 0 | Z5: 3 | AA5: =IF(ISBLANK(C5),"",C5) -> GIM-C5 | AB5: =AA5&"O2" -> GIM-C5O2 | AC5: =D5 -> 23 | AD5: =E5 -> 14 | AE5: =F5 -> 23 | AG5: C10 | AH5: main oncology | AI5: 15 | AK5: INCLUDE | AL5: =IF(AK5="INCLUDE",AI5,0) -> 15 | AM5: =IF(AH5="paeds",AI5,0) -> 0
B6: 4 | C6: GIM-C6 | D6: 26 | E6: 26 | F6: 26 | H6: 43 | I6: ICU-IDARRT | J6: 12 | K6: 12 | L6: 0 | N6: 63 | O6: PAED-Extra1 | P6: 0 | Q6: 0 | R6: 0 | T6: 73 | U6: PICU-Extra3 | V6: 0 | W6: 0 | X6: 0 | Z6: 4 | AA6: =IF(ISBLANK(C6),"",C6) -> GIM-C6 | AB6: =AA6&"O2" -> GIM-C6O2 | AC6: =D6 -> 26 | AD6: =E6 -> 26 | AE6: =F6 -> 26 | AG6: C2 | AH6: paeds | AI6: 17 | AK6: EXCLUDE | AL6: =IF(AK6="INCLUDE",AI6,0) -> 0 | AM6: =IF(AH6="paeds",AI6,0) -> 17
B7: 5 | C7: GIM-C7 | D7: 24 | E7: 24 | F7: 24 | H7: 44 | I7: ICU-Main Rec | J7: 12 | K7: 12 | L7: 12 | N7: 64 | O7: PAED-Extra2 | P7: 0 | Q7: 0 | R7: 0 | T7: 74 | U7: PICU-Extra4 | V7: 0 | W7: 0 | X7: 0 | Z7: 5 | AA7: =IF(ISBLANK(C7),"",C7) -> GIM-C7 | AB7: =AA7&"O2" -> GIM-C7O2 | AC7: =D7 -> 24 | AD7: =E7 -> 24 | AE7: =F7 -> 24 | AG7: C3 | AH7: paeds | AI7: 12 | AK7: EXCLUDE | AL7: =IF(AK7="INCLUDE",AI7,0) -> 0 | AM7: =IF(AH7="paeds",AI7,0) -> 12
B8: 6 | C8: GIM-D7 | D8: 24 | E8: 22 | F8: 24 | H8: 45 | I8: ICU-Ortho Rec | J8: 6 | K8: 6 | L8: 6 | N8: 65 | O8: PAED-Extra3 | P8: 0 | Q8: 0 | R8: 0 | Z8: 6 | AA8: =IF(ISBLANK(C8),"",C8) -> GIM-D7 | AB8: =AA8&"O2" -> GIM-D7O2 | AC8: =D8 -> 24 | AD8: =E8 -> 22 | AE8: =F8 -> 24 | AG8: C4 | AH8: main medical | AI8: 29 | AK8: EXCLUDE | AL8: =IF(AK8="INCLUDE",AI8,0) -> 0 | AM8: =IF(AH8="paeds",AI8,0) -> 0
B9: 7 | C9: GIM-D6 | D9: 27 | E9: 21 | F9: 27 | H9: 46 | I9: ICU-A3 DOSA | J9: 10 | K9: 10 | L9: 10 | N9: 66 | O9: PAED-Extra4 | P9: 0 | Q9: 0 | R9: 0 | Z9: 7 | AA9: =IF(ISBLANK(C9),"",C9) -> GIM-D6 | AB9: =AA9&"O2" -> GIM-D6O2 | AC9: =D9 -> 27 | AD9: =E9 -> 21 | AE9: =F9 -> 27 | AG9: C5 | AH9: main medical | AI9: 23 | AK9: INCLUDE | AL9: =IF(AK9="INCLUDE",AI9,0) -> 23 | AM9: =IF(AH9="paeds",AI9,0) -> 0
B10: 8 | C10: GIM-D8 | D10: 26 | E10: 21 | F10: 26 | H10: 47 | I10: ICU-C4 | J10: 34 | K10: 34 | L10: 34 | N10: 67 | O10: PAED-Extra5 | P10: 0 | Q10: 0 | R10: 0 | Z10: 8 | AA10: =IF(ISBLANK(C10),"",C10) -> GIM-D8 | AB10: =AA10&"O2" -> GIM-D8O2 | AC10: =D10 -> 26 | AD10: =E10 -> 21 | AE10: =F10 -> 26 | AG10: C6 | AH10: main medical | AI10: 26 | AK10: INCLUDE | AL10: =IF(AK10="INCLUDE",AI10,0) -> 26 | AM10: =IF(AH10="paeds",AI10,0) -> 0
B11: 9 | C11: GIM-C8 | D11: 27 | E11: 17 | F11: 27 | H11: 48 | I11: ICU-Operating Theatres | J11: 8 | K11: 8 | L11: 0 | N11: 68 | O11: PAED-Extra6 | P11: 0 | Q11: 0 | R11: 0 | Z11: 9 | AA11: =IF(ISBLANK(C11),"",C11) -> GIM-C8 | AB11: =AA11&"O2" -> GIM-C8O2 | AC11: =D11 -> 27 | AD11: =E11 -> 17 | AE11: =F11 -> 27 | AG11: C7 | AH11: main medical | AI11: 33 | AK11: INCLUDE | AL11: =IF(AK11="INCLUDE",AI11,0) -> 33 | AM11: =IF(AH11="paeds",AI11,0) -> 0
B12: 10 | C12: GIM-D5 | D12: 30 | E12: 30 | F12: 30 | H12: 49 | I12: ICU-Extra1 | J12: 0 | K12: 0 | L12: 0 | N12: 69 | O12: PAED-Extra7 | P12: 0 | Q12: 0 | R12: 0 | Z12: 10 | AA12: =IF(ISBLANK(C12),"",C12) -> GIM-D5 | AB12: =AA12&"O2" -> GIM-D5O2 | AC12: =D12 -> 30 | AD12: =E12 -> 30 | AE12: =F12 -> 30 | AG12: C8 | AH12: main surgery | AI12: 37 | AK12: INCLUDE | AL12: =IF(AK12="INCLUDE",AI12,0) -> 37 | AM12: =IF(AH12="paeds",AI12,0) -> 0
B13: 11 | C13: GIM-D9 | D13: 23 | E13: 17 | F13: 23 | H13: 50 | I13: ICU-Extra2 | J13: 0 | K13: 0 | L13: 0 | Z13: 11 | AA13: =IF(ISBLANK(C13),"",C13) -> GIM-D9 | AB13: =AA13&"O2" -> GIM-D9O2 | AC13: =D13 -> 23 | AD13: =E13 -> 17 | AE13: =F13 -> 23 | AG13: C9 | AH13: main oncology | AI13: 8 | AK13: INCLUDE | AL13: =IF(AK13="INCLUDE",AI13,0) -> 8 | AM13: =IF(AH13="paeds",AI13,0) -> 0
B14: 12 | C14: GIM-MDU | D14: 26 | E14: 26 | F14: 26 | H14: 51 | I14: ICU-Extra3 | J14: 0 | K14: 0 | L14: 0 | Z14: 12 | AA14: =IF(ISBLANK(C14),"",C14) -> GIM-MDU | AB14: =AA14&"O2" -> GIM-MDUO2 | AC14: =D14 -> 26 | AD14: =E14 -> 26 | AE14: =F14 -> 26 | AG14: CH | AH14: paeds | AI14: 12 | AJ14: Charles Wolfson , not in Sophie's model | AK14: EXCLUDE | AL14: =IF(AK14="INCLUDE",AI14,0) -> 0 | AM14: =IF(AH14="paeds",AI14,0) -> 12
B15: 13 | C15: GIM-F4 | D15: 21 | E15: 13 | F15: 21 | H15: 52 | I15: ICU-Extra4 | J15: 0 | K15: 0 | L15: 0 | Z15: 13 | AA15: =IF(ISBLANK(C15),"",C15) -> GIM-F4 | AB15: =AA15&"O2" -> GIM-F4O2 | AC15: =D15 -> 21 | AD15: =E15 -> 13 | AE15: =F15 -> 21 | AG15: CL | AH15: main medical | AI15: 8 | AJ15: CDU, ED for PAEDS | AK15: EXCLUDE | AL15: =IF(AK15="INCLUDE",AI15,0) -> 0 | AM15: =IF(AH15="paeds",AI15,0) -> 0
B16: 14 | C16: GIM-G4 | D16: 27 | E16: 15 | F16: 27 | H16: 53 | I16: ICU-Extra5 | J16: 0 | K16: 0 | L16: 0 | Z16: 14 | AA16: =IF(ISBLANK(C16),"",C16) -> GIM-G4 | AB16: =AA16&"O2" -> GIM-G4O2 | AC16: =D16 -> 27 | AD16: =E16 -> 15 | AE16: =F16 -> 27 | AG16: CO | AH16: main medical | AI16: 10 | AK16: INCLUDE | AL16: =IF(AK16="INCLUDE",AI16,0) -> 10 | AM16: =IF(AH16="paeds",AI16,0) -> 0
B17: 15 | C17: GIM-F6 | D17: 27 | E17: 23 | F17: 27 | H17: 54 | I17: ICU-Extra6 | J17: 0 | K17: 0 | L17: 0 | Z17: 15 | AA17: =IF(ISBLANK(C17),"",C17) -> GIM-F6 | AB17: =AA17&"O2" -> GIM-F6O2 | AC17: =D17 -> 27 | AD17: =E17 -> 23 | AE17: =F17 -> 27 | AG17: D10 | AH17: main medical | AI17: 11 | AK17: INCLUDE | AL17: =IF(AK17="INCLUDE",AI17,0) -> 11 | AM17: =IF(AH17="paeds",AI17,0) -> 0
B18: 16 | C18: GIM-G6 | D18: 26 | E18: 16 | F18: 26 | H18: 55 | I18: ICU-Extra7 | J18: 0 | K18: 0 | L18: 0 | Z18: 16 | AA18: =IF(ISBLANK(C18),"",C18) -> GIM-G6 | AB18: =AA18&"O2" -> GIM-G6O2 | AC18: =D18 -> 26 | AD18: =E18 -> 16 | AE18: =F18 -> 26 | AG18: D2 | AH18: paeds | AI18: 22 | AK18: EXCLUDE | AL18: =IF(AK18="INCLUDE",AI18,0) -> 0 | AM18: =IF(AH18="paeds",AI18,0) -> 22
B19: 17 | C19: GIM-A4 | D19: 26 | E19: 10 | F19: 26 | H19: 56 | I19: ICU-Extra8 | J19: 0 | K19: 0 | L19: 0 | Z19: 17 | AA19: =IF(ISBLANK(C19),"",C19) -> GIM-A4 | AB19: =AA19&"O2" -> GIM-A4O2 | AC19: =D19 -> 26 | AD19: =E19 -> 10 | AE19: =F19 -> 26 | AG19: D5 | AH19: main medical | AI19: 30 | AK19: INCLUDE | AL19: =IF(AK19="INCLUDE",AI19,0) -> 30 | AM19: =IF(AH19="paeds",AI19,0) -> 0
B20: 18 | C20: GIM-A5 | D20: 26 | E20: 18 | F20: 26 | H20: 57 | I20: ICU-Extra9 | J20: 0 | K20: 0 | L20: 0 | Z20: 18 | AA20: =IF(ISBLANK(C20),"",C20) -> GIM-A5 | AB20: =AA20&"O2" -> GIM-A5O2 | AC20: =D20 -> 26 | AD20: =E20 -> 18 | AE20: =F20 -> 26 | AG20: D6 | AH20: main oncology | AI20: 11 | AK20: INCLUDE | AL20: =IF(AK20="INCLUDE",AI20,0) -> 11 | AM20: =IF(AH20="paeds",AI20,0) -> 0
B21: 19 | C21: GIM-K3 | D21: 31 | E21: 31 | F21: 31 | H21: 58 | I21: ICU-Extra10 | J21: 0 | K21: 0 | L21: 0 | Z21: 19 | AA21: =IF(ISBLANK(C21),"",C21) -> GIM-K3 | AB21: =AA21&"O2" -> GIM-K3O2 | AC21: =D21 -> 31 | AD21: =E21 -> 31 | AE21: =F21 -> 31 | AG21: D6 | AH21: neuro | AI21: 16 | AK21: INCLUDE | AL21: =IF(AK21="INCLUDE",AI21,0) -> 16 | AM21: =IF(AH21="paeds",AI21,0) -> 0
B22: 20 | C22: GIM-Additional Beds | D22: 44 | E22: 44 | F22: 0 | H22: 59 | I22: ICU-Extra11 | J22: 0 | K22: 0 | L22: 0 | Z22: 20 | AA22: =IF(ISBLANK(C22),"",C22) -> GIM-Additional Beds | AB22: =AA22&"O2" -> GIM-Additional BedsO2 | AC22: =D22 -> 44 | AD22: =E22 -> 44 | AE22: =F22 -> 0 | AG22: D7 | AH22: main medical | AI22: 32 | AK22: INCLUDE | AL22: =IF(AK22="INCLUDE",AI22,0) -> 32 | AM22: =IF(AH22="paeds",AI22,0) -> 0
B23: 21 | C23: GIM-Surge+ | D23: 71 | E23: 71 | F23: 0 | Z23: 21 | AA23: =IF(ISBLANK(C23),"",C23) -> GIM-Surge+ | AB23: =AA23&"O2" -> GIM-Surge+O2 | AC23: =D23 -> 71 | AD23: =E23 -> 71 | AE23: =F23 -> 0 | AG23: D8 | AH23: main surgery | AI23: 36 | AK23: INCLUDE | AL23: =IF(AK23="INCLUDE",AI23,0) -> 36 | AM23: =IF(AH23="paeds",AI23,0) -> 0
B24: 22 | C24: GIM-Modular1 | D24: 40 | E24: 40 | F24: 0 | Z24: 22 | AA24: =IF(ISBLANK(C24),"",C24) -> GIM-Modular1 | AB24: =AA24&"O2" -> GIM-Modular1O2 | AC24: =D24 -> 40 | AD24: =E24 -> 40 | AE24: =F24 -> 0 | AG24: D9 | AH24: main oncology | AI24: 33 | AK24: INCLUDE | AL24: =IF(AK24="INCLUDE",AI24,0) -> 33 | AM24: =IF(AH24="paeds",AI24,0) -> 0
B25: 23 | C25: GIM-Modular2 | D25: 40 | E25: 40 | F25: 0 | Z25: 23 | AA25: =IF(ISBLANK(C25),"",C25) -> GIM-Modular2 | AB25: =AA25&"O2" -> GIM-Modular2O2 | AC25: =D25 -> 40 | AD25: =E25 -> 40 | AE25: =F25 -> 0 | AG25: DA | AH25: Rosie surgical | AI25: 14 | AK25: INCLUDE | AL25: =IF(AK25="INCLUDE",AI25,0) -> 14 | AM25: =IF(AH25="paeds",AI25,0) -> 0
B26: 24 | C26: GIM-Modular3 | D26: 40 | E26: 40 | F26: 0 | Z26: 24 | AA26: =IF(ISBLANK(C26),"",C26) -> GIM-Modular3 | AB26: =AA26&"O2" -> GIM-Modular3O2 | AC26: =D26 -> 40 | AD26: =E26 -> 40 | AE26: =F26 -> 0 | AG26: F3 | AH26: paeds | AI26: 6 | AK26: EXCLUDE | AL26: =IF(AK26="INCLUDE",AI26,0) -> 0 | AM26: =IF(AH26="paeds",AI26,0) -> 6
B27: 25 | C27: GIM-Extra1 | D27: 0 | E27: 0 | F27: 0 | Z27: 25 | AA27: =IF(ISBLANK(C27),"",C27) -> GIM-Extra1 | AB27: =AA27&"O2" -> GIM-Extra1O2 | AC27: =D27 -> 0 | AD27: =E27 -> 0 | AE27: =F27 -> 0 | AG27: F4 | AH27: main medical | AI27: 21 | AK27: INCLUDE | AL27: =IF(AK27="INCLUDE",AI27,0) -> 21 | AM27: =IF(AH27="paeds",AI27,0) -> 0
B28: 26 | C28: GIM-Extra2 | D28: 0 | E28: 0 | F28: 0 | Z28: 26 | AA28: =IF(ISBLANK(C28),"",C28) -> GIM-Extra2 | AB28: =AA28&"O2" -> GIM-Extra2O2 | AC28: =D28 -> 0 | AD28: =E28 -> 0 | AE28: =F28 -> 0 | AG28: F6 | AH28: main surgery | AI28: 27 | AK28: INCLUDE | AL28: =IF(AK28="INCLUDE",AI28,0) -> 27 | AM28: =IF(AH28="paeds",AI28,0) -> 0
B29: 27 | C29: GIM-Extra3 | D29: 0 | E29: 0 | F29: 0 | Z29: 27 | AA29: =IF(ISBLANK(C29),"",C29) -> GIM-Extra3 | AB29: =AA29&"O2" -> GIM-Extra3O2 | AC29: =D29 -> 0 | AD29: =E29 -> 0 | AE29: =F29 -> 0 | AG29: G3 | AH29: main medical | AI29: 27 | AK29: INCLUDE | AL29: =IF(AK29="INCLUDE",AI29,0) -> 27 | AM29: =IF(AH29="paeds",AI29,0) -> 0
B30: 28 | C30: GIM-Extra4 | D30: 0 | E30: 0 | F30: 0 | Z30: 28 | AA30: =IF(ISBLANK(C30),"",C30) -> GIM-Extra4 | AB30: =AA30&"O2" -> GIM-Extra4O2 | AC30: =D30 -> 0 | AD30: =E30 -> 0 | AE30: =F30 -> 0 | AG30: G4 | AH30: main medical | AI30: 27 | AK30: INCLUDE | AL30: =IF(AK30="INCLUDE",AI30,0) -> 27 | AM30: =IF(AH30="paeds",AI30,0) -> 0
B31: 29 | C31: GIM-Extra5 | D31: 0 | E31: 0 | F31: 0 | Z31: 29 | AA31: =IF(ISBLANK(C31),"",C31) -> GIM-Extra5 | AB31: =AA31&"O2" -> GIM-Extra5O2 | AC31: =D31 -> 0 | AD31: =E31 -> 0 | AE31: =F31 -> 0 | AG31: G5 | AH31: main medical | AI31: 28 | AK31: INCLUDE | AL31: =IF(AK31="INCLUDE",AI31,0) -> 28 | AM31: =IF(AH31="paeds",AI31,0) -> 0
B32: 30 | C32: GIM-Extra6 | D32: 0 | E32: 0 | F32: 0 | Z32: 30 | AA32: =IF(ISBLANK(C32),"",C32) -> GIM-Extra6 | AB32: =AA32&"O2" -> GIM-Extra6O2 | AC32: =D32 -> 0 | AD32: =E32 -> 0 | AE32: =F32 -> 0 | AG32: G6 | AH32: main medical | AI32: 27 | AK32: INCLUDE | AL32: =IF(AK32="INCLUDE",AI32,0) -> 27 | AM32: =IF(AH32="paeds",AI32,0) -> 0
B33: 31 | C33: GIM-Extra7 | D33: 0 | E33: 0 | F33: 0 | Z33: 31 | AA33: =IF(ISBLANK(C33),"",C33) -> GIM-Extra7 | AB33: =AA33&"O2" -> GIM-Extra7O2 | AC33: =D33 -> 0 | AD33: =E33 -> 0 | AE33: =F33 -> 0 | AG33: J2 | AH33: neuro / rehab | AI33: 21 | AK33: EXCLUDE | AL33: =IF(AK33="INCLUDE",AI33,0) -> 0 | AM33: =IF(AH33="paeds",AI33,0) -> 0
B34: 32 | C34: GIM-Extra8 | D34: 0 | E34: 0 | F34: 0 | Z34: 32 | AA34: =IF(ISBLANK(C34),"",C34) -> GIM-Extra8 | AB34: =AA34&"O2" -> GIM-Extra8O2 | AC34: =D34 -> 0 | AD34: =E34 -> 0 | AE34: =F34 -> 0 | AG34: J3 | AI34: 11 | AJ34: CC Surge | AK34: EXCLUDE | AL34: =IF(AK34="INCLUDE",AI34,0) -> 0 | AM34: =IF(AH34="paeds",AI34,0) -> 0
B35: 33 | C35: GIM-Extra9 | D35: 0 | E35: 0 | F35: 0 | Z35: 33 | AA35: =IF(ISBLANK(C35),"",C35) -> GIM-Extra9 | AB35: =AA35&"O2" -> GIM-Extra9O2 | AC35: =D35 -> 0 | AD35: =E35 -> 0 | AE35: =F35 -> 0 | AG35: K3 | AH35: main medical | AI35: 21 | AK35: INCLUDE | AL35: =IF(AK35="INCLUDE",AI35,0) -> 21 | AM35: =IF(AH35="paeds",AI35,0) -> 0
B36: 34 | C36: GIM-Extra10 | D36: 0 | E36: 0 | F36: 0 | Z36: 34 | AA36: =IF(ISBLANK(C36),"",C36) -> GIM-Extra10 | AB36: =AA36&"O2" -> GIM-Extra10O2 | AC36: =D36 -> 0 | AD36: =E36 -> 0 | AE36: =F36 -> 0 | AG36: L4 | AH36: atc | AI36: 32 | AK36: INCLUDE | AL36: =IF(AK36="INCLUDE",AI36,0) -> 32 | AM36: =IF(AH36="paeds",AI36,0) -> 0
B37: 35 | C37: GIM-Extra11 | D37: 0 | E37: 0 | F37: 0 | Z37: 35 | AA37: =IF(ISBLANK(C37),"",C37) -> GIM-Extra11 | AB37: =AA37&"O2" -> GIM-Extra11O2 | AC37: =D37 -> 0 | AD37: =E37 -> 0 | AE37: =F37 -> 0 | AG37: L5 | AH37: atc | AI37: 32 | AK37: INCLUDE | AL37: =IF(AK37="INCLUDE",AI37,0) -> 32 | AM37: =IF(AH37="paeds",AI37,0) -> 0
B38: 36 | C38: GIM-Extra12 | D38: 0 | E38: 0 | F38: 0 | Z38: 36 | AA38: =IF(ISBLANK(C38),"",C38) -> GIM-Extra12 | AB38: =AA38&"O2" -> GIM-Extra12O2 | AC38: =D38 -> 0 | AD38: =E38 -> 0 | AE38: =F38 -> 0 | AG38: M4 | AH38: atc | AI38: 32 | AK38: INCLUDE | AL38: =IF(AK38="INCLUDE",AI38,0) -> 32 | AM38: =IF(AH38="paeds",AI38,0) -> 0
B39: 37 | C39: GIM-Extra13 | D39: 0 | E39: 0 | F39: 0 | Z39: 37 | AA39: =IF(ISBLANK(C39),"",C39) -> GIM-Extra13 | AB39: =AA39&"O2" -> GIM-Extra13O2 | AC39: =D39 -> 0 | AD39: =E39 -> 0 | AE39: =F39 -> 0 | AG39: M5 | AH39: atc | AI39: 32 | AK39: INCLUDE | AL39: =IF(AK39="INCLUDE",AI39,0) -> 32 | AM39: =IF(AH39="paeds",AI39,0) -> 0
B40: 38 | C40: GIM-Extra14 | D40: 0 | E40: 0 | F40: 0 | Z40: 38 | AA40: =IF(ISBLANK(C40),"",C40) -> GIM-Extra14 | AB40: =AA40&"O2" -> GIM-Extra14O2 | AC40: =D40 -> 0 | AD40: =E40 -> 0 | AE40: =F40 -> 0 | AG40: MDU | AH40: main medical | AI40: 26 | AK40: INCLUDE | AL40: =IF(AK40="INCLUDE",AI40,0) -> 26 | AM40: =IF(AH40="paeds",AI40,0) -> 0
B41: 39 | C41: GIM-Extra15 | D41: 0 | E41: 0 | F41: 0 | Z41: 39 | AA41: =IF(ISBLANK(C41),"",C41) -> GIM-Extra15 | AB41: =AA41&"O2" -> GIM-Extra15O2 | AC41: =D41 -> 0 | AD41: =E41 -> 0 | AE41: =F41 -> 0 | AG41: MSEU | AH41: main medical | AI41: 26 | AK41: INCLUDE | AL41: =IF(AK41="INCLUDE",AI41,0) -> 26 | AM41: =IF(AH41="paeds",AI41,0) -> 0
Z42: 40 | AA42: =IF(ISBLANK(I3),"",I3) -> ICU-JVF-NCCU | AB42: =AA42&"O2" -> ICU-JVF-NCCUO2 | AC42: =J3 -> 59 | AD42: =K3 -> 59 | AE42: =L3 -> 0 | AG42: N2 | AH42: main medical | AI42: 22 | AK42: EXCLUDE | AL42: =IF(AK42="INCLUDE",AI42,0) -> 0 | AM42: =IF(AH42="paeds",AI42,0) -> 0
Z43: 41 | AA43: =IF(ISBLANK(I4),"",I4) -> ICU-Surge | AB43: =AA43&"O2" -> ICU-SurgeO2 | AC43: =J4 -> 23 | AD43: =K4 -> 23 | AE43: =L4 -> 0 | AG43: N3 | AH43: main medical | AI43: 25 | AK43: INCLUDE | AL43: =IF(AK43="INCLUDE",AI43,0) -> 25 | AM43: =IF(AH43="paeds",AI43,0) -> 0
Z44: 42 | AA44: =IF(ISBLANK(I5),"",I5) -> ICU-A3 | AB44: =AA44&"O2" -> ICU-A3O2 | AC44: =J5 -> 8 | AD44: =K5 -> 8 | AE44: =L5 -> 0 | AG44: R2 | AH44: main medical | AI44: 14 | AK44: INCLUDE | AL44: =IF(AK44="INCLUDE",AI44,0) -> 14 | AM44: =IF(AH44="paeds",AI44,0) -> 0
Z45: 43 | AA45: =IF(ISBLANK(I6),"",I6) -> ICU-IDARRT | AB45: =AA45&"O2" -> ICU-IDARRTO2 | AC45: =J6 -> 12 | AD45: =K6 -> 12 | AE45: =L6 -> 0 | AG45: RE | AH45: main medical / rehab | AI45: 26 | AJ45: Rosie | AK45: INCLUDE | AL45: =IF(AK45="INCLUDE",AI45,0) -> 26 | AM45: =IF(AH45="paeds",AI45,0) -> 0
Z46: 44 | AA46: =IF(ISBLANK(I7),"",I7) -> ICU-Main Rec | AB46: =AA46&"O2" -> ICU-Main RecO2 | AC46: =J7 -> 12 | AD46: =K7 -> 12 | AE46: =L7 -> 12
Z47: 45 | AA47: =IF(ISBLANK(I8),"",I8) -> ICU-Ortho Rec | AB47: =AA47&"O2" -> ICU-Ortho RecO2 | AC47: =J8 -> 6 | AD47: =K8 -> 6 | AE47: =L8 -> 6
Z48: 46 | AA48: =IF(ISBLANK(I9),"",I9) -> ICU-A3 DOSA | AB48: =AA48&"O2" -> ICU-A3 DOSAO2 | AC48: =J9 -> 10 | AD48: =K9 -> 10 | AE48: =L9 -> 10
Z49: 47 | AA49: =IF(ISBLANK(I10),"",I10) -> ICU-C4 | AB49: =AA49&"O2" -> ICU-C4O2 | AC49: =J10 -> 34 | AD49: =K10 -> 34 | AE49: =L10 -> 34
Z50: 48 | AA50: =IF(ISBLANK(I11),"",I11) -> ICU-Operating Theatres | AB50: =AA50&"O2" -> ICU-Operating TheatresO2 | AC50: =J11 -> 8 | AD50: =K11 -> 8 | AE50: =L11 -> 0
Z51: 49 | AA51: =IF(ISBLANK(I12),"",I12) -> ICU-Extra1 | AB51: =AA51&"O2" -> ICU-Extra1O2 | AC51: =J12 -> 0 | AD51: =K12 -> 0 | AE51: =L12 -> 0
Z52: 50 | AA52: =IF(ISBLANK(I13),"",I13) -> ICU-Extra2 | AB52: =AA52&"O2" -> ICU-Extra2O2 | AC52: =J13 -> 0 | AD52: =K13 -> 0 | AE52: =L13 -> 0
Z53: 51 | AA53: =IF(ISBLANK(I14),"",I14) -> ICU-Extra3 | AB53: =AA53&"O2" -> ICU-Extra3O2 | AC53: =J14 -> 0 | AD53: =K14 -> 0 | AE53: =L14 -> 0
Z54: 52 | AA54: =IF(ISBLANK(I15),"",I15) -> ICU-Extra4 | AB54: =AA54&"O2" -> ICU-Extra4O2 | AC54: =J15 -> 0 | AD54: =K15 -> 0 | AE54: =L15 -> 0
Z55: 53 | AA55: =IF(ISBLANK(I16),"",I16) -> ICU-Extra5 | AB55: =AA55&"O2" -> ICU-Extra5O2 | AC55: =J16 -> 0 | AD55: =K16 -> 0 | AE55: =L16 -> 0
Z56: 54 | AA56: =IF(ISBLANK(I17),"",I17) -> ICU-Extra6 | AB56: =AA56&"O2" -> ICU-Extra6O2 | AC56: =J17 -> 0 | AD56: =K17 -> 0 | AE56: =L17 -> 0
Z57: 55 | AA57: =IF(ISBLANK(I18),"",I18) -> ICU-Extra7 | AB57: =AA57&"O2" -> ICU-Extra7O2 | AC57: =J18 -> 0 | AD57: =K18 -> 0 | AE57: =L18 -> 0
... Z61: 59 | AA61: =IF(ISBLANK(I22),"",I22) -> ICU-Extra11 | AB61: =AA61&"O2" -> ICU-Extra11O2 | AC61: =J22 -> 0 | AD61: =K22 -> 0 | AE61: =L22 -> 0
Z62: 60 | AA62: =IF(ISBLANK(O3),"",O3) -> PAED-C3 | AB62: =AA62&"O2" -> PAED-C3O2 | AC62: =P3 -> 17 | AD62: =Q3 -> 17 | AE62: =R3 -> 17
Z63: 61 | AA63: =IF(ISBLANK(O4),"",O4) -> PAED-CDU | AB63: =AA63&"O2" -> PAED-CDUO2 | AC63: =P4 -> 8 | AD63: =Q4 -> 8 | AE63: =R4 -> 8 | AF63: CDU;ED Paed
Z64: 62 | AA64: =IF(ISBLANK(O5),"",O5) -> PAED-D2 | AB64: =AA64&"O2" -> PAED-D2O2 | AC64: =P5 -> 19 | AD64: =Q5 -> 15 | AE64: =R5 -> 19
Z65: 63 | AA65: =IF(ISBLANK(O6),"",O6) -> PAED-Extra1 | AB65: =AA65&"O2" -> PAED-Extra1O2 | AC65: =P6 -> 0 | AD65: =Q6 -> 0 | AE65: =R6 -> 0
Z66: 64 | AA66: =IF(ISBLANK(O7),"",O7) -> PAED-Extra2 | AB66: =AA66&"O2" -> PAED-Extra2O2 | AC66: =P7 -> 0 | AD66: =Q7 -> 0 | AE66: =R7 -> 0
Z67: 65 | AA67: =IF(ISBLANK(O8),"",O8) -> PAED-Extra3 | AB67: =AA67&"O2" -> PAED-Extra3O2 | AC67: =P8 -> 0 | AD67: =Q8 -> 0 | AE67: =R8 -> 0
Z68: 66 | AA68: =IF(ISBLANK(O9),"",O9) -> PAED-Extra4 | AB68: =AA68&"O2" -> PAED-Extra4O2 | AC68: =P9 -> 0 | AD68: =Q9 -> 0 | AE68: =R9 -> 0
Z69: 67 | AA69: =IF(ISBLANK(O10),"",O10) -> PAED-Extra5 | AB69: =AA69&"O2" -> PAED-Extra5O2 | AC69: =P10 -> 0 | AD69: =Q10 -> 0 | AE69: =R10 -> 0
Z70: 68 | AA70: =IF(ISBLANK(O11),"",O11) -> PAED-Extra6 | AB70: =AA70&"O2" -> PAED-Extra6O2 | AC70: =P11 -> 0 | AD70: =Q11 -> 0 | AE70: =R11 -> 0
Z71: 69 | AA71: =IF(ISBLANK(O12),"",O12) -> PAED-Extra7 | AB71: =AA71&"O2" -> PAED-Extra7O2 | AC71: =P12 -> 0 | AD71: =Q12 -> 0 | AE71: =R12 -> 0
Z72: 70 | AA72: =IF(ISBLANK(U3),"",U3) -> PICU-PICU | AB72: =AA72&"O2" -> PICU-PICUO2 | AC72: =V3 -> 8 | AD72: =W3 -> 8 | AE72: =X3 -> 8
Z73: 71 | AA73: =IF(ISBLANK(U4),"",U4) -> PICU-Extra1 | AB73: =AA73&"O2" -> PICU-Extra1O2 | AC73: =V4 -> 0 | AD73: =W4 -> 0 | AE73: =X4 -> 0
Z74: 72 | AA74: =IF(ISBLANK(U5),"",U5) -> PICU-Extra2 | AB74: =AA74&"O2" -> PICU-Extra2O2 | AC74: =V5 -> 0 | AD74: =W5 -> 0 | AE74: =X5 -> 0
Z75: 73 | AA75: =IF(ISBLANK(U6),"",U6) -> PICU-Extra3 | AB75: =AA75&"O2" -> PICU-Extra3O2 | AC75: =V6 -> 0 | AD75: =W6 -> 0 | AE75: =X6 -> 0
Z76: 74 | AA76: =IF(ISBLANK(U7),"",U7) -> PICU-Extra4 | AB76: =AA76&"O2" -> PICU-Extra4O2 | AC76: =V7 -> 0 | AD76: =W7 -> 0 | AE76: =X7 -> 0

Sheet Input Parameters
B2: INPUTS
B3: Oxygen - Baseload flow rate required | F3: Oxygen Scenarios: | G3: Baseload determined by:01/02/2020 - 15/03/2020 | H3: Baseload determined by:15/03/2020 - 19/04/2020 | J3: Ventilator Supply | M3: Mortuary Capacity
B4: Category | C4: Comment | D4: L/min | F4: Column1 | G4: Pre-Covid | H4: Covid | J4: Ventilator Capacity (ventilators) | K4: Duration until next Change in Supply (days) | M4: Mortuary Capacity | N4: Duration until next Change in Supply (days)
B5: ICU COVID | C5: Modelled | D5: 0 | F5: ICU COVID | G5: 0 | H5: Modelled | J5: 39 | K5: 14 | M5: 192 | N5: 300
B6: GIM COVID | C6: Modelled | D6: 0 | F6: GIM COVID | G6: 0 | H6: Modelled | J6: 91 | K6: 2
B7: Paed COVID | C7: Modelled | D7: 0 | F7: Paed COVID | G7: 0 | H7: Modelled | J7: 124 | K7: 22
B8: Daycases | C8: Baseload determined by:01/02/2020 - 15/03/2020 | D8: 1.1 | F8: Daycases | G8: 1.1 | H8: 0.5 | J8: 139 | K8: 28
B9: Rosie | C9: Baseload determined by:01/02/2020 - 15/03/2020 | D9: 98 | F9: Rosie | G9: 98 | H9: 83 | J9: 154 | K9: 7
B10: ICU non-COVID | C10: Baseload determined by:01/02/2020 - 15/03/2020 | D10: 570 | F10: ICU non-COVID | G10: 570 | H10: 100 | J10: 174 | K10: 23
B11: GIM non-COVID & Other | C11: Baseload determined by:01/02/2020 - 15/03/2020 | D11: 490 | F11: GIM non-COVID & Other | G11: 490 | H11: 156 | J11: 224 | K11: 300
B12: Paed non-COVID | C12: Baseload determined by:01/02/2020 - 15/03/2020 | D12: 86 | F12: Paed non-COVID | G12: 86 | H12: 8
B13: Surgery | C13: Baseload determined by:01/02/2020 - 15/03/2020 | D13: 20 | F13: Surgery | G13: 20 | H13: 2.5
B14: Recovery | C14: Baseload determined by:01/02/2020 - 15/03/2020 | D14: 2.2 | F14: Recovery | G14: 2.2 | H14: 0.3
B15: Assessment Coivd | C15: Baseload determined by:01/02/2020 - 15/03/2020 | D15: 28 | F15: Assessment Coivd | G15: 0 | H15: 28
B16: Covid+ Non ICU | C16: Modelled | D16: 0 | F16: Covid+ Non ICU | G16: 0 | H16: Modelled
B17: Covid+ ICU | C17: Modelled | D17: 0 | F17: Covid+ ICU | G17: 0 | H17: Modelled
B21: Total | D21: =SUBTOTAL(109,Table1[L/min]) -> 1295.3 | F21: Total | H21: =SUBTOTAL(103,Table58[Covid]) -> 13
B22: Source: Data from IfM/Carl v.B., updated 07/05/2020 | F22: Source: Data from IfM/Carl v.B., updated 07/05/2020 | J22: Source: Sophie B., updated 07/05/2020 | M22: Source: Sophie B, updated 07/05/2020
B24: Peak Date COVID-19
B25: Peak Date COVID-19 | C25: 104
B27: LoS | C27: (days)
B28: Uncomplicated Stay - Survived | C28: WEIB(10.48,1.03)
B29: Uncomplicated Stay - Death | C29: WEIB(10.48,1.03)
B30: Complicated Stay pre-ICU | C30: GAMM(3.23,0.81)
B31: Complicated Stay ICU | C31: WEIB(18.64,1.02)
B32: Complicated Stay post-ICU | C32: GAMM(6.8,2)
B33: Source: LoS based on IfM fitting in June, requires updating with Ben W. Data
B35: Survival Rate | C35: (%)
B36: Survival Rate ICU | C36: 64 | D36: 28/77 patients died
B37: Survival Rate GIM | C37: 74 | D37: 95/368 patients died
B38: Source: Ben W. Local CUH Parameters as of 28/06/2020
B40: ICU Required | C40: (%)
B41: ICU Required | C41: =99/475*100 -> 20.842105 | D41: 99/475 patients (total)
B42: Pre-ICU GIM Stay Required | C42: =28/99*100 -> 28.282828 | D42: 28/99 patients
B43: Source: Ben W. CUH report 8
B45: Age Distribution | C45: (%)
B46: Paedatric | C46: 0 | D46: 445/457 patients adults
B47: Source: Ben W. Local CUH Parameters as of 28/06/2020
B49: Patients on O2 at a given time | C49: (%) | E49: Optimistic | F49: Worst case
B50: Proportion requiring O2 GIM | C50: 40 | D50: If move to next phase, check if you make use of it | E50: 40 | F50: 100
B51: Proportion requiring O2 ICU | C51: 94 | E51: 94 | F51: 100
B52: Source: IfM/Carl v.B, based on period 27/03/2020 - 20/04/2020
B54: Hours of oxygen per day (for patients on O2) | C54: (hours) | E54: Optimistic | F54: Worst Case
B55: Hours of O2 per day GIM | C55: NORM(16.63,4.74) | E55: NORM(16.63,4.74) | F55: 24
B56: Hours of O2 per day ICU | C56: 24 | E56: GAMM(0.57,23.59) | F56: 24
B57: Source: IfM/Carl v.B, based on period 01/04/2020 - 14/04/2020 --> Probability Distribution Fitting
B59: Oxygen Consumption (for patients on O2) | C59: (days) | D59: (liters/min)
B60: Pre-ICU - Phase 1 | C60: UNIF(0,2) | D60: 10
B61: Pre-ICU - After Phase 1 | C61: any days remaining | D61: 15
B62: ICU | C62: all days | D62: UNIF(15,20)
B63: Post-ICU - Phase 1 | C63: UNIF(1,3) | D63: 10
B64: Post-ICU - Phase 2 | C64: UNIF(2,4) | D64: 5
B65: Post-ICU - After Phase 2 | C65: any days remaining | D65: UNIF(1,4)
B66: Uncomplicated - Phase 1 | C66: UNIF(1,3) | D66: UNIF(1,4)
B67: Uncomplicated - Phase 2 | C67: UNIF(1,3) | D67: 10
B68: Uncomplicated - Phase 3 | C68: UNIF(0,3) | D68: 15
B69: Uncomplicated - Phase 4 | C69: UNIF(1,3) | D69: 10
B70: Uncomplicated - After Phase 3 | C70: any days remaining | D70: UNIF(1,4)
B71: Source: Ewen C.
B73: Triggerpoints | C73: (patients)
B74: Release_GIM_Buffer | C74: 20
B75: Release_ICU_Buffer | C75: 20
B76: Open_GIM_Buffer | C76: 19
B77: Open_ICU_Buffer | C77: 19
B78: Source: requires policy input
B80: Initial Bed Capacity (before phase 1) | C80: (beds)
B81: GreenGIMBeds | C81: =SUM('Ward Capacity'!AL3:AL49) -> 812
B82: GreenICUBeds | C82: 0
B83: GreenPAEDBeds | C83: =SUM('Ward Capacity'!AM3:AM48) -> 69
B84: GreenPICUBeds | C84: 0
B85: Source: Sophie B., from bedplanning March 2020
B87: Transfer-Out Probability | C87: (%)
B88: Probability of Transferring out after ICU (as proportion of people surviving ICU) | C88: =11/71*100 -> 15.492958 | D88: 11/71 patients
B89: Source: Ben W. Local CUH Parameters as of 28/06/2020
B91: Run Control
B92: Number of Replications | C92: 85
B93: Start Date | C93: 44074 | D93: must be Monday
B94: Replication Length (days) | C94: 298
B95: Source: Replication length based on Nick M.'s data
B97: Mortuary Duration | C97: (days)
B98: Mortuary duration | C98: UNIF(7,9)
B99: Source: Sophie B. 06/05/2020, average = 8 days
B101: Ward Turnaround Time | C101: (hours)
B102: RedToGreen | C102: 0
B103: GreenToRed | C103: 0
B104: Source: Nick PO
B106: Max Wait Time for Bed | C106: (hours)
B107: GIM | C107: 24
B108: ICU | C108: 24
B111: Baseload Mortuary (non-Covid) | C111: (hours)
B112: Interarrival Time Deaths | C112: EXPO(4)
B113: Source: Sophie B. 06/05/2020, average = 6 per day
B115: Ventilator | C115: (%)
B116: COVID-19 ICU requiring ventilator | C116: 100
B117: Non-COVID-19 ICU requiring ventilator | C117: 50
B119: Scenario | C119: Select scenario | D119: Scenario Code
B120: Select Scenario COVID-19 | C120: Scenario - Base Case | D120: =VLOOKUP(C120,Table4[],2,FALSE) -> 2
B121: Select Resource Strategy | C121: Scenario - Proactive Cancellation | D121: =VLOOKUP(C121,Table417[],2,FALSE) -> 1
B123: Scenario Parameters | C123: Parameter | D123: (n.a.)
B124: Scenario 1 - Proactive Cancellation | C124: Trigger point peak start (daily admissions) | D124: 4
...

Sheet Staffing
C6: Capacity | H6: Can work as...? | R6: Ratio Theatres: staff : theatre | U6: Ratios Beds:1 staff | Z6: Baseload (WTE) | AO6: Input for Arena
A7: Index | B7: Staff | C7: Capacity (WTE) | D7: CCP | E7: PA | F7: Time-out | G7: Source | H7: Intensivist | I7: Anaesthesist | J7: RN(CC) | K7: RN(Theatre) | L7: ODP/AP | M7: Scrub Nurse | N7: In Charge | O7: Anaesthetic Trainee | P7: Intensivist Junior Doctor | Q7: RN (General) | R7: Red Theatre | S7: Green Theatre | T7: Night Red Theatre | U7: ICU | V7: OIR | W7: HDU | X7: IDA | Y7: GIM | Z7: Intubation | AA7: Pre-assessment | AB7: Pain | AC7: PDU | AD7: J3 | AE7: Weekend Trauma etc | AF7: Admin | AG7: IS (4x) | AH7: <...> | AI7: <...> | AJ7: <...> | AK7: <...> | AL7: <...> | AM7: <...> | AN7: General Baseload (week) | AO7: WTE Baseload (week) | AP7: WTE/Theatre per hour (RED) | AQ7: WTE/ICU per patient per day | AR7: WTE/OIR per patient per day | AS7: WTE/HDU per patient per day | AT7: WTE/IDA per patient per day | AU7: WTE/GIM per patient per day | AV7: WTE/Night Theatre per hour | AW7: WTE/Theatre per Week (elective) | AX7: WTE/Theatre per Week (IS) | AY7: Capacity in WTE
A8: 1 | B8: Intensivist | C8: 24.8 | D8: 9 | E8: 4 | F8: 0.25 | G8: Sophie/Gareth | H8: YES | R8: 0 | S8: 0 | T8: =R8 -> 0 | U8: =12/24*12+12/24*20 -> 16 | V8: =12/24*12+12/24*20 -> 16 | W8: =12/24*12+12/24*20 -> 16 | X8: 0 | Y8: 0 | Z8: 0 | AA8: 0 | AB8: 0 | AC8: 0 | AD8: 0 | AE8: 0 | AF8: 0 | AG8: 0 | AH8: 0 | AI8: 0 | AJ8: 0 | AK8: 0 | AL8: 0 | AM8: 0 | AN8: 0 | AO8: =SUM(Z8:AN8) -> 0 | AP8: =IFERROR(R8/($D8*$E8)/(1-$F8),0) -> 0 | AQ8: =IFERROR(1/U8*24/($D8*$E8)/(1-$F8),0) -> 0.055555556 | AR8: =IFERROR(1/V8*24/($D8*$E8)/(1-$F8),0) -> 0.055555556 | AS8: =IFERROR(1/W8*24/($D8*$E8)/(1-$F8),0) -> 0.055555556 | AT8: =IFERROR(1/X8*24/($D8*$E8)/(1-$F8),0) -> 0 | AU8: =IFERROR(1/Y8*24/($D8*$E8)/(1-$F8),0) -> 0 | AV8: =IFERROR(T8/($D8*$E8)/(1-$F8),0) -> 0 | AW8: =TRUNC(('Surgery Elective'!$AA$5-'Surgery Elective'!$AA$4)*AP8*5,2) -> 0 | AX8: 0 | AY8: =C8 -> 24.8
A9: 2 | B9: Anaesthesist | C9: 89.4 | D9: 9 | E9: 4 | F9: 0.25 | G9: Sophie/Gareth | H9: YES | I9: YES | R9: 1.5 | S9: 1 | T9: 1 | U9: 0 | V9: 0 | W9: 0 | X9: 0 | Y9: 0 | Z9: 2.38 | AA9: 0.71 | AB9: 2.38 | AC9: 1.19 | AD9: 0 | AE9: 3.38 | AF9: 2.38 | AG9: 0 | AH9: 0 | AI9: 0 | AJ9: 0 | AK9: 0 | AL9: 0 | AM9: 0 | AN9: 0 | AO9: =SUM(Z9:AN9) -> 12.42 | AP9: =IFERROR(R9/($D9*$E9)/(1-$F9),0) -> 0.055555556 | AQ9: =IFERROR(1/U9*24/($D9*$E9)/(1-$F9),0) -> 0 | AR9: =IFERROR(1/V9*24/($D9*$E9)/(1-$F9),0) -> 0 | AS9: =IFERROR(1/W9*24/($D9*$E9)/(1-$F9),0) -> 0 | AT9: =IFERROR(1/X9*24/($D9*$E9)/(1-$F9),0) -> 0 | AU9: =IFERROR(1/Y9*24/($D9*$E9)/(1-$F9),0) -> 0 | AV9: =IFERROR(T9/($D9*$E9)/(1-$F9),0) -> 0.037037037 | AW9: =TRUNC(('Surgery Elective'!$AA$5-'Surgery Elective'!$AA$4)*AP9*5,2) -> 2.77 | AX9: =AW9 -> 2.77 | AY9: =C9 -> 89.4
A10: 3 | B10: RN (CC) (Incl. Cat A and B) | C10: 400.5 | D10: 9 | E10: 4 | F10: 0.25 | G10: Sophie/Gareth | J10: YES | R10: 0 | S10: 0 | T10: =R10 -> 0 | U10: 1 | V10: 1 | W10: 2 | X10: 0 | Y10: 0 | Z10: 0 | AA10: 0 | AB10: 0 | AC10: 0 | AD10: 0 | AE10: 0 | AF10: 0 | AG10: 0 | AH10: 0 | AI10: 0 | AJ10: 0 | AK10: 0 | AL10: 0 | AM10: 0 | AN10: 0 | AO10: =SUM(Z10:AN10) -> 0 | AP10: =IFERROR(R10/($D10*$E10)/(1-$F10),0) -> 0 | AQ10: =IFERROR(1/U10*24/($D10*$E10)/(1-$F10),0) -> 0.88888889 | AR10: =IFERROR(1/V10*24/($D10*$E10)/(1-$F10),0) -> 0.88888889 | AS10: =IFERROR(1/W10*24/($D10*$E10)/(1-$F10),0) -> 0.44444444 | AT10: =IFERROR(1/X10*24/($D10*$E10)/(1-$F10),0) -> 0 | AU10: =IFERROR(1/Y10*24/($D10*$E10)/(1-$F10),0) -> 0 | AV10: =IFERROR(T10/($D10*$E10)/(1-$F10),0) -> 0 | AW10: =TRUNC(('Surgery Elective'!$AA$5-'Surgery Elective'!$AA$4)*AP10*5,2) -> 0 | AX10: 0 | AY10: =C10 -> 400.5
A11: 4 | B11: RN (Theatre Recovery) | C11: 102.9 | D11: 9.38 | E11: 4 | F11: 0.25 | G11: Sophie/Gareth | J11: YES | K11: YES | R11: 1 | S11: 1 | T11: =R11 -> 1 | U11: 0 | V11: 0 | W11: 0 | X11: 0 | Y11: 0 | Z11: 0 | AA11: 0 | AB11: 0 | AC11: 0 | AD11: 0 | AE11: 0 | AF11: 0 | AG11: 0 | AH11: 0 | AI11: 0 | AJ11: 0 | AK11: 0 | AL11: 0 | AM11: 0 | AN11: 0 | AO11: =SUM(Z11:AN11) -> 0 | AP11: =IFERROR(R11/($D11*$E11)/(1-$F11),0) -> 0.035536603 | AQ11: =IFERROR(1/U11*24/($D11*$E11)/(1-$F11),0) -> 0 | AR11: =IFERROR(1/V11*24/($D11*$E11)/(1-$F11),0) -> 0 | AS11: =IFERROR(1/W11*24/($D11*$E11)/(1-$F11),0) -> 0 | AT11: =IFERROR(1/X11*24/($D11*$E11)/(1-$F11),0) -> 0 | AU11: =IFERROR(1/Y11*24/($D11*$E11)/(1-$F11),0) -> 0 | AV11: =IFERROR(T11/($D11*$E11)/(1-$F11),0) -> 0.035536603 | AW11: =TRUNC(('Surgery Elective'!$AA$5-'Surgery Elective'!$AA$4)*AP11*5,2) -> 1.77 | AX11: 0 | AY11: =C11 -> 102.9
A12: 5 | B12: ODP/AP | C12: 98.1 | D12: 9.38 | E12: 4 | F12: 0.25 | G12: Sophie/Gareth | J12: YES | L12: YES | R12: 1.5 | S12: 1 | T12: =R12 -> 1.5 | U12: 0 | V12: 0 | W12: 0 | X12: 0 | Y12: 0 | Z12: 0 | AA12: 0 | AB12: 2.38 | AC12: 1.19 | AD12: 0 | AE12: 0 | AF12: 0 | AG12: 0 | AH12: 0 | AI12: 0 | AJ12: 0 | AK12: 0 | AL12: 0 | AM12: 0 | AN12: 0 | AO12: =SUM(Z12:AN12) -> 3.57 | AP12: =IFERROR(R12/($D12*$E12)/(1-$F12),0) -> 0.053304904 | AQ12: =IFERROR(1/U12*24/($D12*$E12)/(1-$F12),0) -> 0 | AR12: =IFERROR(1/V12*24/($D12*$E12)/(1-$F12),0) -> 0 | AS12: =IFERROR(1/W12*24/($D12*$E12)/(1-$F12),0) -> 0 | AT12: =IFERROR(1/X12*24/($D12*$E12)/(1-$F12),0) -> 0 | AU12: =IFERROR(1/Y12*24/($D12*$E12)/(1-$F12),0) -> 0 | AV12: =IFERROR(T12/($D12*$E12)/(1-$F12),0) -> 0.053304904 | AW12: =TRUNC(('Surgery Elective'!$AA$5-'Surgery Elective'!$AA$4)*AP12*5,2) -> 2.66 | AX12: 0 | AY12: =C12 -> 98.1
A13: 6 | B13: Scrub Nurse | C13: 217.7 | D13: 9.38 | E13: 4 | F13: 0.25 | G13: Sophie/Gareth | J13: YES | M13: YES | R13: 4 | S13: 2.5 | T13: =R13 -> 4 | U13: 0 | V13: 0 | W13: 0 | X13: 0 | Y13: 0 | Z13: 0 | AA13: 0 | AB13: 0 | AC13: 0 | AD13: 0 | AE13: 0 | AF13: 0 | AG13: 0 | AH13: 0 | AI13: 0 | AJ13: 0 | AK13: 0 | AL13: 0 | AM13: 0 | AN13: 0 | AO13: =SUM(Z13:AN13) -> 0 | AP13: =IFERROR(R13/($D13*$E13)/(1-$F13),0) -> 0.14214641 | AQ13: =IFERROR(1/U13*24/($D13*$E13)/(1-$F13),0) -> 0 | AR13: =IFERROR(1/V13*24/($D13*$E13)/(1-$F13),0) -> 0 | AS13: =IFERROR(1/W13*24/($D13*$E13)/(1-$F13),0) -> 0 | AT13: =IFERROR(1/X13*24/($D13*$E13)/(1-$F13),0) -> 0 | AU13: =IFERROR(1/Y13*24/($D13*$E13)/(1-$F13),0) -> 0 | AV13: =IFERROR(T13/($D13*$E13)/(1-$F13),0) -> 0.14214641 | AW13: =TRUNC(('Surgery Elective'!$AA$5-'Surgery Elective'!$AA$4)*AP13*5,2) -> 7.1 | AX13: 0 | AY13: =C13 -> 217.7
A14: 7 | B14: Nurse-in-Charge | C14: 27.9 | D14: 9.38 | E14: 4 | F14: 0.25 | G14: Sophie/Gareth | J14: Yes | N14: YES | R14: =1/6 -> 0.16666667 | S14: =1/6 -> 0.16666667 | T14: =R14 -> 0.16666667 | U14: 0 | V14: 0 | W14: 0 | X14: 0 | Y14: 0 | Z14: 0 | AA14: 0 | AB14: 0 | AC14: 0 | AD14: 0 | AE14: 0 | AF14: 0 | AG14: 0 | AH14: 0 | AI14: 0 | AJ14: 0 | AK14: 0 | AL14: 0 | AM14: 0 | AN14: 0 | AO14: =SUM(Z14:AN14) -> 0 | AP14: =IFERROR(R14/($D14*$E14)/(1-$F14),0) -> 0.0059227671 | AQ14: =IFERROR(1/U14*24/($D14*$E14)/(1-$F14),0) -> 0 | AR14: =IFERROR(1/V14*24/($D14*$E14)/(1-$F14),0) -> 0 | AS14: =IFERROR(1/W14*24/($D14*$E14)/(1-$F14),0) -> 0 | AT14: =IFERROR(1/X14*24/($D14*$E14)/(1-$F14),0) -> 0 | AU14: =IFERROR(1/Y14*24/($D14*$E14)/(1-$F14),0) -> 0 | AV14: =IFERROR(T14/($D14*$E14)/(1-$F14),0) -> 0.0059227671 | AW14: =TRUNC(('Surgery Elective'!$AA$5-'Surgery Elective'!$AA$4)*AP14*5,2) -> 0.29 | AX14: 0 | AY14: =C14 -> 27.9
A15: 8 | B15: Anaesthetic Trainee | C15: 0 | D15: 0 | E15: 0 | F15: 0.25 | O15: YES | R15: 0 | S15: 0 | T15: =R15 -> 0 | U15: 0 | V15: 0 | W15: 0 | X15: 0 | Y15: 0 | Z15: 0 | AA15: 0 | AB15: 0 | AC15: 0 | AD15: 0 | AE15: 0 | AF15: 0 | AG15: 0 | AH15: 0 | AI15: 0 | AJ15: 0 | AK15: 0 | AL15: 0 | AM15: 0 | AN15: 0 | AO15: =SUM(Z15:AN15) -> 0 | AP15: =IFERROR(R15/($D15*$E15)/(1-$F15),0) -> 0 | AQ15: =IFERROR(1/U15*24/($D15*$E15)/(1-$F15),0) -> 0 | AR15: =IFERROR(1/V15*24/($D15*$E15)/(1-$F15),0) -> 0 | AS15: =IFERROR(1/W15*24/($D15*$E15)/(1-$F15),0) -> 0 | AT15: =IFERROR(1/X15*24/($D15*$E15)/(1-$F15),0) -> 0 | AU15: =IFERROR(1/Y15*24/($D15*$E15)/(1-$F15),0) -> 0 | AV15: =IFERROR(T15/($D15*$E15)/(1-$F15),0) -> 0 | AW15: =TRUNC(('Surgery Elective'!$AA$5-'Surgery Elective'!$AA$4)*AP15*5,2) -> 0 | AX15: 0 | AY15: =C15 -> 0
A16: 9 | B16: Intensivist Junior Doctor | C16: 0 | D16: 0 | E16: 0 | F16: 0.25 | P16: YES | R16: 0 | S16: 0 | T16: =R16 -> 0 | U16: 8 | V16: 8 | W16: 8 | X16: 0 | Y16: 0 | Z16: 0 | AA16: 0 | AB16: 0 | AC16: 0 | AD16: 0 | AE16: 0 | AF16: 0 | AG16: 0 | AH16: 0 | AI16: 0 | AJ16: 0 | AK16: 0 | AL16: 0 | AM16: 0 | AN16: 0 | AO16: =SUM(Z16:AN16) -> 0 | AP16: =IFERROR(R16/($D16*$E16)/(1-$F16),0) -> 0 | AQ16: =IFERROR(1/U16*24/($D16*$E16)/(1-$F16),0) -> 0 | AR16: =IFERROR(1/V16*24/($D16*$E16)/(1-$F16),0) -> 0 | AS16: =IFERROR(1/W16*24/($D16*$E16)/(1-$F16),0) -> 0 | AT16: =IFERROR(1/X16*24/($D16*$E16)/(1-$F16),0) -> 0 | AU16: =IFERROR(1/Y16*24/($D16*$E16)/(1-$F16),0) -> 0 | AV16: =IFERROR(T16/($D16*$E16)/(1-$F16),0) -> 0 | AW16: =TRUNC(('Surgery Elective'!$AA$5-'Surgery Elective'!$AA$4)*AP16*5,2) -> 0 | AX16: 0 | AY16: =C16 -> 0
A17: 10 | B17: RN (General) | C17: 0 | D17: 0 | E17: 0 | F17: 0.25 | Q17: YES | R17: 0 | S17: 0 | T17: =R17 -> 0 | U17: 0 | V17: 0 | W17: 0 | X17: 0 | Y17: 0 | Z17: 0 | AA17: 0 | AB17: 0 | AC17: 0 | AD17: 0 | AE17: 0 | AF17: 0 | AG17: 0 | AH17: 0 | AI17: 0 | AJ17: 0 | AK17: 0 | AL17: 0 | AM17: 0 | AN17: 0 | AO17: =SUM(Z17:AN17) -> 0 | AP17: =IFERROR(R17/($D17*$E17)/(1-$F17),0) -> 0 | AQ17: =IFERROR(1/U17*24/($D17*$E17)/(1-$F17),0) -> 0 | AR17: =IFERROR(1/V17*24/($D17*$E17)/(1-$F17),0) -> 0 | AS17: =IFERROR(1/W17*24/($D17*$E17)/(1-$F17),0) -> 0 | AT17: =IFERROR(1/X17*24/($D17*$E17)/(1-$F17),0) -> 0 | AU17: =IFERROR(1/Y17*24/($D17*$E17)/(1-$F17),0) -> 0 | AV17: =IFERROR(T17/($D17*$E17)/(1-$F17),0) -> 0 | AW17: =TRUNC(('Surgery Elective'!$AA$5-'Surgery Elective'!$AA$4)*AP17*5,2) -> 0 | AX17: 0 | AY17: =C17 -> 0

Sheet Surgery
H1: ICU | I1: Operat | J1: HDU
G2: Operat | H2: 5
G3: Icu | H3: 95
D4: Specialty ID | E4: Distribution of Surgery | F4: Prob ICU | G4: Prob Death ICU | H4: Prob Death GIM | I4: LoS ICU | J4: LoS GIM | K4: Low | L4: High | M4: Low | N4: High | O4: Expression
D5: 1 | E5: 0.05 | F5: 0.05 | G5: 0.05 | H5: 0.01 | I5: 5 | J5: 10 | K5: 0 | L5: =K5+E5 -> 0.05 | M5: =K5*100 -> 0 | N5: =L5*100 -> 5 | O5: ="(Patient_Type>"&M5&"&&Patient_Type<="&N5&")*"&D5&"+" -> (Patient_Type>0&&Patient_Type<=5)*1+ | R5: =_xlfn.CONCAT(O5:O204) -> (Patient_Type>0&&Patient_Type<=5)*1+(Patient_Type>5&&Patient_Type<=15)*2+(Patient_Type>15&&Patient_Type<=15)*3+(Patient_Type>15&&Patient_Type<=25)*4+(Patient_Type>25&&Patient_Type<=30)*5+(Patient_Type>30&&Patient_Type<=40)*6+(Patient_Type>40&&Patient_Type<=60)*7+(Patient_Type>60&&Patient_Type<=90)*8+(Patient_Type>90&&Patient_Type<=90)*9+(Patient_Type>90&&Patient_Type<=90)*10+(Patient_Type>90&&Patient_Type<=90)*11+(Patient_Type>90&&Patient_Type<=90)*12+(Patient_Type>90&&Patient_Type<=90)*13+(Patient_Type>90&&Patient_Type<=90)*14+(Patient_Type>90&&Patient_Type<=90)*15+(Patient_Type>90&&Patient_Type<=90)*16+(Patient_Type>90&&Patient_Type<=90)*17+(Patient_Type>90&&Patient_Type<=90)*18+(Patient_Type>90&&Patient_Type<=90)*19+(Patient_Type>90&&Patient_Type<=90)*20+(Patient_Type>90&&Patient_Type<=90)*21+(Patient_Type>90&&Patient_Type<=90)*22+(Patient_Type>90&&Patient_Type<=90)*23+(Patient_Type>90&&Patient_Type<=90)*24+(Patient_Type>90&&Patient_Type<=90)*25+(Patient_Type>90&&Patient_Type<=90)*26+(Patient_Type>90&&Patient_Type<=90)*27+(Patient_Type>90&&Patient_Type<=90)*28+(Patient_Type>90&&Patient_Type<=90)*29+(Patient_Type>90&&Patient_Type<=90)*30+(Patient_Type>90&&Patient_Type<=90)*31+(Patient_Type>90&&Patient_Type<=90)*32+(Patient_Type>90&&Patient_Type<=90)*33+(Patient_Type>90&&Patient_Type<=90)*34+(Patient_Type>90&&Patient_Type<=90)*35+(Patient_Type>90&&Patient_Type<=90)*36+(Patient_Type>90&&Patient_Type<=90)*37+(Patient_Type>90&&Patient_Type<=90)*38+(Patient_Type>90&&Patient_Type<=90)*39+(Patient_Type>90&&Patient_Type<=90)*40+(Patient_Type>90&&Patient_Type<=90)*41+(Patient_Type>90&&Patient_Type<=90)*42+(Patient_Type>90&&Patient_Type<=90)*43+(Patient_Type>90&&Patient_Type<=90)*44+(Patient_Type>90&&Patient_Type<=90)*45+(Patient_Type>90&&Patient_Type<=90)*46+(Patient_Type>90&&Patient_Type<=90)*47+(Patient_Type>90&&Patient_Type<=90)*48+(Patient_Type>90&&Patient_Type<=90)*49+(Patient_Type>90&&Patient_Type<=90)*50+(Patient_Type>90&&Patient_Type<=90)*51+(Patient_Type>90&&Patient_Type<=90)*52+(Patient_Type>90&&Patient_Type<=90)*53+(Patient_Type>90&&Patient_Type<=90)*54+(Patient_Type>90&&Patient_Type<=90)*55+(Patient_Type>90&&Patient_Type<=90)*56+(Patient_Type>90&&Patient_Type<=90)*57+(Patient_Type>90&&Patient_Type<=90)*58+(Patient_Type>90&&Patient_Type<=90)*59+(Patient_Type>90&&Patient_Type<=90)*60+(Patient_Type>90&&Patient_Type<=90)*61+(Patient_Type>90&&Patient_Type<=90)*62+(Patient_Type>90&&Patient_Type<=90)*63+(Patient_Type>90&&Patient_Type<=90)*64+(Patient_Type>90&&Patient_Type<=90)*65+(Patient_Type>90&&Patient_Type<=90)*66+(Patient_Type>90&&Patient_Type<=90)*67+(Patient_Type>90&&Patient_Type<=90)*68+(Patient_Type>90&&Patient_Type<=90)*69+(Patient_Type>90&&Patient_Type<=90)*70+(Patient_Type>90&&Patient_Type<=90)*71+(Patient_Type>90&&Patient_Type<=90)*72+(Patient_Type>90&&Patient_Type<=90)*73+(Patient_Type>90&&Patient_Type<=90)*74+(Patient_Type>90&&Patient_Type<=90)*75+(Patient_Type>90&&Patient_Type<=90)*76+(Patient_Type>90&&Patient_Type<=90)*77+(Patient_Type>90&&Patient_Type<=90)*78+(Patient_Type>90&&Patient_Type<=90)*79+(Patient_Type>90&&Patient_Type<=90)*80+(Patient_Type>90&&Patient_Type<=90)*81+(Patient_Type>90&&Patient_Type<=90)*82+(Patient_Type>90&&Patient_Type<=90)*83+(Patient_Type>90&&Patient_Type<=90)*84+(Patient_Type>90&&Patient_Type<=90)*85+(Patient_Type>90&&Patient_Type<=90)*86+(Patient_Type>90&&Patient_Type<=90)*87+(Patient_Type>90&&Patient_Type<=90)*88+(Patient_Type>90&&Patient_Type<=90)*89+(Patient_Type>90&&Patient_Type<=90)*90+(Patient_Type>90&&Patient_Type<=90)*91+(Patient_Type>90&&Patient_Type<=90)*92+(Patient_Type>90&&Patient_Type<=90)*93+(Patient_Type>90&&Patient_Type<=90)*94+(Patient_Type>90&&Patient_Type<=90)*95+(Patient_Type>90&&Patient_Type<=90)*96+(Patient_Type>90&&Patient_Type<=90)*97+(Patient_Type>90&&Patient_Type<=90)*98+(Patient_Type>90&&Patient_Type<=90)*99+(Patient_Type>90&&Patient_Type<=90)*100+(Patient_Type>90&&Patient_Type<=90)*101+(Patient_Type>90&&Patient_Type<=90)*102+(Patient_Type>90&&Patient_Type<=90)*103+(Patient_Type>90&&Patient_Type<=90)*104+(Patient_Type>90&&Patient_Type<=90)*105+(Patient_Type>90&&Patient_Type<=90)*106+(Patient_Type>90&&Patient_Type<=90)*107+(Patient_Type>90&&Patient_Type<=90)*108+(Patient_Type>90&&Patient_Type<=90)*109+(Patient_Type>90&&Patient_Type<=90)*110+(Patient_Type>90&&Patient_Type<=90)*111+(Patient_Type>90&&Patient_Type<=90)*112+(Patient_Type>90&&Patient_Type<=90)*113+(Patient_Type>90&&Patient_Type<=90)*114+(Patient_Type>90&&Patient_Type<=90)*115+(Patient_Type>90&&Patient_Type<=90)*116+(Patient_Type>90&&Patient_Type<=90)*117+(Patient_Type>90&&Patient_Type<=90)*118+(Patient_Type>90&&Patient_Type<=90)*119+(Patient_Type>90&&Patient_Type<=90)*120+(Patient_Type>90&&Patient_Type<=90)*121+(Patient_Type>90&&Patient_Type<=90)*122+(Patient_Type>90&&Patient_Type<=90)*123+(Patient_Type>90&&Patient_Type<=90)*124+(Patient_Type>90&&Patient_Type<=90)*125+(Patient_Type>90&&Patient_Type<=90)*126+(Patient_Type>90&&Patient_Type<=90)*127+(Patient_Type>90&&Patient_Type<=90)*128+(Patient_Type>90&&Patient_Type<=90)*129+(Patient_Type>90&&Patient_Type<=90)*130+(Patient_Type>90&&Patient_Type<=90)*131+(Patient_Type>90&&Patient_Type<=90)*132+(Patient_Type>90&&Patient_Type<=90)*133+(Patient_Type>90&&Patient_Type<=90)*134+(Patient_Type>90&&Patient_Type<=90)*135+(Patient_Type>90&&Patient_Type<=90)*136+(Patient_Type>90&&Patient_Type<=90)*137+(Patient_Type>90&&Patient_Type<=90)*138+(Patient_Type>90&&Patient_Type<=90)*139+(Patient_Type>90&&Patient_Type<=90)*140+(Patient_Type>90&&Patient_Type<=90)*141+(Patient_Type>90&&Patient_Type<=90)*142+(Patient_Type>90&&Patient_Type<=90)*143+(Patient_Type>90&&Patient_Type<=90)*144+(Patient_Type>90&&Patient_Type<=90)*145+(Patient_Type>90&&Patient_Type<=90)*146+(Patient_Type>90&&Patient_Type<=90)*147+(Patient_Type>90&&Patient_Type<=90)*148+(Patient_Type>90&&Patient_Type<=90)*149+(Patient_Type>90&&Patient_Type<=90)*150+(Patient_Type>90&&Patient_Type<=90)*151+(Patient_Type>90&&Patient_Type<=90)*152+(Patient_Type>90&&Patient_Type<=90)*153+(Patient_Type>90&&Patient_Type<=90)*154+(Patient_Type>90&&Patient_Type<=90)*155+(Patient_Type>90&&Patient_Type<=90)*156+(Patient_Type>90&&Patient_Type<=90)*157+(Patient_Type>90&&Patient_Type<=90)*158+(Patient_Type>90&&Patient_Type<=90)*159+(Patient_Type>90&&Patient_Type<=90)*160+(Patient_Type>90&&Patient_Type<=90)*161+(Patient_Type>90&&Patient_Type<=90)*162+(Patient_Type>90&&Patient_Type<=90)*163+(Patient_Type>90&&Patient_Type<=90)*164+(Patient_Type>90&&Patient_Type<=90)*165+(Patient_Type>90&&Patient_Type<=90)*166+(Patient_Type>90&&Patient_Type<=90)*167+(Patient_Type>90&&Patient_Type<=90)*168+(Patient_Type>90&&Patient_Type<=90)*169+(Patient_Type>90&&Patient_Type<=90)*170+(Patient_Type>90&&Patient_Type<=90)*171+(Patient_Type>90&&Patient_Type<=90)*172+(Patient_Type>90&&Patient_Type<=90)*173+(Patient_Type>90&&Patient_Type<=90)*174+(Patient_Type>90&&Patient_Type<=90)*175+(Patient_Type>90&&Patient_Type<=90)*176+(Patient_Type>90&&Patient_Type<=90)*177+(Patient_Type>90&&Patient_Type<=90)*178+(Patient_Type>90&&Patient_Type<=90)*179+(Patient_Type>90&&Patient_Type<=90)*180+(Patient_Type>90&&Patient_Type<=90)*181+(Patient_Type>90&&Patient_Type<=90)*182+(Patient_Type>90&&Patient_Type<=90)*183+(Patient_Type>90&&Patient_Type<=90)*184+(Patient_Type>90&&Patient_Type<=90)*185+(Patient_Type>90&&Patient_Type<=90)*186+(Patient_Type>90&&Patient_Type<=90)*187+(Patient_Type>90&&Patient_Type<=90)*188+(Patient_Type>90&&Patient_Type<=90)*189+(Patient_Type>90&&Patient_Type<=90)*190+(Patient_Type>90&&Patient_Type<=90)*191+(Patient_Type>90&&Patient_Type<=90)*192+(Patient_Type>90&&Patient_Type<=90)*193+(Patient_Type>90&&Patient_Type<=90)*194+(Patient_Type>90&&Patient_Type<=90)*195+(Patient_Type>90&&Patient_Type<=100)*196+(Patient_Type>100&&Patient_Type<=100)*197+(Patient_Type>100&&Patient_Type<=100)*198+(Patient_Type>100&&Patient_Type<=100)*199+(Patient_Type>100&&Patient_Type<=100)*200
D6: 2 | E6: 0.1 | F6: 0.05 | G6: 0.05 | H6: 0.01 | I6: 5 | J6: 10 | K6: =L5 -> 0.05 | L6: =K6+E6 -> 0.15 | M6: =K6*100 -> 5 | N6: =L6*100 -> 15 | O6: ="(Patient_Type>"&M6&"&&Patient_Type<="&N6&")*"&D6&"+" -> (Patient_Type>5&&Patient_Type<=15)*2+
D7: 3 | E7: 0 | F7: 0.05 | G7: 0.05 | H7: 0.01 | I7: 5 | J7: 10 | K7: =L6 -> 0.15 | L7: =K7+E7 -> 0.15 | M7: =K7*100 -> 15 | N7: =L7*100 -> 15 | O7: ="(Patient_Type>"&M7&"&&Patient_Type<="&N7&")*"&D7&"+" -> (Patient_Type>15&&Patient_Type<=15)*3+
D8: 4 | E8: 0.1 | F8: 0.05 | G8: 0.05 | H8: 0.01 | I8: 5 | J8: 10 | K8: =L7 -> 0.15 | L8: =K8+E8 -> 0.25 | M8: =K8*100 -> 15 | N8: =L8*100 -> 25 | O8: ="(Patient_Type>"&M8&"&&Patient_Type<="&N8&")*"&D8&"+" -> (Patient_Type>15&&Patient_Type<=25)*4+
D9: 5 | E9: 0.05 | F9: 0.05 | G9: 0.05 | H9: 0.01 | I9: 5 | J9: 10 | K9: =L8 -> 0.25 | L9: =K9+E9 -> 0.3 | M9: =K9*100 -> 25 | N9: =L9*100 -> 30 | O9: ="(Patient_Type>"&M9&"&&Patient_Type<="&N9&")*"&D9&"+" -> (Patient_Type>25&&Patient_Type<=30)*5+
D10: 6 | E10: 0.1 | F10: 0.05 | G10: 0.05 | H10: 0.01 | I10: 5 | J10: 10 | K10: =L9 -> 0.3 | L10: =K10+E10 -> 0.4 | M10: =K10*100 -> 30 | N10: =L10*100 -> 40 | O10: ="(Patient_Type>"&M10&"&&Patient_Type<="&N10&")*"&D10&"+" -> (Patient_Type>30&&Patient_Type<=40)*6+
D11: 7 | E11: 0.2 | F11: 0.05 | G11: 0.05 | H11: 0.01 | I11: 5 | J11: 10 | K11: =L10 -> 0.4 | L11: =K11+E11 -> 0.6 | M11: =K11*100 -> 40 | N11: =L11*100 -> 60 | O11: ="(Patient_Type>"&M11&"&&Patient_Type<="&N11&")*"&D11&"+" -> (Patient_Type>40&&Patient_Type<=60)*7+
D12: 8 | E12: 0.3 | F12: 0.05 | G12: 0.05 | H12: 0.01 | I12: 5 | J12: 10 | K12: =L11 -> 0.6 | L12: =K12+E12 -> 0.9 | M12: =K12*100 -> 60 | N12: =L12*100 -> 90 | O12: ="(Patient_Type>"&M12&"&&Patient_Type<="&N12&")*"&D12&"+" -> (Patient_Type>60&&Patient_Type<=90)*8+
D13: 9 | E13: 0 | F13: 0.05 | G13: 0.05 | H13: 0.01 | I13: 5 | J13: 10 | K13: =L12 -> 0.9 | L13: =K13+E13 -> 0.9 | M13: =K13*100 -> 90 | N13: =L13*100 -> 90 | O13: ="(Patient_Type>"&M13&"&&Patient_Type<="&N13&")*"&D13&"+" -> (Patient_Type>90&&Patient_Type<=90)*9+
D14: 10 | E14: 0 | F14: 0.05 | G14: 0.05 | H14: 0.01 | I14: 5 | J14: 10 | K14: =L13 -> 0.9 | L14: =K14+E14 -> 0.9 | M14: =K14*100 -> 90 | N14: =L14*100 -> 90 | O14: ="(Patient_Type>"&M14&"&&Patient_Type<="&N14&")*"&D14&"+" -> (Patient_Type>90&&Patient_Type<=90)*10+
D15: 11 | E15: 0 | F15: 0.05 | G15: 0.05 | H15: 0.01 | I15: 5 | J15: 10 | K15: =L14 -> 0.9 | L15: =K15+E15 -> 0.9 | M15: =K15*100 -> 90 | N15: =L15*100 -> 90 | O15: ="(Patient_Type>"&M15&"&&Patient_Type<="&N15&")*"&D15&"+" -> (Patient_Type>90&&Patient_Type<=90)*11+
D16: 12 | E16: 0 | F16: 0.05 | G16: 0.05 | H16: 0.01 | I16: 5 | J16: 10 | K16: =L15 -> 0.9 | L16: =K16+E16 -> 0.9 | M16: =K16*100 -> 90 | N16: =L16*100 -> 90 | O16: ="(Patient_Type>"&M16&"&&Patient_Type<="&N16&")*"&D16&"+" -> (Patient_Type>90&&Patient_Type<=90)*12+
D17: 13 | E17: 0 | F17: 0.05 | G17: 0.05 | H17: 0.01 | I17: 5 | J17: 10 | K17: =L16 -> 0.9 | L17: =K17+E17 -> 0.9 | M17: =K17*100 -> 90 | N17: =L17*100 -> 90 | O17: ="(Patient_Type>"&M17&"&&Patient_Type<="&N17&")*"&D17&"+" -> (Patient_Type>90&&Patient_Type<=90)*13+
... D203: 199 | E203: 0 | F203: 0.05 | G203: 0.05 | H203: 0.01 | I203: 5 | J203: 10 | K203: =L202 -> 1 | L203: =K203+E203 -> 1 | M203: =K203*100 -> 100 | N203: =L203*100 -> 100 | O203: ="(Patient_Type>"&M203&"&&Patient_Type<="&N203&")*"&D203&"+" -> (Patient_Type>100&&Patient_Type<=100)*199+
D204: 200 | E204: 0 | F204: 0.05 | G204: 0.05 | H204: 0.01 | I204: 5 | J204: 10 | K204: =L203 -> 1 | L204: =K204+E204 -> 1 | M204: =K204*100 -> 100 | N204: =L204*100 -> 100 | O204: ="(Patient_Type>"&M204&"&&Patient_Type<="&N204&")*"&D204 -> (Patient_Type>100&&Patient_Type<=100)*200

Sheet Surgery Elective
A2: ELECTIVE SURGERY | C2: To | N2: ELECTIVE SURGERY | P2: To (LoS location) | Z2: ATC/MAIN/IS THEATRES
B3: Transfer Probabilities (%) | C3: OR | D3: ICU | E3: OIR | F3: HDU | G3: IDA | H3: GIM | I3: DEATH | J3: DISCHARGE | K3: Other | L3: SUM | O3: LoS (in days) | P3: OR | Q3: ICU | R3: OIR | S3: HDU | T3: IDA | U3: GIM | V3: Death | W3: Discharge | X3: Other | Z3: Week | AA3: Day | AB3: Night | AD3: ELECTIVE | AF3: Theatres (Elective) | AG3: Duration | AH3: Theatres (IS) | AI3: Duration
A4: From | B4: OR | C4: 0.09566835 | D4: 0.69093808 | E4: 3.8161042 | F4: 0.053149083 | G4: 0.29763487 | H4: 91.347329 | I4: 0 | J4: 0.042519267 | K4: 3.6566569 | L4: =SUM(C4:K4) -> 100 | N4: From | O4: OR | P4: 0.14463735 | Q4: 4.4646848 | R4: 1.1311939 | S4: 1.5424306 | T4: 2.3898934 | U4: 0.84734594 | V4: 0 | W4: 0.033072917 | X4: 2.3880905 | Z4: Start time (24h-notation) | AA4: 8 | AB4: 18 | AD4: Between Midnight and night | AE4: Monday | AF4: 0 | AG4: =IF(AND($AB$9>$AB$8,$AB$8>$AA$9),$AA$8,IF(AND($AB$9>$AB$8,$AB$8<$AA$8),$AB$8,IF($AB$9<$AB$8,0,0))) -> 0 | AH4: 0 | AI4: =IF(AND($AB$9>$AB$8,$AB$8>$AA$9),$AA$8,IF(AND($AB$9>$AB$8,$AB$8<$AA$8),$AB$8,IF($AB$9<$AB$8,0,0))) -> 0
B5: ICU | C5: 16.872428 | D5: 3.2921811 | E5: 0 | F5: 0.41152263 | G5: 19.753086 | H5: 50.205761 | I5: 2.4691358 | J5: 4.9382716 | K5: 2.0576132 | L5: =SUM(C5:K5) -> 100 | O5: ICU | P5: 0.11663279 | Q5: 3.2976563 | R5: 0 | S5: 0.93958333 | T5: 3.3352141 | U5: 7.5502334 | V5: 0 | W5: 0 | X5: 1.24375 | Z5: End time (24h-notation) | AA5: 18 | AB5: 8 | AD5: Night (from midnight) | AE5: Monday | AF5: =IF($AB$10=1,"Theatre_Elective_Weekend_Night","0") -> 0 | AG5: =IF(AND($AB$9>$AB$8,$AB$8>$AA$9),0,IF(AND($AB$9>$AB$8,$AB$8<$AA$8),$AB$9-$AB$8,IF($AB$9<$AB$8,$AB$9,0))) -> 8 | AH5: =IF($AB$10=1,"Theatre_IS_Weekend_Night","0") -> 0 | AI5: =IF(AND($AB$9>$AB$8,$AB$8>$AA$9),0,IF(AND($AB$9>$AB$8,$AB$8<$AA$8),$AB$9-$AB$8,IF($AB$9<$AB$8,$AB$9,0))) -> 8
B6: OIR | C6: 1.8382353 | D6: 1.8382353 | E6: 0 | F6: 0.24509804 | G6: 29.289216 | H6: 56.985294 | I6: 0 | J6: 2.8186275 | K6: 6.9852941 | L6: =SUM(C6:K6) -> 100 | O6: OIR | P6: 0.11365741 | Q6: 4.0455556 | R6: 0 | S6: 3.4305556 | T6: 3.1453597 | U6: 5.4647028 | V6: 0 | W6: 0.0058574879 | X6: 6.1870127 | Z6: Open during week? | AA6: 1 | AB6: 0 | AD6: Between night and day | AE6: Monday | AF6: 0 | AG6: =IF(AND($AB$9>$AB$8,$AB$8>$AA$9),0,IF(AND($AB$9>$AB$8,$AB$8<$AA$8),$AA$8-$AB$9,IF($AB$9<$AB$8,$AA$8-$AB$9,0))) -> 0 | AH6: 0 | AI6: =IF(AND($AB$9>$AB$8,$AB$8>$AA$9),0,IF(AND($AB$9>$AB$8,$AB$8<$AA$8),$AA$8-$AB$9,IF($AB$9<$AB$8,$AA$8-$AB$9,0))) -> 0
B7: HDU | C7: 0 | D7: 0 | E7: 0 | F7: 0 | G7: 0 | H7: 81.818182 | I7: 0 | J7: 18.181818 | K7: 0 | L7: =SUM(C7:K7) -> 100 | O7: HDU | P7: 0 | Q7: 0 | R7: 0 | S7: 0 | T7: 0 | U7: 1.9523148 | V7: 0 | W7: 0 | X7: 0 | Z7: Weekend | AA7: Day | AB7: Night | AD7: Day | AE7: Monday | AF7: =IF($AA$6=1,"Theatre_Elective_Week_Day","0") -> Theatre_Elective_Week_Day | AG7: =$AA$5-$AA$4 -> 10 | AH7: =IF($AA$6=1,"Theatre_IS_Week_Day","0") -> Theatre_IS_Week_Day | AI7: =$AA$5-$AA$4 -> 10
B8: IDA | C8: 4.3814433 | D8: 2.8350515 | E8: 0 | F8: 0.25773196 | G8: 0 | H8: 88.402062 | I8: 0 | J8: 1.8041237 | K8: 2.3195876 | L8: =SUM(C8:K8) -> 100 | O8: IDA | P8: 0.1188317 | Q8: 5.4275884 | R8: 0 | S8: 1.0534722 | T8: 0 | U8: 8.0966634 | V8: 0 | W8: 0 | X8: 6.5970679 | Z8: Start time (24h-notation) | AA8: 8 | AB8: 18 | AD8: Between day and night | AE8: Monday | AF8: 0 | AG8: =IF($AB$4>=$AA$5,$AB$4-$AA$5,24-$AA$5+$AB$4) -> 0 | AH8: 0 | AI8: =IF($AB$4>=$AA$5,$AB$4-$AA$5,24-$AA$5+$AB$4) -> 0
B9: GIM | C9: 1.214511 | D9: 0.39957939 | E9: 0.47844374 | F9: 0.042060988 | G9: 0.22607781 | H9: 4.2113565 | I9: 0.042060988 | J9: 92.744479 | K9: 0.64143007 | L9: =SUM(C9:K9) -> 100 | O9: GIM | P9: 0.08907227 | Q9: 3.2932566 | R9: 1.0791285 | S9: 4.2215278 | T9: 3.1603359 | U9: 2.6842697 | V9: 0 | W9: 0.0050856245 | X9: 1.2396972 | Z9: End time (24h-notation) | AA9: 18 | AB9: 8 | AD9: Night | AE9: Monday | AF9: =IF($AB$6=1,"Theatre_Elective_Week_Night","0") -> 0 | AG9: =IF(AND($AB$4<24,$AB$5<$AB$4),24-$AB$4+$AB$5,$AB$5-$AB$4) -> 14 | AH9: =IF($AB$6=1,"Theatre_IS_Week_Night","0") -> 0 | AI9: =IF(AND($AB$4<24,$AB$5<$AB$4),24-$AB$4+$AB$5,$AB$5-$AB$4) -> 14
Z10: Open during weekend? | AA10: 0 | AB10: 0 | AD10: Between night and day | AE10: Tuesday | AF10: 0 | AG10: =IF($AB$5>$AA$4,24-$AB$5+$AA$4,$AA$4-$AB$5) -> 0 | AH10: 0 | AI10: =IF($AB$5>$AA$4,24-$AB$5+$AA$4,$AA$4-$AB$5) -> 0
B11: Station | C11: Index | AD11: Day | AE11: Tuesday | AF11: =IF($AA$6=1,"Theatre_Elective_Week_Day","0") -> Theatre_Elective_Week_Day | AG11: =$AA$5-$AA$4 -> 10 | AH11: =IF($AA$6=1,"Theatre_IS_Week_Day","0") -> Theatre_IS_Week_Day | AI11: =$AA$5-$AA$4 -> 10
B12: OR | C12: 1 | AD12: Between day and night | AE12: Tuesday | AF12: 0 | AG12: =IF($AB$4>=$AA$5,$AB$4-$AA$5,24-$AA$5+$AB$4) -> 0 | AH12: 0 | AI12: =IF($AB$4>=$AA$5,$AB$4-$AA$5,24-$AA$5+$AB$4) -> 0
B13: ICU | C13: 2 | AD13: Night | AE13: Tuesday | AF13: =IF($AB$6=1,"Theatre_Elective_Week_Night","0") -> 0 | AG13: =IF(AND($AB$4<24,$AB$5<$AB$4),24-$AB$4+$AB$5,$AB$5-$AB$4) -> 14 | AH13: =IF($AB$6=1,"Theatre_IS_Week_Night","0") -> 0 | AI13: =IF(AND($AB$4<24,$AB$5<$AB$4),24-$AB$4+$AB$5,$AB$5-$AB$4) -> 14
B14: OIR | C14: 3 | AD14: Between night and day | AE14: Wednesday | AF14: 0 | AG14: =IF($AB$5>$AA$4,24-$AB$5+$AA$4,$AA$4-$AB$5) -> 0 | AH14: 0 | AI14: =IF($AB$5>$AA$4,24-$AB$5+$AA$4,$AA$4-$AB$5) -> 0
B15: HDU | C15: 4 | AD15: Day | AE15: Wednesday | AF15: =IF($AA$6=1,"Theatre_Elective_Week_Day","0") -> Theatre_Elective_Week_Day | AG15: =$AA$5-$AA$4 -> 10 | AH15: =IF($AA$6=1,"Theatre_IS_Week_Day","0") -> Theatre_IS_Week_Day | AI15: =$AA$5-$AA$4 -> 10
B16: IDA | C16: 5 | AD16: Between day and night | AE16: Wednesday | AF16: 0 | AG16: =IF($AB$4>=$AA$5,$AB$4-$AA$5,24-$AA$5+$AB$4) -> 0 | AH16: 0 | AI16: =IF($AB$4>=$AA$5,$AB$4-$AA$5,24-$AA$5+$AB$4) -> 0
B17: GIM | C17: 6 | AD17: Night | AE17: Wednesday | AF17: =IF($AB$6=1,"Theatre_Elective_Week_Night","0") -> 0 | AG17: =IF(AND($AB$4<24,$AB$5<$AB$4),24-$AB$4+$AB$5,$AB$5-$AB$4) -> 14 | AH17: =IF($AB$6=1,"Theatre_IS_Week_Night","0") -> 0 | AI17: =IF(AND($AB$4<24,$AB$5<$AB$4),24-$AB$4+$AB$5,$AB$5-$AB$4) -> 14
B18: Death | C18: 7 | AD18: Between night and day | AE18: Thursday | AF18: 0 | AG18: =IF($AB$5>$AA$4,24-$AB$5+$AA$4,$AA$4-$AB$5) -> 0 | AH18: 0 | AI18: =IF($AB$5>$AA$4,24-$AB$5+$AA$4,$AA$4-$AB$5) -> 0
B19: Discharge | C19: 8 | AD19: Day | AE19: Thursday | AF19: =IF($AA$6=1,"Theatre_Elective_Week_Day","0") -> Theatre_Elective_Week_Day | AG19: =$AA$5-$AA$4 -> 10 | AH19: =IF($AA$6=1,"Theatre_IS_Week_Day","0") -> Theatre_IS_Week_Day | AI19: =$AA$5-$AA$4 -> 10
B20: Other | C20: 9 | AD20: Between day and night | AE20: Thursday | AF20: 0 | AG20: =IF($AB$4>=$AA$5,$AB$4-$AA$5,24-$AA$5+$AB$4) -> 0 | AH20: 0 | AI20: =IF($AB$4>=$AA$5,$AB$4-$AA$5,24-$AA$5+$AB$4) -> 0
AD21: Night | AE21: Thursday | AF21: =IF($AB$6=1,"Theatre_Elective_Week_Night","0") -> 0 | AG21: =IF(AND($AB$4<24,$AB$5<$AB$4),24-$AB$4+$AB$5,$AB$5-$AB$4) -> 14 | AH21: =IF($AB$6=1,"Theatre_IS_Week_Night","0") -> 0 | AI21: =IF(AND($AB$4<24,$AB$5<$AB$4),24-$AB$4+$AB$5,$AB$5-$AB$4) -> 14
B22: Total OR Time per Surgery | C22: (in hours) | AD22: Between night and day | AE22: Friday | AF22: 0 | AG22: =IF($AB$5>$AA$4,24-$AB$5+$AA$4,$AA$4-$AB$5) -> 0 | AH22: 0 | AI22: =IF($AB$5>$AA$4,24-$AB$5+$AA$4,$AA$4-$AB$5) -> 0
B23: Duration of Surgery | C23: UNIF(3.33,5) | AD23: Day | AE23: Friday | AF23: =IF($AA$6=1,"Theatre_Elective_Week_Day","0") -> Theatre_Elective_Week_Day | AG23: =$AA$5-$AA$4 -> 10 | AH23: =IF($AA$6=1,"Theatre_IS_Week_Day","0") -> Theatre_IS_Week_Day | AI23: =$AA$5-$AA$4 -> 10
AD24: Between day and night | AE24: Friday | AF24: 0 | AG24: =IF($AB$4>=$AA$5,$AB$4-$AA$5,24-$AA$5+$AB$4) -> 0 | AH24: 0 | AI24: =IF($AB$4>=$AA$5,$AB$4-$AA$5,24-$AA$5+$AB$4) -> 0
B25: Recovery Time after Surgery | C25: (in hours) | AD25: Night | AE25: Friday | AF25: =IF($AB$6=1,"Theatre_Elective_Week_Night","0") -> 0 | AG25: =IF(AND($AB$4<24,$AB$5<$AB$4),24-$AB$4+$AB$5,$AB$5-$AB$4) -> 14 | AH25: =IF($AB$6=1,"Theatre_IS_Week_Night","0") -> 0 | AI25: =IF(AND($AB$4<24,$AB$5<$AB$4),24-$AB$4+$AB$5,$AB$5-$AB$4) -> 14
B26: Duration of Recovery | C26: UNIF(0.5,1.5) | AD26: Between night and day | AE26: Saturday | AF26: 0 | AG26: =IF($AB$5>$AA$8,24-$AB$5+$AA$8,$AA$8-$AB$5) -> 0 | AH26: 0 | AI26: =IF($AB$5>$AA$8,24-$AB$5+$AA$8,$AA$8-$AB$5) -> 0
AD27: Day | AE27: Saturday | AF27: =IF($AA$10=1,"Theatre_Elective_Weekend_Day","0") -> 0 | AG27: =$AA$9-$AA$8 -> 10 | AH27: =IF($AA$10=1,"Theatre_IS_Weekend_Day","0") -> 0 | AI27: =$AA$9-$AA$8 -> 10
B28: Paediatric Percentage | C28: (in %) | AD28: Between day and night | AE28: Saturday | AF28: 0 | AG28: =IF($AB$8>=$AA$9,$AB$8-$AA$9,24-$AA$9+$AB$8) -> 0 | AH28: 0 | AI28: =IF($AB$8>=$AA$9,$AB$8-$AA$9,24-$AA$9+$AB$8) -> 0
B29: Paediatric Percentage | C29: 19.11 | AD29: Night | AE29: Saturday | AF29: =IF($AB$10=1,"Theatre_Elective_Weekend_Night","0") -> 0 | AG29: =IF(AND($AB$8<24,$AB$9<$AB$8),24-$AB$8+$AB$9,$AB$9-$AB$8) -> 14 | AH29: =IF($AB$10=1,"Theatre_IS_Weekend_Night","0") -> 0 | AI29: =IF(AND($AB$8<24,$AB$9<$AB$8),24-$AB$8+$AB$9,$AB$9-$AB$8) -> 14
AD30: Between night and day | AE30: Sunday | AF30: 0 | AG30: =IF($AB$9>$AA$8,24-$AB$9+$AA$8,$AA$8-$AB$9) -> 0 | AH30: 0 | AI30: =IF($AB$9>$AA$8,24-$AB$9+$AA$8,$AA$8-$AB$9) -> 0
B31: Move Staff Triggers CC | C31: (in %) | AD31: Day | AE31: Sunday | AF31: =IF($AA$10=1,"Theatre_Elective_Weekend_Day","0") -> 0 | AG31: =$AA$9-$AA$8 -> 10 | AH31: =IF($AA$10=1,"Theatre_IS_Weekend_Day","0") -> 0 | AI31: =$AA$9-$AA$8 -> 10
B32: Trigger to move staff to CC | C32: 95 | AD32: Between day and night | AE32: Sunday | AF32: 0 | AG32: =IF(AND($AB$9>$AB$8,$AB$8>$AA$9),$AB$8-$AA$9,IF(AND($AB$9>$AB$8,$AB$8<$AA$8),24-$AA$9,IF($AB$9<$AB$8,$AB$8-$AA$9,0))) -> 0 | AH32: 0 | AI32: =IF(AND($AB$9>$AB$8,$AB$8>$AA$9),$AB$8-$AA$9,IF(AND($AB$9>$AB$8,$AB$8<$AA$8),24-$AA$9,IF($AB$9<$AB$8,$AB$8-$AA$9,0))) -> 0
B33: Trigger to move staff to OR | C33: 94 | AD33: Night (until midnight) | AE33: Sunday | AF33: =IF($AB$10=1,"Theatre_Elective_Weekend_Night","0") -> 0 | AG33: =IF(AND($AB$9>$AB$8,$AB$8>$AA$9),$AB$9-$AB$8,IF(AND($AB$9>$AB$8,$AB$8<$AA$8),0,IF($AB$9<$AB$8,24-$AB$8,0))) -> 6 | AH33: =IF($AB$10=1,"Theatre_IS_Weekend_Night","0") -> 0 | AI33: =IF(AND($AB$9>$AB$8,$AB$8>$AA$9),$AB$9-$AB$8,IF(AND($AB$9>$AB$8,$AB$8<$AA$8),0,IF($AB$9<$AB$8,24-$AB$8,0))) -> 6
B34: Maximum CC Staff Utilization | C34: 110 | AD34: Between Night and Midnight | AE34: Sunday | AF34: 0 | AG34: =IF(AND($AB$9>$AB$8,$AB$8>$AA$9),24-$AB$9,IF(AND($AB$9>$AB$8,$AB$8<$AA$8),0,IF($AB$9<$AB$8,0,0))) -> 0 | AH34: 0 | AI34: =IF(AND($AB$9>$AB$8,$AB$8>$AA$9),24-$AB$9,IF(AND($AB$9>$AB$8,$AB$8<$AA$8),0,IF($AB$9<$AB$8,0,0))) -> 0
AG35: =SUM(AG5:AG33) -> 168 | AH35: =24*7 -> 168 | AI35: =SUM(AI4:AI34) -> 168
B36: Independent Sector | C36: (n. Theatres)
B37: Maximum number of IS theatres | C37: 4

Sheet Surgery Emergency
A2: EMERGENCY SURGERY | C2: To | P2: To (LoS location)
B3: Transfer possibilities (in %) | C3: OR | D3: ICU | E3: OIR | F3: HDU | G3: IDA | H3: GIM | I3: Death | J3: Discharge | K3: Other | L3: SUM | O3: LoS (in days) | P3: OR | Q3: ICU | R3: OIR | S3: HDU | T3: IDA | U3: GIM | V3: Death | W3: Discharge | X3: Other | Z3: Week | AA3: Day | AB3: Night | AD3: ELECTIVE | AF3: Theatres | AG3: Duration | AM3: ='Surgery Elective'!C3 -> OR | AN3: ='Surgery Elective'!D3 -> ICU | AO3: ='Surgery Elective'!E3 -> OIR | AP3: ='Surgery Elective'!F3 -> HDU | AQ3: ='Surgery Elective'!G3 -> IDA | AR3: ='Surgery Elective'!H3 -> GIM | AS3: ='Surgery Elective'!I3 -> DEATH | AT3: ='Surgery Elective'!J3 -> DISCHARGE | AU3: ='Surgery Elective'!K3 -> Other
A4: From | B4: OR | C4: 0.7755859 | D4: 15.04 | E4: 0.40465352 | F4: 1.3657056 | G4: 1.7703591 | H4: 75.501602 | I4: 0.21918732 | J4: =0.016860563142809 -> 0.016860563 | K4: 4.9064239 | L4: =SUM(C4:K4) -> 100.00038 | N4: From | O4: OR | P4: 0.16437274 | Q4: 5.813565 | R4: 1.1615162 | S4: 3.4616341 | T4: 2.1949735 | U4: 4.7826099 | V4: 0 | W4: 0.055555555 | X4: 1.0790808 | Z4: Start time (24h-notation) | AA4: 8 | AB4: 20 | AD4: Between Midnight and night | AE4: Monday | AF4: 0 | AG4: =IF(AND($AB$9>$AB$8,$AB$8>$AA$9),$AA$8,IF(AND($AB$9>$AB$8,$AB$8<$AA$8),$AB$8,IF($AB$9<$AB$8,0,0))) -> 0 | AK4: ELECTIVE | AL4: ='Surgery Elective'!B4 -> OR | AM4: ='Surgery Elective'!C4 -> 0.09566835 | AN4: ='Surgery Elective'!D4 -> 0.69093808 | AO4: ='Surgery Elective'!E4 -> 3.8161042 | AP4: ='Surgery Elective'!F4 -> 0.053149083 | AQ4: ='Surgery Elective'!G4 -> 0.29763487 | AR4: ='Surgery Elective'!H4 -> 91.347329 | AS4: ='Surgery Elective'!I4 -> 0 | ... AU4: ='Surgery Elective'!K4 -> 3.6566569
B5: ICU | C5: 23.328025 | D5: 2.9458599 | E5: 0 | F5: 10.191083 | G5: 9.3949045 | H5: 42.834395 | I5: 6.6878981 | J5: 3.0254777 | K5: 1.5923567 | L5: =SUM(C5:K5) -> 100 | O5: ICU | P5: 0.1240164 | Q5: 3.2846659 | R5: 0 | S5: 6.0675836 | T5: 2.9853872 | U5: 9.3183473 | V5: 0 | W5: 0 | X5: 0.73534722 | Z5: End time (24h-notation) | AA5: 18 | AB5: 8 | AD5: Night (from midnight) | AE5: Monday | AF5: =IF($AB$10=1,"Theatre_Emergency_Weekend_Night","0") -> Theatre_Emergency_Weekend_Night | AG5: =IF(AND($AB$9>$AB$8,$AB$8>$AA$9),0,IF(AND($AB$9>$AB$8,$AB$8<$AA$8),$AB$9-$AB$8,IF($AB$9<$AB$8,$AB$9,0))) -> 8 | AK5: ELECTIVE | AL5: ='Surgery Elective'!B5 -> ICU | AM5: ='Surgery Elective'!C5 -> 16.872428 | AN5: ='Surgery Elective'!D5 -> 3.2921811 | AO5: ='Surgery Elective'!E5 -> 0 | AP5: ='Surgery Elective'!F5 -> 0.41152263 | AQ5: ='Surgery Elective'!G5 -> 19.753086 | AR5: ='Surgery Elective'!H5 -> 50.205761 | AS5: ='Surgery Elective'!I5 -> 2.4691358 | ... AU5: ='Surgery Elective'!K5 -> 2.0576132
B6: OIR | C6: 1.8867925 | D6: 3.7735849 | E6: 0 | F6: 1.8867925 | G6: 15.09434 | H6: 71.698113 | I6: 0 | J6: 1.8867925 | K6: 3.7735849 | L6: =SUM(C6:K6) -> 100 | O6: OIR | P6: 0.070138889 | Q6: 2.6739583 | R6: 0 | S6: 2.6805556 | T6: 3.9980035 | U6: 4.0139803 | V6: 0 | W6: 0 | X6: 6.5649306 | Z6: Open during week? | AA6: 1 | AB6: 1 | AD6: Between night and day | AE6: Monday | AF6: 0 | AG6: =IF(AND($AB$9>$AB$8,$AB$8>$AA$9),0,IF(AND($AB$9>$AB$8,$AB$8<$AA$8),$AA$8-$AB$9,IF($AB$9<$AB$8,$AA$8-$AB$9,0))) -> 0 | AK6: ELECTIVE | AL6: ='Surgery Elective'!B6 -> OIR | AM6: ='Surgery Elective'!C6 -> 1.8382353 | AN6: ='Surgery Elective'!D6 -> 1.8382353 | AO6: ='Surgery Elective'!E6 -> 0 | AP6: ='Surgery Elective'!F6 -> 0.24509804 | AQ6: ='Surgery Elective'!G6 -> 29.289216 | AR6: ='Surgery Elective'!H6 -> 56.985294 | AS6: ='Surgery Elective'!I6 -> 0 | ... AU6: ='Surgery Elective'!K6 -> 6.9852941
B7: HDU | C7: 9.8765432 | D7: 6.4814815 | E7: 0 | F7: 0 | G7: 0 | H7: 82.407407 | I7: 0.61728395 | J7: 0.61728395 | K7: 0 | L7: =SUM(C7:K7) -> 100 | O7: HDU | P7: 0.12992622 | Q7: 4.3680886 | R7: 0 | S7: 0 | T7: 0 | U7: 6.9296348 | V7: 0 | W7: 0 | X7: 0 | Z7: Weekend | AA7: Day | AB7: Night | AD7: Day | AE7: Monday | AF7: =IF($AA$6=1,"Theatre_Emergency_Week_Day","0") -> Theatre_Emergency_Week_Day | AG7: =$AA$5-$AA$4 -> 10 | AK7: ELECTIVE | AL7: ='Surgery Elective'!B7 -> HDU | AM7: ='Surgery Elective'!C7 -> 0 | AN7: ='Surgery Elective'!D7 -> 0 | AO7: ='Surgery Elective'!E7 -> 0 | AP7: ='Surgery Elective'!F7 -> 0 | AQ7: ='Surgery Elective'!G7 -> 0 | AR7: ='Surgery Elective'!H7 -> 81.818182 | AS7: ='Surgery Elective'!I7 -> 0 | ... AU7: ='Surgery Elective'!K7 -> 0
B8: IDA | C8: 9.1176471 | D8: 7.0588235 | E8: 0 | F8: 0.29411765 | G8: 0 | H8: 78.529412 | I8: 1.7647059 | J8: 2.6470588 | K8: 0.58823529 | L8: =SUM(C8:K8) -> 100 | O8: IDA | P8: 0.10378584 | Q8: 4.6597512 | R8: 0 | S8: 0.47013889 | T8: 0 | U8: 8.7534592 | V8: 0 | W8: 0 | X8: 4.3736111 | Z8: Start time (24h-notation) | AA8: 8 | AB8: 20 | AD8: Between day and night | AE8: Monday | AF8: 0 | AG8: =IF($AB$4>=$AA$5,$AB$4-$AA$5,24-$AA$5+$AB$4) -> 2 | AK8: ELECTIVE | AL8: ='Surgery Elective'!B8 -> IDA | AM8: ='Surgery Elective'!C8 -> 4.3814433 | AN8: ='Surgery Elective'!D8 -> 2.8350515 | AO8: ='Surgery Elective'!E8 -> 0 | AP8: ='Surgery Elective'!F8 -> 0.25773196 | AQ8: ='Surgery Elective'!G8 -> 0 | AR8: ='Surgery Elective'!H8 -> 88.402062 | AS8: ='Surgery Elective'!I8 -> 0 | ... AU8: ='Surgery Elective'!K8 -> 2.3195876
B9: GIM | C9: 9.2442147 | D9: 2.8803545 | E9: 0.3323486 | F9: 1.3786312 | G9: 1.3170852 | H9: 29.714426 | I9: 0.86164451 | J9: 53.335795 | K9: 0.93549975 | L9: =SUM(C9:K9) -> 100 | O9: GIM | P9: 0.13232079 | Q9: 3.5421623 | R9: 0.90720165 | S9: 2.7370412 | T9: 2.5688344 | U9: 5.5539731 | V9: 0 | W9: 0.011281477 | X9: 0.41808297 | Z9: End time (24h-notation) | AA9: 18 | AB9: 8 | AD9: Night | AE9: Monday | AF9: =IF($AB$6=1,"Theatre_Emergency_Week_Night","0") -> Theatre_Emergency_Week_Night | AG9: =IF(AND($AB$4<24,$AB$5<$AB$4),24-$AB$4+$AB$5,$AB$5-$AB$4) -> 12 | AK9: ELECTIVE | AL9: ='Surgery Elective'!B9 -> GIM | AM9: ='Surgery Elective'!C9 -> 1.214511 | AN9: ='Surgery Elective'!D9 -> 0.39957939 | AO9: ='Surgery Elective'!E9 -> 0.47844374 | AP9: ='Surgery Elective'!F9 -> 0.042060988 | AQ9: ='Surgery Elective'!G9 -> 0.22607781 | AR9: ='Surgery Elective'!H9 -> 4.2113565 | AS9: ='Surgery Elective'!I9 -> 0.042060988 | ... AU9: ='Surgery Elective'!K9 -> 0.64143007
Z10: Open during weekend? | AA10: 1 | AB10: 1 | AD10: Between night and day | AE10: Tuesday | AF10: 0 | AG10: =IF($AB$5>$AA$4,24-$AB$5+$AA$4,$AA$4-$AB$5) -> 0 | AK10: EMERGENCY | AL10: =B4 -> OR | AM10: =C4 -> 0.7755859 | AN10: =D4 -> 15.04 | AO10: =E4 -> 0.40465352 | AP10: =F4 -> 1.3657056 | AQ10: =G4 -> 1.7703591 | AR10: =H4 -> 75.501602 | AS10: =I4 -> 0.21918732 | ... AU10: =K4 -> 4.9064239
B11: Station | C11: Index | AD11: Day | AE11: Tuesday | AF11: =IF($AA$6=1,"Theatre_Emergency_Week_Day","0") -> Theatre_Emergency_Week_Day | AG11: =$AA$5-$AA$4 -> 10 | AK11: EMERGENCY | AL11: =B5 -> ICU | AM11: =C5 -> 23.328025 | AN11: =D5 -> 2.9458599 | AO11: =E5 -> 0 | AP11: =F5 -> 10.191083 | AQ11: =G5 -> 9.3949045 | AR11: =H5 -> 42.834395 | AS11: =I5 -> 6.6878981 | ... AU11: =K5 -> 1.5923567
B12: OR | C12: 1 | AD12: Between day and night | AE12: Tuesday | AF12: 0 | AG12: =IF($AB$4>=$AA$5,$AB$4-$AA$5,24-$AA$5+$AB$4) -> 2 | AK12: EMERGENCY | AL12: =B6 -> OIR | AM12: =C6 -> 1.8867925 | AN12: =D6 -> 3.7735849 | AO12: =E6 -> 0 | AP12: =F6 -> 1.8867925 | AQ12: =G6 -> 15.09434 | AR12: =H6 -> 71.698113 | AS12: =I6 -> 0 | ... AU12: =K6 -> 3.7735849
B13: ICU | C13: 2 | AD13: Night | AE13: Tuesday | AF13: =IF($AB$6=1,"Theatre_Emergency_Week_Night","0") -> Theatre_Emergency_Week_Night | AG13: =IF(AND($AB$4<24,$AB$5<$AB$4),24-$AB$4+$AB$5,$AB$5-$AB$4) -> 12 | AK13: EMERGENCY | AL13: =B7 -> HDU | AM13: =C7 -> 9.8765432 | AN13: =D7 -> 6.4814815 | AO13: =E7 -> 0 | AP13: =F7 -> 0 | AQ13: =G7 -> 0 | AR13: =H7 -> 82.407407 | AS13: =I7 -> 0.61728395 | ... AU13: =K7 -> 0
B14: OIR | C14: 3 | AD14: Between night and day | AE14: Wednesday | AF14: 0 | AG14: =IF($AB$5>$AA$4,24-$AB$5+$AA$4,$AA$4-$AB$5) -> 0 | AK14: EMERGENCY | AL14: =B8 -> IDA | AM14: =C8 -> 9.1176471 | AN14: =D8 -> 7.0588235 | AO14: =E8 -> 0 | AP14: =F8 -> 0.29411765 | AQ14: =G8 -> 0 | AR14: =H8 -> 78.529412 | AS14: =I8 -> 1.7647059 | ... AU14: =K8 -> 0.58823529
B15: HDU | C15: 4 | AD15: Day | AE15: Wednesday | AF15: =IF($AA$6=1,"Theatre_Emergency_Week_Day","0") -> Theatre_Emergency_Week_Day | AG15: =$AA$5-$AA$4 -> 10 | AK15: EMERGENCY | AL15: =B9 -> GIM | AM15: =C9 -> 9.2442147 | AN15: =D9 -> 2.8803545 | AO15: =E9 -> 0.3323486 | AP15: =F9 -> 1.3786312 | AQ15: =G9 -> 1.3170852 | AR15: =H9 -> 29.714426 | AS15: =I9 -> 0.86164451 | ... AU15: =K9 -> 0.93549975
B16: IDA | C16: 5 | AD16: Between day and night | AE16: Wednesday | AF16: 0 | AG16: =IF($AB$4>=$AA$5,$AB$4-$AA$5,24-$AA$5+$AB$4) -> 2
B17: GIM | C17: 6 | AD17: Night | AE17: Wednesday | AF17: =IF($AB$6=1,"Theatre_Emergency_Week_Night","0") -> Theatre_Emergency_Week_Night | AG17: =IF(AND($AB$4<24,$AB$5<$AB$4),24-$AB$4+$AB$5,$AB$5-$AB$4) -> 12 | AL17: ='Surgery Elective'!O3 -> LoS (in days) | AM17: ='Surgery Elective'!P3 -> OR | AN17: ='Surgery Elective'!Q3 -> ICU | AO17: ='Surgery Elective'!R3 -> OIR | AP17: ='Surgery Elective'!S3 -> HDU | AQ17: ='Surgery Elective'!T3 -> IDA | AR17: ='Surgery Elective'!U3 -> GIM | AS17: ='Surgery Elective'!V3 -> Death | ... AU17: ='Surgery Elective'!X3 -> Other
B18: Death | C18: 7 | AD18: Between night and day | AE18: Thursday | AF18: 0 | AG18: =IF($AB$5>$AA$4,24-$AB$5+$AA$4,$AA$4-$AB$5) -> 0 | AK18: ELECTIVE | AL18: ='Surgery Elective'!O4 -> OR | AM18: ='Surgery Elective'!P4 -> 0.14463735 | AN18: ='Surgery Elective'!Q4 -> 4.4646848 | AO18: ='Surgery Elective'!R4 -> 1.1311939 | AP18: ='Surgery Elective'!S4 -> 1.5424306 | AQ18: ='Surgery Elective'!T4 -> 2.3898934 | AR18: ='Surgery Elective'!U4 -> 0.84734594 | AS18: ='Surgery Elective'!V4 -> 0 | ... AU18: ='Surgery Elective'!X4 -> 2.3880905
B19: Discharge | C19: 8 | AD19: Day | AE19: Thursday | AF19: =IF($AA$6=1,"Theatre_Emergency_Week_Day","0") -> Theatre_Emergency_Week_Day | AG19: =$AA$5-$AA$4 -> 10 | AK19: ELECTIVE | AL19: ='Surgery Elective'!O5 -> ICU | AM19: ='Surgery Elective'!P5 -> 0.11663279 | AN19: ='Surgery Elective'!Q5 -> 3.2976563 | AO19: ='Surgery Elective'!R5 -> 0 | AP19: ='Surgery Elective'!S5 -> 0.93958333 | AQ19: ='Surgery Elective'!T5 -> 3.3352141 | AR19: ='Surgery Elective'!U5 -> 7.5502334 | AS19: ='Surgery Elective'!V5 -> 0 | ... AU19: ='Surgery Elective'!X5 -> 1.24375
B20: Other | C20: 9 | AD20: Between day and night | AE20: Thursday | AF20: 0 | AG20: =IF($AB$4>=$AA$5,$AB$4-$AA$5,24-$AA$5+$AB$4) -> 2 | AK20: ELECTIVE | AL20: ='Surgery Elective'!O6 -> OIR | AM20: ='Surgery Elective'!P6 -> 0.11365741 | AN20: ='Surgery Elective'!Q6 -> 4.0455556 | AO20: ='Surgery Elective'!R6 -> 0 | AP20: ='Surgery Elective'!S6 -> 3.4305556 | AQ20: ='Surgery Elective'!T6 -> 3.1453597 | AR20: ='Surgery Elective'!U6 -> 5.4647028 | AS20: ='Surgery Elective'!V6 -> 0 | ... AU20: ='Surgery Elective'!X6 -> 6.1870127
AD21: Night | AE21: Thursday | AF21: =IF($AB$6=1,"Theatre_Emergency_Week_Night","0") -> Theatre_Emergency_Week_Night | AG21: =IF(AND($AB$4<24,$AB$5<$AB$4),24-$AB$4+$AB$5,$AB$5-$AB$4) -> 12 | AK21: ELECTIVE | AL21: ='Surgery Elective'!O7 -> HDU | AM21: ='Surgery Elective'!P7 -> 0 | AN21: ='Surgery Elective'!Q7 -> 0 | AO21: ='Surgery Elective'!R7 -> 0 | AP21: ='Surgery Elective'!S7 -> 0 | AQ21: ='Surgery Elective'!T7 -> 0 | AR21: ='Surgery Elective'!U7 -> 1.9523148 | AS21: ='Surgery Elective'!V7 -> 0 | ... AU21: ='Surgery Elective'!X7 -> 0
B22: Total OR Time per Surgery | C22: (in hours) | AD22: Between night and day | AE22: Friday | AF22: 0 | AG22: =IF($AB$5>$AA$4,24-$AB$5+$AA$4,$AA$4-$AB$5) -> 0 | AK22: ELECTIVE | AL22: ='Surgery Elective'!O8 -> IDA | AM22: ='Surgery Elective'!P8 -> 0.1188317 | AN22: ='Surgery Elective'!Q8 -> 5.4275884 | AO22: ='Surgery Elective'!R8 -> 0 | AP22: ='Surgery Elective'!S8 -> 1.0534722 | AQ22: ='Surgery Elective'!T8 -> 0 | AR22: ='Surgery Elective'!U8 -> 8.0966634 | AS22: ='Surgery Elective'!V8 -> 0 | ... AU22: ='Surgery Elective'!X8 -> 6.5970679
B23: Duration of Surgery | C23: 10 | AD23: Day | AE23: Friday | AF23: =IF($AA$6=1,"Theatre_Emergency_Week_Day","0") -> Theatre_Emergency_Week_Day | AG23: =$AA$5-$AA$4 -> 10 | AK23: ELECTIVE | AL23: ='Surgery Elective'!O9 -> GIM | AM23: ='Surgery Elective'!P9 -> 0.08907227 | AN23: ='Surgery Elective'!Q9 -> 3.2932566 | AO23: ='Surgery Elective'!R9 -> 1.0791285 | AP23: ='Surgery Elective'!S9 -> 4.2215278 | AQ23: ='Surgery Elective'!T9 -> 3.1603359 | AR23: ='Surgery Elective'!U9 -> 2.6842697 | AS23: ='Surgery Elective'!V9 -> 0 | ... AU23: ='Surgery Elective'!X9 -> 1.2396972
AD24: Between day and night | AE24: Friday | AF24: 0 | AG24: =IF($AB$4>=$AA$5,$AB$4-$AA$5,24-$AA$5+$AB$4) -> 2 | AK24: EMERGENCY | AL24: =O4 -> OR | AM24: =P4 -> 0.16437274 | AN24: =Q4 -> 5.813565 | AO24: =R4 -> 1.1615162 | AP24: =S4 -> 3.4616341 | AQ24: =T4 -> 2.1949735 | AR24: =U4 -> 4.7826099 | AS24: =V4 -> 0 | ... AU24: =X4 -> 1.0790808
B25: Recovery Time after Surgery | C25: (in hours) | AD25: Night | AE25: Friday | AF25: =IF($AB$6=1,"Theatre_Emergency_Week_Night","0") -> Theatre_Emergency_Week_Night | AG25: =IF(AND($AB$4<24,$AB$5<$AB$4),24-$AB$4+$AB$5,$AB$5-$AB$4) -> 12 | AK25: EMERGENCY | AL25: =O5 -> ICU | AM25: =P5 -> 0.1240164 | AN25: =Q5 -> 3.2846659 | AO25: =R5 -> 0 | AP25: =S5 -> 6.0675836 | AQ25: =T5 -> 2.9853872 | AR25: =U5 -> 9.3183473 | AS25: =V5 -> 0 | ... AU25: =X5 -> 0.73534722
B26: Duration of Reoovery | C26: UNIF(0.5,1.5) | AD26: Between night and day | AE26: Saturday | AF26: 0 | AG26: =IF($AB$5>$AA$8,24-$AB$5+$AA$8,$AA$8-$AB$5) -> 0 | AK26: EMERGENCY | AL26: =O6 -> OIR | AM26: =P6 -> 0.070138889 | AN26: =Q6 -> 2.6739583 | AO26: =R6 -> 0 | AP26: =S6 -> 2.6805556 | AQ26: =T6 -> 3.9980035 | AR26: =U6 -> 4.0139803 | AS26: =V6 -> 0 | ... AU26: =X6 -> 6.5649306
AD27: Day | AE27: Saturday | AF27: =IF($AA$10=1,"Theatre_Emergency_Weekend_Day","0") -> Theatre_Emergency_Weekend_Day | AG27: =$AA$9-$AA$8 -> 10 | AK27: EMERGENCY | AL27: =O7 -> HDU | AM27: =P7 -> 0.12992622 | AN27: =Q7 -> 4.3680886 | AO27: =R7 -> 0 | AP27: =S7 -> 0 | AQ27: =T7 -> 0 | AR27: =U7 -> 6.9296348 | AS27: =V7 -> 0 | ... AU27: =X7 -> 0
B28: Paediatric Percentage | C28: (in %) | AD28: Between day and night | AE28: Saturday | AF28: 0 | AG28: =IF($AB$8>=$AA$9,$AB$8-$AA$9,24-$AA$9+$AB$8) -> 2 | AK28: EMERGENCY | AL28: =O8 -> IDA | AM28: =P8 -> 0.10378584 | AN28: =Q8 -> 4.6597512 | AO28: =R8 -> 0 | AP28: =S8 -> 0.47013889 | AQ28: =T8 -> 0 | AR28: =U8 -> 8.7534592 | AS28: =V8 -> 0 | ... AU28: =X8 -> 4.3736111
B29: Paediatric Percentage | C29: 16.5 | AD29: Night | AE29: Saturday | AF29: =IF($AB$10=1,"Theatre_Emergency_Weekend_Night","0") -> Theatre_Emergency_Weekend_Night | AG29: =IF(AND($AB$8<24,$AB$9<$AB$8),24-$AB$8+$AB$9,$AB$9-$AB$8) -> 12 | AK29: EMERGENCY | AL29: =O9 -> GIM | AM29: =P9 -> 0.13232079 | AN29: =Q9 -> 3.5421623 | AO29: =R9 -> 0.90720165 | AP29: =S9 -> 2.7370412 | AQ29: =T9 -> 2.5688344 | AR29: =U9 -> 5.5539731 | AS29: =V9 -> 0 | ... AU29: =X9 -> 0.41808297
AD30: Between night and day | AE30: Sunday | AF30: 0 | AG30: =IF($AB$9>$AA$8,24-$AB$9+$AA$8,$AA$8-$AB$9) -> 0
AD31: Day | AE31: Sunday | AF31: =IF($AA$10=1,"Theatre_Emergency_Weekend_Day","0") -> Theatre_Emergency_Weekend_Day | AG31: =$AA$9-$AA$8 -> 10
AD32: Between day and night | AE32: Sunday | AF32: 0 | AG32: =IF(AND($AB$9>$AB$8,$AB$8>$AA$9),$AB$8-$AA$9,IF(AND($AB$9>$AB$8,$AB$8<$AA$8),24-$AA$9,IF($AB$9<$AB$8,$AB$8-$AA$9,0))) -> 2 | AH32: =24*7 -> 168
AD33: Night (until midnight) | AE33: Sunday | AF33: =IF($AB$10=1,"Theatre_Emergency_Weekend_Night","0") -> Theatre_Emergency_Weekend_Night | AG33: =IF(AND($AB$9>$AB$8,$AB$8>$AA$9),$AB$9-$AB$8,IF(AND($AB$9>$AB$8,$AB$8<$AA$8),0,IF($AB$9<$AB$8,24-$AB$8,0))) -> 4
AD34: Between Night and Midnight | AE34: Sunday | AF34: 0 | AG34: =IF(AND($AB$9>$AB$8,$AB$8>$AA$9),24-$AB$9,IF(AND($AB$9>$AB$8,$AB$8<$AA$8),0,IF($AB$9<$AB$8,0,0))) -> 0 | AH34: =SUM(AG4:AG34) -> 168
