Workbook

Sheet Summary
B1: (assuming 8 bioreactors in tandem operation)
B2: Capital Cost per Bioreactor | C2: Orientation of Vessel
C3: H* Horizontal | D3: V** Vertical
A5: Mode of Operation | B5: LA Labview-based Automatic (Florez et. al. 2016) | C5: N/A | D5: =I25 -> 117.97609
B6: McA MicroController-based Automatic | C6: =I27 -> 53.026233 | D6: N/A
B7: M Manual | C7: =I29 -> 27.801375 | D7: N/A
A9: Single Hy-TIB Vessel | B9: Vertical | C9: Vertical w/ Syringe Port | D9: Horizontal | E9: Horizontal w/ Syringe Port
A10: Reactor Parts | B10: ='V TIB vessel'!K22 -> 41.914842 | C10: ='V TIB vessel'!K23 -> 43.174842 | D10: ='H TIB vessel'!K21 -> 24.964983 | E10: ='H TIB vessel'!K22 -> 26.224983
A11: Reactor Consumables | B11: ='V TIB vessel'!L22 -> 0.7261 | C11: ='V TIB vessel'!L23 -> 1.3886 | D11: ='H TIB vessel'!L21 -> 1.0291 | E11: ='H TIB vessel'!L22 -> 1.6916
A12: Total (Parts + Consumables) | B12: =sum(B10:B11) -> 42.640942 | C12: =sum(C10:C11) -> 44.563442 | D12: =sum(D10:D11) -> 25.994083 | E12: =sum(E10:E11) -> 27.916583
A13: NOT accounted for | B13: Heat Sealer | C13: Heat Sealer | D13: Heat Sealer, Epoxy | E13: Heat Sealer, Epoxy
B14: # REACTORS
A15: Mode of Operation Infrastructure | B15: 1 | C15: 2 | D15: 3 | E15: 4 | F15: 5 | G15: 6 | H15: 7 | I15: 8
A16: =F33 -> 608.48999 | B16: =$B$10*B$15 -> 41.914842 | C16: =$B$10*C$15 -> 83.829683 | D16: =$B$10*D$15 -> 125.74452 | E16: =$B$10*E$15 -> 167.65937 | F16: =$B$10*F$15 -> 209.57421 | G16: =$B$10*G$15 -> 251.48905 | H16: =$B$10*H$15 -> 293.40389 | I16: =$B$10*I$15 -> 335.31873
A17: =F33 -> 608.48999 | B17: =$C$10*B$15 -> 43.174842 | C17: =$C$10*C$15 -> 86.349683 | D17: =$C$10*D$15 -> 129.52453 | E17: =$C$10*E$15 -> 172.69937 | F17: =$C$10*F$15 -> 215.87421 | G17: =$C$10*G$15 -> 259.04905 | H17: =$C$10*H$15 -> 302.22389 | I17: =$C$10*I$15 -> 345.39873
A18: =G33 -> 224.48999 | B18: =$D$10*B$15 -> 24.964983 | C18: =$D$10*C$15 -> 49.929967 | D18: =$D$10*D$15 -> 74.89495 | E18: =$D$10*E$15 -> 99.859933 | F18: =$D$10*F$15 -> 124.82492 | G18: =$D$10*G$15 -> 149.7899 | H18: =$D$10*H$15 -> 174.75488 | I18: =$D$10*I$15 -> 199.71987
A19: =G33 -> 224.48999 | B19: =$E$10*B$15 -> 26.224983 | C19: =$E$10*C$15 -> 52.449967 | D19: =$E$10*D$15 -> 78.67495 | E19: =$E$10*E$15 -> 104.89993 | F19: =$E$10*F$15 -> 131.12492 | G19: =$E$10*G$15 -> 157.3499 | H19: =$E$10*H$15 -> 183.57488 | I19: =$E$10*I$15 -> 209.79987
A20: =H33 -> 22.691133 | B20: =$D$10*B$15 -> 24.964983 | C20: =$D$10*C$15 -> 49.929967 | D20: =$D$10*D$15 -> 74.89495 | E20: =$D$10*E$15 -> 99.859933 | F20: =$D$10*F$15 -> 124.82492 | G20: =$D$10*G$15 -> 149.7899 | H20: =$D$10*H$15 -> 174.75488 | I20: =$D$10*I$15 -> 199.71987
A21: =H33 -> 22.691133 | B21: =$E$10*B$15 -> 26.224983 | C21: =$E$10*C$15 -> 52.449967 | D21: =$E$10*D$15 -> 78.67495 | E21: =$E$10*E$15 -> 104.89993 | F21: =$E$10*F$15 -> 131.12492 | G21: =$E$10*G$15 -> 157.3499 | H21: =$E$10*H$15 -> 183.57488 | I21: =$E$10*I$15 -> 209.79987
B23: FOR # REACTORS
A24: AVG. CAPITAL COSTS PER REACTOR | B24: 1 | C24: 2 | D24: 3 | E24: 4 | F24: 5 | G24: 6 | H24: 7 | I24: 8 | J24: NOT accounted for
A25: Auto Vertical | B25: =(sum($A$16)+B16)/B$15 -> 650.40484 | C25: =(sum($A$16)+C16)/C$15 -> 346.15984 | D25: =(sum($A$16)+D16)/D$15 -> 244.74484 | E25: =(sum($A$16)+E16)/E$15 -> 194.03734 | F25: =(sum($A$16)+F16)/F$15 -> 163.61284 | G25: =(sum($A$16)+G16)/G$15 -> 143.32984 | H25: =(sum($A$16)+H16)/H$15 -> 128.84198 | I25: =(sum($A$16)+I16)/I$15 -> 117.97609 | J25: Computer (to operate LabView), Heat Sealer, Compressor
A26: Auto Vertical w/ Syringe Port | B26: =(sum($A$17)+B17)/B$15 -> 651.66484 | C26: =(sum($A$17)+C17)/C$15 -> 347.41984 | D26: =(sum($A$17)+D17)/D$15 -> 246.00484 | E26: =(sum($A$17)+E17)/E$15 -> 195.29734 | F26: =(sum($A$17)+F17)/F$15 -> 164.87284 | G26: =(sum($A$17)+G17)/G$15 -> 144.58984 | H26: =(sum($A$17)+H17)/H$15 -> 130.10198 | I26: =(sum($A$17)+I17)/I$15 -> 119.23609 | J26: Computer (to operate LabView), Heat Sealer, Compressor
A27: Microcontroller Horizontal | B27: =(sum($A$18)+B18)/B$15 -> 249.45498 | C27: =(sum($A$18)+C18)/C$15 -> 137.20998 | D27: =(sum($A$18)+D18)/D$15 -> 99.794981 | E27: =(sum($A$18)+E18)/E$15 -> 81.087482 | F27: =(sum($A$18)+F18)/F$15 -> 69.862982 | G27: =(sum($A$18)+G18)/G$15 -> 62.379982 | H27: =(sum($A$18)+H18)/H$15 -> 57.034983 | I27: =(sum($A$18)+I18)/I$15 -> 53.026233 | J27: Computer (to program uController), Heat Sealer, Compressor
A28: Microcontroller with Syringe Port | B28: =(sum($A$19)+B19)/B$15 -> 250.71498 | C28: =(sum($A$19)+C19)/C$15 -> 138.46998 | D28: =(sum($A$19)+D19)/D$15 -> 101.05498 | E28: =(sum($A$19)+E19)/E$15 -> 82.347482 | F28: =(sum($A$19)+F19)/F$15 -> 71.122982 | G28: =(sum($A$19)+G19)/G$15 -> 63.639982 | H28: =(sum($A$19)+H19)/H$15 -> 58.294983 | I28: =(sum($A$19)+I19)/I$15 -> 54.286233 | J28: Computer (to program uController), Heat Sealer, Compressor
A29: Manual Horizontal | B29: =(sum($A$20)+B20)/B$15 -> 47.656117 | C29: =(sum($A$20)+C20)/C$15 -> 36.31055 | D29: =(sum($A$20)+D20)/D$15 -> 32.528694 | E29: =(sum($A$20)+E20)/E$15 -> 30.637767 | F29: =(sum($A$20)+F20)/F$15 -> 29.50321 | G29: =(sum($A$20)+G20)/G$15 -> 28.746839 | H29: =(sum($A$20)+H20)/H$15 -> 28.206574 | I29: =(sum($A$20)+I20)/I$15 -> 27.801375 | J29: Heat Sealer, Epoxy, Compressor, Tiered shelf for Reservoir
A30: Manual Horizontal with Syringe Port | B30: =(sum($A$21)+B21)/B$15 -> 48.916117 | C30: =(sum($A$21)+C21)/C$15 -> 37.57055 | D30: =(sum($A$21)+D21)/D$15 -> 33.788694 | E30: =(sum($A$21)+E21)/E$15 -> 31.897767 | F30: =(sum($A$21)+F21)/F$15 -> 30.76321 | G30: =(sum($A$21)+G21)/G$15 -> 30.006839 | H30: =(sum($A$21)+H21)/H$15 -> 29.466574 | I30: =(sum($A$21)+I21)/I$15 -> 29.061375 | J30: Heat Sealer, Epoxy, Compressor, Tiered shelf for reservoir
A32: Consumables Costs | B32: $ | C32: NOT accounted for | F32: Auto | G32: Microcontroller | H32: Manual
A33: Vertical Hy-TIB Vessel | B33: =$B$11 -> 0.7261 | C33: Compressed Gas (Rental) | E33: Mode of Operation | F33: ='LA Reservoir'!K18 -> 608.48999 | G33: ='Mc Reservoir'!K17 -> 224.48999 | H33: ='M Reservoir'!L6 -> 22.691133
A34: Vertical Hy-TIB Vesselw/ Syringe Port | B34: =$C$11 -> 1.3886 | C34: Compressed Gas (Rental) | E34: NOT accounted for | F34: Computer (to operate Labview) | G34: Computer (to program microcontroller) | H34: Scrap / found / common materials for shelving | J34: ...
A35: Horizontal Hy-TIB Vessel | B35: =$D$11 -> 1.0291 | C35: Compressed Gas (Rental) | F35: (In) Common Infrastructure | G35: NOT accounted for
A36: Horizontal Hy-TIB Vessel with Syringe Port | B36: =$E$11 -> 1.6916 | C36: Compressed Gas (Rental) | E36: Gas Delivery | F36: ='Gas Delivery'!L10 -> 210.522 | G36: Compressed Gas Rental
E37: Humidification Train | F37: ='Humidification Train'!K14 -> 145.71586 | G37: DI Water
E38: TOTAL | F38: =sum(F36:F37) -> 356.23786

Sheet Gas Delivery
B1: Vendor | C1: Specifications | D1: Item # | E1: Link | F1: Unit Price ($) | G1: Unit | H1: Unit Metric | I1: Units/setup (8 reactors) | K1: Vendor
A2: GAS DELIVERY | J2: GAS DELIVERY
A3: Mini needle valve | B3: McMaster-Carr | C3: 1/8" NPT to 1/8" push-fit | D3: 2273K31 | E3: http://www.mcmaster.com/#air-flow-control-valves/=ikpnjp | F3: 17.18 | G3: 1 | H3: # | I3: 1 | J3: Mini needle valve | K3: McMaster-Carr | L3: =F3*(I3/G3) -> 17.18
A4: In-line pressure regulator | B4: McMaster-Carr | C4: NPT Threads | D4: 3823T312 | E4: http://www.mcmaster.com/#pressure-regulating-valves/=ijq89u | F4: 91.48 | G4: 2 | H4: # | I4: 1 | J4: In-line pressure regulator | K4: McMaster-Carr | L4: =F4*(I4/G4) -> 45.74
A5: Tee fitting for manometer | B5: US Plastic | C5: PP Tee 1/8" | D5: 61209 | E5: http://www.usplastic.com/catalog/item.aspx?itemid=23015&catid=603 | F5: 1.39 | G5: 1 | H5: # | I5: 1 | J5: Tee fitting for manometer | K5: US Plastic | L5: =F5*(I5/G5) -> 1.39
A6: Gas manifold | B6: McMaster-Carr | C6: Aluminum standard | D6: 5469K31 | E6: http://www.mcmaster.com/#tube-fitting-manifolds/=ijqcvx | F6: 23.22 | G6: 1 | H6: # | I6: 1 | J6: Gas manifold | K6: McMaster-Carr | L6: =F6*(I6/G6) -> 23.22
A7: Luer fittings | B7: McMaster-Carr | C7: Threaded, male 1/4" | D7: 51465K155 | E7: http://www.mcmaster.com/#quick-disconnect-luer-lock-tube-couplings/=ijqf3o | F7: 9.2 | G7: 1 | H7: # | I7: 8 | J7: Luer fittings | K7: McMaster-Carr | L7: =F7*(I7/G7) -> 73.6
A8: Heating pad | B8: McMaster-Carr | C8: 1"x2" adhesive backed | D8: 7945T62 | E8: http://www.mcmaster.com/#heat-blankets/=ijwez3 | F8: 39.96 | G8: 1 | H8: # | I8: 1 | J8: Heating pad | K8: McMaster-Carr | L8: =F8*(I8/G8) -> 39.96
A9: Power supply - heating pad | B9: DigiKey | C9: 15V, 0.4A (must be 15V or less) | D9: T985-P5P-ND | E9: http://www.digikey.com/scripts/DkSearch/dksus.dll?WT.z_header=search_go&lang=en&keywords=t985-p5p-nd&x=0&y=0&cur=USD | F9: 47.16 | G9: 5 | H9: # | I9: 1 | J9: Power supply - heating pad | K9: DigiKey | L9: =F9*(I9/G9) -> 9.432
K10: TOTAL (to support 8 reactors) | L10: =sum(L3:L9) -> 210.522
L12: =sum(L6:L7) -> 96.82
L13: =L12/L10 -> 0.45990443

Sheet Humidification Train
B1: Vendor | C1: Specifications | D1: Item # | E1: Link | F1: Unit Price ($) | G1: Unit | H1: Unit Metric | I1: Units/setup (8 reactors) | J1: Vendor
A2: HUMIDIFCATION TRAIN
A3: PP Sheeting | B3: US Plastic | C3: 0.25" x 24" x 48"; ea.: 0.25" x 3" x 15" | D3: 42622 | E3: http://www.usplastic.com/catalog/item.aspx?itemid=23308&catid=711 | F3: 97.08 | G3: 1 | H3: 12" x 48" sheet | I3: =1/8 -> 0.125 | J3: US Plastic | K3: =F3*(I3/G3) -> 12.135
A4: Aluminum corner bar | B4: McMaster-Carr | C4: 1/2" by 1", 1/8" thick | D4: 8982K911 | E4: http://www.mcmaster.com/#aluminum-angles/=ijr9zc | F4: 6.1 | G4: 48 | H4: inches | I4: 15 | J4: McMaster-Carr | K4: =F4*(I4/G4) -> 1.90625
A5: Spargers | B5: Won brothers | C5: Model # DY105D; 1" | D5: 14514 | E5: http://wonbrothers.us/ball-type-ceramic-air-stone-2-1-6-1-3-1-0-6-ball-type-ceramic-air-stones.html | F5: 2.95 | G5: 1 | H5: # | I5: 3 | J5: Won brothers | K5: =F5*(I5/G5) -> 8.85
A6: Sidearm Tubing | B6: US Plastic | C6: 3/8" ID vinyl tubing | D6: 57687 | E6: http://www.usplastic.com/catalog/item.aspx?sku=57687 | F6: 24.35 | G6: 100 | H6: ft. | I6: 1 | J6: US Plastic | K6: =F6*(I6/G6) -> 0.2435
A7: Aquarium tubing | B7: McMaster-Carr | C7: 1/4" OD x 1/8" ID clear tygon | D7: 6516T14 | E7: http://www.mcmaster.com/#standard-vinyl-tubing/=12x3sls | F7: 8.4 | G7: 10 | H7: ft. | I7: 6 | J7: McMaster-Carr | K7: =F7*(I7/G7) -> 5.04
A8: Stoppers | B8: Fisher Science | C8: #6 black rubber stopper with one 30 mm (0.096") hole | D8: 7S50081H | E8: http://www.fishersci.com/itemdetail?catnum=S50081H | F8: 66.42 | G8: 5 | H8: # | I8: 4 | J8: Fisher Science | K8: =F8*(I8/G8) -> 53.136
A9: Connectors | B9: US Plastic | C9: 3/8" to 1/8" ID nylon reduction coupler | D9: 65945 | E9: http://www.usplastic.com/catalog/item.aspx?itemid=117471&catid=551 | F9: 51.3 | G9: 100 | H9: # | I9: 4 | J9: US Plastic | K9: =F9*(I9/G9) -> 2.052
A10: Machine Screws & Nuts | B10: Hillman | C10: #8 machine screws with nuts | D10: 35203 | E10: http://www.lowes.com/pd/The-Hillman-Group-50-Count-8-32-x-2-in-Round-Head-Standard-SAE-Machine-Screws/3037605 | F10: 5.58 | G10: 50 | H10: # | I10: 8 | J10: Hillman | K10: =F10*(I10/G10) -> 0.8928
A11: Washers | B11: Hillman | C11: #8 zinc flat washers | D11: 591343 | E11: http://www.homedepot.com/p/Everbilt-8-Zinc-Plated-Flat-Washer-100-per-Pack-800432/204276376 | F11: 4.24 | G11: 100 | H11: # | I11: 8 | J11: Hillman | K11: =F11*(I11/G11) -> 0.3392
A12: Sidearm Flask | B12: Pyrex | C12: Pyrex 250mL filtering narrow-mouth sidearm flask | D12: 5340-250 | E12: http://www.fishersci.com/itemdetail?catnum=10180D | F12: 249.35 | G12: 18 | H12: # | I12: 4 | J12: Pyrex | K12: =F12*(I12/G12) -> 55.411111
A13: Aluminum U-Channel | B13: McMaster-Carr | C13: 3/4" by 1.5", 1/16" thick | D13: 1668T11 | E13: http://www.mcmaster.com/#aluminum-t-bars/=ijracf | F13: 11.42 | G13: 8 | H13: ft. | I13: 43998 | J13: 4 | K13: =(J13/G13)*F13 -> 5.71
J14: TOTAL | K14: =sum(K3:K13) -> 145.71586
J16: Is humidification train 24" x 3"?

Sheet LA Reservoir
B1: Vendor | C1: Specifications | D1: Item # | E1: Link | F1: Unit Price ($) | G1: Unit | H1: Unit Metric | I1: Date | J1: Quantity
A2: Stepper motor driver | B2: Hobby Engineering | C2: Unipolar stepper motor driver kit | D2: 12591 | E2: http://www.hobbyengineering.com/H1259.html | F2: 15.46 | G2: 1 | H2: ea. | J2: 1 | K2: =(J2/G2)*F2 -> 15.46
A3: Stepper motor | B3: Anaheim Automation | C3: 262 oz-in torque | D3: 23Y204S-LW8 | E3: http://www.anaheimautomation.com/products/stepper/stepper-motors.php?tID=75&pt=t&cID=19 | F3: 98 | G3: 1 | H3: ea. | I3: 43998 | J3: 1 | K3: =(J3/G3)*F3 -> 98
A4: Power supply - driver | B4: Amazon.com | C4: 9V, 1A (must be 9-12V) | D4: VCT VX-79NP | E4: http://www.amazon.com/VCT-VX-79NP-Multi-purpose-Universal-Converter/dp/B0014JUGTQ/ref=sr_1_2?s=electronics&ie=UTF8&qid=1343238573&sr=1-2&keywords=variable+voltage+power+supply+1000mA | F4: 19.95 | G4: 1 | H4: ea. | I4: 43998 | J4: 1 | K4: =(J4/G4)*F4 -> 19.95
A5: Power supply - motor | B5: DigiKey | C5: 3.3V, 2A (must be >1.5A) | D5: 62-1129-ND | E5: http://www.digikey.com/product-detail/en/KTPS10-03320WA/62-1129-ND/2506961 | F5: 11.77 | G5: 1 | H5: ea. | I5: 42202 | J5: 1 | K5: =(J5/G5)*F5 -> 11.77
A6: U-bolt | B6: McMaster-Carr | C6: 3/4" wide | D6: 3043T11 | E6: http://www.mcmaster.com/#u-bolts/=ijrclg | F6: 2.9 | G6: 5 | H6: per pack | J6: 2 | K6: =(J6/G6)*F6 -> 1.16
A7: chain
A8: computer
A9: LabView subscription | D9: 784503-35 | F9: 407 | K9: 407
A11: Media Reservoir
A12: PP Sheeting | B12: US Plastic | C12: 1/4" thickness | D12: 42622 | E12: https://www.usplastic.com/catalog/item.aspx?itemid=31697 | F12: 105.88 | G12: 1 | H12: 24" x 48" sheet | I12: 43998 | J12: =1/9 -> 0.11111111 | K12: =(J12/G12)*F12 -> 11.764444
A13: Aluminum corner / T-bar | B13: McMaster-Carr | C13: 1/2" by 1", 1/8" thick | D13: 8982K911 | E13: http://www.mcmaster.com/#aluminum-angles/=ijr9zc | F13: 6.83 | G13: 4 | H13: ft. | I13: 43998 | J13: 2 | K13: =(J13/G13)*F13 -> 3.415
A14: Media bottles (Pack of 10) | B14: VWR | C14: 250 ml glass bottle | D14: 89000-236 | E14: https://us.vwr.com/store/catalog/product.jsp?catalog_number=89012-126 | F14: 166.24 | G14: 10 | H14: per pack | I14: 43998 | J14: 1 | K14: =(J14/G14)*F14 -> 16.624
A15: Silicone stoppers | B15: VWR | C15: #6 fits in media bottles | D15: 59590-222 | E15: https://us.vwr.com/store/catalog/product.jsp?catalog_number=59590-222 | F15: 46.38 | G15: 12 | H15: # | I15: 43998 | J15: 1 | K15: =(J15/G15)*F15 -> 3.865
A16: SS tubing for media bottles | B16: Grainger | C16: 3/16"OD, 0.118" ID | D16: 3ACT3 | E16: https://www.grainger.com/product/GRAINGER-APPROVED-6-ft-Seamless-304-Stainless-3ACT3?s_pp=false&picUrl=//static.grainger.com/rp/s/is/image/Grainger/3ACR6_AS01?$smthumb$ | F16: 31.5 | G16: 72 | H16: inches | I16: 43998 | J16: 16.5 | K16: =(J16/G16)*F16 -> 7.21875
A17: Reservoir tubing | B17: VWR | C17: 1/8" ID; 1/4" OD | D17: 89068-474 | E17: https://us.vwr.com/store/catalog/product.jsp?catalog_number=89068-474 | F17: 102.19 | G17: 50 | H17: feet | I17: 43998 | J17: 6 | K17: =(J17/G17)*F17 -> 12.2628
J18: TOTAL | K18: =sum(K2:K17) -> 608.48999

Sheet Mc Reservoir
B1: Vendor | C1: Specifications | D1: Item # | E1: Link | F1: Unit Price ($) | G1: Unit | H1: Unit Metric | I1: Date | J1: Quantity
A2: Stepper motor driver | B2: Hobby Engineering | C2: Unipolar stepper motor driver kit | D2: 12591 | E2: http://www.hobbyengineering.com/H1259.html | F2: 15.46 | G2: 1 | H2: ea. | J2: 1 | K2: =(J2/G2)*F2 -> 15.46
A3: Stepper motor | B3: Anaheim Automation | C3: 262 oz-in torque | D3: 23Y204S-LW8 | E3: http://www.anaheimautomation.com/products/stepper/stepper-motors.php?tID=75&pt=t&cID=19 | F3: 98 | G3: 1 | H3: ea. | I3: 43998 | J3: 1 | K3: =(J3/G3)*F3 -> 98
A4: Power supply - driver | B4: Amazon.com | C4: 9V, 1A (must be 9-12V) | D4: VCT VX-79NP | E4: http://www.amazon.com/VCT-VX-79NP-Multi-purpose-Universal-Converter/dp/B0014JUGTQ/ref=sr_1_2?s=electronics&ie=UTF8&qid=1343238573&sr=1-2&keywords=variable+voltage+power+supply+1000mA | F4: 19.95 | G4: 1 | H4: ea. | I4: 43998 | J4: 1 | K4: =(J4/G4)*F4 -> 19.95
A5: Power supply - motor | B5: DigiKey | C5: 3.3V, 2A (must be >1.5A) | D5: 62-1129-ND | E5: http://www.digikey.com/product-detail/en/KTPS10-03320WA/62-1129-ND/2506961 | F5: 11.77 | G5: 1 | H5: ea. | I5: 42202 | J5: 1 | K5: =(J5/G5)*F5 -> 11.77
A6: U-bolt | B6: McMaster-Carr | C6: 3/4" wide | D6: 3043T11 | E6: http://www.mcmaster.com/#u-bolts/=ijrclg | F6: 2.9 | G6: 5 | H6: per pack | J6: 2 | K6: =(J6/G6)*F6 -> 1.16
A7: chain
A8: Arduino Uno | B8: Arduino | C8: Uno Rev2 | D8: A000066 | E8: https://store.arduino.cc/usa/arduino-uno-rev3 | F8: 23 | G8: 1 | H8: ea. | I8: 43998 | J8: 1 | K8: =(J8/G8)*F8 -> 23
A10: Media Reservoir
A11: PP Sheeting | B11: US Plastic | C11: 1/4" thickness | D11: 42622 | E11: https://www.usplastic.com/catalog/item.aspx?itemid=31697 | F11: 105.88 | G11: 1 | H11: 24" x 48" sheet | I11: 43998 | J11: =1/9 -> 0.11111111 | K11: =(J11/G11)*F11 -> 11.764444
A12: Aluminum corner / T-bar | B12: McMaster-Carr | C12: 1/2" by 1", 1/8" thick | D12: 8982K911 | E12: http://www.mcmaster.com/#aluminum-angles/=ijr9zc | F12: 6.83 | G12: 4 | H12: ft. | I12: 43998 | J12: 2 | K12: =(J12/G12)*F12 -> 3.415
A13: Media bottles (Pack of 10) | B13: VWR | C13: 250 ml glass bottle | D13: 89000-236 | E13: https://us.vwr.com/store/catalog/product.jsp?catalog_number=89012-126 | F13: 166.24 | G13: 10 | H13: per pack | I13: 43998 | J13: 1 | K13: =(J13/G13)*F13 -> 16.624
A14: Silicone stoppers | B14: VWR | C14: #6 fits in media bottles | D14: 59590-222 | E14: https://us.vwr.com/store/catalog/product.jsp?catalog_number=59590-222 | F14: 46.38 | G14: 12 | H14: # | I14: 43998 | J14: 1 | K14: =(J14/G14)*F14 -> 3.865
A15: SS tubing for media bottles | B15: Grainger | C15: 3/16"OD, 0.118" ID | D15: 3ACT3 | E15: https://www.grainger.com/product/GRAINGER-APPROVED-6-ft-Seamless-304-Stainless-3ACT3?s_pp=false&picUrl=//static.grainger.com/rp/s/is/image/Grainger/3ACR6_AS01?$smthumb$ | F15: 31.5 | G15: 72 | H15: inches | I15: 43998 | J15: 16.5 | K15: =(J15/G15)*F15 -> 7.21875
A16: Reservoir tubing | B16: VWR | C16: 1/8" ID; 1/4" OD | D16: 89068-474 | E16: https://us.vwr.com/store/catalog/product.jsp?catalog_number=89068-474 | F16: 102.19 | G16: 50 | H16: feet | I16: 43998 | J16: 6 | K16: =(J16/G16)*F16 -> 12.2628
J17: TOTAL | K17: =sum(K2:K16) -> 224.48999

Sheet M Reservoir
B1: Vendor | C1: Specifications | D1: Item # | E1: Link | F1: Unit Price ($) | G1: Unit | H1: Unit Metric | I1: Units/ reactor | K1: Vendor
A2: Silicone stoppers | B2: VWR | C2: #6 fits in media bottles | D2: 59590-222 | E2: https://us.vwr.com/store/catalog/product.jsp?catalog_number=59590-222 | F2: 46.38 | G2: 12 | H2: # | I2: 1 | J2: Silicone stoppers | K2: VWR | L2: =F2*(I2/G2) -> 3.865
A3: SS tubing for media bottles | B3: Grainger | C3: 3/16"OD, 0.118" ID | D3: 3ACT3 | E3: https://www.grainger.com/product/GRAINGER-APPROVED-6-ft-Seamless-304-Stainless-3ACT3?s_pp=false&picUrl=//static.grainger.com/rp/s/is/image/Grainger/3ACR6_AS01?$smthumb$ | F3: 28.64 | G3: 72 | H3: inches | I3: 16.5 | J3: SS tubing for media bottles | K3: Grainger | L3: =F3*(I3/G3) -> 6.5633333
A4: Reservoir tubing | B4: VWR | C4: 1/8" ID; 1/4" OD | D4: 89068-474 | E4: https://us.vwr.com/store/catalog/product.jsp?catalog_number=89068-474 | F4: 102.19 | G4: 50 | H4: feet | I4: 6 | J4: Reservoir tubing | K4: VWR | L4: =F4*(I4/G4) -> 12.2628
A5: Scrap Wood (for Shelving)
K6: TOTAL | L6: =sum(L2:L5) -> 22.691133

Sheet V TIB vessel
B1: Vendor | C1: Specifications | D1: Item # | E1: Link | F1: Unit Price ($) | G1: Unit | H1: Unit Metric | J1: Units/ reactor | K1: 1 REACTOR PARTS COST | L1: 1 REACTOR CONSUMABLES COST
A2: Glass beads | B2: VWR | C2: 1 lb. of 2-mm soda lime glass | D2: 26396-506 | E2: https://us.vwr.com/store/catalog/product.jsp?catalog_number=26396-508 | F2: 41.82 | G2: 1 | H2: 1b | I2: 43981 | J2: 0.1 | K2: =(J2/G2)*F2 -> 4.182
A3: Push-fit fittings | B3: US Plastic | C3: (OD x Thread MNPT) 3/16" x 1/8" | D3: 58201 | E3: http://www.usplastic.com/catalog/item.aspx?itemid=23186&catid=832 | F3: 1.27 | G3: 1 | H3: ea. | I3: 43981 | J3: 2 | K3: =(J3/G3)*F3 -> 2.54
A4: PP Sheeting (12" x 12") | B4: US Plastic | C4: 1/4" thickness | D4: 42622 | E4: http://www.usplastic.com/catalog/item.aspx?itemid=23308&catid=711 | F4: 105.88 | G4: 1 | H4: 12 x 14 sheet | I4: 43981 | J4: =1/48 -> 0.020833333 | K4: =(J4/G4)*F4 -> 2.2058333
A5: PC / Lexan Sheeting (12" x 48") | B5: US Plastic | C5: 1/4" thickness | D5: 42516 | E5: http://www.usplastic.com/catalog/item.aspx?itemid=22929&catid=704 | F5: 43.21 | G5: 1 | H5: 12 x 14 sheet | I5: 43981 | J5: =1/48 -> 0.020833333 | K5: =(J5/G5)*F5 -> 0.90020833
A6: Inoculation port | B6: US Plastic | C6: 3/4" X 3/4" NPT | D6: 63183 | E6: http://www.usplastic.com/catalog/item.aspx?itemid=22921&catid=454&clickid=searchresults | F6: 0.61 | G6: 1 | H6: ea. | I6: 43981 | J6: 1 | K6: =(J6/G6)*F6 -> 0.61
A7: Inoculation port cap | B7: US Plastic | C7: 3/4" NPT | D7: 62167 | E7: http://www.usplastic.com/catalog/item.aspx?itemid=23052&catid=669 | F7: 1.54 | G7: 1 | H7: ea. | I7: 43981 | J7: 1 | K7: =(J7/G7)*F7 -> 1.54
A8: Silicone gasket (6" x 6") | B8: McMaster-Carr | C8: 1/8" or 3/16" thickness works | D8: 1460N45 | E8: http://www.mcmaster.com/#silicone-rubber-sheets/=ijwgcq | F8: 264.23 | G8: 1 | H8: 36" x 36" sheet | I8: 43981 | J8: =1/60 -> 0.016666667 | K8: =(J8/G8)*F8 -> 4.4038333
A9: Aluminium bar for c-clamp (8 ft.) | B9: McMaster-Carr | C9: 1 1/4" base, 1/8" thickness | D9: 9001K36 | E9: http://www.mcmaster.com/#standard-aluminum-u-channels/=ims26g | F9: 37.43 | G9: 48 | H9: in. | I9: 43981 | J9: 4 | K9: =(J9/G9)*F9 -> 3.1191667 | M9: We no longer use these as for bag hanging from headplate
A10: Thumb screws for c-clamp (pack of 25) | B10: McMaster-Carr | C10: 5/8" diameter, 1/2" long | D10: 91185A332 | E10: http://www.mcmaster.com/nav/enter.asp?partnum=91185A332 | F10: 9.88 | G10: 25 | H10: per pack | I10: 43981 | J10: 4 | K10: =(J10/G10)*F10 -> 1.5808
A11: Filters (Pack of 24) | B11: VWR | C11: Pall, 1 um pore, 4.5 cm diameter | D11: 28145-553 | E11: https://us.vwr.com/store/catalog/product.jsp?catalog_number=28144-160 | F11: 375.24 | G11: 24 | H11: ea. | I11: 43981 | J11: 1 | K11: =(J11/G11)*F11 -> 15.635
A12: NPT to Barb fittings (Pack of 10) | B12: McMaster-Carr | C12: 1/8" NPT to 1/4" ID tubing | D12: 2974K126 / 5463K442 | E12: http://www.mcmaster.com/#standard-barbed-tube-fittings/=ijqfm6 | F12: 8.95 | G12: 10 | H12: per pack | I12: 43981 | J12: 2 | K12: =(J12/G12)*F12 -> 1.79
A13: PVC fittings | B13: ACF greenhouse | C13: corners (3-way), tee, 4-way [1/2"] | D13: N/A | E13: https://www.acfgreenhouses.com/pvc-fitting-3-way-elbow-connector.aspx | F13: 1.2 | G13: 1 | H13: ea. | I13: 44042 | J13: 2 | K13: =(J13/G13)*F13 -> 2.4
A14: PVC fittings | B14: ACF greenhouse | C14: 3-way tee (not corner) | D14: 2556204 | E14: https://www.acfgreenhouses.com/pvc-fitting-tee-connector.aspx | F14: 0.8 | G14: 1 | H14: ea. | I14: 44042 | J14: 0.5 | K14: =(J14/G14)*F14 -> 0.4
A15: Luer barb fitting (Pack of 25) | B15: Cole Parmer / Masterflex | C15: Male with lock ring to 1/8" barb | D15: EW-45503-04 / EW-30800-24 | E15: http://www.coleparmer.com/Product/Male_luer_with_lock_ring_x_1_8_hose_barb_PP_25_pk/EW-45503-04 | F15: 15.2 | G15: 25 | H15: per pack | I15: 43981 | J15: 1 | K15: =(J15/G15)*F15 -> 0.608
A16: Plastic bags A [Choose one] | B16: VWR | C16: 8x10" polypropylene bag | D16: 95042-564 | E16: https://us.vwr.com/store/catalog/product.jsp?catalog_number=95042-548 | F16: 72.61 | G16: 100 | H16: # | I16: 43981 | J16: 1 | L16: =F16*(J16/G16) -> 0.7261
A17: Syringe port (ea.) | B17: MediDose | C17: Injection port 4, sterile | D17: IV2004 | E17: http://www.medidose.com/injection-port4.aspx | F17: 66.25 | G17: 100 | H17: per pack | I17: 43981 | J17: 1 | L17: =(J17/G17)*F17 -> 0.6625
A18: Luer tee fitting (Pack of 25) | B18: Cole Parmer / Masterflex | C18: Female luer tee | D18: EW-45500-56 / EW-45508-56 | E18: http://www.coleparmer.com/Product/Female_luer_tee_PP_25_pk/EW-45500-56 | F18: 31.5 | G18: 25 | H18: per pack | I18: 43981 | J18: 1 | K18: =(J18/G18)*F18 -> 1.26
K21: REACTOR PARTS | L21: REACTOR CONSUMABLES
J22: TOTAL | K22: =sum(K2:K16) -> 41.914842 | L22: =sum(L2:L16) -> 0.7261
J23: TOTAL W/ SYRINGE PORT | K23: =sum(K2:K18) -> 43.174842 | L23: =sum(L2:L18) -> 1.3886
J25: Headplate | K25: =sum(K4,K5,K6,K7,K8,K9,K10,K12,K13,K14,K15,K3) -> 22.097842
K26: =K25/K22 -> 0.52720804

Sheet H TIB vessel
B1: Vendor | C1: Specifications | D1: Item # | E1: Link | F1: Unit Price ($) | G1: Unit | H1: Unit Metric | I1: Units/ reactor | J1: Vendor | K1: 1 REACTOR PARTS COST | L1: 1 REACTOR CONSUMABLES COST
A2: Bacterial air vents (exhaust outlet) | B2: VWR | C2: Pall, 1 um pore, 4.5 cm diameter | D2: 28145-553 | E2: https://us.vwr.com/store/catalog/product.jsp?catalog_number=28144-160 | F2: 259.13 | G2: 24 | H2: # | I2: 1 | J2: VWR | K2: =F2*(I2/G2) -> 10.797083
A3: Barbed Reducing Coupler | B3: McMaster-Carr | C3: 1/8" ID to 1/4" ID tubing | D3: 5463K628 | E3: http://www.mcmaster.com/#standard-barbed-tube-couplings/=12y8vez | F3: 8.95 | G3: 10 | H3: # | I3: 1 | J3: McMaster-Carr | K3: =F3*(I3/G3) -> 0.895
A4: SS tubing for gas connections | B4: Grainger | C4: 3/16"OD, 0.118" ID | D4: 3ACT3 | E4: https://www.grainger.com/product/GRAINGER-APPROVED-6-ft-Seamless-304-Stainless-3ACT3?s_pp=false&picUrl=//static.grainger.com/rp/s/is/image/Grainger/3ACR6_AS01?$smthumb$ | F4: 28.64 | G4: 72 | H4: inches | I4: 0.5 | J4: Grainger | K4: =F4*(I4/G4) -> 0.19888889
A5: SS tubing for media inserts (media inlet / outlet) | B5: Grainger | C5: 1/8"OD, 3/40" ID | D5: 3ADK5 | E5: https://www.grainger.com/product/GRAINGER-APPROVED-6-ft-Welded-316-Stainless-3ADK5?s_pp=false&picUrl=//static.grainger.com/rp/s/is/image/Grainger/3ACR6_AS01?$smthumb$ | F5: 21.4 | G5: 72 | H5: inches | I5: 6.5 | J5: Grainger | K5: =F5*(I5/G5) -> 1.9319444
A6: Sheet Metal | B6: Home Depot | C6: 26 gauge zinc-plated SS sheet metal, 12" x 24" (inserts are 6" x 8" for 6" sq. w/1" overhangs) | D6: 476048 | E6: http://www.homedepot.com/p/Everbilt-12-in-x-24-in-26-Gauge-Zinc-Plated-Sheet-Metal-801537/204225706 | F6: 6.97 | G6: 288 | H6: sq. in. | I6: 48 | J6: Home Depot | K6: =F6*(I6/G6) -> 1.1616667
A7: Plastic bags A [Choose one] | B7: VWR | C7: 8x10" polypropylene | D7: 95042-564 | E7: https://us.vwr.com/store/catalog/product.jsp?catalog_number=95042-548 | F7: 72.61 | G7: 100 | H7: # | I7: 1 | J7: VWR | L7: =F7*(I7/G7) -> 0.7261
A8: Plastic bags B [Choose one] | B8: FisherScientific | C8: 10 x 10 in. (25 x 25cm) polypropylene X SAME TRANSPARENCY as A | D8: 01-826-2 | E8: https://www.fishersci.com/shop/products/fisherbrand-polypropylene-biohazard-autoclave-bags-22/018262 | F8: 17 | G8: 200 | H8: # | I8: 1 | J8: fisherscientific | L8: =F8*(I8/G8) -> 0.085
A9: Luer barb fitting | B9: Cole Parmer | C9: Male with lock ring to 1/8" barb | D9: EW-30800-24 | E9: http://www.coleparmer.com/Product/Cole_Parmer_ADCF_Male_Luer_to_1_8_L_Barb_Adapter_PP_25_pk/EW-30800-24 | F9: 10.48 | G9: 10 | H9: # | I9: 3 | J9: Cole Parmer | K9: =F9*(I9/G9) -> 3.144
A10: Insert tubing | B10: McMaster-Carr | C10: 3/32" ID x 3/16" OD | D10: 5236K821 | E10: http://www.mcmaster.com/#standard-plastic-and-rubber-tubing/=12y7f0h | F10: 7 | G10: 10 | H10: feet | I10: 0.33 | J10: McMaster-Carr | K10: =F10*(I10/G10) -> 0.231
A11: Outlet filter tubing | B11: VWR | C11: 1/4" ID; 3/8" OD | D11: 89068-482 | E11: https://us.vwr.com/store/catalog/product.jsp?catalog_number=89068-482 | F11: 145.34 | G11: 50 | H11: feet | I11: 0.5 | J11: VWR | K11: =F11*(I11/G11) -> 1.4534
A12: Filter Paper | B12: Whatman | C12: Grade 1, 150 mm | D12: WHA1001150 | E12: http://www.sigmaaldrich.com/catalog/product/aldrich/wha1001150?lang=en&region=US | F12: 21.8 | G12: 100 | H12: # | I12: 1 | J12: Whtman | L12: =F12*(I12/G12) -> 0.218
A13: Polyvent 4 (gas inlet) | B13: Whatman | C13: 0.2 um PTFE, 28 mm | D13: 6713-0425 | E13: http://www.sigmaaldrich.com/catalog/product/aldrich/wha67130425?lang=en&region=US | F13: 196.7 | G13: 50 | H13: # | I13: 1 | J13: Whatman | K13: =F13*(I13/G13) -> 3.934
A14: White rimmed filter (gas inlet) | B14: Restek | C14: 13mm cellulose acetate 0.22 um syringe filter, white | D14: 26142 | E14: http://www.restek.com/catalog/view/6583/26142 | F14: 121.8 | G14: 100 | H14: # | I14: 1 | J14: Restek | K14: =F14*(I14/G14) -> 1.218
A15: SYRINGE PORT
A16: Luer tee fitting | B16: Cole Parmer | C16: Female Luer Lug Style Tee | D16: EW-45500-56 | E16: https://www.coleparmer.com/i/masterflex-fitting-polypropylene-tee-female-luer-to-female-luer-to-female-luer-adapter-25-pk/4550856 | F16: 31.5 | G16: 25 | H16: # | I16: 1 | J16: Cole Parmer | K16: =F16/G16 -> 1.26
A17: Syringe port | B17: MediDose | C17: Injection port 4, sterile | D17: IV2004 | E17: http://www.medidose.com/injection-port4.aspx | F17: 66.25 | G17: 100 | H17: # | I17: 1 | J17: MediDose | L17: =F17/G17 -> 0.6625
K20: REACTOR PARTS | L20: REACTOR CONSUMABLES
J21: TOTAL | K21: =sum(K2:K14) -> 24.964983 | L21: =sum(L2:L14) -> 1.0291
J22: TOTAL W/ SYRINGE PORT | K22: =sum(K2:K17) -> 26.224983 | L22: =sum(L2:L17) -> 1.6916
