Workbook

Sheet Video data
C1: TAB #1: VIDEO DATA
C3: Comment | D3: Min | E3: Sec | F3: 1/100 | G3: Frame # | H3: Track length | I3: Track thickness | J3: X (pixels) | K3: Y (pixels) | L3: X source offset (mm) | M3: Y source offset (mm) | N3: R
C4: CALIBRATION
C5: Pinpoint (source) | D5: 3 | E5: 28 | F5: 3 | G5: =60*30*D5+ROUND((100*E5+F5)*3/10,0)+1 -> 6242 | H5: N/A | I5: N/A | J5: 703 | K5: 345
C6: Boundary below point | D6: 3 | E6: 28 | F6: 3 | G6: =60*30*D6+ROUND((100*E6+F6)*3/10,0)+1 -> 6242 | H6: N/A | I6: N/A | J6: 705 | K6: 631
C7: Boundary above point | D7: 3 | E7: 28 | F7: 3 | G7: =60*30*D7+ROUND((100*E7+F7)*3/10,0)+1 -> 6242 | H7: N/A | I7: N/A | J7: 699 | K7: 6 | N7: Diameter = | O7: =K6-K7 -> 625 | P7: pixels
C8: Boundary left of point | D8: 3 | E8: 28 | F8: 3 | G8: =60*30*D8+ROUND((100*E8+F8)*3/10,0)+1 -> 6242 | H8: N/A | I8: N/A | J8: 405 | K8: 340 | N8: Pixel = | O8: =100/O7 -> 0.16 | P8: mm
C9: Boundary right of point | D9: 3 | E9: 28 | F9: 3 | G9: =60*30*D9+ROUND((100*E9+F9)*3/10,0)+1 -> 6242 | H9: N/A | I9: N/A | J9: 1049 | K9: 342 | N9: Height (a) = | O9: 2.25 | P9: mm | Q9: Petrie dish sensitive height
C10: Last data frame | D10: 4 | E10: 45 | F10: 46 | G10: =60*30*D10+ROUND((100*E10+F10)*3/10,0)+1 -> 8565 | H10: N/A | I10: N/A | J10: N/A | K10: N/A | N10: Height (b) = | O10: 3.5 | P10: mm | Q10: Needle point height
C11: First data frame | D11: 3 | E11: 15 | F11: 3 | G11: =60*30*D11+ROUND((100*E11+F11)*3/10,0)+1 -> 5852 | H11: N/A | I11: N/A | J11: N/A | K11: N/A
C13: TRACK STARTS
D14: 3 | E14: 15 | F14: 20 | G14: =60*30*D14+ROUND((100*E14+F14)*3/10,0)+1 -> 5857 | H14: Long | I14: Sharp | J14: 731 | K14: 393 | L14: =(J14-J$5)*$O$8 -> 4.48 | M14: =-(K14-K$5)*$O$8 -> -7.68 | N14: =SQRT(L14^2+M14^2) -> 8.8911642
D15: 3 | E15: 15 | F15: 20 | G15: =60*30*D15+ROUND((100*E15+F15)*3/10,0)+1 -> 5857 | H15: Short | I15: Diffuse | J15: 735 | K15: 424 | L15: =(J15-J$5)*$O$8 -> 5.12 | M15: =-(K15-K$5)*$O$8 -> -12.64 | N15: =SQRT(L15^2+M15^2) -> 13.637595
D16: 3 | E16: 15 | F16: 56 | G16: =60*30*D16+ROUND((100*E16+F16)*3/10,0)+1 -> 5868 | H16: Short | I16: Diffuse | J16: 757 | K16: 285 | L16: =(J16-J$5)*$O$8 -> 8.64 | M16: =-(K16-K$5)*$O$8 -> 9.6 | N16: =SQRT(L16^2+M16^2) -> 12.915479
D17: 3 | E17: 15 | F17: 70 | G17: =60*30*D17+ROUND((100*E17+F17)*3/10,0)+1 -> 5872 | H17: Short | I17: Diffuse | J17: 762 | K17: 286 | L17: =(J17-J$5)*$O$8 -> 9.44 | M17: =-(K17-K$5)*$O$8 -> 9.44 | N17: =SQRT(L17^2+M17^2) -> 13.350176
D18: 3 | E18: 15 | F18: 93 | G18: =60*30*D18+ROUND((100*E18+F18)*3/10,0)+1 -> 5879 | H18: Long | I18: Diffuse | J18: 827 | K18: 380 | L18: =(J18-J$5)*$O$8 -> 19.84 | M18: =-(K18-K$5)*$O$8 -> -5.6 | N18: =SQRT(L18^2+M18^2) -> 20.615179
D19: 3 | E19: 16 | F19: 23 | G19: =60*30*D19+ROUND((100*E19+F19)*3/10,0)+1 -> 5888 | H19: Short | I19: Sharp | J19: 619 | K19: 404 | L19: =(J19-J$5)*$O$8 -> -13.44 | M19: =-(K19-K$5)*$O$8 -> -9.44 | N19: =SQRT(L19^2+M19^2) -> 16.423982
D20: 3 | E20: 16 | F20: 30 | G20: =60*30*D20+ROUND((100*E20+F20)*3/10,0)+1 -> 5890 | H20: Long | I20: Sharp | J20: 712 | K20: 382 | L20: =(J20-J$5)*$O$8 -> 1.44 | M20: =-(K20-K$5)*$O$8 -> -5.92 | N20: =SQRT(L20^2+M20^2) -> 6.0926185
D21: 3 | E21: 16 | F21: 33 | G21: =60*30*D21+ROUND((100*E21+F21)*3/10,0)+1 -> 5891 | H21: Short | I21: Diffuse | J21: 729 | K21: 370 | L21: =(J21-J$5)*$O$8 -> 4.16 | M21: =-(K21-K$5)*$O$8 -> -4 | N21: =SQRT(L21^2+M21^2) -> 5.7711004
D22: 3 | E22: 16 | F22: 43 | G22: =60*30*D22+ROUND((100*E22+F22)*3/10,0)+1 -> 5894 | H22: Long | I22: Diffuse | J22: 788 | K22: 334 | L22: =(J22-J$5)*$O$8 -> 13.6 | M22: =-(K22-K$5)*$O$8 -> 1.76 | N22: =SQRT(L22^2+M22^2) -> 13.713409
D23: 3 | E23: 16 | F23: 53 | G23: =60*30*D23+ROUND((100*E23+F23)*3/10,0)+1 -> 5897 | H23: Short | I23: Diffuse | J23: 608 | K23: 304 | L23: =(J23-J$5)*$O$8 -> -15.2 | M23: =-(K23-K$5)*$O$8 -> 6.56 | N23: =SQRT(L23^2+M23^2) -> 16.555168
D24: 3 | E24: 17 | F24: 20 | G24: =60*30*D24+ROUND((100*E24+F24)*3/10,0)+1 -> 5917 | H24: Long | I24: Diffuse | J24: 758 | K24: 285 | L24: =(J24-J$5)*$O$8 -> 8.8 | M24: =-(K24-K$5)*$O$8 -> 9.6 | N24: =SQRT(L24^2+M24^2) -> 13.023056
D25: 3 | E25: 17 | F25: 26 | G25: =60*30*D25+ROUND((100*E25+F25)*3/10,0)+1 -> 5919 | H25: Short | I25: Diffuse | J25: 653 | K25: 276 | L25: =(J25-J$5)*$O$8 -> -8 | M25: =-(K25-K$5)*$O$8 -> 11.04 | N25: =SQRT(L25^2+M25^2) -> 13.63384
... D190: 4 | E190: 14 | F190: 63 | G190: =60*30*D190+ROUND((100*E190+F190)*3/10,0)+1 -> 7640 | H190: Short | I190: Sharp | J190: 644 | K190: 272 | L190: =(J190-J$5)*$O$8 -> -9.44 | M190: =-(K190-K$5)*$O$8 -> 11.68 | N190: =SQRT(L190^2+M190^2) -> 15.017856
D191: 4 | E191: 15 | F191: 26 | G191: =60*30*D191+ROUND((100*E191+F193)*3/10,0)+1 -> 7668 | H191: Long | I191: Diffuse | J191: 693 | K191: 344 | L191: =(J191-J$5)*$O$8 -> -1.6 | M191: =-(K191-K$5)*$O$8 -> 0.16 | N191: =SQRT(L191^2+M191^2) -> 1.6079801
D192: 4 | E192: 15 | F192: 26 | G192: =60*30*D192+ROUND((100*E192+F194)*3/10,0)+1 -> 7673 | H192: Long | I192: Sharp | J192: 710 | K192: 330 | L192: =(J192-J$5)*$O$8 -> 1.12 | M192: =-(K192-K$5)*$O$8 -> 2.4 | N192: =SQRT(L192^2+M192^2) -> 2.6484713
D193: 4 | E193: 15 | F193: 56 | G193: =60*30*D193+ROUND((100*E193+F194)*3/10,0)+1 -> 7673 | H193: Long | I193: Diffuse | J193: 722 | K193: 347 | L193: =(J193-J$5)*$O$8 -> 3.04 | M193: =-(K193-K$5)*$O$8 -> -0.32 | N193: =SQRT(L193^2+M193^2) -> 3.0567957
D194: 4 | E194: 15 | F194: 73 | G194: =60*30*D194+ROUND((100*E194+F195)*3/10,0)+1 -> 7674 | H194: Long | I194: Sharp | J194: 686 | K194: 366 | L194: =(J194-J$5)*$O$8 -> -2.72 | M194: =-(K194-K$5)*$O$8 -> -3.36 | N194: =SQRT(L194^2+M194^2) -> 4.3229619
D195: 4 | E195: 15 | F195: 76 | G195: =60*30*D195+ROUND((100*E195+F196)*3/10,0)+1 -> 7679 | H195: Short | I195: Diffuse | J195: 791 | K195: 310 | L195: =(J195-J$5)*$O$8 -> 14.08 | M195: =-(K195-K$5)*$O$8 -> 5.6 | N195: =SQRT(L195^2+M195^2) -> 15.152769
D196: 4 | E196: 15 | F196: 93 | G196: =60*30*D196+ROUND((100*E196+F196)*3/10,0)+1 -> 7679 | H196: Long | I196: Diffuse | J196: 665 | K196: 351 | L196: =(J196-J$5)*$O$8 -> -6.08 | M196: =-(K196-K$5)*$O$8 -> -0.96 | N196: =SQRT(L196^2+M196^2) -> 6.1553229
D197: 4 | E197: 16 | F197: 30 | G197: =60*30*D197+ROUND((100*E197+F197)*3/10,0)+1 -> 7690 | H197: Long | I197: Sharp | J197: 708 | K197: 331 | L197: =(J197-J$5)*$O$8 -> 0.8 | M197: =-(K197-K$5)*$O$8 -> 2.24 | N197: =SQRT(L197^2+M197^2) -> 2.378571
D198: 4 | E198: 17 | F198: 23 | G198: =60*30*D198+ROUND((100*E198+F198)*3/10,0)+1 -> 7718 | H198: Long | I198: Sharp | J198: 714 | K198: 337 | L198: =(J198-J$5)*$O$8 -> 1.76 | M198: =-(K198-K$5)*$O$8 -> 1.28 | N198: =SQRT(L198^2+M198^2) -> 2.1762353
D199: 4 | E199: 17 | F199: 50 | G199: =60*30*D199+ROUND((100*E199+F199)*3/10,0)+1 -> 7726 | H199: Short | I199: Diffuse | J199: 706 | K199: 303 | L199: =(J199-J$5)*$O$8 -> 0.48 | M199: =-(K199-K$5)*$O$8 -> 6.72 | N199: =SQRT(L199^2+M199^2) -> 6.737121
D200: 4 | E200: 17 | F200: 50 | G200: =60*30*D200+ROUND((100*E200+F200)*3/10,0)+1 -> 7726 | H200: Short | I200: Diffuse | J200: 682 | K200: 311 | L200: =(J200-J$5)*$O$8 -> -3.36 | M200: =-(K200-K$5)*$O$8 -> 5.44 | N200: =SQRT(L200^2+M200^2) -> 6.3939972
D201: 4 | E201: 17 | F201: 93 | G201: =60*30*D201+ROUND((100*E201+F201)*3/10,0)+1 -> 7739 | H201: Long | I201: Sharp | J201: 654 | K201: 316 | L201: =(J201-J$5)*$O$8 -> -7.84 | M201: =-(K201-K$5)*$O$8 -> 4.64 | N201: =SQRT(L201^2+M201^2) -> 9.1101701
D202: 4 | E202: 18 | F202: 53 | G202: =60*30*D202+ROUND((100*E202+F202)*3/10,0)+1 -> 7757 | H202: Short | I202: Diffuse | J202: 626 | K202: 236 | L202: =(J202-J$5)*$O$8 -> -12.32 | M202: =-(K202-K$5)*$O$8 -> 17.44 | N202: =SQRT(L202^2+M202^2) -> 21.352658
D203: 4 | E203: 19 | F203: 36 | G203: =60*30*D203+ROUND((100*E203+F203)*3/10,0)+1 -> 7782 | H203: Short | I203: Diffuse | J203: 710 | K203: 337 | L203: =(J203-J$5)*$O$8 -> 1.12 | M203: =-(K203-K$5)*$O$8 -> 1.28 | N203: =SQRT(L203^2+M203^2) -> 1.7008233
D204: 4 | E204: 19 | F204: 46 | G204: =60*30*D204+ROUND((100*E204+F204)*3/10,0)+1 -> 7785 | H204: Short | I204: Diffuse | J204: 713 | K204: 337 | L204: =(J204-J$5)*$O$8 -> 1.6 | M204: =-(K204-K$5)*$O$8 -> 1.28 | N204: =SQRT(L204^2+M204^2) -> 2.0489998
D205: 4 | E205: 20 | F205: 20 | G205: =60*30*D205+ROUND((100*E205+F205)*3/10,0)+1 -> 7807 | H205: Long | I205: Sharp | J205: 750 | K205: 267 | L205: =(J205-J$5)*$O$8 -> 7.52 | M205: =-(K205-K$5)*$O$8 -> 12.48 | N205: =SQRT(L205^2+M205^2) -> 14.570546
D206: 4 | E206: 20 | F206: 30 | G206: =60*30*D206+ROUND((100*E206+F206)*3/10,0)+1 -> 7810 | H206: Long | I206: Sharp | J206: 733 | K206: 278 | L206: =(J206-J$5)*$O$8 -> 4.8 | M206: =-(K206-K$5)*$O$8 -> 10.72 | N206: =SQRT(L206^2+M206^2) -> 11.745569
...

Sheet Ideal distribution (Section 3)
C1: TAB #2: IDEAL DISTRIBUTION C(R,b)+C(R,a-b), DIVIDED BY PI
C3: PETRIE DISH SENSITIVE VOLUME PARAMETERS
C4: radius=50mm
C5: a= | D5: ='Video data'!O9 -> 2.25 | E5: mm
C6: b= | D6: ='Video data'!O10 -> 3.5 | E6: mm
C7: a-b= | D7: =D5-D6 -> -1.25 | E7: mm
C8: scale= | D8: ='Data sorted'!O233/('Ideal distribution (Section 3)'!H77+'Ideal distribution (Section 3)'!L77) -> 24.392193
C10: n | D10: R | E10: R/b | F10: Log term | G10: Arctan term | H10: Total b part | I10: R/(a-b) | J10: Log term | K10: Arctan term | L10: Total a-b part | M10: Total scaled
C11: 1 | D11: =C11*2.5/10 -> 0.25 | E11: =$D11/$D$6 -> 0.071428571 | F11: =LN(1+E11^2) -> 0.0050890695 | G11: =E11*2*ATAN(1/E11) -> 0.21421269 | H11: =$D$6*(F11+G11) -> 0.76755617 | I11: =$D11/$D$7 -> -0.2 | J11: =LN(1+I11^2) -> 0.039220713 | K11: =I11*2*ATAN(1/I11) -> 0.54936031 | L11: =$D$7*(J11+K11) -> -0.73572627 | M11: =$D$8*(H11+L11) -> 0.77640105
C12: 2 | D12: =C12*2.5/10 -> 0.5 | E12: =$D12/$D$6 -> 0.14285714 | F12: =LN(1+E12^2) -> 0.020202707 | G12: =E12*2*ATAN(1/E12) -> 0.40825693 | H12: =$D$6*(F12+G12) -> 1.4996087 | I12: =$D12/$D$7 -> -0.4 | J12: =LN(1+I12^2) -> 0.14842001 | K12: =I12*2*ATAN(1/I12) -> 0.95223196 | L12: =$D$7*(J12+K12) -> -1.375815 | M12: =$D$8*(H12+L12) -> 3.0196021
C13: 3 | D13: =C13*2.5/10 -> 0.75 | E13: =$D13/$D$6 -> 0.21428571 | F13: =LN(1+E13^2) -> 0.04489532 | G13: =E13*2*ATAN(1/E13) -> 0.58272985 | H13: =$D$6*(F13+G13) -> 2.1966881 | I13: =$D13/$D$7 -> -0.6 | J13: =LN(1+I13^2) -> 0.3074847 | K13: =I13*2*ATAN(1/I13) -> 1.2364522 | L13: =$D$7*(J13+K13) -> -1.9299211 | M13: =$D$8*(H13+L13) -> 6.507032
C14: 4 | D14: =C14*2.5/10 -> 1 | E14: =$D14/$D$6 -> 0.28571429 | F14: =LN(1+E14^2) -> 0.078471615 | G14: =E14*2*ATAN(1/E14) -> 0.73856952 | H14: =$D$6*(F14+G14) -> 2.859644 | I14: =$D14/$D$7 -> -0.8 | J14: =LN(1+I14^2) -> 0.49469624 | K14: =I14*2*ATAN(1/I14) -> 1.4336886 | L14: =$D$7*(J14+K14) -> -2.4104811 | M14: =$D$8*(H14+L14) -> 10.956069
C15: 5 | D15: =C15*2.5/10 -> 1.25 | E15: =$D15/$D$6 -> 0.35714286 | F15: =LN(1+E15^2) -> 0.12004804 | G15: =E15*2*ATAN(1/E15) -> 0.87698028 | H15: =$D$6*(F15+G15) -> 3.4895991 | I15: =$D15/$D$7 -> -1 | J15: =LN(1+I15^2) -> 0.69314718 | K15: =I15*2*ATAN(1/I15) -> 1.5707963 | L15: =$D$7*(J15+K15) -> -2.8299294 | M15: =$D$8*(H15+L15) -> 16.090791
C16: 6 | D16: =C16*2.5/10 -> 1.5 | E16: =$D16/$D$6 -> 0.42857143 | F16: =LN(1+E16^2) -> 0.16862271 | G16: =E16*2*ATAN(1/E16) -> 0.99934675 | H16: =$D$6*(F16+G16) -> 4.0878931 | I16: =$D16/$D$7 -> -1.2 | J16: =LN(1+I16^2) -> 0.89199804 | K16: =I16*2*ATAN(1/I16) -> 1.6673719 | L16: =$D$7*(J16+K16) -> -3.1992124 | M16: =$D$8*(H16+L16) -> 21.676872
C17: 7 | D17: =C17*2.5/10 -> 1.75 | E17: =$D17/$D$6 -> 0.5 | F17: =LN(1+E17^2) -> 0.22314355 | G17: =E17*2*ATAN(1/E17) -> 1.1071487 | H17: =$D$6*(F17+G17) -> 4.6560229 | I17: =$D17/$D$7 -> -1.4 | J17: =LN(1+I17^2) -> 1.0851893 | K17: =I17*2*ATAN(1/I17) -> 1.7366986 | L17: =$D$7*(J17+K17) -> -3.5273598 | M17: =$D$8*(H17+L17) -> 27.530569
C18: 8 | D18: =C18*2.5/10 -> 2 | E18: =$D18/$D$6 -> 0.57142857 | F18: =LN(1+E18^2) -> 0.28256697 | G18: =E18*2*ATAN(1/E18) -> 1.201886 | H18: =$D$6*(F18+G18) -> 5.1955853 | I18: =$D18/$D$7 -> -1.6 | J18: =LN(1+I18^2) -> 1.2697605 | K18: =I18*2*ATAN(1/I18) -> 1.7875178 | L18: =$D$7*(J18+K18) -> -3.8215979 | M18: =$D$8*(H18+L18) -> 33.514564
C19: 9 | D19: =C19*2.5/10 -> 2.25 | E19: =$D19/$D$6 -> 0.64285714 | F19: =LN(1+E19^2) -> 0.34590285 | G19: =E19*2*ATAN(1/E19) -> 1.2850185 | H19: =$D$6*(F19+G19) -> 5.7082248 | I19: =$D19/$D$7 -> -1.8 | J19: =LN(1+I19^2) -> 1.4445633 | K19: =I19*2*ATAN(1/I19) -> 1.8255546 | L19: =$D$7*(J19+K19) -> -4.0876474 | M19: =$D$8*(H19+L19) -> 39.529437
C20: 10 | D20: =C20*2.5/10 -> 2.5 | E20: =$D20/$D$6 -> 0.71428571 | F20: =LN(1+E20^2) -> 0.4122448 | G20: =E20*2*ATAN(1/E20) -> 1.3579241 | H20: =$D$6*(F20+G20) -> 6.195591 | I20: =$D20/$D$7 -> -2 | J20: =LN(1+I20^2) -> 1.6094379 | K20: =I20*2*ATAN(1/I20) -> 1.8545904 | L20: =$D$7*(J20+K20) -> -4.3300354 | M20: =$D$8*(H20+L20) -> 45.504991
C21: 11 | D21: =C21*2.5/10 -> 2.75 | E21: =$D21/$D$6 -> 0.78571429 | F21: =LN(1+E21^2) -> 0.48078711 | G21: =E21*2*ATAN(1/E21) -> 1.4218711 | H21: =$D$6*(F21+G21) -> 6.6593039 | I21: =$D21/$D$7 -> -2.2 | J21: =LN(1+I21^2) -> 1.7647308 | K21: =I21*2*ATAN(1/I21) -> 1.877161 | L21: =$D$7*(J21+K21) -> -4.5523647 | M21: =$D$8*(H21+L21) -> 51.392867
C22: 12 | D22: =C22*2.5/10 -> 3 | E22: =$D22/$D$6 -> 0.85714286 | F22: =LN(1+E22^2) -> 0.55083096 | G22: =E22*2*ATAN(1/E22) -> 1.4780058 | H22: =$D$6*(F22+G22) -> 7.1009287 | I22: =$D22/$D$7 -> -2.4 | J22: =LN(1+I22^2) -> 1.9110229 | K22: =I22*2*ATAN(1/I22) -> 1.8949974 | L22: =$D$7*(J22+K22) -> -4.7575253 | M22: =$D$8*(H22+L22) -> 57.160747
... C80: 70 | D80: =C80*2.5/10 -> 17.5 | E80: =$D80/$D$6 -> 5 | F80: =LN(1+E80^2) -> 3.2580965 | G80: =E80*2*ATAN(1/E80) -> 1.9739556 | H80: =$D$6*(F80+G80) -> 18.312182 | I80: =$D80/$D$7 -> -14 | J80: =LN(1+I80^2) -> 5.2832037 | K80: =I80*2*ATAN(1/I80) -> 1.996609 | L80: =$D$7*(J80+K80) -> -9.0997659 | M80: =$D$8*(H80+L80) -> 224.71104
C81: =C80+1 -> 71 | D81: =C81*2.5/10 -> 17.75 | E81: =$D81/$D$6 -> 5.0714286 | F81: =LN(1+E81^2) -> 3.2853894 | G81: =E81*2*ATAN(1/E81) -> 1.9746676 | H81: =$D$6*(F81+G81) -> 18.4102 | I81: =$D81/$D$7 -> -14.2 | J81: =LN(1+I81^2) -> 5.311431 | K81: =I81*2*ATAN(1/I81) -> 1.9967036 | L81: =$D$7*(J81+K81) -> -9.1351682 | M81: =$D$8*(H81+L81) -> 226.23836
C82: =C81+1 -> 72 | D82: =C82*2.5/10 -> 18 | E82: =$D82/$D$6 -> 5.1428571 | F82: =LN(1+E82^2) -> 3.312329 | G82: =E82*2*ATAN(1/E82) -> 1.975351 | H82: =$D$6*(F82+G82) -> 18.50688 | I82: =$D82/$D$7 -> -14.4 | J82: =LN(1+I82^2) -> 5.3392674 | K82: =I82*2*ATAN(1/I82) -> 1.9967943 | L82: =$D$7*(J82+K82) -> -9.170077 | M82: =$D$8*(H82+L82) -> 227.7451
C83: =C82+1 -> 73 | D83: =C83*2.5/10 -> 18.25 | E83: =$D83/$D$6 -> 5.2142857 | F83: =LN(1+E83^2) -> 3.3389239 | G83: =E83*2*ATAN(1/E83) -> 1.9760074 | H83: =$D$6*(F83+G83) -> 18.602259 | I83: =$D83/$D$7 -> -14.6 | J83: =LN(1+I83^2) -> 5.3667234 | K83: =I83*2*ATAN(1/I83) -> 1.9968812 | L83: =$D$7*(J83+K83) -> -9.2045058 | M83: =$D$8*(H83+L83) -> 229.23182
C84: =C83+1 -> 74 | D84: =C84*2.5/10 -> 18.5 | E84: =$D84/$D$6 -> 5.2857143 | F84: =LN(1+E84^2) -> 3.3651824 | G84: =E84*2*ATAN(1/E84) -> 1.976638 | H84: =$D$6*(F84+G84) -> 18.696371 | I84: =$D84/$D$7 -> -14.8 | J84: =LN(1+I84^2) -> 5.3938093 | K84: =I84*2*ATAN(1/I84) -> 1.9969647 | L84: =$D$7*(J84+K84) -> -9.2384676 | M84: =$D$8*(H84+L84) -> 230.69901
C85: =C84+1 -> 75 | D85: =C85*2.5/10 -> 18.75 | E85: =$D85/$D$6 -> 5.3571429 | F85: =LN(1+E85^2) -> 3.3911127 | G85: =E85*2*ATAN(1/E85) -> 1.9772443 | H85: =$D$6*(F85+G85) -> 18.789249 | I85: =$D85/$D$7 -> -15 | J85: =LN(1+I85^2) -> 5.420535 | K85: =I85*2*ATAN(1/I85) -> 1.9970449 | L85: =$D$7*(J85+K85) -> -9.2719749 | M85: =$D$8*(H85+L85) -> 232.14719
C86: =C85+1 -> 76 | D86: =C86*2.5/10 -> 19 | E86: =$D86/$D$6 -> 5.4285714 | F86: =LN(1+E86^2) -> 3.4167225 | G86: =E86*2*ATAN(1/E86) -> 1.9778274 | H86: =$D$6*(F86+G86) -> 18.880925 | I86: =$D86/$D$7 -> -15.2 | J86: =LN(1+I86^2) -> 5.4469098 | K86: =I86*2*ATAN(1/I86) -> 1.997122 | L86: =$D$7*(J86+K86) -> -9.3050397 | M86: =$D$8*(H86+L86) -> 233.57683
C87: =C86+1 -> 77 | D87: =C87*2.5/10 -> 19.25 | E87: =$D87/$D$6 -> 5.5 | F87: =LN(1+E87^2) -> 3.4420194 | G87: =E87*2*ATAN(1/E87) -> 1.9783885 | H87: =$D$6*(F87+G87) -> 18.971428 | I87: =$D87/$D$7 -> -15.4 | J87: =LN(1+I87^2) -> 5.4729427 | K87: =I87*2*ATAN(1/I87) -> 1.997196 | L87: =$D$7*(J87+K87) -> -9.3376735 | M87: =$D$8*(H87+L87) -> 234.98839
C88: =C87+1 -> 78 | D88: =C88*2.5/10 -> 19.5 | E88: =$D88/$D$6 -> 5.5714286 | F88: =LN(1+E88^2) -> 3.4670106 | G88: =E88*2*ATAN(1/E88) -> 1.9789287 | H88: =$D$6*(F88+G88) -> 19.060788 | I88: =$D88/$D$7 -> -15.6 | J88: =LN(1+I88^2) -> 5.4986425 | K88: =I88*2*ATAN(1/I88) -> 1.9972673 | L88: =$D$7*(J88+K88) -> -9.3698873 | M88: =$D$8*(H88+L88) -> 236.38231
C89: =C88+1 -> 79 | D89: =C89*2.5/10 -> 19.75 | E89: =$D89/$D$6 -> 5.6428571 | F89: =LN(1+E89^2) -> 3.4917032 | G89: =E89*2*ATAN(1/E89) -> 1.9794491 | H89: =$D$6*(F89+G89) -> 19.149033 | I89: =$D89/$D$7 -> -15.8 | J89: =LN(1+I89^2) -> 5.5240176 | K89: =I89*2*ATAN(1/I89) -> 1.9973359 | L89: =$D$7*(J89+K89) -> -9.4016919 | M89: =$D$8*(H89+L89) -> 237.75902
C90: =C89+1 -> 80 | D90: =C90*2.5/10 -> 20 | E90: =$D90/$D$6 -> 5.7142857 | F90: =LN(1+E90^2) -> 3.516104 | G90: =E90*2*ATAN(1/E90) -> 1.9799505 | H90: =$D$6*(F90+G90) -> 19.236191 | I90: =$D90/$D$7 -> -16 | J90: =LN(1+I90^2) -> 5.5490761 | K90: =I90*2*ATAN(1/I90) -> 1.9974019 | L90: =$D$7*(J90+K90) -> -9.4330975 | M90: =$D$8*(H90+L90) -> 239.11894
C91: =C90+1 -> 81 | D91: =C91*2.5/10 -> 20.25 | E91: =$D91/$D$6 -> 5.7857143 | F91: =LN(1+E91^2) -> 3.5402196 | G91: =E91*2*ATAN(1/E91) -> 1.9804339 | H91: =$D$6*(F91+G91) -> 19.322287 | I91: =$D91/$D$7 -> -16.2 | J91: =LN(1+I91^2) -> 5.5738256 | K91: =I91*2*ATAN(1/I91) -> 1.9974655 | L91: =$D$7*(J91+K91) -> -9.464114 | M91: =$D$8*(H91+L91) -> 240.46246
C92: =C91+1 -> 82 | D92: =C92*2.5/10 -> 20.5 | E92: =$D92/$D$6 -> 5.8571429 | F92: =LN(1+E92^2) -> 3.5640564 | G92: =E92*2*ATAN(1/E92) -> 1.9809001 | H92: =$D$6*(F92+G92) -> 19.407348 | I92: =$D92/$D$7 -> -16.4 | J92: =LN(1+I92^2) -> 5.5982738 | K92: =I92*2*ATAN(1/I92) -> 1.9975268 | L92: =$D$7*(J92+K92) -> -9.4947508 | M92: =$D$8*(H92+L92) -> 241.78997
... C210: =C209+1 -> 200 | D210: =C210*2.5/10 -> 50 | E210: =$D210/$D$6 -> 14.285714 | F210: =LN(1+E210^2) -> 5.3234081 | G210: =E210*2*ATAN(1/E210) -> 1.9967429 | H210: =$D$6*(F210+G210) -> 25.620529 | I210: =$D210/$D$7 -> -40 | J210: =LN(1+I210^2) -> 7.3783837 | K210: =I210*2*ATAN(1/I210) -> 1.9995835 | L210: =$D$7*(J210+K210) -> -11.722459 | M210: =$D$8*(H210+L210) -> 339.00439

Sheet Data sorted
C1: TAB #3: DATA SORTED
C3: Comment | D3: Min | E3: Sec | F3: 1/100 | G3: Frame # | H3: Track length | I3: Track thickness | J3: X (pixels) | K3: Y (pixels) | L3: X source offset (mm) | M3: Y source offset (mm) | N3: R
C4: CALIBRATION
C5: Pinpoint (source) | D5: 3 | E5: 28 | F5: 3 | G5: =60*30*D5+ROUND((100*E5+F5)*3/10,0)+1 -> 6242 | H5: N/A | I5: N/A | J5: 703 | K5: 345
C6: Boundary below point | D6: 3 | E6: 28 | F6: 3 | G6: =60*30*D6+ROUND((100*E6+F6)*3/10,0)+1 -> 6242 | H6: N/A | I6: N/A | J6: 705 | K6: 631
C7: Boundary above point | D7: 3 | E7: 28 | F7: 3 | G7: =60*30*D7+ROUND((100*E7+F7)*3/10,0)+1 -> 6242 | H7: N/A | I7: N/A | J7: 699 | K7: 6 | N7: Diameter = | O7: =K6-K7 -> 625 | P7: pixels
C8: Boundary left of point | D8: 3 | E8: 28 | F8: 3 | G8: =60*30*D8+ROUND((100*E8+F8)*3/10,0)+1 -> 6242 | H8: N/A | I8: N/A | J8: 405 | K8: 340 | N8: Pixel = | O8: =100/O7 -> 0.16 | P8: mm
C9: Boundary right of point | D9: 3 | E9: 28 | F9: 3 | G9: =60*30*D9+ROUND((100*E9+F9)*3/10,0)+1 -> 6242 | H9: N/A | I9: N/A | J9: 1049 | K9: 342 | N9: Height (a) = | O9: ='Video data'!O9 -> 2.25 | P9: mm | Q9: Petrie dish sensitive layer height
C10: Last data frame | D10: 4 | E10: 45 | F10: 46 | G10: =60*30*D10+ROUND((100*E10+F10)*3/10,0)+1 -> 8565 | H10: N/A | I10: N/A | J10: N/A | K10: N/A | N10: Height (b) = | O10: ='Video data'!O10 -> 3.5 | P10: mm | Q10: Needle point height
C11: First data frame | D11: 3 | E11: 15 | F11: 3 | G11: =60*30*D11+ROUND((100*E11+F11)*3/10,0)+1 -> 5852 | H11: N/A | I11: N/A | J11: N/A | K11: N/A
C13: SORTED TRACK STARTS
D14: 4 | E14: 11 | F14: 76 | G14: =60*30*D14+ROUND((100*E14+F14)*3/10,0)+1 -> 7554 | H14: Long | I14: Sharp | J14: 704 | K14: 345 | L14: =(J14-J$5)*$O$8 -> 0.16 | M14: =-(K14-K$5)*$O$8 -> 0 | N14: =SQRT(L14^2+M14^2) -> 0.16 | O14: 1
D15: 3 | E15: 39 | F15: 30 | G15: =60*30*D15+ROUND((100*E15+F15)*3/10,0)+1 -> 6580 | H15: Short | I15: Diffuse | J15: 700 | K15: 348 | L15: =(J15-J$5)*$O$8 -> -0.48 | M15: =-(K15-K$5)*$O$8 -> -0.48 | N15: =SQRT(L15^2+M15^2) -> 0.67882251 | O15: =O14+1 -> 2
D16: 4 | E16: 8 | F16: 66 | G16: =60*30*D16+ROUND((100*E16+F16)*3/10,0)+1 -> 7461 | H16: Short | I16: Sharp | J16: 701 | K16: 349 | L16: =(J16-J$5)*$O$8 -> -0.32 | M16: =-(K16-K$5)*$O$8 -> -0.64 | N16: =SQRT(L16^2+M16^2) -> 0.71554175 | O16: =O15+1 -> 3
D17: 3 | E17: 48 | F17: 76 | G17: =60*30*D17+ROUND((100*E17+F17)*3/10,0)+1 -> 6864 | H17: Short | I17: Sharp | J17: 699 | K17: 342 | L17: =(J17-J$5)*$O$8 -> -0.64 | M17: =-(K17-K$5)*$O$8 -> 0.48 | N17: =SQRT(L17^2+M17^2) -> 0.8 | O17: =O16+1 -> 4
D18: 4 | E18: 44 | F18: 36 | G18: =60*30*D18+ROUND((100*E18+F18)*3/10,0)+1 -> 8532 | H18: Short | I18: Sharp | J18: 704 | K18: 340 | L18: =(J18-J$5)*$O$8 -> 0.16 | M18: =-(K18-K$5)*$O$8 -> 0.8 | N18: =SQRT(L18^2+M18^2) -> 0.81584312 | O18: =O17+1 -> 5
D19: 4 | E19: 9 | F19: 83 | G19: =60*30*D19+ROUND((100*E19+F19)*3/10,0)+1 -> 7496 | H19: Short | I19: Diffuse | J19: 700 | K19: 351 | L19: =(J19-J$5)*$O$8 -> -0.48 | M19: =-(K19-K$5)*$O$8 -> -0.96 | N19: =SQRT(L19^2+M19^2) -> 1.0733126 | O19: =O18+1 -> 6
D20: 3 | E20: 43 | F20: 96 | G20: =60*30*D20+ROUND((100*E20+F20)*3/10,0)+1 -> 6720 | H20: Short | I20: Sharp | J20: 704 | K20: 338 | L20: =(J20-J$5)*$O$8 -> 0.16 | M20: =-(K20-K$5)*$O$8 -> 1.12 | N20: =SQRT(L20^2+M20^2) -> 1.1313708 | O20: =O19+1 -> 7
D21: 4 | E21: 13 | F21: 23 | G21: =60*30*D21+ROUND((100*E21+F21)*3/10,0)+1 -> 7598 | H21: Short | I21: Diffuse | J21: 704 | K21: 338 | L21: =(J21-J$5)*$O$8 -> 0.16 | M21: =-(K21-K$5)*$O$8 -> 1.12 | N21: =SQRT(L21^2+M21^2) -> 1.1313708 | O21: =O20+1 -> 8
D22: 4 | E22: 41 | F22: 36 | G22: =60*30*D22+ROUND((100*E22+F22)*3/10,0)+1 -> 8442 | H22: Short | I22: Diffuse | J22: 699 | K22: 351 | L22: =(J22-J$5)*$O$8 -> -0.64 | M22: =-(K22-K$5)*$O$8 -> -0.96 | N22: =SQRT(L22^2+M22^2) -> 1.1537764 | O22: =O21+1 -> 9
D23: 4 | E23: 6 | F23: 46 | G23: =60*30*D23+ROUND((100*E23+F23)*3/10,0)+1 -> 7395 | H23: Short | I23: Diffuse | J23: 705 | K23: 352 | L23: =(J23-J$5)*$O$8 -> 0.32 | M23: =-(K23-K$5)*$O$8 -> -1.12 | N23: =SQRT(L23^2+M23^2) -> 1.1648176 | O23: =O22+1 -> 10
D24: 4 | E24: 35 | F24: 0 | G24: =60*30*D24+ROUND((100*E24+F24)*3/10,0)+1 -> 8251 | H24: Short | I24: Sharp | J24: 710 | K24: 342 | L24: =(J24-J$5)*$O$8 -> 1.12 | M24: =-(K24-K$5)*$O$8 -> 0.48 | N24: =SQRT(L24^2+M24^2) -> 1.2185237 | O24: =O23+1 -> 11
D25: 3 | E25: 43 | F25: 23 | G25: =60*30*D25+ROUND((100*E25+F25)*3/10,0)+1 -> 6698 | H25: Short | I25: Sharp | J25: 710 | K25: 349 | L25: =(J25-J$5)*$O$8 -> 1.12 | M25: =-(K25-K$5)*$O$8 -> -0.64 | N25: =SQRT(L25^2+M25^2) -> 1.2899612 | O25: =O24+1 -> 12
D26: 4 | E26: 14 | F26: 26 | G26: =60*30*D26+ROUND((100*E26+F26)*3/10,0)+1 -> 7629 | H26: Long | I26: Sharp | J26: 699 | K26: 338 | L26: =(J26-J$5)*$O$8 -> -0.64 | M26: =-(K26-K$5)*$O$8 -> 1.12 | N26: =SQRT(L26^2+M26^2) -> 1.2899612 | O26: =O25+1 -> 13
... D31: 3 | E31: 51 | F31: 66 | G31: =60*30*D31+ROUND((100*E31+F31)*3/10,0)+1 -> 6951 | H31: Short | I31: Sharp | J31: 713 | K31: 345 | L31: =(J31-J$5)*$O$8 -> 1.6 | M31: =-(K31-K$5)*$O$8 -> 0 | N31: =SQRT(L31^2+M31^2) -> 1.6 | O31: =O30+1 -> 18
D32: 4 | E32: 15 | F32: 26 | G32: =60*30*D32+ROUND((100*E32+F34)*3/10,0)+1 -> 7656 | H32: Long | I32: Diffuse | J32: 693 | K32: 344 | L32: =(J32-J$5)*$O$8 -> -1.6 | M32: =-(K32-K$5)*$O$8 -> 0.16 | N32: =SQRT(L32^2+M32^2) -> 1.6079801 | O32: =O31+1 -> 19
D33: 4 | E33: 19 | F33: 36 | G33: =60*30*D33+ROUND((100*E33+F33)*3/10,0)+1 -> 7782 | H33: Short | I33: Diffuse | J33: 710 | K33: 337 | L33: =(J33-J$5)*$O$8 -> 1.12 | M33: =-(K33-K$5)*$O$8 -> 1.28 | N33: =SQRT(L33^2+M33^2) -> 1.7008233 | O33: =O32+1 -> 20
D34: 4 | E34: 41 | F34: 16 | G34: =60*30*D34+ROUND((100*E34+F34)*3/10,0)+1 -> 8436 | H34: Short | I34: Diffuse | J34: 712 | K34: 351 | L34: =(J34-J$5)*$O$8 -> 1.44 | M34: =-(K34-K$5)*$O$8 -> -0.96 | N34: =SQRT(L34^2+M34^2) -> 1.7306646 | O34: =O33+1 -> 21
D35: 3 | E35: 45 | F35: 23 | G35: =60*30*D35+ROUND((100*E35+F35)*3/10,0)+1 -> 6758 | H35: Short | I35: Sharp | J35: 711 | K35: 354 | L35: =(J35-J$5)*$O$8 -> 1.28 | M35: =-(K35-K$5)*$O$8 -> -1.44 | N35: =SQRT(L35^2+M35^2) -> 1.9266551 | O35: =O34+1 -> 22
D36: 3 | E36: 45 | F36: 46 | G36: =60*30*D36+ROUND((100*E36+F36)*3/10,0)+1 -> 6765 | H36: Long | I36: Sharp | J36: 694 | K36: 337 | L36: =(J36-J$5)*$O$8 -> -1.44 | M36: =-(K36-K$5)*$O$8 -> 1.28 | N36: =SQRT(L36^2+M36^2) -> 1.9266551 | O36: =O35+1 -> 23
D37: 4 | E37: 22 | F37: 33 | G37: =60*30*D37+ROUND((100*E37+F37)*3/10,0)+1 -> 7871 | H37: Short | I37: Diffuse | J37: 694 | K37: 353 | L37: =(J37-J$5)*$O$8 -> -1.44 | M37: =-(K37-K$5)*$O$8 -> -1.28 | N37: =SQRT(L37^2+M37^2) -> 1.9266551 | O37: =O36+1 -> 24
D38: 4 | E38: 10 | F38: 26 | G38: =60*30*D38+ROUND((100*E38+F38)*3/10,0)+1 -> 7509 | H38: Long | I38: Sharp | J38: 714 | K38: 340 | L38: =(J38-J$5)*$O$8 -> 1.76 | M38: =-(K38-K$5)*$O$8 -> 0.8 | N38: =SQRT(L38^2+M38^2) -> 1.9332874 | O38: =O37+1 -> 25
D39: 4 | E39: 29 | F39: 56 | G39: =60*30*D39+ROUND((100*E39+F39)*3/10,0)+1 -> 8088 | H39: Short | I39: Diffuse | J39: 707 | K39: 333 | L39: =(J39-J$5)*$O$8 -> 0.64 | M39: =-(K39-K$5)*$O$8 -> 1.92 | N39: =SQRT(L39^2+M39^2) -> 2.0238577 | O39: =O38+1 -> 26
D40: 3 | E40: 53 | F40: 43 | G40: =60*30*D40+ROUND((100*E40+F40)*3/10,0)+1 -> 7004 | H40: Short | I40: Diffuse | J40: 712 | K40: 336 | L40: =(J40-J$5)*$O$8 -> 1.44 | M40: =-(K40-K$5)*$O$8 -> 1.44 | N40: =SQRT(L40^2+M40^2) -> 2.0364675 | O40: =O39+1 -> 27
D41: 4 | E41: 19 | F41: 46 | G41: =60*30*D41+ROUND((100*E41+F41)*3/10,0)+1 -> 7785 | H41: Short | I41: Diffuse | J41: 713 | K41: 337 | L41: =(J41-J$5)*$O$8 -> 1.6 | M41: =-(K41-K$5)*$O$8 -> 1.28 | N41: =SQRT(L41^2+M41^2) -> 2.0489998 | O41: =O40+1 -> 28
D42: 4 | E42: 29 | F42: 10 | G42: =60*30*D42+ROUND((100*E42+F42)*3/10,0)+1 -> 8074 | H42: Long | I42: Sharp | J42: 716 | K42: 345 | L42: =(J42-J$5)*$O$8 -> 2.08 | M42: =-(K42-K$5)*$O$8 -> 0 | N42: =SQRT(L42^2+M42^2) -> 2.08 | O42: =O41+1 -> 29
D43: 4 | E43: 17 | F43: 23 | G43: =60*30*D43+ROUND((100*E43+F43)*3/10,0)+1 -> 7718 | H43: Long | I43: Sharp | J43: 714 | K43: 337 | L43: =(J43-J$5)*$O$8 -> 1.76 | M43: =-(K43-K$5)*$O$8 -> 1.28 | N43: =SQRT(L43^2+M43^2) -> 2.1762353 | O43: =O42+1 -> 30
D44: 3 | E44: 24 | F44: 86 | G44: =60*30*D44+ROUND((100*E44+F44)*3/10,0)+1 -> 6147 | H44: Long | I44: Sharp | J44: 715 | K44: 338 | L44: =(J44-J$5)*$O$8 -> 1.92 | M44: =-(K44-K$5)*$O$8 -> 1.12 | N44: =SQRT(L44^2+M44^2) -> 2.222791 | O44: =O43+1 -> 31
... D53: 4 | E53: 25 | F53: 73 | G53: =60*30*D53+ROUND((100*E53+F53)*3/10,0)+1 -> 7973 | H53: Short | I53: Sharp | J53: 706 | K53: 329 | L53: =(J53-J$5)*$O$8 -> 0.48 | M53: =-(K53-K$5)*$O$8 -> 2.56 | N53: =SQRT(L53^2+M53^2) -> 2.6046113 | O53: =O52+1 -> 40
D54: 4 | E54: 15 | F54: 26 | G54: =60*30*D54+ROUND((100*E54+F56)*3/10,0)+1 -> 7666 | H54: Long | I54: Sharp | J54: 710 | K54: 330 | L54: =(J54-J$5)*$O$8 -> 1.12 | M54: =-(K54-K$5)*$O$8 -> 2.4 | N54: =SQRT(L54^2+M54^2) -> 2.6484713 | O54: =O53+1 -> 41
...

Sheet Cutoff models (Section 6)
B1: TAB #4: CUTOFF MODELS, DIVIDED BY PI
B2: a = | D2: ='Video data'!O9 -> 2.25 | E2: mm | F2: h= | G2: =ABS(D4) -> 1.25 | H2: mm | I2: height of source above hypothetical active region
B3: b = | D3: ='Video data'!O10 -> 3.5 | E3: mm | F3: Active region scale | G3: 1.05
B4: a-b= | D4: =D2-D3 -> -1.25 | E4: mm
B5: K = | D5: 22.5 | E5: mm
B6: K/b= | D6: =D5/D3 -> 6.4285714
A7: sqrt(K^2-b^2)= | D7: =SQRT(D$5^2-D3^2) -> 22.226111 | E7: mm
B8: K/(a-b)= | D8: =D5/D4 -> -18
A9: sqrt(K^2-(a-b)^2)= | D9: =SQRT(D$5^2-D4^2) -> 22.465251 | E9: mm
A10: simple scale= | D10: ='Data sorted'!O241/(D141+F141) -> 22.137347
A11: subtractive scale= | D11: ='Data sorted'!O241/(D141+F141-H141-I141) -> 28.230814
B13: R | C13: R/b | D13: Simple cutoff b part (C1) | E13: R/(a-b) | F13: Simple cutoff a-b part (C1) | G13: Simple scaled (C1) | H13: Subtraction b part (C1-C2) | I13: Subtraction a-b part (C1-C2) | J13: Subtractive scaled (C2) | K13: Active region solid angle
B14: ='Data sorted'!N244 -> 0.25 | C14: =$B14/$D$3 -> 0.071428571 | D14: =IF($B14<$D$7,$D$3*(LN(1+C14^2)+2*C14*ATAN(1/C14)),IF($B14>$D$5-0.0001,$D$3*2*(LN(ABS($D$6))+1),$D$3*2*(LN(ABS($D$6))+1)+$D$3*(2*C14*ATAN(SQRT(($D$6/C14)^2-1))-2*SQRT($D$6^2-C14^2)))) -> 0.76755617 | E14: =$B14/$D$4 -> -0.2 | F14: =IF($B14<$D$9,$D$4*(LN(1+E14^2)+2*E14*ATAN(1/E14)),IF($B14>$D$5-0.0001,$D$4*2*(LN(ABS($D$8))+1),$D$4*2*(LN(ABS($D$8))+1)+$D$4*(2*E14*ATAN(SQRT(($D$8/E14)^2-1))-2*SQRT($D$8^2-E14^2)))) -> -0.73572627 | G14: =$D$10*(D14+F14) -> 0.70462954 | H14: =IF($B14<$D$7-0.0001,$D$3*(C14/$D$6)^2,IF($B14>$D$5-0.0001,$D$3*(1-1/3/$D$6^2),$D$3*(1-1/3/$D$6^2)-(2/3)*$D$5*(1-(C14/$D$6)^2)^1.5*SIGN($D$3))) -> 0.00043209877 | I14: =IF($B14<$D$9,$D$4*(E14/$D$8)^2,IF($B14>$D$5-0.0001,$D$4*(1-1/3/$D$8^2),$D$4*(1-1/3/$D$8^2)-(2/3)*$D$5*(1-(E14/$D$8)^2)^1.5*SIGN($D$4))) -> -0.00015432099 | J14: =$D$11*(D14+F14-H14-I14) -> 0.89074208 | K14: ='Data sorted'!$O$241*(1-'Cutoff models (Section 6)'!$G$2/SQRT(('Cutoff models (Section 6)'!$G$2^2+'Cutoff models (Section 6)'!B14^2)))*$G$3 -> 4.6489862
B15: ='Data sorted'!N245 -> 0.5 | C15: =$B15/$D$3 -> 0.14285714 | D15: =IF($B15<$D$7,$D$3*(LN(1+C15^2)+2*C15*ATAN(1/C15)),IF($B15>$D$5-0.0001,$D$3*2*(LN(ABS($D$6))+1),$D$3*2*(LN(ABS($D$6))+1)+$D$3*(2*C15*ATAN(SQRT(($D$6/C15)^2-1))-2*SQRT($D$6^2-C15^2)))) -> 1.4996087 | E15: =$B15/$D$4 -> -0.4 | F15: =IF($B15<$D$9,$D$4*(LN(1+E15^2)+2*E15*ATAN(1/E15)),IF($B15>$D$5-0.0001,$D$4*2*(LN(ABS($D$8))+1),$D$4*2*(LN(ABS($D$8))+1)+$D$4*(2*E15*ATAN(SQRT(($D$8/E15)^2-1))-2*SQRT($D$8^2-E15^2)))) -> -1.375815 | G15: =$D$10*(D15+F15) -> 2.7404662 | H15: =IF($B15<$D$7-0.0001,$D$3*(C15/$D$6)^2,IF($B15>$D$5-0.0001,$D$3*(1-1/3/$D$6^2),$D$3*(1-1/3/$D$6^2)-(2/3)*$D$5*(1-(C15/$D$6)^2)^1.5*SIGN($D$3))) -> 0.0017283951 | I15: =IF($B15<$D$9,$D$4*(E15/$D$8)^2,IF($B15>$D$5-0.0001,$D$4*(1-1/3/$D$8^2),$D$4*(1-1/3/$D$8^2)-(2/3)*$D$5*(1-(E15/$D$8)^2)^1.5*SIGN($D$4))) -> -0.00061728395 | J15: =$D$11*(D15+F15-H15-I15) -> 3.463432 | K15: ='Data sorted'!$O$241*(1-'Cutoff models (Section 6)'!$G$2/SQRT(('Cutoff models (Section 6)'!$G$2^2+'Cutoff models (Section 6)'!B15^2)))*$G$3 -> 17.12268
B16: ='Data sorted'!N246 -> 0.75 | C16: =$B16/$D$3 -> 0.21428571 | D16: =IF($B16<$D$7,$D$3*(LN(1+C16^2)+2*C16*ATAN(1/C16)),IF($B16>$D$5-0.0001,$D$3*2*(LN(ABS($D$6))+1),$D$3*2*(LN(ABS($D$6))+1)+$D$3*(2*C16*ATAN(SQRT(($D$6/C16)^2-1))-2*SQRT($D$6^2-C16^2)))) -> 2.1966881 | E16: =$B16/$D$4 -> -0.6 | F16: =IF($B16<$D$9,$D$4*(LN(1+E16^2)+2*E16*ATAN(1/E16)),IF($B16>$D$5-0.0001,$D$4*2*(LN(ABS($D$8))+1),$D$4*2*(LN(ABS($D$8))+1)+$D$4*(2*E16*ATAN(SQRT(($D$8/E16)^2-1))-2*SQRT($D$8^2-E16^2)))) -> -1.9299211 | G16: =$D$10*(D16+F16) -> 5.9055136 | H16: =IF($B16<$D$7-0.0001,$D$3*(C16/$D$6)^2,IF($B16>$D$5-0.0001,$D$3*(1-1/3/$D$6^2),$D$3*(1-1/3/$D$6^2)-(2/3)*$D$5*(1-(C16/$D$6)^2)^1.5*SIGN($D$3))) -> 0.0038888889 | I16: =IF($B16<$D$9,$D$4*(E16/$D$8)^2,IF($B16>$D$5-0.0001,$D$4*(1-1/3/$D$8^2),$D$4*(1-1/3/$D$8^2)-(2/3)*$D$5*(1-(E16/$D$8)^2)^1.5*SIGN($D$4))) -> -0.0013888889 | J16: =$D$11*(D16+F16-H16-I16) -> 7.4604724 | K16: ='Data sorted'!$O$241*(1-'Cutoff models (Section 6)'!$G$2/SQRT(('Cutoff models (Section 6)'!$G$2^2+'Cutoff models (Section 6)'!B16^2)))*$G$3 -> 34.116194
B17: ='Data sorted'!N247 -> 1 | C17: =$B17/$D$3 -> 0.28571429 | D17: =IF($B17<$D$7,$D$3*(LN(1+C17^2)+2*C17*ATAN(1/C17)),IF($B17>$D$5-0.0001,$D$3*2*(LN(ABS($D$6))+1),$D$3*2*(LN(ABS($D$6))+1)+$D$3*(2*C17*ATAN(SQRT(($D$6/C17)^2-1))-2*SQRT($D$6^2-C17^2)))) -> 2.859644 | E17: =$B17/$D$4 -> -0.8 | F17: =IF($B17<$D$9,$D$4*(LN(1+E17^2)+2*E17*ATAN(1/E17)),IF($B17>$D$5-0.0001,$D$4*2*(LN(ABS($D$8))+1),$D$4*2*(LN(ABS($D$8))+1)+$D$4*(2*E17*ATAN(SQRT(($D$8/E17)^2-1))-2*SQRT($D$8^2-E17^2)))) -> -2.4104811 | G17: =$D$10*(D17+F17) -> 9.9432755 | H17: =IF($B17<$D$7-0.0001,$D$3*(C17/$D$6)^2,IF($B17>$D$5-0.0001,$D$3*(1-1/3/$D$6^2),$D$3*(1-1/3/$D$6^2)-(2/3)*$D$5*(1-(C17/$D$6)^2)^1.5*SIGN($D$3))) -> 0.0069135802 | I17: =IF($B17<$D$9,$D$4*(E17/$D$8)^2,IF($B17>$D$5-0.0001,$D$4*(1-1/3/$D$8^2),$D$4*(1-1/3/$D$8^2)-(2/3)*$D$5*(1-(E17/$D$8)^2)^1.5*SIGN($D$4))) -> -0.0024691358 | J17: =$D$11*(D17+F17-H17-I17) -> 12.554765 | K17: ='Data sorted'!$O$241*(1-'Cutoff models (Section 6)'!$G$2/SQRT(('Cutoff models (Section 6)'!$G$2^2+'Cutoff models (Section 6)'!B17^2)))*$G$3 -> 52.460007
B18: ='Data sorted'!N248 -> 1.25 | C18: =$B18/$D$3 -> 0.35714286 | D18: =IF($B18<$D$7,$D$3*(LN(1+C18^2)+2*C18*ATAN(1/C18)),IF($B18>$D$5-0.0001,$D$3*2*(LN(ABS($D$6))+1),$D$3*2*(LN(ABS($D$6))+1)+$D$3*(2*C18*ATAN(SQRT(($D$6/C18)^2-1))-2*SQRT($D$6^2-C18^2)))) -> 3.4895991 | E18: =$B18/$D$4 -> -1 | F18: =IF($B18<$D$9,$D$4*(LN(1+E18^2)+2*E18*ATAN(1/E18)),IF($B18>$D$5-0.0001,$D$4*2*(LN(ABS($D$8))+1),$D$4*2*(LN(ABS($D$8))+1)+$D$4*(2*E18*ATAN(SQRT(($D$8/E18)^2-1))-2*SQRT($D$8^2-E18^2)))) -> -2.8299294 | G18: =$D$10*(D18+F18) -> 14.603338 | H18: =IF($B18<$D$7-0.0001,$D$3*(C18/$D$6)^2,IF($B18>$D$5-0.0001,$D$3*(1-1/3/$D$6^2),$D$3*(1-1/3/$D$6^2)-(2/3)*$D$5*(1-(C18/$D$6)^2)^1.5*SIGN($D$3))) -> 0.010802469 | I18: =IF($B18<$D$9,$D$4*(E18/$D$8)^2,IF($B18>$D$5-0.0001,$D$4*(1-1/3/$D$8^2),$D$4*(1-1/3/$D$8^2)-(2/3)*$D$5*(1-(E18/$D$8)^2)^1.5*SIGN($D$4))) -> -0.0038580247 | J18: =$D$11*(D18+F18-H18-I18) -> 18.426966 | K18: ='Data sorted'!$O$241*(1-'Cutoff models (Section 6)'!$G$2/SQRT(('Cutoff models (Section 6)'!$G$2^2+'Cutoff models (Section 6)'!B18^2)))*$G$3 -> 70.118637
B19: ='Data sorted'!N249 -> 1.5 | C19: =$B19/$D$3 -> 0.42857143 | D19: =IF($B19<$D$7,$D$3*(LN(1+C19^2)+2*C19*ATAN(1/C19)),IF($B19>$D$5-0.0001,$D$3*2*(LN(ABS($D$6))+1),$D$3*2*(LN(ABS($D$6))+1)+$D$3*(2*C19*ATAN(SQRT(($D$6/C19)^2-1))-2*SQRT($D$6^2-C19^2)))) -> 4.0878931 | E19: =$B19/$D$4 -> -1.2 | F19: =IF($B19<$D$9,$D$4*(LN(1+E19^2)+2*E19*ATAN(1/E19)),IF($B19>$D$5-0.0001,$D$4*2*(LN(ABS($D$8))+1),$D$4*2*(LN(ABS($D$8))+1)+$D$4*(2*E19*ATAN(SQRT(($D$8/E19)^2-1))-2*SQRT($D$8^2-E19^2)))) -> -3.1992124 | G19: =$D$10*(D19+F19) -> 19.673034 | H19: =IF($B19<$D$7-0.0001,$D$3*(C19/$D$6)^2,IF($B19>$D$5-0.0001,$D$3*(1-1/3/$D$6^2),$D$3*(1-1/3/$D$6^2)-(2/3)*$D$5*(1-(C19/$D$6)^2)^1.5*SIGN($D$3))) -> 0.015555556 | I19: =IF($B19<$D$9,$D$4*(E19/$D$8)^2,IF($B19>$D$5-0.0001,$D$4*(1-1/3/$D$8^2),$D$4*(1-1/3/$D$8^2)-(2/3)*$D$5*(1-(E19/$D$8)^2)^1.5*SIGN($D$4))) -> -0.0055555556 | J19: =$D$11*(D19+F19-H19-I19) -> 24.805873 | K19: ='Data sorted'!$O$241*(1-'Cutoff models (Section 6)'!$G$2/SQRT(('Cutoff models (Section 6)'!$G$2^2+'Cutoff models (Section 6)'!B19^2)))*$G$3 -> 86.139855
B20: ='Data sorted'!N250 -> 1.75 | C20: =$B20/$D$3 -> 0.5 | D20: =IF($B20<$D$7,$D$3*(LN(1+C20^2)+2*C20*ATAN(1/C20)),IF($B20>$D$5-0.0001,$D$3*2*(LN(ABS($D$6))+1),$D$3*2*(LN(ABS($D$6))+1)+$D$3*(2*C20*ATAN(SQRT(($D$6/C20)^2-1))-2*SQRT($D$6^2-C20^2)))) -> 4.6560229 | E20: =$B20/$D$4 -> -1.4 | F20: =IF($B20<$D$9,$D$4*(LN(1+E20^2)+2*E20*ATAN(1/E20)),IF($B20>$D$5-0.0001,$D$4*2*(LN(ABS($D$8))+1),$D$4*2*(LN(ABS($D$8))+1)+$D$4*(2*E20*ATAN(SQRT(($D$8/E20)^2-1))-2*SQRT($D$8^2-E20^2)))) -> -3.5273598 | G20: =$D$10*(D20+F20) -> 24.985608 | H20: =IF($B20<$D$7-0.0001,$D$3*(C20/$D$6)^2,IF($B20>$D$5-0.0001,$D$3*(1-1/3/$D$6^2),$D$3*(1-1/3/$D$6^2)-(2/3)*$D$5*(1-(C20/$D$6)^2)^1.5*SIGN($D$3))) -> 0.02117284 | I20: =IF($B20<$D$9,$D$4*(E20/$D$8)^2,IF($B20>$D$5-0.0001,$D$4*(1-1/3/$D$8^2),$D$4*(1-1/3/$D$8^2)-(2/3)*$D$5*(1-(E20/$D$8)^2)^1.5*SIGN($D$4))) -> -0.0075617284 | J20: =$D$11*(D20+F20-H20-I20) -> 31.478827 | K20: ='Data sorted'!$O$241*(1-'Cutoff models (Section 6)'!$G$2/SQRT(('Cutoff models (Section 6)'!$G$2^2+'Cutoff models (Section 6)'!B20^2)))*$G$3 -> 100.25158
B21: ='Data sorted'!N251 -> 2 | C21: =$B21/$D$3 -> 0.57142857 | D21: =IF($B21<$D$7,$D$3*(LN(1+C21^2)+2*C21*ATAN(1/C21)),IF($B21>$D$5-0.0001,$D$3*2*(LN(ABS($D$6))+1),$D$3*2*(LN(ABS($D$6))+1)+$D$3*(2*C21*ATAN(SQRT(($D$6/C21)^2-1))-2*SQRT($D$6^2-C21^2)))) -> 5.1955853 | E21: =$B21/$D$4 -> -1.6 | F21: =IF($B21<$D$9,$D$4*(LN(1+E21^2)+2*E21*ATAN(1/E21)),IF($B21>$D$5-0.0001,$D$4*2*(LN(ABS($D$8))+1),$D$4*2*(LN(ABS($D$8))+1)+$D$4*(2*E21*ATAN(SQRT(($D$8/E21)^2-1))-2*SQRT($D$8^2-E21^2)))) -> -3.8215979 | G21: =$D$10*(D21+F21) -> 30.416434 | H21: =IF($B21<$D$7-0.0001,$D$3*(C21/$D$6)^2,IF($B21>$D$5-0.0001,$D$3*(1-1/3/$D$6^2),$D$3*(1-1/3/$D$6^2)-(2/3)*$D$5*(1-(C21/$D$6)^2)^1.5*SIGN($D$3))) -> 0.027654321 | I21: =IF($B21<$D$9,$D$4*(E21/$D$8)^2,IF($B21>$D$5-0.0001,$D$4*(1-1/3/$D$8^2),$D$4*(1-1/3/$D$8^2)-(2/3)*$D$5*(1-(E21/$D$8)^2)^1.5*SIGN($D$4))) -> -0.0098765432 | J21: =$D$11*(D21+F21-H21-I21) -> 38.286899 | K21: ='Data sorted'!$O$241*(1-'Cutoff models (Section 6)'!$G$2/SQRT(('Cutoff models (Section 6)'!$G$2^2+'Cutoff models (Section 6)'!B21^2)))*$G$3 -> 112.51825
B22: ='Data sorted'!N252 -> 2.25 | C22: =$B22/$D$3 -> 0.64285714 | D22: =IF($B22<$D$7,$D$3*(LN(1+C22^2)+2*C22*ATAN(1/C22)),IF($B22>$D$5-0.0001,$D$3*2*(LN(ABS($D$6))+1),$D$3*2*(LN(ABS($D$6))+1)+$D$3*(2*C22*ATAN(SQRT(($D$6/C22)^2-1))-2*SQRT($D$6^2-C22^2)))) -> 5.7082248 | E22: =$B22/$D$4 -> -1.8 | F22: =IF($B22<$D$9,$D$4*(LN(1+E22^2)+2*E22*ATAN(1/E22)),IF($B22>$D$5-0.0001,$D$4*2*(LN(ABS($D$8))+1),$D$4*2*(LN(ABS($D$8))+1)+$D$4*(2*E22*ATAN(SQRT(($D$8/E22)^2-1))-2*SQRT($D$8^2-E22^2)))) -> -4.0876474 | G22: =$D$10*(D22+F22) -> 35.875285 | H22: =IF($B22<$D$7-0.0001,$D$3*(C22/$D$6)^2,IF($B22>$D$5-0.0001,$D$3*(1-1/3/$D$6^2),$D$3*(1-1/3/$D$6^2)-(2/3)*$D$5*(1-(C22/$D$6)^2)^1.5*SIGN($D$3))) -> 0.035 | I22: =IF($B22<$D$9,$D$4*(E22/$D$8)^2,IF($B22>$D$5-0.0001,$D$4*(1-1/3/$D$8^2),$D$4*(1-1/3/$D$8^2)-(2/3)*$D$5*(1-(E22/$D$8)^2)^1.5*SIGN($D$4))) -> -0.0125 | J22: =$D$11*(D22+F22-H22-I22) -> 45.115027 | K22: ='Data sorted'!$O$241*(1-'Cutoff models (Section 6)'!$G$2/SQRT(('Cutoff models (Section 6)'!$G$2^2+'Cutoff models (Section 6)'!B22^2)))*$G$3 -> 123.13708
B23: ='Data sorted'!N253 -> 2.5 | C23: =$B23/$D$3 -> 0.71428571 | D23: =IF($B23<$D$7,$D$3*(LN(1+C23^2)+2*C23*ATAN(1/C23)),IF($B23>$D$5-0.0001,$D$3*2*(LN(ABS($D$6))+1),$D$3*2*(LN(ABS($D$6))+1)+$D$3*(2*C23*ATAN(SQRT(($D$6/C23)^2-1))-2*SQRT($D$6^2-C23^2)))) -> 6.195591 | E23: =$B23/$D$4 -> -2 | F23: =IF($B23<$D$9,$D$4*(LN(1+E23^2)+2*E23*ATAN(1/E23)),IF($B23>$D$5-0.0001,$D$4*2*(LN(ABS($D$8))+1),$D$4*2*(LN(ABS($D$8))+1)+$D$4*(2*E23*ATAN(SQRT(($D$8/E23)^2-1))-2*SQRT($D$8^2-E23^2)))) -> -4.3300354 | G23: =$D$10*(D23+F23) -> 41.298451 | H23: =IF($B23<$D$7-0.0001,$D$3*(C23/$D$6)^2,IF($B23>$D$5-0.0001,$D$3*(1-1/3/$D$6^2),$D$3*(1-1/3/$D$6^2)-(2/3)*$D$5*(1-(C23/$D$6)^2)^1.5*SIGN($D$3))) -> 0.043209877 | I23: =IF($B23<$D$9,$D$4*(E23/$D$8)^2,IF($B23>$D$5-0.0001,$D$4*(1-1/3/$D$8^2),$D$4*(1-1/3/$D$8^2)-(2/3)*$D$5*(1-(E23/$D$8)^2)^1.5*SIGN($D$4))) -> -0.015432099 | J23: =$D$11*(D23+F23-H23-I23) -> 51.881963 | K23: ='Data sorted'!$O$241*(1-'Cutoff models (Section 6)'!$G$2/SQRT(('Cutoff models (Section 6)'!$G$2^2+'Cutoff models (Section 6)'!B23^2)))*$G$3 -> 132.33707
B24: ='Data sorted'!N254 -> 2.75 | C24: =$B24/$D$3 -> 0.78571429 | D24: =IF($B24<$D$7,$D$3*(LN(1+C24^2)+2*C24*ATAN(1/C24)),IF($B24>$D$5-0.0001,$D$3*2*(LN(ABS($D$6))+1),$D$3*2*(LN(ABS($D$6))+1)+$D$3*(2*C24*ATAN(SQRT(($D$6/C24)^2-1))-2*SQRT($D$6^2-C24^2)))) -> 6.6593039 | E24: =$B24/$D$4 -> -2.2 | F24: =IF($B24<$D$9,$D$4*(LN(1+E24^2)+2*E24*ATAN(1/E24)),IF($B24>$D$5-0.0001,$D$4*2*(LN(ABS($D$8))+1),$D$4*2*(LN(ABS($D$8))+1)+$D$4*(2*E24*ATAN(SQRT(($D$8/E24)^2-1))-2*SQRT($D$8^2-E24^2)))) -> -4.5523647 | G24: =$D$10*(D24+F24) -> 46.642044 | H24: =IF($B24<$D$7-0.0001,$D$3*(C24/$D$6)^2,IF($B24>$D$5-0.0001,$D$3*(1-1/3/$D$6^2),$D$3*(1-1/3/$D$6^2)-(2/3)*$D$5*(1-(C24/$D$6)^2)^1.5*SIGN($D$3))) -> 0.052283951 | I24: =IF($B24<$D$9,$D$4*(E24/$D$8)^2,IF($B24>$D$5-0.0001,$D$4*(1-1/3/$D$8^2),$D$4*(1-1/3/$D$8^2)-(2/3)*$D$5*(1-(E24/$D$8)^2)^1.5*SIGN($D$4))) -> -0.01867284 | J24: =$D$11*(D24+F24-H24-I24) -> 58.531739 | K24: ='Data sorted'!$O$241*(1-'Cutoff models (Section 6)'!$G$2/SQRT(('Cutoff models (Section 6)'!$G$2^2+'Cutoff models (Section 6)'!B24^2)))*$G$3 -> 140.33558
B25: ='Data sorted'!N255 -> 3 | C25: =$B25/$D$3 -> 0.85714286 | D25: =IF($B25<$D$7,$D$3*(LN(1+C25^2)+2*C25*ATAN(1/C25)),IF($B25>$D$5-0.0001,$D$3*2*(LN(ABS($D$6))+1),$D$3*2*(LN(ABS($D$6))+1)+$D$3*(2*C25*ATAN(SQRT(($D$6/C25)^2-1))-2*SQRT($D$6^2-C25^2)))) -> 7.1009287 | E25: =$B25/$D$4 -> -2.4 | F25: =IF($B25<$D$9,$D$4*(LN(1+E25^2)+2*E25*ATAN(1/E25)),IF($B25>$D$5-0.0001,$D$4*2*(LN(ABS($D$8))+1),$D$4*2*(LN(ABS($D$8))+1)+$D$4*(2*E25*ATAN(SQRT(($D$8/E25)^2-1))-2*SQRT($D$8^2-E25^2)))) -> -4.7575253 | G25: =$D$10*(D25+F25) -> 51.876734 | H25: =IF($B25<$D$7-0.0001,$D$3*(C25/$D$6)^2,IF($B25>$D$5-0.0001,$D$3*(1-1/3/$D$6^2),$D$3*(1-1/3/$D$6^2)-(2/3)*$D$5*(1-(C25/$D$6)^2)^1.5*SIGN($D$3))) -> 0.062222222 | I25: =IF($B25<$D$9,$D$4*(E25/$D$8)^2,IF($B25>$D$5-0.0001,$D$4*(1-1/3/$D$8^2),$D$4*(1-1/3/$D$8^2)-(2/3)*$D$5*(1-(E25/$D$8)^2)^1.5*SIGN($D$4))) -> -0.022222222 | J25: =$D$11*(D25+F25-H25-I25) -> 65.026952 | K25: ='Data sorted'!$O$241*(1-'Cutoff models (Section 6)'!$G$2/SQRT(('Cutoff models (Section 6)'!$G$2^2+'Cutoff models (Section 6)'!B25^2)))*$G$3 -> 147.32308
... B213: ='Data sorted'!N443 -> 50 | C213: =$B213/$D$3 -> 14.285714 | D213: =IF($B213<$D$7,$D$3*(LN(1+C213^2)+2*C213*ATAN(1/C213)),IF($B213>$D$5-0.0001,$D$3*2*(LN(ABS($D$6))+1),$D$3*2*(LN(ABS($D$6))+1)+$D$3*(2*C213*ATAN(SQRT(($D$6/C213)^2-1))-2*SQRT($D$6^2-C213^2)))) -> 20.025266 | E213: =$B213/$D$4 -> -40 | F213: =IF($B213<$D$9,$D$4*(LN(1+E213^2)+2*E213*ATAN(1/E213)),IF($B213>$D$5-0.0001,$D$4*2*(LN(ABS($D$8))+1),$D$4*2*(LN(ABS($D$8))+1)+$D$4*(2*E213*ATAN(SQRT(($D$8/E213)^2-1))-2*SQRT($D$8^2-E213^2)))) -> -9.7259294 | G213: =$D$10*(D213+F213) -> 228 | H213: =IF($B213<$D$7-0.0001,$D$3*(C213/$D$6)^2,IF($B213>$D$5-0.0001,$D$3*(1-1/3/$D$6^2),$D$3*(1-1/3/$D$6^2)-(2/3)*$D$5*(1-(C213/$D$6)^2)^1.5*SIGN($D$3))) -> 3.4717695 | I213: =IF($B213<$D$9,$D$4*(E213/$D$8)^2,IF($B213>$D$5-0.0001,$D$4*(1-1/3/$D$8^2),$D$4*(1-1/3/$D$8^2)-(2/3)*$D$5*(1-(E213/$D$8)^2)^1.5*SIGN($D$4))) -> -1.248714 | J213: =$D$11*(D213+F213-H213-I213) -> 228 | K213: ='Data sorted'!$O$241*(1-'Cutoff models (Section 6)'!$G$2/SQRT(('Cutoff models (Section 6)'!$G$2^2+'Cutoff models (Section 6)'!B213^2)))*$G$3 -> 233.41687
