Workbook

Sheet Summary
A6: EU trade since 1999 by SITC [ds-018995__custom_13534514]
A7: Open product page | B7: Open in Data Browser
A8: Description: | B8: -
A10: Last update of data: | D10: 17/10/2024 11:00
A11: Last change of data structure: | D11: 17/10/2024 11:00
B13: Institutional source(s)
C14: Eurostat
B15: Contents | C15: Frequency | D15: REPORTER | E15: INDICATORS
B16: Sheet 1 | C16: Annual | D16: Spain (incl. Canary Islands 'XB' from 1997) | E16: VALUE_IN_EUROS

Sheet Structure
A1: Structure
B2: Dimension | C2: Position
B3: Label | C3: Label
B4: Frequency | C4: Annual
B5: REPORTER | C5: Spain (incl. Canary Islands 'XB' from 1997)
B6: PARTNER | C6: Andorra
B7: PARTNER | C7: United Arab Emirates
B8: PARTNER | C8: Afghanistan
B9: PARTNER | C9: Antigua and Barbuda
B10: PARTNER | C10: Anguilla
B11: PARTNER | C11: Albania
B12: PARTNER | C12: Armenia
B13: PARTNER | C13: Netherlands Antilles (incl. Aruba 'AW' -> 1986)
... B314: TIME_PERIOD | C314: 1999

Sheet 1. Total Imports
A1: TIME | B1: 1999 | C1: 2000 | D1: 2001 | E1: 2002 | F1: 2003 | G1: 2004 | H1: 2005 | I1: 2006 | J1: 2007 | K1: 2008 | L1: 2009 | M1: 2010 | N1: 2011 | O1: 2012 | P1: 2013 | Q1: 2014 | R1: 2015 | S1: 2016 | T1: 2017 | U1: 2018 | V1: 2019 | W1: 2020 | X1: 2021 | Y1: 2022 | Z1: 2023 | AA1: Total
A2: PARTNER (Labels)
A3: All countries of the world | B3: 3046907108 | C3: 4165400260 | D3: 4777386348 | E3: 5250533556 | F3: 5823204726 | G3: 6539371831 | H3: 7612913922 | I3: 8842130685 | J3: 9769583002 | K3: 10472777757 | L3: 9411349187 | M3: 10469309683 | N3: 11374518501 | O3: 11435977613 | P3: 11377102535 | Q3: 12949490873 | R3: 14751513554 | S3: 15929588475 | T3: 16561429508 | U3: 17056187056 | V3: 18216907498 | W3: 15412299612 | X3: 17036387655 | Y3: 22219164075 | Z3: 19982554283 | AA3: =SUM(B3:Z3) -> 290483989303
A4: Extra-euro area (= 'WORLD' - 'EUROZONE_INTRA') | B4: 1568971824 | C4: 2216637493 | D4: 2503391082 | E4: 2868282224 | F4: 3165782347 | G4: 3685905954 | H4: 4400115066 | I4: 5282789812 | J4: 5665244927 | K4: 6035395110 | L4: 5910759499 | M4: 6767653171 | N4: 7551676992 | O4: 7704721400 | P4: 7794878848 | Q4: 9099030712 | R4: 10530070987 | S4: 11360338950 | T4: 12273300377 | U4: 12802171929 | V4: 13503761232 | W4: 11327988326 | X4: 12424701905 | Y4: 15943546813 | Z4: 13495783756 | AA4: =SUM(B4:Z4) -> 195882900736
A5: Extra-EU (= 'WORLD' - 'EU_INTRA') | B5: 1405736464 | C5: 1980707883 | D5: 2290893769 | E5: 2569222267 | F5: 2953414957 | G5: 3442102638 | H5: 4141166210 | I5: 4994074482 | J5: 5278775836 | K5: 5619745459 | L5: 5605325082 | M5: 6415340741 | N5: 7151856214 | O5: 7326263497 | P5: 7376609304 | Q5: 8563984160 | R5: 9948896245 | S5: 10755292912 | T5: 11738976607 | U5: 12276783072 | V5: 12885772396 | W5: 10984033991 | X5: 12017095937 | Y5: 15338463532 | Z5: 12793153340 | AA5: =SUM(B5:Z5) -> 185853686995
A6: Intra-EU (AT-01/1995, BE-01/1958, BG-01/2007, CY-05/2004, CZ-05/2004, DE-01/1958, DK-01/1973, EE-05/2004, ES-01/1986, FI-01/1995, FR-01/1958, GB-01/1973->01/2020, GR-01/1981, HR-07/2013, HU-05/2004, IE-01/1973, IT-01/1958, LT-05/2004, LU-01/1958, LV-05/2004, MT-05/2004, NL-01/1958, PL-05/2004, PT-01/1986, RO-01/2007, SE-01/1995, SI-05/2004, SK-05/2004, QR-01/1993, QV-01/1993, QY-01/1988) | B6: 1641170644 | C6: 2184692377 | D6: 2486492579 | E6: 2681311289 | F6: 2869789769 | G6: 3097269193 | H6: 3471747712 | I6: 3848056203 | J6: 4490807166 | K6: 4853032298 | L6: 3806024105 | M6: 4053968942 | N6: 4222662287 | O6: 4109714116 | P6: 4000493231 | Q6: 4385506713 | R6: 4802617309 | S6: 5174295563 | T6: 4822452901 | U6: 4779403984 | V6: 5331135102 | W6: 4428265621 | X6: 5019291718 | Y6: 6880700543 | Z6: 7189400943 | AA6: =SUM(B6:Z6) -> 104630302308
A7: Intra-euro area (AT-01/1999, BE-01/1999, CY-01/2008, DE-01/1999, EE-01/2011, ES-01/1999, FI-01/1999, FR-01/1999, GR-01/2001, HR-01/2023, IE-01/1999, IT-01/1999, LT-01/2015, LU-01/1999, LV-01/2014, MT-01/2008, NL-01/1999, PT-01/1999, SI-01/2007, SK-01/2009, QR-01/1999, QV-01/1999, QY-01/1999) | B7: 1477935284 | C7: 1948762767 | D7: 2273995266 | E7: 2382251332 | F7: 2657422379 | G7: 2853465877 | H7: 3212798856 | I7: 3559340873 | J7: 4104338075 | K7: 4437382647 | L7: 3500589688 | M7: 3701656512 | N7: 3822841509 | O7: 3731256213 | P7: 3582223687 | Q7: 3850460161 | R7: 4221442567 | S7: 4569249525 | T7: 4288129131 | U7: 4254015127 | V7: 4713146266 | W7: 4084311286 | X7: 4611685750 | Y7: 6275617262 | Z7: 6486770527 | AA7: =SUM(B7:Z7) -> 94601088567
A8: China | B8: 425608643 | C8: 579156470 | D8: 639034333 | E8: 730574787 | F8: 814180486 | G8: 987232500 | H8: 1500495618 | I8: 1711147034 | J8: 1963669930 | K8: 2165188799 | L8: 2199110831 | M8: 2490448079 | N8: 2609777573 | O8: 2519113824 | P8: 2382268038 | Q8: 2725151713 | R8: 3111488118 | S8: 3040465462 | T8: 3091323065 | U8: 2942240411 | V8: 2975590592 | W8: 2723095311 | X8: 2614362222 | Y8: 3552071725 | Z8: 3115131375 | AA8: =SUM(B8:Z8) -> 53607926939
A9: Bangladesh | B9: 55992061 | C9: 83917553 | D9: 102213839 | E9: 137839183 | F9: 192802164 | G9: 266552842 | H9: 283880089 | I9: 366555307 | J9: 340393895 | K9: 400898736 | L9: 438669001 | M9: 528397663 | N9: 774885808 | O9: 936324221 | P9: 1057396999 | Q9: 1243248941 | R9: 1644278952 | S9: 1912752322 | T9: 2087509311 | U9: 2302305156 | V9: 2526269978 | W9: 2096639001 | X9: 2442051354 | Y9: 3410354428 | Z9: 2979948668 | AA9: =SUM(B9:Z9) -> 28612077472
A10: Türkiye | B10: 72500482 | C10: 98420529 | D10: 109725489 | E10: 158158631 | F10: 238976521 | G10: 360693298 | H10: 466922291 | I10: 597304522 | J10: 754832986 | K10: 744391896 | L10: 759983172 | M10: 914060143 | N10: 1078861182 | O10: 1172031472 | P10: 1200637478 | Q10: 1281923033 | R10: 1531247415 | S10: 1673043859 | T10: 2018350533 | U10: 2254100545 | V10: 2315824510 | W10: 1899030651 | X10: 2355717172 | Y10: 2528514048 | Z10: 1606902443 | AA10: =SUM(B10:Z10) -> 28192154301
A11: Morocco | B11: 167313213 | C11: 262014068 | D11: 423035746 | E11: 478181235 | F11: 594290736 | G11: 601601296 | H11: 635015357 | I11: 803913256 | J11: 925722607 | K11: 890112534 | L11: 781055398 | M11: 897096382 | N11: 932425114 | O11: 993748365 | P11: 997523774 | Q11: 1168942171 | R11: 1199061913 | S11: 1474072663 | T11: 1602206402 | U11: 1663800392 | V11: 1652788067 | W11: 1217908936 | X11: 1658551060 | Y11: 1887272615 | Z11: 1403668712 | AA11: =SUM(B11:Z11) -> 25311322012
A12: Italy (incl. San Marino 'SM' -> 1993) | B12: 461519402 | C12: 615504336 | D12: 707820385 | E12: 675689984 | F12: 737685797 | G12: 842309270 | H12: 908228136 | I12: 989531086 | J12: 1140183014 | K12: 1077433138 | L12: 888598015 | M12: 904929197 | N12: 949225414 | O12: 996624532 | P12: 873730213 | Q12: 950933662 | R12: 1051673920 | S12: 1074284718 | T12: 1076553785 | U12: 1101808362 | V12: 1233812949 | W12: 1001958062 | X12: 1150482831 | Y12: 1464366505 | Z12: 1591577149 | AA12: =SUM(B12:Z12) -> 24466463862
A13: France (incl. Saint Barthélemy 'BL' -> 2012; incl. French Guiana 'GF', Guadeloupe 'GP', Martinique 'MQ', Réunion 'RE' from 1997; incl. Mayotte 'YT' from 2014) | B13: 303399355 | C13: 385488708 | D13: 428632802 | E13: 472090107 | F13: 513101086 | G13: 594569417 | H13: 708714436 | I13: 785979772 | J13: 939849131 | K13: 1335533757 | L13: 765417717 | M13: 841443688 | N13: 855648729 | O13: 753034515 | P13: 728831583 | Q13: 826271413 | R13: 959127417 | S13: 1060955679 | T13: 1038945940 | U13: 1052924992 | V13: 1242677380 | W13: 1040278083 | X13: 1196529516 | Y13: 1455530817 | Z13: 1297108779 | AA13: =SUM(B13:Z13) -> 21582084819
A14: Portugal | B14: 287128941 | C14: 419150876 | D14: 482927469 | E14: 540816349 | F14: 632301031 | G14: 594574142 | H14: 619629739 | I14: 648993454 | J14: 742422940 | K14: 704139900 | L14: 679122190 | M14: 719926804 | N14: 762578675 | O14: 840293388 | P14: 879917154 | Q14: 950217799 | R14: 1012471631 | S14: 1078976242 | T14: 733468194 | U14: 535726975 | V14: 521031009 | W14: 609617546 | X14: 415429718 | Y14: 691919630 | Z14: 711193341 | AA14: =SUM(B14:Z14) -> 16813975137
... A57: Mexico | B57: 4485628 | C57: 3028760 | D57: 2781156 | E57: 3384853 | F57: 2778383 | G57: 3552216 | H57: 6314054 | I57: 8578178 | J57: 7568230 | K57: 6718582 | L57: 6058251 | M57: 5659269 | N57: 3701333 | O57: 3885524 | P57: 3814087 | Q57: 5197493 | R57: 5041809 | S57: 5124440 | T57: 6387949 | U57: 5677546 | V57: 6110167 | W57: 3598403 | X57: 2752073 | Y57: 4381737 | Z57: 3960569 | AA57: =SUM(B57:Z57) -> 120540690
A58: Jamaica | B58: 13057201 | C58: 16587257 | D58: 19052579 | E58: 22375456 | F58: 19250919 | G58: 15520360 | H58: 1534004 | I58: : | J58: : | K58: : | L58: : | M58: : | N58: : | O58: 120 | P58: 2095 | Q58: 235 | R58: : | S58: 9001 | T58: 290 | U58: 516 | V58: 1377 | W58: 796 | X58: 2193 | Y58: 273 | Z58: 469 | AA58: =SUM(B58:Z58) -> 107395141
A59: Canada | B59: 1081519 | C59: 1179549 | D59: 701059 | E59: 1030493 | F59: 1513995 | G59: 2644350 | H59: 2661103 | I59: 3069783 | J59: 2988909 | K59: 3046807 | L59: 1827116 | M59: 2404433 | N59: 3612557 | O59: 4196880 | P59: 3930971 | Q59: 4725233 | R59: 5544587 | S59: 5102613 | T59: 5407445 | U59: 6271460 | V59: 7608049 | W59: 4343164 | X59: 4634567 | Y59: 7863592 | Z59: 7869094 | AA59: =SUM(B59:Z59) -> 95259328
A60: Croatia | B60: 1445027 | C60: 3320615 | D60: 2043310 | E60: 1115447 | F60: 1494856 | G60: 1590542 | H60: 1016353 | I60: 893027 | J60: 25246 | K60: 87643 | L60: 14760 | M60: 164940 | N60: 191081 | O60: 47381 | P60: 121703 | Q60: 866355 | R60: 1002374 | S60: 1345234 | T60: 1664916 | U60: 1591314 | V60: 2503356 | W60: 2056559 | X60: 1762218 | Y60: 14382581 | Z60: 51889569 | AA60: =SUM(B60:Z60) -> 92636407
A61: Turkmenistan | B61: : | C61: : | D61: : | E61: : | F61: 579826 | G61: 3199487 | H61: 4422547 | I61: 3754754 | J61: 2473238 | K61: 2853528 | L61: 7765598 | M61: 9055392 | N61: 7652884 | O61: 7039993 | P61: 8895887 | Q61: 8538475 | R61: 7286199 | S61: 3034248 | T61: 353463 | U61: 37179 | V61: 1349 | W61: 3044 | X61: 1371 | Y61: 482 | Z61: : | AA61: =SUM(B61:Z61) -> 76948944
A62: Argentina | B62: 1137741 | C62: 1593512 | D62: 1657976 | E62: 4933537 | F62: 11042364 | G62: 9549520 | H62: 8382619 | I62: 8745618 | J62: 7369500 | K62: 5322190 | L62: 2857559 | M62: 2533529 | N62: 2270188 | O62: 1372115 | P62: 817765 | Q62: 762913 | R62: 625148 | S62: 488366 | T62: 413804 | U62: 543203 | V62: 354295 | W62: 197333 | X62: 300449 | Y62: 357946 | Z62: 353803 | AA62: =SUM(B62:Z62) -> 73982993
A63: Malta | B63: 381624 | C63: 1031846 | D63: 531969 | E63: 601294 | F63: 1174258 | G63: 306380 | H63: 77513 | I63: 2244 | J63: 4732355 | K63: 110 | L63: 343614 | M63: 193962 | N63: 2509165 | O63: 6428676 | P63: 10535138 | Q63: 12363317 | R63: 11719452 | S63: 3108863 | T63: 3149460 | U63: 3329128 | V63: 1766204 | W63: 1891819 | X63: 2004439 | Y63: 1741354 | Z63: 2197590 | AA63: =SUM(B63:Z63) -> 72121774
A64: Lao People’s Democratic Republic (Laos) | B64: 2580406 | C64: 2511799 | D64: 1776038 | E64: 2804893 | F64: 1897251 | G64: 2466948 | H64: 2585300 | I64: 2135938 | J64: 2483187 | K64: 2912449 | L64: 2145895 | M64: 3424405 | N64: 4769173 | O64: 6359580 | P64: 6449417 | Q64: 3567414 | R64: 6242115 | S64: 2814496 | T64: 2224200 | U64: 2504323 | V64: 1475540 | W64: 1076388 | X64: 642592 | Y64: 1149869 | Z64: 1633053 | AA64: =SUM(B64:Z64) -> 70632669
A65: Saudi Arabia | B65: 525911 | C65: 2674027 | D65: 3218438 | E65: 2701231 | F65: 2402674 | G65: 2406007 | H65: 1272114 | I65: 1612713 | J65: 1357569 | K65: 2052541 | L65: 1802699 | M65: 2181725 | N65: 2674986 | O65: 1091456 | P65: 2629834 | Q65: 3643356 | R65: 4383745 | S65: 6975928 | T65: 5111290 | U65: 4028067 | V65: 4231476 | W65: 2405251 | X65: 1378590 | Y65: 2593220 | Z65: 5167600 | AA65: =SUM(B65:Z65) -> 70522448
A66: Andorra | B66: 766427 | C66: 756823 | D66: 1039260 | E66: 1169645 | F66: 1404361 | G66: 1241321 | H66: 1055035 | I66: 1940399 | J66: 1696192 | K66: 1954373 | L66: 1502576 | M66: 1648335 | N66: 1678017 | O66: 1962837 | P66: 1663194 | Q66: 1984445 | R66: 2896328 | S66: 3254252 | T66: 3298672 | U66: 4070292 | V66: 5373593 | W66: 5329548 | X66: 5443903 | Y66: 5310381 | Z66: 7100362 | AA66: =SUM(B66:Z66) -> 65540571
A67: Russian Federation (Russia) | B67: 543545 | C67: 2284679 | D67: 1542277 | E67: 845511 | F67: 2251431 | G67: 2356123 | H67: 321931 | I67: 649097 | J67: 371616 | K67: 108147 | L67: 690449 | M67: 296514 | N67: 40081 | O67: 65198 | P67: 177968 | Q67: 4173629 | R67: 1463244 | S67: 1011031 | T67: 415594 | U67: 2821506 | V67: 3260735 | W67: 2471711 | X67: 2430337 | Y67: 25140607 | Z67: 361569 | AA67: =SUM(B67:Z67) -> 56094530
A68: Ethiopia (incl. Eritrea 'ER' -> 1993) | B68: : | C68: : | D68: : | E68: : | F68: : | G68: : | H68: : | I68: : | J68: : | K68: 73771 | L68: 159011 | M68: 51177 | N68: 2210 | O68: 755 | P68: 16520 | Q68: 51872 | R68: 478513 | S68: 788268 | T68: 1011792 | U68: 1135552 | V68: 8047858 | W68: 11054095 | X68: 10941558 | Y68: 12958683 | Z68: 6826829 | AA68: =SUM(B68:Z68) -> 53598464
A69: Slovakia | B69: : | C69: 20212 | D69: 872277 | E69: 2894592 | F69: 3522577 | G69: 1862604 | H69: 86204 | I69: 643588 | J69: 801463 | K69: 1520863 | L69: 1113687 | M69: 1509987 | N69: 1304494 | O69: 1938838 | P69: 4199870 | Q69: 5073104 | R69: 4612222 | S69: 3721682 | T69: 2153595 | U69: 2619311 | V69: 1255699 | W69: 1563036 | X69: 1182862 | Y69: 3123437 | Z69: 4921177 | AA69: =SUM(B69:Z69) -> 52517381
A70: Serbia | B70: : | C70: : | D70: : | E70: : | F70: : | G70: : | H70: 726499 | I70: 1912323 | J70: 539910 | K70: 285042 | L70: 170923 | M70: 31117 | N70: 15991 | O70: 42832 | P70: 37185 | Q70: 104879 | R70: 140060 | S70: 502166 | T70: 1674995 | U70: 4941646 | V70: 3570499 | W70: 3560240 | X70: 11906898 | Y70: 9099199 | Z70: 8872266 | AA70: =SUM(B70:Z70) -> 48134670
A71: Slovenia | B71: 217430 | C71: 115612 | D71: 160367 | E71: 219036 | F71: 816830 | G71: 1082409 | H71: 299165 | I71: 29648 | J71: 223394 | K71: 35671 | L71: 546661 | M71: 853060 | N71: 451587 | O71: 259315 | P71: 166404 | Q71: 395007 | R71: 380466 | S71: 1820833 | T71: 2795940 | U71: 1588643 | V71: 6634539 | W71: 4642187 | X71: 3819681 | Y71: 7882542 | Z71: 12671958 | AA71: =SUM(B71:Z71) -> 48108385
A72: Norway (incl. Svalbard and Jan Mayen 'SJ' -> 1994 and again from 1997) | B72: 597476 | C72: 417667 | D72: 618724 | E72: 364754 | F72: 339441 | G72: 270246 | H72: 416967 | I72: 310038 | J72: 499477 | K72: 472790 | L72: 579556 | M72: 517899 | N72: 1095686 | O72: 932573 | P72: 868763 | Q72: 2981263 | R72: 1547127 | S72: 2297573 | T72: 2173146 | U72: 2562990 | V72: 3917878 | W72: 2806090 | X72: 4491162 | Y72: 6109741 | Z72: 6454053 | AA72: =SUM(B72:Z72) -> 43643080
A73: Finland | B73: 117446 | C73: 482570 | D73: 1190762 | E73: 461183 | F73: 533629 | G73: 952444 | H73: 769133 | I73: 1350902 | J73: 2250403 | K73: 2518054 | L73: 2840949 | M73: 3568121 | N73: 1876538 | O73: 1132702 | P73: 530759 | Q73: 822390 | R73: 1766389 | S73: 1818383 | T73: 1302669 | U73: 1528227 | V73: 1394517 | W73: 1607035 | X73: 1754193 | Y73: 2495491 | Z73: 3510244 | AA73: =SUM(B73:Z73) -> 38575133
A74: Nepal | B74: 1989581 | C74: 1803246 | D74: 846665 | E74: 1474872 | F74: 1154207 | G74: 1244471 | H74: 1536714 | I74: 1384444 | J74: 1367937 | K74: 1429155 | L74: 1211922 | M74: 1269248 | N74: 1549754 | O74: 1650245 | P74: 1481715 | Q74: 1791663 | R74: 1672152 | S74: 1320342 | T74: 974082 | U74: 1010640 | V74: 1047724 | W74: 409466 | X74: 594988 | Y74: 1120782 | Z74: 1404162 | AA74: =SUM(B74:Z74) -> 32740177
A75: North Macedonia | B75: : | C75: 202581 | D75: 592487 | E75: 710478 | F75: 2912750 | G75: 1699696 | H75: 522099 | I75: 1851516 | J75: 856012 | K75: 813521 | L75: 229083 | M75: 1501 | N75: 189260 | O75: 655950 | P75: 435293 | Q75: 1260865 | R75: 2362989 | S75: 3582369 | T75: 1925202 | U75: 1446150 | V75: 1816478 | W75: 1158895 | X75: 2225528 | Y75: 1714454 | Z75: 3280262 | AA75: =SUM(B75:Z75) -> 32445419
A76: Singapore | B76: 2790499 | C76: 3785330 | D76: 6502731 | E76: 1682502 | F76: 3261580 | G76: 1462688 | H76: 240430 | I76: 982041 | J76: 846824 | K76: 287019 | L76: 240697 | M76: 212369 | N76: 397092 | O76: 209840 | P76: 343890 | Q76: 552088 | R76: 1554064 | S76: 446817 | T76: 458461 | U76: 534527 | V76: 447675 | W76: 857502 | X76: 507052 | Y76: 1045383 | Z76: 1551093 | AA76: =SUM(B76:Z76) -> 31200194
A77: Ukraine | B77: 1711668 | C77: 4134870 | D77: 7291829 | E77: 1944365 | F77: 1620936 | G77: 2387814 | H77: 1810266 | I77: 590577 | J77: 127713 | K77: 413727 | L77: 141246 | M77: 196658 | N77: 254251 | O77: 161413 | P77: 377902 | Q77: 1698598 | R77: 334694 | S77: 143457 | T77: 252259 | U77: 294768 | V77: 432099 | W77: 287157 | X77: 760328 | Y77: 2497805 | Z77: 1018646 | AA77: =SUM(B77:Z77) -> 30885046
A78: Ecuador | B78: 1401437 | C78: 1754982 | D78: 1416028 | E78: 1208492 | F78: 1374590 | G78: 1391419 | H78: 1523850 | I78: 901896 | J78: 737795 | K78: 568567 | L78: 507210 | M78: 285030 | N78: 773738 | O78: 786647 | P78: 760603 | Q78: 1327425 | R78: 1825216 | S78: 1291693 | T78: 1191124 | U78: 1123573 | V78: 909796 | W78: 417528 | X78: 519557 | Y78: 1289906 | Z78: 1559213 | AA78: =SUM(B78:Z78) -> 26847315
A79: Syrian Arab Republic (Syria) | B79: 1345518 | C79: 2133140 | D79: 1333011 | E79: 1635393 | F79: 1742128 | G79: 3323765 | H79: 1418716 | I79: 1645770 | J79: 2311743 | K79: 1266626 | L79: 1039140 | M79: 799045 | N79: 1363662 | O79: 1176454 | P79: 321974 | Q79: 417847 | R79: 239883 | S79: 4910 | T79: 31585 | U79: 37637 | V79: 27928 | W79: 17503 | X79: 7173 | Y79: 50064 | Z79: 3471 | AA79: =SUM(B79:Z79) -> 23694086
A80: Albania | B80: : | C80: : | D80: : | E80: : | F80: 32607 | G80: 118435 | H80: : | I80: : | J80: : | K80: : | L80: : | M80: : | N80: 25280 | O80: 17260 | P80: 707 | Q80: 5365 | R80: 11432 | S80: 930443 | T80: 1396109 | U80: 5832754 | V80: 2627358 | W80: 238600 | X80: 5742457 | Y80: 4295429 | Z80: 2101945 | AA80: =SUM(B80:Z80) -> 23376181
A81: Dominican Republic | B81: 1437992 | C81: 2356356 | D81: 2223171 | E81: 2005964 | F81: 2357747 | G81: 2719602 | H81: 1739494 | I81: 1469801 | J81: 1328355 | K81: 827290 | L81: 139389 | M81: 159734 | N81: 44677 | O81: 323945 | P81: 189201 | Q81: 416001 | R81: 169327 | S81: 498587 | T81: 227957 | U81: 253695 | V81: 496172 | W81: 286102 | X81: 315681 | Y81: 385641 | Z81: 841396 | AA81: =SUM(B81:Z81) -> 23213277
A82: Kuwait | B82: 314094 | C82: 864809 | D82: 1054510 | E82: 714872 | F82: 863634 | G82: 1112448 | H82: 218357 | I82: 406981 | J82: 956443 | K82: 47655 | L82: 427081 | M82: 551431 | N82: 358598 | O82: 546712 | P82: 1124835 | Q82: 760936 | R82: 589153 | S82: 1717388 | T82: 1358401 | U82: 1753862 | V82: 1654425 | W82: 1041432 | X82: 496851 | Y82: 1444362 | Z82: 1802755 | AA82: =SUM(B82:Z82) -> 22182025
...

Sheet 2. 25 main suppliers
A1: TIME | B1: 1999 | C1: 2000 | D1: 2001 | E1: 2002 | F1: 2003 | G1: 2004 | H1: 2005 | I1: 2006 | J1: 2007 | K1: 2008 | L1: 2009 | M1: 2010 | N1: 2011 | O1: 2012 | P1: 2013 | Q1: 2014 | R1: 2015 | S1: 2016 | T1: 2017 | U1: 2018 | V1: 2019 | W1: 2020 | X1: 2021 | Y1: 2022 | Z1: 2023 | AA1: Total | AB1: 1999 | AC1: 2000 | AD1: 2001 | AE1: 2002 | AF1: 2003 | AG1: 2004 | AH1: 2005 | AI1: 2006 | AJ1: 2007 | AK1: 2008 | AL1: 2009 | AM1: 2010 | AN1: 2011 | AO1: 2012 | AP1: 2013 | AQ1: 2014 | AR1: 2015 | AS1: 2016 | AT1: 2017 | AU1: 2018 | AV1: 2019 | AW1: 2020 | AX1: 2021 | AY1: 2022 | AZ1: 2023 | BA1: Total
A2: PARTNER | AA2: Total | AB2: China | AC2: Bangladesh | AD2: Türkiye | AE2: Morocco | AF2: Italy (incl. San Marino 'SM' -> 1993) | AG2: France (incl. Saint Barthélemy 'BL' -> 2012; incl. French Guiana 'GF', Guadeloupe 'GP', Martinique 'MQ', Réunion 'RE' from 1997; incl. Mayotte 'YT' from 2014) | AH2: Portugal | AI2: Germany (incl. German Democratic Republic 'DD' from 1991) | AJ2: India | AK2: Netherlands | AL2: Belgium (incl. Luxembourg 'LU' -> 1998) | AM2: Pakistan | AN2: Cambodia | AO2: Viet Nam (incl. North Viet Nam 'VD' from 1977) | AP2: United Kingdom | AQ2: Myanmar (Burma) | AR2: Denmark | AS2: Tunisia | AT2: Malaysia | AU2: Indonesia (incl. East Timor 'TP' from 1977 -> 2000) | AV2: Thailand | AW2: Egypt | AX2: Hong Kong | AY2: Poland | AZ2: Romania | BA2: TOTAL
A3: China | B3: 425608643 | C3: 579156470 | D3: 639034333 | E3: 730574787 | F3: 814180486 | G3: 987232500 | H3: 1500495618 | I3: 1711147034 | J3: 1963669930 | K3: 2165188799 | L3: 2199110831 | M3: 2490448079 | N3: 2609777573 | O3: 2519113824 | P3: 2382268038 | Q3: 2725151713 | R3: 3111488118 | S3: 3040465462 | T3: 3091323065 | U3: 2942240411 | V3: 2975590592 | W3: 2723095311 | X3: 2614362222 | Y3: 3552071725 | Z3: 3115131375 | AA3: =SUM(B3:Z3) -> 53607926939 | AB3: =B3/B32 -> 0.13968547 | AC3: =C3/C32 -> 0.13903981 | AD3: =D3/D32 -> 0.13376233 | AE3: =E3/E32 -> 0.13914296 | AF3: =F3/F32 -> 0.13981657 | AG3: =G3/G32 -> 0.15096748 | AH3: =H3/H32 -> 0.19709872 | AI3: =I3/I32 -> 0.19352202 | ... BA3: =AA3/AA32 -> 0.18454692
A4: Bangladesh | B4: 55992061 | C4: 83917553 | D4: 102213839 | E4: 137839183 | F4: 192802164 | G4: 266552842 | H4: 283880089 | I4: 366555307 | J4: 340393895 | K4: 400898736 | L4: 438669001 | M4: 528397663 | N4: 774885808 | O4: 936324221 | P4: 1057396999 | Q4: 1243248941 | R4: 1644278952 | S4: 1912752322 | T4: 2087509311 | U4: 2302305156 | V4: 2526269978 | W4: 2096639001 | X4: 2442051354 | Y4: 3410354428 | Z4: 2979948668 | AA4: =SUM(B4:Z4) -> 28612077472 | AB4: =B4/B33 -> 0.018376688 | AC4: =C4/C33 -> 0.020146336 | AD4: =D4/D33 -> 0.021395347 | AE4: =E4/E33 -> 0.026252414 | AF4: =F4/F33 -> 0.033109288 | AG4: =G4/G33 -> 0.04076123 | AH4: =H4/H33 -> 0.037289281 | AI4: =I4/I33 -> 0.041455541 | ... AZ4: =Z4/Z33 -> 0.14912752 | BA4: =AA4/AA32 -> 0.09849795
A5: Türkiye | B5: 72500482 | C5: 98420529 | D5: 109725489 | E5: 158158631 | F5: 238976521 | G5: 360693298 | H5: 466922291 | I5: 597304522 | J5: 754832986 | K5: 744391896 | L5: 759983172 | M5: 914060143 | N5: 1078861182 | O5: 1172031472 | P5: 1200637478 | Q5: 1281923033 | R5: 1531247415 | S5: 1673043859 | T5: 2018350533 | U5: 2254100545 | V5: 2315824510 | W5: 1899030651 | X5: 2355717172 | Y5: 2528514048 | Z5: 1606902443 | AA5: =SUM(B5:Z5) -> 28192154301 | AB5: =B5/B34 -> 0.023794779 | AC5: =C5/C34 -> 0.023628108 | AD5: =D5/D34 -> 0.022967682 | AE5: =E5/E34 -> 0.030122392 | AF5: =F5/F34 -> 0.04103866 | AG5: =G5/G34 -> 0.055157178 | AH5: =H5/H34 -> 0.061332927 | AI5: =I5/I34 -> 0.067552103 | ... AZ5: =Z5/Z34 -> 0.080415267 | BA5: =AA5/AA33 -> 0.097052352
A6: Morocco | B6: 167313213 | C6: 262014068 | D6: 423035746 | E6: 478181235 | F6: 594290736 | G6: 601601296 | H6: 635015357 | I6: 803913256 | J6: 925722607 | K6: 890112534 | L6: 781055398 | M6: 897096382 | N6: 932425114 | O6: 993748365 | P6: 997523774 | Q6: 1168942171 | R6: 1199061913 | S6: 1474072663 | T6: 1602206402 | U6: 1663800392 | V6: 1652788067 | W6: 1217908936 | X6: 1658551060 | Y6: 1887272615 | Z6: 1403668712 | AA6: =SUM(B6:Z6) -> 25311322012 | AB6: =B6/B35 -> 0.054912476 | AC6: =C6/C35 -> 0.062902495 | AD6: =D6/D35 -> 0.08854962 | AE6: =E6/E35 -> 0.091072884 | AF6: =F6/F35 -> 0.10205561 | AG6: =G6/G35 -> 0.091996802 | AH6: =H6/H35 -> 0.083412917 | AI6: =I6/I35 -> 0.0909185 | ... AZ6: =Z6/Z35 -> 0.070244709 | BA6: =AA6/AA34 -> 0.087134999
A7: Italy (incl. San Marino 'SM' -> 1993) | B7: 461519402 | C7: 615504336 | D7: 707820385 | E7: 675689984 | F7: 737685797 | G7: 842309270 | H7: 908228136 | I7: 989531086 | J7: 1140183014 | K7: 1077433138 | L7: 888598015 | M7: 904929197 | N7: 949225414 | O7: 996624532 | P7: 873730213 | Q7: 950933662 | R7: 1051673920 | S7: 1074284718 | T7: 1076553785 | U7: 1101808362 | V7: 1233812949 | W7: 1001958062 | X7: 1150482831 | Y7: 1464366505 | Z7: 1591577149 | AA7: =SUM(B7:Z7) -> 24466463862 | AB7: =B7/B36 -> 0.15147144 | AC7: =C7/C36 -> 0.14776595 | AD7: =D7/D36 -> 0.14816059 | AE7: =E7/E36 -> 0.12868978 | AF7: =F7/F36 -> 0.12668038 | AG7: =G7/G36 -> 0.12880584 | AH7: =H7/H36 -> 0.11930099 | AI7: =I7/I36 -> 0.11191093 | ... AZ7: =Z7/Z36 -> 0.079648334 | BA7: =AA7/AA35 -> 0.084226549
A8: France (incl. Saint Barthélemy 'BL' -> 2012; incl. French Guiana 'GF', Guadeloupe 'GP', Martinique 'MQ', Réunion 'RE' from 1997; incl. Mayotte 'YT' from 2014) | B8: 303399355 | C8: 385488708 | D8: 428632802 | E8: 472090107 | F8: 513101086 | G8: 594569417 | H8: 708714436 | I8: 785979772 | J8: 939849131 | K8: 1335533757 | L8: 765417717 | M8: 841443688 | N8: 855648729 | O8: 753034515 | P8: 728831583 | Q8: 826271413 | R8: 959127417 | S8: 1060955679 | T8: 1038945940 | U8: 1052924992 | V8: 1242677380 | W8: 1040278083 | X8: 1196529516 | Y8: 1455530817 | Z8: 1297108779 | AA8: =SUM(B8:Z8) -> 21582084819 | AB8: =B8/B37 -> 0.099576175 | AC8: =C8/C37 -> 0.092545418 | AD8: =D8/D37 -> 0.089721193 | AE8: =E8/E37 -> 0.089912787 | AF8: =F8/F37 -> 0.08811318 | AG8: =G8/G37 -> 0.090921488 | AH8: =H8/H37 -> 0.093093715 | AI8: =I8/I37 -> 0.088890314 | ... AZ8: =Z8/Z37 -> 0.064912061 | BA8: =AA8/AA36 -> 0.074296986
A9: Portugal | B9: 287128941 | C9: 419150876 | D9: 482927469 | E9: 540816349 | F9: 632301031 | G9: 594574142 | H9: 619629739 | I9: 648993454 | J9: 742422940 | K9: 704139900 | L9: 679122190 | M9: 719926804 | N9: 762578675 | O9: 840293388 | P9: 879917154 | Q9: 950217799 | R9: 1012471631 | S9: 1078976242 | T9: 733468194 | U9: 535726975 | V9: 521031009 | W9: 609617546 | X9: 415429718 | Y9: 691919630 | Z9: 711193341 | AA9: =SUM(B9:Z9) -> 16813975137 | AB9: =B9/B38 -> 0.094236198 | AC9: =C9/C38 -> 0.10062679 | AD9: =D9/D38 -> 0.10108612 | AE9: =E9/E38 -> 0.10300217 | AF9: =F9/F38 -> 0.108583 | AG9: =G9/G38 -> 0.09092221 | AH9: =H9/H38 -> 0.081391928 | AI9: =I9/I38 -> 0.073397858 | ... AZ9: =Z9/Z38 -> 0.035590712 | BA9: =AA9/AA37 -> 0.057882623
A10: Germany (incl. German Democratic Republic 'DD' from 1991) | B10: 140969869 | C10: 198559939 | D10: 251532551 | E10: 242942483 | F10: 284244168 | G10: 352906302 | H10: 410569663 | I10: 491203572 | J10: 543984733 | K10: 565576928 | L10: 436424685 | M10: 478158547 | N10: 480136100 | O10: 421613476 | P10: 427308061 | Q10: 497735401 | R10: 551251671 | S10: 584788194 | T10: 645243596 | U10: 669978114 | V10: 729185270 | W10: 618838916 | X10: 825820312 | Y10: 1056720392 | Z10: 1093976953 | AA10: =SUM(B10:Z10) -> 12999669896 | AB10: =B10/B39 -> 0.046266546 | AC10: =C10/C39 -> 0.047668874 | AD10: =D10/D39 -> 0.052650661 | AE10: =E10/E39 -> 0.046270056 | AF10: =F10/F39 -> 0.048812326 | AG10: =G10/G39 -> 0.053966392 | AH10: =H10/H39 -> 0.053930685 | AI10: =I10/I39 -> 0.055552625 | ... AZ10: =Z10/Z39 -> 0.054746602 | BA10: =AA10/AA38 -> 0.04475176
A11: India | B11: 95023528 | C11: 136956813 | D11: 148507633 | E11: 187066708 | F11: 212965030 | G11: 227076920 | H11: 349273030 | I11: 346015040 | J11: 325906619 | K11: 383713037 | L11: 448795616 | M11: 486455731 | N11: 508085167 | O11: 467172288 | P11: 450740349 | Q11: 509474181 | R11: 638354931 | S11: 700912409 | T11: 742579033 | U11: 702843892 | V11: 702347377 | W11: 477983100 | X11: 479005561 | Y11: 619905696 | Z11: 550597757 | AA11: =SUM(B11:Z11) -> 10897757446 | AB11: =B11/B40 -> 0.031186881 | AC11: =C11/C40 -> 0.032879628 | AD11: =D11/D40 -> 0.03108554 | AE11: =E11/E40 -> 0.035628133 | AF11: =F11/F40 -> 0.036571792 | AG11: =G11/G40 -> 0.034724577 | AH11: =H11/H40 -> 0.04587902 | AI11: =I11/I40 -> 0.039132541 | ... AZ11: =Z11/Z40 -> 0.027553923 | BA11: =AA11/AA39 -> 0.037515863
A12: Netherlands | B12: 94591723 | C12: 110345978 | D12: 139431793 | E12: 139736549 | F12: 159732775 | G12: 135789833 | H12: 157427144 | I12: 186092877 | J12: 228402776 | K12: 247227875 | L12: 230200302 | M12: 243297338 | N12: 319380858 | O12: 323490035 | P12: 306066869 | Q12: 304049079 | R12: 336888315 | S12: 438725820 | T12: 406585337 | U12: 487370425 | V12: 541358844 | W12: 422689196 | X12: 529521959 | Y12: 835633101 | Z12: 943303529 | AA12: =SUM(B12:Z12) -> 8267340330 | AB12: =B12/B41 -> 0.031045161 | AC12: =C12/C41 -> 0.026491086 | AD12: =D12/D41 -> 0.02918579 | AE12: =E12/E41 -> 0.026613781 | AF12: =F12/F41 -> 0.02743039 | AG12: =G12/G41 -> 0.020764966 | AH12: =H12/H41 -> 0.02067896 | AI12: =I12/I41 -> 0.021046158 | ... AZ12: =Z12/Z41 -> 0.047206354 | BA12: =AA12/AA40 -> 0.028460571
A13: Belgium (incl. Luxembourg 'LU' -> 1998) | B13: 163375827 | C13: 187929924 | D13: 215469024 | E13: 267704665 | F13: 286497365 | G13: 280085583 | H13: 335082132 | I13: 380837548 | J13: 438750394 | K13: 445778183 | L13: 355733284 | M13: 334443576 | N13: 332820182 | O13: 294358219 | P13: 254377599 | Q13: 220376834 | R13: 215153282 | S13: 235903466 | T13: 291783228 | U13: 324357476 | V13: 366624442 | W13: 326655830 | X13: 414227115 | Y13: 637482287 | Z13: 600224873 | AA13: =SUM(B13:Z13) -> 8206032338 | AB13: =B13/B42 -> 0.053620219 | AC13: =C13/C42 -> 0.045116894 | AD13: =D13/D42 -> 0.045101863 | AE13: =E13/E42 -> 0.050986183 | AF13: =F13/F42 -> 0.04919926 | AG13: =G13/G42 -> 0.042830656 | AH13: =H13/H42 -> 0.044014964 | AI13: =I13/I42 -> 0.043070789 | ... AZ13: =Z13/Z42 -> 0.030037445 | BA13: =AA13/AA41 -> 0.028249517
A14: Pakistan | B14: 35307530 | C14: 48062726 | D14: 62193468 | E14: 59098689 | F14: 70511086 | G14: 83808180 | H14: 96104353 | I14: 117523503 | J14: 128682716 | K14: 128619109 | L14: 129222355 | M14: 141434100 | N14: 172261244 | O14: 190928300 | P14: 213553623 | Q14: 367274584 | R14: 469855444 | S14: 496656517 | T14: 561534488 | U14: 552981673 | V14: 572627252 | W14: 459215624 | X14: 531405135 | Y14: 839797235 | Z14: 748875836 | AA14: =SUM(B14:Z14) -> 7277534770 | AB14: =B14/B43 -> 0.01158799 | AC14: =C14/C43 -> 0.011538561 | AD14: =D14/D43 -> 0.013018304 | AE14: =E14/E43 -> 0.011255749 | AF14: =F14/F43 -> 0.012108639 | AG14: =G14/G43 -> 0.012815937 | AH14: =H14/H43 -> 0.012623859 | AI14: =I14/I43 -> 0.01329131 | ... AZ14: =Z14/Z43 -> 0.037476482 | BA14: =AA14/AA42 -> 0.025053136
A15: Cambodia | B15: 12989401 | C15: 8795685 | D15: 9242532 | E15: 15239225 | F15: 16189087 | G15: 26319582 | H15: 32139629 | I15: 70380752 | J15: 82787224 | K15: 99201134 | L15: 93639947 | M15: 78122898 | N15: 113999242 | O15: 149351438 | P15: 193697077 | Q15: 256848839 | R15: 347154836 | S15: 482147950 | T15: 572869233 | U15: 635600124 | V15: 674470852 | W15: 466317384 | X15: 417357683 | Y15: 767334123 | Z15: 837236481 | AA15: =SUM(B15:Z15) -> 6459432358 | AB15: =B15/B44 -> 0.0042631431 | AC15: =C15/C44 -> 0.0021116062 | AD15: =D15/D44 -> 0.0019346419 | AE15: =E15/E44 -> 0.0029024146 | AF15: =F15/F44 -> 0.0027800992 | AG15: =G15/G44 -> 0.0040247875 | AH15: =H15/H44 -> 0.004221725 | AI15: =I15/I44 -> 0.007959705 | ... AZ15: =Z15/Z44 -> 0.041898371 | BA15: =AA15/AA43 -> 0.022236793
... A31: Intra-euro area (AT-01/1999, BE-01/1999, CY-01/2008, DE-01/1999, EE-01/2011, ES-01/1999, FI-01/1999, FR-01/1999, GR-01/2001, HR-01/2023, IE-01/1999, IT-01/1999, LT-01/2015, LU-01/1999, LV-01/2014, MT-01/2008, NL-01/1999, PT-01/1999, SI-01/2007, SK-01/2009, QR-01/1999, QV-01/1999, QY-01/1999) | B31: 1477935284 | C31: 1948762767 | D31: 2273995266 | E31: 2382251332 | F31: 2657422379 | G31: 2853465877 | H31: 3212798856 | I31: 3559340873 | J31: 4104338075 | K31: 4437382647 | L31: 3500589688 | M31: 3701656512 | N31: 3822841509 | O31: 3731256213 | P31: 3582223687 | Q31: 3850460161 | R31: 4221442567 | S31: 4569249525 | T31: 4288129131 | U31: 4254015127 | V31: 4713146266 | W31: 4084311286 | X31: 4611685750 | Y31: 6275617262 | Z31: 6486770527 | AA31: =SUM(B31:Z31) -> 94601088567 | AB31: =B31/B60 -> 0.48506083 | AC31: =C31/C60 -> 0.46784526 | AD31: =D31/D60 -> 0.47599149 | AE31: =E31/E60 -> 0.45371605 | AF31: =F31/F60 -> 0.4563505 | AG31: =G31/G60 -> 0.43635168 | AH31: =H31/H60 -> 0.4220196 | AI31: =I31/I60 -> 0.40254335 | ... AZ31: =Z31/Z60 -> 0.32462169 | BA31: =AA31/AA59 -> 0.32566714
A32: All countries of the world | B32: 3046907108 | C32: 4165400260 | D32: 4777386348 | E32: 5250533556 | F32: 5823204726 | G32: 6539371831 | H32: 7612913922 | I32: 8842130685 | J32: 9769583002 | K32: 10472777757 | L32: 9411349187 | M32: 10469309683 | N32: 11374518501 | O32: 11435977613 | P32: 11377102535 | Q32: 12949490873 | R32: 14751513554 | S32: 15929588475 | T32: 16561429508 | U32: 17056187056 | V32: 18216907498 | W32: 15412299612 | X32: 17036387655 | Y32: 22219164075 | Z32: 19982554283 | AA32: =SUM(B32:Z32) -> 290483989303
A33: All countries of the world | B33: 3046907108 | C33: 4165400260 | D33: 4777386348 | E33: 5250533556 | F33: 5823204726 | G33: 6539371831 | H33: 7612913922 | I33: 8842130685 | J33: 9769583002 | K33: 10472777757 | L33: 9411349187 | M33: 10469309683 | N33: 11374518501 | O33: 11435977613 | P33: 11377102535 | Q33: 12949490873 | R33: 14751513554 | S33: 15929588475 | T33: 16561429508 | U33: 17056187056 | V33: 18216907498 | W33: 15412299612 | X33: 17036387655 | Y33: 22219164075 | Z33: 19982554283 | AA33: =SUM(B33:Z33) -> 290483989303
A34: All countries of the world | B34: 3046907108 | C34: 4165400260 | D34: 4777386348 | E34: 5250533556 | F34: 5823204726 | G34: 6539371831 | H34: 7612913922 | I34: 8842130685 | J34: 9769583002 | K34: 10472777757 | L34: 9411349187 | M34: 10469309683 | N34: 11374518501 | O34: 11435977613 | P34: 11377102535 | Q34: 12949490873 | R34: 14751513554 | S34: 15929588475 | T34: 16561429508 | U34: 17056187056 | V34: 18216907498 | W34: 15412299612 | X34: 17036387655 | Y34: 22219164075 | Z34: 19982554283 | AA34: =SUM(B34:Z34) -> 290483989303
A35: All countries of the world | B35: 3046907108 | C35: 4165400260 | D35: 4777386348 | E35: 5250533556 | F35: 5823204726 | G35: 6539371831 | H35: 7612913922 | I35: 8842130685 | J35: 9769583002 | K35: 10472777757 | L35: 9411349187 | M35: 10469309683 | N35: 11374518501 | O35: 11435977613 | P35: 11377102535 | Q35: 12949490873 | R35: 14751513554 | S35: 15929588475 | T35: 16561429508 | U35: 17056187056 | V35: 18216907498 | W35: 15412299612 | X35: 17036387655 | Y35: 22219164075 | Z35: 19982554283 | AA35: =SUM(B35:Z35) -> 290483989303
A36: All countries of the world | B36: 3046907108 | C36: 4165400260 | D36: 4777386348 | E36: 5250533556 | F36: 5823204726 | G36: 6539371831 | H36: 7612913922 | I36: 8842130685 | J36: 9769583002 | K36: 10472777757 | L36: 9411349187 | M36: 10469309683 | N36: 11374518501 | O36: 11435977613 | P36: 11377102535 | Q36: 12949490873 | R36: 14751513554 | S36: 15929588475 | T36: 16561429508 | U36: 17056187056 | V36: 18216907498 | W36: 15412299612 | X36: 17036387655 | Y36: 22219164075 | Z36: 19982554283 | AA36: =SUM(B36:Z36) -> 290483989303
A37: All countries of the world | B37: 3046907108 | C37: 4165400260 | D37: 4777386348 | E37: 5250533556 | F37: 5823204726 | G37: 6539371831 | H37: 7612913922 | I37: 8842130685 | J37: 9769583002 | K37: 10472777757 | L37: 9411349187 | M37: 10469309683 | N37: 11374518501 | O37: 11435977613 | P37: 11377102535 | Q37: 12949490873 | R37: 14751513554 | S37: 15929588475 | T37: 16561429508 | U37: 17056187056 | V37: 18216907498 | W37: 15412299612 | X37: 17036387655 | Y37: 22219164075 | Z37: 19982554283 | AA37: =SUM(B37:Z37) -> 290483989303
A38: All countries of the world | B38: 3046907108 | C38: 4165400260 | D38: 4777386348 | E38: 5250533556 | F38: 5823204726 | G38: 6539371831 | H38: 7612913922 | I38: 8842130685 | J38: 9769583002 | K38: 10472777757 | L38: 9411349187 | M38: 10469309683 | N38: 11374518501 | O38: 11435977613 | P38: 11377102535 | Q38: 12949490873 | R38: 14751513554 | S38: 15929588475 | T38: 16561429508 | U38: 17056187056 | V38: 18216907498 | W38: 15412299612 | X38: 17036387655 | Y38: 22219164075 | Z38: 19982554283 | AA38: =SUM(B38:Z38) -> 290483989303
A39: All countries of the world | B39: 3046907108 | C39: 4165400260 | D39: 4777386348 | E39: 5250533556 | F39: 5823204726 | G39: 6539371831 | H39: 7612913922 | I39: 8842130685 | J39: 9769583002 | K39: 10472777757 | L39: 9411349187 | M39: 10469309683 | N39: 11374518501 | O39: 11435977613 | P39: 11377102535 | Q39: 12949490873 | R39: 14751513554 | S39: 15929588475 | T39: 16561429508 | U39: 17056187056 | V39: 18216907498 | W39: 15412299612 | X39: 17036387655 | Y39: 22219164075 | Z39: 19982554283 | AA39: =SUM(B39:Z39) -> 290483989303
A40: All countries of the world | B40: 3046907108 | C40: 4165400260 | D40: 4777386348 | E40: 5250533556 | F40: 5823204726 | G40: 6539371831 | H40: 7612913922 | I40: 8842130685 | J40: 9769583002 | K40: 10472777757 | L40: 9411349187 | M40: 10469309683 | N40: 11374518501 | O40: 11435977613 | P40: 11377102535 | Q40: 12949490873 | R40: 14751513554 | S40: 15929588475 | T40: 16561429508 | U40: 17056187056 | V40: 18216907498 | W40: 15412299612 | X40: 17036387655 | Y40: 22219164075 | Z40: 19982554283 | AA40: =SUM(B40:Z40) -> 290483989303
A41: All countries of the world | B41: 3046907108 | C41: 4165400260 | D41: 4777386348 | E41: 5250533556 | F41: 5823204726 | G41: 6539371831 | H41: 7612913922 | I41: 8842130685 | J41: 9769583002 | K41: 10472777757 | L41: 9411349187 | M41: 10469309683 | N41: 11374518501 | O41: 11435977613 | P41: 11377102535 | Q41: 12949490873 | R41: 14751513554 | S41: 15929588475 | T41: 16561429508 | U41: 17056187056 | V41: 18216907498 | W41: 15412299612 | X41: 17036387655 | Y41: 22219164075 | Z41: 19982554283 | AA41: =SUM(B41:Z41) -> 290483989303
A42: All countries of the world | B42: 3046907108 | C42: 4165400260 | D42: 4777386348 | E42: 5250533556 | F42: 5823204726 | G42: 6539371831 | H42: 7612913922 | I42: 8842130685 | J42: 9769583002 | K42: 10472777757 | L42: 9411349187 | M42: 10469309683 | N42: 11374518501 | O42: 11435977613 | P42: 11377102535 | Q42: 12949490873 | R42: 14751513554 | S42: 15929588475 | T42: 16561429508 | U42: 17056187056 | V42: 18216907498 | W42: 15412299612 | X42: 17036387655 | Y42: 22219164075 | Z42: 19982554283 | AA42: =SUM(B42:Z42) -> 290483989303
A43: All countries of the world | B43: 3046907108 | C43: 4165400260 | D43: 4777386348 | E43: 5250533556 | F43: 5823204726 | G43: 6539371831 | H43: 7612913922 | I43: 8842130685 | J43: 9769583002 | K43: 10472777757 | L43: 9411349187 | M43: 10469309683 | N43: 11374518501 | O43: 11435977613 | P43: 11377102535 | Q43: 12949490873 | R43: 14751513554 | S43: 15929588475 | T43: 16561429508 | U43: 17056187056 | V43: 18216907498 | W43: 15412299612 | X43: 17036387655 | Y43: 22219164075 | Z43: 19982554283 | AA43: =SUM(B43:Z43) -> 290483989303
... A71: All countries of the world | B71: 3046907108 | C71: 4165400260 | D71: 4777386348 | E71: 5250533556 | F71: 5823204726 | G71: 6539371831 | H71: 7612913922 | I71: 8842130685 | J71: 9769583002 | K71: 10472777757 | L71: 9411349187 | M71: 10469309683 | N71: 11374518501 | O71: 11435977613 | P71: 11377102535 | Q71: 12949490873 | R71: 14751513554 | S71: 15929588475 | T71: 16561429508 | U71: 17056187056 | V71: 18216907498 | W71: 15412299612 | X71: 17036387655 | Y71: 22219164075 | Z71: 19982554283 | AA71: =SUM(B71:Z71) -> 290483989303
A73: Supplier | B73: China | C73: Bangladesh | D73: Türkiye | E73: Morocco | F73: Italy (incl. San Marino 'SM' -> 1993) | G73: France (incl. Saint Barthélemy 'BL' -> 2012; incl. French Guiana 'GF', Guadeloupe 'GP', Martinique 'MQ', Réunion 'RE' from 1997; incl. Mayotte 'YT' from 2014) | H73: Portugal | I73: Germany (incl. German Democratic Republic 'DD' from 1991) | J73: India | K73: Netherlands | L73: Belgium (incl. Luxembourg 'LU' -> 1998) | M73: Pakistan | N73: Cambodia | O73: Viet Nam (incl. North Viet Nam 'VD' from 1977) | P73: United Kingdom | Q73: Myanmar (Burma) | R73: Denmark | S73: Tunisia | T73: Malaysia | U73: Indonesia (incl. East Timor 'TP' from 1977 -> 2000) | V73: Thailand | W73: Egypt | X73: Hong Kong | Y73: Poland | Z73: Romania
A74: 1999 | B74: 0.13968547 | C74: 0.018376688 | D74: 0.023794779 | E74: 0.054912476 | F74: 0.15147144 | G74: 0.099576175 | H74: 0.094236198 | I74: 0.046266546 | J74: 0.031186881 | K74: 0.031045161 | L74: 0.053620219 | M74: 0.01158799 | N74: 0.0042631431 | O74: 0.011000603 | P74: 0.044397992 | Q74: 0.0023709003 | R74: 0.0045174344 | S74: 0.0080178503 | T74: 0.006254234 | U74: 0.014848042 | V74: 0.013879605 | W74: 0.00079745884 | X74: 0.027599006 | Y74: 0.0011290863 | Z74: 0.00094261357
A75: 2000 | B75: 0.13903981 | C75: 0.020146336 | D75: 0.023628108 | E75: 0.062902495 | F75: 0.14776595 | G75: 0.092545418 | H75: 0.10062679 | I75: 0.047668874 | J75: 0.032879628 | K75: 0.026491086 | L75: 0.045116894 | M75: 0.011538561 | N75: 0.0021116062 | O75: 0.013460051 | P75: 0.041046399 | Q75: 0.0043889381 | R75: 0.01105454 | S75: 0.0088428947 | T75: 0.0068815598 | U75: 0.014587727 | V75: 0.014413264 | W75: 0.0012182371 | X75: 0.026933335 | Y75: 0.0012794694 | Z75: 0.001430844
A76: 2001 | B76: 0.13376233 | C76: 0.021395347 | D76: 0.022967682 | E76: 0.08854962 | F76: 0.14816059 | G76: 0.089721193 | H76: 0.10108612 | I76: 0.052650661 | J76: 0.03108554 | K76: 0.02918579 | L76: 0.045101863 | M76: 0.013018304 | N76: 0.0019346419 | O76: 0.01484612 | P76: 0.034308851 | Q76: 0.0062349774 | R76: 0.0095361913 | S76: 0.0079535117 | T76: 0.0063293271 | U76: 0.012525692 | V76: 0.011507033 | W76: 0.00067297279 | X76: 0.023012241 | Y76: 0.0015537462 | Z76: 0.0017460524
A77: 2002 | B77: 0.13914296 | C77: 0.026252414 | D77: 0.030122392 | E77: 0.091072884 | F77: 0.12868978 | G77: 0.089912787 | H77: 0.10300217 | I77: 0.046270056 | J77: 0.035628133 | K77: 0.026613781 | L77: 0.050986183 | M77: 0.011255749 | N77: 0.0029024146 | O77: 0.013081252 | P77: 0.025209681 | Q77: 0.0041233714 | R77: 0.031127237 | S77: 0.0095151587 | T77: 0.0052726171 | U77: 0.0099130929 | V77: 0.013425358 | W77: 0.00059098299 | X77: 0.0222442 | Y77: 0.001284727 | Z77: 0.0027534226
A78: 2003 | B78: 0.13981657 | C78: 0.033109288 | D78: 0.04103866 | E78: 0.10205561 | F78: 0.12668038 | G78: 0.08811318 | H78: 0.108583 | I78: 0.048812326 | J78: 0.036571792 | K78: 0.02743039 | L78: 0.04919926 | M78: 0.012108639 | N78: 0.0027800992 | O78: 0.007569884 | P78: 0.023413701 | Q78: 0.0037125794 | R78: 0.012359904 | S78: 0.0095465344 | T78: 0.0053024157 | U78: 0.0087213053 | V78: 0.011244751 | W78: 0.00052168971 | X78: 0.017250956 | Y78: 0.001158159 | Z78: 0.0040032384
A79: 2004 | B79: 0.15096748 | C79: 0.04076123 | D79: 0.055157178 | E79: 0.091996802 | F79: 0.12880584 | G79: 0.090921488 | H79: 0.09092221 | I79: 0.053966392 | J79: 0.034724577 | K79: 0.020764966 | L79: 0.042830656 | M79: 0.012815937 | N79: 0.0040247875 | O79: 0.0096892799 | P79: 0.020989289 | Q79: 0.005393928 | R79: 0.0120788 | S79: 0.011815343 | T79: 0.0046470765 | U79: 0.012148487 | V79: 0.0094200683 | W79: 0.00042398996 | X79: 0.010440904 | Y79: 0.00073859281 | Z79: 0.0063248404
A80: 2005 | B80: 0.19709872 | C80: 0.037289281 | D80: 0.061332927 | E80: 0.083412917 | F80: 0.11930099 | G80: 0.093093715 | H80: 0.081391928 | I80: 0.053930685 | J80: 0.04587902 | K80: 0.02067896 | L80: 0.044014964 | M80: 0.012623859 | N80: 0.004221725 | O80: 0.0087934165 | P80: 0.017113373 | Q80: 0.0020699927 | R80: 0.012143771 | S80: 0.011650857 | T80: 0.0051150159 | U80: 0.0054300538 | V80: 0.0061259428 | W80: 0.00056107964 | X80: 0.0096330647 | Y80: 0.00049952791 | Z80: 0.0062972941
A81: 2006 | B81: 0.19352202 | C81: 0.041455541 | D81: 0.067552103 | E81: 0.0909185 | F81: 0.11191093 | G81: 0.088890314 | H81: 0.073397858 | I81: 0.055552625 | J81: 0.039132541 | K81: 0.021046158 | L81: 0.043070789 | M81: 0.01329131 | N81: 0.007959705 | O81: 0.0097895233 | P81: 0.014686978 | Q81: 0.003821695 | R81: 0.013696176 | S81: 0.010496989 | T81: 0.0067289987 | U81: 0.0070035709 | V81: 0.0060522432 | W81: 0.00088656855 | X81: 0.017364059 | Y81: 0.00071755216 | Z81: 0.0059866207
A82: 2007 | B82: 0.20099834 | C82: 0.034842213 | D82: 0.077263583 | E82: 0.094755591 | F82: 0.11670744 | G82: 0.096201561 | H82: 0.075993309 | I82: 0.055681469 | J82: 0.033359317 | K82: 0.023378969 | L82: 0.044909838 | M82: 0.013171772 | N82: 0.0084739772 | O82: 0.010162374 | P82: 0.015450794 | Q82: 0.0033978364 | R82: 0.013153795 | S82: 0.0095964004 | T82: 0.0050556288 | U82: 0.0056344853 | V82: 0.004903162 | W82: 0.0027945195 | X82: 0.011935854 | Y82: 0.00062325188 | Z82: 0.0023913208
A83: 2008 | B83: 0.20674446 | C83: 0.038280077 | D83: 0.071078745 | E83: 0.084992975 | F83: 0.1028794 | G83: 0.12752431 | H83: 0.067235257 | I83: 0.054004481 | J83: 0.036639089 | K83: 0.023606715 | L83: 0.04256542 | M83: 0.012281279 | N83: 0.0094722848 | O83: 0.014490715 | P83: 0.0187039 | Q83: 0.0035057079 | R83: 0.011055919 | S83: 0.0088762986 | T83: 0.0049233009 | U83: 0.0053930369 | V83: 0.010163715 | W83: 0.0053501885 | X83: 0.0049220132 | Y83: 0.00053998129 | Z83: 0.0028048228
...

Sheet 3. Share of imports
A1: Supplier | B1: China | C1: Bangladesh | D1: Türkiye | E1: Morocco | F1: Italy (incl. San Marino 'SM' -> 1993) | G1: France (incl. Saint Barthélemy 'BL' -> 2012; incl. French Guiana 'GF', Guadeloupe 'GP', Martinique 'MQ', Réunion 'RE' from 1997; incl. Mayotte 'YT' from 2014) | H1: Portugal | I1: Germany (incl. German Democratic Republic 'DD' from 1991) | J1: India | K1: Netherlands | L1: Belgium (incl. Luxembourg 'LU' -> 1998) | M1: Pakistan | N1: Cambodia | O1: Viet Nam (incl. North Viet Nam 'VD' from 1977) | P1: United Kingdom | Q1: Myanmar (Burma) | R1: Denmark | S1: Tunisia | T1: Malaysia | U1: Indonesia (incl. East Timor 'TP' from 1977 -> 2000) | V1: Thailand | W1: Egypt | X1: Hong Kong | Y1: Poland | Z1: Romania | AA1: Total | AB1: Share of Asia | AC1: Percentage change of Asia | AD1: Share of Europe | AE1: Percentage change of Europe | AF1: Share of Semiproximity (Turkey, Morocco, Tunisia and Egypt) | AG1: Percentage change of Semiproximity (Turkey, Morocco, Tunisia and Egypt) | AH1: Share of ASEAN | AI1: Percentage change of ASEAN | AJ1: Share of South Asia | AK1: Percentage change of South Asia | AL1: Total | AN1: Non european suppliers (Asia + semiproximity)
A2: 1999 | B2: 0.13968547 | C2: 0.018376688 | D2: 0.023794779 | E2: 0.054912476 | F2: 0.15147144 | G2: 0.099576175 | H2: 0.094236198 | I2: 0.046266546 | J2: 0.031186881 | K2: 0.031045161 | L2: 0.053620219 | M2: 0.01158799 | N2: 0.0042631431 | O2: 0.011000603 | P2: 0.044397992 | Q2: 0.0023709003 | R2: 0.0045174344 | S2: 0.0080178503 | T2: 0.006254234 | U2: 0.014848042 | V2: 0.013879605 | W2: 0.00079745884 | X2: 0.027599006 | Y2: 0.0011290863 | Z2: 0.00094261357 | AA2: =SUM(B2:Z2) -> 0.89577799 | AB2: =(B2+C2+J2+M2+N2+O2+Q2+T2+U2+V2+X2) -> 0.28105256 | AD2: =F2+G2+H2+I2+K2+L2+P2+R2+Y2+Z2 -> 0.52720286 | AF2: =D2+E2+S2+W2 -> 0.087522564 | AH2: =N2+O2+Q2+T2+U2+V2 -> 0.052616527 | AJ2: =C2+J2+M2 -> 0.061151559 | AL2: =AB2+AD2+AF2 -> 0.89577799 | AN2: =AB2+AF2 -> 0.36857512
A3: 2000 | B3: 0.13903981 | C3: 0.020146336 | D3: 0.023628108 | E3: 0.062902495 | F3: 0.14776595 | G3: 0.092545418 | H3: 0.10062679 | I3: 0.047668874 | J3: 0.032879628 | K3: 0.026491086 | L3: 0.045116894 | M3: 0.011538561 | N3: 0.0021116062 | O3: 0.013460051 | P3: 0.041046399 | Q3: 0.0043889381 | R3: 0.01105454 | S3: 0.0088428947 | T3: 0.0068815598 | U3: 0.014587727 | V3: 0.014413264 | W3: 0.0012182371 | X3: 0.026933335 | Y3: 0.0012794694 | Z3: 0.001430844 | AA3: =SUM(B3:Z3) -> 0.89799883 | AB3: =(B3+C3+J3+M3+N3+O3+Q3+T3+U3+V3+X3) -> 0.28638082 | AC3: =(AB3-AB2)/AB2*100 -> 1.8958232 | AD3: =F3+G3+H3+I3+K3+L3+P3+R3+Y3+Z3 -> 0.51502627 | AE3: =(AD3-AD2)/AD2*100 -> -2.3096597 | AF3: =D3+E3+S3+W3 -> 0.096591735 | AG3: =(AF3-AF2)/AF2*100 -> 10.362094 | AH3: =N3+O3+Q3+T3+U3+V3 -> 0.055843146 | AI3: =(AH3-AH2)/AH2*100 -> 6.1323289 | AJ3: =C3+J3+M3 -> 0.064564526 | AK3: =(AJ3-AJ2)/AJ2*100 -> 5.581161 | AL3: =AB3+AD3+AF3 -> 0.89799883 | AN3: =AB3+AF3 -> 0.38297255
A4: 2001 | B4: 0.13376233 | C4: 0.021395347 | D4: 0.022967682 | E4: 0.08854962 | F4: 0.14816059 | G4: 0.089721193 | H4: 0.10108612 | I4: 0.052650661 | J4: 0.03108554 | K4: 0.02918579 | L4: 0.045101863 | M4: 0.013018304 | N4: 0.0019346419 | O4: 0.01484612 | P4: 0.034308851 | Q4: 0.0062349774 | R4: 0.0095361913 | S4: 0.0079535117 | T4: 0.0063293271 | U4: 0.012525692 | V4: 0.011507033 | W4: 0.00067297279 | X4: 0.023012241 | Y4: 0.0015537462 | Z4: 0.0017460524 | AA4: =SUM(B4:Z4) -> 0.9088464 | AB4: =(B4+C4+J4+M4+N4+O4+Q4+T4+U4+V4+X4) -> 0.27565156 | AC4: =(AB4-AB3)/AB3*100 -> -3.7465022 | AD4: =F4+G4+H4+I4+K4+L4+P4+R4+Y4+Z4 -> 0.51305106 | AE4: =(AD4-AD3)/AD3*100 -> -0.38351628 | AF4: =D4+E4+S4+W4 -> 0.12014379 | AG4: =(AF4-AF3)/AF3*100 -> 24.383092 | AH4: =N4+O4+Q4+T4+U4+V4 -> 0.053377792 | AI4: =(AH4-AH3)/AH3*100 -> -4.4147831 | AJ4: =C4+J4+M4 -> 0.065499191 | AK4: =(AJ4-AJ3)/AJ3*100 -> 1.447645 | AL4: =AB4+AD4+AF4 -> 0.9088464 | AN4: =AB4+AF4 -> 0.39579534
A5: 2002 | B5: 0.13914296 | C5: 0.026252414 | D5: 0.030122392 | E5: 0.091072884 | F5: 0.12868978 | G5: 0.089912787 | H5: 0.10300217 | I5: 0.046270056 | J5: 0.035628133 | K5: 0.026613781 | L5: 0.050986183 | M5: 0.011255749 | N5: 0.0029024146 | O5: 0.013081252 | P5: 0.025209681 | Q5: 0.0041233714 | R5: 0.031127237 | S5: 0.0095151587 | T5: 0.0052726171 | U5: 0.0099130929 | V5: 0.013425358 | W5: 0.00059098299 | X5: 0.0222442 | Y5: 0.001284727 | Z5: 0.0027534226 | AA5: =SUM(B5:Z5) -> 0.9203928 | AB5: =(B5+C5+J5+M5+N5+O5+Q5+T5+U5+V5+X5) -> 0.28324156 | AC5: =(AB5-AB4)/AB4*100 -> 2.7534795 | AD5: =F5+G5+H5+I5+K5+L5+P5+R5+Y5+Z5 -> 0.50584982 | AE5: =(AD5-AD4)/AD4*100 -> -1.4036112 | AF5: =D5+E5+S5+W5 -> 0.13130142 | AG5: =(AF5-AF4)/AF4*100 -> 9.2868989 | AH5: =N5+O5+Q5+T5+U5+V5 -> 0.048718106 | AI5: =(AH5-AH4)/AH4*100 -> -8.7296341 | AJ5: =C5+J5+M5 -> 0.073136297 | AK5: =(AJ5-AJ4)/AJ4*100 -> 11.659848 | AL5: =AB5+AD5+AF5 -> 0.9203928 | AN5: =AB5+AF5 -> 0.41454298
A6: 2003 | B6: 0.13981657 | C6: 0.033109288 | D6: 0.04103866 | E6: 0.10205561 | F6: 0.12668038 | G6: 0.08811318 | H6: 0.108583 | I6: 0.048812326 | J6: 0.036571792 | K6: 0.02743039 | L6: 0.04919926 | M6: 0.012108639 | N6: 0.0027800992 | O6: 0.007569884 | P6: 0.023413701 | Q6: 0.0037125794 | R6: 0.012359904 | S6: 0.0095465344 | T6: 0.0053024157 | U6: 0.0087213053 | V6: 0.011244751 | W6: 0.00052168971 | X6: 0.017250956 | Y6: 0.001158159 | Z6: 0.0040032384 | AA6: =SUM(B6:Z6) -> 0.92110431 | AB6: =(B6+C6+J6+M6+N6+O6+Q6+T6+U6+V6+X6) -> 0.27818828 | AC6: =(AB6-AB5)/AB5*100 -> -1.7840915 | AD6: =F6+G6+H6+I6+K6+L6+P6+R6+Y6+Z6 -> 0.48975354 | AE6: =(AD6-AD5)/AD5*100 -> -3.1820279 | AF6: =D6+E6+S6+W6 -> 0.1531625 | AG6: =(AF6-AF5)/AF5*100 -> 16.649539 | AH6: =N6+O6+Q6+T6+U6+V6 -> 0.039331034 | AI6: =(AH6-AH5)/AH5*100 -> -19.268138 | AJ6: =C6+J6+M6 -> 0.081789719 | AK6: =(AJ6-AJ5)/AJ5*100 -> 11.831912 | AL6: =AB6+AD6+AF6 -> 0.92110431 | AN6: =AB6+AF6 -> 0.43135077
A7: 2004 | B7: 0.15096748 | C7: 0.04076123 | D7: 0.055157178 | E7: 0.091996802 | F7: 0.12880584 | G7: 0.090921488 | H7: 0.09092221 | I7: 0.053966392 | J7: 0.034724577 | K7: 0.020764966 | L7: 0.042830656 | M7: 0.012815937 | N7: 0.0040247875 | O7: 0.0096892799 | P7: 0.020989289 | Q7: 0.005393928 | R7: 0.0120788 | S7: 0.011815343 | T7: 0.0046470765 | U7: 0.012148487 | V7: 0.0094200683 | W7: 0.00042398996 | X7: 0.010440904 | Y7: 0.00073859281 | Z7: 0.0063248404 | AA7: =SUM(B7:Z7) -> 0.92277014 | AB7: =(B7+C7+J7+M7+N7+O7+Q7+T7+U7+V7+X7) -> 0.29503376 | AC7: =(AB7-AB6)/AB6*100 -> 6.0554251 | AD7: =F7+G7+H7+I7+K7+L7+P7+R7+Y7+Z7 -> 0.46834307 | AE7: =(AD7-AD6)/AD6*100 -> -4.3716817 | AF7: =D7+E7+S7+W7 -> 0.15939331 | AG7: =(AF7-AF6)/AF6*100 -> 4.0681069 | AH7: =N7+O7+Q7+T7+U7+V7 -> 0.045323627 | AI7: =(AH7-AH6)/AH6*100 -> 15.236296 | AJ7: =C7+J7+M7 -> 0.088301745 | AK7: =(AJ7-AJ6)/AJ6*100 -> 7.9619119 | AL7: =AB7+AD7+AF7 -> 0.92277014 | AN7: =AB7+AF7 -> 0.45442707
A8: 2005 | B8: 0.19709872 | C8: 0.037289281 | D8: 0.061332927 | E8: 0.083412917 | F8: 0.11930099 | G8: 0.093093715 | H8: 0.081391928 | I8: 0.053930685 | J8: 0.04587902 | K8: 0.02067896 | L8: 0.044014964 | M8: 0.012623859 | N8: 0.004221725 | O8: 0.0087934165 | P8: 0.017113373 | Q8: 0.0020699927 | R8: 0.012143771 | S8: 0.011650857 | T8: 0.0051150159 | U8: 0.0054300538 | V8: 0.0061259428 | W8: 0.00056107964 | X8: 0.0096330647 | Y8: 0.00049952791 | Z8: 0.0062972941 | AA8: =SUM(B8:Z8) -> 0.93970308 | AB8: =(B8+C8+J8+M8+N8+O8+Q8+T8+U8+V8+X8) -> 0.3342801 | AC8: =(AB8-AB7)/AB7*100 -> 13.302321 | AD8: =F8+G8+H8+I8+K8+L8+P8+R8+Y8+Z8 -> 0.4484652 | AE8: =(AD8-AD7)/AD7*100 -> -4.2442965 | AF8: =D8+E8+S8+W8 -> 0.15695778 | AG8: =(AF8-AF7)/AF7*100 -> -1.5280015 | AH8: =N8+O8+Q8+T8+U8+V8 -> 0.031756147 | AI8: =(AH8-AH7)/AH7*100 -> -29.934675 | AJ8: =C8+J8+M8 -> 0.09579216 | AK8: =(AJ8-AJ7)/AJ7*100 -> 8.4827494 | AL8: =AB8+AD8+AF8 -> 0.93970308 | AN8: =AB8+AF8 -> 0.49123788
A9: 2006 | B9: 0.19352202 | C9: 0.041455541 | D9: 0.067552103 | E9: 0.0909185 | F9: 0.11191093 | G9: 0.088890314 | H9: 0.073397858 | I9: 0.055552625 | J9: 0.039132541 | K9: 0.021046158 | L9: 0.043070789 | M9: 0.01329131 | N9: 0.007959705 | O9: 0.0097895233 | P9: 0.014686978 | Q9: 0.003821695 | R9: 0.013696176 | S9: 0.010496989 | T9: 0.0067289987 | U9: 0.0070035709 | V9: 0.0060522432 | W9: 0.00088656855 | X9: 0.017364059 | Y9: 0.00071755216 | Z9: 0.0059866207 | AA9: =SUM(B9:Z9) -> 0.94493137 | AB9: =(B9+C9+J9+M9+N9+O9+Q9+T9+U9+V9+X9) -> 0.34612121 | AC9: =(AB9-AB8)/AB8*100 -> 3.5422738 | AD9: =F9+G9+H9+I9+K9+L9+P9+R9+Y9+Z9 -> 0.428956 | AE9: =(AD9-AD8)/AD8*100 -> -4.3502151 | AF9: =D9+E9+S9+W9 -> 0.16985416 | AG9: =(AF9-AF8)/AF8*100 -> 8.2164642 | AH9: =N9+O9+Q9+T9+U9+V9 -> 0.041355736 | AI9: =(AH9-AH8)/AH8*100 -> 30.229075 | AJ9: =C9+J9+M9 -> 0.093879392 | AK9: =(AJ9-AJ8)/AJ8*100 -> -1.9967905 | AL9: =AB9+AD9+AF9 -> 0.94493137 | AN9: =AB9+AF9 -> 0.51597537
A10: 2007 | B10: 0.20099834 | C10: 0.034842213 | D10: 0.077263583 | E10: 0.094755591 | F10: 0.11670744 | G10: 0.096201561 | H10: 0.075993309 | I10: 0.055681469 | J10: 0.033359317 | K10: 0.023378969 | L10: 0.044909838 | M10: 0.013171772 | N10: 0.0084739772 | O10: 0.010162374 | P10: 0.015450794 | Q10: 0.0033978364 | R10: 0.013153795 | S10: 0.0095964004 | T10: 0.0050556288 | U10: 0.0056344853 | V10: 0.004903162 | W10: 0.0027945195 | X10: 0.011935854 | Y10: 0.00062325188 | Z10: 0.0023913208 | AA10: =SUM(B10:Z10) -> 0.9608368 | AB10: =(B10+C10+J10+M10+N10+O10+Q10+T10+U10+V10+X10) -> 0.33193496 | AC10: =(AB10-AB9)/AB9*100 -> -4.098638 | AD10: =F10+G10+H10+I10+K10+L10+P10+R10+Y10+Z10 -> 0.44449175 | AE10: =(AD10-AD9)/AD9*100 -> 3.6217569 | AF10: =D10+E10+S10+W10 -> 0.18441009 | AG10: =(AF10-AF9)/AF9*100 -> 8.5696651 | AH10: =N10+O10+Q10+T10+U10+V10 -> 0.037627464 | AI10: =(AH10-AH9)/AH9*100 -> -9.0151276 | AJ10: =C10+J10+M10 -> 0.081373302 | AK10: =(AJ10-AJ9)/AJ9*100 -> -13.321443 | AL10: =AB10+AD10+AF10 -> 0.9608368 | AN10: =AB10+AF10 -> 0.51634505
A11: 2008 | B11: 0.20674446 | C11: 0.038280077 | D11: 0.071078745 | E11: 0.084992975 | F11: 0.1028794 | G11: 0.12752431 | H11: 0.067235257 | I11: 0.054004481 | J11: 0.036639089 | K11: 0.023606715 | L11: 0.04256542 | M11: 0.012281279 | N11: 0.0094722848 | O11: 0.014490715 | P11: 0.0187039 | Q11: 0.0035057079 | R11: 0.011055919 | S11: 0.0088762986 | T11: 0.0049233009 | U11: 0.0053930369 | V11: 0.010163715 | W11: 0.0053501885 | X11: 0.0049220132 | Y11: 0.00053998129 | Z11: 0.0028048228 | AA11: =SUM(B11:Z11) -> 0.9680341 | AB11: =(B11+C11+J11+M11+N11+O11+Q11+T11+U11+V11+X11) -> 0.34681568 | AC11: =(AB11-AB10)/AB10*100 -> 4.4830243 | AD11: =F11+G11+H11+I11+K11+L11+P11+R11+Y11+Z11 -> 0.45092021 | AE11: =(AD11-AD10)/AD10*100 -> 1.4462503 | AF11: =D11+E11+S11+W11 -> 0.17029821 | AG11: =(AF11-AF10)/AF10*100 -> -7.6524482 | AH11: =N11+O11+Q11+T11+U11+V11 -> 0.047948761 | AI11: =(AH11-AH10)/AH10*100 -> 27.430223 | AJ11: =C11+J11+M11 -> 0.087200445 | AK11: =(AJ11-AJ10)/AJ10*100 -> 7.1610009 | AL11: =AB11+AD11+AF11 -> 0.9680341 | AN11: =AB11+AF11 -> 0.51711389
A12: 2009 | B12: 0.23366584 | C12: 0.046610639 | D12: 0.080751777 | E12: 0.0829908 | F12: 0.094417708 | G12: 0.081329223 | H12: 0.072159918 | I12: 0.04637217 | J12: 0.04768664 | K12: 0.024459862 | L12: 0.03779833 | M12: 0.013730481 | N12: 0.0099496836 | O12: 0.019924484 | P12: 0.011536978 | Q12: 0.0033907429 | R12: 0.011234247 | S12: 0.0086724582 | T12: 0.0042523654 | U12: 0.0062861499 | V12: 0.012986836 | W12: 0.0067644583 | X12: 0.0019398073 | Y12: 0.00030839542 | Z12: 0.0029805912 | AA12: =SUM(B12:Z12) -> 0.96220059 | AB12: =(B12+C12+J12+M12+N12+O12+Q12+T12+U12+V12+X12) -> 0.40042367 | AC12: =(AB12-AB11)/AB11*100 -> 15.457199 | AD12: =F12+G12+H12+I12+K12+L12+P12+R12+Y12+Z12 -> 0.38259742 | AE12: =(AD12-AD11)/AD11*100 -> -15.151857 | AF12: =D12+E12+S12+W12 -> 0.17917949 | AG12: =(AF12-AF11)/AF11*100 -> 5.2151384 | AH12: =N12+O12+Q12+T12+U12+V12 -> 0.056790263 | AI12: =(AH12-AH11)/AH11*100 -> 18.439479 | AJ12: =C12+J12+M12 -> 0.10802776 | AK12: =(AJ12-AJ11)/AJ11*100 -> 23.884414 | AL12: =AB12+AD12+AF12 -> 0.96220059 | AN12: =AB12+AF12 -> 0.57960317
A13: 2010 | B13: 0.23788083 | C13: 0.050471108 | D13: 0.08730854 | E13: 0.085688208 | F13: 0.086436377 | G13: 0.080372414 | H13: 0.068765451 | I13: 0.045672405 | J13: 0.046464929 | K13: 0.0232391 | L13: 0.031945141 | M13: 0.013509401 | N13: 0.0074620868 | O13: 0.022125603 | P13: 0.011230535 | Q13: 0.003411511 | R13: 0.012274978 | S13: 0.010172662 | T13: 0.0050572857 | U13: 0.0065746337 | V13: 0.014003717 | W13: 0.0057683592 | X13: 0.0014355904 | Y13: 0.00049508556 | Z13: 0.0033107569 | AA13: =SUM(B13:Z13) -> 0.96107671 | AB13: =(B13+C13+J13+M13+N13+O13+Q13+T13+U13+V13+X13) -> 0.4083967 | AC13: =(AB13-AB12)/AB12*100 -> 1.9911469 | AD13: =F13+G13+H13+I13+K13+L13+P13+R13+Y13+Z13 -> 0.36374224 | AE13: =(AD13-AD12)/AD12*100 -> -4.9282034 | AF13: =D13+E13+S13+W13 -> 0.18893777 | AG13: =(AF13-AF12)/AF12*100 -> 5.4460893 | AH13: =N13+O13+Q13+T13+U13+V13 -> 0.058634837 | AI13: =(AH13-AH12)/AH12*100 -> 3.2480464 | AJ13: =C13+J13+M13 -> 0.11044544 | AK13: =(AJ13-AJ12)/AJ12*100 -> 2.2380155 | AL13: =AB13+AD13+AF13 -> 0.96107671 | AN13: =AB13+AF13 -> 0.59733446
A14: 2011 | B14: 0.22944071 | C14: 0.068124713 | D14: 0.094848954 | E14: 0.081974909 | F14: 0.083451921 | G14: 0.075225051 | H14: 0.067042721 | I14: 0.042211554 | J14: 0.044668719 | K14: 0.028078627 | L14: 0.029260156 | M14: 0.015144487 | N14: 0.010022336 | O14: 0.023967373 | P14: 0.012269076 | Q14: 0.0027164143 | R14: 0.011296282 | S14: 0.0090988613 | T14: 0.0046276262 | U14: 0.0091940214 | V14: 0.011328934 | W14: 0.0068162434 | X14: 0.0014727309 | Y14: 0.00058086388 | Z14: 0.0035525149 | AA14: =SUM(B14:Z14) -> 0.96641579 | AB14: =(B14+C14+J14+M14+N14+O14+Q14+T14+U14+V14+X14) -> 0.42070806 | AC14: =(AB14-AB13)/AB13*100 -> 3.0145607 | AD14: =F14+G14+H14+I14+K14+L14+P14+R14+Y14+Z14 -> 0.35296877 | AE14: =(AD14-AD13)/AD13*100 -> -2.961844 | AF14: =D14+E14+S14+W14 -> 0.19273897 | AG14: =(AF14-AF13)/AF13*100 -> 2.0118786 | AH14: =N14+O14+Q14+T14+U14+V14 -> 0.061856705 | AI14: =(AH14-AH13)/AH13*100 -> 5.4948021 | AJ14: =C14+J14+M14 -> 0.12793792 | AK14: =(AJ14-AJ13)/AJ13*100 -> 15.838119 | AL14: =AB14+AD14+AF14 -> 0.96641579 | AN14: =AB14+AF14 -> 0.61344703
... A26: 2023 | B26: 0.15589255 | C26: 0.14912752 | D26: 0.080415267 | E26: 0.070244709 | F26: 0.079648334 | G26: 0.064912061 | H26: 0.035590712 | I26: 0.054746602 | J26: 0.027553923 | K26: 0.047206354 | L26: 0.030037445 | M26: 0.037476482 | N26: 0.041898371 | O26: 0.024593825 | P26: 0.002830135 | Q26: 0.022793182 | R26: 0.0094053526 | S26: 0.0036021478 | T26: 0.0022173836 | U26: 0.0032484237 | V26: 0.0014770308 | W26: 0.004545945 | X26: 0.00032274923 | Y26: 0.015318932 | Z26: 0.00190154 | AA26: =SUM(B26:Z26) -> 0.96700697 | AB26: =(B26+C26+J26+M26+N26+O26+Q26+T26+U26+V26+X26) -> 0.46660144 | AC26: =(AB26-AB25)/AB25*100 -> -0.031146975 | AD26: =F26+G26+H26+I26+K26+L26+P26+R26+Y26+Z26 -> 0.34159747 | AE26: =(AD26-AD25)/AD25*100 -> 14.350224 | AF26: =D26+E26+S26+W26 -> 0.15880807 | AG26: =(AF26-AF25)/AF25*100 -> -23.203016 | AH26: =N26+O26+Q26+T26+U26+V26 -> 0.096228217 | AI26: =(AH26-AH25)/AH25*100 -> 10.285871 | AJ26: =C26+J26+M26 -> 0.21415792 | AK26: =(AJ26-AJ25)/AJ25*100 -> -2.2925274 | AL26: =AB26+AD26+AF26 -> 0.96700697 | AN26: =AB26+AF26 -> 0.62540951
A29: China (excl. Hong Kong) | M29: Average year-on-year percentage change of Asia's share | N29: Average year-on-year percentage change of Europe's share | O29: Average year-on-year percentage change of semiproximity's share (Turkey, Morocco, Tunisia and Egypt) | P29: Average year-on-year percentage change of ASEAN's share | Q29: Average year-on-year percentage change of China's share | R29: Year-on-year percentage change in average share of South Asia | AB29: Asia: Hiperglobalisation average | AD29: Europe: Hiperglobalisation average
