Workbook

Sheet Summary
A6: EU trade since 1999 by SITC [ds-018995__custom_13534514]
A7: Open product page | B7: Open in Data Browser
A8: Description: | B8: -
A10: Last update of data: | D10: 17/10/2024 11:00
A11: Last change of data structure: | D11: 17/10/2024 11:00
B13: Institutional source(s)
C14: Eurostat
B15: Contents | C15: Frequency | D15: REPORTER | E15: INDICATORS
B16: Sheet 1 | C16: Annual | D16: Spain (incl. Canary Islands 'XB' from 1997) | E16: VALUE_IN_EUROS

Sheet Structure
A1: Structure
B2: Dimension | C2: Position
B3: Label | C3: Label
B4: Frequency | C4: Annual
B5: REPORTER | C5: Spain (incl. Canary Islands 'XB' from 1997)
B6: PARTNER | C6: Andorra
B7: PARTNER | C7: United Arab Emirates
B8: PARTNER | C8: Afghanistan
B9: PARTNER | C9: Antigua and Barbuda
B10: PARTNER | C10: Anguilla
B11: PARTNER | C11: Albania
B12: PARTNER | C12: Armenia
B13: PARTNER | C13: Netherlands Antilles (incl. Aruba 'AW' -> 1986)
... B314: TIME_PERIOD | C314: 1999

Sheet 1. Total Imports
A1: TIME | B1: 1999 | C1: 2000 | D1: 2001 | E1: 2002 | F1: 2003 | G1: 2004 | H1: 2005 | I1: 2006 | J1: 2007 | K1: 2008 | L1: 2009 | M1: 2010 | N1: 2011 | O1: 2012 | P1: 2013 | Q1: 2014 | R1: 2015 | S1: 2016 | T1: 2017 | U1: 2018 | V1: 2019 | W1: 2020 | X1: 2021 | Y1: 2022 | Z1: 2023 | AA1: Total
A2: PARTNER (Labels)
A3: All countries of the world | B3: 3046907108 | C3: 4165400260 | D3: 4777386348 | E3: 5250533556 | F3: 5823204726 | G3: 6539371831 | H3: 7612913922 | I3: 8842130685 | J3: 9769583002 | K3: 10472777757 | L3: 9411349187 | M3: 10469309683 | N3: 11374518501 | O3: 11435977613 | P3: 11377102535 | Q3: 12949490873 | R3: 14751513554 | S3: 15929588475 | T3: 16561429508 | U3: 17056187056 | V3: 18216907498 | W3: 15412299612 | X3: 17036387655 | Y3: 22219164075 | Z3: 19982554283 | AA3: =SUM(B3:Z3) -> 290483989303
A4: Extra-euro area (= 'WORLD' - 'EUROZONE_INTRA') | B4: 1568971824 | C4: 2216637493 | D4: 2503391082 | E4: 2868282224 | F4: 3165782347 | G4: 3685905954 | H4: 4400115066 | I4: 5282789812 | J4: 5665244927 | K4: 6035395110 | L4: 5910759499 | M4: 6767653171 | N4: 7551676992 | O4: 7704721400 | P4: 7794878848 | Q4: 9099030712 | R4: 10530070987 | S4: 11360338950 | T4: 12273300377 | U4: 12802171929 | V4: 13503761232 | W4: 11327988326 | X4: 12424701905 | Y4: 15943546813 | Z4: 13495783756 | AA4: =SUM(B4:Z4) -> 195882900736
A5: Extra-EU (= 'WORLD' - 'EU_INTRA') | B5: 1405736464 | C5: 1980707883 | D5: 2290893769 | E5: 2569222267 | F5: 2953414957 | G5: 3442102638 | H5: 4141166210 | I5: 4994074482 | J5: 5278775836 | K5: 5619745459 | L5: 5605325082 | M5: 6415340741 | N5: 7151856214 | O5: 7326263497 | P5: 7376609304 | Q5: 8563984160 | R5: 9948896245 | S5: 10755292912 | T5: 11738976607 | U5: 12276783072 | V5: 12885772396 | W5: 10984033991 | X5: 12017095937 | Y5: 15338463532 | Z5: 12793153340 | AA5: =SUM(B5:Z5) -> 185853686995
A6: Intra-EU (AT-01/1995, BE-01/1958, BG-01/2007, CY-05/2004, CZ-05/2004, DE-01/1958, DK-01/1973, EE-05/2004, ES-01/1986, FI-01/1995, FR-01/1958, GB-01/1973->01/2020, GR-01/1981, HR-07/2013, HU-05/2004, IE-01/1973, IT-01/1958, LT-05/2004, LU-01/1958, LV-05/2004, MT-05/2004, NL-01/1958, PL-05/2004, PT-01/1986, RO-01/2007, SE-01/1995, SI-05/2004, SK-05/2004, QR-01/1993, QV-01/1993, QY-01/1988) | B6: 1641170644 | C6: 2184692377 | D6: 2486492579 | E6: 2681311289 | F6: 2869789769 | G6: 3097269193 | H6: 3471747712 | I6: 3848056203 | J6: 4490807166 | K6: 4853032298 | L6: 3806024105 | M6: 4053968942 | N6: 4222662287 | O6: 4109714116 | P6: 4000493231 | Q6: 4385506713 | R6: 4802617309 | S6: 5174295563 | T6: 4822452901 | U6: 4779403984 | V6: 5331135102 | W6: 4428265621 | X6: 5019291718 | Y6: 6880700543 | Z6: 7189400943 | AA6: =SUM(B6:Z6) -> 104630302308
A7: Intra-euro area (AT-01/1999, BE-01/1999, CY-01/2008, DE-01/1999, EE-01/2011, ES-01/1999, FI-01/1999, FR-01/1999, GR-01/2001, HR-01/2023, IE-01/1999, IT-01/1999, LT-01/2015, LU-01/1999, LV-01/2014, MT-01/2008, NL-01/1999, PT-01/1999, SI-01/2007, SK-01/2009, QR-01/1999, QV-01/1999, QY-01/1999) | B7: 1477935284 | C7: 1948762767 | D7: 2273995266 | E7: 2382251332 | F7: 2657422379 | G7: 2853465877 | H7: 3212798856 | I7: 3559340873 | J7: 4104338075 | K7: 4437382647 | L7: 3500589688 | M7: 3701656512 | N7: 3822841509 | O7: 3731256213 | P7: 3582223687 | Q7: 3850460161 | R7: 4221442567 | S7: 4569249525 | T7: 4288129131 | U7: 4254015127 | V7: 4713146266 | W7: 4084311286 | X7: 4611685750 | Y7: 6275617262 | Z7: 6486770527 | AA7: =SUM(B7:Z7) -> 94601088567
A8: China | B8: 425608643 | C8: 579156470 | D8: 639034333 | E8: 730574787 | F8: 814180486 | G8: 987232500 | H8: 1500495618 | I8: 1711147034 | J8: 1963669930 | K8: 2165188799 | L8: 2199110831 | M8: 2490448079 | N8: 2609777573 | O8: 2519113824 | P8: 2382268038 | Q8: 2725151713 | R8: 3111488118 | S8: 3040465462 | T8: 3091323065 | U8: 2942240411 | V8: 2975590592 | W8: 2723095311 | X8: 2614362222 | Y8: 3552071725 | Z8: 3115131375 | AA8: =SUM(B8:Z8) -> 53607926939
A9: Bangladesh | B9: 55992061 | C9: 83917553 | D9: 102213839 | E9: 137839183 | F9: 192802164 | G9: 266552842 | H9: 283880089 | I9: 366555307 | J9: 340393895 | K9: 400898736 | L9: 438669001 | M9: 528397663 | N9: 774885808 | O9: 936324221 | P9: 1057396999 | Q9: 1243248941 | R9: 1644278952 | S9: 1912752322 | T9: 2087509311 | U9: 2302305156 | V9: 2526269978 | W9: 2096639001 | X9: 2442051354 | Y9: 3410354428 | Z9: 2979948668 | AA9: =SUM(B9:Z9) -> 28612077472
A10: Türkiye | B10: 72500482 | C10: 98420529 | D10: 109725489 | E10: 158158631 | F10: 238976521 | G10: 360693298 | H10: 466922291 | I10: 597304522 | J10: 754832986 | K10: 744391896 | L10: 759983172 | M10: 914060143 | N10: 1078861182 | O10: 1172031472 | P10: 1200637478 | Q10: 1281923033 | R10: 1531247415 | S10: 1673043859 | T10: 2018350533 | U10: 2254100545 | V10: 2315824510 | W10: 1899030651 | X10: 2355717172 | Y10: 2528514048 | Z10: 1606902443 | AA10: =SUM(B10:Z10) -> 28192154301
A11: Morocco | B11: 167313213 | C11: 262014068 | D11: 423035746 | E11: 478181235 | F11: 594290736 | G11: 601601296 | H11: 635015357 | I11: 803913256 | J11: 925722607 | K11: 890112534 | L11: 781055398 | M11: 897096382 | N11: 932425114 | O11: 993748365 | P11: 997523774 | Q11: 1168942171 | R11: 1199061913 | S11: 1474072663 | T11: 1602206402 | U11: 1663800392 | V11: 1652788067 | W11: 1217908936 | X11: 1658551060 | Y11: 1887272615 | Z11: 1403668712 | AA11: =SUM(B11:Z11) -> 25311322012
A12: Italy (incl. San Marino 'SM' -> 1993) | B12: 461519402 | C12: 615504336 | D12: 707820385 | E12: 675689984 | F12: 737685797 | G12: 842309270 | H12: 908228136 | I12: 989531086 | J12: 1140183014 | K12: 1077433138 | L12: 888598015 | M12: 904929197 | N12: 949225414 | O12: 996624532 | P12: 873730213 | Q12: 950933662 | R12: 1051673920 | S12: 1074284718 | T12: 1076553785 | U12: 1101808362 | V12: 1233812949 | W12: 1001958062 | X12: 1150482831 | Y12: 1464366505 | Z12: 1591577149 | AA12: =SUM(B12:Z12) -> 24466463862
A13: France (incl. Saint Barthélemy 'BL' -> 2012; incl. French Guiana 'GF', Guadeloupe 'GP', Martinique 'MQ', Réunion 'RE' from 1997; incl. Mayotte 'YT' from 2014) | B13: 303399355 | C13: 385488708 | D13: 428632802 | E13: 472090107 | F13: 513101086 | G13: 594569417 | H13: 708714436 | I13: 785979772 | J13: 939849131 | K13: 1335533757 | L13: 765417717 | M13: 841443688 | N13: 855648729 | O13: 753034515 | P13: 728831583 | Q13: 826271413 | R13: 959127417 | S13: 1060955679 | T13: 1038945940 | U13: 1052924992 | V13: 1242677380 | W13: 1040278083 | X13: 1196529516 | Y13: 1455530817 | Z13: 1297108779 | AA13: =SUM(B13:Z13) -> 21582084819
A14: Portugal | B14: 287128941 | C14: 419150876 | D14: 482927469 | E14: 540816349 | F14: 632301031 | G14: 594574142 | H14: 619629739 | I14: 648993454 | J14: 742422940 | K14: 704139900 | L14: 679122190 | M14: 719926804 | N14: 762578675 | O14: 840293388 | P14: 879917154 | Q14: 950217799 | R14: 1012471631 | S14: 1078976242 | T14: 733468194 | U14: 535726975 | V14: 521031009 | W14: 609617546 | X14: 415429718 | Y14: 691919630 | Z14: 711193341 | AA14: =SUM(B14:Z14) -> 16813975137
... A57: Mexico | B57: 4485628 | C57: 3028760 | D57: 2781156 | E57: 3384853 | F57: 2778383 | G57: 3552216 | H57: 6314054 | I57: 8578178 | J57: 7568230 | K57: 6718582 | L57: 6058251 | M57: 5659269 | N57: 3701333 | O57: 3885524 | P57: 3814087 | Q57: 5197493 | R57: 5041809 | S57: 5124440 | T57: 6387949 | U57: 5677546 | V57: 6110167 | W57: 3598403 | X57: 2752073 | Y57: 4381737 | Z57: 3960569 | AA57: =SUM(B57:Z57) -> 120540690
A58: Jamaica | B58: 13057201 | C58: 16587257 | D58: 19052579 | E58: 22375456 | F58: 19250919 | G58: 15520360 | H58: 1534004 | I58: : | J58: : | K58: : | L58: : | M58: : | N58: : | O58: 120 | P58: 2095 | Q58: 235 | R58: : | S58: 9001 | T58: 290 | U58: 516 | V58: 1377 | W58: 796 | X58: 2193 | Y58: 273 | Z58: 469 | AA58: =SUM(B58:Z58) -> 107395141
A59: Canada | B59: 1081519 | C59: 1179549 | D59: 701059 | E59: 1030493 | F59: 1513995 | G59: 2644350 | H59: 2661103 | I59: 3069783 | J59: 2988909 | K59: 3046807 | L59: 1827116 | M59: 2404433 | N59: 3612557 | O59: 4196880 | P59: 3930971 | Q59: 4725233 | R59: 5544587 | S59: 5102613 | T59: 5407445 | U59: 6271460 | V59: 7608049 | W59: 4343164 | X59: 4634567 | Y59: 7863592 | Z59: 7869094 | AA59: =SUM(B59:Z59) -> 95259328
A60: Croatia | B60: 1445027 | C60: 3320615 | D60: 2043310 | E60: 1115447 | F60: 1494856 | G60: 1590542 | H60: 1016353 | I60: 893027 | J60: 25246 | K60: 87643 | L60: 14760 | M60: 164940 | N60: 191081 | O60: 47381 | P60: 121703 | Q60: 866355 | R60: 1002374 | S60: 1345234 | T60: 1664916 | U60: 1591314 | V60: 2503356 | W60: 2056559 | X60: 1762218 | Y60: 14382581 | Z60: 51889569 | AA60: =SUM(B60:Z60) -> 92636407
A61: Turkmenistan | B61: : | C61: : | D61: : | E61: : | F61: 579826 | G61: 3199487 | H61: 4422547 | I61: 3754754 | J61: 2473238 | K61: 2853528 | L61: 7765598 | M61: 9055392 | N61: 7652884 | O61: 7039993 | P61: 8895887 | Q61: 8538475 | R61: 7286199 | S61: 3034248 | T61: 353463 | U61: 37179 | V61: 1349 | W61: 3044 | X61: 1371 | Y61: 482 | Z61: : | AA61: =SUM(B61:Z61) -> 76948944
A62: Argentina | B62: 1137741 | C62: 1593512 | D62: 1657976 | E62: 4933537 | F62: 11042364 | G62: 9549520 | H62: 8382619 | I62: 8745618 | J62: 7369500 | K62: 5322190 | L62: 2857559 | M62: 2533529 | N62: 2270188 | O62: 1372115 | P62: 817765 | Q62: 762913 | R62: 625148 | S62: 488366 | T62: 413804 | U62: 543203 | V62: 354295 | W62: 197333 | X62: 300449 | Y62: 357946 | Z62: 353803 | AA62: =SUM(B62:Z62) -> 73982993
A63: Malta | B63: 381624 | C63: 1031846 | D63: 531969 | E63: 601294 | F63: 1174258 | G63: 306380 | H63: 77513 | I63: 2244 | J63: 4732355 | K63: 110 | L63: 343614 | M63: 193962 | N63: 2509165 | O63: 6428676 | P63: 10535138 | Q63: 12363317 | R63: 11719452 | S63: 3108863 | T63: 3149460 | U63: 3329128 | V63: 1766204 | W63: 1891819 | X63: 2004439 | Y63: 1741354 | Z63: 2197590 | AA63: =SUM(B63:Z63) -> 72121774
A64: Lao People’s Democratic Republic (Laos) | B64: 2580406 | C64: 2511799 | D64: 1776038 | E64: 2804893 | F64: 1897251 | G64: 2466948 | H64: 2585300 | I64: 2135938 | J64: 2483187 | K64: 2912449 | L64: 2145895 | M64: 3424405 | N64: 4769173 | O64: 6359580 | P64: 6449417 | Q64: 3567414 | R64: 6242115 | S64: 2814496 | T64: 2224200 | U64: 2504323 | V64: 1475540 | W64: 1076388 | X64: 642592 | Y64: 1149869 | Z64: 1633053 | AA64: =SUM(B64:Z64) -> 70632669
A65: Saudi Arabia | B65: 525911 | C65: 2674027 | D65: 3218438 | E65: 2701231 | F65: 2402674 | G65: 2406007 | H65: 1272114 | I65: 1612713 | J65: 1357569 | K65: 2052541 | L65: 1802699 | M65: 2181725 | N65: 2674986 | O65: 1091456 | P65: 2629834 | Q65: 3643356 | R65: 4383745 | S65: 6975928 | T65: 5111290 | U65: 4028067 | V65: 4231476 | W65: 2405251 | X65: 1378590 | Y65: 2593220 | Z65: 5167600 | AA65: =SUM(B65:Z65) -> 70522448
A66: Andorra | B66: 766427 | C66: 756823 | D66: 1039260 | E66: 1169645 | F66: 1404361 | G66: 1241321 | H66: 1055035 | I66: 1940399 | J66: 1696192 | K66: 1954373 | L66: 1502576 | M66: 1648335 | N66: 1678017 | O66: 1962837 | P66: 1663194 | Q66: 1984445 | R66: 2896328 | S66: 3254252 | T66: 3298672 | U66: 4070292 | V66: 5373593 | W66: 5329548 | X66: 5443903 | Y66: 5310381 | Z66: 7100362 | AA66: =SUM(B66:Z66) -> 65540571
A67: Russian Federation (Russia) | B67: 543545 | C67: 2284679 | D67: 1542277 | E67: 845511 | F67: 2251431 | G67: 2356123 | H67: 321931 | I67: 649097 | J67: 371616 | K67: 108147 | L67: 690449 | M67: 296514 | N67: 40081 | O67: 65198 | P67: 177968 | Q67: 4173629 | R67: 1463244 | S67: 1011031 | T67: 415594 | U67: 2821506 | V67: 3260735 | W67: 2471711 | X67: 2430337 | Y67: 25140607 | Z67: 361569 | AA67: =SUM(B67:Z67) -> 56094530
A68: Ethiopia (incl. Eritrea 'ER' -> 1993) | B68: : | C68: : | D68: : | E68: : | F68: : | G68: : | H68: : | I68: : | J68: : | K68: 73771 | L68: 159011 | M68: 51177 | N68: 2210 | O68: 755 | P68: 16520 | Q68: 51872 | R68: 478513 | S68: 788268 | T68: 1011792 | U68: 1135552 | V68: 8047858 | W68: 11054095 | X68: 10941558 | Y68: 12958683 | Z68: 6826829 | AA68: =SUM(B68:Z68) -> 53598464
A69: Slovakia | B69: : | C69: 20212 | D69: 872277 | E69: 2894592 | F69: 3522577 | G69: 1862604 | H69: 86204 | I69: 643588 | J69: 801463 | K69: 1520863 | L69: 1113687 | M69: 1509987 | N69: 1304494 | O69: 1938838 | P69: 4199870 | Q69: 5073104 | R69: 4612222 | S69: 3721682 | T69: 2153595 | U69: 2619311 | V69: 1255699 | W69: 1563036 | X69: 1182862 | Y69: 3123437 | Z69: 4921177 | AA69: =SUM(B69:Z69) -> 52517381
A70: Serbia | B70: : | C70: : | D70: : | E70: : | F70: : | G70: : | H70: 726499 | I70: 1912323 | J70: 539910 | K70: 285042 | L70: 170923 | M70: 31117 | N70: 15991 | O70: 42832 | P70: 37185 | Q70: 104879 | R70: 140060 | S70: 502166 | T70: 1674995 | U70: 4941646 | V70: 3570499 | W70: 3560240 | X70: 11906898 | Y70: 9099199 | Z70: 8872266 | AA70: =SUM(B70:Z70) -> 48134670
A71: Slovenia | B71: 217430 | C71: 115612 | D71: 160367 | E71: 219036 | F71: 816830 | G71: 1082409 | H71: 299165 | I71: 29648 | J71: 223394 | K71: 35671 | L71: 546661 | M71: 853060 | N71: 451587 | O71: 259315 | P71: 166404 | Q71: 395007 | R71: 380466 | S71: 1820833 | T71: 2795940 | U71: 1588643 | V71: 6634539 | W71: 4642187 | X71: 3819681 | Y71: 7882542 | Z71: 12671958 | AA71: =SUM(B71:Z71) -> 48108385
A72: Norway (incl. Svalbard and Jan Mayen 'SJ' -> 1994 and again from 1997) | B72: 597476 | C72: 417667 | D72: 618724 | E72: 364754 | F72: 339441 | G72: 270246 | H72: 416967 | I72: 310038 | J72: 499477 | K72: 472790 | L72: 579556 | M72: 517899 | N72: 1095686 | O72: 932573 | P72: 868763 | Q72: 2981263 | R72: 1547127 | S72: 2297573 | T72: 2173146 | U72: 2562990 | V72: 3917878 | W72: 2806090 | X72: 4491162 | Y72: 6109741 | Z72: 6454053 | AA72: =SUM(B72:Z72) -> 43643080
A73: Finland | B73: 117446 | C73: 482570 | D73: 1190762 | E73: 461183 | F73: 533629 | G73: 952444 | H73: 769133 | I73: 1350902 | J73: 2250403 | K73: 2518054 | L73: 2840949 | M73: 3568121 | N73: 1876538 | O73: 1132702 | P73: 530759 | Q73: 822390 | R73: 1766389 | S73: 1818383 | T73: 1302669 | U73: 1528227 | V73: 1394517 | W73: 1607035 | X73: 1754193 | Y73: 2495491 | Z73: 3510244 | AA73: =SUM(B73:Z73) -> 38575133
A74: Nepal | B74: 1989581 | C74: 1803246 | D74: 846665 | E74: 1474872 | F74: 1154207 | G74: 1244471 | H74: 1536714 | I74: 1384444 | J74: 1367937 | K74: 1429155 | L74: 1211922 | M74: 1269248 | N74: 1549754 | O74: 1650245 | P74: 1481715 | Q74: 1791663 | R74: 1672152 | S74: 1320342 | T74: 974082 | U74: 1010640 | V74: 1047724 | W74: 409466 | X74: 594988 | Y74: 1120782 | Z74: 1404162 | AA74: =SUM(B74:Z74) -> 32740177
A75: North Macedonia | B75: : | C75: 202581 | D75: 592487 | E75: 710478 | F75: 2912750 | G75: 1699696 | H75: 522099 | I75: 1851516 | J75: 856012 | K75: 813521 | L75: 229083 | M75: 1501 | N75: 189260 | O75: 655950 | P75: 435293 | Q75: 1260865 | R75: 2362989 | S75: 3582369 | T75: 1925202 | U75: 1446150 | V75: 1816478 | W75: 1158895 | X75: 2225528 | Y75: 1714454 | Z75: 3280262 | AA75: =SUM(B75:Z75) -> 32445419
A76: Singapore | B76: 2790499 | C76: 3785330 | D76: 6502731 | E76: 1682502 | F76: 3261580 | G76: 1462688 | H76: 240430 | I76: 982041 | J76: 846824 | K76: 287019 | L76: 240697 | M76: 212369 | N76: 397092 | O76: 209840 | P76: 343890 | Q76: 552088 | R76: 1554064 | S76: 446817 | T76: 458461 | U76: 534527 | V76: 447675 | W76: 857502 | X76: 507052 | Y76: 1045383 | Z76: 1551093 | AA76: =SUM(B76:Z76) -> 31200194
A77: Ukraine | B77: 1711668 | C77: 4134870 | D77: 7291829 | E77: 1944365 | F77: 1620936 | G77: 2387814 | H77: 1810266 | I77: 590577 | J77: 127713 | K77: 413727 | L77: 141246 | M77: 196658 | N77: 254251 | O77: 161413 | P77: 377902 | Q77: 1698598 | R77: 334694 | S77: 143457 | T77: 252259 | U77: 294768 | V77: 432099 | W77: 287157 | X77: 760328 | Y77: 2497805 | Z77: 1018646 | AA77: =SUM(B77:Z77) -> 30885046
A78: Ecuador | B78: 1401437 | C78: 1754982 | D78: 1416028 | E78: 1208492 | F78: 1374590 | G78: 1391419 | H78: 1523850 | I78: 901896 | J78: 737795 | K78: 568567 | L78: 507210 | M78: 285030 | N78: 773738 | O78: 786647 | P78: 760603 | Q78: 1327425 | R78: 1825216 | S78: 1291693 | T78: 1191124 | U78: 1123573 | V78: 909796 | W78: 417528 | X78: 519557 | Y78: 1289906 | Z78: 1559213 | AA78: =SUM(B78:Z78) -> 26847315
A79: Syrian Arab Republic (Syria) | B79: 1345518 | C79: 2133140 | D79: 1333011 | E79: 1635393 | F79: 1742128 | G79: 3323765 | H79: 1418716 | I79: 1645770 | J79: 2311743 | K79: 1266626 | L79: 1039140 | M79: 799045 | N79: 1363662 | O79: 1176454 | P79: 321974 | Q79: 417847 | R79: 239883 | S79: 4910 | T79: 31585 | U79: 37637 | V79: 27928 | W79: 17503 | X79: 7173 | Y79: 50064 | Z79: 3471 | AA79: =SUM(B79:Z79) -> 23694086
A80: Albania | B80: : | C80: : | D80: : | E80: : | F80: 32607 | G80: 118435 | H80: : | I80: : | J80: : | K80: : | L80: : | M80: : | N80: 25280 | O80: 17260 | P80: 707 | Q80: 5365 | R80: 11432 | S80: 930443 | T80: 1396109 | U80: 5832754 | V80: 2627358 | W80: 238600 | X80: 5742457 | Y80: 4295429 | Z80: 2101945 | AA80: =SUM(B80:Z80) -> 23376181
A81: Dominican Republic | B81: 1437992 | C81: 2356356 | D81: 2223171 | E81: 2005964 | F81: 2357747 | G81: 2719602 | H81: 1739494 | I81: 1469801 | J81: 1328355 | K81: 827290 | L81: 139389 | M81: 159734 | N81: 44677 | O81: 323945 | P81: 189201 | Q81: 416001 | R81: 169327 | S81: 498587 | T81: 227957 | U81: 253695 | V81: 496172 | W81: 286102 | X81: 315681 | Y81: 385641 | Z81: 841396 | AA81: =SUM(B81:Z81) -> 23213277
A82: Kuwait | B82: 314094 | C82: 864809 | D82: 1054510 | E82: 714872 | F82: 863634 | G82: 1112448 | H82: 218357 | I82: 406981 | J82: 956443 | K82: 47655 | L82: 427081 | M82: 551431 | N82: 358598 | O82: 546712 | P82: 1124835 | Q82: 760936 | R82: 589153 | S82: 1717388 | T82: 1358401 | U82: 1753862 | V82: 1654425 | W82: 1041432 | X82: 496851 | Y82: 1444362 | Z82: 1802755 | AA82: =SUM(B82:Z82) -> 22182025
A83: Cyprus | B83: 764117 | C83: 637561 | D83: 1397527 | E83: 1116788 | F83: 1272699 | G83: 258709 | H83: 686076 | I83: 70666 | J83: 190291 | K83: 164497 | L83: 80353 | M83: 343557 | N83: 251666 | O83: 151679 | P83: 995206 | Q83: 1871275 | R83: 1158779 | S83: 1779685 | T83: 1726667 | U83: 793338 | V83: 1252826 | W83: 944928 | X83: 803147 | Y83: 703501 | Z83: 994380 | AA83: =SUM(B83:Z83) -> 20409918
A84: Australia | B84: 134241 | C84: 445315 | D84: 317449 | E84: 202429 | F84: 194346 | G84: 218922 | H84: 410704 | I84: 402994 | J84: 138262 | K84: 339032 | L84: 221260 | M84: 154309 | N84: 243146 | O84: 397688 | P84: 399426 | Q84: 389812 | R84: 439822 | S84: 600633 | T84: 716727 | U84: 1372591 | V84: 1563376 | W84: 2165939 | X84: 2346958 | Y84: 2372192 | Z84: 2741494 | AA84: =SUM(B84:Z84) -> 18929067
A85: Uruguay | B85: 144953 | C85: 380893 | D85: 998191 | E85: 1182601 | F85: 1005559 | G85: 1459446 | H85: 1880939 | I85: 2556600 | J85: 1918130 | K85: 873844 | L85: 1036084 | M85: 1374191 | N85: 851396 | O85: 292117 | P85: 149599 | Q85: 260754 | R85: 210068 | S85: 106636 | T85: 77850 | U85: 80033 | V85: 88544 | W85: 190473 | X85: 149302 | Y85: 273807 | Z85: 153806 | AA85: =SUM(B85:Z85) -> 17695816
A86: Panama (incl. Panama Canal Zone 'PZ' from 1981) | B86: 3073484 | C86: 2621753 | D86: 1576844 | E86: 600520 | F86: 294271 | G86: 98511 | H86: 81784 | I86: 59379 | J86: 204809 | K86: 431675 | L86: 349585 | M86: 221168 | N86: 165271 | O86: 411487 | P86: 339662 | Q86: 576987 | R86: 723152 | S86: 483019 | T86: 488270 | U86: 330979 | V86: 613627 | W86: 191368 | X86: 444042 | Y86: 260937 | Z86: 503948 | AA86: =SUM(B86:Z86) -> 15146532
A87: Qatar | B87: 35169 | C87: 222047 | D87: 469342 | E87: 406016 | F87: 510854 | G87: 424609 | H87: 99071 | I87: 247731 | J87: 247446 | K87: 129582 | L87: 81997 | M87: 41832 | N87: 236284 | O87: 164606 | P87: 46376 | Q87: 427044 | R87: 829235 | S87: 870051 | T87: 1085533 | U87: 1214444 | V87: 1523327 | W87: 602146 | X87: 585006 | Y87: 2112876 | Z87: 2305869 | AA87: =SUM(B87:Z87) -> 14918493
A88: Melilla | B88: 68685 | C88: 191487 | D88: 231856 | E88: 327018 | F88: 267319 | G88: 271409 | H88: 216101 | I88: 225875 | J88: 429541 | K88: 370209 | L88: 415680 | M88: 261706 | N88: 375006 | O88: 439178 | P88: 420874 | Q88: 544279 | R88: 500260 | S88: 727997 | T88: 804880 | U88: 939822 | V88: 1081049 | W88: 1000255 | X88: 874366 | Y88: 1418673 | Z88: 1336614 | AA88: =SUM(B88:Z88) -> 13740139
A89: Lebanon | B89: 312629 | C89: 420819 | D89: 799927 | E89: 426849 | F89: 647694 | G89: 626496 | H89: 459046 | I89: 718945 | J89: 545257 | K89: 632799 | L89: 533075 | M89: 688793 | N89: 571947 | O89: 558737 | P89: 540251 | Q89: 958540 | R89: 697835 | S89: 457479 | T89: 524459 | U89: 695077 | V89: 681260 | W89: 213956 | X89: 244217 | Y89: 266725 | Z89: 353198 | AA89: =SUM(B89:Z89) -> 13576010
A90: Ceuta (incl. Melilla 'XL' -> 1998) | B90: 190589 | C90: 102712 | D90: 182893 | E90: 177401 | F90: 299187 | G90: 396288 | H90: 529584 | I90: 343720 | J90: 215302 | K90: 321954 | L90: 420351 | M90: 387952 | N90: 452997 | O90: 334825 | P90: 217420 | Q90: 236734 | R90: 483880 | S90: 441899 | T90: 709202 | U90: 884413 | V90: 1283676 | W90: 910230 | X90: 999895 | Y90: 1148772 | Z90: 1626922 | AA90: =SUM(B90:Z90) -> 13298798
A91: Cabo Verde | B91: : | C91: : | D91: : | E91: : | F91: : | G91: : | H91: 928432 | I91: 2068782 | J91: 2386697 | K91: 2523151 | L91: 2505852 | M91: 1247873 | N91: 305 | O91: 276827 | P91: 115148 | Q91: 575 | R91: 4431 | S91: : | T91: 161216 | U91: 19376 | V91: 15753 | W91: 525 | X91: 2738 | Y91: 16341 | Z91: 5200 | AA91: =SUM(B91:Z91) -> 12279222
A92: Kyrgyzstan | B92: : | C92: : | D92: 6206 | E92: 8939 | F92: 657064 | G92: 7773912 | H92: 2453368 | I92: 46996 | J92: 40444 | K92: : | L92: : | M92: : | N92: 5035 | O92: : | P92: : | Q92: 16383 | R92: 515 | S92: 811 | T92: 496 | U92: 169 | V92: 33 | W92: 200 | X92: 532 | Y92: 3342 | Z92: 7809 | AA92: =SUM(B92:Z92) -> 11022254
A93: Korea, Democratic People’s Republic of (North Korea) | B93: 1315192 | C93: 1989449 | D93: 1217695 | E93: 1104630 | F93: 564118 | G93: 554797 | H93: 670719 | I93: 697131 | J93: 414397 | K93: 167483 | L93: : | M93: : | N93: 327901 | O93: 79980 | P93: 55595 | Q93: 464795 | R93: 399020 | S93: 244104 | T93: 444180 | U93: 2220 | V93: 407 | W93: 37 | X93: 612 | Y93: 199 | Z93: 614 | AA93: =SUM(B93:Z93) -> 10715275
A94: Bahrain | B94: 4107 | C94: 582072 | D94: 442067 | E94: 275577 | F94: 272655 | G94: 235758 | H94: 106128 | I94: 49080 | J94: 94313 | K94: 71115 | L94: : | M94: 155063 | N94: 424205 | O94: 683 | P94: 47355 | Q94: 186763 | R94: 4219652 | S94: 734828 | T94: 121114 | U94: 825411 | V94: 535027 | W94: 79599 | X94: 256417 | Y94: 353472 | Z94: 434587 | AA94: =SUM(B94:Z94) -> 10507048
A95: Jordan | B95: 16765 | C95: 27394 | D95: 196408 | E95: 914877 | F95: 242723 | G95: 303824 | H95: 502326 | I95: 458690 | J95: 541179 | K95: 936909 | L95: 171524 | M95: 100669 | N95: 62393 | O95: 72805 | P95: 400419 | Q95: 334060 | R95: 148289 | S95: 56132 | T95: 154685 | U95: 650068 | V95: 538973 | W95: 536196 | X95: 332759 | Y95: 611775 | Z95: 824334 | AA95: =SUM(B95:Z95) -> 9136176
A96: Moldova, Republic of | B96: : | C96: 17624 | D96: 8697 | E96: 28572 | F96: : | G96: : | H96: 15761 | I96: 16527 | J96: 87445 | K96: 188287 | L96: 36295 | M96: 25849 | N96: 10654 | O96: 22189 | P96: 816746 | Q96: 731700 | R96: 111385 | S96: 126485 | T96: 641196 | U96: 1146484 | V96: 42286 | W96: 395471 | X96: 2285886 | Y96: 1382571 | Z96: 671955 | AA96: =SUM(B96:Z96) -> 8810065
A97: Venezuela, Bolivarian Republic of | B97: 168261 | C97: 92179 | D97: 131290 | E97: 306891 | F97: 3877968 | G97: 1022856 | H97: 603934 | I97: 274369 | J97: 240458 | K97: 89643 | L97: 134963 | M97: 271388 | N97: 94726 | O97: 97982 | P97: 118511 | Q97: 143030 | R97: 77382 | S97: 58961 | T97: 146474 | U97: 185517 | V97: 35807 | W97: 19521 | X97: 31325 | Y97: 64747 | Z97: 67597 | AA97: =SUM(B97:Z97) -> 8355780
A98: Guatemala | B98: 78487 | C98: 111608 | D98: 159716 | E98: 290546 | F98: 175366 | G98: 101715 | H98: 95512 | I98: 72580 | J98: 54049 | K98: 1159575 | L98: 438096 | M98: 59291 | N98: 59550 | O98: 152616 | P98: 249070 | Q98: 234359 | R98: 555156 | S98: 748481 | T98: 674741 | U98: 416080 | V98: 444698 | W98: 225706 | X98: 573804 | Y98: 486265 | Z98: 648759 | AA98: =SUM(B98:Z98) -> 8265826
A99: Bosnia and Herzegovina | B99: 30662 | C99: 4328 | D99: : | E99: 76038 | F99: 227415 | G99: 1260969 | H99: 245452 | I99: 13327 | J99: 124373 | K99: 2100 | L99: 17509 | M99: 5172 | N99: 6452 | O99: 6938 | P99: 1521 | Q99: 557 | R99: 2372 | S99: 2482 | T99: 11911 | U99: 89108 | V99: 47791 | W99: 37003 | X99: 543654 | Y99: 692388 | Z99: 4809262 | AA99: =SUM(B99:Z99) -> 8258784
A100: Paraguay | B100: 218728 | C100: 410738 | D100: 276479 | E100: 297508 | F100: 999376 | G100: 1402709 | H100: 185386 | I100: 72544 | J100: 152029 | K100: 74737 | L100: 54584 | M100: 67190 | N100: 60726 | O100: 200769 | P100: 297111 | Q100: 110718 | R100: 890387 | S100: 300557 | T100: 321619 | U100: 340422 | V100: 72571 | W100: 50966 | X100: 352014 | Y100: 303973 | Z100: 556236 | AA100: =SUM(B100:Z100) -> 8070077
A101: Honduras | B101: 22746 | C101: 13553 | D101: 761938 | E101: 762686 | F101: 350223 | G101: 96932 | H101: 217775 | I101: 31347 | J101: 43999 | K101: 110840 | L101: 90945 | M101: 397830 | N101: 275155 | O101: 73802 | P101: 138013 | Q101: 371436 | R101: 468158 | S101: 252539 | T101: 396307 | U101: 380036 | V101: 658119 | W101: 336269 | X101: 392269 | Y101: 462932 | Z101: 488145 | AA101: =SUM(B101:Z101) -> 7593994
A102: El Salvador | B102: 49879 | C102: 166445 | D102: 20040 | E102: 99009 | F102: 66441 | G102: 76112 | H102: 128689 | I102: 598706 | J102: 95823 | K102: 848917 | L102: 167655 | M102: 17673 | N102: 19099 | O102: 20798 | P102: 15932 | Q102: 157311 | R102: 311724 | S102: 724952 | T102: 585713 | U102: 663105 | V102: 669480 | W102: 315240 | X102: 475056 | Y102: 656458 | Z102: 385712 | AA102: =SUM(B102:Z102) -> 7335969
A103: South Africa (incl. Namibia 'NA' -> 1989) | B103: 240298 | C103: 200602 | D103: 331508 | E103: 552946 | F103: 1083570 | G103: 631749 | H103: 677847 | I103: 843234 | J103: 6040 | K103: 16089 | L103: 350811 | M103: 201763 | N103: 76936 | O103: 136838 | P103: 89489 | Q103: 150973 | R103: 60069 | S103: 108419 | T103: 243735 | U103: 91200 | V103: 171394 | W103: 226973 | X103: 201472 | Y103: 264406 | Z103: 273339 | AA103: =SUM(B103:Z103) -> 7231700
A104: Estonia | B104: 787 | C104: 82186 | D104: 9746 | E104: 1325 | F104: 22155 | G104: 2107 | H104: 2205 | I104: 3108 | J104: 27591 | K104: 1639 | L104: 26025 | M104: 40417 | N104: 114595 | O104: 123211 | P104: 1058032 | Q104: 519542 | R104: 870842 | S104: 663820 | T104: 455217 | U104: 324985 | V104: 610866 | W104: 835875 | X104: 479782 | Y104: 253554 | Z104: 690658 | AA104: =SUM(B104:Z104) -> 7220270
A105: Latvia | B105: 42526 | C105: 25207 | D105: 28630 | E105: 50743 | F105: 26281 | G105: 21936 | H105: 365590 | I105: 238609 | J105: 145178 | K105: 120601 | L105: 156532 | M105: 371532 | N105: 324336 | O105: 358693 | P105: 808618 | Q105: 380212 | R105: 197394 | S105: 352615 | T105: 341986 | U105: 209242 | V105: 211425 | W105: 767486 | X105: 295512 | Y105: 426045 | Z105: 529248 | AA105: =SUM(B105:Z105) -> 6796177
A106: Chile | B106: 31490 | C106: 143065 | D106: 52757 | E106: 123516 | F106: 306630 | G106: 137005 | H106: 140124 | I106: 75819 | J106: 20731 | K106: 57223 | L106: 520725 | M106: 173364 | N106: 75039 | O106: 156740 | P106: 167187 | Q106: 411354 | R106: 449394 | S106: 824306 | T106: 458400 | U106: 436213 | V106: 401679 | W106: 296797 | X106: 460016 | Y106: 293356 | Z106: 307099 | AA106: =SUM(B106:Z106) -> 6520029
A107: Yugoslavia (incl. Bosnia and Herzegovina 'BA', Croatia 'HR', Slovenia 'SI' -> 1991; incl. North Macedonia 'MK' -> 1992) | B107: 596685 | C107: 596105 | D107: 1950181 | E107: 2376873 | F107: 976764 | G107: : | H107: : | I107: : | J107: : | K107: : | L107: : | M107: : | N107: : | O107: : | P107: : | Q107: : | R107: : | S107: : | T107: : | U107: : | V107: : | W107: : | X107: : | Y107: : | Z107: : | AA107: =SUM(B107:Z107) -> 6496608
A108: Côte d’Ivoire (Ivory Coast) | B108: 497087 | C108: 642018 | D108: 809418 | E108: 950416 | F108: 665126 | G108: 658537 | H108: 561931 | I108: 433524 | J108: 385344 | K108: 297213 | L108: : | M108: : | N108: : | O108: 1419 | P108: 3763 | Q108: 3271 | R108: 3632 | S108: 2602 | T108: 314 | U108: 375 | V108: 745 | W108: 3767 | X108: 1823 | Y108: 16695 | Z108: 596 | AA108: =SUM(B108:Z108) -> 5939616
A109: Costa Rica | B109: 355025 | C109: 306813 | D109: 137193 | E109: 175116 | F109: 128501 | G109: 10559 | H109: 29737 | I109: 43445 | J109: 28792 | K109: 36287 | L109: 18799 | M109: 109146 | N109: 174892 | O109: 358671 | P109: 216472 | Q109: 379932 | R109: 559156 | S109: 185986 | T109: 539958 | U109: 154976 | V109: 202720 | W109: 69219 | X109: 19300 | Y109: 346909 | Z109: 186740 | AA109: =SUM(B109:Z109) -> 4774344
A110: San Marino | B110: 187994 | C110: 239541 | D110: 249527 | E110: 466621 | F110: 364458 | G110: 871927 | H110: 737059 | I110: 491796 | J110: 262753 | K110: 27252 | L110: 52010 | M110: 88747 | N110: 14761 | O110: 6101 | P110: 2545 | Q110: 12383 | R110: 73414 | S110: 160734 | T110: 21501 | U110: 98088 | V110: 150373 | W110: 19600 | X110: 2553 | Y110: 11842 | Z110: 3352 | AA110: =SUM(B110:Z110) -> 4616932
A111: Kosovo | B111: : | C111: : | D111: : | E111: : | F111: : | G111: : | H111: : | I111: : | J111: : | K111: : | L111: : | M111: : | N111: 175 | O111: 243140 | P111: 87 | Q111: 2022 | R111: 203 | S111: 100 | T111: 244 | U111: 229 | V111: 70953 | W111: 45031 | X111: 260623 | Y111: 50998 | Z111: 3435082 | AA111: =SUM(B111:Z111) -> 4108887
A112: Bahamas | B112: : | C112: : | D112: 17219 | E112: : | F112: : | G112: 485490 | H112: 409126 | I112: 577757 | J112: 845055 | K112: 684594 | L112: 217443 | M112: : | N112: 440299 | O112: : | P112: 98270 | Q112: 24819 | R112: 6031 | S112: : | T112: 6158 | U112: 1446 | V112: 33838 | W112: 104 | X112: 14750 | Y112: 1200 | Z112: 11501 | AA112: =SUM(B112:Z112) -> 3875100
A113: Cuba | B113: 1533284 | C113: 595631 | D113: 363186 | E113: 337306 | F113: 118086 | G113: 121090 | H113: 65404 | I113: 43431 | J113: 35464 | K113: 10904 | L113: 47501 | M113: : | N113: 1377 | O113: 2656 | P113: 597 | Q113: 23472 | R113: 562 | S113: 9527 | T113: 115 | U113: 12522 | V113: 2771 | W113: 21691 | X113: 4409 | Y113: 2360 | Z113: 3550 | AA113: =SUM(B113:Z113) -> 3356896
A114: Kenya | B114: 9479 | C114: 1839 | D114: 11146 | E114: 1703 | F114: 2936 | G114: 6742 | H114: 25492 | I114: 54721 | J114: 76955 | K114: 72106 | L114: 62556 | M114: 129138 | N114: 356512 | O114: 376171 | P114: 182746 | Q114: 628184 | R114: 163334 | S114: 162647 | T114: 117044 | U114: 130879 | V114: 129052 | W114: 75060 | X114: 129724 | Y114: 88805 | Z114: 64300 | AA114: =SUM(B114:Z114) -> 3059271
A115: New Zealand | B115: 34615 | C115: 53386 | D115: 53084 | E115: 28211 | F115: 55263 | G115: 54441 | H115: 142879 | I115: 26442 | J115: 119731 | K115: 80296 | L115: 183548 | M115: 105613 | N115: 113107 | O115: 124783 | P115: 191035 | Q115: 82269 | R115: 125544 | S115: 156969 | T115: 108342 | U115: 115699 | V115: 94453 | W115: 182646 | X115: 167499 | Y115: 179745 | Z115: 317344 | AA115: =SUM(B115:Z115) -> 2896944
A116: Montenegro | B116: : | C116: : | D116: : | E116: : | F116: : | G116: : | H116: : | I116: : | J116: : | K116: 4944 | L116: 10521 | M116: 15649 | N116: : | O116: 5528 | P116: 1069 | Q116: 1971 | R116: 2215 | S116: 2150 | T116: 2039 | U116: 8982 | V116: 1272 | W116: 3559 | X116: 207731 | Y116: 6833 | Z116: 2530645 | AA116: =SUM(B116:Z116) -> 2805108
A117: Mongolia | B117: 136544 | C117: 236123 | D117: : | E117: 131073 | F117: 33178 | G117: : | H117: 4230 | I117: 8606 | J117: 619986 | K117: 126116 | L117: 8713 | M117: : | N117: 5270 | O117: 343 | P117: 25590 | Q117: 78571 | R117: 67628 | S117: 194549 | T117: 52400 | U117: 48820 | V117: 66924 | W117: 648754 | X117: 82432 | Y117: 67302 | Z117: 109999 | AA117: =SUM(B117:Z117) -> 2753151
A118: Botswana | B118: 43707 | C118: : | D118: : | E118: : | F118: 711959 | G118: 1653942 | H118: 289469 | I118: : | J118: : | K118: : | L118: : | M118: : | N118: : | O118: : | P118: : | Q118: : | R118: : | S118: 101 | T118: : | U118: 2715 | V118: : | W118: : | X118: : | Y118: : | Z118: 1505 | AA118: =SUM(B118:Z118) -> 2703398
A119: Oman | B119: 13000 | C119: 3215 | D119: : | E119: 509476 | F119: 304144 | G119: 1032556 | H119: 109593 | I119: 251305 | J119: 241148 | K119: 24652 | L119: : | M119: : | N119: 1997 | O119: 331 | P119: 1070 | Q119: 901 | R119: 1604 | S119: 10300 | T119: 6981 | U119: 17360 | V119: 14405 | W119: 38957 | X119: 17728 | Y119: 21154 | Z119: 17669 | AA119: =SUM(B119:Z119) -> 2639546
A120: Aruba | B120: 38543 | C120: 21696 | D120: 23906 | E120: 44879 | F120: 55644 | G120: : | H120: 1471 | I120: : | J120: : | K120: 6502 | L120: : | M120: 137071 | N120: 184908 | O120: 267682 | P120: 292053 | Q120: 41936 | R120: 318076 | S120: 210131 | T120: 472536 | U120: 118014 | V120: 7207 | W120: 55019 | X120: 5831 | Y120: 2814 | Z120: 33291 | AA120: =SUM(B120:Z120) -> 2339210
A121: Georgia | B121: : | C121: : | D121: : | E121: : | F121: : | G121: : | H121: : | I121: : | J121: : | K121: : | L121: : | M121: 26824 | N121: 3914 | O121: 69207 | P121: 2476 | Q121: 32443 | R121: 268428 | S121: 250205 | T121: 131342 | U121: 139026 | V121: 115901 | W121: 499184 | X121: 236628 | Y121: 227445 | Z121: 289014 | AA121: =SUM(B121:Z121) -> 2292037
A122: Nicaragua | B122: 296240 | C122: : | D122: : | E122: : | F122: : | G122: : | H122: 3957 | I122: 2005 | J122: 21263 | K122: 20887 | L122: 28974 | M122: 50957 | N122: 11540 | O122: 15779 | P122: 31487 | Q122: 62747 | R122: 98071 | S122: 336163 | T122: 148537 | U122: 116966 | V122: 135620 | W122: 87003 | X122: 103158 | Y122: 434669 | Z122: 200241 | AA122: =SUM(B122:Z122) -> 2206264
A123: Bolivia, Plurinational State of | B123: 86971 | C123: 173687 | D123: 158467 | E123: 15229 | F123: 139125 | G123: 97122 | H123: 85206 | I123: 134233 | J123: 119346 | K123: 185026 | L123: 44047 | M123: 35781 | N123: 22800 | O123: 25708 | P123: 74792 | Q123: 25884 | R123: 57559 | S123: 30004 | T123: 95971 | U123: 54513 | V123: 87173 | W123: 6737 | X123: 253951 | Y123: 128325 | Z123: 36313 | AA123: =SUM(B123:Z123) -> 2173970
A124: Belarus (Belorussia) | B124: 3716 | C124: 4986 | D124: 832054 | E124: 516548 | F124: 32471 | G124: 45244 | H124: 24858 | I124: 8799 | J124: : | K124: 14511 | L124: : | M124: 25766 | N124: 37382 | O124: 21673 | P124: 15561 | Q124: 14615 | R124: 39050 | S124: 22954 | T124: 35340 | U124: 15980 | V124: 43337 | W124: 5158 | X124: 6240 | Y124: 14628 | Z124: 3562 | AA124: =SUM(B124:Z124) -> 1784433
A125: Maldives | B125: : | C125: 91978 | D125: 585963 | E125: 1060132 | F125: 1552 | G125: : | H125: : | I125: : | J125: : | K125: : | L125: : | M125: : | N125: : | O125: : | P125: : | Q125: 1226 | R125: 3144 | S125: 630 | T125: 598 | U125: 4022 | V125: 2766 | W125: 2756 | X125: 4782 | Y125: 984 | Z125: 3500 | AA125: =SUM(B125:Z125) -> 1764033
A126: Iceland | B126: : | C126: 5801 | D126: 116163 | E126: 439325 | F126: 354910 | G126: 199032 | H126: 6566 | I126: : | J126: 14356 | K126: : | L126: 5694 | M126: 17241 | N126: 34217 | O126: 15052 | P126: 69181 | Q126: 29337 | R126: 8150 | S126: 13061 | T126: 19511 | U126: 92703 | V126: 37823 | W126: 37086 | X126: 70762 | Y126: 37631 | Z126: 34829 | AA126: =SUM(B126:Z126) -> 1658431
A127: Iran, Islamic Republic of | B127: 9276 | C127: 10906 | D127: : | E127: : | F127: : | G127: : | H127: 7505 | I127: : | J127: 78533 | K127: 144832 | L127: 171052 | M127: 224558 | N127: 243790 | O127: 86464 | P127: 166458 | Q127: 85804 | R127: 57238 | S127: 75324 | T127: 9511 | U127: 2912 | V127: 2457 | W127: 68970 | X127: 1791 | Y127: 5292 | Z127: 27883 | AA127: =SUM(B127:Z127) -> 1480556
A128: Serbia and Montenegro(2004-2005);Czechoslovakia(1976-1992) | B128: : | C128: : | D128: : | E128: : | F128: : | G128: 940965 | H128: 274409 | I128: : | J128: : | K128: : | L128: : | M128: : | N128: : | O128: : | P128: : | Q128: : | R128: : | S128: : | T128: : | U128: : | V128: : | W128: : | X128: : | Y128: : | Z128: : | AA128: =SUM(B128:Z128) -> 1215374
A129: Uzbekistan | B129: 139658 | C129: : | D129: : | E129: : | F129: : | G129: 164882 | H129: : | I129: : | J129: 4875 | K129: 176948 | L129: 1378 | M129: : | N129: 16630 | O129: 3659 | P129: 723 | Q129: : | R129: 1097 | S129: 180554 | T129: 2135 | U129: 1930 | V129: 2349 | W129: 2348 | X129: 458770 | Y129: 30329 | Z129: 23583 | AA129: =SUM(B129:Z129) -> 1211848
A130: Mauritania (incl. Spanish Sahara from 1977) | B130: : | C130: 23855 | D130: 189919 | E130: 582404 | F130: 5082 | G130: : | H130: : | I130: 118788 | J130: 94135 | K130: : | L130: 34227 | M130: : | N130: 1048 | O130: 210 | P130: 3065 | Q130: 8848 | R130: 8352 | S130: 69639 | T130: 13413 | U130: 2082 | V130: 772 | W130: 11594 | X130: 5646 | Y130: 8596 | Z130: 2859 | AA130: =SUM(B130:Z130) -> 1184534
A131: Liberia | B131: : | C131: 782017 | D131: : | E131: : | F131: : | G131: : | H131: : | I131: : | J131: 214687 | K131: 34325 | L131: : | M131: : | N131: 266 | O131: 1550 | P131: 600 | Q131: 768 | R131: 1375 | S131: 2336 | T131: : | U131: 800 | V131: 648 | W131: 2383 | X131: 4690 | Y131: 704 | Z131: 5090 | AA131: =SUM(B131:Z131) -> 1052239
A132: Haiti | B132: 1913 | C132: : | D132: 22285 | E132: : | F132: : | G132: : | H132: : | I132: : | J132: : | K132: 3753 | L132: 1825 | M132: 2004 | N132: 15925 | O132: 4052 | P132: 10861 | Q132: 15046 | R132: 10561 | S132: 16602 | T132: 63417 | U132: 91020 | V132: 114435 | W132: 109139 | X132: 143762 | Y132: 202594 | Z132: 50885 | AA132: =SUM(B132:Z132) -> 880079
A133: Algeria | B133: 1317 | C133: : | D133: 3077 | E133: : | F133: 15621 | G133: 80924 | H133: 2239 | I133: : | J133: 13355 | K133: 95763 | L133: : | M133: : | N133: 316 | O133: 535 | P133: 13491 | Q133: 4449 | R133: 590 | S133: 15108 | T133: 694 | U133: 2090 | V133: 2989 | W133: 515551 | X133: 100712 | Y133: 4213 | Z133: 2133 | AA133: =SUM(B133:Z133) -> 875167
A134: Gibraltar | B134: 10263 | C134: 15111 | D134: 13160 | E134: 7763 | F134: 11257 | G134: 69307 | H134: 15157 | I134: 2342 | J134: 6121 | K134: 1325 | L134: 112313 | M134: : | N134: 184573 | O134: 264849 | P134: 5548 | Q134: 2891 | R134: 2478 | S134: 7273 | T134: 16888 | U134: 16340 | V134: 11382 | W134: 22429 | X134: 10874 | Y134: 15204 | Z134: 25730 | AA134: =SUM(B134:Z134) -> 850578
A135: Azerbaijan | B135: : | C135: : | D135: : | E135: : | F135: : | G135: : | H135: : | I135: : | J135: : | K135: : | L135: : | M135: : | N135: 860 | O135: 989 | P135: 56 | Q135: 34848 | R135: 1574 | S135: 145829 | T135: 282442 | U135: 51538 | V135: 66452 | W135: 7252 | X135: 71504 | Y135: 76842 | Z135: 97733 | AA135: =SUM(B135:Z135) -> 837919
A136: Armenia | B136: : | C136: 1143 | D136: : | E136: : | F136: : | G136: 25823 | H136: : | I136: 1679 | J136: : | K136: : | L136: : | M136: 1775 | N136: : | O136: 191 | P136: 2293 | Q136: 15298 | R136: 984 | S136: 3389 | T136: 2486 | U136: 3146 | V136: 6391 | W136: 449988 | X136: 91259 | Y136: 19452 | Z136: 73313 | AA136: =SUM(B136:Z136) -> 698610
A137: Tanzania, United Republic of | B137: 275462 | C137: 92452 | D137: : | E137: : | F137: 9861 | G137: : | H137: : | I137: : | J137: : | K137: : | L137: : | M137: : | N137: 434 | O137: : | P137: 3144 | Q137: 4996 | R137: 108513 | S137: 182691 | T137: 6868 | U137: 6574 | V137: 1504 | W137: 283 | X137: 3417 | Y137: 1647 | Z137: 412 | AA137: =SUM(B137:Z137) -> 698258
A138: Countries and territories not specified within the framework of extra-Union trade | B138: 17605 | C138: : | D138: : | E138: : | F138: : | G138: : | H138: : | I138: : | J138: : | K138: : | L138: 72640 | M138: 158990 | N138: 58292 | O138: 1926 | P138: 300 | Q138: : | R138: 19519 | S138: 810 | T138: 15119 | U138: 8752 | V138: 9961 | W138: : | X138: 94797 | Y138: 108903 | Z138: 37512 | AA138: =SUM(B138:Z138) -> 605126
A139: Uganda | B139: : | C139: : | D139: : | E139: 3295 | F139: : | G139: : | H139: : | I139: : | J139: : | K139: : | L139: : | M139: : | N139: 746 | O139: : | P139: 147 | Q139: : | R139: 498 | S139: 376 | T139: 2874 | U139: : | V139: 545 | W139: 258 | X139: 696 | Y139: 95033 | Z139: 478037 | AA139: =SUM(B139:Z139) -> 582505
A140: Namibia | B140: : | C140: : | D140: : | E140: 53005 | F140: 109899 | G140: 71385 | H140: 103206 | I140: 52925 | J140: 51128 | K140: 5701 | L140: : | M140: 16783 | N140: 15917 | O140: 57 | P140: 500 | Q140: 18405 | R140: 5291 | S140: : | T140: 10448 | U140: 261 | V140: 17402 | W140: 1211 | X140: : | Y140: 46 | Z140: 988 | AA140: =SUM(B140:Z140) -> 534558
A141: Kazakhstan | B141: : | C141: 969 | D141: : | E141: : | F141: : | G141: : | H141: : | I141: 2313 | J141: 2293 | K141: 13065 | L141: : | M141: : | N141: 7172 | O141: 60319 | P141: 1565 | Q141: 158801 | R141: 23747 | S141: 62674 | T141: 14874 | U141: 7838 | V141: 20735 | W141: 6172 | X141: 7570 | Y141: 53750 | Z141: 80744 | AA141: =SUM(B141:Z141) -> 524601
A142: Cameroon | B142: : | C142: 218784 | D142: 50160 | E142: : | F142: : | G142: : | H142: : | I142: 19403 | J142: : | K142: 5177 | L142: 23267 | M142: : | N142: 21550 | O142: 711 | P142: 1042 | Q142: 1455 | R142: 8798 | S142: 21483 | T142: 51934 | U142: 20143 | V142: 19028 | W142: 7331 | X142: 5539 | Y142: 3020 | Z142: 6004 | AA142: =SUM(B142:Z142) -> 484829
...

Sheet 2. 25 main suppliers
A1: TIME | B1: 1999 | C1: 2000 | D1: 2001 | E1: 2002 | F1: 2003 | G1: 2004 | H1: 2005 | I1: 2006 | J1: 2007 | K1: 2008 | L1: 2009 | M1: 2010 | N1: 2011 | O1: 2012 | P1: 2013 | Q1: 2014 | R1: 2015 | S1: 2016 | T1: 2017 | U1: 2018 | V1: 2019 | W1: 2020 | X1: 2021 | Y1: 2022 | Z1: 2023 | AA1: Total | AB1: 1999 | AC1: 2000 | AD1: 2001 | AE1: 2002 | AF1: 2003 | AG1: 2004 | AH1: 2005 | AI1: 2006 | AJ1: 2007 | AK1: 2008 | AL1: 2009 | AM1: 2010 | AN1: 2011 | AO1: 2012 | AP1: 2013 | AQ1: 2014 | AR1: 2015 | AS1: 2016 | AT1: 2017 | AU1: 2018 | AV1: 2019 | AW1: 2020 | AX1: 2021 | AY1: 2022 | AZ1: 2023 | BA1: Total
A2: PARTNER | AA2: Total | AB2: China | AC2: Bangladesh | AD2: Türkiye | AE2: Morocco | AF2: Italy (incl. San Marino 'SM' -> 1993) | AG2: France (incl. Saint Barthélemy 'BL' -> 2012; incl. French Guiana 'GF', Guadeloupe 'GP', Martinique 'MQ', Réunion 'RE' from 1997; incl. Mayotte 'YT' from 2014) | AH2: Portugal | AI2: Germany (incl. German Democratic Republic 'DD' from 1991) | AJ2: India | AK2: Netherlands | AL2: Belgium (incl. Luxembourg 'LU' -> 1998) | AM2: Pakistan | AN2: Cambodia | AO2: Viet Nam (incl. North Viet Nam 'VD' from 1977) | AP2: United Kingdom | AQ2: Myanmar (Burma) | AR2: Denmark | AS2: Tunisia | AT2: Malaysia | AU2: Indonesia (incl. East Timor 'TP' from 1977 -> 2000) | AV2: Thailand | AW2: Egypt | AX2: Hong Kong | AY2: Poland | AZ2: Romania | BA2: TOTAL
A3: China | B3: 425608643 | C3: 579156470 | D3: 639034333 | E3: 730574787 | F3: 814180486 | G3: 987232500 | H3: 1500495618 | I3: 1711147034 | J3: 1963669930 | K3: 2165188799 | L3: 2199110831 | M3: 2490448079 | N3: 2609777573 | O3: 2519113824 | P3: 2382268038 | Q3: 2725151713 | R3: 3111488118 | S3: 3040465462 | T3: 3091323065 | U3: 2942240411 | V3: 2975590592 | W3: 2723095311 | X3: 2614362222 | Y3: 3552071725 | Z3: 3115131375 | AA3: =SUM(B3:Z3) -> 53607926939 | AB3: =B3/B32 -> 0.13968547 | AC3: =C3/C32 -> 0.13903981 | AD3: =D3/D32 -> 0.13376233 | AE3: =E3/E32 -> 0.13914296 | AF3: =F3/F32 -> 0.13981657 | AG3: =G3/G32 -> 0.15096748 | AH3: =H3/H32 -> 0.19709872 | AI3: =I3/I32 -> 0.19352202 | ... BA3: =AA3/AA32 -> 0.18454692
A4: Bangladesh | B4: 55992061 | C4: 83917553 | D4: 102213839 | E4: 137839183 | F4: 192802164 | G4: 266552842 | H4: 283880089 | I4: 366555307 | J4: 340393895 | K4: 400898736 | L4: 438669001 | M4: 528397663 | N4: 774885808 | O4: 936324221 | P4: 1057396999 | Q4: 1243248941 | R4: 1644278952 | S4: 1912752322 | T4: 2087509311 | U4: 2302305156 | V4: 2526269978 | W4: 2096639001 | X4: 2442051354 | Y4: 3410354428 | Z4: 2979948668 | AA4: =SUM(B4:Z4) -> 28612077472 | AB4: =B4/B33 -> 0.018376688 | AC4: =C4/C33 -> 0.020146336 | AD4: =D4/D33 -> 0.021395347 | AE4: =E4/E33 -> 0.026252414 | AF4: =F4/F33 -> 0.033109288 | AG4: =G4/G33 -> 0.04076123 | AH4: =H4/H33 -> 0.037289281 | AI4: =I4/I33 -> 0.041455541 | ... AZ4: =Z4/Z33 -> 0.14912752 | BA4: =AA4/AA32 -> 0.09849795
A5: Türkiye | B5: 72500482 | C5: 98420529 | D5: 109725489 | E5: 158158631 | F5: 238976521 | G5: 360693298 | H5: 466922291 | I5: 597304522 | J5: 754832986 | K5: 744391896 | L5: 759983172 | M5: 914060143 | N5: 1078861182 | O5: 1172031472 | P5: 1200637478 | Q5: 1281923033 | R5: 1531247415 | S5: 1673043859 | T5: 2018350533 | U5: 2254100545 | V5: 2315824510 | W5: 1899030651 | X5: 2355717172 | Y5: 2528514048 | Z5: 1606902443 | AA5: =SUM(B5:Z5) -> 28192154301 | AB5: =B5/B34 -> 0.023794779 | AC5: =C5/C34 -> 0.023628108 | AD5: =D5/D34 -> 0.022967682 | AE5: =E5/E34 -> 0.030122392 | AF5: =F5/F34 -> 0.04103866 | AG5: =G5/G34 -> 0.055157178 | AH5: =H5/H34 -> 0.061332927 | AI5: =I5/I34 -> 0.067552103 | ... AZ5: =Z5/Z34 -> 0.080415267 | BA5: =AA5/AA33 -> 0.097052352
A6: Morocco | B6: 167313213 | C6: 262014068 | D6: 423035746 | E6: 478181235 | F6: 594290736 | G6: 601601296 | H6: 635015357 | I6: 803913256 | J6: 925722607 | K6: 890112534 | L6: 781055398 | M6: 897096382 | N6: 932425114 | O6: 993748365 | P6: 997523774 | Q6: 1168942171 | R6: 1199061913 | S6: 1474072663 | T6: 1602206402 | U6: 1663800392 | V6: 1652788067 | W6: 1217908936 | X6: 1658551060 | Y6: 1887272615 | Z6: 1403668712 | AA6: =SUM(B6:Z6) -> 25311322012 | AB6: =B6/B35 -> 0.054912476 | AC6: =C6/C35 -> 0.062902495 | AD6: =D6/D35 -> 0.08854962 | AE6: =E6/E35 -> 0.091072884 | AF6: =F6/F35 -> 0.10205561 | AG6: =G6/G35 -> 0.091996802 | AH6: =H6/H35 -> 0.083412917 | AI6: =I6/I35 -> 0.0909185 | ... AZ6: =Z6/Z35 -> 0.070244709 | BA6: =AA6/AA34 -> 0.087134999
A7: Italy (incl. San Marino 'SM' -> 1993) | B7: 461519402 | C7: 615504336 | D7: 707820385 | E7: 675689984 | F7: 737685797 | G7: 842309270 | H7: 908228136 | I7: 989531086 | J7: 1140183014 | K7: 1077433138 | L7: 888598015 | M7: 904929197 | N7: 949225414 | O7: 996624532 | P7: 873730213 | Q7: 950933662 | R7: 1051673920 | S7: 1074284718 | T7: 1076553785 | U7: 1101808362 | V7: 1233812949 | W7: 1001958062 | X7: 1150482831 | Y7: 1464366505 | Z7: 1591577149 | AA7: =SUM(B7:Z7) -> 24466463862 | AB7: =B7/B36 -> 0.15147144 | AC7: =C7/C36 -> 0.14776595 | AD7: =D7/D36 -> 0.14816059 | AE7: =E7/E36 -> 0.12868978 | AF7: =F7/F36 -> 0.12668038 | AG7: =G7/G36 -> 0.12880584 | AH7: =H7/H36 -> 0.11930099 | AI7: =I7/I36 -> 0.11191093 | ... AZ7: =Z7/Z36 -> 0.079648334 | BA7: =AA7/AA35 -> 0.084226549
A8: France (incl. Saint Barthélemy 'BL' -> 2012; incl. French Guiana 'GF', Guadeloupe 'GP', Martinique 'MQ', Réunion 'RE' from 1997; incl. Mayotte 'YT' from 2014) | B8: 303399355 | C8: 385488708 | D8: 428632802 | E8: 472090107 | F8: 513101086 | G8: 594569417 | H8: 708714436 | I8: 785979772 | J8: 939849131 | K8: 1335533757 | L8: 765417717 | M8: 841443688 | N8: 855648729 | O8: 753034515 | P8: 728831583 | Q8: 826271413 | R8: 959127417 | S8: 1060955679 | T8: 1038945940 | U8: 1052924992 | V8: 1242677380 | W8: 1040278083 | X8: 1196529516 | Y8: 1455530817 | Z8: 1297108779 | AA8: =SUM(B8:Z8) -> 21582084819 | AB8: =B8/B37 -> 0.099576175 | AC8: =C8/C37 -> 0.092545418 | AD8: =D8/D37 -> 0.089721193 | AE8: =E8/E37 -> 0.089912787 | AF8: =F8/F37 -> 0.08811318 | AG8: =G8/G37 -> 0.090921488 | AH8: =H8/H37 -> 0.093093715 | AI8: =I8/I37 -> 0.088890314 | ... AZ8: =Z8/Z37 -> 0.064912061 | BA8: =AA8/AA36 -> 0.074296986
A9: Portugal | B9: 287128941 | C9: 419150876 | D9: 482927469 | E9: 540816349 | F9: 632301031 | G9: 594574142 | H9: 619629739 | I9: 648993454 | J9: 742422940 | K9: 704139900 | L9: 679122190 | M9: 719926804 | N9: 762578675 | O9: 840293388 | P9: 879917154 | Q9: 950217799 | R9: 1012471631 | S9: 1078976242 | T9: 733468194 | U9: 535726975 | V9: 521031009 | W9: 609617546 | X9: 415429718 | Y9: 691919630 | Z9: 711193341 | AA9: =SUM(B9:Z9) -> 16813975137 | AB9: =B9/B38 -> 0.094236198 | AC9: =C9/C38 -> 0.10062679 | AD9: =D9/D38 -> 0.10108612 | AE9: =E9/E38 -> 0.10300217 | AF9: =F9/F38 -> 0.108583 | AG9: =G9/G38 -> 0.09092221 | AH9: =H9/H38 -> 0.081391928 | AI9: =I9/I38 -> 0.073397858 | ... AZ9: =Z9/Z38 -> 0.035590712 | BA9: =AA9/AA37 -> 0.057882623
A10: Germany (incl. German Democratic Republic 'DD' from 1991) | B10: 140969869 | C10: 198559939 | D10: 251532551 | E10: 242942483 | F10: 284244168 | G10: 352906302 | H10: 410569663 | I10: 491203572 | J10: 543984733 | K10: 565576928 | L10: 436424685 | M10: 478158547 | N10: 480136100 | O10: 421613476 | P10: 427308061 | Q10: 497735401 | R10: 551251671 | S10: 584788194 | T10: 645243596 | U10: 669978114 | V10: 729185270 | W10: 618838916 | X10: 825820312 | Y10: 1056720392 | Z10: 1093976953 | AA10: =SUM(B10:Z10) -> 12999669896 | AB10: =B10/B39 -> 0.046266546 | AC10: =C10/C39 -> 0.047668874 | AD10: =D10/D39 -> 0.052650661 | AE10: =E10/E39 -> 0.046270056 | AF10: =F10/F39 -> 0.048812326 | AG10: =G10/G39 -> 0.053966392 | AH10: =H10/H39 -> 0.053930685 | AI10: =I10/I39 -> 0.055552625 | ... AZ10: =Z10/Z39 -> 0.054746602 | BA10: =AA10/AA38 -> 0.04475176
A11: India | B11: 95023528 | C11: 136956813 | D11: 148507633 | E11: 187066708 | F11: 212965030 | G11: 227076920 | H11: 349273030 | I11: 346015040 | J11: 325906619 | K11: 383713037 | L11: 448795616 | M11: 486455731 | N11: 508085167 | O11: 467172288 | P11: 450740349 | Q11: 509474181 | R11: 638354931 | S11: 700912409 | T11: 742579033 | U11: 702843892 | V11: 702347377 | W11: 477983100 | X11: 479005561 | Y11: 619905696 | Z11: 550597757 | AA11: =SUM(B11:Z11) -> 10897757446 | AB11: =B11/B40 -> 0.031186881 | AC11: =C11/C40 -> 0.032879628 | AD11: =D11/D40 -> 0.03108554 | AE11: =E11/E40 -> 0.035628133 | AF11: =F11/F40 -> 0.036571792 | AG11: =G11/G40 -> 0.034724577 | AH11: =H11/H40 -> 0.04587902 | AI11: =I11/I40 -> 0.039132541 | ... AZ11: =Z11/Z40 -> 0.027553923 | BA11: =AA11/AA39 -> 0.037515863
A12: Netherlands | B12: 94591723 | C12: 110345978 | D12: 139431793 | E12: 139736549 | F12: 159732775 | G12: 135789833 | H12: 157427144 | I12: 186092877 | J12: 228402776 | K12: 247227875 | L12: 230200302 | M12: 243297338 | N12: 319380858 | O12: 323490035 | P12: 306066869 | Q12: 304049079 | R12: 336888315 | S12: 438725820 | T12: 406585337 | U12: 487370425 | V12: 541358844 | W12: 422689196 | X12: 529521959 | Y12: 835633101 | Z12: 943303529 | AA12: =SUM(B12:Z12) -> 8267340330 | AB12: =B12/B41 -> 0.031045161 | AC12: =C12/C41 -> 0.026491086 | AD12: =D12/D41 -> 0.02918579 | AE12: =E12/E41 -> 0.026613781 | AF12: =F12/F41 -> 0.02743039 | AG12: =G12/G41 -> 0.020764966 | AH12: =H12/H41 -> 0.02067896 | AI12: =I12/I41 -> 0.021046158 | ... AZ12: =Z12/Z41 -> 0.047206354 | BA12: =AA12/AA40 -> 0.028460571
A13: Belgium (incl. Luxembourg 'LU' -> 1998) | B13: 163375827 | C13: 187929924 | D13: 215469024 | E13: 267704665 | F13: 286497365 | G13: 280085583 | H13: 335082132 | I13: 380837548 | J13: 438750394 | K13: 445778183 | L13: 355733284 | M13: 334443576 | N13: 332820182 | O13: 294358219 | P13: 254377599 | Q13: 220376834 | R13: 215153282 | S13: 235903466 | T13: 291783228 | U13: 324357476 | V13: 366624442 | W13: 326655830 | X13: 414227115 | Y13: 637482287 | Z13: 600224873 | AA13: =SUM(B13:Z13) -> 8206032338 | AB13: =B13/B42 -> 0.053620219 | AC13: =C13/C42 -> 0.045116894 | AD13: =D13/D42 -> 0.045101863 | AE13: =E13/E42 -> 0.050986183 | AF13: =F13/F42 -> 0.04919926 | AG13: =G13/G42 -> 0.042830656 | AH13: =H13/H42 -> 0.044014964 | AI13: =I13/I42 -> 0.043070789 | ... AZ13: =Z13/Z42 -> 0.030037445 | BA13: =AA13/AA41 -> 0.028249517
A14: Pakistan | B14: 35307530 | C14: 48062726 | D14: 62193468 | E14: 59098689 | F14: 70511086 | G14: 83808180 | H14: 96104353 | I14: 117523503 | J14: 128682716 | K14: 128619109 | L14: 129222355 | M14: 141434100 | N14: 172261244 | O14: 190928300 | P14: 213553623 | Q14: 367274584 | R14: 469855444 | S14: 496656517 | T14: 561534488 | U14: 552981673 | V14: 572627252 | W14: 459215624 | X14: 531405135 | Y14: 839797235 | Z14: 748875836 | AA14: =SUM(B14:Z14) -> 7277534770 | AB14: =B14/B43 -> 0.01158799 | AC14: =C14/C43 -> 0.011538561 | AD14: =D14/D43 -> 0.013018304 | AE14: =E14/E43 -> 0.011255749 | AF14: =F14/F43 -> 0.012108639 | AG14: =G14/G43 -> 0.012815937 | AH14: =H14/H43 -> 0.012623859 | AI14: =I14/I43 -> 0.01329131 | ... AZ14: =Z14/Z43 -> 0.037476482 | BA14: =AA14/AA42 -> 0.025053136
A15: Cambodia | B15: 12989401 | C15: 8795685 | D15: 9242532 | E15: 15239225 | F15: 16189087 | G15: 26319582 | H15: 32139629 | I15: 70380752 | J15: 82787224 | K15: 99201134 | L15: 93639947 | M15: 78122898 | N15: 113999242 | O15: 149351438 | P15: 193697077 | Q15: 256848839 | R15: 347154836 | S15: 482147950 | T15: 572869233 | U15: 635600124 | V15: 674470852 | W15: 466317384 | X15: 417357683 | Y15: 767334123 | Z15: 837236481 | AA15: =SUM(B15:Z15) -> 6459432358 | AB15: =B15/B44 -> 0.0042631431 | AC15: =C15/C44 -> 0.0021116062 | AD15: =D15/D44 -> 0.0019346419 | AE15: =E15/E44 -> 0.0029024146 | AF15: =F15/F44 -> 0.0027800992 | AG15: =G15/G44 -> 0.0040247875 | AH15: =H15/H44 -> 0.004221725 | AI15: =I15/I44 -> 0.007959705 | ... AZ15: =Z15/Z44 -> 0.041898371 | BA15: =AA15/AA43 -> 0.022236793
... A31: Intra-euro area (AT-01/1999, BE-01/1999, CY-01/2008, DE-01/1999, EE-01/2011, ES-01/1999, FI-01/1999, FR-01/1999, GR-01/2001, HR-01/2023, IE-01/1999, IT-01/1999, LT-01/2015, LU-01/1999, LV-01/2014, MT-01/2008, NL-01/1999, PT-01/1999, SI-01/2007, SK-01/2009, QR-01/1999, QV-01/1999, QY-01/1999) | B31: 1477935284 | C31: 1948762767 | D31: 2273995266 | E31: 2382251332 | F31: 2657422379 | G31: 2853465877 | H31: 3212798856 | I31: 3559340873 | J31: 4104338075 | K31: 4437382647 | L31: 3500589688 | M31: 3701656512 | N31: 3822841509 | O31: 3731256213 | P31: 3582223687 | Q31: 3850460161 | R31: 4221442567 | S31: 4569249525 | T31: 4288129131 | U31: 4254015127 | V31: 4713146266 | W31: 4084311286 | X31: 4611685750 | Y31: 6275617262 | Z31: 6486770527 | AA31: =SUM(B31:Z31) -> 94601088567 | AB31: =B31/B60 -> 0.48506083 | AC31: =C31/C60 -> 0.46784526 | AD31: =D31/D60 -> 0.47599149 | AE31: =E31/E60 -> 0.45371605 | AF31: =F31/F60 -> 0.4563505 | AG31: =G31/G60 -> 0.43635168 | AH31: =H31/H60 -> 0.4220196 | AI31: =I31/I60 -> 0.40254335 | ... AZ31: =Z31/Z60 -> 0.32462169 | BA31: =AA31/AA59 -> 0.32566714
A32: All countries of the world | B32: 3046907108 | C32: 4165400260 | D32: 4777386348 | E32: 5250533556 | F32: 5823204726 | G32: 6539371831 | H32: 7612913922 | I32: 8842130685 | J32: 9769583002 | K32: 10472777757 | L32: 9411349187 | M32: 10469309683 | N32: 11374518501 | O32: 11435977613 | P32: 11377102535 | Q32: 12949490873 | R32: 14751513554 | S32: 15929588475 | T32: 16561429508 | U32: 17056187056 | V32: 18216907498 | W32: 15412299612 | X32: 17036387655 | Y32: 22219164075 | Z32: 19982554283 | AA32: =SUM(B32:Z32) -> 290483989303
A33: All countries of the world | B33: 3046907108 | C33: 4165400260 | D33: 4777386348 | E33: 5250533556 | F33: 5823204726 | G33: 6539371831 | H33: 7612913922 | I33: 8842130685 | J33: 9769583002 | K33: 10472777757 | L33: 9411349187 | M33: 10469309683 | N33: 11374518501 | O33: 11435977613 | P33: 11377102535 | Q33: 12949490873 | R33: 14751513554 | S33: 15929588475 | T33: 16561429508 | U33: 17056187056 | V33: 18216907498 | W33: 15412299612 | X33: 17036387655 | Y33: 22219164075 | Z33: 19982554283 | AA33: =SUM(B33:Z33) -> 290483989303
A34: All countries of the world | B34: 3046907108 | C34: 4165400260 | D34: 4777386348 | E34: 5250533556 | F34: 5823204726 | G34: 6539371831 | H34: 7612913922 | I34: 8842130685 | J34: 9769583002 | K34: 10472777757 | L34: 9411349187 | M34: 10469309683 | N34: 11374518501 | O34: 11435977613 | P34: 11377102535 | Q34: 12949490873 | R34: 14751513554 | S34: 15929588475 | T34: 16561429508 | U34: 17056187056 | V34: 18216907498 | W34: 15412299612 | X34: 17036387655 | Y34: 22219164075 | Z34: 19982554283 | AA34: =SUM(B34:Z34) -> 290483989303
A35: All countries of the world | B35: 3046907108 | C35: 4165400260 | D35: 4777386348 | E35: 5250533556 | F35: 5823204726 | G35: 6539371831 | H35: 7612913922 | I35: 8842130685 | J35: 9769583002 | K35: 10472777757 | L35: 9411349187 | M35: 10469309683 | N35: 11374518501 | O35: 11435977613 | P35: 11377102535 | Q35: 12949490873 | R35: 14751513554 | S35: 15929588475 | T35: 16561429508 | U35: 17056187056 | V35: 18216907498 | W35: 15412299612 | X35: 17036387655 | Y35: 22219164075 | Z35: 19982554283 | AA35: =SUM(B35:Z35) -> 290483989303
A36: All countries of the world | B36: 3046907108 | C36: 4165400260 | D36: 4777386348 | E36: 5250533556 | F36: 5823204726 | G36: 6539371831 | H36: 7612913922 | I36: 8842130685 | J36: 9769583002 | K36: 10472777757 | L36: 9411349187 | M36: 10469309683 | N36: 11374518501 | O36: 11435977613 | P36: 11377102535 | Q36: 12949490873 | R36: 14751513554 | S36: 15929588475 | T36: 16561429508 | U36: 17056187056 | V36: 18216907498 | W36: 15412299612 | X36: 17036387655 | Y36: 22219164075 | Z36: 19982554283 | AA36: =SUM(B36:Z36) -> 290483989303
A37: All countries of the world | B37: 3046907108 | C37: 4165400260 | D37: 4777386348 | E37: 5250533556 | F37: 5823204726 | G37: 6539371831 | H37: 7612913922 | I37: 8842130685 | J37: 9769583002 | K37: 10472777757 | L37: 9411349187 | M37: 10469309683 | N37: 11374518501 | O37: 11435977613 | P37: 11377102535 | Q37: 12949490873 | R37: 14751513554 | S37: 15929588475 | T37: 16561429508 | U37: 17056187056 | V37: 18216907498 | W37: 15412299612 | X37: 17036387655 | Y37: 22219164075 | Z37: 19982554283 | AA37: =SUM(B37:Z37) -> 290483989303
A38: All countries of the world | B38: 3046907108 | C38: 4165400260 | D38: 4777386348 | E38: 5250533556 | F38: 5823204726 | G38: 6539371831 | H38: 7612913922 | I38: 8842130685 | J38: 9769583002 | K38: 10472777757 | L38: 9411349187 | M38: 10469309683 | N38: 11374518501 | O38: 11435977613 | P38: 11377102535 | Q38: 12949490873 | R38: 14751513554 | S38: 15929588475 | T38: 16561429508 | U38: 17056187056 | V38: 18216907498 | W38: 15412299612 | X38: 17036387655 | Y38: 22219164075 | Z38: 19982554283 | AA38: =SUM(B38:Z38) -> 290483989303
A39: All countries of the world | B39: 3046907108 | C39: 4165400260 | D39: 4777386348 | E39: 5250533556 | F39: 5823204726 | G39: 6539371831 | H39: 7612913922 | I39: 8842130685 | J39: 9769583002 | K39: 10472777757 | L39: 9411349187 | M39: 10469309683 | N39: 11374518501 | O39: 11435977613 | P39: 11377102535 | Q39: 12949490873 | R39: 14751513554 | S39: 15929588475 | T39: 16561429508 | U39: 17056187056 | V39: 18216907498 | W39: 15412299612 | X39: 17036387655 | Y39: 22219164075 | Z39: 19982554283 | AA39: =SUM(B39:Z39) -> 290483989303
A40: All countries of the world | B40: 3046907108 | C40: 4165400260 | D40: 4777386348 | E40: 5250533556 | F40: 5823204726 | G40: 6539371831 | H40: 7612913922 | I40: 8842130685 | J40: 9769583002 | K40: 10472777757 | L40: 9411349187 | M40: 10469309683 | N40: 11374518501 | O40: 11435977613 | P40: 11377102535 | Q40: 12949490873 | R40: 14751513554 | S40: 15929588475 | T40: 16561429508 | U40: 17056187056 | V40: 18216907498 | W40: 15412299612 | X40: 17036387655 | Y40: 22219164075 | Z40: 19982554283 | AA40: =SUM(B40:Z40) -> 290483989303
A41: All countries of the world | B41: 3046907108 | C41: 4165400260 | D41: 4777386348 | E41: 5250533556 | F41: 5823204726 | G41: 6539371831 | H41: 7612913922 | I41: 8842130685 | J41: 9769583002 | K41: 10472777757 | L41: 9411349187 | M41: 10469309683 | N41: 11374518501 | O41: 11435977613 | P41: 11377102535 | Q41: 12949490873 | R41: 14751513554 | S41: 15929588475 | T41: 16561429508 | U41: 17056187056 | V41: 18216907498 | W41: 15412299612 | X41: 17036387655 | Y41: 22219164075 | Z41: 19982554283 | AA41: =SUM(B41:Z41) -> 290483989303
A42: All countries of the world | B42: 3046907108 | C42: 4165400260 | D42: 4777386348 | E42: 5250533556 | F42: 5823204726 | G42: 6539371831 | H42: 7612913922 | I42: 8842130685 | J42: 9769583002 | K42: 10472777757 | L42: 9411349187 | M42: 10469309683 | N42: 11374518501 | O42: 11435977613 | P42: 11377102535 | Q42: 12949490873 | R42: 14751513554 | S42: 15929588475 | T42: 16561429508 | U42: 17056187056 | V42: 18216907498 | W42: 15412299612 | X42: 17036387655 | Y42: 22219164075 | Z42: 19982554283 | AA42: =SUM(B42:Z42) -> 290483989303
A43: All countries of the world | B43: 3046907108 | C43: 4165400260 | D43: 4777386348 | E43: 5250533556 | F43: 5823204726 | G43: 6539371831 | H43: 7612913922 | I43: 8842130685 | J43: 9769583002 | K43: 10472777757 | L43: 9411349187 | M43: 10469309683 | N43: 11374518501 | O43: 11435977613 | P43: 11377102535 | Q43: 12949490873 | R43: 14751513554 | S43: 15929588475 | T43: 16561429508 | U43: 17056187056 | V43: 18216907498 | W43: 15412299612 | X43: 17036387655 | Y43: 22219164075 | Z43: 19982554283 | AA43: =SUM(B43:Z43) -> 290483989303
... A71: All countries of the world | B71: 3046907108 | C71: 4165400260 | D71: 4777386348 | E71: 5250533556 | F71: 5823204726 | G71: 6539371831 | H71: 7612913922 | I71: 8842130685 | J71: 9769583002 | K71: 10472777757 | L71: 9411349187 | M71: 10469309683 | N71: 11374518501 | O71: 11435977613 | P71: 11377102535 | Q71: 12949490873 | R71: 14751513554 | S71: 15929588475 | T71: 16561429508 | U71: 17056187056 | V71: 18216907498 | W71: 15412299612 | X71: 17036387655 | Y71: 22219164075 | Z71: 19982554283 | AA71: =SUM(B71:Z71) -> 290483989303
A73: Supplier | B73: China | C73: Bangladesh | D73: Türkiye | E73: Morocco | F73: Italy (incl. San Marino 'SM' -> 1993) | G73: France (incl. Saint Barthélemy 'BL' -> 2012; incl. French Guiana 'GF', Guadeloupe 'GP', Martinique 'MQ', Réunion 'RE' from 1997; incl. Mayotte 'YT' from 2014) | H73: Portugal | I73: Germany (incl. German Democratic Republic 'DD' from 1991) | J73: India | K73: Netherlands | L73: Belgium (incl. Luxembourg 'LU' -> 1998) | M73: Pakistan | N73: Cambodia | O73: Viet Nam (incl. North Viet Nam 'VD' from 1977) | P73: United Kingdom | Q73: Myanmar (Burma) | R73: Denmark | S73: Tunisia | T73: Malaysia | U73: Indonesia (incl. East Timor 'TP' from 1977 -> 2000) | V73: Thailand | W73: Egypt | X73: Hong Kong | Y73: Poland | Z73: Romania
A74: 1999 | B74: 0.13968547 | C74: 0.018376688 | D74: 0.023794779 | E74: 0.054912476 | F74: 0.15147144 | G74: 0.099576175 | H74: 0.094236198 | I74: 0.046266546 | J74: 0.031186881 | K74: 0.031045161 | L74: 0.053620219 | M74: 0.01158799 | N74: 0.0042631431 | O74: 0.011000603 | P74: 0.044397992 | Q74: 0.0023709003 | R74: 0.0045174344 | S74: 0.0080178503 | T74: 0.006254234 | U74: 0.014848042 | V74: 0.013879605 | W74: 0.00079745884 | X74: 0.027599006 | Y74: 0.0011290863 | Z74: 0.00094261357
A75: 2000 | B75: 0.13903981 | C75: 0.020146336 | D75: 0.023628108 | E75: 0.062902495 | F75: 0.14776595 | G75: 0.092545418 | H75: 0.10062679 | I75: 0.047668874 | J75: 0.032879628 | K75: 0.026491086 | L75: 0.045116894 | M75: 0.011538561 | N75: 0.0021116062 | O75: 0.013460051 | P75: 0.041046399 | Q75: 0.0043889381 | R75: 0.01105454 | S75: 0.0088428947 | T75: 0.0068815598 | U75: 0.014587727 | V75: 0.014413264 | W75: 0.0012182371 | X75: 0.026933335 | Y75: 0.0012794694 | Z75: 0.001430844
A76: 2001 | B76: 0.13376233 | C76: 0.021395347 | D76: 0.022967682 | E76: 0.08854962 | F76: 0.14816059 | G76: 0.089721193 | H76: 0.10108612 | I76: 0.052650661 | J76: 0.03108554 | K76: 0.02918579 | L76: 0.045101863 | M76: 0.013018304 | N76: 0.0019346419 | O76: 0.01484612 | P76: 0.034308851 | Q76: 0.0062349774 | R76: 0.0095361913 | S76: 0.0079535117 | T76: 0.0063293271 | U76: 0.012525692 | V76: 0.011507033 | W76: 0.00067297279 | X76: 0.023012241 | Y76: 0.0015537462 | Z76: 0.0017460524
A77: 2002 | B77: 0.13914296 | C77: 0.026252414 | D77: 0.030122392 | E77: 0.091072884 | F77: 0.12868978 | G77: 0.089912787 | H77: 0.10300217 | I77: 0.046270056 | J77: 0.035628133 | K77: 0.026613781 | L77: 0.050986183 | M77: 0.011255749 | N77: 0.0029024146 | O77: 0.013081252 | P77: 0.025209681 | Q77: 0.0041233714 | R77: 0.031127237 | S77: 0.0095151587 | T77: 0.0052726171 | U77: 0.0099130929 | V77: 0.013425358 | W77: 0.00059098299 | X77: 0.0222442 | Y77: 0.001284727 | Z77: 0.0027534226
A78: 2003 | B78: 0.13981657 | C78: 0.033109288 | D78: 0.04103866 | E78: 0.10205561 | F78: 0.12668038 | G78: 0.08811318 | H78: 0.108583 | I78: 0.048812326 | J78: 0.036571792 | K78: 0.02743039 | L78: 0.04919926 | M78: 0.012108639 | N78: 0.0027800992 | O78: 0.007569884 | P78: 0.023413701 | Q78: 0.0037125794 | R78: 0.012359904 | S78: 0.0095465344 | T78: 0.0053024157 | U78: 0.0087213053 | V78: 0.011244751 | W78: 0.00052168971 | X78: 0.017250956 | Y78: 0.001158159 | Z78: 0.0040032384
A79: 2004 | B79: 0.15096748 | C79: 0.04076123 | D79: 0.055157178 | E79: 0.091996802 | F79: 0.12880584 | G79: 0.090921488 | H79: 0.09092221 | I79: 0.053966392 | J79: 0.034724577 | K79: 0.020764966 | L79: 0.042830656 | M79: 0.012815937 | N79: 0.0040247875 | O79: 0.0096892799 | P79: 0.020989289 | Q79: 0.005393928 | R79: 0.0120788 | S79: 0.011815343 | T79: 0.0046470765 | U79: 0.012148487 | V79: 0.0094200683 | W79: 0.00042398996 | X79: 0.010440904 | Y79: 0.00073859281 | Z79: 0.0063248404
A80: 2005 | B80: 0.19709872 | C80: 0.037289281 | D80: 0.061332927 | E80: 0.083412917 | F80: 0.11930099 | G80: 0.093093715 | H80: 0.081391928 | I80: 0.053930685 | J80: 0.04587902 | K80: 0.02067896 | L80: 0.044014964 | M80: 0.012623859 | N80: 0.004221725 | O80: 0.0087934165 | P80: 0.017113373 | Q80: 0.0020699927 | R80: 0.012143771 | S80: 0.011650857 | T80: 0.0051150159 | U80: 0.0054300538 | V80: 0.0061259428 | W80: 0.00056107964 | X80: 0.0096330647 | Y80: 0.00049952791 | Z80: 0.0062972941
A81: 2006 | B81: 0.19352202 | C81: 0.041455541 | D81: 0.067552103 | E81: 0.0909185 | F81: 0.11191093 | G81: 0.088890314 | H81: 0.073397858 | I81: 0.055552625 | J81: 0.039132541 | K81: 0.021046158 | L81: 0.043070789 | M81: 0.01329131 | N81: 0.007959705 | O81: 0.0097895233 | P81: 0.014686978 | Q81: 0.003821695 | R81: 0.013696176 | S81: 0.010496989 | T81: 0.0067289987 | U81: 0.0070035709 | V81: 0.0060522432 | W81: 0.00088656855 | X81: 0.017364059 | Y81: 0.00071755216 | Z81: 0.0059866207
A82: 2007 | B82: 0.20099834 | C82: 0.034842213 | D82: 0.077263583 | E82: 0.094755591 | F82: 0.11670744 | G82: 0.096201561 | H82: 0.075993309 | I82: 0.055681469 | J82: 0.033359317 | K82: 0.023378969 | L82: 0.044909838 | M82: 0.013171772 | N82: 0.0084739772 | O82: 0.010162374 | P82: 0.015450794 | Q82: 0.0033978364 | R82: 0.013153795 | S82: 0.0095964004 | T82: 0.0050556288 | U82: 0.0056344853 | V82: 0.004903162 | W82: 0.0027945195 | X82: 0.011935854 | Y82: 0.00062325188 | Z82: 0.0023913208
A83: 2008 | B83: 0.20674446 | C83: 0.038280077 | D83: 0.071078745 | E83: 0.084992975 | F83: 0.1028794 | G83: 0.12752431 | H83: 0.067235257 | I83: 0.054004481 | J83: 0.036639089 | K83: 0.023606715 | L83: 0.04256542 | M83: 0.012281279 | N83: 0.0094722848 | O83: 0.014490715 | P83: 0.0187039 | Q83: 0.0035057079 | R83: 0.011055919 | S83: 0.0088762986 | T83: 0.0049233009 | U83: 0.0053930369 | V83: 0.010163715 | W83: 0.0053501885 | X83: 0.0049220132 | Y83: 0.00053998129 | Z83: 0.0028048228
A84: 2009 | B84: 0.23366584 | C84: 0.046610639 | D84: 0.080751777 | E84: 0.0829908 | F84: 0.094417708 | G84: 0.081329223 | H84: 0.072159918 | I84: 0.04637217 | J84: 0.04768664 | K84: 0.024459862 | L84: 0.03779833 | M84: 0.013730481 | N84: 0.0099496836 | O84: 0.019924484 | P84: 0.011536978 | Q84: 0.0033907429 | R84: 0.011234247 | S84: 0.0086724582 | T84: 0.0042523654 | U84: 0.0062861499 | V84: 0.012986836 | W84: 0.0067644583 | X84: 0.0019398073 | Y84: 0.00030839542 | Z84: 0.0029805912
A85: 2010 | B85: 0.23788083 | C85: 0.050471108 | D85: 0.08730854 | E85: 0.085688208 | F85: 0.086436377 | G85: 0.080372414 | H85: 0.068765451 | I85: 0.045672405 | J85: 0.046464929 | K85: 0.0232391 | L85: 0.031945141 | M85: 0.013509401 | N85: 0.0074620868 | O85: 0.022125603 | P85: 0.011230535 | Q85: 0.003411511 | R85: 0.012274978 | S85: 0.010172662 | T85: 0.0050572857 | U85: 0.0065746337 | V85: 0.014003717 | W85: 0.0057683592 | X85: 0.0014355904 | Y85: 0.00049508556 | Z85: 0.0033107569
A86: 2011 | B86: 0.22944071 | C86: 0.068124713 | D86: 0.094848954 | E86: 0.081974909 | F86: 0.083451921 | G86: 0.075225051 | H86: 0.067042721 | I86: 0.042211554 | J86: 0.044668719 | K86: 0.028078627 | L86: 0.029260156 | M86: 0.015144487 | N86: 0.010022336 | O86: 0.023967373 | P86: 0.012269076 | Q86: 0.0027164143 | R86: 0.011296282 | S86: 0.0090988613 | T86: 0.0046276262 | U86: 0.0091940214 | V86: 0.011328934 | W86: 0.0068162434 | X86: 0.0014727309 | Y86: 0.00058086388 | Z86: 0.0035525149
... A99: Sum of the supplier's share of the total value imported by Spain over 25 years | B99: 0.18454692 | C99: 0.09849795 | D99: 0.097052352 | E99: 0.087134999 | F99: 0.084226549 | G99: 0.074296986 | H99: 0.057882623 | I99: 0.04475176 | J99: 0.037515863 | K99: 0.028460571 | L99: 0.028249517 | M99: 0.025053136 | N99: 0.022236793 | O99: 0.019041538 | P99: 0.01381875 | Q99: 0.012433399 | R99: 0.0096031758 | S99: 0.0069189033 | T99: 0.0061554683 | U99: 0.0056709634 | V99: 0.005257789 | W99: 0.0048982184 | X99: 0.0039887048 | Y99: 0.0034722755 | Z99: 0.0034420809
A100: Average participation | B100: =AVERAGE(B74:B98) -> 0.18208315 | C100: =AVERAGE(C74:C98) -> 0.078447236 | D100: =AVERAGE(D74:D98) -> 0.083581797 | E100: =AVERAGE(E74:E98) -> 0.086058698 | F100: =AVERAGE(F74:F98) -> 0.095928678 | G100: =AVERAGE(G74:G98) -> 0.079183859 | H100: =AVERAGE(H74:H98) -> 0.06799916 | I100: =AVERAGE(I74:I98) -> 0.04580815 | ... Z100: =AVERAGE(Z74:Z98) -> 0.0035529671
A102: Representation of the 25 partners in the total amount imported by Spain from all suppliers
B103: 1999 | C103: 2000 | D103: 2001 | E103: 2002 | F103: 2003 | G103: 2004 | H103: 2005 | I103: 2006 | J103: 2007 | K103: 2008 | L103: 2009 | M103: 2010 | N103: 2011 | O103: 2012 | P103: 2013 | Q103: 2014 | R103: 2015 | S103: 2016 | T103: 2017 | U103: 2018 | V103: 2019 | W103: 2020 | X103: 2021 | Y103: 2022 | Z103: 2023 | AA103: TOTAL | AB103: Average of the total represented by the 25 members over 25 years
A104: Total value imported to the 25 main suppliers out of total imports | B104: 2729352316 | C104: 3740524542 | D104: 4341910401 | E104: 4832553295 | F104: 5363778985 | G104: 6034337082 | H104: 7153878659 | I104: 8355206706 | J104: 9386974830 | K104: 10138005958 | L104: 9055605722 | M104: 10061809680 | N104: 10992514334 | O104: 11083988887 | P104: 11033642621 | Q104: 12585195504 | R104: 14332976304 | S104: 15507400199 | T104: 16209685869 | U104: 16724583154 | V104: 17852247136 | W104: 15104640366 | X104: 16655966228 | Y104: 21602925285 | Z104: 19323269364 | AA104: =SUM(B104:Z104) -> 280202973427
A105: All countries of the world | B105: 3046907108 | C105: 4165400260 | D105: 4777386348 | E105: 5250533556 | F105: 5823204726 | G105: 6539371831 | H105: 7612913922 | I105: 8842130685 | J105: 9769583002 | K105: 10472777757 | L105: 9411349187 | M105: 10469309683 | N105: 11374518501 | O105: 11435977613 | P105: 11377102535 | Q105: 12949490873 | R105: 14751513554 | S105: 15929588475 | T105: 16561429508 | U105: 17056187056 | V105: 18216907498 | W105: 15412299612 | X105: 17036387655 | Y105: 22219164075 | Z105: 19982554283 | AA105: =SUM(B105:Z105) -> 290483989303
A106: Percentage of total imports represented by sample of 25 countries | B106: =B104/B32 -> 0.89577799 | C106: =C104/C71 -> 0.89799883 | D106: =D104/D71 -> 0.9088464 | E106: =E104/E71 -> 0.9203928 | F106: =F104/F71 -> 0.92110431 | G106: =G104/G71 -> 0.92277014 | H106: =H104/H71 -> 0.93970308 | I106: =I104/I71 -> 0.94493137 | J106: =J104/J71 -> 0.9608368 | ... Z106: =Z104/Z71 -> 0.96700697 | AA106: =AA104/AA105 -> 0.96460729 | AB106: =AVERAGE(B106:Z106) -> 0.95449582

Sheet 3. Share of imports
A1: Supplier | B1: China | C1: Bangladesh | D1: Türkiye | E1: Morocco | F1: Italy (incl. San Marino 'SM' -> 1993) | G1: France (incl. Saint Barthélemy 'BL' -> 2012; incl. French Guiana 'GF', Guadeloupe 'GP', Martinique 'MQ', Réunion 'RE' from 1997; incl. Mayotte 'YT' from 2014) | H1: Portugal | I1: Germany (incl. German Democratic Republic 'DD' from 1991) | J1: India | K1: Netherlands | L1: Belgium (incl. Luxembourg 'LU' -> 1998) | M1: Pakistan | N1: Cambodia | O1: Viet Nam (incl. North Viet Nam 'VD' from 1977) | P1: United Kingdom | Q1: Myanmar (Burma) | R1: Denmark | S1: Tunisia | T1: Malaysia | U1: Indonesia (incl. East Timor 'TP' from 1977 -> 2000) | V1: Thailand | W1: Egypt | X1: Hong Kong | Y1: Poland | Z1: Romania | AA1: Total | AB1: Share of Asia | AC1: Percentage change of Asia | AD1: Share of Europe | AE1: Percentage change of Europe | AF1: Share of Semiproximity (Turkey, Morocco, Tunisia and Egypt) | AG1: Percentage change of Semiproximity (Turkey, Morocco, Tunisia and Egypt) | AH1: Share of ASEAN | AI1: Percentage change of ASEAN | AJ1: Share of South Asia | AK1: Percentage change of South Asia | AL1: Total | AN1: Non european suppliers (Asia + semiproximity)
A2: 1999 | B2: 0.13968547 | C2: 0.018376688 | D2: 0.023794779 | E2: 0.054912476 | F2: 0.15147144 | G2: 0.099576175 | H2: 0.094236198 | I2: 0.046266546 | J2: 0.031186881 | K2: 0.031045161 | L2: 0.053620219 | M2: 0.01158799 | N2: 0.0042631431 | O2: 0.011000603 | P2: 0.044397992 | Q2: 0.0023709003 | R2: 0.0045174344 | S2: 0.0080178503 | T2: 0.006254234 | U2: 0.014848042 | V2: 0.013879605 | W2: 0.00079745884 | X2: 0.027599006 | Y2: 0.0011290863 | Z2: 0.00094261357 | AA2: =SUM(B2:Z2) -> 0.89577799 | AB2: =(B2+C2+J2+M2+N2+O2+Q2+T2+U2+V2+X2) -> 0.28105256 | AD2: =F2+G2+H2+I2+K2+L2+P2+R2+Y2+Z2 -> 0.52720286 | AF2: =D2+E2+S2+W2 -> 0.087522564 | AH2: =N2+O2+Q2+T2+U2+V2 -> 0.052616527 | AJ2: =C2+J2+M2 -> 0.061151559 | AL2: =AB2+AD2+AF2 -> 0.89577799 | AN2: =AB2+AF2 -> 0.36857512
A3: 2000 | B3: 0.13903981 | C3: 0.020146336 | D3: 0.023628108 | E3: 0.062902495 | F3: 0.14776595 | G3: 0.092545418 | H3: 0.10062679 | I3: 0.047668874 | J3: 0.032879628 | K3: 0.026491086 | L3: 0.045116894 | M3: 0.011538561 | N3: 0.0021116062 | O3: 0.013460051 | P3: 0.041046399 | Q3: 0.0043889381 | R3: 0.01105454 | S3: 0.0088428947 | T3: 0.0068815598 | U3: 0.014587727 | V3: 0.014413264 | W3: 0.0012182371 | X3: 0.026933335 | Y3: 0.0012794694 | Z3: 0.001430844 | AA3: =SUM(B3:Z3) -> 0.89799883 | AB3: =(B3+C3+J3+M3+N3+O3+Q3+T3+U3+V3+X3) -> 0.28638082 | AC3: =(AB3-AB2)/AB2*100 -> 1.8958232 | AD3: =F3+G3+H3+I3+K3+L3+P3+R3+Y3+Z3 -> 0.51502627 | AE3: =(AD3-AD2)/AD2*100 -> -2.3096597 | AF3: =D3+E3+S3+W3 -> 0.096591735 | AG3: =(AF3-AF2)/AF2*100 -> 10.362094 | AH3: =N3+O3+Q3+T3+U3+V3 -> 0.055843146 | AI3: =(AH3-AH2)/AH2*100 -> 6.1323289 | AJ3: =C3+J3+M3 -> 0.064564526 | AK3: =(AJ3-AJ2)/AJ2*100 -> 5.581161 | AL3: =AB3+AD3+AF3 -> 0.89799883 | AN3: =AB3+AF3 -> 0.38297255
A4: 2001 | B4: 0.13376233 | C4: 0.021395347 | D4: 0.022967682 | E4: 0.08854962 | F4: 0.14816059 | G4: 0.089721193 | H4: 0.10108612 | I4: 0.052650661 | J4: 0.03108554 | K4: 0.02918579 | L4: 0.045101863 | M4: 0.013018304 | N4: 0.0019346419 | O4: 0.01484612 | P4: 0.034308851 | Q4: 0.0062349774 | R4: 0.0095361913 | S4: 0.0079535117 | T4: 0.0063293271 | U4: 0.012525692 | V4: 0.011507033 | W4: 0.00067297279 | X4: 0.023012241 | Y4: 0.0015537462 | Z4: 0.0017460524 | AA4: =SUM(B4:Z4) -> 0.9088464 | AB4: =(B4+C4+J4+M4+N4+O4+Q4+T4+U4+V4+X4) -> 0.27565156 | AC4: =(AB4-AB3)/AB3*100 -> -3.7465022 | AD4: =F4+G4+H4+I4+K4+L4+P4+R4+Y4+Z4 -> 0.51305106 | AE4: =(AD4-AD3)/AD3*100 -> -0.38351628 | AF4: =D4+E4+S4+W4 -> 0.12014379 | AG4: =(AF4-AF3)/AF3*100 -> 24.383092 | AH4: =N4+O4+Q4+T4+U4+V4 -> 0.053377792 | AI4: =(AH4-AH3)/AH3*100 -> -4.4147831 | AJ4: =C4+J4+M4 -> 0.065499191 | AK4: =(AJ4-AJ3)/AJ3*100 -> 1.447645 | AL4: =AB4+AD4+AF4 -> 0.9088464 | AN4: =AB4+AF4 -> 0.39579534
A5: 2002 | B5: 0.13914296 | C5: 0.026252414 | D5: 0.030122392 | E5: 0.091072884 | F5: 0.12868978 | G5: 0.089912787 | H5: 0.10300217 | I5: 0.046270056 | J5: 0.035628133 | K5: 0.026613781 | L5: 0.050986183 | M5: 0.011255749 | N5: 0.0029024146 | O5: 0.013081252 | P5: 0.025209681 | Q5: 0.0041233714 | R5: 0.031127237 | S5: 0.0095151587 | T5: 0.0052726171 | U5: 0.0099130929 | V5: 0.013425358 | W5: 0.00059098299 | X5: 0.0222442 | Y5: 0.001284727 | Z5: 0.0027534226 | AA5: =SUM(B5:Z5) -> 0.9203928 | AB5: =(B5+C5+J5+M5+N5+O5+Q5+T5+U5+V5+X5) -> 0.28324156 | AC5: =(AB5-AB4)/AB4*100 -> 2.7534795 | AD5: =F5+G5+H5+I5+K5+L5+P5+R5+Y5+Z5 -> 0.50584982 | AE5: =(AD5-AD4)/AD4*100 -> -1.4036112 | AF5: =D5+E5+S5+W5 -> 0.13130142 | AG5: =(AF5-AF4)/AF4*100 -> 9.2868989 | AH5: =N5+O5+Q5+T5+U5+V5 -> 0.048718106 | AI5: =(AH5-AH4)/AH4*100 -> -8.7296341 | AJ5: =C5+J5+M5 -> 0.073136297 | AK5: =(AJ5-AJ4)/AJ4*100 -> 11.659848 | AL5: =AB5+AD5+AF5 -> 0.9203928 | AN5: =AB5+AF5 -> 0.41454298
A6: 2003 | B6: 0.13981657 | C6: 0.033109288 | D6: 0.04103866 | E6: 0.10205561 | F6: 0.12668038 | G6: 0.08811318 | H6: 0.108583 | I6: 0.048812326 | J6: 0.036571792 | K6: 0.02743039 | L6: 0.04919926 | M6: 0.012108639 | N6: 0.0027800992 | O6: 0.007569884 | P6: 0.023413701 | Q6: 0.0037125794 | R6: 0.012359904 | S6: 0.0095465344 | T6: 0.0053024157 | U6: 0.0087213053 | V6: 0.011244751 | W6: 0.00052168971 | X6: 0.017250956 | Y6: 0.001158159 | Z6: 0.0040032384 | AA6: =SUM(B6:Z6) -> 0.92110431 | AB6: =(B6+C6+J6+M6+N6+O6+Q6+T6+U6+V6+X6) -> 0.27818828 | AC6: =(AB6-AB5)/AB5*100 -> -1.7840915 | AD6: =F6+G6+H6+I6+K6+L6+P6+R6+Y6+Z6 -> 0.48975354 | AE6: =(AD6-AD5)/AD5*100 -> -3.1820279 | AF6: =D6+E6+S6+W6 -> 0.1531625 | AG6: =(AF6-AF5)/AF5*100 -> 16.649539 | AH6: =N6+O6+Q6+T6+U6+V6 -> 0.039331034 | AI6: =(AH6-AH5)/AH5*100 -> -19.268138 | AJ6: =C6+J6+M6 -> 0.081789719 | AK6: =(AJ6-AJ5)/AJ5*100 -> 11.831912 | AL6: =AB6+AD6+AF6 -> 0.92110431 | AN6: =AB6+AF6 -> 0.43135077
A7: 2004 | B7: 0.15096748 | C7: 0.04076123 | D7: 0.055157178 | E7: 0.091996802 | F7: 0.12880584 | G7: 0.090921488 | H7: 0.09092221 | I7: 0.053966392 | J7: 0.034724577 | K7: 0.020764966 | L7: 0.042830656 | M7: 0.012815937 | N7: 0.0040247875 | O7: 0.0096892799 | P7: 0.020989289 | Q7: 0.005393928 | R7: 0.0120788 | S7: 0.011815343 | T7: 0.0046470765 | U7: 0.012148487 | V7: 0.0094200683 | W7: 0.00042398996 | X7: 0.010440904 | Y7: 0.00073859281 | Z7: 0.0063248404 | AA7: =SUM(B7:Z7) -> 0.92277014 | AB7: =(B7+C7+J7+M7+N7+O7+Q7+T7+U7+V7+X7) -> 0.29503376 | AC7: =(AB7-AB6)/AB6*100 -> 6.0554251 | AD7: =F7+G7+H7+I7+K7+L7+P7+R7+Y7+Z7 -> 0.46834307 | AE7: =(AD7-AD6)/AD6*100 -> -4.3716817 | AF7: =D7+E7+S7+W7 -> 0.15939331 | AG7: =(AF7-AF6)/AF6*100 -> 4.0681069 | AH7: =N7+O7+Q7+T7+U7+V7 -> 0.045323627 | AI7: =(AH7-AH6)/AH6*100 -> 15.236296 | AJ7: =C7+J7+M7 -> 0.088301745 | AK7: =(AJ7-AJ6)/AJ6*100 -> 7.9619119 | AL7: =AB7+AD7+AF7 -> 0.92277014 | AN7: =AB7+AF7 -> 0.45442707
A8: 2005 | B8: 0.19709872 | C8: 0.037289281 | D8: 0.061332927 | E8: 0.083412917 | F8: 0.11930099 | G8: 0.093093715 | H8: 0.081391928 | I8: 0.053930685 | J8: 0.04587902 | K8: 0.02067896 | L8: 0.044014964 | M8: 0.012623859 | N8: 0.004221725 | O8: 0.0087934165 | P8: 0.017113373 | Q8: 0.0020699927 | R8: 0.012143771 | S8: 0.011650857 | T8: 0.0051150159 | U8: 0.0054300538 | V8: 0.0061259428 | W8: 0.00056107964 | X8: 0.0096330647 | Y8: 0.00049952791 | Z8: 0.0062972941 | AA8: =SUM(B8:Z8) -> 0.93970308 | AB8: =(B8+C8+J8+M8+N8+O8+Q8+T8+U8+V8+X8) -> 0.3342801 | AC8: =(AB8-AB7)/AB7*100 -> 13.302321 | AD8: =F8+G8+H8+I8+K8+L8+P8+R8+Y8+Z8 -> 0.4484652 | AE8: =(AD8-AD7)/AD7*100 -> -4.2442965 | AF8: =D8+E8+S8+W8 -> 0.15695778 | AG8: =(AF8-AF7)/AF7*100 -> -1.5280015 | AH8: =N8+O8+Q8+T8+U8+V8 -> 0.031756147 | AI8: =(AH8-AH7)/AH7*100 -> -29.934675 | AJ8: =C8+J8+M8 -> 0.09579216 | AK8: =(AJ8-AJ7)/AJ7*100 -> 8.4827494 | AL8: =AB8+AD8+AF8 -> 0.93970308 | AN8: =AB8+AF8 -> 0.49123788
A9: 2006 | B9: 0.19352202 | C9: 0.041455541 | D9: 0.067552103 | E9: 0.0909185 | F9: 0.11191093 | G9: 0.088890314 | H9: 0.073397858 | I9: 0.055552625 | J9: 0.039132541 | K9: 0.021046158 | L9: 0.043070789 | M9: 0.01329131 | N9: 0.007959705 | O9: 0.0097895233 | P9: 0.014686978 | Q9: 0.003821695 | R9: 0.013696176 | S9: 0.010496989 | T9: 0.0067289987 | U9: 0.0070035709 | V9: 0.0060522432 | W9: 0.00088656855 | X9: 0.017364059 | Y9: 0.00071755216 | Z9: 0.0059866207 | AA9: =SUM(B9:Z9) -> 0.94493137 | AB9: =(B9+C9+J9+M9+N9+O9+Q9+T9+U9+V9+X9) -> 0.34612121 | AC9: =(AB9-AB8)/AB8*100 -> 3.5422738 | AD9: =F9+G9+H9+I9+K9+L9+P9+R9+Y9+Z9 -> 0.428956 | AE9: =(AD9-AD8)/AD8*100 -> -4.3502151 | AF9: =D9+E9+S9+W9 -> 0.16985416 | AG9: =(AF9-AF8)/AF8*100 -> 8.2164642 | AH9: =N9+O9+Q9+T9+U9+V9 -> 0.041355736 | AI9: =(AH9-AH8)/AH8*100 -> 30.229075 | AJ9: =C9+J9+M9 -> 0.093879392 | AK9: =(AJ9-AJ8)/AJ8*100 -> -1.9967905 | AL9: =AB9+AD9+AF9 -> 0.94493137 | AN9: =AB9+AF9 -> 0.51597537
A10: 2007 | B10: 0.20099834 | C10: 0.034842213 | D10: 0.077263583 | E10: 0.094755591 | F10: 0.11670744 | G10: 0.096201561 | H10: 0.075993309 | I10: 0.055681469 | J10: 0.033359317 | K10: 0.023378969 | L10: 0.044909838 | M10: 0.013171772 | N10: 0.0084739772 | O10: 0.010162374 | P10: 0.015450794 | Q10: 0.0033978364 | R10: 0.013153795 | S10: 0.0095964004 | T10: 0.0050556288 | U10: 0.0056344853 | V10: 0.004903162 | W10: 0.0027945195 | X10: 0.011935854 | Y10: 0.00062325188 | Z10: 0.0023913208 | AA10: =SUM(B10:Z10) -> 0.9608368 | AB10: =(B10+C10+J10+M10+N10+O10+Q10+T10+U10+V10+X10) -> 0.33193496 | AC10: =(AB10-AB9)/AB9*100 -> -4.098638 | AD10: =F10+G10+H10+I10+K10+L10+P10+R10+Y10+Z10 -> 0.44449175 | AE10: =(AD10-AD9)/AD9*100 -> 3.6217569 | AF10: =D10+E10+S10+W10 -> 0.18441009 | AG10: =(AF10-AF9)/AF9*100 -> 8.5696651 | AH10: =N10+O10+Q10+T10+U10+V10 -> 0.037627464 | AI10: =(AH10-AH9)/AH9*100 -> -9.0151276 | AJ10: =C10+J10+M10 -> 0.081373302 | AK10: =(AJ10-AJ9)/AJ9*100 -> -13.321443 | AL10: =AB10+AD10+AF10 -> 0.9608368 | AN10: =AB10+AF10 -> 0.51634505
A11: 2008 | B11: 0.20674446 | C11: 0.038280077 | D11: 0.071078745 | E11: 0.084992975 | F11: 0.1028794 | G11: 0.12752431 | H11: 0.067235257 | I11: 0.054004481 | J11: 0.036639089 | K11: 0.023606715 | L11: 0.04256542 | M11: 0.012281279 | N11: 0.0094722848 | O11: 0.014490715 | P11: 0.0187039 | Q11: 0.0035057079 | R11: 0.011055919 | S11: 0.0088762986 | T11: 0.0049233009 | U11: 0.0053930369 | V11: 0.010163715 | W11: 0.0053501885 | X11: 0.0049220132 | Y11: 0.00053998129 | Z11: 0.0028048228 | AA11: =SUM(B11:Z11) -> 0.9680341 | AB11: =(B11+C11+J11+M11+N11+O11+Q11+T11+U11+V11+X11) -> 0.34681568 | AC11: =(AB11-AB10)/AB10*100 -> 4.4830243 | AD11: =F11+G11+H11+I11+K11+L11+P11+R11+Y11+Z11 -> 0.45092021 | AE11: =(AD11-AD10)/AD10*100 -> 1.4462503 | AF11: =D11+E11+S11+W11 -> 0.17029821 | AG11: =(AF11-AF10)/AF10*100 -> -7.6524482 | AH11: =N11+O11+Q11+T11+U11+V11 -> 0.047948761 | AI11: =(AH11-AH10)/AH10*100 -> 27.430223 | AJ11: =C11+J11+M11 -> 0.087200445 | AK11: =(AJ11-AJ10)/AJ10*100 -> 7.1610009 | AL11: =AB11+AD11+AF11 -> 0.9680341 | AN11: =AB11+AF11 -> 0.51711389
A12: 2009 | B12: 0.23366584 | C12: 0.046610639 | D12: 0.080751777 | E12: 0.0829908 | F12: 0.094417708 | G12: 0.081329223 | H12: 0.072159918 | I12: 0.04637217 | J12: 0.04768664 | K12: 0.024459862 | L12: 0.03779833 | M12: 0.013730481 | N12: 0.0099496836 | O12: 0.019924484 | P12: 0.011536978 | Q12: 0.0033907429 | R12: 0.011234247 | S12: 0.0086724582 | T12: 0.0042523654 | U12: 0.0062861499 | V12: 0.012986836 | W12: 0.0067644583 | X12: 0.0019398073 | Y12: 0.00030839542 | Z12: 0.0029805912 | AA12: =SUM(B12:Z12) -> 0.96220059 | AB12: =(B12+C12+J12+M12+N12+O12+Q12+T12+U12+V12+X12) -> 0.40042367 | AC12: =(AB12-AB11)/AB11*100 -> 15.457199 | AD12: =F12+G12+H12+I12+K12+L12+P12+R12+Y12+Z12 -> 0.38259742 | AE12: =(AD12-AD11)/AD11*100 -> -15.151857 | AF12: =D12+E12+S12+W12 -> 0.17917949 | AG12: =(AF12-AF11)/AF11*100 -> 5.2151384 | AH12: =N12+O12+Q12+T12+U12+V12 -> 0.056790263 | AI12: =(AH12-AH11)/AH11*100 -> 18.439479 | AJ12: =C12+J12+M12 -> 0.10802776 | AK12: =(AJ12-AJ11)/AJ11*100 -> 23.884414 | AL12: =AB12+AD12+AF12 -> 0.96220059 | AN12: =AB12+AF12 -> 0.57960317
A13: 2010 | B13: 0.23788083 | C13: 0.050471108 | D13: 0.08730854 | E13: 0.085688208 | F13: 0.086436377 | G13: 0.080372414 | H13: 0.068765451 | I13: 0.045672405 | J13: 0.046464929 | K13: 0.0232391 | L13: 0.031945141 | M13: 0.013509401 | N13: 0.0074620868 | O13: 0.022125603 | P13: 0.011230535 | Q13: 0.003411511 | R13: 0.012274978 | S13: 0.010172662 | T13: 0.0050572857 | U13: 0.0065746337 | V13: 0.014003717 | W13: 0.0057683592 | X13: 0.0014355904 | Y13: 0.00049508556 | Z13: 0.0033107569 | AA13: =SUM(B13:Z13) -> 0.96107671 | AB13: =(B13+C13+J13+M13+N13+O13+Q13+T13+U13+V13+X13) -> 0.4083967 | AC13: =(AB13-AB12)/AB12*100 -> 1.9911469 | AD13: =F13+G13+H13+I13+K13+L13+P13+R13+Y13+Z13 -> 0.36374224 | AE13: =(AD13-AD12)/AD12*100 -> -4.9282034 | AF13: =D13+E13+S13+W13 -> 0.18893777 | AG13: =(AF13-AF12)/AF12*100 -> 5.4460893 | AH13: =N13+O13+Q13+T13+U13+V13 -> 0.058634837 | AI13: =(AH13-AH12)/AH12*100 -> 3.2480464 | AJ13: =C13+J13+M13 -> 0.11044544 | AK13: =(AJ13-AJ12)/AJ12*100 -> 2.2380155 | AL13: =AB13+AD13+AF13 -> 0.96107671 | AN13: =AB13+AF13 -> 0.59733446
A14: 2011 | B14: 0.22944071 | C14: 0.068124713 | D14: 0.094848954 | E14: 0.081974909 | F14: 0.083451921 | G14: 0.075225051 | H14: 0.067042721 | I14: 0.042211554 | J14: 0.044668719 | K14: 0.028078627 | L14: 0.029260156 | M14: 0.015144487 | N14: 0.010022336 | O14: 0.023967373 | P14: 0.012269076 | Q14: 0.0027164143 | R14: 0.011296282 | S14: 0.0090988613 | T14: 0.0046276262 | U14: 0.0091940214 | V14: 0.011328934 | W14: 0.0068162434 | X14: 0.0014727309 | Y14: 0.00058086388 | Z14: 0.0035525149 | AA14: =SUM(B14:Z14) -> 0.96641579 | AB14: =(B14+C14+J14+M14+N14+O14+Q14+T14+U14+V14+X14) -> 0.42070806 | AC14: =(AB14-AB13)/AB13*100 -> 3.0145607 | AD14: =F14+G14+H14+I14+K14+L14+P14+R14+Y14+Z14 -> 0.35296877 | AE14: =(AD14-AD13)/AD13*100 -> -2.961844 | AF14: =D14+E14+S14+W14 -> 0.19273897 | AG14: =(AF14-AF13)/AF13*100 -> 2.0118786 | AH14: =N14+O14+Q14+T14+U14+V14 -> 0.061856705 | AI14: =(AH14-AH13)/AH13*100 -> 5.4948021 | AJ14: =C14+J14+M14 -> 0.12793792 | AK14: =(AJ14-AJ13)/AJ13*100 -> 15.838119 | AL14: =AB14+AD14+AF14 -> 0.96641579 | AN14: =AB14+AF14 -> 0.61344703
... A26: 2023 | B26: 0.15589255 | C26: 0.14912752 | D26: 0.080415267 | E26: 0.070244709 | F26: 0.079648334 | G26: 0.064912061 | H26: 0.035590712 | I26: 0.054746602 | J26: 0.027553923 | K26: 0.047206354 | L26: 0.030037445 | M26: 0.037476482 | N26: 0.041898371 | O26: 0.024593825 | P26: 0.002830135 | Q26: 0.022793182 | R26: 0.0094053526 | S26: 0.0036021478 | T26: 0.0022173836 | U26: 0.0032484237 | V26: 0.0014770308 | W26: 0.004545945 | X26: 0.00032274923 | Y26: 0.015318932 | Z26: 0.00190154 | AA26: =SUM(B26:Z26) -> 0.96700697 | AB26: =(B26+C26+J26+M26+N26+O26+Q26+T26+U26+V26+X26) -> 0.46660144 | AC26: =(AB26-AB25)/AB25*100 -> -0.031146975 | AD26: =F26+G26+H26+I26+K26+L26+P26+R26+Y26+Z26 -> 0.34159747 | AE26: =(AD26-AD25)/AD25*100 -> 14.350224 | AF26: =D26+E26+S26+W26 -> 0.15880807 | AG26: =(AF26-AF25)/AF25*100 -> -23.203016 | AH26: =N26+O26+Q26+T26+U26+V26 -> 0.096228217 | AI26: =(AH26-AH25)/AH25*100 -> 10.285871 | AJ26: =C26+J26+M26 -> 0.21415792 | AK26: =(AJ26-AJ25)/AJ25*100 -> -2.2925274 | AL26: =AB26+AD26+AF26 -> 0.96700697 | AN26: =AB26+AF26 -> 0.62540951
A29: China (excl. Hong Kong) | M29: Average year-on-year percentage change of Asia's share | N29: Average year-on-year percentage change of Europe's share | O29: Average year-on-year percentage change of semiproximity's share (Turkey, Morocco, Tunisia and Egypt) | P29: Average year-on-year percentage change of ASEAN's share | Q29: Average year-on-year percentage change of China's share | R29: Year-on-year percentage change in average share of South Asia | AB29: Asia: Hiperglobalisation average | AD29: Europe: Hiperglobalisation average
A30: ASEAN | B30: Thailand, Indonesia, Malaysia, Camboya, Myanmar, Viet nam | L30: 1999-2004 | M30: =AVERAGE(AC2:AC7) -> 1.0348268 | N30: =AVERAGE(AE2:AE7) -> -2.3300993 | O30: =AVERAGE(AG2:AG7) -> 12.949946 | P30: =AVERAGE(AI2:AI7) -> -2.208786 | Q30: =AVERAGE(C37:C42) -> 1.6448295 | R30: =AVERAGE(AK2:AK7) -> 7.6964956 | AB30: =AVERAGE(AB2:AB11) -> 0.30587005 | AD30: =AVERAGE(AD2:AD11) -> 0.47920598
A31: South Asia | B31: Bangladesh, Pakistán, India | L31: 2005-2008 | M31: =AVERAGE(AC8:AC11) -> 4.3072452 | N31: =AVERAGE(AE8:AE11) -> -0.88162608 | O31: =AVERAGE(AG8:AG11) -> 1.9014199 | P31: =AVERAGE(AI8:AI11) -> 4.6773739 | Q31: 8.8661194 | R31: =AVERAGE(AK8:AK11) -> 0.081379252 | AB31: Asia: Slowbalisation average | AD31: Europe: Slowbalisation average
A32: Europe | B32: Italy | C32: France | D32: Portugal | E32: Germany | F32: Netherlands | G32: Belgium (incl. Luxembourg 'LU' -> 1998) | H32: United Kingdom | I32: Denmark | J32: Poland | K32: Romania | L32: 2009-2014 | M32: =AVERAGE(AC12:AC17) -> 4.4416685 | N32: =AVERAGE(AE12:AE17) -> -5.3193788 | O32: =AVERAGE(AG12:AG17) -> 2.9367105 | P32: =AVERAGE(AI12:AI17) -> 7.1630431 | Q32: 0.47411795 | R32: =AVERAGE(AK12:AK17) -> 11.276746 | AB32: =AVERAGE(AB12:AB26) -> 0.44682924 | AD32: =AVERAGE(AD12:AD26) -> 0.31814868
A33: Semiproximity | B33: Turkey and North Africa | L33: 2015-2019 | M33: =AVERAGE(AC18:AC22) -> 0.92375621 | N33: =AVERAGE(AE18:AE22) -> -2.4873955 | O33: =AVERAGE(AG18:AG22) -> 2.7452253 | P33: =AVERAGE(AI18:AI22) -> 6.1469145 | Q33: -4.8760772 | R33: =AVERAGE(AK18:AK22) -> 5.0786577
L34: 2020-2023 | M34: =AVERAGE(AC23:AC26) -> 0.048664878 | N34: =AVERAGE(AE23:AE26) -> 4.9946714 | O34: =AVERAGE(AG23:AG26) -> -7.6946155 | P34: =AVERAGE(AI23:AI26) -> 0.78905655 | Q34: -0.82183739 | R34: =AVERAGE(AK23:AK26) -> 0.78744529
A36: Supplier | B36: China | E36: Average year-on-year percentage change of China's share
A37: 1999 | B37: 0.13968547 | E37: 1999-2004 | F37: =AVERAGE(C38:C42) -> 1.6448295
A38: 2000 | B38: 0.13903981 | C38: =(B38-B37)/B37*100 -> -0.4622206 | E38: 2005-2008 | F38: =AVERAGE(C43:C46) -> 8.8661194
A39: 2001 | B39: 0.13376233 | C39: =(B39-B38)/B38*100 -> -3.7956621 | E39: 2009-2014 | F39: =AVERAGE(C47:C52) -> 0.47411795
A40: 2002 | B40: 0.13914296 | C40: =(B40-B39)/B39*100 -> 4.0225304 | E40: 2015-2019 | F40: =AVERAGE(C53:C57) -> -4.8760772
A41: 2003 | B41: 0.13981657 | C41: =(B41-B40)/B40*100 -> 0.48410961 | E41: 2020-2023 | F41: =AVERAGE(C58:C61) -> -0.82183739
A42: 2004 | B42: 0.15096748 | C42: =(B42-B41)/B41*100 -> 7.97539
A43: 2005 | B43: 0.19709872 | C43: =(B43-B42)/B42*100 -> 30.557072
A44: 2006 | B44: 0.19352202 | C44: =(B44-B43)/B43*100 -> -1.8146738
A45: 2007 | B45: 0.20099834 | C45: =(B45-B44)/B44*100 -> 3.8632871
A46: 2008 | B46: 0.20674446 | C46: =(B46-B45)/B45*100 -> 2.8587925
A47: 2009 | B47: 0.23366584 | C47: =(B47-B46)/B46*100 -> 13.021573
A48: 2010 | B48: 0.23788083 | C48: =(B48-B47)/B47*100 -> 1.803853
A49: 2011 | B49: 0.22944071 | C49: =(B49-B48)/B48*100 -> -3.5480466
A50: 2012 | B50: 0.22027971 | C50: =(B50-B49)/B49*100 -> -3.9927519
A51: 2013 | B51: 0.20939145 | C51: =(B51-B50)/B50*100 -> -4.9429227
A52: 2014 | B52: 0.2104447 | C52: =(B52-B51)/B51*100 -> 0.50300318
A53: 2015 | B53: 0.2109267 | C53: =(B53-B52)/B52*100 -> 0.22904054
... A61: 2023 | B61: 0.15589255 | C61: =(B61-B60)/B60*100 -> -2.4850158
B62: Bangladesh | E62: Average year-on-year percentage change of Bangladesh's share
A63: 1999 | B63: 0.018376688 | E63: 1999-2004 | F63: =AVERAGE(C64:C68) -> 17.552249
A64: 2000 | B64: 0.020146336 | C64: =(B64-B63)/B63*100 -> 9.6298531 | E64: 2005-2008 | F64: =AVERAGE(C69:C72) -> -0.8577091
A65: 2001 | B65: 0.021395347 | C65: =(B65-B64)/B64*100 -> 6.1996937 | E65: 2009-2014 | F65: =AVERAGE(C73:C78) -> 17.003557
A66: 2002 | B66: 0.026252414 | C66: =(B66-B65)/B65*100 -> 22.701512 | E66: 2015-2019 | F66: =AVERAGE(C79:C83) -> 7.7248919
A67: 2003 | B67: 0.033109288 | C67: =(B67-B66)/B66*100 -> 26.119022 | E67: 2020-2023 | F67: =AVERAGE(C84:C87) -> 1.9257984
A68: 2004 | B68: 0.04076123 | C68: =(B68-B67)/B67*100 -> 23.111165
A69: 2005 | B69: 0.037289281 | C69: =(B69-B68)/B68*100 -> -8.517773
A70: 2006 | B70: 0.041455541 | C70: =(B70-B69)/B69*100 -> 11.172806
A71: 2007 | B71: 0.034842213 | C71: =(B71-B70)/B70*100 -> -15.952819
A72: 2008 | B72: 0.038280077 | C72: =(B72-B71)/B71*100 -> 9.8669489
A73: 2009 | B73: 0.046610639 | C73: =(B73-B72)/B72*100 -> 21.762136
A74: 2010 | B74: 0.050471108 | C74: =(B74-B73)/B73*100 -> 8.2823776
A75: 2011 | B75: 0.068124713 | C75: =(B75-B74)/B74*100 -> 34.977644
A76: 2012 | B76: 0.081875311 | C76: =(B76-B75)/B75*100 -> 20.184449
A77: 2013 | B77: 0.092940799 | C77: =(B77-B76)/B76*100 -> 13.515049
A78: 2014 | B78: 0.096007554 | C78: =(B78-B77)/B77*100 -> 3.2996863
A79: 2015 | B79: 0.1114651 | C79: =(B79-B78)/B78*100 -> 16.100345
... A87: 2023 | B87: 0.14912752 | C87: =(B87-B86)/B86*100 -> -2.8403411
B88: Türkiye | E88: Average year-on-year percentage change of Turkiye's share
A89: 1999 | B89: 0.023794779 | E89: 1999-2004 | F89: =AVERAGE(C89:C94) -> 19.65967
A90: 2000 | B90: 0.023628108 | C90: =(B90-B89)/B89*100 -> -0.70045117 | E90: 2005-2008 | F90: =AVERAGE(C95:C98) -> 6.9270224
A91: 2001 | B91: 0.022967682 | C91: =(B91-B90)/B90*100 -> -2.7950893 | E91: 2009-2014 | F91: =AVERAGE(C99:C104) -> 5.8656186
A92: 2002 | B92: 0.030122392 | C92: =(B92-B91)/B91*100 -> 31.151209 | E92: 2015-2019 | F92: =AVERAGE(C105:C109) -> 5.3414267
A93: 2003 | B93: 0.04103866 | C93: =(B93-B92)/B92*100 -> 36.239712 | E93: 2020-2023 | F93: =AVERAGE(C110:C113) -> -9.4724395
A94: 2004 | B94: 0.055157178 | C94: =(B94-B93)/B93*100 -> 34.40297
A95: 2005 | B95: 0.061332927 | C95: =(B95-B94)/B94*100 -> 11.196636
A96: 2006 | B96: 0.067552103 | C96: =(B96-B95)/B95*100 -> 10.140029
A97: 2007 | B97: 0.077263583 | C97: =(B97-B96)/B96*100 -> 14.376281
A98: 2008 | B98: 0.071078745 | C98: =(B98-B97)/B97*100 -> -8.0048556
A99: 2009 | B99: 0.080751777 | C99: =(B99-B98)/B98*100 -> 13.608896
A100: 2010 | B100: 0.08730854 | C100: =(B100-B99)/B99*100 -> 8.1196515
A101: 2011 | B101: 0.094848954 | C101: =(B101-B100)/B100*100 -> 8.6365137
A102: 2012 | B102: 0.10248634 | C102: =(B102-B101)/B101*100 -> 8.0521546
A103: 2013 | B103: 0.10553104 | C103: =(B103-B102)/B102*100 -> 2.9708378
A104: 2014 | B104: 0.098994088 | C104: =(B104-B103)/B103*100 -> -6.1943422
A105: 2015 | B105: 0.10380273 | C105: =(B105-B104)/B104*100 -> 4.8575072
... A113: 2023 | B113: 0.080415267 | C113: =(B113-B112)/B112*100 -> -29.335571
B114: Morocco | E114: Average year-on-year percentage change of Morocco's share
A115: 1999 | B115: 0.054912476 | E115: 1999-2004 | F115: =AVERAGE(C115:C120) -> 12.075181
A116: 2000 | B116: 0.062902495 | C116: =(B116-B115)/B115*100 -> 14.550462 | E116: 2005-2008 | F116: =AVERAGE(C121:C124) -> -1.6037774
A117: 2001 | B117: 0.08854962 | C117: =(B117-B116)/B116*100 -> 40.772827 | E117: 2009-2014 | F117: =AVERAGE(C125:C130) -> 1.069953
A118: 2002 | B118: 0.091072884 | C118: =(B118-B117)/B117*100 -> 2.8495483 | E118: 2015-2019 | F118: =AVERAGE(C131:C135) -> 0.45525094
A119: 2003 | B119: 0.10205561 | C119: =(B119-B118)/B118*100 -> 12.059276 | E119: 2020-2023 | F119: =AVERAGE(C136:C139) -> -4.9390833
A120: 2004 | B120: 0.091996802 | C120: =(B120-B119)/B119*100 -> -9.8562067
A121: 2005 | B121: 0.083412917 | C121: =(B121-B120)/B120*100 -> -9.3306342
A122: 2006 | B122: 0.0909185 | C122: =(B122-B121)/B121*100 -> 8.998106
A123: 2007 | B123: 0.094755591 | C123: =(B123-B122)/B122*100 -> 4.2203632
A124: 2008 | B124: 0.084992975 | C124: =(B124-B123)/B123*100 -> -10.302945
A125: 2009 | B125: 0.0829908 | C125: =(B125-B124)/B124*100 -> -2.3556943
A126: 2010 | B126: 0.085688208 | C126: =(B126-B125)/B125*100 -> 3.250249
A127: 2011 | B127: 0.081974909 | C127: =(B127-B126)/B126*100 -> -4.3335007
A128: 2012 | B128: 0.086896669 | C128: =(B128-B127)/B127*100 -> 6.0039845
A129: 2013 | B129: 0.087678191 | C129: =(B129-B128)/B128*100 -> 0.89936947
A130: 2014 | B130: 0.090269354 | C130: =(B130-B129)/B129*100 -> 2.9553098
A131: 2015 | B131: 0.081283992 | C131: =(B131-B130)/B130*100 -> -9.9539446
... A139: 2023 | B139: 0.070244709 | C139: =(B139-B138)/B138*100 -> -17.299774
B140: Italy (incl. San Marino 'SM' -> 1993) | E140: Average year-on-year percentage change of Italy's share
A141: 1999 | B141: 0.15147144 | E141: 1999-2004 | F141: =AVERAGE(C141:C146) -> -3.0409135
A142: 2000 | B142: 0.14776595 | C142: =(B142-B141)/B141*100 -> -2.4463266 | E142: 2005-2008 | F142: =AVERAGE(C147:C150) -> -5.2840318
...

Sheet 4. Concentra-diversification 
A1: Concentration/diversification
A3: Concentration is based on the Herfindahl index. It is the sum of the squared share of each country in the selected market.
A5: Year | B5: China | C5: Bangladesh | D5: Türkiye | E5: Morocco | F5: Italy (incl. San Marino 'SM' -> 1993) | G5: France (incl. Saint Barthélemy 'BL' -> 2012; incl. French Guiana 'GF', Guadeloupe 'GP', Martinique 'MQ', Réunion 'RE' from 1997; incl. Mayotte 'YT' from 2014) | H5: Portugal | I5: Germany (incl. German Democratic Republic 'DD' from 1991) | J5: India | K5: Netherlands | L5: Belgium (incl. Luxembourg 'LU' -> 1998) | M5: Pakistan | N5: Cambodia | O5: Viet Nam (incl. North Viet Nam 'VD' from 1977) | P5: United Kingdom | Q5: Myanmar (Burma) | R5: Denmark | S5: Tunisia | T5: Malaysia | U5: Indonesia (incl. East Timor 'TP' from 1977 -> 2000) | V5: Thailand | W5: Egypt | X5: Hong Kong | Y5: Poland | Z5: Romania | AA5: TOTAL. Concentration INDEX | AB5: Year-on-year percentage change in Concentration Index (HHI) | AC5: Diversification Index (1/HHI) | AD5: Year-on-year percentage change in diversification index (1/HHI)
A6: 1999 | B6: ='2. 25 main suppliers'!B74*'2. 25 main suppliers'!B74 -> 0.01951203 | C6: ='2. 25 main suppliers'!C74*'2. 25 main suppliers'!C74 -> 0.00033770266 | D6: ='2. 25 main suppliers'!D74*'2. 25 main suppliers'!D74 -> 0.00056619152 | E6: ='2. 25 main suppliers'!E74*'2. 25 main suppliers'!E74 -> 0.00301538 | F6: ='2. 25 main suppliers'!F74*'2. 25 main suppliers'!F74 -> 0.022943597 | G6: ='2. 25 main suppliers'!G74*'2. 25 main suppliers'!G74 -> 0.0099154146 | H6: ='2. 25 main suppliers'!H74*'2. 25 main suppliers'!H74 -> 0.008880461 | I6: ='2. 25 main suppliers'!I74*'2. 25 main suppliers'!I74 -> 0.0021405933 | ... Z6: ='2. 25 main suppliers'!Z74*'2. 25 main suppliers'!Z74 -> 8.8852035e-07 | AA6: =SUM(B6:Z6) -> 0.075674614 | AB6: 0 | AC6: =1/AA6 -> 13.214471 | AD6: 0
A7: 2000 | B7: ='2. 25 main suppliers'!B75*'2. 25 main suppliers'!B75 -> 0.019332069 | C7: ='2. 25 main suppliers'!C75*'2. 25 main suppliers'!C75 -> 0.00040587485 | D7: ='2. 25 main suppliers'!D75*'2. 25 main suppliers'!D75 -> 0.00055828751 | E7: ='2. 25 main suppliers'!E75*'2. 25 main suppliers'!E75 -> 0.0039567238 | F7: ='2. 25 main suppliers'!F75*'2. 25 main suppliers'!F75 -> 0.021834777 | G7: ='2. 25 main suppliers'!G75*'2. 25 main suppliers'!G75 -> 0.0085646544 | H7: ='2. 25 main suppliers'!H75*'2. 25 main suppliers'!H75 -> 0.010125752 | I7: ='2. 25 main suppliers'!I75*'2. 25 main suppliers'!I75 -> 0.0022723215 | ... Z7: ='2. 25 main suppliers'!Z75*'2. 25 main suppliers'!Z75 -> 2.0473146e-06 | AA7: =SUM(B7:Z7) -> 0.074290554 | AB7: =(AA7-AA6)/AA6*100 -> -1.8289616 | AC7: =1/AA7 -> 13.460661 | AD7: =(AC7-AC6)/AC6*100 -> 1.8630358
A8: 2001 | B8: ='2. 25 main suppliers'!B76*'2. 25 main suppliers'!B76 -> 0.017892361 | C8: ='2. 25 main suppliers'!C76*'2. 25 main suppliers'!C76 -> 0.00045776088 | D8: ='2. 25 main suppliers'!D76*'2. 25 main suppliers'!D76 -> 0.0005275144 | E8: ='2. 25 main suppliers'!E76*'2. 25 main suppliers'!E76 -> 0.0078410352 | F8: ='2. 25 main suppliers'!F76*'2. 25 main suppliers'!F76 -> 0.021951561 | G8: ='2. 25 main suppliers'!G76*'2. 25 main suppliers'!G76 -> 0.0080498925 | H8: ='2. 25 main suppliers'!H76*'2. 25 main suppliers'!H76 -> 0.010218404 | I8: ='2. 25 main suppliers'!I76*'2. 25 main suppliers'!I76 -> 0.0027720921 | ... Z8: ='2. 25 main suppliers'!Z76*'2. 25 main suppliers'!Z76 -> 3.0486991e-06 | AA8: =SUM(B8:Z8) -> 0.076191561 | AB8: =(AA8-AA7)/AA7*100 -> 2.5588804 | AC8: =1/AA8 -> 13.124813 | AD8: =(AC8-AC7)/AC7*100 -> -2.4950354
A9: 2002 | B9: ='2. 25 main suppliers'!B77*'2. 25 main suppliers'!B77 -> 0.019360764 | C9: ='2. 25 main suppliers'!C77*'2. 25 main suppliers'!C77 -> 0.00068918926 | D9: ='2. 25 main suppliers'!D77*'2. 25 main suppliers'!D77 -> 0.00090735851 | E9: ='2. 25 main suppliers'!E77*'2. 25 main suppliers'!E77 -> 0.0082942703 | F9: ='2. 25 main suppliers'!F77*'2. 25 main suppliers'!F77 -> 0.016561058 | G9: ='2. 25 main suppliers'!G77*'2. 25 main suppliers'!G77 -> 0.0080843093 | H9: ='2. 25 main suppliers'!H77*'2. 25 main suppliers'!H77 -> 0.010609447 | I9: ='2. 25 main suppliers'!I77*'2. 25 main suppliers'!I77 -> 0.0021409181 | ... Z9: ='2. 25 main suppliers'!Z77*'2. 25 main suppliers'!Z77 -> 7.5813363e-06 | AA9: =SUM(B9:Z9) -> 0.074053467 | AB9: =(AA9-AA8)/AA8*100 -> -2.8062084 | AC9: =1/AA9 -> 13.503757 | AD9: =(AC9-AC8)/AC8*100 -> 2.8872301
A10: 2003 | B10: ='2. 25 main suppliers'!B78*'2. 25 main suppliers'!B78 -> 0.019548672 | C10: ='2. 25 main suppliers'!C78*'2. 25 main suppliers'!C78 -> 0.001096225 | D10: ='2. 25 main suppliers'!D78*'2. 25 main suppliers'!D78 -> 0.0016841716 | E10: ='2. 25 main suppliers'!E78*'2. 25 main suppliers'!E78 -> 0.010415348 | F10: ='2. 25 main suppliers'!F78*'2. 25 main suppliers'!F78 -> 0.016047919 | G10: ='2. 25 main suppliers'!G78*'2. 25 main suppliers'!G78 -> 0.0077639325 | H10: ='2. 25 main suppliers'!H78*'2. 25 main suppliers'!H78 -> 0.011790268 | I10: ='2. 25 main suppliers'!I78*'2. 25 main suppliers'!I78 -> 0.0023826432 | ... Z10: ='2. 25 main suppliers'!Z78*'2. 25 main suppliers'!Z78 -> 1.6025918e-05 | AA10: =SUM(B10:Z10) -> 0.076803064 | AB10: =(AA10-AA9)/AA9*100 -> 3.71299 | AC10: =1/AA10 -> 13.020314 | AD10: =(AC10-AC9)/AC9*100 -> -3.5800626
A11: 2004 | B11: ='2. 25 main suppliers'!B79*'2. 25 main suppliers'!B79 -> 0.022791181 | C11: ='2. 25 main suppliers'!C79*'2. 25 main suppliers'!C79 -> 0.0016614779 | D11: ='2. 25 main suppliers'!D79*'2. 25 main suppliers'!D79 -> 0.0030423143 | E11: ='2. 25 main suppliers'!E79*'2. 25 main suppliers'!E79 -> 0.0084634116 | F11: ='2. 25 main suppliers'!F79*'2. 25 main suppliers'!F79 -> 0.016590944 | G11: ='2. 25 main suppliers'!G79*'2. 25 main suppliers'!G79 -> 0.008266717 | H11: ='2. 25 main suppliers'!H79*'2. 25 main suppliers'!H79 -> 0.0082668484 | I11: ='2. 25 main suppliers'!I79*'2. 25 main suppliers'!I79 -> 0.0029123714 | ... Z11: ='2. 25 main suppliers'!Z79*'2. 25 main suppliers'!Z79 -> 4.0003606e-05 | AA11: =SUM(B11:Z11) -> 0.076903844 | AB11: =(AA11-AA10)/AA10*100 -> 0.13121847 | AC11: =1/AA11 -> 13.003251 | AD11: =(AC11-AC10)/AC10*100 -> -0.13104651
A12: 2005 | B12: ='2. 25 main suppliers'!B80*'2. 25 main suppliers'!B80 -> 0.038847907 | C12: ='2. 25 main suppliers'!C80*'2. 25 main suppliers'!C80 -> 0.0013904905 | D12: ='2. 25 main suppliers'!D80*'2. 25 main suppliers'!D80 -> 0.0037617279 | E12: ='2. 25 main suppliers'!E80*'2. 25 main suppliers'!E80 -> 0.0069577147 | F12: ='2. 25 main suppliers'!F80*'2. 25 main suppliers'!F80 -> 0.014232725 | G12: ='2. 25 main suppliers'!G80*'2. 25 main suppliers'!G80 -> 0.0086664397 | H12: ='2. 25 main suppliers'!H80*'2. 25 main suppliers'!H80 -> 0.0066246459 | I12: ='2. 25 main suppliers'!I80*'2. 25 main suppliers'!I80 -> 0.0029085188 | ... Z12: ='2. 25 main suppliers'!Z80*'2. 25 main suppliers'!Z80 -> 3.9655913e-05 | AA12: =SUM(B12:Z12) -> 0.088921058 | AB12: =(AA12-AA11)/AA11*100 -> 15.626285 | AC12: =1/AA12 -> 11.24593 | AD12: =(AC12-AC11)/AC11*100 -> -13.514474
A13: 2006 | B13: ='2. 25 main suppliers'!B81*'2. 25 main suppliers'!B81 -> 0.037450774 | C13: ='2. 25 main suppliers'!C81*'2. 25 main suppliers'!C81 -> 0.0017185618 | D13: ='2. 25 main suppliers'!D81*'2. 25 main suppliers'!D81 -> 0.0045632866 | E13: ='2. 25 main suppliers'!E81*'2. 25 main suppliers'!E81 -> 0.0082661736 | F13: ='2. 25 main suppliers'!F81*'2. 25 main suppliers'!F81 -> 0.012524057 | G13: ='2. 25 main suppliers'!G81*'2. 25 main suppliers'!G81 -> 0.0079014879 | H13: ='2. 25 main suppliers'!H81*'2. 25 main suppliers'!H81 -> 0.0053872456 | I13: ='2. 25 main suppliers'!I81*'2. 25 main suppliers'!I81 -> 0.0030860942 | ... Z13: ='2. 25 main suppliers'!Z81*'2. 25 main suppliers'!Z81 -> 3.5839628e-05 | AA13: =SUM(B13:Z13) -> 0.086060615 | AB13: =(AA13-AA12)/AA12*100 -> -3.2168336 | AC13: =1/AA13 -> 11.619717 | AD13: =(AC13-AC12)/AC12*100 -> 3.3237532
A14: 2007 | B14: ='2. 25 main suppliers'!B82*'2. 25 main suppliers'!B82 -> 0.040400331 | C14: ='2. 25 main suppliers'!C82*'2. 25 main suppliers'!C82 -> 0.0012139798 | D14: ='2. 25 main suppliers'!D82*'2. 25 main suppliers'!D82 -> 0.0059696612 | E14: ='2. 25 main suppliers'!E82*'2. 25 main suppliers'!E82 -> 0.0089786219 | F14: ='2. 25 main suppliers'!F82*'2. 25 main suppliers'!F82 -> 0.013620626 | G14: ='2. 25 main suppliers'!G82*'2. 25 main suppliers'!G82 -> 0.0092547403 | H14: ='2. 25 main suppliers'!H82*'2. 25 main suppliers'!H82 -> 0.005774983 | I14: ='2. 25 main suppliers'!I82*'2. 25 main suppliers'!I82 -> 0.003100426 | ... Z14: ='2. 25 main suppliers'!Z82*'2. 25 main suppliers'!Z82 -> 5.7184151e-06 | AA14: =SUM(B14:Z14) -> 0.093091376 | AB14: =(AA14-AA13)/AA13*100 -> 8.1695444 | AC14: =1/AA14 -> 10.742134 | AD14: =(AC14-AC13)/AC13*100 -> -7.5525366
A15: 2008 | B15: ='2. 25 main suppliers'!B83*'2. 25 main suppliers'!B83 -> 0.042743272 | C15: ='2. 25 main suppliers'!C83*'2. 25 main suppliers'!C83 -> 0.0014653643 | D15: ='2. 25 main suppliers'!D83*'2. 25 main suppliers'!D83 -> 0.0050521879 | E15: ='2. 25 main suppliers'!E83*'2. 25 main suppliers'!E83 -> 0.0072238057 | F15: ='2. 25 main suppliers'!F83*'2. 25 main suppliers'!F83 -> 0.010584172 | G15: ='2. 25 main suppliers'!G83*'2. 25 main suppliers'!G83 -> 0.01626245 | H15: ='2. 25 main suppliers'!H83*'2. 25 main suppliers'!H83 -> 0.0045205797 | I15: ='2. 25 main suppliers'!I83*'2. 25 main suppliers'!I83 -> 0.002916484 | ... Z15: ='2. 25 main suppliers'!Z83*'2. 25 main suppliers'!Z83 -> 7.867031e-06 | AA15: =SUM(B15:Z15) -> 0.095711147 | AB15: =(AA15-AA14)/AA14*100 -> 2.8141938 | AC15: =1/AA15 -> 10.448104 | AD15: =(AC15-AC14)/AC14*100 -> -2.7371647
A16: 2009 | B16: ='2. 25 main suppliers'!B84*'2. 25 main suppliers'!B84 -> 0.054599726 | C16: ='2. 25 main suppliers'!C84*'2. 25 main suppliers'!C84 -> 0.0021725517 | D16: ='2. 25 main suppliers'!D84*'2. 25 main suppliers'!D84 -> 0.0065208495 | E16: ='2. 25 main suppliers'!E84*'2. 25 main suppliers'!E84 -> 0.0068874729 | F16: ='2. 25 main suppliers'!F84*'2. 25 main suppliers'!F84 -> 0.0089147035 | G16: ='2. 25 main suppliers'!G84*'2. 25 main suppliers'!G84 -> 0.0066144425 | H16: ='2. 25 main suppliers'!H84*'2. 25 main suppliers'!H84 -> 0.0052070538 | I16: ='2. 25 main suppliers'!I84*'2. 25 main suppliers'!I84 -> 0.0021503782 | ... Z16: ='2. 25 main suppliers'!Z84*'2. 25 main suppliers'!Z84 -> 8.8839242e-06 | AA16: =SUM(B16:Z16) -> 0.098683474 | AB16: =(AA16-AA15)/AA15*100 -> 3.105518 | AC16: =1/AA16 -> 10.133409 | AD16: =(AC16-AC15)/AC15*100 -> -3.0119804
A17: 2010 | B17: ='2. 25 main suppliers'!B85*'2. 25 main suppliers'!B85 -> 0.056587289 | C17: ='2. 25 main suppliers'!C85*'2. 25 main suppliers'!C85 -> 0.0025473328 | D17: ='2. 25 main suppliers'!D85*'2. 25 main suppliers'!D85 -> 0.0076227812 | E17: ='2. 25 main suppliers'!E85*'2. 25 main suppliers'!E85 -> 0.0073424689 | F17: ='2. 25 main suppliers'!F85*'2. 25 main suppliers'!F85 -> 0.0074712472 | G17: ='2. 25 main suppliers'!G85*'2. 25 main suppliers'!G85 -> 0.0064597249 | H17: ='2. 25 main suppliers'!H85*'2. 25 main suppliers'!H85 -> 0.0047286873 | I17: ='2. 25 main suppliers'!I85*'2. 25 main suppliers'!I85 -> 0.0020859685 | ... Z17: ='2. 25 main suppliers'!Z85*'2. 25 main suppliers'!Z85 -> 1.0961111e-05 | AA17: =SUM(B17:Z17) -> 0.099996135 | AB17: =(AA17-AA16)/AA16*100 -> 1.3301731 | AC17: =1/AA17 -> 10.000386 | AD17: =(AC17-AC16)/AC16*100 -> -1.3127117
A18: 2011 | B18: ='2. 25 main suppliers'!B86*'2. 25 main suppliers'!B86 -> 0.052643038 | C18: ='2. 25 main suppliers'!C86*'2. 25 main suppliers'!C86 -> 0.0046409765 | D18: ='2. 25 main suppliers'!D86*'2. 25 main suppliers'!D86 -> 0.0089963241 | E18: ='2. 25 main suppliers'!E86*'2. 25 main suppliers'!E86 -> 0.0067198856 | F18: ='2. 25 main suppliers'!F86*'2. 25 main suppliers'!F86 -> 0.006964223 | G18: ='2. 25 main suppliers'!G86*'2. 25 main suppliers'!G86 -> 0.0056588082 | H18: ='2. 25 main suppliers'!H86*'2. 25 main suppliers'!H86 -> 0.0044947265 | I18: ='2. 25 main suppliers'!I86*'2. 25 main suppliers'!I86 -> 0.0017818153 | ... Z18: ='2. 25 main suppliers'!Z86*'2. 25 main suppliers'!Z86 -> 1.2620362e-05 | AA18: =SUM(B18:Z18) -> 0.097108078 | AB18: =(AA18-AA17)/AA17*100 -> -2.8881692 | AC18: =1/AA18 -> 10.297805 | AD18: =(AC18-AC17)/AC17*100 -> 2.9740652
... A30: 2023 | B30: ='2. 25 main suppliers'!B98*'2. 25 main suppliers'!B98 -> 0.024302488 | C30: ='2. 25 main suppliers'!C98*'2. 25 main suppliers'!C98 -> 0.022239016 | D30: ='2. 25 main suppliers'!D98*'2. 25 main suppliers'!D98 -> 0.0064666152 | E30: ='2. 25 main suppliers'!E98*'2. 25 main suppliers'!E98 -> 0.0049343192 | F30: ='2. 25 main suppliers'!F98*'2. 25 main suppliers'!F98 -> 0.006343857 | G30: ='2. 25 main suppliers'!G98*'2. 25 main suppliers'!G98 -> 0.0042135756 | H30: ='2. 25 main suppliers'!H98*'2. 25 main suppliers'!H98 -> 0.0012666988 | I30: ='2. 25 main suppliers'!I98*'2. 25 main suppliers'!I98 -> 0.0029971905 | ... Z30: ='2. 25 main suppliers'!Z98*'2. 25 main suppliers'!Z98 -> 3.6158545e-06 | AA30: =SUM(B30:Z30) -> 0.081324164 | AB30: =(AA30-AA29)/AA29*100 -> -7.6724389 | AC30: =1/AA30 -> 12.296468 | AD30: =(AC30-AC29)/AC29*100 -> 8.3100202

Sheet 5. Geographic distance
A1: https://mpra.ub.uni-muenchen.de/36347/
A2: Year | B2: Country | C2: Kilometers between Spain and supplier | D2: Trade-weighted geographic distance (km) | E2: Sum of Trade-weighted geographic distance (km) | F2: Year-on-year percentage change of Sum of Trade-weighted geographic distance (km) | G2: Nearshoring index (Inverse of Sum of Trade-weighted geographic distance (km) ) | H2: Year-on-year percentage change of Nearshoring Index
A3: 1999 | B3: 1 (China) | C3: 9232.3 | D3: 1289.75 | E3: =D3+D29+D55+D81+D107+D133+D159+D185+D211+D237+D263+D289+D315+D341+D367+D393+D419+D445+D471+D549+D523+D575+D601+D627 -> 3170.33 | G3: =1/E3 -> 0.00031542458
A4: 2000 | B4: 1 | C4: 9232.3 | D4: 1283.29 | E4: =D4+D30+D56+D82+D108+D134+D160+D186+D212+D238+D264+D290+D316+D342+D368+D394+D420+D446+D472+D550+D524+D576+D602+D628 -> 3209.4 | F4: =(E4-E3)/E3*100 -> 1.2323638 | G4: =1/E4 -> 0.00031158472 | H4: =(G4-G3)/G3*100 -> -1.2173615
A5: 2001 | B5: 1 | C5: 9232.3 | D5: 1235.28 | E5: =D5+D31+D57+D83+D109+D135+D161+D187+D213+D239+D265+D291+D317+D343+D369+D395+D421+D447+D473+D551+D525+D577+D603+D629 -> 3134.45 | F5: =(E5-E4)/E4*100 -> -2.3353275 | G5: =1/E5 -> 0.00031903524 | H5: =(G5-G4)/G4*100 -> 2.3911691
A6: 2002 | B6: 1 | C6: 9232.3 | D6: 1284.21 | E6: =D6+D32+D58+D84+D110+D136+D162+D188+D214+D240+D266+D292+D318+D344+D370+D396+D422+D448+D474+D552+D526+D578+D604+D630 -> 3247.87 | F6: =(E6-E5)/E5*100 -> 3.6184977 | G6: =1/E6 -> 0.0003078941 | H6: =(G6-G5)/G5*100 -> -3.4921348
A7: 2003 | B7: 1 | C7: 9232.3 | D7: 1290.68 | E7: =D7+D33+D59+D85+D111+D137+D163+D189+D215+D241+D267+D293+D319+D345+D371+D397+D423+D449+D475+D553+D527+D579+D605+D631 -> 3191.79 | F7: =(E7-E6)/E6*100 -> -1.7266701 | G7: =1/E7 -> 0.00031330382 | H7: =(G7-G6)/G6*100 -> 1.7570078
A8: 2004 | B8: 1 | C8: 9232.3 | D8: 1394.08 | E8: =D8+D34+D60+D86+D112+D138+D164+D190+D216+D242+D268+D294+D320+D346+D372+D398+D424+D450+D476+D554+D528+D580+D606+D632 -> 3325.26 | F8: =(E8-E7)/E7*100 -> 4.1816661 | G8: =1/E8 -> 0.00030072836 | H8: =(G8-G7)/G7*100 -> -4.0138215
A9: 2005 | B9: 1 | C9: 9232.3 | D9: 1819.69 | E9: =D9+D35+D61+D87+D113+D139+D165+D191+D217+D243+D269+D295+D321+D347+D373+D399+D425+D451+D477+D555+D529+D581+D607+D633 -> 3716.76 | F9: =(E9-E8)/E8*100 -> 11.773515 | G9: =1/E9 -> 0.00026905154 | H9: =(G9-G8)/G8*100 -> -10.533368
A10: 2006 | B10: 1 | C10: 9232.3 | D10: 1786.45 | E10: =D10+D36+D62+D88+D114+D140+D166+D192+D218+D244+D270+D296+D322+D348+D374+D400+D426+D452+D478+D556+D530+D582+D608+D634 -> 3847.89 | F10: =(E10-E9)/E9*100 -> 3.5280728 | G10: =1/E10 -> 0.00025988269 | H10: =(G10-G9)/G9*100 -> -3.4078417
A11: 2007 | B11: 1 | C11: 9232.3 | D11: 1855.69 | E11: =D11+D37+D63+D89+D115+D141+D167+D193+D219+D245+D271+D297+D323+D349+D375+D401+D427+D453+D479+D557+D531+D583+D609+D635 -> 3781.68 | F11: =(E11-E10)/E10*100 -> -1.7206833 | G11: =1/E11 -> 0.00026443274 | H11: =(G11-G10)/G10*100 -> 1.7508092
A12: 2008 | B12: 1 | C12: 9232.3 | D12: 1908.32 | E12: =D12+D38+D64+D90+D116+D142+D168+D194+D220+D246+D272+D298+D324+D350+D376+D402+D428+D454+D480+D558+D532+D584+D610+D636 -> 3903.09 | F12: =(E12-E11)/E11*100 -> 3.2104779 | G12: =1/E12 -> 0.00025620726 | H12: =(G12-G11)/G11*100 -> -3.1106124
A13: 2009 | B13: 1 | C13: 9232.3 | D13: 2157.59 | E13: =D13+D39+D65+D91+D117+D143+D169+D195+D221+D247+D273+D299+D325+D351+D377+D403+D429+D455+D481+D559+D533+D585+D611+D637 -> 4308.81 | F13: =(E13-E12)/E12*100 -> 10.394841 | G13: =1/E13 -> 0.00023208264 | H13: =(G13-G12)/G12*100 -> -9.4160569
A14: 2010 | B14: 1 | C14: 9232.3 | D14: 2196.36 | E14: =D14+D40+D66+D92+D118+D144+D170+D196+D222+D248+D274+D300+D326+D352+D378+D404+D430+D456+D482+D560+D534+D586+D612+D638 -> 4378.71 | F14: =(E14-E13)/E13*100 -> 1.6222577 | G14: =1/E14 -> 0.00022837776 | H14: =(G14-G13)/G13*100 -> -1.5963606
A15: 2011 | B15: 1 | C15: 9232.3 | D15: 2117.89 | E15: =D15+D41+D67+D93+D119+D145+D171+D197+D223+D249+D275+D301+D327+D353+D379+D405+D431+D457+D483+D561+D535+D587+D613+D639 -> 4465.66 | F15: =(E15-E14)/E14*100 -> 1.9857447 | G15: =1/E15 -> 0.00022393107 | H15: =(G15-G14)/G14*100 -> -1.9470806
... A27: 2023 | B27: 1 | C27: 9232.3 | D27: 1439.32 | E27: =D27+D53+D79+D105+D131+D157+D183+D209+D235+D261+D287+D313+D339+D365+D391+D417+D443+D469+D495+D573+D547+D599+D625+D651 -> 4881.11 | F27: =(E27-E26)/E26*100 -> -0.48583673 | G27: =1/E27 -> 0.00020487143 | H27: =(G27-G26)/G26*100 -> 0.48820862
A29: 1999 | B29: 2 (Bangladesh) | C29: 8661.47 | D29: 159.37
A30: 2000 | B30: 2 | C30: 8661.47 | D30: 174.1
A31: 2001 | B31: 2 | C31: 8661.47 | D31: 185.36
A32: 2002 | B32: 2 | C32: 8661.47 | D32: 227.8
A33: 2003 | B33: 2 | C33: 8661.47 | D33: 286.69
A34: 2004 | B34: 2 | C34: 8661.47 | D34: 353.39
A35: 2005 | B35: 2 | C35: 8661.47 | D35: 323.07
A36: 2006 | B36: 2 | C36: 8661.47 | D36: 359.45
A37: 2007 | B37: 2 | C37: 8661.47 | D37: 301.42
A38: 2008 | B38: 2 | C38: 8661.47 | D38: 331.73
A39: 2009 | B39: 2 | C39: 8661.47 | D39: 403.62
A40: 2010 | B40: 2 | C40: 8661.47 | D40: 437.4
A41: 2011 | B41: 2 | C41: 8661.47 | D41: 589.85
... A53: 2023 | B53: 2 | C53: 8661.47 | D53: 1291.43
A55: 1999 | B55: 3 (Turkiye) | C55: 2740.03 | D55: 65.21
A56: 2000 | B56: 3 | C56: 2740.03 | D56: 64.66
A57: 2001 | B57: 3 | C57: 2740.03 | D57: 63.02
A58: 2002 | B58: 3 | C58: 2740.03 | D58: 82.47
A59: 2003 | B59: 3 | C59: 2740.03 | D59: 112.34
A60: 2004 | B60: 3 | C60: 2740.03 | D60: 151.25
A61: 2005 | B61: 3 | C61: 2740.03 | D61: 167.96
A62: 2006 | B62: 3 | C62: 2740.03 | D62: 185.23
A63: 2007 | B63: 3 | C63: 2740.03 | D63: 211.8
A64: 2008 | B64: 3 | C64: 2740.03 | D64: 194.82
A65: 2009 | B65: 3 | C65: 2740.03 | D65: 221.39
A66: 2010 | B66: 3 | C66: 2740.03 | D66: 239.2
A67: 2011 | B67: 3 | C67: 2740.03 | D67: 259.75
... A79: 2023 | B79: 3 | C79: 2740.03 | D79: 220.3
A81: 1999 | B81: 4 (Morocco) | C81: 762.65 | D81: 41.87
A82: 2000 | B82: 4 | C82: 762.65 | D82: 47.97
A83: 2001 | B83: 4 | C83: 762.65 | D83: 67.49
A84: 2002 | B84: 4 | C84: 762.65 | D84: 69.48
A85: 2003 | B85: 4 | C85: 762.65 | D85: 77.87
A86: 2004 | B86: 4 | C86: 762.65 | D86: 70.16
A87: 2005 | B87: 4 | C87: 762.65 | D87: 63.61
A88: 2006 | B88: 4 | C88: 762.65 | D88: 69.33
A89: 2007 | B89: 4 | C89: 762.65 | D89: 72.3
A90: 2008 | B90: 4 | C90: 762.65 | D90: 64.83
A91: 2009 | B91: 4 | C91: 762.65 | D91: 63.3
A92: 2010 | B92: 4 | C92: 762.65 | D92: 65.36
A93: 2011 | B93: 4 | C93: 762.65 | D93: 62.54
... A105: 2023 | B105: 4 | C105: 762.65 | D105: 53.54
A107: 1999 | B107: 5 (Italy) | C107: 1366.76 | D107: 207.06
A108: 2000 | B108: 5 | C108: 1366.76 | D108: 202.01
A109: 2001 | B109: 5 | C109: 1366.76 | D109: 202.55
A110: 2002 | B110: 5 | C110: 1366.76 | D110: 175.9
A111: 2003 | B111: 5 | C111: 1366.76 | D111: 173.17
A112: 2004 | B112: 5 | C112: 1366.76 | D112: 176.04
A113: 2005 | B113: 5 | C113: 1366.76 | D113: 163.05
A114: 2006 | B114: 5 | C114: 1366.76 | D114: 152.94
A115: 2007 | B115: 5 | C115: 1366.76 | D115: 159.5
A116: 2008 | B116: 5 | C116: 1366.76 | D116: 140.64
A117: 2009 | B117: 5 | C117: 1366.76 | D117: 129.02
A118: 2010 | B118: 5 | C118: 1366.76 | D118: 118.09
A119: 2011 | B119: 5 | C119: 1366.76 | D119: 114.12
... A131: 2023 | B131: 5 | C131: 1366.76 | D131: 108.79
A133: 1999 | B133: 6 (France) | C133: 1054.66 | D133: 105.04
A134: 2000 | B134: 6 | C134: 1054.66 | D134: 97.56
A135: 2001 | B135: 6 | C135: 1054.66 | D135: 94.6
A136: 2002 | B136: 6 | C136: 1054.66 | D136: 94.81
A137: 2003 | B137: 6 | C137: 1054.66 | D137: 92.92
A138: 2004 | B138: 6 | C138: 1054.66 | D138: 95.87
A139: 2005 | B139: 6 | C139: 1054.66 | D139: 98.19
A140: 2006 | B140: 6 | C140: 1054.66 | D140: 93.76
A141: 2007 | B141: 6 | C141: 1054.66 | D141: 101.46
A142: 2008 | B142: 6 | C142: 1054.66 | D142: 134.47
A143: 2009 | B143: 6 | C143: 1054.66 | D143: 85.74
A144: 2010 | B144: 6 | C144: 1054.66 | D144: 84.79
A145: 2011 | B145: 6 | C145: 1054.66 | D145: 79.31
... A157: 2023 | B157: 6 | C157: 1054.66 | D157: 68.45
B158: 6
A159: 1999 | B159: 7 | C159: 500.92 | D159: 47.19
A160: 2000 | B160: 7 | C160: 500.92 | D160: 50.39
A161: 2001 | B161: 7 | C161: 500.92 | D161: 50.64
A162: 2002 | B162: 7 | C162: 500.92 | D162: 51.59
A163: 2003 | B163: 7 | C163: 500.92 | D163: 54.4
A164: 2004 | B164: 7 | C164: 500.92 | D164: 45.53
A165: 2005 | B165: 7 | C165: 500.92 | D165: 40.78
A166: 2006 | B166: 7 | C166: 500.92 | D166: 36.77
A167: 2007 | B167: 7 | C167: 500.92 | D167: 38.07
A168: 2008 | B168: 7 | C168: 500.92 | D168: 33.66
A169: 2009 | B169: 7 | C169: 500.92 | D169: 36.17
A170: 2010 | B170: 7 | C170: 500.92 | D170: 34.46
... A183: 2023 | B183: 7 | C183: 500.92 | D183: 17.83
...

Sheet 6. Geopolitical alignment
A1: https://doi.org/10.7910/DVN/LEJUQZ | D1: https://dataverse.harvard.edu/file.xhtml?fileId=10295876&version=37.0
A2: "Agreement Scores All (Jun 2024)" between Spain and their suppliers | AF2: Percentage change in geopolitical alignment between Spain and its suppliers
A3: Year/Supplier | B3: China | C3: Bangladesh | D3: Türkiye | E3: Morocco | F3: Italy (incl. San Marino 'SM' -> 1993) | G3: France (incl. Saint Barthélemy 'BL' -> 2012; incl. French Guiana 'GF', Guadeloupe 'GP', Martinique 'MQ', Réunion 'RE' from 1997; incl. Mayotte 'YT' from 2014) | H3: Portugal | I3: Germany (incl. German Democratic Republic 'DD' from 1991) | J3: India | K3: Netherlands | L3: Belgium (incl. Luxembourg 'LU' -> 1998) | M3: Pakistan | N3: Cambodia | O3: Viet Nam (incl. North Viet Nam 'VD' from 1977) | P3: United Kingdom | Q3: Myanmar (Burma) | R3: Denmark | S3: Tunisia | T3: Malaysia | U3: Indonesia (incl. East Timor 'TP' from 1977 -> 2000) | V3: Thailand | W3: Egypt | X3: Hong Kong | Y3: Poland | Z3: Romania | AA3: Average geopolitical alignment per year | AB3: Geopolitical Alignment: semiproximity suppliers | AC3: Geopolitical Alignment European suppliers | AD3: Geopolitical Alignment Asian suppliers | AG3: China | AH3: Bangladesh | AI3: Türkiye | AJ3: Morocco | AK3: Italy (incl. San Marino 'SM' -> 1993) | AL3: France (incl. Saint Barthélemy 'BL' -> 2012; incl. French Guiana 'GF', Guadeloupe 'GP', Martinique 'MQ', Réunion 'RE' from 1997; incl. Mayotte 'YT' from 2014) | AM3: Portugal | AN3: Germany (incl. German Democratic Republic 'DD' from 1991) | AO3: India | AP3: Netherlands | AQ3: Belgium (incl. Luxembourg 'LU' -> 1998) | AR3: Pakistan | AS3: Cambodia | AT3: Viet Nam (incl. North Viet Nam 'VD' from 1977) | AU3: United Kingdom | AV3: Myanmar (Burma) | AW3: Denmark | AX3: Tunisia | AY3: Malaysia | AZ3: Indonesia (incl. East Timor 'TP' from 1977 -> 2000) | BA3: Thailand | BB3: Egypt | BC3: Hong Kong | BD3: Poland | BE3: Romania
A4: 1999 | B4: 0.64606742 | C4: 0.68617021 | D4: 0.90697674 | E4: 0.64606742 | F4: 0.99468085 | G4: 0.90659341 | H4: 0.99468085 | I4: 0.97340426 | J4: 0.55434783 | K4: 0.9787234 | L4: 0.98404255 | M4: 0.59677419 | N4: 0.64772727 | O4: 0.60759494 | P4: 0.91847826 | Q4: ='6. Geopolitical alignment'!C33 -> 0.090256 | R4: 0.98404255 | S4: 0.67934783 | T4: 0.68817204 | U4: 0.6576087 | V4: 0.70744681 | W4: 0.64893617 | X4: 0.64606742 | Y4: 0.9893617 | Z4: 0.99468085 | AA4: =AVERAGE(B4:Z4) -> 0.76512999 | AB4: =(D4+E4+S4+W4)/4 -> 0.72033204 | AC4: =(F4+G4+H4+I4+K4+L4+P4+R4+Y4+Z4)/10 -> 0.97186887 | AD4: =(B4+C4+J4+M4+N4+O4+Q4+T4+U4+V4+X4)/11 -> 0.59347571 | AF4: 1999
A5: 2000 | B5: 0.71052632 | C5: 0.75324675 | D5: 0.91216216 | E5: 0.72142857 | F5: 0.98026316 | G5: 0.91891892 | H5: 0.99350649 | I5: 0.96753247 | J5: 0.64935065 | K5: 0.97402597 | L5: 0.97402597 | M5: 0.64383562 | N5: 0.75675676 | O5: 0.71323529 | P5: 0.92207792 | Q5: 0.7 | R5: 0.98051948 | S5: 0.72666667 | T5: 0.74675325 | U5: 0.73684211 | V5: 0.79220779 | W5: 0.67105263 | X5: 0.71052632 | Y5: 0.98051948 | Z5: 0.98701299 | AA5: =AVERAGE(B5:Z5) -> 0.82491975 | AB5: =(D5+E5+S5+W5)/4 -> 0.75782751 | AC5: =(F5+G5+H5+I5+K5+L5+P5+R5+Y5+Z5)/10 -> 0.96784029 | AD5: =(B5+C5+J5+M5+N5+O5+Q5+T5+U5+V5+X5)/11 -> 0.71938917 | AF5: 2000 | AG5: =((B5-B4)/B4)*100 -> 9.9771167 | AH5: =((C5-C4)/C4)*100 -> 9.7754958 | AI5: =((D5-D4)/D4)*100 -> 0.57172557 | AJ5: =((E5-E4)/E4)*100 -> 11.664596 | AK5: =((F5-F4)/F4)*100 -> -1.4494793 | AL5: =((G5-G4)/G4)*100 -> 1.3595414 | AM5: =((H5-H4)/H4)*100 -> -0.11806375 | AN5: =((I5-I4)/I4)*100 -> -0.60322191 | ... BE5: =((Z5-Z4)/Z4)*100 -> -0.77088687
A6: 2001 | B6: 0.70731707 | C6: 0.74390244 | D6: 0.91558442 | E6: 0.7012987 | F6: 0.98765432 | G6: 0.93670886 | H6: 0.9939759 | I6: 0.97590361 | J6: 0.6125 | K6: 0.97590361 | L6: 0.98181751 | M6: 0.64375 | N6: 0.74675325 | O6: 0.66666667 | P6: 0.90963855 | Q6: 0.66666667 | R6: 0.97590361 | S6: 0.69135802 | T6: 0.71604938 | U6: 0.73170732 | V6: 0.75903614 | W6: 0.68902439 | X6: 0.70731707 | Y6: 0.98192771 | Z6: 0.98780488 | AA6: =AVERAGE(B6:Z6) -> 0.81624681 | AB6: =(D6+E6+S6+W6)/4 -> 0.74931638 | AC6: =(F6+G6+H6+I6+K6+L6+P6+R6+Y6+Z6)/10 -> 0.97072386 | AD6: =(B6+C6+J6+M6+N6+O6+Q6+T6+U6+V6+X6)/11 -> 0.70015146 | AF6: 2001 | AG6: =((B6-B5)/B5)*100 -> -0.45167118 | AH6: =((C6-C5)/C5)*100 -> -1.2405383 | AI6: =((D6-D5)/D5)*100 -> 0.37518038 | AJ6: =((E6-E5)/E5)*100 -> -2.790279 | AK6: =((F6-F5)/F5)*100 -> 0.75399785 | AL6: =((G6-G5)/G5)*100 -> 1.9359643 | AM6: =((H6-H5)/H5)*100 -> 0.047247815 | AN6: =((I6-I5)/I5)*100 -> 0.86520579 | ... BE6: =((Z6-Z5)/Z5)*100 -> 0.080231065
A7: 2002 | B7: 0.63861386 | C7: 0.66346154 | D7: 0.92307692 | E7: 0.66831683 | F7: 0.98571429 | G7: 0.92380952 | H7: 0.98514851 | I7: 0.98058252 | J7: 0.65384615 | K7: 0.96153846 | L7: 0.97367216 | M7: 0.61650485 | N7: 0.71 | O7: 0.65517241 | P7: 0.91428571 | Q7: 0.63461538 | R7: 0.98076923 | S7: 0.66346154 | T7: 0.66346154 | U7: 0.67307692 | V7: 0.76190476 | W7: 0.625 | X7: 0.63861386 | Y7: 0.98076923 | Z7: 0.99029126 | AA7: =AVERAGE(B7:Z7) -> 0.7946283 | AB7: =(D7+E7+S7+W7)/4 -> 0.71996382 | AC7: =(F7+G7+H7+I7+K7+L7+P7+R7+Y7+Z7)/10 -> 0.96765809 | AD7: =(B7+C7+J7+M7+N7+O7+Q7+T7+U7+V7+X7)/11 -> 0.66447921 | AF7: 2002 | AG7: =((B7-B6)/B6)*100 -> -9.7132127 | AH7: =((C7-C6)/C6)*100 -> -10.813367 | AI7: =((D7-D6)/D6)*100 -> 0.81833061 | AJ7: =((E7-E6)/E6)*100 -> -4.7029703 | AK7: =((F7-F6)/F6)*100 -> -0.19642857 | AL7: =((G7-G6)/G6)*100 -> -1.3770914 | AM7: =((H7-H6)/H6)*100 -> -0.88808881 | AN7: =((I7-I6)/I6)*100 -> 0.47944385 | ... BE7: =((Z7-Z6)/Z6)*100 -> 0.25170802
A8: 2003 | B8: 0.68131868 | C8: 0.6978022 | D8: 0.91758242 | E8: 0.67741935 | F8: 0.96774194 | G8: 0.92473118 | H8: 0.9673913 | I8: 0.94086022 | J8: 0.66666667 | K8: 0.95698925 | L8: 0.95406732 | M8: 0.6827957 | N8: 0.72580645 | O8: 0.69512195 | P8: 0.89247312 | Q8: 0.66483516 | R8: 0.95698925 | S8: 0.67934783 | T8: 0.6827957 | U8: 0.71505376 | V8: 0.74193548 | W8: 0.67741935 | X8: 0.68131868 | Y8: 0.96703297 | Z8: 0.96666667 | AA8: =AVERAGE(B8:Z8) -> 0.8032865 | AB8: =(D8+E8+S8+W8)/4 -> 0.73794224 | AC8: =(F8+G8+H8+I8+K8+L8+P8+R8+Y8+Z8)/10 -> 0.94949432 | AD8: =(B8+C8+J8+M8+N8+O8+Q8+T8+U8+V8+X8)/11 -> 0.69413186 | AF8: 2003 | AG8: =((B8-B7)/B7)*100 -> 6.6871113 | AH8: =((C8-C7)/C7)*100 -> 5.1759834 | AI8: =((D8-D7)/D7)*100 -> -0.5952381 | AJ8: =((E8-E7)/E7)*100 -> 1.3620072 | AK8: =((F8-F7)/F7)*100 -> -1.8232819 | AL8: =((G8-G7)/G7)*100 -> 0.09976721 | AM8: =((H8-H7)/H7)*100 -> -1.8024907 | AN8: =((I8-I7)/I7)*100 -> -4.050889 | ... BE8: =((Z8-Z7)/Z7)*100 -> -2.3856209
A9: 2004 | B9: 0.68235294 | C9: 0.65517241 | D9: 0.90361446 | E9: 0.67857143 | F9: 0.97093023 | G9: 0.94186047 | H9: 0.97126437 | I9: 0.95348837 | J9: 0.63218391 | K9: 0.97126437 | L9: 0.96764706 | M9: 0.65882353 | N9: 0.71686747 | O9: 0.66447368 | P9: 0.9137931 | Q9: 0.67647059 | R9: 0.97126437 | S9: 0.69642857 | T9: 0.66091954 | U9: 0.68390805 | V9: 0.75862069 | W9: 0.64705882 | X9: 0.68235294 | Y9: 0.95930233 | Z9: 0.97126437 | AA9: =AVERAGE(B9:Z9) -> 0.79959592 | AB9: =(D9+E9+S9+W9)/4 -> 0.73141832 | AC9: =(F9+G9+H9+I9+K9+L9+P9+R9+Y9+Z9)/10 -> 0.9592079 | AD9: =(B9+C9+J9+M9+N9+O9+Q9+T9+U9+V9+X9)/11 -> 0.67928598 | AF9: 2004 | AG9: =((B9-B8)/B8)*100 -> 0.15180266 | AH9: =((C9-C8)/C8)*100 -> -6.1091501 | AI9: =((D9-D8)/D8)*100 -> -1.5222567 | AJ9: =((E9-E8)/E8)*100 -> 0.17006803 | AK9: =((F9-F8)/F8)*100 -> 0.32945736 | AL9: =((G9-G8)/G8)*100 -> 1.8523526 | AM9: =((H9-H8)/H8)*100 -> 0.40036162 | AN9: =((I9-I8)/I8)*100 -> 1.3421927 | ... BE9: =((Z9-Z8)/Z8)*100 -> 0.47562426
A10: 2005 | B10: 0.71212121 | C10: 0.73267327 | D10: 0.9375 | E10: 0.7020202 | F10: 0.96875 | G10: 0.92574257 | H10: 0.99009901 | I10: 0.94554455 | J10: 0.71782178 | K10: 0.95544554 | L10: 0.96039604 | M10: 0.70103093 | N10: 0.76966292 | O10: 0.67307692 | P10: 0.9009901 | Q10: 0.70430108 | R10: 0.95544554 | S10: 0.70833333 | T10: 0.68811881 | U10: 0.71 | V10: 0.77722772 | W10: 0.66831683 | X10: 0.71212121 | Y10: 0.96534653 | Z10: 0.97029703 | AA10: =AVERAGE(B10:Z10) -> 0.81809533 | AB10: =(D10+E10+S10+W10)/4 -> 0.75404259 | AC10: =(F10+G10+H10+I10+K10+L10+P10+R10+Y10+Z10)/10 -> 0.95380569 | AD10: =(B10+C10+J10+M10+N10+O10+Q10+T10+U10+V10+X10)/11 -> 0.71801417 | AF10: 2005 | AG10: =((B10-B9)/B9)*100 -> 4.3625914 | AH10: =((C10-C9)/C9)*100 -> 11.829078 | AI10: =((D10-D9)/D9)*100 -> 3.75 | AJ10: =((E10-E9)/E9)*100 -> 3.4556087 | AK10: =((F10-F9)/F9)*100 -> -0.2245509 | AL10: =((G10-G9)/G9)*100 -> -1.7112822 | AM10: =((H10-H9)/H9)*100 -> 1.939188 | AN10: =((I10-I9)/I9)*100 -> -0.83313209 | ... BE10: =((Z10-Z9)/Z9)*100 -> -0.099595758
A11: 2006 | B11: 0.66972477 | C11: 0.67889908 | D11: 0.9212963 | E11: 0.69545455 | F11: 0.96428571 | G11: 0.94196429 | H11: 0.98214286 | I11: 0.97767857 | J11: 0.64864865 | K11: 0.97767857 | L11: 0.97739558 | M11: 0.66055046 | N11: 0.72330097 | O11: 0.635 | P11: 0.92410714 | Q11: 0.645 | R11: 0.98214286 | S11: 0.69158879 | T11: 0.69196429 | U11: 0.67857143 | V11: 0.73660714 | W11: 0.62946429 | X11: 0.66972477 | Y11: 0.97747748 | Z11: 0.97272727 | AA11: =AVERAGE(B11:Z11) -> 0.80213583 | AB11: =(D11+E11+S11+W11)/4 -> 0.73445098 | AC11: =(F11+G11+H11+I11+K11+L11+P11+R11+Y11+Z11)/10 -> 0.96776003 | AD11: =(B11+C11+J11+M11+N11+O11+Q11+T11+U11+V11+X11)/11 -> 0.67618105 | AF11: 2006 | AG11: =((B11-B10)/B10)*100 -> -5.9535428 | AH11: =((C11-C10)/C10)*100 -> -7.3394495 | AI11: =((D11-D10)/D10)*100 -> -1.7283951 | AJ11: =((E11-E10)/E10)*100 -> -0.9352518 | AK11: =((F11-F10)/F10)*100 -> -0.46082949 | AL11: =((G11-G10)/G10)*100 -> 1.7522918 | AM11: =((H11-H10)/H10)*100 -> -0.80357143 | AN11: =((I11-I10)/I10)*100 -> 3.3984667 | ... BE11: =((Z11-Z10)/Z10)*100 -> 0.25046382
A12: 2007 | B12: 0.70108696 | C12: 0.70430108 | D12: 0.91954023 | E12: 0.72043011 | F12: 0.98387097 | G12: 0.89673913 | H12: 0.99462366 | I12: 0.98924731 | J12: 0.62365591 | K12: 0.98387097 | L12: 0.98655914 | M12: 0.66129032 | N12: 0.75287356 | O12: 0.68539326 | P12: 0.8655914 | Q12: 0.67741935 | R12: 0.98924731 | S12: 0.72413793 | T12: 0.67741935 | U12: 0.69892473 | V12: 0.75806452 | W12: 0.67741935 | X12: 0.70108696 | Y12: 0.96774194 | Z12: 0.97849462 | AA12: =AVERAGE(B12:Z12) -> 0.8127612 | AB12: =(D12+E12+S12+W12)/4 -> 0.76038191 | AC12: =(F12+G12+H12+I12+K12+L12+P12+R12+Y12+Z12)/10 -> 0.96359864 | AD12: =(B12+C12+J12+M12+N12+O12+Q12+T12+U12+V12+X12)/11 -> 0.69468327 | AF12: 2007 | AG12: =((B12-B11)/B11)*100 -> 4.6828469 | AH12: =((C12-C11)/C11)*100 -> 3.7416449 | AI12: =((D12-D11)/D11)*100 -> -0.19060821 | AJ12: =((E12-E11)/E11)*100 -> 3.5912573 | AK12: =((F12-F11)/F11)*100 -> 2.0310633 | AL12: =((G12-G11)/G11)*100 -> -4.8011539 | AM12: =((H12-H11)/H11)*100 -> 1.2707722 | AN12: =((I12-I11)/I11)*100 -> 1.1832867 | ... BE12: =((Z12-Z11)/Z11)*100 -> 0.59290524
A13: 2008 | B13: 0.66666667 | C13: 0.70430108 | D13: 0.9137931 | E13: 0.69892473 | F13: 0.98947368 | G13: 0.92105263 | H13: 0.99473684 | I13: 0.98947368 | J13: 0.61702128 | K13: 0.9787234 | L13: 0.99204927 | M13: 0.61702128 | N13: 0.76966292 | O13: 0.63580247 | P13: 0.90425532 | Q13: 0.63978495 | R13: 0.98404255 | S13: 0.6954023 | T13: 0.68617021 | U13: 0.69473684 | V13: 0.74468085 | W13: 0.62105263 | X13: 0.66666667 | Y13: 0.98421053 | Z13: 0.98947368 | AA13: =AVERAGE(B13:Z13) -> 0.80396718 | AB13: =(D13+E13+S13+W13)/4 -> 0.73229319 | AC13: =(F13+G13+H13+I13+K13+L13+P13+R13+Y13+Z13)/10 -> 0.97274916 | AD13: =(B13+C13+J13+M13+N13+O13+Q13+T13+U13+V13+X13)/11 -> 0.67659229 | AF13: 2008 | AG13: =((B13-B12)/B12)*100 -> -4.9095607 | AH13: =((C13-C12)/C12)*100 -> 0 | AI13: =((D13-D12)/D12)*100 -> -0.625 | AJ13: =((E13-E12)/E12)*100 -> -2.9850746 | AK13: =((F13-F12)/F12)*100 -> 0.56945643 | AL13: =((G13-G12)/G12)*100 -> 2.7113238 | AM13: =((H13-H12)/H12)*100 -> 0.011379801 | AN13: =((I13-I12)/I12)*100 -> 0.022883295 | ... BE13: =((Z13-Z12)/Z12)*100 -> 1.1220359
A14: 2009 | B14: 0.69411765 | C14: 0.69135802 | D14: 0.90853659 | E14: 0.67058824 | F14: 0.98255814 | G14: 0.91860465 | H14: 0.99418605 | I14: 0.97674419 | J14: 0.61627907 | K14: 0.97093023 | L14: 0.99120986 | M14: 0.65294118 | N14: 0.66911765 | O14: 0.64 | P14: 0.9127907 | Q14: 0.63291139 | R14: 0.98255814 | S14: 0.65432099 | T14: 0.68235294 | U14: 0.68604651 | V14: 0.72093023 | W14: 0.62941176 | X14: 0.69411765 | Y14: 0.95930233 | Z14: 0.97674419 | AA14: =AVERAGE(B14:Z14) -> 0.79634633 | AB14: =(D14+E14+S14+W14)/4 -> 0.71571439 | AC14: =(F14+G14+H14+I14+K14+L14+P14+R14+Y14+Z14)/10 -> 0.96656285 | AD14: =(B14+C14+J14+M14+N14+O14+Q14+T14+U14+V14+X14)/11 -> 0.67092475 | AF14: 2009 | AG14: =((B14-B13)/B13)*100 -> 4.1176471 | AH14: =((C14-C13)/C13)*100 -> -1.8377156 | AI14: =((D14-D13)/D13)*100 -> -0.5752416 | AJ14: =((E14-E13)/E13)*100 -> -4.0542986 | AK14: =((F14-F13)/F13)*100 -> -0.69891143 | AL14: =((G14-G13)/G13)*100 -> -0.26578073 | AM14: =((H14-H13)/H13)*100 -> -0.055370986 | AN14: =((I14-I13)/I13)*100 -> -1.2864918 | ... BE14: =((Z14-Z13)/Z13)*100 -> -1.2864918
A15: 2010 | B15: 0.72674419 | C15: 0.74712644 | D15: 0.89285714 | E15: 0.77011494 | F15: 0.97590361 | G15: 0.88505747 | H15: 0.98275862 | I15: 0.97126437 | J15: 0.64367816 | K15: 0.95977011 | L15: 0.9683908 | M15: 0.6091954 | N15: 0.7797619 | O15: 0.74698795 | P15: 0.85632184 | Q15: 0.72619048 | R15: 0.97093023 | S15: 0.76219512 | T15: 0.73563218 | U15: 0.73837209 | V15: 0.7816092 | W15: 0.72988506 | X15: 0.72674419 | Y15: 0.97674419 | Z15: 0.96551724 | AA15: =AVERAGE(B15:Z15) -> 0.82519012 | AB15: =(D15+E15+S15+W15)/4 -> 0.78876307 | AC15: =(F15+G15+H15+I15+K15+L15+P15+R15+Y15+Z15)/10 -> 0.95126585 | AD15: =(B15+C15+J15+M15+N15+O15+Q15+T15+U15+V15+X15)/11 -> 0.72382202 | AF15: 2010 | AG15: =((B15-B14)/B14)*100 -> 4.7004336 | AH15: =((C15-C14)/C14)*100 -> 8.0665025 | AI15: =((D15-D14)/D14)*100 -> -1.725791 | AJ15: =((E15-E14)/E14)*100 -> 14.841702 | AK15: =((F15-F14)/F14)*100 -> -0.67726527 | AL15: =((G15-G14)/G14)*100 -> -3.6519715 | AM15: =((H15-H14)/H14)*100 -> -1.1494253 | AN15: =((I15-I14)/I14)*100 -> -0.56102901 | ... BE15: =((Z15-Z14)/Z14)*100 -> -1.1494253
A16: 2011 | B16: 0.66842105 | C16: 0.69791667 | D16: 0.93406593 | E16: 0.70618557 | F16: 0.97938144 | G16: 0.94329897 | H16: 0.98969072 | I16: 0.98969072 | J16: 0.61340206 | K16: 0.984375 | L16: 0.9871134 | M16: 0.58510638 | N16: 0.71176471 | O16: 0.66666667 | P16: 0.92268041 | Q16: 0.5875 | R16: 0.98969072 | S16: 0.703125 | T16: 0.7371134 | U16: 0.69072165 | V16: 0.74226804 | W16: 0.66666667 | X16: 0.66842105 | Y16: 0.99484536 | Z16: 0.984375 | AA16: =AVERAGE(B16:Z16) -> 0.80577946 | AB16: =(D16+E16+S16+W16)/4 -> 0.75251079 | AC16: =(F16+G16+H16+I16+K16+L16+P16+R16+Y16+Z16)/10 -> 0.97651418 | AD16: =(B16+C16+J16+M16+N16+O16+Q16+T16+U16+V16+X16)/11 -> 0.66993652 | AF16: 2011 | AG16: =((B16-B15)/B15)*100 -> -8.0252632 | AH16: =((C16-C15)/C15)*100 -> -6.5865385 | AI16: =((D16-D15)/D15)*100 -> 4.6153846 | AJ16: =((E16-E15)/E15)*100 -> -8.3012771 | AK16: =((F16-F15)/F15)*100 -> 0.35637012 | AL16: =((G16-G15)/G15)*100 -> 6.5805329 | AM16: =((H16-H15)/H15)*100 -> 0.70537168 | AN16: =((I16-I15)/I15)*100 -> 1.8971512 | ... BE16: =((Z16-Z15)/Z15)*100 -> 1.953125
... A28: 2023 | B28: 0.56976744 | C28: 0.63953488 | D28: 0.75 | E28: 0.65432099 | F28: 0.95977011 | G28: 0.91954023 | H28: 0.97126437 | I28: 0.94827586 | J28: 0.61046512 | K28: 0.92857143 | L28: 0.96264368 | M28: 0.62068966 | N28: 0.63095238 | O28: 0.61764706 | P28: 0.87209302 | Q28: 0.68823529 | R28: 0.96551724 | S28: 0.63855422 | T28: 0.62068966 | U28: 0.6091954 | V28: 0.66091954 | W28: 0.57471264 | X28: 0.56976744 | Y28: 0.94827586 | Z28: 0.93678161 | AA28: =AVERAGE(B28:Z28) -> 0.75472741 | AB28: =(D28+E28+S28+W28)/4 -> 0.65439696 | AC28: =(F28+G28+H28+I28+K28+L28+P28+R28+Y28+Z28)/10 -> 0.94127334 | AD28: =(B28+C28+J28+M28+N28+O28+Q28+T28+U28+V28+X28)/11 -> 0.62162399 | AF28: 2023 | AG28: =((B28-B27)/B27)*100 -> 1.0309278 | AH28: =((C28-C27)/C27)*100 -> -0.9009009 | AI28: =((D28-D27)/D27)*100 -> -17.105263 | AJ28: =((E28-E27)/E27)*100 -> -2.146591 | AK28: =((F28-F27)/F27)*100 -> -0.5952381 | AL28: =((G28-G27)/G27)*100 -> -3.030303 | AM28: =((H28-H27)/H27)*100 -> -0.58823529 | AN28: =((I28-I27)/I27)*100 -> -1.1976048 | ... BE28: =((Z28-Z27)/Z27)*100 -> -1.2121212
A29: Average | B29: =AVERAGE(B4:B28) -> 0.66245041 | C29: =AVERAGE(C4:C28) -> 0.69189396 | D29: =AVERAGE(D4:D28) -> 0.9042709 | E29: =AVERAGE(E4:E28) -> 0.69004172 | F29: =AVERAGE(F4:F28) -> 0.97789577 | G29: =AVERAGE(G4:G28) -> 0.92177628 | H29: =AVERAGE(H4:H28) -> 0.98535077 | I29: =AVERAGE(I4:I28) -> 0.96869552 | ... Z29: =AVERAGE(Z4:Z28) -> 0.97309541
A31: Trade-weighted geopolitical alignment (0 total disagreement; 1 total agreement) | I31: Sum of trade-weighted geopolitical alignment by year: semiproximate suppliers (Turkey, Morocco, Tunisia, Egypt)
A32: Country | B32: Año | C32: Trade-weighted geopolitical alignment | D32: Friendshoring Index (Sum of trade-weighted geopolitical alignment per year) | E32: Año | F32: Year-on-year percentage change of Friendshoring Index | K32: Year-on-year percentage change in geopolitical alignment
A33: 1 (China) | B33: 1999 | C33: 0.090256 | D33: =C33+C58+C83+C108+C133+C158+C183+C208+C233+C258+C283+C308+C333+C358+C383+C408+C433+C458+C483+C508+C533+C558+C583+C608+C633 -> 0.752834 | E33: 1999 | I33: 1999 | J33: =C83+C108+C458+C558 -> 0.063009
A34: 1 | B34: 2000 | C34: 0.098763 | D34: =C34+C59+C84+C109+C134+C159+C184+C209+C234+C259+C284+C309+C334+C359+C384+C409+C434+C459+C484+C509+C534+C559+C584+C609+C634 -> 0.774574 | E34: 2000 | F34: =(D34-D33)/D33*100 -> 2.8877548 | I34: 2000 | J34: =C84+C109+C459+C559 -> 0.074105 | K34: =(J34-J33)/J33*100 -> 17.610183
A35: 1 | B35: 2001 | C35: 0.094639 | D35: =C35+C60+C85+C110+C135+C160+C185+C210+C235+C260+C285+C310+C335+C360+C385+C410+C435+C460+C485+C510+C535+C560+C585+C610+C635 -> 0.779998 | E35: 2001 | F35: =(D35-D34)/D34*100 -> 0.70025588 | I35: 2001 | J35: =C85+C110+C460+C560 -> 0.089136 | K35: =(J35-J34)/J34*100 -> 20.283382
A36: 1 | B36: 2002 | C36: 0.088831 | D36: =C36+C61+C86+C111+C136+C161+C186+C211+C236+C261+C286+C311+C336+C361+C386+C411+C436+C461+C486+C511+C536+C561+C586+C611+C636 -> 0.769287 | E36: 2002 | F36: =(D36-D35)/D35*100 -> -1.3732086 | I36: 2002 | J36: =C86+C111+C461+C561 -> 0.095347 | K36: =(J36-J35)/J35*100 -> 6.9680039
A37: 1 | B37: 2003 | C37: 0.095248 | D37: =C37+C62+C87+C112+C137+C162+C187+C212+C237+C262+C287+C312+C337+C362+C387+C412+C437+C462+C487+C512+C537+C562+C587+C612+C637 -> 0.770293 | E37: 2003 | F37: =(D37-D36)/D36*100 -> 0.13077044 | I37: 2003 | J37: =C87+C112+C462+C562 -> 0.113579 | K37: =(J37-J36)/J36*100 -> 19.121734
A38: 1 | B38: 2004 | C38: 0.103035 | D38: =C38+C63+C88+C113+C138+C163+C188+C213+C238+C263+C288+C313+C338+C363+C388+C413+C438+C463+C488+C513+C538+C563+C588+C613+C638 -> 0.769226 | E38: 2004 | F38: =(D38-D37)/D37*100 -> -0.13851872 | I38: 2004 | J38: =C88+C113+C463+C563 -> 0.120786 | K38: =(J38-J37)/J37*100 -> 6.3453631
A39: 1 | B39: 2005 | C39: 0.140359 | D39: =C39+C64+C89+C114+C139+C164+C189+C214+C239+C264+C289+C314+C339+C364+C389+C414+C439+C464+C489+C514+C539+C564+C589+C614+C639 -> 0.792646 | E39: 2005 | F39: =(D39-D38)/D38*100 -> 3.0446189 | I39: 2005 | J39: =C89+C114+C464+C564 -> 0.124705 | K39: =(J39-J38)/J38*100 -> 3.2445813
A40: 1 | B40: 2006 | C40: 0.129592 | D40: =C40+C65+C90+C115+C140+C165+C190+C215+C240+C265+C290+C315+C340+C365+C390+C415+C440+C465+C490+C515+C540+C565+C590+C615+C640 -> 0.77954 | E40: 2006 | F40: =(D40-D39)/D39*100 -> -1.6534493 | I40: 2006 | J40: =C90+C115+C465+C565 -> 0.133326 | K40: =(J40-J39)/J39*100 -> 6.913115
A41: 1 | B41: 2007 | C41: 0.140918 | D41: =C41+C66+C91+C116+C141+C166+C191+C216+C241+C266+C291+C316+C341+C366+C391+C416+C441+C466+C491+C516+C541+C566+C591+C616+C641 -> 0.806833 | E41: 2007 | F41: =(D41-D40)/D40*100 -> 3.5011674 | I41: 2007 | J41: =C91+C116+C466+C566 -> 0.148226 | K41: =(J41-J40)/J40*100 -> 11.175615
A42: 1 | B42: 2008 | C42: 0.1378 | D42: =C42+C67+C92+C117+C142+C167+C192+C217+C242+C267+C292+C317+C342+C367+C392+C417+C442+C467+C492+C517+C542+C567+C592+C617+C642 -> 0.801601 | E42: 2008 | F42: =(D42-D41)/D41*100 -> -0.64846133 | I42: 2008 | J42: =C92+C117+C467+C567 -> 0.133923 | K42: =(J42-J41)/J41*100 -> -9.6494542
A43: 1 | B43: 2009 | C43: 0.162215 | D43: =C43+C68+C93+C118+C143+C168+C193+C218+C243+C268+C293+C318+C343+C368+C393+C418+C443+C468+C493+C518+C543+C568+C593+C618+C643 -> 0.781788 | E43: 2009 | F43: =(D43-D42)/D42*100 -> -2.4716786 | I43: 2009 | J43: =C93+C118+C468+C568 -> 0.139042 | K43: =(J43-J42)/J42*100 -> 3.8223457
A44: 1 | B44: 2010 | C44: 0.172892 | D44: =C44+C69+C94+C119+C144+C169+C194+C219+C244+C269+C294+C319+C344+C369+C394+C419+C444+C469+C494+C519+C544+C569+C594+C619+C644 -> 0.795983 | E44: 2010 | F44: =(D44-D43)/D43*100 -> 1.8157096 | I44: 2010 | J44: =C94+C119+C469+C569 -> 0.155952 | K44: =(J44-J43)/J43*100 -> 12.161793
A45: 1 | B45: 2011 | C45: 0.153336 | D45: =C45+C70+C95+C120+C145+C170+C195+C220+C245+C270+C295+C320+C345+C370+C395+C420+C445+C470+C495+C520+C545+C570+C595+C620+C645 -> 0.782391 | E45: 2011 | F45: =(D45-D44)/D44*100 -> -1.7075742 | I45: 2011 | J45: =C95+C120+C470+C570 -> 0.157387 | K45: =(J45-J44)/J44*100 -> 0.92015492
... A57: 1 | B57: 2023 | C57: 0.088827 | D57: =C57+C82+C107+C132+C157+C182+C207+C232+C257+C282+C307+C332+C357+C382+C407+C432+C457+C482+C507+C532+C557+C582+C607+C632+C657 -> 0.720264 | E57: 2023 | F57: =(D57-D56)/D56*100 -> -2.7462757 | I57: 2023 | J57: =C107+C132+C482+C582 -> 0.111118 | K57: =(J57-J56)/J56*100 -> -32.553157
A58: 2 (Bangladesh) | B58: 1999 | C58: 0.012626
A59: 2 | B59: 2000 | C59: 0.01514
A60: 2 | B60: 2001 | C60: 0.01592
A61: 2 | B61: 2002 | C61: 0.017449
A62: 2 | B62: 2003 | C62: 0.023097
A63: 2 | B63: 2004 | C63: 0.026731
A64: 2 | B64: 2005 | C64: 0.027329
A65: 2 | B65: 2006 | C65: 0.028174
A66: 2 | B66: 2007 | C66: 0.02451
A67: 2 | B67: 2008 | C67: 0.026975
A68: 2 | B68: 2009 | C68: 0.032217
A69: 2 | B69: 2010 | C69: 0.03773
A70: 2 | B70: 2011 | C70: 0.047528
... A82: 2 | B82: 2023 | C82: 0.095355
A83: 3 (Turkey) | B83: 1999 | C83: 0.021586
A84: 3 | B84: 2000 | C84: 0.021527
A85: 3 | B85: 2001 | C85: 0.021058
A86: 3 | B86: 2002 | C86: 0.027785
A87: 3 | B87: 2003 | C87: 0.037621
A88: 3 | B88: 2004 | C88: 0.04988
A89: 3 | B89: 2005 | C89: 0.057469
A90: 3 | B90: 2006 | C90: 0.06228
A91: 3 | B91: 2007 | C91: 0.07108
A92: 3 | B92: 2008 | C92: 0.064971
A93: 3 | B93: 2009 | C93: 0.07341
A94: 3 | B94: 2010 | C94: 0.077946
A95: 3 | B95: 2011 | C95: 0.088549
... A157: 5 | B157: 2023 | C157: 0.076398
A158: 6 | C158: 0.090297
A159: 6 | C159: 0.085
A160: 6 | C160: 0.084023
A161: 6 | C161: 0.08305
A162: 6 | C162: 0.081469
A163: 6 | C163: 0.085615
A164: 6 | C164: 0.086187
A165: 6 | C165: 0.083741
A166: 6 | C166: 0.086266
A167: 6 | C167: 0.117434
A168: 6 | C168: 0.074683
A169: 6 | C169: 0.071159
... A657: 25 | C657: 0.00178

Sheet 7. FVA
A1: https://doi.org/10.2908/NAIO_10_FGFEIM
A2: Value added textile no UE-27
C3: 2010 | D3: 2011 | E3: 2012 | F3: 2013 | G3: 2014 | H3: 2015 | I3: 2016 | J3: 2017 | K3: 2018 | L3: 2019 | M3: 2020 | N3: 2021 | O3: 2022
B4: European Union - 27 countries (from 2020) | C4: 10844254 | D4: 13627348 | E4: 13478330 | F4: 13971761 | G4: 15759277 | H4: 15448388 | I4: 14283636 | J4: 15542148 | K4: 16804322 | L4: 18258778 | M4: 14054944 | N4: 17818152 | O4: 22110979
B5: Spain | C5: 705143.18 | D5: 962955.73 | E5: 974229.36 | F5: 961994.23 | G5: 2305695.4 | H5: 2601864.9 | I5: 1794637.7 | J5: 1816649.1 | K5: 1854570.9 | L5: 1973790.2 | M5: 1374121.3 | N5: 1636832.1 | O5: 1964920.8
A7: TOTAL VA textile no UE-27 | C7: 2010 | D7: 2011 | E7: 2012 | F7: 2013 | G7: 2014 | H7: 2015 | I7: 2016 | J7: 2017 | K7: 2018 | L7: 2019 | M7: 2020 | N7: 2021 | O7: 2022
B8: European Union - 27 countries (from 2020) | C8: 27570908 | D8: 31606550 | E8: 30849635 | F8: 31763610 | G8: 36933612 | H8: 36494590 | I8: 34224383 | J8: 35893464 | K8: 37353696 | L8: 39876448 | M8: 30973760 | N8: 38374970 | O8: 49795395
B9: Spain | C9: 1895742.8 | D9: 2306158.6 | E9: 2187444 | F9: 2303388.3 | G9: 5629987.4 | H9: 6252456.4 | I9: 4266137.9 | J9: 4379611.9 | K9: 4403674.8 | L9: 4686985.4 | M9: 3292714.4 | N9: 4335464.8 | O9: 5778275.7
C11: 2010 | D11: 2011 | E11: 2012 | F11: 2013 | G11: 2014 | H11: 2015 | I11: 2016 | J11: 2017 | K11: 2018 | L11: 2019 | M11: 2020 | N11: 2021 | O11: 2022
A12: % | B12: European Union - 27 countries (from 2020) | C12: =C4/C8*100 -> 39.332234 | D12: =D4/D8*100 -> 43.115582 | E12: =E4/E8*100 -> 43.690404 | F12: =F4/F8*100 -> 43.98669 | G12: =G4/G8*100 -> 42.669201 | H12: =H4/H8*100 -> 42.330626 | I12: =I4/I8*100 -> 41.73526 | J12: =J4/J8*100 -> 43.300775 | ... O12: =O4/O8*100 -> 44.403663
B13: Spain | C13: =C5/C9*100 -> 37.196142 | D13: =D5/D9*100 -> 41.755833 | E13: =E5/E9*100 -> 44.537339 | F13: =F5/F9*100 -> 41.76431 | G13: =G5/G9*100 -> 40.953829 | H13: =H5/H9*100 -> 41.613484 | I13: =I5/I9*100 -> 42.067035 | J13: =J5/J9*100 -> 41.479681 | ... O13: =O5/O9*100 -> 34.005314
B17: Spain | C17: % | D17: Year-on-year change of FVA | G17: European Union - 27 countries (from 2020) | I17: Year-on-year change of FVA
C18: 37.196142 | H18: 39.332234
C19: 41.755833 | D19: 12.258505 | H19: 43.115582 | I19: =(H19-H18)/H18*100 -> 9.6189499
C20: 44.537339 | D20: 6.6613569 | H20: 43.690404 | I20: =(H20-H19)/H19*100 -> 1.3332138
C21: 41.76431 | D21: -6.2263016 | H21: 43.98669 | I21: =(H21-H20)/H20*100 -> 0.67814815
C22: 40.953829 | D22: -1.9406055 | H22: 42.669201 | I22: =(H22-H21)/H21*100 -> -2.9952003
C23: 41.613484 | D23: 1.6107275 | H23: 42.330626 | I23: =(H23-H22)/H22*100 -> -0.7934864
C24: 42.067035 | D24: 1.0899134 | H24: 41.73526 | I24: =(H24-H23)/H23*100 -> -1.4064659
C25: 41.479681 | D25: -1.3962314 | H25: 43.300775 | I25: =(H25-H24)/H24*100 -> 3.7510596
C26: 42.114166 | D26: 1.5296263 | H26: 44.98704 | I26: =(H26-H25)/H25*100 -> 3.8943064
C27: 42.112146 | D27: -0.0047949682 | H27: 45.788377 | I27: =(H27-H26)/H26*100 -> 1.7812625
C28: 41.732174 | D28: -0.90228606 | H28: 45.376939 | I28: =(H28-H27)/H27*100 -> -0.89856526
C29: 37.754478 | D29: -9.5314846 | H29: 46.431703 | I29: =(H29-H28)/H28*100 -> 2.3244498
C30: 34.005314 | D30: -9.9303841 | H30: 44.403663 | I30: =(H30-H29)/H29*100 -> -4.3677906
