{"text_format":"3","workbook":"xlsx","n_sheets":8,"sheets":["U87 I","U87 II","U87 III","U87 t0 SD","U87 mean","U87 mean (2)","wound closure %","rate of cell migration"],"not_rendered":{"charts":2},"read":"whole","date_system":"1900"}

{"sheet":"U87 I","index":0,"n_rows":32,"n_cols":17,"rows_kept":32,"merged":[[7,0,24,0],[7,1,9,1],[7,3,9,3],[7,4,9,4],[7,6,24,6],[7,7,9,7],[7,9,9,9],[7,10,9,10],[7,12,24,12],[7,13,9,13],[7,15,9,15],[7,16,9,16],[10,1,12,1],[10,3,12,3],[10,4,12,4],[10,7,12,7],[10,9,12,9],[10,10,12,10],[10,13,12,13],[10,15,12,15],[10,16,12,16],[13,1,15,1],[13,3,15,3],[13,4,15,4],[13,7,15,7],[13,9,15,9],[13,10,15,10],[13,13,15,13],[13,15,15,15],[13,16,15,16],[16,1,18,1],[16,3,18,3],[16,4,18,4],[16,7,18,7],[16,9,18,9],[16,10,18,10],[16,13,18,13],[16,15,18,15],[16,16,18,16],[19,1,21,1],[19,3,21,3],[19,4,21,4],[19,7,21,7],[19,9,21,9],[19,10,21,10],[19,13,21,13],[19,15,21,15],[19,16,21,16],[22,1,24,1],[22,3,24,3],[22,4,24,4],[22,7,24,7],[22,9,24,9],[22,10,24,10],[22,13,24,13],[22,15,24,15],[22,16,24,16],[27,0,31,0],[27,6,31,6],[27,12,31,12]]}
[]
[]
[]
[]
[]
[]
[null,"time [h]","wound area","mean","SD",null,null,"time [h]","wound area","mean","SD",null,null,"time [h]","wound area","mean","SD"]
["control",0,4996235,{"$f":"AVERAGE(C8:C10)","v":5100055.333333333},{"$f":"STDEVA(C8:C10)","v":265025.89379593334},null,"Perphenazine 1uM",0,5581872,{"$f":"AVERAGE(I8:I10)","v":5207691},{"$f":"STDEVA(I8:I10)","v":370700.93935813004},null,"Prochlorperazine 1uM",0,5482092,{"$f":"AVERAGE(O8:O10)","v":4804586},{"$f":"STDEVA(O8:O10)","v":729383.3988705802}]
[null,null,4902657,{"$nulls":5},5200630,{"$nulls":5},4032544]
[null,null,5401274,{"$nulls":5},4840571,{"$nulls":5},4899122]
[null,3,3681817,{"$f":"AVERAGE(C11:C13)","v":3645973.3333333335},{"$f":"STDEVA(C11:C13)","v":251285.16727083857},null,null,3,2969880,{"$f":"AVERAGE(I11:I13)","v":3006746.3333333335},{"$f":"STDEVA(I11:I13)","v":32442.159396891777},null,null,3,4299933,{"$f":"AVERAGE(O11:O13)","v":4196708},{"$f":"STDEVA(O11:O13)","v":96742.8643931944}]
[null,null,3877412,{"$nulls":5},3019422,{"$nulls":5},4108114]
[null,null,3378691,{"$nulls":5},3030937,{"$nulls":5},4182077]
[null,6,2957224,{"$f":"AVERAGE(C14:C16)","v":3291347.6666666665},{"$f":"STDEVA(C14:C16)","v":605985.6927983812},null,null,6,2537612,{"$f":"AVERAGE(I14:I16)","v":2600301.3333333335},{"$f":"STDEVA(I14:I16)","v":127791.68588501104},null,null,6,4095892,{"$f":"AVERAGE(O14:O16)","v":3557663},{"$f":"STDEVA(O14:O16)","v":487668.58493960835}]
[null,null,2925972,{"$nulls":5},2515960,{"$nulls":5},3431911]
[null,null,3990847,{"$nulls":5},2747332,{"$nulls":5},3145186]
[null,9,2748402,{"$f":"AVERAGE(C17:C19)","v":2758545.6666666665},{"$f":"STDEVA(C17:C19)","v":80427.69014669844},null,null,9,2144800,{"$f":"AVERAGE(I17:I19)","v":2375637},{"$f":"STDEVA(I17:I19)","v":323865.8889710369},null,null,9,3359385,{"$f":"AVERAGE(O17:O19)","v":3354495.6666666665},{"$f":"STDEVA(O17:O19)","v":146187.33550254392}]
[null,null,2683671,{"$nulls":5},2745859,{"$nulls":5},3498177]
[null,null,2843564,{"$nulls":5},2236252,{"$nulls":5},3205925]
[null,12,1540578,{"$f":"AVERAGE(C20:C22)","v":2408862.3333333335},{"$f":"STDEVA(C20:C22)","v":834401.4203633243},null,null,12,2223405,{"$f":"AVERAGE(I20:I22)","v":2127327},{"$f":"STDEVA(I20:I22)","v":218675.54982667815},null,null,12,2477769,{"$f":"AVERAGE(O20:O22)","v":2688073.3333333335},{"$f":"STDEVA(O20:O22)","v":473222.36225091264}]
[null,null,2481359,{"$nulls":5},2281515,{"$nulls":5},2356455]
[null,null,3204650,{"$nulls":5},1877061,{"$nulls":5},3229996]
[null,24,1659357,{"$f":"AVERAGE(C23:C25)","v":1303197.3333333333},{"$f":"STDEVA(C23:C25)","v":355602.8141794346},null,null,24,1250671,{"$f":"AVERAGE(I23:I25)","v":1464544.6666666667},{"$f":"STDEVA(I23:I25)","v":280143.1772689342},null,null,24,2092621,{"$f":"AVERAGE(O23:O25)","v":2007844.6666666667},{"$f":"STDEVA(O23:O25)","v":74016.43554193442}]
[null,null,1302081,{"$nulls":5},1361306,{"$nulls":5},1956067]
[null,null,948154,{"$nulls":5},1781657,{"$nulls":5},1974846]
[]
[]
["% of wound healing ",3,{"$f":"(($D$8-D11)/$D$8)*100","v":{"v":28.51110242856188,"d":"28.51"}},{"$nulls":3},"% of wound healing ",3,{"$f":"(($J$8-J11)/$J$8)*100","v":{"v":42.26334985441084,"d":"42.26"}},{"$nulls":3},"% of wound healing ",3,{"$f":"(($P$8-P11)/$P$8)*100","v":{"v":12.652037032951435,"d":"12.65"}}]
[null,6,{"$f":"(($D$8-D14)/$D$8)*100","v":{"v":35.46447143122499,"d":"35.46"}},{"$nulls":4},6,{"$f":"(($J$8-J14)/$J$8)*100","v":{"v":50.068056393258864,"d":"50.07"}},{"$nulls":4},6,{"$f":"(($P$8-P14)/$P$8)*100","v":{"v":25.95276679405884,"d":"25.95"}}]
[null,9,{"$f":"(($D$8-D17)/$D$8)*100","v":{"v":45.91145612407081,"d":"45.91"}},{"$nulls":4},9,{"$f":"(($J$8-J17)/$J$8)*100","v":{"v":54.38214364101096,"d":"54.38"}},{"$nulls":4},9,{"$f":"(($P$8-P17)/$P$8)*100","v":{"v":30.181379484795016,"d":"30.18"}}]
[null,12,{"$f":"(($D$8-D20)/$D$8)*100","v":{"v":52.767917681416,"d":"52.77"}},{"$nulls":4},12,{"$f":"(($J$8-J20)/$J$8)*100","v":{"v":59.15028368618644,"d":"59.15"}},{"$nulls":4},12,{"$f":"(($P$8-P20)/$P$8)*100","v":{"v":44.051925944642605,"d":"44.05"}}]
[null,24,{"$f":"(($D$8-D23)/$D$8)*100","v":{"v":74.44738834859702,"d":"74.45"}},{"$nulls":4},24,{"$f":"(($J$8-J23)/$J$8)*100","v":{"v":71.87727408045778,"d":"71.88"}},{"$nulls":4},24,{"$f":"(($P$8-P23)/$P$8)*100","v":{"v":58.20982980288692,"d":"58.21"}}]

{"sheet":"U87 II","index":1,"n_rows":37,"n_cols":17,"rows_kept":37,"merged":[[7,0,24,0],[7,1,9,1],[7,3,9,3],[7,4,9,4],[7,6,24,6],[7,7,9,7],[7,9,9,9],[7,10,9,10],[7,12,24,12],[7,13,9,13],[7,15,9,15],[7,16,9,16],[10,1,12,1],[10,3,12,3],[10,4,12,4],[10,7,12,7],[10,9,12,9],[10,10,12,10],[10,13,12,13],[10,15,12,15],[10,16,12,16],[13,1,15,1],[13,3,15,3],[13,4,15,4],[13,7,15,7],[13,9,15,9],[13,10,15,10],[13,13,15,13],[13,15,15,15],[13,16,15,16],[16,1,18,1],[16,3,18,3],[16,4,18,4],[16,7,18,7],[16,9,18,9],[16,10,18,10],[16,13,18,13],[16,15,18,15],[16,16,18,16],[19,1,21,1],[19,3,21,3],[19,4,21,4],[19,7,21,7],[19,9,21,9],[19,10,21,10],[19,13,21,13],[19,15,21,15],[19,16,21,16],[22,1,24,1],[22,3,24,3],[22,4,24,4],[22,7,24,7],[22,9,24,9],[22,10,24,10],[22,13,24,13],[22,15,24,15],[22,16,24,16],[27,0,31,0],[27,6,31,6],[27,12,31,12]]}
[]
[]
[]
[]
[]
[]
[null,"time [h]","wound area","mean","SD",null,null,"time [h]","wound area","mean","SD",null,null,"time [h]","wound area","mean","SD"]
["control",0,5788204,{"$f":"AVERAGE(C8:C10)","v":4889423},{"$f":"STDEVA(C8:C10)","v":780836.0803978003},null,"Perphenazine 1uM",0,3994597,{"$f":"AVERAGE(I8:I10)","v":4855697},{"$f":"STDEVA(I8:I10)","v":809201.4511387136},null,"Prochlorperazine 1uM",0,5133576,{"$f":"AVERAGE(O8:O10)","v":5190564.666666667},{"$f":"STDEVA(O8:O10)","v":598794.3705023731}]
[null,null,4502077,{"$nulls":5},5600392,{"$nulls":5},5815816]
[null,null,4377988,{"$nulls":5},4972102,{"$nulls":5},4622302]
[null,3,4357873,{"$f":"AVERAGE(C11:C13)","v":4007689.6666666665},{"$f":"STDEVA(C11:C13)","v":458134.5659621563},null,null,3,3758602,{"$f":"AVERAGE(I11:I13)","v":3642795.6666666665},{"$f":"STDEVA(I11:I13)","v":173628.91066966162},null,null,3,4606934,{"$f":"AVERAGE(O11:O13)","v":4574769},{"$f":"STDEVA(O11:O13)","v":81192.45272191252}]
[null,null,3489209,{"$nulls":5},3443158,{"$nulls":5},4634951]
[null,null,4175987,{"$nulls":5},3726627,{"$nulls":5},4482422]
[null,6,3081454,{"$f":"AVERAGE(C14:C16)","v":3222718},{"$f":"STDEVA(C14:C16)","v":515338.73008051707},null,null,6,2944193,{"$f":"AVERAGE(I14:I16)","v":2741956.6666666665},{"$f":"STDEVA(I14:I16)","v":228470.1768291287},null,null,6,4040192,{"$f":"AVERAGE(O14:O16)","v":3776246},{"$f":"STDEVA(O14:O16)","v":229726.76636169327}]
[null,null,3793957,{"$nulls":5},2787549,{"$nulls":5},3621387]
[null,null,2792743,{"$nulls":5},2494128,{"$nulls":5},3667159]
[null,9,3015383,{"$f":"AVERAGE(C17:C19)","v":2851792.3333333335},{"$f":"STDEVA(C17:C19)","v":572972.4011035209},null,null,9,2848742,{"$f":"AVERAGE(I17:I19)","v":2773975.6666666665},{"$f":"STDEVA(I17:I19)","v":147623.29877202085},null,null,9,3369572,{"$f":"AVERAGE(O17:O19)","v":3163817.6666666665},{"$f":"STDEVA(O17:O19)","v":192550.84558197437}]
[null,null,2214816,{"$nulls":5},2869258,{"$nulls":5},2987970]
[null,null,3325178,{"$nulls":5},2603927,{"$nulls":5},3133911]
[null,12,2523069,{"$f":"AVERAGE(C20:C22)","v":2384850.3333333335},{"$f":"STDEVA(C20:C22)","v":542731.720604511},null,null,12,2394213,{"$f":"AVERAGE(I20:I22)","v":2157433},{"$f":"STDEVA(I20:I22)","v":207201.039642662},null,null,12,2782413,{"$f":"AVERAGE(O20:O22)","v":2849004},{"$f":"STDEVA(O20:O22)","v":168123.7723018372}]
[null,null,1786374,{"$nulls":5},2068770,{"$nulls":5},3040223]
[null,null,2845108,{"$nulls":5},2009316,{"$nulls":5},2724376]
[null,24,1528495,{"$f":"AVERAGE(C23:C25)","v":1382614.6666666667},{"$f":"STDEVA(C23:C25)","v":436629.24317587056},null,null,24,1309257,{"$f":"AVERAGE(I23:I25)","v":1511328},{"$f":"STDEVA(I23:I25)","v":251139.70922775235},null,null,24,1377081,{"$f":"AVERAGE(O23:O25)","v":1876441.3333333333},{"$f":"STDEVA(O23:O25)","v":463518.3949535692}]
[null,null,1727627,{"$nulls":5},1432234,{"$nulls":5},2292941]
[null,null,891722,{"$nulls":5},1792493,{"$nulls":5},1959302]
[]
[]
["% of wound healing ",3,{"$f":"(($D$8-D11)/$D$8)*100","v":{"v":18.033484387285238,"d":"18.03"}},{"$nulls":3},"% of wound healing ",3,{"$f":"(($J$8-J11)/$J$8)*100","v":{"v":24.97893368003262,"d":"24.98"}},{"$nulls":3},"% of wound healing ",3,{"$f":"(($P$8-P11)/$P$8)*100","v":{"v":11.863750983033707,"d":"11.86"}}]
[null,6,{"$f":"(($D$8-D14)/$D$8)*100","v":{"v":34.08796907119716,"d":"34.09"}},{"$nulls":4},6,{"$f":"(($J$8-J14)/$J$8)*100","v":{"v":43.53114152990464,"d":"43.53"}},{"$nulls":4},6,{"$f":"(($P$8-P14)/$P$8)*100","v":{"v":27.247876820595117,"d":"27.25"}}]
[null,9,{"$f":"(($D$8-D17)/$D$8)*100","v":{"v":41.674256178421594,"d":"41.67"}},{"$nulls":4},9,{"$f":"(($J$8-J17)/$J$8)*100","v":{"v":42.87173053288402,"d":"42.87"}},{"$nulls":4},9,{"$f":"(($P$8-P17)/$P$8)*100","v":{"v":39.046753680107,"d":"39.05"}}]
[null,12,{"$f":"(($D$8-D20)/$D$8)*100","v":{"v":51.22429919985787,"d":"51.22"}},{"$nulls":4},12,{"$f":"(($J$8-J20)/$J$8)*100","v":{"v":55.56903571207182,"d":"55.57"}},{"$nulls":4},12,{"$f":"(($P$8-P20)/$P$8)*100","v":{"v":45.11186772614463,"d":"45.11"}}]
[null,24,{"$f":"(($D$8-D23)/$D$8)*100","v":{"v":71.7223347894697,"d":"71.72"}},{"$nulls":4},24,{"$f":"(($J$8-J23)/$J$8)*100","v":{"v":68.87515839641559,"d":"68.88"}},{"$nulls":4},24,{"$f":"(($P$8-P23)/$P$8)*100","v":{"v":63.848994207052876,"d":"63.85"}}]
[]
[]
[null,null,3455440]
[null,null,33769]
[null,null,{"$f":"C36+C35","v":3489209}]

{"sheet":"U87 III","index":2,"n_rows":32,"n_cols":17,"rows_kept":32,"merged":[[7,0,24,0],[7,1,9,1],[7,3,9,3],[7,4,9,4],[7,6,24,6],[7,7,9,7],[7,9,9,9],[7,10,9,10],[7,12,24,12],[7,13,9,13],[7,15,9,15],[7,16,9,16],[10,1,12,1],[10,3,12,3],[10,4,12,4],[10,7,12,7],[10,9,12,9],[10,10,12,10],[10,13,12,13],[10,15,12,15],[10,16,12,16],[13,1,15,1],[13,3,15,3],[13,4,15,4],[13,7,15,7],[13,9,15,9],[13,10,15,10],[13,13,15,13],[13,15,15,15],[13,16,15,16],[16,1,18,1],[16,3,18,3],[16,4,18,4],[16,7,18,7],[16,9,18,9],[16,10,18,10],[16,13,18,13],[16,15,18,15],[16,16,18,16],[19,1,21,1],[19,3,21,3],[19,4,21,4],[19,7,21,7],[19,9,21,9],[19,10,21,10],[19,13,21,13],[19,15,21,15],[19,16,21,16],[22,1,24,1],[22,3,24,3],[22,4,24,4],[22,7,24,7],[22,9,24,9],[22,10,24,10],[22,13,24,13],[22,15,24,15],[22,16,24,16],[27,0,31,0],[27,6,31,6],[27,12,31,12]]}
[]
[]
[]
[]
[]
[]
[null,"time [h]","wound area","mean","SD",null,null,"time [h]","wound area","mean","SD",null,null,"time [h]","wound area","mean","SD"]
["control",0,4005845,{"$f":"AVERAGE(C8:C10)","v":4290727.666666667},{"$f":"STDEVA(C8:C10)","v":696905.9817517224},null,"Perphenazine 1uM",0,4389827,{"$f":"AVERAGE(I8:I10)","v":4173260.3333333335},{"$f":"STDEVA(I8:I10)","v":239483.01343171153},null,"Prochlorperazine 1uM",0,6083106,{"$f":"AVERAGE(O8:O10)","v":5946858},{"$f":"STDEVA(O8:O10)","v":237369.37324136827}]
[null,null,3781395,{"$nulls":5},4213894,{"$nulls":5},5672769]
[null,null,5084943,{"$nulls":5},3916060,{"$nulls":5},6084699]
[null,3,3350134,{"$f":"AVERAGE(C11:C13)","v":3458954.6666666665},{"$f":"STDEVA(C11:C13)","v":210460.3095154365},null,null,3,3603697,{"$f":"AVERAGE(I11:I13)","v":3599028.6666666665},{"$f":"STDEVA(I11:I13)","v":244597.91426407},null,null,3,5062454,{"$f":"AVERAGE(O11:O13)","v":4801820.666666667},{"$f":"STDEVA(O11:O13)","v":253086.4324185185}]
[null,null,3701546,{"$nulls":5},3841259,{"$nulls":5},4785983]
[null,null,3325184,{"$nulls":5},3352130,{"$nulls":5},4557025]
[null,6,3046494,{"$f":"AVERAGE(C14:C16)","v":3261047},{"$f":"STDEVA(C14:C16)","v":419186.93878626515},null,null,6,2796089,{"$f":"AVERAGE(I14:I16)","v":2788182},{"$f":"STDEVA(I14:I16)","v":157234.68064329828},null,null,6,4701567,{"$f":"AVERAGE(O14:O16)","v":4726157.666666667},{"$f":"STDEVA(O14:O16)","v":124570.85066071169}]
[null,null,3744080,{"$nulls":5},2627143,{"$nulls":5},4861190]
[null,null,2992567,{"$nulls":5},2941314,{"$nulls":5},4615716]
[null,9,2157525,{"$f":"AVERAGE(C17:C19)","v":2400185},{"$f":"STDEVA(C17:C19)","v":212813.6513219958},null,null,9,2050088,{"$f":"AVERAGE(I17:I19)","v":2583885.3333333335},{"$f":"STDEVA(I17:I19)","v":526965.7963154098},null,null,9,4259434,{"$f":"AVERAGE(O17:O19)","v":4074008.3333333335},{"$f":"STDEVA(O17:O19)","v":406285.4425232749}]
[null,null,2555082,{"$nulls":5},2597825,{"$nulls":5},3608092]
[null,null,2487948,{"$nulls":5},3103743,{"$nulls":5},4354499]
[null,12,2139579,{"$f":"AVERAGE(C20:C22)","v":1970186.6666666667},{"$f":"STDEVA(C20:C22)","v":398231.9973336309},null,null,12,1800999,{"$f":"AVERAGE(I20:I22)","v":2106716},{"$f":"STDEVA(I20:I22)","v":559361.6326018437},null,null,12,3236560,{"$f":"AVERAGE(O20:O22)","v":3288037.6666666665},{"$f":"STDEVA(O20:O22)","v":65221.480099222936}]
[null,null,1515263,{"$nulls":5},1766839,{"$nulls":5},3266170]
[null,null,2255718,{"$nulls":5},2752310,{"$nulls":5},3361383]
[null,24,520215,{"$f":"AVERAGE(C23:C25)","v":943758.6666666666},{"$f":"STDEVA(C23:C25)","v":369036.3295264211},null,null,24,1196698,{"$f":"AVERAGE(I23:I25)","v":1375902.6666666667},{"$f":"STDEVA(I23:I25)","v":275276.11568266054},null,null,24,1568176,{"$f":"AVERAGE(O23:O25)","v":2013282.6666666667},{"$f":"STDEVA(O23:O25)","v":1015453.094765747}]
[null,null,1114961,{"$nulls":5},1692862,{"$nulls":5},3175280]
[null,null,1196100,{"$nulls":5},1238148,{"$nulls":5},1296392]
[]
[]
["% of wound healing ",3,{"$f":"(($D$8-D11)/$D$8)*100","v":{"v":19.38535988806251,"d":"19.39"}},{"$nulls":3},"% of wound healing ",3,{"$f":"(($J$8-J11)/$J$8)*100","v":{"v":13.759785414776832,"d":"13.76"}},{"$nulls":3},"% of wound healing ",3,{"$f":"(($P$8-P11)/$P$8)*100","v":{"v":19.2544925964826,"d":"19.25"}}]
[null,6,{"$f":"(($D$8-D14)/$D$8)*100","v":{"v":23.997809850900975,"d":"24.00"}},{"$nulls":4},6,{"$f":"(($J$8-J14)/$J$8)*100","v":{"v":33.189358503954665,"d":"33.19"}},{"$nulls":4},6,{"$f":"(($P$8-P14)/$P$8)*100","v":{"v":20.526811525234553,"d":"20.53"}}]
[null,9,{"$f":"(($D$8-D17)/$D$8)*100","v":{"v":44.06112001359832,"d":"44.06"}},{"$nulls":4},9,{"$f":"(($J$8-J17)/$J$8)*100","v":{"v":38.08473167382081,"d":"38.08"}},{"$nulls":4},9,{"$f":"(($P$8-P17)/$P$8)*100","v":{"v":31.493095457578885,"d":"31.49"}}]
[null,12,{"$f":"(($D$8-D20)/$D$8)*100","v":{"v":54.082691335261465,"d":"54.08"}},{"$nulls":4},12,{"$f":"(($J$8-J20)/$J$8)*100","v":{"v":49.51870164502079,"d":"49.52"}},{"$nulls":4},12,{"$f":"(($P$8-P20)/$P$8)*100","v":{"v":44.70966573160707,"d":"44.71"}}]
[null,24,{"$f":"(($D$8-D23)/$D$8)*100","v":{"v":78.0046943086499,"d":"78.00"}},{"$nulls":4},24,{"$f":"(($J$8-J23)/$J$8)*100","v":{"v":67.03050955923271,"d":"67.03"}},{"$nulls":4},24,{"$f":"(($P$8-P23)/$P$8)*100","v":{"v":66.14543904248819,"d":"66.15"}}]

{"sheet":"U87 t0 SD","index":3,"n_rows":20,"n_cols":21,"rows_kept":20}
[]
[]
[null,null,"2ml roztworu/szalkę"]
[null,null,"cała powierzchnia = cała pusta powierzchnia zdjęcia"]
[null,null,"powierzchnia analizy = powierzchnia rany"]
[null,null,"CONTROL",{"$nulls":7},"PERPHENAZINE 1uM",{"$nulls":6},"PROCHLORPERAZINE 1uM"]
[]
["time [h]",null,"% wound heling",{"$nulls":5},"time [h]",null,"% wound heling",{"$nulls":4},"time [h]",null,"% wound heling"]
[null,"I","II","III",{"$nulls":5},"I","II","III",{"$nulls":4},"I","II","III"]
[null,{"$f":"'U87 I'!C8","v":{"v":4996235,"d":"4996235.00"}},{"$f":"'U87 II'!C8","v":{"v":5788204,"d":"5788204.00"}},{"$f":"'U87 III'!C8","v":{"v":4005845,"d":"4005845.00"}},{"$nulls":5},{"$f":"'U87 I'!I8","v":{"v":5581872,"d":"5581872.00"}},{"$f":"'U87 II'!I8","v":{"v":3994597,"d":"3994597.00"}},{"$f":"'U87 III'!I8","v":{"v":4389827,"d":"4389827.00"}},{"$nulls":4},{"$f":"'U87 I'!O8","v":{"v":5482092,"d":"5482092.00"}},{"$f":"'U87 II'!O8","v":{"v":5133576,"d":"5133576.00"}},{"$f":"'U87 III'!O8","v":{"v":6083106,"d":"6083106.00"}}]
[null,{"$f":"'U87 I'!C9","v":{"v":4902657,"d":"4902657.00"}},{"$f":"'U87 II'!C9","v":{"v":4502077,"d":"4502077.00"}},{"$f":"'U87 III'!C9","v":{"v":3781395,"d":"3781395.00"}},{"$nulls":5},{"$f":"'U87 I'!I9","v":{"v":5200630,"d":"5200630.00"}},{"$f":"'U87 II'!I9","v":{"v":5600392,"d":"5600392.00"}},{"$f":"'U87 III'!I9","v":{"v":4213894,"d":"4213894.00"}},{"$nulls":4},{"$f":"'U87 I'!O9","v":{"v":4032544,"d":"4032544.00"}},{"$f":"'U87 II'!O9","v":{"v":5815816,"d":"5815816.00"}},{"$f":"'U87 III'!O9","v":{"v":5672769,"d":"5672769.00"}}]
[null,{"$f":"'U87 I'!C10","v":{"v":5401274,"d":"5401274.00"}},{"$f":"'U87 II'!C10","v":{"v":4377988,"d":"4377988.00"}},{"$f":"'U87 III'!C10","v":{"v":5084943,"d":"5084943.00"}},{"$nulls":5},{"$f":"'U87 I'!I10","v":{"v":4840571,"d":"4840571.00"}},{"$f":"'U87 II'!I10","v":{"v":4972102,"d":"4972102.00"}},{"$f":"'U87 III'!I10","v":{"v":3916060,"d":"3916060.00"}},{"$nulls":4},{"$f":"'U87 I'!O10","v":{"v":4899122,"d":"4899122.00"}},{"$f":"'U87 II'!O10","v":{"v":4622302,"d":"4622302.00"}},{"$f":"'U87 III'!O10","v":{"v":6084699,"d":"6084699.00"}}]
["mean",{"$f":"AVERAGE(B10:B12)","v":{"v":5100055.333333333,"d":"5100055.33"}},{"$f":"AVERAGE(C10:C12)","v":{"v":4889423,"d":"4889423.00"}},{"v":4290727.666666667,"d":"4290727.67"},{"$nulls":4},"mean",{"$f":"AVERAGE(J10:J12)","v":{"v":5207691,"d":"5207691.00"}},{"$f":"AVERAGE(K10:K12)","v":{"v":4855697,"d":"4855697.00"}},{"$f":"AVERAGE(L10:L12)","v":{"v":4173260.3333333335,"d":"4173260.33"}},{"$nulls":3},"mean",{"$f":"AVERAGE(Q10:Q12)","v":{"v":4804586,"d":"4804586.00"}},{"$f":"AVERAGE(R10:R12)","v":{"v":5190564.666666667,"d":"5190564.67"}},{"$f":"AVERAGE(S10:S12)","v":{"v":5946858,"d":"5946858.00"}}]
["mean",{"$f":"AVERAGE(B13:D13)","v":{"v":4760068.666666667,"d":"4760068.67"}},{"$nulls":6},"mean",{"$f":"AVERAGE(J13:L13)","v":{"v":4745549.444444445,"d":"4745549.44"}},{"$nulls":5},"mean",{"$f":"AVERAGE(Q13:S13)","v":{"v":5314002.888888889,"d":"5314002.89"}}]
[{"$nulls":4},"średnia","SD",{"$nulls":6},"średnia","SD",{"$nulls":5},"średnia","SD"]
[null,{"$f":"((B10*100)/$B$14)","v":{"v":104.96140601893278,"d":"104.96"}},{"$f":"((C10*100)/$B$14)","v":{"v":121.59917020804882,"d":"121.60"}},{"v":84.15519355953268,"d":"84.16"},{"$f":"AVERAGE(B16:B18)","v":{"v":107.14247399512301,"d":"107.14"}},{"$f":"STDEVA(B16:B18)","v":{"v":5.56769055984066,"d":"5.57"}},{"$nulls":3},{"$f":"((J10*100)/$J$14)","v":{"v":117.62330295672353,"d":"117.62"}},{"$f":"((K10*100)/$J$14)","v":{"v":84.17564808383621,"d":"84.18"}},{"v":92.50408306543123,"d":"92.50"},{"$f":"AVERAGE(J16:J18)","v":{"v":109.73842040770597,"d":"109.74"}},{"$f":"STDEVA(J16:J18)","v":{"v":7.811549404297219,"d":"7.81"}},null,null,{"$f":"((Q10*100)/$Q$14)","v":{"v":103.1631354861054,"d":"103.16"}},{"$f":"((R10*100)/$Q$14)","v":{"v":96.60468967252265,"d":"96.60"}},{"v":114.47314062849378,"d":"114.47"},{"$f":"AVERAGE(Q16:Q18)","v":{"v":90.41368814544616,"d":"90.41"}},{"$f":"STDEVA(Q16:Q18)","v":{"v":13.72568690912187,"d":"13.73"}}]
[null,{"$f":"((B11*100)/$B$14)","v":{"v":102.99551000874916,"d":"103.00"}},{"v":94.58008518924727,"d":"94.58"},{"v":79.43992544645364,"d":"79.44"},{"$f":"AVERAGE(C16:C18)","v":{"v":102.71748880933511,"d":"102.72"}},{"$f":"STDEVA(C16:C18)","v":{"v":16.403882697444182,"d":"16.40"}},{"$nulls":3},{"$f":"((J11*100)/$J$14)","v":{"v":109.58962836407304,"d":"109.59"}},{"v":118.01356335158005,"d":"118.01"},{"v":88.79675682092308,"d":"88.80"},{"$f":"AVERAGE(K16:K18)","v":{"v":102.32107065462155,"d":"102.32"}},{"$f":"STDEVA(K16:K18)","v":{"v":17.051796859603513,"d":"17.05"}},null,null,{"$f":"((Q11*100)/$Q$14)","v":{"v":75.88524290100959,"d":"75.89"}},{"v":109.44322239945255,"d":"109.44"},{"v":106.75133451397362,"d":"106.75"},{"$f":"AVERAGE(R16:R18)","v":{"v":97.67711413028546,"d":"97.68"}},{"$f":"STDEVA(R16:R18)","v":{"v":11.268235697695976,"d":"11.27"}}]
[null,{"v":113.47050595768715,"d":"113.47"},{"v":91.97321103070921,"d":"91.97"},{"v":106.82499258063923,"d":"106.82"},{"$f":"AVERAGE(D16:D18)","v":{"v":90.14003719554184,"d":"90.14"}},{"$f":"STDEVA(D16:D18)","v":{"v":14.640670766620447,"d":"14.64"}},{"$nulls":3},{"$f":"((J12*100)/$J$14)","v":{"v":102.00232990232134,"d":"102.00"}},{"v":104.77400052844834,"d":"104.77"},{"v":82.52068692666309,"d":"82.52"},{"$f":"AVERAGE(L16:L18)","v":{"v":87.94050893767246,"d":"87.94"}},{"$f":"STDEVA(L16:L18)","v":{"v":5.046475992618119,"d":"5.05"}},null,null,{"$f":"((Q12*100)/$Q$14)","v":{"v":92.1926860492235,"d":"92.19"}},{"v":86.98343031888119,"d":"86.98"},{"v":114.5031180303377,"d":"114.50"},{"$f":"AVERAGE(S16:S18)","v":{"v":111.90919772426837,"d":"111.91"}},{"$f":"STDEVA(S16:S18)","v":{"v":4.4668657169473285,"d":"4.47"}}]
[null,null,"średnia","SD",{"$f":"AVERAGE(E16:E18)","v":{"v":99.99999999999999,"d":"100.00"}},{"$f":"STDEVA(E16:E18)","v":{"v":8.820956487398872,"d":"8.82"}},{"$nulls":4},"średnia","SD",{"$f":"AVERAGE(M16:M18)","v":{"v":100,"d":"100.00"}},{"$f":"STDEVA(M16:M18)","v":{"v":11.082768735819748,"d":"11.08"}},{"$nulls":3},"średnia","SD",{"$f":"AVERAGE(T16:T18)","v":{"v":100,"d":"100.00"}},{"$f":"STDEVA(T16:T18)","v":{"v":10.934399027203046,"d":"10.93"}}]
[null,null,{"$f":"AVERAGE(B16:D18)","v":{"v":99.99999999999999,"d":"100.00"}},{"$f":"STDEVA(B16:D18)","v":{"v":13.673547512222191,"d":"13.67"}},{"$nulls":6},{"$f":"AVERAGE(J16:L18)","v":{"v":99.99999999999999,"d":"100.00"}},{"$f":"STDEVA(J16:L18)","v":{"v":13.654067972000465,"d":"13.65"}},{"$nulls":5},{"$f":"AVERAGE(Q16:S18)","v":{"v":100,"d":"100.00"}},{"$f":"STDEVA(Q16:S18)","v":{"v":13.171975482607108,"d":"13.17"}}]

{"sheet":"U87 mean","index":4,"n_rows":23,"n_cols":19,"rows_kept":23,"merged":[[18,0,22,0],[18,8,22,8],[18,14,22,14]]}
[]
[]
[]
[]
[]
[null,null,"CONTROL",{"$nulls":7},"PERPHENAZINE 1uM",{"$nulls":5},"PROCHLORPERAZINE 1uM"]
[]
["time [h]",null,"% wound heling",{"$nulls":5},"time [h]",null,"% wound heling",{"$nulls":3},"time [h]",null,"% wound heling"]
[null,"I","II","III",{"$nulls":5},"I","II","III",{"$nulls":3},"I","II","III"]
[3,{"$f":"100-('U87 I'!C28)","v":{"v":71.48889757143812,"d":"71.49"}},{"$f":"100-('U87 II'!C28)","v":{"v":81.96651561271476,"d":"81.97"}},{"$f":"100-('U87 III'!C28)","v":{"v":80.61464011193749,"d":"80.61"}},{"$nulls":4},3,{"$f":"100-('U87 I'!I28)","v":{"v":57.73665014558916,"d":"57.74"}},{"$f":"100-('U87 II'!I28)","v":{"v":75.02106631996739,"d":"75.02"}},{"$f":"100-('U87 III'!I28)","v":{"v":86.24021458522317,"d":"86.24"}},null,null,3,{"$f":"100-('U87 I'!O28)","v":{"v":87.34796296704856,"d":"87.35"}},{"$f":"100-('U87 II'!O28)","v":{"v":88.13624901696629,"d":"88.14"}},{"$f":"100-('U87 III'!O28)","v":{"v":80.7455074035174,"d":"80.75"}}]
[6,{"$f":"100-('U87 I'!C29)","v":{"v":64.535528568775,"d":"64.54"}},{"$f":"100-('U87 II'!C29)","v":{"v":65.91203092880284,"d":"65.91"}},{"$f":"100-('U87 III'!C29)","v":{"v":76.00219014909902,"d":"76.00"}},{"$nulls":4},6,{"$f":"100-('U87 I'!I29)","v":{"v":49.931943606741136,"d":"49.93"}},{"$f":"100-('U87 II'!I29)","v":{"v":56.46885847009536,"d":"56.47"}},{"$f":"100-('U87 III'!I29)","v":{"v":66.81064149604533,"d":"66.81"}},null,null,6,{"$f":"100-('U87 I'!O29)","v":{"v":74.04723320594115,"d":"74.05"}},{"$f":"100-('U87 II'!O29)","v":{"v":72.75212317940489,"d":"72.75"}},{"$f":"100-('U87 III'!O29)","v":{"v":79.47318847476545,"d":"79.47"}}]
[9,{"$f":"100-('U87 I'!C30)","v":{"v":54.08854387592919,"d":"54.09"}},{"$f":"100-('U87 II'!C30)","v":{"v":58.325743821578406,"d":"58.33"}},{"$f":"100-('U87 III'!C30)","v":{"v":55.93887998640168,"d":"55.94"}},{"$nulls":4},9,{"$f":"100-('U87 I'!I30)","v":{"v":45.61785635898904,"d":"45.62"}},{"$f":"100-('U87 II'!I30)","v":{"v":57.12826946711598,"d":"57.13"}},{"$f":"100-('U87 III'!I30)","v":{"v":61.91526832617919,"d":"61.92"}},null,null,9,{"$f":"100-('U87 I'!O30)","v":{"v":69.81862051520498,"d":"69.82"}},{"$f":"100-('U87 II'!O30)","v":{"v":60.953246319893,"d":"60.95"}},{"$f":"100-('U87 III'!O30)","v":{"v":68.50690454242111,"d":"68.51"}}]
[12,{"$f":"100-('U87 I'!C31)","v":{"v":47.232082318584,"d":"47.23"}},{"$f":"100-('U87 II'!C31)","v":{"v":48.77570080014213,"d":"48.78"}},{"$f":"100-('U87 III'!C31)","v":{"v":45.917308664738535,"d":"45.92"}},{"$nulls":4},12,{"$f":"100-('U87 I'!I31)","v":{"v":40.84971631381356,"d":"40.85"}},{"$f":"100-('U87 II'!I31)","v":{"v":44.43096428792818,"d":"44.43"}},{"$f":"100-('U87 III'!I31)","v":{"v":50.48129835497921,"d":"50.48"}},null,null,12,{"$f":"100-('U87 I'!O31)","v":{"v":55.948074055357395,"d":"55.95"}},{"$f":"100-('U87 II'!O31)","v":{"v":54.88813227385537,"d":"54.89"}},{"$f":"100-('U87 III'!O31)","v":{"v":55.29033426839293,"d":"55.29"}}]
[24,{"$f":"100-('U87 I'!C32)","v":{"v":25.552611651402984,"d":"25.55"}},{"$f":"100-('U87 II'!C32)","v":{"v":28.2776652105303,"d":"28.28"}},{"$f":"100-('U87 III'!C32)","v":{"v":21.995305691350097,"d":"22.00"}},{"$nulls":4},24,{"$f":"100-('U87 I'!I32)","v":{"v":28.12272591954222,"d":"28.12"}},{"$f":"100-('U87 II'!I32)","v":{"v":31.124841603584414,"d":"31.12"}},{"$f":"100-('U87 III'!I32)","v":{"v":32.96949044076729,"d":"32.97"}},null,null,24,{"$f":"100-('U87 I'!O32)","v":{"v":41.79017019711308,"d":"41.79"}},{"$f":"100-('U87 II'!O32)","v":{"v":36.151005792947124,"d":"36.15"}},{"$f":"100-('U87 III'!O32)","v":{"v":33.85456095751181,"d":"33.85"}}]
[]
[]
[null,null,"mean","SD",{"$nulls":6},"mean","SD",{"$nulls":4},"mean","SD"]
[null,0,100,{"$f":"'U87 t0 SD'!D20","v":{"v":13.673547512222191,"d":"13.67"}},{"$nulls":5},0,100,{"$f":"'U87 t0 SD'!L20","v":{"v":13.654067972000465,"d":"13.65"}},{"$nulls":3},0,100,{"$f":"'U87 t0 SD'!S20","v":{"v":13.171975482607108,"d":"13.17"}}]
["% of wound healing ",3,{"$f":"(AVERAGE(B10:D10))","v":{"v":78.02335109869678,"d":"78.02"}},{"$f":"STDEVA(B10:D10)","v":{"v":5.699228370343473,"d":"5.70"}},{"$f":"100-C19","v":{"v":21.97664890130322,"d":"21.98"}},{"$nulls":3},"% of wound healing ",3,{"$f":"(AVERAGE(J10:L10))","v":{"v":72.9993103502599,"d":"73.00"}},{"$f":"STDEVA(J10:L10)","v":{"v":14.35893169222133,"d":"14.36"}},{"$f":"100-K19","v":{"v":27.000689649740096,"d":"27.00"}},null,"% of wound healing ",3,{"$f":"(AVERAGE(P10:R10))","v":{"v":85.40990646251073,"d":"85.41"}},{"$f":"STDEVA(P10:R10)","v":{"v":4.058671292464726,"d":"4.06"}}]
[null,6,{"$f":"(AVERAGE(B11:D11))","v":{"v":68.81658321555896,"d":"68.82"}},{"$f":"STDEVA(B11:D11)","v":{"v":6.26086255553457,"d":"6.26"}},{"v":31.183416784441036,"d":"31.18"},{"$nulls":4},6,{"$f":"(AVERAGE(J11:L11))","v":{"v":57.73714785762727,"d":"57.74"}},{"$f":"STDEVA(J11:L11)","v":{"v":8.51052460706713,"d":"8.51"}},{"v":42.26285214237273,"d":"42.26"},null,null,6,{"$f":"(AVERAGE(P11:R11))","v":{"v":75.42418162003717,"d":"75.42"}},{"$f":"STDEVA(P11:R11)","v":{"v":3.5658336861716045,"d":"3.57"}},{"$f":"100-Q20","v":{"v":24.575818379962826,"d":"24.58"}}]
[null,9,{"v":56.11772256130309,"d":"56.12"},{"v":2.124253832478703,"d":"2.12"},{"v":43.88227743869691,"d":"43.88"},{"$nulls":4},9,{"v":54.88713138409474,"d":"54.89"},{"v":8.376660082482392,"d":"8.38"},{"v":45.11286861590526,"d":"45.11"},null,null,9,{"v":66.4262571258397,"d":"66.43"},{"v":4.784927915843779,"d":"4.78"},{"v":33.5737428741603,"d":"33.57"}]
[null,12,{"v":47.30836392782155,"d":"47.31"},{"v":1.4307220424894518,"d":"1.43"},{"v":52.69163607217845,"d":"52.69"},{"$nulls":4},12,{"v":45.25399298557365,"d":"45.25"},{"v":4.868251773664461,"d":"4.87"},{"$f":"100-K22","v":{"v":54.74600701442635,"d":"54.75"}},null,null,12,{"v":55.37551353253523,"d":"55.38"},{"v":0.5350801578486067,"d":"0.54"},{"$f":"100-Q22","v":{"v":44.62448646746477,"d":"44.62"}}]
[null,24,{"v":25.275194184427793,"d":"25.28"},{"v":3.1503540468169295,"d":"3.15"},{"$f":"100-C23","v":{"v":74.72480581557221,"d":"74.72"}},{"$nulls":4},24,{"v":30.739019321297974,"d":"30.74"},{"v":2.4463085876853428,"d":"2.45"},{"v":69.26098067870203,"d":"69.26"},null,null,24,{"v":37.26524564919067,"d":"37.27"},{"v":4.083457033426762,"d":"4.08"},{"$f":"100-Q23","v":{"v":62.73475435080933,"d":"62.73"}}]

{"sheet":"U87 mean (2)","index":5,"n_rows":24,"n_cols":19,"rows_kept":24,"merged":[[19,0,23,0],[19,8,23,8],[19,14,23,14]]}
[]
[]
[]
[]
[]
[null,null,"CONTROL",{"$nulls":7},"PERPHENAZINE 1uM",{"$nulls":5},"PROCHLORPERAZINE 1uM"]
[]
["time [h]",null,"% wound heling",{"$nulls":5},"time [h]",null,"% wound heling",{"$nulls":3},"time [h]",null,"% wound heling"]
[null,"I","II","III",{"$nulls":5},"I","II","III",{"$nulls":3},"I","II","III"]
[0,5100055.333333333,4889423,4290727.666666667,{"$nulls":4},0,5207691,4855697,4173260.3333333335,null,null,0,4804586,5190564.666666667,5946858]
[3,3645973.3333333335,4007689.6666666665,3458954.6666666665,{"$nulls":4},3,3006746.3333333335,3642795.6666666665,3599028.6666666665,null,null,3,4196708,4574769,4801820.666666667]
[6,3291347.6666666665,3222718,3261047,{"$nulls":4},6,2600301.3333333335,2741956.6666666665,2788182,null,null,6,3557663,3776246,4726157.666666667]
[9,2758545.6666666665,2851792.3333333335,2400185,{"$nulls":4},9,2375637,2773975.6666666665,2583885.3333333335,null,null,9,3354495.6666666665,3163817.6666666665,4074008.3333333335]
[12,2408862.3333333335,2384850.3333333335,1970186.6666666667,{"$nulls":4},12,2127327,2157433,2106716,null,null,12,2688073.3333333335,2849004,3288037.6666666665]
[24,1303197.3333333333,1382614.6666666667,943758.6666666666,{"$nulls":4},24,1464544.6666666667,1511328,1375902.6666666667,null,null,24,2007844.6666666667,1876441.3333333333,2013282.6666666667]
[]
[]
[null,null,"mean","SD",{"$nulls":6},"mean","SD",{"$nulls":4},"mean","SD"]
[null,null,{"$f":"(AVERAGE(B10:D10))","v":{"v":4760068.666666667,"d":"4760068.67"}},{"$f":"STDEVA(B10:D10)","v":{"v":419883.585856974,"d":"419883.59"}},{"$f":"100-C19","v":{"v":-4759968.666666667,"d":"-4759968.67"}},{"$nulls":4},0,{"$f":"(AVERAGE(J10:L10))","v":{"v":4745549.444444445,"d":"4745549.44"}},{"$f":"STDEVA(J10:L10)","v":{"v":525938.2701717562,"d":"525938.27"}},{"$f":"100-K19","v":{"v":-4745449.444444445,"d":"-4745449.44"}},null,null,0,{"$f":"(AVERAGE(P10:R10))","v":{"v":5314002.888888889,"d":"5314002.89"}},{"$f":"STDEVA(P10:R10)","v":{"v":581054.2801882084,"d":"581054.28"}}]
["% of wound healing ",null,{"v":3704205.8888888885,"d":"3704205.89"},{"v":278963.7932620435,"d":"278963.79"},{"$f":"100-C20","v":{"v":-3704105.8888888885,"d":"-3704105.89"}},{"$nulls":3},"% of wound healing ",3,{"$f":"(AVERAGE(J11:L11))","v":{"v":3416190.222222222,"d":"3416190.22"}},{"$f":"STDEVA(J11:L11)","v":{"v":355263.43913157244,"d":"355263.44"}},{"$f":"100-K20","v":{"v":-3416090.222222222,"d":"-3416090.22"}},null,"% of wound healing ",3,{"$f":"(AVERAGE(P11:R11))","v":{"v":4524432.555555556,"d":"4524432.56"}},{"$f":"STDEVA(P11:R11)","v":{"v":305680.63901659305,"d":"305680.64"}}]
[null,null,{"v":3258370.8888888885,"d":"3258370.89"},{"v":34393.007497218074,"d":"34393.01"},{"v":-3258270.8888888885,"d":"-3258270.89"},{"$nulls":4},6,{"$f":"(AVERAGE(J12:L12))","v":{"v":2710146.6666666665,"d":"2710146.67"}},{"$f":"STDEVA(J12:L12)","v":{"v":97896.3395729266,"d":"97896.34"}},{"v":-2710046.6666666665,"d":"-2710046.67"},null,null,6,{"$f":"(AVERAGE(P12:R12))","v":{"v":4020022.2222222225,"d":"4020022.22"}},{"$f":"STDEVA(P12:R12)","v":{"v":621220.638258106,"d":"621220.64"}},{"$f":"100-Q21","v":{"v":-4019922.2222222225,"d":"-4019922.22"}}]
[null,null,{"v":2670174.3333333335,"d":"2670174.33"},{"v":238420.66876939268,"d":"238420.67"},{"v":-2670074.3333333335,"d":"-2670074.33"},{"$nulls":4},9,{"v":2577832.6666666665,"d":"2577832.67"},{"v":199238.29807739714,"d":"199238.30"},{"v":-2577732.6666666665,"d":"-2577732.67"},null,null,9,{"v":3530773.8888888885,"d":"3530773.89"},{"v":480017.9904380172,"d":"480017.99"},{"v":-3530673.8888888885,"d":"-3530673.89"}]
[null,null,{"v":2254633.1111111115,"d":"2254633.11"},{"v":246630.24724030675,"d":"246630.25"},{"v":-2254533.1111111115,"d":"-2254533.11"},{"$nulls":4},12,{"v":2130492,"d":"2130492.00"},{"v":25506.203970798946,"d":"25506.20"},{"$f":"100-K23","v":{"v":-2130392,"d":"-2130392.00"}},null,null,12,{"v":2941705,"d":"2941705.00"},{"v":310538.897513303,"d":"310538.90"},{"$f":"100-Q23","v":{"v":-2941605,"d":"-2941605.00"}}]
[null,null,{"v":1209856.8888888888,"d":"1209856.89"},{"v":233843.913991395,"d":"233843.91"},{"v":-1209756.8888888888,"d":"-1209756.89"},{"$nulls":4},24,{"v":1450591.777777778,"d":"1450591.78"},{"v":68782.39279328952,"d":"68782.39"},{"v":-1450491.777777778,"d":"-1450491.78"},null,null,24,{"v":1965856.2222222222,"d":"1965856.22"},{"v":77483.28676081877,"d":"77483.29"},{"$f":"100-Q24","v":{"v":-1965756.2222222222,"d":"-1965756.22"}}]

{"sheet":"wound closure %","index":6,"n_rows":26,"n_cols":21,"rows_kept":26,"merged":[[11,1,15,1],[16,1,20,1],[21,1,25,1]]}
[{"$nulls":3},1,{"$nulls":6},2,{"$nulls":6},3]
[null,"control","wound closure","perf","wound closure","pro","wound closure",null,"control","wound closure","perf","wound closure","pro","wound closure",null,"control","wound closure","perf","wound closure","pro","wound closure"]
[0,5100055.333333333,null,5207691,null,4804586,null,null,4889423,null,4855697,null,5190564.666666667,null,null,4290727.666666667,null,4173260.3333333335,null,5946858]
[3,3645973.3333333335,{"$f":"(($B$3-B4)/$B$3)*100","v":{"v":28.51110242856188,"d":"28.51"}},3006746.3333333335,{"$f":"(($D$3-D4)/$D$3)*100","v":{"v":42.26334985441084,"d":"42.26"}},4196708,{"$f":"(($F$3-F4)/$F$3)*100","v":{"v":12.652037032951435,"d":"12.65"}},null,4007689.6666666665,{"$f":"(($I$3-I4)/$I$3)*100","v":{"v":18.033484387285238,"d":"18.03"}},3642795.6666666665,{"$f":"(($K$3-K4)/$K$3)*100","v":{"v":24.97893368003262,"d":"24.98"}},4574769,{"$f":"(($M$3-M4)/$M$3)*100","v":{"v":11.863750983033707,"d":"11.86"}},null,3458954.6666666665,{"$f":"(($P$3-P4)/$P$3)*100","v":{"v":19.38535988806251,"d":"19.39"}},3599028.6666666665,{"$f":"(($R$3-R4)/$R$3)*100","v":{"v":13.759785414776832,"d":"13.76"}},4801820.666666667,{"$f":"(($T$3-T4)/$T$3)*100","v":{"v":19.2544925964826,"d":"19.25"}}]
[6,3291347.6666666665,{"$f":"(($B$3-B5)/$B$3)*100","v":{"v":35.46447143122499,"d":"35.46"}},2600301.3333333335,{"$f":"(($D$3-D5)/$D$3)*100","v":{"v":50.068056393258864,"d":"50.07"}},3557663,{"$f":"(($F$3-F5)/$F$3)*100","v":{"v":25.95276679405884,"d":"25.95"}},null,3222718,{"$f":"(($I$3-I5)/$I$3)*100","v":{"v":34.08796907119716,"d":"34.09"}},2741956.6666666665,{"$f":"(($K$3-K5)/$K$3)*100","v":{"v":43.53114152990464,"d":"43.53"}},3776246,{"$f":"(($M$3-M5)/$M$3)*100","v":{"v":27.247876820595117,"d":"27.25"}},null,3261047,{"$f":"(($P$3-P5)/$P$3)*100","v":{"v":23.997809850900975,"d":"24.00"}},2788182,{"$f":"(($R$3-R5)/$R$3)*100","v":{"v":33.189358503954665,"d":"33.19"}},4726157.666666667,{"$f":"(($T$3-T5)/$T$3)*100","v":{"v":20.526811525234553,"d":"20.53"}}]
[9,2758545.6666666665,{"v":45.91145612407081,"d":"45.91"},2375637,{"v":54.38214364101096,"d":"54.38"},3354495.6666666665,{"v":30.181379484795016,"d":"30.18"},null,2851792.3333333335,{"v":41.674256178421594,"d":"41.67"},2773975.6666666665,{"v":42.87173053288402,"d":"42.87"},3163817.6666666665,{"v":39.046753680107,"d":"39.05"},null,2400185,{"v":44.06112001359832,"d":"44.06"},2583885.3333333335,{"v":38.08473167382081,"d":"38.08"},4074008.3333333335,{"v":31.493095457578885,"d":"31.49"}]
[12,2408862.3333333335,{"v":52.767917681416,"d":"52.77"},2127327,{"v":59.15028368618644,"d":"59.15"},2688073.3333333335,{"v":44.051925944642605,"d":"44.05"},null,2384850.3333333335,{"v":51.22429919985787,"d":"51.22"},2157433,{"v":55.56903571207182,"d":"55.57"},2849004,{"v":45.11186772614463,"d":"45.11"},null,1970186.6666666667,{"v":54.082691335261465,"d":"54.08"},2106716,{"v":49.51870164502079,"d":"49.52"},3288037.6666666665,{"v":44.70966573160707,"d":"44.71"}]
[24,1303197.3333333333,{"v":74.44738834859702,"d":"74.45"},1464544.6666666667,{"v":71.87727408045778,"d":"71.88"},2007844.6666666667,{"v":58.20982980288692,"d":"58.21"},null,1382614.6666666667,{"v":71.7223347894697,"d":"71.72"},1511328,{"v":68.87515839641559,"d":"68.88"},1876441.3333333333,{"v":63.848994207052876,"d":"63.85"},null,943758.6666666666,{"v":78.0046943086499,"d":"78.00"},1375902.6666666667,{"v":67.03050955923271,"d":"67.03"},2013282.6666666667,{"v":66.14543904248819,"d":"66.15"}]
[]
[]
[null,null,"time",1,2,3,"mean","SD"]
[null,"control",3,{"$f":"C4","v":{"v":28.51110242856188,"d":"28.51"}},{"$f":"J4","v":{"v":18.033484387285238,"d":"18.03"}},{"$f":"Q4","v":{"v":19.38535988806251,"d":"19.39"}},{"$f":"AVERAGE(D12:F12)","v":{"v":21.976648901303207,"d":"21.98"}},{"$f":"STDEV(D12:F12)","v":{"v":5.699228370343477,"d":"5.70"}}]
[null,null,6,{"$f":"C5","v":{"v":35.46447143122499,"d":"35.46"}},{"$f":"J5","v":{"v":34.08796907119716,"d":"34.09"}},{"$f":"Q5","v":{"v":23.997809850900975,"d":"24.00"}},{"$f":"AVERAGE(D13:F13)","v":{"v":31.18341678444104,"d":"31.18"}},{"$f":"STDEV(D13:F13)","v":{"v":6.260862555534551,"d":"6.26"}}]
[null,null,9,{"v":45.91145612407081,"d":"45.91"},{"v":41.674256178421594,"d":"41.67"},{"v":44.06112001359832,"d":"44.06"},{"v":43.88227743869691,"d":"43.88"},{"v":2.124253832478703,"d":"2.12"}]
[null,null,12,{"v":52.767917681416,"d":"52.77"},{"v":51.22429919985787,"d":"51.22"},{"v":54.082691335261465,"d":"54.08"},{"v":52.69163607217845,"d":"52.69"},{"v":1.4307220424894518,"d":"1.43"}]
[null,null,24,{"v":74.44738834859702,"d":"74.45"},{"v":71.7223347894697,"d":"71.72"},{"v":78.0046943086499,"d":"78.00"},{"v":74.72480581557221,"d":"74.72"},{"v":3.1503540468169176,"d":"3.15"}]
[null,"perf",3,{"$f":"E4","v":{"v":42.26334985441084,"d":"42.26"}},{"$f":"L4","v":{"v":24.97893368003262,"d":"24.98"}},{"$f":"S4","v":{"v":13.759785414776832,"d":"13.76"}},{"v":27.000689649740096,"d":"27.00"},{"v":14.35893169222133,"d":"14.36"}]
[null,null,6,{"$f":"E5","v":{"v":50.068056393258864,"d":"50.07"}},{"$f":"L5","v":{"v":43.53114152990464,"d":"43.53"}},{"$f":"S5","v":{"v":33.189358503954665,"d":"33.19"}},{"v":42.26285214237272,"d":"42.26"},{"v":8.510524607067103,"d":"8.51"}]
[null,null,9,{"v":54.38214364101096,"d":"54.38"},{"v":42.87173053288402,"d":"42.87"},{"v":38.08473167382081,"d":"38.08"},{"v":45.11286861590526,"d":"45.11"},{"v":8.376660082482392,"d":"8.38"}]
[null,null,12,{"v":59.15028368618644,"d":"59.15"},{"v":55.56903571207182,"d":"55.57"},{"v":49.51870164502079,"d":"49.52"},{"v":54.74600701442635,"d":"54.75"},{"v":4.868251773664461,"d":"4.87"}]
[null,null,24,{"v":71.87727408045778,"d":"71.88"},{"v":68.87515839641559,"d":"68.88"},{"v":67.03050955923271,"d":"67.03"},{"v":69.26098067870203,"d":"69.26"},{"v":2.4463085876853428,"d":"2.45"}]
[null,"pro",3,{"$f":"G4","v":{"v":12.652037032951435,"d":"12.65"}},{"$f":"N4","v":{"v":11.863750983033707,"d":"11.86"}},{"$f":"U4","v":{"v":19.2544925964826,"d":"19.25"}},{"v":14.590093537489247,"d":"14.59"},{"v":4.058671292464724,"d":"4.06"}]
[null,null,6,{"$f":"G5","v":{"v":25.95276679405884,"d":"25.95"}},{"$f":"N5","v":{"v":27.247876820595117,"d":"27.25"}},{"$f":"U5","v":{"v":20.526811525234553,"d":"20.53"}},{"v":24.575818379962836,"d":"24.58"},{"v":3.5658336861716258,"d":"3.57"}]
[null,null,9,{"v":30.181379484795016,"d":"30.18"},{"v":39.046753680107,"d":"39.05"},{"v":31.493095457578885,"d":"31.49"},{"v":33.5737428741603,"d":"33.57"},{"v":4.7849279158437765,"d":"4.78"}]
[null,null,12,{"v":44.051925944642605,"d":"44.05"},{"v":45.11186772614463,"d":"45.11"},{"v":44.70966573160707,"d":"44.71"},{"v":44.62448646746477,"d":"44.62"},{"v":0.5350801578486067,"d":"0.54"}]
[null,null,24,{"v":58.20982980288692,"d":"58.21"},{"v":63.848994207052876,"d":"63.85"},{"v":66.14543904248819,"d":"66.15"},{"v":62.73475435080933,"d":"62.73"},{"v":4.083457033426762,"d":"4.08"}]

{"sheet":"rate of cell migration","index":7,"n_rows":72,"n_cols":120,"rows_kept":72,"merged":[[57,113,61,113],[62,113,66,113],[67,113,71,113]]}
[null,"base on hemacytometer scale photo","0,25mm = 464,07",null,"so 1 mm = 1856,28",{"$nulls":92},1,{"$nulls":11},2,{"$nulls":6},3]
[]
[{"$nulls":3},1,null,null,2,null,null,3,{"$nulls":5},1,null,null,2,null,null,3,{"$nulls":5},1,null,null,2,null,null,3,{"$nulls":59},"control","średnia","nm","rate of cell migration [nm/h]","perf","średnia","nm","rate of cell migration","pro","średnia","nm","rate of cell migration",null,"control",null,"wound closure","perf","wound closure","pro","wound closure",null,"control","wound closure","perf","wound closure","pro","wound closure"]
[null,null,1332,1500,1316.3,1420.28,1472.02,1440.01,1340.02,1336.02,1464.01,{"$nulls":3},1132.01,1280,1152.06,1272.06,1236.06,1332.49,1368,1302.06,1200.37,{"$nulls":3},1398.21,1308.22,1536,1590.28,1508.01,1398.21,1302.01,1378.22,1356.23,{"$nulls":57},0,1440.01,{"$f":"AVERAGE(CP4:CP8)","v":1341.6299999999999},{"$f":"(CQ4/1856.28)*1000000","v":722751.9555239511},null,1132.01,{"$f":"AVERAGE(CT4:CT8)","v":1276.354},{"$f":"(CU4/1856.28)*1000000","v":687587.0019609111},null,1308.22,{"$f":"AVERAGE(CX4:CX8)","v":1323.3120000000001},{"$f":"(CY4/1856.28)*1000000","v":712883.8321804901},null,null,4889423,null,null,4855697,null,5190564.666666667,null,null,4290727.666666667,null,4173260.3333333335,null,5946858]
["t0","Control",1348.02,1412.02,1244.23,1208.01,1336.02,1256.03,1316.15,1376.02,1376.21,null,"t0","Perf 1.0",1240.03,1248.01,1210.13,1182.06,1164.14,1242.23,1162.08,1272.01,1284.22,null,"t0","Pro 1.0",1452.01,1344.01,1320.05,1494.01,1380.05,1350.33,1464.2,1415.76,1427.89,{"$nulls":58},1256.03,{"$nulls":3},1240.03,{"$nulls":3},1344.01]
[null,null,1508.01,1388.14,1480.01,1408.09,1508,1296.1,1212.17,1356.02,1368.15,{"$nulls":3},1288.4,1308.01,1194.14,1446.62,1320.01,1242.37,1272.06,1422.05,1308.88,{"$nulls":3},1380,1424.2,1446.01,1596.72,1572.1,1458.2,1450.8,1444.2,1400.05,{"$nulls":58},1296.1,{"$nulls":3},1288.4,{"$nulls":3},1424.2]
[null,null,1300,1368.15,1528.01,1504.02,1392.05,1408,1396.09,1296,1252.41,{"$nulls":3},1321.19,1248.23,1134.25,1207.8,1350.21,1302.5,1332,1266.01,1392.83,{"$nulls":3},1434.01,1296.1,1278.13,1542.11,1494.19,1314.01,1385.35,1300,1301.28,{"$nulls":58},1408,{"$nulls":3},1321.19,{"$nulls":3},1296.1]
[null,null,1352,1230,1233.26,1248.06,1412.46,1308.01,1328.02,1512.18,1384.05,{"$nulls":3},1400.14,1224.01,1266,1290.06,1194.24,1284.01,1278.01,1254.01,1212.06,{"$nulls":3},1212.01,1244.03,{"v":1356,"d":"1356.00"},1490.66,{"v":1422,"d":"1422.00"},1370.09,1419.21,1379.08,1344.33,{"$nulls":58},1308.01,{"$nulls":3},1400.14,{"$nulls":3},1244.03]
[null,"mean",{"$f":"AVERAGE(C4:C8)","v":{"v":1368.0059999999999,"d":"1368.01"}},{"v":1379.6619999999998,"d":"1379.66"},{"v":1360.362,"d":"1360.36"},{"v":1357.6919999999998,"d":"1357.69"},{"$f":"AVERAGE(G4:G8)","v":{"v":1424.1100000000001,"d":"1424.11"}},{"$f":"AVERAGE(H4:H8)","v":{"v":1341.6299999999999,"d":"1341.63"}},{"v":1318.4900000000002,"d":"1318.49"},{"v":1375.248,"d":"1375.25"},{"v":1368.9660000000001,"d":"1368.97"},null,null,"mean",{"$f":"AVERAGE(O4:O8)","v":{"v":1276.354,"d":"1276.35"}},{"v":1261.652,"d":"1261.65"},{"v":1191.316,"d":"1191.32"},1279.72,{"v":1252.932,"d":"1252.93"},1280.72,{"v":1282.4299999999998,"d":"1282.43"},{"v":1303.228,"d":"1303.23"},{"v":1279.672,"d":"1279.67"},null,null,"mean",{"$f":"AVERAGE(AA4:AA8)","v":{"v":1375.248,"d":"1375.25"}},{"$f":"AVERAGE(AB4:AB8)","v":{"v":1323.3120000000001,"d":"1323.31"}},{"v":1387.238,"d":"1387.24"},{"v":1542.7559999999999,"d":"1542.76"},1475.27,{"v":1378.1680000000001,"d":"1378.17"},{"v":1404.314,"d":"1404.31"},{"v":1383.452,"d":"1383.45"},{"v":1365.956,"d":"1365.96"}]
[null,"mean/experiment",null,{"$f":"AVERAGE(C9:E9)","v":{"v":1369.3433333333332,"d":"1369.34"}},null,null,{"$f":"AVERAGE(F9:H9)","v":{"v":1374.4773333333333,"d":"1374.48"}},null,null,{"$f":"AVERAGE(I9:K9)","v":{"v":1354.234666666667,"d":"1354.23"}},{"$nulls":3},"mean/experiment",null,{"$f":"AVERAGE(O9:Q9)","v":{"v":1243.1073333333334,"d":"1243.11"}},null,null,{"$f":"AVERAGE(R9:T9)","v":{"v":1271.124,"d":"1271.12"}},null,null,{"$f":"AVERAGE(U9:W9)","v":{"v":1288.4433333333334,"d":"1288.44"}},{"$nulls":3},"mean/experiment",null,{"$f":"AVERAGE(AA9:AC9)","v":{"v":1361.9326666666668,"d":"1361.93"}},null,null,{"$f":"AVERAGE(AD9:AF9)","v":{"v":1465.398,"d":"1465.40"}},null,null,{"$f":"AVERAGE(AG9:AI9)","v":{"v":1384.5739999999998,"d":"1384.57"}}]
[null,"nm",null,{"$f":"(D10/1856.28)*1000000","v":{"v":737681.4561021685,"d":"737681.46"}},null,null,{"$f":"(G10/1856.28)*1000000","v":{"v":740447.2026490256,"d":"740447.20"}},null,null,{"$f":"(J10/1856.28)*1000000","v":{"v":729542.2385990621,"d":"729542.24"}},{"$nulls":3},"nm",null,{"$f":"(P10/1856.28)*1000000","v":{"v":669676.6292441514,"d":"669676.63"}},null,null,{"$f":"(S10/1856.28)*1000000","v":{"v":684769.5390781563,"d":"684769.54"}},null,null,{"$f":"(V10/1856.28)*1000000","v":{"v":694099.6688717938,"d":"694099.67"}},{"$nulls":3},"nm",null,{"$f":"(AB10/1856.28)*1000000","v":{"v":733689.2422838509,"d":"733689.24"}},null,null,{"$f":"(AE10/1856.28)*1000000","v":{"v":789427.241579934,"d":"789427.24"}},null,null,{"$f":"(AH10/1856.28)*1000000","v":{"v":745886.3964488115,"d":"745886.40"}}]
[]
[null,"total mean",null,{"$f":"AVERAGE(D11:J11)","v":{"v":735890.2991167521,"d":"735890.30"}},{"$f":"STDEV(D11:J11)","v":{"v":5668.839629285151,"d":"5668.84"}},{"$nulls":8},"total mean",null,{"$f":"AVERAGE(P11:V11)","v":{"v":682848.6123980338,"d":"682848.61"}},{"$f":"STDEV(P11:V11)","v":{"v":12324.31278595899,"d":"12324.31"}},{"$nulls":8},"total mean",null,{"$f":"AVERAGE(AB11:AH11)","v":{"v":756334.2934375321,"d":"756334.29"}},{"$f":"STDEV(AB11:AH11)","v":{"v":29301.02481139062,"d":"29301.02"}}]
[]
[]
[]
[{"$nulls":3},1,null,null,2,null,null,3,{"$nulls":5},1,null,null,2,null,null,3,{"$nulls":5},1,null,null,2,null,null,3]
[null,null,544.01,492.15,264,288.11,348.02,220.33,572.13,248,377.04,{"$nulls":3},468,408,360.02,392.08,460.28,452.02,416,488.02,392,{"$nulls":3},840,780.37,684,480.15,798.2,632.92,750.02,804,750.1]
["t24","Control",588,508.39,376,556.06,452.16,456.44,312.03,336.02,600,null,"t24","Perf 1.0",488,484.26,336.21,388.02,496.06,320.1,330,440.05,296.03,null,"t24","Pro 1.0",726.22,579.14,702.41,510.04,738.22,584.09,660.03,792.36,720.02]
[null,null,504.25,528,200,304.24,220.04,352.09,340.09,392.08,332.1,{"$nulls":3},408.02,408.02,372.09,460.02,392.73,436.02,168.05,540,480,{"$nulls":3},540.03,708.03,696.23,648.25,714.1,704.1,750,696.41,624.26]
[null,null,416.69,540.73,301,428,208,376.53,624.01,428.02,453.15,{"$nulls":3},428.3,428.3,424.68,364.35,436.02,340.21,308,504.14,384,{"$nulls":3},600.27,606.12,642,672.96,582.12,604.01,624.12,438.66,546.3]
[null,null,636.45,504.02,208.04,596,288,352.36,308.03,420.08,340.09,{"$nulls":3},452.02,452.02,424.3,436.66,369.06,372,244.13,204.04,316.23,{"$nulls":3},654,438.04,534.13,492.15,612.26,612.01,606.03,600.12,528.03]
[null,"mean",{"$f":"AVERAGE(C18:C22)","v":{"v":537.8799999999999,"d":"537.88"}},{"$f":"AVERAGE(D18:D22)","v":{"v":514.658,"d":"514.66"}},{"$f":"AVERAGE(E18:E22)","v":{"v":269.808,"d":"269.81"}},{"$f":"AVERAGE(F18:F22)","v":{"v":434.48199999999997,"d":"434.48"}},{"$f":"AVERAGE(G18:G22)","v":{"v":303.244,"d":"303.24"}},{"$f":"AVERAGE(H18:H22)","v":351.55},{"$f":"AVERAGE(I18:I22)","v":{"v":431.258,"d":"431.26"}},{"$f":"AVERAGE(J18:J22)","v":364.84},{"$f":"AVERAGE(K18:K22)","v":{"v":420.476,"d":"420.48"}},null,null,"mean",{"$f":"AVERAGE(O18:O22)","v":{"v":448.86800000000005,"d":"448.87"}},436.12,383.46,{"v":408.226,"d":"408.23"},{"v":430.83000000000004,"d":"430.83"},384.07,{"v":293.236,"d":"293.24"},435.25,{"v":373.652,"d":"373.65"},null,null,"mean",{"$f":"AVERAGE(AA18:AA22)","v":{"v":672.104,"d":"672.10"}},{"$f":"AVERAGE(AB18:AB22)","v":{"v":622.3399999999999,"d":"622.34"}},{"v":651.754,"d":"651.75"},560.71,{"v":688.9799999999999,"d":"688.98"},{"v":627.426,"d":"627.43"},678.04,666.31,{"v":633.742,"d":"633.74"}]
[null,"mean/experiment",null,{"$f":"AVERAGE(C23:E23)","v":{"v":440.782,"d":"440.78"}},null,null,{"$f":"AVERAGE(F23:H23)","v":{"v":363.09200000000004,"d":"363.09"}},null,null,{"$f":"AVERAGE(I23:K23)","v":{"v":405.5246666666667,"d":"405.52"}},{"$nulls":3},"mean/experiment",null,{"$f":"AVERAGE(O23:Q23)","v":{"v":422.81600000000003,"d":"422.82"}},null,null,{"$f":"AVERAGE(R23:T23)","v":{"v":407.70866666666666,"d":"407.71"}},null,null,{"$f":"AVERAGE(U23:W23)","v":{"v":367.3793333333333,"d":"367.38"}},{"$nulls":3},"mean/experiment",null,{"$f":"AVERAGE(AA23:AC23)","v":{"v":648.7326666666667,"d":"648.73"}},null,null,{"$f":"AVERAGE(AD23:AF23)","v":{"v":625.7053333333333,"d":"625.71"}},null,null,{"$f":"AVERAGE(AG23:AI23)","v":{"v":659.3639999999999,"d":"659.36"}}]
[null,"nm",null,{"$f":"(D24/1856.28)*1000000","v":{"v":237454.47885017344,"d":"237454.48"}},null,null,{"$f":"(G24/1856.28)*1000000","v":{"v":195601.9566013748,"d":"195601.96"}},null,null,{"$f":"(J24/1856.28)*1000000","v":{"v":218460.93620933624,"d":"218460.94"}},{"$nulls":3},"nm",null,{"$f":"(P24/1856.28)*1000000","v":{"v":227775.98207167024,"d":"227775.98"}},null,null,{"$f":"(S24/1856.28)*1000000","v":{"v":219637.48285100667,"d":"219637.48"}},null,null,{"$f":"(V24/1856.28)*1000000","v":{"v":197911.5937969128,"d":"197911.59"}},{"$nulls":3},"nm",null,{"$f":"(AB24/1856.28)*1000000","v":{"v":349479.9635112519,"d":"349479.96"}},null,null,{"$f":"(AE24/1856.28)*1000000","v":{"v":337074.8665790362,"d":"337074.87"}},null,null,{"$f":"(AH24/1856.28)*1000000","v":{"v":355207.1885706897,"d":"355207.19"}},{"$nulls":58},24,348.02,{"$f":"AVERAGE(CP25:CP29)","v":303.244},{"$f":"(CQ25/1856.28)*1000000","v":163361.13086387832},{"$f":"(CR4-CR25)/24","v":{"v":23307.951027503033,"d":"23307.95"}},416,{"$f":"AVERAGE(CT25:CT29)","v":293.236},{"$f":"(CU25/1856.28)*1000000","v":157969.70284655332},{"$f":"(CV4-CV25)/24","v":{"v":22067.387463098243,"d":"22067.39"}},632.92,{"$f":"AVERAGE(CX25:CX29)","v":627.426},{"$f":"(CY25/1856.28)*1000000","v":338001.8100717564},{"$f":"(CZ4-CZ25)/24","v":{"v":15620.084254530571,"d":"15620.08"}},null,1382614.6666666667,null,{"$f":"(($DC$4-DC25)/$DC$4)*100","v":{"v":71.7223347894697,"d":"71.72"}},1511328,{"$f":"(($DF$4-DF25)/$DF$4)*100","v":{"v":68.87515839641559,"d":"68.88"}},1876441.3333333333,{"$f":"(($DH$4-DH25)/$DH$4)*100","v":{"v":63.848994207052876,"d":"63.85"}},null,943758.6666666666,{"$f":"(($DK$4-DK25)/$DK$4)*100","v":{"v":78.0046943086499,"d":"78.00"}},1375902.6666666667,{"$f":"(($DM$4-DM25)/$DM$4)*100","v":{"v":67.03050955923271,"d":"67.03"}},2013282.6666666667,{"$f":"(($DO$4-DO25)/$DO$4)*100","v":{"v":66.14543904248819,"d":"66.15"}}]
[{"$nulls":93},452.16,{"$nulls":3},330,{"$nulls":3},584.09]
[null,"total mean",null,{"$f":"AVERAGE(D25:J25)","v":{"v":217172.45722029483,"d":"217172.46"}},{"$f":"STDEV(D25:J25)","v":{"v":20955.990509289866,"d":"20955.99"}},{"$nulls":8},"total mean",null,{"$f":"AVERAGE(P25:V25)","v":{"v":215108.3529065299,"d":"215108.35"}},{"$f":"STDEV(P25:V25)","v":{"v":15438.755950426648,"d":"15438.76"}},{"$nulls":8},"total mean",null,{"$f":"AVERAGE(AB25:AH25)","v":{"v":347254.0062203259,"d":"347254.01"}},{"$f":"STDEV(AB25:AH25)","v":{"v":9268.84240873799,"d":"9268.84"}},{"$nulls":64},220.04,{"$nulls":3},168.05,{"$nulls":3},704.1]
[null,"rate of cell migration [nm/h]",null,{"$f":"(D13-D27)/24","v":{"v":21613.243412352385,"d":"21613.24"}},{"$nulls":9},"rate of cell migration [nm/h]",null,{"$f":"(P13-P27)/24","v":{"v":19489.177478812664,"d":"19489.18"}},{"$nulls":9},"rate of cell migration [nm/h]",null,{"$f":"(AB13-AB27)/24","v":{"v":17045.011967383594,"d":"17045.01"}},{"$nulls":65},208,{"$nulls":3},308,{"$nulls":3},604.01]
[{"$nulls":93},288,{"$nulls":3},244.13,{"$nulls":3},612.01]
[null,"rate vs control",null,1,{"$nulls":9},"rate vs control",null,{"$f":"P28/D28","v":{"v":0.9017238693418047,"d":"0.90"}},{"$nulls":9},"rate vs control",null,{"$f":"AB28/D28","v":{"v":0.7886373943136198,"d":"0.79"}}]
{"$rows_empty":19}
[{"$nulls":101},464.16]
[]
[]
[]
[]
[]
[]
[{"$nulls":114},"time",1,2,3,"średnia","SD"]
[{"$nulls":113},"control",3,{"$f":"#REF!","v":{"$error":"#REF!"}},{"$f":"#REF!","v":{"$error":"#REF!"}},{"$f":"#REF!","v":{"$error":"#REF!"}},{"$f":"AVERAGE(DL58:DN58)","v":{"$error":"#REF!"}},{"$f":"STDEV(DL58:DN58)","v":{"$error":"#REF!"}}]
[{"$nulls":114},6,{"$f":"#REF!","v":{"$error":"#REF!"}},{"$f":"#REF!","v":{"$error":"#REF!"}},{"$f":"#REF!","v":{"$error":"#REF!"}},{"$f":"AVERAGE(DL59:DN59)","v":{"$error":"#REF!"}},{"$f":"STDEV(DL59:DN59)","v":{"$error":"#REF!"}}]
[{"$nulls":114},9,{"$f":"#REF!","v":{"$error":"#REF!"}},{"$f":"#REF!","v":{"$error":"#REF!"}},{"$f":"#REF!","v":{"$error":"#REF!"}},{"$error":"#REF!"},{"$error":"#REF!"}]
[{"$nulls":114},12,{"$f":"#REF!","v":{"$error":"#REF!"}},{"$f":"#REF!","v":{"$error":"#REF!"}},{"$f":"#REF!","v":{"$error":"#REF!"}},{"$error":"#REF!"},{"$error":"#REF!"}]
[{"$nulls":114},24,{"$f":"CS25","v":{"v":23307.951027503033,"d":"23307.95"}},{"$f":"DE25","v":{"v":71.7223347894697,"d":"71.72"}},{"$f":"DL25","v":{"v":78.0046943086499,"d":"78.00"}},{"v":7819.226018867051,"d":"7819.23"},{"v":13413.629697508037,"d":"13413.63"}]
[{"$nulls":113},"perf",3,{"$f":"#REF!","v":{"$error":"#REF!"}},{"$f":"#REF!","v":{"$error":"#REF!"}},{"$f":"#REF!","v":{"$error":"#REF!"}},{"$error":"#REF!"},{"$error":"#REF!"}]
[{"$nulls":114},6,{"$f":"#REF!","v":{"$error":"#REF!"}},{"$f":"#REF!","v":{"$error":"#REF!"}},{"$f":"#REF!","v":{"$error":"#REF!"}},{"$error":"#REF!"},{"$error":"#REF!"}]
[{"$nulls":114},9,{"$f":"#REF!","v":{"$error":"#REF!"}},{"$f":"#REF!","v":{"$error":"#REF!"}},{"$f":"#REF!","v":{"$error":"#REF!"}},{"$error":"#REF!"},{"$error":"#REF!"}]
[{"$nulls":114},12,{"$f":"#REF!","v":{"$error":"#REF!"}},{"$f":"#REF!","v":{"$error":"#REF!"}},{"$f":"#REF!","v":{"$error":"#REF!"}},{"$error":"#REF!"},{"$error":"#REF!"}]
[{"$nulls":114},24,{"$f":"CW25","v":{"v":22067.387463098243,"d":"22067.39"}},{"$f":"DG25","v":{"v":68.87515839641559,"d":"68.88"}},{"$f":"DN25","v":{"v":67.03050955923271,"d":"67.03"}},{"v":7401.097710351297,"d":"7401.10"},{"v":12701.37953863004,"d":"12701.38"}]
[{"$nulls":113},"pro",3,{"$f":"#REF!","v":{"$error":"#REF!"}},{"$f":"#REF!","v":{"$error":"#REF!"}},{"$f":"#REF!","v":{"$error":"#REF!"}},{"$error":"#REF!"},{"$error":"#REF!"}]
[{"$nulls":114},6,{"$f":"#REF!","v":{"$error":"#REF!"}},{"$f":"#REF!","v":{"$error":"#REF!"}},{"$f":"#REF!","v":{"$error":"#REF!"}},{"$error":"#REF!"},{"$error":"#REF!"}]
[{"$nulls":114},9,{"$f":"#REF!","v":{"$error":"#REF!"}},{"$f":"#REF!","v":{"$error":"#REF!"}},{"$f":"#REF!","v":{"$error":"#REF!"}},{"$error":"#REF!"},{"$error":"#REF!"}]
[{"$nulls":114},12,{"$f":"#REF!","v":{"$error":"#REF!"}},{"$f":"#REF!","v":{"$error":"#REF!"}},{"$f":"#REF!","v":{"$error":"#REF!"}},{"$error":"#REF!"},{"$error":"#REF!"}]
[{"$nulls":114},24,{"$f":"DA25","v":{"v":15620.084254530571,"d":"15620.08"}},{"$f":"DI25","v":{"v":63.848994207052876,"d":"63.85"}},{"$f":"DP25","v":{"v":66.14543904248819,"d":"66.15"}},{"v":5250.026229260037,"d":"5250.03"},{"v":8980.733762005368,"d":"8980.73"}]