{"text_format":"3","workbook":"xlsx","n_sheets":3,"sheets":["transwell migration","transwell invasion","migration and invasion analysis"],"read":"whole","date_system":"1900"}

{"sheet":"transwell migration","index":0,"n_rows":47,"n_cols":21,"rows_kept":47}
[{"$nulls":5},"cells seeded",{"$nulls":3},25000]
[{"$nulls":5},"multiplication factor",{"$nulls":3},1]
[{"$nulls":5},"for SF N used cal curve y=30081,94x-1839,97"]
[{"$nulls":5},"for SF SF used cal curve y=43899,28x-3071,53"]
[{"$nulls":5},"amount of cells",{"$nulls":6},"amount of cells",{"$nulls":6},"amount of cells"]
[null,"insert","well","A","A-blank",null,"% cells",{"$nulls":3},"A","A-blank",null,"% cells",{"$nulls":3},"A","A-blank",null,"% cells"]
[null,"SF (medium without serum)","N (growth medium with serum)",0.3885,{"$f":"D7-$D$19","v":0.34650000000000003},{"$f":"(E7*30081.94)-1839.97","v":{"v":8583.42221,"d":"8583.42"}},{"$f":"(F7/$J$1)*100*$J$2","v":{"v":34.33368884,"d":"34.33"}},{"$nulls":3},0.3926,{"$f":"K7-$K$19","v":0.3509},{"$f":"(L7*30081.94)-1839.97","v":{"v":8715.782746,"d":"8715.78"}},{"$f":"(M7/$J$1)*100*$J$2","v":{"v":34.863130984,"d":"34.86"}},{"$nulls":3},0.3937,{"$f":"R7-$R$19","v":0.353},{"$f":"(S7*30081.94)-1839.97","v":{"v":8778.954819999999,"d":"8778.95"}},{"$f":"(T7/$J$1)*100*$J$2","v":{"v":35.11581928,"d":"35.12"}}]
[null,"SF","SF",0.1256,{"$f":"D8-$D$19","v":0.08359999999999998},{"$f":"(E8*43899.28)-3071.53","v":{"v":598.4498079999989,"d":"598.45"}},{"$f":"(F8/$J$1)*100*$J$2","v":{"v":2.3937992319999957,"d":"2.39"}},{"$nulls":3},0.1173,{"$f":"K8-$K$19","v":0.0756},{"$f":"(L8*43899.28)-3071.53","v":{"v":247.25556799999958,"d":"247.26"}},{"$f":"(M8/$J$1)*100*$J$2","v":{"v":0.9890222719999984,"d":"0.99"}},{"$nulls":3},0.125,{"$f":"R8-$R$19","v":0.0843},{"$f":"(S8*43899.28)-3071.53","v":{"v":629.1793039999998,"d":"629.18"}},{"$f":"(T8/$J$1)*100*$J$2","v":{"v":2.516717215999999,"d":"2.52"}}]
[null," Bacytracin 2,5mM  SF","N",0.3192,0.2772,{"$f":"(E9*30081.94)-1839.97","v":{"v":6498.743767999999,"d":"6498.74"}},{"v":25.994975072,"d":"25.99"},{"$nulls":3},0.3111,0.2694,{"$f":"(L9*30081.94)-1839.97","v":{"v":6264.104635999998,"d":"6264.10"}},{"v":25.056418543999992,"d":"25.06"},{"$nulls":3},0.4045,0.3638,{"$f":"(S9*30081.94)-1839.97","v":{"v":9103.839772000001,"d":"9103.84"}},{"v":36.415359088,"d":"36.42"}]
[null," Bacytracin 2,5mM  SF","SF",0.122,0.07999999999999999,{"$f":"(E10*43899.28)-3071.53","v":{"v":440.41239999999925,"d":"440.41"}},{"v":1.761649599999997,"d":"1.76"},{"$nulls":3},0.1214,0.0797,{"$f":"(L10*43899.28)-3071.53","v":{"v":427.24261599999954,"d":"427.24"}},{"v":1.708970463999998,"d":"1.71"},{"$nulls":3},0.1363,0.0956,{"$f":"(S10*43899.28)-3071.53","v":{"v":1125.241168,"d":"1125.24"}},{"v":4.500964671999999,"d":"4.50"}]
[null,"Perphenazine 0,5mM SF","N",0.2947,0.25270000000000004,{"$f":"(E11*30081.94)-1839.97","v":{"v":5761.736238,"d":"5761.74"}},{"v":23.046944952,"d":"23.05"},{"$nulls":3},0.258,0.2163,{"$f":"(L11*30081.94)-1839.97","v":{"v":4666.753621999999,"d":"4666.75"}},{"v":18.667014487999996,"d":"18.67"},{"$nulls":3},0.2904,0.24969999999999998,{"$f":"(S11*30081.94)-1839.97","v":{"v":5671.4904179999985,"d":"5671.49"}},{"v":22.685961671999994,"d":"22.69"}]
[null,"Perphenazine 0,5mM SF","SF",0.124,0.08199999999999999,{"$f":"(E12*43899.28)-3071.53","v":{"v":528.2109599999994,"d":"528.21"}},{"v":2.112843839999998,"d":"2.11"},{"$nulls":3},0.1126,0.0709,{"$f":"(L12*43899.28)-3071.53","v":{"v":40.928951999999754,"d":"40.93"}},{"v":0.16371580799999902,"d":"0.16"},{"$nulls":3},0.1345,0.09380000000000001,{"$f":"(S12*43899.28)-3071.53","v":{"v":1046.222464,"d":"1046.22"}},{"v":4.184889856,"d":"4.18"}]
[null,"Prochlorperazine 0,5mM SF","N",0.3367,0.2947,{"$f":"(E13*30081.94)-1839.97","v":{"v":7025.177718,"d":"7025.18"}},{"v":28.100710872,"d":"28.10"},{"$nulls":3},0.3991,0.3574,{"$f":"(L13*30081.94)-1839.97","v":{"v":8911.315356,"d":"8911.32"}},{"v":35.645261424,"d":"35.65"},{"$nulls":3},0.3885,0.3478,{"$f":"(S13*30081.94)-1839.97","v":{"v":8622.528732,"d":"8622.53"}},{"v":34.490114928000004,"d":"34.49"}]
[null,"Prochlorperazine 0,5mM SF","SF",0.1503,0.10829999999999998,{"$f":"(E14*43899.28)-3071.53","v":{"v":1682.7620239999992,"d":"1682.76"}},{"v":6.731048095999998,"d":"6.73"},{"$nulls":3},0.1592,0.11750000000000001,{"$f":"(L14*43899.28)-3071.53","v":{"v":2086.6353999999997,"d":"2086.64"}},{"v":8.346541599999998,"d":"8.35"},{"$nulls":3},0.1631,0.1224,{"$f":"(S14*43899.28)-3071.53","v":{"v":2301.741871999999,"d":"2301.74"}},{"v":9.206967487999997,"d":"9.21"}]
[null,"SF","Prochlorperazine 0,5mM N",0.1281,0.08609999999999998,{"$f":"(E15*30081.94)-1839.97","v":{"v":750.0850339999995,"d":"750.09"}},{"v":3.000340135999998,"d":"3.00"},{"$nulls":3},0.1322,0.09050000000000001,{"$f":"(L15*30081.94)-1839.97","v":{"v":882.4455700000001,"d":"882.45"}},{"v":3.5297822800000005,"d":"3.53"},{"$nulls":3},0.1207,0.08,{"$f":"(S15*30081.94)-1839.97","v":{"v":566.5851999999998,"d":"566.59"}},{"v":2.2663407999999987,"d":"2.27"}]
[null,"SF","Prochlorperazine 0,5mM SF",0.179,0.13699999999999998,{"$f":"(E16*43899.28)-3071.53","v":{"v":2942.671359999999,"d":"2942.67"}},{"v":11.770685439999996,"d":"11.77"},{"$nulls":3},0.1922,0.15050000000000002,{"$f":"(L16*43899.28)-3071.53","v":{"v":3535.3116400000004,"d":"3535.31"}},{"v":14.14124656,"d":"14.14"},{"$nulls":3},0.1727,0.132,{"$f":"(S16*43899.28)-3071.53","v":{"v":2723.17496,"d":"2723.17"}},{"v":10.892699839999999,"d":"10.89"}]
[null,"SF","Perphenazine 0,5mM N",0.1288,0.08679999999999999,{"$f":"(E17*30081.94)-1839.97","v":{"v":771.1423919999995,"d":"771.14"}},{"v":3.084569567999998,"d":"3.08"},{"$nulls":3},0.1095,0.0678,{"$f":"(L17*30081.94)-1839.97","v":{"v":199.58553199999983,"d":"199.59"}},{"v":0.7983421279999993,"d":"0.80"},{"$nulls":3},0.1281,0.08739999999999999,{"$f":"(S17*30081.94)-1839.97","v":{"v":789.1915559999995,"d":"789.19"}},{"v":3.1567662239999983,"d":"3.16"}]
[null,"SF","Perphenazine 0,5mM SF",0.1507,0.10869999999999999,{"$f":"(E18*43899.28)-3071.53","v":{"v":1700.3217359999994,"d":"1700.32"}},{"v":6.8012869439999974,"d":"6.80"},{"$nulls":3},0.1556,0.11389999999999999,{"$f":"(L18*43899.28)-3071.53","v":{"v":1928.5979919999995,"d":"1928.60"}},{"v":7.7143919679999975,"d":"7.71"},{"$nulls":3},0.1779,0.1372,{"$f":"(S18*43899.28)-3071.53","v":{"v":2951.451215999999,"d":"2951.45"}},{"v":11.805804863999995,"d":"11.81"}]
[null,null,"BLANK",0.042,{"$nulls":6},0.0417,{"$nulls":6},0.0407]
[]
[]
[]
[]
[{"$nulls":4},"mean",null,"mean","SD"]
[null,"insert","well","I","II","III"]
[null,"SF (medium without serum)","N (growth medium with serum)",{"$f":"G7","v":{"v":34.33368884,"d":"34.33"}},{"$f":"N7","v":{"v":34.863130984,"d":"34.86"}},{"$f":"U7","v":{"v":35.11581928,"d":"35.12"}},{"$f":"AVERAGE(D26:F26)","v":{"v":34.770879701333335,"d":"34.77"}},{"$f":"STDEVA(D26:F26)","v":{"v":0.3991424941783085,"d":"0.40"}}]
[null,"SF","SF",{"$f":"G8","v":{"v":2.3937992319999957,"d":"2.39"}},{"$f":"N8","v":{"v":0.9890222719999984,"d":"0.99"}},{"$f":"U8","v":{"v":2.516717215999999,"d":"2.52"}},{"v":1.9665129066666645,"d":"1.97"},{"v":0.8487597795274209,"d":"0.85"}]
[null," Bacytracin 2,5mM  SF","N",{"v":25.994975072,"d":"25.99"},{"v":25.056418543999992,"d":"25.06"},{"v":36.415359088,"d":"36.42"},{"v":29.155584234666662,"d":"29.16"},{"v":6.3046387905955035,"d":"6.30"}]
[null," Bacytracin 2,5mM  SF","SF",{"v":1.761649599999997,"d":"1.76"},{"v":1.708970463999998,"d":"1.71"},{"v":4.500964671999999,"d":"4.50"},{"v":2.6571949119999982,"d":"2.66"},{"v":1.5969686812083301,"d":"1.60"}]
[null,"Perphenazine 0,5mM SF","N",{"v":23.046944952,"d":"23.05"},{"v":18.667014487999996,"d":"18.67"},{"v":22.685961671999994,"d":"22.69"},{"v":21.466640370666664,"d":"21.47"},{"v":2.4312560630840037,"d":"2.43"}]
[null,"Perphenazine 0,5mM SF","SF",{"v":2.112843839999998,"d":"2.11"},{"v":0.16371580799999902,"d":"0.16"},{"v":4.184889856,"d":"4.18"},{"v":2.1538165013333326,"d":"2.15"},{"v":2.010900109480759,"d":"2.01"}]
[null,"Prochlorperazine 0,5mM SF","N",{"v":28.100710872,"d":"28.10"},{"v":35.645261424,"d":"35.65"},{"v":34.490114928000004,"d":"34.49"},{"v":32.745362408,"d":"32.75"},{"v":4.063641442715623,"d":"4.06"}]
[null,"Prochlorperazine 0,5mM SF","SF",{"v":6.731048095999998,"d":"6.73"},{"v":8.346541599999998,"d":"8.35"},{"v":9.206967487999997,"d":"9.21"},{"v":8.094852394666665,"d":"8.09"},{"v":1.2570023074686063,"d":"1.26"}]
[null,"SF","Prochlorperazine 0,5mM N",{"v":3.000340135999998,"d":"3.00"},{"v":3.5297822800000005,"d":"3.53"},{"v":2.2663407999999987,"d":"2.27"},{"v":2.9321544053333324,"d":"2.93"},{"v":0.6344746360147583,"d":"0.63"}]
[null,"SF","Prochlorperazine 0,5mM SF",{"v":11.770685439999996,"d":"11.77"},{"v":14.14124656,"d":"14.14"},{"v":10.892699839999999,"d":"10.89"},{"v":12.268210613333332,"d":"12.27"},{"v":1.6804500651851957,"d":"1.68"}]
[null,"SF","Perphenazine 0,5mM N",{"v":3.084569567999998,"d":"3.08"},{"v":0.7983421279999993,"d":"0.80"},{"v":3.1567662239999983,"d":"3.16"},{"v":2.346559306666665,"d":"2.35"},{"v":1.341281258171948,"d":"1.34"}]
[null,"SF","Perphenazine 0,5mM SF",{"v":6.8012869439999974,"d":"6.80"},{"v":7.7143919679999975,"d":"7.71"},{"v":11.805804863999995,"d":"11.81"},{"v":8.77382792533333,"d":"8.77"},{"v":2.6651647817101987,"d":"2.67"}]
[]
[]
[null,"Po odjęciu kontroli negatywnej SF do SF"]
[]
[{"$nulls":4},"mean",null,"mean","SD"]
[null,"insert","well","I","II","III"]
[null,"SF (medium without serum)","N (growth medium with serum)",{"$f":"D26-D27","v":{"v":31.939889608000005,"d":"31.94"}},{"$f":"E26-E27","v":{"v":33.874108712,"d":"33.87"}},{"v":32.599102064,"d":"32.60"},{"$f":"AVERAGE(D44:F44)","v":{"v":32.80436679466667,"d":"32.80"}},{"$f":"STDEVA(D44:F44)","v":{"v":0.9833112898830069,"d":"0.98"}}]
[null," Bacytracin 2,5mM  SF","N",{"$f":"D28-D29","v":{"v":24.233325472,"d":"24.23"}},{"$f":"E28-E29","v":{"v":23.347448079999996,"d":"23.35"}},{"v":31.914394416000004,"d":"31.91"},{"v":26.498389322666668,"d":"26.50"},{"v":4.711266078950939,"d":"4.71"}]
[null,"Perphenazine 0,5mM SF","N",{"$f":"D30-D31","v":{"v":20.934101112000004,"d":"20.93"}},{"$f":"E30-E31","v":{"v":18.503298679999997,"d":"18.50"}},{"v":18.501071815999993,"d":"18.50"},{"v":19.312823869333332,"d":"19.31"},{"v":1.4040677202052811,"d":"1.40"}]
[null,"Prochlorperazine 0,5mM SF","N",{"$f":"D32-D33","v":{"v":21.369662776000002,"d":"21.37"}},{"$f":"E32-E33","v":{"v":27.298719824,"d":"27.30"}},{"v":25.283147440000008,"d":"25.28"},{"v":24.650510013333335,"d":"24.65"},{"v":3.0147308262636288,"d":"3.01"}]

{"sheet":"transwell invasion","index":1,"n_rows":45,"n_cols":21,"rows_kept":45}
[{"$nulls":5},"cells seeded",{"$nulls":3},25000]
[{"$nulls":5},"multiplication factor",{"$nulls":3},1]
[{"$nulls":5},"for SF N used cal curve y=30081,94x-1839,97"]
[{"$nulls":5},"for SF SF used cal curve y=43899,28x-3071,53"]
[{"$nulls":5},"amount of cells",{"$nulls":6},"amount of cells",{"$nulls":6},"amount of cells"]
[null,"insert","well","A","A-blank",null,"% cells",{"$nulls":3},"A","A-blank",null,"% komórek",{"$nulls":3},"A","A-blank",null,"% komórek"]
[null,"SF (medium without serum)","N (growth medium with serum)",0.4178,{"$f":"D7-$D$19","v":0.3758},{"$f":"(E7*30081.94)-1839.97","v":{"v":9464.823052000002,"d":"9464.82"}},{"$f":"(F7/$J$1)*100*$J$2","v":{"v":37.85929220800001,"d":"37.86"}},{"$nulls":3},0.3839,{"$f":"K7-$K$19","v":0.3422},{"$f":"(L7*30081.94)-1839.97","v":{"v":8454.069868,"d":"8454.07"}},{"$f":"(M7/$J$1)*100*$J$2","v":{"v":33.816279472,"d":"33.82"}},{"$nulls":3},0.347,{"$f":"R7-$R$19","v":0.30629999999999996},{"$f":"(S7*30081.94)-1839.97","v":{"v":7374.1282219999985,"d":"7374.13"}},{"$f":"(T7/$J$1)*100*$J$2","v":{"v":29.49651288799999,"d":"29.50"}}]
[null,"SF","SF",0.1253,{"$f":"D8-$D$19","v":0.08329999999999999},{"$f":"(E8*43899.28)-3071.53","v":{"v":585.2800239999992,"d":"585.28"}},{"$f":"(F8/$J$1)*100*$J$2","v":{"v":2.341120095999997,"d":"2.34"}},{"$nulls":3},0.1286,{"$f":"K8-$K$19","v":0.08689999999999999},{"$f":"(L8*43899.28)-3071.53","v":{"v":743.3174319999994,"d":"743.32"}},{"$f":"(M8/$J$1)*100*$J$2","v":{"v":2.9732697279999973,"d":"2.97"}},{"$nulls":3},0.1268,{"$f":"R8-$R$19","v":0.0861},{"$f":"(S8*43899.28)-3071.53","v":{"v":708.1980079999994,"d":"708.20"}},{"$f":"(T8/$J$1)*100*$J$2","v":{"v":2.8327920319999973,"d":"2.83"}}]
[null," Bacytracin 2,5mM  SF","N",0.2687,0.22669999999999998,{"$f":"(E9*30081.94)-1839.97","v":{"v":4979.605797999999,"d":"4979.61"}},{"v":19.918423191999995,"d":"19.92"},{"$nulls":3},0.3109,0.2692,{"$f":"(L9*30081.94)-1839.97","v":{"v":6258.088247999999,"d":"6258.09"}},{"v":25.032352991999996,"d":"25.03"},{"$nulls":3},0.3185,0.2778,{"$f":"(S9*30081.94)-1839.97","v":{"v":6516.792931999999,"d":"6516.79"}},{"v":26.067171727999998,"d":"26.07"}]
[null," Bacytracin 2,5mM  SF","SF",0.2049,0.1629,{"$f":"(E10*43899.28)-3071.53","v":{"v":4079.662711999999,"d":"4079.66"}},{"v":16.318650847999997,"d":"16.32"},{"$nulls":3},0.2077,0.16599999999999998,{"$f":"(L10*43899.28)-3071.53","v":{"v":4215.750479999999,"d":"4215.75"}},{"v":16.863001919999995,"d":"16.86"},{"$nulls":3},0.1879,0.1472,{"$f":"(S10*43899.28)-3071.53","v":{"v":3390.444016,"d":"3390.44"}},{"v":13.561776064,"d":"13.56"}]
[null,"Perphenazine 0,5mM SF","N",0.3745,0.3325,{"$f":"(E11*30081.94)-1839.97","v":{"v":8162.275049999999,"d":"8162.28"}},{"v":32.6491002,"d":"32.65"},{"$nulls":3},0.2982,0.2565,{"$f":"(L11*30081.94)-1839.97","v":{"v":5876.04761,"d":"5876.05"}},{"v":23.50419044,"d":"23.50"},{"$nulls":3},0.3196,0.2789,{"$f":"(S11*30081.94)-1839.97","v":{"v":6549.883065999999,"d":"6549.88"}},{"v":26.199532264,"d":"26.20"}]
[null,"Perphenazine 0,5mM SF","SF",0.1612,0.1192,{"$f":"(E12*43899.28)-3071.53","v":{"v":2161.264175999999,"d":"2161.26"}},{"v":8.645056703999996,"d":"8.65"},{"$nulls":3},0.1479,0.1062,{"$f":"(L12*43899.28)-3071.53","v":{"v":1590.5735359999994,"d":"1590.57"}},{"v":6.362294143999998,"d":"6.36"},{"$nulls":3},0.1577,0.117,{"$f":"(S12*43899.28)-3071.53","v":{"v":2064.68576,"d":"2064.69"}},{"v":8.258743039999999,"d":"8.26"}]
[null,"Prochlorperazine 0,5mM SF","N",0.316,0.274,{"$f":"(E13*30081.94)-1839.97","v":{"v":6402.481559999999,"d":"6402.48"}},{"v":25.609926239999997,"d":"25.61"},{"$nulls":3},0.2608,0.21909999999999996,{"$f":"(L13*30081.94)-1839.97","v":{"v":4750.983053999998,"d":"4750.98"}},{"v":19.003932215999995,"d":"19.00"},{"$nulls":3},0.276,0.2353,{"$f":"(S13*30081.94)-1839.97","v":{"v":5238.310482,"d":"5238.31"}},{"v":20.953241928,"d":"20.95"}]
[null,"Prochlorperazine 0,5mM SF","SF",0.1293,0.08729999999999999,{"$f":"(E14*43899.28)-3071.53","v":{"v":760.8771439999991,"d":"760.88"}},{"v":3.0435085759999967,"d":"3.04"},{"$nulls":3},0.1281,0.08639999999999999,{"$f":"(L14*43899.28)-3071.53","v":{"v":721.3677919999991,"d":"721.37"}},{"v":2.8854711679999965,"d":"2.89"},{"$nulls":3},0.129,0.0883,{"$f":"(S14*43899.28)-3071.53","v":{"v":804.7764239999997,"d":"804.78"}},{"v":3.2191056959999984,"d":"3.22"}]
[null,"SF","Prochlorperazine 0,5mM N",0.126,0.08399999999999999,{"$f":"(E15*30081.94)-1839.97","v":{"v":686.9129599999994,"d":"686.91"}},{"v":2.7476518399999974,"d":"2.75"},{"$nulls":3},0.1404,0.0987,{"$f":"(L15*30081.94)-1839.97","v":{"v":1129.117478,"d":"1129.12"}},{"v":4.516469912,"d":"4.52"},{"$nulls":3},0.1278,0.0871,{"$f":"(S15*30081.94)-1839.97","v":{"v":780.166974,"d":"780.17"}},{"v":3.1206678959999996,"d":"3.12"}]
[null,"SF","Prochlorperazine 0,5mM SF",0.1561,0.11409999999999998,{"$f":"(E16*43899.28)-3071.53","v":{"v":1937.3778479999987,"d":"1937.38"}},{"v":7.749511391999995,"d":"7.75"},{"$nulls":3},0.1729,0.13119999999999998,{"$f":"(L16*43899.28)-3071.53","v":{"v":2688.0555359999985,"d":"2688.06"}},{"v":10.752222143999994,"d":"10.75"},{"$nulls":3},0.1687,0.128,{"$f":"(S16*43899.28)-3071.53","v":{"v":2547.5778399999995,"d":"2547.58"}},{"v":10.190311359999999,"d":"10.19"}]
[null,"SF","Perphenazine 0,5mM N",0.1147,0.07269999999999999,{"$f":"(E17*30081.94)-1839.97","v":{"v":346.98703799999953,"d":"346.99"}},{"v":1.387948151999998,"d":"1.39"},{"$nulls":3},0.1248,0.0831,{"$f":"(L17*30081.94)-1839.97","v":{"v":659.8392139999999,"d":"659.84"}},{"v":2.639356855999999,"d":"2.64"},{"$nulls":3},0.1247,0.084,{"$f":"(S17*30081.94)-1839.97","v":{"v":686.9129599999999,"d":"686.91"}},{"v":2.7476518399999996,"d":"2.75"}]
[null,"SF","Perphenazine 0,5mM SF",0.1576,0.11559999999999998,{"$f":"(E18*43899.28)-3071.53","v":{"v":2003.226767999999,"d":"2003.23"}},{"v":8.012907071999996,"d":"8.01"},{"$nulls":3},0.149,0.10729999999999999,{"$f":"(L18*43899.28)-3071.53","v":{"v":1638.8627439999996,"d":"1638.86"}},{"v":6.555450975999998,"d":"6.56"},{"$nulls":3},0.1705,0.12980000000000003,{"$f":"(S18*43899.28)-3071.53","v":{"v":2626.5965440000004,"d":"2626.60"}},{"v":10.506386176000001,"d":"10.51"}]
[null,null,"BLANK",0.042,{"$nulls":6},0.0417,{"$nulls":6},0.0407]
[]
[]
[]
[]
[{"$nulls":4},"mean",null,"mean","SD"]
[null,"insert","well","I","II","III"]
[null,"SF (medium without serum)","N (growth medium with serum)",{"$f":"G7","v":{"v":37.85929220800001,"d":"37.86"}},{"$f":"N7","v":{"v":33.816279472,"d":"33.82"}},{"$f":"U7","v":{"v":29.49651288799999,"d":"29.50"}},{"$f":"AVERAGE(D26:F26)","v":{"v":33.72402818933333,"d":"33.72"}},{"$f":"STDEVA(D26:F26)","v":{"v":4.182152820392836,"d":"4.18"}}]
[null,"SF","SF",{"$f":"G8","v":{"v":2.341120095999997,"d":"2.34"}},{"$f":"N8","v":{"v":2.9732697279999973,"d":"2.97"}},{"$f":"U8","v":{"v":2.8327920319999973,"d":"2.83"}},{"v":2.71572728533333,"d":"2.72"},{"v":0.331935845448382,"d":"0.33"}]
[null," Bacytracin 2,5mM  SF","N",{"v":19.918423191999995,"d":"19.92"},{"v":25.032352991999996,"d":"25.03"},{"v":26.067171727999998,"d":"26.07"},{"v":23.672649303999993,"d":"23.67"},{"v":3.2921683931888066,"d":"3.29"}]
[null," Bacytracin 2,5mM  SF","SF",{"v":16.318650847999997,"d":"16.32"},{"v":16.863001919999995,"d":"16.86"},{"v":13.561776064,"d":"13.56"},{"v":15.581142943999998,"d":"15.58"},{"v":1.769876116971914,"d":"1.77"}]
[null,"Perphenazine 0,5mM SF","N",{"v":32.6491002,"d":"32.65"},{"v":23.50419044,"d":"23.50"},{"v":26.199532264,"d":"26.20"},{"v":27.450940967999998,"d":"27.45"},{"v":4.699134115767623,"d":"4.70"}]
[null,"Perphenazine 0,5mM SF","SF",{"v":8.645056703999996,"d":"8.65"},{"v":6.362294143999998,"d":"6.36"},{"v":8.258743039999999,"d":"8.26"},{"v":7.755364629333331,"d":"7.76"},{"v":1.2217993266401874,"d":"1.22"}]
[null,"Prochlorperazine 0,5mM SF","N",{"v":25.609926239999997,"d":"25.61"},{"v":19.003932215999995,"d":"19.00"},{"v":20.953241928,"d":"20.95"},{"v":21.855700127999995,"d":"21.86"},{"v":3.3942027581365215,"d":"3.39"}]
[null,"Prochlorperazine 0,5mM SF","SF",{"v":3.0435085759999967,"d":"3.04"},{"v":2.8854711679999965,"d":"2.89"},{"v":3.2191056959999984,"d":"3.22"},{"v":3.0493618133333307,"d":"3.05"},{"v":0.1668942625104478,"d":"0.17"}]
[null,"SF","Prochlorperazine 0,5mM N",{"v":2.7476518399999974,"d":"2.75"},{"v":4.516469912,"d":"4.52"},{"v":3.1206678959999996,"d":"3.12"},{"v":3.4615965493333327,"d":"3.46"},{"v":0.9323913357363453,"d":"0.93"}]
[null,"SF","Prochlorperazine 0,5mM SF",{"v":7.749511391999995,"d":"7.75"},{"v":10.752222143999994,"d":"10.75"},{"v":10.190311359999999,"d":"10.19"},{"v":9.56401496533333,"d":"9.56"},{"v":1.5963249498530834,"d":"1.60"}]
[null,"SF","Perphenazine 0,5mM N",{"v":1.387948151999998,"d":"1.39"},{"v":2.639356855999999,"d":"2.64"},{"v":2.7476518399999996,"d":"2.75"},{"v":2.2583189493333324,"d":"2.26"},{"v":0.7557055938180475,"d":"0.76"}]
[null,"SF","Perphenazine 0,5mM SF",{"v":8.012907071999996,"d":"8.01"},{"v":6.555450975999998,"d":"6.56"},{"v":10.506386176000001,"d":"10.51"},{"v":8.358248074666664,"d":"8.36"},{"v":1.9979783644328821,"d":"2.00"}]
[]
[null,"after subtracting the negative control (SF to SF)"]
[{"$nulls":4},"mean",null,"mean","SD"]
[null,"insert","well","I","II","III"]
[null,"SF (medium without serum)","N (growth medium with serum)",{"$f":"D26-D27","v":{"v":35.51817211200001,"d":"35.52"}},{"$f":"E26-E27","v":{"v":30.843009744,"d":"30.84"}},{"v":26.663720855999994,"d":"26.66"},{"$f":"AVERAGE(D42:F42)","v":{"v":31.008300904,"d":"31.01"}},{"$f":"STDEVA(D42:F42)","v":{"v":4.4295392127060955,"d":"4.43"}}]
[null," Bacytracin 2,5mM  SF","N",{"$f":"D28-D29","v":{"v":3.599772343999998,"d":"3.60"}},{"$f":"E28-E29","v":{"v":8.169351072000001,"d":"8.17"}},{"v":12.505395663999998,"d":"12.51"},{"v":8.091506359999999,"d":"8.09"},{"v":4.453321965546813,"d":"4.45"}]
[null,"Perphenazine 0,5mM SF","N",{"$f":"D30-D31","v":{"v":24.004043496,"d":"24.00"}},{"$f":"E30-E31","v":{"v":17.141896296,"d":"17.14"}},{"v":17.940789224,"d":"17.94"},{"v":19.695576338666665,"d":"19.70"},{"v":3.752562379490462,"d":"3.75"}]
[null,"Prochlorperazine 0,5mM SF","N",{"$f":"D32-D33","v":{"v":22.566417664,"d":"22.57"}},{"$f":"E32-E33","v":{"v":16.118461048,"d":"16.12"}},{"v":17.734136232,"d":"17.73"},{"v":18.806338314666665,"d":"18.81"},{"v":3.3550333992392045,"d":"3.36"}]

{"sheet":"migration and invasion analysis","index":2,"n_rows":7,"n_cols":17,"rows_kept":7,"merged":[[1,1,1,4],[1,5,1,8],[1,9,1,12],[1,13,1,16],[2,1,2,4],[2,5,2,8],[2,9,2,12],[2,13,2,16],[3,1,3,2],[3,3,3,4],[3,5,3,6],[3,7,3,8],[3,9,3,10],[3,11,3,12],[3,13,3,14],[3,15,3,16]]}
[]
[null,"control",{"$nulls":3},"bacytracin",{"$nulls":3},"perphenazine",{"$nulls":3},"prochlorperazine"]
["concentration",{"$nulls":4},"2,5 mM",{"$nulls":3},"0,5 M",{"$nulls":3},"0,5 M"]
[null,"without geltrex",null,"with geltrex",null,"without geltrex",null,"with geltrex",null,"without geltrex",null,"with geltrex",null,"without geltrex",null,"with geltrex"]
[null,"% migration","SD","% invasion","SD","% migration","SD","% invasion","SD","% migration","SD","% invasion","SD","% migration","SD","% invasion","SD"]
["with FBS",{"$f":"'transwell migration'!G26","v":{"v":34.770879701333335,"d":"34.77"}},{"$f":"'transwell migration'!H26","v":{"v":0.3991424941783085,"d":"0.40"}},{"$f":"'transwell invasion'!G26","v":{"v":33.72402818933333,"d":"33.72"}},{"$f":"'transwell invasion'!H26","v":{"v":4.182152820392836,"d":"4.18"}},{"$f":"'transwell migration'!G28","v":{"v":29.155584234666662,"d":"29.16"}},{"$f":"'transwell migration'!H28","v":{"v":6.3046387905955035,"d":"6.30"}},{"$f":"'transwell invasion'!G28","v":{"v":23.672649303999993,"d":"23.67"}},{"$f":"'transwell invasion'!H28","v":{"v":3.2921683931888066,"d":"3.29"}},{"$f":"'transwell migration'!G30","v":{"v":21.466640370666664,"d":"21.47"}},{"$f":"'transwell migration'!H30","v":{"v":2.4312560630840037,"d":"2.43"}},{"$f":"'transwell invasion'!G30","v":{"v":27.450940967999998,"d":"27.45"}},{"$f":"'transwell invasion'!H30","v":{"v":4.699134115767623,"d":"4.70"}},{"$f":"'transwell migration'!G32","v":{"v":32.745362408,"d":"32.75"}},{"$f":"'transwell migration'!H32","v":{"v":4.063641442715623,"d":"4.06"}},{"$f":"'transwell invasion'!G32","v":{"v":21.855700127999995,"d":"21.86"}},{"$f":"'transwell invasion'!H32","v":{"v":3.3942027581365215,"d":"3.39"}}]
["without FBS",{"$f":"'transwell migration'!G27","v":{"v":1.9665129066666645,"d":"1.97"}},{"$f":"'transwell migration'!H27","v":{"v":0.8487597795274209,"d":"0.85"}},{"$f":"'transwell invasion'!G27","v":{"v":2.71572728533333,"d":"2.72"}},{"$f":"'transwell invasion'!H27","v":{"v":0.331935845448382,"d":"0.33"}},{"$f":"'transwell migration'!G29","v":{"v":2.6571949119999982,"d":"2.66"}},{"$f":"'transwell migration'!H29","v":{"v":1.5969686812083301,"d":"1.60"}},{"$f":"'transwell invasion'!G29","v":{"v":15.581142943999998,"d":"15.58"}},{"$f":"'transwell invasion'!H29","v":{"v":1.769876116971914,"d":"1.77"}},{"$f":"'transwell migration'!G31","v":{"v":2.1538165013333326,"d":"2.15"}},{"$f":"'transwell migration'!H31","v":{"v":2.010900109480759,"d":"2.01"}},{"$f":"'transwell invasion'!G31","v":{"v":7.755364629333331,"d":"7.76"}},{"$f":"'transwell invasion'!H31","v":{"v":1.2217993266401874,"d":"1.22"}},{"$f":"'transwell migration'!G33","v":{"v":8.094852394666665,"d":"8.09"}},{"$f":"'transwell migration'!H33","v":{"v":1.2570023074686063,"d":"1.26"}},{"$f":"'transwell invasion'!G33","v":{"v":3.0493618133333307,"d":"3.05"}},{"$f":"'transwell invasion'!H33","v":{"v":0.1668942625104478,"d":"0.17"}}]