Workbook

Sheet Manuscripts
A1: Manuscript short | B1: DOI | C1: Manual_pass | D1: Preprint? | E1: Microbial? | F1: Study type | G1: Water | H1: System | I1: eDNA state | J1: eDNA molecular origin | K1: eDNA length (bps) | L1: eDNA size (um) | M1: Organism | N1: All_mechanisms
A2: Ahn et al. 2020 | B2: https://doi.org/10.1371/journal.pone.0231127 | C2: TRUE | D2: FALSE | E2: FALSE | F2: Observational | G2: Brackish | H2: Estuary | I2: Total | J2: Mitochondrial | K2: 170 | L2: >0.45 | M2: Teleost | N2: Advection
A3: Allan et al. 2021 | B3: https://doi.org/10.1038/s41598-021-00288-5 | C3: TRUE | D3: FALSE | E3: FALSE | F3: Simulation | G3: Saltwater | H3: Open ocean | I3: Particle-adsorbed, Intracellular | J3: Simulation | L3: 0;1-10; 10-1000 | M3: Simulation | N3: Deposition, Particle size
A4: Andruszkiewicz et al. 2017 | B4: https://doi.org/10.1371/journal.pone.0185043 | C4: TRUE | D4: FALSE | E4: FALSE | F4: Experimental | G4: Saltwater | H4: Mesocosm | I4: Total | J4: Mitochondrial | K4: 170 | L4: 0.22 | M4: Teleost | N4: UV
A5: Andruszkiewicz et al. 2019 | B5: https://doi.org/10.3389/fmars.2019.00477 | C5: TRUE | D5: FALSE | E5: FALSE | F5: Simulation | G5: Saltwater | H5: Coastal | I5: Simulation | J5: Simulation | L5: 0.22 | M5: Simulation | N5: Advection, Particle size, Deposition
A6: Andruszkiewicz et al. 2020 | B6: https://doi.org/10.1002/edn3.141 | C6: TRUE | D6: FALSE | E6: FALSE | F6: Experimental | G6: Saltwater | H6: Mesocosm | I6: Total | J6: Mitochondrial | K6: 281;112;97 | L6: 0.22 | M6: Teleost, Cnidarian, Eucarid | N6: Temperature, PAR, UV, Taxon
A7: Anglès d’Auriac et al. 2019 | B7: https://doi.org/10.1371/journal.pone.0219700 | C7: TRUE | D7: FALSE | E7: FALSE | F7: Observational | G7: Freshwater | H7: Stream, Lake | I7: Total | J7: Plastidial | L7: 0.22 | M7: Angiosperm / macrophyte | N7: Diffusion, Advection, Deposition
A8: Augustine et al. 2024 | B8: https://doi.org/10.1007/s10651-024-00632-8 | C8: TRUE | D8: FALSE | F8: Experimental | G8: Freshwater | H8: Stream | I8: Total | J8: Mitochondrial | K8: 128 | L8: 1.2 | M8: Teleost | N8: Advection, Molecule length
A9: Baetscher et al. 2024 | B9: https://doi.org/10.1002/edn3.533 | C9: TRUE | D9: FALSE | E9: FALSE | F9: Observational | G9: Saltwater | H9: Coastal, Estuary | I9: Total | L9: 0.45 | M9: Teleost | N9: Advection, Tides
A10: Baker et al. 2018 | B10: https://doi.org/10.3389/fmars.2018.00133 | C10: TRUE | D10: FALSE | E10: FALSE | F10: Experimental | G10: Saltwater | H10: Coastal | I10: Total | J10: Mitochondrial | K10: 139; 246 | L10: 0.4 | M10: Mammal | N10: Advection
A11: Balasingham et al. 2016 | B11: https://doi.org/10.1111/1755-0998.12598 | C11: TRUE | D11: FALSE | E11: FALSE | F11: Experimental | G11: Freshwater | H11: River | I11: Total | J11: Mitochondrial | K11: 230 | L11: 1.2 | M11: Teleost | N11: Advection, Resuspension
A12: Ballmer et al. 2024 | B12: https://doi.org/10.1021/acs.estlett.4c00704 | C12: TRUE | D12: FALSE | E12: TRUE | F12: Metanalysis | G12: Metanalysis | H12: Metanalysis | I12: Dissolved, Particle-adsorbed, Intracellular | M12: Metanalysis | N12: DOM, ROS, Temperature, UV
A13: Barnes et al. 2020 | B13: https://doi.org/10.1002/edn3.160 | C13: TRUE | D13: FALSE | E13: FALSE | F13: Experimental | G13: Freshwater | H13: Pond | I13: Total | J13: Mitochondrial | K13: 146 | L13: 0.2, 1, 5, 10, 20 | M13: Teleost | N13: Particle size, Plankton, Suspended particles, pH, Dissolved oxygen, Taxon
A14: Beattie et al. 2023 | B14: https://doi.org/10.1002/edn3.469 | C14: TRUE | D14: FALSE | E14: FALSE | F14: Experimental | G14: Freshwater | H14: Lake | I14: Total | J14: Mitochondrial | M14: Teleost | N14: Microbial uptake, Nutrients
A15: Bedwell & Goldberg 2020 | B15: https://doi.org/10.1002/ece3.6014 | C15: TRUE | D15: FALSE | E15: FALSE | F15: Observational | G15: Freshwater | H15: Lake, Stream | I15: Total | J15: Mitochondrial | K15: 88;93 | L15: 0;45; 5 | M15: Amphibian, Fungi | N15: Advection, Diffusion
A16: Berger et al. 2024 | B16: https://doi.org/10.1002/edn3.553 | C16: TRUE | D16: FALSE | E16: FALSE | F16: Observational | G16: Freshwater | H16: River | I16: Total | J16: Mitochondrial | K16: 205 | L16: 1.2 | M16: Teleost | N16: Temperature, PAR, UV
A17: Bertão et al. 2024 | B17: https://doi.org/10.21203/rs.3.rs-4611874/v1 | C17: TRUE | D17: TRUE | E17: FALSE | F17: Experimental | G17: Freshwater | H17: Lake | I17: Total | L17: 0.45 | M17: Bivalvian, Cnidarian | N17: State, PAR, UV
A18: Biernaski et al. 2025 | B18: https://doi.org/10.1007/s10750-025-05874-6 | C18: TRUE | D18: FALSE | E18: FALSE | F18: Experimental | G18: Freshwater | H18: Mesocosm | I18: Total, Dissolved | J18: Mitochondrial | K18: 100 | M18: Teleost, Bivalvian | N18: State, Deposition
A19: Bourque et al. 2022 | B19: https://doi.org/10.1002/edn3.347 | C19: TRUE | D19: FALSE | E19: FALSE | F19: Experimental | G19: Freshwater | H19: Mesocosm | I19: Total | J19: Mitochondrial | K19: 173 | L19: 1.2; 40 | M19: Branchiopod | N19: Temperature, Plankton
A20: Brandão-Dias et al. 2023a | B20: https://doi.org/10.1111/1755-0998.13751 | C20: TRUE | D20: FALSE | E20: FALSE | F20: Experimental | G20: Freshwater | H20: Microcosm | I20: Total | J20: Mitochondrial | K20: 80 | L20: 10; 1; 0.4; 0.2 | M20: Teleost | N20: Particle size, Taxon
A21: Brandão-Dias et al. 2023b | B21: https://doi.org/10.1021/acs.est.3c02638 | C21: TRUE | D21: FALSE | E21: FALSE | F21: Experimental | G21: Freshwater | H21: Mesocosm | I21: Total, Particle-adsorbed | J21: Mitochondrial | L21: 10; 1; 0.2 | M21: Teleost | N21: Taxon, Particle size, Substrate, Suspended particles, Adsorption
A22: Brandão-Dias et al. 2025a | B22: https://doi.org/10.1002/edn3.70066 | C22: TRUE | D22: FALSE | E22: FALSE | F22: Experimental | G22: Freshwater | H22: Mesocosm | I22: Total | J22: Mitochondrial | K22: 86; 387 | L22: 10; 1; 0.2 | M22: Teleost | N22: Particle size, PAR, Substrate, Biofilm, Molecule length
A23: Brandão-Dias et al. 2025b | B23: https://doi.org/10.1101/2025.05.09.653189 | C23: TRUE | D23: FALSE | E23: FALSE | F23: Experimental | G23: Saltwater | H23: Mesocosm | I23: Total | J23: Mitochondrial | K23: 79; 146; 390; 2746 | L23: 5 | M23: Mammal | N23: Molecule length, Particle size
A24: Brantschen et al. 2024 | B24: https://doi.org/10.1111/ecog.07267 | C24: TRUE | D24: FALSE | E24: FALSE | F24: Observational | G24: Freshwater | H24: River | I24: Total | J24: Mitochondrial | K24: 142; 313 | L24: 0.22 | M24: Aquatic Insects (EPT) | N24: Advection
A25: Brasseale et al. 2025 | B25: https://doi.org/10.1029/2024JC021643 | C25: TRUE | D25: FALSE | E25: FALSE | F25: Observational | G25: Saltwater | H25: Coastal | I25: Total | J25: Mitochondrial | L25: 5 | M25: Mammal | N25: Advection
A26: Brys et al. 2021 | B26: https://doi.org/10.1111/mec.15742 | C26: TRUE | D26: FALSE | E26: FALSE | F26: Experimental | G26: Freshwater | H26: Pond | I26: Total | J26: Mitochondrial | K26: 102; 142 | L26: 0.45 | M26: Teleost, Amphibian | N26: Diffusion, Taxon
A27: Burgher et al. 2024 | B27: https://doi.org/10.1111/acv.12970 | C27: TRUE | D27: FALSE | E27: FALSE | F27: Observational | G27: Freshwater | H27: Stream, Wetland | I27: Total | J27: Nuclear | L27: 5 | M27: Mammal | N27: Advection
A28: Buxton et al. 2017 | B28: https://doi.org/10.1371/journal.pone.0183371 | C28: TRUE | D28: FALSE | E28: FALSE | F28: Experimental | G28: Freshwater | H28: Mesocosm | I28: Total | J28: Mitochondrial | M28: Amphibian | N28: Substrate
A29: Bylemans et al. 2016 | B29: https://doi.org/10.1111/2041-210X.12709 | C29: TRUE | D29: FALSE | E29: FALSE | F29: Experimental, Observational | G29: Freshwater | H29: River, Mesocosm | I29: Total | J29: Mitochondrial, Nuclear | K29: 148; 157 | L29: 1.2 | M29: Teleost | N29: Organism density, Molecular origin, Reproduction
A30: Bylemans et al. 2018 | B30: https://doi.org/10.1021/acs.est.8b01071 | C30: TRUE | D30: FALSE | E30: FALSE | F30: Experimental | G30: Freshwater | H30: Mesocosm | I30: Total | J30: Mitochondrial, Nuclear | K30: 96; 285; 515; 95 | L30: 1.2 | M30: Teleost | N30: Molecular origin, Molecule length
A31: Cai et al. 2022 | B31: https://doi.org/10.1111/1755-0998.13677 | C31: TRUE | D31: FALSE | E31: FALSE | F31: Experimental | G31: Saltwater | H31: Mesocosm | I31: Total | J31: Mitochondrial | K31: 169 | L31: 0.45 | M31: Teleost | N31: Macrobial uptake
A32: Canals et al. 2021 | B32: https://doi.org/10.1002/lol2.10213 | C32: TRUE | D32: FALSE | E32: FALSE | F32: Observational | G32: Saltwater | H32: Open ocean | I32: Total | J32: Mitochondrial | K32: 110 | M32: Teleost | N32: Diffusion, Deposition
A33: Cantera et al. 2021 | B33: https://doi.org/10.1111/1755-0998.13544 | C33: TRUE | D33: FALSE | E33: FALSE | F33: Observational | G33: Freshwater | H33: River | I33: Total | J33: Mitochondrial | L33: 0.45 | M33: Teleost | N33: Advection
A34: Carraro et al. 2018 | B34: https://doi.org/10.1073/pnas.1813843115 | C34: TRUE | D34: FALSE | E34: FALSE | F34: Observational | G34: Freshwater | H34: River | I34: Total | J34: Nuclear | L34: 0.45 | M34: Cnidarian | N34: Advection
A35: Cerco et al. 2018 | B35: https://doi.org/10.1016/j.jglr.2018.04.010 | C35: TRUE | D35: FALSE | E35: FALSE | F35: Simulation | G35: Freshwater | H35: River | I35: Simulation | J35: Simulation | M35: Teleost | N35: Diffusion, Advection
A36: Che-Pelicier et al. 2025 | B36: https://doi.org/10.1002/edn3.70128 | C36: TRUE | D36: FALSE | E36: FALSE | F36: Experimental | G36: Freshwater | H36: Mesocosm | I36: Total | J36: Mitochondrial | L36: 0.22 | M36: Teleost | N36: Temperature, Taxon, Organism density
A37: Collins et al. 2018 | B37: https://doi.org/10.1038/s42003-018-0192-6 | C37: TRUE | D37: FALSE | E37: FALSE | F37: Experimental | G37: Saltwater | H37: Mesocosm | I37: Total | J37: Mitochondrial | K37: 132;153 | L37: 0.22 | M37: Teleost | N37: Temperature, Salinity, Taxon
A38: Condachou et al. 2024 | B38: https://doi.org/10.1002/lom3.10634 | C38: TRUE | D38: FALSE | E38: FALSE | F38: Observational | G38: Freshwater | H38: Stream | I38: Total | J38: Mitochondrial | L38: 0.45 | M38: Teleost | N38: Advection, Diffusion
A39: Condachou et al. 2025 | B39: https://doi.org/10.1002/edn3.70141 | C39: TRUE | D39: FALSE | E39: FALSE | F39: Observational | G39: Freshwater | H39: Stream | I39: Total | J39: Mitochondrial | L39: 0.45 | M39: Teleost, Mammal, Amphibian | N39: Rain, Advection, Temperature
A40: Cortez et al. 2025 | B40: https://doi.org/10.1371/journal.pone.0314210 | C40: TRUE | D40: FALSE | E40: FALSE | F40: Observational | G40: Freshwater | H40: Lake | I40: Total | J40: Mitochondrial | K40: 150 | L40: 0.22 | M40: Eukaryotes, Teleost | N40: Advection
...

Sheet Manuscript findings
A1: Manuscript short | B1: Category | C1: Mechanism | D1: Study type | E1: System | F1: Finding on decay, transport or state
A2: Ahn et al. 2020 | B2: Transport | C2: Advection | D2: =VLOOKUP(A2,Manuscripts!$1:$185,7,FALSE) -> Brackish | E2: =VLOOKUP(A2,Manuscripts!$1:$185,8,FALSE) -> Estuary | F2: Metabarcoded fish community distribution show evidence for horizontal transport of eDNA within estuaries
A3: Allan et al. 2021 | B3: eDNA profile, Transport | C3: Particle size, Deposition | D3: =VLOOKUP(A3,Manuscripts!$1:$185,7,FALSE) -> Saltwater | E3: =VLOOKUP(A3,Manuscripts!$1:$185,8,FALSE) -> Open ocean | F3: Large particles settle around 10-20 meters and break down or decay before going very deep, day night pattern of vertical migration. Small particles assumed neutrally buoyant, break down before settling.
A4: Andruszkiewicz et al. 2017 | B4: Abiotic factor | C4: UV | D4: =VLOOKUP(A4,Manuscripts!$1:$185,7,FALSE) -> Saltwater | E4: =VLOOKUP(A4,Manuscripts!$1:$185,8,FALSE) -> Mesocosm | F4: No significant effect of UV on eDNA decay
A5: Andruszkiewicz et al. 2019 | B5: Transport | C5: Advection | D5: =VLOOKUP(A5,Manuscripts!$1:$185,7,FALSE) -> Saltwater | E5: =VLOOKUP(A5,Manuscripts!$1:$185,8,FALSE) -> Coastal | F5: eDNA can be transported up to 30 km horizontally over 7 days with advection
A6: Andruszkiewicz et al. 2019 | B6: Transport | C6: Particle size, Deposition | D6: =VLOOKUP(A6,Manuscripts!$1:$185,7,FALSE) -> Saltwater | E6: =VLOOKUP(A6,Manuscripts!$1:$185,8,FALSE) -> Coastal | F6: Largest particles can reach ~500 m depth, thermoclines significant affect horizontal and vertical transport
A7: Andruszkiewicz et al. 2020 | B7: Abiotic factor | C7: Temperature | D7: =VLOOKUP(A7,Manuscripts!$1:$185,7,FALSE) -> Saltwater | E7: =VLOOKUP(A7,Manuscripts!$1:$185,8,FALSE) -> Mesocosm | F7: Decay rate constants of mummichog and grass shrimp increased linearly with temperature.
A8: Andruszkiewicz et al. 2020 | B8: eDNA source | C8: Taxon | D8: =VLOOKUP(A8,Manuscripts!$1:$185,7,FALSE) -> Saltwater | E8: =VLOOKUP(A8,Manuscripts!$1:$185,8,FALSE) -> Mesocosm | F8: Under the same temperature/light conditions, mummichog and grass shrimp showed generally faster and more monotonic decay, while the two scyphomedusae (moon jelly and nettle) showed slower, more variable decay with occasional concentration increases over time; the two scyphomedusae behaved more similarly to each other than to fish or shrimp.
A9: Anglès d’Auriac et al. 2019 | B9: Transport | C9: Diffusion, Deposition | D9: =VLOOKUP(A9,Manuscripts!$1:$185,7,FALSE) -> Freshwater | E9: =VLOOKUP(A9,Manuscripts!$1:$185,8,FALSE) -> Stream, Lake | F9: Bottom water samples obtained from the lake (where plants are found) consistently yielded higher eDNA concentrations than surface samples, suggesting settling and limited vertical diffusion
A10: Anglès d’Auriac et al. 2019 | B10: Transport | C10: Advection | D10: =VLOOKUP(A10,Manuscripts!$1:$185,7,FALSE) -> Freshwater | E10: =VLOOKUP(A10,Manuscripts!$1:$185,8,FALSE) -> Stream, Lake | F10: eDNA from Elodea decreased by an order of magnitude over 230 m in the lake and 1550 m in the stream, with an average transport distance of 650 m for detectable eDNA in the stream
A11: Augustine et al. 2024 | B11: Transport | C11: Advection | D11: =VLOOKUP(A11,Manuscripts!$1:$185,7,FALSE) -> Freshwater | E11: =VLOOKUP(A11,Manuscripts!$1:$185,8,FALSE) -> Stream | F11: eDNA was consistently detectable at 1 km downstream, taking 67.8 minutes to arrive; evidence that in this setup if eDNA production, transport, and decay are balanced / constant, the removal has a bigger effect than transport
A12: Augustine et al. 2024 | B12: eDNA profile | C12: Molecule length | D12: =VLOOKUP(A12,Manuscripts!$1:$185,7,FALSE) -> Freshwater | E12: =VLOOKUP(A12,Manuscripts!$1:$185,8,FALSE) -> Stream | F12: Short eDNA fragments (128 bp) had higher detection and concentration compared to longer fragments (468 bp), suggesting faster decay. Subsequent measurments used only short fragment
A13: Baetscher et al. 2024 | B13: Transport | C13: Advection, Tides | D13: =VLOOKUP(A13,Manuscripts!$1:$185,7,FALSE) -> Saltwater | E13: =VLOOKUP(A13,Manuscripts!$1:$185,8,FALSE) -> Coastal, Estuary | F13: Most eDNA captures within 1 km of open net pen with fish, and tide had effect of transport
... A57: Bylemans et al. 2018 | B57: eDNA profile | C57: Molecular origin | D57: =VLOOKUP(A57,Manuscripts!$1:$185,7,FALSE) -> Freshwater | E57: =VLOOKUP(A57,Manuscripts!$1:$185,8,FALSE) -> Mesocosm | F57: No difference found in decay rate between nuclear and mitochondrial, but matched to Weibull decay
A58: Cai et al. 2022 | B58: Biotic factor | C58: Macrobial uptake | D58: =VLOOKUP(A58,Manuscripts!$1:$187,7,FALSE) -> Saltwater | E58: =VLOOKUP(A58,Manuscripts!$1:$187,8,FALSE) -> Mesocosm | F58: For three marine sponge species, eDNA captured by sponges decayed more slowly than eDNA in the water column, but not all sponge species effectively collect eDNA. Note: quantification was done with uncorrected metabarcoding read counts, which may not accurately reflect eDNA copy numbers.
A59: Canals et al. 2021 | B59: Transport | C59: Diffusion, Deposition | D59: =VLOOKUP(A59,Manuscripts!$1:$185,7,FALSE) -> Saltwater | E59: =VLOOKUP(A59,Manuscripts!$1:$185,8,FALSE) -> Open ocean | F59: Deposition dominates vertical movement, because fish eDNA can be detected at the depth where it was released and deeper, but rarely shallower
A60: Cantera et al. 2021 | B60: Transport | C60: Advection | D60: =VLOOKUP(A60,Manuscripts!$1:$185,7,FALSE) -> Freshwater | E60: =VLOOKUP(A60,Manuscripts!$1:$185,8,FALSE) -> River | F60: eDNA community similarity declined significantly with increasing river distance. Also, for 74.5% of species, eDNA detections did not occur downstream from known ranges, supporting localized eDNA and constrained transport.
A61: Carraro et al. 2018 | B61: Transport | C61: Advection | D61: =VLOOKUP(A61,Manuscripts!$1:$185,7,FALSE) -> Freshwater | E61: =VLOOKUP(A61,Manuscripts!$1:$185,8,FALSE) -> River | F61: eDNA dispersion in rivers was modeled as hydrological advection combined with retention and resuspension processes; Median eDNA transport distances (called "decay lengths") of 14 km and 25 km for parasite and bryozoan, respectively, assuming 1 m/s flow.
A62: Cerco et al. 2018 | B62: Transport | C62: Diffusion | D62: =VLOOKUP(A62,Manuscripts!$1:$185,7,FALSE) -> Freshwater | E62: =VLOOKUP(A62,Manuscripts!$1:$185,8,FALSE) -> River | F62: eDNA difusion/dilution from tributary rivers without target species as a major source of concentration decrease
A63: Cerco et al. 2018 | B63: Transport | C63: Advection | D63: =VLOOKUP(A63,Manuscripts!$1:$185,7,FALSE) -> Freshwater | E63: =VLOOKUP(A63,Manuscripts!$1:$185,8,FALSE) -> River | F63: smooth eDNA concentration decline during first 10km; eDNA transported at least 40 km, small quantities seem to be transported infinitely, based on model.
A64: Che-Pelicier et al. 2025 | B64: Biotic factor, eDNA source | C64: Taxon, Organism density | D64: =VLOOKUP(A64,Manuscripts!$1:$185,7,FALSE) -> Freshwater | E64: =VLOOKUP(A64,Manuscripts!$1:$185,8,FALSE) -> Mesocosm | F64: In dual-species aquaria, shortfin eel eDNA decayed faster than in single-species aquaria. No such difference was observed for longfin eel eDNA
A65: Che-Pelicier et al. 2025 | B65: Abiotic factor | C65: Temperature | D65: =VLOOKUP(A65,Manuscripts!$1:$185,7,FALSE) -> Freshwater | E65: =VLOOKUP(A65,Manuscripts!$1:$185,8,FALSE) -> Mesocosm | F65: Higher temperatures (30°C) accelerated decay of both eDNA and eRNA; lower temperatures (4°C) slowed decay
A66: Collins et al. 2018 | B66: eDNA source | C66: Taxon | D66: =VLOOKUP(A66,Manuscripts!$1:$185,7,FALSE) -> Saltwater | E66: =VLOOKUP(A66,Manuscripts!$1:$185,8,FALSE) -> Mesocosm | F66: Decapod and Teleost eDNA decayed at similar rates
A67: Collins et al. 2018 | B67: Abiotic factor | C67: Temperature | D67: =VLOOKUP(A67,Manuscripts!$1:$185,7,FALSE) -> Saltwater | E67: =VLOOKUP(A67,Manuscripts!$1:$185,8,FALSE) -> Mesocosm | F67: No effect of temperature on eDNA decay between 10 and 15C
A68: Collins et al. 2018 | B68: Abiotic factor | C68: Salinity | D68: =VLOOKUP(A68,Manuscripts!$1:$185,7,FALSE) -> Saltwater | E68: =VLOOKUP(A68,Manuscripts!$1:$185,8,FALSE) -> Mesocosm | F68: Salinity and pH and collection site are conflated, and it's hard to know if the effects they find are properly isolated. The most saline site (offshore) had the most eDNA by far, and the slowest decay rate, but not sure what to make of this.
A69: Condachou et al. 2024 | B69: Transport | C69: Advection | D69: =VLOOKUP(A69,Manuscripts!$1:$185,7,FALSE) -> Freshwater | E69: =VLOOKUP(A69,Manuscripts!$1:$185,8,FALSE) -> Stream | F69: eDNA concentration and detection probability decreased with distance; detection dropped to ~50% at 300 m and 21% at 500m downstream (before tributatry inflow); detection up to 2000m downstream
A70: Condachou et al. 2024 | B70: Transport | C70: Diffusion | D70: =VLOOKUP(A70,Manuscripts!$1:$185,7,FALSE) -> Freshwater | E70: =VLOOKUP(A70,Manuscripts!$1:$185,8,FALSE) -> Stream | F70: eDNA was unevenly distributed across the stream, more concentrated on the right side. Suggests limited lateral transport/ diffusion
... A339: Zhao et al. 2021 | B339: eDNA profile | C339: Particle size | D339: =VLOOKUP(A339,Manuscripts!$1:$185,7,FALSE) -> Freshwater | E339: =VLOOKUP(A339,Manuscripts!$1:$185,8,FALSE) -> Microcosm | F339: Particle size distribution changes significantly over time due to their differential decay rate
A340: Zhao et al. 2023 | B340: eDNA profile | C340: Particle size | D340: =VLOOKUP(A340,Manuscripts!$1:$300,7,FALSE) -> Freshwater | E340: =VLOOKUP(A340,Manuscripts!$1:$300,8,FALSE) -> Mesocosm | F340: Smaller eDNA particles decayed faster than larger (presumemd intracellular)
A341: Zhao et al. 2023 | B341: Abiotic factor | C341: pH | D341: =VLOOKUP(A341,Manuscripts!$1:$300,7,FALSE) -> Freshwater | E341: =VLOOKUP(A341,Manuscripts!$1:$300,8,FALSE) -> Mesocosm | F341: Higher pH resulted in faster eDNA decay overall, but this didn't hold for individual water sources (from various environments), and might be an artifact of pooling across different systems. See Fig 6. Similarly, the bacterial load appeared to have no effect on decay rates (Fig 6), but this seems very inconsistent w Figs 3 and 4, which show very different decay between enviro samples (quick decay) vs. Milli_Q (none)
A342: Zhao et al. 2023 | B342: Biotic factor | C342: Water type, Microbial uptake | D342: =VLOOKUP(A342,Manuscripts!$1:$300,7,FALSE) -> Freshwater | E342: =VLOOKUP(A342,Manuscripts!$1:$300,8,FALSE) -> Mesocosm | F342: Tanks with higher bacterial loads saw significantly faster eDNA loss, whereas Milli-Q water (near-sterile) exhibited minimal decay
A343: Zulkefli et al. 2019 | B343: Abiotic factor | C343: Temperature | D343: =VLOOKUP(A343,Manuscripts!$1:$300,7,FALSE) -> Freshwater | E343: =VLOOKUP(A343,Manuscripts!$1:$300,8,FALSE) -> Microcosm | F343: High temperature, faster eDNA decay
A344: Zulkefli et al. 2019 | B344: Abiotic factor | C344: pH | D344: =VLOOKUP(A344,Manuscripts!$1:$300,7,FALSE) -> Freshwater | E344: =VLOOKUP(A344,Manuscripts!$1:$300,8,FALSE) -> Microcosm | F344: pH was manipulated and its effect directly evaluated. But no significant effect was found
A345: Zulkefli et al. 2019 | B345: Abiotic factor | C345: PAR | D345: =VLOOKUP(A345,Manuscripts!$1:$300,7,FALSE) -> Freshwater | E345: =VLOOKUP(A345,Manuscripts!$1:$300,8,FALSE) -> Microcosm | F345: Light exposure was manipulated with fluorescent lights, but no significant effect was found
A346: Zulkefli et al. 2019 | B346: Biotic factor | C346: Microbial uptake | D346: =VLOOKUP(A346,Manuscripts!$1:$300,7,FALSE) -> Freshwater | E346: =VLOOKUP(A346,Manuscripts!$1:$300,8,FALSE) -> Microcosm | F346: Bacteria activity was measured and correlated significantly with increased decay
A347: Pastor Rollan et al. 2024 | B347: Transport | C347: Advection | D347: =VLOOKUP(A347,Manuscripts!$1:$185,7,FALSE) -> Saltwater | E347: =VLOOKUP(A347,Manuscripts!$1:$185,8,FALSE) -> Coastal | F347: In simulations, eDNA dispersion showed high local retention with spread typically <10–20 km, varying by site and season.
A348: Pastor Rollan et al. 2024 | B348: Transport | C348: Advection | D348: =VLOOKUP(A348,Manuscripts!$1:$185,7,FALSE) -> Saltwater | E348: =VLOOKUP(A348,Manuscripts!$1:$185,8,FALSE) -> Coastal | F348: Field results showed positive eDNA detections at up to 400 m from a point source, with high spatial variability through time.Detection probability was highest close to source (<5 km); dispersion footprint length ranged 2.5–29.6 km depending on site.
A349: Pastor Rollan et al. 2024 | B349: Transport | C349: Wind | D349: =VLOOKUP(A349,Manuscripts!$1:$185,7,FALSE) -> Saltwater | E349: =VLOOKUP(A349,Manuscripts!$1:$185,8,FALSE) -> Coastal | F349: In field experiments, crocodile eDNA was transported along wind-driven surface slicks visible during sampling.
A350: Jenrette et al., 2023 | B350: Transport | C350: Advection | D350: =VLOOKUP(A350,Manuscripts!$1:$185,7,FALSE) -> Saltwater | E350: =VLOOKUP(A350,Manuscripts!$1:$185,8,FALSE) -> Open ocean | F350: A particle tracking model simulated backward drift of detected eDNA, showing molecules can persist and travel up to 128 hours before detection

Sheet Other relavant papers
A1: Here, we have put papers that came up on the search, are relevant, but have no "findings". These include reviews with no metanalyses, theory, etc
A2: TS=("environmental DNA" OR eDNA) AND TS=(decay OR transport OR state) AND TS=(aquatic OR water OR marine OR freshwater OR river OR lake OR ocean OR estuary OR stream)
A3: Paper | B3: doi
A4: Barnes et al., 2014 | B4: https://doi.org/10.1021/es404734p
A5: Barnes et al., 2016 | B5: http://dx.doi.org/10.1007/s10592-015-0775-4
A6: Carrao et al. 2018 | B6: https://www.pnas.org/doi/full/10.1073/pnas.1813843115
A7: Carraro & Altermatt, 2024 | B7: https://doi.org/10.1111/2041-210X.14317
A8: Forsström & Vasemägi, 2016 | B8: https://doi.org/10.1016/j.marpolbul.2016.05.054
A9: Fukaya et al., 2020 | B9: https://doi.org/10.1111/mec.15530
A10: Green et al., 2025 | B10: https://doi.org/10.1002/edn3.70076
A11: Harrison et al., 2019 | B11: https://doi.org/10.1098/rspb.2019.1409
A12: Joseph et al., 2022 | B12: https://doi.org/10.1007/s10750-022-04959-w
A13: Karlsson et al., 2022 | B13: https://doi.org/10.1002/edn3.298
A14: Kirtane et al., 2024 | B14: https://doi.org/10.1002/edn3.572
... A21: Valentin et al., 2021 | B21: https://doi.org/10.1002/edn3.229
