Workbook

Sheet Manuscripts
A1: Manuscript short | B1: DOI | C1: Manual_pass | D1: Preprint? | E1: Microbial? | F1: Study type | G1: Water | H1: System | I1: eDNA state | J1: eDNA molecular origin | K1: eDNA length (bps) | L1: eDNA size (um) | M1: Organism | N1: All_mechanisms
A2: Ahn et al. 2020 | B2: https://doi.org/10.1371/journal.pone.0231127 | C2: TRUE | D2: FALSE | E2: FALSE | F2: Observational | G2: Brackish | H2: Estuary | I2: Total | J2: Mitochondrial | K2: 170 | L2: >0.45 | M2: Teleost | N2: Advection
A3: Allan et al. 2021 | B3: https://doi.org/10.1038/s41598-021-00288-5 | C3: TRUE | D3: FALSE | E3: FALSE | F3: Simulation | G3: Saltwater | H3: Open ocean | I3: Particle-adsorbed, Intracellular | J3: Simulation | L3: 0;1-10; 10-1000 | M3: Simulation | N3: Deposition, Particle size
A4: Andruszkiewicz et al. 2017 | B4: https://doi.org/10.1371/journal.pone.0185043 | C4: TRUE | D4: FALSE | E4: FALSE | F4: Experimental | G4: Saltwater | H4: Mesocosm | I4: Total | J4: Mitochondrial | K4: 170 | L4: 0.22 | M4: Teleost | N4: UV
A5: Andruszkiewicz et al. 2019 | B5: https://doi.org/10.3389/fmars.2019.00477 | C5: TRUE | D5: FALSE | E5: FALSE | F5: Simulation | G5: Saltwater | H5: Coastal | I5: Simulation | J5: Simulation | L5: 0.22 | M5: Simulation | N5: Advection, Particle size, Deposition
A6: Andruszkiewicz et al. 2020 | B6: https://doi.org/10.1002/edn3.141 | C6: TRUE | D6: FALSE | E6: FALSE | F6: Experimental | G6: Saltwater | H6: Mesocosm | I6: Total | J6: Mitochondrial | K6: 281;112;97 | L6: 0.22 | M6: Teleost, Cnidarian, Eucarid | N6: Temperature, PAR, UV, Taxon
A7: Anglès d’Auriac et al. 2019 | B7: https://doi.org/10.1371/journal.pone.0219700 | C7: TRUE | D7: FALSE | E7: FALSE | F7: Observational | G7: Freshwater | H7: Stream, Lake | I7: Total | J7: Plastidial | L7: 0.22 | M7: Angiosperm / macrophyte | N7: Diffusion, Advection, Deposition
A8: Augustine et al. 2024 | B8: https://doi.org/10.1007/s10651-024-00632-8 | C8: TRUE | D8: FALSE | F8: Experimental | G8: Freshwater | H8: Stream | I8: Total | J8: Mitochondrial | K8: 128 | L8: 1.2 | M8: Teleost | N8: Advection, Molecule length
A9: Baetscher et al. 2024 | B9: https://doi.org/10.1002/edn3.533 | C9: TRUE | D9: FALSE | E9: FALSE | F9: Observational | G9: Saltwater | H9: Coastal, Estuary | I9: Total | L9: 0.45 | M9: Teleost | N9: Advection, Tides
A10: Baker et al. 2018 | B10: https://doi.org/10.3389/fmars.2018.00133 | C10: TRUE | D10: FALSE | E10: FALSE | F10: Experimental | G10: Saltwater | H10: Coastal | I10: Total | J10: Mitochondrial | K10: 139; 246 | L10: 0.4 | M10: Mammal | N10: Advection
A11: Balasingham et al. 2016 | B11: https://doi.org/10.1111/1755-0998.12598 | C11: TRUE | D11: FALSE | E11: FALSE | F11: Experimental | G11: Freshwater | H11: River | I11: Total | J11: Mitochondrial | K11: 230 | L11: 1.2 | M11: Teleost | N11: Advection, Resuspension
A12: Ballmer et al. 2024 | B12: https://doi.org/10.1021/acs.estlett.4c00704 | C12: TRUE | D12: FALSE | E12: TRUE | F12: Metanalysis | G12: Metanalysis | H12: Metanalysis | I12: Dissolved, Particle-adsorbed, Intracellular | M12: Metanalysis | N12: DOM, ROS, Temperature, UV
A13: Barnes et al. 2020 | B13: https://doi.org/10.1002/edn3.160 | C13: TRUE | D13: FALSE | E13: FALSE | F13: Experimental | G13: Freshwater | H13: Pond | I13: Total | J13: Mitochondrial | K13: 146 | L13: 0.2, 1, 5, 10, 20 | M13: Teleost | N13: Particle size, Plankton, Suspended particles, pH, Dissolved oxygen, Taxon
A14: Beattie et al. 2023 | B14: https://doi.org/10.1002/edn3.469 | C14: TRUE | D14: FALSE | E14: FALSE | F14: Experimental | G14: Freshwater | H14: Lake | I14: Total | J14: Mitochondrial | M14: Teleost | N14: Microbial uptake, Nutrients
A15: Bedwell & Goldberg 2020 | B15: https://doi.org/10.1002/ece3.6014 | C15: TRUE | D15: FALSE | E15: FALSE | F15: Observational | G15: Freshwater | H15: Lake, Stream | I15: Total | J15: Mitochondrial | K15: 88;93 | L15: 0;45; 5 | M15: Amphibian, Fungi | N15: Advection, Diffusion
A16: Berger et al. 2024 | B16: https://doi.org/10.1002/edn3.553 | C16: TRUE | D16: FALSE | E16: FALSE | F16: Observational | G16: Freshwater | H16: River | I16: Total | J16: Mitochondrial | K16: 205 | L16: 1.2 | M16: Teleost | N16: Temperature, PAR, UV
A17: Bertão et al. 2024 | B17: https://doi.org/10.21203/rs.3.rs-4611874/v1 | C17: TRUE | D17: TRUE | E17: FALSE | F17: Experimental | G17: Freshwater | H17: Lake | I17: Total | L17: 0.45 | M17: Bivalvian, Cnidarian | N17: State, PAR, UV
A18: Biernaski et al. 2025 | B18: https://doi.org/10.1007/s10750-025-05874-6 | C18: TRUE | D18: FALSE | E18: FALSE | F18: Experimental | G18: Freshwater | H18: Mesocosm | I18: Total, Dissolved | J18: Mitochondrial | K18: 100 | M18: Teleost, Bivalvian | N18: State, Deposition
A19: Bourque et al. 2022 | B19: https://doi.org/10.1002/edn3.347 | C19: TRUE | D19: FALSE | E19: FALSE | F19: Experimental | G19: Freshwater | H19: Mesocosm | I19: Total | J19: Mitochondrial | K19: 173 | L19: 1.2; 40 | M19: Branchiopod | N19: Temperature, Plankton
A20: Brandão-Dias et al. 2023a | B20: https://doi.org/10.1111/1755-0998.13751 | C20: TRUE | D20: FALSE | E20: FALSE | F20: Experimental | G20: Freshwater | H20: Microcosm | I20: Total | J20: Mitochondrial | K20: 80 | L20: 10; 1; 0.4; 0.2 | M20: Teleost | N20: Particle size, Taxon
A21: Brandão-Dias et al. 2023b | B21: https://doi.org/10.1021/acs.est.3c02638 | C21: TRUE | D21: FALSE | E21: FALSE | F21: Experimental | G21: Freshwater | H21: Mesocosm | I21: Total, Particle-adsorbed | J21: Mitochondrial | L21: 10; 1; 0.2 | M21: Teleost | N21: Taxon, Particle size, Substrate, Suspended particles, Adsorption
A22: Brandão-Dias et al. 2025a | B22: https://doi.org/10.1002/edn3.70066 | C22: TRUE | D22: FALSE | E22: FALSE | F22: Experimental | G22: Freshwater | H22: Mesocosm | I22: Total | J22: Mitochondrial | K22: 86; 387 | L22: 10; 1; 0.2 | M22: Teleost | N22: Particle size, PAR, Substrate, Biofilm, Molecule length
A23: Brandão-Dias et al. 2025b | B23: https://doi.org/10.1101/2025.05.09.653189 | C23: TRUE | D23: FALSE | E23: FALSE | F23: Experimental | G23: Saltwater | H23: Mesocosm | I23: Total | J23: Mitochondrial | K23: 79; 146; 390; 2746 | L23: 5 | M23: Mammal | N23: Molecule length, Particle size
A24: Brantschen et al. 2024 | B24: https://doi.org/10.1111/ecog.07267 | C24: TRUE | D24: FALSE | E24: FALSE | F24: Observational | G24: Freshwater | H24: River | I24: Total | J24: Mitochondrial | K24: 142; 313 | L24: 0.22 | M24: Aquatic Insects (EPT) | N24: Advection
A25: Brasseale et al. 2025 | B25: https://doi.org/10.1029/2024JC021643 | C25: TRUE | D25: FALSE | E25: FALSE | F25: Observational | G25: Saltwater | H25: Coastal | I25: Total | J25: Mitochondrial | L25: 5 | M25: Mammal | N25: Advection
A26: Brys et al. 2021 | B26: https://doi.org/10.1111/mec.15742 | C26: TRUE | D26: FALSE | E26: FALSE | F26: Experimental | G26: Freshwater | H26: Pond | I26: Total | J26: Mitochondrial | K26: 102; 142 | L26: 0.45 | M26: Teleost, Amphibian | N26: Diffusion, Taxon
A27: Burgher et al. 2024 | B27: https://doi.org/10.1111/acv.12970 | C27: TRUE | D27: FALSE | E27: FALSE | F27: Observational | G27: Freshwater | H27: Stream, Wetland | I27: Total | J27: Nuclear | L27: 5 | M27: Mammal | N27: Advection
A28: Buxton et al. 2017 | B28: https://doi.org/10.1371/journal.pone.0183371 | C28: TRUE | D28: FALSE | E28: FALSE | F28: Experimental | G28: Freshwater | H28: Mesocosm | I28: Total | J28: Mitochondrial | M28: Amphibian | N28: Substrate
A29: Bylemans et al. 2016 | B29: https://doi.org/10.1111/2041-210X.12709 | C29: TRUE | D29: FALSE | E29: FALSE | F29: Experimental, Observational | G29: Freshwater | H29: River, Mesocosm | I29: Total | J29: Mitochondrial, Nuclear | K29: 148; 157 | L29: 1.2 | M29: Teleost | N29: Organism density, Molecular origin, Reproduction
A30: Bylemans et al. 2018 | B30: https://doi.org/10.1021/acs.est.8b01071 | C30: TRUE | D30: FALSE | E30: FALSE | F30: Experimental | G30: Freshwater | H30: Mesocosm | I30: Total | J30: Mitochondrial, Nuclear | K30: 96; 285; 515; 95 | L30: 1.2 | M30: Teleost | N30: Molecular origin, Molecule length
A31: Cai et al. 2022 | B31: https://doi.org/10.1111/1755-0998.13677 | C31: TRUE | D31: FALSE | E31: FALSE | F31: Experimental | G31: Saltwater | H31: Mesocosm | I31: Total | J31: Mitochondrial | K31: 169 | L31: 0.45 | M31: Teleost | N31: Macrobial uptake
A32: Canals et al. 2021 | B32: https://doi.org/10.1002/lol2.10213 | C32: TRUE | D32: FALSE | E32: FALSE | F32: Observational | G32: Saltwater | H32: Open ocean | I32: Total | J32: Mitochondrial | K32: 110 | M32: Teleost | N32: Diffusion, Deposition
A33: Cantera et al. 2021 | B33: https://doi.org/10.1111/1755-0998.13544 | C33: TRUE | D33: FALSE | E33: FALSE | F33: Observational | G33: Freshwater | H33: River | I33: Total | J33: Mitochondrial | L33: 0.45 | M33: Teleost | N33: Advection
A34: Carraro et al. 2018 | B34: https://doi.org/10.1073/pnas.1813843115 | C34: TRUE | D34: FALSE | E34: FALSE | F34: Observational | G34: Freshwater | H34: River | I34: Total | J34: Nuclear | L34: 0.45 | M34: Cnidarian | N34: Advection
A35: Cerco et al. 2018 | B35: https://doi.org/10.1016/j.jglr.2018.04.010 | C35: TRUE | D35: FALSE | E35: FALSE | F35: Simulation | G35: Freshwater | H35: River | I35: Simulation | J35: Simulation | M35: Teleost | N35: Diffusion, Advection
A36: Che-Pelicier et al. 2025 | B36: https://doi.org/10.1002/edn3.70128 | C36: TRUE | D36: FALSE | E36: FALSE | F36: Experimental | G36: Freshwater | H36: Mesocosm | I36: Total | J36: Mitochondrial | L36: 0.22 | M36: Teleost | N36: Temperature, Taxon, Organism density
A37: Collins et al. 2018 | B37: https://doi.org/10.1038/s42003-018-0192-6 | C37: TRUE | D37: FALSE | E37: FALSE | F37: Experimental | G37: Saltwater | H37: Mesocosm | I37: Total | J37: Mitochondrial | K37: 132;153 | L37: 0.22 | M37: Teleost | N37: Temperature, Salinity, Taxon
A38: Condachou et al. 2024 | B38: https://doi.org/10.1002/lom3.10634 | C38: TRUE | D38: FALSE | E38: FALSE | F38: Observational | G38: Freshwater | H38: Stream | I38: Total | J38: Mitochondrial | L38: 0.45 | M38: Teleost | N38: Advection, Diffusion
A39: Condachou et al. 2025 | B39: https://doi.org/10.1002/edn3.70141 | C39: TRUE | D39: FALSE | E39: FALSE | F39: Observational | G39: Freshwater | H39: Stream | I39: Total | J39: Mitochondrial | L39: 0.45 | M39: Teleost, Mammal, Amphibian | N39: Rain, Advection, Temperature
A40: Cortez et al. 2025 | B40: https://doi.org/10.1371/journal.pone.0314210 | C40: TRUE | D40: FALSE | E40: FALSE | F40: Observational | G40: Freshwater | H40: Lake | I40: Total | J40: Mitochondrial | K40: 150 | L40: 0.22 | M40: Eukaryotes, Teleost | N40: Advection
A41: Coutts et al. 2022 | B41: https://doi.org/10.1002/aqc.3886 | C41: TRUE | D41: FALSE | E41: FALSE | F41: Observational, Experimental | G41: Saltwater | H41: Mesocosm, Estuary | I41: Total | J41: Mitochondrial | K41: 141 | L41: 0.22 | M41: Bivalvian | N41: Organism density, Advection, Diffusion
A42: Cowart et al. 2018 | B42: https://doi.org/10.1016/j.margen.2017.11.003 | C42: TRUE | D42: FALSE | E42: FALSE | F42: Observational | G42: Saltwater | H42: Open ocean | I42: Total | J42: Mitochondrial | K42: 70 | L42: 0.45 | M42: Teleost | N42: Temperature
A43: Curtis et al. 2020 | B43: https://doi.org/10.1111/ddi.13196 | C43: TRUE | D43: FALSE | E43: FALSE | F43: Observational | G43: Freshwater | H43: Stream | I43: Total | J43: Mitochondrial | K43: 208 | L43: 0.8 | M43: Bivalvian | N43: Dilution, Temperature
A44: Deiner & Altermatt 2014 | B44: https://doi.org/10.1371/journal.pone.0088786 | C44: TRUE | D44: FALSE | E44: FALSE | F44: Observational | G44: Freshwater | H44: River | I44: Total | J44: Mitochondrial | K44: 157; 175 | L44: 0.22 | M44: Bivalvian, Branchiopod | N44: Advection
A45: Dercksen et al. 2025 | B45: https://doi.org/10.1002/edn3.70111 | C45: TRUE | D45: FALSE | E45: FALSE | F45: Experimental | G45: Freshwater | H45: Mesocosm | I45: Total | J45: Mitochondrial | K45: 76 | L45: 1.2 | M45: Teleost | N45: Turbulence
A46: Deutschmann et al. 2018 | B46: https://doi.org/10.1016/j.scitotenv.2018.11.247 | C46: TRUE | D46: FALSE | E46: FALSE | F46: Observational | G46: Freshwater | H46: Stream | I46: Total | J46: Mitochondrial | L46: 0.45 | M46: Teleost | N46: Advection
A47: Dowell et al. 2025 | B47: https://doi.org/10.1002/ece3.70919 | C47: TRUE | D47: FALSE | E47: FALSE | F47: Experimental | G47: Saltwater | H47: Mesocosm | I47: Dissolved, Intracellular | J47: Mitochondrial | K47: 86; 100 | L47: 0.22 | M47: Teleost | N47: Macrobial uptake, State
A48: Dukan et al. 2024 | B48: https://doi.org/10.1038/s41598-024-66912-2 | C48: TRUE | D48: FALSE | E48: FALSE | F48: Observational | G48: Saltwater | H48: Coastal | I48: Total | J48: Mitochondrial | K48: 163-185 | L48: 0.45 | M48: Teleost, Elasmobranch | N48: Diffusion, Deposition
A49: Dunker et al. 2016 | B49: https://doi.org/10.1371/journal.pone.0162277 | C49: TRUE | D49: FALSE | E49: FALSE | F49: Experimental | G49: Freshwater | H49: Lake | I49: Total | J49: Mitochondrial | L49: 0,45-1.5 | M49: Teleost | N49: Diffusion, Resuspension
A50: Dunn et al. 2025 | B50: https://doi.org/10.1002/ece3.70857 | C50: TRUE | D50: FALSE | E50: FALSE | F50: Observational | G50: Saltwater | H50: Coastal | I50: Total | J50: Mitochondrial | K50: 150-190 | L50: 0.45 | M50: Elasmobranch | N50: Advection
A51: Eichmiller et al. 2014 | B51: https://doi.org/10.1371/journal.pone.0112611 | C51: TRUE | D51: FALSE | E51: FALSE | F51: Observational | G51: Freshwater | H51: Lake | I51: Total | J51: Mitochondrial | K51: 149 | L51: 1.5 | M51: Teleost | N51: Diffusion, Deposition
A52: Eichmiller et al. 2016 | B52: https://doi.org/10.1021/acs.est.5b05672 | C52: TRUE | D52: FALSE | E52: FALSE | F52: Experimental | G52: Freshwater | H52: Lake | I52: Total | J52: Mitochondrial | L52: 0.2 | M52: Teleost | N52: Nutrients, Temperature, DOC
A53: Ellis et al. 2022 | B53: https://doi.org/10.1016/j.scitotenv.2021.151666 | C53: TRUE | D53: FALSE | E53: FALSE | F53: Observational, Experimental | G53: Saltwater | H53: Coastal | I53: Total | L53: 0.22 | M53: Asteroid, Angiosperm / macrophyte | N53: Taxon, Advection
A54: Ely et al. 2021 | B54: https://doi.org/10.1371/journal.pone.0245314 | C54: TRUE | D54: FALSE | E54: FALSE | F54: Experimental | G54: Saltwater | H54: Coastal | I54: Total | J54: Mitochondrial | L54: 0.22 | M54: Teleost | N54: Diffusion
A55: Fremier et al. 2019 | B55: https://doi.org/10.1021/acs.est.8b06829 | C55: TRUE | D55: FALSE | E55: FALSE | F55: Experimental | G55: Freshwater | H55: Stream | I55: Total | J55: Mitochondrial | L55: 5 | M55: Teleost | N55: Advection, Deposition
A56: Friebertshauser et al. 2019 | B56: https://doi.org/10.1371/journal.pone.0222830 | C56: TRUE | D56: FALSE | E56: FALSE | F56: Experimental | G56: Freshwater | H56: Mesocosm | I56: Total | J56: Mitochondrial | M56: Teleost | N56: Macrobial uptake, Organism density
A57: Friebertshauser et al. 2019 | B57: https://doi.org/10.1371/journal.pone.0222830 | C57: TRUE | D57: FALSE | E57: FALSE | F57: Experimental | G57: Freshwater | H57: Mesocosm | I57: Total | J57: Mitochondrial | K57: 51 | L57: NA | M57: Teleost | N57: Macrobial uptake
A58: Fukumori et al. 2024 | B58: https://doi.org/10.1002/ece3.11091 | C58: TRUE | D58: FALSE | E58: FALSE | F58: Observational | G58: Freshwater | H58: Lake | I58: Total | J58: Mitochondrial | L58: 0.45 | M58: Teleost | N58: Diffusion, Deposition
A59: Gasparini et al. 2020 | B59: https://doi.org/10.1002/edn3.71 | C59: TRUE | D59: FALSE | E59: FALSE | F59: Experimental | G59: Freshwater | H59: River | I59: Total | J59: Mitochondrial | L59: 5 | M59: Bivalvian | N59: Diffusion
A60: Ghosal et al. 2018 | B60: https://doi.org/10.1002/ece3.4169 | C60: TRUE | D60: FALSE | E60: FALSE | F60: Experimental | G60: Freshwater | H60: Lake | I60: Total | J60: Mitochondrial | M60: Teleost | N60: Diffusion
A61: Goldberg et al. 2018 | B61: https://doi.org/10.1016/j.scitotenv.2018.02.295 | C61: TRUE | D61: FALSE | E61: FALSE | F61: Observational | G61: Freshwater | H61: Wetland | I61: Total | K61: 79; 84; 91; 105 | L61: 0.45; 5; 6 | M61: Amphibian | N61: Temperature, pH, Diffusion
A62: Hirohara et al. 2021 | B62: https://doi.org/10.3389/fevo.2021.632973 | C62: TRUE | D62: FALSE | E62: FALSE | F62: Experimental | G62: Freshwater | H62: Mesocosm | I62: Total, Intracellular | J62: Mitochondrial | K62: 132; 225; 333; 430; 529; 621; 715; 823; 935; 1;021 | L62: 0.45 | M62: Teleost | N62: State, Molecule length
A63: Huang et al. 2022 | B63: https://doi.org/10.3389/fenvs.2022.952414 | C63: TRUE | D63: FALSE | E63: FALSE | F63: Experimental | G63: Freshwater | H63: Mesocosm | I63: Total | M63: Teleost | N63: Dissolved oxygen, Substrate
A64: Jane et al. 2015 | B64: https://doi.org/10.1111/1755-0998.12285 | C64: TRUE | D64: FALSE | E64: FALSE | F64: Experimental | G64: Freshwater | H64: Stream | I64: Total | J64: Mitochondrial | K64: 90 | L64: 1.5 | M64: Teleost | N64: Advection
A65: Jenrette et al., 2023 | B65: https://doi.org/10.5670/oceanog.2023.s1.28 | C65: TRUE | D65: FALSE | E65: FALSE | F65: Simulation, Observational | G65: Saltwater | H65: Open ocean | I65: Total | J65: Mitochondrial | L65: 0.2 | M65: Elasmobranch | N65: Advection
A66: Jerde et al. 2016 | B66: https://doi.org/10.1021/acs.est.6b01761 | C66: TRUE | D66: FALSE | E66: FALSE | F66: Experimental | G66: Freshwater | H66: Stream | I66: Total | L66: 1.2 | M66: Teleost | N66: Advection, Taxon, Substrate
A67: Jeunen et al. 2018 | B67: https://doi.org/10.1111/1755-0998.12982 | C67: TRUE | D67: FALSE | E67: FALSE | F67: Observational | G67: Saltwater | H67: Estuary, Open ocean | I67: Total | J67: Mitochondrial | L67: 1.2 | M67: Eukaryotes | N67: Deposition, Diffusion
A68: Jeunen et al. 2020 | B68: https://doi.org/10.1002/edn3.49 | C68: TRUE | D68: FALSE | E68: FALSE | F68: Observational | G68: Saltwater | H68: Coastal | I68: Total | J68: Mitochondrial | L68: 1.2 | M68: Eukaryotes | N68: Diffusion
A69: Jo & Yamanaka 2022 | B69: https://doi.org/10.1111/fwb.13920 | C69: TRUE | D69: FALSE | E69: FALSE | F69: Metanalysis | G69: Freshwater | H69: River, Stream | M69: Metanalysis | N69: Particle size, Deposition, Retention, Advection
A70: Jo 2023 | B70: https://doi.org/10.1016/j.jembe.2023.151941 | C70: TRUE | D70: FALSE | E70: FALSE | F70: Experimental | G70: Saltwater | H70: Mesocosm | I70: Total | J70: Mitochondrial, Nuclear | L70: 0.7 | M70: Teleost | N70: Molecular origin, Temperature
A71: Jo 2025 | B71: https://doi.org/10.1016/j.ecolind.2025.113469 | C71: TRUE | D71: FALSE | E71: FALSE | F71: Metanalysis | G71: Saltwater, Freshwater | H71: Coastal, Open ocean, Lake, Pond | M71: Metanalysis | N71: Diffusion, Advection
A72: Jo et al. 2017 | B72: https://doi.org/10.1111/1755-0998.12685 | C72: TRUE | D72: FALSE | E72: FALSE | F72: Experimental | G72: Saltwater | H72: Mesocosm, Coastal | I72: Total | J72: Mitochondrial | K72: 127;719 | L72: 0.7 | M72: Teleost | N72: Molecule length
A73: Jo et al. 2019a | B73: https://doi.org/10.1002/ece3.4802 | C73: TRUE | D73: FALSE | E73: FALSE | F73: Experimental | G73: Saltwater | H73: Mesocosm | I73: Total | J73: Mitochondrial | L73: 10; 3; 0.8; 0.4; 0.2 | M73: Teleost | N73: Particle size, Temperature, Squamation
A74: Jo et al. 2019b | B74: https://doi.org/10.1021/acs.est.9b02833 | C74: TRUE | D74: FALSE | E74: FALSE | F74: Experimental | G74: Saltwater | H74: Mesocosm | I74: Total | J74: Nuclear, Mitochondrial | K74: 164; 127 | L74: 10; 3; 0.8; 0.4; 0.2 | M74: Teleost | N74: Molecular origin, Particle size, Molecule length, Temperature
A75: Jo et al. 2020a | B75: https://doi.org/10.1002/edn3.51 | C75: TRUE | D75: FALSE | E75: FALSE | F75: Experimental | G75: Saltwater | H75: Mesocosm | I75: Total | J75: Nuclear, Mitochondrial | K75: 164; 127 | L75: 0.7 | M75: Teleost | N75: Temperature, Organism density, Microbial uptake
A76: Jo et al. 2020b | B76: https://doi.org/10.1016/j.scitotenv.2020.139462 | C76: TRUE | D76: FALSE | E76: FALSE | F76: Experimental | G76: Saltwater | H76: Mesocosm | I76: Total | J76: Nuclear, Mitochondrial | K76: 164; 682 | L76: 2.7; 0.7 | M76: Teleost | N76: Particle size, Molecular origin, Molecule length
A77: Jo et al. 2021 | B77: https://doi.org/10.1002/edn3.253 | C77: TRUE | D77: FALSE | E77: FALSE | F77: Metanalysis | G77: Metanalysis | H77: Metanalysis | I77: Total | J77: Nuclear, Mitochondrial | M77: Metanalysis | N77: Molecule length, Particle size, Molecular origin
A78: Jo et al. 2023 | B78: https://doi.org/10.1002/edn3.334 | C78: TRUE | D78: FALSE | E78: FALSE | F78: Experimental | G78: Freshwater | H78: Mesocosm | I78: Total | J78: Mitochondrial | K78: 132 | L78: 0.45 | M78: Teleost | N78: Temperature, pH
A79: Kagzi et al. 2022 | B79: https://doi.org/10.1111/1755-0998.13655 | C79: TRUE | D79: FALSE | E79: FALSE | F79: Experimental | G79: Freshwater | H79: Microcosm | I79: Total | J79: Mitochondrial | K79: 162 | L79: 0.2;0.7 | M79: Branchiopod | N79: pH
A80: Kagzi et al. 2023 | B80: https://doi.org/10.1002/edn3.437 | C80: TRUE | D80: FALSE | E80: FALSE | F80: Experimental | G80: Freshwater | H80: Mesocosm | I80: Total | J80: Mitochondrial, Nuclear | K80: 313; 400 | L80: 0.7 | M80: Arthropod | N80: Resuspension, Molecular origin
A81: Kasai et al. 2020 | B81: https://doi.org/10.1007/s12562-020-01409-1 | C81: TRUE | D81: FALSE | E81: FALSE | F81: Experimental | G81: Freshwater | H81: Mesocosm | I81: Total | J81: Mitochondrial | K81: 138 | L81: 0.7 | M81: Teleost | N81: Temperature
A82: Kelly et al. 2018 | B82: https://doi.org/10.7717/peerj.4521 | C82: TRUE | D82: FALSE | E82: FALSE | F82: Observational | G82: Saltwater | H82: Coastal | I82: Total | J82: Mitochondrial | K82: 313 | L82: 0.45 | M82: Eukaryotes | N82: Tides, Advection
A83: Kessler et al. 2019 | B83: https://doi.org/10.1002/edn3.42 | C83: TRUE | D83: FALSE | E83: FALSE | F83: Observational | G83: Freshwater | H83: Stream | I83: Total | J83: Mitochondrial | K83: 110 | L83: 1 | M83: Testudine | N83: PAR, UV
A84: Kirtane and Deiner 2024 | B84: https://doi.org/10.1002/edn3.572 | C84: TRUE | D84: FALSE | E84: FALSE | F84: Experimental | G84: Freshwater | H84: Microcosm | I84: Dissolved | J84: Mitochondrial | M84: Teleost, Vertebrate | N84: State
A85: Kirtane et al. 2021 | B85: https://doi.org/10.1002/edn3.236 | C85: TRUE | D85: FALSE | E85: FALSE | F85: Experimental | G85: Saltwater | H85: Estuary | I85: Total | J85: Mitochondrial | K85: 103; 292 | L85: 0.4 | M85: Teleost | N85: Taxon, Molecule length
A86: Kirtane et al., 2023 | B86: https://doi.org/10.1002/edn3.417 | C86: TRUE | D86: FALSE | E86: FALSE | F86: Observational | G86: Freshwater | H86: Microcosm | I86: Intracellular, Dissolved, Particle-adsorbed | J86: Mitochondrial, Nuclear | M86: Vertebrate | N86: State
A87: Korbel et al. 2024 | B87: https://doi.org/10.1038/s41598-024-67349-3 | C87: TRUE | D87: FALSE | E87: FALSE | F87: Experimental | G87: Freshwater | H87: Groundwater, Mesocosm | I87: Total | J87: Mitochondrial, Nuclear | K87: 200; 300 | L87: 0.2 | M87: Amphipod, Crustacean, Gastropod | N87: Advection, Water type
A88: Kutti et al. 2020 | B88: https://doi.org/10.3389/fmars.2020.00446 | C88: TRUE | D88: FALSE | E88: FALSE | F88: Experimental, Observational, Simulation | G88: Saltwater | H88: Coastal, Deep ocean | I88: Total | J88: Mitochondrial | K88: 178 | L88: 0.45 | M88: Cnidarian | N88: Deposition, Diffusion
A89: Kwong et al. 2021 | B89: https://doi.org/10.1007/s00227-021-03896-x | C89: TRUE | D89: FALSE | E89: FALSE | F89: Experimental | G89: Saltwater | H89: Mesocosm | I89: Total | J89: Mitochondrial | L89: 1.2 | M89: Asteroid | N89: Adsorption, Temperature
A90: Lafferty et al. 2021 | B90: https://doi.org/10.1111/jfb.14403 | C90: TRUE | D90: FALSE | E90: FALSE | F90: Observational | G90: Saltwater | H90: Deep ocean, Coastal | I90: Total | J90: Mitochondrial | L90: 0.22 | M90: Teleost | N90: Tides, Advection
A91: Lamb et al. 2022 | B91: https://doi.org/10.1111/1755-0998.13627 | C91: TRUE | D91: FALSE | E91: FALSE | F91: Metanalysis | G91: Saltwater, Freshwater | H91: Metanalysis | J91: Mitochondrial, Nuclear | N91: Molecule length, Molecular origin, Water type, Temperature
A92: Lamy et al. 2021 | B92: https://doi.org/10.1038/s41598-021-93859-5 | C92: TRUE | D92: FALSE | E92: FALSE | F92: Observational | G92: Saltwater | H92: Coastal | I92: Total | J92: Mitochondrial | K92: 170 | L92: 0.22 | M92: Teleost | N92: Advection, Diffusion
A93: Lance et al. 2017 | B93: https://doi.org/10.3391/mbi.2017.8.3.08 | C93: TRUE | D93: FALSE | E93: FALSE | F93: Experimental | G93: Freshwater | H93: Microcosm | I93: Total | M93: Teleost | N93: Temperature, pH, Turbulence, Microbial uptake
A94: Laporte et al. 2020 | B94: https://doi.org/10.1002/edn3.88 | C94: TRUE | D94: FALSE | E94: FALSE | F94: Experimental, Simulation | G94: Freshwater | H94: River | I94: Total | J94: Mitochondrial | L94: 12 | M94: Teleost | N94: Diffusion, Advection
A95: Laporte et al. 2022 | B95: https://doi.org/10.1016/j.ecolind.2022.108785 | C95: TRUE | D95: FALSE | E95: FALSE | F95: Experimental | G95: Freshwater | H95: River | I95: Total | J95: Mitochondrial | K95: 174 | L95: 1.2 | M95: Teleost | N95: Advection
A96: Larson et al. 2022 | B96: https://doi.org/10.3389/fmars.2022.818738 | C96: TRUE | D96: FALSE | E96: FALSE | F96: Observational | G96: Freshwater | H96: Lake | I96: Total | J96: Mitochondrial | L96: 1.2 | M96: Bivalvian | N96: Advection, Taxon
A97: Li et al. 2019 | B97: https://doi.org/10.1002/edn3.24 | C97: TRUE | D97: FALSE | E97: FALSE | F97: Experimental | G97: Freshwater | H97: Pond | I97: Total | J97: Mitochondrial | K97: 106 | L97: 0.8 | M97: Teleost | N97: Diffusion
A98: Littlefair et al. 2021 | B98: https://doi.org/10.1111/mec.15623 | C98: TRUE | D98: FALSE | E98: FALSE | F98: Observational | G98: Freshwater | H98: Lake | I98: Total | J98: Mitochondrial | L98: 0.7 | M98: Teleost | N98: Diffusion, Deposition
A99: Løvdal et al. 2007 | B99: https://doi.org/10.4319/lo.2007.52.4.1407 | C99: TRUE | D99: FALSE | E99: TRUE | F99: Experimental | G99: Saltwater | H99: Mesocosm | I99: Dissolved | J99: Artificial | K99: 480 | L99: 10; 1; 0.2 | M99: Angiosperm / macrophyte, Bacteria | N99: Nutrients, Microbial uptake, Plankton, Diffusion
A100: Mächler et al. 2018 | B100: https://doi.org/10.1371/journal.pone.0195529 | C100: TRUE | D100: FALSE | E100: FALSE | F100: Experimental | G100: Freshwater | H100: Mesocosm | I100: Total | J100: Mitochondrial | L100: 0.7 | M100: Macroinvertebrate | N100: Taxon, UV, Microbial uptake
...

Sheet Manuscript findings
A1: Manuscript short | B1: Category | C1: Mechanism | D1: Study type | E1: System | F1: Finding on decay, transport or state
A2: Ahn et al. 2020 | B2: Transport | C2: Advection | D2: =VLOOKUP(A2,Manuscripts!$1:$185,7,FALSE) -> Brackish | E2: =VLOOKUP(A2,Manuscripts!$1:$185,8,FALSE) -> Estuary | F2: Metabarcoded fish community distribution show evidence for horizontal transport of eDNA within estuaries
A3: Allan et al. 2021 | B3: eDNA profile, Transport | C3: Particle size, Deposition | D3: =VLOOKUP(A3,Manuscripts!$1:$185,7,FALSE) -> Saltwater | E3: =VLOOKUP(A3,Manuscripts!$1:$185,8,FALSE) -> Open ocean | F3: Large particles settle around 10-20 meters and break down or decay before going very deep, day night pattern of vertical migration. Small particles assumed neutrally buoyant, break down before settling.
A4: Andruszkiewicz et al. 2017 | B4: Abiotic factor | C4: UV | D4: =VLOOKUP(A4,Manuscripts!$1:$185,7,FALSE) -> Saltwater | E4: =VLOOKUP(A4,Manuscripts!$1:$185,8,FALSE) -> Mesocosm | F4: No significant effect of UV on eDNA decay
A5: Andruszkiewicz et al. 2019 | B5: Transport | C5: Advection | D5: =VLOOKUP(A5,Manuscripts!$1:$185,7,FALSE) -> Saltwater | E5: =VLOOKUP(A5,Manuscripts!$1:$185,8,FALSE) -> Coastal | F5: eDNA can be transported up to 30 km horizontally over 7 days with advection
A6: Andruszkiewicz et al. 2019 | B6: Transport | C6: Particle size, Deposition | D6: =VLOOKUP(A6,Manuscripts!$1:$185,7,FALSE) -> Saltwater | E6: =VLOOKUP(A6,Manuscripts!$1:$185,8,FALSE) -> Coastal | F6: Largest particles can reach ~500 m depth, thermoclines significant affect horizontal and vertical transport
A7: Andruszkiewicz et al. 2020 | B7: Abiotic factor | C7: Temperature | D7: =VLOOKUP(A7,Manuscripts!$1:$185,7,FALSE) -> Saltwater | E7: =VLOOKUP(A7,Manuscripts!$1:$185,8,FALSE) -> Mesocosm | F7: Decay rate constants of mummichog and grass shrimp increased linearly with temperature.
A8: Andruszkiewicz et al. 2020 | B8: eDNA source | C8: Taxon | D8: =VLOOKUP(A8,Manuscripts!$1:$185,7,FALSE) -> Saltwater | E8: =VLOOKUP(A8,Manuscripts!$1:$185,8,FALSE) -> Mesocosm | F8: Under the same temperature/light conditions, mummichog and grass shrimp showed generally faster and more monotonic decay, while the two scyphomedusae (moon jelly and nettle) showed slower, more variable decay with occasional concentration increases over time; the two scyphomedusae behaved more similarly to each other than to fish or shrimp.
A9: Anglès d’Auriac et al. 2019 | B9: Transport | C9: Diffusion, Deposition | D9: =VLOOKUP(A9,Manuscripts!$1:$185,7,FALSE) -> Freshwater | E9: =VLOOKUP(A9,Manuscripts!$1:$185,8,FALSE) -> Stream, Lake | F9: Bottom water samples obtained from the lake (where plants are found) consistently yielded higher eDNA concentrations than surface samples, suggesting settling and limited vertical diffusion
A10: Anglès d’Auriac et al. 2019 | B10: Transport | C10: Advection | D10: =VLOOKUP(A10,Manuscripts!$1:$185,7,FALSE) -> Freshwater | E10: =VLOOKUP(A10,Manuscripts!$1:$185,8,FALSE) -> Stream, Lake | F10: eDNA from Elodea decreased by an order of magnitude over 230 m in the lake and 1550 m in the stream, with an average transport distance of 650 m for detectable eDNA in the stream
A11: Augustine et al. 2024 | B11: Transport | C11: Advection | D11: =VLOOKUP(A11,Manuscripts!$1:$185,7,FALSE) -> Freshwater | E11: =VLOOKUP(A11,Manuscripts!$1:$185,8,FALSE) -> Stream | F11: eDNA was consistently detectable at 1 km downstream, taking 67.8 minutes to arrive; evidence that in this setup if eDNA production, transport, and decay are balanced / constant, the removal has a bigger effect than transport
A12: Augustine et al. 2024 | B12: eDNA profile | C12: Molecule length | D12: =VLOOKUP(A12,Manuscripts!$1:$185,7,FALSE) -> Freshwater | E12: =VLOOKUP(A12,Manuscripts!$1:$185,8,FALSE) -> Stream | F12: Short eDNA fragments (128 bp) had higher detection and concentration compared to longer fragments (468 bp), suggesting faster decay. Subsequent measurments used only short fragment
A13: Baetscher et al. 2024 | B13: Transport | C13: Advection, Tides | D13: =VLOOKUP(A13,Manuscripts!$1:$185,7,FALSE) -> Saltwater | E13: =VLOOKUP(A13,Manuscripts!$1:$185,8,FALSE) -> Coastal, Estuary | F13: Most eDNA captures within 1 km of open net pen with fish, and tide had effect of transport
... A57: Bylemans et al. 2018 | B57: eDNA profile | C57: Molecular origin | D57: =VLOOKUP(A57,Manuscripts!$1:$185,7,FALSE) -> Freshwater | E57: =VLOOKUP(A57,Manuscripts!$1:$185,8,FALSE) -> Mesocosm | F57: No difference found in decay rate between nuclear and mitochondrial, but matched to Weibull decay
A58: Cai et al. 2022 | B58: Biotic factor | C58: Macrobial uptake | D58: =VLOOKUP(A58,Manuscripts!$1:$187,7,FALSE) -> Saltwater | E58: =VLOOKUP(A58,Manuscripts!$1:$187,8,FALSE) -> Mesocosm | F58: For three marine sponge species, eDNA captured by sponges decayed more slowly than eDNA in the water column, but not all sponge species effectively collect eDNA. Note: quantification was done with uncorrected metabarcoding read counts, which may not accurately reflect eDNA copy numbers.
A59: Canals et al. 2021 | B59: Transport | C59: Diffusion, Deposition | D59: =VLOOKUP(A59,Manuscripts!$1:$185,7,FALSE) -> Saltwater | E59: =VLOOKUP(A59,Manuscripts!$1:$185,8,FALSE) -> Open ocean | F59: Deposition dominates vertical movement, because fish eDNA can be detected at the depth where it was released and deeper, but rarely shallower
A60: Cantera et al. 2021 | B60: Transport | C60: Advection | D60: =VLOOKUP(A60,Manuscripts!$1:$185,7,FALSE) -> Freshwater | E60: =VLOOKUP(A60,Manuscripts!$1:$185,8,FALSE) -> River | F60: eDNA community similarity declined significantly with increasing river distance. Also, for 74.5% of species, eDNA detections did not occur downstream from known ranges, supporting localized eDNA and constrained transport.
A61: Carraro et al. 2018 | B61: Transport | C61: Advection | D61: =VLOOKUP(A61,Manuscripts!$1:$185,7,FALSE) -> Freshwater | E61: =VLOOKUP(A61,Manuscripts!$1:$185,8,FALSE) -> River | F61: eDNA dispersion in rivers was modeled as hydrological advection combined with retention and resuspension processes; Median eDNA transport distances (called "decay lengths") of 14 km and 25 km for parasite and bryozoan, respectively, assuming 1 m/s flow.
A62: Cerco et al. 2018 | B62: Transport | C62: Diffusion | D62: =VLOOKUP(A62,Manuscripts!$1:$185,7,FALSE) -> Freshwater | E62: =VLOOKUP(A62,Manuscripts!$1:$185,8,FALSE) -> River | F62: eDNA difusion/dilution from tributary rivers without target species as a major source of concentration decrease
A63: Cerco et al. 2018 | B63: Transport | C63: Advection | D63: =VLOOKUP(A63,Manuscripts!$1:$185,7,FALSE) -> Freshwater | E63: =VLOOKUP(A63,Manuscripts!$1:$185,8,FALSE) -> River | F63: smooth eDNA concentration decline during first 10km; eDNA transported at least 40 km, small quantities seem to be transported infinitely, based on model.
A64: Che-Pelicier et al. 2025 | B64: Biotic factor, eDNA source | C64: Taxon, Organism density | D64: =VLOOKUP(A64,Manuscripts!$1:$185,7,FALSE) -> Freshwater | E64: =VLOOKUP(A64,Manuscripts!$1:$185,8,FALSE) -> Mesocosm | F64: In dual-species aquaria, shortfin eel eDNA decayed faster than in single-species aquaria. No such difference was observed for longfin eel eDNA
A65: Che-Pelicier et al. 2025 | B65: Abiotic factor | C65: Temperature | D65: =VLOOKUP(A65,Manuscripts!$1:$185,7,FALSE) -> Freshwater | E65: =VLOOKUP(A65,Manuscripts!$1:$185,8,FALSE) -> Mesocosm | F65: Higher temperatures (30°C) accelerated decay of both eDNA and eRNA; lower temperatures (4°C) slowed decay
A66: Collins et al. 2018 | B66: eDNA source | C66: Taxon | D66: =VLOOKUP(A66,Manuscripts!$1:$185,7,FALSE) -> Saltwater | E66: =VLOOKUP(A66,Manuscripts!$1:$185,8,FALSE) -> Mesocosm | F66: Decapod and Teleost eDNA decayed at similar rates
A67: Collins et al. 2018 | B67: Abiotic factor | C67: Temperature | D67: =VLOOKUP(A67,Manuscripts!$1:$185,7,FALSE) -> Saltwater | E67: =VLOOKUP(A67,Manuscripts!$1:$185,8,FALSE) -> Mesocosm | F67: No effect of temperature on eDNA decay between 10 and 15C
A68: Collins et al. 2018 | B68: Abiotic factor | C68: Salinity | D68: =VLOOKUP(A68,Manuscripts!$1:$185,7,FALSE) -> Saltwater | E68: =VLOOKUP(A68,Manuscripts!$1:$185,8,FALSE) -> Mesocosm | F68: Salinity and pH and collection site are conflated, and it's hard to know if the effects they find are properly isolated. The most saline site (offshore) had the most eDNA by far, and the slowest decay rate, but not sure what to make of this.
A69: Condachou et al. 2024 | B69: Transport | C69: Advection | D69: =VLOOKUP(A69,Manuscripts!$1:$185,7,FALSE) -> Freshwater | E69: =VLOOKUP(A69,Manuscripts!$1:$185,8,FALSE) -> Stream | F69: eDNA concentration and detection probability decreased with distance; detection dropped to ~50% at 300 m and 21% at 500m downstream (before tributatry inflow); detection up to 2000m downstream
A70: Condachou et al. 2024 | B70: Transport | C70: Diffusion | D70: =VLOOKUP(A70,Manuscripts!$1:$185,7,FALSE) -> Freshwater | E70: =VLOOKUP(A70,Manuscripts!$1:$185,8,FALSE) -> Stream | F70: eDNA was unevenly distributed across the stream, more concentrated on the right side. Suggests limited lateral transport/ diffusion
... A339: Zhao et al. 2021 | B339: eDNA profile | C339: Particle size | D339: =VLOOKUP(A339,Manuscripts!$1:$185,7,FALSE) -> Freshwater | E339: =VLOOKUP(A339,Manuscripts!$1:$185,8,FALSE) -> Microcosm | F339: Particle size distribution changes significantly over time due to their differential decay rate
A340: Zhao et al. 2023 | B340: eDNA profile | C340: Particle size | D340: =VLOOKUP(A340,Manuscripts!$1:$300,7,FALSE) -> Freshwater | E340: =VLOOKUP(A340,Manuscripts!$1:$300,8,FALSE) -> Mesocosm | F340: Smaller eDNA particles decayed faster than larger (presumemd intracellular)
A341: Zhao et al. 2023 | B341: Abiotic factor | C341: pH | D341: =VLOOKUP(A341,Manuscripts!$1:$300,7,FALSE) -> Freshwater | E341: =VLOOKUP(A341,Manuscripts!$1:$300,8,FALSE) -> Mesocosm | F341: Higher pH resulted in faster eDNA decay overall, but this didn't hold for individual water sources (from various environments), and might be an artifact of pooling across different systems. See Fig 6. Similarly, the bacterial load appeared to have no effect on decay rates (Fig 6), but this seems very inconsistent w Figs 3 and 4, which show very different decay between enviro samples (quick decay) vs. Milli_Q (none)
A342: Zhao et al. 2023 | B342: Biotic factor | C342: Water type, Microbial uptake | D342: =VLOOKUP(A342,Manuscripts!$1:$300,7,FALSE) -> Freshwater | E342: =VLOOKUP(A342,Manuscripts!$1:$300,8,FALSE) -> Mesocosm | F342: Tanks with higher bacterial loads saw significantly faster eDNA loss, whereas Milli-Q water (near-sterile) exhibited minimal decay
A343: Zulkefli et al. 2019 | B343: Abiotic factor | C343: Temperature | D343: =VLOOKUP(A343,Manuscripts!$1:$300,7,FALSE) -> Freshwater | E343: =VLOOKUP(A343,Manuscripts!$1:$300,8,FALSE) -> Microcosm | F343: High temperature, faster eDNA decay
A344: Zulkefli et al. 2019 | B344: Abiotic factor | C344: pH | D344: =VLOOKUP(A344,Manuscripts!$1:$300,7,FALSE) -> Freshwater | E344: =VLOOKUP(A344,Manuscripts!$1:$300,8,FALSE) -> Microcosm | F344: pH was manipulated and its effect directly evaluated. But no significant effect was found
A345: Zulkefli et al. 2019 | B345: Abiotic factor | C345: PAR | D345: =VLOOKUP(A345,Manuscripts!$1:$300,7,FALSE) -> Freshwater | E345: =VLOOKUP(A345,Manuscripts!$1:$300,8,FALSE) -> Microcosm | F345: Light exposure was manipulated with fluorescent lights, but no significant effect was found
A346: Zulkefli et al. 2019 | B346: Biotic factor | C346: Microbial uptake | D346: =VLOOKUP(A346,Manuscripts!$1:$300,7,FALSE) -> Freshwater | E346: =VLOOKUP(A346,Manuscripts!$1:$300,8,FALSE) -> Microcosm | F346: Bacteria activity was measured and correlated significantly with increased decay
A347: Pastor Rollan et al. 2024 | B347: Transport | C347: Advection | D347: =VLOOKUP(A347,Manuscripts!$1:$185,7,FALSE) -> Saltwater | E347: =VLOOKUP(A347,Manuscripts!$1:$185,8,FALSE) -> Coastal | F347: In simulations, eDNA dispersion showed high local retention with spread typically <10–20 km, varying by site and season.
A348: Pastor Rollan et al. 2024 | B348: Transport | C348: Advection | D348: =VLOOKUP(A348,Manuscripts!$1:$185,7,FALSE) -> Saltwater | E348: =VLOOKUP(A348,Manuscripts!$1:$185,8,FALSE) -> Coastal | F348: Field results showed positive eDNA detections at up to 400 m from a point source, with high spatial variability through time.Detection probability was highest close to source (<5 km); dispersion footprint length ranged 2.5–29.6 km depending on site.
A349: Pastor Rollan et al. 2024 | B349: Transport | C349: Wind | D349: =VLOOKUP(A349,Manuscripts!$1:$185,7,FALSE) -> Saltwater | E349: =VLOOKUP(A349,Manuscripts!$1:$185,8,FALSE) -> Coastal | F349: In field experiments, crocodile eDNA was transported along wind-driven surface slicks visible during sampling.
A350: Jenrette et al., 2023 | B350: Transport | C350: Advection | D350: =VLOOKUP(A350,Manuscripts!$1:$185,7,FALSE) -> Saltwater | E350: =VLOOKUP(A350,Manuscripts!$1:$185,8,FALSE) -> Open ocean | F350: A particle tracking model simulated backward drift of detected eDNA, showing molecules can persist and travel up to 128 hours before detection

Sheet Other relavant papers
A1: Here, we have put papers that came up on the search, are relevant, but have no "findings". These include reviews with no metanalyses, theory, etc
A2: TS=("environmental DNA" OR eDNA) AND TS=(decay OR transport OR state) AND TS=(aquatic OR water OR marine OR freshwater OR river OR lake OR ocean OR estuary OR stream)
A3: Paper | B3: doi
A4: Barnes et al., 2014 | B4: https://doi.org/10.1021/es404734p
A5: Barnes et al., 2016 | B5: http://dx.doi.org/10.1007/s10592-015-0775-4
A6: Carrao et al. 2018 | B6: https://www.pnas.org/doi/full/10.1073/pnas.1813843115
A7: Carraro & Altermatt, 2024 | B7: https://doi.org/10.1111/2041-210X.14317
A8: Forsström & Vasemägi, 2016 | B8: https://doi.org/10.1016/j.marpolbul.2016.05.054
A9: Fukaya et al., 2020 | B9: https://doi.org/10.1111/mec.15530
A10: Green et al., 2025 | B10: https://doi.org/10.1002/edn3.70076
A11: Harrison et al., 2019 | B11: https://doi.org/10.1098/rspb.2019.1409
A12: Joseph et al., 2022 | B12: https://doi.org/10.1007/s10750-022-04959-w
A13: Karlsson et al., 2022 | B13: https://doi.org/10.1002/edn3.298
A14: Kirtane et al., 2024 | B14: https://doi.org/10.1002/edn3.572
... A21: Valentin et al., 2021 | B21: https://doi.org/10.1002/edn3.229
