Workbook

Sheet lncRNA Normalized Values
F1: Normalized lncRNA
F2: 10A | I2: AT1 | L2: DCIS | O2: CA1
C3: mRNA | D3: lncRNA | E3: lncRNA_level | F3: 1 | G3: 2 | H3: 3 | I3: 1 | J3: 2 | K3: 3 | L3: 1 | M3: 2 | N3: 3 | O3: 1 | P3: 2 | Q3: 3
C4: PMEPA1 | D4: AK056098 | F4: 4.5553465 | G4: 4.553313 | H4: 4.383358 | I4: 5.340433 | J4: 6.20886 | K4: 5.7134337 | L4: 2.859194 | M4: 3.1262999 | N4: 3.6436663 | O4: 6.236529 | P4: 6.3417006 | Q4: 6.189809
C5: SEMA5A | D5: SNHG18 | F5: 6.5801096 | G5: 7.00307 | H5: 6.8375144 | I5: 3.6138444 | J5: 2.9448376 | K5: 2.805169 | L5: 4.056575 | M5: 3.194933 | N5: 3.4567232 | O5: 3.358156 | P5: 5.0644784 | Q5: 3.5395832
C6: LGALS8 | D6: RP11-385F5.5 | E6: Reliable | F6: 6.889346 | G6: 7.007028 | H6: 7.0897045 | I6: 5.5335097 | J6: 5.3347197 | K6: 5.2315345 | L6: 5.418902 | M6: 5.7292676 | N6: 5.8338366 | O6: 5.804196 | P6: 5.598268 | Q6: 5.7641873
C7: IGFL1 | D7: AC006262.5 | F7: 5.6311564 | G7: 5.871988 | H7: 5.778596 | I7: 4.685515 | J7: 4.1031194 | K7: 3.9918826 | L7: 2.3574002 | M7: 2.7995043 | N7: 3.0615458 | O7: 3.3195384 | P7: 3.328411 | Q7: 3.7231808
C8: CDC25B | D8: LINC01730 | E8: Gold | F8: 6.5587616 | G8: 6.694081 | H8: 6.754956 | I8: 4.9676585 | J8: 4.7947435 | K8: 4.627039 | L8: 4.0832853 | M8: 3.9733663 | N8: 4.130382 | O8: 4.9082336 | P8: 4.823847 | Q8: 4.760009
C9: PHLDA1 | D9: RP11-290L1.3 | E9: Reliable | F9: 5.9919515 | G9: 5.8169904 | H9: 5.833318 | I9: 7.075914 | J9: 7.1032214 | K9: 7.229677 | L9: 7.3080025 | M9: 7.290731 | N9: 7.717331 | O9: 7.4617953 | P9: 7.5899267 | Q9: 7.4571643
C10: RIMBP2 | D10: RP11-662M24.2 | F10: 7.5385823 | G10: 7.6706753 | H10: 7.6637263 | I10: 6.0945497 | J10: 5.915254 | K10: 5.6857557 | L10: 6.357269 | M10: 6.4534516 | N10: 6.2566557 | O10: 6.7442155 | P10: 6.9722795 | Q10: 6.9383316
C11: VPS37B | D11: RP11-463O12.3 | E11: Reliable | F11: 5.1984234 | G11: 4.887623 | H11: 4.9126787 | I11: 6.1281333 | J11: 5.9984503 | K11: 6.3927994 | L11: 5.566704 | M11: 5.7134337 | N11: 6.109282 | O11: 6.4042006 | P11: 6.4473104 | Q11: 6.2166862
C12: CRIM1 | D12: RP11-490M8.1 | F12: 7.792245 | G12: 7.950161 | H12: 7.9214573 | I12: 6.8629136 | J12: 6.7066846 | K12: 6.7074637 | L12: 7.4228945 | M12: 7.638584 | N12: 7.701428 | O12: 7.699326 | P12: 7.643108 | Q12: 7.7998877
C13: SAP30 | D13: RP11-798M19.6 | F13: 6.8381214 | G13: 6.873363 | H13: 6.9954586 | I13: 5.2708426 | J13: 5.244136 | K13: 5.4754167 | L13: 5.3623786 | M13: 5.3193235 | N13: 6.2416945 | O13: 5.6188874 | P13: 5.7036858 | Q13: 6.0499377
C14: SAP30 | D14: RP11-798M19.6 | F14: 2.5244696 | G14: 2.7630565 | H14: 2.8107257 | I14: 3.6729565 | J14: 6.248466 | K14: 5.4623594 | L14: 5.72392 | M14: 3.206427 | N14: 3.0079803 | O14: 2.8316693 | P14: 3.2323568 | Q14: 2.4532204
C15: CPEB4 | D15: CTB-43E15.4 | E15: Gold | F15: 5.4173822 | G15: 6.3306227 | H15: 5.484337 | I15: 6.5793004 | J15: 6.946975 | K15: 7.1567497 | L15: 8.431673 | M15: 5.9709325 | N15: 5.8852563 | O15: 5.8632917 | P15: 5.863745 | Q15: 5.979359
B16: ** | C16: ABLIM3 | D16: CATG00000078011.1 | F16: 8.688826 | G16: 8.742166 | H16: 8.6294775 | I16: 8.006777 | J16: 8.06218 | K16: 7.986762 | L16: 6.5101147 | M16: 6.4017515 | N16: 6.8171787 | O16: 8.263315 | P16: 8.143873 | Q16: 8.158641
C17: AHR | D17: CATG00000095263.1 | F17: 8.961581 | G17: 9.039774 | H17: 9.084768 | I17: 9.189834 | J17: 8.723308 | K17: 9.071589 | L17: 10.255443 | M17: 10.367109 | N17: 10.17767 | O17: 10.043474 | P17: 10.084789 | Q17: 10.142849
C18: ARSG | D18: WIPI1 | F18: 5.3449903 | G18: 5.536215 | H18: 5.6124315 | I18: 5.5577426 | J18: 5.536215 | K18: 5.460757 | L18: 5.3186274 | M18: 5.272337 | N18: 5.806287 | O18: 5.249342 | P18: 5.341125 | Q18: 5.291766
C19: BCL10 | D19: RP11-131L23.1 | E19: Gold | F19: 4.8442373 | G19: 5.02145 | H19: 5.0440907 | I19: 5.536215 | J19: 5.3200006 | K19: 5.5335097 | L19: 3.9251094 | M19: 4.244198 | N19: 4.4649177 | O19: 4.7306724 | P19: 4.8296313 | Q19: 4.886271
C20: BMP2K | D20: CATG00000069061.1 | F20: 3.9161577 | G20: 3.780824 | H20: 3.7782888 | I20: 4.156798 | J20: 3.2341263 | K20: 3.2235684 | L20: 5.8249326 | M20: 5.040845 | N20: 4.5809727 | O20: 4.8019943 | P20: 4.847156 | Q20: 5.0067286
C21: CAPN10 | D21: CAPN10-AS1 | F21: 9.116408 | G21: 9.102028 | H21: 8.857807 | I21: 9.47471 | J21: 10.183199 | K21: 9.892583 | L21: 9.07873 | M21: 8.724349 | N21: 8.234882 | O21: 8.277368 | P21: 8.414187 | Q21: 8.621377
C22: COTL1 | D22: RP11-61F12.1 | E22: Reliable | F22: 11.571974 | G22: 11.89741 | H22: 12.515328 | I22: 12.1617 | J22: 11.621819 | K22: 12.047581 | L22: 15.051593 | M22: 14.767879 | N22: 14.539855 | O22: 13.994141 | P22: 14.208281 | Q22: 13.472819
C23: CTDSP1 | D23: RP11-378A13.2 | E23: Reliable | F23: 3.7657175 | G23: 3.4217005 | H23: 3.4745755 | I23: 3.3374934 | J23: 4.170465 | K23: 3.2867696 | L23: 2.3574002 | M23: 2.3517308 | N23: 2.391663 | O23: 2.3968577 | P23: 2.419074 | Q23: 2.4532204
C24: CTSD | D24: AC068580.7 | E24: Reliable | F24: 6.793838 | G24: 6.9642563 | H24: 6.1202755 | I24: 7.4100137 | J24: 6.781041 | K24: 7.176747 | L24: 8.24219 | M24: 8.452021 | N24: 7.6746755 | O24: 7.8463025 | P24: 8.095435 | Q24: 8.014365
C25: DES | D25: AC053503.6 | E25: Reliable | F25: 14.8283 | G25: 14.810102 | H25: 14.720821 | I25: 14.315293 | J25: 14.690084 | K25: 14.690084 | L25: 13.370034 | M25: 13.48145 | N25: 13.78433 | O25: 13.747129 | P25: 13.453765 | Q25: 13.664809
C26: DLGAP1 | D26: DLGAP1-AS2 | F26: 13.215898 | G26: 13.167538 | H26: 13.327606 | I26: 12.992548 | J26: 13.609172 | K26: 13.085522 | L26: 12.11268 | M26: 12.080656 | N26: 12.398304 | O26: 12.056754 | P26: 11.54249 | Q26: 11.518112
C27: EGFR | D27: EGFR-AS1 | F27: 4.1005325 | G27: 4.1273055 | H27: 4.1575775 | I27: 4.729089 | J27: 4.5406075 | K27: 4.121761 | L27: 2.7739253 | M27: 2.6040888 | N27: 2.7402449 | O27: 3.0654373 | P27: 3.4653604 | Q27: 3.8641095
C28: ETNK2 | D28: RP11-74C13.4 | F28: 7.2980747 | G28: 7.0784955 | H28: 7.1291127 | I28: 6.8267016 | J28: 6.990533 | K28: 7.159467 | L28: 6.002623 | M28: 5.754765 | N28: 5.716463 | O28: 6.3331285 | P28: 6.0837007 | Q28: 6.378031
C29: FAM213A | D29: RP11-137H2.6 | E29: Reliable | F29: 7.778418 | G29: 8.085745 | H29: 8.017321 | I29: 8.054166 | J29: 8.263892 | K29: 8.1757345 | L29: 4.4892273 | M29: 4.6993914 | N29: 4.5484447 | O29: 5.8726707 | P29: 5.623934 | Q29: 5.7703295
C30: FBXO32 | D30: RP11-174I12.2 | E30: Reliable | F30: 6.945037 | G30: 7.236615 | H30: 7.47886 | I30: 7.1147447 | J30: 7.0869017 | K30: 7.0089316 | L30: 8.793686 | M30: 8.601575 | N30: 8.334771 | O30: 8.207703 | P30: 8.269761 | Q30: 7.861157
C31: FNBP1 | D31: RP11-409K20.6 | E31: Reliable | F31: 14.817402 | G31: 14.609414 | H31: 14.656119 | I31: 14.882463 | J31: 14.349857 | K31: 15.308587 | L31: 16.480316 | M31: 16.082735 | N31: 15.551017 | O31: 15.413159 | P31: 15.556209 | Q31: 15.423241
C32: GNA15 | D32: AC005264.2 | F32: 13.525215 | G32: 13.632837 | H32: 13.697007 | I32: 13.312782 | J32: 13.550392 | K32: 13.257342 | L32: 12.078845 | M32: 12.120636 | N32: 12.578543 | O32: 12.664106 | P32: 12.402322 | Q32: 12.472151
C33: HOXA11 | D33: RP1-170O19.14 | E33: Reliable | F33: 8.769188 | G33: 8.732643 | H33: 8.694662 | I33: 9.024872 | J33: 8.528564 | K33: 8.820587 | L33: 10.034062 | M33: 10.047084 | N33: 9.553188 | O33: 9.446875 | P33: 9.5126915 | Q33: 9.534771
B34: 1549 | C34: HOXA11 | D34: HOXA11-AS | F34: 4.214133 | G34: 4.2509403 | H34: 4.1757936 | I34: 3.7603397 | J34: 3.053667 | K34: 3.6504054 | L34: 5.1913853 | M34: 5.070301 | N34: 5.7129083 | O34: 6.089563 | P34: 6.026087 | Q34: 6.1052256
B35: ** | C35: KBTBD11 | D35: KBTBD11-OT1 | F35: 4.045396 | G35: 4.530417 | H35: 4.861313 | I35: 4.4085875 | J35: 4.119546 | K35: 4.496484 | L35: 6.515831 | M35: 5.228652 | N35: 5.286344 | O35: 4.9542756 | P35: 4.9329824 | Q35: 4.9099803
C36: KCTD5 | D36: CTD-3126B10.4 | E36: Reliable | F36: 14.535265 | G36: 14.615509 | H36: 14.609414 | I36: 14.121297 | J36: 14.609414 | K36: 14.330411 | L36: 13.13926 | M36: 13.269185 | N36: 13.616132 | O36: 13.894627 | P36: 13.568247 | Q36: 13.671624
B37: 523 | C37: KLF7 | D37: AC007879.6 | E37: Gold | F37: 5.416285 | G37: 4.9910216 | H37: 5.162183 | I37: 5.554635 | J37: 5.8099833 | K37: 5.8259683 | L37: 3.0116222 | M37: 3.040589 | N37: 3.7586248 | O37: 3.372058 | P37: 3.769805 | Q37: 2.4532204
C38: LASP1 | D38: RP1-56K13.2 | E38: Reliable | F38: 7.8529935 | G38: 7.827554 | H38: 7.8325925 | I38: 7.762265 | J38: 7.7451463 | K38: 8.000157 | L38: 9.628641 | M38: 9.564109 | N38: 8.922061 | O38: 8.833725 | P38: 8.9392 | Q38: 8.84104
C39: LIF | D39: RP1-102K2.8 | F39: 4.729089 | G39: 4.3305154 | H39: 4.5884438 | I39: 4.8019943 | J39: 4.7578354 | K39: 4.401338 | L39: 6.1717563 | M39: 5.8310714 | N39: 6.059591 | O39: 5.2143755 | P39: 5.092799 | Q39: 5.2846394
B40: 2405 | C40: LIF | D40: CATG00000058427.1 | F40: 15.250631 | G40: 15.037895 | H40: 15.169519 | I40: 14.870146 | J40: 15.42693 | K40: 15.258437 | L40: 13.787876 | M40: 13.894627 | N40: 14.442927 | O40: 14.577376 | P40: 14.355982 | Q40: 14.414034
...

Sheet lncRNA Subtracted values
F1: Normalized lncRNA
F2: 10A | I2: AT1 | L2: DCIS | O2: CA1
C3: mRNA | D3: lncRNA | E3: lncRNA_level | F3: 1 | G3: 2 | H3: 3 | I3: 1 | J3: 2 | K3: 3 | L3: 1 | M3: 2 | N3: 3 | O3: 1 | P3: 2 | Q3: 3
C4: PMEPA1 | D4: AK056098 | F4: ='lncRNA Normalized Values'!F4-(AVERAGE('lncRNA Normalized Values'!$F4:$H4)) -> 0.058007333 | G4: ='lncRNA Normalized Values'!G4-(AVERAGE('lncRNA Normalized Values'!$F4:$H4)) -> 0.055973833 | H4: ='lncRNA Normalized Values'!H4-(AVERAGE('lncRNA Normalized Values'!$F4:$H4)) -> -0.11398117 | I4: ='lncRNA Normalized Values'!I4-(AVERAGE('lncRNA Normalized Values'!$F4:$H4)) -> 0.84309383 | J4: ='lncRNA Normalized Values'!J4-(AVERAGE('lncRNA Normalized Values'!$F4:$H4)) -> 1.7115208 | K4: ='lncRNA Normalized Values'!K4-(AVERAGE('lncRNA Normalized Values'!$F4:$H4)) -> 1.2160945 | L4: ='lncRNA Normalized Values'!L4-(AVERAGE('lncRNA Normalized Values'!$F4:$H4)) -> -1.6381452 | M4: ='lncRNA Normalized Values'!M4-(AVERAGE('lncRNA Normalized Values'!$F4:$H4)) -> -1.3710393 | ... Q4: ='lncRNA Normalized Values'!Q4-(AVERAGE('lncRNA Normalized Values'!$F4:$H4)) -> 1.6924698
C5: SEMA5A | D5: SNHG18 | F5: ='lncRNA Normalized Values'!F5-(AVERAGE('lncRNA Normalized Values'!$F5:$H5)) -> -0.2267884 | G5: ='lncRNA Normalized Values'!G5-(AVERAGE('lncRNA Normalized Values'!$F5:$H5)) -> 0.196172 | H5: ='lncRNA Normalized Values'!H5-(AVERAGE('lncRNA Normalized Values'!$F5:$H5)) -> 0.0306164 | I5: ='lncRNA Normalized Values'!I5-(AVERAGE('lncRNA Normalized Values'!$F5:$H5)) -> -3.1930536 | J5: ='lncRNA Normalized Values'!J5-(AVERAGE('lncRNA Normalized Values'!$F5:$H5)) -> -3.8620604 | K5: ='lncRNA Normalized Values'!K5-(AVERAGE('lncRNA Normalized Values'!$F5:$H5)) -> -4.001729 | L5: ='lncRNA Normalized Values'!L5-(AVERAGE('lncRNA Normalized Values'!$F5:$H5)) -> -2.750323 | M5: ='lncRNA Normalized Values'!M5-(AVERAGE('lncRNA Normalized Values'!$F5:$H5)) -> -3.611965 | ... Q5: ='lncRNA Normalized Values'!Q5-(AVERAGE('lncRNA Normalized Values'!$F5:$H5)) -> -3.2673148
C6: LGALS8 | D6: RP11-385F5.5 | E6: Reliable | F6: ='lncRNA Normalized Values'!F6-(AVERAGE('lncRNA Normalized Values'!$F6:$H6)) -> -0.1060135 | G6: ='lncRNA Normalized Values'!G6-(AVERAGE('lncRNA Normalized Values'!$F6:$H6)) -> 0.0116685 | H6: ='lncRNA Normalized Values'!H6-(AVERAGE('lncRNA Normalized Values'!$F6:$H6)) -> 0.094345 | I6: ='lncRNA Normalized Values'!I6-(AVERAGE('lncRNA Normalized Values'!$F6:$H6)) -> -1.4618498 | J6: ='lncRNA Normalized Values'!J6-(AVERAGE('lncRNA Normalized Values'!$F6:$H6)) -> -1.6606398 | K6: ='lncRNA Normalized Values'!K6-(AVERAGE('lncRNA Normalized Values'!$F6:$H6)) -> -1.763825 | L6: ='lncRNA Normalized Values'!L6-(AVERAGE('lncRNA Normalized Values'!$F6:$H6)) -> -1.5764575 | M6: ='lncRNA Normalized Values'!M6-(AVERAGE('lncRNA Normalized Values'!$F6:$H6)) -> -1.2660919 | ... Q6: ='lncRNA Normalized Values'!Q6-(AVERAGE('lncRNA Normalized Values'!$F6:$H6)) -> -1.2311722
C7: IGFL1 | D7: AC006262.5 | F7: ='lncRNA Normalized Values'!F7-(AVERAGE('lncRNA Normalized Values'!$F7:$H7)) -> -0.12942373 | G7: ='lncRNA Normalized Values'!G7-(AVERAGE('lncRNA Normalized Values'!$F7:$H7)) -> 0.11140787 | H7: ='lncRNA Normalized Values'!H7-(AVERAGE('lncRNA Normalized Values'!$F7:$H7)) -> 0.018015867 | I7: ='lncRNA Normalized Values'!I7-(AVERAGE('lncRNA Normalized Values'!$F7:$H7)) -> -1.0750651 | J7: ='lncRNA Normalized Values'!J7-(AVERAGE('lncRNA Normalized Values'!$F7:$H7)) -> -1.6574607 | K7: ='lncRNA Normalized Values'!K7-(AVERAGE('lncRNA Normalized Values'!$F7:$H7)) -> -1.7686975 | L7: ='lncRNA Normalized Values'!L7-(AVERAGE('lncRNA Normalized Values'!$F7:$H7)) -> -3.4031799 | M7: ='lncRNA Normalized Values'!M7-(AVERAGE('lncRNA Normalized Values'!$F7:$H7)) -> -2.9610758 | ... Q7: ='lncRNA Normalized Values'!Q7-(AVERAGE('lncRNA Normalized Values'!$F7:$H7)) -> -2.0373993
C8: CDC25B | D8: LINC01730 | E8: Gold | F8: ='lncRNA Normalized Values'!F8-(AVERAGE('lncRNA Normalized Values'!$F8:$H8)) -> -0.1105046 | G8: ='lncRNA Normalized Values'!G8-(AVERAGE('lncRNA Normalized Values'!$F8:$H8)) -> 0.0248148 | H8: ='lncRNA Normalized Values'!H8-(AVERAGE('lncRNA Normalized Values'!$F8:$H8)) -> 0.0856898 | I8: ='lncRNA Normalized Values'!I8-(AVERAGE('lncRNA Normalized Values'!$F8:$H8)) -> -1.7016077 | J8: ='lncRNA Normalized Values'!J8-(AVERAGE('lncRNA Normalized Values'!$F8:$H8)) -> -1.8745227 | K8: ='lncRNA Normalized Values'!K8-(AVERAGE('lncRNA Normalized Values'!$F8:$H8)) -> -2.0422272 | L8: ='lncRNA Normalized Values'!L8-(AVERAGE('lncRNA Normalized Values'!$F8:$H8)) -> -2.5859809 | M8: ='lncRNA Normalized Values'!M8-(AVERAGE('lncRNA Normalized Values'!$F8:$H8)) -> -2.6958999 | ... Q8: ='lncRNA Normalized Values'!Q8-(AVERAGE('lncRNA Normalized Values'!$F8:$H8)) -> -1.9092572
C9: PHLDA1 | D9: RP11-290L1.3 | E9: Reliable | F9: ='lncRNA Normalized Values'!F9-(AVERAGE('lncRNA Normalized Values'!$F9:$H9)) -> 0.1111982 | G9: ='lncRNA Normalized Values'!G9-(AVERAGE('lncRNA Normalized Values'!$F9:$H9)) -> -0.0637629 | H9: ='lncRNA Normalized Values'!H9-(AVERAGE('lncRNA Normalized Values'!$F9:$H9)) -> -0.0474353 | I9: ='lncRNA Normalized Values'!I9-(AVERAGE('lncRNA Normalized Values'!$F9:$H9)) -> 1.1951607 | J9: ='lncRNA Normalized Values'!J9-(AVERAGE('lncRNA Normalized Values'!$F9:$H9)) -> 1.2224681 | K9: ='lncRNA Normalized Values'!K9-(AVERAGE('lncRNA Normalized Values'!$F9:$H9)) -> 1.3489237 | L9: ='lncRNA Normalized Values'!L9-(AVERAGE('lncRNA Normalized Values'!$F9:$H9)) -> 1.4272492 | M9: ='lncRNA Normalized Values'!M9-(AVERAGE('lncRNA Normalized Values'!$F9:$H9)) -> 1.4099777 | ... Q9: ='lncRNA Normalized Values'!Q9-(AVERAGE('lncRNA Normalized Values'!$F9:$H9)) -> 1.576411
C10: RIMBP2 | D10: RP11-662M24.2 | F10: ='lncRNA Normalized Values'!F10-(AVERAGE('lncRNA Normalized Values'!$F10:$H10)) -> -0.085745667 | G10: ='lncRNA Normalized Values'!G10-(AVERAGE('lncRNA Normalized Values'!$F10:$H10)) -> 0.046347333 | H10: ='lncRNA Normalized Values'!H10-(AVERAGE('lncRNA Normalized Values'!$F10:$H10)) -> 0.039398333 | I10: ='lncRNA Normalized Values'!I10-(AVERAGE('lncRNA Normalized Values'!$F10:$H10)) -> -1.5297783 | J10: ='lncRNA Normalized Values'!J10-(AVERAGE('lncRNA Normalized Values'!$F10:$H10)) -> -1.709074 | K10: ='lncRNA Normalized Values'!K10-(AVERAGE('lncRNA Normalized Values'!$F10:$H10)) -> -1.9385723 | L10: ='lncRNA Normalized Values'!L10-(AVERAGE('lncRNA Normalized Values'!$F10:$H10)) -> -1.267059 | M10: ='lncRNA Normalized Values'!M10-(AVERAGE('lncRNA Normalized Values'!$F10:$H10)) -> -1.1708764 | ... Q10: ='lncRNA Normalized Values'!Q10-(AVERAGE('lncRNA Normalized Values'!$F10:$H10)) -> -0.68599637
C11: VPS37B | D11: RP11-463O12.3 | E11: Reliable | F11: ='lncRNA Normalized Values'!F11-(AVERAGE('lncRNA Normalized Values'!$F11:$H11)) -> 0.19884837 | G11: ='lncRNA Normalized Values'!G11-(AVERAGE('lncRNA Normalized Values'!$F11:$H11)) -> -0.11195203 | H11: ='lncRNA Normalized Values'!H11-(AVERAGE('lncRNA Normalized Values'!$F11:$H11)) -> -0.086896333 | I11: ='lncRNA Normalized Values'!I11-(AVERAGE('lncRNA Normalized Values'!$F11:$H11)) -> 1.1285583 | J11: ='lncRNA Normalized Values'!J11-(AVERAGE('lncRNA Normalized Values'!$F11:$H11)) -> 0.99887527 | K11: ='lncRNA Normalized Values'!K11-(AVERAGE('lncRNA Normalized Values'!$F11:$H11)) -> 1.3932244 | L11: ='lncRNA Normalized Values'!L11-(AVERAGE('lncRNA Normalized Values'!$F11:$H11)) -> 0.56712897 | M11: ='lncRNA Normalized Values'!M11-(AVERAGE('lncRNA Normalized Values'!$F11:$H11)) -> 0.71385867 | ... Q11: ='lncRNA Normalized Values'!Q11-(AVERAGE('lncRNA Normalized Values'!$F11:$H11)) -> 1.2171112
C12: CRIM1 | D12: RP11-490M8.1 | F12: ='lncRNA Normalized Values'!F12-(AVERAGE('lncRNA Normalized Values'!$F12:$H12)) -> -0.095709433 | G12: ='lncRNA Normalized Values'!G12-(AVERAGE('lncRNA Normalized Values'!$F12:$H12)) -> 0.062206567 | H12: ='lncRNA Normalized Values'!H12-(AVERAGE('lncRNA Normalized Values'!$F12:$H12)) -> 0.033502867 | I12: ='lncRNA Normalized Values'!I12-(AVERAGE('lncRNA Normalized Values'!$F12:$H12)) -> -1.0250408 | J12: ='lncRNA Normalized Values'!J12-(AVERAGE('lncRNA Normalized Values'!$F12:$H12)) -> -1.1812698 | K12: ='lncRNA Normalized Values'!K12-(AVERAGE('lncRNA Normalized Values'!$F12:$H12)) -> -1.1804907 | L12: ='lncRNA Normalized Values'!L12-(AVERAGE('lncRNA Normalized Values'!$F12:$H12)) -> -0.46505993 | M12: ='lncRNA Normalized Values'!M12-(AVERAGE('lncRNA Normalized Values'!$F12:$H12)) -> -0.24937043 | ... Q12: ='lncRNA Normalized Values'!Q12-(AVERAGE('lncRNA Normalized Values'!$F12:$H12)) -> -0.088066733
C13: SAP30 | D13: RP11-798M19.6 | F13: ='lncRNA Normalized Values'!F13-(AVERAGE('lncRNA Normalized Values'!$F13:$H13)) -> -0.064192933 | G13: ='lncRNA Normalized Values'!G13-(AVERAGE('lncRNA Normalized Values'!$F13:$H13)) -> -0.028951333 | H13: ='lncRNA Normalized Values'!H13-(AVERAGE('lncRNA Normalized Values'!$F13:$H13)) -> 0.093144267 | I13: ='lncRNA Normalized Values'!I13-(AVERAGE('lncRNA Normalized Values'!$F13:$H13)) -> -1.6314717 | J13: ='lncRNA Normalized Values'!J13-(AVERAGE('lncRNA Normalized Values'!$F13:$H13)) -> -1.6581783 | K13: ='lncRNA Normalized Values'!K13-(AVERAGE('lncRNA Normalized Values'!$F13:$H13)) -> -1.4268976 | L13: ='lncRNA Normalized Values'!L13-(AVERAGE('lncRNA Normalized Values'!$F13:$H13)) -> -1.5399357 | M13: ='lncRNA Normalized Values'!M13-(AVERAGE('lncRNA Normalized Values'!$F13:$H13)) -> -1.5829908 | ... Q13: ='lncRNA Normalized Values'!Q13-(AVERAGE('lncRNA Normalized Values'!$F13:$H13)) -> -0.85237663
C14: SAP30 | D14: RP11-798M19.6 | F14: ='lncRNA Normalized Values'!F14-(AVERAGE('lncRNA Normalized Values'!$F14:$H14)) -> -0.17494767 | G14: ='lncRNA Normalized Values'!G14-(AVERAGE('lncRNA Normalized Values'!$F14:$H14)) -> 0.063639233 | H14: ='lncRNA Normalized Values'!H14-(AVERAGE('lncRNA Normalized Values'!$F14:$H14)) -> 0.11130843 | I14: ='lncRNA Normalized Values'!I14-(AVERAGE('lncRNA Normalized Values'!$F14:$H14)) -> 0.97353923 | J14: ='lncRNA Normalized Values'!J14-(AVERAGE('lncRNA Normalized Values'!$F14:$H14)) -> 3.5490487 | K14: ='lncRNA Normalized Values'!K14-(AVERAGE('lncRNA Normalized Values'!$F14:$H14)) -> 2.7629421 | L14: ='lncRNA Normalized Values'!L14-(AVERAGE('lncRNA Normalized Values'!$F14:$H14)) -> 3.0245027 | M14: ='lncRNA Normalized Values'!M14-(AVERAGE('lncRNA Normalized Values'!$F14:$H14)) -> 0.50700973 | ... Q14: ='lncRNA Normalized Values'!Q14-(AVERAGE('lncRNA Normalized Values'!$F14:$H14)) -> -0.24619687
C15: CPEB4 | D15: CTB-43E15.4 | E15: Gold | F15: ='lncRNA Normalized Values'!F15-(AVERAGE('lncRNA Normalized Values'!$F15:$H15)) -> -0.32673177 | G15: ='lncRNA Normalized Values'!G15-(AVERAGE('lncRNA Normalized Values'!$F15:$H15)) -> 0.58650873 | H15: ='lncRNA Normalized Values'!H15-(AVERAGE('lncRNA Normalized Values'!$F15:$H15)) -> -0.25977697 | I15: ='lncRNA Normalized Values'!I15-(AVERAGE('lncRNA Normalized Values'!$F15:$H15)) -> 0.83518643 | J15: ='lncRNA Normalized Values'!J15-(AVERAGE('lncRNA Normalized Values'!$F15:$H15)) -> 1.202861 | K15: ='lncRNA Normalized Values'!K15-(AVERAGE('lncRNA Normalized Values'!$F15:$H15)) -> 1.4126357 | L15: ='lncRNA Normalized Values'!L15-(AVERAGE('lncRNA Normalized Values'!$F15:$H15)) -> 2.687559 | M15: ='lncRNA Normalized Values'!M15-(AVERAGE('lncRNA Normalized Values'!$F15:$H15)) -> 0.22681853 | ... Q15: ='lncRNA Normalized Values'!Q15-(AVERAGE('lncRNA Normalized Values'!$F15:$H15)) -> 0.23524503
C16: ABLIM3 | D16: CATG00000078011.1 | F16: ='lncRNA Normalized Values'!F16-(AVERAGE('lncRNA Normalized Values'!$F16:$H16)) -> 0.0020028333 | G16: ='lncRNA Normalized Values'!G16-(AVERAGE('lncRNA Normalized Values'!$F16:$H16)) -> 0.055342833 | H16: ='lncRNA Normalized Values'!H16-(AVERAGE('lncRNA Normalized Values'!$F16:$H16)) -> -0.057345667 | I16: ='lncRNA Normalized Values'!I16-(AVERAGE('lncRNA Normalized Values'!$F16:$H16)) -> -0.68004617 | J16: ='lncRNA Normalized Values'!J16-(AVERAGE('lncRNA Normalized Values'!$F16:$H16)) -> -0.62464317 | K16: ='lncRNA Normalized Values'!K16-(AVERAGE('lncRNA Normalized Values'!$F16:$H16)) -> -0.70006117 | L16: ='lncRNA Normalized Values'!L16-(AVERAGE('lncRNA Normalized Values'!$F16:$H16)) -> -2.1767085 | M16: ='lncRNA Normalized Values'!M16-(AVERAGE('lncRNA Normalized Values'!$F16:$H16)) -> -2.2850717 | ... Q16: ='lncRNA Normalized Values'!Q16-(AVERAGE('lncRNA Normalized Values'!$F16:$H16)) -> -0.52818217
C17: AHR | D17: CATG00000095263.1 | F17: ='lncRNA Normalized Values'!F17-(AVERAGE('lncRNA Normalized Values'!$F17:$H17)) -> -0.067126667 | G17: ='lncRNA Normalized Values'!G17-(AVERAGE('lncRNA Normalized Values'!$F17:$H17)) -> 0.011066333 | H17: ='lncRNA Normalized Values'!H17-(AVERAGE('lncRNA Normalized Values'!$F17:$H17)) -> 0.056060333 | I17: ='lncRNA Normalized Values'!I17-(AVERAGE('lncRNA Normalized Values'!$F17:$H17)) -> 0.16112633 | J17: ='lncRNA Normalized Values'!J17-(AVERAGE('lncRNA Normalized Values'!$F17:$H17)) -> -0.30539967 | K17: ='lncRNA Normalized Values'!K17-(AVERAGE('lncRNA Normalized Values'!$F17:$H17)) -> 0.042881333 | L17: ='lncRNA Normalized Values'!L17-(AVERAGE('lncRNA Normalized Values'!$F17:$H17)) -> 1.2267353 | M17: ='lncRNA Normalized Values'!M17-(AVERAGE('lncRNA Normalized Values'!$F17:$H17)) -> 1.3384013 | ... Q17: ='lncRNA Normalized Values'!Q17-(AVERAGE('lncRNA Normalized Values'!$F17:$H17)) -> 1.1141413
C18: ARSG | D18: WIPI1 | F18: ='lncRNA Normalized Values'!F18-(AVERAGE('lncRNA Normalized Values'!$F18:$H18)) -> -0.15288863 | G18: ='lncRNA Normalized Values'!G18-(AVERAGE('lncRNA Normalized Values'!$F18:$H18)) -> 0.038336067 | H18: ='lncRNA Normalized Values'!H18-(AVERAGE('lncRNA Normalized Values'!$F18:$H18)) -> 0.11455257 | I18: ='lncRNA Normalized Values'!I18-(AVERAGE('lncRNA Normalized Values'!$F18:$H18)) -> 0.059863667 | J18: ='lncRNA Normalized Values'!J18-(AVERAGE('lncRNA Normalized Values'!$F18:$H18)) -> 0.038336067 | K18: ='lncRNA Normalized Values'!K18-(AVERAGE('lncRNA Normalized Values'!$F18:$H18)) -> -0.037121933 | L18: ='lncRNA Normalized Values'!L18-(AVERAGE('lncRNA Normalized Values'!$F18:$H18)) -> -0.17925153 | M18: ='lncRNA Normalized Values'!M18-(AVERAGE('lncRNA Normalized Values'!$F18:$H18)) -> -0.22554193 | ... Q18: ='lncRNA Normalized Values'!Q18-(AVERAGE('lncRNA Normalized Values'!$F18:$H18)) -> -0.20611293
C19: BCL10 | D19: RP11-131L23.1 | E19: Gold | F19: ='lncRNA Normalized Values'!F19-(AVERAGE('lncRNA Normalized Values'!$F19:$H19)) -> -0.1256887 | G19: ='lncRNA Normalized Values'!G19-(AVERAGE('lncRNA Normalized Values'!$F19:$H19)) -> 0.051524 | H19: ='lncRNA Normalized Values'!H19-(AVERAGE('lncRNA Normalized Values'!$F19:$H19)) -> 0.0741647 | I19: ='lncRNA Normalized Values'!I19-(AVERAGE('lncRNA Normalized Values'!$F19:$H19)) -> 0.566289 | J19: ='lncRNA Normalized Values'!J19-(AVERAGE('lncRNA Normalized Values'!$F19:$H19)) -> 0.3500746 | K19: ='lncRNA Normalized Values'!K19-(AVERAGE('lncRNA Normalized Values'!$F19:$H19)) -> 0.5635837 | L19: ='lncRNA Normalized Values'!L19-(AVERAGE('lncRNA Normalized Values'!$F19:$H19)) -> -1.0448166 | M19: ='lncRNA Normalized Values'!M19-(AVERAGE('lncRNA Normalized Values'!$F19:$H19)) -> -0.725728 | ... Q19: ='lncRNA Normalized Values'!Q19-(AVERAGE('lncRNA Normalized Values'!$F19:$H19)) -> -0.083655
C20: BMP2K | D20: CATG00000069061.1 | F20: ='lncRNA Normalized Values'!F20-(AVERAGE('lncRNA Normalized Values'!$F20:$H20)) -> 0.091067533 | G20: ='lncRNA Normalized Values'!G20-(AVERAGE('lncRNA Normalized Values'!$F20:$H20)) -> -0.044266167 | H20: ='lncRNA Normalized Values'!H20-(AVERAGE('lncRNA Normalized Values'!$F20:$H20)) -> -0.046801367 | I20: ='lncRNA Normalized Values'!I20-(AVERAGE('lncRNA Normalized Values'!$F20:$H20)) -> 0.33170783 | J20: ='lncRNA Normalized Values'!J20-(AVERAGE('lncRNA Normalized Values'!$F20:$H20)) -> -0.59096387 | K20: ='lncRNA Normalized Values'!K20-(AVERAGE('lncRNA Normalized Values'!$F20:$H20)) -> -0.60152177 | L20: ='lncRNA Normalized Values'!L20-(AVERAGE('lncRNA Normalized Values'!$F20:$H20)) -> 1.9998424 | M20: ='lncRNA Normalized Values'!M20-(AVERAGE('lncRNA Normalized Values'!$F20:$H20)) -> 1.2157548 | ... Q20: ='lncRNA Normalized Values'!Q20-(AVERAGE('lncRNA Normalized Values'!$F20:$H20)) -> 1.1816384
C21: CAPN10 | D21: CAPN10-AS1 | F21: ='lncRNA Normalized Values'!F21-(AVERAGE('lncRNA Normalized Values'!$F21:$H21)) -> 0.090993667 | G21: ='lncRNA Normalized Values'!G21-(AVERAGE('lncRNA Normalized Values'!$F21:$H21)) -> 0.076613667 | H21: ='lncRNA Normalized Values'!H21-(AVERAGE('lncRNA Normalized Values'!$F21:$H21)) -> -0.16760733 | I21: ='lncRNA Normalized Values'!I21-(AVERAGE('lncRNA Normalized Values'!$F21:$H21)) -> 0.44929567 | J21: ='lncRNA Normalized Values'!J21-(AVERAGE('lncRNA Normalized Values'!$F21:$H21)) -> 1.1577847 | K21: ='lncRNA Normalized Values'!K21-(AVERAGE('lncRNA Normalized Values'!$F21:$H21)) -> 0.86716867 | L21: ='lncRNA Normalized Values'!L21-(AVERAGE('lncRNA Normalized Values'!$F21:$H21)) -> 0.053315667 | M21: ='lncRNA Normalized Values'!M21-(AVERAGE('lncRNA Normalized Values'!$F21:$H21)) -> -0.30106533 | ... Q21: ='lncRNA Normalized Values'!Q21-(AVERAGE('lncRNA Normalized Values'!$F21:$H21)) -> -0.40403733
C22: COTL1 | D22: RP11-61F12.1 | E22: Reliable | F22: ='lncRNA Normalized Values'!F22-(AVERAGE('lncRNA Normalized Values'!$F22:$H22)) -> -0.42293 | G22: ='lncRNA Normalized Values'!G22-(AVERAGE('lncRNA Normalized Values'!$F22:$H22)) -> -0.097494 | H22: ='lncRNA Normalized Values'!H22-(AVERAGE('lncRNA Normalized Values'!$F22:$H22)) -> 0.520424 | I22: ='lncRNA Normalized Values'!I22-(AVERAGE('lncRNA Normalized Values'!$F22:$H22)) -> 0.166796 | J22: ='lncRNA Normalized Values'!J22-(AVERAGE('lncRNA Normalized Values'!$F22:$H22)) -> -0.373085 | K22: ='lncRNA Normalized Values'!K22-(AVERAGE('lncRNA Normalized Values'!$F22:$H22)) -> 0.052677 | L22: ='lncRNA Normalized Values'!L22-(AVERAGE('lncRNA Normalized Values'!$F22:$H22)) -> 3.056689 | M22: ='lncRNA Normalized Values'!M22-(AVERAGE('lncRNA Normalized Values'!$F22:$H22)) -> 2.7729755 | ... Q22: ='lncRNA Normalized Values'!Q22-(AVERAGE('lncRNA Normalized Values'!$F22:$H22)) -> 1.477915
C23: CTDSP1 | D23: RP11-378A13.2 | E23: Reliable | F23: ='lncRNA Normalized Values'!F23-(AVERAGE('lncRNA Normalized Values'!$F23:$H23)) -> 0.21171967 | G23: ='lncRNA Normalized Values'!G23-(AVERAGE('lncRNA Normalized Values'!$F23:$H23)) -> -0.13229733 | H23: ='lncRNA Normalized Values'!H23-(AVERAGE('lncRNA Normalized Values'!$F23:$H23)) -> -0.079422333 | I23: ='lncRNA Normalized Values'!I23-(AVERAGE('lncRNA Normalized Values'!$F23:$H23)) -> -0.21650443 | J23: ='lncRNA Normalized Values'!J23-(AVERAGE('lncRNA Normalized Values'!$F23:$H23)) -> 0.61646717 | K23: ='lncRNA Normalized Values'!K23-(AVERAGE('lncRNA Normalized Values'!$F23:$H23)) -> -0.26722823 | L23: ='lncRNA Normalized Values'!L23-(AVERAGE('lncRNA Normalized Values'!$F23:$H23)) -> -1.1965976 | M23: ='lncRNA Normalized Values'!M23-(AVERAGE('lncRNA Normalized Values'!$F23:$H23)) -> -1.202267 | ... Q23: ='lncRNA Normalized Values'!Q23-(AVERAGE('lncRNA Normalized Values'!$F23:$H23)) -> -1.1007774
C24: CTSD | D24: AC068580.7 | E24: Reliable | F24: ='lncRNA Normalized Values'!F24-(AVERAGE('lncRNA Normalized Values'!$F24:$H24)) -> 0.16771473 | G24: ='lncRNA Normalized Values'!G24-(AVERAGE('lncRNA Normalized Values'!$F24:$H24)) -> 0.33813303 | H24: ='lncRNA Normalized Values'!H24-(AVERAGE('lncRNA Normalized Values'!$F24:$H24)) -> -0.50584777 | I24: ='lncRNA Normalized Values'!I24-(AVERAGE('lncRNA Normalized Values'!$F24:$H24)) -> 0.78389043 | J24: ='lncRNA Normalized Values'!J24-(AVERAGE('lncRNA Normalized Values'!$F24:$H24)) -> 0.15491773 | K24: ='lncRNA Normalized Values'!K24-(AVERAGE('lncRNA Normalized Values'!$F24:$H24)) -> 0.55062373 | L24: ='lncRNA Normalized Values'!L24-(AVERAGE('lncRNA Normalized Values'!$F24:$H24)) -> 1.6160667 | M24: ='lncRNA Normalized Values'!M24-(AVERAGE('lncRNA Normalized Values'!$F24:$H24)) -> 1.8258977 | ... Q24: ='lncRNA Normalized Values'!Q24-(AVERAGE('lncRNA Normalized Values'!$F24:$H24)) -> 1.3882417
C25: DES | D25: AC053503.6 | E25: Reliable | F25: ='lncRNA Normalized Values'!F25-(AVERAGE('lncRNA Normalized Values'!$F25:$H25)) -> 0.041892333 | G25: ='lncRNA Normalized Values'!G25-(AVERAGE('lncRNA Normalized Values'!$F25:$H25)) -> 0.023694333 | H25: ='lncRNA Normalized Values'!H25-(AVERAGE('lncRNA Normalized Values'!$F25:$H25)) -> -0.065586667 | I25: ='lncRNA Normalized Values'!I25-(AVERAGE('lncRNA Normalized Values'!$F25:$H25)) -> -0.47111467 | J25: ='lncRNA Normalized Values'!J25-(AVERAGE('lncRNA Normalized Values'!$F25:$H25)) -> -0.096323667 | K25: ='lncRNA Normalized Values'!K25-(AVERAGE('lncRNA Normalized Values'!$F25:$H25)) -> -0.096323667 | L25: ='lncRNA Normalized Values'!L25-(AVERAGE('lncRNA Normalized Values'!$F25:$H25)) -> -1.4163737 | M25: ='lncRNA Normalized Values'!M25-(AVERAGE('lncRNA Normalized Values'!$F25:$H25)) -> -1.3049577 | ... Q25: ='lncRNA Normalized Values'!Q25-(AVERAGE('lncRNA Normalized Values'!$F25:$H25)) -> -1.1215987
C26: DLGAP1 | D26: DLGAP1-AS2 | F26: ='lncRNA Normalized Values'!F26-(AVERAGE('lncRNA Normalized Values'!$F26:$H26)) -> -0.021116 | G26: ='lncRNA Normalized Values'!G26-(AVERAGE('lncRNA Normalized Values'!$F26:$H26)) -> -0.069476 | H26: ='lncRNA Normalized Values'!H26-(AVERAGE('lncRNA Normalized Values'!$F26:$H26)) -> 0.090592 | I26: ='lncRNA Normalized Values'!I26-(AVERAGE('lncRNA Normalized Values'!$F26:$H26)) -> -0.244466 | J26: ='lncRNA Normalized Values'!J26-(AVERAGE('lncRNA Normalized Values'!$F26:$H26)) -> 0.372158 | K26: ='lncRNA Normalized Values'!K26-(AVERAGE('lncRNA Normalized Values'!$F26:$H26)) -> -0.151492 | L26: ='lncRNA Normalized Values'!L26-(AVERAGE('lncRNA Normalized Values'!$F26:$H26)) -> -1.124334 | M26: ='lncRNA Normalized Values'!M26-(AVERAGE('lncRNA Normalized Values'!$F26:$H26)) -> -1.156358 | ... Q26: ='lncRNA Normalized Values'!Q26-(AVERAGE('lncRNA Normalized Values'!$F26:$H26)) -> -1.718902
C27: EGFR | D27: EGFR-AS1 | F27: ='lncRNA Normalized Values'!F27-(AVERAGE('lncRNA Normalized Values'!$F27:$H27)) -> -0.027939333 | G27: ='lncRNA Normalized Values'!G27-(AVERAGE('lncRNA Normalized Values'!$F27:$H27)) -> -0.0011663333 | H27: ='lncRNA Normalized Values'!H27-(AVERAGE('lncRNA Normalized Values'!$F27:$H27)) -> 0.029105667 | I27: ='lncRNA Normalized Values'!I27-(AVERAGE('lncRNA Normalized Values'!$F27:$H27)) -> 0.60061717 | J27: ='lncRNA Normalized Values'!J27-(AVERAGE('lncRNA Normalized Values'!$F27:$H27)) -> 0.41213567 | K27: ='lncRNA Normalized Values'!K27-(AVERAGE('lncRNA Normalized Values'!$F27:$H27)) -> -0.0067108333 | L27: ='lncRNA Normalized Values'!L27-(AVERAGE('lncRNA Normalized Values'!$F27:$H27)) -> -1.3545465 | M27: ='lncRNA Normalized Values'!M27-(AVERAGE('lncRNA Normalized Values'!$F27:$H27)) -> -1.524383 | ... Q27: ='lncRNA Normalized Values'!Q27-(AVERAGE('lncRNA Normalized Values'!$F27:$H27)) -> -0.26436233
C28: ETNK2 | D28: RP11-74C13.4 | F28: ='lncRNA Normalized Values'!F28-(AVERAGE('lncRNA Normalized Values'!$F28:$H28)) -> 0.12951373 | G28: ='lncRNA Normalized Values'!G28-(AVERAGE('lncRNA Normalized Values'!$F28:$H28)) -> -0.090065467 | H28: ='lncRNA Normalized Values'!H28-(AVERAGE('lncRNA Normalized Values'!$F28:$H28)) -> -0.039448267 | I28: ='lncRNA Normalized Values'!I28-(AVERAGE('lncRNA Normalized Values'!$F28:$H28)) -> -0.34185937 | J28: ='lncRNA Normalized Values'!J28-(AVERAGE('lncRNA Normalized Values'!$F28:$H28)) -> -0.17802797 | K28: ='lncRNA Normalized Values'!K28-(AVERAGE('lncRNA Normalized Values'!$F28:$H28)) -> -0.0090939667 | L28: ='lncRNA Normalized Values'!L28-(AVERAGE('lncRNA Normalized Values'!$F28:$H28)) -> -1.165938 | M28: ='lncRNA Normalized Values'!M28-(AVERAGE('lncRNA Normalized Values'!$F28:$H28)) -> -1.413796 | ... Q28: ='lncRNA Normalized Values'!Q28-(AVERAGE('lncRNA Normalized Values'!$F28:$H28)) -> -0.79052997
C29: FAM213A | D29: RP11-137H2.6 | E29: Reliable | F29: ='lncRNA Normalized Values'!F29-(AVERAGE('lncRNA Normalized Values'!$F29:$H29)) -> -0.18207667 | G29: ='lncRNA Normalized Values'!G29-(AVERAGE('lncRNA Normalized Values'!$F29:$H29)) -> 0.12525033 | H29: ='lncRNA Normalized Values'!H29-(AVERAGE('lncRNA Normalized Values'!$F29:$H29)) -> 0.056826333 | I29: ='lncRNA Normalized Values'!I29-(AVERAGE('lncRNA Normalized Values'!$F29:$H29)) -> 0.093671333 | J29: ='lncRNA Normalized Values'!J29-(AVERAGE('lncRNA Normalized Values'!$F29:$H29)) -> 0.30339733 | K29: ='lncRNA Normalized Values'!K29-(AVERAGE('lncRNA Normalized Values'!$F29:$H29)) -> 0.21523983 | L29: ='lncRNA Normalized Values'!L29-(AVERAGE('lncRNA Normalized Values'!$F29:$H29)) -> -3.4712674 | M29: ='lncRNA Normalized Values'!M29-(AVERAGE('lncRNA Normalized Values'!$F29:$H29)) -> -3.2611033 | ... Q29: ='lncRNA Normalized Values'!Q29-(AVERAGE('lncRNA Normalized Values'!$F29:$H29)) -> -2.1901652
C30: FBXO32 | D30: RP11-174I12.2 | E30: Reliable | F30: ='lncRNA Normalized Values'!F30-(AVERAGE('lncRNA Normalized Values'!$F30:$H30)) -> -0.27513367 | G30: ='lncRNA Normalized Values'!G30-(AVERAGE('lncRNA Normalized Values'!$F30:$H30)) -> 0.016444333 | H30: ='lncRNA Normalized Values'!H30-(AVERAGE('lncRNA Normalized Values'!$F30:$H30)) -> 0.25868933 | I30: ='lncRNA Normalized Values'!I30-(AVERAGE('lncRNA Normalized Values'!$F30:$H30)) -> -0.10542597 | J30: ='lncRNA Normalized Values'!J30-(AVERAGE('lncRNA Normalized Values'!$F30:$H30)) -> -0.13326897 | K30: ='lncRNA Normalized Values'!K30-(AVERAGE('lncRNA Normalized Values'!$F30:$H30)) -> -0.21123907 | L30: ='lncRNA Normalized Values'!L30-(AVERAGE('lncRNA Normalized Values'!$F30:$H30)) -> 1.5735153 | M30: ='lncRNA Normalized Values'!M30-(AVERAGE('lncRNA Normalized Values'!$F30:$H30)) -> 1.3814043 | ... Q30: ='lncRNA Normalized Values'!Q30-(AVERAGE('lncRNA Normalized Values'!$F30:$H30)) -> 0.64098633
C31: FNBP1 | D31: RP11-409K20.6 | E31: Reliable | F31: ='lncRNA Normalized Values'!F31-(AVERAGE('lncRNA Normalized Values'!$F31:$H31)) -> 0.12309033 | G31: ='lncRNA Normalized Values'!G31-(AVERAGE('lncRNA Normalized Values'!$F31:$H31)) -> -0.084897667 | H31: ='lncRNA Normalized Values'!H31-(AVERAGE('lncRNA Normalized Values'!$F31:$H31)) -> -0.038192667 | I31: ='lncRNA Normalized Values'!I31-(AVERAGE('lncRNA Normalized Values'!$F31:$H31)) -> 0.18815133 | J31: ='lncRNA Normalized Values'!J31-(AVERAGE('lncRNA Normalized Values'!$F31:$H31)) -> -0.34445467 | K31: ='lncRNA Normalized Values'!K31-(AVERAGE('lncRNA Normalized Values'!$F31:$H31)) -> 0.61427533 | L31: ='lncRNA Normalized Values'!L31-(AVERAGE('lncRNA Normalized Values'!$F31:$H31)) -> 1.7860043 | M31: ='lncRNA Normalized Values'!M31-(AVERAGE('lncRNA Normalized Values'!$F31:$H31)) -> 1.3884233 | ... Q31: ='lncRNA Normalized Values'!Q31-(AVERAGE('lncRNA Normalized Values'!$F31:$H31)) -> 0.72892933
C32: GNA15 | D32: AC005264.2 | F32: ='lncRNA Normalized Values'!F32-(AVERAGE('lncRNA Normalized Values'!$F32:$H32)) -> -0.093138 | G32: ='lncRNA Normalized Values'!G32-(AVERAGE('lncRNA Normalized Values'!$F32:$H32)) -> 0.014484 | H32: ='lncRNA Normalized Values'!H32-(AVERAGE('lncRNA Normalized Values'!$F32:$H32)) -> 0.078654 | I32: ='lncRNA Normalized Values'!I32-(AVERAGE('lncRNA Normalized Values'!$F32:$H32)) -> -0.305571 | J32: ='lncRNA Normalized Values'!J32-(AVERAGE('lncRNA Normalized Values'!$F32:$H32)) -> -0.067961 | K32: ='lncRNA Normalized Values'!K32-(AVERAGE('lncRNA Normalized Values'!$F32:$H32)) -> -0.361011 | L32: ='lncRNA Normalized Values'!L32-(AVERAGE('lncRNA Normalized Values'!$F32:$H32)) -> -1.539508 | M32: ='lncRNA Normalized Values'!M32-(AVERAGE('lncRNA Normalized Values'!$F32:$H32)) -> -1.497717 | ... Q32: ='lncRNA Normalized Values'!Q32-(AVERAGE('lncRNA Normalized Values'!$F32:$H32)) -> -1.146202
C33: HOXA11 | D33: RP1-170O19.14 | E33: Reliable | F33: ='lncRNA Normalized Values'!F33-(AVERAGE('lncRNA Normalized Values'!$F33:$H33)) -> 0.037023667 | G33: ='lncRNA Normalized Values'!G33-(AVERAGE('lncRNA Normalized Values'!$F33:$H33)) -> 0.00047866667 | H33: ='lncRNA Normalized Values'!H33-(AVERAGE('lncRNA Normalized Values'!$F33:$H33)) -> -0.037502333 | I33: ='lncRNA Normalized Values'!I33-(AVERAGE('lncRNA Normalized Values'!$F33:$H33)) -> 0.29270767 | J33: ='lncRNA Normalized Values'!J33-(AVERAGE('lncRNA Normalized Values'!$F33:$H33)) -> -0.20360033 | K33: ='lncRNA Normalized Values'!K33-(AVERAGE('lncRNA Normalized Values'!$F33:$H33)) -> 0.088422667 | L33: ='lncRNA Normalized Values'!L33-(AVERAGE('lncRNA Normalized Values'!$F33:$H33)) -> 1.3018977 | M33: ='lncRNA Normalized Values'!M33-(AVERAGE('lncRNA Normalized Values'!$F33:$H33)) -> 1.3149197 | ... Q33: ='lncRNA Normalized Values'!Q33-(AVERAGE('lncRNA Normalized Values'!$F33:$H33)) -> 0.80260667
C34: HOXA11 | D34: HOXA11-AS | F34: ='lncRNA Normalized Values'!F34-(AVERAGE('lncRNA Normalized Values'!$F34:$H34)) -> 0.0005107 | G34: ='lncRNA Normalized Values'!G34-(AVERAGE('lncRNA Normalized Values'!$F34:$H34)) -> 0.037318 | H34: ='lncRNA Normalized Values'!H34-(AVERAGE('lncRNA Normalized Values'!$F34:$H34)) -> -0.0378287 | I34: ='lncRNA Normalized Values'!I34-(AVERAGE('lncRNA Normalized Values'!$F34:$H34)) -> -0.4532826 | J34: ='lncRNA Normalized Values'!J34-(AVERAGE('lncRNA Normalized Values'!$F34:$H34)) -> -1.1599553 | K34: ='lncRNA Normalized Values'!K34-(AVERAGE('lncRNA Normalized Values'!$F34:$H34)) -> -0.5632169 | L34: ='lncRNA Normalized Values'!L34-(AVERAGE('lncRNA Normalized Values'!$F34:$H34)) -> 0.977763 | M34: ='lncRNA Normalized Values'!M34-(AVERAGE('lncRNA Normalized Values'!$F34:$H34)) -> 0.8566787 | ... Q34: ='lncRNA Normalized Values'!Q34-(AVERAGE('lncRNA Normalized Values'!$F34:$H34)) -> 1.8916033
C35: KBTBD11 | D35: KBTBD11-OT1 | F35: ='lncRNA Normalized Values'!F35-(AVERAGE('lncRNA Normalized Values'!$F35:$H35)) -> -0.433646 | G35: ='lncRNA Normalized Values'!G35-(AVERAGE('lncRNA Normalized Values'!$F35:$H35)) -> 0.051375 | H35: ='lncRNA Normalized Values'!H35-(AVERAGE('lncRNA Normalized Values'!$F35:$H35)) -> 0.382271 | I35: ='lncRNA Normalized Values'!I35-(AVERAGE('lncRNA Normalized Values'!$F35:$H35)) -> -0.0704545 | J35: ='lncRNA Normalized Values'!J35-(AVERAGE('lncRNA Normalized Values'!$F35:$H35)) -> -0.359496 | K35: ='lncRNA Normalized Values'!K35-(AVERAGE('lncRNA Normalized Values'!$F35:$H35)) -> 0.017442 | L35: ='lncRNA Normalized Values'!L35-(AVERAGE('lncRNA Normalized Values'!$F35:$H35)) -> 2.036789 | M35: ='lncRNA Normalized Values'!M35-(AVERAGE('lncRNA Normalized Values'!$F35:$H35)) -> 0.74961 | ... Q35: ='lncRNA Normalized Values'!Q35-(AVERAGE('lncRNA Normalized Values'!$F35:$H35)) -> 0.4309383
C36: KCTD5 | D36: CTD-3126B10.4 | E36: Reliable | F36: ='lncRNA Normalized Values'!F36-(AVERAGE('lncRNA Normalized Values'!$F36:$H36)) -> -0.051464333 | G36: ='lncRNA Normalized Values'!G36-(AVERAGE('lncRNA Normalized Values'!$F36:$H36)) -> 0.028779667 | H36: ='lncRNA Normalized Values'!H36-(AVERAGE('lncRNA Normalized Values'!$F36:$H36)) -> 0.022684667 | I36: ='lncRNA Normalized Values'!I36-(AVERAGE('lncRNA Normalized Values'!$F36:$H36)) -> -0.46543233 | J36: ='lncRNA Normalized Values'!J36-(AVERAGE('lncRNA Normalized Values'!$F36:$H36)) -> 0.022684667 | K36: ='lncRNA Normalized Values'!K36-(AVERAGE('lncRNA Normalized Values'!$F36:$H36)) -> -0.25631833 | L36: ='lncRNA Normalized Values'!L36-(AVERAGE('lncRNA Normalized Values'!$F36:$H36)) -> -1.4474693 | M36: ='lncRNA Normalized Values'!M36-(AVERAGE('lncRNA Normalized Values'!$F36:$H36)) -> -1.3175443 | ... Q36: ='lncRNA Normalized Values'!Q36-(AVERAGE('lncRNA Normalized Values'!$F36:$H36)) -> -0.91510533
C37: KLF7 | D37: AC007879.6 | E37: Gold | F37: ='lncRNA Normalized Values'!F37-(AVERAGE('lncRNA Normalized Values'!$F37:$H37)) -> 0.22645513 | G37: ='lncRNA Normalized Values'!G37-(AVERAGE('lncRNA Normalized Values'!$F37:$H37)) -> -0.19880827 | H37: ='lncRNA Normalized Values'!H37-(AVERAGE('lncRNA Normalized Values'!$F37:$H37)) -> -0.027646867 | I37: ='lncRNA Normalized Values'!I37-(AVERAGE('lncRNA Normalized Values'!$F37:$H37)) -> 0.36480513 | J37: ='lncRNA Normalized Values'!J37-(AVERAGE('lncRNA Normalized Values'!$F37:$H37)) -> 0.62015343 | K37: ='lncRNA Normalized Values'!K37-(AVERAGE('lncRNA Normalized Values'!$F37:$H37)) -> 0.63613843 | L37: ='lncRNA Normalized Values'!L37-(AVERAGE('lncRNA Normalized Values'!$F37:$H37)) -> -2.1782077 | M37: ='lncRNA Normalized Values'!M37-(AVERAGE('lncRNA Normalized Values'!$F37:$H37)) -> -2.1492409 | ... Q37: ='lncRNA Normalized Values'!Q37-(AVERAGE('lncRNA Normalized Values'!$F37:$H37)) -> -2.7366095
C38: LASP1 | D38: RP1-56K13.2 | E38: Reliable | F38: ='lncRNA Normalized Values'!F38-(AVERAGE('lncRNA Normalized Values'!$F38:$H38)) -> 0.015280167 | G38: ='lncRNA Normalized Values'!G38-(AVERAGE('lncRNA Normalized Values'!$F38:$H38)) -> -0.010159333 | H38: ='lncRNA Normalized Values'!H38-(AVERAGE('lncRNA Normalized Values'!$F38:$H38)) -> -0.0051208333 | I38: ='lncRNA Normalized Values'!I38-(AVERAGE('lncRNA Normalized Values'!$F38:$H38)) -> -0.075448333 | J38: ='lncRNA Normalized Values'!J38-(AVERAGE('lncRNA Normalized Values'!$F38:$H38)) -> -0.092567033 | K38: ='lncRNA Normalized Values'!K38-(AVERAGE('lncRNA Normalized Values'!$F38:$H38)) -> 0.16244367 | L38: ='lncRNA Normalized Values'!L38-(AVERAGE('lncRNA Normalized Values'!$F38:$H38)) -> 1.7909277 | M38: ='lncRNA Normalized Values'!M38-(AVERAGE('lncRNA Normalized Values'!$F38:$H38)) -> 1.7263957 | ... Q38: ='lncRNA Normalized Values'!Q38-(AVERAGE('lncRNA Normalized Values'!$F38:$H38)) -> 1.0033267
C39: LIF | D39: RP1-102K2.8 | F39: ='lncRNA Normalized Values'!F39-(AVERAGE('lncRNA Normalized Values'!$F39:$H39)) -> 0.1797396 | G39: ='lncRNA Normalized Values'!G39-(AVERAGE('lncRNA Normalized Values'!$F39:$H39)) -> -0.218834 | H39: ='lncRNA Normalized Values'!H39-(AVERAGE('lncRNA Normalized Values'!$F39:$H39)) -> 0.0390944 | I39: ='lncRNA Normalized Values'!I39-(AVERAGE('lncRNA Normalized Values'!$F39:$H39)) -> 0.2526449 | J39: ='lncRNA Normalized Values'!J39-(AVERAGE('lncRNA Normalized Values'!$F39:$H39)) -> 0.208486 | K39: ='lncRNA Normalized Values'!K39-(AVERAGE('lncRNA Normalized Values'!$F39:$H39)) -> -0.1480114 | L39: ='lncRNA Normalized Values'!L39-(AVERAGE('lncRNA Normalized Values'!$F39:$H39)) -> 1.6224069 | M39: ='lncRNA Normalized Values'!M39-(AVERAGE('lncRNA Normalized Values'!$F39:$H39)) -> 1.281722 | ... Q39: ='lncRNA Normalized Values'!Q39-(AVERAGE('lncRNA Normalized Values'!$F39:$H39)) -> 0.73529
B40: 2405 | C40: LIF | D40: CATG00000058427.1 | F40: ='lncRNA Normalized Values'!F40-(AVERAGE('lncRNA Normalized Values'!$F40:$H40)) -> 0.097949333 | G40: ='lncRNA Normalized Values'!G40-(AVERAGE('lncRNA Normalized Values'!$F40:$H40)) -> -0.11478667 | H40: ='lncRNA Normalized Values'!H40-(AVERAGE('lncRNA Normalized Values'!$F40:$H40)) -> 0.016837333 | I40: ='lncRNA Normalized Values'!I40-(AVERAGE('lncRNA Normalized Values'!$F40:$H40)) -> -0.28253567 | J40: ='lncRNA Normalized Values'!J40-(AVERAGE('lncRNA Normalized Values'!$F40:$H40)) -> 0.27424833 | K40: ='lncRNA Normalized Values'!K40-(AVERAGE('lncRNA Normalized Values'!$F40:$H40)) -> 0.10575533 | L40: ='lncRNA Normalized Values'!L40-(AVERAGE('lncRNA Normalized Values'!$F40:$H40)) -> -1.3648057 | M40: ='lncRNA Normalized Values'!M40-(AVERAGE('lncRNA Normalized Values'!$F40:$H40)) -> -1.2580547 | ... Q40: ='lncRNA Normalized Values'!Q40-(AVERAGE('lncRNA Normalized Values'!$F40:$H40)) -> -0.73864767
...

Sheet lncRNA 2^
F1: Normalized lncRNA
F2: 10A | I2: AT1 | L2: DCIS | O2: CA1
C3: mRNA | D3: lncRNA | E3: lncRNA_level | F3: 1 | G3: 2 | H3: 3 | I3: 1 | J3: 2 | K3: 3 | L3: 1 | M3: 2 | N3: 3 | O3: 1 | P3: 2 | Q3: 3
C4: PMEPA1 | D4: AK056098 | F4: =2^'lncRNA Subtracted values'!F4 -> 1.0410269 | G4: =2^'lncRNA Subtracted values'!G4 -> 1.0395606 | H4: =2^'lncRNA Subtracted values'!H4 -> 0.92403464 | I4: =2^'lncRNA Subtracted values'!I4 -> 1.793893 | J4: =2^'lncRNA Subtracted values'!J4 -> 3.2750589 | K4: =2^'lncRNA Subtracted values'!K4 -> 2.3231697 | L4: =2^'lncRNA Subtracted values'!L4 -> 0.32126926 | M4: =2^'lncRNA Subtracted values'!M4 -> 0.38661265 | ... Q4: =2^'lncRNA Subtracted values'!Q4 -> 3.2320955
C5: SEMA5A | D5: SNHG18 | F5: =2^'lncRNA Subtracted values'!F5 -> 0.85453507 | G5: =2^'lncRNA Subtracted values'!G5 -> 1.1456545 | H5: =2^'lncRNA Subtracted values'!H5 -> 1.0214485 | I5: =2^'lncRNA Subtracted values'!I5 -> 0.10934403 | J5: =2^'lncRNA Subtracted values'!J5 -> 0.068770784 | K5: =2^'lncRNA Subtracted values'!K5 -> 0.062425142 | L5: =2^'lncRNA Subtracted values'!L5 -> 0.14861761 | M5: =2^'lncRNA Subtracted values'!M5 -> 0.081788114 | ... Q5: =2^'lncRNA Subtracted values'!Q5 -> 0.10385807
C6: LGALS8 | D6: RP11-385F5.5 | E6: Reliable | F6: =2^'lncRNA Subtracted values'!F6 -> 0.92915198 | G6: =2^'lncRNA Subtracted values'!G6 -> 1.0081208 | H6: =2^'lncRNA Subtracted values'!H6 -> 1.0675806 | I6: =2^'lncRNA Subtracted values'!I6 -> 0.36302736 | J6: =2^'lncRNA Subtracted values'!J6 -> 0.31629885 | K6: =2^'lncRNA Subtracted values'!K6 -> 0.29446641 | L6: =2^'lncRNA Subtracted values'!L6 -> 0.33530421 | M6: =2^'lncRNA Subtracted values'!M6 -> 0.41578456 | ... Q6: =2^'lncRNA Subtracted values'!Q6 -> 0.4259712
C7: IGFL1 | D7: AC006262.5 | F7: =2^'lncRNA Subtracted values'!F7 -> 0.91419654 | G7: =2^'lncRNA Subtracted values'!G7 -> 1.0802819 | H7: =2^'lncRNA Subtracted values'!H7 -> 1.0125659 | I7: =2^'lncRNA Subtracted values'!I7 -> 0.47464963 | J7: =2^'lncRNA Subtracted values'!J7 -> 0.3169966 | K7: =2^'lncRNA Subtracted values'!K7 -> 0.29347357 | L7: =2^'lncRNA Subtracted values'!L7 -> 0.09452371 | M7: =2^'lncRNA Subtracted values'!M7 -> 0.12841843 | ... Q7: =2^'lncRNA Subtracted values'!Q7 -> 0.24360247
C8: CDC25B | D8: LINC01730 | E8: Gold | F8: =2^'lncRNA Subtracted values'!F8 -> 0.92626403 | G8: =2^'lncRNA Subtracted values'!G8 -> 1.0173491 | H8: =2^'lncRNA Subtracted values'!H8 -> 1.061195 | I8: =2^'lncRNA Subtracted values'!I8 -> 0.30744331 | J8: =2^'lncRNA Subtracted values'!J8 -> 0.27271714 | K8: =2^'lncRNA Subtracted values'!K8 -> 0.24278864 | L8: =2^'lncRNA Subtracted values'!L8 -> 0.16654906 | M8: =2^'lncRNA Subtracted values'!M8 -> 0.15433103 | ... Q8: =2^'lncRNA Subtracted values'!Q8 -> 0.26622958
C9: PHLDA1 | D9: RP11-290L1.3 | E9: Reliable | F9: =2^'lncRNA Subtracted values'!F9 -> 1.0801249 | G9: =2^'lncRNA Subtracted values'!G9 -> 0.95676538 | H9: =2^'lncRNA Subtracted values'!H9 -> 0.96765502 | I9: =2^'lncRNA Subtracted values'!I9 -> 2.2897034 | J9: =2^'lncRNA Subtracted values'!J9 -> 2.3334557 | K9: =2^'lncRNA Subtracted values'!K9 -> 2.5472202 | L9: =2^'lncRNA Subtracted values'!L9 -> 2.6893345 | M9: =2^'lncRNA Subtracted values'!M9 -> 2.6573306 | ... Q9: =2^'lncRNA Subtracted values'!Q9 -> 2.9822703
C10: RIMBP2 | D10: RP11-662M24.2 | F10: =2^'lncRNA Subtracted values'!F10 -> 0.94229738 | G10: =2^'lncRNA Subtracted values'!G10 -> 1.0326471 | H10: =2^'lncRNA Subtracted values'!H10 -> 1.0276851 | I10: =2^'lncRNA Subtracted values'!I10 -> 0.34633059 | J10: =2^'lncRNA Subtracted values'!J10 -> 0.30585633 | K10: =2^'lncRNA Subtracted values'!K10 -> 0.26087448 | L10: =2^'lncRNA Subtracted values'!L10 -> 0.41550595 | M10: =2^'lncRNA Subtracted values'!M10 -> 0.44415146 | ... Q10: =2^'lncRNA Subtracted values'!Q10 -> 0.6215764
C11: VPS37B | D11: RP11-463O12.3 | E11: Reliable | F11: =2^'lncRNA Subtracted values'!F11 -> 1.1477818 | G11: =2^'lncRNA Subtracted values'!G11 -> 0.92533519 | H11: =2^'lncRNA Subtracted values'!H11 -> 0.94154612 | I11: =2^'lncRNA Subtracted values'!I11 -> 2.1864014 | J11: =2^'lncRNA Subtracted values'!J11 -> 1.9984414 | K11: =2^'lncRNA Subtracted values'!K11 -> 2.6266507 | L11: =2^'lncRNA Subtracted values'!L11 -> 1.4815722 | M11: =2^'lncRNA Subtracted values'!M11 -> 1.6401851 | ... Q11: =2^'lncRNA Subtracted values'!Q11 -> 2.3248073
C12: CRIM1 | D12: RP11-490M8.1 | F12: =2^'lncRNA Subtracted values'!F12 -> 0.93581196 | G12: =2^'lncRNA Subtracted values'!G12 -> 1.0440614 | H12: =2^'lncRNA Subtracted values'!H12 -> 1.0234942 | I12: =2^'lncRNA Subtracted values'!I12 -> 0.49139639 | J12: =2^'lncRNA Subtracted values'!J12 -> 0.4409632 | K12: =2^'lncRNA Subtracted values'!K12 -> 0.4412014 | L12: =2^'lncRNA Subtracted values'!L12 -> 0.72444098 | M12: =2^'lncRNA Subtracted values'!M12 -> 0.84126345 | ... Q12: =2^'lncRNA Subtracted values'!Q12 -> 0.94078259
C13: SAP30 | D13: RP11-798M19.6 | F13: =2^'lncRNA Subtracted values'!F13 -> 0.95648024 | G13: =2^'lncRNA Subtracted values'!G13 -> 0.98013248 | H13: =2^'lncRNA Subtracted values'!H13 -> 1.0666924 | I13: =2^'lncRNA Subtracted values'!I13 -> 0.32275878 | J13: =2^'lncRNA Subtracted values'!J13 -> 0.31683896 | K13: =2^'lncRNA Subtracted values'!K13 -> 0.37192983 | L13: =2^'lncRNA Subtracted values'!L13 -> 0.34390077 | M13: =2^'lncRNA Subtracted values'!M13 -> 0.3337892 | ... Q13: =2^'lncRNA Subtracted values'!Q13 -> 0.55387156
C14: SAP30 | D14: RP11-798M19.6 | F14: =2^'lncRNA Subtracted values'!F14 -> 0.88579965 | G14: =2^'lncRNA Subtracted values'!G14 -> 1.0450987 | H14: =2^'lncRNA Subtracted values'!H14 -> 1.0802075 | I14: =2^'lncRNA Subtracted values'!I14 -> 1.9636519 | J14: =2^'lncRNA Subtracted values'!J14 -> 11.704965 | K14: =2^'lncRNA Subtracted values'!K14 -> 6.7877909 | L14: =2^'lncRNA Subtracted values'!L14 -> 8.1370324 | M14: =2^'lncRNA Subtracted values'!M14 -> 1.4211016 | ... Q14: =2^'lncRNA Subtracted values'!Q14 -> 0.84311605
C15: CPEB4 | D15: CTB-43E15.4 | E15: Gold | F15: =2^'lncRNA Subtracted values'!F15 -> 0.79734071 | G15: =2^'lncRNA Subtracted values'!G15 -> 1.5016085 | H15: =2^'lncRNA Subtracted values'!H15 -> 0.83521703 | I15: =2^'lncRNA Subtracted values'!I15 -> 1.7840876 | J15: =2^'lncRNA Subtracted values'!J15 -> 2.3019572 | K15: =2^'lncRNA Subtracted values'!K15 -> 2.662231 | L15: =2^'lncRNA Subtracted values'!L15 -> 6.4422249 | M15: =2^'lncRNA Subtracted values'!M15 -> 1.1702514 | ... Q15: =2^'lncRNA Subtracted values'!Q15 -> 1.1771066
C16: ABLIM3 | D16: CATG00000078011.1 | F16: =2^'lncRNA Subtracted values'!F16 -> 1.0013892 | G16: =2^'lncRNA Subtracted values'!G16 -> 1.039106 | H16: =2^'lncRNA Subtracted values'!H16 -> 0.96103064 | I16: =2^'lncRNA Subtracted values'!I16 -> 0.6241453 | J16: =2^'lncRNA Subtracted values'!J16 -> 0.64858018 | K16: =2^'lncRNA Subtracted values'!K16 -> 0.61554611 | L16: =2^'lncRNA Subtracted values'!L16 -> 0.2211798 | M16: =2^'lncRNA Subtracted values'!M16 -> 0.20517521 | ... Q16: =2^'lncRNA Subtracted values'!Q16 -> 0.69342792
C17: AHR | D17: CATG00000095263.1 | F17: =2^'lncRNA Subtracted values'!F17 -> 0.9545372 | G17: =2^'lncRNA Subtracted values'!G17 -> 1.0077001 | H17: =2^'lncRNA Subtracted values'!H17 -> 1.0396229 | I17: =2^'lncRNA Subtracted values'!I17 -> 1.1181598 | J17: =2^'lncRNA Subtracted values'!J17 -> 0.80921801 | K17: =2^'lncRNA Subtracted values'!K17 -> 1.0301692 | L17: =2^'lncRNA Subtracted values'!L17 -> 2.3403679 | M17: =2^'lncRNA Subtracted values'!M17 -> 2.5287095 | ... Q17: =2^'lncRNA Subtracted values'!Q17 -> 2.1646613
C18: ARSG | D18: WIPI1 | F18: =2^'lncRNA Subtracted values'!F18 -> 0.89944774 | G18: =2^'lncRNA Subtracted values'!G18 -> 1.0269287 | H18: =2^'lncRNA Subtracted values'!H18 -> 1.0826392 | I18: =2^'lncRNA Subtracted values'!I18 -> 1.0423673 | J18: =2^'lncRNA Subtracted values'!J18 -> 1.0269287 | K18: =2^'lncRNA Subtracted values'!K18 -> 0.97459726 | L18: =2^'lncRNA Subtracted values'!L18 -> 0.88316106 | M18: =2^'lncRNA Subtracted values'!M18 -> 0.85527369 | ... Q18: =2^'lncRNA Subtracted values'!Q18 -> 0.8668697
C19: BCL10 | D19: RP11-131L23.1 | E19: Gold | F19: =2^'lncRNA Subtracted values'!F19 -> 0.9165664 | G19: =2^'lncRNA Subtracted values'!G19 -> 1.0363591 | H19: =2^'lncRNA Subtracted values'!H19 -> 1.0527513 | I19: =2^'lncRNA Subtracted values'!I19 -> 1.4807099 | J19: =2^'lncRNA Subtracted values'!J19 -> 1.2746265 | K19: =2^'lncRNA Subtracted values'!K19 -> 1.4779359 | L19: =2^'lncRNA Subtracted values'!L19 -> 0.48470652 | M19: =2^'lncRNA Subtracted values'!M19 -> 0.60469183 | ... Q19: =2^'lncRNA Subtracted values'!Q19 -> 0.94366389
C20: BMP2K | D20: CATG00000069061.1 | F20: =2^'lncRNA Subtracted values'!F20 -> 1.0651581 | G20: =2^'lncRNA Subtracted values'!G20 -> 0.96978298 | H20: =2^'lncRNA Subtracted values'!H20 -> 0.96808031 | I20: =2^'lncRNA Subtracted values'!I20 -> 1.2585023 | J20: =2^'lncRNA Subtracted values'!J20 -> 0.66389921 | K20: =2^'lncRNA Subtracted values'!K20 -> 0.65905841 | L20: =2^'lncRNA Subtracted values'!L20 -> 3.9995632 | M20: =2^'lncRNA Subtracted values'!M20 -> 2.3226227 | ... Q20: =2^'lncRNA Subtracted values'!Q20 -> 2.2683424
C21: CAPN10 | D21: CAPN10-AS1 | F21: =2^'lncRNA Subtracted values'!F21 -> 1.0651035 | G21: =2^'lncRNA Subtracted values'!G21 -> 1.0545399 | H21: =2^'lncRNA Subtracted values'!H21 -> 0.89031802 | I21: =2^'lncRNA Subtracted values'!I21 -> 1.3653735 | J21: =2^'lncRNA Subtracted values'!J21 -> 2.2311456 | K21: =2^'lncRNA Subtracted values'!K21 -> 1.8240796 | L21: =2^'lncRNA Subtracted values'!L21 -> 1.037647 | M21: =2^'lncRNA Subtracted values'!M21 -> 0.81165282 | ... Q21: =2^'lncRNA Subtracted values'!Q21 -> 0.75574041
C22: COTL1 | D22: RP11-61F12.1 | E22: Reliable | F22: =2^'lncRNA Subtracted values'!F22 -> 0.7459082 | G22: =2^'lncRNA Subtracted values'!G22 -> 0.9346551 | H22: =2^'lncRNA Subtracted values'!H22 -> 1.4343767 | I22: =2^'lncRNA Subtracted values'!I22 -> 1.1225627 | J22: =2^'lncRNA Subtracted values'!J22 -> 0.77212964 | K22: =2^'lncRNA Subtracted values'!K22 -> 1.0371877 | L22: =2^'lncRNA Subtracted values'!L22 -> 8.3206083 | M22: =2^'lncRNA Subtracted values'!M22 -> 6.8351619 | ... Q22: =2^'lncRNA Subtracted values'!Q22 -> 2.7854588
C23: CTDSP1 | D23: RP11-378A13.2 | E23: Reliable | F23: =2^'lncRNA Subtracted values'!F23 -> 1.1580678 | G23: =2^'lncRNA Subtracted values'!G23 -> 0.91237743 | H23: =2^'lncRNA Subtracted values'!H23 -> 0.94643653 | I23: =2^'lncRNA Subtracted values'!I23 -> 0.86064821 | J23: =2^'lncRNA Subtracted values'!J23 -> 1.5331163 | K23: =2^'lncRNA Subtracted values'!K23 -> 0.8309144 | L23: =2^'lncRNA Subtracted values'!L23 -> 0.43630302 | M23: =2^'lncRNA Subtracted values'!M23 -> 0.43459183 | ... Q23: =2^'lncRNA Subtracted values'!Q23 -> 0.46626517
C24: CTSD | D24: AC068580.7 | E24: Reliable | F24: =2^'lncRNA Subtracted values'!F24 -> 1.1232778 | G24: =2^'lncRNA Subtracted values'!G24 -> 1.2641197 | H24: =2^'lncRNA Subtracted values'!H24 -> 0.70424642 | I24: =2^'lncRNA Subtracted values'!I24 -> 1.7217676 | J24: =2^'lncRNA Subtracted values'!J24 -> 1.1133581 | K24: =2^'lncRNA Subtracted values'!K24 -> 1.4647188 | L24: =2^'lncRNA Subtracted values'!L24 -> 3.0653817 | M24: =2^'lncRNA Subtracted values'!M24 -> 3.5452755 | ... Q24: =2^'lncRNA Subtracted values'!Q24 -> 2.6175947
C25: DES | D25: AC053503.6 | E25: Reliable | F25: =2^'lncRNA Subtracted values'!F25 -> 1.0294633 | G25: =2^'lncRNA Subtracted values'!G25 -> 1.0165593 | H25: =2^'lncRNA Subtracted values'!H25 -> 0.95555667 | I25: =2^'lncRNA Subtracted values'!I25 -> 0.721407 | J25: =2^'lncRNA Subtracted values'!J25 -> 0.93541362 | K25: =2^'lncRNA Subtracted values'!K25 -> 0.93541362 | L25: =2^'lncRNA Subtracted values'!L25 -> 0.37465285 | M25: =2^'lncRNA Subtracted values'!M25 -> 0.40473298 | ... Q25: =2^'lncRNA Subtracted values'!Q25 -> 0.45958427
C26: DLGAP1 | D26: DLGAP1-AS2 | F26: =2^'lncRNA Subtracted values'!F26 -> 0.9854701 | G26: =2^'lncRNA Subtracted values'!G26 -> 0.95298407 | H26: =2^'lncRNA Subtracted values'!H26 -> 1.064807 | I26: =2^'lncRNA Subtracted values'!I26 -> 0.84412818 | J26: =2^'lncRNA Subtracted values'!J26 -> 1.2942874 | K26: =2^'lncRNA Subtracted values'!K26 -> 0.90031889 | L26: =2^'lncRNA Subtracted values'!L26 -> 0.45871373 | M26: =2^'lncRNA Subtracted values'!M26 -> 0.44864368 | ... Q26: =2^'lncRNA Subtracted values'!Q26 -> 0.30377983
C27: EGFR | D27: EGFR-AS1 | F27: =2^'lncRNA Subtracted values'!F27 -> 0.98082025 | G27: =2^'lncRNA Subtracted values'!G27 -> 0.99919189 | H27: =2^'lncRNA Subtracted values'!H27 -> 1.0203794 | I27: =2^'lncRNA Subtracted values'!I27 -> 1.5163651 | J27: =2^'lncRNA Subtracted values'!J27 -> 1.3306542 | K27: =2^'lncRNA Subtracted values'!K27 -> 0.99535921 | L27: =2^'lncRNA Subtracted values'!L27 -> 0.39105772 | M27: =2^'lncRNA Subtracted values'!M27 -> 0.34762819 | ... Q27: =2^'lncRNA Subtracted values'!Q27 -> 0.83256665
C28: ETNK2 | D28: RP11-74C13.4 | F28: =2^'lncRNA Subtracted values'!F28 -> 1.0939249 | G28: =2^'lncRNA Subtracted values'!G28 -> 0.93948012 | H28: =2^'lncRNA Subtracted values'!H28 -> 0.97302699 | I28: =2^'lncRNA Subtracted values'!I28 -> 0.78902375 | J28: =2^'lncRNA Subtracted values'!J28 -> 0.8839104 | K28: =2^'lncRNA Subtracted values'!K28 -> 0.99371637 | L28: =2^'lncRNA Subtracted values'!L28 -> 0.44567441 | M28: =2^'lncRNA Subtracted values'!M28 -> 0.37532285 | ... Q28: =2^'lncRNA Subtracted values'!Q28 -> 0.57813168
C29: FAM213A | D29: RP11-137H2.6 | E29: Reliable | F29: =2^'lncRNA Subtracted values'!F29 -> 0.88143332 | G29: =2^'lncRNA Subtracted values'!G29 -> 1.090697 | H29: =2^'lncRNA Subtracted values'!H29 -> 1.040175 | I29: =2^'lncRNA Subtracted values'!I29 -> 1.0670822 | J29: =2^'lncRNA Subtracted values'!J29 -> 1.234047 | K29: =2^'lncRNA Subtracted values'!K29 -> 1.1608969 | L29: =2^'lncRNA Subtracted values'!L29 -> 0.090166331 | M29: =2^'lncRNA Subtracted values'!M29 -> 0.10430619 | ... Q29: =2^'lncRNA Subtracted values'!Q29 -> 0.21912634
C30: FBXO32 | D30: RP11-174I12.2 | E30: Reliable | F30: =2^'lncRNA Subtracted values'!F30 -> 0.82637375 | G30: =2^'lncRNA Subtracted values'!G30 -> 1.0114636 | H30: =2^'lncRNA Subtracted values'!H30 -> 1.1963913 | I30: =2^'lncRNA Subtracted values'!I30 -> 0.92953045 | J30: =2^'lncRNA Subtracted values'!J30 -> 0.91176317 | K30: =2^'lncRNA Subtracted values'!K30 -> 0.86379504 | L30: =2^'lncRNA Subtracted values'!L30 -> 2.9762905 | M30: =2^'lncRNA Subtracted values'!M30 -> 2.6052184 | ... Q30: =2^'lncRNA Subtracted values'!Q30 -> 1.5593949
C31: FNBP1 | D31: RP11-409K20.6 | E31: Reliable | F31: =2^'lncRNA Subtracted values'!F31 -> 1.0890652 | G31: =2^'lncRNA Subtracted values'!G31 -> 0.94285141 | H31: =2^'lncRNA Subtracted values'!H31 -> 0.9738742 | I31: =2^'lncRNA Subtracted values'!I31 -> 1.1393029 | J31: =2^'lncRNA Subtracted values'!J31 -> 0.78760563 | K31: =2^'lncRNA Subtracted values'!K31 -> 1.5307889 | L31: =2^'lncRNA Subtracted values'!L31 -> 3.4485845 | M31: =2^'lncRNA Subtracted values'!M31 -> 2.6179242 | ... Q31: =2^'lncRNA Subtracted values'!Q31 -> 1.6574086
C32: GNA15 | D32: AC005264.2 | F32: =2^'lncRNA Subtracted values'!F32 -> 0.93748142 | G32: =2^'lncRNA Subtracted values'!G32 -> 1.0100901 | H32: =2^'lncRNA Subtracted values'!H32 -> 1.0560323 | I32: =2^'lncRNA Subtracted values'!I32 -> 0.80912191 | J32: =2^'lncRNA Subtracted values'!J32 -> 0.95398534 | K32: =2^'lncRNA Subtracted values'!K32 -> 0.77861875 | L32: =2^'lncRNA Subtracted values'!L32 -> 0.34400275 | M32: =2^'lncRNA Subtracted values'!M32 -> 0.35411332 | ... Q32: =2^'lncRNA Subtracted values'!Q32 -> 0.4518131
