Workbook

Sheet lncRNA Normalized Values
F1: Normalized lncRNA
F2: 10A | I2: AT1 | L2: DCIS | O2: CA1
C3: mRNA | D3: lncRNA | E3: lncRNA_level | F3: 1 | G3: 2 | H3: 3 | I3: 1 | J3: 2 | K3: 3 | L3: 1 | M3: 2 | N3: 3 | O3: 1 | P3: 2 | Q3: 3
C4: PMEPA1 | D4: AK056098 | F4: 4.5553465 | G4: 4.553313 | H4: 4.383358 | I4: 5.340433 | J4: 6.20886 | K4: 5.7134337 | L4: 2.859194 | M4: 3.1262999 | N4: 3.6436663 | O4: 6.236529 | P4: 6.3417006 | Q4: 6.189809
C5: SEMA5A | D5: SNHG18 | F5: 6.5801096 | G5: 7.00307 | H5: 6.8375144 | I5: 3.6138444 | J5: 2.9448376 | K5: 2.805169 | L5: 4.056575 | M5: 3.194933 | N5: 3.4567232 | O5: 3.358156 | P5: 5.0644784 | Q5: 3.5395832
C6: LGALS8 | D6: RP11-385F5.5 | E6: Reliable | F6: 6.889346 | G6: 7.007028 | H6: 7.0897045 | I6: 5.5335097 | J6: 5.3347197 | K6: 5.2315345 | L6: 5.418902 | M6: 5.7292676 | N6: 5.8338366 | O6: 5.804196 | P6: 5.598268 | Q6: 5.7641873
C7: IGFL1 | D7: AC006262.5 | F7: 5.6311564 | G7: 5.871988 | H7: 5.778596 | I7: 4.685515 | J7: 4.1031194 | K7: 3.9918826 | L7: 2.3574002 | M7: 2.7995043 | N7: 3.0615458 | O7: 3.3195384 | P7: 3.328411 | Q7: 3.7231808
C8: CDC25B | D8: LINC01730 | E8: Gold | F8: 6.5587616 | G8: 6.694081 | H8: 6.754956 | I8: 4.9676585 | J8: 4.7947435 | K8: 4.627039 | L8: 4.0832853 | M8: 3.9733663 | N8: 4.130382 | O8: 4.9082336 | P8: 4.823847 | Q8: 4.760009
C9: PHLDA1 | D9: RP11-290L1.3 | E9: Reliable | F9: 5.9919515 | G9: 5.8169904 | H9: 5.833318 | I9: 7.075914 | J9: 7.1032214 | K9: 7.229677 | L9: 7.3080025 | M9: 7.290731 | N9: 7.717331 | O9: 7.4617953 | P9: 7.5899267 | Q9: 7.4571643
C10: RIMBP2 | D10: RP11-662M24.2 | F10: 7.5385823 | G10: 7.6706753 | H10: 7.6637263 | I10: 6.0945497 | J10: 5.915254 | K10: 5.6857557 | L10: 6.357269 | M10: 6.4534516 | N10: 6.2566557 | O10: 6.7442155 | P10: 6.9722795 | Q10: 6.9383316
C11: VPS37B | D11: RP11-463O12.3 | E11: Reliable | F11: 5.1984234 | G11: 4.887623 | H11: 4.9126787 | I11: 6.1281333 | J11: 5.9984503 | K11: 6.3927994 | L11: 5.566704 | M11: 5.7134337 | N11: 6.109282 | O11: 6.4042006 | P11: 6.4473104 | Q11: 6.2166862
C12: CRIM1 | D12: RP11-490M8.1 | F12: 7.792245 | G12: 7.950161 | H12: 7.9214573 | I12: 6.8629136 | J12: 6.7066846 | K12: 6.7074637 | L12: 7.4228945 | M12: 7.638584 | N12: 7.701428 | O12: 7.699326 | P12: 7.643108 | Q12: 7.7998877
C13: SAP30 | D13: RP11-798M19.6 | F13: 6.8381214 | G13: 6.873363 | H13: 6.9954586 | I13: 5.2708426 | J13: 5.244136 | K13: 5.4754167 | L13: 5.3623786 | M13: 5.3193235 | N13: 6.2416945 | O13: 5.6188874 | P13: 5.7036858 | Q13: 6.0499377
C14: SAP30 | D14: RP11-798M19.6 | F14: 2.5244696 | G14: 2.7630565 | H14: 2.8107257 | I14: 3.6729565 | J14: 6.248466 | K14: 5.4623594 | L14: 5.72392 | M14: 3.206427 | N14: 3.0079803 | O14: 2.8316693 | P14: 3.2323568 | Q14: 2.4532204
C15: CPEB4 | D15: CTB-43E15.4 | E15: Gold | F15: 5.4173822 | G15: 6.3306227 | H15: 5.484337 | I15: 6.5793004 | J15: 6.946975 | K15: 7.1567497 | L15: 8.431673 | M15: 5.9709325 | N15: 5.8852563 | O15: 5.8632917 | P15: 5.863745 | Q15: 5.979359
B16: ** | C16: ABLIM3 | D16: CATG00000078011.1 | F16: 8.688826 | G16: 8.742166 | H16: 8.6294775 | I16: 8.006777 | J16: 8.06218 | K16: 7.986762 | L16: 6.5101147 | M16: 6.4017515 | N16: 6.8171787 | O16: 8.263315 | P16: 8.143873 | Q16: 8.158641
C17: AHR | D17: CATG00000095263.1 | F17: 8.961581 | G17: 9.039774 | H17: 9.084768 | I17: 9.189834 | J17: 8.723308 | K17: 9.071589 | L17: 10.255443 | M17: 10.367109 | N17: 10.17767 | O17: 10.043474 | P17: 10.084789 | Q17: 10.142849
C18: ARSG | D18: WIPI1 | F18: 5.3449903 | G18: 5.536215 | H18: 5.6124315 | I18: 5.5577426 | J18: 5.536215 | K18: 5.460757 | L18: 5.3186274 | M18: 5.272337 | N18: 5.806287 | O18: 5.249342 | P18: 5.341125 | Q18: 5.291766
C19: BCL10 | D19: RP11-131L23.1 | E19: Gold | F19: 4.8442373 | G19: 5.02145 | H19: 5.0440907 | I19: 5.536215 | J19: 5.3200006 | K19: 5.5335097 | L19: 3.9251094 | M19: 4.244198 | N19: 4.4649177 | O19: 4.7306724 | P19: 4.8296313 | Q19: 4.886271
C20: BMP2K | D20: CATG00000069061.1 | F20: 3.9161577 | G20: 3.780824 | H20: 3.7782888 | I20: 4.156798 | J20: 3.2341263 | K20: 3.2235684 | L20: 5.8249326 | M20: 5.040845 | N20: 4.5809727 | O20: 4.8019943 | P20: 4.847156 | Q20: 5.0067286
C21: CAPN10 | D21: CAPN10-AS1 | F21: 9.116408 | G21: 9.102028 | H21: 8.857807 | I21: 9.47471 | J21: 10.183199 | K21: 9.892583 | L21: 9.07873 | M21: 8.724349 | N21: 8.234882 | O21: 8.277368 | P21: 8.414187 | Q21: 8.621377
C22: COTL1 | D22: RP11-61F12.1 | E22: Reliable | F22: 11.571974 | G22: 11.89741 | H22: 12.515328 | I22: 12.1617 | J22: 11.621819 | K22: 12.047581 | L22: 15.051593 | M22: 14.767879 | N22: 14.539855 | O22: 13.994141 | P22: 14.208281 | Q22: 13.472819
C23: CTDSP1 | D23: RP11-378A13.2 | E23: Reliable | F23: 3.7657175 | G23: 3.4217005 | H23: 3.4745755 | I23: 3.3374934 | J23: 4.170465 | K23: 3.2867696 | L23: 2.3574002 | M23: 2.3517308 | N23: 2.391663 | O23: 2.3968577 | P23: 2.419074 | Q23: 2.4532204
C24: CTSD | D24: AC068580.7 | E24: Reliable | F24: 6.793838 | G24: 6.9642563 | H24: 6.1202755 | I24: 7.4100137 | J24: 6.781041 | K24: 7.176747 | L24: 8.24219 | M24: 8.452021 | N24: 7.6746755 | O24: 7.8463025 | P24: 8.095435 | Q24: 8.014365
C25: DES | D25: AC053503.6 | E25: Reliable | F25: 14.8283 | G25: 14.810102 | H25: 14.720821 | I25: 14.315293 | J25: 14.690084 | K25: 14.690084 | L25: 13.370034 | M25: 13.48145 | N25: 13.78433 | O25: 13.747129 | P25: 13.453765 | Q25: 13.664809
C26: DLGAP1 | D26: DLGAP1-AS2 | F26: 13.215898 | G26: 13.167538 | H26: 13.327606 | I26: 12.992548 | J26: 13.609172 | K26: 13.085522 | L26: 12.11268 | M26: 12.080656 | N26: 12.398304 | O26: 12.056754 | P26: 11.54249 | Q26: 11.518112
C27: EGFR | D27: EGFR-AS1 | F27: 4.1005325 | G27: 4.1273055 | H27: 4.1575775 | I27: 4.729089 | J27: 4.5406075 | K27: 4.121761 | L27: 2.7739253 | M27: 2.6040888 | N27: 2.7402449 | O27: 3.0654373 | P27: 3.4653604 | Q27: 3.8641095
C28: ETNK2 | D28: RP11-74C13.4 | F28: 7.2980747 | G28: 7.0784955 | H28: 7.1291127 | I28: 6.8267016 | J28: 6.990533 | K28: 7.159467 | L28: 6.002623 | M28: 5.754765 | N28: 5.716463 | O28: 6.3331285 | P28: 6.0837007 | Q28: 6.378031
C29: FAM213A | D29: RP11-137H2.6 | E29: Reliable | F29: 7.778418 | G29: 8.085745 | H29: 8.017321 | I29: 8.054166 | J29: 8.263892 | K29: 8.1757345 | L29: 4.4892273 | M29: 4.6993914 | N29: 4.5484447 | O29: 5.8726707 | P29: 5.623934 | Q29: 5.7703295
C30: FBXO32 | D30: RP11-174I12.2 | E30: Reliable | F30: 6.945037 | G30: 7.236615 | H30: 7.47886 | I30: 7.1147447 | J30: 7.0869017 | K30: 7.0089316 | L30: 8.793686 | M30: 8.601575 | N30: 8.334771 | O30: 8.207703 | P30: 8.269761 | Q30: 7.861157
C31: FNBP1 | D31: RP11-409K20.6 | E31: Reliable | F31: 14.817402 | G31: 14.609414 | H31: 14.656119 | I31: 14.882463 | J31: 14.349857 | K31: 15.308587 | L31: 16.480316 | M31: 16.082735 | N31: 15.551017 | O31: 15.413159 | P31: 15.556209 | Q31: 15.423241
C32: GNA15 | D32: AC005264.2 | F32: 13.525215 | G32: 13.632837 | H32: 13.697007 | I32: 13.312782 | J32: 13.550392 | K32: 13.257342 | L32: 12.078845 | M32: 12.120636 | N32: 12.578543 | O32: 12.664106 | P32: 12.402322 | Q32: 12.472151
C33: HOXA11 | D33: RP1-170O19.14 | E33: Reliable | F33: 8.769188 | G33: 8.732643 | H33: 8.694662 | I33: 9.024872 | J33: 8.528564 | K33: 8.820587 | L33: 10.034062 | M33: 10.047084 | N33: 9.553188 | O33: 9.446875 | P33: 9.5126915 | Q33: 9.534771
B34: 1549 | C34: HOXA11 | D34: HOXA11-AS | F34: 4.214133 | G34: 4.2509403 | H34: 4.1757936 | I34: 3.7603397 | J34: 3.053667 | K34: 3.6504054 | L34: 5.1913853 | M34: 5.070301 | N34: 5.7129083 | O34: 6.089563 | P34: 6.026087 | Q34: 6.1052256
B35: ** | C35: KBTBD11 | D35: KBTBD11-OT1 | F35: 4.045396 | G35: 4.530417 | H35: 4.861313 | I35: 4.4085875 | J35: 4.119546 | K35: 4.496484 | L35: 6.515831 | M35: 5.228652 | N35: 5.286344 | O35: 4.9542756 | P35: 4.9329824 | Q35: 4.9099803
C36: KCTD5 | D36: CTD-3126B10.4 | E36: Reliable | F36: 14.535265 | G36: 14.615509 | H36: 14.609414 | I36: 14.121297 | J36: 14.609414 | K36: 14.330411 | L36: 13.13926 | M36: 13.269185 | N36: 13.616132 | O36: 13.894627 | P36: 13.568247 | Q36: 13.671624
B37: 523 | C37: KLF7 | D37: AC007879.6 | E37: Gold | F37: 5.416285 | G37: 4.9910216 | H37: 5.162183 | I37: 5.554635 | J37: 5.8099833 | K37: 5.8259683 | L37: 3.0116222 | M37: 3.040589 | N37: 3.7586248 | O37: 3.372058 | P37: 3.769805 | Q37: 2.4532204
C38: LASP1 | D38: RP1-56K13.2 | E38: Reliable | F38: 7.8529935 | G38: 7.827554 | H38: 7.8325925 | I38: 7.762265 | J38: 7.7451463 | K38: 8.000157 | L38: 9.628641 | M38: 9.564109 | N38: 8.922061 | O38: 8.833725 | P38: 8.9392 | Q38: 8.84104
C39: LIF | D39: RP1-102K2.8 | F39: 4.729089 | G39: 4.3305154 | H39: 4.5884438 | I39: 4.8019943 | J39: 4.7578354 | K39: 4.401338 | L39: 6.1717563 | M39: 5.8310714 | N39: 6.059591 | O39: 5.2143755 | P39: 5.092799 | Q39: 5.2846394
B40: 2405 | C40: LIF | D40: CATG00000058427.1 | F40: 15.250631 | G40: 15.037895 | H40: 15.169519 | I40: 14.870146 | J40: 15.42693 | K40: 15.258437 | L40: 13.787876 | M40: 13.894627 | N40: 14.442927 | O40: 14.577376 | P40: 14.355982 | Q40: 14.414034
C41: LIPA | D41: RP11-149I23.3 | E41: Gold | F41: 7.101108 | G41: 6.9676185 | H41: 6.895398 | I41: 7.7248483 | J41: 7.9418254 | K41: 7.8220277 | L41: 5.6580534 | M41: 5.8194237 | N41: 6.0662885 | O41: 6.966337 | P41: 6.8610444 | Q41: 7.0369353
C42: MFSD1 | D42: RP11-379F4.4 | F42: 2.7149897 | G42: 2.3521767 | H42: 2.3545122 | I42: 2.3629665 | J42: 2.4276228 | K42: 2.3713205 | L42: 5.341125 | M42: 3.935885 | N42: 4.3893514 | O42: 4.7242002 | P42: 4.619653 | Q42: 4.503903
C43: MMP25 | D43: RP11-473M20.7 | F43: 10.643924 | G43: 10.709379 | H43: 10.870226 | I43: 11.056264 | J43: 10.362144 | K43: 10.642475 | L43: 12.680449 | M43: 12.411508 | N43: 11.860105 | O43: 11.584839 | P43: 11.849577 | Q43: 11.66697
C44: MPHOSPH6 | D44: CATG00000028064.1 | F44: 6.683113 | G44: 7.0509605 | H44: 6.8185744 | I44: 7.528887 | J44: 6.3587008 | K44: 7.4027224 | L44: 4.830564 | M44: 4.667082 | N44: 4.8136525 | O44: 5.7050433 | P44: 5.7114744 | Q44: 5.7397766
C45: MYH3 | D45: CTC-297N7.7 | F45: 13.211533 | G45: 13.364014 | H45: 13.344896 | I45: 12.925142 | J45: 13.204659 | K45: 12.86079 | L45: 11.737691 | M45: 11.819641 | N45: 12.288395 | O45: 12.457363 | P45: 12.08392 | Q45: 12.176428
C46: NFAM1 | D46: CTA-126B4.7 | E46: Gold | F46: 9.831305 | G46: 9.770659 | H46: 9.650131 | I46: 9.887906 | J46: 9.033882 | K46: 9.321758 | L46: 10.645218 | M46: 10.692472 | N46: 10.508639 | O46: 10.261851 | P46: 10.465645 | Q46: 10.506498
B47: 1142 | C47: NFAM1 | D47: Z83851.1 | F47: 5.460209 | G47: 5.0730214 | H47: 4.9437275 | I47: 4.5218205 | J47: 4.7858095 | K47: 4.914041 | L47: 6.5813804 | M47: 6.2562857 | N47: 6.466419 | O47: 7.121583 | P47: 7.1107593 | Q47: 7.015157
B48: 2958 | C48: OGFRL1 | D48: LINC00472 | F48: 11.501362 | G48: 11.376756 | H48: 11.672516 | I48: 11.86739 | J48: 11.368828 | K48: 11.787078 | L48: 12.792228 | M48: 12.724027 | N48: 12.664106 | O48: 12.249615 | P48: 12.277363 | Q48: 12.11913
C49: PMEPA1 | D49: AK056098 | F49: 4.5553465 | G49: 4.553313 | H49: 4.383358 | I49: 5.340433 | J49: 6.20886 | K49: 5.7134337 | L49: 2.859194 | M49: 3.1262999 | N49: 3.6436663 | O49: 6.236529 | P49: 6.3417006 | Q49: 6.189809
C50: PMEPA1 | D50: NKILA | E50: Gold | F50: 4.0444245 | G50: 3.9529886 | H50: 4.2803426 | I50: 5.286807 | J50: 4.793625 | K50: 4.8592887 | L50: 2.3574002 | M50: 2.5471306 | N50: 3.101986 | O50: 6.160289 | P50: 6.20333 | Q50: 6.1600466
C51: PXDC1 | D51: RP11-420L9.5 | E51: Reliable | F51: 5.5972385 | G51: 5.554635 | H51: 5.6416807 | I51: 6.6256595 | J51: 6.5920467 | K51: 6.5920467 | L51: 4.8479085 | M51: 4.9553094 | N51: 5.231118 | O51: 5.850893 | P51: 6.0933466 | Q51: 5.7212534
C52: RAB3A | D52: AC068499.10 | F52: 15.373273 | G52: 15.349579 | H52: 15.338533 | I52: 15.601115 | J52: 14.912178 | K52: 15.423241 | L52: 16.46278 | M52: 16.46278 | N52: 16.152258 | O52: 15.976781 | P52: 16.158907 | Q52: 16.082735
C53: RAI14 | D53: CTD-2024P10.1 | E53: Gold | F53: 10.154669 | G53: 9.92515 | H53: 9.939744 | I53: 10.230981 | J53: 9.981557 | K53: 10.187427 | L53: 11.42244 | M53: 11.368828 | N53: 10.686239 | O53: 10.70533 | P53: 10.79285 | Q53: 10.775478
C54: S100A4 | D54: LOC101928034 | E54: Gold | F54: 3.187566 | G54: 4.8570495 | H54: 4.2195544 | I54: 4.3400373 | J54: 4.6964846 | K54: 4.44144 | L54: 3.3519874 | M54: 3.2786055 | N54: 2.9361572 | O54: 2.9113019 | P54: 2.419074 | Q54: 3.2468133
C55: SLC4A3 | D55: RP11-256I23.3 | E55: Reliable | F55: 4.7115674 | G55: 5.025134 | H55: 5.003641 | I55: 5.910411 | J55: 5.635874 | K55: 5.9000087 | L55: 4.327004 | M55: 5.1436696 | N55: 4.3465457 | O55: 3.6555698 | P55: 3.1435852 | Q55: 2.4532204
C56: SOGA2 | D56: RP11-674N23.1 | F56: 4.538718 | G56: 2.6082988 | H56: 2.7257645 | I56: 5.9863315 | J56: 6.1129904 | K56: 6.042714 | L56: 2.3574002 | M56: 2.3517308 | N56: 2.391663 | O56: 6.692912 | P56: 6.319891 | Q56: 6.660341
B57: 15k | C57: SULF2 | D57: CATG00000053438.1 | F57: 3.6561303 | G57: 4.1689315 | H57: 4.1133966 | I57: 2.8989887 | J57: 3.2786055 | K57: 3.3314495 | L57: 4.8296313 | M57: 4.108293 | N57: 4.0832853 | O57: 4.2941847 | P57: 3.9899478 | Q57: 4.283822
C58: TMEM63A | D58: RP11-285F7.2 | F58: 7.8825855 | G58: 7.6209083 | H58: 7.784067 | I58: 6.4059653 | J58: 6.245142 | K58: 6.202923 | L58: 8.378323 | M58: 8.500782 | N58: 8.645797 | O58: 8.611115 | P58: 8.403076 | Q58: 8.414187
B59: 327 | C59: TNFAIP2 | D59: LINC00677 | F59: 6.8664913 | G59: 7.0813704 | H59: 7.054258 | I59: 6.9103665 | J59: 6.0858665 | K59: 6.472241 | L59: 7.7813544 | M59: 7.344597 | N59: 7.542461 | O59: 7.3280287 | P59: 7.3053775 | Q59: 7.2042727
C60: TNFRSF10B | D60: RP11-875O11.3 | F60: 6.1393967 | G60: 6.383387 | H60: 6.325446 | I60: 6.343893 | J60: 5.9055653 | K60: 6.194709 | L60: 7.3724895 | M60: 7.1250687 | N60: 7.0516386 | O60: 6.970019 | P60: 7.067316 | Q60: 7.0589266
C61: TNS4 | D61: RP5-1028K7.2 | F61: 6.2996607 | G61: 5.818929 | H61: 5.933385 | I61: 6.524655 | J61: 6.514709 | K61: 6.643503 | L61: 5.7660756 | M61: 5.1913853 | N61: 5.548899 | O61: 5.7753096 | P61: 5.9527063 | Q61: 5.968577
C62: UBE2V1 | D62: TRERNA1 | F62: 4.016073 | G62: 4.311556 | H62: 4.3981757 | I62: 4.0511646 | J62: 4.405064 | K62: 5.311146 | L62: 3.0365357 | M62: 3.6716297 | N62: 3.5071936 | O62: 3.4286296 | P62: 3.2284544 | Q62: 2.4532204
B63: 1365 | C63: WDR81 | D63: MIR22HG | F63: 9.310959 | G63: 9.258864 | H63: 9.253107 | I63: 9.410834 | J63: 9.666263 | K63: 9.546538 | L63: 7.908773 | M63: 7.986762 | N63: 8.364722 | O63: 8.184147 | P63: 8.018663 | Q63: 8.042766
B64: 2835 | C64: ZCCHC7 | D64: RP11-220I1.1 | E64: Reliable | F64: 6.57694 | G64: 6.556842 | H64: 6.6201787 | I64: 7.345037 | J64: 7.2144933 | K64: 7.4304814 | L64: 5.868013 | M64: 6.026087 | N64: 6.5926394 | O64: 7.347783 | P64: 7.315604 | Q64: 7.229677
C65: ZHX2 | D65: RP11-94A24.1 | F65: 5.007301 | G65: 5.0435348 | H65: 5.033389 | I65: 4.6707706 | J65: 4.6163683 | K65: 4.9336596 | L65: 6.018812 | M65: 5.845154 | N65: 6.0863457 | O65: 5.217882 | P65: 5.0951304 | Q65: 5.2895374
B66: 1085 | C66: ZMYND8 | D66: CATG00000053405.1 | F66: 5.2370224 | G66: 5.3708167 | H66: 5.530125 | I66: 5.5978823 | J66: 5.195745 | K66: 5.4450755 | L66: 6.64062 | M66: 6.426492 | N66: 6.2013273 | O66: 6.20839 | P66: 6.146726 | Q66: 5.812275
C67: ZNF816 | D67: CTD-2331H12.7 | E67: Reliable | F67: 8.640279 | G67: 8.761414 | H67: 8.835012 | I67: 8.607358 | J67: 8.6591 | K67: 8.493459 | L67: 7.316531 | M67: 7.3834476 | N67: 7.8162384 | O67: 7.9754286 | P67: 7.979701 | Q67: 7.963595
A68: DCIS | C68: ADRM1 | D68: RP11-157P1.4 | E68: Gold | F68: 10.86028 | G68: 11.04069 | H68: 10.981547 | I68: 9.7485485 | J68: 10.03308 | K68: 9.7997875 | L68: 9.0561495 | M68: 9.38389 | N68: 9.770659 | O68: 9.974789 | P68: 9.87978 | Q68: 9.86868
C69: ANKRD1 | D69: XLOC_008559 | E69: Gold | F69: 15.076411 | G69: 15.007661 | H69: 15.012864 | I69: 14.720821 | J69: 15.012864 | K69: 14.728725 | L69: 13.464752 | M69: 13.574428 | N69: 14.121297 | O69: 14.22828 | P69: 14.003373 | Q69: 14.042558
C70: BAHD1 | D70: RP11-64K12.9 | E70: Reliable | F70: 8.766189 | G70: 8.846569 | H70: 8.859394 | I70: 9.207764 | J70: 8.868603 | K70: 8.962785 | L70: 10.651739 | M70: 10.250951 | N70: 9.339294 | O70: 9.39975 | P70: 9.596591 | Q70: 9.752348
C71: C4B | D71: C4B-AS1 | E71: Reliable | F71: 13.077881 | G71: 12.992548 | H71: 13.101127 | I71: 12.700055 | J71: 13.500174 | K71: 13.026607 | L71: 11.523116 | M71: 11.568233 | N71: 11.960608 | O71: 11.932433 | P71: 11.600952 | Q71: 11.571974
C72: CALML3 | D72: CALML3-AS1 | F72: 7.892484 | G72: 7.6455464 | H72: 7.797584 | I72: 8.342688 | J72: 7.7141776 | K72: 7.9537234 | L72: 10.332348 | M72: 10.32329 | N72: 9.026546 | O72: 8.551004 | P72: 8.851676 | Q72: 8.78783
C73: DSP | D73: RP3-512B11.3 | E73: Reliable | F73: 6.018812 | G73: 6.2738667 | H73: 6.4360485 | I73: 5.452262 | J73: 5.5013933 | K73: 5.4316463 | L73: 4.5809727 | M73: 4.584128 | N73: 5.4824705 | O73: 5.7328825 | P73: 5.454007 | Q73: 5.2752037
C74: EDN1 | D74: CATG00000082768.1 | F74: 9.440185 | G74: 9.504807 | H74: 9.508619 | I74: 9.721156 | J74: 9.368954 | K74: 9.754401 | L74: 10.586986 | M74: 10.772511 | N74: 10.264841 | O74: 10.029287 | P74: 10.041655 | Q74: 9.989478
C75: ELOVL5 | D75: RP3-483K16.4 | E75: Reliable | F75: 3.3703988 | G75: 4.252315 | H75: 3.6840038 | I75: 2.3629665 | J75: 2.4567635 | K75: 2.3713205 | L75: 2.3574002 | M75: 3.151593 | N75: 2.391663 | O75: 2.3968577 | P75: 2.419074 | Q75: 2.4532204
C76: EPCAM | D76: BCYRN1 | F76: 14.882463 | G76: 14.783743 | H76: 14.746371 | I76: 14.549306 | J76: 14.882463 | K76: 14.770634 | L76: 14.029706 | M76: 14.129162 | N76: 14.34598 | O76: 14.261886 | P76: 14.029706 | Q76: 13.958472
B77: 3210 | C77: FAM13A | D77: FAM13A-AS1 | F77: 12.655784 | G77: 12.94566 | H77: 13.013264 | I77: 11.731805 | J77: 12.049579 | K77: 12.031658 | L77: 10.778431 | M77: 10.958229 | N77: 11.332076 | O77: 10.825732 | P77: 10.707809 | Q77: 10.782248
B78: 5239 | C78: FAM83H | D78: FAM83H-AS1 | F78: 3.7067451 | G78: 3.7320702 | H78: 3.6686728 | I78: 6.1173186 | J78: 6.0326447 | K78: 6.2008305 | L78: 5.338099 | M78: 6.741533 | N78: 6.3792195 | O78: 5.86522 | P78: 5.7410936 | Q78: 5.731969
B79: 101 | C79: HLA-A | D79: HCG9 | F79: 4.804565 | G79: 4.382901 | H79: 4.291976 | I79: 4.7719007 | J79: 4.562796 | K79: 4.0844345 | L79: 5.924052 | M79: 5.2759027 | N79: 5.3186274 | O79: 5.1307206 | P79: 5.185684 | Q79: 5.083091
B80: 659 | C80: HLA-A | D80: HCG9 | F80: 12.680449 | G80: 12.542916 | H80: 12.430467 | I80: 12.042832 | J80: 12.472151 | K80: 12.807692 | L80: 11.588346 | M80: 11.094137 | N80: 11.565492 | O80: 11.454696 | P80: 11.167541 | Q80: 11.205237
C81: IER5 | D81: RP11-309G3.3 | E81: Reliable | F81: 4.913209 | G81: 5.3531165 | H81: 5.3689847 | I81: 4.7481823 | J81: 4.840481 | K81: 4.3929443 | L81: 2.7649508 | M81: 2.900523 | N81: 4.505593 | O81: 4.9048862 | P81: 4.4926925 | Q81: 4.3183517
C82: IL4R | D82: CATG00000027002.1 | F82: 15.069945 | G82: 15.175154 | H82: 15.139548 | I82: 14.876264 | J82: 15.081309 | K82: 14.479826 | L82: 13.410255 | M82: 13.95467 | N82: 14.399436 | O82: 14.649017 | P82: 14.479826 | Q82: 14.48417
C83: IRF2BPL | D83: CATG00000021639.1 | F83: 13.016918 | G83: 12.966312 | H83: 12.925142 | I83: 12.532879 | J83: 13.410255 | K83: 13.327606 | L83: 11.570045 | M83: 11.534033 | N83: 11.874427 | O83: 12.035821 | P83: 11.645533 | Q83: 11.730507
B84: 1765 | C84: ITM2C | D84: AC012507.3 | F84: 5.3038545 | G84: 5.4316463 | H84: 5.4069557 | I84: 5.558277 | J84: 5.2911177 | K84: 5.62314 | L84: 6.3356795 | M84: 6.611915 | N84: 6.2925525 | O84: 6.184108 | P84: 6.4540973 | Q84: 6.275197
C85: KIAA0196 | D85: NSMCE2 | F85: 9.267563 | G85: 9.3322115 | H85: 9.401438 | I85: 8.234882 | J85: 8.492159 | K85: 8.04192 | L85: 7.6844063 | M85: 7.936939 | N85: 8.206488 | O85: 8.546891 | P85: 8.4051695 | Q85: 8.27222
C86: KIAA0196 | D86: NSMCE2 | F86: 9.267563 | G86: 9.3322115 | H86: 9.401438 | I86: 8.234882 | J86: 8.492159 | K86: 8.04192 | L86: 7.6844063 | M86: 7.936939 | N86: 8.206488 | O86: 8.546891 | P86: 8.4051695 | Q86: 8.27222
C87: LAPTM4A | D87: RP11-644K8.1 | E87: Gold | F87: 9.901642 | G87: 9.66215 | H87: 9.563337 | I87: 10.030007 | J87: 9.8960705 | K87: 9.679203 | L87: 11.452509 | M87: 10.944422 | N87: 10.169208 | O87: 10.08704 | P87: 10.294209 | Q87: 10.137823
C88: LRRFIP2 | D88: RP11-285J16.1 | E88: Reliable | F88: 4.1133966 | G88: 4.2673426 | H88: 4.217299 | I88: 4.0093904 | J88: 4.382901 | K88: 3.668054 | L88: 2.5909548 | M88: 2.974802 | N88: 3.7278788 | O88: 3.696976 | P88: 3.3628209 | Q88: 3.2746265
B89: 549 | C89: NBPF16 | D89: RP11-14N7.2 | F89: 8.372696 | G89: 8.411793 | H89: 8.370784 | I89: 8.239802 | J89: 7.980365 | K89: 8.138212 | L89: 7.337883 | M89: 7.134212 | N89: 7.578483 | O89: 8.363127 | P89: 8.36573 | Q89: 8.350586
C90: NCOA3 | D90: CATG00000053419.1 | F90: 14.746371 | G90: 14.594691 | H90: 14.545155 | I90: 14.103072 | J90: 14.870146 | K90: 14.172153 | L90: 12.884953 | M90: 13.123787 | N90: 13.459407 | O90: 13.586325 | P90: 13.141725 | Q90: 13.304414
C91: NDFIP2 | D91: LINC01038 | F91: 3.2681177 | G91: 2.9292803 | H91: 3.7913053 | I91: 4.179657 | J91: 3.693912 | K91: 3.2284544 | L91: 4.3156505 | M91: 4.3924146 | N91: 4.495445 | O91: 4.0219135 | P91: 4.075504 | Q91: 3.4263477
C92: NR2F1 | D92: NR2F1-AS1 | F92: 5.238651 | G92: 5.336426 | H92: 5.155451 | I92: 6.111564 | J92: 6.1526027 | K92: 6.20886 | L92: 6.900961 | M92: 6.9739866 | N92: 7.4223166 | O92: 6.078843 | P92: 6.5184097 | Q92: 6.328297
B93: 446 | C93: PLXNC1 | D93: RP11-74K11.2 | E93: Reliable | F93: 9.689258 | G93: 9.451815 | H93: 9.505641 | I93: 9.77236 | J93: 9.848952 | K93: 9.539207 | L93: 10.896145 | M93: 10.972625 | N93: 10.397618 | O93: 10.03308 | P93: 10.258623 | Q93: 10.020263
C94: POFUT2 | D94: LINC00205 | E94: Gold | F94: 6.601383 | G94: 6.7306256 | H94: 6.7617826 | I94: 6.3356795 | J94: 6.664067 | K94: 6.1242256 | L94: 5.4417887 | M94: 5.337683 | N94: 5.637241 | O94: 5.978597 | P94: 5.9734635 | Q94: 6.1659436
C95: SH3GLB1 | D95: RP4-612B15.3 | E95: Reliable | F95: 11.339578 | G95: 11.367033 | H95: 11.730507 | I95: 12.040158 | J95: 11.730507 | K95: 11.561005 | L95: 12.855111 | M95: 12.764048 | N95: 12.318718 | O95: 11.85602 | P95: 11.536268 | Q95: 11.465262
C96: SLC22A5 | D96: AC034220.3 | F96: 10.01812 | G96: 9.593528 | H96: 9.737301 | I96: 9.917148 | J96: 9.5066185 | K96: 10.134428 | L96: 11.841585 | M96: 11.493759 | N96: 10.318144 | O96: 10.065437 | P96: 10.48492 | Q96: 10.656557
B97: 1223 | C97: SRGAP3 | D97: SRGAP3-AS3 | E97: Gold | F97: 3.1500592 | G97: 4.204283 | H97: 3.7162375 | I97: 3.9940526 | J97: 4.016073 | K97: 4.3773212 | L97: 5.1468205 | M97: 4.7858095 | N97: 4.6362877 | O97: 4.7700806 | P97: 4.459149 | Q97: 4.721203
C98: THBS1 | D98: CTD-2033D15.1 | E98: Reliable | F98: 6.035495 | G98: 5.8748426 | H98: 5.9472036 | I98: 6.508927 | J98: 6.29522 | K98: 6.4692683 | L98: 7.1640286 | M98: 7.080023 | N98: 7.4104705 | O98: 8.204134 | P98: 8.372696 | Q98: 8.166038
C99: TIMP2 | D99: RP11-323N12.5 | E99: Reliable | F99: 6.0900793 | G99: 6.1104784 | H99: 6.100571 | I99: 7.919447 | J99: 5.0522537 | K99: 5.6299667 | L99: 4.387924 | M99: 5.134238 | N99: 4.3219824 | O99: 4.4233747 | P99: 4.359838 | Q99: 3.8374624
B100: 16458 | C100: TTC7B | D100: CATG00000021837.1 | F100: 6.6291885 | G100: 6.8448505 | H100: 6.692912 | I100: 6.9676185 | J100: 7.075914 | K100: 7.2151995 | L100: 8.104138 | M100: 8.07856 | N100: 7.599462 | O100: 6.794336 | P100: 7.050233 | Q100: 6.91704
...

Sheet lncRNA Subtracted values
F1: Normalized lncRNA
F2: 10A | I2: AT1 | L2: DCIS | O2: CA1
C3: mRNA | D3: lncRNA | E3: lncRNA_level | F3: 1 | G3: 2 | H3: 3 | I3: 1 | J3: 2 | K3: 3 | L3: 1 | M3: 2 | N3: 3 | O3: 1 | P3: 2 | Q3: 3
C4: PMEPA1 | D4: AK056098 | F4: ='lncRNA Normalized Values'!F4-(AVERAGE('lncRNA Normalized Values'!$F4:$H4)) -> 0.058007333 | G4: ='lncRNA Normalized Values'!G4-(AVERAGE('lncRNA Normalized Values'!$F4:$H4)) -> 0.055973833 | H4: ='lncRNA Normalized Values'!H4-(AVERAGE('lncRNA Normalized Values'!$F4:$H4)) -> -0.11398117 | I4: ='lncRNA Normalized Values'!I4-(AVERAGE('lncRNA Normalized Values'!$F4:$H4)) -> 0.84309383 | J4: ='lncRNA Normalized Values'!J4-(AVERAGE('lncRNA Normalized Values'!$F4:$H4)) -> 1.7115208 | K4: ='lncRNA Normalized Values'!K4-(AVERAGE('lncRNA Normalized Values'!$F4:$H4)) -> 1.2160945 | L4: ='lncRNA Normalized Values'!L4-(AVERAGE('lncRNA Normalized Values'!$F4:$H4)) -> -1.6381452 | M4: ='lncRNA Normalized Values'!M4-(AVERAGE('lncRNA Normalized Values'!$F4:$H4)) -> -1.3710393 | ... Q4: ='lncRNA Normalized Values'!Q4-(AVERAGE('lncRNA Normalized Values'!$F4:$H4)) -> 1.6924698
C5: SEMA5A | D5: SNHG18 | F5: ='lncRNA Normalized Values'!F5-(AVERAGE('lncRNA Normalized Values'!$F5:$H5)) -> -0.2267884 | G5: ='lncRNA Normalized Values'!G5-(AVERAGE('lncRNA Normalized Values'!$F5:$H5)) -> 0.196172 | H5: ='lncRNA Normalized Values'!H5-(AVERAGE('lncRNA Normalized Values'!$F5:$H5)) -> 0.0306164 | I5: ='lncRNA Normalized Values'!I5-(AVERAGE('lncRNA Normalized Values'!$F5:$H5)) -> -3.1930536 | J5: ='lncRNA Normalized Values'!J5-(AVERAGE('lncRNA Normalized Values'!$F5:$H5)) -> -3.8620604 | K5: ='lncRNA Normalized Values'!K5-(AVERAGE('lncRNA Normalized Values'!$F5:$H5)) -> -4.001729 | L5: ='lncRNA Normalized Values'!L5-(AVERAGE('lncRNA Normalized Values'!$F5:$H5)) -> -2.750323 | M5: ='lncRNA Normalized Values'!M5-(AVERAGE('lncRNA Normalized Values'!$F5:$H5)) -> -3.611965 | ... Q5: ='lncRNA Normalized Values'!Q5-(AVERAGE('lncRNA Normalized Values'!$F5:$H5)) -> -3.2673148
C6: LGALS8 | D6: RP11-385F5.5 | E6: Reliable | F6: ='lncRNA Normalized Values'!F6-(AVERAGE('lncRNA Normalized Values'!$F6:$H6)) -> -0.1060135 | G6: ='lncRNA Normalized Values'!G6-(AVERAGE('lncRNA Normalized Values'!$F6:$H6)) -> 0.0116685 | H6: ='lncRNA Normalized Values'!H6-(AVERAGE('lncRNA Normalized Values'!$F6:$H6)) -> 0.094345 | I6: ='lncRNA Normalized Values'!I6-(AVERAGE('lncRNA Normalized Values'!$F6:$H6)) -> -1.4618498 | J6: ='lncRNA Normalized Values'!J6-(AVERAGE('lncRNA Normalized Values'!$F6:$H6)) -> -1.6606398 | K6: ='lncRNA Normalized Values'!K6-(AVERAGE('lncRNA Normalized Values'!$F6:$H6)) -> -1.763825 | L6: ='lncRNA Normalized Values'!L6-(AVERAGE('lncRNA Normalized Values'!$F6:$H6)) -> -1.5764575 | M6: ='lncRNA Normalized Values'!M6-(AVERAGE('lncRNA Normalized Values'!$F6:$H6)) -> -1.2660919 | ... Q6: ='lncRNA Normalized Values'!Q6-(AVERAGE('lncRNA Normalized Values'!$F6:$H6)) -> -1.2311722
C7: IGFL1 | D7: AC006262.5 | F7: ='lncRNA Normalized Values'!F7-(AVERAGE('lncRNA Normalized Values'!$F7:$H7)) -> -0.12942373 | G7: ='lncRNA Normalized Values'!G7-(AVERAGE('lncRNA Normalized Values'!$F7:$H7)) -> 0.11140787 | H7: ='lncRNA Normalized Values'!H7-(AVERAGE('lncRNA Normalized Values'!$F7:$H7)) -> 0.018015867 | I7: ='lncRNA Normalized Values'!I7-(AVERAGE('lncRNA Normalized Values'!$F7:$H7)) -> -1.0750651 | J7: ='lncRNA Normalized Values'!J7-(AVERAGE('lncRNA Normalized Values'!$F7:$H7)) -> -1.6574607 | K7: ='lncRNA Normalized Values'!K7-(AVERAGE('lncRNA Normalized Values'!$F7:$H7)) -> -1.7686975 | L7: ='lncRNA Normalized Values'!L7-(AVERAGE('lncRNA Normalized Values'!$F7:$H7)) -> -3.4031799 | M7: ='lncRNA Normalized Values'!M7-(AVERAGE('lncRNA Normalized Values'!$F7:$H7)) -> -2.9610758 | ... Q7: ='lncRNA Normalized Values'!Q7-(AVERAGE('lncRNA Normalized Values'!$F7:$H7)) -> -2.0373993
C8: CDC25B | D8: LINC01730 | E8: Gold | F8: ='lncRNA Normalized Values'!F8-(AVERAGE('lncRNA Normalized Values'!$F8:$H8)) -> -0.1105046 | G8: ='lncRNA Normalized Values'!G8-(AVERAGE('lncRNA Normalized Values'!$F8:$H8)) -> 0.0248148 | H8: ='lncRNA Normalized Values'!H8-(AVERAGE('lncRNA Normalized Values'!$F8:$H8)) -> 0.0856898 | I8: ='lncRNA Normalized Values'!I8-(AVERAGE('lncRNA Normalized Values'!$F8:$H8)) -> -1.7016077 | J8: ='lncRNA Normalized Values'!J8-(AVERAGE('lncRNA Normalized Values'!$F8:$H8)) -> -1.8745227 | K8: ='lncRNA Normalized Values'!K8-(AVERAGE('lncRNA Normalized Values'!$F8:$H8)) -> -2.0422272 | L8: ='lncRNA Normalized Values'!L8-(AVERAGE('lncRNA Normalized Values'!$F8:$H8)) -> -2.5859809 | M8: ='lncRNA Normalized Values'!M8-(AVERAGE('lncRNA Normalized Values'!$F8:$H8)) -> -2.6958999 | ... Q8: ='lncRNA Normalized Values'!Q8-(AVERAGE('lncRNA Normalized Values'!$F8:$H8)) -> -1.9092572
C9: PHLDA1 | D9: RP11-290L1.3 | E9: Reliable | F9: ='lncRNA Normalized Values'!F9-(AVERAGE('lncRNA Normalized Values'!$F9:$H9)) -> 0.1111982 | G9: ='lncRNA Normalized Values'!G9-(AVERAGE('lncRNA Normalized Values'!$F9:$H9)) -> -0.0637629 | H9: ='lncRNA Normalized Values'!H9-(AVERAGE('lncRNA Normalized Values'!$F9:$H9)) -> -0.0474353 | I9: ='lncRNA Normalized Values'!I9-(AVERAGE('lncRNA Normalized Values'!$F9:$H9)) -> 1.1951607 | J9: ='lncRNA Normalized Values'!J9-(AVERAGE('lncRNA Normalized Values'!$F9:$H9)) -> 1.2224681 | K9: ='lncRNA Normalized Values'!K9-(AVERAGE('lncRNA Normalized Values'!$F9:$H9)) -> 1.3489237 | L9: ='lncRNA Normalized Values'!L9-(AVERAGE('lncRNA Normalized Values'!$F9:$H9)) -> 1.4272492 | M9: ='lncRNA Normalized Values'!M9-(AVERAGE('lncRNA Normalized Values'!$F9:$H9)) -> 1.4099777 | ... Q9: ='lncRNA Normalized Values'!Q9-(AVERAGE('lncRNA Normalized Values'!$F9:$H9)) -> 1.576411
C10: RIMBP2 | D10: RP11-662M24.2 | F10: ='lncRNA Normalized Values'!F10-(AVERAGE('lncRNA Normalized Values'!$F10:$H10)) -> -0.085745667 | G10: ='lncRNA Normalized Values'!G10-(AVERAGE('lncRNA Normalized Values'!$F10:$H10)) -> 0.046347333 | H10: ='lncRNA Normalized Values'!H10-(AVERAGE('lncRNA Normalized Values'!$F10:$H10)) -> 0.039398333 | I10: ='lncRNA Normalized Values'!I10-(AVERAGE('lncRNA Normalized Values'!$F10:$H10)) -> -1.5297783 | J10: ='lncRNA Normalized Values'!J10-(AVERAGE('lncRNA Normalized Values'!$F10:$H10)) -> -1.709074 | K10: ='lncRNA Normalized Values'!K10-(AVERAGE('lncRNA Normalized Values'!$F10:$H10)) -> -1.9385723 | L10: ='lncRNA Normalized Values'!L10-(AVERAGE('lncRNA Normalized Values'!$F10:$H10)) -> -1.267059 | M10: ='lncRNA Normalized Values'!M10-(AVERAGE('lncRNA Normalized Values'!$F10:$H10)) -> -1.1708764 | ... Q10: ='lncRNA Normalized Values'!Q10-(AVERAGE('lncRNA Normalized Values'!$F10:$H10)) -> -0.68599637
C11: VPS37B | D11: RP11-463O12.3 | E11: Reliable | F11: ='lncRNA Normalized Values'!F11-(AVERAGE('lncRNA Normalized Values'!$F11:$H11)) -> 0.19884837 | G11: ='lncRNA Normalized Values'!G11-(AVERAGE('lncRNA Normalized Values'!$F11:$H11)) -> -0.11195203 | H11: ='lncRNA Normalized Values'!H11-(AVERAGE('lncRNA Normalized Values'!$F11:$H11)) -> -0.086896333 | I11: ='lncRNA Normalized Values'!I11-(AVERAGE('lncRNA Normalized Values'!$F11:$H11)) -> 1.1285583 | J11: ='lncRNA Normalized Values'!J11-(AVERAGE('lncRNA Normalized Values'!$F11:$H11)) -> 0.99887527 | K11: ='lncRNA Normalized Values'!K11-(AVERAGE('lncRNA Normalized Values'!$F11:$H11)) -> 1.3932244 | L11: ='lncRNA Normalized Values'!L11-(AVERAGE('lncRNA Normalized Values'!$F11:$H11)) -> 0.56712897 | M11: ='lncRNA Normalized Values'!M11-(AVERAGE('lncRNA Normalized Values'!$F11:$H11)) -> 0.71385867 | ... Q11: ='lncRNA Normalized Values'!Q11-(AVERAGE('lncRNA Normalized Values'!$F11:$H11)) -> 1.2171112
C12: CRIM1 | D12: RP11-490M8.1 | F12: ='lncRNA Normalized Values'!F12-(AVERAGE('lncRNA Normalized Values'!$F12:$H12)) -> -0.095709433 | G12: ='lncRNA Normalized Values'!G12-(AVERAGE('lncRNA Normalized Values'!$F12:$H12)) -> 0.062206567 | H12: ='lncRNA Normalized Values'!H12-(AVERAGE('lncRNA Normalized Values'!$F12:$H12)) -> 0.033502867 | I12: ='lncRNA Normalized Values'!I12-(AVERAGE('lncRNA Normalized Values'!$F12:$H12)) -> -1.0250408 | J12: ='lncRNA Normalized Values'!J12-(AVERAGE('lncRNA Normalized Values'!$F12:$H12)) -> -1.1812698 | K12: ='lncRNA Normalized Values'!K12-(AVERAGE('lncRNA Normalized Values'!$F12:$H12)) -> -1.1804907 | L12: ='lncRNA Normalized Values'!L12-(AVERAGE('lncRNA Normalized Values'!$F12:$H12)) -> -0.46505993 | M12: ='lncRNA Normalized Values'!M12-(AVERAGE('lncRNA Normalized Values'!$F12:$H12)) -> -0.24937043 | ... Q12: ='lncRNA Normalized Values'!Q12-(AVERAGE('lncRNA Normalized Values'!$F12:$H12)) -> -0.088066733
C13: SAP30 | D13: RP11-798M19.6 | F13: ='lncRNA Normalized Values'!F13-(AVERAGE('lncRNA Normalized Values'!$F13:$H13)) -> -0.064192933 | G13: ='lncRNA Normalized Values'!G13-(AVERAGE('lncRNA Normalized Values'!$F13:$H13)) -> -0.028951333 | H13: ='lncRNA Normalized Values'!H13-(AVERAGE('lncRNA Normalized Values'!$F13:$H13)) -> 0.093144267 | I13: ='lncRNA Normalized Values'!I13-(AVERAGE('lncRNA Normalized Values'!$F13:$H13)) -> -1.6314717 | J13: ='lncRNA Normalized Values'!J13-(AVERAGE('lncRNA Normalized Values'!$F13:$H13)) -> -1.6581783 | K13: ='lncRNA Normalized Values'!K13-(AVERAGE('lncRNA Normalized Values'!$F13:$H13)) -> -1.4268976 | L13: ='lncRNA Normalized Values'!L13-(AVERAGE('lncRNA Normalized Values'!$F13:$H13)) -> -1.5399357 | M13: ='lncRNA Normalized Values'!M13-(AVERAGE('lncRNA Normalized Values'!$F13:$H13)) -> -1.5829908 | ... Q13: ='lncRNA Normalized Values'!Q13-(AVERAGE('lncRNA Normalized Values'!$F13:$H13)) -> -0.85237663
C14: SAP30 | D14: RP11-798M19.6 | F14: ='lncRNA Normalized Values'!F14-(AVERAGE('lncRNA Normalized Values'!$F14:$H14)) -> -0.17494767 | G14: ='lncRNA Normalized Values'!G14-(AVERAGE('lncRNA Normalized Values'!$F14:$H14)) -> 0.063639233 | H14: ='lncRNA Normalized Values'!H14-(AVERAGE('lncRNA Normalized Values'!$F14:$H14)) -> 0.11130843 | I14: ='lncRNA Normalized Values'!I14-(AVERAGE('lncRNA Normalized Values'!$F14:$H14)) -> 0.97353923 | J14: ='lncRNA Normalized Values'!J14-(AVERAGE('lncRNA Normalized Values'!$F14:$H14)) -> 3.5490487 | K14: ='lncRNA Normalized Values'!K14-(AVERAGE('lncRNA Normalized Values'!$F14:$H14)) -> 2.7629421 | L14: ='lncRNA Normalized Values'!L14-(AVERAGE('lncRNA Normalized Values'!$F14:$H14)) -> 3.0245027 | M14: ='lncRNA Normalized Values'!M14-(AVERAGE('lncRNA Normalized Values'!$F14:$H14)) -> 0.50700973 | ... Q14: ='lncRNA Normalized Values'!Q14-(AVERAGE('lncRNA Normalized Values'!$F14:$H14)) -> -0.24619687
C15: CPEB4 | D15: CTB-43E15.4 | E15: Gold | F15: ='lncRNA Normalized Values'!F15-(AVERAGE('lncRNA Normalized Values'!$F15:$H15)) -> -0.32673177 | G15: ='lncRNA Normalized Values'!G15-(AVERAGE('lncRNA Normalized Values'!$F15:$H15)) -> 0.58650873 | H15: ='lncRNA Normalized Values'!H15-(AVERAGE('lncRNA Normalized Values'!$F15:$H15)) -> -0.25977697 | I15: ='lncRNA Normalized Values'!I15-(AVERAGE('lncRNA Normalized Values'!$F15:$H15)) -> 0.83518643 | J15: ='lncRNA Normalized Values'!J15-(AVERAGE('lncRNA Normalized Values'!$F15:$H15)) -> 1.202861 | K15: ='lncRNA Normalized Values'!K15-(AVERAGE('lncRNA Normalized Values'!$F15:$H15)) -> 1.4126357 | L15: ='lncRNA Normalized Values'!L15-(AVERAGE('lncRNA Normalized Values'!$F15:$H15)) -> 2.687559 | M15: ='lncRNA Normalized Values'!M15-(AVERAGE('lncRNA Normalized Values'!$F15:$H15)) -> 0.22681853 | ... Q15: ='lncRNA Normalized Values'!Q15-(AVERAGE('lncRNA Normalized Values'!$F15:$H15)) -> 0.23524503
C16: ABLIM3 | D16: CATG00000078011.1 | F16: ='lncRNA Normalized Values'!F16-(AVERAGE('lncRNA Normalized Values'!$F16:$H16)) -> 0.0020028333 | G16: ='lncRNA Normalized Values'!G16-(AVERAGE('lncRNA Normalized Values'!$F16:$H16)) -> 0.055342833 | H16: ='lncRNA Normalized Values'!H16-(AVERAGE('lncRNA Normalized Values'!$F16:$H16)) -> -0.057345667 | I16: ='lncRNA Normalized Values'!I16-(AVERAGE('lncRNA Normalized Values'!$F16:$H16)) -> -0.68004617 | J16: ='lncRNA Normalized Values'!J16-(AVERAGE('lncRNA Normalized Values'!$F16:$H16)) -> -0.62464317 | K16: ='lncRNA Normalized Values'!K16-(AVERAGE('lncRNA Normalized Values'!$F16:$H16)) -> -0.70006117 | L16: ='lncRNA Normalized Values'!L16-(AVERAGE('lncRNA Normalized Values'!$F16:$H16)) -> -2.1767085 | M16: ='lncRNA Normalized Values'!M16-(AVERAGE('lncRNA Normalized Values'!$F16:$H16)) -> -2.2850717 | ... Q16: ='lncRNA Normalized Values'!Q16-(AVERAGE('lncRNA Normalized Values'!$F16:$H16)) -> -0.52818217
C17: AHR | D17: CATG00000095263.1 | F17: ='lncRNA Normalized Values'!F17-(AVERAGE('lncRNA Normalized Values'!$F17:$H17)) -> -0.067126667 | G17: ='lncRNA Normalized Values'!G17-(AVERAGE('lncRNA Normalized Values'!$F17:$H17)) -> 0.011066333 | H17: ='lncRNA Normalized Values'!H17-(AVERAGE('lncRNA Normalized Values'!$F17:$H17)) -> 0.056060333 | I17: ='lncRNA Normalized Values'!I17-(AVERAGE('lncRNA Normalized Values'!$F17:$H17)) -> 0.16112633 | J17: ='lncRNA Normalized Values'!J17-(AVERAGE('lncRNA Normalized Values'!$F17:$H17)) -> -0.30539967 | K17: ='lncRNA Normalized Values'!K17-(AVERAGE('lncRNA Normalized Values'!$F17:$H17)) -> 0.042881333 | L17: ='lncRNA Normalized Values'!L17-(AVERAGE('lncRNA Normalized Values'!$F17:$H17)) -> 1.2267353 | M17: ='lncRNA Normalized Values'!M17-(AVERAGE('lncRNA Normalized Values'!$F17:$H17)) -> 1.3384013 | ... Q17: ='lncRNA Normalized Values'!Q17-(AVERAGE('lncRNA Normalized Values'!$F17:$H17)) -> 1.1141413
C18: ARSG | D18: WIPI1 | F18: ='lncRNA Normalized Values'!F18-(AVERAGE('lncRNA Normalized Values'!$F18:$H18)) -> -0.15288863 | G18: ='lncRNA Normalized Values'!G18-(AVERAGE('lncRNA Normalized Values'!$F18:$H18)) -> 0.038336067 | H18: ='lncRNA Normalized Values'!H18-(AVERAGE('lncRNA Normalized Values'!$F18:$H18)) -> 0.11455257 | I18: ='lncRNA Normalized Values'!I18-(AVERAGE('lncRNA Normalized Values'!$F18:$H18)) -> 0.059863667 | J18: ='lncRNA Normalized Values'!J18-(AVERAGE('lncRNA Normalized Values'!$F18:$H18)) -> 0.038336067 | K18: ='lncRNA Normalized Values'!K18-(AVERAGE('lncRNA Normalized Values'!$F18:$H18)) -> -0.037121933 | L18: ='lncRNA Normalized Values'!L18-(AVERAGE('lncRNA Normalized Values'!$F18:$H18)) -> -0.17925153 | M18: ='lncRNA Normalized Values'!M18-(AVERAGE('lncRNA Normalized Values'!$F18:$H18)) -> -0.22554193 | ... Q18: ='lncRNA Normalized Values'!Q18-(AVERAGE('lncRNA Normalized Values'!$F18:$H18)) -> -0.20611293
C19: BCL10 | D19: RP11-131L23.1 | E19: Gold | F19: ='lncRNA Normalized Values'!F19-(AVERAGE('lncRNA Normalized Values'!$F19:$H19)) -> -0.1256887 | G19: ='lncRNA Normalized Values'!G19-(AVERAGE('lncRNA Normalized Values'!$F19:$H19)) -> 0.051524 | H19: ='lncRNA Normalized Values'!H19-(AVERAGE('lncRNA Normalized Values'!$F19:$H19)) -> 0.0741647 | I19: ='lncRNA Normalized Values'!I19-(AVERAGE('lncRNA Normalized Values'!$F19:$H19)) -> 0.566289 | J19: ='lncRNA Normalized Values'!J19-(AVERAGE('lncRNA Normalized Values'!$F19:$H19)) -> 0.3500746 | K19: ='lncRNA Normalized Values'!K19-(AVERAGE('lncRNA Normalized Values'!$F19:$H19)) -> 0.5635837 | L19: ='lncRNA Normalized Values'!L19-(AVERAGE('lncRNA Normalized Values'!$F19:$H19)) -> -1.0448166 | M19: ='lncRNA Normalized Values'!M19-(AVERAGE('lncRNA Normalized Values'!$F19:$H19)) -> -0.725728 | ... Q19: ='lncRNA Normalized Values'!Q19-(AVERAGE('lncRNA Normalized Values'!$F19:$H19)) -> -0.083655
C20: BMP2K | D20: CATG00000069061.1 | F20: ='lncRNA Normalized Values'!F20-(AVERAGE('lncRNA Normalized Values'!$F20:$H20)) -> 0.091067533 | G20: ='lncRNA Normalized Values'!G20-(AVERAGE('lncRNA Normalized Values'!$F20:$H20)) -> -0.044266167 | H20: ='lncRNA Normalized Values'!H20-(AVERAGE('lncRNA Normalized Values'!$F20:$H20)) -> -0.046801367 | I20: ='lncRNA Normalized Values'!I20-(AVERAGE('lncRNA Normalized Values'!$F20:$H20)) -> 0.33170783 | J20: ='lncRNA Normalized Values'!J20-(AVERAGE('lncRNA Normalized Values'!$F20:$H20)) -> -0.59096387 | K20: ='lncRNA Normalized Values'!K20-(AVERAGE('lncRNA Normalized Values'!$F20:$H20)) -> -0.60152177 | L20: ='lncRNA Normalized Values'!L20-(AVERAGE('lncRNA Normalized Values'!$F20:$H20)) -> 1.9998424 | M20: ='lncRNA Normalized Values'!M20-(AVERAGE('lncRNA Normalized Values'!$F20:$H20)) -> 1.2157548 | ... Q20: ='lncRNA Normalized Values'!Q20-(AVERAGE('lncRNA Normalized Values'!$F20:$H20)) -> 1.1816384
C21: CAPN10 | D21: CAPN10-AS1 | F21: ='lncRNA Normalized Values'!F21-(AVERAGE('lncRNA Normalized Values'!$F21:$H21)) -> 0.090993667 | G21: ='lncRNA Normalized Values'!G21-(AVERAGE('lncRNA Normalized Values'!$F21:$H21)) -> 0.076613667 | H21: ='lncRNA Normalized Values'!H21-(AVERAGE('lncRNA Normalized Values'!$F21:$H21)) -> -0.16760733 | I21: ='lncRNA Normalized Values'!I21-(AVERAGE('lncRNA Normalized Values'!$F21:$H21)) -> 0.44929567 | J21: ='lncRNA Normalized Values'!J21-(AVERAGE('lncRNA Normalized Values'!$F21:$H21)) -> 1.1577847 | K21: ='lncRNA Normalized Values'!K21-(AVERAGE('lncRNA Normalized Values'!$F21:$H21)) -> 0.86716867 | L21: ='lncRNA Normalized Values'!L21-(AVERAGE('lncRNA Normalized Values'!$F21:$H21)) -> 0.053315667 | M21: ='lncRNA Normalized Values'!M21-(AVERAGE('lncRNA Normalized Values'!$F21:$H21)) -> -0.30106533 | ... Q21: ='lncRNA Normalized Values'!Q21-(AVERAGE('lncRNA Normalized Values'!$F21:$H21)) -> -0.40403733
C22: COTL1 | D22: RP11-61F12.1 | E22: Reliable | F22: ='lncRNA Normalized Values'!F22-(AVERAGE('lncRNA Normalized Values'!$F22:$H22)) -> -0.42293 | G22: ='lncRNA Normalized Values'!G22-(AVERAGE('lncRNA Normalized Values'!$F22:$H22)) -> -0.097494 | H22: ='lncRNA Normalized Values'!H22-(AVERAGE('lncRNA Normalized Values'!$F22:$H22)) -> 0.520424 | I22: ='lncRNA Normalized Values'!I22-(AVERAGE('lncRNA Normalized Values'!$F22:$H22)) -> 0.166796 | J22: ='lncRNA Normalized Values'!J22-(AVERAGE('lncRNA Normalized Values'!$F22:$H22)) -> -0.373085 | K22: ='lncRNA Normalized Values'!K22-(AVERAGE('lncRNA Normalized Values'!$F22:$H22)) -> 0.052677 | L22: ='lncRNA Normalized Values'!L22-(AVERAGE('lncRNA Normalized Values'!$F22:$H22)) -> 3.056689 | M22: ='lncRNA Normalized Values'!M22-(AVERAGE('lncRNA Normalized Values'!$F22:$H22)) -> 2.7729755 | ... Q22: ='lncRNA Normalized Values'!Q22-(AVERAGE('lncRNA Normalized Values'!$F22:$H22)) -> 1.477915
C23: CTDSP1 | D23: RP11-378A13.2 | E23: Reliable | F23: ='lncRNA Normalized Values'!F23-(AVERAGE('lncRNA Normalized Values'!$F23:$H23)) -> 0.21171967 | G23: ='lncRNA Normalized Values'!G23-(AVERAGE('lncRNA Normalized Values'!$F23:$H23)) -> -0.13229733 | H23: ='lncRNA Normalized Values'!H23-(AVERAGE('lncRNA Normalized Values'!$F23:$H23)) -> -0.079422333 | I23: ='lncRNA Normalized Values'!I23-(AVERAGE('lncRNA Normalized Values'!$F23:$H23)) -> -0.21650443 | J23: ='lncRNA Normalized Values'!J23-(AVERAGE('lncRNA Normalized Values'!$F23:$H23)) -> 0.61646717 | K23: ='lncRNA Normalized Values'!K23-(AVERAGE('lncRNA Normalized Values'!$F23:$H23)) -> -0.26722823 | L23: ='lncRNA Normalized Values'!L23-(AVERAGE('lncRNA Normalized Values'!$F23:$H23)) -> -1.1965976 | M23: ='lncRNA Normalized Values'!M23-(AVERAGE('lncRNA Normalized Values'!$F23:$H23)) -> -1.202267 | ... Q23: ='lncRNA Normalized Values'!Q23-(AVERAGE('lncRNA Normalized Values'!$F23:$H23)) -> -1.1007774
C24: CTSD | D24: AC068580.7 | E24: Reliable | F24: ='lncRNA Normalized Values'!F24-(AVERAGE('lncRNA Normalized Values'!$F24:$H24)) -> 0.16771473 | G24: ='lncRNA Normalized Values'!G24-(AVERAGE('lncRNA Normalized Values'!$F24:$H24)) -> 0.33813303 | H24: ='lncRNA Normalized Values'!H24-(AVERAGE('lncRNA Normalized Values'!$F24:$H24)) -> -0.50584777 | I24: ='lncRNA Normalized Values'!I24-(AVERAGE('lncRNA Normalized Values'!$F24:$H24)) -> 0.78389043 | J24: ='lncRNA Normalized Values'!J24-(AVERAGE('lncRNA Normalized Values'!$F24:$H24)) -> 0.15491773 | K24: ='lncRNA Normalized Values'!K24-(AVERAGE('lncRNA Normalized Values'!$F24:$H24)) -> 0.55062373 | L24: ='lncRNA Normalized Values'!L24-(AVERAGE('lncRNA Normalized Values'!$F24:$H24)) -> 1.6160667 | M24: ='lncRNA Normalized Values'!M24-(AVERAGE('lncRNA Normalized Values'!$F24:$H24)) -> 1.8258977 | ... Q24: ='lncRNA Normalized Values'!Q24-(AVERAGE('lncRNA Normalized Values'!$F24:$H24)) -> 1.3882417
C25: DES | D25: AC053503.6 | E25: Reliable | F25: ='lncRNA Normalized Values'!F25-(AVERAGE('lncRNA Normalized Values'!$F25:$H25)) -> 0.041892333 | G25: ='lncRNA Normalized Values'!G25-(AVERAGE('lncRNA Normalized Values'!$F25:$H25)) -> 0.023694333 | H25: ='lncRNA Normalized Values'!H25-(AVERAGE('lncRNA Normalized Values'!$F25:$H25)) -> -0.065586667 | I25: ='lncRNA Normalized Values'!I25-(AVERAGE('lncRNA Normalized Values'!$F25:$H25)) -> -0.47111467 | J25: ='lncRNA Normalized Values'!J25-(AVERAGE('lncRNA Normalized Values'!$F25:$H25)) -> -0.096323667 | K25: ='lncRNA Normalized Values'!K25-(AVERAGE('lncRNA Normalized Values'!$F25:$H25)) -> -0.096323667 | L25: ='lncRNA Normalized Values'!L25-(AVERAGE('lncRNA Normalized Values'!$F25:$H25)) -> -1.4163737 | M25: ='lncRNA Normalized Values'!M25-(AVERAGE('lncRNA Normalized Values'!$F25:$H25)) -> -1.3049577 | ... Q25: ='lncRNA Normalized Values'!Q25-(AVERAGE('lncRNA Normalized Values'!$F25:$H25)) -> -1.1215987
C26: DLGAP1 | D26: DLGAP1-AS2 | F26: ='lncRNA Normalized Values'!F26-(AVERAGE('lncRNA Normalized Values'!$F26:$H26)) -> -0.021116 | G26: ='lncRNA Normalized Values'!G26-(AVERAGE('lncRNA Normalized Values'!$F26:$H26)) -> -0.069476 | H26: ='lncRNA Normalized Values'!H26-(AVERAGE('lncRNA Normalized Values'!$F26:$H26)) -> 0.090592 | I26: ='lncRNA Normalized Values'!I26-(AVERAGE('lncRNA Normalized Values'!$F26:$H26)) -> -0.244466 | J26: ='lncRNA Normalized Values'!J26-(AVERAGE('lncRNA Normalized Values'!$F26:$H26)) -> 0.372158 | K26: ='lncRNA Normalized Values'!K26-(AVERAGE('lncRNA Normalized Values'!$F26:$H26)) -> -0.151492 | L26: ='lncRNA Normalized Values'!L26-(AVERAGE('lncRNA Normalized Values'!$F26:$H26)) -> -1.124334 | M26: ='lncRNA Normalized Values'!M26-(AVERAGE('lncRNA Normalized Values'!$F26:$H26)) -> -1.156358 | ... Q26: ='lncRNA Normalized Values'!Q26-(AVERAGE('lncRNA Normalized Values'!$F26:$H26)) -> -1.718902
C27: EGFR | D27: EGFR-AS1 | F27: ='lncRNA Normalized Values'!F27-(AVERAGE('lncRNA Normalized Values'!$F27:$H27)) -> -0.027939333 | G27: ='lncRNA Normalized Values'!G27-(AVERAGE('lncRNA Normalized Values'!$F27:$H27)) -> -0.0011663333 | H27: ='lncRNA Normalized Values'!H27-(AVERAGE('lncRNA Normalized Values'!$F27:$H27)) -> 0.029105667 | I27: ='lncRNA Normalized Values'!I27-(AVERAGE('lncRNA Normalized Values'!$F27:$H27)) -> 0.60061717 | J27: ='lncRNA Normalized Values'!J27-(AVERAGE('lncRNA Normalized Values'!$F27:$H27)) -> 0.41213567 | K27: ='lncRNA Normalized Values'!K27-(AVERAGE('lncRNA Normalized Values'!$F27:$H27)) -> -0.0067108333 | L27: ='lncRNA Normalized Values'!L27-(AVERAGE('lncRNA Normalized Values'!$F27:$H27)) -> -1.3545465 | M27: ='lncRNA Normalized Values'!M27-(AVERAGE('lncRNA Normalized Values'!$F27:$H27)) -> -1.524383 | ... Q27: ='lncRNA Normalized Values'!Q27-(AVERAGE('lncRNA Normalized Values'!$F27:$H27)) -> -0.26436233
C28: ETNK2 | D28: RP11-74C13.4 | F28: ='lncRNA Normalized Values'!F28-(AVERAGE('lncRNA Normalized Values'!$F28:$H28)) -> 0.12951373 | G28: ='lncRNA Normalized Values'!G28-(AVERAGE('lncRNA Normalized Values'!$F28:$H28)) -> -0.090065467 | H28: ='lncRNA Normalized Values'!H28-(AVERAGE('lncRNA Normalized Values'!$F28:$H28)) -> -0.039448267 | I28: ='lncRNA Normalized Values'!I28-(AVERAGE('lncRNA Normalized Values'!$F28:$H28)) -> -0.34185937 | J28: ='lncRNA Normalized Values'!J28-(AVERAGE('lncRNA Normalized Values'!$F28:$H28)) -> -0.17802797 | K28: ='lncRNA Normalized Values'!K28-(AVERAGE('lncRNA Normalized Values'!$F28:$H28)) -> -0.0090939667 | L28: ='lncRNA Normalized Values'!L28-(AVERAGE('lncRNA Normalized Values'!$F28:$H28)) -> -1.165938 | M28: ='lncRNA Normalized Values'!M28-(AVERAGE('lncRNA Normalized Values'!$F28:$H28)) -> -1.413796 | ... Q28: ='lncRNA Normalized Values'!Q28-(AVERAGE('lncRNA Normalized Values'!$F28:$H28)) -> -0.79052997
C29: FAM213A | D29: RP11-137H2.6 | E29: Reliable | F29: ='lncRNA Normalized Values'!F29-(AVERAGE('lncRNA Normalized Values'!$F29:$H29)) -> -0.18207667 | G29: ='lncRNA Normalized Values'!G29-(AVERAGE('lncRNA Normalized Values'!$F29:$H29)) -> 0.12525033 | H29: ='lncRNA Normalized Values'!H29-(AVERAGE('lncRNA Normalized Values'!$F29:$H29)) -> 0.056826333 | I29: ='lncRNA Normalized Values'!I29-(AVERAGE('lncRNA Normalized Values'!$F29:$H29)) -> 0.093671333 | J29: ='lncRNA Normalized Values'!J29-(AVERAGE('lncRNA Normalized Values'!$F29:$H29)) -> 0.30339733 | K29: ='lncRNA Normalized Values'!K29-(AVERAGE('lncRNA Normalized Values'!$F29:$H29)) -> 0.21523983 | L29: ='lncRNA Normalized Values'!L29-(AVERAGE('lncRNA Normalized Values'!$F29:$H29)) -> -3.4712674 | M29: ='lncRNA Normalized Values'!M29-(AVERAGE('lncRNA Normalized Values'!$F29:$H29)) -> -3.2611033 | ... Q29: ='lncRNA Normalized Values'!Q29-(AVERAGE('lncRNA Normalized Values'!$F29:$H29)) -> -2.1901652
C30: FBXO32 | D30: RP11-174I12.2 | E30: Reliable | F30: ='lncRNA Normalized Values'!F30-(AVERAGE('lncRNA Normalized Values'!$F30:$H30)) -> -0.27513367 | G30: ='lncRNA Normalized Values'!G30-(AVERAGE('lncRNA Normalized Values'!$F30:$H30)) -> 0.016444333 | H30: ='lncRNA Normalized Values'!H30-(AVERAGE('lncRNA Normalized Values'!$F30:$H30)) -> 0.25868933 | I30: ='lncRNA Normalized Values'!I30-(AVERAGE('lncRNA Normalized Values'!$F30:$H30)) -> -0.10542597 | J30: ='lncRNA Normalized Values'!J30-(AVERAGE('lncRNA Normalized Values'!$F30:$H30)) -> -0.13326897 | K30: ='lncRNA Normalized Values'!K30-(AVERAGE('lncRNA Normalized Values'!$F30:$H30)) -> -0.21123907 | L30: ='lncRNA Normalized Values'!L30-(AVERAGE('lncRNA Normalized Values'!$F30:$H30)) -> 1.5735153 | M30: ='lncRNA Normalized Values'!M30-(AVERAGE('lncRNA Normalized Values'!$F30:$H30)) -> 1.3814043 | ... Q30: ='lncRNA Normalized Values'!Q30-(AVERAGE('lncRNA Normalized Values'!$F30:$H30)) -> 0.64098633
C31: FNBP1 | D31: RP11-409K20.6 | E31: Reliable | F31: ='lncRNA Normalized Values'!F31-(AVERAGE('lncRNA Normalized Values'!$F31:$H31)) -> 0.12309033 | G31: ='lncRNA Normalized Values'!G31-(AVERAGE('lncRNA Normalized Values'!$F31:$H31)) -> -0.084897667 | H31: ='lncRNA Normalized Values'!H31-(AVERAGE('lncRNA Normalized Values'!$F31:$H31)) -> -0.038192667 | I31: ='lncRNA Normalized Values'!I31-(AVERAGE('lncRNA Normalized Values'!$F31:$H31)) -> 0.18815133 | J31: ='lncRNA Normalized Values'!J31-(AVERAGE('lncRNA Normalized Values'!$F31:$H31)) -> -0.34445467 | K31: ='lncRNA Normalized Values'!K31-(AVERAGE('lncRNA Normalized Values'!$F31:$H31)) -> 0.61427533 | L31: ='lncRNA Normalized Values'!L31-(AVERAGE('lncRNA Normalized Values'!$F31:$H31)) -> 1.7860043 | M31: ='lncRNA Normalized Values'!M31-(AVERAGE('lncRNA Normalized Values'!$F31:$H31)) -> 1.3884233 | ... Q31: ='lncRNA Normalized Values'!Q31-(AVERAGE('lncRNA Normalized Values'!$F31:$H31)) -> 0.72892933
C32: GNA15 | D32: AC005264.2 | F32: ='lncRNA Normalized Values'!F32-(AVERAGE('lncRNA Normalized Values'!$F32:$H32)) -> -0.093138 | G32: ='lncRNA Normalized Values'!G32-(AVERAGE('lncRNA Normalized Values'!$F32:$H32)) -> 0.014484 | H32: ='lncRNA Normalized Values'!H32-(AVERAGE('lncRNA Normalized Values'!$F32:$H32)) -> 0.078654 | I32: ='lncRNA Normalized Values'!I32-(AVERAGE('lncRNA Normalized Values'!$F32:$H32)) -> -0.305571 | J32: ='lncRNA Normalized Values'!J32-(AVERAGE('lncRNA Normalized Values'!$F32:$H32)) -> -0.067961 | K32: ='lncRNA Normalized Values'!K32-(AVERAGE('lncRNA Normalized Values'!$F32:$H32)) -> -0.361011 | L32: ='lncRNA Normalized Values'!L32-(AVERAGE('lncRNA Normalized Values'!$F32:$H32)) -> -1.539508 | M32: ='lncRNA Normalized Values'!M32-(AVERAGE('lncRNA Normalized Values'!$F32:$H32)) -> -1.497717 | ... Q32: ='lncRNA Normalized Values'!Q32-(AVERAGE('lncRNA Normalized Values'!$F32:$H32)) -> -1.146202
C33: HOXA11 | D33: RP1-170O19.14 | E33: Reliable | F33: ='lncRNA Normalized Values'!F33-(AVERAGE('lncRNA Normalized Values'!$F33:$H33)) -> 0.037023667 | G33: ='lncRNA Normalized Values'!G33-(AVERAGE('lncRNA Normalized Values'!$F33:$H33)) -> 0.00047866667 | H33: ='lncRNA Normalized Values'!H33-(AVERAGE('lncRNA Normalized Values'!$F33:$H33)) -> -0.037502333 | I33: ='lncRNA Normalized Values'!I33-(AVERAGE('lncRNA Normalized Values'!$F33:$H33)) -> 0.29270767 | J33: ='lncRNA Normalized Values'!J33-(AVERAGE('lncRNA Normalized Values'!$F33:$H33)) -> -0.20360033 | K33: ='lncRNA Normalized Values'!K33-(AVERAGE('lncRNA Normalized Values'!$F33:$H33)) -> 0.088422667 | L33: ='lncRNA Normalized Values'!L33-(AVERAGE('lncRNA Normalized Values'!$F33:$H33)) -> 1.3018977 | M33: ='lncRNA Normalized Values'!M33-(AVERAGE('lncRNA Normalized Values'!$F33:$H33)) -> 1.3149197 | ... Q33: ='lncRNA Normalized Values'!Q33-(AVERAGE('lncRNA Normalized Values'!$F33:$H33)) -> 0.80260667
C34: HOXA11 | D34: HOXA11-AS | F34: ='lncRNA Normalized Values'!F34-(AVERAGE('lncRNA Normalized Values'!$F34:$H34)) -> 0.0005107 | G34: ='lncRNA Normalized Values'!G34-(AVERAGE('lncRNA Normalized Values'!$F34:$H34)) -> 0.037318 | H34: ='lncRNA Normalized Values'!H34-(AVERAGE('lncRNA Normalized Values'!$F34:$H34)) -> -0.0378287 | I34: ='lncRNA Normalized Values'!I34-(AVERAGE('lncRNA Normalized Values'!$F34:$H34)) -> -0.4532826 | J34: ='lncRNA Normalized Values'!J34-(AVERAGE('lncRNA Normalized Values'!$F34:$H34)) -> -1.1599553 | K34: ='lncRNA Normalized Values'!K34-(AVERAGE('lncRNA Normalized Values'!$F34:$H34)) -> -0.5632169 | L34: ='lncRNA Normalized Values'!L34-(AVERAGE('lncRNA Normalized Values'!$F34:$H34)) -> 0.977763 | M34: ='lncRNA Normalized Values'!M34-(AVERAGE('lncRNA Normalized Values'!$F34:$H34)) -> 0.8566787 | ... Q34: ='lncRNA Normalized Values'!Q34-(AVERAGE('lncRNA Normalized Values'!$F34:$H34)) -> 1.8916033
C35: KBTBD11 | D35: KBTBD11-OT1 | F35: ='lncRNA Normalized Values'!F35-(AVERAGE('lncRNA Normalized Values'!$F35:$H35)) -> -0.433646 | G35: ='lncRNA Normalized Values'!G35-(AVERAGE('lncRNA Normalized Values'!$F35:$H35)) -> 0.051375 | H35: ='lncRNA Normalized Values'!H35-(AVERAGE('lncRNA Normalized Values'!$F35:$H35)) -> 0.382271 | I35: ='lncRNA Normalized Values'!I35-(AVERAGE('lncRNA Normalized Values'!$F35:$H35)) -> -0.0704545 | J35: ='lncRNA Normalized Values'!J35-(AVERAGE('lncRNA Normalized Values'!$F35:$H35)) -> -0.359496 | K35: ='lncRNA Normalized Values'!K35-(AVERAGE('lncRNA Normalized Values'!$F35:$H35)) -> 0.017442 | L35: ='lncRNA Normalized Values'!L35-(AVERAGE('lncRNA Normalized Values'!$F35:$H35)) -> 2.036789 | M35: ='lncRNA Normalized Values'!M35-(AVERAGE('lncRNA Normalized Values'!$F35:$H35)) -> 0.74961 | ... Q35: ='lncRNA Normalized Values'!Q35-(AVERAGE('lncRNA Normalized Values'!$F35:$H35)) -> 0.4309383
C36: KCTD5 | D36: CTD-3126B10.4 | E36: Reliable | F36: ='lncRNA Normalized Values'!F36-(AVERAGE('lncRNA Normalized Values'!$F36:$H36)) -> -0.051464333 | G36: ='lncRNA Normalized Values'!G36-(AVERAGE('lncRNA Normalized Values'!$F36:$H36)) -> 0.028779667 | H36: ='lncRNA Normalized Values'!H36-(AVERAGE('lncRNA Normalized Values'!$F36:$H36)) -> 0.022684667 | I36: ='lncRNA Normalized Values'!I36-(AVERAGE('lncRNA Normalized Values'!$F36:$H36)) -> -0.46543233 | J36: ='lncRNA Normalized Values'!J36-(AVERAGE('lncRNA Normalized Values'!$F36:$H36)) -> 0.022684667 | K36: ='lncRNA Normalized Values'!K36-(AVERAGE('lncRNA Normalized Values'!$F36:$H36)) -> -0.25631833 | L36: ='lncRNA Normalized Values'!L36-(AVERAGE('lncRNA Normalized Values'!$F36:$H36)) -> -1.4474693 | M36: ='lncRNA Normalized Values'!M36-(AVERAGE('lncRNA Normalized Values'!$F36:$H36)) -> -1.3175443 | ... Q36: ='lncRNA Normalized Values'!Q36-(AVERAGE('lncRNA Normalized Values'!$F36:$H36)) -> -0.91510533
C37: KLF7 | D37: AC007879.6 | E37: Gold | F37: ='lncRNA Normalized Values'!F37-(AVERAGE('lncRNA Normalized Values'!$F37:$H37)) -> 0.22645513 | G37: ='lncRNA Normalized Values'!G37-(AVERAGE('lncRNA Normalized Values'!$F37:$H37)) -> -0.19880827 | H37: ='lncRNA Normalized Values'!H37-(AVERAGE('lncRNA Normalized Values'!$F37:$H37)) -> -0.027646867 | I37: ='lncRNA Normalized Values'!I37-(AVERAGE('lncRNA Normalized Values'!$F37:$H37)) -> 0.36480513 | J37: ='lncRNA Normalized Values'!J37-(AVERAGE('lncRNA Normalized Values'!$F37:$H37)) -> 0.62015343 | K37: ='lncRNA Normalized Values'!K37-(AVERAGE('lncRNA Normalized Values'!$F37:$H37)) -> 0.63613843 | L37: ='lncRNA Normalized Values'!L37-(AVERAGE('lncRNA Normalized Values'!$F37:$H37)) -> -2.1782077 | M37: ='lncRNA Normalized Values'!M37-(AVERAGE('lncRNA Normalized Values'!$F37:$H37)) -> -2.1492409 | ... Q37: ='lncRNA Normalized Values'!Q37-(AVERAGE('lncRNA Normalized Values'!$F37:$H37)) -> -2.7366095
C38: LASP1 | D38: RP1-56K13.2 | E38: Reliable | F38: ='lncRNA Normalized Values'!F38-(AVERAGE('lncRNA Normalized Values'!$F38:$H38)) -> 0.015280167 | G38: ='lncRNA Normalized Values'!G38-(AVERAGE('lncRNA Normalized Values'!$F38:$H38)) -> -0.010159333 | H38: ='lncRNA Normalized Values'!H38-(AVERAGE('lncRNA Normalized Values'!$F38:$H38)) -> -0.0051208333 | I38: ='lncRNA Normalized Values'!I38-(AVERAGE('lncRNA Normalized Values'!$F38:$H38)) -> -0.075448333 | J38: ='lncRNA Normalized Values'!J38-(AVERAGE('lncRNA Normalized Values'!$F38:$H38)) -> -0.092567033 | K38: ='lncRNA Normalized Values'!K38-(AVERAGE('lncRNA Normalized Values'!$F38:$H38)) -> 0.16244367 | L38: ='lncRNA Normalized Values'!L38-(AVERAGE('lncRNA Normalized Values'!$F38:$H38)) -> 1.7909277 | M38: ='lncRNA Normalized Values'!M38-(AVERAGE('lncRNA Normalized Values'!$F38:$H38)) -> 1.7263957 | ... Q38: ='lncRNA Normalized Values'!Q38-(AVERAGE('lncRNA Normalized Values'!$F38:$H38)) -> 1.0033267
C39: LIF | D39: RP1-102K2.8 | F39: ='lncRNA Normalized Values'!F39-(AVERAGE('lncRNA Normalized Values'!$F39:$H39)) -> 0.1797396 | G39: ='lncRNA Normalized Values'!G39-(AVERAGE('lncRNA Normalized Values'!$F39:$H39)) -> -0.218834 | H39: ='lncRNA Normalized Values'!H39-(AVERAGE('lncRNA Normalized Values'!$F39:$H39)) -> 0.0390944 | I39: ='lncRNA Normalized Values'!I39-(AVERAGE('lncRNA Normalized Values'!$F39:$H39)) -> 0.2526449 | J39: ='lncRNA Normalized Values'!J39-(AVERAGE('lncRNA Normalized Values'!$F39:$H39)) -> 0.208486 | K39: ='lncRNA Normalized Values'!K39-(AVERAGE('lncRNA Normalized Values'!$F39:$H39)) -> -0.1480114 | L39: ='lncRNA Normalized Values'!L39-(AVERAGE('lncRNA Normalized Values'!$F39:$H39)) -> 1.6224069 | M39: ='lncRNA Normalized Values'!M39-(AVERAGE('lncRNA Normalized Values'!$F39:$H39)) -> 1.281722 | ... Q39: ='lncRNA Normalized Values'!Q39-(AVERAGE('lncRNA Normalized Values'!$F39:$H39)) -> 0.73529
B40: 2405 | C40: LIF | D40: CATG00000058427.1 | F40: ='lncRNA Normalized Values'!F40-(AVERAGE('lncRNA Normalized Values'!$F40:$H40)) -> 0.097949333 | G40: ='lncRNA Normalized Values'!G40-(AVERAGE('lncRNA Normalized Values'!$F40:$H40)) -> -0.11478667 | H40: ='lncRNA Normalized Values'!H40-(AVERAGE('lncRNA Normalized Values'!$F40:$H40)) -> 0.016837333 | I40: ='lncRNA Normalized Values'!I40-(AVERAGE('lncRNA Normalized Values'!$F40:$H40)) -> -0.28253567 | J40: ='lncRNA Normalized Values'!J40-(AVERAGE('lncRNA Normalized Values'!$F40:$H40)) -> 0.27424833 | K40: ='lncRNA Normalized Values'!K40-(AVERAGE('lncRNA Normalized Values'!$F40:$H40)) -> 0.10575533 | L40: ='lncRNA Normalized Values'!L40-(AVERAGE('lncRNA Normalized Values'!$F40:$H40)) -> -1.3648057 | M40: ='lncRNA Normalized Values'!M40-(AVERAGE('lncRNA Normalized Values'!$F40:$H40)) -> -1.2580547 | ... Q40: ='lncRNA Normalized Values'!Q40-(AVERAGE('lncRNA Normalized Values'!$F40:$H40)) -> -0.73864767
C41: LIPA | D41: RP11-149I23.3 | E41: Gold | F41: ='lncRNA Normalized Values'!F41-(AVERAGE('lncRNA Normalized Values'!$F41:$H41)) -> 0.1130665 | G41: ='lncRNA Normalized Values'!G41-(AVERAGE('lncRNA Normalized Values'!$F41:$H41)) -> -0.020423 | H41: ='lncRNA Normalized Values'!H41-(AVERAGE('lncRNA Normalized Values'!$F41:$H41)) -> -0.0926435 | I41: ='lncRNA Normalized Values'!I41-(AVERAGE('lncRNA Normalized Values'!$F41:$H41)) -> 0.7368068 | J41: ='lncRNA Normalized Values'!J41-(AVERAGE('lncRNA Normalized Values'!$F41:$H41)) -> 0.9537839 | K41: ='lncRNA Normalized Values'!K41-(AVERAGE('lncRNA Normalized Values'!$F41:$H41)) -> 0.8339862 | L41: ='lncRNA Normalized Values'!L41-(AVERAGE('lncRNA Normalized Values'!$F41:$H41)) -> -1.3299881 | M41: ='lncRNA Normalized Values'!M41-(AVERAGE('lncRNA Normalized Values'!$F41:$H41)) -> -1.1686178 | ... Q41: ='lncRNA Normalized Values'!Q41-(AVERAGE('lncRNA Normalized Values'!$F41:$H41)) -> 0.0488938
C42: MFSD1 | D42: RP11-379F4.4 | F42: ='lncRNA Normalized Values'!F42-(AVERAGE('lncRNA Normalized Values'!$F42:$H42)) -> 0.24109683 | G42: ='lncRNA Normalized Values'!G42-(AVERAGE('lncRNA Normalized Values'!$F42:$H42)) -> -0.12171617 | H42: ='lncRNA Normalized Values'!H42-(AVERAGE('lncRNA Normalized Values'!$F42:$H42)) -> -0.11938067 | I42: ='lncRNA Normalized Values'!I42-(AVERAGE('lncRNA Normalized Values'!$F42:$H42)) -> -0.11092637 | J42: ='lncRNA Normalized Values'!J42-(AVERAGE('lncRNA Normalized Values'!$F42:$H42)) -> -0.046270067 | K42: ='lncRNA Normalized Values'!K42-(AVERAGE('lncRNA Normalized Values'!$F42:$H42)) -> -0.10257237 | L42: ='lncRNA Normalized Values'!L42-(AVERAGE('lncRNA Normalized Values'!$F42:$H42)) -> 2.8672321 | M42: ='lncRNA Normalized Values'!M42-(AVERAGE('lncRNA Normalized Values'!$F42:$H42)) -> 1.4619921 | ... Q42: ='lncRNA Normalized Values'!Q42-(AVERAGE('lncRNA Normalized Values'!$F42:$H42)) -> 2.0300101
C43: MMP25 | D43: RP11-473M20.7 | F43: ='lncRNA Normalized Values'!F43-(AVERAGE('lncRNA Normalized Values'!$F43:$H43)) -> -0.097252333 | G43: ='lncRNA Normalized Values'!G43-(AVERAGE('lncRNA Normalized Values'!$F43:$H43)) -> -0.031797333 | H43: ='lncRNA Normalized Values'!H43-(AVERAGE('lncRNA Normalized Values'!$F43:$H43)) -> 0.12904967 | I43: ='lncRNA Normalized Values'!I43-(AVERAGE('lncRNA Normalized Values'!$F43:$H43)) -> 0.31508767 | J43: ='lncRNA Normalized Values'!J43-(AVERAGE('lncRNA Normalized Values'!$F43:$H43)) -> -0.37903233 | K43: ='lncRNA Normalized Values'!K43-(AVERAGE('lncRNA Normalized Values'!$F43:$H43)) -> -0.098701333 | L43: ='lncRNA Normalized Values'!L43-(AVERAGE('lncRNA Normalized Values'!$F43:$H43)) -> 1.9392727 | M43: ='lncRNA Normalized Values'!M43-(AVERAGE('lncRNA Normalized Values'!$F43:$H43)) -> 1.6703317 | ... Q43: ='lncRNA Normalized Values'!Q43-(AVERAGE('lncRNA Normalized Values'!$F43:$H43)) -> 0.92579367
C44: MPHOSPH6 | D44: CATG00000028064.1 | F44: ='lncRNA Normalized Values'!F44-(AVERAGE('lncRNA Normalized Values'!$F44:$H44)) -> -0.16776963 | G44: ='lncRNA Normalized Values'!G44-(AVERAGE('lncRNA Normalized Values'!$F44:$H44)) -> 0.20007787 | H44: ='lncRNA Normalized Values'!H44-(AVERAGE('lncRNA Normalized Values'!$F44:$H44)) -> -0.032308233 | I44: ='lncRNA Normalized Values'!I44-(AVERAGE('lncRNA Normalized Values'!$F44:$H44)) -> 0.67800437 | J44: ='lncRNA Normalized Values'!J44-(AVERAGE('lncRNA Normalized Values'!$F44:$H44)) -> -0.49218183 | K44: ='lncRNA Normalized Values'!K44-(AVERAGE('lncRNA Normalized Values'!$F44:$H44)) -> 0.55183977 | L44: ='lncRNA Normalized Values'!L44-(AVERAGE('lncRNA Normalized Values'!$F44:$H44)) -> -2.0203186 | M44: ='lncRNA Normalized Values'!M44-(AVERAGE('lncRNA Normalized Values'!$F44:$H44)) -> -2.1838006 | ... Q44: ='lncRNA Normalized Values'!Q44-(AVERAGE('lncRNA Normalized Values'!$F44:$H44)) -> -1.111106
C45: MYH3 | D45: CTC-297N7.7 | F45: ='lncRNA Normalized Values'!F45-(AVERAGE('lncRNA Normalized Values'!$F45:$H45)) -> -0.095281333 | G45: ='lncRNA Normalized Values'!G45-(AVERAGE('lncRNA Normalized Values'!$F45:$H45)) -> 0.057199667 | H45: ='lncRNA Normalized Values'!H45-(AVERAGE('lncRNA Normalized Values'!$F45:$H45)) -> 0.038081667 | I45: ='lncRNA Normalized Values'!I45-(AVERAGE('lncRNA Normalized Values'!$F45:$H45)) -> -0.38167233 | J45: ='lncRNA Normalized Values'!J45-(AVERAGE('lncRNA Normalized Values'!$F45:$H45)) -> -0.10215583 | K45: ='lncRNA Normalized Values'!K45-(AVERAGE('lncRNA Normalized Values'!$F45:$H45)) -> -0.44602433 | L45: ='lncRNA Normalized Values'!L45-(AVERAGE('lncRNA Normalized Values'!$F45:$H45)) -> -1.5691233 | M45: ='lncRNA Normalized Values'!M45-(AVERAGE('lncRNA Normalized Values'!$F45:$H45)) -> -1.4871733 | ... Q45: ='lncRNA Normalized Values'!Q45-(AVERAGE('lncRNA Normalized Values'!$F45:$H45)) -> -1.1303863
C46: NFAM1 | D46: CTA-126B4.7 | E46: Gold | F46: ='lncRNA Normalized Values'!F46-(AVERAGE('lncRNA Normalized Values'!$F46:$H46)) -> 0.080606667 | G46: ='lncRNA Normalized Values'!G46-(AVERAGE('lncRNA Normalized Values'!$F46:$H46)) -> 0.019960667 | H46: ='lncRNA Normalized Values'!H46-(AVERAGE('lncRNA Normalized Values'!$F46:$H46)) -> -0.10056733 | I46: ='lncRNA Normalized Values'!I46-(AVERAGE('lncRNA Normalized Values'!$F46:$H46)) -> 0.13720767 | J46: ='lncRNA Normalized Values'!J46-(AVERAGE('lncRNA Normalized Values'!$F46:$H46)) -> -0.71681633 | K46: ='lncRNA Normalized Values'!K46-(AVERAGE('lncRNA Normalized Values'!$F46:$H46)) -> -0.42894033 | L46: ='lncRNA Normalized Values'!L46-(AVERAGE('lncRNA Normalized Values'!$F46:$H46)) -> 0.89451967 | M46: ='lncRNA Normalized Values'!M46-(AVERAGE('lncRNA Normalized Values'!$F46:$H46)) -> 0.94177367 | ... Q46: ='lncRNA Normalized Values'!Q46-(AVERAGE('lncRNA Normalized Values'!$F46:$H46)) -> 0.75579967
B47: 1142 | C47: NFAM1 | D47: Z83851.1 | F47: ='lncRNA Normalized Values'!F47-(AVERAGE('lncRNA Normalized Values'!$F47:$H47)) -> 0.30122303 | G47: ='lncRNA Normalized Values'!G47-(AVERAGE('lncRNA Normalized Values'!$F47:$H47)) -> -0.085964567 | H47: ='lncRNA Normalized Values'!H47-(AVERAGE('lncRNA Normalized Values'!$F47:$H47)) -> -0.21525847 | I47: ='lncRNA Normalized Values'!I47-(AVERAGE('lncRNA Normalized Values'!$F47:$H47)) -> -0.63716547 | J47: ='lncRNA Normalized Values'!J47-(AVERAGE('lncRNA Normalized Values'!$F47:$H47)) -> -0.37317647 | K47: ='lncRNA Normalized Values'!K47-(AVERAGE('lncRNA Normalized Values'!$F47:$H47)) -> -0.24494497 | L47: ='lncRNA Normalized Values'!L47-(AVERAGE('lncRNA Normalized Values'!$F47:$H47)) -> 1.4223944 | M47: ='lncRNA Normalized Values'!M47-(AVERAGE('lncRNA Normalized Values'!$F47:$H47)) -> 1.0972997 | ... Q47: ='lncRNA Normalized Values'!Q47-(AVERAGE('lncRNA Normalized Values'!$F47:$H47)) -> 1.856171
C48: OGFRL1 | D48: LINC00472 | F48: ='lncRNA Normalized Values'!F48-(AVERAGE('lncRNA Normalized Values'!$F48:$H48)) -> -0.015516 | G48: ='lncRNA Normalized Values'!G48-(AVERAGE('lncRNA Normalized Values'!$F48:$H48)) -> -0.140122 | H48: ='lncRNA Normalized Values'!H48-(AVERAGE('lncRNA Normalized Values'!$F48:$H48)) -> 0.155638 | I48: ='lncRNA Normalized Values'!I48-(AVERAGE('lncRNA Normalized Values'!$F48:$H48)) -> 0.350512 | J48: ='lncRNA Normalized Values'!J48-(AVERAGE('lncRNA Normalized Values'!$F48:$H48)) -> -0.14805 | K48: ='lncRNA Normalized Values'!K48-(AVERAGE('lncRNA Normalized Values'!$F48:$H48)) -> 0.2702 | L48: ='lncRNA Normalized Values'!L48-(AVERAGE('lncRNA Normalized Values'!$F48:$H48)) -> 1.27535 | M48: ='lncRNA Normalized Values'!M48-(AVERAGE('lncRNA Normalized Values'!$F48:$H48)) -> 1.207149 | ... Q48: ='lncRNA Normalized Values'!Q48-(AVERAGE('lncRNA Normalized Values'!$F48:$H48)) -> 0.602252
C49: PMEPA1 | D49: AK056098 | F49: ='lncRNA Normalized Values'!F49-(AVERAGE('lncRNA Normalized Values'!$F49:$H49)) -> 0.058007333 | G49: ='lncRNA Normalized Values'!G49-(AVERAGE('lncRNA Normalized Values'!$F49:$H49)) -> 0.055973833 | H49: ='lncRNA Normalized Values'!H49-(AVERAGE('lncRNA Normalized Values'!$F49:$H49)) -> -0.11398117 | I49: ='lncRNA Normalized Values'!I49-(AVERAGE('lncRNA Normalized Values'!$F49:$H49)) -> 0.84309383 | J49: ='lncRNA Normalized Values'!J49-(AVERAGE('lncRNA Normalized Values'!$F49:$H49)) -> 1.7115208 | K49: ='lncRNA Normalized Values'!K49-(AVERAGE('lncRNA Normalized Values'!$F49:$H49)) -> 1.2160945 | L49: ='lncRNA Normalized Values'!L49-(AVERAGE('lncRNA Normalized Values'!$F49:$H49)) -> -1.6381452 | M49: ='lncRNA Normalized Values'!M49-(AVERAGE('lncRNA Normalized Values'!$F49:$H49)) -> -1.3710393 | ... Q49: ='lncRNA Normalized Values'!Q49-(AVERAGE('lncRNA Normalized Values'!$F49:$H49)) -> 1.6924698
C50: PMEPA1 | D50: NKILA | E50: Gold | F50: ='lncRNA Normalized Values'!F50-(AVERAGE('lncRNA Normalized Values'!$F50:$H50)) -> -0.048160733 | G50: ='lncRNA Normalized Values'!G50-(AVERAGE('lncRNA Normalized Values'!$F50:$H50)) -> -0.13959663 | H50: ='lncRNA Normalized Values'!H50-(AVERAGE('lncRNA Normalized Values'!$F50:$H50)) -> 0.18775737 | I50: ='lncRNA Normalized Values'!I50-(AVERAGE('lncRNA Normalized Values'!$F50:$H50)) -> 1.1942218 | J50: ='lncRNA Normalized Values'!J50-(AVERAGE('lncRNA Normalized Values'!$F50:$H50)) -> 0.70103977 | K50: ='lncRNA Normalized Values'!K50-(AVERAGE('lncRNA Normalized Values'!$F50:$H50)) -> 0.76670347 | L50: ='lncRNA Normalized Values'!L50-(AVERAGE('lncRNA Normalized Values'!$F50:$H50)) -> -1.735185 | M50: ='lncRNA Normalized Values'!M50-(AVERAGE('lncRNA Normalized Values'!$F50:$H50)) -> -1.5454546 | ... Q50: ='lncRNA Normalized Values'!Q50-(AVERAGE('lncRNA Normalized Values'!$F50:$H50)) -> 2.0674614
C51: PXDC1 | D51: RP11-420L9.5 | E51: Reliable | F51: ='lncRNA Normalized Values'!F51-(AVERAGE('lncRNA Normalized Values'!$F51:$H51)) -> -0.0006129 | G51: ='lncRNA Normalized Values'!G51-(AVERAGE('lncRNA Normalized Values'!$F51:$H51)) -> -0.0432164 | H51: ='lncRNA Normalized Values'!H51-(AVERAGE('lncRNA Normalized Values'!$F51:$H51)) -> 0.0438293 | I51: ='lncRNA Normalized Values'!I51-(AVERAGE('lncRNA Normalized Values'!$F51:$H51)) -> 1.0278081 | J51: ='lncRNA Normalized Values'!J51-(AVERAGE('lncRNA Normalized Values'!$F51:$H51)) -> 0.9941953 | K51: ='lncRNA Normalized Values'!K51-(AVERAGE('lncRNA Normalized Values'!$F51:$H51)) -> 0.9941953 | L51: ='lncRNA Normalized Values'!L51-(AVERAGE('lncRNA Normalized Values'!$F51:$H51)) -> -0.7499429 | M51: ='lncRNA Normalized Values'!M51-(AVERAGE('lncRNA Normalized Values'!$F51:$H51)) -> -0.642542 | ... Q51: ='lncRNA Normalized Values'!Q51-(AVERAGE('lncRNA Normalized Values'!$F51:$H51)) -> 0.123402
C52: RAB3A | D52: AC068499.10 | F52: ='lncRNA Normalized Values'!F52-(AVERAGE('lncRNA Normalized Values'!$F52:$H52)) -> 0.019478 | G52: ='lncRNA Normalized Values'!G52-(AVERAGE('lncRNA Normalized Values'!$F52:$H52)) -> -0.004216 | H52: ='lncRNA Normalized Values'!H52-(AVERAGE('lncRNA Normalized Values'!$F52:$H52)) -> -0.015262 | I52: ='lncRNA Normalized Values'!I52-(AVERAGE('lncRNA Normalized Values'!$F52:$H52)) -> 0.24732 | J52: ='lncRNA Normalized Values'!J52-(AVERAGE('lncRNA Normalized Values'!$F52:$H52)) -> -0.441617 | K52: ='lncRNA Normalized Values'!K52-(AVERAGE('lncRNA Normalized Values'!$F52:$H52)) -> 0.069446 | L52: ='lncRNA Normalized Values'!L52-(AVERAGE('lncRNA Normalized Values'!$F52:$H52)) -> 1.108985 | M52: ='lncRNA Normalized Values'!M52-(AVERAGE('lncRNA Normalized Values'!$F52:$H52)) -> 1.108985 | ... Q52: ='lncRNA Normalized Values'!Q52-(AVERAGE('lncRNA Normalized Values'!$F52:$H52)) -> 0.72894
C53: RAI14 | D53: CTD-2024P10.1 | E53: Gold | F53: ='lncRNA Normalized Values'!F53-(AVERAGE('lncRNA Normalized Values'!$F53:$H53)) -> 0.148148 | G53: ='lncRNA Normalized Values'!G53-(AVERAGE('lncRNA Normalized Values'!$F53:$H53)) -> -0.081371 | H53: ='lncRNA Normalized Values'!H53-(AVERAGE('lncRNA Normalized Values'!$F53:$H53)) -> -0.066777 | I53: ='lncRNA Normalized Values'!I53-(AVERAGE('lncRNA Normalized Values'!$F53:$H53)) -> 0.22446 | J53: ='lncRNA Normalized Values'!J53-(AVERAGE('lncRNA Normalized Values'!$F53:$H53)) -> -0.024964 | K53: ='lncRNA Normalized Values'!K53-(AVERAGE('lncRNA Normalized Values'!$F53:$H53)) -> 0.180906 | L53: ='lncRNA Normalized Values'!L53-(AVERAGE('lncRNA Normalized Values'!$F53:$H53)) -> 1.415919 | M53: ='lncRNA Normalized Values'!M53-(AVERAGE('lncRNA Normalized Values'!$F53:$H53)) -> 1.362307 | ... Q53: ='lncRNA Normalized Values'!Q53-(AVERAGE('lncRNA Normalized Values'!$F53:$H53)) -> 0.768957
C54: S100A4 | D54: LOC101928034 | E54: Gold | F54: ='lncRNA Normalized Values'!F54-(AVERAGE('lncRNA Normalized Values'!$F54:$H54)) -> -0.90049063 | G54: ='lncRNA Normalized Values'!G54-(AVERAGE('lncRNA Normalized Values'!$F54:$H54)) -> 0.76899287 | H54: ='lncRNA Normalized Values'!H54-(AVERAGE('lncRNA Normalized Values'!$F54:$H54)) -> 0.13149777 | I54: ='lncRNA Normalized Values'!I54-(AVERAGE('lncRNA Normalized Values'!$F54:$H54)) -> 0.25198067 | J54: ='lncRNA Normalized Values'!J54-(AVERAGE('lncRNA Normalized Values'!$F54:$H54)) -> 0.60842797 | K54: ='lncRNA Normalized Values'!K54-(AVERAGE('lncRNA Normalized Values'!$F54:$H54)) -> 0.35338337 | L54: ='lncRNA Normalized Values'!L54-(AVERAGE('lncRNA Normalized Values'!$F54:$H54)) -> -0.73606923 | M54: ='lncRNA Normalized Values'!M54-(AVERAGE('lncRNA Normalized Values'!$F54:$H54)) -> -0.80945113 | ... Q54: ='lncRNA Normalized Values'!Q54-(AVERAGE('lncRNA Normalized Values'!$F54:$H54)) -> -0.84124333
C55: SLC4A3 | D55: RP11-256I23.3 | E55: Reliable | F55: ='lncRNA Normalized Values'!F55-(AVERAGE('lncRNA Normalized Values'!$F55:$H55)) -> -0.20188007 | G55: ='lncRNA Normalized Values'!G55-(AVERAGE('lncRNA Normalized Values'!$F55:$H55)) -> 0.11168653 | H55: ='lncRNA Normalized Values'!H55-(AVERAGE('lncRNA Normalized Values'!$F55:$H55)) -> 0.090193533 | I55: ='lncRNA Normalized Values'!I55-(AVERAGE('lncRNA Normalized Values'!$F55:$H55)) -> 0.99696353 | J55: ='lncRNA Normalized Values'!J55-(AVERAGE('lncRNA Normalized Values'!$F55:$H55)) -> 0.72242653 | K55: ='lncRNA Normalized Values'!K55-(AVERAGE('lncRNA Normalized Values'!$F55:$H55)) -> 0.98656123 | L55: ='lncRNA Normalized Values'!L55-(AVERAGE('lncRNA Normalized Values'!$F55:$H55)) -> -0.58644347 | M55: ='lncRNA Normalized Values'!M55-(AVERAGE('lncRNA Normalized Values'!$F55:$H55)) -> 0.23022213 | ... Q55: ='lncRNA Normalized Values'!Q55-(AVERAGE('lncRNA Normalized Values'!$F55:$H55)) -> -2.4602271
C56: SOGA2 | D56: RP11-674N23.1 | F56: ='lncRNA Normalized Values'!F56-(AVERAGE('lncRNA Normalized Values'!$F56:$H56)) -> 1.2477909 | G56: ='lncRNA Normalized Values'!G56-(AVERAGE('lncRNA Normalized Values'!$F56:$H56)) -> -0.6826283 | H56: ='lncRNA Normalized Values'!H56-(AVERAGE('lncRNA Normalized Values'!$F56:$H56)) -> -0.5651626 | I56: ='lncRNA Normalized Values'!I56-(AVERAGE('lncRNA Normalized Values'!$F56:$H56)) -> 2.6954044 | J56: ='lncRNA Normalized Values'!J56-(AVERAGE('lncRNA Normalized Values'!$F56:$H56)) -> 2.8220633 | K56: ='lncRNA Normalized Values'!K56-(AVERAGE('lncRNA Normalized Values'!$F56:$H56)) -> 2.7517869 | L56: ='lncRNA Normalized Values'!L56-(AVERAGE('lncRNA Normalized Values'!$F56:$H56)) -> -0.9335269 | M56: ='lncRNA Normalized Values'!M56-(AVERAGE('lncRNA Normalized Values'!$F56:$H56)) -> -0.9391963 | ... Q56: ='lncRNA Normalized Values'!Q56-(AVERAGE('lncRNA Normalized Values'!$F56:$H56)) -> 3.3694139
C57: SULF2 | D57: CATG00000053438.1 | F57: ='lncRNA Normalized Values'!F57-(AVERAGE('lncRNA Normalized Values'!$F57:$H57)) -> -0.32335583 | G57: ='lncRNA Normalized Values'!G57-(AVERAGE('lncRNA Normalized Values'!$F57:$H57)) -> 0.18944537 | H57: ='lncRNA Normalized Values'!H57-(AVERAGE('lncRNA Normalized Values'!$F57:$H57)) -> 0.13391047 | I57: ='lncRNA Normalized Values'!I57-(AVERAGE('lncRNA Normalized Values'!$F57:$H57)) -> -1.0804974 | J57: ='lncRNA Normalized Values'!J57-(AVERAGE('lncRNA Normalized Values'!$F57:$H57)) -> -0.70088063 | K57: ='lncRNA Normalized Values'!K57-(AVERAGE('lncRNA Normalized Values'!$F57:$H57)) -> -0.64803663 | L57: ='lncRNA Normalized Values'!L57-(AVERAGE('lncRNA Normalized Values'!$F57:$H57)) -> 0.85014517 | M57: ='lncRNA Normalized Values'!M57-(AVERAGE('lncRNA Normalized Values'!$F57:$H57)) -> 0.12880687 | ... Q57: ='lncRNA Normalized Values'!Q57-(AVERAGE('lncRNA Normalized Values'!$F57:$H57)) -> 0.30433587
C58: TMEM63A | D58: RP11-285F7.2 | F58: ='lncRNA Normalized Values'!F58-(AVERAGE('lncRNA Normalized Values'!$F58:$H58)) -> 0.12006523 | G58: ='lncRNA Normalized Values'!G58-(AVERAGE('lncRNA Normalized Values'!$F58:$H58)) -> -0.14161197 | H58: ='lncRNA Normalized Values'!H58-(AVERAGE('lncRNA Normalized Values'!$F58:$H58)) -> 0.021546733 | I58: ='lncRNA Normalized Values'!I58-(AVERAGE('lncRNA Normalized Values'!$F58:$H58)) -> -1.356555 | J58: ='lncRNA Normalized Values'!J58-(AVERAGE('lncRNA Normalized Values'!$F58:$H58)) -> -1.5173783 | K58: ='lncRNA Normalized Values'!K58-(AVERAGE('lncRNA Normalized Values'!$F58:$H58)) -> -1.5595973 | L58: ='lncRNA Normalized Values'!L58-(AVERAGE('lncRNA Normalized Values'!$F58:$H58)) -> 0.61580273 | M58: ='lncRNA Normalized Values'!M58-(AVERAGE('lncRNA Normalized Values'!$F58:$H58)) -> 0.73826173 | ... Q58: ='lncRNA Normalized Values'!Q58-(AVERAGE('lncRNA Normalized Values'!$F58:$H58)) -> 0.65166673
C59: TNFAIP2 | D59: LINC00677 | F59: ='lncRNA Normalized Values'!F59-(AVERAGE('lncRNA Normalized Values'!$F59:$H59)) -> -0.13421527 | G59: ='lncRNA Normalized Values'!G59-(AVERAGE('lncRNA Normalized Values'!$F59:$H59)) -> 0.080663833 | H59: ='lncRNA Normalized Values'!H59-(AVERAGE('lncRNA Normalized Values'!$F59:$H59)) -> 0.053551433 | I59: ='lncRNA Normalized Values'!I59-(AVERAGE('lncRNA Normalized Values'!$F59:$H59)) -> -0.090340067 | J59: ='lncRNA Normalized Values'!J59-(AVERAGE('lncRNA Normalized Values'!$F59:$H59)) -> -0.91484007 | K59: ='lncRNA Normalized Values'!K59-(AVERAGE('lncRNA Normalized Values'!$F59:$H59)) -> -0.52846557 | L59: ='lncRNA Normalized Values'!L59-(AVERAGE('lncRNA Normalized Values'!$F59:$H59)) -> 0.78064783 | M59: ='lncRNA Normalized Values'!M59-(AVERAGE('lncRNA Normalized Values'!$F59:$H59)) -> 0.34389043 | ... Q59: ='lncRNA Normalized Values'!Q59-(AVERAGE('lncRNA Normalized Values'!$F59:$H59)) -> 0.20356613
C60: TNFRSF10B | D60: RP11-875O11.3 | F60: ='lncRNA Normalized Values'!F60-(AVERAGE('lncRNA Normalized Values'!$F60:$H60)) -> -0.14334653 | G60: ='lncRNA Normalized Values'!G60-(AVERAGE('lncRNA Normalized Values'!$F60:$H60)) -> 0.10064377 | H60: ='lncRNA Normalized Values'!H60-(AVERAGE('lncRNA Normalized Values'!$F60:$H60)) -> 0.042702767 | I60: ='lncRNA Normalized Values'!I60-(AVERAGE('lncRNA Normalized Values'!$F60:$H60)) -> 0.061149767 | J60: ='lncRNA Normalized Values'!J60-(AVERAGE('lncRNA Normalized Values'!$F60:$H60)) -> -0.37717793 | K60: ='lncRNA Normalized Values'!K60-(AVERAGE('lncRNA Normalized Values'!$F60:$H60)) -> -0.088034233 | L60: ='lncRNA Normalized Values'!L60-(AVERAGE('lncRNA Normalized Values'!$F60:$H60)) -> 1.0897463 | M60: ='lncRNA Normalized Values'!M60-(AVERAGE('lncRNA Normalized Values'!$F60:$H60)) -> 0.84232547 | ... Q60: ='lncRNA Normalized Values'!Q60-(AVERAGE('lncRNA Normalized Values'!$F60:$H60)) -> 0.77618337
C61: TNS4 | D61: RP5-1028K7.2 | F61: ='lncRNA Normalized Values'!F61-(AVERAGE('lncRNA Normalized Values'!$F61:$H61)) -> 0.2823358 | G61: ='lncRNA Normalized Values'!G61-(AVERAGE('lncRNA Normalized Values'!$F61:$H61)) -> -0.1983959 | H61: ='lncRNA Normalized Values'!H61-(AVERAGE('lncRNA Normalized Values'!$F61:$H61)) -> -0.0839399 | I61: ='lncRNA Normalized Values'!I61-(AVERAGE('lncRNA Normalized Values'!$F61:$H61)) -> 0.5073301 | J61: ='lncRNA Normalized Values'!J61-(AVERAGE('lncRNA Normalized Values'!$F61:$H61)) -> 0.4973841 | K61: ='lncRNA Normalized Values'!K61-(AVERAGE('lncRNA Normalized Values'!$F61:$H61)) -> 0.6261781 | L61: ='lncRNA Normalized Values'!L61-(AVERAGE('lncRNA Normalized Values'!$F61:$H61)) -> -0.2512493 | M61: ='lncRNA Normalized Values'!M61-(AVERAGE('lncRNA Normalized Values'!$F61:$H61)) -> -0.8259396 | ... Q61: ='lncRNA Normalized Values'!Q61-(AVERAGE('lncRNA Normalized Values'!$F61:$H61)) -> -0.0487479
C62: UBE2V1 | D62: TRERNA1 | F62: ='lncRNA Normalized Values'!F62-(AVERAGE('lncRNA Normalized Values'!$F62:$H62)) -> -0.2258619 | G62: ='lncRNA Normalized Values'!G62-(AVERAGE('lncRNA Normalized Values'!$F62:$H62)) -> 0.0696211 | H62: ='lncRNA Normalized Values'!H62-(AVERAGE('lncRNA Normalized Values'!$F62:$H62)) -> 0.1562408 | I62: ='lncRNA Normalized Values'!I62-(AVERAGE('lncRNA Normalized Values'!$F62:$H62)) -> -0.1907703 | J62: ='lncRNA Normalized Values'!J62-(AVERAGE('lncRNA Normalized Values'!$F62:$H62)) -> 0.1631291 | K62: ='lncRNA Normalized Values'!K62-(AVERAGE('lncRNA Normalized Values'!$F62:$H62)) -> 1.0692111 | L62: ='lncRNA Normalized Values'!L62-(AVERAGE('lncRNA Normalized Values'!$F62:$H62)) -> -1.2053992 | M62: ='lncRNA Normalized Values'!M62-(AVERAGE('lncRNA Normalized Values'!$F62:$H62)) -> -0.5703052 | ... Q62: ='lncRNA Normalized Values'!Q62-(AVERAGE('lncRNA Normalized Values'!$F62:$H62)) -> -1.7887145
B63: 1365 | C63: WDR81 | D63: MIR22HG | F63: ='lncRNA Normalized Values'!F63-(AVERAGE('lncRNA Normalized Values'!$F63:$H63)) -> 0.036649 | G63: ='lncRNA Normalized Values'!G63-(AVERAGE('lncRNA Normalized Values'!$F63:$H63)) -> -0.015446 | H63: ='lncRNA Normalized Values'!H63-(AVERAGE('lncRNA Normalized Values'!$F63:$H63)) -> -0.021203 | I63: ='lncRNA Normalized Values'!I63-(AVERAGE('lncRNA Normalized Values'!$F63:$H63)) -> 0.136524 | J63: ='lncRNA Normalized Values'!J63-(AVERAGE('lncRNA Normalized Values'!$F63:$H63)) -> 0.391953 | K63: ='lncRNA Normalized Values'!K63-(AVERAGE('lncRNA Normalized Values'!$F63:$H63)) -> 0.272228 | L63: ='lncRNA Normalized Values'!L63-(AVERAGE('lncRNA Normalized Values'!$F63:$H63)) -> -1.365537 | M63: ='lncRNA Normalized Values'!M63-(AVERAGE('lncRNA Normalized Values'!$F63:$H63)) -> -1.287548 | ... Q63: ='lncRNA Normalized Values'!Q63-(AVERAGE('lncRNA Normalized Values'!$F63:$H63)) -> -1.231544
B64: 2835 | C64: ZCCHC7 | D64: RP11-220I1.1 | E64: Reliable | F64: ='lncRNA Normalized Values'!F64-(AVERAGE('lncRNA Normalized Values'!$F64:$H64)) -> -0.0077135667 | G64: ='lncRNA Normalized Values'!G64-(AVERAGE('lncRNA Normalized Values'!$F64:$H64)) -> -0.027811567 | H64: ='lncRNA Normalized Values'!H64-(AVERAGE('lncRNA Normalized Values'!$F64:$H64)) -> 0.035525133 | I64: ='lncRNA Normalized Values'!I64-(AVERAGE('lncRNA Normalized Values'!$F64:$H64)) -> 0.76038343 | J64: ='lncRNA Normalized Values'!J64-(AVERAGE('lncRNA Normalized Values'!$F64:$H64)) -> 0.62983973 | K64: ='lncRNA Normalized Values'!K64-(AVERAGE('lncRNA Normalized Values'!$F64:$H64)) -> 0.84582783 | L64: ='lncRNA Normalized Values'!L64-(AVERAGE('lncRNA Normalized Values'!$F64:$H64)) -> -0.71664057 | M64: ='lncRNA Normalized Values'!M64-(AVERAGE('lncRNA Normalized Values'!$F64:$H64)) -> -0.55856657 | ... Q64: ='lncRNA Normalized Values'!Q64-(AVERAGE('lncRNA Normalized Values'!$F64:$H64)) -> 0.64502343
C65: ZHX2 | D65: RP11-94A24.1 | F65: ='lncRNA Normalized Values'!F65-(AVERAGE('lncRNA Normalized Values'!$F65:$H65)) -> -0.020773933 | G65: ='lncRNA Normalized Values'!G65-(AVERAGE('lncRNA Normalized Values'!$F65:$H65)) -> 0.015459867 | H65: ='lncRNA Normalized Values'!H65-(AVERAGE('lncRNA Normalized Values'!$F65:$H65)) -> 0.0053140667 | I65: ='lncRNA Normalized Values'!I65-(AVERAGE('lncRNA Normalized Values'!$F65:$H65)) -> -0.35730433 | J65: ='lncRNA Normalized Values'!J65-(AVERAGE('lncRNA Normalized Values'!$F65:$H65)) -> -0.41170663 | K65: ='lncRNA Normalized Values'!K65-(AVERAGE('lncRNA Normalized Values'!$F65:$H65)) -> -0.094415333 | L65: ='lncRNA Normalized Values'!L65-(AVERAGE('lncRNA Normalized Values'!$F65:$H65)) -> 0.99073707 | M65: ='lncRNA Normalized Values'!M65-(AVERAGE('lncRNA Normalized Values'!$F65:$H65)) -> 0.81707907 | ... Q65: ='lncRNA Normalized Values'!Q65-(AVERAGE('lncRNA Normalized Values'!$F65:$H65)) -> 0.26146247
B66: 1085 | C66: ZMYND8 | D66: CATG00000053405.1 | F66: ='lncRNA Normalized Values'!F66-(AVERAGE('lncRNA Normalized Values'!$F66:$H66)) -> -0.14229897 | G66: ='lncRNA Normalized Values'!G66-(AVERAGE('lncRNA Normalized Values'!$F66:$H66)) -> -0.0085046667 | H66: ='lncRNA Normalized Values'!H66-(AVERAGE('lncRNA Normalized Values'!$F66:$H66)) -> 0.15080363 | I66: ='lncRNA Normalized Values'!I66-(AVERAGE('lncRNA Normalized Values'!$F66:$H66)) -> 0.21856093 | J66: ='lncRNA Normalized Values'!J66-(AVERAGE('lncRNA Normalized Values'!$F66:$H66)) -> -0.18357637 | K66: ='lncRNA Normalized Values'!K66-(AVERAGE('lncRNA Normalized Values'!$F66:$H66)) -> 0.065754133 | L66: ='lncRNA Normalized Values'!L66-(AVERAGE('lncRNA Normalized Values'!$F66:$H66)) -> 1.2612986 | M66: ='lncRNA Normalized Values'!M66-(AVERAGE('lncRNA Normalized Values'!$F66:$H66)) -> 1.0471706 | ... Q66: ='lncRNA Normalized Values'!Q66-(AVERAGE('lncRNA Normalized Values'!$F66:$H66)) -> 0.43295363
C67: ZNF816 | D67: CTD-2331H12.7 | E67: Reliable | F67: ='lncRNA Normalized Values'!F67-(AVERAGE('lncRNA Normalized Values'!$F67:$H67)) -> -0.10528933 | G67: ='lncRNA Normalized Values'!G67-(AVERAGE('lncRNA Normalized Values'!$F67:$H67)) -> 0.015845667 | H67: ='lncRNA Normalized Values'!H67-(AVERAGE('lncRNA Normalized Values'!$F67:$H67)) -> 0.089443667 | I67: ='lncRNA Normalized Values'!I67-(AVERAGE('lncRNA Normalized Values'!$F67:$H67)) -> -0.13821033 | J67: ='lncRNA Normalized Values'!J67-(AVERAGE('lncRNA Normalized Values'!$F67:$H67)) -> -0.086468333 | K67: ='lncRNA Normalized Values'!K67-(AVERAGE('lncRNA Normalized Values'!$F67:$H67)) -> -0.25210933 | L67: ='lncRNA Normalized Values'!L67-(AVERAGE('lncRNA Normalized Values'!$F67:$H67)) -> -1.4290373 | M67: ='lncRNA Normalized Values'!M67-(AVERAGE('lncRNA Normalized Values'!$F67:$H67)) -> -1.3621207 | ... Q67: ='lncRNA Normalized Values'!Q67-(AVERAGE('lncRNA Normalized Values'!$F67:$H67)) -> -0.78197333
C68: ADRM1 | D68: RP11-157P1.4 | F68: ='lncRNA Normalized Values'!F68-(AVERAGE('lncRNA Normalized Values'!$F68:$H68)) -> -0.100559 | G68: ='lncRNA Normalized Values'!G68-(AVERAGE('lncRNA Normalized Values'!$F68:$H68)) -> 0.079851 | H68: ='lncRNA Normalized Values'!H68-(AVERAGE('lncRNA Normalized Values'!$F68:$H68)) -> 0.020708 | I68: ='lncRNA Normalized Values'!I68-(AVERAGE('lncRNA Normalized Values'!$F68:$H68)) -> -1.2122905 | J68: ='lncRNA Normalized Values'!J68-(AVERAGE('lncRNA Normalized Values'!$F68:$H68)) -> -0.927759 | K68: ='lncRNA Normalized Values'!K68-(AVERAGE('lncRNA Normalized Values'!$F68:$H68)) -> -1.1610515 | L68: ='lncRNA Normalized Values'!L68-(AVERAGE('lncRNA Normalized Values'!$F68:$H68)) -> -1.9046895 | M68: ='lncRNA Normalized Values'!M68-(AVERAGE('lncRNA Normalized Values'!$F68:$H68)) -> -1.576949 | ... Q68: ='lncRNA Normalized Values'!Q68-(AVERAGE('lncRNA Normalized Values'!$F68:$H68)) -> -1.092159
C69: ANKRD1 | D69: XLOC_008559 | F69: ='lncRNA Normalized Values'!F69-(AVERAGE('lncRNA Normalized Values'!$F69:$H69)) -> 0.044099 | G69: ='lncRNA Normalized Values'!G69-(AVERAGE('lncRNA Normalized Values'!$F69:$H69)) -> -0.024651 | H69: ='lncRNA Normalized Values'!H69-(AVERAGE('lncRNA Normalized Values'!$F69:$H69)) -> -0.019448 | I69: ='lncRNA Normalized Values'!I69-(AVERAGE('lncRNA Normalized Values'!$F69:$H69)) -> -0.311491 | J69: ='lncRNA Normalized Values'!J69-(AVERAGE('lncRNA Normalized Values'!$F69:$H69)) -> -0.019448 | K69: ='lncRNA Normalized Values'!K69-(AVERAGE('lncRNA Normalized Values'!$F69:$H69)) -> -0.303587 | L69: ='lncRNA Normalized Values'!L69-(AVERAGE('lncRNA Normalized Values'!$F69:$H69)) -> -1.56756 | M69: ='lncRNA Normalized Values'!M69-(AVERAGE('lncRNA Normalized Values'!$F69:$H69)) -> -1.457884 | ... Q69: ='lncRNA Normalized Values'!Q69-(AVERAGE('lncRNA Normalized Values'!$F69:$H69)) -> -0.989754
C70: BAHD1 | D70: RP11-64K12.9 | F70: ='lncRNA Normalized Values'!F70-(AVERAGE('lncRNA Normalized Values'!$F70:$H70)) -> -0.057861667 | G70: ='lncRNA Normalized Values'!G70-(AVERAGE('lncRNA Normalized Values'!$F70:$H70)) -> 0.022518333 | H70: ='lncRNA Normalized Values'!H70-(AVERAGE('lncRNA Normalized Values'!$F70:$H70)) -> 0.035343333 | I70: ='lncRNA Normalized Values'!I70-(AVERAGE('lncRNA Normalized Values'!$F70:$H70)) -> 0.38371333 | J70: ='lncRNA Normalized Values'!J70-(AVERAGE('lncRNA Normalized Values'!$F70:$H70)) -> 0.044552333 | K70: ='lncRNA Normalized Values'!K70-(AVERAGE('lncRNA Normalized Values'!$F70:$H70)) -> 0.13873433 | L70: ='lncRNA Normalized Values'!L70-(AVERAGE('lncRNA Normalized Values'!$F70:$H70)) -> 1.8276883 | M70: ='lncRNA Normalized Values'!M70-(AVERAGE('lncRNA Normalized Values'!$F70:$H70)) -> 1.4269003 | ... Q70: ='lncRNA Normalized Values'!Q70-(AVERAGE('lncRNA Normalized Values'!$F70:$H70)) -> 0.92829733
C71: C4B | D71: C4B-AS1 | F71: ='lncRNA Normalized Values'!F71-(AVERAGE('lncRNA Normalized Values'!$F71:$H71)) -> 0.020695667 | G71: ='lncRNA Normalized Values'!G71-(AVERAGE('lncRNA Normalized Values'!$F71:$H71)) -> -0.064637333 | H71: ='lncRNA Normalized Values'!H71-(AVERAGE('lncRNA Normalized Values'!$F71:$H71)) -> 0.043941667 | I71: ='lncRNA Normalized Values'!I71-(AVERAGE('lncRNA Normalized Values'!$F71:$H71)) -> -0.35713033 | J71: ='lncRNA Normalized Values'!J71-(AVERAGE('lncRNA Normalized Values'!$F71:$H71)) -> 0.44298917 | K71: ='lncRNA Normalized Values'!K71-(AVERAGE('lncRNA Normalized Values'!$F71:$H71)) -> -0.030578333 | L71: ='lncRNA Normalized Values'!L71-(AVERAGE('lncRNA Normalized Values'!$F71:$H71)) -> -1.5340693 | M71: ='lncRNA Normalized Values'!M71-(AVERAGE('lncRNA Normalized Values'!$F71:$H71)) -> -1.4889518 | ... Q71: ='lncRNA Normalized Values'!Q71-(AVERAGE('lncRNA Normalized Values'!$F71:$H71)) -> -1.4852113
C72: CALML3 | D72: CALML3-AS1 | F72: ='lncRNA Normalized Values'!F72-(AVERAGE('lncRNA Normalized Values'!$F72:$H72)) -> 0.11394587 | G72: ='lncRNA Normalized Values'!G72-(AVERAGE('lncRNA Normalized Values'!$F72:$H72)) -> -0.13299173 | H72: ='lncRNA Normalized Values'!H72-(AVERAGE('lncRNA Normalized Values'!$F72:$H72)) -> 0.019045867 | I72: ='lncRNA Normalized Values'!I72-(AVERAGE('lncRNA Normalized Values'!$F72:$H72)) -> 0.56414987 | J72: ='lncRNA Normalized Values'!J72-(AVERAGE('lncRNA Normalized Values'!$F72:$H72)) -> -0.064360533 | K72: ='lncRNA Normalized Values'!K72-(AVERAGE('lncRNA Normalized Values'!$F72:$H72)) -> 0.17518527 | L72: ='lncRNA Normalized Values'!L72-(AVERAGE('lncRNA Normalized Values'!$F72:$H72)) -> 2.5538099 | M72: ='lncRNA Normalized Values'!M72-(AVERAGE('lncRNA Normalized Values'!$F72:$H72)) -> 2.5447519 | ... Q72: ='lncRNA Normalized Values'!Q72-(AVERAGE('lncRNA Normalized Values'!$F72:$H72)) -> 1.0092919
C73: DSP | D73: RP3-512B11.3 | F73: ='lncRNA Normalized Values'!F73-(AVERAGE('lncRNA Normalized Values'!$F73:$H73)) -> -0.22409707 | G73: ='lncRNA Normalized Values'!G73-(AVERAGE('lncRNA Normalized Values'!$F73:$H73)) -> 0.030957633 | H73: ='lncRNA Normalized Values'!H73-(AVERAGE('lncRNA Normalized Values'!$F73:$H73)) -> 0.19313943 | I73: ='lncRNA Normalized Values'!I73-(AVERAGE('lncRNA Normalized Values'!$F73:$H73)) -> -0.79064707 | J73: ='lncRNA Normalized Values'!J73-(AVERAGE('lncRNA Normalized Values'!$F73:$H73)) -> -0.74151577 | K73: ='lncRNA Normalized Values'!K73-(AVERAGE('lncRNA Normalized Values'!$F73:$H73)) -> -0.81126277 | L73: ='lncRNA Normalized Values'!L73-(AVERAGE('lncRNA Normalized Values'!$F73:$H73)) -> -1.6619364 | M73: ='lncRNA Normalized Values'!M73-(AVERAGE('lncRNA Normalized Values'!$F73:$H73)) -> -1.6587811 | ... Q73: ='lncRNA Normalized Values'!Q73-(AVERAGE('lncRNA Normalized Values'!$F73:$H73)) -> -0.96770537
C74: EDN1 | D74: CATG00000082768.1 | F74: ='lncRNA Normalized Values'!F74-(AVERAGE('lncRNA Normalized Values'!$F74:$H74)) -> -0.044352 | G74: ='lncRNA Normalized Values'!G74-(AVERAGE('lncRNA Normalized Values'!$F74:$H74)) -> 0.02027 | H74: ='lncRNA Normalized Values'!H74-(AVERAGE('lncRNA Normalized Values'!$F74:$H74)) -> 0.024082 | I74: ='lncRNA Normalized Values'!I74-(AVERAGE('lncRNA Normalized Values'!$F74:$H74)) -> 0.236619 | J74: ='lncRNA Normalized Values'!J74-(AVERAGE('lncRNA Normalized Values'!$F74:$H74)) -> -0.115583 | K74: ='lncRNA Normalized Values'!K74-(AVERAGE('lncRNA Normalized Values'!$F74:$H74)) -> 0.269864 | L74: ='lncRNA Normalized Values'!L74-(AVERAGE('lncRNA Normalized Values'!$F74:$H74)) -> 1.102449 | M74: ='lncRNA Normalized Values'!M74-(AVERAGE('lncRNA Normalized Values'!$F74:$H74)) -> 1.287974 | ... Q74: ='lncRNA Normalized Values'!Q74-(AVERAGE('lncRNA Normalized Values'!$F74:$H74)) -> 0.504941
C75: ELOVL5 | D75: RP3-483K16.4 | F75: ='lncRNA Normalized Values'!F75-(AVERAGE('lncRNA Normalized Values'!$F75:$H75)) -> -0.39850707 | G75: ='lncRNA Normalized Values'!G75-(AVERAGE('lncRNA Normalized Values'!$F75:$H75)) -> 0.48340913 | H75: ='lncRNA Normalized Values'!H75-(AVERAGE('lncRNA Normalized Values'!$F75:$H75)) -> -0.084902067 | I75: ='lncRNA Normalized Values'!I75-(AVERAGE('lncRNA Normalized Values'!$F75:$H75)) -> -1.4059394 | J75: ='lncRNA Normalized Values'!J75-(AVERAGE('lncRNA Normalized Values'!$F75:$H75)) -> -1.3121424 | K75: ='lncRNA Normalized Values'!K75-(AVERAGE('lncRNA Normalized Values'!$F75:$H75)) -> -1.3975854 | L75: ='lncRNA Normalized Values'!L75-(AVERAGE('lncRNA Normalized Values'!$F75:$H75)) -> -1.4115057 | M75: ='lncRNA Normalized Values'!M75-(AVERAGE('lncRNA Normalized Values'!$F75:$H75)) -> -0.61731287 | ... Q75: ='lncRNA Normalized Values'!Q75-(AVERAGE('lncRNA Normalized Values'!$F75:$H75)) -> -1.3156855
C76: EPCAM | D76: BCYRN1 | F76: ='lncRNA Normalized Values'!F76-(AVERAGE('lncRNA Normalized Values'!$F76:$H76)) -> 0.078270667 | G76: ='lncRNA Normalized Values'!G76-(AVERAGE('lncRNA Normalized Values'!$F76:$H76)) -> -0.020449333 | H76: ='lncRNA Normalized Values'!H76-(AVERAGE('lncRNA Normalized Values'!$F76:$H76)) -> -0.057821333 | I76: ='lncRNA Normalized Values'!I76-(AVERAGE('lncRNA Normalized Values'!$F76:$H76)) -> -0.25488633 | J76: ='lncRNA Normalized Values'!J76-(AVERAGE('lncRNA Normalized Values'!$F76:$H76)) -> 0.078270667 | K76: ='lncRNA Normalized Values'!K76-(AVERAGE('lncRNA Normalized Values'!$F76:$H76)) -> -0.033558333 | L76: ='lncRNA Normalized Values'!L76-(AVERAGE('lncRNA Normalized Values'!$F76:$H76)) -> -0.77448633 | M76: ='lncRNA Normalized Values'!M76-(AVERAGE('lncRNA Normalized Values'!$F76:$H76)) -> -0.67503033 | ... Q76: ='lncRNA Normalized Values'!Q76-(AVERAGE('lncRNA Normalized Values'!$F76:$H76)) -> -0.84572033
C77: FAM13A | D77: FAM13A-AS1 | F77: ='lncRNA Normalized Values'!F77-(AVERAGE('lncRNA Normalized Values'!$F77:$H77)) -> -0.21578533 | G77: ='lncRNA Normalized Values'!G77-(AVERAGE('lncRNA Normalized Values'!$F77:$H77)) -> 0.074090667 | H77: ='lncRNA Normalized Values'!H77-(AVERAGE('lncRNA Normalized Values'!$F77:$H77)) -> 0.14169467 | I77: ='lncRNA Normalized Values'!I77-(AVERAGE('lncRNA Normalized Values'!$F77:$H77)) -> -1.1397643 | J77: ='lncRNA Normalized Values'!J77-(AVERAGE('lncRNA Normalized Values'!$F77:$H77)) -> -0.82199033 | K77: ='lncRNA Normalized Values'!K77-(AVERAGE('lncRNA Normalized Values'!$F77:$H77)) -> -0.83991133 | L77: ='lncRNA Normalized Values'!L77-(AVERAGE('lncRNA Normalized Values'!$F77:$H77)) -> -2.0931383 | M77: ='lncRNA Normalized Values'!M77-(AVERAGE('lncRNA Normalized Values'!$F77:$H77)) -> -1.9133403 | ... Q77: ='lncRNA Normalized Values'!Q77-(AVERAGE('lncRNA Normalized Values'!$F77:$H77)) -> -2.0893213
C78: FAM83H | D78: FAM83H-AS1 | F78: ='lncRNA Normalized Values'!F78-(AVERAGE('lncRNA Normalized Values'!$F78:$H78)) -> 0.0042490667 | G78: ='lncRNA Normalized Values'!G78-(AVERAGE('lncRNA Normalized Values'!$F78:$H78)) -> 0.029574167 | H78: ='lncRNA Normalized Values'!H78-(AVERAGE('lncRNA Normalized Values'!$F78:$H78)) -> -0.033823233 | I78: ='lncRNA Normalized Values'!I78-(AVERAGE('lncRNA Normalized Values'!$F78:$H78)) -> 2.4148226 | J78: ='lncRNA Normalized Values'!J78-(AVERAGE('lncRNA Normalized Values'!$F78:$H78)) -> 2.3301487 | K78: ='lncRNA Normalized Values'!K78-(AVERAGE('lncRNA Normalized Values'!$F78:$H78)) -> 2.4983345 | L78: ='lncRNA Normalized Values'!L78-(AVERAGE('lncRNA Normalized Values'!$F78:$H78)) -> 1.635603 | M78: ='lncRNA Normalized Values'!M78-(AVERAGE('lncRNA Normalized Values'!$F78:$H78)) -> 3.039037 | ... Q78: ='lncRNA Normalized Values'!Q78-(AVERAGE('lncRNA Normalized Values'!$F78:$H78)) -> 2.029473
C79: HLA-A | D79: HCG9 | F79: ='lncRNA Normalized Values'!F79-(AVERAGE('lncRNA Normalized Values'!$F79:$H79)) -> 0.31141767 | G79: ='lncRNA Normalized Values'!G79-(AVERAGE('lncRNA Normalized Values'!$F79:$H79)) -> -0.11024633 | H79: ='lncRNA Normalized Values'!H79-(AVERAGE('lncRNA Normalized Values'!$F79:$H79)) -> -0.20117133 | I79: ='lncRNA Normalized Values'!I79-(AVERAGE('lncRNA Normalized Values'!$F79:$H79)) -> 0.27875337 | J79: ='lncRNA Normalized Values'!J79-(AVERAGE('lncRNA Normalized Values'!$F79:$H79)) -> 0.069648667 | K79: ='lncRNA Normalized Values'!K79-(AVERAGE('lncRNA Normalized Values'!$F79:$H79)) -> -0.40871283 | L79: ='lncRNA Normalized Values'!L79-(AVERAGE('lncRNA Normalized Values'!$F79:$H79)) -> 1.4309047 | M79: ='lncRNA Normalized Values'!M79-(AVERAGE('lncRNA Normalized Values'!$F79:$H79)) -> 0.78275537 | ... Q79: ='lncRNA Normalized Values'!Q79-(AVERAGE('lncRNA Normalized Values'!$F79:$H79)) -> 0.58994367
... C141: VSIG8 | D141: RP11-190A12.8 | F141: ='lncRNA Normalized Values'!F141-(AVERAGE('lncRNA Normalized Values'!$F141:$H141)) -> 0.29094393 | G141: ='lncRNA Normalized Values'!G141-(AVERAGE('lncRNA Normalized Values'!$F141:$H141)) -> -0.20862547 | H141: ='lncRNA Normalized Values'!H141-(AVERAGE('lncRNA Normalized Values'!$F141:$H141)) -> -0.082318467 | I141: ='lncRNA Normalized Values'!I141-(AVERAGE('lncRNA Normalized Values'!$F141:$H141)) -> -1.1665056 | J141: ='lncRNA Normalized Values'!J141-(AVERAGE('lncRNA Normalized Values'!$F141:$H141)) -> -0.39969607 | K141: ='lncRNA Normalized Values'!K141-(AVERAGE('lncRNA Normalized Values'!$F141:$H141)) -> -1.5779564 | L141: ='lncRNA Normalized Values'!L141-(AVERAGE('lncRNA Normalized Values'!$F141:$H141)) -> -1.8194708 | M141: ='lncRNA Normalized Values'!M141-(AVERAGE('lncRNA Normalized Values'!$F141:$H141)) -> -1.6335633 | ... Q141: ='lncRNA Normalized Values'!Q141-(AVERAGE('lncRNA Normalized Values'!$F141:$H141)) -> -2.0577915

Sheet lncRNA 2^
F1: Normalized lncRNA
F2: 10A | I2: AT1 | L2: DCIS | O2: CA1
C3: mRNA | D3: lncRNA | E3: lncRNA_level | F3: 1 | G3: 2 | H3: 3 | I3: 1 | J3: 2 | K3: 3 | L3: 1 | M3: 2 | N3: 3 | O3: 1 | P3: 2 | Q3: 3
C4: PMEPA1 | D4: AK056098 | F4: =2^'lncRNA Subtracted values'!F4 -> 1.0410269 | G4: =2^'lncRNA Subtracted values'!G4 -> 1.0395606 | H4: =2^'lncRNA Subtracted values'!H4 -> 0.92403464 | I4: =2^'lncRNA Subtracted values'!I4 -> 1.793893 | J4: =2^'lncRNA Subtracted values'!J4 -> 3.2750589 | K4: =2^'lncRNA Subtracted values'!K4 -> 2.3231697 | L4: =2^'lncRNA Subtracted values'!L4 -> 0.32126926 | M4: =2^'lncRNA Subtracted values'!M4 -> 0.38661265 | ... Q4: =2^'lncRNA Subtracted values'!Q4 -> 3.2320955
C5: SEMA5A | D5: SNHG18 | F5: =2^'lncRNA Subtracted values'!F5 -> 0.85453507 | G5: =2^'lncRNA Subtracted values'!G5 -> 1.1456545 | H5: =2^'lncRNA Subtracted values'!H5 -> 1.0214485 | I5: =2^'lncRNA Subtracted values'!I5 -> 0.10934403 | J5: =2^'lncRNA Subtracted values'!J5 -> 0.068770784 | K5: =2^'lncRNA Subtracted values'!K5 -> 0.062425142 | L5: =2^'lncRNA Subtracted values'!L5 -> 0.14861761 | M5: =2^'lncRNA Subtracted values'!M5 -> 0.081788114 | ... Q5: =2^'lncRNA Subtracted values'!Q5 -> 0.10385807
C6: LGALS8 | D6: RP11-385F5.5 | E6: Reliable | F6: =2^'lncRNA Subtracted values'!F6 -> 0.92915198 | G6: =2^'lncRNA Subtracted values'!G6 -> 1.0081208 | H6: =2^'lncRNA Subtracted values'!H6 -> 1.0675806 | I6: =2^'lncRNA Subtracted values'!I6 -> 0.36302736 | J6: =2^'lncRNA Subtracted values'!J6 -> 0.31629885 | K6: =2^'lncRNA Subtracted values'!K6 -> 0.29446641 | L6: =2^'lncRNA Subtracted values'!L6 -> 0.33530421 | M6: =2^'lncRNA Subtracted values'!M6 -> 0.41578456 | ... Q6: =2^'lncRNA Subtracted values'!Q6 -> 0.4259712
C7: IGFL1 | D7: AC006262.5 | F7: =2^'lncRNA Subtracted values'!F7 -> 0.91419654 | G7: =2^'lncRNA Subtracted values'!G7 -> 1.0802819 | H7: =2^'lncRNA Subtracted values'!H7 -> 1.0125659 | I7: =2^'lncRNA Subtracted values'!I7 -> 0.47464963 | J7: =2^'lncRNA Subtracted values'!J7 -> 0.3169966 | K7: =2^'lncRNA Subtracted values'!K7 -> 0.29347357 | L7: =2^'lncRNA Subtracted values'!L7 -> 0.09452371 | M7: =2^'lncRNA Subtracted values'!M7 -> 0.12841843 | ... Q7: =2^'lncRNA Subtracted values'!Q7 -> 0.24360247
C8: CDC25B | D8: LINC01730 | E8: Gold | F8: =2^'lncRNA Subtracted values'!F8 -> 0.92626403 | G8: =2^'lncRNA Subtracted values'!G8 -> 1.0173491 | H8: =2^'lncRNA Subtracted values'!H8 -> 1.061195 | I8: =2^'lncRNA Subtracted values'!I8 -> 0.30744331 | J8: =2^'lncRNA Subtracted values'!J8 -> 0.27271714 | K8: =2^'lncRNA Subtracted values'!K8 -> 0.24278864 | L8: =2^'lncRNA Subtracted values'!L8 -> 0.16654906 | M8: =2^'lncRNA Subtracted values'!M8 -> 0.15433103 | ... Q8: =2^'lncRNA Subtracted values'!Q8 -> 0.26622958
C9: PHLDA1 | D9: RP11-290L1.3 | E9: Reliable | F9: =2^'lncRNA Subtracted values'!F9 -> 1.0801249 | G9: =2^'lncRNA Subtracted values'!G9 -> 0.95676538 | H9: =2^'lncRNA Subtracted values'!H9 -> 0.96765502 | I9: =2^'lncRNA Subtracted values'!I9 -> 2.2897034 | J9: =2^'lncRNA Subtracted values'!J9 -> 2.3334557 | K9: =2^'lncRNA Subtracted values'!K9 -> 2.5472202 | L9: =2^'lncRNA Subtracted values'!L9 -> 2.6893345 | M9: =2^'lncRNA Subtracted values'!M9 -> 2.6573306 | ... Q9: =2^'lncRNA Subtracted values'!Q9 -> 2.9822703
C10: RIMBP2 | D10: RP11-662M24.2 | F10: =2^'lncRNA Subtracted values'!F10 -> 0.94229738 | G10: =2^'lncRNA Subtracted values'!G10 -> 1.0326471 | H10: =2^'lncRNA Subtracted values'!H10 -> 1.0276851 | I10: =2^'lncRNA Subtracted values'!I10 -> 0.34633059 | J10: =2^'lncRNA Subtracted values'!J10 -> 0.30585633 | K10: =2^'lncRNA Subtracted values'!K10 -> 0.26087448 | L10: =2^'lncRNA Subtracted values'!L10 -> 0.41550595 | M10: =2^'lncRNA Subtracted values'!M10 -> 0.44415146 | ... Q10: =2^'lncRNA Subtracted values'!Q10 -> 0.6215764
C11: VPS37B | D11: RP11-463O12.3 | E11: Reliable | F11: =2^'lncRNA Subtracted values'!F11 -> 1.1477818 | G11: =2^'lncRNA Subtracted values'!G11 -> 0.92533519 | H11: =2^'lncRNA Subtracted values'!H11 -> 0.94154612 | I11: =2^'lncRNA Subtracted values'!I11 -> 2.1864014 | J11: =2^'lncRNA Subtracted values'!J11 -> 1.9984414 | K11: =2^'lncRNA Subtracted values'!K11 -> 2.6266507 | L11: =2^'lncRNA Subtracted values'!L11 -> 1.4815722 | M11: =2^'lncRNA Subtracted values'!M11 -> 1.6401851 | ... Q11: =2^'lncRNA Subtracted values'!Q11 -> 2.3248073
C12: CRIM1 | D12: RP11-490M8.1 | F12: =2^'lncRNA Subtracted values'!F12 -> 0.93581196 | G12: =2^'lncRNA Subtracted values'!G12 -> 1.0440614 | H12: =2^'lncRNA Subtracted values'!H12 -> 1.0234942 | I12: =2^'lncRNA Subtracted values'!I12 -> 0.49139639 | J12: =2^'lncRNA Subtracted values'!J12 -> 0.4409632 | K12: =2^'lncRNA Subtracted values'!K12 -> 0.4412014 | L12: =2^'lncRNA Subtracted values'!L12 -> 0.72444098 | M12: =2^'lncRNA Subtracted values'!M12 -> 0.84126345 | ... Q12: =2^'lncRNA Subtracted values'!Q12 -> 0.94078259
C13: SAP30 | D13: RP11-798M19.6 | F13: =2^'lncRNA Subtracted values'!F13 -> 0.95648024 | G13: =2^'lncRNA Subtracted values'!G13 -> 0.98013248 | H13: =2^'lncRNA Subtracted values'!H13 -> 1.0666924 | I13: =2^'lncRNA Subtracted values'!I13 -> 0.32275878 | J13: =2^'lncRNA Subtracted values'!J13 -> 0.31683896 | K13: =2^'lncRNA Subtracted values'!K13 -> 0.37192983 | L13: =2^'lncRNA Subtracted values'!L13 -> 0.34390077 | M13: =2^'lncRNA Subtracted values'!M13 -> 0.3337892 | ... Q13: =2^'lncRNA Subtracted values'!Q13 -> 0.55387156
C14: SAP30 | D14: RP11-798M19.6 | F14: =2^'lncRNA Subtracted values'!F14 -> 0.88579965 | G14: =2^'lncRNA Subtracted values'!G14 -> 1.0450987 | H14: =2^'lncRNA Subtracted values'!H14 -> 1.0802075 | I14: =2^'lncRNA Subtracted values'!I14 -> 1.9636519 | J14: =2^'lncRNA Subtracted values'!J14 -> 11.704965 | K14: =2^'lncRNA Subtracted values'!K14 -> 6.7877909 | L14: =2^'lncRNA Subtracted values'!L14 -> 8.1370324 | M14: =2^'lncRNA Subtracted values'!M14 -> 1.4211016 | ... Q14: =2^'lncRNA Subtracted values'!Q14 -> 0.84311605
C15: CPEB4 | D15: CTB-43E15.4 | E15: Gold | F15: =2^'lncRNA Subtracted values'!F15 -> 0.79734071 | G15: =2^'lncRNA Subtracted values'!G15 -> 1.5016085 | H15: =2^'lncRNA Subtracted values'!H15 -> 0.83521703 | I15: =2^'lncRNA Subtracted values'!I15 -> 1.7840876 | J15: =2^'lncRNA Subtracted values'!J15 -> 2.3019572 | K15: =2^'lncRNA Subtracted values'!K15 -> 2.662231 | L15: =2^'lncRNA Subtracted values'!L15 -> 6.4422249 | M15: =2^'lncRNA Subtracted values'!M15 -> 1.1702514 | ... Q15: =2^'lncRNA Subtracted values'!Q15 -> 1.1771066
C16: ABLIM3 | D16: CATG00000078011.1 | F16: =2^'lncRNA Subtracted values'!F16 -> 1.0013892 | G16: =2^'lncRNA Subtracted values'!G16 -> 1.039106 | H16: =2^'lncRNA Subtracted values'!H16 -> 0.96103064 | I16: =2^'lncRNA Subtracted values'!I16 -> 0.6241453 | J16: =2^'lncRNA Subtracted values'!J16 -> 0.64858018 | K16: =2^'lncRNA Subtracted values'!K16 -> 0.61554611 | L16: =2^'lncRNA Subtracted values'!L16 -> 0.2211798 | M16: =2^'lncRNA Subtracted values'!M16 -> 0.20517521 | ... Q16: =2^'lncRNA Subtracted values'!Q16 -> 0.69342792
C17: AHR | D17: CATG00000095263.1 | F17: =2^'lncRNA Subtracted values'!F17 -> 0.9545372 | G17: =2^'lncRNA Subtracted values'!G17 -> 1.0077001 | H17: =2^'lncRNA Subtracted values'!H17 -> 1.0396229 | I17: =2^'lncRNA Subtracted values'!I17 -> 1.1181598 | J17: =2^'lncRNA Subtracted values'!J17 -> 0.80921801 | K17: =2^'lncRNA Subtracted values'!K17 -> 1.0301692 | L17: =2^'lncRNA Subtracted values'!L17 -> 2.3403679 | M17: =2^'lncRNA Subtracted values'!M17 -> 2.5287095 | ... Q17: =2^'lncRNA Subtracted values'!Q17 -> 2.1646613
C18: ARSG | D18: WIPI1 | F18: =2^'lncRNA Subtracted values'!F18 -> 0.89944774 | G18: =2^'lncRNA Subtracted values'!G18 -> 1.0269287 | H18: =2^'lncRNA Subtracted values'!H18 -> 1.0826392 | I18: =2^'lncRNA Subtracted values'!I18 -> 1.0423673 | J18: =2^'lncRNA Subtracted values'!J18 -> 1.0269287 | K18: =2^'lncRNA Subtracted values'!K18 -> 0.97459726 | L18: =2^'lncRNA Subtracted values'!L18 -> 0.88316106 | M18: =2^'lncRNA Subtracted values'!M18 -> 0.85527369 | ... Q18: =2^'lncRNA Subtracted values'!Q18 -> 0.8668697
C19: BCL10 | D19: RP11-131L23.1 | E19: Gold | F19: =2^'lncRNA Subtracted values'!F19 -> 0.9165664 | G19: =2^'lncRNA Subtracted values'!G19 -> 1.0363591 | H19: =2^'lncRNA Subtracted values'!H19 -> 1.0527513 | I19: =2^'lncRNA Subtracted values'!I19 -> 1.4807099 | J19: =2^'lncRNA Subtracted values'!J19 -> 1.2746265 | K19: =2^'lncRNA Subtracted values'!K19 -> 1.4779359 | L19: =2^'lncRNA Subtracted values'!L19 -> 0.48470652 | M19: =2^'lncRNA Subtracted values'!M19 -> 0.60469183 | ... Q19: =2^'lncRNA Subtracted values'!Q19 -> 0.94366389
C20: BMP2K | D20: CATG00000069061.1 | F20: =2^'lncRNA Subtracted values'!F20 -> 1.0651581 | G20: =2^'lncRNA Subtracted values'!G20 -> 0.96978298 | H20: =2^'lncRNA Subtracted values'!H20 -> 0.96808031 | I20: =2^'lncRNA Subtracted values'!I20 -> 1.2585023 | J20: =2^'lncRNA Subtracted values'!J20 -> 0.66389921 | K20: =2^'lncRNA Subtracted values'!K20 -> 0.65905841 | L20: =2^'lncRNA Subtracted values'!L20 -> 3.9995632 | M20: =2^'lncRNA Subtracted values'!M20 -> 2.3226227 | ... Q20: =2^'lncRNA Subtracted values'!Q20 -> 2.2683424
C21: CAPN10 | D21: CAPN10-AS1 | F21: =2^'lncRNA Subtracted values'!F21 -> 1.0651035 | G21: =2^'lncRNA Subtracted values'!G21 -> 1.0545399 | H21: =2^'lncRNA Subtracted values'!H21 -> 0.89031802 | I21: =2^'lncRNA Subtracted values'!I21 -> 1.3653735 | J21: =2^'lncRNA Subtracted values'!J21 -> 2.2311456 | K21: =2^'lncRNA Subtracted values'!K21 -> 1.8240796 | L21: =2^'lncRNA Subtracted values'!L21 -> 1.037647 | M21: =2^'lncRNA Subtracted values'!M21 -> 0.81165282 | ... Q21: =2^'lncRNA Subtracted values'!Q21 -> 0.75574041
C22: COTL1 | D22: RP11-61F12.1 | E22: Reliable | F22: =2^'lncRNA Subtracted values'!F22 -> 0.7459082 | G22: =2^'lncRNA Subtracted values'!G22 -> 0.9346551 | H22: =2^'lncRNA Subtracted values'!H22 -> 1.4343767 | I22: =2^'lncRNA Subtracted values'!I22 -> 1.1225627 | J22: =2^'lncRNA Subtracted values'!J22 -> 0.77212964 | K22: =2^'lncRNA Subtracted values'!K22 -> 1.0371877 | L22: =2^'lncRNA Subtracted values'!L22 -> 8.3206083 | M22: =2^'lncRNA Subtracted values'!M22 -> 6.8351619 | ... Q22: =2^'lncRNA Subtracted values'!Q22 -> 2.7854588
C23: CTDSP1 | D23: RP11-378A13.2 | E23: Reliable | F23: =2^'lncRNA Subtracted values'!F23 -> 1.1580678 | G23: =2^'lncRNA Subtracted values'!G23 -> 0.91237743 | H23: =2^'lncRNA Subtracted values'!H23 -> 0.94643653 | I23: =2^'lncRNA Subtracted values'!I23 -> 0.86064821 | J23: =2^'lncRNA Subtracted values'!J23 -> 1.5331163 | K23: =2^'lncRNA Subtracted values'!K23 -> 0.8309144 | L23: =2^'lncRNA Subtracted values'!L23 -> 0.43630302 | M23: =2^'lncRNA Subtracted values'!M23 -> 0.43459183 | ... Q23: =2^'lncRNA Subtracted values'!Q23 -> 0.46626517
C24: CTSD | D24: AC068580.7 | E24: Reliable | F24: =2^'lncRNA Subtracted values'!F24 -> 1.1232778 | G24: =2^'lncRNA Subtracted values'!G24 -> 1.2641197 | H24: =2^'lncRNA Subtracted values'!H24 -> 0.70424642 | I24: =2^'lncRNA Subtracted values'!I24 -> 1.7217676 | J24: =2^'lncRNA Subtracted values'!J24 -> 1.1133581 | K24: =2^'lncRNA Subtracted values'!K24 -> 1.4647188 | L24: =2^'lncRNA Subtracted values'!L24 -> 3.0653817 | M24: =2^'lncRNA Subtracted values'!M24 -> 3.5452755 | ... Q24: =2^'lncRNA Subtracted values'!Q24 -> 2.6175947
C25: DES | D25: AC053503.6 | E25: Reliable | F25: =2^'lncRNA Subtracted values'!F25 -> 1.0294633 | G25: =2^'lncRNA Subtracted values'!G25 -> 1.0165593 | H25: =2^'lncRNA Subtracted values'!H25 -> 0.95555667 | I25: =2^'lncRNA Subtracted values'!I25 -> 0.721407 | J25: =2^'lncRNA Subtracted values'!J25 -> 0.93541362 | K25: =2^'lncRNA Subtracted values'!K25 -> 0.93541362 | L25: =2^'lncRNA Subtracted values'!L25 -> 0.37465285 | M25: =2^'lncRNA Subtracted values'!M25 -> 0.40473298 | ... Q25: =2^'lncRNA Subtracted values'!Q25 -> 0.45958427
C26: DLGAP1 | D26: DLGAP1-AS2 | F26: =2^'lncRNA Subtracted values'!F26 -> 0.9854701 | G26: =2^'lncRNA Subtracted values'!G26 -> 0.95298407 | H26: =2^'lncRNA Subtracted values'!H26 -> 1.064807 | I26: =2^'lncRNA Subtracted values'!I26 -> 0.84412818 | J26: =2^'lncRNA Subtracted values'!J26 -> 1.2942874 | K26: =2^'lncRNA Subtracted values'!K26 -> 0.90031889 | L26: =2^'lncRNA Subtracted values'!L26 -> 0.45871373 | M26: =2^'lncRNA Subtracted values'!M26 -> 0.44864368 | ... Q26: =2^'lncRNA Subtracted values'!Q26 -> 0.30377983
C27: EGFR | D27: EGFR-AS1 | F27: =2^'lncRNA Subtracted values'!F27 -> 0.98082025 | G27: =2^'lncRNA Subtracted values'!G27 -> 0.99919189 | H27: =2^'lncRNA Subtracted values'!H27 -> 1.0203794 | I27: =2^'lncRNA Subtracted values'!I27 -> 1.5163651 | J27: =2^'lncRNA Subtracted values'!J27 -> 1.3306542 | K27: =2^'lncRNA Subtracted values'!K27 -> 0.99535921 | L27: =2^'lncRNA Subtracted values'!L27 -> 0.39105772 | M27: =2^'lncRNA Subtracted values'!M27 -> 0.34762819 | ... Q27: =2^'lncRNA Subtracted values'!Q27 -> 0.83256665
C28: ETNK2 | D28: RP11-74C13.4 | F28: =2^'lncRNA Subtracted values'!F28 -> 1.0939249 | G28: =2^'lncRNA Subtracted values'!G28 -> 0.93948012 | H28: =2^'lncRNA Subtracted values'!H28 -> 0.97302699 | I28: =2^'lncRNA Subtracted values'!I28 -> 0.78902375 | J28: =2^'lncRNA Subtracted values'!J28 -> 0.8839104 | K28: =2^'lncRNA Subtracted values'!K28 -> 0.99371637 | L28: =2^'lncRNA Subtracted values'!L28 -> 0.44567441 | M28: =2^'lncRNA Subtracted values'!M28 -> 0.37532285 | ... Q28: =2^'lncRNA Subtracted values'!Q28 -> 0.57813168
C29: FAM213A | D29: RP11-137H2.6 | E29: Reliable | F29: =2^'lncRNA Subtracted values'!F29 -> 0.88143332 | G29: =2^'lncRNA Subtracted values'!G29 -> 1.090697 | H29: =2^'lncRNA Subtracted values'!H29 -> 1.040175 | I29: =2^'lncRNA Subtracted values'!I29 -> 1.0670822 | J29: =2^'lncRNA Subtracted values'!J29 -> 1.234047 | K29: =2^'lncRNA Subtracted values'!K29 -> 1.1608969 | L29: =2^'lncRNA Subtracted values'!L29 -> 0.090166331 | M29: =2^'lncRNA Subtracted values'!M29 -> 0.10430619 | ... Q29: =2^'lncRNA Subtracted values'!Q29 -> 0.21912634
C30: FBXO32 | D30: RP11-174I12.2 | E30: Reliable | F30: =2^'lncRNA Subtracted values'!F30 -> 0.82637375 | G30: =2^'lncRNA Subtracted values'!G30 -> 1.0114636 | H30: =2^'lncRNA Subtracted values'!H30 -> 1.1963913 | I30: =2^'lncRNA Subtracted values'!I30 -> 0.92953045 | J30: =2^'lncRNA Subtracted values'!J30 -> 0.91176317 | K30: =2^'lncRNA Subtracted values'!K30 -> 0.86379504 | L30: =2^'lncRNA Subtracted values'!L30 -> 2.9762905 | M30: =2^'lncRNA Subtracted values'!M30 -> 2.6052184 | ... Q30: =2^'lncRNA Subtracted values'!Q30 -> 1.5593949
C31: FNBP1 | D31: RP11-409K20.6 | E31: Reliable | F31: =2^'lncRNA Subtracted values'!F31 -> 1.0890652 | G31: =2^'lncRNA Subtracted values'!G31 -> 0.94285141 | H31: =2^'lncRNA Subtracted values'!H31 -> 0.9738742 | I31: =2^'lncRNA Subtracted values'!I31 -> 1.1393029 | J31: =2^'lncRNA Subtracted values'!J31 -> 0.78760563 | K31: =2^'lncRNA Subtracted values'!K31 -> 1.5307889 | L31: =2^'lncRNA Subtracted values'!L31 -> 3.4485845 | M31: =2^'lncRNA Subtracted values'!M31 -> 2.6179242 | ... Q31: =2^'lncRNA Subtracted values'!Q31 -> 1.6574086
C32: GNA15 | D32: AC005264.2 | F32: =2^'lncRNA Subtracted values'!F32 -> 0.93748142 | G32: =2^'lncRNA Subtracted values'!G32 -> 1.0100901 | H32: =2^'lncRNA Subtracted values'!H32 -> 1.0560323 | I32: =2^'lncRNA Subtracted values'!I32 -> 0.80912191 | J32: =2^'lncRNA Subtracted values'!J32 -> 0.95398534 | K32: =2^'lncRNA Subtracted values'!K32 -> 0.77861875 | L32: =2^'lncRNA Subtracted values'!L32 -> 0.34400275 | M32: =2^'lncRNA Subtracted values'!M32 -> 0.35411332 | ... Q32: =2^'lncRNA Subtracted values'!Q32 -> 0.4518131
C33: HOXA11 | D33: RP1-170O19.14 | E33: Reliable | F33: =2^'lncRNA Subtracted values'!F33 -> 1.025995 | G33: =2^'lncRNA Subtracted values'!G33 -> 1.0003318 | H33: =2^'lncRNA Subtracted values'!H33 -> 0.97434032 | I33: =2^'lncRNA Subtracted values'!I33 -> 1.2249371 | J33: =2^'lncRNA Subtracted values'!J33 -> 0.86838076 | K33: =2^'lncRNA Subtracted values'!K33 -> 1.0632071 | L33: =2^'lncRNA Subtracted values'!L33 -> 2.4655298 | M33: =2^'lncRNA Subtracted values'!M33 -> 2.4878848 | ... Q33: =2^'lncRNA Subtracted values'!Q33 -> 1.7442498
C34: HOXA11 | D34: HOXA11-AS | F34: =2^'lncRNA Subtracted values'!F34 -> 1.0003541 | G34: =2^'lncRNA Subtracted values'!G34 -> 1.0262043 | H34: =2^'lncRNA Subtracted values'!H34 -> 0.97411992 | I34: =2^'lncRNA Subtracted values'!I34 -> 0.73037911 | J34: =2^'lncRNA Subtracted values'!J34 -> 0.4475264 | K34: =2^'lncRNA Subtracted values'!K34 -> 0.67679138 | L34: =2^'lncRNA Subtracted values'!L34 -> 1.9694093 | M34: =2^'lncRNA Subtracted values'!M34 -> 1.8108646 | ... Q34: =2^'lncRNA Subtracted values'!Q34 -> 3.7104735
C35: KBTBD11 | D35: KBTBD11-OT1 | F35: =2^'lncRNA Subtracted values'!F35 -> 0.7403883 | G35: =2^'lncRNA Subtracted values'!G35 -> 1.0362521 | H35: =2^'lncRNA Subtracted values'!H35 -> 1.303392 | I35: =2^'lncRNA Subtracted values'!I35 -> 0.95233793 | J35: =2^'lncRNA Subtracted values'!J35 -> 0.77943683 | K35: =2^'lncRNA Subtracted values'!K35 -> 1.0121633 | L35: =2^'lncRNA Subtracted values'!L35 -> 4.1033124 | M35: =2^'lncRNA Subtracted values'!M35 -> 1.6813383 | ... Q35: =2^'lncRNA Subtracted values'!Q35 -> 1.3481101
C36: KCTD5 | D36: CTD-3126B10.4 | E36: Reliable | F36: =2^'lncRNA Subtracted values'!F36 -> 0.9649564 | G36: =2^'lncRNA Subtracted values'!G36 -> 1.0201488 | H36: =2^'lncRNA Subtracted values'!H36 -> 1.0158481 | I36: =2^'lncRNA Subtracted values'!I36 -> 0.72425401 | J36: =2^'lncRNA Subtracted values'!J36 -> 1.0158481 | K36: =2^'lncRNA Subtracted values'!K36 -> 0.83722173 | L36: =2^'lncRNA Subtracted values'!L36 -> 0.36666403 | M36: =2^'lncRNA Subtracted values'!M36 -> 0.40121729 | ... Q36: =2^'lncRNA Subtracted values'!Q36 -> 0.53030515
C37: KLF7 | D37: AC007879.6 | E37: Gold | F37: =2^'lncRNA Subtracted values'!F37 -> 1.1699567 | G37: =2^'lncRNA Subtracted values'!G37 -> 0.87126998 | H37: =2^'lncRNA Subtracted values'!H37 -> 0.9810191 | I37: =2^'lncRNA Subtracted values'!I37 -> 1.2877077 | J37: =2^'lncRNA Subtracted values'!J37 -> 1.5370386 | K37: =2^'lncRNA Subtracted values'!K37 -> 1.5541637 | L37: =2^'lncRNA Subtracted values'!L37 -> 0.22095008 | M37: =2^'lncRNA Subtracted values'!M37 -> 0.2254312 | ... Q37: =2^'lncRNA Subtracted values'!Q37 -> 0.15003703
C38: LASP1 | D38: RP1-56K13.2 | E38: Reliable | F38: =2^'lncRNA Subtracted values'!F38 -> 1.0106477 | G38: =2^'lncRNA Subtracted values'!G38 -> 0.99298282 | H38: =2^'lncRNA Subtracted values'!H38 -> 0.9964568 | I38: =2^'lncRNA Subtracted values'!I38 -> 0.94904715 | J38: =2^'lncRNA Subtracted values'!J38 -> 0.93785251 | K38: =2^'lncRNA Subtracted values'!K38 -> 1.1191812 | L38: =2^'lncRNA Subtracted values'!L38 -> 3.4603733 | M38: =2^'lncRNA Subtracted values'!M38 -> 3.3090009 | ... Q38: =2^'lncRNA Subtracted values'!Q38 -> 2.0046171
C39: LIF | D39: RP1-102K2.8 | F39: =2^'lncRNA Subtracted values'!F39 -> 1.1326794 | G39: =2^'lncRNA Subtracted values'!G39 -> 0.85925962 | H39: =2^'lncRNA Subtracted values'!H39 -> 1.0274687 | I39: =2^'lncRNA Subtracted values'!I39 -> 1.1913893 | J39: =2^'lncRNA Subtracted values'!J39 -> 1.155475 | K39: =2^'lncRNA Subtracted values'!K39 -> 0.9024936 | L39: =2^'lncRNA Subtracted values'!L39 -> 3.0788827 | M39: =2^'lncRNA Subtracted values'!M39 -> 2.43129 | ... Q39: =2^'lncRNA Subtracted values'!Q39 -> 1.6647321
B40: 2405 | C40: LIF | D40: CATG00000058427.1 | F40: =2^'lncRNA Subtracted values'!F40 -> 1.0702511 | G40: =2^'lncRNA Subtracted values'!G40 -> 0.92351886 | H40: =2^'lncRNA Subtracted values'!H40 -> 1.0117391 | I40: =2^'lncRNA Subtracted values'!I40 -> 0.82214475 | J40: =2^'lncRNA Subtracted values'!J40 -> 1.2093638 | K40: =2^'lncRNA Subtracted values'!K40 -> 1.0760576 | L40: =2^'lncRNA Subtracted values'!L40 -> 0.38828674 | M40: =2^'lncRNA Subtracted values'!M40 -> 0.41810736 | ... Q40: =2^'lncRNA Subtracted values'!Q40 -> 0.59930085
C41: LIPA | D41: RP11-149I23.3 | E41: Gold | F41: =2^'lncRNA Subtracted values'!F41 -> 1.0815246 | G41: =2^'lncRNA Subtracted values'!G41 -> 0.98594358 | H41: =2^'lncRNA Subtracted values'!H41 -> 0.93780281 | I41: =2^'lncRNA Subtracted values'!I41 -> 1.6664832 | J41: =2^'lncRNA Subtracted values'!J41 -> 1.9369462 | K41: =2^'lncRNA Subtracted values'!K41 -> 1.7826039 | L41: =2^'lncRNA Subtracted values'!L41 -> 0.39777152 | M41: =2^'lncRNA Subtracted values'!M41 -> 0.44484733 | ... Q41: =2^'lncRNA Subtracted values'!Q41 -> 1.0344714
C42: MFSD1 | D42: RP11-379F4.4 | F42: =2^'lncRNA Subtracted values'!F42 -> 1.1818909 | G42: =2^'lncRNA Subtracted values'!G42 -> 0.91909369 | H42: =2^'lncRNA Subtracted values'!H42 -> 0.92058276 | I42: =2^'lncRNA Subtracted values'!I42 -> 0.92599328 | J42: =2^'lncRNA Subtracted values'!J42 -> 0.96843688 | K42: =2^'lncRNA Subtracted values'!K42 -> 0.93137085 | L42: =2^'lncRNA Subtracted values'!L42 -> 7.2966393 | M42: =2^'lncRNA Subtracted values'!M42 -> 2.7548851 | ... Q42: =2^'lncRNA Subtracted values'!Q42 -> 4.0840772
C43: MMP25 | D43: RP11-473M20.7 | F43: =2^'lncRNA Subtracted values'!F43 -> 0.93481168 | G43: =2^'lncRNA Subtracted values'!G43 -> 0.97820088 | H43: =2^'lncRNA Subtracted values'!H43 -> 1.0935731 | I43: =2^'lncRNA Subtracted values'!I43 -> 1.2440872 | J43: =2^'lncRNA Subtracted values'!J43 -> 0.76895318 | K43: =2^'lncRNA Subtracted values'!K43 -> 0.93387326 | L43: =2^'lncRNA Subtracted values'!L43 -> 3.8351225 | M43: =2^'lncRNA Subtracted values'!M43 -> 3.1828776 | ... Q43: =2^'lncRNA Subtracted values'!Q43 -> 1.899729
C44: MPHOSPH6 | D44: CATG00000028064.1 | F44: =2^'lncRNA Subtracted values'!F44 -> 0.89021787 | G44: =2^'lncRNA Subtracted values'!G44 -> 1.1487604 | H44: =2^'lncRNA Subtracted values'!H44 -> 0.97785453 | I44: =2^'lncRNA Subtracted values'!I44 -> 1.5999251 | J44: =2^'lncRNA Subtracted values'!J44 -> 0.71094909 | K44: =2^'lncRNA Subtracted values'!K44 -> 1.4659539 | L44: =2^'lncRNA Subtracted values'!L44 -> 0.24650373 | M44: =2^'lncRNA Subtracted values'!M44 -> 0.22009517 | ... Q44: =2^'lncRNA Subtracted values'!Q44 -> 0.46293899
C45: MYH3 | D45: CTC-297N7.7 | F45: =2^'lncRNA Subtracted values'!F45 -> 0.93608969 | G45: =2^'lncRNA Subtracted values'!G45 -> 1.0404443 | H45: =2^'lncRNA Subtracted values'!H45 -> 1.0267477 | I45: =2^'lncRNA Subtracted values'!I45 -> 0.76754735 | J45: =2^'lncRNA Subtracted values'!J45 -> 0.93163979 | K45: =2^'lncRNA Subtracted values'!K45 -> 0.73406294 | L45: =2^'lncRNA Subtracted values'!L45 -> 0.33701312 | M45: =2^'lncRNA Subtracted values'!M45 -> 0.35671077 | ... Q45: =2^'lncRNA Subtracted values'!Q45 -> 0.45679339
C46: NFAM1 | D46: CTA-126B4.7 | E46: Gold | F46: =2^'lncRNA Subtracted values'!F46 -> 1.0574626 | G46: =2^'lncRNA Subtracted values'!G46 -> 1.0139318 | H46: =2^'lncRNA Subtracted values'!H46 -> 0.93266615 | I46: =2^'lncRNA Subtracted values'!I46 -> 1.0997744 | J46: =2^'lncRNA Subtracted values'!J46 -> 0.60843863 | K46: =2^'lncRNA Subtracted values'!K46 -> 0.74280718 | L46: =2^'lncRNA Subtracted values'!L46 -> 1.8589908 | M46: =2^'lncRNA Subtracted values'!M46 -> 1.9208884 | ... Q46: =2^'lncRNA Subtracted values'!Q46 -> 1.6885673
B47: 1142 | C47: NFAM1 | D47: Z83851.1 | F47: =2^'lncRNA Subtracted values'!F47 -> 1.2321885 | G47: =2^'lncRNA Subtracted values'!G47 -> 0.94215441 | H47: =2^'lncRNA Subtracted values'!H47 -> 0.86139182 | I47: =2^'lncRNA Subtracted values'!I47 -> 0.64297499 | J47: =2^'lncRNA Subtracted values'!J47 -> 0.77208069 | K47: =2^'lncRNA Subtracted values'!K47 -> 0.84384799 | L47: =2^'lncRNA Subtracted values'!L47 -> 2.6802999 | M47: =2^'lncRNA Subtracted values'!M47 -> 2.1395386 | ... Q47: =2^'lncRNA Subtracted values'!Q47 -> 3.620455
C48: OGFRL1 | D48: LINC00472 | F48: =2^'lncRNA Subtracted values'!F48 -> 0.98930276 | G48: =2^'lncRNA Subtracted values'!G48 -> 0.90744242 | H48: =2^'lncRNA Subtracted values'!H48 -> 1.1139141 | I48: =2^'lncRNA Subtracted values'!I48 -> 1.275013 | J48: =2^'lncRNA Subtracted values'!J48 -> 0.90246945 | K48: =2^'lncRNA Subtracted values'!K48 -> 1.205975 | L48: =2^'lncRNA Subtracted values'!L48 -> 2.4205753 | M48: =2^'lncRNA Subtracted values'!M48 -> 2.3088093 | ... Q48: =2^'lncRNA Subtracted values'!Q48 -> 1.5180844
C49: PMEPA1 | D49: AK056098 | F49: =2^'lncRNA Subtracted values'!F49 -> 1.0410269 | G49: =2^'lncRNA Subtracted values'!G49 -> 1.0395606 | H49: =2^'lncRNA Subtracted values'!H49 -> 0.92403464 | I49: =2^'lncRNA Subtracted values'!I49 -> 1.793893 | J49: =2^'lncRNA Subtracted values'!J49 -> 3.2750589 | K49: =2^'lncRNA Subtracted values'!K49 -> 2.3231697 | L49: =2^'lncRNA Subtracted values'!L49 -> 0.32126926 | M49: =2^'lncRNA Subtracted values'!M49 -> 0.38661265 | ... Q49: =2^'lncRNA Subtracted values'!Q49 -> 3.2320955
C50: PMEPA1 | D50: NKILA | E50: Gold | F50: =2^'lncRNA Subtracted values'!F50 -> 0.96716857 | G50: =2^'lncRNA Subtracted values'!G50 -> 0.90777293 | H50: =2^'lncRNA Subtracted values'!H50 -> 1.1389918 | I50: =2^'lncRNA Subtracted values'!I50 -> 2.2882137 | J50: =2^'lncRNA Subtracted values'!J50 -> 1.625676 | K50: =2^'lncRNA Subtracted values'!K50 -> 1.7013777 | L50: =2^'lncRNA Subtracted values'!L50 -> 0.30037049 | M50: =2^'lncRNA Subtracted values'!M50 -> 0.34258773 | ... Q50: =2^'lncRNA Subtracted values'!Q50 -> 4.1914847
C51: PXDC1 | D51: RP11-420L9.5 | E51: Reliable | F51: =2^'lncRNA Subtracted values'!F51 -> 0.99957526 | G51: =2^'lncRNA Subtracted values'!G51 -> 0.97048889 | H51: =2^'lncRNA Subtracted values'!H51 -> 1.0308463 | I51: =2^'lncRNA Subtracted values'!I51 -> 2.0389241 | J51: =2^'lncRNA Subtracted values'!J51 -> 1.9919691 | K51: =2^'lncRNA Subtracted values'!K51 -> 1.9919691 | L51: =2^'lncRNA Subtracted values'!L51 -> 0.59462709 | M51: =2^'lncRNA Subtracted values'!M51 -> 0.64058326 | ... Q51: =2^'lncRNA Subtracted values'!Q51 -> 1.0893005
C52: RAB3A | D52: AC068499.10 | F52: =2^'lncRNA Subtracted values'!F52 -> 1.0135927 | G52: =2^'lncRNA Subtracted values'!G52 -> 0.99708196 | H52: =2^'lncRNA Subtracted values'!H52 -> 0.98947695 | I52: =2^'lncRNA Subtracted values'!I52 -> 1.1870001 | J52: =2^'lncRNA Subtracted values'!J52 -> 0.73630888 | K52: =2^'lncRNA Subtracted values'!K52 -> 1.0493137 | L52: =2^'lncRNA Subtracted values'!L52 -> 2.1569384 | M52: =2^'lncRNA Subtracted values'!M52 -> 2.1569384 | ... Q52: =2^'lncRNA Subtracted values'!Q52 -> 1.6574209
C53: RAI14 | D53: CTD-2024P10.1 | E53: Gold | F53: =2^'lncRNA Subtracted values'!F53 -> 1.108146 | G53: =2^'lncRNA Subtracted values'!G53 -> 0.94515903 | H53: =2^'lncRNA Subtracted values'!H53 -> 0.95476858 | I53: =2^'lncRNA Subtracted values'!I53 -> 1.1683399 | J53: =2^'lncRNA Subtracted values'!J53 -> 0.98284512 | K53: =2^'lncRNA Subtracted values'!K53 -> 1.1335955 | L53: =2^'lncRNA Subtracted values'!L53 -> 2.6682965 | M53: =2^'lncRNA Subtracted values'!M53 -> 2.5709597 | ... Q53: =2^'lncRNA Subtracted values'!Q53 -> 1.7040374
C54: S100A4 | D54: LOC101928034 | E54: Gold | F54: =2^'lncRNA Subtracted values'!F54 -> 0.53570452 | G54: =2^'lncRNA Subtracted values'!G54 -> 1.7040798 | H54: =2^'lncRNA Subtracted values'!H54 -> 1.0954304 | I54: =2^'lncRNA Subtracted values'!I54 -> 1.1908409 | J54: =2^'lncRNA Subtracted values'!J54 -> 1.524597 | K54: =2^'lncRNA Subtracted values'!K54 -> 1.2775532 | L54: =2^'lncRNA Subtracted values'!L54 -> 0.6003729 | M54: =2^'lncRNA Subtracted values'!M54 -> 0.5705989 | ... Q54: =2^'lncRNA Subtracted values'!Q54 -> 0.55816233
C55: SLC4A3 | D55: RP11-256I23.3 | E55: Reliable | F55: =2^'lncRNA Subtracted values'!F55 -> 0.86941683 | G55: =2^'lncRNA Subtracted values'!G55 -> 1.0804906 | H55: =2^'lncRNA Subtracted values'!H55 -> 1.064513 | I55: =2^'lncRNA Subtracted values'!I55 -> 1.995795 | J55: =2^'lncRNA Subtracted values'!J55 -> 1.6499548 | K55: =2^'lncRNA Subtracted values'!K55 -> 1.9814564 | L55: =2^'lncRNA Subtracted values'!L55 -> 0.66598267 | M55: =2^'lncRNA Subtracted values'!M55 -> 1.1730155 | ... Q55: =2^'lncRNA Subtracted values'!Q55 -> 0.18171796
C56: SOGA2 | D56: RP11-674N23.1 | F56: =2^'lncRNA Subtracted values'!F56 -> 2.3747751 | G56: =2^'lncRNA Subtracted values'!G56 -> 0.62302921 | H56: =2^'lncRNA Subtracted values'!H56 -> 0.67587924 | I56: =2^'lncRNA Subtracted values'!I56 -> 6.4773531 | J56: =2^'lncRNA Subtracted values'!J56 -> 7.0717305 | K56: =2^'lncRNA Subtracted values'!K56 -> 6.7355087 | L56: =2^'lncRNA Subtracted values'!L56 -> 0.52357681 | M56: =2^'lncRNA Subtracted values'!M56 -> 0.52152333 | ... Q56: =2^'lncRNA Subtracted values'!Q56 -> 10.334623
C57: SULF2 | D57: CATG00000053438.1 | F57: =2^'lncRNA Subtracted values'!F57 -> 0.79920869 | G57: =2^'lncRNA Subtracted values'!G57 -> 1.1403252 | H57: =2^'lncRNA Subtracted values'!H57 -> 1.0972638 | I57: =2^'lncRNA Subtracted values'!I57 -> 0.47286575 | J57: =2^'lncRNA Subtracted values'!J57 -> 0.61519657 | K57: =2^'lncRNA Subtracted values'!K57 -> 0.63814818 | L57: =2^'lncRNA Subtracted values'!L57 -> 1.8026823 | M57: =2^'lncRNA Subtracted values'!M57 -> 1.0933891 | ... Q57: =2^'lncRNA Subtracted values'!Q57 -> 1.2348501
C58: TMEM63A | D58: RP11-285F7.2 | F58: =2^'lncRNA Subtracted values'!F58 -> 1.086784 | G58: =2^'lncRNA Subtracted values'!G58 -> 0.90650572 | H58: =2^'lncRNA Subtracted values'!H58 -> 1.0150471 | I58: =2^'lncRNA Subtracted values'!I58 -> 0.39051369 | J58: =2^'lncRNA Subtracted values'!J58 -> 0.34932014 | K58: =2^'lncRNA Subtracted values'!K58 -> 0.33924577 | L58: =2^'lncRNA Subtracted values'!L58 -> 1.5324104 | M58: =2^'lncRNA Subtracted values'!M58 -> 1.6681647 | ... Q58: =2^'lncRNA Subtracted values'!Q58 -> 1.5709821
C59: TNFAIP2 | D59: LINC00677 | F59: =2^'lncRNA Subtracted values'!F59 -> 0.91116531 | G59: =2^'lncRNA Subtracted values'!G59 -> 1.0575045 | H59: =2^'lncRNA Subtracted values'!H59 -> 1.0378165 | I59: =2^'lncRNA Subtracted values'!I59 -> 0.93930131 | J59: =2^'lncRNA Subtracted values'!J59 -> 0.53040267 | K59: =2^'lncRNA Subtracted values'!K59 -> 0.69329172 | L59: =2^'lncRNA Subtracted values'!L59 -> 1.7179021 | M59: =2^'lncRNA Subtracted values'!M59 -> 1.2691745 | ... Q59: =2^'lncRNA Subtracted values'!Q59 -> 1.1515413
C60: TNFRSF10B | D60: RP11-875O11.3 | F60: =2^'lncRNA Subtracted values'!F60 -> 0.90541648 | G60: =2^'lncRNA Subtracted values'!G60 -> 1.0722518 | H60: =2^'lncRNA Subtracted values'!H60 -> 1.0300417 | I60: =2^'lncRNA Subtracted values'!I60 -> 1.0432969 | J60: =2^'lncRNA Subtracted values'!J60 -> 0.76994221 | K60: =2^'lncRNA Subtracted values'!K60 -> 0.94080378 | L60: =2^'lncRNA Subtracted values'!L60 -> 2.128366 | M60: =2^'lncRNA Subtracted values'!M60 -> 1.7929378 | ... Q60: =2^'lncRNA Subtracted values'!Q60 -> 1.7125942
C61: TNS4 | D61: RP5-1028K7.2 | F61: =2^'lncRNA Subtracted values'!F61 -> 1.2161623 | G61: =2^'lncRNA Subtracted values'!G61 -> 0.87151905 | H61: =2^'lncRNA Subtracted values'!H61 -> 0.94347755 | I61: =2^'lncRNA Subtracted values'!I61 -> 1.4214172 | J61: =2^'lncRNA Subtracted values'!J61 -> 1.4116516 | K61: =2^'lncRNA Subtracted values'!K61 -> 1.5434707 | L61: =2^'lncRNA Subtracted values'!L61 -> 0.84016856 | M61: =2^'lncRNA Subtracted values'!M61 -> 0.56411469 | ... Q61: =2^'lncRNA Subtracted values'!Q61 -> 0.96677502
C62: UBE2V1 | D62: TRERNA1 | F62: =2^'lncRNA Subtracted values'!F62 -> 0.85508403 | G62: =2^'lncRNA Subtracted values'!G62 -> 1.049441 | H62: =2^'lncRNA Subtracted values'!H62 -> 1.1143796 | I62: =2^'lncRNA Subtracted values'!I62 -> 0.8761378 | J62: =2^'lncRNA Subtracted values'!J62 -> 1.1197131 | K62: =2^'lncRNA Subtracted values'!K62 -> 2.0982857 | L62: =2^'lncRNA Subtracted values'!L62 -> 0.43364933 | M62: =2^'lncRNA Subtracted values'!M62 -> 0.6734743 | ... Q62: =2^'lncRNA Subtracted values'!Q62 -> 0.28942982
B63: 1365 | C63: WDR81 | D63: MIR22HG | F63: =2^'lncRNA Subtracted values'!F63 -> 1.0257286 | G63: =2^'lncRNA Subtracted values'!G63 -> 0.98935076 | H63: =2^'lncRNA Subtracted values'!H63 -> 0.98541067 | I63: =2^'lncRNA Subtracted values'!I63 -> 1.0992534 | J63: =2^'lncRNA Subtracted values'!J63 -> 1.3121685 | K63: =2^'lncRNA Subtracted values'!K63 -> 1.2076714 | L63: =2^'lncRNA Subtracted values'!L63 -> 0.38808996 | M63: =2^'lncRNA Subtracted values'!M63 -> 0.40964667 | ... Q63: =2^'lncRNA Subtracted values'!Q63 -> 0.42586144
B64: 2835 | C64: ZCCHC7 | D64: RP11-220I1.1 | E64: Reliable | F64: =2^'lncRNA Subtracted values'!F64 -> 0.99466763 | G64: =2^'lncRNA Subtracted values'!G64 -> 0.98090711 | H64: =2^'lncRNA Subtracted values'!H64 -> 1.0249298 | I64: =2^'lncRNA Subtracted values'!I64 -> 1.6939408 | J64: =2^'lncRNA Subtracted values'!J64 -> 1.5473931 | K64: =2^'lncRNA Subtracted values'!K64 -> 1.7972958 | L64: =2^'lncRNA Subtracted values'!L64 -> 0.60851277 | M64: =2^'lncRNA Subtracted values'!M64 -> 0.67897645 | ... Q64: =2^'lncRNA Subtracted values'!Q64 -> 1.5637647
C65: ZHX2 | D65: RP11-94A24.1 | F65: =2^'lncRNA Subtracted values'!F65 -> 0.98570378 | G65: =2^'lncRNA Subtracted values'!G65 -> 1.0107736 | H65: =2^'lncRNA Subtracted values'!H65 -> 1.0036902 | I65: =2^'lncRNA Subtracted values'!I65 -> 0.7806218 | J65: =2^'lncRNA Subtracted values'!J65 -> 0.75173359 | K65: =2^'lncRNA Subtracted values'!K65 -> 0.93665176 | L65: =2^'lncRNA Subtracted values'!L65 -> 1.9872 | M65: =2^'lncRNA Subtracted values'!M65 -> 1.7618353 | ... Q65: =2^'lncRNA Subtracted values'!Q65 -> 1.1986932
B66: 1085 | C66: ZMYND8 | D66: CATG00000053405.1 | F66: =2^'lncRNA Subtracted values'!F66 -> 0.90607415 | G66: =2^'lncRNA Subtracted values'!G66 -> 0.99412236 | H66: =2^'lncRNA Subtracted values'!H66 -> 1.1101877 | I66: =2^'lncRNA Subtracted values'!I66 -> 1.1635724 | J66: =2^'lncRNA Subtracted values'!J66 -> 0.88051753 | K66: =2^'lncRNA Subtracted values'!K66 -> 1.0466319 | L66: =2^'lncRNA Subtracted values'!L66 -> 2.3971142 | M66: =2^'lncRNA Subtracted values'!M66 -> 2.0664732 | ... Q66: =2^'lncRNA Subtracted values'!Q66 -> 1.3499946
C67: ZNF816 | D67: CTD-2331H12.7 | E67: Reliable | F67: =2^'lncRNA Subtracted values'!F67 -> 0.92961849 | G67: =2^'lncRNA Subtracted values'!G67 -> 1.0110439 | H67: =2^'lncRNA Subtracted values'!H67 -> 1.0639598 | I67: =2^'lncRNA Subtracted values'!I67 -> 0.90864563 | J67: =2^'lncRNA Subtracted values'!J67 -> 0.94182549 | K67: =2^'lncRNA Subtracted values'!K67 -> 0.83966786 | L67: =2^'lncRNA Subtracted values'!L67 -> 0.37137862 | M67: =2^'lncRNA Subtracted values'!M67 -> 0.38901003 | ... Q67: =2^'lncRNA Subtracted values'!Q67 -> 0.58157077
C68: ADRM1 | D68: RP11-157P1.4 | F68: =2^'lncRNA Subtracted values'!F68 -> 0.93267154 | G68: =2^'lncRNA Subtracted values'!G68 -> 1.0569089 | H68: =2^'lncRNA Subtracted values'!H68 -> 1.0144572 | I68: =2^'lncRNA Subtracted values'!I68 -> 0.43158287 | J68: =2^'lncRNA Subtracted values'!J68 -> 0.52567426 | K68: =2^'lncRNA Subtracted values'!K68 -> 0.44718649 | L68: =2^'lncRNA Subtracted values'!L68 -> 0.26707383 | M68: =2^'lncRNA Subtracted values'!M68 -> 0.33519 | ... Q68: =2^'lncRNA Subtracted values'!Q68 -> 0.4690589
C69: ANKRD1 | D69: XLOC_008559 | F69: =2^'lncRNA Subtracted values'!F69 -> 1.0310391 | G69: =2^'lncRNA Subtracted values'!G69 -> 0.98305838 | H69: =2^'lncRNA Subtracted values'!H69 -> 0.98661013 | I69: =2^'lncRNA Subtracted values'!I69 -> 0.80580854 | J69: =2^'lncRNA Subtracted values'!J69 -> 0.98661013 | K69: =2^'lncRNA Subtracted values'!K69 -> 0.81023539 | L69: =2^'lncRNA Subtracted values'!L69 -> 0.33737851 | M69: =2^'lncRNA Subtracted values'!M69 -> 0.36402666 | ... Q69: =2^'lncRNA Subtracted values'!Q69 -> 0.50356363
C70: BAHD1 | D70: RP11-64K12.9 | F70: =2^'lncRNA Subtracted values'!F70 -> 0.96068698 | G70: =2^'lncRNA Subtracted values'!G70 -> 1.015731 | H70: =2^'lncRNA Subtracted values'!H70 -> 1.0248007 | I70: =2^'lncRNA Subtracted values'!I70 -> 1.3046957 | J70: =2^'lncRNA Subtracted values'!J70 -> 1.0313631 | K70: =2^'lncRNA Subtracted values'!K70 -> 1.1009388 | L70: =2^'lncRNA Subtracted values'!L70 -> 3.5496784 | M70: =2^'lncRNA Subtracted values'!M70 -> 2.6886842 | ... Q70: =2^'lncRNA Subtracted values'!Q70 -> 1.9030287
C71: C4B | D71: C4B-AS1 | F71: =2^'lncRNA Subtracted values'!F71 -> 1.0144485 | G71: =2^'lncRNA Subtracted values'!G71 -> 0.95618565 | H71: =2^'lncRNA Subtracted values'!H71 -> 1.0309266 | I71: =2^'lncRNA Subtracted values'!I71 -> 0.78071596 | J71: =2^'lncRNA Subtracted values'!J71 -> 1.359418 | K71: =2^'lncRNA Subtracted values'!K71 -> 0.97902776 | L71: =2^'lncRNA Subtracted values'!L71 -> 0.34530202 | M71: =2^'lncRNA Subtracted values'!M71 -> 0.3562713 | ... Q71: =2^'lncRNA Subtracted values'!Q71 -> 0.35719621
C72: CALML3 | D72: CALML3-AS1 | F72: =2^'lncRNA Subtracted values'!F72 -> 1.082184 | G72: =2^'lncRNA Subtracted values'!G72 -> 0.91193839 | H72: =2^'lncRNA Subtracted values'!H72 -> 1.0132891 | I72: =2^'lncRNA Subtracted values'!I72 -> 1.478516 | J72: =2^'lncRNA Subtracted values'!J72 -> 0.95636913 | K72: =2^'lncRNA Subtracted values'!K72 -> 1.1291094 | L72: =2^'lncRNA Subtracted values'!L72 -> 5.8718286 | M72: =2^'lncRNA Subtracted values'!M72 -> 5.8350777 | ... Q72: =2^'lncRNA Subtracted values'!Q72 -> 2.0129228
C73: DSP | D73: RP3-512B11.3 | F73: =2^'lncRNA Subtracted values'!F73 -> 0.85613068 | G73: =2^'lncRNA Subtracted values'!G73 -> 1.0216901 | H73: =2^'lncRNA Subtracted values'!H73 -> 1.1432488 | I73: =2^'lncRNA Subtracted values'!I73 -> 0.57808476 | J73: =2^'lncRNA Subtracted values'!J73 -> 0.59811062 | K73: =2^'lncRNA Subtracted values'!K73 -> 0.56988283 | L73: =2^'lncRNA Subtracted values'!L73 -> 0.31601471 | M73: =2^'lncRNA Subtracted values'!M73 -> 0.31670662 | ... Q73: =2^'lncRNA Subtracted values'!Q73 -> 0.51131868
C74: EDN1 | D74: CATG00000082768.1 | F74: =2^'lncRNA Subtracted values'!F74 -> 0.96972528 | G74: =2^'lncRNA Subtracted values'!G74 -> 1.0141493 | H74: =2^'lncRNA Subtracted values'!H74 -> 1.0168325 | I74: =2^'lncRNA Subtracted values'!I74 -> 1.1782282 | J74: =2^'lncRNA Subtracted values'!J74 -> 0.92300924 | K74: =2^'lncRNA Subtracted values'!K74 -> 1.2056942 | L74: =2^'lncRNA Subtracted values'!L74 -> 2.1471887 | M74: =2^'lncRNA Subtracted values'!M74 -> 2.441849 | ... Q74: =2^'lncRNA Subtracted values'!Q74 -> 1.4190653
C75: ELOVL5 | D75: RP3-483K16.4 | F75: =2^'lncRNA Subtracted values'!F75 -> 0.75864294 | G75: =2^'lncRNA Subtracted values'!G75 -> 1.3980434 | H75: =2^'lncRNA Subtracted values'!H75 -> 0.94284854 | I75: =2^'lncRNA Subtracted values'!I75 -> 0.37737235 | J75: =2^'lncRNA Subtracted values'!J75 -> 0.4027224 | K75: =2^'lncRNA Subtracted values'!K75 -> 0.37956388 | L75: =2^'lncRNA Subtracted values'!L75 -> 0.37591915 | M75: =2^'lncRNA Subtracted values'!M75 -> 0.65188398 | ... Q75: =2^'lncRNA Subtracted values'!Q75 -> 0.40173457
C76: EPCAM | D76: BCYRN1 | F76: =2^'lncRNA Subtracted values'!F76 -> 1.0557518 | G76: =2^'lncRNA Subtracted values'!G76 -> 0.98592559 | H76: =2^'lncRNA Subtracted values'!H76 -> 0.96071383 | I76: =2^'lncRNA Subtracted values'!I76 -> 0.83805316 | J76: =2^'lncRNA Subtracted values'!J76 -> 1.0557518 | K76: =2^'lncRNA Subtracted values'!K76 -> 0.97700758 | L76: =2^'lncRNA Subtracted values'!L76 -> 0.58459673 | M76: =2^'lncRNA Subtracted values'!M76 -> 0.62631905 | ... Q76: =2^'lncRNA Subtracted values'!Q76 -> 0.55643291
C77: FAM13A | D77: FAM13A-AS1 | F77: =2^'lncRNA Subtracted values'!F77 -> 0.8610773 | G77: =2^'lncRNA Subtracted values'!G77 -> 1.0526973 | H77: =2^'lncRNA Subtracted values'!H77 -> 1.1032002 | I77: =2^'lncRNA Subtracted values'!I77 -> 0.45383371 | J77: =2^'lncRNA Subtracted values'!J77 -> 0.56566102 | K77: =2^'lncRNA Subtracted values'!K77 -> 0.5586779 | L77: =2^'lncRNA Subtracted values'!L77 -> 0.2343703 | M77: =2^'lncRNA Subtracted values'!M77 -> 0.26547716 | ... Q77: =2^'lncRNA Subtracted values'!Q77 -> 0.2349912
C78: FAM83H | D78: FAM83H-AS1 | F78: =2^'lncRNA Subtracted values'!F78 -> 1.0029496 | G78: =2^'lncRNA Subtracted values'!G78 -> 1.0207108 | H78: =2^'lncRNA Subtracted values'!H78 -> 0.97682821 | I78: =2^'lncRNA Subtracted values'!I78 -> 5.3325388 | J78: =2^'lncRNA Subtracted values'!J78 -> 5.0285717 | K78: =2^'lncRNA Subtracted values'!K78 -> 5.6503274 | L78: =2^'lncRNA Subtracted values'!L78 -> 3.1071739 | M78: =2^'lncRNA Subtracted values'!M78 -> 8.2194221 | ... Q78: =2^'lncRNA Subtracted values'!Q78 -> 4.0825568
C79: HLA-A | D79: HCG9 | F79: =2^'lncRNA Subtracted values'!F79 -> 1.2409265 | G79: =2^'lncRNA Subtracted values'!G79 -> 0.92642986 | H79: =2^'lncRNA Subtracted values'!H79 -> 0.86984404 | I79: =2^'lncRNA Subtracted values'!I79 -> 1.2131462 | J79: =2^'lncRNA Subtracted values'!J79 -> 1.0494611 | K79: =2^'lncRNA Subtracted values'!K79 -> 0.75329516 | L79: =2^'lncRNA Subtracted values'!L79 -> 2.6961573 | M79: =2^'lncRNA Subtracted values'!M79 -> 1.7204135 | ... Q79: =2^'lncRNA Subtracted values'!Q79 -> 1.505188
... C141: VSIG8 | D141: RP11-190A12.8 | F141: =2^'lncRNA Subtracted values'!F141 -> 1.2234405 | G141: =2^'lncRNA Subtracted values'!G141 -> 0.86536132 | H141: =2^'lncRNA Subtracted values'!H141 -> 0.94453852 | I141: =2^'lncRNA Subtracted values'!I141 -> 0.4454991 | J141: =2^'lncRNA Subtracted values'!J141 -> 0.75801796 | K141: =2^'lncRNA Subtracted values'!K141 -> 0.33495603 | L141: =2^'lncRNA Subtracted values'!L141 -> 0.28332489 | M141: =2^'lncRNA Subtracted values'!M141 -> 0.32229121 | ... Q141: =2^'lncRNA Subtracted values'!Q141 -> 0.24018343

Sheet mRNA normailzed values
B2: mRNA
B3: FZD7 | C3: 6.361933 | D3: 6.221619 | E3: 6.3857594 | F3: 6.472241 | G3: 6.608656 | H3: 6.7718453 | I3: 6.689496 | J3: 6.618987 | K3: 6.49466 | L3: 8.378913 | M3: 8.331664 | N3: 8.267133
B4: SOGA2 | C4: 7.8911805 | D4: 7.8714237 | E4: 7.9121723 | F4: 8.094555 | G4: 7.800967 | H4: 8.025527 | I4: 5.942648 | J4: 6.097979 | K4: 6.575841 | L4: 7.757977 | M4: 7.6279917 | N4: 7.5140114
B5: THBS1 | C5: 7.8706884 | D5: 7.7605233 | E5: 7.5932755 | F5: 8.377044 | G5: 8.352155 | H5: 8.348212 | I5: 8.654626 | J5: 8.810695 | K5: 8.894036 | L5: 9.552098 | M5: 9.741174 | N5: 9.651488
A6: 2423 | B6: MFSD1 | C6: 3.3407793 | D6: 3.7242005 | E6: 3.6228664 | F6: 4.4707475 | G6: 3.5515006 | H6: 3.9192424 | I6: 5.7491016 | J6: 5.5013933 | K6: 5.9619823 | L6: 6.188724 | M6: 6.0646157 | N6: 5.837374
B7: PMEPA1 | C7: 10.505061 | D7: 10.560019 | E7: 10.585244 | F7: 11.669717 | G7: 11.840094 | H7: 11.874427 | I7: 9.208474 | J7: 9.1784525 | K7: 9.674392 | L7: 10.626737 | M7: 10.429486 | N7: 10.434723
B8: FAM83H | C8: 11.565492 | D8: 11.69241 | E8: 11.606257 | F8: 10.876115 | G8: 10.964597 | H8: 10.979533 | I8: 10.102597 | J8: 10.229971 | K8: 10.513517 | L8: 10.540374 | M8: 10.459341 | N8: 10.33315
B9: COTL1 | C9: 14.334896 | D9: 14.188632 | E9: 14.172153 | F9: 14.402723 | G9: 14.770634 | H9: 14.75231 | I9: 12.694342 | J9: 12.751574 | K9: 13.425687 | L9: 15.546398 | M9: 15.413159 | N9: 15.419357
B10: NFAM1 | C10: 12.505381 | D10: 11.985062 | E10: 11.872222 | F10: 12.1014 | G10: 12.598228 | H10: 12.192359 | I10: 11.41786 | J10: 11.334048 | K10: 10.616214 | L10: 11.181224 | M10: 10.809204 | N10: 10.761514
B11: HOXA11 | C11: 5.2133207 | D11: 4.0745306 | E11: 4.0721226 | F11: 5.154797 | G11: 5.2976427 | H11: 5.1048913 | I11: 7.7555137 | J11: 7.8233533 | K11: 8.243228 | L11: 8.61716 | M11: 8.569573 | N11: 8.51056
B12: SLC9A9 | C12: 6.3107414 | D12: 6.3612423 | E12: 6.3725224 | F12: 5.157266 | G12: 5.0838747 | H12: 5.707522 | I12: 6.149708 | J12: 5.5860014 | K12: 5.8127503 | L12: 5.2486534 | M12: 4.625738 | N12: 4.8883533
B13: PMEPA1 | C13: 10.505061 | D13: 10.560019 | E13: 10.585244 | F13: 11.669717 | G13: 11.840094 | H13: 11.874427 | I13: 9.208474 | J13: 9.1784525 | K13: 9.674392 | L13: 10.626737 | M13: 10.429486 | N13: 10.434723
B14: PMEPA1 | C14: 10.505061 | D14: 10.560019 | E14: 10.585244 | F14: 11.669717 | G14: 11.840094 | H14: 11.874427 | I14: 9.208474 | J14: 9.1784525 | K14: 9.674392 | L14: 10.626737 | M14: 10.429486 | N14: 10.434723
B15: HOXC11 | C15: 4.200629 | D15: 3.9856775 | E15: 3.5933104 | F15: 3.6251929 | G15: 4.367854 | H15: 4.9558496 | I15: 3.63361 | J15: 4.309733 | K15: 4.574005 | L15: 5.707522 | M15: 5.324679 | N15: 5.4838667
B16: FAM84B | C16: 8.06218 | D16: 8.04913 | E16: 8.000963 | F16: 9.0561495 | G16: 9.2118 | H16: 9.245721 | I16: 8.28331 | J16: 8.24219 | K16: 8.738625 | L16: 9.514813 | M16: 9.401804 | N16: 9.446875
B17: CENPN | C17: 9.489639 | D17: 9.318671 | E17: 9.271679 | F17: 9.4863205 | G17: 9.606362 | H17: 9.53812 | I17: 9.004472 | J17: 9.014244 | K17: 9.487405 | L17: 10.902344 | M17: 10.943126 | N17: 10.88838
B18: OSMR | C18: 7.069788 | D18: 7.022843 | E18: 7.069788 | F18: 7.159467 | G18: 7.071724 | H18: 7.162909 | I18: 6.782669 | J18: 6.792987 | K18: 7.21779 | L18: 8.527703 | M18: 8.608963 | N18: 8.454555
... B141: RARRES1 | C141: 6.3641353 | D141: 4.684921 | E141: 4.046988 | F141: 5.0867524 | G141: 5.1031327 | H141: 5.617204 | I141: 9.05695 | J141: 9.126694 | K141: 9.683441 | L141: 9.770659 | M141: 9.641422 | N141: 9.532384

Sheet mRNA Subtracted mRNA
C1: Normalized lncRNA
C2: 10A | F2: AT1 | I2: DCIS | L2: CA1
B3: mRNA | C3: 1 | D3: 2 | E3: 3 | F3: 1 | G3: 2 | H3: 3 | I3: 1 | J3: 2 | K3: 3 | L3: 1 | M3: 2 | N3: 3
B4: FZD7 | C4: ='mRNA normailzed values'!C3-(AVERAGE('mRNA normailzed values'!$C3:$E3)) -> 0.0388292 | D4: ='mRNA normailzed values'!D3-(AVERAGE('mRNA normailzed values'!$C3:$E3)) -> -0.1014848 | E4: ='mRNA normailzed values'!E3-(AVERAGE('mRNA normailzed values'!$C3:$E3)) -> 0.0626556 | F4: ='mRNA normailzed values'!F3-(AVERAGE('mRNA normailzed values'!$C3:$E3)) -> 0.1491372 | G4: ='mRNA normailzed values'!G3-(AVERAGE('mRNA normailzed values'!$C3:$E3)) -> 0.2855522 | H4: ='mRNA normailzed values'!H3-(AVERAGE('mRNA normailzed values'!$C3:$E3)) -> 0.4487415 | I4: ='mRNA normailzed values'!I3-(AVERAGE('mRNA normailzed values'!$C3:$E3)) -> 0.3663922 | J4: ='mRNA normailzed values'!J3-(AVERAGE('mRNA normailzed values'!$C3:$E3)) -> 0.2958832 | ... N4: ='mRNA normailzed values'!N3-(AVERAGE('mRNA normailzed values'!$C3:$E3)) -> 1.9440292
B5: SOGA2 | C5: ='mRNA normailzed values'!C4-(AVERAGE('mRNA normailzed values'!$C4:$E4)) -> -0.00041166667 | D5: ='mRNA normailzed values'!D4-(AVERAGE('mRNA normailzed values'!$C4:$E4)) -> -0.020168467 | E5: ='mRNA normailzed values'!E4-(AVERAGE('mRNA normailzed values'!$C4:$E4)) -> 0.020580133 | F5: ='mRNA normailzed values'!F4-(AVERAGE('mRNA normailzed values'!$C4:$E4)) -> 0.20296283 | G5: ='mRNA normailzed values'!G4-(AVERAGE('mRNA normailzed values'!$C4:$E4)) -> -0.090625167 | H5: ='mRNA normailzed values'!H4-(AVERAGE('mRNA normailzed values'!$C4:$E4)) -> 0.13393483 | I5: ='mRNA normailzed values'!I4-(AVERAGE('mRNA normailzed values'!$C4:$E4)) -> -1.9489442 | J5: ='mRNA normailzed values'!J4-(AVERAGE('mRNA normailzed values'!$C4:$E4)) -> -1.7936132 | ... N5: ='mRNA normailzed values'!N4-(AVERAGE('mRNA normailzed values'!$C4:$E4)) -> -0.37758077
B6: THBS1 | C6: ='mRNA normailzed values'!C5-(AVERAGE('mRNA normailzed values'!$C5:$E5)) -> 0.12919267 | D6: ='mRNA normailzed values'!D5-(AVERAGE('mRNA normailzed values'!$C5:$E5)) -> 0.019027567 | E6: ='mRNA normailzed values'!E5-(AVERAGE('mRNA normailzed values'!$C5:$E5)) -> -0.14822023 | F6: ='mRNA normailzed values'!F5-(AVERAGE('mRNA normailzed values'!$C5:$E5)) -> 0.63554827 | G6: ='mRNA normailzed values'!G5-(AVERAGE('mRNA normailzed values'!$C5:$E5)) -> 0.61065927 | H6: ='mRNA normailzed values'!H5-(AVERAGE('mRNA normailzed values'!$C5:$E5)) -> 0.60671627 | I6: ='mRNA normailzed values'!I5-(AVERAGE('mRNA normailzed values'!$C5:$E5)) -> 0.91313027 | J6: ='mRNA normailzed values'!J5-(AVERAGE('mRNA normailzed values'!$C5:$E5)) -> 1.0691993 | ... N6: ='mRNA normailzed values'!N5-(AVERAGE('mRNA normailzed values'!$C5:$E5)) -> 1.9099923
B7: MFSD1 | C7: ='mRNA normailzed values'!C6-(AVERAGE('mRNA normailzed values'!$C6:$E6)) -> -0.2218361 | D7: ='mRNA normailzed values'!D6-(AVERAGE('mRNA normailzed values'!$C6:$E6)) -> 0.1615851 | E7: ='mRNA normailzed values'!E6-(AVERAGE('mRNA normailzed values'!$C6:$E6)) -> 0.060251 | F7: ='mRNA normailzed values'!F6-(AVERAGE('mRNA normailzed values'!$C6:$E6)) -> 0.9081321 | G7: ='mRNA normailzed values'!G6-(AVERAGE('mRNA normailzed values'!$C6:$E6)) -> -0.0111148 | H7: ='mRNA normailzed values'!H6-(AVERAGE('mRNA normailzed values'!$C6:$E6)) -> 0.356627 | I7: ='mRNA normailzed values'!I6-(AVERAGE('mRNA normailzed values'!$C6:$E6)) -> 2.1864862 | J7: ='mRNA normailzed values'!J6-(AVERAGE('mRNA normailzed values'!$C6:$E6)) -> 1.9387779 | ... N7: ='mRNA normailzed values'!N6-(AVERAGE('mRNA normailzed values'!$C6:$E6)) -> 2.2747586
B8: PMEPA1 | C8: ='mRNA normailzed values'!C7-(AVERAGE('mRNA normailzed values'!$C7:$E7)) -> -0.045047167 | D8: ='mRNA normailzed values'!D7-(AVERAGE('mRNA normailzed values'!$C7:$E7)) -> 0.0099113333 | E8: ='mRNA normailzed values'!E7-(AVERAGE('mRNA normailzed values'!$C7:$E7)) -> 0.035135833 | F8: ='mRNA normailzed values'!F7-(AVERAGE('mRNA normailzed values'!$C7:$E7)) -> 1.1196088 | G8: ='mRNA normailzed values'!G7-(AVERAGE('mRNA normailzed values'!$C7:$E7)) -> 1.2899858 | H8: ='mRNA normailzed values'!H7-(AVERAGE('mRNA normailzed values'!$C7:$E7)) -> 1.3243188 | I8: ='mRNA normailzed values'!I7-(AVERAGE('mRNA normailzed values'!$C7:$E7)) -> -1.3416342 | J8: ='mRNA normailzed values'!J7-(AVERAGE('mRNA normailzed values'!$C7:$E7)) -> -1.3716557 | ... N8: ='mRNA normailzed values'!N7-(AVERAGE('mRNA normailzed values'!$C7:$E7)) -> -0.11538517
B9: FAM83H | C9: ='mRNA normailzed values'!C8-(AVERAGE('mRNA normailzed values'!$C8:$E8)) -> -0.055894167 | D9: ='mRNA normailzed values'!D8-(AVERAGE('mRNA normailzed values'!$C8:$E8)) -> 0.071023333 | E9: ='mRNA normailzed values'!E8-(AVERAGE('mRNA normailzed values'!$C8:$E8)) -> -0.015129167 | F9: ='mRNA normailzed values'!F8-(AVERAGE('mRNA normailzed values'!$C8:$E8)) -> -0.74527117 | G9: ='mRNA normailzed values'!G8-(AVERAGE('mRNA normailzed values'!$C8:$E8)) -> -0.65678917 | H9: ='mRNA normailzed values'!H8-(AVERAGE('mRNA normailzed values'!$C8:$E8)) -> -0.64185317 | I9: ='mRNA normailzed values'!I8-(AVERAGE('mRNA normailzed values'!$C8:$E8)) -> -1.5187892 | J9: ='mRNA normailzed values'!J8-(AVERAGE('mRNA normailzed values'!$C8:$E8)) -> -1.3914152 | ... N9: ='mRNA normailzed values'!N8-(AVERAGE('mRNA normailzed values'!$C8:$E8)) -> -1.2882362
B10: COTL1 | C10: ='mRNA normailzed values'!C9-(AVERAGE('mRNA normailzed values'!$C9:$E9)) -> 0.10300233 | D10: ='mRNA normailzed values'!D9-(AVERAGE('mRNA normailzed values'!$C9:$E9)) -> -0.043261667 | E10: ='mRNA normailzed values'!E9-(AVERAGE('mRNA normailzed values'!$C9:$E9)) -> -0.059740667 | F10: ='mRNA normailzed values'!F9-(AVERAGE('mRNA normailzed values'!$C9:$E9)) -> 0.17082933 | G10: ='mRNA normailzed values'!G9-(AVERAGE('mRNA normailzed values'!$C9:$E9)) -> 0.53874033 | H10: ='mRNA normailzed values'!H9-(AVERAGE('mRNA normailzed values'!$C9:$E9)) -> 0.52041633 | I10: ='mRNA normailzed values'!I9-(AVERAGE('mRNA normailzed values'!$C9:$E9)) -> -1.5375517 | J10: ='mRNA normailzed values'!J9-(AVERAGE('mRNA normailzed values'!$C9:$E9)) -> -1.4803197 | ... N10: ='mRNA normailzed values'!N9-(AVERAGE('mRNA normailzed values'!$C9:$E9)) -> 1.1874633
B11: NFAM1 | C11: ='mRNA normailzed values'!C10-(AVERAGE('mRNA normailzed values'!$C10:$E10)) -> 0.38449267 | D11: ='mRNA normailzed values'!D10-(AVERAGE('mRNA normailzed values'!$C10:$E10)) -> -0.13582633 | E11: ='mRNA normailzed values'!E10-(AVERAGE('mRNA normailzed values'!$C10:$E10)) -> -0.24866633 | F11: ='mRNA normailzed values'!F10-(AVERAGE('mRNA normailzed values'!$C10:$E10)) -> -0.019488333 | G11: ='mRNA normailzed values'!G10-(AVERAGE('mRNA normailzed values'!$C10:$E10)) -> 0.47733967 | H11: ='mRNA normailzed values'!H10-(AVERAGE('mRNA normailzed values'!$C10:$E10)) -> 0.071470667 | I11: ='mRNA normailzed values'!I10-(AVERAGE('mRNA normailzed values'!$C10:$E10)) -> -0.70302833 | J11: ='mRNA normailzed values'!J10-(AVERAGE('mRNA normailzed values'!$C10:$E10)) -> -0.78684033 | ... N11: ='mRNA normailzed values'!N10-(AVERAGE('mRNA normailzed values'!$C10:$E10)) -> -1.3593743
B12: HOXA11 | C12: ='mRNA normailzed values'!C11-(AVERAGE('mRNA normailzed values'!$C11:$E11)) -> 0.75999607 | D12: ='mRNA normailzed values'!D11-(AVERAGE('mRNA normailzed values'!$C11:$E11)) -> -0.37879403 | E12: ='mRNA normailzed values'!E11-(AVERAGE('mRNA normailzed values'!$C11:$E11)) -> -0.38120203 | F12: ='mRNA normailzed values'!F11-(AVERAGE('mRNA normailzed values'!$C11:$E11)) -> 0.70147237 | G12: ='mRNA normailzed values'!G11-(AVERAGE('mRNA normailzed values'!$C11:$E11)) -> 0.84431807 | H12: ='mRNA normailzed values'!H11-(AVERAGE('mRNA normailzed values'!$C11:$E11)) -> 0.65156667 | I12: ='mRNA normailzed values'!I11-(AVERAGE('mRNA normailzed values'!$C11:$E11)) -> 3.3021891 | J12: ='mRNA normailzed values'!J11-(AVERAGE('mRNA normailzed values'!$C11:$E11)) -> 3.3700287 | ... N12: ='mRNA normailzed values'!N11-(AVERAGE('mRNA normailzed values'!$C11:$E11)) -> 4.0572354
B13: SLC9A9 | C13: ='mRNA normailzed values'!C12-(AVERAGE('mRNA normailzed values'!$C12:$E12)) -> -0.0374273 | D13: ='mRNA normailzed values'!D12-(AVERAGE('mRNA normailzed values'!$C12:$E12)) -> 0.0130736 | E13: ='mRNA normailzed values'!E12-(AVERAGE('mRNA normailzed values'!$C12:$E12)) -> 0.0243537 | F13: ='mRNA normailzed values'!F12-(AVERAGE('mRNA normailzed values'!$C12:$E12)) -> -1.1909027 | G13: ='mRNA normailzed values'!G12-(AVERAGE('mRNA normailzed values'!$C12:$E12)) -> -1.264294 | H13: ='mRNA normailzed values'!H12-(AVERAGE('mRNA normailzed values'!$C12:$E12)) -> -0.6406467 | I13: ='mRNA normailzed values'!I12-(AVERAGE('mRNA normailzed values'!$C12:$E12)) -> -0.1984607 | J13: ='mRNA normailzed values'!J12-(AVERAGE('mRNA normailzed values'!$C12:$E12)) -> -0.7621673 | ... N13: ='mRNA normailzed values'!N12-(AVERAGE('mRNA normailzed values'!$C12:$E12)) -> -1.4598154
B14: PMEPA1 | C14: ='mRNA normailzed values'!C13-(AVERAGE('mRNA normailzed values'!$C13:$E13)) -> -0.045047167 | D14: ='mRNA normailzed values'!D13-(AVERAGE('mRNA normailzed values'!$C13:$E13)) -> 0.0099113333 | E14: ='mRNA normailzed values'!E13-(AVERAGE('mRNA normailzed values'!$C13:$E13)) -> 0.035135833 | F14: ='mRNA normailzed values'!F13-(AVERAGE('mRNA normailzed values'!$C13:$E13)) -> 1.1196088 | G14: ='mRNA normailzed values'!G13-(AVERAGE('mRNA normailzed values'!$C13:$E13)) -> 1.2899858 | H14: ='mRNA normailzed values'!H13-(AVERAGE('mRNA normailzed values'!$C13:$E13)) -> 1.3243188 | I14: ='mRNA normailzed values'!I13-(AVERAGE('mRNA normailzed values'!$C13:$E13)) -> -1.3416342 | J14: ='mRNA normailzed values'!J13-(AVERAGE('mRNA normailzed values'!$C13:$E13)) -> -1.3716557 | ... N14: ='mRNA normailzed values'!N13-(AVERAGE('mRNA normailzed values'!$C13:$E13)) -> -0.11538517
B15: PMEPA1 | C15: ='mRNA normailzed values'!C14-(AVERAGE('mRNA normailzed values'!$C14:$E14)) -> -0.045047167 | D15: ='mRNA normailzed values'!D14-(AVERAGE('mRNA normailzed values'!$C14:$E14)) -> 0.0099113333 | E15: ='mRNA normailzed values'!E14-(AVERAGE('mRNA normailzed values'!$C14:$E14)) -> 0.035135833 | F15: ='mRNA normailzed values'!F14-(AVERAGE('mRNA normailzed values'!$C14:$E14)) -> 1.1196088 | G15: ='mRNA normailzed values'!G14-(AVERAGE('mRNA normailzed values'!$C14:$E14)) -> 1.2899858 | H15: ='mRNA normailzed values'!H14-(AVERAGE('mRNA normailzed values'!$C14:$E14)) -> 1.3243188 | I15: ='mRNA normailzed values'!I14-(AVERAGE('mRNA normailzed values'!$C14:$E14)) -> -1.3416342 | J15: ='mRNA normailzed values'!J14-(AVERAGE('mRNA normailzed values'!$C14:$E14)) -> -1.3716557 | ... N15: ='mRNA normailzed values'!N14-(AVERAGE('mRNA normailzed values'!$C14:$E14)) -> -0.11538517
... B142: RARRES1 | C142: ='mRNA normailzed values'!C141-(AVERAGE('mRNA normailzed values'!$C141:$E141)) -> 1.3321205 | D142: ='mRNA normailzed values'!D141-(AVERAGE('mRNA normailzed values'!$C141:$E141)) -> -0.34709377 | E142: ='mRNA normailzed values'!E141-(AVERAGE('mRNA normailzed values'!$C141:$E141)) -> -0.98502677 | F142: ='mRNA normailzed values'!F141-(AVERAGE('mRNA normailzed values'!$C141:$E141)) -> 0.054737633 | G142: ='mRNA normailzed values'!G141-(AVERAGE('mRNA normailzed values'!$C141:$E141)) -> 0.071117933 | H142: ='mRNA normailzed values'!H141-(AVERAGE('mRNA normailzed values'!$C141:$E141)) -> 0.58518923 | I142: ='mRNA normailzed values'!I141-(AVERAGE('mRNA normailzed values'!$C141:$E141)) -> 4.0249352 | J142: ='mRNA normailzed values'!J141-(AVERAGE('mRNA normailzed values'!$C141:$E141)) -> 4.0946792 | ... N142: ='mRNA normailzed values'!N141-(AVERAGE('mRNA normailzed values'!$C141:$E141)) -> 4.5003692

Sheet mRNA 2^
C1: Normalized lncRNA
C2: 10A | F2: AT1 | I2: DCIS | L2: CA1
B3: mRNA | C3: 1 | D3: 2 | E3: 3 | F3: 1 | G3: 2 | H3: 3 | I3: 1 | J3: 2 | K3: 3 | L3: 1 | M3: 2 | N3: 3
B4: FZD7 | C4: =2^'mRNA Subtracted mRNA'!C4 -> 1.0272798 | D4: =2^'mRNA Subtracted mRNA'!D4 -> 0.93207322 | E4: =2^'mRNA Subtracted mRNA'!E4 -> 1.0443864 | F4: =2^'mRNA Subtracted mRNA'!F4 -> 1.1089061 | G4: =2^'mRNA Subtracted mRNA'!G4 -> 1.2188767 | H4: =2^'mRNA Subtracted mRNA'!H4 -> 1.3648491 | I4: =2^'mRNA Subtracted mRNA'!I4 -> 1.289125 | J4: =2^'mRNA Subtracted mRNA'!J4 -> 1.2276363 | ... N4: =2^'mRNA Subtracted mRNA'!N4 -> 3.8477877
B5: SOGA2 | C5: =2^'mRNA Subtracted mRNA'!C5 -> 0.9997147 | D5: =2^'mRNA Subtracted mRNA'!D5 -> 0.98611755 | E5: =2^'mRNA Subtracted mRNA'!E5 -> 1.0143673 | F5: =2^'mRNA Subtracted mRNA'!F5 -> 1.1510598 | G5: =2^'mRNA Subtracted mRNA'!G5 -> 0.93911571 | H5: =2^'mRNA Subtracted mRNA'!H5 -> 1.0972824 | I5: =2^'mRNA Subtracted mRNA'!I5 -> 0.25900571 | J5: =2^'mRNA Subtracted mRNA'!J5 -> 0.28844873 | ... N5: =2^'mRNA Subtracted mRNA'!N5 -> 0.76972725
B6: THBS1 | C6: =2^'mRNA Subtracted mRNA'!C6 -> 1.0936815 | D6: =2^'mRNA Subtracted mRNA'!D6 -> 1.0132763 | E6: =2^'mRNA Subtracted mRNA'!E6 -> 0.90236297 | F6: =2^'mRNA Subtracted mRNA'!F6 -> 1.553528 | G6: =2^'mRNA Subtracted mRNA'!G6 -> 1.5269568 | H6: =2^'mRNA Subtracted mRNA'!H6 -> 1.5227892 | I6: =2^'mRNA Subtracted mRNA'!I6 -> 1.883127 | J6: =2^'mRNA Subtracted mRNA'!J6 -> 2.0982684 | ... N6: =2^'mRNA Subtracted mRNA'!N6 -> 3.7580709
B7: MFSD1 | C7: =2^'mRNA Subtracted mRNA'!C7 -> 0.85747345 | D7: =2^'mRNA Subtracted mRNA'!D7 -> 1.1185154 | E7: =2^'mRNA Subtracted mRNA'!E7 -> 1.0426471 | F7: =2^'mRNA Subtracted mRNA'!F7 -> 1.8766142 | G7: =2^'mRNA Subtracted mRNA'!G7 -> 0.99232541 | H7: =2^'mRNA Subtracted mRNA'!H7 -> 1.2804288 | I7: =2^'mRNA Subtracted mRNA'!I7 -> 4.5519547 | J7: =2^'mRNA Subtracted mRNA'!J7 -> 3.8338075 | ... N7: =2^'mRNA Subtracted mRNA'!N7 -> 4.8391666
B8: PMEPA1 | C8: =2^'mRNA Subtracted mRNA'!C8 -> 0.96925813 | D8: =2^'mRNA Subtracted mRNA'!D8 -> 1.0068937 | E8: =2^'mRNA Subtracted mRNA'!E8 -> 1.0246533 | F8: =2^'mRNA Subtracted mRNA'!F8 -> 2.1728805 | G8: =2^'mRNA Subtracted mRNA'!G8 -> 2.4452565 | H8: =2^'mRNA Subtracted mRNA'!H8 -> 2.5041463 | I8: =2^'mRNA Subtracted mRNA'!I8 -> 0.39457346 | J8: =2^'mRNA Subtracted mRNA'!J8 -> 0.3864475 | ... N8: =2^'mRNA Subtracted mRNA'!N8 -> 0.92313582
B9: FAM83H | C9: =2^'mRNA Subtracted mRNA'!C9 -> 0.96199802 | D9: =2^'mRNA Subtracted mRNA'!D9 -> 1.0504615 | E9: =2^'mRNA Subtracted mRNA'!E9 -> 0.98956805 | F9: =2^'mRNA Subtracted mRNA'!F9 -> 0.59655573 | G9: =2^'mRNA Subtracted mRNA'!G9 -> 0.63428839 | H9: =2^'mRNA Subtracted mRNA'!H9 -> 0.64088919 | I9: =2^'mRNA Subtracted mRNA'!I9 -> 0.34897869 | J9: =2^'mRNA Subtracted mRNA'!J9 -> 0.3811907 | ... N9: =2^'mRNA Subtracted mRNA'!N9 -> 0.40945132
B10: COTL1 | C10: =2^'mRNA Subtracted mRNA'!C10 -> 1.0740062 | D10: =2^'mRNA Subtracted mRNA'!D10 -> 0.97045844 | E10: =2^'mRNA Subtracted mRNA'!E10 -> 0.95943657 | F10: =2^'mRNA Subtracted mRNA'!F10 -> 1.1257054 | G10: =2^'mRNA Subtracted mRNA'!G10 -> 1.4527036 | H10: =2^'mRNA Subtracted mRNA'!H10 -> 1.4343691 | I10: =2^'mRNA Subtracted mRNA'!I10 -> 0.34446954 | J10: =2^'mRNA Subtracted mRNA'!J10 -> 0.35840939 | ... N10: =2^'mRNA Subtracted mRNA'!N10 -> 2.2775194
B11: NFAM1 | C11: =2^'mRNA Subtracted mRNA'!C11 -> 1.3054007 | D11: =2^'mRNA Subtracted mRNA'!D11 -> 0.91014838 | E11: =2^'mRNA Subtracted mRNA'!E11 -> 0.84167412 | F11: =2^'mRNA Subtracted mRNA'!F11 -> 0.98658254 | G11: =2^'mRNA Subtracted mRNA'!G11 -> 1.3921741 | H11: =2^'mRNA Subtracted mRNA'!H11 -> 1.0507873 | I11: =2^'mRNA Subtracted mRNA'!I11 -> 0.61428143 | J11: =2^'mRNA Subtracted mRNA'!J11 -> 0.57961212 | ... N11: =2^'mRNA Subtracted mRNA'!N11 -> 0.38975128
B12: HOXA11 | C12: =2^'mRNA Subtracted mRNA'!C12 -> 1.693486 | D12: =2^'mRNA Subtracted mRNA'!D12 -> 0.76908021 | E12: =2^'mRNA Subtracted mRNA'!E12 -> 0.76779761 | F12: =2^'mRNA Subtracted mRNA'!F12 -> 1.6261636 | G12: =2^'mRNA Subtracted mRNA'!G12 -> 1.7954159 | H12: =2^'mRNA Subtracted mRNA'!H12 -> 1.5708731 | I12: =2^'mRNA Subtracted mRNA'!I12 -> 9.8641112 | J12: =2^'mRNA Subtracted mRNA'!J12 -> 10.339028 | ... N12: =2^'mRNA Subtracted mRNA'!N12 -> 16.64752
B13: SLC9A9 | C13: =2^'mRNA Subtracted mRNA'!C13 -> 0.97439099 | D13: =2^'mRNA Subtracted mRNA'!D13 -> 1.0091031 | E13: =2^'mRNA Subtracted mRNA'!E13 -> 1.017024 | F13: =2^'mRNA Subtracted mRNA'!F13 -> 0.4380287 | G13: =2^'mRNA Subtracted mRNA'!G13 -> 0.41630304 | H13: =2^'mRNA Subtracted mRNA'!H13 -> 0.64142536 | I13: =2^'mRNA Subtracted mRNA'!I13 -> 0.8714799 | J13: =2^'mRNA Subtracted mRNA'!J13 -> 0.58960992 | ... N13: =2^'mRNA Subtracted mRNA'!N13 -> 0.36353964
B14: PMEPA1 | C14: =2^'mRNA Subtracted mRNA'!C14 -> 0.96925813 | D14: =2^'mRNA Subtracted mRNA'!D14 -> 1.0068937 | E14: =2^'mRNA Subtracted mRNA'!E14 -> 1.0246533 | F14: =2^'mRNA Subtracted mRNA'!F14 -> 2.1728805 | G14: =2^'mRNA Subtracted mRNA'!G14 -> 2.4452565 | H14: =2^'mRNA Subtracted mRNA'!H14 -> 2.5041463 | I14: =2^'mRNA Subtracted mRNA'!I14 -> 0.39457346 | J14: =2^'mRNA Subtracted mRNA'!J14 -> 0.3864475 | ... N14: =2^'mRNA Subtracted mRNA'!N14 -> 0.92313582
B15: PMEPA1 | C15: =2^'mRNA Subtracted mRNA'!C15 -> 0.96925813 | D15: =2^'mRNA Subtracted mRNA'!D15 -> 1.0068937 | E15: =2^'mRNA Subtracted mRNA'!E15 -> 1.0246533 | F15: =2^'mRNA Subtracted mRNA'!F15 -> 2.1728805 | G15: =2^'mRNA Subtracted mRNA'!G15 -> 2.4452565 | H15: =2^'mRNA Subtracted mRNA'!H15 -> 2.5041463 | I15: =2^'mRNA Subtracted mRNA'!I15 -> 0.39457346 | J15: =2^'mRNA Subtracted mRNA'!J15 -> 0.3864475 | ... N15: =2^'mRNA Subtracted mRNA'!N15 -> 0.92313582
... B142: RARRES1 | C142: =2^'mRNA Subtracted mRNA'!C142 -> 2.5177247 | D142: =2^'mRNA Subtracted mRNA'!D142 -> 0.78616619 | E142: =2^'mRNA Subtracted mRNA'!E142 -> 0.50521635 | F142: =2^'mRNA Subtracted mRNA'!F142 -> 1.0386702 | G142: =2^'mRNA Subtracted mRNA'!G142 -> 1.0505304 | H142: =2^'mRNA Subtracted mRNA'!H142 -> 1.5002358 | I142: =2^'mRNA Subtracted mRNA'!I142 -> 16.278944 | J142: =2^'mRNA Subtracted mRNA'!J142 -> 17.085247 | ... N142: =2^'mRNA Subtracted mRNA'!N142 -> 22.633209

Sheet Averages
C1: 10A | D1: 10A | E1: AT1 | F1: AT1 | G1: DCIS | H1: DCIS | I1: CA1 | J1: CA1 | M1: 10A | N1: 10A | O1: AT1 | P1: AT1 | Q1: DCIS | R1: DCIS | S1: CA1 | T1: CA1
B2: lncRNA | C2: Average | D2: STDev | E2: Average | F2: STDev | G2: Average | H2: STDev | I2: Average | J2: STDev | L2: mRNA | M2: Average | N2: STDev | O2: Average | P2: STDev | Q2: Average | R2: STDev | S2: Average | T2: STDev
B3: RP11-107N15.1 | C3: =AVERAGE('lncRNA 2^'!F121:H121) -> 1.0682237 | D3: =STDEV('lncRNA 2^'!F121:H121) -> 0.49928575 | E3: =AVERAGE('lncRNA 2^'!I121:K121) -> 1.0809442 | F3: =STDEV('lncRNA 2^'!I121:K121) -> 0.2141741 | G3: =AVERAGE('lncRNA 2^'!L121:N121) -> 1.752578 | H3: =STDEV('lncRNA 2^'!L121:N121) -> 0.43299307 | I3: =AVERAGE('lncRNA 2^'!O121:Q121) -> 15.818354 | J3: =STDEV('lncRNA 2^'!O121:Q121) -> 1.6861169 | L3: FZD7 | M3: =AVERAGE('mRNA 2^'!C4:E4) -> 1.0012465 | N3: =STDEV('mRNA 2^'!C4:E4) -> 0.060513338 | O3: =AVERAGE('mRNA 2^'!F4:H4) -> 1.2308773 | P3: =STDEV('mRNA 2^'!F4:H4) -> 0.12839284 | Q3: =AVERAGE('mRNA 2^'!I4:K4) -> 1.2143447 | R3: =STDEV('mRNA 2^'!I4:K4) -> 0.082235758 | S3: =AVERAGE('mRNA 2^'!L4:N4) -> 4.0097867 | T3: =STDEV('mRNA 2^'!L4:N4) -> 0.15546477
B4: RP11-674N23.1 | C4: =AVERAGE('lncRNA 2^'!F56:H56) -> 1.2245612 | D4: =STDEV('lncRNA 2^'!F56:H56) -> 0.99646492 | E4: =AVERAGE('lncRNA 2^'!I56:K56) -> 6.7615308 | F4: =STDEV('lncRNA 2^'!I56:K56) -> 0.29804191 | G4: =AVERAGE('lncRNA 2^'!L56:N56) -> 0.52708676 | H4: =STDEV('lncRNA 2^'!L56:N56) -> 0.0079245791 | I4: =AVERAGE('lncRNA 2^'!O56:Q56) -> 9.689151 | J4: =STDEV('lncRNA 2^'!O56:Q56) -> 1.327603 | L4: SOGA2 | M4: =AVERAGE('mRNA 2^'!C5:E5) -> 1.0000665 | N4: =STDEV('mRNA 2^'!C5:E5) -> 0.014128159 | O4: =AVERAGE('mRNA 2^'!F5:H5) -> 1.062486 | P4: =STDEV('mRNA 2^'!F5:H5) -> 0.11017336 | Q4: =AVERAGE('mRNA 2^'!I5:K5) -> 0.31639024 | R4: =STDEV('mRNA 2^'!I5:K5) -> 0.075346681 | S4: =AVERAGE('mRNA 2^'!L5:N5) -> 0.83809269 | T4: =STDEV('mRNA 2^'!L5:N5) -> 0.071045255
B5: CTD-2033D15.1 | C5: =AVERAGE('lncRNA 2^'!F98:H98) -> 1.0010389 | D5: =STDEV('lncRNA 2^'!F98:H98) -> 0.055958307 | E5: =AVERAGE('lncRNA 2^'!I98:K98) -> 1.3898249 | F5: =STDEV('lncRNA 2^'!I98:K98) -> 0.10725752 | G5: =AVERAGE('lncRNA 2^'!L98:N98) -> 2.4159364 | H5: =STDEV('lncRNA 2^'!L98:N98) -> 0.29425617 | I5: =AVERAGE('lncRNA 2^'!O98:Q98) -> 4.917543 | J5: =STDEV('lncRNA 2^'!O98:Q98) -> 0.38166354 | L5: THBS1 | M5: =AVERAGE('mRNA 2^'!C6:E6) -> 1.0031069 | N5: =STDEV('mRNA 2^'!C6:E6) -> 0.09606382 | O5: =AVERAGE('mRNA 2^'!F6:H6) -> 1.5344247 | P5: =STDEV('mRNA 2^'!F6:H6) -> 0.016674689 | Q5: =AVERAGE('mRNA 2^'!I6:K6) -> 2.0681484 | R5: =STDEV('mRNA 2^'!I6:K6) -> 0.17195144 | S5: =AVERAGE('mRNA 2^'!L6:N6) -> 3.755022 | T5: =STDEV('mRNA 2^'!L6:N6) -> 0.24562473
B6: RP11-379F4.4 | C6: =AVERAGE('lncRNA 2^'!F42:H42) -> 1.0071891 | D6: =STDEV('lncRNA 2^'!F42:H42) -> 0.151298 | E6: =AVERAGE('lncRNA 2^'!I42:K42) -> 0.94193367 | F6: =STDEV('lncRNA 2^'!I42:K42) -> 0.023109408 | G6: =AVERAGE('lncRNA 2^'!L42:N42) -> 4.6079538 | H6: =STDEV('lncRNA 2^'!L42:N42) -> 2.3833956 | I6: =AVERAGE('lncRNA 2^'!O42:Q42) -> 4.4223909 | J6: =STDEV('lncRNA 2^'!O42:Q42) -> 0.33689148 | L6: RARRES1 | M6: 1.2697024 | N6: 1.0899096 | O6: 1.1964788 | P6: 0.26312808 | Q6: 19.498572 | R6: 4.8949097 | S6: 24.580346 | T6: 2.037592
B7: NKILA | C7: =AVERAGE('lncRNA 2^'!F50:H50) -> 1.0046444 | D7: =STDEV('lncRNA 2^'!F50:H50) -> 0.12007861 | E7: =AVERAGE('lncRNA 2^'!I50:K50) -> 1.8717558 | F7: =STDEV('lncRNA 2^'!I50:K50) -> 0.36264383 | G7: =AVERAGE('lncRNA 2^'!L50:N50) -> 0.38207564 | H7: =STDEV('lncRNA 2^'!L50:N50) -> 0.10705789 | I7: =AVERAGE('lncRNA 2^'!O50:Q50) -> 4.2342719 | J7: =STDEV('lncRNA 2^'!O50:Q50) -> 0.073500529 | L7: PMEPA1 | M7: =AVERAGE('mRNA 2^'!C8:E8) -> 1.0002684 | N7: =STDEV('mRNA 2^'!C8:E8) -> 0.028285633 | O7: =AVERAGE('mRNA 2^'!F8:H8) -> 2.3740944 | P7: =STDEV('mRNA 2^'!F8:H8) -> 0.17672659 | Q7: =AVERAGE('mRNA 2^'!I8:K8) -> 0.44200141 | R7: =STDEV('mRNA 2^'!I8:K8) -> 0.089277404 | S7: =AVERAGE('mRNA 2^'!L8:N8) -> 0.9658259 | T7: =STDEV('mRNA 2^'!L8:N8) -> 0.076856368
B8: FAM83H-AS1 | C8: =AVERAGE('lncRNA 2^'!F78:H78) -> 1.0001629 | D8: =STDEV('lncRNA 2^'!F78:H78) -> 0.022073623 | E8: =AVERAGE('lncRNA 2^'!I78:K78) -> 5.337146 | F8: =STDEV('lncRNA 2^'!I78:K78) -> 0.31090348 | G8: =AVERAGE('lncRNA 2^'!L78:N78) -> 5.9068723 | H8: =STDEV('lncRNA 2^'!L78:N78) -> 2.5907057 | I8: =AVERAGE('lncRNA 2^'!O78:Q78) -> 4.2228704 | J8: =STDEV('lncRNA 2^'!O78:Q78) -> 0.22097765 | L8: FAM83H | M8: =AVERAGE('mRNA 2^'!C9:E9) -> 1.0006759 | N8: =STDEV('mRNA 2^'!C9:E9) -> 0.045265725 | O8: =AVERAGE('mRNA 2^'!F9:H9) -> 0.6239111 | P8: =STDEV('mRNA 2^'!F9:H9) -> 0.023919235 | Q8: =AVERAGE('mRNA 2^'!I9:K9) -> 0.3980494 | R8: =STDEV('mRNA 2^'!I9:K9) -> 0.059324692 | S8: =AVERAGE('mRNA 2^'!L9:N9) -> 0.44300899 | T8: =STDEV('mRNA 2^'!L9:N9) -> 0.031799948
B9: RP11-61F12.1 | C9: =AVERAGE('lncRNA 2^'!F22:H22) -> 1.0383133 | D9: =STDEV('lncRNA 2^'!F22:H22) -> 0.35574711 | E9: =AVERAGE('lncRNA 2^'!I22:K22) -> 0.97729334 | F9: =STDEV('lncRNA 2^'!I22:K22) -> 0.18273295 | G9: =AVERAGE('lncRNA 2^'!L22:N22) -> 6.9972178 | H9: =STDEV('lncRNA 2^'!L22:N22) -> 1.2502645 | I9: =AVERAGE('lncRNA 2^'!O22:Q22) -> 3.8069798 | J9: =STDEV('lncRNA 2^'!O22:Q22) -> 0.94071047 | L9: COTL1 | M9: =AVERAGE('mRNA 2^'!C10:E10) -> 1.0013004 | N9: =STDEV('mRNA 2^'!C10:E10) -> 0.063205781 | O9: =AVERAGE('mRNA 2^'!F10:H10) -> 1.3375927 | P9: =STDEV('mRNA 2^'!F10:H10) -> 0.18372862 | Q9: =AVERAGE('mRNA 2^'!I10:K10) -> 0.42492083 | R9: =STDEV('mRNA 2^'!I10:K10) -> 0.12746416 | S9: =AVERAGE('mRNA 2^'!L10:N10) -> 2.344148 | T9: =STDEV('mRNA 2^'!L10:N10) -> 0.12395571
B10: Z83851.1 | C10: =AVERAGE('lncRNA 2^'!F47:H47) -> 1.0119116 | D10: =STDEV('lncRNA 2^'!F47:H47) -> 0.19499257 | E10: =AVERAGE('lncRNA 2^'!I47:K47) -> 0.75296789 | F10: =STDEV('lncRNA 2^'!I47:K47) -> 0.10179128 | G10: =AVERAGE('lncRNA 2^'!L47:N47) -> 2.4316154 | H10: =STDEV('lncRNA 2^'!L47:N47) -> 0.27297959 | I10: =AVERAGE('lncRNA 2^'!O47:Q47) -> 3.7955274 | J10: =STDEV('lncRNA 2^'!O47:Q47) -> 0.15231521 | L10: NFAM1 | M10: =AVERAGE('mRNA 2^'!C11:E11) -> 1.0190744 | N10: =STDEV('mRNA 2^'!C11:E11) -> 0.25031826 | O10: =AVERAGE('mRNA 2^'!F11:H11) -> 1.1431813 | P10: =STDEV('mRNA 2^'!F11:H11) -> 0.21801061 | Q10: =AVERAGE('mRNA 2^'!I11:K11) -> 0.51543443 | R10: =STDEV('mRNA 2^'!I11:K11) -> 0.14224373 | S10: =AVERAGE('mRNA 2^'!L11:N11) -> 0.43798524 | T10: =STDEV('mRNA 2^'!L11:N11) -> 0.072496063
B11: HOXA11-AS | C11: =AVERAGE('lncRNA 2^'!F34:H34) -> 1.0002261 | D11: =STDEV('lncRNA 2^'!F34:H34) -> 0.026042432 | E11: =AVERAGE('lncRNA 2^'!I34:K34) -> 0.6182323 | F11: =STDEV('lncRNA 2^'!I34:K34) -> 0.15024409 | G11: =AVERAGE('lncRNA 2^'!L34:N34) -> 2.2024339 | H11: =STDEV('lncRNA 2^'!L34:N34) -> 0.54669201 | I11: =AVERAGE('lncRNA 2^'!O34:Q34) -> 3.6311002 | J11: =STDEV('lncRNA 2^'!O34:Q34) -> 0.10471545 | L11: HOXA11 | M11: =AVERAGE('mRNA 2^'!C12:E12) -> 1.0767879 | N11: =STDEV('mRNA 2^'!C12:E12) -> 0.53407658 | O11: =AVERAGE('mRNA 2^'!F12:H12) -> 1.6641509 | P11: =STDEV('mRNA 2^'!F12:H12) -> 0.11699205 | Q11: =AVERAGE('mRNA 2^'!I12:K12) -> 11.344936 | R11: =STDEV('mRNA 2^'!I12:K12) -> 2.1666258 | S11: =AVERAGE('mRNA 2^'!L12:N12) -> 17.304768 | T11: =STDEV('mRNA 2^'!L12:N12) -> 0.63917128
B12: CATG00000062072.1 | C12: =AVERAGE('lncRNA 2^'!F139:H139) -> 1.0131485 | D12: =STDEV('lncRNA 2^'!F139:H139) -> 0.20341864 | E12: =AVERAGE('lncRNA 2^'!I139:K139) -> 0.93439209 | F12: =STDEV('lncRNA 2^'!I139:K139) -> 0.15342652 | G12: =AVERAGE('lncRNA 2^'!L139:N139) -> 5.2153001 | H12: =STDEV('lncRNA 2^'!L139:N139) -> 0.72545723 | I12: =AVERAGE('lncRNA 2^'!O139:Q139) -> 3.5600798 | J12: =STDEV('lncRNA 2^'!O139:Q139) -> 0.47459491 | L12: SLC9A9 | M12: =AVERAGE('mRNA 2^'!C13:E13) -> 1.0001727 | N12: =STDEV('mRNA 2^'!C13:E13) -> 0.022676138 | O12: =AVERAGE('mRNA 2^'!F13:H13) -> 0.4985857 | P12: =STDEV('mRNA 2^'!F13:H13) -> 0.12417881 | Q12: =AVERAGE('mRNA 2^'!I13:K13) -> 0.71701612 | R12: =STDEV('mRNA 2^'!I13:K13) -> 0.14286972 | S12: =AVERAGE('mRNA 2^'!L13:N13) -> 0.37775021 | T12: =STDEV('mRNA 2^'!L13:N13) -> 0.082738154
B13: AK056098 | C13: =AVERAGE('lncRNA 2^'!F4:H4) -> 1.0015407 | D13: =STDEV('lncRNA 2^'!F4:H4) -> 0.067126226 | E13: =AVERAGE('lncRNA 2^'!I4:K4) -> 2.4640405 | F13: =STDEV('lncRNA 2^'!I4:K4) -> 0.75056414 | G13: =AVERAGE('lncRNA 2^'!L4:N4) -> 0.42041868 | H13: =STDEV('lncRNA 2^'!L4:N4) -> 0.11968837 | I13: =AVERAGE('lncRNA 2^'!O4:Q4) -> 3.3871705 | J13: =STDEV('lncRNA 2^'!O4:Q4) -> 0.18431123 | L13: PMEPA1 | M13: =AVERAGE('mRNA 2^'!C14:E14) -> 1.0002684 | N13: =STDEV('mRNA 2^'!C14:E14) -> 0.028285633 | O13: =AVERAGE('mRNA 2^'!F14:H14) -> 2.3740944 | P13: =STDEV('mRNA 2^'!F14:H14) -> 0.17672659 | Q13: =AVERAGE('mRNA 2^'!I14:K14) -> 0.44200141 | R13: =STDEV('mRNA 2^'!I14:K14) -> 0.089277404 | S13: =AVERAGE('mRNA 2^'!L14:N14) -> 0.9658259 | T13: =STDEV('mRNA 2^'!L14:N14) -> 0.076856368
B14: AK056098 | C14: =AVERAGE('lncRNA 2^'!F49:H49) -> 1.0015407 | D14: =STDEV('lncRNA 2^'!F49:H49) -> 0.067126226 | E14: =AVERAGE('lncRNA 2^'!I49:K49) -> 2.4640405 | F14: =STDEV('lncRNA 2^'!I49:K49) -> 0.75056414 | G14: =AVERAGE('lncRNA 2^'!L49:N49) -> 0.42041868 | H14: =STDEV('lncRNA 2^'!L49:N49) -> 0.11968837 | I14: =AVERAGE('lncRNA 2^'!O49:Q49) -> 3.3871705 | J14: =STDEV('lncRNA 2^'!O49:Q49) -> 0.18431123 | L14: PMEPA1 | M14: =AVERAGE('mRNA 2^'!C15:E15) -> 1.0002684 | N14: =STDEV('mRNA 2^'!C15:E15) -> 0.028285633 | O14: =AVERAGE('mRNA 2^'!F15:H15) -> 2.3740944 | P14: =STDEV('mRNA 2^'!F15:H15) -> 0.17672659 | Q14: =AVERAGE('mRNA 2^'!I15:K15) -> 0.44200141 | R14: =STDEV('mRNA 2^'!I15:K15) -> 0.089277404 | S14: =AVERAGE('mRNA 2^'!L15:N15) -> 0.9658259 | T14: =STDEV('mRNA 2^'!L15:N15) -> 0.076856368
B15: HOTAIR | C15: =AVERAGE('lncRNA 2^'!F124:H124) -> 1.0076785 | D15: =STDEV('lncRNA 2^'!F124:H124) -> 0.15639287 | E15: =AVERAGE('lncRNA 2^'!I124:K124) -> 4.8605963 | F15: =STDEV('lncRNA 2^'!I124:K124) -> 0.130786 | G15: =AVERAGE('lncRNA 2^'!L124:N124) -> 1.7577457 | H15: =STDEV('lncRNA 2^'!L124:N124) -> 0.4025904 | I15: =AVERAGE('lncRNA 2^'!O124:Q124) -> 3.3830615 | J15: =STDEV('lncRNA 2^'!O124:Q124) -> 0.15800975 | L15: HOXC11 | M15: =AVERAGE('mRNA 2^'!C16:E16) -> 1.0149443 | N15: =STDEV('mRNA 2^'!C16:E16) -> 0.20903857 | O15: =AVERAGE('mRNA 2^'!F16:H16) -> 1.4034617 | P15: =STDEV('mRNA 2^'!F16:H16) -> 0.6160451 | Q15: =AVERAGE('mRNA 2^'!I16:K16) -> 1.2289613 | R15: =STDEV('mRNA 2^'!I16:K16) -> 0.38070702 | S15: =AVERAGE('mRNA 2^'!L16:N16) -> 3.0051001 | T15: =STDEV('mRNA 2^'!L16:N16) -> 0.40407881
B16: RP11-103H7.5 | C16: =AVERAGE('lncRNA 2^'!F120:H120) -> 1.0011247 | D16: =STDEV('lncRNA 2^'!F120:H120) -> 0.058174362 | E16: =AVERAGE('lncRNA 2^'!I120:K120) -> 1.7552807 | F16: =STDEV('lncRNA 2^'!I120:K120) -> 0.32449078 | G16: =AVERAGE('lncRNA 2^'!L120:N120) -> 2.0531018 | H16: =STDEV('lncRNA 2^'!L120:N120) -> 0.24399526 | I16: =AVERAGE('lncRNA 2^'!O120:Q120) -> 3.3787567 | J16: =STDEV('lncRNA 2^'!O120:Q120) -> 0.21098594 | L16: FAM84B | M16: =AVERAGE('mRNA 2^'!C17:E17) -> 1.0001659 | N16: =STDEV('mRNA 2^'!C17:E17) -> 0.022233461 | O16: =AVERAGE('mRNA 2^'!F17:H17) -> 2.1979088 | P16: =STDEV('mRNA 2^'!F17:H17) -> 0.15116982 | Q16: =AVERAGE('mRNA 2^'!I17:K17) -> 1.3213923 | R16: =STDEV('mRNA 2^'!I17:K17) -> 0.26420027 | S16: =AVERAGE('mRNA 2^'!L17:N17) -> 2.6718196 | T16: =STDEV('mRNA 2^'!L17:N17) -> 0.10574441
B17: RP11-303E16.3 | C17: =AVERAGE('lncRNA 2^'!F113:H113) -> 1.0018258 | D17: =STDEV('lncRNA 2^'!F113:H113) -> 0.073686631 | E17: =AVERAGE('lncRNA 2^'!I113:K113) -> 1.1006905 | F17: =STDEV('lncRNA 2^'!I113:K113) -> 0.10367285 | G17: =AVERAGE('lncRNA 2^'!L113:N113) -> 1.0059994 | H17: =STDEV('lncRNA 2^'!L113:N113) -> 0.2198487 | I17: =AVERAGE('lncRNA 2^'!O113:Q113) -> 3.2909725 | J17: =STDEV('lncRNA 2^'!O113:Q113) -> 0.21872016 | L17: CENPN | M17: =AVERAGE('mRNA 2^'!C18:E18) -> 1.0021346 | N17: =STDEV('mRNA 2^'!C18:E18) -> 0.0810866 | O17: =AVERAGE('mRNA 2^'!F18:H18) -> 1.1363786 | P17: =STDEV('mRNA 2^'!F18:H18) -> 0.047547991 | Q17: =AVERAGE('mRNA 2^'!I18:K18) -> 0.88693766 | R17: =STDEV('mRNA 2^'!I18:K18) -> 0.17789475 | S17: =AVERAGE('mRNA 2^'!L18:N18) -> 2.9311656 | T17: =STDEV('mRNA 2^'!L18:N18) -> 0.058034705
B18: CTD-2127H9.1 | C18: =AVERAGE('lncRNA 2^'!F131:H131) -> 1.0007141 | D18: =STDEV('lncRNA 2^'!F131:H131) -> 0.045927134 | E18: =AVERAGE('lncRNA 2^'!I131:K131) -> 1.0978816 | F18: =STDEV('lncRNA 2^'!I131:K131) -> 0.096592349 | G18: =AVERAGE('lncRNA 2^'!L131:N131) -> 0.45859328 | H18: =STDEV('lncRNA 2^'!L131:N131) -> 0.23108472 | I18: =AVERAGE('lncRNA 2^'!O131:Q131) -> 3.2611029 | J18: =STDEV('lncRNA 2^'!O131:Q131) -> 0.29661922 | L18: OSMR | M18: =AVERAGE('mRNA 2^'!C19:E19) -> 1.0001172 | N18: =STDEV('mRNA 2^'!C19:E19) -> 0.018686072 | O18: =AVERAGE('mRNA 2^'!F19:H19) -> 1.0554365 | P18: =STDEV('mRNA 2^'!F19:H19) -> 0.037411335 | Q18: =AVERAGE('mRNA 2^'!I19:K19) -> 0.92767108 | R18: =STDEV('mRNA 2^'!I19:K19) -> 0.16669017 | S18: =AVERAGE('mRNA 2^'!L19:N19) -> 2.7849409 | T18: =STDEV('mRNA 2^'!L19:N19) -> 0.14925665
B19: RP11-346D6.6 | C19: =AVERAGE('lncRNA 2^'!F114:H114) -> 1.002799 | D19: =STDEV('lncRNA 2^'!F114:H114) -> 0.092990811 | E19: =AVERAGE('lncRNA 2^'!I114:K114) -> 1.1179801 | F19: =STDEV('lncRNA 2^'!I114:K114) -> 0.019213182 | G19: =AVERAGE('lncRNA 2^'!L114:N114) -> 0.85537631 | H19: =STDEV('lncRNA 2^'!L114:N114) -> 0.1709347 | I19: =AVERAGE('lncRNA 2^'!O114:Q114) -> 3.1014383 | J19: =STDEV('lncRNA 2^'!O114:Q114) -> 0.19646235 | L19: DKK1 | M19: =AVERAGE('mRNA 2^'!C20:E20) -> 1.0028896 | N19: =STDEV('mRNA 2^'!C20:E20) -> 0.094730528 | O19: =AVERAGE('mRNA 2^'!F20:H20) -> 1.3400936 | P19: =STDEV('mRNA 2^'!F20:H20) -> 0.058494027 | Q19: =AVERAGE('mRNA 2^'!I20:K20) -> 0.68587147 | R19: =STDEV('mRNA 2^'!I20:K20) -> 0.24697435 | S19: =AVERAGE('mRNA 2^'!L20:N20) -> 2.0199645 | T19: =STDEV('mRNA 2^'!L20:N20) -> 0.20674144
B20: RP11-290L1.3 | C20: =AVERAGE('lncRNA 2^'!F9:H9) -> 1.0015151 | D20: =STDEV('lncRNA 2^'!F9:H9) -> 0.068295495 | E20: =AVERAGE('lncRNA 2^'!I9:K9) -> 2.3901264 | F20: =STDEV('lncRNA 2^'!I9:K9) -> 0.13779482 | G20: =AVERAGE('lncRNA 2^'!L9:N9) -> 2.9727609 | H20: =STDEV('lncRNA 2^'!L9:N9) -> 0.51887205 | I20: =AVERAGE('lncRNA 2^'!O9:Q9) -> 3.0812877 | J20: =STDEV('lncRNA 2^'!O9:Q9) -> 0.16326992 | L20: PHLDA1 | M20: =AVERAGE('mRNA 2^'!C21:E21) -> 1.0014655 | N20: =STDEV('mRNA 2^'!C21:E21) -> 0.06568929 | O20: =AVERAGE('mRNA 2^'!F21:H21) -> 2.2967528 | P20: =STDEV('mRNA 2^'!F21:H21) -> 0.13389238 | Q20: =AVERAGE('mRNA 2^'!I21:K21) -> 1.7507052 | R20: =STDEV('mRNA 2^'!I21:K21) -> 0.36927277 | S20: =AVERAGE('mRNA 2^'!L21:N21) -> 1.2891613 | T20: =STDEV('mRNA 2^'!L21:N21) -> 0.11769031
B21: LINC01057 | C21: =AVERAGE('lncRNA 2^'!F137:H137) -> 1.000173 | D21: =STDEV('lncRNA 2^'!F137:H137) -> 0.022766346 | E21: =AVERAGE('lncRNA 2^'!I137:K137) -> 1.7084557 | F21: =STDEV('lncRNA 2^'!I137:K137) -> 0.20694933 | G21: =AVERAGE('lncRNA 2^'!L137:N137) -> 1.6503928 | H21: =STDEV('lncRNA 2^'!L137:N137) -> 0.35533536 | I21: =AVERAGE('lncRNA 2^'!O137:Q137) -> 3.0120637 | J21: =STDEV('lncRNA 2^'!O137:Q137) -> 0.65826216 | L21: SLC44A3 | M21: =AVERAGE('mRNA 2^'!C22:E22) -> 1.0000406 | N21: =STDEV('mRNA 2^'!C22:E22) -> 0.011040896 | O21: =AVERAGE('mRNA 2^'!F22:H22) -> 1.5395262 | P21: =STDEV('mRNA 2^'!F22:H22) -> 0.14398236 | Q21: =AVERAGE('mRNA 2^'!I22:K22) -> 1.989212 | R21: =STDEV('mRNA 2^'!I22:K22) -> 0.44779972 | S21: =AVERAGE('mRNA 2^'!L22:N22) -> 2.72129 | T21: =STDEV('mRNA 2^'!L22:N22) -> 0.20078229
B22: LINC01057 | C22: =AVERAGE('lncRNA 2^'!F138:H138) -> 1.000173 | D22: =STDEV('lncRNA 2^'!F138:H138) -> 0.022766346 | E22: =AVERAGE('lncRNA 2^'!I138:K138) -> 1.7084557 | F22: =STDEV('lncRNA 2^'!I138:K138) -> 0.20694933 | G22: =AVERAGE('lncRNA 2^'!L138:N138) -> 1.6503928 | H22: =STDEV('lncRNA 2^'!L138:N138) -> 0.35533536 | I22: =AVERAGE('lncRNA 2^'!O138:Q138) -> 3.0120637 | J22: =STDEV('lncRNA 2^'!O138:Q138) -> 0.65826216 | L22: SLC44A3 | M22: =AVERAGE('mRNA 2^'!C23:E23) -> 1.0000406 | N22: =STDEV('mRNA 2^'!C23:E23) -> 0.011040896 | O22: =AVERAGE('mRNA 2^'!F23:H23) -> 1.5395262 | P22: =STDEV('mRNA 2^'!F23:H23) -> 0.14398236 | Q22: =AVERAGE('mRNA 2^'!I23:K23) -> 1.989212 | R22: =STDEV('mRNA 2^'!I23:K23) -> 0.44779972 | S22: =AVERAGE('mRNA 2^'!L23:N23) -> 2.72129 | T22: =STDEV('mRNA 2^'!L23:N23) -> 0.20078229
B23: AC002480.3 | C23: =AVERAGE('lncRNA 2^'!F140:H140) -> 1.0176087 | D23: =STDEV('lncRNA 2^'!F140:H140) -> 0.2410977 | E23: =AVERAGE('lncRNA 2^'!I140:K140) -> 0.82752563 | F23: =STDEV('lncRNA 2^'!I140:K140) -> 0.21761418 | G23: =AVERAGE('lncRNA 2^'!L140:N140) -> 1.1517417 | H23: =STDEV('lncRNA 2^'!L140:N140) -> 0.53860424 | I23: =AVERAGE('lncRNA 2^'!O140:Q140) -> 2.6746118 | J23: =STDEV('lncRNA 2^'!O140:Q140) -> 1.1268706 | L23: STEAP1B | M23: =AVERAGE('mRNA 2^'!C24:E24) -> 1.0312828 | N23: =STDEV('mRNA 2^'!C24:E24) -> 0.32640824 | O23: =AVERAGE('mRNA 2^'!F24:H24) -> 1.9967625 | P23: =STDEV('mRNA 2^'!F24:H24) -> 0.2018531 | Q23: =AVERAGE('mRNA 2^'!I24:K24) -> 1.6677728 | R23: =STDEV('mRNA 2^'!I24:K24) -> 0.79066549 | S23: =AVERAGE('mRNA 2^'!L24:N24) -> 2.1206667 | T23: =STDEV('mRNA 2^'!L24:N24) -> 0.13544745
B24: RP11-77A13.1 | C24: =AVERAGE('lncRNA 2^'!F129:H129) -> 1.0057715 | D24: =STDEV('lncRNA 2^'!F129:H129) -> 0.12875251 | E24: =AVERAGE('lncRNA 2^'!I129:K129) -> 0.74969884 | F24: =STDEV('lncRNA 2^'!I129:K129) -> 0.037704087 | G24: =AVERAGE('lncRNA 2^'!L129:N129) -> 1.5010065 | H24: =STDEV('lncRNA 2^'!L129:N129) -> 0.18111673 | I24: =AVERAGE('lncRNA 2^'!O129:Q129) -> 2.6684206 | J24: =STDEV('lncRNA 2^'!O129:Q129) -> 0.10344143 | L24: MARCO | M24: =AVERAGE('mRNA 2^'!C25:E25) -> 1.0020873 | N24: =STDEV('mRNA 2^'!C25:E25) -> 0.079147691 | O24: =AVERAGE('mRNA 2^'!F25:H25) -> 0.14583093 | P24: =STDEV('mRNA 2^'!F25:H25) -> 0.046108743 | Q24: =AVERAGE('mRNA 2^'!I25:K25) -> 0.24762439 | R24: =STDEV('mRNA 2^'!I25:K25) -> 0.16092181 | S24: =AVERAGE('mRNA 2^'!L25:N25) -> 0.27666009 | T24: =STDEV('mRNA 2^'!L25:N25) -> 0.025451281
B25: RP4-549L20.3 | C25: =AVERAGE('lncRNA 2^'!F118:H118) -> 1.0002312 | D25: =STDEV('lncRNA 2^'!F118:H118) -> 0.026368122 | E25: =AVERAGE('lncRNA 2^'!I118:K118) -> 1.0249757 | F25: =STDEV('lncRNA 2^'!I118:K118) -> 0.04199989 | G25: =AVERAGE('lncRNA 2^'!L118:N118) -> 0.96853464 | H25: =STDEV('lncRNA 2^'!L118:N118) -> 0.13434917 | I25: =AVERAGE('lncRNA 2^'!O118:Q118) -> 2.60165 | J25: =STDEV('lncRNA 2^'!O118:Q118) -> 0.0067645096 | L25: EXTL2 | M25: =AVERAGE('mRNA 2^'!C26:E26) -> 1.0037909 | N25: =STDEV('mRNA 2^'!C26:E26) -> 0.10463338 | O25: =AVERAGE('mRNA 2^'!F26:H26) -> 1.5486955 | P25: =STDEV('mRNA 2^'!F26:H26) -> 0.626478 | Q25: =AVERAGE('mRNA 2^'!I26:K26) -> 0.58193499 | R25: =STDEV('mRNA 2^'!I26:K26) -> 0.03778511 | S25: =AVERAGE('mRNA 2^'!L26:N26) -> 0.47351531 | T25: =STDEV('mRNA 2^'!L26:N26) -> 0.030631817
B26: AC068580.7 | C26: =AVERAGE('lncRNA 2^'!F24:H24) -> 1.030548 | D26: =STDEV('lncRNA 2^'!F24:H24) -> 0.29122779 | E26: =AVERAGE('lncRNA 2^'!I24:K24) -> 1.4332815 | F26: =STDEV('lncRNA 2^'!I24:K24) -> 0.30542061 | G26: =AVERAGE('lncRNA 2^'!L24:N24) -> 2.8930368 | H26: =STDEV('lncRNA 2^'!L24:N24) -> 0.75334467 | I26: =AVERAGE('lncRNA 2^'!O24:Q24) -> 2.572083 | J26: =STDEV('lncRNA 2^'!O24:Q24) -> 0.22308005 | L26: CTSD | M26: =AVERAGE('mRNA 2^'!C27:E27) -> 1.0043887 | N26: =STDEV('mRNA 2^'!C27:E27) -> 0.11235085 | O26: =AVERAGE('mRNA 2^'!F27:H27) -> 0.58219074 | P26: =STDEV('mRNA 2^'!F27:H27) -> 0.026623677 | Q26: =AVERAGE('mRNA 2^'!I27:K27) -> 1.5415085 | R26: =STDEV('mRNA 2^'!I27:K27) -> 0.21389716 | S26: =AVERAGE('mRNA 2^'!L27:N27) -> 1.1562279 | T26: =STDEV('mRNA 2^'!L27:N27) -> 0.025277321
B27: RP11-463O12.3 | C27: =AVERAGE('lncRNA 2^'!F11:H11) -> 1.0048877 | D27: =STDEV('lncRNA 2^'!F11:H11) -> 0.12401507 | E27: =AVERAGE('lncRNA 2^'!I11:K11) -> 2.2704978 | F27: =STDEV('lncRNA 2^'!I11:K11) -> 0.32243743 | G27: =AVERAGE('lncRNA 2^'!L11:N11) -> 1.7599252 | H27: =STDEV('lncRNA 2^'!L11:N11) -> 0.35376264 | I27: =AVERAGE('lncRNA 2^'!O11:Q11) -> 2.5666977 | J27: =STDEV('lncRNA 2^'!O11:Q11) -> 0.21329658 | L27: VPS37B | M27: =AVERAGE('mRNA 2^'!C28:E28) -> 1.0005365 | N27: =STDEV('mRNA 2^'!C28:E28) -> 0.040057774 | O27: =AVERAGE('mRNA 2^'!F28:H28) -> 2.11849 | P27: =STDEV('mRNA 2^'!F28:H28) -> 0.16713614 | Q27: =AVERAGE('mRNA 2^'!I28:K28) -> 1.7073202 | R27: =STDEV('mRNA 2^'!I28:K28) -> 0.21928322 | S27: =AVERAGE('mRNA 2^'!L28:N28) -> 2.3478049 | T27: =STDEV('mRNA 2^'!L28:N28) -> 0.09952281
B28: LINC01057 | C28: =AVERAGE('lncRNA 2^'!F136:H136) -> 1.0263442 | D28: =STDEV('lncRNA 2^'!F136:H136) -> 0.27797923 | E28: =AVERAGE('lncRNA 2^'!I136:K136) -> 1.6586567 | F28: =STDEV('lncRNA 2^'!I136:K136) -> 0.34311531 | G28: =AVERAGE('lncRNA 2^'!L136:N136) -> 1.5485406 | H28: =STDEV('lncRNA 2^'!L136:N136) -> 0.4438502 | I28: =AVERAGE('lncRNA 2^'!O136:Q136) -> 2.4867025 | J28: =STDEV('lncRNA 2^'!O136:Q136) -> 0.49470458 | L28: SLC44A3 | M28: =AVERAGE('mRNA 2^'!C29:E29) -> 1.0000406 | N28: =STDEV('mRNA 2^'!C29:E29) -> 0.011040896 | O28: =AVERAGE('mRNA 2^'!F29:H29) -> 1.5395262 | P28: =STDEV('mRNA 2^'!F29:H29) -> 0.14398236 | Q28: =AVERAGE('mRNA 2^'!I29:K29) -> 1.989212 | R28: =STDEV('mRNA 2^'!I29:K29) -> 0.44779972 | S28: =AVERAGE('mRNA 2^'!L29:N29) -> 2.72129 | T28: =STDEV('mRNA 2^'!L29:N29) -> 0.20078229
B29: MYLK-AS1 | C29: =AVERAGE('lncRNA 2^'!F130:H130) -> 1.0004191 | D29: =STDEV('lncRNA 2^'!F130:H130) -> 0.035250709 | E29: =AVERAGE('lncRNA 2^'!I130:K130) -> 0.99416837 | F29: =STDEV('lncRNA 2^'!I130:K130) -> 0.16207195 | G29: =AVERAGE('lncRNA 2^'!L130:N130) -> 0.8346868 | H29: =STDEV('lncRNA 2^'!L130:N130) -> 0.20031832 | I29: =AVERAGE('lncRNA 2^'!O130:Q130) -> 2.4795268 | J29: =STDEV('lncRNA 2^'!O130:Q130) -> 0.17704053 | L29: MYLK | M29: =AVERAGE('mRNA 2^'!C30:E30) -> 1.0022769 | N29: =STDEV('mRNA 2^'!C30:E30) -> 0.081862042 | O29: =AVERAGE('mRNA 2^'!F30:H30) -> 0.59812898 | P29: =STDEV('mRNA 2^'!F30:H30) -> 0.077209725 | Q29: =AVERAGE('mRNA 2^'!I30:K30) -> 0.71410536 | R29: =STDEV('mRNA 2^'!I30:K30) -> 0.077314961 | S29: =AVERAGE('mRNA 2^'!L30:N30) -> 0.49842208 | T29: =STDEV('mRNA 2^'!L30:N30) -> 0.1966843
B30: RP11-525A16.4 | C30: =AVERAGE('lncRNA 2^'!F116:H116) -> 1.0102227 | D30: =STDEV('lncRNA 2^'!F116:H116) -> 0.16975286 | E30: =AVERAGE('lncRNA 2^'!I116:K116) -> 2.0496031 | F30: =STDEV('lncRNA 2^'!I116:K116) -> 0.86361817 | G30: =AVERAGE('lncRNA 2^'!L116:N116) -> 1.7700523 | H30: =STDEV('lncRNA 2^'!L116:N116) -> 1.6778417 | I30: =AVERAGE('lncRNA 2^'!O116:Q116) -> 2.3969126 | J30: =STDEV('lncRNA 2^'!O116:Q116) -> 0.80274047 | L30: DUSP5 | M30: =AVERAGE('mRNA 2^'!C31:E31) -> 1.0000304 | N30: =STDEV('mRNA 2^'!C31:E31) -> 0.0095459542 | O30: =AVERAGE('mRNA 2^'!F31:H31) -> 1.0932808 | P30: =STDEV('mRNA 2^'!F31:H31) -> 0.035758265 | Q30: =AVERAGE('mRNA 2^'!I31:K31) -> 0.98376612 | R30: =STDEV('mRNA 2^'!I31:K31) -> 0.17888931 | S30: =AVERAGE('mRNA 2^'!L31:N31) -> 2.0900699 | T30: =STDEV('mRNA 2^'!L31:N31) -> 0.13443615
B31: RP11-525A16.4 | C31: =AVERAGE('lncRNA 2^'!F117:H117) -> 1.0102227 | D31: =STDEV('lncRNA 2^'!F117:H117) -> 0.16975286 | E31: =AVERAGE('lncRNA 2^'!I117:K117) -> 2.0496031 | F31: =STDEV('lncRNA 2^'!I117:K117) -> 0.86361817 | G31: =AVERAGE('lncRNA 2^'!L117:N117) -> 1.7700523 | H31: =STDEV('lncRNA 2^'!L117:N117) -> 1.6778417 | I31: =AVERAGE('lncRNA 2^'!O117:Q117) -> 2.3969126 | J31: =STDEV('lncRNA 2^'!O117:Q117) -> 0.80274047 | L31: DUSP5 | M31: =AVERAGE('mRNA 2^'!C32:E32) -> 1.0000304 | N31: =STDEV('mRNA 2^'!C32:E32) -> 0.0095459542 | O31: =AVERAGE('mRNA 2^'!F32:H32) -> 1.0932808 | P31: =STDEV('mRNA 2^'!F32:H32) -> 0.035758265 | Q31: =AVERAGE('mRNA 2^'!I32:K32) -> 0.98376612 | R31: =STDEV('mRNA 2^'!I32:K32) -> 0.17888931 | S31: =AVERAGE('mRNA 2^'!L32:N32) -> 2.0900699 | T31: =STDEV('mRNA 2^'!L32:N32) -> 0.13443615
B32: GFOD1-AS1 | C32: =AVERAGE('lncRNA 2^'!F122:H122) -> 1.0054997 | D32: =STDEV('lncRNA 2^'!F122:H122) -> 0.13032151 | E32: =AVERAGE('lncRNA 2^'!I122:K122) -> 1.0550689 | F32: =STDEV('lncRNA 2^'!I122:K122) -> 0.084749947 | G32: =AVERAGE('lncRNA 2^'!L122:N122) -> 1.6060366 | H32: =STDEV('lncRNA 2^'!L122:N122) -> 0.25568374 | I32: =AVERAGE('lncRNA 2^'!O122:Q122) -> 2.2082246 | J32: =STDEV('lncRNA 2^'!O122:Q122) -> 0.1130143 | L32: GFOD1 | M32: =AVERAGE('mRNA 2^'!C33:E33) -> 1.0008512 | N32: =STDEV('mRNA 2^'!C33:E33) -> 0.050787491 | O32: =AVERAGE('mRNA 2^'!F33:H33) -> 1.0110888 | P32: =STDEV('mRNA 2^'!F33:H33) -> 0.09472773 | Q32: =AVERAGE('mRNA 2^'!I33:K33) -> 1.2933024 | R32: =STDEV('mRNA 2^'!I33:K33) -> 0.19787113 | S32: =AVERAGE('mRNA 2^'!L33:N33) -> 2.1463204 | T32: =STDEV('mRNA 2^'!L33:N33) -> 0.089118051
B33: AC093702.1 | C33: =AVERAGE('lncRNA 2^'!F134:H134) -> 1.0012141 | D33: =STDEV('lncRNA 2^'!F134:H134) -> 0.060872925 | E33: =AVERAGE('lncRNA 2^'!I134:K134) -> 1.1564067 | F33: =STDEV('lncRNA 2^'!I134:K134) -> 0.33405524 | G33: =AVERAGE('lncRNA 2^'!L134:N134) -> 2.7238363 | H33: =STDEV('lncRNA 2^'!L134:N134) -> 0.43471268 | I33: =AVERAGE('lncRNA 2^'!O134:Q134) -> 2.1521425 | J33: =STDEV('lncRNA 2^'!O134:Q134) -> 0.1844549 | L33: SIX2 | M33: =AVERAGE('mRNA 2^'!C34:E34) -> 1.0015025 | N33: =STDEV('mRNA 2^'!C34:E34) -> 0.066306973 | O33: =AVERAGE('mRNA 2^'!F34:H34) -> 1.4723552 | P33: =STDEV('mRNA 2^'!F34:H34) -> 0.074842496 | Q33: =AVERAGE('mRNA 2^'!I34:K34) -> 0.78305361 | R33: =STDEV('mRNA 2^'!I34:K34) -> 0.12059839 | S33: =AVERAGE('mRNA 2^'!L34:N34) -> 0.22257481 | T33: =STDEV('mRNA 2^'!L34:N34) -> 0.04853586
B34: RP11-560J1.2 | C34: =AVERAGE('lncRNA 2^'!F126:H126) -> 1.0018443 | D34: =STDEV('lncRNA 2^'!F126:H126) -> 0.074071877 | E34: =AVERAGE('lncRNA 2^'!I126:K126) -> 0.7920627 | F34: =STDEV('lncRNA 2^'!I126:K126) -> 0.10259886 | G34: =AVERAGE('lncRNA 2^'!L126:N126) -> 0.74778196 | H34: =STDEV('lncRNA 2^'!L126:N126) -> 0.28479496 | I34: =AVERAGE('lncRNA 2^'!O126:Q126) -> 2.1370915 | J34: =STDEV('lncRNA 2^'!O126:Q126) -> 0.099219216 | L34: JARID2 | M34: =AVERAGE('mRNA 2^'!C35:E35) -> 1.0001457 | N34: =STDEV('mRNA 2^'!C35:E35) -> 0.020904506 | O34: =AVERAGE('mRNA 2^'!F35:H35) -> 1.1363265 | P34: =STDEV('mRNA 2^'!F35:H35) -> 0.11573027 | Q34: =AVERAGE('mRNA 2^'!I35:K35) -> 1.7209669 | R34: =STDEV('mRNA 2^'!I35:K35) -> 0.097352624 | S34: =AVERAGE('mRNA 2^'!L35:N35) -> 2.2543709 | T34: =STDEV('mRNA 2^'!L35:N35) -> 0.35010795
B35: NR2F1-AS1 | C35: =AVERAGE('lncRNA 2^'!F92:H92) -> 1.0013168 | D35: =STDEV('lncRNA 2^'!F92:H92) -> 0.062998489 | E35: =AVERAGE('lncRNA 2^'!I92:K92) -> 1.8852011 | F35: =STDEV('lncRNA 2^'!I92:K92) -> 0.063985151 | G35: =AVERAGE('lncRNA 2^'!L92:N92) -> 3.6669182 | H35: =STDEV('lncRNA 2^'!L92:N92) -> 0.75002178 | I35: =AVERAGE('lncRNA 2^'!O92:Q92) -> 2.1083847 | J35: =STDEV('lncRNA 2^'!O92:Q92) -> 0.31796534 | L35: NR2F1 | M35: =AVERAGE('mRNA 2^'!C36:E36) -> 1.0029603 | N35: =STDEV('mRNA 2^'!C36:E36) -> 0.095994043 | O35: =AVERAGE('mRNA 2^'!F36:H36) -> 1.4061154 | P35: =STDEV('mRNA 2^'!F36:H36) -> 0.054352281 | Q35: =AVERAGE('mRNA 2^'!I36:K36) -> 3.4792167 | R35: =STDEV('mRNA 2^'!I36:K36) -> 0.69056699 | S35: =AVERAGE('mRNA 2^'!L36:N36) -> 1.7494922 | T35: =STDEV('mRNA 2^'!L36:N36) -> 0.093656343
B36: CATG00000069061.1 | C36: =AVERAGE('lncRNA 2^'!F20:H20) -> 1.0010071 | D36: =STDEV('lncRNA 2^'!F20:H20) -> 0.055562873 | E36: =AVERAGE('lncRNA 2^'!I20:K20) -> 0.86048663 | F36: =STDEV('lncRNA 2^'!I20:K20) -> 0.34470016 | G36: =AVERAGE('lncRNA 2^'!L20:N20) -> 2.6702834 | H36: =STDEV('lncRNA 2^'!L20:N20) -> 1.1940328 | I36: =AVERAGE('lncRNA 2^'!O20:Q20) -> 2.0891348 | J36: =STDEV('lncRNA 2^'!O20:Q20) -> 0.15832188 | L36: BMP2K | M36: =AVERAGE('mRNA 2^'!C37:E37) -> 1.0061662 | N36: =STDEV('mRNA 2^'!C37:E37) -> 0.13268549 | O36: =AVERAGE('mRNA 2^'!F37:H37) -> 1.4126888 | P36: =STDEV('mRNA 2^'!F37:H37) -> 0.057946983 | Q36: =AVERAGE('mRNA 2^'!I37:K37) -> 0.69122199 | R36: =STDEV('mRNA 2^'!I37:K37) -> 0.092335233 | S36: =AVERAGE('mRNA 2^'!L37:N37) -> 0.79546674 | T36: =STDEV('mRNA 2^'!L37:N37) -> 0.069243465
B37: CATG00000095263.1 | C37: =AVERAGE('lncRNA 2^'!F17:H17) -> 1.0006201 | D37: =STDEV('lncRNA 2^'!F17:H17) -> 0.042982432 | E37: =AVERAGE('lncRNA 2^'!I17:K17) -> 0.985849 | F37: =STDEV('lncRNA 2^'!I17:K17) -> 0.15916803 | G37: =AVERAGE('lncRNA 2^'!L17:N17) -> 2.3622069 | H37: =STDEV('lncRNA 2^'!L17:N17) -> 0.15672843 | I37: =AVERAGE('lncRNA 2^'!O17:Q17) -> 2.088171 | J37: =STDEV('lncRNA 2^'!O17:Q17) -> 0.072453534 | L37: AHR | M37: =AVERAGE('mRNA 2^'!C38:E38) -> 1.0001236 | N37: =STDEV('mRNA 2^'!C38:E38) -> 0.019300831 | O37: =AVERAGE('mRNA 2^'!F38:H38) -> 0.84561965 | P37: =STDEV('mRNA 2^'!F38:H38) -> 0.18644568 | Q37: =AVERAGE('mRNA 2^'!I38:K38) -> 0.37397991 | R37: =STDEV('mRNA 2^'!I38:K38) -> 0.080972496 | S37: =AVERAGE('mRNA 2^'!L38:N38) -> 0.42539363 | T37: =STDEV('mRNA 2^'!L38:N38) -> 0.050586075
B38: RP1-56K13.2 | C38: =AVERAGE('lncRNA 2^'!F38:H38) -> 1.0000291 | D38: =STDEV('lncRNA 2^'!F38:H38) -> 0.0093585746 | E38: =AVERAGE('lncRNA 2^'!I38:K38) -> 1.002027 | F38: =STDEV('lncRNA 2^'!I38:K38) -> 0.10161285 | G38: =AVERAGE('lncRNA 2^'!L38:N38) -> 2.9632635 | H38: =STDEV('lncRNA 2^'!L38:N38) -> 0.73384042 | I38: =AVERAGE('lncRNA 2^'!O38:Q38) -> 2.0482842 | J38: =STDEV('lncRNA 2^'!O38:Q38) -> 0.084565933 | L38: LASP1 | M38: =AVERAGE('mRNA 2^'!C39:E39) -> 1.0014052 | N38: =STDEV('mRNA 2^'!C39:E39) -> 0.064188321 | O38: =AVERAGE('mRNA 2^'!F39:H39) -> 1.1623575 | P38: =STDEV('mRNA 2^'!F39:H39) -> 0.24656901 | Q38: =AVERAGE('mRNA 2^'!I39:K39) -> 0.55084264 | R38: =STDEV('mRNA 2^'!I39:K39) -> 0.046898818 | S38: =AVERAGE('mRNA 2^'!L39:N39) -> 0.72469455 | T38: =STDEV('mRNA 2^'!L39:N39) -> 0.026813925
B39: SNORD3B-2 | C39: =AVERAGE('lncRNA 2^'!F123:H123) -> 1.0211675 | D39: =STDEV('lncRNA 2^'!F123:H123) -> 0.26556125 | E39: =AVERAGE('lncRNA 2^'!I123:K123) -> 0.93269862 | F39: =STDEV('lncRNA 2^'!I123:K123) -> 0.10170983 | G39: =AVERAGE('lncRNA 2^'!L123:N123) -> 1.8821622 | H39: =STDEV('lncRNA 2^'!L123:N123) -> 0.58522176 | I39: =AVERAGE('lncRNA 2^'!O123:Q123) -> 2.032479 | J39: =STDEV('lncRNA 2^'!O123:Q123) -> 0.10270632 | L39: GRAP | M39: =AVERAGE('mRNA 2^'!C40:E40) -> 1.0597378 | N39: =STDEV('mRNA 2^'!C40:E40) -> 0.4622547 | O39: =AVERAGE('mRNA 2^'!F40:H40) -> 20.195967 | P39: =STDEV('mRNA 2^'!F40:H40) -> 1.1433622 | Q39: =AVERAGE('mRNA 2^'!I40:K40) -> 9.015942 | R39: =STDEV('mRNA 2^'!I40:K40) -> 1.9927424 | S39: =AVERAGE('mRNA 2^'!L40:N40) -> 9.670905 | T39: =STDEV('mRNA 2^'!L40:N40) -> 0.89864772
B40: SRGAP3-AS3 | C40: =AVERAGE('lncRNA 2^'!F97:H97) -> 1.0446721 | D40: =STDEV('lncRNA 2^'!F97:H97) -> 0.37090122 | E40: =AVERAGE('lncRNA 2^'!I97:K97) -> 1.365982 | F40: =STDEV('lncRNA 2^'!I97:K97) -> 0.21160389 | G40: =AVERAGE('lncRNA 2^'!L97:N97) -> 2.269451 | H40: =STDEV('lncRNA 2^'!L97:N97) -> 0.42477499 | I40: =AVERAGE('lncRNA 2^'!O97:Q97) -> 1.953787 | J40: =STDEV('lncRNA 2^'!O97:Q97) -> 0.2191377 | L40: SRGAP3 | M40: =AVERAGE('mRNA 2^'!C41:E41) -> 1.0004138 | N40: =STDEV('mRNA 2^'!C41:E41) -> 0.035018494 | O40: =AVERAGE('mRNA 2^'!F41:H41) -> 0.5295621 | P40: =STDEV('mRNA 2^'!F41:H41) -> 0.060535747 | Q40: =AVERAGE('mRNA 2^'!I41:K41) -> 0.32690181 | R40: =STDEV('mRNA 2^'!I41:K41) -> 0.10541956 | S40: =AVERAGE('mRNA 2^'!L41:N41) -> 0.47126166 | T40: =STDEV('mRNA 2^'!L41:N41) -> 0.025563029
B41: RP11-473M20.7 | C41: =AVERAGE('lncRNA 2^'!F43:H43) -> 1.0021952 | D41: =STDEV('lncRNA 2^'!F43:H43) -> 0.082055431 | E41: =AVERAGE('lncRNA 2^'!I43:K43) -> 0.98230456 | F41: =STDEV('lncRNA 2^'!I43:K43) -> 0.24124114 | G41: =AVERAGE('lncRNA 2^'!L43:N43) -> 3.0632855 | H41: =STDEV('lncRNA 2^'!L43:N43) -> 0.83805746 | I41: =AVERAGE('lncRNA 2^'!O43:Q43) -> 1.9501315 | J41: =STDEV('lncRNA 2^'!O43:Q43) -> 0.18592864 | L41: MMP25 | M41: =AVERAGE('mRNA 2^'!C42:E42) -> 1.0202248 | N41: =STDEV('mRNA 2^'!C42:E42) -> 0.25073806 | O41: =AVERAGE('mRNA 2^'!F42:H42) -> 1.011153 | P41: =STDEV('mRNA 2^'!F42:H42) -> 0.12198574 | Q41: =AVERAGE('mRNA 2^'!I42:K42) -> 0.40020211 | R41: =STDEV('mRNA 2^'!I42:K42) -> 0.24065808 | S41: =AVERAGE('mRNA 2^'!L42:N42) -> 0.54664093 | T41: =STDEV('mRNA 2^'!L42:N42) -> 0.27698389
B42: CALML3-AS1 | C42: =AVERAGE('lncRNA 2^'!F72:H72) -> 1.0024705 | D42: =STDEV('lncRNA 2^'!F72:H72) -> 0.085636888 | E42: =AVERAGE('lncRNA 2^'!I72:K72) -> 1.1879982 | F42: =STDEV('lncRNA 2^'!I72:K72) -> 0.266008 | G42: =AVERAGE('lncRNA 2^'!L72:N72) -> 4.6940129 | H42: =STDEV('lncRNA 2^'!L72:N72) -> 2.0082936 | I42: =AVERAGE('lncRNA 2^'!O72:Q72) -> 1.9417048 | J42: =STDEV('lncRNA 2^'!O72:Q72) -> 0.20729668 | L42: CALML3 | M42: =AVERAGE('mRNA 2^'!C43:E43) -> 1.0019185 | N42: =STDEV('mRNA 2^'!C43:E43) -> 0.074806639 | O42: =AVERAGE('mRNA 2^'!F43:H43) -> 0.47004738 | P42: =STDEV('mRNA 2^'!F43:H43) -> 0.15524932 | Q42: =AVERAGE('mRNA 2^'!I43:K43) -> 0.47654344 | R42: =STDEV('mRNA 2^'!I43:K43) -> 0.21371716 | S42: =AVERAGE('mRNA 2^'!L43:N43) -> 0.35619767 | T42: =STDEV('mRNA 2^'!L43:N43) -> 0.024424021
B43: AC012507.3 | C43: =AVERAGE('lncRNA 2^'!F84:H84) -> 1.0007304 | D43: =STDEV('lncRNA 2^'!F84:H84) -> 0.046460971 | E43: =AVERAGE('lncRNA 2^'!I84:K84) -> 1.0845005 | F43: =STDEV('lncRNA 2^'!I84:K84) -> 0.12805358 | G43: =AVERAGE('lncRNA 2^'!L84:N84) -> 2.0557167 | H43: =STDEV('lncRNA 2^'!L84:N84) -> 0.25425817 | I43: =AVERAGE('lncRNA 2^'!O84:Q84) -> 1.9026978 | J43: =STDEV('lncRNA 2^'!O84:Q84) -> 0.18354591 | L43: ITM2C | M43: =AVERAGE('mRNA 2^'!C44:E44) -> 1.0006887 | N43: =STDEV('mRNA 2^'!C44:E44) -> 0.045156548 | O43: =AVERAGE('mRNA 2^'!F44:H44) -> 0.62863092 | P43: =STDEV('mRNA 2^'!F44:H44) -> 0.027895662 | Q43: =AVERAGE('mRNA 2^'!I44:K44) -> 0.39768439 | R43: =STDEV('mRNA 2^'!I44:K44) -> 0.069791087 | S43: =AVERAGE('mRNA 2^'!L44:N44) -> 0.50666091 | T43: =STDEV('mRNA 2^'!L44:N44) -> 0.041450094
B44: RP11-174I12.2 | C44: =AVERAGE('lncRNA 2^'!F30:H30) -> 1.0114095 | D44: =STDEV('lncRNA 2^'!F30:H30) -> 0.18500878 | E44: =AVERAGE('lncRNA 2^'!I30:K30) -> 0.90169622 | F44: =STDEV('lncRNA 2^'!I30:K30) -> 0.034004319 | G44: =AVERAGE('lncRNA 2^'!L30:N30) -> 2.5822863 | H44: =STDEV('lncRNA 2^'!L30:N30) -> 0.40595623 | I44: =AVERAGE('lncRNA 2^'!O30:Q30) -> 1.8707092 | J44: =STDEV('lncRNA 2^'!O30:Q30) -> 0.27310486 | L44: FBXO32 | M44: =AVERAGE('mRNA 2^'!C45:E45) -> 1.0025915 | N44: =STDEV('mRNA 2^'!C45:E45) -> 0.087967234 | O44: =AVERAGE('mRNA 2^'!F45:H45) -> 0.36767761 | P44: =STDEV('mRNA 2^'!F45:H45) -> 0.036358339 | Q44: =AVERAGE('mRNA 2^'!I45:K45) -> 2.6941168 | R44: =STDEV('mRNA 2^'!I45:K45) -> 0.76597403 | S44: =AVERAGE('mRNA 2^'!L45:N45) -> 3.8093924 | T44: =STDEV('mRNA 2^'!L45:N45) -> 0.32072818
B45: RP11-409K20.6 | C45: =AVERAGE('lncRNA 2^'!F31:H31) -> 1.0019303 | D45: =STDEV('lncRNA 2^'!F31:H31) -> 0.077038793 | E45: =AVERAGE('lncRNA 2^'!I31:K31) -> 1.1525658 | F45: =STDEV('lncRNA 2^'!I31:K31) -> 0.3717691 | G45: =AVERAGE('lncRNA 2^'!L31:N31) -> 2.6258023 | H45: =STDEV('lncRNA 2^'!L31:N31) -> 0.81887166 | I45: =AVERAGE('lncRNA 2^'!O31:Q31) -> 1.7069007 | J45: =STDEV('lncRNA 2^'!O31:Q31) -> 0.095892328 | L45: FNBP1 | M45: =AVERAGE('mRNA 2^'!C46:E46) -> 1.0005069 | N45: =STDEV('mRNA 2^'!C46:E46) -> 0.039081515 | O45: =AVERAGE('mRNA 2^'!F46:H46) -> 1.0992489 | P45: =STDEV('mRNA 2^'!F46:H46) -> 0.072520217 | Q45: =AVERAGE('mRNA 2^'!I46:K46) -> 0.34724265 | R45: =STDEV('mRNA 2^'!I46:K46) -> 0.070800176 | S45: =AVERAGE('mRNA 2^'!L46:N46) -> 0.41802935 | T45: =STDEV('mRNA 2^'!L46:N46) -> 0.03230349
B46: RP1-170O19.14 | C46: =AVERAGE('lncRNA 2^'!F33:H33) -> 1.0002224 | D46: =STDEV('lncRNA 2^'!F33:H33) -> 0.025827504 | E46: =AVERAGE('lncRNA 2^'!I33:K33) -> 1.052175 | F46: =STDEV('lncRNA 2^'!I33:K33) -> 0.17853399 | G46: =AVERAGE('lncRNA 2^'!L33:N33) -> 2.2400245 | H46: =STDEV('lncRNA 2^'!L33:N33) -> 0.41009886 | I46: =AVERAGE('lncRNA 2^'!O33:Q33) -> 1.7010541 | J46: =STDEV('lncRNA 2^'!O33:Q33) -> 0.053539327 | L46: HOXA11 | M46: =AVERAGE('mRNA 2^'!C47:E47) -> 1.0767879 | N46: =STDEV('mRNA 2^'!C47:E47) -> 0.53407658 | O46: =AVERAGE('mRNA 2^'!F47:H47) -> 1.6641509 | P46: =STDEV('mRNA 2^'!F47:H47) -> 0.11699205 | Q46: =AVERAGE('mRNA 2^'!I47:K47) -> 11.344936 | R46: =STDEV('mRNA 2^'!I47:K47) -> 2.1666258 | S46: =AVERAGE('mRNA 2^'!L47:N47) -> 17.304768 | T46: =STDEV('mRNA 2^'!L47:N47) -> 0.63917128
B47: RP11-64K12.9 | C47: =AVERAGE('lncRNA 2^'!F70:H70) -> 1.0004062 | D47: =STDEV('lncRNA 2^'!F70:H70) -> 0.034695503 | E47: =AVERAGE('lncRNA 2^'!I70:K70) -> 1.1456659 | F47: =STDEV('lncRNA 2^'!I70:K70) -> 0.14204948 | G47: =AVERAGE('lncRNA 2^'!L70:N70) -> 2.5558659 | H47: =STDEV('lncRNA 2^'!L70:N70) -> 1.0664429 | I47: =AVERAGE('lncRNA 2^'!O70:Q70) -> 1.7005679 | J47: =STDEV('lncRNA 2^'!O70:Q70) -> 0.20642243 | L47: BAHD1 | M47: =AVERAGE('mRNA 2^'!C48:E48) -> 1.0108885 | N47: =STDEV('mRNA 2^'!C48:E48) -> 0.17507051 | O47: =AVERAGE('mRNA 2^'!F48:H48) -> 1.3590114 | P47: =STDEV('mRNA 2^'!F48:H48) -> 0.35904583 | Q47: =AVERAGE('mRNA 2^'!I48:K48) -> 2.0989581 | R47: =STDEV('mRNA 2^'!I48:K48) -> 0.53136126 | S47: =AVERAGE('mRNA 2^'!L48:N48) -> 1.4653486 | T47: =STDEV('mRNA 2^'!L48:N48) -> 0.81414472
B48: CTD-2024P10.1 | C48: =AVERAGE('lncRNA 2^'!F53:H53) -> 1.0026912 | D48: =STDEV('lncRNA 2^'!F53:H53) -> 0.091452849 | E48: =AVERAGE('lncRNA 2^'!I53:K53) -> 1.0949268 | F48: =STDEV('lncRNA 2^'!I53:K53) -> 0.09860794 | G48: =AVERAGE('lncRNA 2^'!L53:N53) -> 2.2803609 | H48: =STDEV('lncRNA 2^'!L53:N53) -> 0.58963993 | I48: =AVERAGE('lncRNA 2^'!O53:Q53) -> 1.6839607 | J48: =STDEV('lncRNA 2^'!O53:Q53) -> 0.053653385 | L48: RAI14 | M48: =AVERAGE('mRNA 2^'!C49:E49) -> 1.0000739 | N48: =STDEV('mRNA 2^'!C49:E49) -> 0.014874976 | O48: =AVERAGE('mRNA 2^'!F49:H49) -> 1.3926831 | P48: =STDEV('mRNA 2^'!F49:H49) -> 0.065978966 | Q48: =AVERAGE('mRNA 2^'!I49:K49) -> 0.70719145 | R48: =STDEV('mRNA 2^'!I49:K49) -> 0.20485805 | S48: =AVERAGE('mRNA 2^'!L49:N49) -> 3.2173741 | T48: =STDEV('mRNA 2^'!L49:N49) -> 0.040329768
B49: RP11-875O11.3 | C49: =AVERAGE('lncRNA 2^'!F60:H60) -> 1.00257 | D49: =STDEV('lncRNA 2^'!F60:H60) -> 0.086744044 | E49: =AVERAGE('lncRNA 2^'!I60:K60) -> 0.91801429 | F49: =STDEV('lncRNA 2^'!I60:K60) -> 0.13809495 | G49: =AVERAGE('lncRNA 2^'!L60:N60) -> 1.8750895 | H49: =STDEV('lncRNA 2^'!L60:N60) -> 0.22380976 | I49: =AVERAGE('lncRNA 2^'!O60:Q60) -> 1.6818055 | J49: =STDEV('lncRNA 2^'!O60:Q60) -> 0.062178349 | L49: TNFRSF10B | M49: =AVERAGE('mRNA 2^'!C50:E50) -> 1.0045484 | N49: =STDEV('mRNA 2^'!C50:E50) -> 0.11684639 | O49: =AVERAGE('mRNA 2^'!F50:H50) -> 0.91591994 | P49: =STDEV('mRNA 2^'!F50:H50) -> 0.24897111 | Q49: =AVERAGE('mRNA 2^'!I50:K50) -> 1.884014 | R49: =STDEV('mRNA 2^'!I50:K50) -> 0.55212181 | S49: =AVERAGE('mRNA 2^'!L50:N50) -> 0.88484966 | T49: =STDEV('mRNA 2^'!L50:N50) -> 0.085207379
B50: AC068499.10 | C50: =AVERAGE('lncRNA 2^'!F52:H52) -> 1.0000505 | D50: =STDEV('lncRNA 2^'!F52:H52) -> 0.012328883 | E50: =AVERAGE('lncRNA 2^'!I52:K52) -> 0.9908742 | F50: =STDEV('lncRNA 2^'!I52:K52) -> 0.2309589 | G50: =AVERAGE('lncRNA 2^'!L52:N52) -> 2.017708 | H50: =STDEV('lncRNA 2^'!L52:N52) -> 0.24115415 | I50: =AVERAGE('lncRNA 2^'!O52:Q52) -> 1.6482539 | J50: =STDEV('lncRNA 2^'!O52:Q52) -> 0.10391471 | L50: RAB3A | M50: =AVERAGE('mRNA 2^'!C51:E51) -> 1.0662269 | N50: =STDEV('mRNA 2^'!C51:E51) -> 0.41785935 | O50: =AVERAGE('mRNA 2^'!F51:H51) -> 1.0949254 | P50: =STDEV('mRNA 2^'!F51:H51) -> 0.18302741 | Q50: =AVERAGE('mRNA 2^'!I51:K51) -> 2.5874083 | R50: =STDEV('mRNA 2^'!I51:K51) -> 0.49713835 | S50: =AVERAGE('mRNA 2^'!L51:N51) -> 2.0345507 | T50: =STDEV('mRNA 2^'!L51:N51) -> 0.39666409
B51: RP11-285F7.2 | C51: =AVERAGE('lncRNA 2^'!F58:H58) -> 1.002779 | D51: =STDEV('lncRNA 2^'!F58:H58) -> 0.09076313 | E51: =AVERAGE('lncRNA 2^'!I58:K58) -> 0.3596932 | F51: =STDEV('lncRNA 2^'!I58:K58) -> 0.027162478 | G51: =AVERAGE('lncRNA 2^'!L58:N58) -> 1.6817117 | H51: =STDEV('lncRNA 2^'!L58:N58) -> 0.15651513 | I51: =AVERAGE('lncRNA 2^'!O58:Q58) -> 1.6435526 | J51: =STDEV('lncRNA 2^'!O58:Q58) -> 0.13626687 | L51: TMEM63A | M51: =AVERAGE('mRNA 2^'!C52:E52) -> 1.0001087 | N51: =STDEV('mRNA 2^'!C52:E52) -> 0.018101793 | O51: =AVERAGE('mRNA 2^'!F52:H52) -> 0.58190355 | P51: =STDEV('mRNA 2^'!F52:H52) -> 0.016736641 | Q51: =AVERAGE('mRNA 2^'!I52:K52) -> 1.3559522 | R51: =STDEV('mRNA 2^'!I52:K52) -> 0.17537658 | S51: =AVERAGE('mRNA 2^'!L52:N52) -> 1.6661347 | T51: =STDEV('mRNA 2^'!L52:N52) -> 0.013865177
B52: RP11-220I1.1 | C52: =AVERAGE('lncRNA 2^'!F64:H64) -> 1.0001682 | D52: =STDEV('lncRNA 2^'!F64:H64) -> 0.022520921 | E52: =AVERAGE('lncRNA 2^'!I64:K64) -> 1.6795432 | F52: =STDEV('lncRNA 2^'!I64:K64) -> 0.12557191 | G52: =AVERAGE('lncRNA 2^'!L64:N64) -> 0.76434664 | H52: =STDEV('lncRNA 2^'!L64:N64) -> 0.21183917 | I52: =AVERAGE('lncRNA 2^'!O64:Q64) -> 1.6402216 | J52: =STDEV('lncRNA 2^'!O64:Q64) -> 0.068808504 | L52: ZCCHC7 | M52: =AVERAGE('mRNA 2^'!C53:E53) -> 1.0004683 | N52: =STDEV('mRNA 2^'!C53:E53) -> 0.037421173 | O52: =AVERAGE('mRNA 2^'!F53:H53) -> 1.3548085 | P52: =STDEV('mRNA 2^'!F53:H53) -> 0.14864498 | Q52: =AVERAGE('mRNA 2^'!I53:K53) -> 0.62444375 | R52: =STDEV('mRNA 2^'!I53:K53) -> 0.10272269 | S52: =AVERAGE('mRNA 2^'!L53:N53) -> 1.2431883 | T52: =STDEV('mRNA 2^'!L53:N53) -> 0.056888069
