Workbook

Sheet 1-2节段
A1: 手术日期 | B1: 节段 | C1: 手术名称 | D1: 颈托要求佩戴多久 | E1: 实际佩戴了多久 | F1: 术前有肩颈肌肉僵硬、疼痛吗 | G1: 疼痛评分 | H1: 疼痛影响睡眠吗 | I1: 术后有肩颈肌肉僵硬、疼痛吗 | J1: 疼痛评分 | K1: 出院后佩戴颈托期间有肩颈肌肉僵硬、疼痛吗 | L1: 疼痛评分 | M1: 疼痛影响睡眠吗 | N1: 术前NDI% | O1: 出院前NDI% | P1: 术后三月NDI% | Q1: 术前JOA评分 | R1: 出院前JOA评分 | S1: 术后三月JOA评分
A2: 42380 | B2: 1 | C2: 颈5.6椎间盘切除加融合术 | D2: 1周 | E2: 两周 | F2: 有 | G2: 10 | H2: 影响 | I2: 无 | J2: 0 | K2: 有 | L2: 3 | M2: 不影响 | N2: 13 | O2: 20 | P2: 6 | Q2: 16 | R2: 15 | S2: 17
A3: 42388 | B3: 1 | C3: 颈5-6椎间盘摘除+融合术 | D3: 1月 | E3: 1月 | F3: 无 | G3: 0 | H3: 不影响 | I3: 有 | J3: 2 | K3: 有长时间僵硬 | L3: 0 | M3: 不影响 | N3: 9 | O3: 15 | P3: 26 | Q3: 15 | R3: 14 | S3: 14
A4: 42424 | B4: 1 | C4: 颈5前路椎间盘切除加融合固定术 | D4: 3月 | E4: 2月 | F4: 无 | G4: 0 | H4: 不影响 | I4: 无 | J4: 0 | K4: 无 | L4: 0 | M4: 不影响 | N4: 7 | O4: 9 | P4: 0 | Q4: 17 | R4: 14 | S4: 17
A5: 42430 | B5: 1 | C5: 颈5-6椎间盘摘除+椎体融合 | D5: 6周 | E5: 两周 | F5: 无 | G5: 0 | H5: 不影响 | I5: 无 | J5: 0 | K5: 无 | L5: 0 | M5: 不影响 | N5: 3 | O5: 12 | P5: 32 | Q5: 15 | R5: 13 | S5: 15
A6: 42452 | B6: 1 | C6: 颈5-6椎间盘切除术+融合内固定 | D6: 6周 | E6: 1月 | F6: 无 | G6: 0 | H6: 影响 | I6: 无 | J6: 0 | K6: 疼痛 | L6: 6 | M6: 影响 | N6: 12 | O6: 20 | P6: 28 | Q6: 15 | R6: 13 | S6: 15
A7: 42465 | B7: 1 | C7: 颈6-7椎间盘切除+融合内固定 | D7: 3月 | E7: 8周 | F7: 麻木 | G7: 0 | H7: 不影响 | I7: 无 | J7: 0 | K7: 无 | L7: 0 | M7: 不影响 | N7: 14 | O7: 21 | P7: 16 | Q7: 14 | R7: 13 | S7: 16
A8: 42472 | B8: 1 | C8: 颈4-5椎体融合术 | D8: 1月 | E8: 3月 | F8: 有 | G8: 6 | H8: 不影响 | I8: 无 | J8: 0 | K8: 长时间僵硬 | L8: 0 | M8: 不影响 | N8: 12 | O8: 18 | P8: 10 | Q8: 16 | R8: 15 | S8: 17
A9: 42499 | B9: 2 | C9: 颈4-5、5-6椎间盘摘除+椎体融合 | D9: 2周 | E9: 2周 | F9: 无 | G9: 0 | H9: 不影响 | I9: 无疼痛，有僵硬 | J9: 0 | K9: 长时间僵硬 | L9: 0 | M9: 不影响 | N9: 2 | O9: 14 | P9: 8 | Q9: 17 | R9: 16 | S9: 17
A10: 42508 | B10: 2 | C10: 颈5-6、颈6-7椎间盘切除术 | D10: 1月 | E10: 3月 | F10: 无 | G10: 0 | H10: 不影响 | I10: 无 | J10: 0 | K10: 胀 | L10: 0 | M10: 不影响 | N10: 4 | O10: 14 | P10: 0 | Q10: 16 | R10: 15 | S10: 17
A11: 42592 | B11: 1 | C11: C5-6椎间盘摘除+植骨融合内固定术 | D11: 3月 | E11: 3月 | F11: 无 | G11: 0 | H11: 不影响 | I11: 无 | J11: 0 | K11: 无 | L11: 0 | M11: 不影响 | N11: 29 | O11: 29 | P11: 12 | Q11: 9 | R11: 11 | S11: 16
A12: 42597 | B12: 1 | C12: 颈5-6椎间盘切除+融合内固定术 | D12: 1个月 | E12: 6周 | F12: 无 | G12: 0 | H12: 不影响 | I12: 无 | J12: 0 | K12: 无 | L12: 0 | M12: 不影响 | N12: 11 | O12: 20 | P12: 8 | Q12: 17 | R12: 16 | S12: 17
A13: 42982 | B13: 2 | C13: 颈椎前路减压融合术C5-7 | D13: 3月 | E13: 3月 | F13: 无 | G13: 0 | H13: 不影响 | I13: 无 | J13: 0 | K13: 无 | L13: 0 | M13: 不影响 | N13: 6 | O13: 14 | P13: 12 | Q13: 16 | R13: 15 | S13: 15
... A20: 43021 | B20: 2 | C20: C3-5ACDF | D20: 3月 | E20: 3月 | F20: 疼、僵硬 | G20: 4 | H20: 影响 | I20: 无 | J20: 0 | K20: 无 | L20: 0 | M20: 不影响 | N20: 6 | O20: 10 | P20: 0 | Q20: 16 | R20: 14 | S20: 17
A21: 43034 | B21: 1 | C21: C5-6椎间盘切除+椎体融合术 | D21: 3月 | E21: 3月 | F21: 疼 | G21: 2 | H21: 影响 | I21: 有 | J21: 2 | K21: 有僵硬,疼痛 | L21: 1 | M21: 不影响 | N21: 22 | O21: 27 | P21: 0 | Q21: 16 | R21: 14 | S21: 17
A22: 43038 | B22: 1 | C22: C5-6 ACDF | D22: 3月 | E22: 3月 | F22: 疼 | G22: 1 | H22: 不影响 | I22: 有 | J22: 1 | K22: 无 | L22: 0 | M22: 不影响 | N22: 19 | O22: 26 | P22: 0 | Q22: 14 | R22: 15 | S22: 17
A23: 43039 | B23: 2 | C23: C3-4，C5-6ACDF | D23: 1月 | E23: 1月 | F23: 无 | G23: 0 | H23: 不影响 | I23: 无 | J23: 0 | K23: 无 | L23: 0 | M23: 不影响 | N23: 28 | O23: 27 | P23: 0 | Q23: 16 | R23: 15 | S23: 17
A24: 43046 | B24: 2 | C24: C3-5ACDF | D24: 2月 | E24: 3月 | F24: 疼 | G24: 1 | H24: 影响 | I24: 无 | J24: 0 | K24: 有 | L24: 1 | M24: 不影响 | N24: 12 | O24: 14 | P24: 6 | Q24: 14 | R24: 13 | S24: 14
A25: 43045 | B25: 1 | C25: 颈5-6ACDF | D25: 2月 | E25: 1月 | F25: 无 | G25: 0 | H25: 不影响 | I25: 有 | J25: 4 | K25: 无 | L25: 0 | M25: 不影响 | N25: 18 | O25: 15 | P25: 10 | Q25: 0 | R25: 16 | S25: 15
A26: 43045 | B26: 2 | C26: 颈4-5 5-6ACDF | D26: 40天 | E26: 6周 | F26: 疼、僵硬 | G26: 1 | H26: 不影响 | I26: 无 | J26: 0 | K26: 无 | L26: 0 | M26: 不影响 | N26: 14 | O26: 17 | P26: 4 | Q26: 16 | R26: 15 | S26: 13
A27: 43046 | B27: 2 | C27: C4-5 C5-6ACDF | D27: 1月 | E27: 3月 | F27: 疼 | G27: 2 | H27: 影响 | I27: 有 | J27: 1 | K27: 无 | L27: 0 | M27: 不影响 | N27: 12 | O27: 15 | P27: 16 | Q27: 16 | R27: 15 | S27: 14
A28: 43049 | B28: 2 | C28: C4-5 5-6 ACDF | D28: 3月 | E28: 3月 | F28: 无 | G28: 0 | H28: 不影响 | I28: 有 | J28: 1 | K28: 无 | L28: 0 | M28: 不影响 | N28: 18 | O28: 19 | P28: 2 | Q28: 16 | R28: 16 | S28: 15
A29: 43052 | B29: 1 | C29: C4-5ACDF | D29: 3月 | E29: 3月 | F29: 无 | G29: 0 | H29: 不影响 | I29: 无 | J29: 0 | K29: 无 | L29: 0 | M29: 不影响 | N29: 22 | O29: 23 | P29: 2 | Q29: 14 | R29: 15 | S29: 15
A30: 43054 | B30: 2 | C30: 颈4-5，5-6ACDF | D30: 1月 | E30: 1月 | F30: 疼 | G30: 3 | H30: 影响 | I30: 无 | J30: 0 | K30: 无 | L30: 0 | M30: 不影响 | N30: 24 | O30: 26 | P30: 16 | Q30: 14 | R30: 13 | S30: 16
A31: 43054 | B31: 1 | C31: C4-5ACDF | D31: 1月 | E31: 1月 | F31: 左肩僵硬 | G31: 2 | H31: 影响 | I31: 无 | J31: 0 | K31: 有 | L31: 1 | M31: 不影响 | N31: 14 | O31: 15 | P31: 6 | Q31: 13 | R31: 14 | S31: 15
A32: 43060 | B32: 2 | C32: 颈5-6,6-7ACDF | D32: 3月 | E32: 4月 | F32: 无 | G32: 0 | H32: 不影响 | I32: 无 | J32: 0 | K32: 无 | L32: 0 | M32: 不影响 | N32: 15 | O32: 17 | P32: 14 | Q32: 14 | R32: 15 | S32: 15
A33: 43066 | B33: 1 | C33: 颈5-6ACDF | D33: 3月 | E33: 2月 | F33: 有 | G33: 2 | H33: 影响 | I33: 无 | J33: 0 | K33: 无 | L33: 0 | M33: 不影响 | N33: 23 | O33: 24 | P33: 12 | Q33: 11 | R33: 11 | S33: 16
A34: 43074 | B34: 1 | C34: C5-6ACDF | D34: 1月 | E34: 1月 | F34: 有 | G34: 4 | H34: 影响 | I34: 无 | J34: 0 | K34: 无 | L34: 0 | M34: 不影响 | N34: 7 | O34: 8 | P34: 8 | Q34: 17 | R34: 15 | S34: 17
A35: 43076 | B35: 1 | C35: 颈5-6ACDF | D35: 6周 | E35: 5周 | F35: 有 | G35: 2 | H35: 不影响 | I35: 无 | J35: 0 | K35: 无 | L35: 0 | M35: 不影响 | N35: 21 | O35: 23 | P35: 12 | Q35: 11 | R35: 12 | S35: 16
A36: 42599 | B36: 1 | C36: 颈5-6椎间盘切除+融合内固定术 | D36: 1个月 | E36: 6周 | F36: 无 | G36: 0 | H36: 不影响 | I36: 无 | J36: 0 | K36: 无 | L36: 0 | M36: 不影响 | N36: 11 | O36: 14 | P36: 2 | Q36: 14 | R36: 14 | S36: 13
A37: 42606 | B37: 1 | C37: 颈椎C3/4椎间盘切除+融合术内固定术 | D37: 3个月 | E37: 3月 | F37: 有 | G37: 1 | H37: 不影响 | I37: 有 | J37: 4 | K37: 有 | L37: 2 | M37: 不影响 | N37: 19 | O37: 20 | P37: 10 | Q37: 16 | R37: 15 | S37: 16
... A39: 42625 | B39: 1 | C39: C5/6椎间盘切除术+颈椎融合术 | D39: 3个月 | E39: 2月 | F39: 无 | G39: 0 | H39: 不影响 | I39: 有 | J39: 1 | K39: 无 | L39: 0 | M39: 不影响 | N39: 21 | O39: 20 | P39: 4 | Q39: 13 | R39: 14 | S39: 17
A40: 42625 | B40: 2 | C40: C4-6椎间盘切除+融合内固定术 | D40: 1个月 | E40: 1月 | F40: 无 | G40: 0 | H40: 不影响 | I40: 无 | J40: 0 | K40: 无 | L40: 0 | M40: 不影响 | N40: 22 | O40: 27 | P40: 12 | Q40: 13 | R40: 13 | S40: 17
A41: 42641 | B41: 1 | C41: 颈5-6椎间盘摘除+融合内固定术 | D41: 1月 | E41: 2周 | F41: 有 | G41: 5 | H41: 影响 | I41: 无 | J41: 0 | K41: 有 | L41: 2 | M41: 不影响 | N41: 18 | O41: 21 | P41: 0 | Q41: 13 | R41: 14 | S41: 16
A42: 42655 | B42: 2 | C42: 颈4-5，颈5-6，椎间盘摘除加融合术 | D42: 3月 | E42: 6周 | F42: 无 | G42: 0 | H42: 不影响 | I42: 无 | J42: 2 | K42: 无 | L42: 0 | M42: 不影响 | N42: 9 | O42: 12 | P42: 2 | Q42: 15 | R42: 15 | S42: 17
A43: 42660 | B43: 2 | C43: 颈3、4加4、5椎间盘切除加融合术 | D43: 1个月 | E43: 1月 | F43: 无 | G43: 0 | H43: 不影响 | I43: 有 | J43: 3 | K43: 无 | L43: 0 | M43: 不影响 | N43: 18 | O43: 20 | P43: 0 | Q43: 16 | R43: 15 | S43: 17
A44: 42676 | B44: 1 | C44: c3-4椎间盘切除术 | D44: 3个月 | E44: 3月 | F44: 无 | G44: 0 | H44: 不影响 | I44: 有 | J44: 1 | K44: 无 | L44: 0 | M44: 不影响 | N44: 13 | O44: 17 | P44: 12 | Q44: 15 | R44: 14 | S44: 16
A45: 42699 | B45: 1 | C45: C4/5ACDF | D45: 3个月 | E45: 6周 | F45: 有 | G45: 6 | H45: 影响 | I45: 无 | J45: 0 | K45: 有 | L45: 1 | M45: 不影响 | N45: 27 | O45: 28 | P45: 2 | Q45: 13 | R45: 12 | S45: 17
A46: 42703 | B46: 1 | C46: C5-6ACDF | D46: 不用戴 | E46: 1周 | F46: 有 | G46: 5 | H46: 影响 | I46: 有 | J46: 1 | K46: 无 | L46: 0 | M46: 不影响 | N46: 12 | O46: 15 | P46: 6 | Q46: 17 | R46: 14 | S46: 16
A47: 42710 | B47: 1 | C47: 颈3-4ACDF | D47: 1个月 | E47: 1月 | F47: 无 | G47: 0 | H47: 不影响 | I47: 无 | J47: 0 | K47: 无 | L47: 0 | M47: 不影响 | N47: 13 | O47: 14 | P47: 4 | Q47: 15 | R47: 16 | S47: 17
...

Sheet 1-4w
B1: 姓名 | C1: 手术日期 | D1: 电话 | E1: 节段 | F1: 手术名称 | G1: 颈托要求佩戴多久 | H1: 实际佩戴了多久 | I1: 术前有肩颈肌肉僵硬、疼痛吗 | J1: 疼痛评分 | K1: AS评分 | L1: 疼痛影响睡眠吗 | M1: 术后有肩颈肌肉僵硬、疼痛吗 | N1: 疼痛评分 | O1: 出院后佩戴颈托期间有肩颈肌肉僵硬、疼痛吗 | P1: 疼痛评分 | Q1: AS评分 | R1: AS改善绝对值 | S1: AS改善率 | T1: 疼痛影响睡眠吗 | U1: 术前NDI% | V1: 出院前NDI% | W1: 术后三月NDI% | X1: NDI改善绝对值 | Y1: NDI改善率 | Z1: 术前JOA评分 | AA1: 出院前JOA评分 | AB1: 术后三月JOA评分 | AC1: JOA改善绝对值 | AD1: JOA改善值 | AF1: NDI术前 | AG1: NDI术后
A2: 1 | B2: 任宝田 | C2: 42380 | D2: 15830618910 | E2: 1 | F2: 颈5.6椎间盘切除加融合术 | G2: 1周 | H2: 两周 | I2: 有 | J2: 10 | K2: 6 | L2: 影响 | M2: 无 | N2: 0 | O2: 有 | P2: 3 | Q2: 10 | R2: =Q2-K2 -> 4 | S2: =(Q2-K2)/K2 -> 0.66666667 | T2: 不影响 | U2: 0.13 | V2: 0.2 | W2: 0.1 | X2: =-(W2-U2) -> 0.03 | Y2: =-(W2-U2)/U2 -> 0.23076923 | Z2: 16 | AA2: 15 | AB2: 17 | AC2: =AB2-Z2 -> 1 | AD2: =AC2/Z2 -> 0.0625 | AF2: =_xlfn.IFS(U2>=0.7,"丧失",U2>=0.5,"重",U2>=0.3,"中",U2>=0.1,"轻",U2>=0,"无") -> 轻 | AG2: =_xlfn.IFS(W2>=0.7,"丧失",W2>=0.5,"重",W2>=0.3,"中",W2>=0.1,"轻",W2>=0,"无") -> 轻
A3: 2 | B3: 孙秀华 | C3: 42388 | D3: 15965992064 | E3: 1 | F3: 颈5-6椎间盘摘除+融合术 | G3: 1月 | H3: 1月 | I3: 无 | J3: 0 | K3: 12 | L3: 不影响 | M3: 有 | N3: 2 | O3: 有长时间僵硬 | P3: 0 | Q3: 6 | R3: =Q3-K3 -> -6 | S3: =(Q3-K3)/K3 -> -0.5 | T3: 不影响 | U3: 0.1 | V3: 0.15 | W3: 0.1 | X3: =-(W3-U3) -> 0 | Y3: =-(W3-U3)/U3 -> 0 | Z3: 15 | AA3: 14 | AB3: 16 | AC3: =AB3-Z3 -> 1 | AD3: =AC3/Z3 -> 0.066666667 | AF3: =_xlfn.IFS(U3>=0.7,"丧失",U3>=0.5,"重",U3>=0.3,"中",U3>=0.1,"轻",U3>=0,"无") -> 轻 | AG3: =_xlfn.IFS(W3>=0.7,"丧失",W3>=0.5,"重",W3>=0.3,"中",W3>=0.1,"轻",W3>=0,"无") -> 轻 | AJ3: 无障碍 | AK3: 轻度障碍
A4: 3 | B4: 吴建国 | C4: 42430 | D4: 13911893887 | E4: 1 | F4: 颈5-6椎间盘摘除+椎体融合 | G4: 6周 | H4: 两周 | I4: 无 | J4: 0 | K4: 12 | L4: 不影响 | M4: 无 | N4: 0 | O4: 无 | P4: 0 | Q4: 12 | R4: =Q4-K4 -> 0 | S4: =(Q4-K4)/K4 -> 0 | T4: 不影响 | U4: 0.03 | V4: 0.12 | W4: 0.02 | X4: =-(W4-U4) -> 0.01 | Y4: =-(W4-U4)/U4 -> 0.33333333 | Z4: 15 | AA4: 13 | AB4: 15 | AC4: =AB4-Z4 -> 0 | AD4: =AC4/Z4 -> 0 | AF4: =_xlfn.IFS(U4>=0.7,"丧失",U4>=0.5,"重",U4>=0.3,"中",U4>=0.1,"轻",U4>=0,"无") -> 无 | AG4: =_xlfn.IFS(W4>=0.7,"丧失",W4>=0.5,"重",W4>=0.3,"中",W4>=0.1,"轻",W4>=0,"无") -> 无 | AI4: 术前NDI | AJ4: =COUNTIF(AF2:AF40,"无") -> 13 | AK4: =COUNTIF(AF2:AF40,"轻") -> 26
A5: 4 | B5: 李瑞祥 | C5: 42452 | D5: 13681186660 | E5: 1 | F5: 颈5-6椎间盘切除术+融合内固定 | G5: 6周 | H5: 1月 | I5: 无 | J5: 0 | K5: 12 | L5: 影响 | M5: 无 | N5: 0 | O5: 疼痛 | P5: 3 | Q5: 9 | R5: =Q5-K5 -> -3 | S5: =(Q5-K5)/K5 -> -0.25 | T5: 影响 | U5: 0.12 | V5: 0.2 | W5: 0.18 | X5: =-(W5-U5) -> -0.06 | Y5: =-(W5-U5)/U5 -> -0.5 | Z5: 15 | AA5: 13 | AB5: 16 | AC5: =AB5-Z5 -> 1 | AD5: =AC5/Z5 -> 0.066666667 | AF5: =_xlfn.IFS(U5>=0.7,"丧失",U5>=0.5,"重",U5>=0.3,"中",U5>=0.1,"轻",U5>=0,"无") -> 轻 | AG5: =_xlfn.IFS(W5>=0.7,"丧失",W5>=0.5,"重",W5>=0.3,"中",W5>=0.1,"轻",W5>=0,"无") -> 轻 | AI5: 术后NDI | AJ5: =COUNTIF(AG2:AG40,"无") -> 23 | AK5: =COUNTIF(AG2:AG40,"轻") -> 16
A6: 5 | B6: 吕桂霞 | C6: 42499 | D6: 13811175802 | E6: 2 | F6: 颈4-5、5-6椎间盘摘除+椎体融合 | G6: 2周 | H6: 2周 | I6: 无 | J6: 0 | K6: 12 | L6: 不影响 | M6: 无疼痛，有僵硬 | N6: 0 | O6: 长时间僵硬 | P6: 0 | Q6: 6 | R6: =Q6-K6 -> -6 | S6: =(Q6-K6)/K6 -> -0.5 | T6: 不影响 | U6: 0.02 | V6: 0.14 | W6: 0.08 | X6: =-(W6-U6) -> -0.06 | Y6: =-(W6-U6)/U6 -> -3 | Z6: 17 | AA6: 16 | AB6: 17 | AC6: =AB6-Z6 -> 0 | AD6: =AC6/Z6 -> 0 | AF6: =_xlfn.IFS(U6>=0.7,"丧失",U6>=0.5,"重",U6>=0.3,"中",U6>=0.1,"轻",U6>=0,"无") -> 无 | AG6: =_xlfn.IFS(W6>=0.7,"丧失",W6>=0.5,"重",W6>=0.3,"中",W6>=0.1,"轻",W6>=0,"无") -> 无
A7: 6 | B7: 田小明 | C7: 43004 | D7: 13911280018 | E7: 1 | F7: C5-6ACDF | G7: 1月 | H7: 1月 | I7: 疼 | J7: 4 | K7: 8 | L7: 影响 | M7: 有 | N7: 1 | O7: 有僵硬,疼痛 | P7: 1 | Q7: 8 | R7: =Q7-K7 -> 0 | S7: =(Q7-K7)/K7 -> 0 | T7: 不影响 | U7: 0.23 | V7: 0.25 | W7: 0.1 | X7: =-(W7-U7) -> 0.13 | Y7: =-(W7-U7)/U7 -> 0.56521739 | Z7: 16 | AA7: 14 | AB7: 17 | AC7: =AB7-Z7 -> 1 | AD7: =AC7/Z7 -> 0.0625 | AF7: =_xlfn.IFS(U7>=0.7,"丧失",U7>=0.5,"重",U7>=0.3,"中",U7>=0.1,"轻",U7>=0,"无") -> 轻 | AG7: =_xlfn.IFS(W7>=0.7,"丧失",W7>=0.5,"重",W7>=0.3,"中",W7>=0.1,"轻",W7>=0,"无") -> 轻
A8: 7 | B8: 姜文涛 | C8: 43005 | D8: 18731275655 | E8: 2 | F8: C3-4 C4-5ACDF | G8: 1月 | H8: 1月 | I8: 无 | J8: 0 | K8: 12 | L8: 不影响 | M8: 无 | N8: 0 | O8: 无 | P8: 0 | Q8: 12 | R8: =Q8-K8 -> 0 | S8: =(Q8-K8)/K8 -> 0 | T8: 不影响 | U8: 0.03 | V8: 0.16 | W8: 0 | X8: =-(W8-U8) -> 0.03 | Y8: =-(W8-U8)/U8 -> 1 | Z8: 16 | AA8: 15 | AB8: 17 | AC8: =AB8-Z8 -> 1 | AD8: =AC8/Z8 -> 0.0625 | AF8: =_xlfn.IFS(U8>=0.7,"丧失",U8>=0.5,"重",U8>=0.3,"中",U8>=0.1,"轻",U8>=0,"无") -> 无 | AG8: =_xlfn.IFS(W8>=0.7,"丧失",W8>=0.5,"重",W8>=0.3,"中",W8>=0.1,"轻",W8>=0,"无") -> 无
A9: 8 | B9: 林合宜 | C9: 43018 | D9: 13791967987 | E9: 2 | F9: C5-7ACDF | G9: 1月 | H9: 1月 | I9: 无 | J9: 0 | K9: 12 | L9: 不影响 | M9: 有 | N9: 1 | O9: 无 | P9: 0 | Q9: 12 | R9: =Q9-K9 -> 0 | S9: =(Q9-K9)/K9 -> 0 | T9: 不影响 | U9: 0.12 | V9: 0.15 | W9: 0.02 | X9: =-(W9-U9) -> 0.1 | Y9: =-(W9-U9)/U9 -> 0.83333333 | Z9: 17 | AA9: 14 | AB9: 16 | AC9: =AB9-Z9 -> -1 | AD9: =AC9/Z9 -> -0.058823529 | AF9: =_xlfn.IFS(U9>=0.7,"丧失",U9>=0.5,"重",U9>=0.3,"中",U9>=0.1,"轻",U9>=0,"无") -> 轻 | AG9: =_xlfn.IFS(W9>=0.7,"丧失",W9>=0.5,"重",W9>=0.3,"中",W9>=0.1,"轻",W9>=0,"无") -> 无 | AI9: 这是Excel版本
A10: 9 | B10: 王增茹 | C10: 43039 | D10: 18931279135 | E10: 2 | F10: C3-4，C5-6ACDF | G10: 1月 | H10: 1月 | I10: 无 | J10: 0 | K10: 12 | L10: 不影响 | M10: 无 | N10: 0 | O10: 无 | P10: 0 | Q10: 12 | R10: =Q10-K10 -> 0 | S10: =(Q10-K10)/K10 -> 0 | T10: 不影响 | U10: 0.28 | V10: 0.27 | W10: 0 | X10: =-(W10-U10) -> 0.28 | Y10: =-(W10-U10)/U10 -> 1 | Z10: 16 | AA10: 15 | AB10: 17 | AC10: =AB10-Z10 -> 1 | AD10: =AC10/Z10 -> 0.0625 | AF10: =_xlfn.IFS(U10>=0.7,"丧失",U10>=0.5,"重",U10>=0.3,"中",U10>=0.1,"轻",U10>=0,"无") -> 轻 | AG10: =_xlfn.IFS(W10>=0.7,"丧失",W10>=0.5,"重",W10>=0.3,"中",W10>=0.1,"轻",W10>=0,"无") -> 无 | AJ10: =AJ3 -> 无障碍 | AK10: =AK3 -> 轻度障碍
A11: 10 | B11: 崔春生 | C11: 43045 | D11: 67567610/87864146 | E11: 1 | F11: 颈5-6ACDF | G11: 2月 | H11: 1月 | I11: 无 | J11: 0 | K11: 12 | L11: 不影响 | M11: 有 | N11: 4 | O11: 无 | P11: 0 | Q11: 12 | R11: =Q11-K11 -> 0 | S11: =(Q11-K11)/K11 -> 0 | T11: 不影响 | U11: 0.18 | V11: 0.15 | W11: 0.1 | X11: =-(W11-U11) -> 0.08 | Y11: =-(W11-U11)/U11 -> 0.44444444 | Z11: 0 | AA11: 16 | AB11: 15 | AC11: =AB11-Z11 -> 15 | AD11: =AC11/Z11 -> #DIV/0! | AF11: =_xlfn.IFS(U11>=0.7,"丧失",U11>=0.5,"重",U11>=0.3,"中",U11>=0.1,"轻",U11>=0,"无") -> 轻 | AG11: =_xlfn.IFS(W11>=0.7,"丧失",W11>=0.5,"重",W11>=0.3,"中",W11>=0.1,"轻",W11>=0,"无") -> 轻 | AI11: =AI4 -> 术前NDI | AJ11: =AJ4/39 -> 0.33333333 | AK11: =AK4/39 -> 0.66666667
A12: 11 | B12: 殷成光 | C12: 43054 | D12: 15313825688 | E12: 2 | F12: 颈4-5，5-6ACDF | G12: 1月 | H12: 1月 | I12: 疼 | J12: 3 | K12: 10 | L12: 影响 | M12: 无 | N12: 0 | O12: 无 | P12: 0 | Q12: 12 | R12: =Q12-K12 -> 2 | S12: =(Q12-K12)/K12 -> 0.2 | T12: 不影响 | U12: 0.24 | V12: 0.26 | W12: 0.16 | X12: =-(W12-U12) -> 0.08 | Y12: =-(W12-U12)/U12 -> 0.33333333 | Z12: 14 | AA12: 13 | AB12: 16 | AC12: =AB12-Z12 -> 2 | AD12: =AC12/Z12 -> 0.14285714 | AF12: =_xlfn.IFS(U12>=0.7,"丧失",U12>=0.5,"重",U12>=0.3,"中",U12>=0.1,"轻",U12>=0,"无") -> 轻 | AG12: =_xlfn.IFS(W12>=0.7,"丧失",W12>=0.5,"重",W12>=0.3,"中",W12>=0.1,"轻",W12>=0,"无") -> 轻 | AI12: =AI5 -> 术后NDI | AJ12: =AJ5/39 -> 0.58974359 | AK12: =AK5/39 -> 0.41025641
A13: 12 | B13: 王京萍 | C13: 43054 | D13: 13901188030 | E13: 1 | F13: C4-5ACDF | G13: 1月 | H13: 1月 | I13: 左肩僵硬 | J13: 2 | K13: 10 | L13: 影响 | M13: 无 | N13: 0 | O13: 有 | P13: 1 | Q13: 11 | R13: =Q13-K13 -> 1 | S13: =(Q13-K13)/K13 -> 0.1 | T13: 不影响 | U13: 0.14 | V13: 0.15 | W13: 0.06 | X13: =-(W13-U13) -> 0.08 | Y13: =-(W13-U13)/U13 -> 0.57142857 | Z13: 13 | AA13: 14 | AB13: 15 | AC13: =AB13-Z13 -> 2 | AD13: =AC13/Z13 -> 0.15384615 | AF13: =_xlfn.IFS(U13>=0.7,"丧失",U13>=0.5,"重",U13>=0.3,"中",U13>=0.1,"轻",U13>=0,"无") -> 轻 | AG13: =_xlfn.IFS(W13>=0.7,"丧失",W13>=0.5,"重",W13>=0.3,"中",W13>=0.1,"轻",W13>=0,"无") -> 无 | AI13: 辅助行左 | AJ13: =IF(AJ12>AJ11,AJ12,"") -> 0.58974359 | AK13: =IF(AK12>AK11,AK12,"")
A14: 13 | B14: 洪明杰 | C14: 43074 | D14: 13581757892 | E14: 1 | F14: C5-6ACDF | G14: 1月 | H14: 1月 | I14: 有 | J14: 4 | K14: 9 | L14: 影响 | M14: 无 | N14: 0 | O14: 无 | P14: 0 | Q14: 12 | R14: =Q14-K14 -> 3 | S14: =(Q14-K14)/K14 -> 0.33333333 | T14: 不影响 | U14: 0.07 | V14: 0.08 | W14: 0.08 | X14: =-(W14-U14) -> -0.01 | Y14: =-(W14-U14)/U14 -> -0.14285714 | Z14: 17 | AA14: 15 | AB14: 17 | AC14: =AB14-Z14 -> 0 | AD14: =AC14/Z14 -> 0 | AF14: =_xlfn.IFS(U14>=0.7,"丧失",U14>=0.5,"重",U14>=0.3,"中",U14>=0.1,"轻",U14>=0,"无") -> 无 | AG14: =_xlfn.IFS(W14>=0.7,"丧失",W14>=0.5,"重",W14>=0.3,"中",W14>=0.1,"轻",W14>=0,"无") -> 无 | AI14: 辅助行右 | AJ14: =IF(AJ11>AJ12,AJ11,"") | AK14: =IF(AK11>AK12,AK11,"") -> 0.66666667
A15: 14 | B15: 夏淼 | C15: 42625 | D15: 13520751072 | E15: 2 | F15: C4-6椎间盘切除+融合内固定术 | G15: 1个月 | H15: 1月 | I15: 无 | J15: 0 | K15: 12 | L15: 不影响 | M15: 无 | N15: 0 | O15: 无 | P15: 0 | Q15: 12 | R15: =Q15-K15 -> 0 | S15: =(Q15-K15)/K15 -> 0 | T15: 不影响 | U15: 0.22 | V15: 0.27 | W15: 0.12 | X15: =-(W15-U15) -> 0.1 | Y15: =-(W15-U15)/U15 -> 0.45454545 | Z15: 13 | AA15: 13 | AB15: 17 | AC15: =AB15-Z15 -> 4 | AD15: =AC15/Z15 -> 0.30769231 | AF15: =_xlfn.IFS(U15>=0.7,"丧失",U15>=0.5,"重",U15>=0.3,"中",U15>=0.1,"轻",U15>=0,"无") -> 轻 | AG15: =_xlfn.IFS(W15>=0.7,"丧失",W15>=0.5,"重",W15>=0.3,"中",W15>=0.1,"轻",W15>=0,"无") -> 轻 | AI15: 差值左 | AJ15: =IF(AJ12>AJ11,AJ12-AJ11,"") -> 0.25641026 | AK15: =IF(AK12>AK11,AK12-AK11,"")
A16: 15 | B16: 孙国祥 | C16: 42641 | D16: 18104716888 | E16: 1 | F16: 颈5-6椎间盘摘除+融合内固定术 | G16: 1月 | H16: 2周 | I16: 有 | J16: 5 | K16: 8 | L16: 影响 | M16: 无 | N16: 0 | O16: 有 | P16: 2 | Q16: 10 | R16: =Q16-K16 -> 2 | S16: =(Q16-K16)/K16 -> 0.25 | T16: 不影响 | U16: 0.18 | V16: 0.21 | W16: 0 | X16: =-(W16-U16) -> 0.18 | Y16: =-(W16-U16)/U16 -> 1 | Z16: 13 | AA16: 14 | AB16: 16 | AC16: =AB16-Z16 -> 3 | AD16: =AC16/Z16 -> 0.23076923 | AF16: =_xlfn.IFS(U16>=0.7,"丧失",U16>=0.5,"重",U16>=0.3,"中",U16>=0.1,"轻",U16>=0,"无") -> 轻 | AG16: =_xlfn.IFS(W16>=0.7,"丧失",W16>=0.5,"重",W16>=0.3,"中",W16>=0.1,"轻",W16>=0,"无") -> 无 | AI16: 差值右 | AJ16: =IF(AJ11>AJ12,AJ11-AJ12,"") | AK16: =IF(AK11>AK12,AK11-AK12,"") -> 0.25641026
A17: 16 | B17: 刘海军 | C17: 42660 | D17: 15640681115 | E17: 2 | F17: 颈3、4加4、5椎间盘切除加融合术 | G17: 1个月 | H17: 1月 | I17: 无 | J17: 0 | K17: 12 | L17: 不影响 | M17: 有 | N17: 3 | O17: 无 | P17: 0 | Q17: 12 | R17: =Q17-K17 -> 0 | S17: =(Q17-K17)/K17 -> 0 | T17: 不影响 | U17: 0.18 | V17: 0.2 | W17: 0 | X17: =-(W17-U17) -> 0.18 | Y17: =-(W17-U17)/U17 -> 1 | Z17: 16 | AA17: 15 | AB17: 17 | AC17: =AB17-Z17 -> 1 | AD17: =AC17/Z17 -> 0.0625 | AF17: =_xlfn.IFS(U17>=0.7,"丧失",U17>=0.5,"重",U17>=0.3,"中",U17>=0.1,"轻",U17>=0,"无") -> 轻 | AG17: =_xlfn.IFS(W17>=0.7,"丧失",W17>=0.5,"重",W17>=0.3,"中",W17>=0.1,"轻",W17>=0,"无") -> 无 | AI17: 正偏差
A18: 17 | B18: 赵居兰 | C18: 42703 | D18: 13616392931 | E18: 1 | F18: C5-6ACDF | G18: 不用戴 | H18: 1周 | I18: 有 | J18: 5 | K18: 8 | L18: 影响 | M18: 有 | N18: 1 | O18: 无 | P18: 0 | Q18: 12 | R18: =Q18-K18 -> 4 | S18: =(Q18-K18)/K18 -> 0.5 | T18: 不影响 | U18: 0.12 | V18: 0.15 | W18: 0.06 | X18: =-(W18-U18) -> 0.06 | Y18: =-(W18-U18)/U18 -> 0.5 | Z18: 17 | AA18: 14 | AB18: 16 | AC18: =AB18-Z18 -> -1 | AD18: =AC18/Z18 -> -0.058823529 | AF18: =_xlfn.IFS(U18>=0.7,"丧失",U18>=0.5,"重",U18>=0.3,"中",U18>=0.1,"轻",U18>=0,"无") -> 轻 | AG18: =_xlfn.IFS(W18>=0.7,"丧失",W18>=0.5,"重",W18>=0.3,"中",W18>=0.1,"轻",W18>=0,"无") -> 无 | AI18: 同比左 | AJ18: =AJ15/AJ11 -> 0.76923077 | AK18: =AK15/AK11 -> #VALUE!
A19: 18 | B19: 赵凤勤 | C19: 42710 | D19: 13552011750 | E19: 1 | F19: 颈3-4ACDF | G19: 1个月 | H19: 1月 | I19: 无 | J19: 0 | K19: 12 | L19: 不影响 | M19: 无 | N19: 0 | O19: 无 | P19: 0 | Q19: 12 | R19: =Q19-K19 -> 0 | S19: =(Q19-K19)/K19 -> 0 | T19: 不影响 | U19: 0.13 | V19: 0.14 | W19: 0.04 | X19: =-(W19-U19) -> 0.09 | Y19: =-(W19-U19)/U19 -> 0.69230769 | Z19: 15 | AA19: 16 | AB19: 17 | AC19: =AB19-Z19 -> 2 | AD19: =AC19/Z19 -> 0.13333333 | AF19: =_xlfn.IFS(U19>=0.7,"丧失",U19>=0.5,"重",U19>=0.3,"中",U19>=0.1,"轻",U19>=0,"无") -> 轻 | AG19: =_xlfn.IFS(W19>=0.7,"丧失",W19>=0.5,"重",W19>=0.3,"中",W19>=0.1,"轻",W19>=0,"无") -> 无 | AI19: 同比右 | AJ19: =AJ16/AJ11 -> #VALUE! | AK19: =AK16/AK11 -> 0.38461538
A20: 19 | B20: 曹芳 | C20: 42713 | D20: 13554969205 | E20: 2 | F20: 颈4-5、5-6椎间盘切除+固定 | G20: 1个月 | H20: 1月 | I20: 有 | J20: 3 | K20: 9 | L20: 不影响 | M20: 有 | N20: 1 | O20: 无 | P20: 0 | Q20: 12 | R20: =Q20-K20 -> 3 | S20: =(Q20-K20)/K20 -> 0.33333333 | T20: 不影响 | U20: 0.23 | V20: 0.25 | W20: 0 | X20: =-(W20-U20) -> 0.23 | Y20: =-(W20-U20)/U20 -> 1 | Z20: 16 | AA20: 14 | AB20: 17 | AC20: =AB20-Z20 -> 1 | AD20: =AC20/Z20 -> 0.0625 | AF20: =_xlfn.IFS(U20>=0.7,"丧失",U20>=0.5,"重",U20>=0.3,"中",U20>=0.1,"轻",U20>=0,"无") -> 轻 | AG20: =_xlfn.IFS(W20>=0.7,"丧失",W20>=0.5,"重",W20>=0.3,"中",W20>=0.1,"轻",W20>=0,"无") -> 无
A21: 20 | B21: 钱存信 | C21: 42717 | D21: 15810784105 | E21: 2 | F21: 颈4-5、5-6椎间盘切除+融合术 | G21: 1个月 | H21: 1月 | I21: 无 | J21: 0 | K21: 12 | L21: 不影响 | M21: 无 | N21: 0 | O21: 无 | P21: 0 | Q21: 12 | R21: =Q21-K21 -> 0 | S21: =(Q21-K21)/K21 -> 0 | T21: 不影响 | U21: 0.03 | V21: 0.16 | W21: 0.02 | X21: =-(W21-U21) -> 0.01 | Y21: =-(W21-U21)/U21 -> 0.33333333 | Z21: 16 | AA21: 15 | AB21: 17 | AC21: =AB21-Z21 -> 1 | AD21: =AC21/Z21 -> 0.0625 | AF21: =_xlfn.IFS(U21>=0.7,"丧失",U21>=0.5,"重",U21>=0.3,"中",U21>=0.1,"轻",U21>=0,"无") -> 无 | AG21: =_xlfn.IFS(W21>=0.7,"丧失",W21>=0.5,"重",W21>=0.3,"中",W21>=0.1,"轻",W21>=0,"无") -> 无 | AI21: 同比左 | AJ21: =(AJ5-AJ4)/39 -> 0.25641026
A22: 21 | B22: 刘效云 | C22: 42718 | D22: 13856835577 | E22: 2 | F22: 颈3-4，4-5椎间盘摘除术+椎体融合术 | G22: 1个月 | H22: 1月 | I22: 有 | J22: 6 | K22: 8 | L22: 影响 | M22: 有 | N22: 4 | O22: 有 | P22: 3 | Q22: 10 | R22: =Q22-K22 -> 2 | S22: =(Q22-K22)/K22 -> 0.25 | T22: 影响 | U22: 0.06 | V22: 0.15 | W22: 0.04 | X22: =-(W22-U22) -> 0.02 | Y22: =-(W22-U22)/U22 -> 0.33333333 | Z22: 16 | AA22: 15 | AB22: 17 | AC22: =AB22-Z22 -> 1 | AD22: =AC22/Z22 -> 0.0625 | AF22: =_xlfn.IFS(U22>=0.7,"丧失",U22>=0.5,"重",U22>=0.3,"中",U22>=0.1,"轻",U22>=0,"无") -> 无 | AG22: =_xlfn.IFS(W22>=0.7,"丧失",W22>=0.5,"重",W22>=0.3,"中",W22>=0.1,"轻",W22>=0,"无") -> 无 | AI22: 同比右 | AK22: =(AK4-AK5)/39 -> 0.25641026
A23: 22 | B23: 闻宝瑞 | C23: 42719 | D23: 13810368283 | E23: 2 | F23: 颈5-6，6-7椎间盘切除+融合 | G23: 3个月 | H23: 1月 | I23: 有 | J23: 7 | K23: 6 | L23: 影响 | M23: 无 | N23: 0 | O23: 有 | P23: 3 | Q23: 10 | R23: =Q23-K23 -> 4 | S23: =(Q23-K23)/K23 -> 0.66666667 | T23: 影响 | U23: 0.19 | V23: 0.21 | W23: 0.02 | X23: =-(W23-U23) -> 0.17 | Y23: =-(W23-U23)/U23 -> 0.89473684 | Z23: 14 | AA23: 13 | AB23: 17 | AC23: =AB23-Z23 -> 3 | AD23: =AC23/Z23 -> 0.21428571 | AF23: =_xlfn.IFS(U23>=0.7,"丧失",U23>=0.5,"重",U23>=0.3,"中",U23>=0.1,"轻",U23>=0,"无") -> 轻 | AG23: =_xlfn.IFS(W23>=0.7,"丧失",W23>=0.5,"重",W23>=0.3,"中",W23>=0.1,"轻",W23>=0,"无") -> 无
A24: 23 | B24: 张富来 | C24: 42387 | D24: 13426113582 | E24: 1 | F24: 颈5-6椎间盘切除+融合 | G24: 1个月 | H24: 3周 | I24: 有 | J24: 7 | K24: 6 | L24: 影响 | M24: 有 | N24: 1 | O24: 无 | P24: 0 | Q24: 12 | R24: =Q24-K24 -> 6 | S24: =(Q24-K24)/K24 -> 1 | T24: 不影响 | U24: 0.25 | V24: 0.26 | W24: 0 | X24: =-(W24-U24) -> 0.25 | Y24: =-(W24-U24)/U24 -> 1 | Z24: 14 | AA24: 14 | AB24: 17 | AC24: =AB24-Z24 -> 3 | AD24: =AC24/Z24 -> 0.21428571 | AF24: =_xlfn.IFS(U24>=0.7,"丧失",U24>=0.5,"重",U24>=0.3,"中",U24>=0.1,"轻",U24>=0,"无") -> 轻 | AG24: =_xlfn.IFS(W24>=0.7,"丧失",W24>=0.5,"重",W24>=0.3,"中",W24>=0.1,"轻",W24>=0,"无") -> 无 | AI24: NDI配对 | AK24: 术后
A25: 24 | B25: 韩爱敏 | C25: 42770 | D25: 15910997515 | E25: 2 | F25: 颈5/6,6/7ACDF | G25: 3个月 | H25: 1月 | I25: 无 | J25: 0 | K25: 12 | L25: 不影响 | M25: 无 | N25: 0 | O25: 无 | P25: 0 | Q25: 12 | R25: =Q25-K25 -> 0 | S25: =(Q25-K25)/K25 -> 0 | T25: 不影响 | U25: 0.1 | V25: 0.15 | W25: 0 | X25: =-(W25-U25) -> 0.1 | Y25: =-(W25-U25)/U25 -> 1 | Z25: 15 | AA25: 14 | AB25: 15 | AC25: =AB25-Z25 -> 0 | AD25: =AC25/Z25 -> 0 | AF25: =_xlfn.IFS(U25>=0.7,"丧失",U25>=0.5,"重",U25>=0.3,"中",U25>=0.1,"轻",U25>=0,"无") -> 轻 | AG25: =_xlfn.IFS(W25>=0.7,"丧失",W25>=0.5,"重",W25>=0.3,"中",W25>=0.1,"轻",W25>=0,"无") -> 无 | AK25: 无障碍 | AL25: 轻度障碍
A26: 25 | B26: 韩丽云 | C26: 42770 | D26: 13501348520 | E26: 1 | F26: 颈3-4椎间盘切除+融合术 | G26: 3个月 | H26: 1月 | I26: 无 | J26: 0 | K26: 12 | L26: 不影响 | M26: 无 | N26: 0 | O26: 无 | P26: 0 | Q26: 12 | R26: =Q26-K26 -> 0 | S26: =(Q26-K26)/K26 -> 0 | T26: 不影响 | U26: 0.06 | V26: 0.14 | W26: 0.04 | X26: =-(W26-U26) -> 0.02 | Y26: =-(W26-U26)/U26 -> 0.33333333 | Z26: 16 | AA26: 15 | AB26: 16 | AC26: =AB26-Z26 -> 0 | AD26: =AC26/Z26 -> 0 | AF26: =_xlfn.IFS(U26>=0.7,"丧失",U26>=0.5,"重",U26>=0.3,"中",U26>=0.1,"轻",U26>=0,"无") -> 无 | AG26: =_xlfn.IFS(W26>=0.7,"丧失",W26>=0.5,"重",W26>=0.3,"中",W26>=0.1,"轻",W26>=0,"无") -> 无 | AI26: 术前 | AJ26: 无障碍 | AK26: =COUNTIFS(AF2:AF40,"无",AG2:AG40,"无") -> 10 | AL26: =COUNTIFS(AF2:AF40,"无",AG2:AG40,"轻") -> 3
A27: 26 | B27: 张余维 | C27: 42795 | D27: 15905439875 | E27: 2 | F27: 颈4/5颈5/6椎间盘切除术加融合术 | G27: 3个月 | H27: 1周 | I27: 无 | J27: 0 | K27: 12 | L27: 不影响 | M27: 有 | N27: 1 | O27: 无 | P27: 0 | Q27: 12 | R27: =Q27-K27 -> 0 | S27: =(Q27-K27)/K27 -> 0 | T27: 不影响 | U27: 0.12 | V27: 0.15 | W27: 0.1 | X27: =-(W27-U27) -> 0.02 | Y27: =-(W27-U27)/U27 -> 0.16666667 | Z27: 16 | AA27: 16 | AB27: 15 | AC27: =AB27-Z27 -> -1 | AD27: =AC27/Z27 -> -0.0625 | AF27: =_xlfn.IFS(U27>=0.7,"丧失",U27>=0.5,"重",U27>=0.3,"中",U27>=0.1,"轻",U27>=0,"无") -> 轻 | AG27: =_xlfn.IFS(W27>=0.7,"丧失",W27>=0.5,"重",W27>=0.3,"中",W27>=0.1,"轻",W27>=0,"无") -> 轻 | AJ27: 轻度障碍 | AK27: =COUNTIFS(AF2:AF40,"轻",AG2:AG40,"无") -> 13 | AL27: =COUNTIFS(AF2:AF40,"轻",AG2:AG40,"轻") -> 13
A28: 27 | B28: 孙亚萍 | C28: 42808 | D28: 13847443168 | E28: 1 | F28: 颈5、6ACDF | G28: 1个月 | H28: 1月 | I28: 无 | J28: 0 | K28: 12 | L28: 不影响 | M28: 有 | N28: 0 | O28: 有 | P28: 2 | Q28: 10 | R28: =Q28-K28 -> -2 | S28: =(Q28-K28)/K28 -> -0.16666667 | T28: 不影响 | U28: 0.15 | V28: 0.19 | W28: 0.06 | X28: =-(W28-U28) -> 0.09 | Y28: =-(W28-U28)/U28 -> 0.6 | Z28: 14 | AA28: 13 | AB28: 17 | AC28: =AB28-Z28 -> 3 | AD28: =AC28/Z28 -> 0.21428571 | AF28: =_xlfn.IFS(U28>=0.7,"丧失",U28>=0.5,"重",U28>=0.3,"中",U28>=0.1,"轻",U28>=0,"无") -> 轻 | AG28: =_xlfn.IFS(W28>=0.7,"丧失",W28>=0.5,"重",W28>=0.3,"中",W28>=0.1,"轻",W28>=0,"无") -> 无
A29: 28 | B29: 陈爱娟 | C29: 42815 | D29: 18616911351 | E29: 2 | F29: 颈3-4，5-6ACDF | G29: 两周 | H29: 2周 | I29: 无 | J29: 0 | K29: 12 | L29: 不影响 | M29: 有 | N29: 3 | O29: 无 | P29: 0 | Q29: 12 | R29: =Q29-K29 -> 0 | S29: =(Q29-K29)/K29 -> 0 | T29: 不影响 | U29: 0.02 | V29: 0.1 | W29: 0.1 | X29: =-(W29-U29) -> -0.08 | Y29: =-(W29-U29)/U29 -> -4 | Z29: 16 | AA29: 15 | AB29: 16 | AC29: =AB29-Z29 -> 0 | AD29: =AC29/Z29 -> 0 | AF29: =_xlfn.IFS(U29>=0.7,"丧失",U29>=0.5,"重",U29>=0.3,"中",U29>=0.1,"轻",U29>=0,"无") -> 无 | AG29: =_xlfn.IFS(W29>=0.7,"丧失",W29>=0.5,"重",W29>=0.3,"中",W29>=0.1,"轻",W29>=0,"无") -> 轻 | AK29: 1 | AL29: 1 | AM29: 10
A30: 29 | B30: 蒋瑞民 | C30: 42818 | D30: 13838932061 | E30: 1 | F30: C5-6颈前路椎间盘切除植骨融合 | G30: 3个月 | H30: 2-4周 | I30: 有 | J30: 6 | K30: 8 | L30: 影响 | M30: 有 | N30: 1 | O30: 无 | P30: 0 | Q30: 12 | R30: =Q30-K30 -> 4 | S30: =(Q30-K30)/K30 -> 0.5 | T30: 不影响 | U30: 0.12 | V30: 0.09 | W30: 0.1 | X30: =-(W30-U30) -> 0.02 | Y30: =-(W30-U30)/U30 -> 0.16666667 | Z30: 16 | AA30: 16 | AB30: 17 | AC30: =AB30-Z30 -> 1 | AD30: =AC30/Z30 -> 0.0625 | AF30: =_xlfn.IFS(U30>=0.7,"丧失",U30>=0.5,"重",U30>=0.3,"中",U30>=0.1,"轻",U30>=0,"无") -> 轻 | AG30: =_xlfn.IFS(W30>=0.7,"丧失",W30>=0.5,"重",W30>=0.3,"中",W30>=0.1,"轻",W30>=0,"无") -> 轻 | AK30: 1 | AL30: 2 | AM30: 3
A31: 30 | B31: 王涛 | C31: 42823 | D31: 13811494950 | E31: 1 | F31: C5-6ACDF | G31: 3个月 | H31: 1周 | I31: 无 | J31: 0 | K31: 12 | L31: 不影响 | M31: 有 | N31: 1 | O31: 无 | P31: 0 | Q31: 12 | R31: =Q31-K31 -> 0 | S31: =(Q31-K31)/K31 -> 0 | T31: 不影响 | U31: 0.01 | V31: 0.01 | W31: 0.06 | X31: =-(W31-U31) -> -0.05 | Y31: =-(W31-U31)/U31 -> -5 | Z31: 16 | AA31: 15 | AB31: 17 | AC31: =AB31-Z31 -> 1 | AD31: =AC31/Z31 -> 0.0625 | AF31: =_xlfn.IFS(U31>=0.7,"丧失",U31>=0.5,"重",U31>=0.3,"中",U31>=0.1,"轻",U31>=0,"无") -> 无 | AG31: =_xlfn.IFS(W31>=0.7,"丧失",W31>=0.5,"重",W31>=0.3,"中",W31>=0.1,"轻",W31>=0,"无") -> 无 | AK31: 2 | AL31: 1 | AM31: 13
A32: 31 | B32: 吴云峰 | C32: 42836 | D32: 13001051692 | E32: 1 | F32: 颈5-6颈6-7ACDF | G32: 1个月 | H32: 1月 | I32: 无 | J32: 0 | K32: 12 | L32: 不影响 | M32: 有 | N32: 2 | O32: 有 | P32: 2 | Q32: 10 | R32: =Q32-K32 -> -2 | S32: =(Q32-K32)/K32 -> -0.16666667 | T32: 影响 | U32: 0.21 | V32: 0.28 | W32: 0.1 | X32: =-(W32-U32) -> 0.11 | Y32: =-(W32-U32)/U32 -> 0.52380952 | Z32: 14 | AA32: 14 | AB32: 16 | AC32: =AB32-Z32 -> 2 | AD32: =AC32/Z32 -> 0.14285714 | AF32: =_xlfn.IFS(U32>=0.7,"丧失",U32>=0.5,"重",U32>=0.3,"中",U32>=0.1,"轻",U32>=0,"无") -> 轻 | AG32: =_xlfn.IFS(W32>=0.7,"丧失",W32>=0.5,"重",W32>=0.3,"中",W32>=0.1,"轻",W32>=0,"无") -> 轻 | AK32: 2 | AL32: 2 | AM32: 13
A33: 32 | B33: 赵国民 | C33: 42864 | D33: 13910024827 | E33: 2 | F33: 颈56颈67椎间盘切除加椎体融合 | G33: 1个月 | H33: 1月 | I33: 无 | J33: 0 | K33: 12 | L33: 不影响 | M33: 有 | N33: 5 | O33: 无 | P33: 0 | Q33: 12 | R33: =Q33-K33 -> 0 | S33: =(Q33-K33)/K33 -> 0 | T33: 不影响 | U33: 0.04 | V33: 0.12 | W33: 0.02 | X33: =-(W33-U33) -> 0.02 | Y33: =-(W33-U33)/U33 -> 0.5 | Z33: 16 | AA33: 15 | AB33: 17 | AC33: =AB33-Z33 -> 1 | AD33: =AC33/Z33 -> 0.0625 | AF33: =_xlfn.IFS(U33>=0.7,"丧失",U33>=0.5,"重",U33>=0.3,"中",U33>=0.1,"轻",U33>=0,"无") -> 无 | AG33: =_xlfn.IFS(W33>=0.7,"丧失",W33>=0.5,"重",W33>=0.3,"中",W33>=0.1,"轻",W33>=0,"无") -> 无
A34: 33 | B34: 蔡宝珠 | C34: 42899 | D34: 13439633303 | E34: 1 | F34: 颈4-5ACDF | G34: 1个月 | H34: 1月 | I34: 有 | J34: 4 | K34: 10 | L34: 不影响 | M34: 无 | N34: 0 | O34: 无 | P34: 0 | Q34: 12 | R34: =Q34-K34 -> 2 | S34: =(Q34-K34)/K34 -> 0.2 | T34: 不影响 | U34: 0.02 | V34: 0.1 | W34: 0.06 | X34: =-(W34-U34) -> -0.04 | Y34: =-(W34-U34)/U34 -> -2 | Z34: 15 | AA34: 23 | AB34: 15 | AC34: =AB34-Z34 -> 0 | AD34: =AC34/Z34 -> 0 | AF34: =_xlfn.IFS(U34>=0.7,"丧失",U34>=0.5,"重",U34>=0.3,"中",U34>=0.1,"轻",U34>=0,"无") -> 无 | AG34: =_xlfn.IFS(W34>=0.7,"丧失",W34>=0.5,"重",W34>=0.3,"中",W34>=0.1,"轻",W34>=0,"无") -> 无 | AN34: MCNAMER | AO34: 0.021
A35: 34 | B35: 任鑫智 | C35: 42901 | D35: 18961317688 | E35: 1 | F35: 颈前路4-5ACDF | G35: 2周 | H35: 1月 | I35: 有 | J35: 1 | K35: 11 | L35: 不影响 | M35: 无 | N35: 0 | O35: 有 | P35: 2 | Q35: 10 | R35: =Q35-K35 -> -1 | S35: =(Q35-K35)/K35 -> -0.090909091 | T35: 影响 | U35: 0.02 | V35: 0.23 | W35: 0.1 | X35: =-(W35-U35) -> -0.08 | Y35: =-(W35-U35)/U35 -> -4 | Z35: 16 | AA35: 15 | AB35: 16 | AC35: =AB35-Z35 -> 0 | AD35: =AC35/Z35 -> 0 | AF35: =_xlfn.IFS(U35>=0.7,"丧失",U35>=0.5,"重",U35>=0.3,"中",U35>=0.1,"轻",U35>=0,"无") -> 无 | AG35: =_xlfn.IFS(W35>=0.7,"丧失",W35>=0.5,"重",W35>=0.3,"中",W35>=0.1,"轻",W35>=0,"无") -> 轻
A36: 35 | B36: 王书崑 | C36: 42907 | D36: 13661101554 | E36: 2 | F36: 颈3-4ACDF+颈6-7椎间盘摘除 | G36: 1个月 | H36: 1月 | I36: 有 | J36: 5 | K36: 8 | L36: 影响 | M36: 有 | N36: 1 | O36: 无 | P36: 0 | Q36: 12 | R36: =Q36-K36 -> 4 | S36: =(Q36-K36)/K36 -> 0.5 | T36: 不影响 | U36: 0.01 | V36: 0.08 | W36: 0.12 | X36: =-(W36-U36) -> -0.11 | Y36: =-(W36-U36)/U36 -> -11 | Z36: 15 | AA36: 14 | AB36: 16 | AC36: =AB36-Z36 -> 1 | AD36: =AC36/Z36 -> 0.066666667 | AF36: =_xlfn.IFS(U36>=0.7,"丧失",U36>=0.5,"重",U36>=0.3,"中",U36>=0.1,"轻",U36>=0,"无") -> 无 | AG36: =_xlfn.IFS(W36>=0.7,"丧失",W36>=0.5,"重",W36>=0.3,"中",W36>=0.1,"轻",W36>=0,"无") -> 轻
A37: 36 | B37: 张磊 | C37: 42916 | D37: 18519518369 | E37: 2 | F37: 颈椎间盘摘除术（颈5-6.颈6-7） | G37: 3个月 | H37: 2周 | I37: 有 | J37: 2 | K37: 10 | L37: 不影响 | M37: 无 | N37: 0 | O37: 有 | P37: 2 | Q37: 10 | R37: =Q37-K37 -> 0 | S37: =(Q37-K37)/K37 -> 0 | T37: 不影响 | U37: 0.13 | V37: 0.2 | W37: 0.16 | X37: =-(W37-U37) -> -0.03 | Y37: =-(W37-U37)/U37 -> -0.23076923 | Z37: 16 | AA37: 15 | AB37: 17 | AC37: =AB37-Z37 -> 1 | AD37: =AC37/Z37 -> 0.0625 | AF37: =_xlfn.IFS(U37>=0.7,"丧失",U37>=0.5,"重",U37>=0.3,"中",U37>=0.1,"轻",U37>=0,"无") -> 轻 | AG37: =_xlfn.IFS(W37>=0.7,"丧失",W37>=0.5,"重",W37>=0.3,"中",W37>=0.1,"轻",W37>=0,"无") -> 轻
A38: 37 | B38: 余正涛 | C38: 42935 | D38: 13888616568 | E38: 2 | F38: C4-5.5-6ACDF | G38: 3个月 | H38: 1月 | I38: 无 | J38: 0 | K38: 12 | L38: 不影响 | M38: 有 | N38: 2 | O38: 无 | P38: 0 | Q38: 12 | R38: =Q38-K38 -> 0 | S38: =(Q38-K38)/K38 -> 0 | T38: 不影响 | U38: 0.13 | V38: 0.17 | W38: 0 | X38: =-(W38-U38) -> 0.13 | Y38: =-(W38-U38)/U38 -> 1 | Z38: 13 | AA38: 12 | AB38: 16 | AC38: =AB38-Z38 -> 3 | AD38: =AC38/Z38 -> 0.23076923 | AF38: =_xlfn.IFS(U38>=0.7,"丧失",U38>=0.5,"重",U38>=0.3,"中",U38>=0.1,"轻",U38>=0,"无") -> 轻 | AG38: =_xlfn.IFS(W38>=0.7,"丧失",W38>=0.5,"重",W38>=0.3,"中",W38>=0.1,"轻",W38>=0,"无") -> 无
A39: 38 | B39: 田洪涛 | C39: 42941 | D39: 15028442829 | E39: 1 | F39: 颈5-6ACDF | G39: 1个月 | H39: 1月 | I39: 无 | J39: 0 | K39: 12 | L39: 不影响 | M39: 有 | N39: 1 | O39: 无 | P39: 0 | Q39: 12 | R39: =Q39-K39 -> 0 | S39: =(Q39-K39)/K39 -> 0 | T39: 不影响 | U39: 0.12 | V39: 0.21 | W39: 0.2 | X39: =-(W39-U39) -> -0.08 | Y39: =-(W39-U39)/U39 -> -0.66666667 | Z39: 16 | AA39: 15 | AB39: 16 | AC39: =AB39-Z39 -> 0 | AD39: =AC39/Z39 -> 0 | AF39: =_xlfn.IFS(U39>=0.7,"丧失",U39>=0.5,"重",U39>=0.3,"中",U39>=0.1,"轻",U39>=0,"无") -> 轻 | AG39: =_xlfn.IFS(W39>=0.7,"丧失",W39>=0.5,"重",W39>=0.3,"中",W39>=0.1,"轻",W39>=0,"无") -> 轻
A40: 39 | B40: 翟向阳 | C40: 42949 | D40: 13954641833 | E40: 2 | F40: 颈4-5，,5-6椎间盘摘除+融合术 | G40: 1个月 | H40: 1月 | I40: 无 | J40: 0 | K40: 12 | L40: 不影响 | M40: 无 | N40: 0 | O40: 有 | P40: 2 | Q40: 10 | R40: =Q40-K40 -> -2 | S40: =(Q40-K40)/K40 -> -0.16666667 | T40: 不影响 | U40: 0.28 | V40: 0.29 | W40: 0.16 | X40: =-(W40-U40) -> 0.12 | Y40: =-(W40-U40)/U40 -> 0.42857143 | Z40: 14 | AA40: 14 | AB40: 17 | AC40: =AB40-Z40 -> 3 | AD40: =AC40/Z40 -> 0.21428571 | AF40: =_xlfn.IFS(U40>=0.7,"丧失",U40>=0.5,"重",U40>=0.3,"中",U40>=0.1,"轻",U40>=0,"无") -> 轻 | AG40: =_xlfn.IFS(W40>=0.7,"丧失",W40>=0.5,"重",W40>=0.3,"中",W40>=0.1,"轻",W40>=0,"无") -> 轻
...

Sheet 5-8w
B1: 姓名 | C1: 手术日期 | D1: 电话 | E1: 节段 | F1: 手术名称 | G1: 颈托要求佩戴多久 | H1: 实际佩戴了多久 | I1: 术前有肩颈肌肉僵硬、疼痛吗 | J1: 疼痛评分 | K1: AS评分 | L1: 疼痛影响睡眠吗 | M1: 术后有肩颈肌肉僵硬、疼痛吗 | N1: 疼痛评分 | O1: 出院后佩戴颈托期间有肩颈肌肉僵硬、疼痛吗 | P1: 疼痛评分 | Q1: AS | R1: as改善绝对值 | S1: as改善率 | T1: 疼痛影响睡眠吗 | U1: 术前NDI% | V1: 出院前NDI% | W1: 术后三月NDI% | X1: NDI改善绝对值 | Y1: NDI改善率 | Z1: 术前JOA评分 | AA1: 出院前JOA评分 | AB1: 术后三月JOA评分 | AC1: JOA改善绝对值 | AD1: JOA改善率 | AF1: NDI术前 | AG1: NDI术后
A2: 1 | B2: 韩建全 | C2: 42424 | D2: 13901156132 | E2: 1 | F2: 颈5前路椎间盘切除加融合固定术 | G2: 3月 | H2: 2月 | I2: 无 | J2: 0 | K2: 12 | L2: 不影响 | M2: 无 | N2: 0 | O2: 有 | P2: 3 | Q2: 9 | R2: =Q2-K2 -> -3 | S2: =R2/K2 -> -0.25 | T2: 不影响 | U2: 0.07 | V2: 0.09 | W2: 0 | X2: =-(W2-U2) -> 0.07 | Y2: =X2/U2 -> 1 | Z2: 17 | AA2: 14 | AB2: 17 | AC2: =AB2-Z2 -> 0 | AD2: =AC2/Z2 -> 0 | AF2: =_xlfn.IFS(U2>=0.7,"丧失",U2>=0.5,"重",U2>=0.3,"中",U2>=0.1,"轻",U2>=0,"无") -> 无 | AG2: =_xlfn.IFS(W2>=0.7,"丧失",W2>=0.5,"重",W2>=0.3,"中",W2>=0.1,"轻",W2>=0,"无") -> 无
A3: 2 | B3: 刘伟 | C3: 42465 | D3: 13701278828 | E3: 1 | F3: 颈6-7椎间盘切除+融合内固定 | G3: 3月 | H3: 8周 | I3: 麻木 | J3: 0 | K3: 12 | L3: 不影响 | M3: 无 | N3: 0 | O3: 无 | P3: 0 | Q3: 12 | R3: =Q3-K3 -> 0 | S3: =R3/K3 -> 0 | T3: 不影响 | U3: 0.14 | V3: 0.21 | W3: 0.16 | X3: =-(W3-U3) -> -0.02 | Y3: =X3/U3 -> -0.14285714 | Z3: 14 | AA3: 13 | AB3: 16 | AC3: =AB3-Z3 -> 2 | AD3: =AC3/Z3 -> 0.14285714 | AF3: =_xlfn.IFS(U3>=0.7,"丧失",U3>=0.5,"重",U3>=0.3,"中",U3>=0.1,"轻",U3>=0,"无") -> 轻 | AG3: =_xlfn.IFS(W3>=0.7,"丧失",W3>=0.5,"重",W3>=0.3,"中",W3>=0.1,"轻",W3>=0,"无") -> 轻 | AJ3: 无障碍 | AK3: 轻度障碍
A4: 3 | B4: 韩丽卿 | C4: 42597 | D4: 13233126440/18634790101 | E4: 1 | F4: 颈5-6椎间盘切除+融合内固定术 | G4: 1个月 | H4: 6周 | I4: 无 | J4: 0 | K4: 12 | L4: 不影响 | M4: 无 | N4: 0 | O4: 无 | P4: 0 | Q4: 12 | R4: =Q4-K4 -> 0 | S4: =R4/K4 -> 0 | T4: 不影响 | U4: 0.08 | V4: 0.2 | W4: 0.08 | X4: =-(W4-U4) -> 0 | Y4: =X4/U4 -> 0 | Z4: 17 | AA4: 16 | AB4: 17 | AC4: =AB4-Z4 -> 0 | AD4: =AC4/Z4 -> 0 | AF4: =_xlfn.IFS(U4>=0.7,"丧失",U4>=0.5,"重",U4>=0.3,"中",U4>=0.1,"轻",U4>=0,"无") -> 无 | AG4: =_xlfn.IFS(W4>=0.7,"丧失",W4>=0.5,"重",W4>=0.3,"中",W4>=0.1,"轻",W4>=0,"无") -> 无 | AI4: 术前NDI | AJ4: =COUNTIF(AF2:AF40,"无") -> 9 | AK4: =COUNTIF(AF2:AF40,"轻") -> 13
A5: 4 | B5: 岳国付 | C5: 43045 | D5: 15738752545 | E5: 2 | F5: 颈4-5 5-6ACDF | G5: 40天 | H5: 6周 | I5: 疼、僵硬 | J5: 1 | K5: 8 | L5: 不影响 | M5: 无 | N5: 0 | O5: 无 | P5: 0 | Q5: 12 | R5: =Q5-K5 -> 4 | S5: =R5/K5 -> 0.5 | T5: 不影响 | U5: 0.08 | V5: 0.17 | W5: 0.04 | X5: =-(W5-U5) -> 0.04 | Y5: =X5/U5 -> 0.5 | Z5: 16 | AA5: 15 | AB5: 13 | AC5: =AB5-Z5 -> -3 | AD5: =AC5/Z5 -> -0.1875 | AF5: =_xlfn.IFS(U5>=0.7,"丧失",U5>=0.5,"重",U5>=0.3,"中",U5>=0.1,"轻",U5>=0,"无") -> 无 | AG5: =_xlfn.IFS(W5>=0.7,"丧失",W5>=0.5,"重",W5>=0.3,"中",W5>=0.1,"轻",W5>=0,"无") -> 无 | AI5: 术后NDI | AJ5: =COUNTIF(AG2:AG40,"无") -> 19 | AK5: =COUNTIF(AG2:AG40,"轻") -> 3
A6: 5 | B6: 孙凤玲 | C6: 43066 | D6: 18911486070 | E6: 1 | F6: 颈5-6ACDF | G6: 3月 | H6: 2月 | I6: 有 | J6: 2 | K6: 10 | L6: 影响 | M6: 无 | N6: 0 | O6: 无 | P6: 0 | Q6: 12 | R6: =Q6-K6 -> 2 | S6: =R6/K6 -> 0.2 | T6: 不影响 | U6: 0.23 | V6: 0.24 | W6: 0.08 | X6: =-(W6-U6) -> 0.15 | Y6: =X6/U6 -> 0.65217391 | Z6: 11 | AA6: 11 | AB6: 16 | AC6: =AB6-Z6 -> 5 | AD6: =AC6/Z6 -> 0.45454545 | AF6: =_xlfn.IFS(U6>=0.7,"丧失",U6>=0.5,"重",U6>=0.3,"中",U6>=0.1,"轻",U6>=0,"无") -> 轻 | AG6: =_xlfn.IFS(W6>=0.7,"丧失",W6>=0.5,"重",W6>=0.3,"中",W6>=0.1,"轻",W6>=0,"无") -> 无
A7: 6 | B7: 连东红 | C7: 43076 | D7: 18605462813 | E7: 1 | F7: 颈5-6ACDF | G7: 6周 | H7: 5周 | I7: 有 | J7: 2 | K7: 10 | L7: 不影响 | M7: 无 | N7: 0 | O7: 无 | P7: 0 | Q7: 12 | R7: =Q7-K7 -> 2 | S7: =R7/K7 -> 0.2 | T7: 不影响 | U7: 0.21 | V7: 0.23 | W7: 0.12 | X7: =-(W7-U7) -> 0.09 | Y7: =X7/U7 -> 0.42857143 | Z7: 11 | AA7: 12 | AB7: 16 | AC7: =AB7-Z7 -> 5 | AD7: =AC7/Z7 -> 0.45454545 | AF7: =_xlfn.IFS(U7>=0.7,"丧失",U7>=0.5,"重",U7>=0.3,"中",U7>=0.1,"轻",U7>=0,"无") -> 轻 | AG7: =_xlfn.IFS(W7>=0.7,"丧失",W7>=0.5,"重",W7>=0.3,"中",W7>=0.1,"轻",W7>=0,"无") -> 轻
A8: 7 | B8: 韩丽卿 | C8: 42599 | D8: 13233126440/18634790101 | E8: 1 | F8: 颈5-6椎间盘切除+融合内固定术 | G8: 1个月 | H8: 6周 | I8: 无 | J8: 0 | K8: 12 | L8: 不影响 | M8: 无 | N8: 0 | O8: 无 | P8: 0 | Q8: 12 | R8: =Q8-K8 -> 0 | S8: =R8/K8 -> 0 | T8: 不影响 | U8: 0.11 | V8: 0.14 | W8: 0.02 | X8: =-(W8-U8) -> 0.09 | Y8: =X8/U8 -> 0.81818182 | Z8: 14 | AA8: 14 | AB8: 13 | AC8: =AB8-Z8 -> -1 | AD8: =AC8/Z8 -> -0.071428571 | AF8: =_xlfn.IFS(U8>=0.7,"丧失",U8>=0.5,"重",U8>=0.3,"中",U8>=0.1,"轻",U8>=0,"无") -> 轻 | AG8: =_xlfn.IFS(W8>=0.7,"丧失",W8>=0.5,"重",W8>=0.3,"中",W8>=0.1,"轻",W8>=0,"无") -> 无
A9: 8 | B9: 邢玉军 | C9: 42625 | D9: 13691119923 | E9: 1 | F9: C5/6椎间盘切除术+颈椎融合术 | G9: 3个月 | H9: 2月 | I9: 无 | J9: 0 | K9: 12 | L9: 不影响 | M9: 有 | N9: 1 | O9: 无 | P9: 0 | Q9: 12 | R9: =Q9-K9 -> 0 | S9: =R9/K9 -> 0 | T9: 不影响 | U9: 0.21 | V9: 0.2 | W9: 0.04 | X9: =-(W9-U9) -> 0.17 | Y9: =X9/U9 -> 0.80952381 | Z9: 13 | AA9: 14 | AB9: 17 | AC9: =AB9-Z9 -> 4 | AD9: =AC9/Z9 -> 0.30769231 | AF9: =_xlfn.IFS(U9>=0.7,"丧失",U9>=0.5,"重",U9>=0.3,"中",U9>=0.1,"轻",U9>=0,"无") -> 轻 | AG9: =_xlfn.IFS(W9>=0.7,"丧失",W9>=0.5,"重",W9>=0.3,"中",W9>=0.1,"轻",W9>=0,"无") -> 无 | AI9: 这是Excel版本
A10: 9 | B10: 金亚玲 | C10: 42655 | D10: 13520376430 | E10: 2 | F10: 颈4-5，颈5-6，椎间盘摘除加融合术 | G10: 3月 | H10: 6周 | I10: 无 | J10: 0 | K10: 12 | L10: 不影响 | M10: 无 | N10: 2 | O10: 无 | P10: 0 | Q10: 12 | R10: =Q10-K10 -> 0 | S10: =R10/K10 -> 0 | T10: 不影响 | U10: 0.09 | V10: 0.12 | W10: 0.02 | X10: =-(W10-U10) -> 0.07 | Y10: =X10/U10 -> 0.77777778 | Z10: 15 | AA10: 15 | AB10: 17 | AC10: =AB10-Z10 -> 2 | AD10: =AC10/Z10 -> 0.13333333 | AF10: =_xlfn.IFS(U10>=0.7,"丧失",U10>=0.5,"重",U10>=0.3,"中",U10>=0.1,"轻",U10>=0,"无") -> 无 | AG10: =_xlfn.IFS(W10>=0.7,"丧失",W10>=0.5,"重",W10>=0.3,"中",W10>=0.1,"轻",W10>=0,"无") -> 无 | AJ10: =AJ3 -> 无障碍 | AK10: =AK3 -> 轻度障碍
A11: 10 | B11: 刘中建 | C11: 42699 | D11: 15241688058 | E11: 1 | F11: C4/5ACDF | G11: 3个月 | H11: 6周 | I11: 有 | J11: 6 | K11: 6 | L11: 影响 | M11: 无 | N11: 0 | O11: 有 | P11: 1 | Q11: 11 | R11: =Q11-K11 -> 5 | S11: =R11/K11 -> 0.83333333 | T11: 不影响 | U11: 0.27 | V11: 0.28 | W11: 0.02 | X11: =-(W11-U11) -> 0.25 | Y11: =X11/U11 -> 0.92592593 | Z11: 13 | AA11: 12 | AB11: 17 | AC11: =AB11-Z11 -> 4 | AD11: =AC11/Z11 -> 0.30769231 | AF11: =_xlfn.IFS(U11>=0.7,"丧失",U11>=0.5,"重",U11>=0.3,"中",U11>=0.1,"轻",U11>=0,"无") -> 轻 | AG11: =_xlfn.IFS(W11>=0.7,"丧失",W11>=0.5,"重",W11>=0.3,"中",W11>=0.1,"轻",W11>=0,"无") -> 无 | AI11: =AI4 -> 术前NDI | AJ11: =AJ4/22 -> 0.40909091 | AK11: =AK4/22 -> 0.59090909
A12: 11 | B12: 付学良 | C12: 42710 | D12: 13911155633 | E12: 2 | F12: 颈4-5椎体融合术 | G12: 1个月 | H12: 6周 | I12: 有 | J12: 7 | K12: 6 | L12: 影响 | M12: 有 | N12: 3 | O12: 有 | P12: 2 | Q12: 10 | R12: =Q12-K12 -> 4 | S12: =R12/K12 -> 0.66666667 | T12: 影响 | U12: 0.09 | V12: 0.12 | W12: 0.18 | X12: =-(W12-U12) -> -0.09 | Y12: =X12/U12 -> -1 | Z12: 16 | AA12: 16 | AB12: 15 | AC12: =AB12-Z12 -> -1 | AD12: =AC12/Z12 -> -0.0625 | AF12: =_xlfn.IFS(U12>=0.7,"丧失",U12>=0.5,"重",U12>=0.3,"中",U12>=0.1,"轻",U12>=0,"无") -> 无 | AG12: =_xlfn.IFS(W12>=0.7,"丧失",W12>=0.5,"重",W12>=0.3,"中",W12>=0.1,"轻",W12>=0,"无") -> 轻 | AI12: =AI5 -> 术后NDI | AJ12: =AJ5/22 -> 0.86363636 | AK12: =AK5/22 -> 0.13636364
A13: 12 | B13: 刘国良 | C13: 42793 | D13: 13021211415 | E13: 2 | F13: C4-5,5-6椎间盘摘除+融合内固定 | G13: 3个月 | H13: 2月 | I13: 有 | J13: 8 | K13: 6 | L13: 影响 | M13: 有 | N13: 1 | O13: 有僵硬 | P13: 2 | Q13: 10 | R13: =Q13-K13 -> 4 | S13: =R13/K13 -> 0.66666667 | T13: 不影响 | U13: 0.06 | V13: 0.1 | W13: 0.08 | X13: =-(W13-U13) -> -0.02 | Y13: =X13/U13 -> -0.33333333 | Z13: 16 | AA13: 15 | AB13: 12 | AC13: =AB13-Z13 -> -4 | AD13: =AC13/Z13 -> -0.25 | AF13: =_xlfn.IFS(U13>=0.7,"丧失",U13>=0.5,"重",U13>=0.3,"中",U13>=0.1,"轻",U13>=0,"无") -> 无 | AG13: =_xlfn.IFS(W13>=0.7,"丧失",W13>=0.5,"重",W13>=0.3,"中",W13>=0.1,"轻",W13>=0,"无") -> 无 | AI13: 辅助行左 | AJ13: =IF(AJ12>AJ11,AJ12,"") -> 0.86363636 | AK13: =IF(AK12>AK11,AK12,"")
A14: 13 | B14: 闫龙俊 | C14: 42830 | D14: 13611126815 | E14: 1 | F14: C5/6ACDF | G14: 3个月 | H14: 6周 | I14: 有 | J14: 2 | K14: 10 | L14: 影响 | M14: 有 | N14: 1 | O14: 有 | P14: 3 | Q14: 8 | R14: =Q14-K14 -> -2 | S14: =R14/K14 -> -0.2 | T14: 影响 | U14: 0.19 | V14: 0.24 | W14: 0.02 | X14: =-(W14-U14) -> 0.17 | Y14: =X14/U14 -> 0.89473684 | Z14: 14 | AA14: 13 | AB14: 17 | AC14: =AB14-Z14 -> 3 | AD14: =AC14/Z14 -> 0.21428571 | AF14: =_xlfn.IFS(U14>=0.7,"丧失",U14>=0.5,"重",U14>=0.3,"中",U14>=0.1,"轻",U14>=0,"无") -> 轻 | AG14: =_xlfn.IFS(W14>=0.7,"丧失",W14>=0.5,"重",W14>=0.3,"中",W14>=0.1,"轻",W14>=0,"无") -> 无 | AI14: 辅助行右 | AJ14: =IF(AJ11>AJ12,AJ11,"") | AK14: =IF(AK11>AK12,AK11,"") -> 0.59090909
A15: 14 | B15: 张少亭 | C15: 42836 | D15: 13716109601 | E15: 1 | F15: 颈4-5颈5-6椎间盘切除+内固定术 | G15: 1个月 | H15: 6周 | I15: 有 | J15: 2 | K15: 10 | L15: 不影响 | M15: 无 | N15: 0 | O15: 有 | P15: 3 | Q15: 8 | R15: =Q15-K15 -> -2 | S15: =R15/K15 -> -0.2 | T15: 影响 | U15: 0.24 | V15: 0.25 | W15: 0.08 | X15: =-(W15-U15) -> 0.16 | Y15: =X15/U15 -> 0.66666667 | Z15: 13 | AA15: 13 | AB15: 15 | AC15: =AB15-Z15 -> 2 | AD15: =AC15/Z15 -> 0.15384615 | AF15: =_xlfn.IFS(U15>=0.7,"丧失",U15>=0.5,"重",U15>=0.3,"中",U15>=0.1,"轻",U15>=0,"无") -> 轻 | AG15: =_xlfn.IFS(W15>=0.7,"丧失",W15>=0.5,"重",W15>=0.3,"中",W15>=0.1,"轻",W15>=0,"无") -> 无 | AI15: 差值左 | AJ15: =IF(AJ12>AJ11,AJ12-AJ11,"") -> 0.45454545 | AK15: =IF(AK12>AK11,AK12-AK11,"")
A16: 15 | B16: 许新君 | C16: 42859 | D16: 15303181682 | E16: 1 | F16: 颈5-6ACDF | G16: 3个月 | H16: 2月 | I16: 有 | J16: 2 | K16: 10 | L16: 不影响 | M16: 有 | N16: 1 | O16: 有 | P16: 3 | Q16: 8 | R16: =Q16-K16 -> -2 | S16: =R16/K16 -> -0.2 | T16: 影响 | U16: 0.16 | V16: 0.29 | W16: 0 | X16: =-(W16-U16) -> 0.16 | Y16: =X16/U16 -> 1 | Z16: 17 | AA16: 16 | AB16: 17 | AC16: =AB16-Z16 -> 0 | AD16: =AC16/Z16 -> 0 | AF16: =_xlfn.IFS(U16>=0.7,"丧失",U16>=0.5,"重",U16>=0.3,"中",U16>=0.1,"轻",U16>=0,"无") -> 轻 | AG16: =_xlfn.IFS(W16>=0.7,"丧失",W16>=0.5,"重",W16>=0.3,"中",W16>=0.1,"轻",W16>=0,"无") -> 无 | AI16: 差值右 | AJ16: =IF(AJ11>AJ12,AJ11-AJ12,"") | AK16: =IF(AK11>AK12,AK11-AK12,"") -> 0.45454545
A17: 16 | B17: 何兰云 | C17: 42874 | D17: 13521985106 | E17: 1 | F17: C4-5ACCF+融合 | G17: 3个月 | H17: 2月 | I17: 有 | J17: 2 | K17: 10 | L17: 不影响 | M17: 有 | N17: 1 | O17: 有 | P17: 2 | Q17: 10 | R17: =Q17-K17 -> 0 | S17: =R17/K17 -> 0 | T17: 不影响 | U17: 0.2 | V17: 0.22 | W17: 0.0026 | X17: =-(W17-U17) -> 0.1974 | Y17: =X17/U17 -> 0.987 | Z17: 15 | AA17: 14 | AB17: 16 | AC17: =AB17-Z17 -> 1 | AD17: =AC17/Z17 -> 0.066666667 | AF17: =_xlfn.IFS(U17>=0.7,"丧失",U17>=0.5,"重",U17>=0.3,"中",U17>=0.1,"轻",U17>=0,"无") -> 轻 | AG17: =_xlfn.IFS(W17>=0.7,"丧失",W17>=0.5,"重",W17>=0.3,"中",W17>=0.1,"轻",W17>=0,"无") -> 无 | AI17: 正偏差
A18: 17 | B18: 王坚 | C18: 42899 | D18: 13911206869 | E18: 2 | F18: 颈3-4/4-5椎间盘摘除+融合 | G18: 3个月 | H18: 2月 | I18: 有 | J18: 4 | K18: 8 | L18: 不影响 | M18: 有 | N18: 1 | O18: 有僵硬 | P18: 0 | Q18: 10 | R18: =Q18-K18 -> 2 | S18: =R18/K18 -> 0.25 | T18: 不影响 | U18: 0.09 | V18: 0.17 | W18: 0.08 | X18: =-(W18-U18) -> 0.01 | Y18: =X18/U18 -> 0.11111111 | Z18: 16 | AA18: 15 | AB18: 16 | AC18: =AB18-Z18 -> 0 | AD18: =AC18/Z18 -> 0 | AF18: =_xlfn.IFS(U18>=0.7,"丧失",U18>=0.5,"重",U18>=0.3,"中",U18>=0.1,"轻",U18>=0,"无") -> 无 | AG18: =_xlfn.IFS(W18>=0.7,"丧失",W18>=0.5,"重",W18>=0.3,"中",W18>=0.1,"轻",W18>=0,"无") -> 无 | AI18: 同比左 | AJ18: =AJ15/AJ11 -> 1.1111111 | AK18: =AK15/AK11 -> #VALUE!
A19: 18 | B19: 景振亮 | C19: 42905 | D19: 13501031383 | E19: 1 | F19: 颈前路5-6ACDF | G19: 6-8周 | H19: 8周 | I19: 无 | J19: 0 | K19: 12 | L19: 不影响 | M19: 有 | N19: 1 | O19: 有 | P19: 2 | Q19: 10 | R19: =Q19-K19 -> -2 | S19: =R19/K19 -> -0.16666667 | T19: 不影响 | U19: 0.26 | V19: 0.28 | W19: 0.08 | X19: =-(W19-U19) -> 0.18 | Y19: =X19/U19 -> 0.69230769 | Z19: 14 | AA19: 14 | AB19: 16 | AC19: =AB19-Z19 -> 2 | AD19: =AC19/Z19 -> 0.14285714 | AF19: =_xlfn.IFS(U19>=0.7,"丧失",U19>=0.5,"重",U19>=0.3,"中",U19>=0.1,"轻",U19>=0,"无") -> 轻 | AG19: =_xlfn.IFS(W19>=0.7,"丧失",W19>=0.5,"重",W19>=0.3,"中",W19>=0.1,"轻",W19>=0,"无") -> 无 | AI19: 同比右 | AJ19: =AJ16/AJ11 -> #VALUE! | AK19: =AK16/AK11 -> 0.76923077
A20: 19 | B20: 宋金荣 | C20: 42933 | D20: 13901356256 | E20: 1 | F20: 颈5-6椎间盘切除+融合术 | G20: 3个月 | H20: 2月 | I20: 无 | J20: 0 | K20: 12 | L20: 不影响 | M20: 有 | N20: 2 | O20: 无 | P20: 0 | Q20: 12 | R20: =Q20-K20 -> 0 | S20: =R20/K20 -> 0 | T20: 不影响 | U20: 0.29 | V20: 0.3 | W20: 0.06 | X20: =-(W20-U20) -> 0.23 | Y20: =X20/U20 -> 0.79310345 | Z20: 8 | AA20: 8 | AB20: 15 | AC20: =AB20-Z20 -> 7 | AD20: =AC20/Z20 -> 0.875 | AF20: =_xlfn.IFS(U20>=0.7,"丧失",U20>=0.5,"重",U20>=0.3,"中",U20>=0.1,"轻",U20>=0,"无") -> 轻 | AG20: =_xlfn.IFS(W20>=0.7,"丧失",W20>=0.5,"重",W20>=0.3,"中",W20>=0.1,"轻",W20>=0,"无") -> 无
A21: 20 | B21: 刘昌福 | C21: 42935 | D21: 13904550215 | E21: 2 | F21: 颈4/6-5/6ACDF | G21: 6周 | H21: 6周 | I21: 无 | J21: 0 | K21: 12 | L21: 不影响 | M21: 有 | N21: 1 | O21: 无 | P21: 0 | Q21: 12 | R21: =Q21-K21 -> 0 | S21: =R21/K21 -> 0 | T21: 不影响 | U21: 0.12 | V21: 0.23 | W21: 0 | X21: =-(W21-U21) -> 0.12 | Y21: =X21/U21 -> 1 | Z21: 15 | AA21: 14 | AB21: 16 | AC21: =AB21-Z21 -> 1 | AD21: =AC21/Z21 -> 0.066666667 | AF21: =_xlfn.IFS(U21>=0.7,"丧失",U21>=0.5,"重",U21>=0.3,"中",U21>=0.1,"轻",U21>=0,"无") -> 轻 | AG21: =_xlfn.IFS(W21>=0.7,"丧失",W21>=0.5,"重",W21>=0.3,"中",W21>=0.1,"轻",W21>=0,"无") -> 无 | AI21: 同比左 | AJ21: =(AJ5-AJ4)/22 -> 0.45454545
A22: 21 | B22: 程忠英 | C22: 42948 | D22: 15210335416 | E22: 2 | F22: C5-6,6-7椎间盘摘除+非融合术 | G22: 3个月 | H22: 2月 | I22: 有 | J22: 4 | K22: 8 | L22: 影响 | M22: 有 | N22: 2 | O22: 有僵硬 | P22: 0 | Q22: 12 | R22: =Q22-K22 -> 4 | S22: =R22/K22 -> 0.5 | T22: 不影响 | U22: 0.02 | V22: 0.1 | W22: 0 | X22: =-(W22-U22) -> 0.02 | Y22: =X22/U22 -> 1 | Z22: 16 | AA22: 15 | AB22: 16 | AC22: =AB22-Z22 -> 0 | AD22: =AC22/Z22 -> 0 | AF22: =_xlfn.IFS(U22>=0.7,"丧失",U22>=0.5,"重",U22>=0.3,"中",U22>=0.1,"轻",U22>=0,"无") -> 无 | AG22: =_xlfn.IFS(W22>=0.7,"丧失",W22>=0.5,"重",W22>=0.3,"中",W22>=0.1,"轻",W22>=0,"无") -> 无 | AI22: 同比右 | AK22: =(AK4-AK5)/22 -> 0.45454545
A23: 22 | B23: 刘月琴 | C23: 42965 | D23: 18601076582 | E23: 1 | F23: 颈6/7ACDF | G23: 8周 | H23: 8周 | I23: 无 | J23: 0 | K23: 12 | L23: 不影响 | M23: 无 | N23: 0 | O23: 无 | P23: 0 | Q23: 12 | R23: =Q23-K23 -> 0 | S23: =R23/K23 -> 0 | T23: 不影响 | U23: 0 | V23: 0.1 | W23: 0.02 | X23: =-(W23-U23) -> -0.02 | Y23: =X23/U23 -> #DIV/0! | Z23: 16 | AA23: 15 | AB23: 16 | AC23: =AB23-Z23 -> 0 | AD23: =AC23/Z23 -> 0 | AF23: =_xlfn.IFS(U23>=0.7,"丧失",U23>=0.5,"重",U23>=0.3,"中",U23>=0.1,"轻",U23>=0,"无") -> 无 | AG23: =_xlfn.IFS(W23>=0.7,"丧失",W23>=0.5,"重",W23>=0.3,"中",W23>=0.1,"轻",W23>=0,"无") -> 无
K24: =AVERAGE(K2:K23) -> 10.090909 | Q24: =AVERAGE(Q2:Q23) -> 10.818182 | U24: =AVERAGE(U2:U23) -> 0.14590909 | W24: =AVERAGE(W2:W23) -> 0.053754545 | Z24: =AVERAGE(Z2:Z23) -> 14.409091 | AB24: =AVERAGE(AB2:AB23) -> 15.727273 | AI24: NDI配对 | AK24: 术后
K25: =_xlfn.STDEV.S(K2:K23) -> 2.1801942 | Q25: =_xlfn.STDEV.S(Q2:Q23) -> 1.5003607 | U25: =_xlfn.STDEV.S(U2:U23) -> 0.084157397 | W25: =_xlfn.STDEV.S(W2:W23) -> 0.051656666 | Z25: =_xlfn.STDEV.S(Z2:Z23) -> 2.2606171 | AB25: =_xlfn.STDEV.S(AB2:AB23) -> 1.4203225 | AK25: 无障碍 | AL25: 轻度障碍
AI26: 术前 | AJ26: 无障碍 | AK26: =COUNTIFS(AF2:AF23,"无",AG2:AG23,"无") -> 8 | AL26: =COUNTIFS(AF2:AF23,"无",AG2:AG23,"轻") -> 1
AJ27: 轻度障碍 | AK27: =COUNTIFS(AF2:AF23,"轻",AG2:AG23,"无") -> 11 | AL27: =COUNTIFS(AF2:AF23,"轻",AG2:AG23,"轻") -> 2
AK30: MCNAMER | AL30: 0.006

Sheet 9-12w
B1: 姓名 | C1: 手术日期 | D1: 电话 | E1: 节段 | F1: 手术名称 | G1: 颈托要求佩戴多久 | H1: 实际佩戴了多久 | I1: 术前有肩颈肌肉僵硬、疼痛吗 | J1: 疼痛评分 | K1: AS评分 | L1: 疼痛影响睡眠吗 | M1: 术后有肩颈肌肉僵硬、疼痛吗 | N1: 疼痛评分 | O1: 出院后佩戴颈托期间有肩颈肌肉僵硬、疼痛吗 | P1: 疼痛评分 | Q1: AS | R1: as改善绝对值 | S1: as改善率 | T1: 疼痛影响睡眠吗 | U1: 术前NDI% | V1: 出院前NDI% | W1: 术后三月NDI% | X1: NDI改善绝对值 | Y1: NDI改善率 | Z1: 术前JOA评分 | AA1: 出院前JOA评分 | AB1: 术后三月JOA评分 | AC1: JOA改善绝对值 | AD1: JOA改善率 | AF1: NDI术前 | AG1: NDI术后
A2: 1 | B2: 高永红 | C2: 42472 | D2: 13501233821 | E2: 1 | F2: 颈4-5椎体融合术 | G2: 1月 | H2: 3月 | I2: 有 | J2: 6 | K2: 8 | L2: 不影响 | M2: 无 | N2: 0 | O2: 长时间僵硬，疼痛 | P2: 3 | Q2: 6 | R2: =Q2-K2 -> -2 | S2: =R2/K2 -> -0.25 | T2: 不影响 | U2: 0.08 | V2: 0.18 | W2: 0.1 | X2: =-(W2-U2) -> -0.02 | Y2: =X2/U2 -> -0.25 | Z2: 16 | AA2: 15 | AB2: 17 | AC2: =AB2-Z2 -> 1 | AD2: =AC2/Z2 -> 0.0625 | AF2: =_xlfn.IFS(U2>=0.7,"丧失",U2>=0.5,"重",U2>=0.3,"中",U2>=0.1,"轻",U2>=0,"无") -> 无 | AG2: =_xlfn.IFS(W2>=0.7,"丧失",W2>=0.5,"重",W2>=0.3,"中",W2>=0.1,"轻",W2>=0,"无") -> 轻
A3: 2 | B3: 刘汉续 | C3: 42508 | D3: 15910800780 | E3: 2 | F3: 颈5-6、颈6-7椎间盘切除术 | G3: 1月 | H3: 3月 | I3: 无 | J3: 0 | K3: 12 | L3: 不影响 | M3: 无 | N3: 0 | O3: 胀痛 | P3: 2 | Q3: 9 | R3: =Q3-K3 -> -3 | S3: =R3/K3 -> -0.25 | T3: 不影响 | U3: 0.06 | V3: 0.14 | W3: 0 | X3: =-(W3-U3) -> 0.06 | Y3: =X3/U3 -> 1 | Z3: 16 | AA3: 15 | AB3: 17 | AC3: =AB3-Z3 -> 1 | AD3: =AC3/Z3 -> 0.0625 | AF3: =_xlfn.IFS(U3>=0.7,"丧失",U3>=0.5,"重",U3>=0.3,"中",U3>=0.1,"轻",U3>=0,"无") -> 无 | AG3: =_xlfn.IFS(W3>=0.7,"丧失",W3>=0.5,"重",W3>=0.3,"中",W3>=0.1,"轻",W3>=0,"无") -> 无 | AJ3: 无障碍 | AK3: 轻度障碍
A4: 3 | B4: 潘广英 | C4: 42592 | D4: 15620568351 | E4: 1 | F4: C5-6椎间盘摘除+植骨融合内固定术 | G4: 3月 | H4: 3月 | I4: 无 | J4: 0 | K4: 12 | L4: 不影响 | M4: 无 | N4: 0 | O4: 有 | P4: 3 | Q4: 8 | R4: =Q4-K4 -> -4 | S4: =R4/K4 -> -0.33333333 | T4: 不影响 | U4: 0.24 | V4: 0.24 | W4: 0.26 | X4: =-(W4-U4) -> -0.02 | Y4: =X4/U4 -> -0.083333333 | Z4: 9 | AA4: 11 | AB4: 16 | AC4: =AB4-Z4 -> 7 | AD4: =AC4/Z4 -> 0.77777778 | AF4: =_xlfn.IFS(U4>=0.7,"丧失",U4>=0.5,"重",U4>=0.3,"中",U4>=0.1,"轻",U4>=0,"无") -> 轻 | AG4: =_xlfn.IFS(W4>=0.7,"丧失",W4>=0.5,"重",W4>=0.3,"中",W4>=0.1,"轻",W4>=0,"无") -> 轻 | AI4: 术前NDI | AJ4: =COUNTIF(AF2:AF40,"无") -> 13 | AK4: =COUNTIF(AF2:AF40,"轻") -> 23
A5: 4 | B5: 王西光 | C5: 42982 | D5: 13846131096 | E5: 2 | F5: 颈椎前路减压融合术C5-7 | G5: 3月 | H5: 3月 | I5: 无 | J5: 0 | K5: 12 | L5: 不影响 | M5: 无 | N5: 0 | O5: 无 | P5: 0 | Q5: 12 | R5: =Q5-K5 -> 0 | S5: =R5/K5 -> 0 | T5: 不影响 | U5: 0.1 | V5: 0.14 | W5: 0.1 | X5: =-(W5-U5) -> 0 | Y5: =X5/U5 -> 0 | Z5: 16 | AA5: 15 | AB5: 15 | AC5: =AB5-Z5 -> -1 | AD5: =AC5/Z5 -> -0.0625 | AF5: =_xlfn.IFS(U5>=0.7,"丧失",U5>=0.5,"重",U5>=0.3,"中",U5>=0.1,"轻",U5>=0,"无") -> 轻 | AG5: =_xlfn.IFS(W5>=0.7,"丧失",W5>=0.5,"重",W5>=0.3,"中",W5>=0.1,"轻",W5>=0,"无") -> 轻 | AI5: 术后NDI | AJ5: =COUNTIF(AG2:AG40,"无") -> 24 | AK5: =COUNTIF(AG2:AG40,"轻") -> 12
A6: 5 | B6: 邓艳娥 | C6: 43000 | D6: 15842415251 | E6: 2 | F6: c4-5,5-6ACDF | G6: 3月 | H6: 3月 | I6: 疼 | J6: 3 | K6: 10 | L6: 影响 | M6: 有 | N6: 4 | O6: 有 | P6: 3 | Q6: 8 | R6: =Q6-K6 -> -2 | S6: =R6/K6 -> -0.2 | T6: 不影响 | U6: 0.06 | V6: 0.15 | W6: 0 | X6: =-(W6-U6) -> 0.06 | Y6: =X6/U6 -> 1 | Z6: 16 | AA6: 15 | AB6: 17 | AC6: =AB6-Z6 -> 1 | AD6: =AC6/Z6 -> 0.0625 | AF6: =_xlfn.IFS(U6>=0.7,"丧失",U6>=0.5,"重",U6>=0.3,"中",U6>=0.1,"轻",U6>=0,"无") -> 无 | AG6: =_xlfn.IFS(W6>=0.7,"丧失",W6>=0.5,"重",W6>=0.3,"中",W6>=0.1,"轻",W6>=0,"无") -> 无
A7: 6 | B7: 王其明 | C7: 43006 | D7: 13641221470 | E7: 2 | F7: C5-7ACDF | G7: 2月 | H7: 3月 | I7: 疼 | J7: 2 | K7: 10 | L7: 影响 | M7: 有 | N7: 3 | O7: 无 | P7: 0 | Q7: 12 | R7: =Q7-K7 -> 2 | S7: =R7/K7 -> 0.2 | T7: 不影响 | U7: 0.04 | V7: 0.12 | W7: 0.02 | X7: =-(W7-U7) -> 0.02 | Y7: =X7/U7 -> 0.5 | Z7: 16 | AA7: 16 | AB7: 16 | AC7: =AB7-Z7 -> 0 | AD7: =AC7/Z7 -> 0 | AF7: =_xlfn.IFS(U7>=0.7,"丧失",U7>=0.5,"重",U7>=0.3,"中",U7>=0.1,"轻",U7>=0,"无") -> 无 | AG7: =_xlfn.IFS(W7>=0.7,"丧失",W7>=0.5,"重",W7>=0.3,"中",W7>=0.1,"轻",W7>=0,"无") -> 无
A8: 7 | B8: 李路 | C8: 43017 | D8: 13716032182 | E8: 1 | F8: C5-6椎间盘摘除+减压+融合 | G8: 3月 | H8: 3月 | I8: 无 | J8: 0 | K8: 12 | L8: 不影响 | M8: 无 | N8: 0 | O8: 有 | P8: 4 | Q8: 8 | R8: =Q8-K8 -> -4 | S8: =R8/K8 -> -0.33333333 | T8: 不影响 | U8: 0.28 | V8: 0.28 | W8: 0 | X8: =-(W8-U8) -> 0.28 | Y8: =X8/U8 -> 1 | Z8: 13 | AA8: 12 | AB8: 17 | AC8: =AB8-Z8 -> 4 | AD8: =AC8/Z8 -> 0.30769231 | AF8: =_xlfn.IFS(U8>=0.7,"丧失",U8>=0.5,"重",U8>=0.3,"中",U8>=0.1,"轻",U8>=0,"无") -> 轻 | AG8: =_xlfn.IFS(W8>=0.7,"丧失",W8>=0.5,"重",W8>=0.3,"中",W8>=0.1,"轻",W8>=0,"无") -> 无
A9: 8 | B9: 韩冬梅 | C9: 43021 | D9: 13366888533 | E9: 2 | F9: C3-5ACDF | G9: 3月 | H9: 3月 | I9: 疼、僵硬 | J9: 4 | K9: 8 | L9: 影响 | M9: 无 | N9: 0 | O9: 无 | P9: 0 | Q9: 12 | R9: =Q9-K9 -> 4 | S9: =R9/K9 -> 0.5 | T9: 不影响 | U9: 0.08 | V9: 0.1 | W9: 0 | X9: =-(W9-U9) -> 0.08 | Y9: =X9/U9 -> 1 | Z9: 16 | AA9: 14 | AB9: 17 | AC9: =AB9-Z9 -> 1 | AD9: =AC9/Z9 -> 0.0625 | AF9: =_xlfn.IFS(U9>=0.7,"丧失",U9>=0.5,"重",U9>=0.3,"中",U9>=0.1,"轻",U9>=0,"无") -> 无 | AG9: =_xlfn.IFS(W9>=0.7,"丧失",W9>=0.5,"重",W9>=0.3,"中",W9>=0.1,"轻",W9>=0,"无") -> 无 | AI9: 这是Excel版本
A10: 9 | B10: 朱玉敏 | C10: 43034 | D10: 15890707615 | E10: 1 | F10: C5-6椎间盘切除+椎体融合术 | G10: 3月 | H10: 3月 | I10: 疼 | J10: 2 | K10: 10 | L10: 影响 | M10: 有 | N10: 2 | O10: 有僵硬,疼痛 | P10: 3 | Q10: 6 | R10: =Q10-K10 -> -4 | S10: =R10/K10 -> -0.4 | T10: 不影响 | U10: 0.27 | V10: 0.27 | W10: 0 | X10: =-(W10-U10) -> 0.27 | Y10: =X10/U10 -> 1 | Z10: 16 | AA10: 14 | AB10: 17 | AC10: =AB10-Z10 -> 1 | AD10: =AC10/Z10 -> 0.0625 | AF10: =_xlfn.IFS(U10>=0.7,"丧失",U10>=0.5,"重",U10>=0.3,"中",U10>=0.1,"轻",U10>=0,"无") -> 轻 | AG10: =_xlfn.IFS(W10>=0.7,"丧失",W10>=0.5,"重",W10>=0.3,"中",W10>=0.1,"轻",W10>=0,"无") -> 无 | AJ10: =AJ3 -> 无障碍 | AK10: =AK3 -> 轻度障碍
A11: 10 | B11: 张广武 | C11: 43038 | D11: 13621264690 | E11: 1 | F11: C5-6 ACDF | G11: 3月 | H11: 3月 | I11: 疼 | J11: 1 | K11: 10 | L11: 不影响 | M11: 有 | N11: 1 | O11: 无 | P11: 0 | Q11: 12 | R11: =Q11-K11 -> 2 | S11: =R11/K11 -> 0.2 | T11: 不影响 | U11: 0.26 | V11: 0.26 | W11: 0 | X11: =-(W11-U11) -> 0.26 | Y11: =X11/U11 -> 1 | Z11: 14 | AA11: 15 | AB11: 17 | AC11: =AB11-Z11 -> 3 | AD11: =AC11/Z11 -> 0.21428571 | AF11: =_xlfn.IFS(U11>=0.7,"丧失",U11>=0.5,"重",U11>=0.3,"中",U11>=0.1,"轻",U11>=0,"无") -> 轻 | AG11: =_xlfn.IFS(W11>=0.7,"丧失",W11>=0.5,"重",W11>=0.3,"中",W11>=0.1,"轻",W11>=0,"无") -> 无 | AI11: =AI4 -> 术前NDI | AJ11: =AJ4/36 -> 0.36111111 | AK11: =AK4/36 -> 0.63888889
A12: 11 | B12: 关建华 | C12: 43046 | D12: 13520610755 | E12: 2 | F12: C3-5ACDF | G12: 2月 | H12: 3月 | I12: 疼 | J12: 1 | K12: 10 | L12: 影响 | M12: 无 | N12: 0 | O12: 有 | P12: 3 | Q12: 9 | R12: =Q12-K12 -> -1 | S12: =R12/K12 -> -0.1 | T12: 不影响 | U12: 0.08 | V12: 0.14 | W12: 0.06 | X12: =-(W12-U12) -> 0.02 | Y12: =X12/U12 -> 0.25 | Z12: 14 | AA12: 13 | AB12: 17 | AC12: =AB12-Z12 -> 3 | AD12: =AC12/Z12 -> 0.21428571 | AF12: =_xlfn.IFS(U12>=0.7,"丧失",U12>=0.5,"重",U12>=0.3,"中",U12>=0.1,"轻",U12>=0,"无") -> 无 | AG12: =_xlfn.IFS(W12>=0.7,"丧失",W12>=0.5,"重",W12>=0.3,"中",W12>=0.1,"轻",W12>=0,"无") -> 无 | AI12: =AI5 -> 术后NDI | AJ12: =AJ5/36 -> 0.66666667 | AK12: =AK5/36 -> 0.33333333
A13: 12 | B13: 朱月侠 | C13: 43046 | D13: 13401860393 | E13: 2 | F13: C4-5 C5-6ACDF | G13: 1月 | H13: 3月 | I13: 疼 | J13: 2 | K13: 10 | L13: 影响 | M13: 有 | N13: 1 | O13: 无 | P13: 0 | Q13: 12 | R13: =Q13-K13 -> 2 | S13: =R13/K13 -> 0.2 | T13: 不影响 | U13: 0.15 | V13: 0.15 | W13: 0 | X13: =-(W13-U13) -> 0.15 | Y13: =X13/U13 -> 1 | Z13: 16 | AA13: 15 | AB13: 17 | AC13: =AB13-Z13 -> 1 | AD13: =AC13/Z13 -> 0.0625 | AF13: =_xlfn.IFS(U13>=0.7,"丧失",U13>=0.5,"重",U13>=0.3,"中",U13>=0.1,"轻",U13>=0,"无") -> 轻 | AG13: =_xlfn.IFS(W13>=0.7,"丧失",W13>=0.5,"重",W13>=0.3,"中",W13>=0.1,"轻",W13>=0,"无") -> 无 | AI13: 辅助行左 | AJ13: =IF(AJ12>AJ11,AJ12,"") -> 0.66666667 | AK13: =IF(AK12>AK11,AK12,"")
A14: 13 | B14: 杨金朋 | C14: 43049 | D14: 15266697586 | E14: 2 | F14: C4-5 5-6 ACDF | G14: 3月 | H14: 3月 | I14: 无 | J14: 0 | K14: 12 | L14: 不影响 | M14: 有 | N14: 1 | O14: 无 | P14: 0 | Q14: 12 | R14: =Q14-K14 -> 0 | S14: =R14/K14 -> 0 | T14: 不影响 | U14: 0.19 | V14: 0.19 | W14: 0.02 | X14: =-(W14-U14) -> 0.17 | Y14: =X14/U14 -> 0.89473684 | Z14: 16 | AA14: 16 | AB14: 15 | AC14: =AB14-Z14 -> -1 | AD14: =AC14/Z14 -> -0.0625 | AF14: =_xlfn.IFS(U14>=0.7,"丧失",U14>=0.5,"重",U14>=0.3,"中",U14>=0.1,"轻",U14>=0,"无") -> 轻 | AG14: =_xlfn.IFS(W14>=0.7,"丧失",W14>=0.5,"重",W14>=0.3,"中",W14>=0.1,"轻",W14>=0,"无") -> 无 | AI14: 辅助行右 | AJ14: =IF(AJ11>AJ12,AJ11,"") | AK14: =IF(AK11>AK12,AK11,"") -> 0.63888889
A15: 14 | B15: 张国栋 | C15: 43052 | D15: 13911550999 | E15: 1 | F15: C4-5ACDF | G15: 3月 | H15: 3月 | I15: 无 | J15: 0 | K15: 12 | L15: 不影响 | M15: 无 | N15: 0 | O15: 有僵硬、疼痛 | P15: 3 | Q15: 6 | R15: =Q15-K15 -> -6 | S15: =R15/K15 -> -0.5 | T15: 不影响 | U15: 0.23 | V15: 0.23 | W15: 0.02 | X15: =-(W15-U15) -> 0.21 | Y15: =X15/U15 -> 0.91304348 | Z15: 14 | AA15: 15 | AB15: 15 | AC15: =AB15-Z15 -> 1 | AD15: =AC15/Z15 -> 0.071428571 | AF15: =_xlfn.IFS(U15>=0.7,"丧失",U15>=0.5,"重",U15>=0.3,"中",U15>=0.1,"轻",U15>=0,"无") -> 轻 | AG15: =_xlfn.IFS(W15>=0.7,"丧失",W15>=0.5,"重",W15>=0.3,"中",W15>=0.1,"轻",W15>=0,"无") -> 无 | AI15: 差值左 | AJ15: =IF(AJ12>AJ11,AJ12-AJ11,"") -> 0.30555556 | AK15: =IF(AK12>AK11,AK12-AK11,"")
A16: 15 | B16: 赵成志 | C16: 43060 | D16: 13716536256 | E16: 2 | F16: 颈5-6,6-7ACDF | G16: 3月 | H16: 4月 | I16: 无 | J16: 0 | K16: 12 | L16: 不影响 | M16: 无 | N16: 0 | O16: 无 | P16: 0 | Q16: 12 | R16: =Q16-K16 -> 0 | S16: =R16/K16 -> 0 | T16: 不影响 | U16: 0.17 | V16: 0.17 | W16: 0.28 | X16: =-(W16-U16) -> -0.11 | Y16: =X16/U16 -> -0.64705882 | Z16: 14 | AA16: 15 | AB16: 17 | AC16: =AB16-Z16 -> 3 | AD16: =AC16/Z16 -> 0.21428571 | AF16: =_xlfn.IFS(U16>=0.7,"丧失",U16>=0.5,"重",U16>=0.3,"中",U16>=0.1,"轻",U16>=0,"无") -> 轻 | AG16: =_xlfn.IFS(W16>=0.7,"丧失",W16>=0.5,"重",W16>=0.3,"中",W16>=0.1,"轻",W16>=0,"无") -> 轻 | AI16: 差值右 | AJ16: =IF(AJ11>AJ12,AJ11-AJ12,"") | AK16: =IF(AK11>AK12,AK11-AK12,"") -> 0.30555556
A17: 16 | B17: 李秀敏 | C17: 42606 | D17: 18522249855 | E17: 1 | F17: 颈椎C3/4椎间盘切除+融合术内固定术 | G17: 3个月 | H17: 3月 | I17: 有 | J17: 1 | K17: 10 | L17: 不影响 | M17: 有 | N17: 4 | O17: 有 | P17: 3 | Q17: 9 | R17: =Q17-K17 -> -1 | S17: =R17/K17 -> -0.1 | T17: 不影响 | U17: 0.2 | V17: 0.2 | W17: 0.1 | X17: =-(W17-U17) -> 0.1 | Y17: =X17/U17 -> 0.5 | Z17: 16 | AA17: 15 | AB17: 16 | AC17: =AB17-Z17 -> 0 | AD17: =AC17/Z17 -> 0 | AF17: =_xlfn.IFS(U17>=0.7,"丧失",U17>=0.5,"重",U17>=0.3,"中",U17>=0.1,"轻",U17>=0,"无") -> 轻 | AG17: =_xlfn.IFS(W17>=0.7,"丧失",W17>=0.5,"重",W17>=0.3,"中",W17>=0.1,"轻",W17>=0,"无") -> 轻 | AI17: 正偏差
A18: 17 | B18: 侯金生 | C18: 42618 | D18: 13691399661 | E18: 1 | F18: C5-C6，椎间盘切除加融合 | G18: 3个月 | H18: 3月 | I18: 无 | J18: 0 | K18: 12 | L18: 不影响 | M18: 无 | N18: 0 | O18: 无 | P18: 0 | Q18: 12 | R18: =Q18-K18 -> 0 | S18: =R18/K18 -> 0 | T18: 不影响 | U18: 0.15 | V18: 0.15 | W18: 0.2 | X18: =-(W18-U18) -> -0.05 | Y18: =X18/U18 -> -0.33333333 | Z18: 15 | AA18: 16 | AB18: 16 | AC18: =AB18-Z18 -> 1 | AD18: =AC18/Z18 -> 0.066666667 | AF18: =_xlfn.IFS(U18>=0.7,"丧失",U18>=0.5,"重",U18>=0.3,"中",U18>=0.1,"轻",U18>=0,"无") -> 轻 | AG18: =_xlfn.IFS(W18>=0.7,"丧失",W18>=0.5,"重",W18>=0.3,"中",W18>=0.1,"轻",W18>=0,"无") -> 轻 | AI18: 同比左 | AJ18: =AJ15/AJ11 -> 0.84615385 | AK18: =AK15/AK11 -> #VALUE!
A19: 18 | B19: 张玉红 | C19: 42676 | D19: 13718848306 | E19: 1 | F19: c3-4椎间盘切除术 | G19: 3个月 | H19: 3月 | I19: 无 | J19: 0 | K19: 12 | L19: 不影响 | M19: 有 | N19: 1 | O19: 有 | P19: 3 | Q19: 9 | R19: =Q19-K19 -> -3 | S19: =R19/K19 -> -0.25 | T19: 不影响 | U19: 0.15 | V19: 0.17 | W19: 0.12 | X19: =-(W19-U19) -> 0.03 | Y19: =X19/U19 -> 0.2 | Z19: 15 | AA19: 14 | AB19: 16 | AC19: =AB19-Z19 -> 1 | AD19: =AC19/Z19 -> 0.066666667 | AF19: =_xlfn.IFS(U19>=0.7,"丧失",U19>=0.5,"重",U19>=0.3,"中",U19>=0.1,"轻",U19>=0,"无") -> 轻 | AG19: =_xlfn.IFS(W19>=0.7,"丧失",W19>=0.5,"重",W19>=0.3,"中",W19>=0.1,"轻",W19>=0,"无") -> 轻 | AI19: 同比右 | AJ19: =AJ16/AJ11 -> #VALUE! | AK19: =AK16/AK11 -> 0.47826087
A20: 19 | B20: 刘清成 | C20: 42724 | D20: 13791354688 | E20: 2 | F20: 颈4-5、5-6ACDF | G20: 3个月 | H20: 3月 | I20: 无 | J20: 0 | K20: 12 | L20: 不影响 | M20: 无 | N20: 0 | O20: 无 | P20: 0 | Q20: 12 | R20: =Q20-K20 -> 0 | S20: =R20/K20 -> 0 | T20: 不影响 | U20: 0.13 | V20: 0.13 | W20: 0 | X20: =-(W20-U20) -> 0.13 | Y20: =X20/U20 -> 1 | Z20: 17 | AA20: 16 | AB20: 15 | AC20: =AB20-Z20 -> -2 | AD20: =AC20/Z20 -> -0.11764706 | AF20: =_xlfn.IFS(U20>=0.7,"丧失",U20>=0.5,"重",U20>=0.3,"中",U20>=0.1,"轻",U20>=0,"无") -> 轻 | AG20: =_xlfn.IFS(W20>=0.7,"丧失",W20>=0.5,"重",W20>=0.3,"中",W20>=0.1,"轻",W20>=0,"无") -> 无
