Workbook
Name a: #REF!

Sheet Table1
A1: Overall (weighted) | O1: CI
B2: Overall prevalence | C2: Proportion with only ... | D2: % only mood/substance use disorder | E2: Proportion with both | L2: gen co-occur | P2: 0.025 | Q2: 0.975 | R2: 0.025 | S2: 0.975 | T2: 0.025 | U2: 0.975 | V2: 0.025 | W2: 0.975
A3: MDE | B3: 0.076532848 | C3: 0.41068471 | D3: 0.44077076 | E3: 0.14854454 | F3: =SUM(C3:E3) -> 1 | G3: =ROUND((100*B3),1) -> 7.7 | H3: =ROUND((C3*100),1) -> 41.1 | I3: =ROUND((D3*100),1) -> 44.1 | J3: =ROUND((E3*100),1) -> 14.9 | L3: =100-H3 -> 58.9 | O3: mde | P3: 0.074286 | Q3: 0.078842 | R3: 0.395642 | S3: 0.425896 | T3: 0.425318 | U3: 0.45634 | V3: 0.137978 | W3: 0.15977
A4: Bipolar | B4: 0.02122863 | C4: 0.19540342 | D4: 0.57141038 | E4: 0.2331862 | F4: =SUM(C4:E4) -> 1 | G4: =ROUND((100*B4),1) -> 2.1 | H4: =ROUND((C4*100),1) -> 19.5 | I4: =ROUND((D4*100),1) -> 57.1 | J4: =ROUND((E4*100),1) -> 23.3 | L4: =100-H4 -> 80.5 | O4: bip | P4: 0.020091 | Q4: 0.022429 | R4: 0.174877 | S4: 0.217704 | T4: 0.542954 | U4: 0.599402 | V4: 0.210316 | W4: 0.257731
A5: GAD | B5: 0.052627406 | C5: 0.28610317 | D5: 0.60302797 | E5: 0.11086886 | F5: =SUM(C5:E5) -> 1 | G5: =ROUND((100*B5),1) -> 5.3 | H5: =ROUND((C5*100),1) -> 28.6 | I5: =ROUND((D5*100),1) -> 60.3 | J5: =ROUND((E5*100),1) -> 11.1 | L5: =100-H5 -> 71.4 | O5: gad | P5: 0.050758 | Q5: 0.054562 | R5: 0.269206 | S5: 0.303621 | T5: 0.584644 | U5: 0.621126 | V5: 0.09972 | W5: 0.123093
A6: Social Phobia | B6: 0.07216087 | C6: 0.44046698 | D6: 0.46470905 | E6: 0.094823966 | F6: =SUM(C6:E6) -> 1 | G6: =ROUND((100*B6),1) -> 7.2 | H6: =ROUND((C6*100),1) -> 44 | I6: =ROUND((D6*100),1) -> 46.5 | J6: =ROUND((E6*100),1) -> 9.5 | L6: =100-H6 -> 56 | O6: socPhob | P6: 0.07 | Q6: 0.074 | R6: 0.424753 | S6: 0.456301 | T6: 0.449623 | U6: 0.47986 | V6: 0.086177 | W6: 0.104239
A7: Alcohol Use Disorder | B7: 0.021136742 | C7: 0.44028432 | D7: 0.06182285 | E7: 0.49789283 | F7: =SUM(C7:E7) -> 1 | G7: =ROUND((100*B7),1) -> 2.1 | H7: =ROUND((C7*100),1) -> 44 | I7: =ROUND((D7*100),1) -> 6.2 | J7: =ROUND((E7*100),1) -> 49.8 | L7: =100-H7 -> 56 | O7: auddy | P7: 0.019948 | Q7: 0.022394 | R7: 0.41115 | S7: 0.469836 | T7: 0.047447 | U7: 0.080187 | V7: 0.468147 | W7: 0.527654
A8: Cannabis Use Disorder | B8: 0.013942624 | C8: 0.43979892 | D8: 0.050952765 | E8: 0.50924831 | F8: =SUM(C8:E8) -> 1 | G8: =ROUND((100*B8),1) -> 1.4 | H8: =ROUND((C8*100),1) -> 44 | I8: =ROUND((D8*100),1) -> 5.1 | J8: =ROUND((E8*100),1) -> 50.9 | L8: =100-H8 -> 56 | O8: suddyc | P8: 0.01302 | Q8: 0.01493 | R8: 0.405665 | S8: 0.474512 | T8: 0.040015 | U8: 0.064678 | V8: 0.475877 | W8: 0.542537
A9: Substance Use (non-cannabis) | B9: 0.005103109 | C9: 0.25787311 | D9: 0.16696672 | E9: 0.57516017 | F9: =SUM(C9:E9) -> 1 | G9: =ROUND((100*B9),1) -> 0.5 | H9: =ROUND((C9*100),1) -> 25.8 | I9: =ROUND((D9*100),1) -> 16.7 | J9: =ROUND((E9*100),1) -> 57.5 | L9: =100-H9 -> 74.2 | O9: suddyo | P9: 0.004513 | Q9: 0.00577 | R9: 0.208043 | S9: 0.314892 | T9: 0.118905 | U9: 0.229397 | V9: 0.512329 | W9: 0.635653
A10: Stratified by Sex
A11: Males | O11: CI
B12: Overall prevalence | C12: Proportion with only ... | D12: % only mood/substance use disorder | E12: Proportion with both | K12: =AVERAGE(J13:J19) -> 30.071429 | L12: gen co-occur | M12: =AVERAGE(L13:L19) -> 63.414286 | P12: 0.025 | Q12: 0.975 | R12: 0.025 | S12: 0.975 | T12: 0.025 | U12: 0.975 | V12: 0.025 | W12: 0.975
A13: MDE | B13: 0.059408619 | C13: 0.3835147 | D13: 0.4357562 | E13: 0.1807291 | F13: =SUM(C13:E13) -> 1 | G13: =ROUND((100*B13),1) -> 5.9 | H13: =ROUND((C13*100),1) -> 38.4 | I13: =ROUND((D13*100),1) -> 43.6 | J13: =ROUND((E13*100),1) -> 18.1 | L13: =100-H13 -> 61.6 | O13: mde | P13: 0.056496 | Q13: 0.062461 | R13: 0.35895 | S13: 0.408689 | T13: 0.409664 | U13: 0.462209 | V13: 0.161285 | W13: 0.201953
A14: Bipolar | B14: 0.02034877 | C14: 0.24168727 | D14: 0.46974927 | E14: 0.28856346 | F14: =SUM(C14:E14) -> 1 | G14: =ROUND((100*B14),1) -> 2 | H14: =ROUND((C14*100),1) -> 24.2 | I14: =ROUND((D14*100),1) -> 47 | J14: =ROUND((E14*100),1) -> 28.9 | L14: =100-H14 -> 75.8 | O14: bip | P14: 0.01877 | Q14: 0.022057 | R14: 0.206402 | S14: 0.28087 | T14: 0.424854 | U14: 0.515139 | V14: 0.250512 | W14: 0.329851
A15: GAD | B15: 0.036533994 | C15: 0.25115823 | D15: 0.60891764 | E15: 0.13992413 | F15: =SUM(C15:E15) -> 1 | G15: =ROUND((100*B15),1) -> 3.7 | H15: =ROUND((C15*100),1) -> 25.1 | I15: =ROUND((D15*100),1) -> 60.9 | J15: =ROUND((E15*100),1) -> 14 | L15: =100-H15 -> 74.9 | O15: gad | P15: 0.034247 | Q15: 0.038968 | R15: 0.224676 | S15: 0.279636 | T15: 0.577819 | U15: 0.639156 | V15: 0.120476 | W15: 0.161933
A16: Social Phobia | B16: 0.049525129 | C16: 0.43168529 | D16: 0.43656807 | E16: 0.13174664 | F16: =SUM(C16:E16) -> 1 | G16: =ROUND((100*B16),1) -> 5 | H16: =ROUND((C16*100),1) -> 43.2 | I16: =ROUND((D16*100),1) -> 43.7 | J16: =ROUND((E16*100),1) -> 13.2 | L16: =100-H16 -> 56.8 | O16: socPhob | P16: 0.046976 | Q16: 0.052204 | R16: 0.405553 | S16: 0.458204 | T16: 0.410176 | U16: 0.463324 | V16: 0.115797 | W16: 0.149522
A17: Alcohol Use Disorder | B17: 0.024943555 | C17: 0.48438816 | D17: 0.092821839 | E17: 0.42279 | F17: =SUM(C17:E17) -> 1 | G17: =ROUND((100*B17),1) -> 2.5 | H17: =ROUND((C17*100),1) -> 48.4 | I17: =ROUND((D17*100),1) -> 9.3 | J17: =ROUND((E17*100),1) -> 42.3 | L17: =100-H17 -> 51.6 | O17: auddy | P17: 0.023258 | Q17: 0.026748 | R17: 0.445943 | S17: 0.523019 | T17: 0.069928 | U17: 0.122227 | V17: 0.384477 | W17: 0.462055
A18: Cannabis Use Disorder | B18: 0.019475857 | C18: 0.53766461 | D18: 0.074515776 | E18: 0.38781961 | F18: =SUM(C18:E18) -> 1 | G18: =ROUND((100*B18),1) -> 1.9 | H18: =ROUND((C18*100),1) -> 53.8 | I18: =ROUND((D18*100),1) -> 7.5 | J18: =ROUND((E18*100),1) -> 38.8 | L18: =100-H18 -> 46.2 | O18: suddyc | P18: 0.01792 | Q18: 0.021164 | R18: 0.494753 | S18: 0.580025 | T18: 0.058474 | U18: 0.094517 | V18: 0.347885 | W18: 0.42932
A19: Substance Use (non-cannabis) | B19: 0.006366736 | C19: 0.23030311 | D19: 0.21776671 | E19: 0.55193017 | F19: =SUM(C19:E19) -> 1 | G19: =ROUND((100*B19),1) -> 0.6 | H19: =ROUND((C19*100),1) -> 23 | I19: =ROUND((D19*100),1) -> 21.8 | J19: =ROUND((E19*100),1) -> 55.2 | L19: =100-H19 -> 77 | O19: suddyo | P19: 0.005405 | Q19: 0.007499 | R19: 0.163906 | S19: 0.313512 | T19: 0.147258 | U19: 0.309772 | V19: 0.465647 | W19: 0.635196
A21: Females | O21: CI
B22: Overall prevalence | C22: Proportion with only ... | D22: % only mood/substance use disorder | E22: Proportion with both | K22: =AVERAGE(J23:J29) -> 35.285714 | L22: gen co-occur | M22: =AVERAGE(L23:L29) -> 68.014286 | P22: 0.025 | Q22: 0.975 | R22: 0.025 | S22: 0.975 | T22: 0.025 | U22: 0.975 | V22: 0.025 | W22: 0.975
A23: MDE | B23: 0.092953746 | C23: 0.42733639 | D23: 0.44384403 | E23: 0.12881958 | F23: =SUM(C23:E23) -> 1 | G23: =ROUND((100*B23),1) -> 9.3 | H23: =ROUND((C23*100),1) -> 42.7 | I23: =ROUND((D23*100),1) -> 44.4 | J23: =ROUND((E23*100),1) -> 12.9 | L23: =100-H23 -> 57.3 | O23: mde | P23: 0.089679 | Q23: 0.096335 | R23: 0.408642 | S23: 0.44624 | T23: 0.425261 | U23: 0.462586 | V23: 0.116296 | W23: 0.142474
A24: Bipolar | B24: 0.022072352 | C24: 0.15448632 | D24: 0.66128359 | E24: 0.1842301 | F24: =SUM(C24:E24) -> 1 | G24: =ROUND((100*B24),1) -> 2.2 | H24: =ROUND((C24*100),1) -> 15.4 | I24: =ROUND((D24*100),1) -> 66.1 | J24: =ROUND((E24*100),1) -> 18.4 | L24: =100-H24 -> 84.6 | O24: bip | P24: 0.020495 | Q24: 0.023768 | R24: 0.132915 | S24: 0.178837 | T24: 0.62741 | U24: 0.693582 | V24: 0.158241 | W24: 0.213406
A25: GAD | B25: 0.068059825 | C25: 0.30409091 | D25: 0.59999629 | E25: 0.095912794 | F25: =SUM(C25:E25) -> 1 | G25: =ROUND((100*B25),1) -> 6.8 | H25: =ROUND((C25*100),1) -> 30.4 | I25: =ROUND((D25*100),1) -> 60 | J25: =ROUND((E25*100),1) -> 9.6 | L25: =100-H25 -> 69.6 | O25: gad | P25: 0.065218 | Q25: 0.071016 | R25: 0.283004 | S25: 0.326034 | T25: 0.576856 | U25: 0.622699 | V25: 0.082861 | W25: 0.110772
A26: Social Phobia | B26: 0.09386691 | C26: 0.44490999 | D26: 0.4789467 | E26: 0.076143311 | F26: =SUM(C26:E26) -> 1 | G26: =ROUND((100*B26),1) -> 9.4 | H26: =ROUND((C26*100),1) -> 44.5 | I26: =ROUND((D26*100),1) -> 47.9 | J26: =ROUND((E26*100),1) -> 7.6 | L26: =100-H26 -> 55.5 | O26: socPhob | P26: 0.090676 | Q26: 0.097158 | R26: 0.426001 | S26: 0.46398 | T26: 0.460395 | U26: 0.497557 | V26: 0.0662 | W26: 0.087441
A27: Alcohol Use Disorder | B27: 0.017486285 | C27: 0.37995574 | D27: 0.019420086 | E27: 0.60062418 | F27: =SUM(C27:E27) -> 1 | G27: =ROUND((100*B27),1) -> 1.7 | H27: =ROUND((C27*100),1) -> 38 | I27: =ROUND((D27*100),1) -> 1.9 | J27: =ROUND((E27*100),1) -> 60.1 | L27: =100-H27 -> 62 | O27: auddy | P27: 0.015872 | Q27: 0.019261 | R27: 0.332976 | S27: 0.429298 | T27: 0.010317 | U27: 0.036261 | V27: 0.550976 | W27: 0.648287
A28: Cannabis Use Disorder | B28: 0.008636653 | C28: 0.22817369 | D28: 7.31e-12 | E28: 0.77182631 | F28: =SUM(C28:E28) -> 1 | G28: =ROUND((100*B28),1) -> 0.9 | H28: =ROUND((C28*100),1) -> 22.8 | I28: =ROUND((D28*100),1) -> 0 | J28: =ROUND((E28*100),1) -> 77.2 | L28: =100-H28 -> 77.2 | O28: suddyc | P28: 0.007666 | Q28: 0.009729 | R28: 0.173238 | S28: 0.294328 | T28: 7.31e-12 | U28: 7.31e-12 | V28: 0.705672 | W28: 0.826762
A29: Substance Use (non-cannabis) | B29: 0.003891382 | C29: 0.30112805 | D29: 0.087265952 | E29: 0.611606 | F29: =SUM(C29:E29) -> 1 | G29: =ROUND((100*B29),1) -> 0.4 | H29: =ROUND((C29*100),1) -> 30.1 | I29: =ROUND((D29*100),1) -> 8.7 | J29: =ROUND((E29*100),1) -> 61.2 | L29: =100-H29 -> 69.9 | O29: suddyo | P29: 0.003265 | Q29: 0.004637 | R29: 0.229052 | S29: 0.38457 | T29: 0.045674 | U29: 0.160368 | V29: 0.519944 | W29: 0.695999
A30: Stratified by Age Group
A31: Older Adults | O31: CI
B32: Overall prevalence | C32: Proportion with only ... | D32: % only mood/substance use disorder | E32: Proportion with both | K32: =AVERAGE(J33:J39) -> 26.542857 | L32: gen co-occur | M32: =AVERAGE(L33:L39) -> 62.114286 | P32: 0.025 | Q32: 0.975 | R32: 0.025 | S32: 0.975 | T32: 0.025 | U32: 0.975 | V32: 0.025 | W32: 0.975
A33: MDE | B33: 0.066760528 | C33: 0.44359214 | D33: 0.42909998 | E33: 0.12730789 | F33: =SUM(C33:E33) -> 1 | G33: =ROUND((100*B33),1) -> 6.7 | H33: =ROUND((C33*100),1) -> 44.4 | I33: =ROUND((D33*100),1) -> 42.9 | J33: =ROUND((E33*100),1) -> 12.7 | L33: =100-H33 -> 55.6 | O33: mde | P33: 0.064365 | Q33: 0.069157 | R33: 0.424978 | S33: 0.462206 | T33: 0.410281 | U33: 0.447919 | V33: 0.11432 | W33: 0.140296
A34: Bipolar | B34: 0.015442074 | C34: 0.18638639 | D34: 0.64904782 | E34: 0.16456578 | F34: =SUM(C34:E34) -> 1 | G34: =ROUND((100*B34),1) -> 1.5 | H34: =ROUND((C34*100),1) -> 18.6 | I34: =ROUND((D34*100),1) -> 64.9 | J34: =ROUND((E34*100),1) -> 16.5 | L34: =100-H34 -> 81.4 | O34: bip | P34: 0.014234 | Q34: 0.01665 | R34: 0.156786 | S34: 0.215986 | T34: 0.610954 | U34: 0.687141 | V34: 0.136364 | W34: 0.192768
A35: GAD | B35: 0.047043438 | C35: 0.30376382 | D35: 0.60342571 | E35: 0.092810465 | F35: =SUM(C35:E35) -> 1 | G35: =ROUND((100*B35),1) -> 4.7 | H35: =ROUND((C35*100),1) -> 30.4 | I35: =ROUND((D35*100),1) -> 60.3 | J35: =ROUND((E35*100),1) -> 9.3 | L35: =100-H35 -> 69.6 | O35: gad | P35: 0.045065 | Q35: 0.049022 | R35: 0.282964 | S35: 0.324564 | T35: 0.581314 | U35: 0.625538 | V35: 0.079179 | W35: 0.106442
A36: Social Phobia | B36: 0.056196887 | C36: 0.43159816 | D36: 0.49721919 | E36: 0.071182651 | F36: =SUM(C36:E36) -> 1 | G36: =ROUND((100*B36),1) -> 5.6 | H36: =ROUND((C36*100),1) -> 43.2 | I36: =ROUND((D36*100),1) -> 49.7 | J36: =ROUND((E36*100),1) -> 7.1 | L36: =100-H36 -> 56.8 | O36: socPhob | P36: 0.0539 | Q36: 0.058494 | R36: 0.411266 | S36: 0.45193 | T36: 0.477029 | U36: 0.51741 | V36: 0.06057 | W36: 0.081796
A37: Alcohol Use Disorder | B37: 0.017877545 | C37: 0.44941085 | D37: 0.0603057 | E37: 0.49028345 | F37: =SUM(C37:E37) -> 1 | G37: =ROUND((100*B37),1) -> 1.8 | H37: =ROUND((C37*100),1) -> 44.9 | I37: =ROUND((D37*100),1) -> 6 | J37: =ROUND((E37*100),1) -> 49 | L37: =100-H37 -> 55.1 | O37: auddy | P37: 0.016587 | Q37: 0.019168 | R37: 0.413289 | S37: 0.485533 | T37: 0.040509 | U37: 0.080102 | V37: 0.453665 | W37: 0.526902
A38: Cannabis Use Disorder | B38: 0.00873112 | C38: 0.53629723 | D38: 0.043980536 | E38: 0.41972224 | F38: =SUM(C38:E38) -> 1 | G38: =ROUND((100*B38),1) -> 0.9 | H38: =ROUND((C38*100),1) -> 53.6 | I38: =ROUND((D38*100),1) -> 4.4 | J38: =ROUND((E38*100),1) -> 42 | L38: =100-H38 -> 46.4 | O38: suddyc | P38: 0.007808 | Q38: 0.009654 | R38: 0.485868 | S38: 0.586726 | T38: 0.029947 | U38: 0.058015 | V38: 0.370242 | W38: 0.469203
A39: Substance Use (non-cannabis) | B39: 0.004311297 | C39: 0.30076569 | D39: 0.20756927 | E39: 0.49166504 | F39: =SUM(C39:E39) -> 1 | G39: =ROUND((100*B39),1) -> 0.4 | H39: =ROUND((C39*100),1) -> 30.1 | I39: =ROUND((D39*100),1) -> 20.8 | J39: =ROUND((E39*100),1) -> 49.2 | L39: =100-H39 -> 69.9 | O39: suddyo | P39: 0.00366 | Q39: 0.004962 | R39: 0.23327 | S39: 0.368262 | T39: 0.138139 | U39: 0.277 | V39: 0.418023 | W39: 0.565307
A41: Young Adults | O41: CI
B42: Overall prevalence | C42: Proportion with only ... | D42: % only mood/substance use disorder | E42: Proportion with both | K42: =AVERAGE(J43:J49) -> 40.014286 | L42: gen co-occur | M42: =AVERAGE(L43:L49) -> 70.071429 | P42: 0.025 | Q42: 0.975 | R42: 0.025 | S42: 0.975 | T42: 0.025 | U42: 0.975 | V42: 0.025 | W42: 0.975
A43: MDE | B43: 0.13611782 | C43: 0.31227503 | D43: 0.47567222 | E43: 0.21205274 | F43: =SUM(C43:E43) -> 1 | G43: =ROUND((100*B43),1) -> 13.6 | H43: =ROUND((C43*100),1) -> 31.2 | I43: =ROUND((D43*100),1) -> 47.6 | J43: =ROUND((E43*100),1) -> 21.2 | L43: =100-H43 -> 68.8 | O43: mde | P43: 0.129871 | Q43: 0.142365 | R43: 0.289526 | S43: 0.335024 | T43: 0.451598 | U43: 0.499747 | V43: 0.191871 | W43: 0.232235
A44: Bipolar | B44: 0.056511125 | C44: 0.21042702 | D44: 0.44205576 | E44: 0.34751722 | F44: =SUM(C44:E44) -> 1 | G44: =ROUND((100*B44),1) -> 5.7 | H44: =ROUND((C44*100),1) -> 21 | I44: =ROUND((D44*100),1) -> 44.2 | J44: =ROUND((E44*100),1) -> 34.8 | L44: =100-H44 -> 79 | O44: bip | P44: 0.052485 | Q44: 0.060537 | R44: 0.180588 | S44: 0.240266 | T44: 0.403546 | U44: 0.480566 | V44: 0.308559 | W44: 0.386475
A45: GAD | B45: 0.086674652 | C45: 0.22765747 | D45: 0.60171169 | E45: 0.17063084 | F45: =SUM(C45:E45) -> 1 | G45: =ROUND((100*B45),1) -> 8.7 | H45: =ROUND((C45*100),1) -> 22.8 | I45: =ROUND((D45*100),1) -> 60.2 | J45: =ROUND((E45*100),1) -> 17.1 | L45: =100-H45 -> 77.2 | O45: gad | P45: 0.081808 | Q45: 0.091541 | R45: 0.202922 | S45: 0.252393 | T45: 0.571287 | U45: 0.632136 | V45: 0.147141 | W45: 0.194121
A46: Social Phobia | B46: 0.16949841 | C46: 0.45839579 | D46: 0.39898801 | E46: 0.1426162 | F46: =SUM(C46:E46) -> 1 | G46: =ROUND((100*B46),1) -> 16.9 | H46: =ROUND((C46*100),1) -> 45.8 | I46: =ROUND((D46*100),1) -> 39.9 | J46: =ROUND((E46*100),1) -> 14.3 | L46: =100-H46 -> 54.2 | O46: socPhob | P46: 0.162741 | Q46: 0.176255 | R46: 0.435793 | S46: 0.480999 | T46: 0.377178 | U46: 0.420798 | V46: 0.126658 | W46: 0.158575
A47: Alcohol Use Disorder | B47: 0.041009117 | C47: 0.41602536 | D47: 0.065855544 | E47: 0.51811909 | F47: =SUM(C47:E47) -> 1 | G47: =ROUND((100*B47),1) -> 4.1 | H47: =ROUND((C47*100),1) -> 41.6 | I47: =ROUND((D47*100),1) -> 6.6 | J47: =ROUND((E47*100),1) -> 51.8 | L47: =100-H47 -> 58.4 | O47: auddy | P47: 0.037272 | Q47: 0.044746 | R47: 0.370574 | S47: 0.461476 | T47: 0.043901 | U47: 0.087811 | V47: 0.470724 | W47: 0.565515
A48: Cannabis Use Disorder | B48: 0.045718835 | C48: 0.32743328 | D48: 0.059071446 | E48: 0.61349528 | F48: =SUM(C48:E48) -> 1 | G48: =ROUND((100*B48),1) -> 4.6 | H48: =ROUND((C48*100),1) -> 32.7 | I48: =ROUND((D48*100),1) -> 5.9 | J48: =ROUND((E48*100),1) -> 61.3 | L48: =100-H48 -> 67.3 | O48: suddyc | P48: 0.041714 | Q48: 0.049724 | R48: 0.287442 | S48: 0.367425 | T48: 0.039219 | U48: 0.078924 | V48: 0.571984 | W48: 0.655006
A49: Substance Use (non-cannabis) | B49: 0.009931042 | C49: 0.14433693 | D49: 0.059492201 | E49: 0.79617087 | F49: =SUM(C49:E49) -> 1 | G49: =ROUND((100*B49),1) -> 1 | H49: =ROUND((C49*100),1) -> 14.4 | I49: =ROUND((D49*100),1) -> 5.9 | J49: =ROUND((E49*100),1) -> 79.6 | L49: =100-H49 -> 85.6 | O49: suddyo | P49: 0.008207 | Q49: 0.011655 | R49: 0.090158 | S49: 0.198516 | T49: 0.023035 | U49: 0.095949 | V49: 0.732592 | W49: 0.85975

Sheet Table1 (mood anxiety substance)
A1: Overall (weighted)
B2: Overall prevalence | C2: % with only one disorder | D2: % with 2+ mood/anxiety disorders only | E2: % with 2+ SUDs only | F2: Proportion with both
A3: Any Mood | B3: 8.4 (8.2 - 8.7) | C3: 42.2 (40.7 - 43.6) | D3: 42.6 (41.2 - 44.1) | F3: 15.2 (14.2 - 16.3)
A4: Any Anxiety | B4: 9.9 (9.7 - 10.2) | C4: 47.2 (45.8 - 48.6) | D4: 43.2 (41.9 - 44.5) | F4: 9.6 (8.8 - 10.4)
A5: Any SUD | B5: 3.5 (3.4 - 3.7) | C5: 47.3 (45.0 - 49.7) | E5: 3.8 (2.9 - 4.9) | F5: 48.9 (46.6 - 51.2)
A6: Any Disorder | B6: 16.4 (16.1 - 16.7) | C6: 60.5 (59.4 - 61.5) | D6: 28.2 (27.2 - 29.1) | E6: 0.8 (0.6 - 1.1) | F6: 10.6 (9.9 - 11.2)
A7: Stratified by Sex
A8: Males
B9: Overall prevalence | C9: % with only one disorder | D9: % with 2+ mood/anxiety disorders only | E9: % with 2+ SUDs only | F9: Proportion with both
A10: Any Mood | B10: 6.7 (6.5 - 7.1) | C10: 40.8 (38.5 - 43.2) | D10: 40.5 (38.1 - 43.0) | F10: 18.7 (16.8 - 20.7)
A11: Any Anxiety | B11: 6.9 (6.6 - 7.3) | C11: 44.0 (41.8 - 46.3) | D11: 43.7 (41.5 - 45.9) | F11: 12.3 (10.9 - 13.7)
A12: Any SUD | B12: 4.4 (4.1 - 4.6) | C12: 55.0 (52.0 - 58.0) | E12: 5.5 (4.1 - 7.2) | F12: 39.5 (36.6 - 42.4)
A13: Any Disorder | B13: 13.4 (13.0 - 13.9) | C13: 61.2 (59.5 - 62.8) | D13: 24.2 (22.8 - 25.7) | E13: 1.8 (1.3 - 2.4) | F13: 12.8 (11.7 - 14.0)
A14: Females
B15: Overall prevalence | C15: % with only one disorder | D15: % with 2+ mood/anxiety disorders only | E15: % with 2+ SUDs only | F15: Proportion with both
A16: Any Mood | B16: 10.0 (9.7 - 10.4) | C16: 43.0 (41.3 - 44.8) | D16: 44.0 (42.3 - 45.8) | F16: 13.0 (11.8 - 14.3)
A17: Any Anxiety | B17: 12.8 (12.4 - 13.3) | C17: 48.9 (47.2 - 50.6) | D17: 43.0 (41.3 - 44.6) | F17: 8.2 (7.3 - 9.2)
A18: Any SUD | B18: 2.8 (2.6 - 3.0) | C18: 35.6 (32.0 - 39.3) | E18: 1.2 (0.7 - 2.3) | F18: 63.2 (59.4 - 66.8)
A19: Any Disorder | B19: 19.2 (18.8 - 19.7) | C19: 60.0 (58.6 - 61.4) | D19: 30.8 (29.5 - 32.1) | E19: 0.2 (0.1 - 0.3) | F19: 9.0 (8.3 - 9.9)
A20: Stratified by Age Group
A21: Older Adults
B22: Overall prevalence | C22: % with only one disorder | D22: % with 2+ mood/anxiety disorders only | E22: % with 2+ SUDs only | F22: Proportion with both
A23: Any Mood | B23: 7.2 (7.0 - 7.5) | C23: 45.1 (43.3 - 46.9) | D23: 41.9 (40.1 - 43.8) | F23: 13.0 (11.8 - 14.3)
A24: Any Anxiety | B24: 8.2 (8.0 - 8.5) | C24: 46.9 (45.1 - 48.6) | D24: 45.2 (43.5 - 46.9) | F24: 7.9 (7.0 - 8.9)
A25: Any SUD | B25: 2.8 (2.6 - 3.0) | C25: 50.1 (47.1 - 53.2) | E25: 4.0 (2.9 - 5.5) | F25: 45.9 (42.9 - 48.9)
A26: Any Disorder | B26: 13.9 (13.5 - 14.2) | C26: 61.4 (60.1 - 62.7) | D26: 28.6 (27.4 - 29.8) | E26: 0.8 (0.6 - 1.1) | F26: 9.3 (8.5 - 10.1)
A27: Young Adults
B28: Overall prevalence | C28: % with only one disorder | D28: % with 2+ mood/anxiety disorders only | E28: % with 2+ SUDs only | F28: Proportion with both
A29: Any Mood | B29: 16.0 (15.3 - 16.6) | C29: 34.1 (32.0 - 36.3) | D29: 44.6 (42.4 - 46.8) | F29: 21.3 (19.4 - 23.3)
A30: Any Anxiety | B30: 20.3 (19.6 - 21.0) | C30: 48.1 (45.9 - 50.2) | D30: 38.3 (36.2 - 40.3) | F30: 13.7 (12.3 - 15.1)
A31: Any SUD | B31: 8.1 (7.6 - 8.6) | C31: 41.4 (38.4 - 44.5) | E31: 3.3 (3.4 - 4.7) | F31: 55.2 (52.1 - 58.4)
A32: Any Disorder | B32: 31.9 (31.1 - 32.7) | C32: 58.1 (56.4 - 59.7) | D32: 27.1 (25.6 - 28.5) | E32: 0.8 (0.6 - 1.2) | F32: 14.0 (12.9 - 15.2)
C33: =100-61.4 -> 38.6

Sheet Stacked bar chart and waffle

Sheet Bivariate correlations
A1: Overall
B2: MDE | C2: Bipolar | D2: GAD | E2: Social Phobia | F2: AUD | G2: CUD
A3: Bipolar | B3: 0.71
A4: GAD | B4: 0.66 | C4: 0.54
A5: Social Phobia | B5: 0.58 | C5: 0.51 | D5: 0.71
A6: AUD | B6: 0.43 | C6: 0.42 | D6: 0.24 | E6: 0.23
A7: CUD | B7: 0.46 | C7: 0.46 | D7: 0.25 | E7: 0.32 | F7: 0.5
A8: SUD | B8: 0.37 | C8: 0.35 | D8: 0.36 | E8: 0.3 | F8: 0.57 | G8: 0.51
A9: Stratified by Sex
A10: Males | I10: Males - overall (diff)
B11: MDE | C11: Bipolar | D11: GAD | E11: Social Phobia | F11: AUD | G11: CUD | J11: MDE | K11: GAD | L11: Bipolar | M11: Social Phobia | N11: AUD | O11: CUD
A12: Bipolar | B12: 0.72 | I12: GAD | J12: =B12-B3 -> 0.01
A13: GAD | B13: 0.73 | C13: 0.56 | I13: Bipolar | J13: =B13-B4 -> 0.07 | K13: =C13-C4 -> 0.02
A14: Social Phobia | B14: 0.62 | C14: 0.71 | D14: 0.56 | I14: Social Phobia | J14: =B14-B5 -> 0.04 | K14: =C14-C5 -> 0.2 | Q14: Female - Males (diff)
A15: AUD | B15: 0.4 | C15: 0.3 | D15: 0.42 | E15: 0.32 | I15: AUD | J15: =B15-B6 -> -0.03 | K15: =C15-C6 -> -0.12 | L15: =D15-D6 -> 0.18 | M15: =E15-E6 -> 0.09 | R15: MDE | S15: GAD | T15: Bipolar | U15: Social Phobia | V15: AUD | W15: CUD
A16: CUD | B16: 0.46 | C16: 0.4 | D16: 0.47 | E16: 0.41 | F16: 0.56 | I16: CUD | J16: =B16-B7 -> 0 | K16: =C16-C7 -> -0.06 | L16: =D16-D7 -> 0.22 | M16: =E16-E7 -> 0.09 | N16: =F16-F7 -> 0.06 | Q16: GAD | R16: =B21 - B12 -> -0.11
A17: SUD | B17: 0.52 | C17: 0.52 | D17: 0.46 | E17: 0.44 | F17: 0.64 | G17: 0.63 | I17: SUD | J17: =B17-B8 -> 0.15 | K17: =C17-C8 -> 0.17 | L17: =D17-D8 -> 0.1 | M17: =E17-E8 -> 0.14 | N17: =F17-F8 -> 0.07 | O17: =G17-G8 -> 0.12 | Q17: Bipolar | R17: =B22 - B13 -> -0.08 | S17: =C22 - C13 -> -0.1
Q18: Social Phobia | R18: =B23 - B14 -> -0.06 | S18: =C23 - C14 -> -0.04 | T18: =D23 - D14 -> -0.09
A19: Females | I19: Female - Overall (diff) | Q19: AUD | R19: =B24 - B15 -> 0.05 | S19: =C24 - C15 -> 0 | T19: =D24 - D15 -> 0.03 | U19: =E24 - E15 -> -0.08
B20: MDE | C20: Bipolar | D20: GAD | E20: Social Phobia | F20: AUD | G20: CUD | J20: MDE | K20: GAD | L20: Bipolar | M20: Social Phobia | N20: AUD | O20: CUD | Q20: CUD | R20: =B25 - B16 -> 0.1 | S20: =C25 - C16 -> -0.06 | T20: =D25 - D16 -> 0.08 | U20: =E25 - E16 -> -0.06 | V20: =F25 - F16 -> -0.1
A21: Bipolar | B21: 0.61 | I21: GAD | J21: =B21-B3 -> -0.1 | Q21: SUD | R21: =B26 - B17 -> -0.22 | S21: =C26 - C17 -> -0.2 | T21: =D26 - D17 -> -0.19 | U21: =E26 - E17 -> -0.19 | V21: =F26 - F17 -> -0.28 | W21: =G26 - G17 -> -0.19
A22: GAD | B22: 0.65 | C22: 0.46 | I22: Bipolar | J22: =B22-B4 -> -0.01 | K22: =C22-C4 -> -0.08
A23: Social Phobia | B23: 0.56 | C23: 0.67 | D23: 0.47 | I23: Social Phobia | J23: =B23-B5 -> -0.02 | K23: =C23-C5 -> 0.16
A24: AUD | B24: 0.45 | C24: 0.3 | D24: 0.45 | E24: 0.24 | I24: AUD | J24: =B24-B6 -> 0.02 | K24: =C24-C6 -> -0.12 | L24: =D24-D6 -> 0.21
A25: CUD | B25: 0.56 | C25: 0.34 | D25: 0.55 | E25: 0.35 | F25: 0.46 | I25: CUD | J25: =B25-B7 -> 0.1 | K25: =C25-C7 -> -0.12 | L25: =D25-D7 -> 0.3 | M25: =E25-E7 -> 0.03 | N25: =F25-F7 -> -0.04
A26: SUD | B26: 0.3 | C26: 0.32 | D26: 0.27 | E26: 0.25 | F26: 0.36 | G26: 0.44 | I26: SUD | J26: =B26-B8 -> -0.07 | K26: =C26-C8 -> -0.03 | L26: =D26-D8 -> -0.09 | M26: =E26-E8 -> -0.05 | N26: =F26-F8 -> -0.21 | O26: =G26-G8 -> -0.07
A27: Stratified by Age Group
A28: Older Adults | I28: Old - overall (diff)
B29: MDE | C29: Bipolar | D29: GAD | E29: Social Phobia | F29: AUD | G29: CUD | J29: MDE | K29: GAD | L29: Bipolar | M29: Social Phobia | N29: AUD | O29: CUD
A30: Bipolar | B30: 0.68 | I30: GAD | J30: =B30-B3 -> -0.03
A31: GAD | B31: 0.72 | C31: 0.55 | I31: Bipolar | J31: =B31-B4 -> 0.06 | K31: =C31-C4 -> 0.01
A32: Social Phobia | B32: 0.59 | C32: 0.7 | D32: 0.57 | I32: Social Phobia | J32: =B32-B5 -> 0.01 | K32: =C32-C5 -> 0.19 | L32: =D32-D5 -> -0.14 | Q32: Young - Old (diff)
A33: AUD | B33: 0.43 | C33: 0.26 | D33: 0.4 | E33: 0.15 | I33: AUD | J33: =B33-B6 -> 0 | K33: =C33-C6 -> -0.16 | L33: =D33-D6 -> 0.16 | M33: =E33-E6 -> -0.08 | R33: MDE | S33: GAD | T33: Bipolar | U33: Social Phobia | V33: AUD | W33: CUD
A34: CUD | B34: 0.36 | C34: 0.2 | D34: 0.37 | E34: 0.38 | F34: 0.44 | I34: CUD | J34: =B34-B7 -> -0.1 | K34: =C34-C7 -> -0.26 | L34: =D34-D7 -> 0.12 | M34: =E34-E7 -> 0.06 | N34: =F34-F7 -> -0.06 | Q34: GAD | R34: =B39 - B30 -> -0.08
A35: SUD | B35: 0.34 | C35: 0.37 | D35: 0.29 | E35: 0.34 | F35: 0.53 | G35: 0.53 | I35: SUD | J35: =B35-B8 -> -0.03 | K35: =C35-C8 -> 0.02 | L35: =D35-D8 -> -0.07 | M35: =E35-E8 -> 0.04 | N35: =F35-F8 -> -0.04 | O35: =G35-G8 -> 0.02 | Q35: Bipolar | R35: =B40 - B31 -> -0.12 | S35: =C40 - C31 -> -0.17
Q36: Social Phobia | R36: =B41 - B32 -> -0.07 | S36: =C41 - C32 -> -0.04 | T36: =D41 - D32 -> -0.24
A37: Young Adults | I37: Young - Overall (diff) | Q37: AUD | R37: =B42 - B33 -> -0.11 | S37: =C42 - C33 -> -0.01 | T37: =D42 - D33 -> 0 | U37: =E42 - E33 -> 0.13
B38: MDE | C38: Bipolar | D38: GAD | E38: Social Phobia | F38: AUD | G38: CUD | J38: MDE | K38: GAD | L38: Bipolar | M38: Social Phobia | N38: AUD | O38: CUD | Q38: CUD | R38: =B43 - B34 -> 0.11 | S38: =C43 - C34 -> 0.15 | T38: =D43 - D34 -> 0.11 | U38: =E43 - E34 -> -0.18 | V38: =F43 - F34 -> 0.13
A39: Bipolar | B39: 0.6 | I39: GAD | J39: =B39-B3 -> -0.11 | Q39: SUD | R39: =B44 - B35 -> 0.12 | S39: =C44 - C35 -> 0.05 | T39: =D44 - D35 -> 0.12 | U39: =E44 - E35 -> -0.07 | V39: =F44 - F35 -> 0.03 | W39: =G44 - G35 -> 0.05
A40: GAD | B40: 0.6 | C40: 0.38 | I40: Bipolar | J40: =B40-B4 -> -0.06 | K40: =C40-C4 -> -0.16
A41: Social Phobia | B41: 0.52 | C41: 0.66 | D41: 0.33 | I41: Social Phobia | J41: =B41-B5 -> -0.06 | K41: =C41-C5 -> 0.15 | L41: =D41-D5 -> -0.38
A42: AUD | B42: 0.32 | C42: 0.25 | D42: 0.4 | E42: 0.28 | I42: AUD | J42: =B42-B6 -> -0.11 | K42: =C42-C6 -> -0.17 | L42: =D42-D6 -> 0.16 | M42: =E42-E6 -> 0.05
A43: CUD | B43: 0.47 | C43: 0.35 | D43: 0.48 | E43: 0.2 | F43: 0.57 | I43: CUD | J43: =B43-B7 -> 0.01 | K43: =C43-C7 -> -0.11 | L43: =D43-D7 -> 0.23 | M43: =E43-E7 -> -0.12 | N43: =F43-F7 -> 0.07
A44: SUD | B44: 0.46 | C44: 0.42 | D44: 0.41 | E44: 0.27 | F44: 0.56 | G44: 0.58 | I44: SUD | J44: =B44-B8 -> 0.09 | K44: =C44-C8 -> 0.07 | L44: =D44-D8 -> 0.05 | M44: =E44-E8 -> -0.03 | N44: =F44-F8 -> -0.01 | O44: =G44-G8 -> 0.07

Sheet Conditional Pairwise probs
A1: Overall
B2: MDE | C2: Bipolar | D2: GAD | E2: socPhob | F2: AUD | G2: CUD | H2: SUD
A3: MDE | B3: 1 | C3: 0.31583416 | D3: 0.17978877 | E3: 0.33296326 | F3: 0.09051128 | G3: 0.070812928 | H3: 0.024462397
A4: Bipolar | B4: 0.63464875 | C4: 1 | D4: 0.35019856 | E4: 0.39506099 | F4: 0.13170328 | G4: 0.1111195 | H4: 0.0340976
A5: GAD | B5: 0.45740017 | C5: 0.14367484 | D5: 1 | E5: 0.49120581 | F5: 0.057152024 | G5: 0.041944575 | H5: 0.027072864
A6: Social Phobia | B6: 0.3502019 | C6: 0.35673725 | D6: 0.11771057 | E6: 1 | F6: 0.052080566 | G6: 0.048145022 | H6: 0.019654474
A7: AUD | B7: 0.32631326 | C7: 0.14227428 | D7: 0.13451098 | E7: 0.17851944 | F7: 1 | G7: 0.13070193 | H7: 0.08039743
A8: CUD | B8: 0.38606229 | C8: 0.15790046 | D8: 0.17161856 | E8: 0.24955946 | F8: 0.19764908 | G8: 1 | H8: 0.074730538
A9: SUD | B9: 0.35058656 | C9: 0.26791266 | D9: 0.13843605 | E9: 0.26781537 | F9: 0.31959973 | G9: 0.19644887 | H9: 1
A10: Stratified by Sex
A11: Males | J11: Males - Overall (diff)
B12: MDE | C12: Bipolar | D12: GAD | E12: socPhob | F12: AUD | G12: CUD | H12: SUD | K12: MDE | L12: GAD | M12: Bipolar | N12: Social Phobia | O12: AUD | P12: CUD | Q12: SUD
A13: MDE | B13: 1 | C13: 0.3349685 | D13: 0.21332381 | E13: 0.31781619 | F13: 0.10856314 | G13: 0.094830453 | H13: 0.036271042 | J13: MDE | L13: =C13-C3 -> 0.019134343 | M13: =D13-D3 -> 0.03353504 | N13: =E13-E3 -> -0.015147068 | O13: =F13-F3 -> 0.018051864 | P13: =G13-G3 -> 0.024017525 | Q13: =H13-H3 -> 0.011808645
A14: Bipolar | B14: 0.59863773 | C14: 1 | D14: 0.33969789 | E14: 0.35279508 | F14: 0.16591362 | G14: 0.13054107 | H14: 0.056970517 | J14: GAD | K14: =B14-B5 -> 0.14123756 | M14: =D14-D5 -> -0.66030211 | N14: =E14-E5 -> -0.13841073 | O14: =F14-F5 -> 0.1087616 | P14: =G14-G5 -> 0.088596498 | Q14: =H14-H5 -> 0.029897653
A15: GAD | B15: 0.54318253 | C15: 0.1962953 | D15: 1 | E15: 0.47188286 | F15: 0.067748203 | G15: 0.06702457 | H15: 0.033990564 | J15: Bipolar | K15: =B15-B4 -> -0.091466218 | L15: =C15-C4 -> -0.8037047 | N15: =E15-E4 -> 0.07682187 | O15: =F15-F4 -> -0.063955077 | P15: =G15-G4 -> -0.044094931 | Q15: =H15-H4 -> -0.0001070359
A16: Social Phobia | B16: 0.36781502 | C16: 0.33677964 | D16: 0.14549605 | E16: 1 | F16: 0.07620096 | G16: 0.074504347 | H16: 0.020839702 | J16: Social Phobia | K16: =B16-B6 -> 0.01761312 | L16: =C16-C6 -> -0.019957611 | M16: =D16-D6 -> 0.027785478 | O16: =F16-F6 -> 0.024120393 | P16: =G16-G6 -> 0.026359325 | Q16: =H16-H6 -> 0.001185228 | S16: Females - Males (diff)
A17: AUD | B17: 0.25725292 | C17: 0.098999695 | D17: 0.14009905 | E17: 0.15602166 | F17: 1 | G17: 0.16241682 | H17: 0.11503885 | J17: AUD | K17: =B17-B7 -> -0.069060341 | L17: =C17-C7 -> -0.043274588 | M17: =D17-D7 -> 0.0055880661 | N17: =E17-E7 -> -0.022497784 | P17: =G17-G7 -> 0.031714888 | Q17: =H17-H7 -> 0.034641415 | T17: MDE | U17: GAD | V17: Bipolar | W17: Social Phobia | X17: AUD | Y17: CUD | Z17: SUD
A18: CUD | B18: 0.2865596 | C18: 0.12489911 | D18: 0.140569 | E18: 0.19453391 | F18: 0.20711914 | G18: 1 | H18: 0.087817559 | J18: CUD | K18: =B18-B8 -> -0.099502688 | L18: =C18-C8 -> -0.033001351 | M18: =D18-D8 -> -0.031049556 | N18: =E18-E8 -> -0.05502555 | O18: =F18-F8 -> 0.0094700525 | Q18: =H18-H8 -> 0.013087021 | S18: MDE | U18: =C23-C13 -> -0.03081226 | V18: =D23-D13 -> -0.054001874 | W18: =E23-E13 -> 0.024391504 | X18: =F23-F13 -> -0.029069132 | Y18: =G23-G13 -> -0.038675707 | Z18: =H23-H13 -> -0.019015601
A19: SUD | B19: 0.33527941 | C19: 0.19375968 | D19: 0.18766024 | E19: 0.16645043 | F19: 0.44875931 | G19: 0.26863407 | H19: 1 | J19: SUD | K19: =B19-B9 -> -0.015307148 | L19: =C19-C9 -> -0.074152975 | M19: =D19-D9 -> 0.049224189 | N19: =E19-E9 -> -0.10136494 | O19: =F19-F9 -> 0.12915958 | P19: =G19-G9 -> 0.072185197 | S19: GAD | T19: =B24-B14 -> 0.068821414 | V19: =D24-D14 -> 0.020068057 | W19: =E24-E14 -> 0.080775289 | X19: =F24-F14 -> -0.065380109 | Y19: =G24-G14 -> -0.03711698 | Z19: =H24-H14 -> -0.043712919
S20: Bipolar | T20: =B25-B15 -> -0.12967527 | U20: =C25-C15 -> -0.079545183 | W20: =E25-E15 -> 0.02921007 | X20: =F25-F15 -> -0.016018007 | Y20: =G25-G15 -> -0.037912867 | Z20: =H25-H15 -> -0.010457333
A21: Females | J21: Females - Overall (diff) | S21: Social Phobia | T21: =B26-B16 -> -0.026867191 | U21: =C26-C16 -> 0.030443496 | V21: =D26-D16 -> -0.042384187 | X21: =F26-F16 -> -0.036793437 | Y21: =G26-G16 -> -0.040208722 | Z21: =H26-H16 -> -0.0018079562
B22: MDE | C22: Bipolar | D22: GAD | E22: socPhob | F22: AUD | G22: CUD | H22: SUD | K22: MDE | L22: GAD | M22: Bipolar | N22: Social Phobia | O22: AUD | P22: CUD | Q22: SUD | S22: AUD | T22: =B27-B17 -> 0.16311988 | U22: =C27-C17 -> 0.10221417 | V22: =D27-D17 -> -0.01319896 | W22: =E27-E17 -> 0.053139555 | Y22: =G27-G17 -> -0.074910268 | Z22: =H27-H17 -> -0.081822697
A23: MDE | B23: 1 | C23: 0.30415624 | D23: 0.15932194 | E23: 0.34220769 | F23: 0.079494013 | G23: 0.056154746 | H23: 0.017255441 | J23: MDE | L23: =C23-C3 -> -0.011677917 | M23: =D23-D3 -> -0.020466834 | N23: =E23-E3 -> 0.0092444359 | O23: =F23-F3 -> -0.011017268 | P23: =G23-G3 -> -0.014658181 | Q23: =H23-H3 -> -0.0072069563 | S23: CUD | T23: =B28-B18 -> 0.31466776 | U23: =C28-C18 -> 0.10436363 | V23: =D28-D18 -> 0.098191259 | W23: =E28-E18 -> 0.17401306 | X23: =F28-F18 -> -0.029948138 | Z23: =H28-H18 -> -0.041386456
A24: Bipolar | B24: 0.66745915 | C24: 1 | D24: 0.35976594 | E24: 0.43357037 | F24: 0.10053351 | G24: 0.093424093 | H24: 0.013257598 | J24: GAD | K24: =B24-B5 -> 0.21005898 | M24: =D24-D5 -> -0.64023406 | N24: =E24-E5 -> -0.057635445 | O24: =F24-F5 -> 0.043381487 | P24: =G24-G5 -> 0.051479518 | Q24: =H24-H5 -> -0.013815265 | S24: SUD | T24: =B29-B19 -> 0.037118385 | U24: =C29-C19 -> 0.17981395 | V24: =D29-D19 -> -0.119364 | W24: =E29-E19 -> 0.24580038 | X24: =F29-F19 -> -0.31319976 | Y24: =G29-G19 -> -0.17504227
A25: GAD | B25: 0.41350726 | C25: 0.11675012 | D25: 1 | E25: 0.50109293 | F25: 0.051730196 | G25: 0.029111703 | H25: 0.023533231 | J25: Bipolar | K25: =B25-B4 -> -0.22114149 | L25: =C25-C4 -> -0.88324988 | N25: =E25-E4 -> 0.10603194 | O25: =F25-F4 -> -0.079973084 | P25: =G25-G4 -> -0.082007798 | Q25: =H25-H4 -> -0.010564369
A26: Social Phobia | B26: 0.34094783 | C26: 0.36722314 | D26: 0.10311186 | E26: 1 | F26: 0.039407522 | G26: 0.034295625 | H26: 0.019031746 | J26: Social Phobia | K26: =B26-B6 -> -0.0092540712 | L26: =C26-C6 -> 0.010485885 | M26: =D26-D6 -> -0.014598708 | O26: =F26-F6 -> -0.012673044 | P26: =G26-G6 -> -0.013849396 | Q26: =H26-H6 -> -0.00062272811
A27: AUD | B27: 0.4203728 | C27: 0.20121387 | D27: 0.12690009 | E27: 0.20916122 | F27: 1 | G27: 0.087506548 | H27: 0.033216148 | J27: AUD | K27: =B27-B7 -> 0.094059538 | L27: =C27-C7 -> 0.058939584 | M27: =D27-D7 -> -0.0076108938 | N27: =E27-E7 -> 0.030641771 | P27: =G27-G7 -> -0.04319538 | Q27: =H27-H7 -> -0.047181283
A28: CUD | B28: 0.60122736 | C28: 0.22926274 | D28: 0.23876026 | E28: 0.36854696 | F28: 0.177171 | G28: 1 | H28: 0.046431103 | J28: CUD | K28: =B28-B8 -> 0.21516508 | L28: =C28-C8 -> 0.071362276 | M28: =D28-D8 -> 0.067141704 | N28: =E28-E8 -> 0.11898751 | O28: =F28-F8 -> -0.020478086 | Q28: =H28-H8 -> -0.028299435
A29: SUD | B29: 0.3723978 | C29: 0.37357363 | D29: 0.06829624 | E29: 0.41225082 | F29: 0.13555955 | G29: 0.093591796 | H29: 1 | J29: SUD | K29: =B29-B9 -> 0.021811237 | L29: =C29-C9 -> 0.10566097 | M29: =D29-D9 -> -0.070139811 | N29: =E29-E9 -> 0.14443544 | O29: =F29-F9 -> -0.18404018 | P29: =G29-G9 -> -0.10285707
A30: Stratified by Age Group
A31: Older Adults | J31: Old - Overall (diff)
B32: MDE | C32: Bipolar | D32: GAD | E32: socPhob | F32: AUD | G32: CUD | H32: SUD | K32: MDE | L32: GAD | M32: Bipolar | N32: Social Phobia | O32: AUD | P32: CUD | Q32: SUD
A33: MDE | B33: 1 | C33: 0.313528 | D33: 0.1579049 | E33: 0.30041299 | F33: 0.08910721 | G33: 0.040226512 | H33: 0.019993532 | J33: MDE | L33: =C33-C3 -> -0.0023061611 | M33: =D33-D3 -> -0.021883866 | N33: =E33-E3 -> -0.032550268 | O33: =F33-F3 -> -0.0014040706 | P33: =G33-G3 -> -0.030586416 | Q33: =H33-H3 -> -0.0044688646
A34: Bipolar | B34: 0.66403968 | C34: 1 | D34: 0.38894952 | E34: 0.38243352 | F34: 0.10658165 | G34: 0.050140266 | H34: 0.024975288 | J34: GAD | K34: =B34-B5 -> 0.20663951 | M34: =D34-D5 -> -0.61105048 | N34: =E34-E5 -> -0.10877229 | O34: =F34-F5 -> 0.049429624 | P34: =G34-G5 -> 0.0081956908 | Q34: =H34-H5 -> -0.0020975763
A35: GAD | B35: 0.44404281 | C35: 0.13099157 | D35: 1 | E35: 0.4534039 | F35: 0.052245262 | G35: 0.020380456 | H35: 0.022510118 | J35: Bipolar | K35: =B35-B4 -> -0.19060594 | L35: =C35-C4 -> -0.86900843 | N35: =E35-E4 -> 0.058342905 | O35: =F35-F4 -> -0.079458018 | P35: =G35-G4 -> -0.090739044 | Q35: =H35-H4 -> -0.011587482
A36: Social Phobia | B36: 0.352608 | C36: 0.3757597 | D36: 0.10674093 | E36: 1 | F36: 0.03378717 | G36: 0.030246178 | H36: 0.020395141 | J36: Social Phobia | K36: =B36-B6 -> 0.0024061039 | L36: =C36-C6 -> 0.019022448 | M36: =D36-D6 -> -0.010969638 | O36: =F36-F6 -> -0.018293396 | P36: =G36-G6 -> -0.017898844 | Q36: =H36-H6 -> 0.00074066677 | S36: Young vs Old (diff)
A37: AUD | B37: 0.33282346 | C37: 0.13778422 | D37: 0.094664054 | E37: 0.10751757 | F37: 1 | G37: 0.068402162 | H37: 0.084188229 | J37: AUD | K37: =B37-B7 -> 0.0065102 | L37: =C37-C7 -> -0.0044900617 | M37: =D37-D7 -> -0.039846927 | N37: =E37-E7 -> -0.071001873 | P37: =G37-G7 -> -0.062299766 | Q37: =H37-H7 -> 0.003790799 | T37: MDE | U37: GAD | V37: Bipolar | W37: Social Phobia | X37: AUD | Y37: CUD | Z37: SUD
A38: CUD | B38: 0.30606947 | C38: 0.10948964 | D38: 0.090718497 | E38: 0.19606708 | F38: 0.13934018 | G38: 1 | H38: 0.071543429 | J38: CUD | K38: =B38-B8 -> -0.079992819 | L38: =C38-C8 -> -0.048410825 | M38: =D38-D8 -> -0.080900059 | N38: =E38-E8 -> -0.053492377 | O38: =F38-F8 -> -0.058308902 | Q38: =H38-H8 -> -0.0031871086 | S38: MDE | U38: =C43-C33 -> 0.0092548102 | V38: =D43-D33 -> 0.087821718 | W38: =E43-E33 -> 0.13062685 | X38: =F43-F33 -> 0.0056346482 | Y38: =G43-G33 -> 0.12274575 | Z38: =H43-H33 -> 0.017933913
A39: SUD | B39: 0.29223652 | C39: 0.23231337 | D39: 0.086807457 | E39: 0.25397923 | F39: 0.32945435 | G39: 0.13743808 | H39: 1 | J39: SUD | K39: =B39-B9 -> -0.058350042 | L39: =C39-C9 -> -0.035599284 | M39: =D39-D9 -> -0.051628594 | N39: =E39-E9 -> -0.013836138 | O39: =F39-F9 -> 0.0098546141 | P39: =G39-G9 -> -0.059010791 | S39: GAD | T39: =B44-B34 -> -0.079486323 | V39: =D44-D34 -> -0.10480005 | W39: =E44-E34 -> 0.034150357 | X39: =F44-F34 -> 0.067940199 | Y39: =G44-G34 -> 0.16491529 | Z39: =H44-H34 -> 0.024670839
S40: Bipolar | T40: =B45-B35 -> 0.057513633 | U40: =C45-C35 -> 0.054611146 | W40: =E45-E35 -> 0.16276607 | X40: =F45-F35 -> 0.021127352 | Y40: =G45-G35 -> 0.092849974 | Z40: =H45-H35 -> 0.019646101
A41: Young Adults | J41: Young - Overall (diff) | S41: Social Phobia | T41: =B46-B36 -> -0.0073534654 | U41: =C46-C36 -> -0.058135856 | V41: =D46-D36 -> 0.033525093 | X41: =F46-F36 -> 0.05590775 | Y41: =G46-G36 -> 0.05470193 | Z41: =H46-H36 -> -0.0022636044
B42: MDE | C42: Bipolar | D42: GAD | E42: socPhob | F42: AUD | G42: CUD | H42: SUD | K42: MDE | L42: GAD | M42: Bipolar | N42: Social Phobia | O42: AUD | P42: CUD | Q42: SUD | S42: AUD | T42: =B47-B37 -> -0.02364845 | U42: =C47-C37 -> 0.016310252 | V42: =D47-D37 -> 0.14474487 | W42: =E47-E37 -> 0.25791592 | Y42: =G47-G37 -> 0.22630532 | Z42: =H47-H37 -> -0.013770164
A43: MDE | B43: 1 | C43: 0.32278281 | D43: 0.24572662 | E43: 0.43103984 | F43: 0.094741858 | G43: 0.16297226 | H43: 0.037927446 | J43: MDE | L43: =C43-C3 -> 0.0069486491 | M43: =D43-D3 -> 0.065937852 | N43: =E43-E3 -> 0.09807658 | O43: =F43-F3 -> 0.0042305777 | P43: =G43-G3 -> 0.092159334 | Q43: =H43-H3 -> 0.013465049 | S43: CUD | T43: =B48-B38 -> 0.17313896 | U43: =C48-C38 -> 0.1047819 | V43: =D48-D38 -> 0.17510262 | W43: =E48-E38 -> 0.11578057 | X43: =F48-F38 -> 0.12620561 | Z43: =H48-H38 -> 0.0068982777
A44: Bipolar | B44: 0.58455336 | C44: 1 | D44: 0.28414947 | E44: 0.41658388 | F44: 0.17452185 | G44: 0.21505556 | H44: 0.049646126 | J44: GAD | K44: =B44-B5 -> 0.12715319 | M44: =D44-D5 -> -0.71585053 | N44: =E44-E5 -> -0.074621931 | O44: =F44-F5 -> 0.11736982 | P44: =G44-G5 -> 0.17311099 | Q44: =H44-H5 -> 0.022573263 | S44: SUD | T44: =B49-B39 -> 0.2211739 | U44: =C49-C39 -> 0.13493791 | V44: =D49-D39 -> 0.19569648 | W44: =E49-E39 -> 0.052445422 | X44: =F49-F39 -> -0.037353588 | Y44: =G49-G39 -> 0.22367845
A45: GAD | B45: 0.50155644 | C45: 0.18560271 | D45: 1 | E45: 0.61616996 | F45: 0.073372614 | G45: 0.11323043 | H45: 0.042156219 | J45: Bipolar | K45: =B45-B4 -> -0.13309231 | L45: =C45-C4 -> -0.81439729 | N45: =E45-E4 -> 0.22110897 | O45: =F45-F4 -> -0.058330666 | P45: =G45-G4 -> 0.0021109297 | Q45: =H45-H4 -> 0.0080586188
A46: Social Phobia | B46: 0.34525454 | C46: 0.31762384 | D46: 0.14026603 | E46: 1 | F46: 0.08969492 | G46: 0.084948108 | H46: 0.018131536 | J46: Social Phobia | K46: =B46-B6 -> -0.0049473615 | L46: =C46-C6 -> -0.039113409 | M46: =D46-D6 -> 0.022555454 | O46: =F46-F6 -> 0.037614354 | P46: =G46-G6 -> 0.036803086 | Q46: =H46-H6 -> -0.0015229377
A47: AUD | B47: 0.30917501 | C47: 0.15409447 | D47: 0.23940892 | E47: 0.3654335 | F47: 1 | G47: 0.29470748 | H47: 0.070418066 | J47: AUD | K47: =B47-B7 -> -0.01713825 | L47: =C47-C7 -> 0.01182019 | M47: =D47-D7 -> 0.10489794 | N47: =E47-E7 -> 0.18691405 | P47: =G47-G7 -> 0.16400555 | Q47: =H47-H7 -> -0.0099793649
A48: CUD | B48: 0.47920843 | C48: 0.21427154 | D48: 0.26582112 | E48: 0.31184765 | F48: 0.26554579 | G48: 1 | H48: 0.078441707 | J48: CUD | K48: =B48-B8 -> 0.093146141 | L48: =C48-C8 -> 0.056371079 | M48: =D48-D8 -> 0.09420256 | N48: =E48-E8 -> 0.062288197 | O48: =F48-F8 -> 0.06789671 | Q48: =H48-H8 -> 0.003711169
A49: SUD | B49: 0.51341042 | C49: 0.36725128 | D49: 0.28250393 | E49: 0.30642465 | F49: 0.29210076 | G49: 0.36111653 | H49: 1 | J49: SUD | K49: =B49-B9 -> 0.16282386 | L49: =C49-C9 -> 0.099338623 | M49: =D49-D9 -> 0.14406788 | N49: =E49-E9 -> 0.038609285 | O49: =F49-F9 -> -0.027498974 | P49: =G49-G9 -> 0.16466766

Sheet Shoelace Plots
A1: Weighted numbers (rounded to nearest 5)
B2: Overall | C2: 0.025 | D2: 0.975 | E2: Male | F2: 0.025 | G2: 0.975 | H2: Female | I2: 0.025 | J2: 0.975 | K2: Older | L2: 0.025 | M2: 0.975 | N2: Younger | O2: 0.025 | P2: 0.975
A3: Anxiety | B3: 1807960 | C3: 1744810 | D3: 1871110 | E3: 553465 | F3: 518965 | G3: 587965 | H3: 1254495 | I3: 1204950 | J3: 1304040 | K3: 1305270 | L3: 1248765 | M3: 1361780 | N3: 502690 | O3: 477490 | P3: 527885
A4: Mood | B4: 1232855 | C4: 1182990 | D4: 1282720 | E4: 465030 | F4: 433120 | G4: 496945 | H4: 767825 | I4: 729900 | J4: 805750 | K4: 950810 | L4: 904885 | M4: 996735 | N4: 282045 | O4: 263155 | P4: 300930
A5: Substance | B5: 573725 | C5: 538375 | D5: 609070 | E5: 409835 | F5: 381120 | G5: 438550 | H5: 163890 | I5: 143260 | J5: 184515 | K5: 412170 | L5: 380410 | M5: 443930 | N5: 161555 | O5: 146545 | P5: 176565
A6: Anxiety Mood | B6: 1036035 | C6: 986620 | D6: 1085455 | E6: 391230 | F6: 360630 | G6: 421830 | H6: 644805 | I6: 608600 | J6: 681015 | K6: 757005 | L6: 713315 | M6: 800690 | N6: 279035 | O6: 258910 | P6: 299160
A7: Anxiety Substance | B7: 141600 | C7: 123955 | D7: 159250 | E7: 70975 | F7: 58820 | G7: 83130 | H7: 70625 | I7: 57645 | J7: 83605 | K7: 94070 | L7: 78805 | M7: 109340 | N7: 47530 | O7: 38870 | P7: 56190
A8: MoodSubstance | B8: 247500 | C8: 221825 | D8: 273175 | E8: 135400 | F8: 116510 | G8: 154285 | H8: 112105 | I8: 95375 | J8: 128830 | K8: 171910 | L8: 149705 | M8: 194110 | N8: 75595 | O8: 64445 | P8: 86740
A9: Anxiety Mood Substance | B9: 159510 | C9: 141795 | D9: 177225 | E9: 61005 | F9: 50185 | G9: 71825 | H9: 98505 | I9: 84075 | J9: 112935 | K9: 83240 | L9: 68575 | M9: 97910 | N9: 76265 | O9: 65950 | P9: 86585
A10: Total Weight | B10: 5199190 | E10: 2086940 | H10: 3112245 | K10: 3774475 | N10: 1424710
A12: Proportion
B13: Overall | C13: 0.025 | D13: 0.975 | E13: Male | F13: 0.025 | G13: 0.975 | H13: Female | I13: 0.025 | J13: 0.975 | K13: Older | L13: 0.025 | M13: 0.975 | N13: Younger | O13: 0.025 | P13: 0.975
A14: Anxiety | B14: =B3/$B$21 -> 0.34773878 | C14: =C3/$B$21 -> 0.33559266 | D14: =D3/$B$21 -> 0.35988491 | E14: =E3/$E$21 -> 0.26520408 | F14: =F3/$E$21 -> 0.2486727 | G14: =G3/$E$21 -> 0.28173546 | H14: =H3/$H$21 -> 0.40308363 | I14: =I3/$H$21 -> 0.38716425 | J14: =J3/$H$21 -> 0.419003 | K14: =K3/$H$21 -> 0.41939822 | L14: =L3/$H$21 -> 0.40124251 | M14: =M3/$H$21 -> 0.43755553 | N14: =N3/$N$21 -> 0.35283672 | O14: =O3/$N$21 -> 0.33514891 | P14: =P3/$N$21 -> 0.37052102
A15: Mood | B15: =B4/$B$21 -> 0.23712444 | C15: =C4/$B$21 -> 0.22753352 | D15: =D4/$B$21 -> 0.24671535 | E15: =E4/$E$21 -> 0.22282864 | F15: =F4/$E$21 -> 0.20753831 | G15: =G4/$E$21 -> 0.23812136 | H15: =H4/$H$21 -> 0.24671098 | I15: =I4/$H$21 -> 0.23452524 | J15: =J4/$H$21 -> 0.25889671 | K15: =K4/$H$21 -> 0.30550615 | L15: =L4/$H$21 -> 0.29074992 | M15: =M4/$H$21 -> 0.32026238 | N15: =N4/$N$21 -> 0.1979666 | O15: =O4/$N$21 -> 0.18470777 | P15: =P4/$N$21 -> 0.21122193
A16: Substance | B16: =B5/$B$21 -> 0.11034892 | C16: =C5/$B$21 -> 0.10354978 | D16: =D5/$B$21 -> 0.11714709 | E16: =E5/$E$21 -> 0.19638083 | F16: =F5/$E$21 -> 0.18262145 | G16: =G5/$E$21 -> 0.21014021 | H16: =H5/$H$21 -> 0.052659736 | I16: =I5/$H$21 -> 0.04603108 | J16: =J5/$H$21 -> 0.059286785 | K16: =K5/$H$21 -> 0.13243495 | L16: =L5/$H$21 -> 0.12223009 | M16: =M5/$H$21 -> 0.1426398 | N16: =N5/$N$21 -> 0.11339501 | O16: =O5/$N$21 -> 0.10285953 | P16: =P5/$N$21 -> 0.12393048
A17: Anxiety Mood | B17: =B6/$B$21 -> 0.19926854 | C17: =C6/$B$21 -> 0.18976417 | D17: =D6/$B$21 -> 0.20877387 | E17: =E6/$E$21 -> 0.18746586 | F17: =F6/$E$21 -> 0.17280324 | G17: =G6/$E$21 -> 0.20212848 | H17: =H6/$H$21 -> 0.20718324 | I17: =I6/$H$21 -> 0.19555016 | J17: =J6/$H$21 -> 0.21881793 | K17: =K6/$H$21 -> 0.24323439 | L17: =L6/$H$21 -> 0.22919629 | M17: =M6/$H$21 -> 0.25727088 | N17: =N6/$N$21 -> 0.19585389 | O17: =O6/$N$21 -> 0.18172821 | P17: =P6/$N$21 -> 0.20997957
A18: Anxiety Substance | B18: =B7/$B$21 -> 0.027235012 | C18: =C7/$B$21 -> 0.023841214 | D18: =D7/$B$21 -> 0.030629771 | E18: =E7/$E$21 -> 0.034009123 | F18: =F7/$E$21 -> 0.028184806 | G18: =G7/$E$21 -> 0.03983344 | H18: =H7/$H$21 -> 0.022692622 | I18: =I7/$H$21 -> 0.018521999 | J18: =J7/$H$21 -> 0.026863245 | K18: =K7/$H$21 -> 0.03022577 | L18: =L7/$H$21 -> 0.02532095 | M18: =M7/$H$21 -> 0.035132196 | N18: =N7/$N$21 -> 0.033361175 | O18: =O7/$N$21 -> 0.027282745 | P18: =P7/$N$21 -> 0.039439605
A19: MoodSubstance | B19: =B8/$B$21 -> 0.047603569 | C19: =C8/$B$21 -> 0.0426653 | D19: =D8/$B$21 -> 0.052541838 | E19: =E8/$E$21 -> 0.06487968 | F19: =F8/$E$21 -> 0.05582815 | G19: =G8/$E$21 -> 0.073928814 | H19: =H8/$H$21 -> 0.036020622 | I19: =I8/$H$21 -> 0.030645081 | J19: =J8/$H$21 -> 0.041394556 | K19: =K8/$H$21 -> 0.055236654 | L19: =L8/$H$21 -> 0.048101933 | M19: =M8/$H$21 -> 0.062369768 | N19: =N8/$N$21 -> 0.053059921 | O19: =O8/$N$21 -> 0.045233767 | P19: =P8/$N$21 -> 0.060882566
A20: Anxiety Mood Substance | B20: =B9/$B$21 -> 0.030679779 | C20: =C9/$B$21 -> 0.027272517 | D20: =D9/$B$21 -> 0.03408704 | E20: =E9/$E$21 -> 0.029231794 | F20: =F9/$E$21 -> 0.02404717 | G20: =G9/$E$21 -> 0.034416418 | H20: =H9/$H$21 -> 0.031650786 | I20: =I9/$H$21 -> 0.027014261 | J20: =J9/$H$21 -> 0.03628731 | K20: =K9/$H$21 -> 0.026745966 | L20: =L9/$H$21 -> 0.022033934 | M20: =M9/$H$21 -> 0.031459606 | N20: =N9/$N$21 -> 0.053530192 | O20: =O9/$N$21 -> 0.046290122 | P20: =P9/$N$21 -> 0.060773772
A21: Total Weight | B21: 5199190 | E21: 2086940 | H21: 3112245 | K21: 3774475 | N21: 1424710
A22: any SUD + mood/anxiety | B22: =B18+B19+B20 -> 0.10551836 | C22: =C18+C19+C20 -> 0.093779031 | D22: =D18+D19+D20 -> 0.11725865
B23: =B16+B22 -> 0.21586728
B24: =B7+B8+B9 -> 548610
A26: any mood | B26: =B15+B17+B19+B20 -> 0.51467632 | C26: =C15+C17+C19+C20 -> 0.48723551 | D26: =D15+D17+D19+D20 -> 0.5421181
A27: any anxiety | B27: =B14+B17+B18+B20 -> 0.60492211 | C27: =C14+C17+C18+C20 -> 0.57647057 | D27: =D14+D17+D18+D20 -> 0.63337558
A28: any substance | B28: =B16+B18+B19+B20 -> 0.21586728 | C28: =C16+C18+C19+C20 -> 0.19732881 | D28: =D16+D18+D19+D20 -> 0.23440574

Sheet regressions
A1: MHACS Only
B2: Coefficient | C2: SE | D2: P>|T| | E2: CI (lower) | F2: CI(upper) | G2: Coefficient | H2: SE | I2: P>|T| | J2: CI (lower) | K2: CI(upper) | L2: Coefficient | M2: SE | N2: P>|T| | O2: CI (lower) | P2: CI(upper)
A3: Mood/Anxiety Only | G3: Substance Only | L3: Both | R3: Mood/anxiety only | S3: SUD only | T3: Both
A4: 1.youngAdult | B4: =ROUND(EXP('regressions (unexponentiated)'!B4), 3) -> 2.13 | C4: 0.134 | D4: 0 | E4: =ROUND(EXP('regressions (unexponentiated)'!E4), 3) -> 1.637 | F4: =ROUND(EXP('regressions (unexponentiated)'!F4), 3) -> 2.77 | G4: =ROUND(EXP('regressions (unexponentiated)'!G4), 3) -> 2.014 | H4: 0.282 | I4: 0.013 | J4: =ROUND(EXP('regressions (unexponentiated)'!J4), 3) -> 1.16 | K4: =ROUND(EXP('regressions (unexponentiated)'!K4), 3) -> 3.497 | L4: =ROUND(EXP('regressions (unexponentiated)'!L4), 3) -> 2.875 | M4: 0.295 | N4: 0 | O4: =ROUND(EXP('regressions (unexponentiated)'!O4), 3) -> 1.613 | P4: =ROUND(EXP('regressions (unexponentiated)'!P4), 3) -> 5.124 | R4: =CONCATENATE(B4," (",E4," - ",F4,"); ",D4) -> 2.13 (1.637 - 2.77); 0 | S4: =CONCATENATE(G4," (",J4," - ",K4,"); ",I4) -> 2.014 (1.16 - 3.497); 0.013 | T4: =CONCATENATE(L4," (",O4," - ",P4,"); ",N4) -> 2.875 (1.613 - 5.124); 0
A5: 1.female | B5: =ROUND(EXP('regressions (unexponentiated)'!B5), 3) -> 1.465 | C5: 0.098 | D5: 0 | E5: =ROUND(EXP('regressions (unexponentiated)'!E5), 3) -> 1.209 | F5: =ROUND(EXP('regressions (unexponentiated)'!F5), 3) -> 1.775 | G5: =ROUND(EXP('regressions (unexponentiated)'!G5), 3) -> 0.369 | H5: 0.23 | I5: 0 | J5: =ROUND(EXP('regressions (unexponentiated)'!J5), 3) -> 0.236 | K5: =ROUND(EXP('regressions (unexponentiated)'!K5), 3) -> 0.579 | L5: =ROUND(EXP('regressions (unexponentiated)'!L5), 3) -> 0.839 | M5: 0.226 | N5: 0.439 | O5: =ROUND(EXP('regressions (unexponentiated)'!O5), 3) -> 0.539 | P5: =ROUND(EXP('regressions (unexponentiated)'!P5), 3) -> 1.307 | R5: =CONCATENATE(B5," (",E5," - ",F5,"); ",D5) -> 1.465 (1.209 - 1.775); 0 | S5: =CONCATENATE(G5," (",J5," - ",K5,"); ",I5) -> 0.369 (0.236 - 0.579); 0 | T5: =CONCATENATE(L5," (",O5," - ",P5,"); ",N5) -> 0.839 (0.539 - 1.307); 0.439
A6: 1.rural | B6: =ROUND(EXP('regressions (unexponentiated)'!B6), 3) -> 0.879 | C6: 0.138 | D6: 0.349 | E6: =ROUND(EXP('regressions (unexponentiated)'!E6), 3) -> 0.67 | F6: =ROUND(EXP('regressions (unexponentiated)'!F6), 3) -> 1.151 | G6: =ROUND(EXP('regressions (unexponentiated)'!G6), 3) -> 1.307 | H6: 0.246 | I6: 0.275 | J6: =ROUND(EXP('regressions (unexponentiated)'!J6), 3) -> 0.807 | K6: =ROUND(EXP('regressions (unexponentiated)'!K6), 3) -> 2.117 | L6: =ROUND(EXP('regressions (unexponentiated)'!L6), 3) -> 1.2 | M6: 0.311 | N6: 0.558 | O6: =ROUND(EXP('regressions (unexponentiated)'!O6), 3) -> 0.652 | P6: =ROUND(EXP('regressions (unexponentiated)'!P6), 3) -> 2.208 | R6: =CONCATENATE(B6," (",E6," - ",F6,"); ",D6) -> 0.879 (0.67 - 1.151); 0.349 | S6: =CONCATENATE(G6," (",J6," - ",K6,"); ",I6) -> 1.307 (0.807 - 2.117); 0.275 | T6: =CONCATENATE(L6," (",O6," - ",P6,"); ",N6) -> 1.2 (0.652 - 2.208); 0.558
A7: 1.minority | B7: =ROUND(EXP('regressions (unexponentiated)'!B7), 3) -> 0.987 | C7: 0.125 | D7: 0.919 | E7: =ROUND(EXP('regressions (unexponentiated)'!E7), 3) -> 0.772 | F7: =ROUND(EXP('regressions (unexponentiated)'!F7), 3) -> 1.262 | G7: =ROUND(EXP('regressions (unexponentiated)'!G7), 3) -> 0.398 | H7: 0.287 | I7: 0.001 | J7: =ROUND(EXP('regressions (unexponentiated)'!J7), 3) -> 0.227 | K7: =ROUND(EXP('regressions (unexponentiated)'!K7), 3) -> 0.698 | L7: =ROUND(EXP('regressions (unexponentiated)'!L7), 3) -> 0.718 | M7: 0.285 | N7: 0.244 | O7: =ROUND(EXP('regressions (unexponentiated)'!O7), 3) -> 0.411 | P7: =ROUND(EXP('regressions (unexponentiated)'!P7), 3) -> 1.255 | R7: =CONCATENATE(B7," (",E7," - ",F7,"); ",D7) -> 0.987 (0.772 - 1.262); 0.919 | S7: =CONCATENATE(G7," (",J7," - ",K7,"); ",I7) -> 0.398 (0.227 - 0.698); 0.001 | T7: =CONCATENATE(L7," (",O7," - ",P7,"); ",N7) -> 0.718 (0.411 - 1.255); 0.244
A8: 1.immigrant | B8: =ROUND(EXP('regressions (unexponentiated)'!B8), 3) -> 0.807 | C8: 0.136 | D8: 0.114 | E8: =ROUND(EXP('regressions (unexponentiated)'!E8), 3) -> 0.619 | F8: =ROUND(EXP('regressions (unexponentiated)'!F8), 3) -> 1.053 | G8: =ROUND(EXP('regressions (unexponentiated)'!G8), 3) -> 0.758 | H8: 0.294 | I8: 0.346 | J8: =ROUND(EXP('regressions (unexponentiated)'!J8), 3) -> 0.426 | K8: =ROUND(EXP('regressions (unexponentiated)'!K8), 3) -> 1.35 | L8: =ROUND(EXP('regressions (unexponentiated)'!L8), 3) -> 0.519 | M8: 0.316 | N8: 0.038 | O8: =ROUND(EXP('regressions (unexponentiated)'!O8), 3) -> 0.279 | P8: =ROUND(EXP('regressions (unexponentiated)'!P8), 3) -> 0.965 | R8: =CONCATENATE(B8," (",E8," - ",F8,"); ",D8) -> 0.807 (0.619 - 1.053); 0.114 | S8: =CONCATENATE(G8," (",J8," - ",K8,"); ",I8) -> 0.758 (0.426 - 1.35); 0.346 | T8: =CONCATENATE(L8," (",O8," - ",P8,"); ",N8) -> 0.519 (0.279 - 0.965); 0.038
A10: workStat
A11: 2 | B11: =ROUND(EXP('regressions (unexponentiated)'!B11), 3) -> 1.163 | C11: 0.227 | D11: 0.506 | E11: =ROUND(EXP('regressions (unexponentiated)'!E11), 3) -> 0.745 | F11: =ROUND(EXP('regressions (unexponentiated)'!F11), 3) -> 1.817 | G11: =ROUND(EXP('regressions (unexponentiated)'!G11), 3) -> 0.799 | H11: 0.508 | I11: 0.659 | J11: =ROUND(EXP('regressions (unexponentiated)'!J11), 3) -> 0.295 | K11: =ROUND(EXP('regressions (unexponentiated)'!K11), 3) -> 2.164 | L11: =ROUND(EXP('regressions (unexponentiated)'!L11), 3) -> 1.175 | M11: 0.483 | N11: 0.738 | O11: =ROUND(EXP('regressions (unexponentiated)'!O11), 3) -> 0.456 | P11: =ROUND(EXP('regressions (unexponentiated)'!P11), 3) -> 3.025 | R11: =CONCATENATE(B11," (",E11," - ",F11,"); ",D11) -> 1.163 (0.745 - 1.817); 0.506 | S11: =CONCATENATE(G11," (",J11," - ",K11,"); ",I11) -> 0.799 (0.295 - 2.164); 0.659 | T11: =CONCATENATE(L11," (",O11," - ",P11,"); ",N11) -> 1.175 (0.456 - 3.025); 0.738
A12: 3 | B12: =ROUND(EXP('regressions (unexponentiated)'!B12), 3) -> 0.829 | C12: 0.106 | D12: 0.076 | E12: =ROUND(EXP('regressions (unexponentiated)'!E12), 3) -> 0.674 | F12: =ROUND(EXP('regressions (unexponentiated)'!F12), 3) -> 1.019 | G12: =ROUND(EXP('regressions (unexponentiated)'!G12), 3) -> 0.443 | H12: 0.254 | I12: 0.001 | J12: =ROUND(EXP('regressions (unexponentiated)'!J12), 3) -> 0.269 | K12: =ROUND(EXP('regressions (unexponentiated)'!K12), 3) -> 0.729 | L12: =ROUND(EXP('regressions (unexponentiated)'!L12), 3) -> 0.454 | M12: 0.261 | N12: 0.003 | O12: =ROUND(EXP('regressions (unexponentiated)'!O12), 3) -> 0.272 | P12: =ROUND(EXP('regressions (unexponentiated)'!P12), 3) -> 0.758 | R12: =CONCATENATE(B12," (",E12," - ",F12,"); ",D12) -> 0.829 (0.674 - 1.019); 0.076 | S12: =CONCATENATE(G12," (",J12," - ",K12,"); ",I12) -> 0.443 (0.269 - 0.729); 0.001 | T12: =CONCATENATE(L12," (",O12," - ",P12,"); ",N12) -> 0.454 (0.272 - 0.758); 0.003
A14: 1.notSingle | B14: =ROUND(EXP('regressions (unexponentiated)'!B14), 3) -> 0.873 | C14: 0.113 | D14: 0.23 | E14: =ROUND(EXP('regressions (unexponentiated)'!E14), 3) -> 0.7 | F14: =ROUND(EXP('regressions (unexponentiated)'!F14), 3) -> 1.09 | G14: =ROUND(EXP('regressions (unexponentiated)'!G14), 3) -> 0.537 | H14: 0.261 | I14: 0.017 | J14: =ROUND(EXP('regressions (unexponentiated)'!J14), 3) -> 0.322 | K14: =ROUND(EXP('regressions (unexponentiated)'!K14), 3) -> 0.897 | L14: =ROUND(EXP('regressions (unexponentiated)'!L14), 3) -> 0.469 | M14: 0.275 | N14: 0.006 | O14: =ROUND(EXP('regressions (unexponentiated)'!O14), 3) -> 0.274 | P14: =ROUND(EXP('regressions (unexponentiated)'!P14), 3) -> 0.803 | R14: =CONCATENATE(B14," (",E14," - ",F14,"); ",D14) -> 0.873 (0.7 - 1.09); 0.23 | S14: =CONCATENATE(G14," (",J14," - ",K14,"); ",I14) -> 0.537 (0.322 - 0.897); 0.017 | T14: =CONCATENATE(L14," (",O14," - ",P14,"); ",N14) -> 0.469 (0.274 - 0.803); 0.006
A15: income | B15: =ROUND(EXP('regressions (unexponentiated)'!B15), 3) -> 1.017 | C15: 0.017 | D15: 0.31 | E15: =ROUND(EXP('regressions (unexponentiated)'!E15), 3) -> 0.984 | F15: =ROUND(EXP('regressions (unexponentiated)'!F15), 3) -> 1.05 | G15: =ROUND(EXP('regressions (unexponentiated)'!G15), 3) -> 0.963 | H15: 0.034 | I15: 0.262 | J15: =ROUND(EXP('regressions (unexponentiated)'!J15), 3) -> 0.899 | K15: =ROUND(EXP('regressions (unexponentiated)'!K15), 3) -> 1.029 | L15: =ROUND(EXP('regressions (unexponentiated)'!L15), 3) -> 0.946 | M15: 0.035 | N15: 0.116 | O15: =ROUND(EXP('regressions (unexponentiated)'!O15), 3) -> 0.884 | P15: =ROUND(EXP('regressions (unexponentiated)'!P15), 3) -> 1.014 | R15: =CONCATENATE(B15," (",E15," - ",F15,"); ",D15) -> 1.017 (0.984 - 1.05); 0.31 | S15: =CONCATENATE(G15," (",J15," - ",K15,"); ",I15) -> 0.963 (0.899 - 1.029); 0.262 | T15: =CONCATENATE(L15," (",O15," - ",P15,"); ",N15) -> 0.946 (0.884 - 1.014); 0.116
A17: education
A18: 2 | B18: =ROUND(EXP('regressions (unexponentiated)'!B18), 3) -> 0.98 | C18: 0.17 | D18: 0.906 | E18: =ROUND(EXP('regressions (unexponentiated)'!E18), 3) -> 0.703 | F18: =ROUND(EXP('regressions (unexponentiated)'!F18), 3) -> 1.368 | G18: =ROUND(EXP('regressions (unexponentiated)'!G18), 3) -> 1.323 | H18: 0.432 | I18: 0.517 | J18: =ROUND(EXP('regressions (unexponentiated)'!J18), 3) -> 0.567 | K18: =ROUND(EXP('regressions (unexponentiated)'!K18), 3) -> 3.086 | L18: =ROUND(EXP('regressions (unexponentiated)'!L18), 3) -> 0.973 | M18: 0.349 | N18: 0.939 | O18: =ROUND(EXP('regressions (unexponentiated)'!O18), 3) -> 0.492 | P18: =ROUND(EXP('regressions (unexponentiated)'!P18), 3) -> 1.929 | R18: =CONCATENATE(B18," (",E18," - ",F18,"); ",D18) -> 0.98 (0.703 - 1.368); 0.906 | S18: =CONCATENATE(G18," (",J18," - ",K18,"); ",I18) -> 1.323 (0.567 - 3.086); 0.517 | T18: =CONCATENATE(L18," (",O18," - ",P18,"); ",N18) -> 0.973 (0.492 - 1.929); 0.939
A19: 3 | B19: =ROUND(EXP('regressions (unexponentiated)'!B19), 3) -> 0.857 | C19: 0.249 | D19: 0.536 | E19: =ROUND(EXP('regressions (unexponentiated)'!E19), 3) -> 0.526 | F19: =ROUND(EXP('regressions (unexponentiated)'!F19), 3) -> 1.397 | G19: =ROUND(EXP('regressions (unexponentiated)'!G19), 3) -> 0.735 | H19: 0.588 | I19: 0.601 | J19: =ROUND(EXP('regressions (unexponentiated)'!J19), 3) -> 0.232 | K19: =ROUND(EXP('regressions (unexponentiated)'!K19), 3) -> 2.328 | L19: =ROUND(EXP('regressions (unexponentiated)'!L19), 3) -> 0.879 | M19: 0.527 | N19: 0.806 | O19: =ROUND(EXP('regressions (unexponentiated)'!O19), 3) -> 0.313 | P19: =ROUND(EXP('regressions (unexponentiated)'!P19), 3) -> 2.469 | R19: =CONCATENATE(B19," (",E19," - ",F19,"); ",D19) -> 0.857 (0.526 - 1.397); 0.536 | S19: =CONCATENATE(G19," (",J19," - ",K19,"); ",I19) -> 0.735 (0.232 - 2.328); 0.601 | T19: =CONCATENATE(L19," (",O19," - ",P19,"); ",N19) -> 0.879 (0.313 - 2.469); 0.806
A20: 4 | B20: =ROUND(EXP('regressions (unexponentiated)'!B20), 3) -> 0.845 | C20: 0.17 | D20: 0.322 | E20: =ROUND(EXP('regressions (unexponentiated)'!E20), 3) -> 0.605 | F20: =ROUND(EXP('regressions (unexponentiated)'!F20), 3) -> 1.179 | G20: =ROUND(EXP('regressions (unexponentiated)'!G20), 3) -> 0.953 | H20: 0.474 | I20: 0.92 | J20: =ROUND(EXP('regressions (unexponentiated)'!J20), 3) -> 0.377 | K20: =ROUND(EXP('regressions (unexponentiated)'!K20), 3) -> 2.413 | L20: =ROUND(EXP('regressions (unexponentiated)'!L20), 3) -> 0.704 | M20: 0.38 | N20: 0.356 | O20: =ROUND(EXP('regressions (unexponentiated)'!O20), 3) -> 0.335 | P20: =ROUND(EXP('regressions (unexponentiated)'!P20), 3) -> 1.483 | R20: =CONCATENATE(B20," (",E20," - ",F20,"); ",D20) -> 0.845 (0.605 - 1.179); 0.322 | S20: =CONCATENATE(G20," (",J20," - ",K20,"); ",I20) -> 0.953 (0.377 - 2.413); 0.92 | T20: =CONCATENATE(L20," (",O20," - ",P20,"); ",N20) -> 0.704 (0.335 - 1.483); 0.356
A22: 1.psychdis | B22: =ROUND(EXP('regressions (unexponentiated)'!B22), 3) -> 11.693 | C22: 0.183 | D22: 0 | E22: =ROUND(EXP('regressions (unexponentiated)'!E22), 3) -> 8.158 | F22: =ROUND(EXP('regressions (unexponentiated)'!F22), 3) -> 16.743 | G22: =ROUND(EXP('regressions (unexponentiated)'!G22), 3) -> 2.184 | H22: 0.479 | I22: 0.103 | J22: =ROUND(EXP('regressions (unexponentiated)'!J22), 3) -> 0.855 | K22: =ROUND(EXP('regressions (unexponentiated)'!K22), 3) -> 5.585 | L22: =ROUND(EXP('regressions (unexponentiated)'!L22), 3) -> 13.29 | M22: 0.295 | N22: 0 | O22: =ROUND(EXP('regressions (unexponentiated)'!O22), 3) -> 7.456 | P22: =ROUND(EXP('regressions (unexponentiated)'!P22), 3) -> 23.689 | R22: =CONCATENATE(B22," (",E22," - ",F22,"); ",D22) -> 11.693 (8.158 - 16.743); 0 | S22: =CONCATENATE(G22," (",J22," - ",K22,"); ",I22) -> 2.184 (0.855 - 5.585); 0.103 | T22: =CONCATENATE(L22," (",O22," - ",P22,"); ",N22) -> 13.29 (7.456 - 23.689); 0
A23: 1.suicide | B23: =ROUND(EXP('regressions (unexponentiated)'!B23), 3) -> 2.328 | C23: 0.214 | D23: 0 | E23: =ROUND(EXP('regressions (unexponentiated)'!E23), 3) -> 1.53 | F23: =ROUND(EXP('regressions (unexponentiated)'!F23), 3) -> 3.547 | G23: =ROUND(EXP('regressions (unexponentiated)'!G23), 3) -> 1.516 | H23: 0.461 | I23: 0.367 | J23: =ROUND(EXP('regressions (unexponentiated)'!J23), 3) -> 0.614 | K23: =ROUND(EXP('regressions (unexponentiated)'!K23), 3) -> 3.74 | L23: =ROUND(EXP('regressions (unexponentiated)'!L23), 3) -> 3.077 | M23: 0.315 | N23: 0 | O23: =ROUND(EXP('regressions (unexponentiated)'!O23), 3) -> 1.66 | P23: =ROUND(EXP('regressions (unexponentiated)'!P23), 3) -> 5.703 | R23: =CONCATENATE(B23," (",E23," - ",F23,"); ",D23) -> 2.328 (1.53 - 3.547); 0 | S23: =CONCATENATE(G23," (",J23," - ",K23,"); ",I23) -> 1.516 (0.614 - 3.74); 0.367 | T23: =CONCATENATE(L23," (",O23," - ",P23,"); ",N23) -> 3.077 (1.66 - 5.703); 0
A25: prcvdneed
A26: 2 | B26: =ROUND(EXP('regressions (unexponentiated)'!B26), 3) -> 4.272 | C26: 0.137 | D26: 0 | E26: =ROUND(EXP('regressions (unexponentiated)'!E26), 3) -> 3.264 | F26: =ROUND(EXP('regressions (unexponentiated)'!F26), 3) -> 5.596 | G26: =ROUND(EXP('regressions (unexponentiated)'!G26), 3) -> 1.956 | H26: 0.31 | I26: 0.031 | J26: =ROUND(EXP('regressions (unexponentiated)'!J26), 3) -> 1.064 | K26: =ROUND(EXP('regressions (unexponentiated)'!K26), 3) -> 3.593 | L26: =ROUND(EXP('regressions (unexponentiated)'!L26), 3) -> 6.001 | M26: 0.315 | N26: 0 | O26: =ROUND(EXP('regressions (unexponentiated)'!O26), 3) -> 3.235 | P26: =ROUND(EXP('regressions (unexponentiated)'!P26), 3) -> 11.123 | R26: =CONCATENATE(B26," (",E26," - ",F26,"); ",D26) -> 4.272 (3.264 - 5.596); 0 | S26: =CONCATENATE(G26," (",J26," - ",K26,"); ",I26) -> 1.956 (1.064 - 3.593); 0.031 | T26: =CONCATENATE(L26," (",O26," - ",P26,"); ",N26) -> 6.001 (3.235 - 11.123); 0
A27: 3 | B27: =ROUND(EXP('regressions (unexponentiated)'!B27), 3) -> 9.679 | C27: 0.155 | D27: 0 | E27: =ROUND(EXP('regressions (unexponentiated)'!E27), 3) -> 7.142 | F27: =ROUND(EXP('regressions (unexponentiated)'!F27), 3) -> 13.118 | G27: =ROUND(EXP('regressions (unexponentiated)'!G27), 3) -> 4.133 | H27: 0.36 | I27: 0 | J27: =ROUND(EXP('regressions (unexponentiated)'!J27), 3) -> 2.042 | K27: =ROUND(EXP('regressions (unexponentiated)'!K27), 3) -> 8.365 | L27: =ROUND(EXP('regressions (unexponentiated)'!L27), 3) -> 13.066 | M27: 0.367 | N27: 0 | O27: =ROUND(EXP('regressions (unexponentiated)'!O27), 3) -> 6.366 | P27: =ROUND(EXP('regressions (unexponentiated)'!P27), 3) -> 26.816 | R27: =CONCATENATE(B27," (",E27," - ",F27,"); ",D27) -> 9.679 (7.142 - 13.118); 0 | S27: =CONCATENATE(G27," (",J27," - ",K27,"); ",I27) -> 4.133 (2.042 - 8.365); 0 | T27: =CONCATENATE(L27," (",O27," - ",P27,"); ",N27) -> 13.066 (6.366 - 26.816); 0
A28: 4 | B28: =ROUND(EXP('regressions (unexponentiated)'!B28), 3) -> 7.301 | C28: 0.17 | D28: 0 | E28: =ROUND(EXP('regressions (unexponentiated)'!E28), 3) -> 5.228 | F28: =ROUND(EXP('regressions (unexponentiated)'!F28), 3) -> 10.196 | G28: =ROUND(EXP('regressions (unexponentiated)'!G28), 3) -> 3.518 | H28: 0.467 | I28: 0.007 | J28: =ROUND(EXP('regressions (unexponentiated)'!J28), 3) -> 1.408 | K28: =ROUND(EXP('regressions (unexponentiated)'!K28), 3) -> 8.793 | L28: =ROUND(EXP('regressions (unexponentiated)'!L28), 3) -> 10.87 | M28: 0.411 | N28: 0 | O28: =ROUND(EXP('regressions (unexponentiated)'!O28), 3) -> 4.86 | P28: =ROUND(EXP('regressions (unexponentiated)'!P28), 3) -> 24.313 | R28: =CONCATENATE(B28," (",E28," - ",F28,"); ",D28) -> 7.301 (5.228 - 10.196); 0 | S28: =CONCATENATE(G28," (",J28," - ",K28,"); ",I28) -> 3.518 (1.408 - 8.793); 0.007 | T28: =CONCATENATE(L28," (",O28," - ",P28,"); ",N28) -> 10.87 (4.86 - 24.313); 0
A30: 1.mntltrt | B30: =ROUND(EXP('regressions (unexponentiated)'!B30), 3) -> 2.368 | C30: 0.138 | D30: 0 | E30: =ROUND(EXP('regressions (unexponentiated)'!E30), 3) -> 1.804 | F30: =ROUND(EXP('regressions (unexponentiated)'!F30), 3) -> 3.105 | G30: =ROUND(EXP('regressions (unexponentiated)'!G30), 3) -> 1.64 | H30: 0.344 | I30: 0.151 | J30: =ROUND(EXP('regressions (unexponentiated)'!J30), 3) -> 0.835 | K30: =ROUND(EXP('regressions (unexponentiated)'!K30), 3) -> 3.219 | L30: =ROUND(EXP('regressions (unexponentiated)'!L30), 3) -> 1.774 | M30: 0.275 | N30: 0.037 | O30: =ROUND(EXP('regressions (unexponentiated)'!O30), 3) -> 1.035 | P30: =ROUND(EXP('regressions (unexponentiated)'!P30), 3) -> 3.043 | R30: =CONCATENATE(B30," (",E30," - ",F30,"); ",D30) -> 2.368 (1.804 - 3.105); 0 | S30: =CONCATENATE(G30," (",J30," - ",K30,"); ",I30) -> 1.64 (0.835 - 3.219); 0.151 | T30: =CONCATENATE(L30," (",O30," - ",P30,"); ",N30) -> 1.774 (1.035 - 3.043); 0.037
A31: _cons | B31: =ROUND(EXP('regressions (unexponentiated)'!B31), 3) -> 0.036 | C31: 0.287 | D31: 0 | E31: =ROUND(EXP('regressions (unexponentiated)'!E31), 3) -> 0.02 | F31: =ROUND(EXP('regressions (unexponentiated)'!F31), 3) -> 0.062 | G31: =ROUND(EXP('regressions (unexponentiated)'!G31), 3) -> 0.062 | H31: 0.664 | I31: 0 | J31: =ROUND(EXP('regressions (unexponentiated)'!J31), 3) -> 0.017 | K31: =ROUND(EXP('regressions (unexponentiated)'!K31), 3) -> 0.229 | L31: =ROUND(EXP('regressions (unexponentiated)'!L31), 3) -> 0.019 | M31: 0.634 | N31: 0 | O31: =ROUND(EXP('regressions (unexponentiated)'!O31), 3) -> 0.006 | P31: =ROUND(EXP('regressions (unexponentiated)'!P31), 3) -> 0.067 | R31: =CONCATENATE(B31," (",E31," - ",F31,"); ",D31) -> 0.036 (0.02 - 0.062); 0 | S31: =CONCATENATE(G31," (",J31," - ",K31,"); ",I31) -> 0.062 (0.017 - 0.229); 0 | T31: =CONCATENATE(L31," (",O31," - ",P31,"); ",N31) -> 0.019 (0.006 - 0.067); 0
A33: MHACS + CCHS
B34: Coefficient | C34: std. err. | D34: P>t | E34: [95% conf. | F34: interval] | G34: Coefficient | H34: std. err. | I34: P>t | J34: [95% conf. | K34: interval] | L34: Coefficient | M34: std. err. | N34: P>t | O34: [95% conf. | P34: interval]
A35: Mood/Anxiety Only | G35: Substance Only | L35: Both
A36: 1.survey | B36: =ROUND(EXP('regressions (unexponentiated)'!B36), 3) -> 2.507 | C36: 0.0572229 | D36: 0 | E36: =ROUND(EXP('regressions (unexponentiated)'!E36), 3) -> 2.241 | F36: =ROUND(EXP('regressions (unexponentiated)'!F36), 3) -> 2.805 | G36: =ROUND(EXP('regressions (unexponentiated)'!G36), 3) -> 0.587 | H36: 0.1136492 | I36: 0 | J36: =ROUND(EXP('regressions (unexponentiated)'!J36), 3) -> 0.47 | K36: =ROUND(EXP('regressions (unexponentiated)'!K36), 3) -> 0.734 | L36: =ROUND(EXP('regressions (unexponentiated)'!L36), 3) -> 1.858 | M36: 0.1391601 | N36: 0 | O36: =ROUND(EXP('regressions (unexponentiated)'!O36), 3) -> 1.415 | P36: =ROUND(EXP('regressions (unexponentiated)'!P36), 3) -> 2.441 | R36: =CONCATENATE(B36," (",E36," - ",F36,"); ",D36) -> 2.507 (2.241 - 2.805); 0 | S36: =CONCATENATE(G36," (",J36," - ",K36,"); ",I36) -> 0.587 (0.47 - 0.734); 0 | T36: =CONCATENATE(L36," (",O36," - ",P36,"); ",N36) -> 1.858 (1.415 - 2.441); 0
A37: _cons | B37: =ROUND(EXP('regressions (unexponentiated)'!B37), 3) -> 0.061 | C37: 0.042475 | D37: 0 | E37: =ROUND(EXP('regressions (unexponentiated)'!E37), 3) -> 0.056 | F37: =ROUND(EXP('regressions (unexponentiated)'!F37), 3) -> 0.067 | G37: =ROUND(EXP('regressions (unexponentiated)'!G37), 3) -> 0.037 | H37: 0.0564418 | I37: 0 | J37: =ROUND(EXP('regressions (unexponentiated)'!J37), 3) -> 0.033 | K37: =ROUND(EXP('regressions (unexponentiated)'!K37), 3) -> 0.041 | L37: =ROUND(EXP('regressions (unexponentiated)'!L37), 3) -> 0.011 | M37: 0.0954642 | N37: 0 | O37: =ROUND(EXP('regressions (unexponentiated)'!O37), 3) -> 0.009 | P37: =ROUND(EXP('regressions (unexponentiated)'!P37), 3) -> 0.013 | R37: =CONCATENATE(B37," (",E37," - ",F37,"); ",D37) -> 0.061 (0.056 - 0.067); 0 | S37: =CONCATENATE(G37," (",J37," - ",K37,"); ",I37) -> 0.037 (0.033 - 0.041); 0 | T37: =CONCATENATE(L37," (",O37," - ",P37,"); ",N37) -> 0.011 (0.009 - 0.013); 0
A39: MHACS + CCHS, age
B40: Coefficient std. err. | D40: P>t | E40: [95% conf. | F40: interval] | G40: Coefficient std. err. | I40: P>t | J40: [95% conf. | K40: interval] | L40: Coefficient std. err. | N40: P>t | O40: [95% conf. | P40: interval]
A41: Mood/Anxiety Only | G41: Substance Only | L41: Both
A42: 1.survey | B42: =ROUND(EXP('regressions (unexponentiated)'!B42), 3) -> 2.193 | C42: 0.06673 | D42: 0 | E42: =ROUND(EXP('regressions (unexponentiated)'!E42), 3) -> 1.924 | F42: =ROUND(EXP('regressions (unexponentiated)'!F42), 3) -> 2.499 | G42: =ROUND(EXP('regressions (unexponentiated)'!G42), 3) -> 0.73 | H42: =ROUND(EXP('regressions (unexponentiated)'!H42), 3) -> 1.16 | I42: 0.034 | J42: =ROUND(EXP('regressions (unexponentiated)'!J42), 3) -> 0.545 | K42: =ROUND(EXP('regressions (unexponentiated)'!K42), 3) -> 0.976 | L42: =ROUND(EXP('regressions (unexponentiated)'!L42), 3) -> 1.987 | M42: =ROUND(EXP('regressions (unexponentiated)'!M42), 3) -> 1.197 | N42: 0 | O42: =ROUND(EXP('regressions (unexponentiated)'!O42), 3) -> 1.397 | P42: =ROUND(EXP('regressions (unexponentiated)'!P42), 3) -> 2.826 | R42: =CONCATENATE(B42," (",E42," - ",F42,"); ",D42) -> 2.193 (1.924 - 2.499); 0 | S42: =CONCATENATE(G42," (",J42," - ",K42,"); ",I42) -> 0.73 (0.545 - 0.976); 0.034 | T42: =CONCATENATE(L42," (",O42," - ",P42,"); ",N42) -> 1.987 (1.397 - 2.826); 0
A43: 1.youngAdult | B43: =ROUND(EXP('regressions (unexponentiated)'!B43), 3) -> 1.335 | C43: 0.1050595 | D43: 0.006 | E43: =ROUND(EXP('regressions (unexponentiated)'!E43), 3) -> 1.086 | F43: =ROUND(EXP('regressions (unexponentiated)'!F43), 3) -> 1.64 | G43: =ROUND(EXP('regressions (unexponentiated)'!G43), 3) -> 4.722 | H43: =ROUND(EXP('regressions (unexponentiated)'!H43), 3) -> 1.118 | I43: 0 | J43: =ROUND(EXP('regressions (unexponentiated)'!J43), 3) -> 3.793 | K43: =ROUND(EXP('regressions (unexponentiated)'!K43), 3) -> 5.878 | L43: =ROUND(EXP('regressions (unexponentiated)'!L43), 3) -> 4.415 | M43: =ROUND(EXP('regressions (unexponentiated)'!M43), 3) -> 1.219 | N43: 0 | O43: =ROUND(EXP('regressions (unexponentiated)'!O43), 3) -> 2.993 | P43: =ROUND(EXP('regressions (unexponentiated)'!P43), 3) -> 6.514 | R43: =CONCATENATE(B43," (",E43," - ",F43,"); ",D43) -> 1.335 (1.086 - 1.64); 0.006 | S43: =CONCATENATE(G43," (",J43," - ",K43,"); ",I43) -> 4.722 (3.793 - 5.878); 0 | T43: =CONCATENATE(L43," (",O43," - ",P43,"); ",N43) -> 4.415 (2.993 - 6.514); 0
A45: survey#youngAdult
A46: 1 1 | B46: =ROUND(EXP('regressions (unexponentiated)'!B46), 3) -> 2.04 | C46: 0.1316143 | D46: 0 | E46: =ROUND(EXP('regressions (unexponentiated)'!E46), 3) -> 1.576 | F46: =ROUND(EXP('regressions (unexponentiated)'!F46), 3) -> 2.64 | G46: =ROUND(EXP('regressions (unexponentiated)'!G46), 3) -> 0.64 | H46: 0.2255608 | I46: 0.048 | J46: =ROUND(EXP('regressions (unexponentiated)'!J46), 3) -> 0.411 | K46: =ROUND(EXP('regressions (unexponentiated)'!K46), 3) -> 0.996 | L46: =ROUND(EXP('regressions (unexponentiated)'!L46), 3) -> 0.997 | M46: 0.2806875 | N46: 0.992 | O46: =ROUND(EXP('regressions (unexponentiated)'!O46), 3) -> 0.575 | P46: =ROUND(EXP('regressions (unexponentiated)'!P46), 3) -> 1.729 | R46: =CONCATENATE(B46," (",E46," - ",F46,"); ",D46) -> 2.04 (1.576 - 2.64); 0 | S46: =CONCATENATE(G46," (",J46," - ",K46,"); ",I46) -> 0.64 (0.411 - 0.996); 0.048 | T46: =CONCATENATE(L46," (",O46," - ",P46,"); ",N46) -> 0.997 (0.575 - 1.729); 0.992
A48: _cons | B48: =ROUND(EXP('regressions (unexponentiated)'!B48), 3) -> 0.059 | C48: 0.0475139 | D48: 0 | E48: =ROUND(EXP('regressions (unexponentiated)'!E48), 3) -> 0.053 | F48: =ROUND(EXP('regressions (unexponentiated)'!F48), 3) -> 0.064 | G48: =ROUND(EXP('regressions (unexponentiated)'!G48), 3) -> 0.024 | H48: 0.0823846 | I48: 0 | J48: =ROUND(EXP('regressions (unexponentiated)'!J48), 3) -> 0.02 | K48: =ROUND(EXP('regressions (unexponentiated)'!K48), 3) -> 0.028 | L48: =ROUND(EXP('regressions (unexponentiated)'!L48), 3) -> 0.007 | M48: 0.116993 | N48: 0 | O48: =ROUND(EXP('regressions (unexponentiated)'!O48), 3) -> 0.006 | P48: =ROUND(EXP('regressions (unexponentiated)'!P48), 3) -> 0.009 | R48: =CONCATENATE(B48," (",E48," - ",F48,"); ",D48) -> 0.059 (0.053 - 0.064); 0 | S48: =CONCATENATE(G48," (",J48," - ",K48,"); ",I48) -> 0.024 (0.02 - 0.028); 0 | T48: =CONCATENATE(L48," (",O48," - ",P48,"); ",N48) -> 0.007 (0.006 - 0.009); 0
A50: MHACS + CCHS, sex
A51: outcome | B51: Coefficient std. err. | D51: P>t | E51: [95% conf. | F51: interval] | G51: Coefficient std. err. | I51: P>t | J51: [95% conf. | K51: interval] | L51: Coefficient std. err. | N51: P>t | O51: [95% conf. | P51: interval]
A52: Mood/Anxiety Only | G52: Substance Only | L52: Both
A53: 1.survey | B53: =ROUND(EXP('regressions (unexponentiated)'!B53), 3) -> 2.294 | C53: 0.0956651 | D53: 0 | E53: =ROUND(EXP('regressions (unexponentiated)'!E53), 3) -> 1.902 | F53: =ROUND(EXP('regressions (unexponentiated)'!F53), 3) -> 2.767 | G53: =ROUND(EXP('regressions (unexponentiated)'!G53), 3) -> 0.536 | H53: 0.1346524 | I53: 0 | J53: =ROUND(EXP('regressions (unexponentiated)'!J53), 3) -> 0.412 | K53: =ROUND(EXP('regressions (unexponentiated)'!K53), 3) -> 0.698 | L53: =ROUND(EXP('regressions (unexponentiated)'!L53), 3) -> 1.557 | M53: 0.1937929 | N53: 0.022 | O53: =ROUND(EXP('regressions (unexponentiated)'!O53), 3) -> 1.065 | P53: =ROUND(EXP('regressions (unexponentiated)'!P53), 3) -> 2.277 | R53: =CONCATENATE(B53," (",E53," - ",F53,"); ",D53) -> 2.294 (1.902 - 2.767); 0 | S53: =CONCATENATE(G53," (",J53," - ",K53,"); ",I53) -> 0.536 (0.412 - 0.698); 0 | T53: =CONCATENATE(L53," (",O53," - ",P53,"); ",N53) -> 1.557 (1.065 - 2.277); 0.022
A54: 1.female | B54: =ROUND(EXP('regressions (unexponentiated)'!B54), 3) -> 1.669 | C54: 0.0878006 | D54: 0 | E54: =ROUND(EXP('regressions (unexponentiated)'!E54), 3) -> 1.405 | F54: =ROUND(EXP('regressions (unexponentiated)'!F54), 3) -> 1.983 | G54: =ROUND(EXP('regressions (unexponentiated)'!G54), 3) -> 0.309 | H54: 0.1115243 | I54: 0 | J54: =ROUND(EXP('regressions (unexponentiated)'!J54), 3) -> 0.248 | K54: =ROUND(EXP('regressions (unexponentiated)'!K54), 3) -> 0.384 | L54: =ROUND(EXP('regressions (unexponentiated)'!L54), 3) -> 0.748 | M54: 0.1909211 | N54: 0.128 | O54: =ROUND(EXP('regressions (unexponentiated)'!O54), 3) -> 0.514 | P54: =ROUND(EXP('regressions (unexponentiated)'!P54), 3) -> 1.087 | R54: =CONCATENATE(B54," (",E54," - ",F54,"); ",D54) -> 1.669 (1.405 - 1.983); 0 | S54: =CONCATENATE(G54," (",J54," - ",K54,"); ",I54) -> 0.309 (0.248 - 0.384); 0 | T54: =CONCATENATE(L54," (",O54," - ",P54,"); ",N54) -> 0.748 (0.514 - 1.087); 0.128
A56: survey#female
A57: 1 1 | B57: =ROUND(EXP('regressions (unexponentiated)'!B57), 3) -> 1.165 | C57: 0.1196721 | D57: 0.203 | E57: =ROUND(EXP('regressions (unexponentiated)'!E57), 3) -> 0.921 | F57: =ROUND(EXP('regressions (unexponentiated)'!F57), 3) -> 1.473 | G57: =ROUND(EXP('regressions (unexponentiated)'!G57), 3) -> 1.33 | H57: 0.2496413 | I57: 0.253 | J57: =ROUND(EXP('regressions (unexponentiated)'!J57), 3) -> 0.815 | K57: =ROUND(EXP('regressions (unexponentiated)'!K57), 3) -> 2.17 | L57: =ROUND(EXP('regressions (unexponentiated)'!L57), 3) -> 1.445 | M57: 0.2782601 | N57: 0.186 | O57: =ROUND(EXP('regressions (unexponentiated)'!O57), 3) -> 0.838 | P57: =ROUND(EXP('regressions (unexponentiated)'!P57), 3) -> 2.494 | R57: =CONCATENATE(B57," (",E57," - ",F57,"); ",D57) -> 1.165 (0.921 - 1.473); 0.203 | S57: =CONCATENATE(G57," (",J57," - ",K57,"); ",I57) -> 1.33 (0.815 - 2.17); 0.253 | T57: =CONCATENATE(L57," (",O57," - ",P57,"); ",N57) -> 1.445 (0.838 - 2.494); 0.186
A59: _cons | B59: =ROUND(EXP('regressions (unexponentiated)'!B59), 3) -> 0.046 | C59: 0.0693355 | D59: 0 | E59: =ROUND(EXP('regressions (unexponentiated)'!E59), 3) -> 0.04 | F59: =ROUND(EXP('regressions (unexponentiated)'!F59), 3) -> 0.052 | G59: =ROUND(EXP('regressions (unexponentiated)'!G59), 3) -> 0.057 | H59: 0.0697058 | I59: 0 | J59: =ROUND(EXP('regressions (unexponentiated)'!J59), 3) -> 0.05 | K59: =ROUND(EXP('regressions (unexponentiated)'!K59), 3) -> 0.065 | L59: =ROUND(EXP('regressions (unexponentiated)'!L59), 3) -> 0.013 | M59: 0.1308721 | N59: 0 | O59: =ROUND(EXP('regressions (unexponentiated)'!O59), 3) -> 0.01 | P59: =ROUND(EXP('regressions (unexponentiated)'!P59), 3) -> 0.017 | R59: =CONCATENATE(B59," (",E59," - ",F59,"); ",D59) -> 0.046 (0.04 - 0.052); 0 | S59: =CONCATENATE(G59," (",J59," - ",K59,"); ",I59) -> 0.057 (0.05 - 0.065); 0 | T59: =CONCATENATE(L59," (",O59," - ",P59,"); ",N59) -> 0.013 (0.01 - 0.017); 0

Sheet Missingness
A1: Summary stats
C2: 2012 | D2: 2022
A3: MDE | B3: missing | C3: 0.006331382 | D3: 0.029307372
A4: BIP | B4: missing | C4: 0.005734082 | D4: 0.019673461
A5: GAD | B5: missing | C5: 0.008999323 | D5: 0.037014502
A6: AUDDY | B6: missing | C6: 0.014972325 | D6: 0.02991583
A7: SUDDYC | B7: missing | C7: 0.008083463 | D7: 0.04745969
A8: SUDDYO | B8: missing | C8: 0.011149604 | D8: 0.024236893
A9: minority | B9: missing | C9: 0.050252857 | D9: 0.03731873
A10: immigrant | B10: missing | C10: 0.003902361 | D10: 0.024642531
A11: income | B11: missing | C11: 0 | D11: 0.003144
A12: workStat | B12: missing | C12: 0.10118265 | D12: 0.099584221
A13: notSingle | B13: missing | C13: 0.002190101 | D13: 0.003447926
A14: education | B14: missing | C14: 0.004340381 | D14: 0.023121387
... A17: mntlTrt | B17: missing | C17: 0.002787401 | D17: 0.01003955
A20: Univariable regression adjusted for year predicting missingness
B21: Estimate | C21: Std. Error | D21: z value | E21: Pr(>|z|)
A22: mde | B22: -0.071947519 | C22: 0.052365616 | D22: -1.3739458 | E22: 0.1694585
A23: year | B23: 0.28991069 | C23: 0.025085768 | D23: 11.55678 | E23: 6.82e-31
A25: bip | B25: -0.14350684 | C25: 0.097413396 | D25: -1.4731736 | E25: 0.14070425
A26: year | B26: 0.31577065 | C26: 0.024746853 | D26: -12.760033 | E26: 2.74e-37
A28: gad | B28: -0.006172097 | C28: 0.06573419 | D28: -0.093894769 | E28: 0.92519275
A29: year | B29: 0.27644233 | C29: 0.02541991 | D29: -10.875032 | E29: 1.52e-27
A31: auddy | B31: -0.041394997 | C31: 0.076430907 | D31: -0.54160023 | E31: 0.58809393
A32: year | B32: 0.32491581 | C32: 0.025322456 | D32: -12.831133 | E32: 1.1e-37
A34: suddyc | B34: -0.23299778 | C34: 0.11766796 | D34: -1.9801293 | E34: 0.047688998
A35: year | B35: 0.23778604 | C35: 0.025771312 | D35: -9.2267726 | E35: 2.79e-20
A37: suddyo | B37: 0.14308649 | C37: 0.13790936 | D37: 1.0375401 | E37: 0.29948421
A38: year | B38: 0.32591184 | C38: 0.025022368 | D38: -13.02482 | E38: 8.84e-39
... A82: year | B82: 0.32966726 | C82: 0.024379669 | D82: -13.52222 | E82: 1.16e-41

Sheet regressions (unexponentiated)
A1: MHACS Only
B2: Coefficient | C2: SE | D2: P>|T| | E2: CI (lower) | F2: CI(upper) | G2: Coefficient | H2: SE | I2: P>|T| | J2: CI (lower) | K2: CI(upper) | L2: Coefficient | M2: SE | N2: P>|T| | O2: CI (lower) | P2: CI(upper)
A3: Mood/Anxiety Only | G3: Substance Only | L3: Both
A4: 1.youngAdult | B4: 0.756 | C4: 0.134 | D4: 0 | E4: 0.493 | F4: 1.019 | G4: 0.7 | H4: 0.282 | I4: 0.013 | J4: 0.148 | K4: 1.252 | L4: 1.056 | M4: 0.295 | N4: 0 | O4: 0.478 | P4: 1.634
A5: 1.female | B5: 0.382 | C5: 0.098 | D5: 0 | E5: 0.19 | F5: 0.574 | G5: -0.996 | H5: 0.23 | I5: 0 | J5: -1.446 | K5: -0.546 | L5: -0.175 | M5: 0.226 | N5: 0.439 | O5: -0.618 | P5: 0.268
A6: 1.rural | B6: -0.129 | C6: 0.138 | D6: 0.349 | E6: -0.4 | F6: 0.141 | G6: 0.268 | H6: 0.246 | I6: 0.275 | J6: -0.214 | K6: 0.75 | L6: 0.182 | M6: 0.311 | N6: 0.558 | O6: -0.427 | P6: 0.792
A7: 1.minority | B7: -0.013 | C7: 0.125 | D7: 0.919 | E7: -0.259 | F7: 0.233 | G7: -0.922 | H7: 0.287 | I7: 0.001 | J7: -1.484 | K7: -0.359 | L7: -0.331 | M7: 0.285 | N7: 0.244 | O7: -0.889 | P7: 0.227
A8: 1.immigrant | B8: -0.214 | C8: 0.136 | D8: 0.114 | E8: -0.48 | F8: 0.052 | G8: -0.277 | H8: 0.294 | I8: 0.346 | J8: -0.854 | K8: 0.3 | L8: -0.656 | M8: 0.316 | N8: 0.038 | O8: -1.275 | P8: -0.036
A10: workStat
A11: 2 | B11: 0.151 | C11: 0.227 | D11: 0.506 | E11: -0.295 | F11: 0.597 | G11: -0.225 | H11: 0.508 | I11: 0.659 | J11: -1.221 | K11: 0.772 | L11: 0.161 | M11: 0.483 | N11: 0.738 | O11: -0.785 | P11: 1.107
A12: 3 | B12: -0.187 | C12: 0.106 | D12: 0.076 | E12: -0.394 | F12: 0.019 | G12: -0.814 | H12: 0.254 | I12: 0.001 | J12: -1.312 | K12: -0.316 | L12: -0.789 | M12: 0.261 | N12: 0.003 | O12: -1.301 | P12: -0.277
A14: 1.notSingle | B14: -0.136 | C14: 0.113 | D14: 0.23 | E14: -0.357 | F14: 0.086 | G14: -0.621 | H14: 0.261 | I14: 0.017 | J14: -1.133 | K14: -0.109 | L14: -0.758 | M14: 0.275 | N14: 0.006 | O14: -1.296 | P14: -0.219
A15: income | B15: 0.017 | C15: 0.017 | D15: 0.31 | E15: -0.016 | F15: 0.049 | G15: -0.038 | H15: 0.034 | I15: 0.262 | J15: -0.106 | K15: 0.029 | L15: -0.055 | M15: 0.035 | N15: 0.116 | O15: -0.123 | P15: 0.014
A17: education
A18: 2 | B18: -0.02 | C18: 0.17 | D18: 0.906 | E18: -0.353 | F18: 0.313 | G18: 0.28 | H18: 0.432 | I18: 0.517 | J18: -0.567 | K18: 1.127 | L18: -0.027 | M18: 0.349 | N18: 0.939 | O18: -0.71 | P18: 0.657
A19: 3 | B19: -0.154 | C19: 0.249 | D19: 0.536 | E19: -0.642 | F19: 0.334 | G19: -0.308 | H19: 0.588 | I19: 0.601 | J19: -1.461 | K19: 0.845 | L19: -0.129 | M19: 0.527 | N19: 0.806 | O19: -1.162 | P19: 0.904
A20: 4 | B20: -0.168 | C20: 0.17 | D20: 0.322 | E20: -0.502 | F20: 0.165 | G20: -0.048 | H20: 0.474 | I20: 0.92 | J20: -0.976 | K20: 0.881 | L20: -0.351 | M20: 0.38 | N20: 0.356 | O20: -1.095 | P20: 0.394
A22: 1.psychdis | B22: 2.459 | C22: 0.183 | D22: 0 | E22: 2.099 | F22: 2.818 | G22: 0.781 | H22: 0.479 | I22: 0.103 | J22: -0.157 | K22: 1.72 | L22: 2.587 | M22: 0.295 | N22: 0 | O22: 2.009 | P22: 3.165
A23: 1.suicide | B23: 0.845 | C23: 0.214 | D23: 0 | E23: 0.425 | F23: 1.266 | G23: 0.416 | H23: 0.461 | I23: 0.367 | J23: -0.488 | K23: 1.319 | L23: 1.124 | M23: 0.315 | N23: 0 | O23: 0.507 | P23: 1.741
A25: prcvdneed
A26: 2 | B26: 1.452 | C26: 0.137 | D26: 0 | E26: 1.183 | F26: 1.722 | G26: 0.671 | H26: 0.31 | I26: 0.031 | J26: 0.062 | K26: 1.279 | L26: 1.792 | M26: 0.315 | N26: 0 | O26: 1.174 | P26: 2.409
A27: 3 | B27: 2.27 | C27: 0.155 | D27: 0 | E27: 1.966 | F27: 2.574 | G27: 1.419 | H27: 0.36 | I27: 0 | J27: 0.714 | K27: 2.124 | L27: 2.57 | M27: 0.367 | N27: 0 | O27: 1.851 | P27: 3.289
A28: 4 | B28: 1.988 | C28: 0.17 | D28: 0 | E28: 1.654 | F28: 2.322 | G28: 1.258 | H28: 0.467 | I28: 0.007 | J28: 0.342 | K28: 2.174 | L28: 2.386 | M28: 0.411 | N28: 0 | O28: 1.581 | P28: 3.191
A30: 1.mntltrt | B30: 0.862 | C30: 0.138 | D30: 0 | E30: 0.59 | F30: 1.133 | G30: 0.495 | H30: 0.344 | I30: 0.151 | J30: -0.18 | K30: 1.169 | L30: 0.573 | M30: 0.275 | N30: 0.037 | O30: 0.034 | P30: 1.113
A31: _cons | B31: -3.338 | C31: 0.287 | D31: 0 | E31: -3.9 | F31: -2.775 | G31: -2.777 | H31: 0.664 | I31: 0 | J31: -4.078 | K31: -1.476 | L31: -3.953 | M31: 0.634 | N31: 0 | O31: -5.196 | P31: -2.71
A33: MHACS + CCHS
B34: Coefficient | C34: std. err. | D34: P>t | E34: [95% conf. | F34: interval] | G34: Coefficient | H34: std. err. | I34: P>t | J34: [95% conf. | K34: interval] | L34: Coefficient | M34: std. err. | N34: P>t | O34: [95% conf. | P34: interval]
A35: Mood/Anxiety Only | G35: Substance Only | L35: Both
A36: 1.survey | B36: 0.9191137 | C36: 0.0572229 | D36: 0 | E36: 0.806955 | F36: 1.031272 | G36: -0.5322464 | H36: 0.1136492 | I36: 0 | J36: -0.7550024 | K36: -0.3094904 | L36: 0.6195379 | M36: 0.1391601 | N36: 0 | O36: 0.3467797 | P36: 0.8922961
A37: _cons | B37: -2.79115 | C37: 0.042475 | D37: 0 | E37: -2.874402 | F37: -2.707897 | G37: -3.300722 | H37: 0.0564418 | I37: 0 | J37: -3.41135 | K37: -3.190094 | L37: -4.497261 | M37: 0.0954642 | N37: 0 | O37: -4.684374 | P37: -4.310148
A39: MHACS + CCHS, age
B40: Coefficient std. err. | D40: P>t | E40: [95% conf. | F40: interval] | G40: Coefficient std. err. | I40: P>t | J40: [95% conf. | K40: interval] | L40: Coefficient std. err. | N40: P>t | O40: [95% conf. | P40: interval]
A41: Mood/Anxiety Only | G41: Substance Only | L41: Both
A42: 1.survey | B42: 0.7852876 | C42: 0.06673 | D42: 0 | E42: 0.6544947 | F42: 0.9160806 | G42: -0.3153725 | H42: 0.1487395 | I42: 0.034 | J42: -0.6069066 | K42: -0.0238383 | L42: 0.6864567 | M42: 0.1797908 | N42: 0 | O42: 0.3340611 | P42: 1.038852
A43: 1.youngAdult | B43: 0.288696 | C43: 0.1050595 | D43: 0.006 | E43: 0.0827761 | F43: 0.494616 | G43: 1.552222 | H43: 0.1117569 | I43: 0 | J43: 1.333175 | K43: 1.77127 | L43: 1.485066 | M43: 0.1984163 | N43: 0 | O43: 1.096164 | P43: 1.873969
A45: survey#youngAdult
A46: 1 1 | B46: 0.7129261 | C46: 0.1316143 | D46: 0 | E46: 0.4549578 | F46: 0.9708944 | G46: -0.4460448 | H46: 0.2255608 | I46: 0.048 | J46: -0.8881511 | K46: -0.0039385 | L46: -0.002731 | M46: 0.2806875 | N46: 0.992 | O46: -0.5528875 | P46: 0.5474255
A48: _cons | B48: -2.837759 | C48: 0.0475139 | D48: 0 | E48: -2.930888 | F48: -2.744631 | G48: -3.726385 | H48: 0.0823846 | I48: 0 | J48: -3.887861 | K48: -3.564908 | L48: -4.893942 | M48: 0.116993 | N48: 0 | O48: -5.123252 | P48: -4.664632
A50: MHACS + CCHS, sex
A51: outcome | B51: Coefficient std. err. | D51: P>t | E51: [95% conf. | F51: interval] | G51: Coefficient std. err. | I51: P>t | J51: [95% conf. | K51: interval] | L51: Coefficient std. err. | N51: P>t | O51: [95% conf. | P51: interval]
A52: Mood/Anxiety Only | G52: Substance Only | L52: Both
A53: 1.survey | B53: 0.8304175 | C53: 0.0956651 | D53: 0 | E53: 0.6429108 | F53: 1.017924 | G53: -0.6233805 | H53: 0.1346524 | I53: 0 | J53: -0.8873035 | K53: -0.3594575 | L53: 0.4428067 | M53: 0.1937929 | N53: 0.022 | O53: 0.0629665 | P53: 0.8226469
A54: 1.female | B54: 0.5124108 | C54: 0.0878006 | D54: 0 | E54: 0.3403189 | F54: 0.6845026 | G54: -1.174599 | H54: 0.1115243 | I54: 0 | J54: -1.39319 | K54: -0.9560078 | L54: -0.2906526 | M54: 0.1909211 | N54: 0.128 | O54: -0.664864 | P54: 0.0835587
A56: survey#female
A57: 1 1 | B57: 0.1524033 | C57: 0.1196721 | D57: 0.203 | E57: -0.0821577 | F57: 0.3869644 | G57: 0.285239 | H57: 0.2496413 | I57: 0.253 | J57: -0.2040659 | K57: 0.7745439 | L57: 0.3683647 | M57: 0.2782601 | N57: 0.186 | O57: -0.1770339 | P57: 0.9137633
A59: _cons | B59: -3.084748 | C59: 0.0693355 | D59: 0 | E59: -3.220647 | F59: -2.948848 | G59: -2.866345 | H59: 0.0697058 | I59: 0 | J59: -3.002971 | K59: -2.72972 | L59: -4.359612 | M59: 0.1308721 | N59: 0 | O59: -4.616126 | P59: -4.103099
