Workbook

Sheet Figure 1 TPM of 8781 DEGs
A1: gene_id | B1: pBABE_puro | C1: HER2_shYAP | D1: HER2_shControl | E1: HER2_puro | F1: puro_YAP | G1: HER2_YAP | K1: over HER2 | L1: Over YAP | M1: Over Puro | N1: Her2 over Puro | O1: YAP over Puro | P1: M over N | Q1: M over O
A2: ENSG00000275559 | B2: 10.1 | C2: 27.97 | D2: 0 | E2: 0 | F2: 56.57 | G2: 40.17 | H2: ENSG00000275559 | J2: =VLOOKUP(H2,Sheet5!$A$1:$A$38,1,FALSE) -> #N/A | K2: =G2/E2 -> #DIV/0! | L2: =G2/F2 -> 0.71009369 | M2: =G2/B2 -> 3.9772277 | N2: =E2/B2 -> 0 | O2: =F2/B2 -> 5.6009901 | P2: =M2/N2 -> #DIV/0! | Q2: =M2/O2 -> 0.71009369
A3: ENSG00000277887_SNORA50C | B3: 0 | C3: 16.37 | D3: 0 | E3: 0 | F3: 0 | G3: 25.59 | H3: ENSG00000277887 | I3: SNORA50C | J3: =VLOOKUP(H3,Sheet5!$A$1:$A$38,1,FALSE) -> #N/A | K3: =G3/E3 -> #DIV/0! | L3: =G3/F3 -> #DIV/0! | M3: =G3/B3 -> #DIV/0! | N3: =E3/B3 -> #DIV/0! | O3: =F3/B3 -> #DIV/0! | P3: =M3/N3 -> #DIV/0! | Q3: =M3/O3 -> #DIV/0!
A4: ENSG00000201659_RNU12-2P | B4: 0 | C4: 0 | D4: 0 | E4: 0 | F4: 0 | G4: 22.73 | H4: ENSG00000201659 | I4: RNU12-2P | J4: =VLOOKUP(H4,Sheet5!$A$1:$A$38,1,FALSE) -> #N/A | K4: =G4/E4 -> #DIV/0! | L4: =G4/F4 -> #DIV/0! | M4: =G4/B4 -> #DIV/0! | N4: =E4/B4 -> #DIV/0! | O4: =F4/B4 -> #DIV/0! | P4: =M4/N4 -> #DIV/0! | Q4: =M4/O4 -> #DIV/0!
A5: ENSG00000230043_TMSB4XP6 | B5: 0 | C5: 0 | D5: 0 | E5: 0 | F5: 0 | G5: 22.63 | H5: ENSG00000230043 | I5: TMSB4XP6 | J5: =VLOOKUP(H5,Sheet5!$A$1:$A$38,1,FALSE) -> #N/A | K5: =G5/E5 -> #DIV/0! | L5: =G5/F5 -> #DIV/0! | M5: =G5/B5 -> #DIV/0! | N5: =E5/B5 -> #DIV/0! | O5: =F5/B5 -> #DIV/0! | P5: =M5/N5 -> #DIV/0! | Q5: =M5/O5 -> #DIV/0!
A6: ENSG00000200795_RNU4-1 | B6: 0 | C6: 0 | D6: 25.92 | E6: 0 | F6: 14.79 | G6: 16.08 | H6: ENSG00000200795 | I6: RNU4-1 | J6: =VLOOKUP(H6,Sheet5!$A$1:$A$38,1,FALSE) -> #N/A | K6: =G6/E6 -> #DIV/0! | L6: =G6/F6 -> 1.0872211 | M6: =G6/B6 -> #DIV/0! | N6: =E6/B6 -> #DIV/0! | O6: =F6/B6 -> #DIV/0! | P6: =M6/N6 -> #DIV/0! | Q6: =M6/O6 -> #DIV/0!
A7: ENSG00000206910_SNORA29 | B7: 0 | C7: 0 | D7: 0 | E7: 0 | F7: 0 | G7: 14.63 | H7: ENSG00000206910 | I7: SNORA29 | J7: =VLOOKUP(H7,Sheet5!$A$1:$A$38,1,FALSE) -> #N/A | K7: =G7/E7 -> #DIV/0! | L7: =G7/F7 -> #DIV/0! | M7: =G7/B7 -> #DIV/0! | N7: =E7/B7 -> #DIV/0! | O7: =F7/B7 -> #DIV/0! | P7: =M7/N7 -> #DIV/0! | Q7: =M7/O7 -> #DIV/0!
A8: ENSG00000238832 | B8: 0 | C8: 0 | D8: 0 | E8: 0 | F8: 0 | G8: 12.93 | H8: ENSG00000238832 | J8: =VLOOKUP(H8,Sheet5!$A$1:$A$38,1,FALSE) -> #N/A | K8: =G8/E8 -> #DIV/0! | L8: =G8/F8 -> #DIV/0! | M8: =G8/B8 -> #DIV/0! | N8: =E8/B8 -> #DIV/0! | O8: =F8/B8 -> #DIV/0! | P8: =M8/N8 -> #DIV/0! | Q8: =M8/O8 -> #DIV/0!
A9: ENSG00000276089 | B9: 13.53 | C9: 24.91 | D9: 4.45 | E9: 0 | F9: 10.75 | G9: 11.46 | H9: ENSG00000276089 | J9: =VLOOKUP(H9,Sheet5!$A$1:$A$38,1,FALSE) -> #N/A | K9: =G9/E9 -> #DIV/0! | L9: =G9/F9 -> 1.0660465 | M9: =G9/B9 -> 0.84700665 | N9: =E9/B9 -> 0 | O9: =F9/B9 -> 0.79453067 | P9: =M9/N9 -> #DIV/0! | Q9: =M9/O9 -> 1.0660465
A10: ENSG00000206785_SNORA15B-2 | B10: 0 | C10: 0 | D10: 0 | E10: 0 | F10: 0 | G10: 11.44 | H10: ENSG00000206785 | I10: SNORA15B-2 | J10: =VLOOKUP(H10,Sheet5!$A$1:$A$38,1,FALSE) -> #N/A | K10: =G10/E10 -> #DIV/0! | L10: =G10/F10 -> #DIV/0! | M10: =G10/B10 -> #DIV/0! | N10: =E10/B10 -> #DIV/0! | O10: =F10/B10 -> #DIV/0! | P10: =M10/N10 -> #DIV/0! | Q10: =M10/O10 -> #DIV/0!
A11: ENSG00000207062_SNORA15B-1 | B11: 0 | C11: 0 | D11: 0 | E11: 0 | F11: 0 | G11: 11.44 | H11: ENSG00000207062 | I11: SNORA15B-1 | J11: =VLOOKUP(H11,Sheet5!$A$1:$A$38,1,FALSE) -> #N/A | K11: =G11/E11 -> #DIV/0! | L11: =G11/F11 -> #DIV/0! | M11: =G11/B11 -> #DIV/0! | N11: =E11/B11 -> #DIV/0! | O11: =F11/B11 -> #DIV/0! | P11: =M11/N11 -> #DIV/0! | Q11: =M11/O11 -> #DIV/0!
A12: ENSG00000212440_SNORA75 | B12: 0 | C12: 0 | D12: 0 | E12: 0 | F12: 0 | G12: 10.03 | H12: ENSG00000212440 | I12: SNORA75 | J12: =VLOOKUP(H12,Sheet5!$A$1:$A$38,1,FALSE) -> #N/A | K12: =G12/E12 -> #DIV/0! | L12: =G12/F12 -> #DIV/0! | M12: =G12/B12 -> #DIV/0! | N12: =E12/B12 -> #DIV/0! | O12: =F12/B12 -> #DIV/0! | P12: =M12/N12 -> #DIV/0! | Q12: =M12/O12 -> #DIV/0!
A13: ENSG00000285794 | B13: 0.93 | C13: 3.94 | D13: 6.62 | E13: 0 | F13: 6.91 | G13: 9.64 | H13: ENSG00000285794 | J13: =VLOOKUP(H13,Sheet5!$A$1:$A$38,1,FALSE) -> #N/A | K13: =G13/E13 -> #DIV/0! | L13: =G13/F13 -> 1.3950796 | M13: =G13/B13 -> 10.365591 | N13: =E13/B13 -> 0 | O13: =F13/B13 -> 7.4301075 | P13: =M13/N13 -> #DIV/0! | Q13: =M13/O13 -> 1.3950796
A14: ENSG00000224543_SNRPGP15 | B14: 0.74 | C14: 0.9 | D14: 0 | E14: 0 | F14: 2.2 | G14: 8.81 | H14: ENSG00000224543 | I14: SNRPGP15 | J14: =VLOOKUP(H14,Sheet5!$A$1:$A$38,1,FALSE) -> #N/A | K14: =G14/E14 -> #DIV/0! | L14: =G14/F14 -> 4.0045455 | M14: =G14/B14 -> 11.905405 | N14: =E14/B14 -> 0 | O14: =F14/B14 -> 2.972973 | P14: =M14/N14 -> #DIV/0! | Q14: =M14/O14 -> 4.0045455
A15: ENSG00000227470_RPL39P16 | B15: 0 | C15: 0 | D15: 0 | E15: 0 | F15: 0 | G15: 8.69 | H15: ENSG00000227470 | I15: RPL39P16 | J15: =VLOOKUP(H15,Sheet5!$A$1:$A$38,1,FALSE) -> #N/A | K15: =G15/E15 -> #DIV/0! | L15: =G15/F15 -> #DIV/0! | M15: =G15/B15 -> #DIV/0! | N15: =E15/B15 -> #DIV/0! | O15: =F15/B15 -> #DIV/0! | P15: =M15/N15 -> #DIV/0! | Q15: =M15/O15 -> #DIV/0!
A16: ENSG00000250765_SEPTIN14P5 | B16: 0 | C16: 0 | D16: 0 | E16: 0 | F16: 0 | G16: 8.08 | H16: ENSG00000250765 | I16: SEPTIN14P5 | J16: =VLOOKUP(H16,Sheet5!$A$1:$A$38,1,FALSE) -> #N/A | K16: =G16/E16 -> #DIV/0! | L16: =G16/F16 -> #DIV/0! | M16: =G16/B16 -> #DIV/0! | N16: =E16/B16 -> #DIV/0! | O16: =F16/B16 -> #DIV/0! | P16: =M16/N16 -> #DIV/0! | Q16: =M16/O16 -> #DIV/0!
A17: ENSG00000276771 | B17: 0 | C17: 0 | D17: 0 | E17: 0 | F17: 0 | G17: 7.27 | H17: ENSG00000276771 | J17: =VLOOKUP(H17,Sheet5!$A$1:$A$38,1,FALSE) -> #N/A | K17: =G17/E17 -> #DIV/0! | L17: =G17/F17 -> #DIV/0! | M17: =G17/B17 -> #DIV/0! | N17: =E17/B17 -> #DIV/0! | O17: =F17/B17 -> #DIV/0! | P17: =M17/N17 -> #DIV/0! | Q17: =M17/O17 -> #DIV/0!
A18: ENSG00000259185 | B18: 0.63 | C18: 0.54 | D18: 0 | E18: 0 | F18: 2.08 | G18: 6.18 | H18: ENSG00000259185 | J18: =VLOOKUP(H18,Sheet5!$A$1:$A$38,1,FALSE) -> #N/A | K18: =G18/E18 -> #DIV/0! | L18: =G18/F18 -> 2.9711538 | M18: =G18/B18 -> 9.8095238 | N18: =E18/B18 -> 0 | O18: =F18/B18 -> 3.3015873 | P18: =M18/N18 -> #DIV/0! | Q18: =M18/O18 -> 2.9711538
A19: ENSG00000241069 | B19: 0 | C19: 9.5 | D19: 0 | E19: 0 | F19: 0 | G19: 6.08 | H19: ENSG00000241069 | J19: =VLOOKUP(H19,Sheet5!$A$1:$A$38,1,FALSE) -> #N/A | K19: =G19/E19 -> #DIV/0! | L19: =G19/F19 -> #DIV/0! | M19: =G19/B19 -> #DIV/0! | N19: =E19/B19 -> #DIV/0! | O19: =F19/B19 -> #DIV/0! | P19: =M19/N19 -> #DIV/0! | Q19: =M19/O19 -> #DIV/0!
A20: ENSG00000275291_RNVU1-26 | B20: 0 | C20: 0 | D20: 9.82 | E20: 0 | F20: 0 | G20: 5.86 | H20: ENSG00000275291 | I20: RNVU1-26 | J20: =VLOOKUP(H20,Sheet5!$A$1:$A$38,1,FALSE) -> #N/A | K20: =G20/E20 -> #DIV/0! | L20: =G20/F20 -> #DIV/0! | M20: =G20/B20 -> #DIV/0! | N20: =E20/B20 -> #DIV/0! | O20: =F20/B20 -> #DIV/0! | P20: =M20/N20 -> #DIV/0! | Q20: =M20/O20 -> #DIV/0!
A21: ENSG00000274798 | B21: 0 | C21: 0 | D21: 0 | E21: 0 | F21: 0 | G21: 5.63 | H21: ENSG00000274798 | J21: =VLOOKUP(H21,Sheet5!$A$1:$A$38,1,FALSE) -> #N/A | K21: =G21/E21 -> #DIV/0! | L21: =G21/F21 -> #DIV/0! | M21: =G21/B21 -> #DIV/0! | N21: =E21/B21 -> #DIV/0! | O21: =F21/B21 -> #DIV/0! | P21: =M21/N21 -> #DIV/0! | Q21: =M21/O21 -> #DIV/0!
A22: ENSG00000274758 | B22: 0 | C22: 0 | D22: 0 | E22: 0 | F22: 0 | G22: 4.47 | H22: ENSG00000274758 | J22: =VLOOKUP(H22,Sheet5!$A$1:$A$38,1,FALSE) -> #N/A | K22: =G22/E22 -> #DIV/0! | L22: =G22/F22 -> #DIV/0! | M22: =G22/B22 -> #DIV/0! | N22: =E22/B22 -> #DIV/0! | O22: =F22/B22 -> #DIV/0! | P22: =M22/N22 -> #DIV/0! | Q22: =M22/O22 -> #DIV/0!
A23: ENSG00000267633 | B23: 2.3 | C23: 1.61 | D23: 0.63 | E23: 0 | F23: 1.48 | G23: 3.92 | H23: ENSG00000267633 | J23: =VLOOKUP(H23,Sheet5!$A$1:$A$38,1,FALSE) -> #N/A | K23: =G23/E23 -> #DIV/0! | L23: =G23/F23 -> 2.6486486 | M23: =G23/B23 -> 1.7043478 | N23: =E23/B23 -> 0 | O23: =F23/B23 -> 0.64347826 | P23: =M23/N23 -> #DIV/0! | Q23: =M23/O23 -> 2.6486486
A24: ENSG00000279009 | B24: 0 | C24: 24.89 | D24: 0 | E24: 0 | F24: 0 | G24: 3.83 | H24: ENSG00000279009 | J24: =VLOOKUP(H24,Sheet5!$A$1:$A$38,1,FALSE) -> #N/A | K24: =G24/E24 -> #DIV/0! | L24: =G24/F24 -> #DIV/0! | M24: =G24/B24 -> #DIV/0! | N24: =E24/B24 -> #DIV/0! | O24: =F24/B24 -> #DIV/0! | P24: =M24/N24 -> #DIV/0! | Q24: =M24/O24 -> #DIV/0!
A25: ENSG00000276150 | B25: 2.91 | C25: 8.43 | D25: 0 | E25: 0 | F25: 0 | G25: 3.61 | H25: ENSG00000276150 | J25: =VLOOKUP(H25,Sheet5!$A$1:$A$38,1,FALSE) -> #N/A | K25: =G25/E25 -> #DIV/0! | L25: =G25/F25 -> #DIV/0! | M25: =G25/B25 -> 1.2405498 | N25: =E25/B25 -> 0 | O25: =F25/B25 -> 0 | P25: =M25/N25 -> #DIV/0! | Q25: =M25/O25 -> #DIV/0!
A26: ENSG00000275400 | B26: 1.24 | C26: 2.11 | D26: 0.6 | E26: 0 | F26: 1.25 | G26: 3.51 | H26: ENSG00000275400 | J26: =VLOOKUP(H26,Sheet5!$A$1:$A$38,1,FALSE) -> #N/A | K26: =G26/E26 -> #DIV/0! | L26: =G26/F26 -> 2.808 | M26: =G26/B26 -> 2.8306452 | N26: =E26/B26 -> 0 | O26: =F26/B26 -> 1.0080645 | P26: =M26/N26 -> #DIV/0! | Q26: =M26/O26 -> 2.808
A27: ENSG00000279337 | B27: 0 | C27: 0 | D27: 0 | E27: 0 | F27: 0 | G27: 3.46 | H27: ENSG00000279337 | J27: =VLOOKUP(H27,Sheet5!$A$1:$A$38,1,FALSE) -> #N/A | K27: =G27/E27 -> #DIV/0! | L27: =G27/F27 -> #DIV/0! | M27: =G27/B27 -> #DIV/0! | N27: =E27/B27 -> #DIV/0! | O27: =F27/B27 -> #DIV/0! | P27: =M27/N27 -> #DIV/0! | Q27: =M27/O27 -> #DIV/0!
A28: ENSG00000280331 | B28: 0 | C28: 0 | D28: 0 | E28: 0 | F28: 0 | G28: 3.36 | H28: ENSG00000280331 | J28: =VLOOKUP(H28,Sheet5!$A$1:$A$38,1,FALSE) -> #N/A | K28: =G28/E28 -> #DIV/0! | L28: =G28/F28 -> #DIV/0! | M28: =G28/B28 -> #DIV/0! | N28: =E28/B28 -> #DIV/0! | O28: =F28/B28 -> #DIV/0! | P28: =M28/N28 -> #DIV/0! | Q28: =M28/O28 -> #DIV/0!
A29: ENSG00000273542_H4C12 | B29: 0 | C29: 0 | D29: 12.94 | E29: 0 | F29: 2.96 | G29: 3.08 | H29: ENSG00000273542 | I29: H4C12 | J29: =VLOOKUP(H29,Sheet5!$A$1:$A$38,1,FALSE) -> #N/A | K29: =G29/E29 -> #DIV/0! | L29: =G29/F29 -> 1.0405405 | M29: =G29/B29 -> #DIV/0! | N29: =E29/B29 -> #DIV/0! | O29: =F29/B29 -> #DIV/0! | P29: =M29/N29 -> #DIV/0! | Q29: =M29/O29 -> #DIV/0!
A30: ENSG00000275227 | B30: 0 | C30: 0 | D30: 0 | E30: 0 | F30: 0 | G30: 2.91 | H30: ENSG00000275227 | J30: =VLOOKUP(H30,Sheet5!$A$1:$A$38,1,FALSE) -> #N/A | K30: =G30/E30 -> #DIV/0! | L30: =G30/F30 -> #DIV/0! | M30: =G30/B30 -> #DIV/0! | N30: =E30/B30 -> #DIV/0! | O30: =F30/B30 -> #DIV/0! | P30: =M30/N30 -> #DIV/0! | Q30: =M30/O30 -> #DIV/0!
A31: ENSG00000201998_SNORA23 | B31: 0 | C31: 2.25 | D31: 0 | E31: 0 | F31: 0 | G31: 2.86 | H31: ENSG00000201998 | I31: SNORA23 | J31: =VLOOKUP(H31,Sheet5!$A$1:$A$38,1,FALSE) -> #N/A | K31: =G31/E31 -> #DIV/0! | L31: =G31/F31 -> #DIV/0! | M31: =G31/B31 -> #DIV/0! | N31: =E31/B31 -> #DIV/0! | O31: =F31/B31 -> #DIV/0! | P31: =M31/N31 -> #DIV/0! | Q31: =M31/O31 -> #DIV/0!
A32: ENSG00000162840_MT2P1 | B32: 0 | C32: 0 | D32: 2.38 | E32: 0 | F32: 2.73 | G32: 2.78 | H32: ENSG00000162840 | I32: MT2P1 | J32: =VLOOKUP(H32,Sheet5!$A$1:$A$38,1,FALSE) -> #N/A | K32: =G32/E32 -> #DIV/0! | L32: =G32/F32 -> 1.018315 | M32: =G32/B32 -> #DIV/0! | N32: =E32/B32 -> #DIV/0! | O32: =F32/B32 -> #DIV/0! | P32: =M32/N32 -> #DIV/0! | Q32: =M32/O32 -> #DIV/0!
A33: ENSG00000276101 | B33: 1.53 | C33: 0 | D33: 1.53 | E33: 0 | F33: 1.99 | G33: 2.61 | H33: ENSG00000276101 | J33: =VLOOKUP(H33,Sheet5!$A$1:$A$38,1,FALSE) -> #N/A | K33: =G33/E33 -> #DIV/0! | L33: =G33/F33 -> 1.3115578 | M33: =G33/B33 -> 1.7058824 | N33: =E33/B33 -> 0 | O33: =F33/B33 -> 1.3006536 | P33: =M33/N33 -> #DIV/0! | Q33: =M33/O33 -> 1.3115578
A34: ENSG00000180834_MAP6D1 | B34: 0.51 | C34: 0.6 | D34: 0.99 | E34: 0 | F34: 2.68 | G34: 2.45 | H34: ENSG00000180834 | I34: MAP6D1 | J34: =VLOOKUP(H34,Sheet5!$A$1:$A$38,1,FALSE) -> #N/A | K34: =G34/E34 -> #DIV/0! | L34: =G34/F34 -> 0.9141791 | M34: =G34/B34 -> 4.8039216 | N34: =E34/B34 -> 0 | O34: =F34/B34 -> 5.254902 | P34: =M34/N34 -> #DIV/0! | Q34: =M34/O34 -> 0.9141791
A35: ENSG00000230092 | B35: 0 | C35: 0 | D35: 0 | E35: 0 | F35: 0 | G35: 2.25 | H35: ENSG00000230092 | J35: =VLOOKUP(H35,Sheet5!$A$1:$A$38,1,FALSE) -> #N/A | K35: =G35/E35 -> #DIV/0! | L35: =G35/F35 -> #DIV/0! | M35: =G35/B35 -> #DIV/0! | N35: =E35/B35 -> #DIV/0! | O35: =F35/B35 -> #DIV/0! | P35: =M35/N35 -> #DIV/0! | Q35: =M35/O35 -> #DIV/0!
A36: ENSG00000278334 | B36: 1.49 | C36: 0 | D36: 0 | E36: 0 | F36: 0 | G36: 2.21 | H36: ENSG00000278334 | J36: =VLOOKUP(H36,Sheet5!$A$1:$A$38,1,FALSE) -> #N/A | K36: =G36/E36 -> #DIV/0! | L36: =G36/F36 -> #DIV/0! | M36: =G36/B36 -> 1.4832215 | N36: =E36/B36 -> 0 | O36: =F36/B36 -> 0 | P36: =M36/N36 -> #DIV/0! | Q36: =M36/O36 -> #DIV/0!
A37: ENSG00000227077 | B37: 1.52 | C37: 0 | D37: 0 | E37: 0 | F37: 0 | G37: 2.07 | H37: ENSG00000227077 | J37: =VLOOKUP(H37,Sheet5!$A$1:$A$38,1,FALSE) -> #N/A | K37: =G37/E37 -> #DIV/0! | L37: =G37/F37 -> #DIV/0! | M37: =G37/B37 -> 1.3618421 | N37: =E37/B37 -> 0 | O37: =F37/B37 -> 0 | P37: =M37/N37 -> #DIV/0! | Q37: =M37/O37 -> #DIV/0!
A38: ENSG00000237039_RPS28P4 | B38: 1.52 | C38: 0 | D38: 0 | E38: 0 | F38: 0 | G38: 2.07 | H38: ENSG00000237039 | I38: RPS28P4 | J38: =VLOOKUP(H38,Sheet5!$A$1:$A$38,1,FALSE) -> #N/A | K38: =G38/E38 -> #DIV/0! | L38: =G38/F38 -> #DIV/0! | M38: =G38/B38 -> 1.3618421 | N38: =E38/B38 -> 0 | O38: =F38/B38 -> 0 | P38: =M38/N38 -> #DIV/0! | Q38: =M38/O38 -> #DIV/0!
A39: ENSG00000182841_RRP7BP | B39: 0 | C39: 1.03 | D39: 0.32 | E39: 0 | F39: 1.26 | G39: 2.06 | H39: ENSG00000182841 | I39: RRP7BP | J39: =VLOOKUP(H39,Sheet5!$A$1:$A$38,1,FALSE) -> #N/A | K39: =G39/E39 -> #DIV/0! | L39: =G39/F39 -> 1.6349206 | M39: =G39/B39 -> #DIV/0! | N39: =E39/B39 -> #DIV/0! | O39: =F39/B39 -> #DIV/0! | P39: =M39/N39 -> #DIV/0! | Q39: =M39/O39 -> #DIV/0!
A40: ENSG00000275185 | B40: 0 | C40: 1.39 | D40: 1.74 | E40: 0 | F40: 2.94 | G40: 2.03 | H40: ENSG00000275185 | J40: =VLOOKUP(H40,Sheet5!$A$1:$A$38,1,FALSE) -> #N/A | K40: =G40/E40 -> #DIV/0! | L40: =G40/F40 -> 0.69047619 | M40: =G40/B40 -> #DIV/0! | N40: =E40/B40 -> #DIV/0! | O40: =F40/B40 -> #DIV/0! | P40: =M40/N40 -> #DIV/0! | Q40: =M40/O40 -> #DIV/0!
...

Sheet Sheet5
A1: ENSG00000109321
A2: ENSG00000176697
A3: ENSG00000125845
A4: ENSG00000138756
A5: ENSG00000116985
A6: ENSG00000174808
A7: ENSG00000108342
A8: ENSG00000249491
A9: ENSG00000124882
A10: ENSG00000113578
A11: ENSG00000114279
A12: ENSG00000138685
... A38: ENSG00000112715

Sheet Figure 2 TPM counts of 238 gene
B1: pBABE_puro | C1: HER2_puro | D1: puro_YAP | E1: HER2_YAP | G1: gene id
A2: ENSG00000015171_ZMYND11 | B2: 6.19 | C2: 15.91 | D2: 16.79 | E2: 32.88 | F2: ENSG00000015171 | G2: ZMYND11
A3: ENSG00000016402_IL20RA | B3: 1.87 | C3: 0.47 | D3: 0.51 | E3: 0.19 | F3: ENSG00000016402 | G3: IL20RA
A4: ENSG00000020129_NCDN | B4: 7.83 | C4: 12.65 | D4: 12.44 | E4: 17.47 | F4: ENSG00000020129 | G4: NCDN
A5: ENSG00000047056_WDR37 | B5: 2.97 | C5: 4.12 | D5: 5.24 | E5: 10.44 | F5: ENSG00000047056 | G5: WDR37
A6: ENSG00000067082_KLF6 | B6: 45.81 | C6: 72.74 | D6: 75.54 | E6: 121.28 | F6: ENSG00000067082 | G6: KLF6
A7: ENSG00000067191_CACNB1 | B7: 1.92 | C7: 3.49 | D7: 3.64 | E7: 5.15 | F7: ENSG00000067191 | G7: CACNB1
A8: ENSG00000070759_TESK2 | B8: 5.73 | C8: 4.52 | D8: 3.33 | E8: 2.03 | F8: ENSG00000070759 | G8: TESK2
A9: ENSG00000072071_ADGRL1 | B9: 9.64 | C9: 4.7 | D9: 5.99 | E9: 2.78 | F9: ENSG00000072071 | G9: ADGRL1
A10: ENSG00000072609_CHFR | B10: 8.97 | C10: 11.84 | D10: 14.99 | E10: 20.76 | F10: ENSG00000072609 | G10: CHFR
A11: ENSG00000078403_MLLT10 | B11: 7.85 | C11: 12.07 | D11: 12.88 | E11: 19.8 | F11: ENSG00000078403 | G11: MLLT10
A12: ENSG00000080031_PTPRH | B12: 3.62 | C12: 1.06 | D12: 1.12 | E12: 0.51 | F12: ENSG00000080031 | G12: PTPRH
A13: ENSG00000083312_TNPO1 | B13: 34.98 | C13: 38.22 | D13: 55.21 | E13: 76.29 | F13: ENSG00000083312 | G13: TNPO1
... A186: ENSG00000224914_LINC00863 | B186: 6.23 | C186: 4.21 | D186: 5.01 | E186: 2.95 | F186: ENSG00000224914 | G186: LINC00863
A187: ENSG00000225313 | B187: 1.48 | C187: 3.22 | D187: 3.31 | E187: 5.62 | F187: ENSG00000225313
A188: ENSG00000225855_RUSC1-AS1 | B188: 1.42 | C188: 3.24 | D188: 2.91 | E188: 6.12 | F188: ENSG00000225855 | G188: RUSC1-AS1
A189: ENSG00000226221_RPL26P19 | B189: 16.02 | C189: 9.64 | D189: 6.82 | E189: 2.68 | F189: ENSG00000226221 | G189: RPL26P19
A190: ENSG00000227210_WDR35-DT | B190: 1.88 | C190: 0.79 | D190: 0.71 | E190: 0.27 | F190: ENSG00000227210 | G190: WDR35-DT
A191: ENSG00000227540_DNAJC9-AS1 | B191: 6.46 | C191: 5.41 | D191: 4.72 | E191: 1.45 | F191: ENSG00000227540 | G191: DNAJC9-AS1
A192: ENSG00000227617_CERS6-AS1 | B192: 22.86 | C192: 14.68 | D192: 13.18 | E192: 9.45 | F192: ENSG00000227617 | G192: CERS6-AS1
A193: ENSG00000227671_ZNF731P | B193: 9.27 | C193: 10.68 | D193: 14.62 | E193: 22.15 | F193: ENSG00000227671 | G193: ZNF731P
A194: ENSG00000228253_MT-ATP8 | B194: 2089.43 | C194: 2272.03 | D194: 2788.9 | E194: 10372.38 | F194: ENSG00000228253 | G194: MT-ATP8
A195: ENSG00000228649_SNHG26 | B195: 12.05 | C195: 7.45 | D195: 8.56 | E195: 5.48 | F195: ENSG00000228649 | G195: SNHG26
A196: ENSG00000230202 | B196: 25.49 | C196: 13.63 | D196: 13.58 | E196: 8.86 | F196: ENSG00000230202
A197: ENSG00000231131_LNCAROD | B197: 41.92 | C197: 14.75 | D197: 18.58 | E197: 5.47 | F197: ENSG00000231131 | G197: LNCAROD
A198: ENSG00000231187_SYT15-AS1 | B198: 5.96 | C198: 2.98 | D198: 1.85 | E198: 0.98 | F198: ENSG00000231187 | G198: SYT15-AS1
A199: ENSG00000231789_PIK3CD-AS2 | B199: 1.68 | C199: 0.49 | D199: 0.44 | E199: 0 | F199: ENSG00000231789 | G199: PIK3CD-AS2
A200: ENSG00000233426_EIF3FP3 | B200: 2.89 | C200: 1.25 | D200: 1.6 | E200: 0.79 | F200: ENSG00000233426 | G200: EIF3FP3
A201: ENSG00000234147 | B201: 1.93 | C201: 0.33 | D201: 0.39 | E201: 0.01 | F201: ENSG00000234147
A202: ENSG00000234287 | B202: 26.16 | C202: 20.45 | D202: 13.57 | E202: 6.18 | F202: ENSG00000234287
A203: ENSG00000235560_ZNF747-DT | B203: 3.38 | C203: 1.74 | D203: 1.57 | E203: 0.89 | F203: ENSG00000235560 | G203: ZNF747-DT
A204: ENSG00000235954_TTC28-AS1 | B204: 20.82 | C204: 19.32 | D204: 11.04 | E204: 7.84 | F204: ENSG00000235954 | G204: TTC28-AS1
A205: ENSG00000237424_FOXD2-AS1 | B205: 6.44 | C205: 3.96 | D205: 3.33 | E205: 1.88 | F205: ENSG00000237424 | G205: FOXD2-AS1
A206: ENSG00000242802_AP5Z1 | B206: 5.58 | C206: 8.14 | D206: 11.1 | E206: 16.17 | F206: ENSG00000242802 | G206: AP5Z1
A207: ENSG00000243364_EFNA4 | B207: 22.11 | C207: 14.25 | D207: 16.26 | E207: 10.78 | F207: ENSG00000243364 | G207: EFNA4
A208: ENSG00000244300_GATA2-AS1 | B208: 3.4 | C208: 1.42 | D208: 2.4 | E208: 0.25 | F208: ENSG00000244300 | G208: GATA2-AS1
A209: ENSG00000246273_SBF2-AS1 | B209: 5.46 | C209: 2.91 | D209: 2.72 | E209: 1.84 | F209: ENSG00000246273 | G209: SBF2-AS1
A210: ENSG00000247134 | B210: 10.31 | C210: 2.96 | D210: 4.49 | E210: 0.03 | F210: ENSG00000247134
A211: ENSG00000248527_MTATP6P1 | B211: 151.87 | C211: 175.97 | D211: 269.62 | E211: 771.51 | F211: ENSG00000248527 | G211: MTATP6P1
A212: ENSG00000251141_MRPS30-DT | B212: 3.77 | C212: 1.79 | D212: 2.06 | E212: 1.02 | F212: ENSG00000251141 | G212: MRPS30-DT
...

Sheet Figure 3 LFC of 173 genes
B1: HER2_YAP vs pBABE_puro | C1: puro_YAP vs pBABE_puro | D1: HER2_puro vs pBABE_puro | E1: HER2_shYAP vs HER2_shControl
A2: ENSG00000004660_CAMKK1 | B2: -0.85932491 | C2: -1.0243842 | D2: -0.88390294 | E2: 0.38605843 | F2: ENSG00000004660 | G2: CAMKK1
A3: ENSG00000015532_XYLT2 | B3: 0.94849815 | C3: 1.0835918 | D3: 1.0067647 | E3: 0.50196516 | F3: ENSG00000015532 | G3: XYLT2
A4: ENSG00000021355_SERPINB1 | B4: 1.7138492 | C4: 1.4393244 | D4: 1.0993099 | E4: -0.61798876 | F4: ENSG00000021355 | G4: SERPINB1
A5: ENSG00000023445_BIRC3 | B5: -1.6732557 | C5: -1.5291087 | D5: -0.84813906 | E5: 0.25758845 | F5: ENSG00000023445 | G5: BIRC3
A6: ENSG00000041802_LSG1 | B6: 0.89503044 | C6: 1.0176094 | D6: 0 | E6: 0.54005008 | F6: ENSG00000041802 | G6: LSG1
A7: ENSG00000047644_WWC3 | B7: 1.2736177 | C7: 1.0720438 | D7: 0 | E7: 0.37023789 | F7: ENSG00000047644 | G7: WWC3
A8: ENSG00000051128_HOMER3 | B8: 1.7415784 | C8: 1.7869851 | D8: 1.2197286 | E8: 0.78638696 | F8: ENSG00000051128 | G8: HOMER3
A9: ENSG00000064607_SUGP2 | B9: 1.1626826 | C9: 0.94492691 | D9: 0.91774456 | E9: -0.099892291 | F9: ENSG00000064607 | G9: SUGP2
A10: ENSG00000064652_SNX24 | B10: 1.5924742 | C10: 1.4579279 | D10: 0.7437827 | E10: -0.058476829 | F10: ENSG00000064652 | G10: SNX24
A11: ENSG00000067182_TNFRSF1A | B11: 1.181665 | C11: 0.93876186 | D11: 0.63837686 | E11: -0.48040609 | F11: ENSG00000067182 | G11: TNFRSF1A
A12: ENSG00000067334_DNTTIP2 | B12: 1.1325435 | C12: 0.98363403 | D12: 0.36897667 | E12: -0.1021896 | F12: ENSG00000067334 | G12: DNTTIP2
A13: ENSG00000072071_ADGRL1 | B13: -1.757853 | C13: -0.67747954 | D13: -1.0208874 | E13: 0.54156991 | F13: ENSG00000072071 | G13: ADGRL1
... A140: ENSG00000227440_ATP5MC1P4 | B140: 0 | C140: 0 | D140: 3.4594316 | E140: 0 | F140: ENSG00000227440 | G140: ATP5MC1P4
A141: ENSG00000232346 | B141: -2.1154772 | C141: 0 | D141: -1.676593 | E141: 0 | F141: ENSG00000232346
A142: ENSG00000236603_RANP1 | B142: 0 | C142: 1.5305147 | D142: 0 | E142: 0 | F142: ENSG00000236603 | G142: RANP1
A143: ENSG00000236682_MAP3K2-DT | B143: 0 | C143: 0 | D143: 0 | E143: 1.127444 | F143: ENSG00000236682 | G143: MAP3K2-DT
A144: ENSG00000240342_RPS2P5 | B144: -1.9280063 | C144: -1.6368335 | D144: -1.1452716 | E144: 0.016130083 | F144: ENSG00000240342 | G144: RPS2P5
A145: ENSG00000243927_MRPS6 | B145: 0.74370863 | C145: 1.0345954 | D145: 0.28858783 | E145: 0.11072817 | F145: ENSG00000243927 | G145: MRPS6
A146: ENSG00000244056_RN7SL417P | B146: 0 | C146: 0 | D146: 4.0874628 | E146: 0 | F146: ENSG00000244056 | G146: RN7SL417P
A147: ENSG00000245910_SNHG6 | B147: -1.2628124 | C147: -0.88508116 | D147: -0.10931445 | E147: -0.087789055 | F147: ENSG00000245910 | G147: SNHG6
A148: ENSG00000246067_RAB30-DT | B148: 0.76756664 | C148: 0.85364584 | D148: 1.040364 | E148: -0.23275184 | F148: ENSG00000246067 | G148: RAB30-DT
A149: ENSG00000249751_ECSCR | B149: 3.5849625 | C149: 4.2094534 | D149: 0 | E149: 0 | F149: ENSG00000249751 | G149: ECSCR
A150: ENSG00000250765_SEPTIN14P5 | B150: 6.3540289 | C150: 0 | D150: 0 | E150: 0 | F150: ENSG00000250765 | G150: SEPTIN14P5
A151: ENSG00000251191_LINC00589 | B151: 0 | C151: 0 | D151: 1.8882092 | E151: 0 | F151: ENSG00000251191 | G151: LINC00589
A152: ENSG00000255629 | B152: 2.0847227 | C152: 2.5093281 | D152: 0 | E152: 0 | F152: ENSG00000255629
A153: ENSG00000258610 | B153: 0 | C153: 0 | D153: 0 | E153: -1.0953479 | F153: ENSG00000258610
A154: ENSG00000258839_MC1R | B154: 2.4618143 | C154: 1.8768518 | D154: 2.3007893 | E154: 0 | F154: ENSG00000258839 | G154: MC1R
A155: ENSG00000259357 | B155: 1.2717166 | C155: 1.1747549 | D155: 1.095466 | E155: 0 | F155: ENSG00000259357
A156: ENSG00000261652_PIERCE2 | B156: 0.95158287 | C156: 0.88353049 | D156: 1.0142139 | E156: 0 | F156: ENSG00000261652 | G156: PIERCE2
A157: ENSG00000261838 | B157: 2.219678 | C157: 1.757697 | D157: 1.9566436 | E157: 0 | F157: ENSG00000261838
A158: ENSG00000264577 | B158: 1.4968316 | C158: 0 | D158: 0 | E158: 0 | F158: ENSG00000264577
A159: ENSG00000267580 | B159: -1.4667446 | C159: -1.8787983 | D159: -2.1252362 | E159: 0 | F159: ENSG00000267580
A160: ENSG00000268621_IGFL2-AS1 | B160: 0.83621974 | C160: 0.79625333 | D160: 0 | E160: 1.2727496 | F160: ENSG00000268621 | G160: IGFL2-AS1
A161: ENSG00000272921 | B161: 0 | C161: 0 | D161: 4.3923174 | E161: -3.6004922 | F161: ENSG00000272921
A162: ENSG00000274177 | B162: 0 | C162: 0 | D162: 5.3645724 | E162: 0 | F162: ENSG00000274177
A163: ENSG00000275216 | B163: 1.7848269 | C163: 2.2217771 | D163: 0.49666203 | E163: -0.42486851 | F163: ENSG00000275216
A164: ENSG00000277067 | B164: -3.0081739 | C164: 1.4952905 | D164: -3.219678 | E164: 0 | F164: ENSG00000277067
A165: ENSG00000278599_TBC1D3E | B165: -1.1465487 | C165: -1.1107035 | D165: -0.55254102 | E165: 0 | F165: ENSG00000278599 | G165: TBC1D3E
A166: ENSG00000278974 | B166: 1.3092272 | C166: 1.3904002 | D166: 1.1317443 | E166: -0.64316629 | F166: ENSG00000278974
...

Sheet Figure 4 RummaGEO result
A1: RummaGEO of 173 genes that were three fold modulated in HER2_YAP cell line but suppressed upon silencing YAP in HER2_shYAP
A3: Pathways | K3: Disease | T3: Molecules | AC3: Input
A4: term | B4: -log10(p-value) | C4: CountInEnrichedGSEs | D4: OtherTermsInEnrichedGSEs | E4: TotalGSEsWithTerm | F4: TotalOtherTerms | G4: OddsRatio | H4: Pvalue | I4: AdjPvalue | K4: term | L4: CountInEnrichedGSEs | M4: OtherTermsInEnrichedGSEs | N4: TotalGSEsWithTerm | O4: TotalOtherTerms | P4: OddsRatio | Q4: Pvalue | R4: AdjPvalue | T4: term | U4: CountInEnrichedGSEs | V4: OtherTermsInEnrichedGSEs | W4: TotalGSEsWithTerm | X4: TotalOtherTerms | Y4: OddsRatio | Z4: Pvalue | AA4: AdjPvalue | AC4: CAMKK1
A5: apoptosis | B5: =-(LOG10(H5)) -> 18.036043 | C5: 191 | D5: 14426 | E5: 502 | F5: 85093 | G5: 2.2442827 | H5: 9.2035856e-19 | I5: 4.353296e-16 | K5: breast cancer | L5: 210 | M5: 3164 | N5: 459 | O5: 17999 | P5: 2.6026664 | Q5: 8.0609821e-26 | R5: 9.9956178e-24 | T5: p53 | U5: 89 | V5: 13559 | W5: 178 | X5: 73873 | Y5: 2.7241316 | Z5: 5.5127393e-13 | AA5: 2.5523983e-10 | AC5: XYLT2
A6: epithelial mesenchymal transition | B6: =-(LOG10(H6)) -> 15.54174 | C6: 130 | D6: 14487 | E6: 303 | F6: 85292 | G6: 2.5259838 | H6: 2.8724983e-16 | I6: 4.5289723e-14 | K6: prostate cancer | L6: 135 | M6: 3239 | N6: 299 | O6: 18159 | P6: 2.5312997 | Q6: 1.73235e-16 | R6: 1.074057e-14 | T6: androgen receptor | U6: 80 | V6: 13568 | W6: 167 | X6: 73884 | Y6: 2.6086035 | Z6: 4.5366661e-11 | AA6: 1.0502382e-08 | AC6: SERPINB1
A7: chromatin accessibility | B7: =-(LOG10(H7)) -> 15.559694 | C7: 108 | D7: 14509 | E7: 226 | F7: 85369 | G7: 2.8117586 | H7: 2.7561671e-16 | I7: 4.5289723e-14 | K7: acute myeloid leukemia | L7: 108 | M7: 3266 | N7: 280 | O7: 18178 | P7: 2.1468201 | Q7: 3.9363671e-10 | R7: 1.6270318e-08 | T7: myc | U7: 69 | V7: 13579 | W7: 169 | X7: 73882 | Y7: 2.2214331 | Z7: 1.3854468e-07 | AA7: 2.1382063e-05 | AC7: BIRC3
A8: inflammation | B8: =-(LOG10(H8)) -> 10.045894 | C8: 117 | D8: 14500 | E8: 327 | F8: 85268 | G8: 2.1040506 | H8: 8.997165e-11 | I8: 1.0639148e-08 | K8: melanoma | L8: 73 | M8: 3301 | N8: 162 | O8: 18296 | P8: 2.4975746 | Q8: 1.6025417e-09 | R8: 4.9678794e-08 | T8: biomarker | U8: 52 | V8: 13596 | W8: 120 | X8: 73931 | Y8: 2.3563376 | Z8: 1.3303759e-06 | AA8: 0.0001231928 | AC8: LSG1
A9: triple negative breast cancer | B9: =-(LOG10(H9)) -> 9.7434366 | C9: 74 | D9: 14543 | E9: 167 | F9: 85428 | G9: 2.602924 | H9: 1.8053581e-10 | I9: 1.7078688e-08 | K9: sars cov 2 | L9: 90 | M9: 3284 | N9: 231 | O9: 18227 | P9: 2.1624326 | Q9: 8.1274792e-09 | R9: 2.0156148e-07 | T9: estrogen receptor | U9: 29 | V9: 13619 | W9: 46 | X9: 74005 | Y9: 3.4257527 | Z9: 1.0807904e-06 | AA9: 0.0001231928 | AC9: WWC3
A10: cell cycle arrest | B10: =-(LOG10(H10)) -> 9.3862271 | C10: 53 | D10: 14564 | E10: 99 | F10: 85496 | G10: 3.1427208 | H10: 4.1093477e-10 | I10: 3.2395358e-08 | K10: ovarian cancer | L10: 54 | M10: 3320 | N10: 111 | O10: 18347 | P10: 2.688424 | Q10: 2.7964637e-08 | R10: 5.7793583e-07 | T10: tgf β | U10: 44 | V10: 13604 | W10: 101 | X10: 73950 | Y10: 2.3681154 | Z10: 8.5454853e-06 | AA10: 0.00056522281 | AC10: HOMER3
A11: dna damage | B11: =-(LOG10(H11)) -> 9.0306706 | C11: 56 | D11: 14561 | E11: 112 | F11: 85483 | G11: 2.935341 | H11: 9.3181427e-10 | I11: 6.2964022e-08 | K11: colorectal cancer | L11: 88 | M11: 3286 | N11: 240 | O11: 18218 | P11: 2.0328464 | Q11: 1.1584124e-07 | R11: 2.0520449e-06 | T11: arid1a | U11: 23 | V11: 13625 | W11: 35 | X11: 74016 | Y11: 3.5698412 | Z11: 8.3120532e-06 | AA11: 0.00056522281 | AC11: SUGP2
A12: glycolysis | B12: =-(LOG10(H12)) -> 8.4174902 | C12: 72 | D12: 14545 | E12: 175 | F12: 85420 | G12: 2.4162412 | H12: 3.8239291e-09 | I12: 2.2608981e-07 | K12: glioblastoma | L12: 64 | M12: 3310 | N12: 166 | O12: 18292 | P12: 2.1306155 | Q12: 1.3747198e-06 | R12: 2.1308157e-05 | T12: ezh2 | U12: 35 | V12: 13613 | W12: 72 | X12: 73979 | Y12: 2.6417405 | Z12: 1.101747e-05 | AA12: 0.00063763609 | AC12: SNX24
A13: metastasis | B13: =-(LOG10(H13)) -> 7.9471366 | C13: 77 | D13: 14540 | E13: 200 | F13: 85395 | G13: 2.2611468 | H13: 1.1294405e-08 | I13: 5.7196226e-07 | K13: alzheimers disease | L13: 63 | M13: 3311 | N13: 176 | O13: 18282 | P13: 1.9764799 | Q13: 1.2688938e-05 | R13: 0.00017482537 | T13: interferon | U13: 30 | V13: 13618 | W13: 57 | X13: 73994 | Y13: 2.8597599 | Z13: 1.7759593e-05 | AA13: 0.00091363242 | AC13: TNFRSF1A
A14: tumor suppressor | B14: =-(LOG10(H14)) -> 7.9174938 | C14: 59 | D14: 14558 | E14: 132 | F14: 85463 | G14: 2.6239436 | H14: 1.2092225e-08 | I14: 5.7196226e-07 | K14: non small cell lung cancer | L14: 35 | M14: 3339 | N14: 82 | O14: 18376 | P14: 2.349031 | Q14: 8.5086785e-05 | R14: 0.0010550761 | T14: p21 | U14: 22 | V14: 13626 | W14: 35 | X14: 74016 | Y14: 3.4143801 | Z14: 2.1519672e-05 | AA14: 0.00099636081 | AC14: DNTTIP2
A15: dna damage response | B15: =-(LOG10(H15)) -> 7.2417414 | C15: 41 | D15: 14576 | E15: 78 | F15: 85517 | G15: 3.0839218 | H15: 5.7313718e-08 | I15: 2.3869358e-06 | K15: neuroblastoma | L15: 38 | M15: 3336 | N15: 98 | O15: 18360 | P15: 2.1340479 | Q15: 0.00018448816 | R15: 0.0020169654 | T15: nf κb | U15: 54 | V15: 13594 | W15: 145 | X15: 73906 | Y15: 2.0246884 | Z15: 3.1103776e-05 | AA15: 0.0012306088 | AC15: ADGRL1
A16: wnt signaling | B16: =-(LOG10(H16)) -> 7.2178392 | C16: 78 | D16: 14539 | E16: 212 | F16: 85383 | G16: 2.1607057 | H16: 6.055651e-08 | I16: 2.3869358e-06 | K16: lung cancer | L16: 35 | M16: 3339 | N16: 86 | O16: 18372 | P16: 2.2392862 | Q16: 0.0001951902 | R16: 0.0020169654 | T16: estrogen receptor alpha | U16: 26 | V16: 13622 | W16: 48 | X16: 74003 | Y16: 2.9426632 | Z16: 3.189483e-05 | AA16: 0.0012306088 | AC16: MCM6
... A54: epigenetic regulator | B54: =-(LOG10(H54)) -> 3.6346125 | C54: 21 | D54: 14596 | E54: 43 | F54: 85552 | G54: 2.8625109 | H54: 0.00023194634 | I54: 0.0021994485 | K54: respiratory syncytial virus | L54: 5 | M54: 3369 | N54: 8 | O54: 18450 | P54: 3.4227516 | Q54: 0.038310584 | R54: 0.095010249 | T54: kras mutation | U54: 11 | V54: 13637 | W54: 18 | X54: 74033 | Y54: 3.3176204 | Z54: 0.0028999322 | AA54: 0.026695425 | AC54: CASD1
K55: hepatitis b virus | L55: 9 | M55: 3365 | N55: 21 | O55: 18437 | P55: 2.3481639 | Q55: 0.039421237 | R55: 0.095847713 | AC55: CD68
K56: amyotrophic lateral sclerosis | L56: 19 | M56: 3355 | N56: 60 | O56: 18398 | P56: 1.7365226 | Q56: 0.041788161 | R56: 0.09964869 | AC56: PUS7L
K57: lung adenocarcinoma | L57: 17 | M57: 3357 | N57: 53 | O57: 18405 | P57: 1.7585614 | Q57: 0.046760872 | R57: 0.10162203 | AC57: TMEM160
K58: breast carcinoma | L58: 6 | M58: 3368 | N58: 12 | O58: 18446 | P58: 2.7384204 | Q58: 0.047532883 | R58: 0.10162203 | AC58: LGALS3
K59: cutaneous melanoma | L59: 6 | M59: 3368 | N59: 12 | O59: 18446 | P59: 2.7384204 | Q59: 0.047532883 | R59: 0.10162203 | AC59: NOTCH2
K60: metastatic melanoma | L60: 6 | M60: 3368 | N60: 12 | O60: 18446 | P60: 2.7384204 | Q60: 0.047532883 | R60: 0.10162203 | AC60: FHOD1
K61: autism | L61: 6 | M61: 3368 | N61: 12 | O61: 18446 | P61: 2.7384204 | Q61: 0.047532883 | R61: 0.10162203 | AC61: SLC9A5
K62: pediatric cancer | L62: 6 | M62: 3368 | N62: 12 | O62: 18446 | P62: 2.7384204 | Q62: 0.047532883 | R62: 0.10162203 | AC62: VPS45
K63: parkinsons disease | L63: 20 | M63: 3354 | N63: 66 | O63: 18392 | P63: 1.6616975 | Q63: 0.051556349 | R63: 0.1078567 | AC63: ARRB1
K64: spinal cord injury | L64: 5 | M64: 3369 | N64: 9 | O64: 18449 | P64: 3.0422809 | Q64: 0.052212017 | R64: 0.1078567 | AC64: NEK1
K65: esophageal squamous cell carcinoma | L65: 13 | M65: 3361 | N65: 38 | O65: 18420 | P65: 1.8749119 | Q65: 0.053058538 | R65: 0.1078567 | AC65: TTLL7
K66: hepatitis c virus | L66: 10 | M66: 3364 | N66: 25 | O66: 18433 | P66: 2.1917955 | Q66: 0.055663659 | R66: 0.10872726 | AC66: IFI44L
... K104: burkitt lymphoma | L104: 5 | M104: 3369 | N104: 15 | O104: 18443 | P104: 1.8247749 | Q104: 0.22072004 | R104: 0.27369284 | AC104: FAM98B
AC105: ZNF738
AC106: PSME3IP1
AC107: MAB21L3
AC108: VANGL1
AC109: ZWILCH
AC110: SNHG29
AC111: SH3BP5L
AC112: SLC38A9
AC113: RPL10P16
AC114: EFCAB13
AC115: MAGED1
...

Sheet Figure 5 GSEA results
A1: Name | B1: Term | C1: ES | D1: NES | E1: NOM p-val | F1: FDR q-val | G1: FWER p-val | H1: Tag % | I1: Gene % | J1: Lead_genes | K1: File
A2: prerank | B2: HALLMARK_EPITHELIAL_MESENCHYMAL_TRANSITION | C2: 0.58835351 | D2: 3.108549 | E2: 0 | F2: 0 | G2: 0 | H2: 75/120 | I2: 0.2287 | J2: FN1;CXCL8;COL6A3;SERPINE1;TGM2;ITGB3;COL6A2;ECM1;TFPI2;POSTN;CDH2;INHBA;WIPF1;SERPINE2;IGFBP4;MMP1;NT5E;CXCL1;TNC;MMP2;ITGA5;QSOX1;WNT5A;FBN1;LOXL2;CCN2;TAGLN;AREG;TIMP1;MYL9;RHOB;ENO2;EFEMP2;GEM;LAMC2;DCN;TPM4;CCN1;VCAN;DPYSL3;PMP22;FBLN5;ADAM12;COL4A1;PMEPA1;VIM;FSTL1;LGALS1;SPARC;COL4A2;PLOD1;TNFRSF12A;ANPEP;DAB2;PTX3;APLP1;CALU;PCOLCE2;CAP2;FUCA1;P3H1;GADD45B;MATN3;SAT1;FBN2;ITGB1;ABI3BP;CD59;PTHLH;LUM;SNAI2;FLNA;GLIPR1;PLAUR;FGF2 | K2: preranked_HER2_puro_vs_pBABE_puro.csv
A3: prerank | B3: YAP_SIGNATURE_DOWN | C3: -0.8694376 | D3: -2.9083283 | E3: 0 | F3: 0 | G3: 0 | H3: 45574 | I3: 0.094 | J3: KRT15;SPRR1B;SERPINB13;FXYD3;FAT2;TP63;CLCA2;SULF2;S100A14 | K3: preranked_HER2_puro_vs_pBABE_puro.csv
A4: prerank | B4: HALLMARK_KRAS_SIGNALING_DN | C4: -0.47191276 | D4: -2.5314741 | E4: 0 | F4: 0 | G4: 0 | H4: 25/45 | I4: 0.1811 | J4: PRODH;ATP6V1B1;TGM1;KRT15;FGFR3;KLK8;DLK2;AKR1B10;CLDN16;SGK1;TG;CELSR2;RYR1;SNN;COL2A1;KRT5;RSAD2;SYNPO;ZNF112;IGFBP2;SLC16A7;SLC29A3;SELENOP;CHST2;BTG2 | K4: preranked_HER2_puro_vs_pBABE_puro.csv
A5: prerank | B5: HALLMARK_E2F_TARGETS | C5: 0.47808847 | D5: 2.5259487 | E5: 0 | F5: 0 | G5: 0 | H5: 73/106 | I5: 0.3523 | J5: RRM2;DLGAP5;CDCA3;AURKB;MYBL2;KIF2C;CDKN3;KIF18B;ASF1B;SPC25;TK1;AURKA;KPNA2;BIRC5;DIAPH3;DEPDC1;TRIP13;TOP2A;CCNB2;ORC6;RAD51AP1;LMNB1;CDC20;PLK1;UBE2S;CKS2;SPAG5;HMMR;TCF19;CDCA8;MXD3;GINS1;CIT;TACC3;GINS4;KIF4A;CDK1;POLA2;UBE2T;DONSON;MKI67;PLK4;PSMC3IP;CENPM;HMGA1;BUB1B;MELK;HMGB2;TUBG1;MAD2L1;RNASEH2A;DNMT1;DCK;DSCC1;BRCA1;SPC24;H2AX;MCM6;TUBB;CCNE1;ESPL1;STMN1;RACGAP1;KIF22;SUV39H1;CENPE;EIF2S1;MCM5;CHEK1;NCAPD2;CDKN1A;PTTG1;DCLRE1B | K5: preranked_HER2_puro_vs_pBABE_puro.csv
A6: prerank | B6: YAP_SIGNATURE_UP | C6: 0.63348249 | D6: 2.3749794 | E6: 0 | F6: 0 | G6: 0 | H6: 14/23 | I6: 0.1209 | J6: FN1;TGM2;CDH2;PAPPA;FBN1;SRGN;NAV3;PAPSS2;FBLN5;ADAMTS1;TGFB2;SLC44A2;FSTL1;DAB2 | K6: preranked_HER2_puro_vs_pBABE_puro.csv
A7: prerank | B7: HALLMARK_G2M_CHECKPOINT | C7: 0.44593005 | D7: 2.3695636 | E7: 0 | F7: 0 | G7: 0 | H7: 68/106 | I7: 0.337 | J7: AURKB;MYBL2;KIF2C;CDKN3;E2F1;TROAP;BUB1;CCNA2;UBE2C;KNL1;NEK2;AURKA;KPNA2;NDC80;BIRC5;TTK;TOP2A;CCNB2;ORC6;CENPA;LMNB1;CDC20;PLK1;UBE2S;CKS2;CDC45;KIF23;HMMR;TPX2;TACC3;CENPF;FBXO5;KIF4A;CDK1;POLA2;PRC1;EXO1;MKI67;PLK4;NUSAP1;HMGA1;MT2A;CCND1;PBK;STIL;MAD2L1;TRAIP;CCNF;GINS2;HIF1A;DTYMK;CDC6;H2AX;MCM6;KIF15;ESPL1;RAD54L;STMN1;RACGAP1;KIF22;SUV39H1;ODF2;CENPE;KIF11;KIF5B;MCM5;CHEK1;TGFB1 | K7: preranked_HER2_puro_vs_pBABE_puro.csv
A8: prerank | B8: HALLMARK_TNFA_SIGNALING_VIA_NFKB | C8: 0.4323328 | D8: 2.2359939 | E8: 0 | F8: 0 | G8: 0 | H8: 44/98 | I8: 0.2166 | J8: TLR2;SERPINE1;TNFAIP6;CSF2;CXCL3;INHBA;SLC2A3;SLC16A6;CXCL1;TNC;CLCF1;AREG;RHOB;IL1B;IER3;TUBB2A;FOSL1;GEM;SERPINB2;CCN1;CCL20;F3;LAMB3;NR4A1;PMEPA1;PHLDA1;CXCL2;PHLDA2;SPHK1;PTX3;PTGS2;LDLR;GADD45B;CCND1;NR4A2;SAT1;SLC2A6;IL7R;DUSP4;BHLHE40;DUSP5;PDE4B;IL23A;FOSB | K8: preranked_HER2_puro_vs_pBABE_puro.csv
A9: prerank | B9: HALLMARK_KRAS_SIGNALING_UP | C9: 0.43145178 | D9: 2.1832538 | E9: 0 | F9: 0 | G9: 0 | H9: 34/81 | I9: 0.191 | J9: SCG5;HSD11B1;CSF2;MMP9;IL33;INHBA;ETV4;PPBP;ETV1;EREG;ANGPTL4;ETV5;GNG11;C3AR1;DUSP6;MALL;TMEM158;IL1B;SEMA3B;NRP1;CCL20;TSPAN13;LY96;PTGS2;RBP4;PRDM1;FUCA1;PCSK1N;SPRY2;SCN1B;FCER1G;IL7R;PDCD1LG2;CTSS | K9: preranked_HER2_puro_vs_pBABE_puro.csv
A10: prerank | B10: HALLMARK_INTERFERON_ALPHA_RESPONSE | C10: -0.46198418 | D10: -2.1570511 | E10: 0 | F10: 0.0011059325 | G10: 0.003 | H10: 18/24 | I10: 0.283 | J10: GMPR;CXCL10;RTP4;IFIT2;OAS1;RSAD2;C1S;IFIT3;LPAR6;IRF1;NCOA7;IFITM2;IFI30;IFIH1;TRIM26;GBP2;HLA-C;IFI44 | K10: preranked_HER2_puro_vs_pBABE_puro.csv
A11: prerank | B11: HALLMARK_COAGULATION | C11: 0.45877331 | D11: 2.0918904 | E11: 0 | F11: 0.00055144251 | G11: 0.004 | H11: 18/54 | I11: 0.1076 | J11: FN1;SERPINE1;APOC3;PF4;ITGB3;MMP9;TFPI2;MMP1;ACOX2;MMP2;DUSP6;CAPN5;FBN1;TIMP1;SERPINB2;F3;ARF4;SPARC | K11: preranked_HER2_puro_vs_pBABE_puro.csv
A12: prerank | B12: HALLMARK_SPERMATOGENESIS | C12: 0.48076336 | D12: 1.973881 | E12: 0.0041841004 | F12: 0.0034982134 | G12: 0.029 | H12: 14/33 | I12: 0.1663 | J12: SCG5;IL13RA2;KIF2C;CDKN3;BUB1;NEK2;DMC1;AURKA;TTK;CCNB2;NCAPH;CDK1;CLGN;PCSK1N | K12: preranked_HER2_puro_vs_pBABE_puro.csv
A13: prerank | B13: HALLMARK_MITOTIC_SPINDLE | C13: 0.387912 | D13: 1.9248769 | E13: 0 | F13: 0.004717897 | G13: 0.044 | H13: 38/69 | I13: 0.3163 | J13: DLGAP5;KIF2C;BUB1;PIF1;NEK2;AURKA;NDC80;BIRC5;TTK;TOP2A;CCNB2;LMNB1;PLK1;ANLN;KIF23;TPX2;CENPF;FBXO5;KIF4A;CDK1;PRC1;NUSAP1;KIF3C;KNTC1;BIN1;FLNA;ECT2;TIAM1;EPB41L2;FARP1;KIF15;ESPL1;TUBA4A;RACGAP1;KIF22;CENPE;KIF11;KIF5B | K13: preranked_HER2_puro_vs_pBABE_puro.csv
A14: prerank | B14: HALLMARK_INFLAMMATORY_RESPONSE | C14: 0.38399413 | D14: 1.9078334 | E14: 0.0012345679 | F14: 0.0055971414 | G14: 0.058 | H14: 21/76 | I14: 0.1056 | J14: CXCL8;TLR2;SERPINE1;ITGB3;TNFAIP6;INHBA;CSF3;EREG;C3AR1;ITGA5;HAS2;TIMP1;IL1B;IRAK2;NLRP3;MEFV;CCL20;F3;PTGIR;FPR1;AQP9 | K14: preranked_HER2_puro_vs_pBABE_puro.csv
A15: prerank | B15: HALLMARK_IL2_STAT5_SIGNALING | C15: 0.39879035 | D15: 1.9064043 | E15: 0.0012626263 | F15: 0.0050883104 | G15: 0.058 | H15: 38/68 | I15: 0.3141 | J15: TGM2;CSF2;ECM1;ETV4;IL1R2;SLC2A3;NT5E;RHOB;COCH;SPRY4;SOCS1;NRP1;COL6A1;IL1RL1;GUCY1B1;PHLDA1;ENPP1;APLP1;HIPK2;GADD45B;GLIPR2;BHLHE40;ADAM19;CDCP1;P2RX4;P4HA1;PRAF2;TIAM1;CKAP4;LIF;CAPG;LRRC8C;CDC6;BATF3;CCNE1;PNP;BMP2;ITGAV | K15: preranked_HER2_puro_vs_pBABE_puro.csv
... A22: prerank | B22: HALLMARK_P53_PATHWAY | C22: -0.27188476 | D22: -1.6232341 | E22: 0.0045248869 | F22: 0.061047476 | G22: 0.228 | H22: 30/72 | I22: 0.2112 | J22: KLK8;TP63;NOTCH1;KRT17;CLCA2;JAG2;KLF4;RGS16;GLS2;STOM;SLC3A2;ST14;CTSD;ITGB4;CCND2;CEBPA;GM2A;H2AC25;PERP;TP53;FOS;PTPN14;NUPR1;EPS8L2;BTG2;CYFIP2;CD82;RXRA;COQ8A;IFI30 | K22: preranked_HER2_puro_vs_pBABE_puro.csv
A23: prerank | B23: HALLMARK_WNT_BETA_CATENIN_SIGNALING | C23: -0.44859976 | D23: -1.5859194 | E23: 0.057471264 | F23: 0.062300866 | G23: 0.27 | H23: 45634 | I23: 0.2383 | J23: DLL1;NOTCH1;JAG2;CCND2;TP53;FZD8;JAG1;HDAC5 | K23: preranked_HER2_puro_vs_pBABE_puro.csv
A24: prerank | B24: HALLMARK_COMPLEMENT | C24: 0.32593206 | D24: 1.5807311 | E24: 0.018844221 | F24: 0.057787931 | G24: 0.641 | H24: 29/69 | I24: 0.2546 | J24: FN1;SERPINE1;TFPI2;PRSS3;CDA;CXCL1;DUSP6;TIMP1;ZEB1;SERPINB2;F3;COL4A2;APOBEC3G;CPM;CTSV;KLK1;FCER1G;CTSS;DUSP5;CDH13;CD59;ANXA5;PLAUR;ATOX1;CTSB;S100A13;CTSC;FYN;CSRP1 | K24: preranked_HER2_puro_vs_pBABE_puro.csv
A25: prerank | B25: HALLMARK_HEDGEHOG_SIGNALING | C25: 0.5457214 | D25: 1.5766393 | E25: 0.043613707 | F25: 0.055917802 | G25: 0.649 | H25: 45570 | I25: 0.1362 | J25: L1CAM;VLDLR;NRP1;HEY1;RTN1 | K25: preranked_HER2_puro_vs_pBABE_puro.csv
A26: prerank | B26: HALLMARK_HYPOXIA | C26: 0.30273703 | D26: 1.5234086 | E26: 0.032338308 | F26: 0.075982973 | G26: 0.759 | H26: 48/82 | I26: 0.4315 | J26: SERPINE1;TGM2;KDELR3;SLC2A3;ANGPTL4;VLDLR;CCN2;ENO2;IER3;DCN;CCN1;F3;STC1;HMOX1;STC2;CAVIN3;PPFIA4;MT2A;P4HA2;BHLHE40;ANXA2;PLAUR;GALK1;P4HA1;GCK;LOX;HSPA5;KLF7;PFKP;BNIP3L;SRPX;EDN2;UGP2;CDKN1A;IDS;DUSP1;VEGFA;CCNG2;BGN;TMEM45A;NAGK;ADM;ALDOC;JMJD6;GLRX;SAP30;NOCT;CSRP2 | K26: preranked_HER2_puro_vs_pBABE_puro.csv
A27: prerank | B27: HALLMARK_FATTY_ACID_METABOLISM | C27: -0.27555705 | D27: -1.5203853 | E27: 0.024896266 | F27: 0.07852121 | G27: 0.371 | H27: 11/51 | I27: 0.1083 | J27: ACSS1;GLUL;CD36;CEL;LTC4S;ALDH3A1;ACSL5;RDH16;HPGD;CYP1A1;CA2 | K27: preranked_HER2_puro_vs_pBABE_puro.csv
A28: prerank | B28: HALLMARK_ESTROGEN_RESPONSE_LATE | C28: -0.22532677 | D28: -1.4635613 | E28: 0.017241379 | F28: 0.094695474 | G28: 0.484 | H28: 30/89 | I28: 0.1739 | J28: LTF;FGFR3;CXCL14;SLC7A5;SERPINA3;SGK1;KCNK5;LLGL2;TJP3;SLC27A2;RAPGEFL1;HR;TMPRSS3;CELSR2;KLF4;OVOL2;TRIM29;PLXNB1;CDH1;CA2;ST14;LSR;PDCD4;NRIP1;PERP;ASS1;FOS;ST6GALNAC2;BAG1;NPY1R | K28: preranked_HER2_puro_vs_pBABE_puro.csv
A29: prerank | B29: HALLMARK_APOPTOSIS | C29: 0.27933925 | D29: 1.3099686 | E29: 0.13537676 | F29: 0.25500769 | G29: 0.993 | H29: 20/61 | I29: 0.2154 | J29: MMP2;EREG;TIMP1;RHOB;IL1B;ENO2;IER3;DCN;IGFBP6;ERBB2;TGFB2;TOP2A;TNFRSF12A;HMOX1;GADD45B;CCND1;SAT1;HMGB2;LEF1;LUM | K29: preranked_HER2_puro_vs_pBABE_puro.csv
A30: prerank | B30: HALLMARK_DNA_REPAIR | C30: 0.28796884 | D30: 1.2915319 | E30: 0.16185696 | F30: 0.26611696 | G30: 0.996 | H30: 40/47 | I30: 0.6067 | J30: CDA;RAD51;POLA2;TAF13;PDE4B;FEN1;TYMS;POLR2K;ARL6IP1;PNP;USP11;ZWINT;CCNO;RFC4;CETN2;DAD1;POLR3GL;RFC3;RPA3;COX17;HPRT1;SNAPC5;RBX1;GTF2A2;POLR2C;TAF10;ALYREF;GTF2H5;POLD4;NELFE;NME4;TAF6;ERCC5;PCNA;LIG1;SEC61A1;TMED2;POLR2D;ERCC1;ERCC4 | K30: preranked_HER2_puro_vs_pBABE_puro.csv
A31: prerank | B31: HALLMARK_XENOBIOTIC_METABOLISM | C31: 0.25711414 | D31: 1.2419495 | E31: 0.17942284 | F31: 0.31867737 | G31: 0.999 | H31: 27/69 | I31: 0.3005 | J31: SERPINE1;HSD11B1;SMOX;IGFBP4;CDO1;CDA;ACOX2;PAPSS2;TGFB2;AQP9;TPST1;MAN1A1;RBP4;HMOX1;CES1;MT2A;AOX1;HSD17B2;LPIN2;DDAH2;IL1R1;NQO1;UPP1;ASL;PTS;SSR3;PPARD | K31: preranked_HER2_puro_vs_pBABE_puro.csv
A32: prerank | B32: HALLMARK_UNFOLDED_PROTEIN_RESPONSE | C32: 0.26946694 | D32: 1.1758384 | E32: 0.23941799 | F32: 0.40761791 | G32: 1 | H32: 31/44 | I32: 0.4989 | J32: KDELR3;TUBB2A;STC2;WIPI1;SRPRA;PDIA5;YIF1A;GOSR2;HYOU1;H2AX;HSPA5;ARFGAP1;EIF2S1;KIF5B;PSAT1;FKBP14;CKS1B;CHAC1;HSP90B1;LSM4;VEGFA;BANF1;SSR1;MTHFD2;SLC1A4;LSM1;PREB;PDIA6;SRPRB;DNAJC3;EIF4E | K32: preranked_HER2_puro_vs_pBABE_puro.csv
A33: prerank | B33: HALLMARK_TGF_BETA_SIGNALING | C33: 0.3494638 | D33: 1.1720214 | E33: 0.27586207 | F33: 0.39622293 | G33: 1 | H33: 8/16 | I33: 0.337 | J33: SERPINE1;PMEPA1;HIPK2;RAB31;SKIL;BMP2;SLC20A1;TGFB1 | K33: preranked_HER2_puro_vs_pBABE_puro.csv
A34: prerank | B34: HALLMARK_MTORC1_SIGNALING | C34: 0.22245814 | D34: 1.136625 | E34: 0.27164887 | F34: 0.43734905 | G34: 1 | H34: 49/97 | I34: 0.4293 | J34: SLC2A3;RRM2;VLDLR;IDI1;INSIG1;FADS2;BUB1;MLLT11;AURKA;STC1;PHGDH;PLK1;NIBAN1;LDLR;FADS1;BHLHE40;TUBG1;CCNF;YKT6;POLR3G;P4HA1;CTSC;ITGB2;DHFR;SERPINH1;MTHFD2L;HSPA5;TUBA4A;RDH11;PNP;SDF2L1;WARS1;HMGCS1;PSAT1;SCD;CDKN1A;RPN1;HSP90B1;SSR1;ME1;GCLC;STARD4;CDC25A;PLOD2;ACLY;GLRX;MTHFD2;HPRT1;SLC1A4 | K34: preranked_HER2_puro_vs_pBABE_puro.csv
A35: prerank | B35: HALLMARK_APICAL_JUNCTION | C35: 0.23006563 | D35: 1.1231865 | E35: 0.3101737 | F35: 0.44405968 | G35: 1 | H35: 11/70 | I35: 0.093 | J35: MMP9;CADM3;MMP2;FBN1;MYL9;INSIG1;LAMC2;VCAN;CERCAM;LAMB3;CDH4 | K35: preranked_HER2_puro_vs_pBABE_puro.csv
A36: prerank | B36: HALLMARK_NOTCH_SIGNALING | C36: -0.30465161 | D36: -1.1170542 | E36: 0.28235294 | F36: 0.47075862 | G36: 0.974 | H36: 3/14 | I36: 0.0577 | J36: DLL1;NOTCH1;DTX4 | K36: preranked_HER2_puro_vs_pBABE_puro.csv
A37: prerank | B37: HALLMARK_OXIDATIVE_PHOSPHORYLATION | C37: -0.25127104 | D37: -1.1091606 | E37: 0.30612245 | F37: 0.43739632 | G37: 0.978 | H37: 21/23 | I37: 0.6072 | J37: ACADSB;SLC25A5;TIMM9;UQCRQ;ALAS1;PDHA1;ACAA2;NDUFS1;ATP6V1D;ATP5F1C;IDH3G;NDUFS8;SDHC;IDH2;NDUFB2;LDHA;CYB5R3;ATP6V1E1;MGST3;COX17;TIMM17A | K37: preranked_HER2_puro_vs_pBABE_puro.csv
A38: prerank | B38: HALLMARK_APICAL_SURFACE | C38: 0.38327171 | D38: 1.0976021 | E38: 0.36392915 | F38: 0.4709319 | G38: 1 | H38: 45571 | I38: 0.3437 | J38: RHCG;IL2RG;PLAUR;BRCA1;SRPX;DCBLD2 | K38: preranked_HER2_puro_vs_pBABE_puro.csv
A39: prerank | B39: HALLMARK_MYOGENESIS | C39: 0.22560248 | D39: 1.0577607 | E39: 0.40469974 | F39: 0.51980349 | G39: 1 | H39: 22/55 | I39: 0.262 | J39: COL6A3;COL6A2;TAGLN;ADAM12;SPARC;COL4A2;SPHK1;PDLIM7;STC2;SMTN;PPFIA4;GADD45B;ITGB1;BHLHE40;CDH13;BIN1;FGF2;LSP1;CRYAB;TPM2;NQO1;ITGB5 | K39: preranked_HER2_puro_vs_pBABE_puro.csv
A40: prerank | B40: HALLMARK_ANDROGEN_RESPONSE | C40: 0.25609029 | D40: 1.0391189 | E40: 0.41643836 | F40: 0.53136239 | G40: 1 | H40: 10/34 | I40: 0.1878 | J40: IDI1;INSIG1;ADAMTS1;PMEPA1;SEC24D;FADS1;CCND1;SAT1;PGM3;CENPN | K40: preranked_HER2_puro_vs_pBABE_puro.csv
A41: prerank | B41: HALLMARK_ADIPOGENESIS | C41: -0.19051596 | D41: -1.0317967 | E41: 0.46774194 | F41: 0.52843467 | G41: 0.994 | H41: 30/45 | I41: 0.4424 | J41: CYP4B1;CD36;LTC4S;ALDH2;STOM;SLC1A5;PDCD4;PIM3;NABP1;ESRRA;LPCAT3;CAVIN2;BCL6;GPHN;UQCRQ;PEMT;ELOVL6;ACOX1;ACAA2;DHCR7;ALDOA;MTCH2;IDH3G;GBE1;CDKN2C;CMPK1;ABCB8;SDHC;GPAM;ESYT1 | K41: preranked_HER2_puro_vs_pBABE_puro.csv
A42: prerank | B42: HALLMARK_MYC_TARGETS_V1 | C42: 0.23778753 | D42: 1.0172815 | E42: 0.45703125 | F42: 0.54913104 | G42: 1 | H42: 39/43 | I42: 0.6918 | J42: CCNA2;KPNA2;CDC20;CDC45;TYMS;MAD2L1;MCM6;HNRNPA3;EIF2S1;MCM5;RFC4;SRSF7;CTPS1;HPRT1;SNRPG;PSMD1;H2AZ1;PGK1;SRPK1;ACP1;EIF4E;LDHA;CDK2;ILF2;PSMB3;PRDX4;PCNA;PSMB2;PSMD14;PSMC4;UBE2E1;ERH;SNRPB2;DUT;TRA2B;VBP1;HNRNPA2B1;IARS1;PSMA6 | K42: preranked_HER2_puro_vs_pBABE_puro.csv
A43: prerank | B43: HALLMARK_INTERFERON_GAMMA_RESPONSE | C43: -0.16796263 | D43: -0.95877134 | E43: 0.58333333 | F43: 0.61360824 | G43: 0.998 | H43: 17/51 | I43: 0.2112 | J43: TNFSF10;CXCL10;RTP4;CFB;C1R;IFIT2;RSAD2;C1S;SOCS3;IFIT3;IFIT1;STAT3;IRF1;SOD2;IFITM2;CD40;IFI30 | K43: preranked_HER2_puro_vs_pBABE_puro.csv
A44: prerank | B44: HALLMARK_PROTEIN_SECRETION | C44: -0.1873381 | D44: -0.958688 | E44: 0.5203252 | F44: 0.56657775 | G44: 0.998 | H44: 38/39 | I44: 0.7757 | J44: ATP6V1B1;DST;DOP1A;EGFR;ATP1A1;ICA1;SCAMP3;AP2M1;RAB2A;RAB5A;GBF1;NAPG;TMED2;SEC31A;PAM;YIPF6;COPB1;NAPA;GLA;CLTC;TPD52;ANP32E;GNAS;ARCN1;LMAN1;ARFGAP3;STAM;RER1;COPE;CD63;BET1;VAMP4;SEC22B;CTSC;YKT6;COPB2;ARF1;GOSR2 | K44: preranked_HER2_puro_vs_pBABE_puro.csv
A45: prerank | B45: HALLMARK_CHOLESTEROL_HOMEOSTASIS | C45: 0.22889521 | D45: 0.95310021 | E45: 0.51978892 | F45: 0.64167896 | G45: 1 | H45: 8/36 | I45: 0.1631 | J45: IDI1;SEMA3B;FADS2;ANTXR2;TNFRSF12A;GPX8;NIBAN1;LDLR | K45: preranked_HER2_puro_vs_pBABE_puro.csv
A46: prerank | B46: HALLMARK_UV_RESPONSE_UP | C46: 0.20455528 | D46: 0.91629854 | E46: 0.59025033 | F46: 0.68399119 | G46: 1 | H46: 24/55 | I46: 0.3573 | J46: CDO1;RHOB;ENO2;PDLIM3;DLG4;NR4A1;CXCL2;HMOX1;GGH;CTSV;FEN1;FOSB;HSPA13;YKT6;PARP2;H2AX;CCNE1;TUBA4A;SHOX2;BMP2;RFC4;ICAM1;MMP14;RPN1 | K46: preranked_HER2_puro_vs_pBABE_puro.csv
...

Sheet LFC of 8781 DEGs
B1: HER2_YAP vs pBABE_puro | C1: puro_YAP vs pBABE_puro | D1: HER2_puro vs pBABE_puro | E1: HER2_shYAP vs HER2_shControl | F1: ensembl id | G1: gene
A2: ENSG00000000003_TSPAN6 | B2: 1.150913 | C2: 1.3875358 | D2: 1.2236372 | E2: NA | F2: ENSG00000000003 | G2: TSPAN6
A3: ENSG00000000460_C1orf112 | B3: 2.5003503 | C3: 2.6990343 | D3: 1.2736481 | E3: 1.8126794 | F3: ENSG00000000460 | G3: C1orf112
A4: ENSG00000000938_FGR | B4: -4.1584294 | C4: -3.7178568 | D4: -3.0588937 | E4: NA | F4: ENSG00000000938 | G4: FGR
A5: ENSG00000001036_FUCA2 | B5: 1.9882738 | C5: 1.7683513 | D5: 1.4433479 | E5: -0.16057626 | F5: ENSG00000001036 | G5: FUCA2
A6: ENSG00000001084_GCLC | B6: 0.93775079 | C6: 0.66193762 | D6: 1.5103608 | E6: NA | F6: ENSG00000001084 | G6: GCLC
A7: ENSG00000001167_NFYA | B7: 0.60700254 | C7: 1.0461648 | D7: 0.672452 | E7: 0.5680321 | F7: ENSG00000001167 | G7: NFYA
A8: ENSG00000001460_STPG1 | B8: 1.2840743 | C8: 1.5461842 | D8: 1.2626592 | E8: 0.55548962 | F8: ENSG00000001460 | G8: STPG1
A9: ENSG00000001461_NIPAL3 | B9: 1.3797508 | C9: 1.1546632 | D9: 0.64062947 | E9: 0.63082358 | F9: ENSG00000001461 | G9: NIPAL3
A10: ENSG00000001497_LAS1L | B10: 1.1539995 | C10: 1.2957758 | D10: 0.6442017 | E10: 0.87626973 | F10: ENSG00000001497 | G10: LAS1L
A11: ENSG00000001561_ENPP4 | B11: -3.3003949 | C11: 0.6760366 | D11: NA | E11: NA | F11: ENSG00000001561 | G11: ENPP4
A12: ENSG00000001629_ANKIB1 | B12: 1.1812093 | C12: 0.92747436 | D12: 0.72724699 | E12: 0.37515205 | F12: ENSG00000001629 | G12: ANKIB1
A13: ENSG00000001630_CYP51A1 | B13: 1.7851056 | C13: 0.89262551 | D13: 1.3444367 | E13: -0.33743468 | F13: ENSG00000001630 | G13: CYP51A1
A14: ENSG00000002079_MYH16 | B14: NA | C14: NA | D14: NA | E14: 3.6205864 | F14: ENSG00000002079 | G14: MYH16
A15: ENSG00000002586_CD99 | B15: 1.1353949 | C15: 1.1042108 | D15: 1.4537516 | E15: -0.82748077 | F15: ENSG00000002586 | G15: CD99
A16: ENSG00000002746_HECW1 | B16: 3 | C16: 2.6824283 | D16: 2.2356282 | E16: NA | F16: ENSG00000002746 | G16: HECW1
A17: ENSG00000002834_LASP1 | B17: 1.9602081 | C17: 1.8793075 | D17: 1.2241668 | E17: 0.49319301 | F17: ENSG00000002834 | G17: LASP1
A18: ENSG00000002919_SNX11 | B18: 1.0543111 | C18: 1.3226659 | D18: 1.0165091 | E18: 0.52874649 | F18: ENSG00000002919 | G18: SNX11
A19: ENSG00000003137_CYP26B1 | B19: 2.9722443 | C19: 2.7626859 | D19: 1.6675876 | E19: 0.76999439 | F19: ENSG00000003137 | G19: CYP26B1
A20: ENSG00000003147_ICA1 | B20: -1.0286288 | C20: -0.26452711 | D20: -1.2627361 | E20: 0.830075 | F20: ENSG00000003147 | G20: ICA1
A21: ENSG00000003249_DBNDD1 | B21: 1.0046714 | C21: 0.75124367 | D21: -0.663485 | E21: -0.37196878 | F21: ENSG00000003249 | G21: DBNDD1
A22: ENSG00000003393_ALS2 | B22: 1.2639959 | C22: 1.1311944 | D22: 0.36692365 | E22: -0.29644383 | F22: ENSG00000003393 | G22: ALS2
A23: ENSG00000003400_CASP10 | B23: NA | C23: NA | D23: NA | E23: 1.2016339 | F23: ENSG00000003400 | G23: CASP10
A24: ENSG00000003402_CFLAR | B24: 1.6789436 | C24: 1.3970771 | D24: 1.3864437 | E24: 0.17505326 | F24: ENSG00000003402 | G24: CFLAR
A25: ENSG00000003436_TFPI | B25: 1.1151554 | C25: 0.84115828 | D25: 1.7325251 | E25: -1.3588044 | F25: ENSG00000003436 | G25: TFPI
A26: ENSG00000003987_MTMR7 | B26: NA | C26: NA | D26: 2.1023617 | E26: NA | F26: ENSG00000003987 | G26: MTMR7
A27: ENSG00000003989_SLC7A2 | B27: -0.88864945 | C27: -1.519949 | D27: 0.4995635 | E27: -0.9763833 | F27: ENSG00000003989 | G27: SLC7A2
A28: ENSG00000004399_PLXND1 | B28: 1.205604 | C28: 1.1460218 | D28: 1.0088626 | E28: -1.0638284 | F28: ENSG00000004399 | G28: PLXND1
A29: ENSG00000004534_RBM6 | B29: 1.0772381 | C29: 0.88396088 | D29: 0.45593875 | E29: 0.49915055 | F29: ENSG00000004534 | G29: RBM6
A30: ENSG00000004660_CAMKK1 | B30: -0.85932491 | C30: -1.0243842 | D30: -0.88390294 | E30: 0.38605843 | F30: ENSG00000004660 | G30: CAMKK1
A31: ENSG00000004700_RECQL | B31: 1.8996805 | C31: 1.7342202 | D31: 1.5873985 | E31: 0.86041941 | F31: ENSG00000004700 | G31: RECQL
A32: ENSG00000004766_VPS50 | B32: 1.0337959 | C32: 0.67236148 | D32: NA | E32: 1.0397263 | F32: ENSG00000004766 | G32: VPS50
A33: ENSG00000004777_ARHGAP33 | B33: NA | C33: NA | D33: NA | E33: 2.0062051 | F33: ENSG00000004777 | G33: ARHGAP33
A34: ENSG00000004779_NDUFAB1 | B34: 0.87984156 | C34: 1.0383902 | D34: 0.87266561 | E34: 0.40859841 | F34: ENSG00000004779 | G34: NDUFAB1
A35: ENSG00000004799_PDK4 | B35: -3.8953556 | C35: -3.1593751 | D35: -0.79894172 | E35: -0.61112608 | F35: ENSG00000004799 | G35: PDK4
A36: ENSG00000004864_SLC25A13 | B36: 1.852968 | C36: 1.5878053 | D36: NA | E36: 0.24949695 | F36: ENSG00000004864 | G36: SLC25A13
A37: ENSG00000004866_ST7 | B37: 1.5495361 | C37: 1.4747437 | D37: 1.2033997 | E37: NA | F37: ENSG00000004866 | G37: ST7
A38: ENSG00000004897_CDC27 | B38: 1.8702599 | C38: 1.6030902 | D38: 0.95495704 | E38: 0.73054134 | F38: ENSG00000004897 | G38: CDC27
A39: ENSG00000004961_HCCS | B39: 1.2650053 | C39: 1.316989 | D39: 0.71650713 | E39: 0.23826442 | F39: ENSG00000004961 | G39: HCCS
A40: ENSG00000005020_SKAP2 | B40: 1.1967378 | C40: 1.0324215 | D40: 1.0278342 | E40: 0.21826454 | F40: ENSG00000005020 | G40: SKAP2
...

Sheet case7_pathways
A1: term | B1: CountInEnrichedGSEs | C1: OtherTermsInEnrichedGSEs | D1: TotalGSEsWithTerm | E1: TotalOtherTerms | F1: OddsRatio | G1: Pvalue | H1: AdjPvalue | I1: negLog10Pval
A2: apoptosis | B2: 198 | C2: 14520 | D2: 502 | E2: 85093 | F2: 2.3114723 | G2: 1.6429884e-20 | H2: 7.7713352e-18 | I2: =-(LOG10(G2)) -> 19.784365
A3: epithelial mesenchymal transition | B3: 130 | C3: 14588 | D3: 303 | E3: 85292 | F3: 2.5084952 | G3: 3.5451823e-16 | H3: 8.384356e-14 | I3: =-(LOG10(G3)) -> 15.450361
A4: triple negative breast cancer | B4: 84 | C4: 14634 | D4: 167 | E4: 85428 | F4: 2.9362971 | G4: 7.1991907e-14 | H4: 1.1350724e-11 | I4: =-(LOG10(G4)) -> 13.142716
A5: chromatin accessibility | B5: 94 | C5: 14624 | D5: 226 | E5: 85369 | F5: 2.4280265 | G5: 1.8828444e-11 | H5: 2.2264636e-09 | I5: =-(LOG10(G5)) -> 10.725186
A6: cell cycle | B6: 84 | C6: 14634 | D6: 214 | E6: 85381 | F6: 2.2901488 | G6: 1.8290247e-09 | H6: 1.7302574e-07 | I6: =-(LOG10(G6)) -> 8.7377804
A7: cell cycle arrest | B7: 51 | C7: 14667 | D7: 99 | E7: 85496 | F7: 3.0028904 | G7: 3.846368e-09 | H7: 3.0322201e-07 | I7: =-(LOG10(G7)) -> 8.4149492
A8: dna damage | B8: 54 | C8: 14664 | D8: 112 | E8: 85483 | F8: 2.8106259 | G8: 7.012862e-09 | H8: 4.738691e-07 | I8: =-(LOG10(G8)) -> 8.1541047
A9: inflammation | B9: 109 | C9: 14609 | D9: 327 | E9: 85268 | F9: 1.9455587 | G9: 1.3285207e-08 | H9: 7.8548787e-07 | I9: =-(LOG10(G9)) -> 7.8766317
A10: proliferation | B10: 82 | C10: 14636 | D10: 220 | E10: 85375 | F10: 2.1742 | G10: 1.8596377e-08 | H10: 9.7734294e-07 | I10: =-(LOG10(G10)) -> 7.7305717
A11: tumor suppressor | B11: 58 | C11: 14660 | D11: 132 | E11: 85463 | F11: 2.5615228 | G11: 2.4935516e-08 | H11: 1.1794499e-06 | I11: =-(LOG10(G11)) -> 7.6031816
A12: autophagy | B12: 65 | C12: 14653 | D12: 161 | E12: 85434 | F12: 2.3539199 | G12: 4.7421774e-08 | H12: 2.0391363e-06 | I12: =-(LOG10(G12)) -> 7.3240222
A13: dna damage response | B13: 41 | C13: 14677 | D13: 78 | E13: 85517 | F13: 3.0626997 | G13: 6.559059e-08 | H13: 2.5853624e-06 | I13: =-(LOG10(G13)) -> 7.1831585
... A51: erythropoiesis | B51: 17 | C51: 14701 | D51: 32 | E51: 85563 | F51: 3.0919899 | G51: 0.00038808077 | H51: 0.0036221653 | I51: =-(LOG10(G51)) -> 3.4110779

Sheet case4_pathways
A1: term | B1: CountInEnrichedGSEs | C1: OtherTermsInEnrichedGSEs | D1: TotalGSEsWithTerm | E1: TotalOtherTerms | F1: OddsRatio | G1: Pvalue | H1: AdjPvalue | I1: negLog10Pval
A2: apoptosis | B2: 221 | C2: 14451 | D2: 502 | E2: 85093 | F2: 2.5922954 | G2: 7.7980296e-28 | H2: 3.6338818e-25 | I2: =-(LOG10(G2)) -> 27.108015
A3: epithelial mesenchymal transition | B3: 137 | C3: 14535 | D3: 303 | E3: 85292 | F3: 2.6532074 | G3: 1.2869794e-18 | H3: 2.9986619e-16 | I3: =-(LOG10(G3)) -> 17.890428
A4: chromatin accessibility | B4: 100 | C4: 14572 | D4: 226 | E4: 85369 | F4: 2.5922244 | G4: 2.2804378e-13 | H4: 3.54228e-11 | I4: =-(LOG10(G4)) -> 12.641982
A5: triple negative breast cancer | B5: 81 | C5: 14591 | D5: 167 | E5: 85428 | F5: 2.8397737 | G5: 8.1403187e-13 | H5: 9.4834713e-11 | I5: =-(LOG10(G5)) -> 12.089359
A6: wnt signaling | B6: 82 | C6: 14590 | D6: 212 | E6: 85383 | F6: 2.2635709 | G6: 4.0407158e-09 | H6: 3.1382892e-07 | I6: =-(LOG10(G6)) -> 8.3935417
A7: inflammation | B7: 111 | C7: 14561 | D7: 327 | E7: 85268 | F7: 1.9877882 | G7: 3.8721794e-09 | H7: 3.1382892e-07 | I7: =-(LOG10(G7)) -> 8.4120445
A8: dna damage | B8: 54 | C8: 14618 | D8: 112 | E8: 85483 | F8: 2.8194704 | G8: 6.6317185e-09 | H8: 4.1634025e-07 | I8: =-(LOG10(G8)) -> 8.1783739
A9: cell cycle arrest | B9: 50 | C9: 14622 | D9: 99 | E9: 85496 | F9: 2.9530706 | G9: 7.1474721e-09 | H9: 4.1634025e-07 | I9: =-(LOG10(G9)) -> 8.1458475
A10: cell cycle | B10: 81 | C10: 14591 | D10: 214 | E10: 85381 | F10: 2.2148658 | G10: 1.1751409e-08 | H10: 6.0846187e-07 | I10: =-(LOG10(G10)) -> 7.92991
A11: tumor suppressor | B11: 58 | C11: 14614 | D11: 132 | E11: 85463 | F11: 2.5695856 | G11: 2.3342477e-08 | H11: 1.0877594e-06 | I11: =-(LOG10(G11)) -> 7.6318531
A12: reactive oxygen species | B12: 51 | C12: 14621 | D12: 108 | E12: 85487 | F12: 2.7610192 | G12: 2.6633455e-08 | H12: 1.12829e-06 | I12: =-(LOG10(G12)) -> 7.5745725
A13: metastasis | B13: 75 | C13: 14597 | D13: 200 | E13: 85395 | F13: 2.1938155 | G13: 4.8718028e-08 | H13: 1.8918834e-06 | I13: =-(LOG10(G13)) -> 7.3123103
... A51: tca cycle | B51: 16 | C51: 14656 | D51: 26 | E51: 85569 | F51: 3.5929207 | G51: 0.00016078019 | H51: 0.0014690896 | I51: =-(LOG10(G51)) -> 3.7937675
