Workbook

Sheet Figure 1 TPM of 8781 DEGs
A1: gene_id | B1: pBABE_puro | C1: HER2_shYAP | D1: HER2_shControl | E1: HER2_puro | F1: puro_YAP | G1: HER2_YAP | K1: over HER2 | L1: Over YAP | M1: Over Puro | N1: Her2 over Puro | O1: YAP over Puro | P1: M over N | Q1: M over O
A2: ENSG00000275559 | B2: 10.1 | C2: 27.97 | D2: 0 | E2: 0 | F2: 56.57 | G2: 40.17 | H2: ENSG00000275559 | J2: =VLOOKUP(H2,Sheet5!$A$1:$A$38,1,FALSE) -> #N/A | K2: =G2/E2 -> #DIV/0! | L2: =G2/F2 -> 0.71009369 | M2: =G2/B2 -> 3.9772277 | N2: =E2/B2 -> 0 | O2: =F2/B2 -> 5.6009901 | P2: =M2/N2 -> #DIV/0! | Q2: =M2/O2 -> 0.71009369
A3: ENSG00000277887_SNORA50C | B3: 0 | C3: 16.37 | D3: 0 | E3: 0 | F3: 0 | G3: 25.59 | H3: ENSG00000277887 | I3: SNORA50C | J3: =VLOOKUP(H3,Sheet5!$A$1:$A$38,1,FALSE) -> #N/A | K3: =G3/E3 -> #DIV/0! | L3: =G3/F3 -> #DIV/0! | M3: =G3/B3 -> #DIV/0! | N3: =E3/B3 -> #DIV/0! | O3: =F3/B3 -> #DIV/0! | P3: =M3/N3 -> #DIV/0! | Q3: =M3/O3 -> #DIV/0!
A4: ENSG00000201659_RNU12-2P | B4: 0 | C4: 0 | D4: 0 | E4: 0 | F4: 0 | G4: 22.73 | H4: ENSG00000201659 | I4: RNU12-2P | J4: =VLOOKUP(H4,Sheet5!$A$1:$A$38,1,FALSE) -> #N/A | K4: =G4/E4 -> #DIV/0! | L4: =G4/F4 -> #DIV/0! | M4: =G4/B4 -> #DIV/0! | N4: =E4/B4 -> #DIV/0! | O4: =F4/B4 -> #DIV/0! | P4: =M4/N4 -> #DIV/0! | Q4: =M4/O4 -> #DIV/0!
A5: ENSG00000230043_TMSB4XP6 | B5: 0 | C5: 0 | D5: 0 | E5: 0 | F5: 0 | G5: 22.63 | H5: ENSG00000230043 | I5: TMSB4XP6 | J5: =VLOOKUP(H5,Sheet5!$A$1:$A$38,1,FALSE) -> #N/A | K5: =G5/E5 -> #DIV/0! | L5: =G5/F5 -> #DIV/0! | M5: =G5/B5 -> #DIV/0! | N5: =E5/B5 -> #DIV/0! | O5: =F5/B5 -> #DIV/0! | P5: =M5/N5 -> #DIV/0! | Q5: =M5/O5 -> #DIV/0!
A6: ENSG00000200795_RNU4-1 | B6: 0 | C6: 0 | D6: 25.92 | E6: 0 | F6: 14.79 | G6: 16.08 | H6: ENSG00000200795 | I6: RNU4-1 | J6: =VLOOKUP(H6,Sheet5!$A$1:$A$38,1,FALSE) -> #N/A | K6: =G6/E6 -> #DIV/0! | L6: =G6/F6 -> 1.0872211 | M6: =G6/B6 -> #DIV/0! | N6: =E6/B6 -> #DIV/0! | O6: =F6/B6 -> #DIV/0! | P6: =M6/N6 -> #DIV/0! | Q6: =M6/O6 -> #DIV/0!
A7: ENSG00000206910_SNORA29 | B7: 0 | C7: 0 | D7: 0 | E7: 0 | F7: 0 | G7: 14.63 | H7: ENSG00000206910 | I7: SNORA29 | J7: =VLOOKUP(H7,Sheet5!$A$1:$A$38,1,FALSE) -> #N/A | K7: =G7/E7 -> #DIV/0! | L7: =G7/F7 -> #DIV/0! | M7: =G7/B7 -> #DIV/0! | N7: =E7/B7 -> #DIV/0! | O7: =F7/B7 -> #DIV/0! | P7: =M7/N7 -> #DIV/0! | Q7: =M7/O7 -> #DIV/0!
A8: ENSG00000238832 | B8: 0 | C8: 0 | D8: 0 | E8: 0 | F8: 0 | G8: 12.93 | H8: ENSG00000238832 | J8: =VLOOKUP(H8,Sheet5!$A$1:$A$38,1,FALSE) -> #N/A | K8: =G8/E8 -> #DIV/0! | L8: =G8/F8 -> #DIV/0! | M8: =G8/B8 -> #DIV/0! | N8: =E8/B8 -> #DIV/0! | O8: =F8/B8 -> #DIV/0! | P8: =M8/N8 -> #DIV/0! | Q8: =M8/O8 -> #DIV/0!
A9: ENSG00000276089 | B9: 13.53 | C9: 24.91 | D9: 4.45 | E9: 0 | F9: 10.75 | G9: 11.46 | H9: ENSG00000276089 | J9: =VLOOKUP(H9,Sheet5!$A$1:$A$38,1,FALSE) -> #N/A | K9: =G9/E9 -> #DIV/0! | L9: =G9/F9 -> 1.0660465 | M9: =G9/B9 -> 0.84700665 | N9: =E9/B9 -> 0 | O9: =F9/B9 -> 0.79453067 | P9: =M9/N9 -> #DIV/0! | Q9: =M9/O9 -> 1.0660465
A10: ENSG00000206785_SNORA15B-2 | B10: 0 | C10: 0 | D10: 0 | E10: 0 | F10: 0 | G10: 11.44 | H10: ENSG00000206785 | I10: SNORA15B-2 | J10: =VLOOKUP(H10,Sheet5!$A$1:$A$38,1,FALSE) -> #N/A | K10: =G10/E10 -> #DIV/0! | L10: =G10/F10 -> #DIV/0! | M10: =G10/B10 -> #DIV/0! | N10: =E10/B10 -> #DIV/0! | O10: =F10/B10 -> #DIV/0! | P10: =M10/N10 -> #DIV/0! | Q10: =M10/O10 -> #DIV/0!
A11: ENSG00000207062_SNORA15B-1 | B11: 0 | C11: 0 | D11: 0 | E11: 0 | F11: 0 | G11: 11.44 | H11: ENSG00000207062 | I11: SNORA15B-1 | J11: =VLOOKUP(H11,Sheet5!$A$1:$A$38,1,FALSE) -> #N/A | K11: =G11/E11 -> #DIV/0! | L11: =G11/F11 -> #DIV/0! | M11: =G11/B11 -> #DIV/0! | N11: =E11/B11 -> #DIV/0! | O11: =F11/B11 -> #DIV/0! | P11: =M11/N11 -> #DIV/0! | Q11: =M11/O11 -> #DIV/0!
A12: ENSG00000212440_SNORA75 | B12: 0 | C12: 0 | D12: 0 | E12: 0 | F12: 0 | G12: 10.03 | H12: ENSG00000212440 | I12: SNORA75 | J12: =VLOOKUP(H12,Sheet5!$A$1:$A$38,1,FALSE) -> #N/A | K12: =G12/E12 -> #DIV/0! | L12: =G12/F12 -> #DIV/0! | M12: =G12/B12 -> #DIV/0! | N12: =E12/B12 -> #DIV/0! | O12: =F12/B12 -> #DIV/0! | P12: =M12/N12 -> #DIV/0! | Q12: =M12/O12 -> #DIV/0!
A13: ENSG00000285794 | B13: 0.93 | C13: 3.94 | D13: 6.62 | E13: 0 | F13: 6.91 | G13: 9.64 | H13: ENSG00000285794 | J13: =VLOOKUP(H13,Sheet5!$A$1:$A$38,1,FALSE) -> #N/A | K13: =G13/E13 -> #DIV/0! | L13: =G13/F13 -> 1.3950796 | M13: =G13/B13 -> 10.365591 | N13: =E13/B13 -> 0 | O13: =F13/B13 -> 7.4301075 | P13: =M13/N13 -> #DIV/0! | Q13: =M13/O13 -> 1.3950796
A14: ENSG00000224543_SNRPGP15 | B14: 0.74 | C14: 0.9 | D14: 0 | E14: 0 | F14: 2.2 | G14: 8.81 | H14: ENSG00000224543 | I14: SNRPGP15 | J14: =VLOOKUP(H14,Sheet5!$A$1:$A$38,1,FALSE) -> #N/A | K14: =G14/E14 -> #DIV/0! | L14: =G14/F14 -> 4.0045455 | M14: =G14/B14 -> 11.905405 | N14: =E14/B14 -> 0 | O14: =F14/B14 -> 2.972973 | P14: =M14/N14 -> #DIV/0! | Q14: =M14/O14 -> 4.0045455
A15: ENSG00000227470_RPL39P16 | B15: 0 | C15: 0 | D15: 0 | E15: 0 | F15: 0 | G15: 8.69 | H15: ENSG00000227470 | I15: RPL39P16 | J15: =VLOOKUP(H15,Sheet5!$A$1:$A$38,1,FALSE) -> #N/A | K15: =G15/E15 -> #DIV/0! | L15: =G15/F15 -> #DIV/0! | M15: =G15/B15 -> #DIV/0! | N15: =E15/B15 -> #DIV/0! | O15: =F15/B15 -> #DIV/0! | P15: =M15/N15 -> #DIV/0! | Q15: =M15/O15 -> #DIV/0!
A16: ENSG00000250765_SEPTIN14P5 | B16: 0 | C16: 0 | D16: 0 | E16: 0 | F16: 0 | G16: 8.08 | H16: ENSG00000250765 | I16: SEPTIN14P5 | J16: =VLOOKUP(H16,Sheet5!$A$1:$A$38,1,FALSE) -> #N/A | K16: =G16/E16 -> #DIV/0! | L16: =G16/F16 -> #DIV/0! | M16: =G16/B16 -> #DIV/0! | N16: =E16/B16 -> #DIV/0! | O16: =F16/B16 -> #DIV/0! | P16: =M16/N16 -> #DIV/0! | Q16: =M16/O16 -> #DIV/0!
A17: ENSG00000276771 | B17: 0 | C17: 0 | D17: 0 | E17: 0 | F17: 0 | G17: 7.27 | H17: ENSG00000276771 | J17: =VLOOKUP(H17,Sheet5!$A$1:$A$38,1,FALSE) -> #N/A | K17: =G17/E17 -> #DIV/0! | L17: =G17/F17 -> #DIV/0! | M17: =G17/B17 -> #DIV/0! | N17: =E17/B17 -> #DIV/0! | O17: =F17/B17 -> #DIV/0! | P17: =M17/N17 -> #DIV/0! | Q17: =M17/O17 -> #DIV/0!
A18: ENSG00000259185 | B18: 0.63 | C18: 0.54 | D18: 0 | E18: 0 | F18: 2.08 | G18: 6.18 | H18: ENSG00000259185 | J18: =VLOOKUP(H18,Sheet5!$A$1:$A$38,1,FALSE) -> #N/A | K18: =G18/E18 -> #DIV/0! | L18: =G18/F18 -> 2.9711538 | M18: =G18/B18 -> 9.8095238 | N18: =E18/B18 -> 0 | O18: =F18/B18 -> 3.3015873 | P18: =M18/N18 -> #DIV/0! | Q18: =M18/O18 -> 2.9711538
A19: ENSG00000241069 | B19: 0 | C19: 9.5 | D19: 0 | E19: 0 | F19: 0 | G19: 6.08 | H19: ENSG00000241069 | J19: =VLOOKUP(H19,Sheet5!$A$1:$A$38,1,FALSE) -> #N/A | K19: =G19/E19 -> #DIV/0! | L19: =G19/F19 -> #DIV/0! | M19: =G19/B19 -> #DIV/0! | N19: =E19/B19 -> #DIV/0! | O19: =F19/B19 -> #DIV/0! | P19: =M19/N19 -> #DIV/0! | Q19: =M19/O19 -> #DIV/0!
A20: ENSG00000275291_RNVU1-26 | B20: 0 | C20: 0 | D20: 9.82 | E20: 0 | F20: 0 | G20: 5.86 | H20: ENSG00000275291 | I20: RNVU1-26 | J20: =VLOOKUP(H20,Sheet5!$A$1:$A$38,1,FALSE) -> #N/A | K20: =G20/E20 -> #DIV/0! | L20: =G20/F20 -> #DIV/0! | M20: =G20/B20 -> #DIV/0! | N20: =E20/B20 -> #DIV/0! | O20: =F20/B20 -> #DIV/0! | P20: =M20/N20 -> #DIV/0! | Q20: =M20/O20 -> #DIV/0!
A21: ENSG00000274798 | B21: 0 | C21: 0 | D21: 0 | E21: 0 | F21: 0 | G21: 5.63 | H21: ENSG00000274798 | J21: =VLOOKUP(H21,Sheet5!$A$1:$A$38,1,FALSE) -> #N/A | K21: =G21/E21 -> #DIV/0! | L21: =G21/F21 -> #DIV/0! | M21: =G21/B21 -> #DIV/0! | N21: =E21/B21 -> #DIV/0! | O21: =F21/B21 -> #DIV/0! | P21: =M21/N21 -> #DIV/0! | Q21: =M21/O21 -> #DIV/0!
A22: ENSG00000274758 | B22: 0 | C22: 0 | D22: 0 | E22: 0 | F22: 0 | G22: 4.47 | H22: ENSG00000274758 | J22: =VLOOKUP(H22,Sheet5!$A$1:$A$38,1,FALSE) -> #N/A | K22: =G22/E22 -> #DIV/0! | L22: =G22/F22 -> #DIV/0! | M22: =G22/B22 -> #DIV/0! | N22: =E22/B22 -> #DIV/0! | O22: =F22/B22 -> #DIV/0! | P22: =M22/N22 -> #DIV/0! | Q22: =M22/O22 -> #DIV/0!
A23: ENSG00000267633 | B23: 2.3 | C23: 1.61 | D23: 0.63 | E23: 0 | F23: 1.48 | G23: 3.92 | H23: ENSG00000267633 | J23: =VLOOKUP(H23,Sheet5!$A$1:$A$38,1,FALSE) -> #N/A | K23: =G23/E23 -> #DIV/0! | L23: =G23/F23 -> 2.6486486 | M23: =G23/B23 -> 1.7043478 | N23: =E23/B23 -> 0 | O23: =F23/B23 -> 0.64347826 | P23: =M23/N23 -> #DIV/0! | Q23: =M23/O23 -> 2.6486486
A24: ENSG00000279009 | B24: 0 | C24: 24.89 | D24: 0 | E24: 0 | F24: 0 | G24: 3.83 | H24: ENSG00000279009 | J24: =VLOOKUP(H24,Sheet5!$A$1:$A$38,1,FALSE) -> #N/A | K24: =G24/E24 -> #DIV/0! | L24: =G24/F24 -> #DIV/0! | M24: =G24/B24 -> #DIV/0! | N24: =E24/B24 -> #DIV/0! | O24: =F24/B24 -> #DIV/0! | P24: =M24/N24 -> #DIV/0! | Q24: =M24/O24 -> #DIV/0!
A25: ENSG00000276150 | B25: 2.91 | C25: 8.43 | D25: 0 | E25: 0 | F25: 0 | G25: 3.61 | H25: ENSG00000276150 | J25: =VLOOKUP(H25,Sheet5!$A$1:$A$38,1,FALSE) -> #N/A | K25: =G25/E25 -> #DIV/0! | L25: =G25/F25 -> #DIV/0! | M25: =G25/B25 -> 1.2405498 | N25: =E25/B25 -> 0 | O25: =F25/B25 -> 0 | P25: =M25/N25 -> #DIV/0! | Q25: =M25/O25 -> #DIV/0!
A26: ENSG00000275400 | B26: 1.24 | C26: 2.11 | D26: 0.6 | E26: 0 | F26: 1.25 | G26: 3.51 | H26: ENSG00000275400 | J26: =VLOOKUP(H26,Sheet5!$A$1:$A$38,1,FALSE) -> #N/A | K26: =G26/E26 -> #DIV/0! | L26: =G26/F26 -> 2.808 | M26: =G26/B26 -> 2.8306452 | N26: =E26/B26 -> 0 | O26: =F26/B26 -> 1.0080645 | P26: =M26/N26 -> #DIV/0! | Q26: =M26/O26 -> 2.808
A27: ENSG00000279337 | B27: 0 | C27: 0 | D27: 0 | E27: 0 | F27: 0 | G27: 3.46 | H27: ENSG00000279337 | J27: =VLOOKUP(H27,Sheet5!$A$1:$A$38,1,FALSE) -> #N/A | K27: =G27/E27 -> #DIV/0! | L27: =G27/F27 -> #DIV/0! | M27: =G27/B27 -> #DIV/0! | N27: =E27/B27 -> #DIV/0! | O27: =F27/B27 -> #DIV/0! | P27: =M27/N27 -> #DIV/0! | Q27: =M27/O27 -> #DIV/0!
A28: ENSG00000280331 | B28: 0 | C28: 0 | D28: 0 | E28: 0 | F28: 0 | G28: 3.36 | H28: ENSG00000280331 | J28: =VLOOKUP(H28,Sheet5!$A$1:$A$38,1,FALSE) -> #N/A | K28: =G28/E28 -> #DIV/0! | L28: =G28/F28 -> #DIV/0! | M28: =G28/B28 -> #DIV/0! | N28: =E28/B28 -> #DIV/0! | O28: =F28/B28 -> #DIV/0! | P28: =M28/N28 -> #DIV/0! | Q28: =M28/O28 -> #DIV/0!
A29: ENSG00000273542_H4C12 | B29: 0 | C29: 0 | D29: 12.94 | E29: 0 | F29: 2.96 | G29: 3.08 | H29: ENSG00000273542 | I29: H4C12 | J29: =VLOOKUP(H29,Sheet5!$A$1:$A$38,1,FALSE) -> #N/A | K29: =G29/E29 -> #DIV/0! | L29: =G29/F29 -> 1.0405405 | M29: =G29/B29 -> #DIV/0! | N29: =E29/B29 -> #DIV/0! | O29: =F29/B29 -> #DIV/0! | P29: =M29/N29 -> #DIV/0! | Q29: =M29/O29 -> #DIV/0!
A30: ENSG00000275227 | B30: 0 | C30: 0 | D30: 0 | E30: 0 | F30: 0 | G30: 2.91 | H30: ENSG00000275227 | J30: =VLOOKUP(H30,Sheet5!$A$1:$A$38,1,FALSE) -> #N/A | K30: =G30/E30 -> #DIV/0! | L30: =G30/F30 -> #DIV/0! | M30: =G30/B30 -> #DIV/0! | N30: =E30/B30 -> #DIV/0! | O30: =F30/B30 -> #DIV/0! | P30: =M30/N30 -> #DIV/0! | Q30: =M30/O30 -> #DIV/0!
A31: ENSG00000201998_SNORA23 | B31: 0 | C31: 2.25 | D31: 0 | E31: 0 | F31: 0 | G31: 2.86 | H31: ENSG00000201998 | I31: SNORA23 | J31: =VLOOKUP(H31,Sheet5!$A$1:$A$38,1,FALSE) -> #N/A | K31: =G31/E31 -> #DIV/0! | L31: =G31/F31 -> #DIV/0! | M31: =G31/B31 -> #DIV/0! | N31: =E31/B31 -> #DIV/0! | O31: =F31/B31 -> #DIV/0! | P31: =M31/N31 -> #DIV/0! | Q31: =M31/O31 -> #DIV/0!
A32: ENSG00000162840_MT2P1 | B32: 0 | C32: 0 | D32: 2.38 | E32: 0 | F32: 2.73 | G32: 2.78 | H32: ENSG00000162840 | I32: MT2P1 | J32: =VLOOKUP(H32,Sheet5!$A$1:$A$38,1,FALSE) -> #N/A | K32: =G32/E32 -> #DIV/0! | L32: =G32/F32 -> 1.018315 | M32: =G32/B32 -> #DIV/0! | N32: =E32/B32 -> #DIV/0! | O32: =F32/B32 -> #DIV/0! | P32: =M32/N32 -> #DIV/0! | Q32: =M32/O32 -> #DIV/0!
A33: ENSG00000276101 | B33: 1.53 | C33: 0 | D33: 1.53 | E33: 0 | F33: 1.99 | G33: 2.61 | H33: ENSG00000276101 | J33: =VLOOKUP(H33,Sheet5!$A$1:$A$38,1,FALSE) -> #N/A | K33: =G33/E33 -> #DIV/0! | L33: =G33/F33 -> 1.3115578 | M33: =G33/B33 -> 1.7058824 | N33: =E33/B33 -> 0 | O33: =F33/B33 -> 1.3006536 | P33: =M33/N33 -> #DIV/0! | Q33: =M33/O33 -> 1.3115578
A34: ENSG00000180834_MAP6D1 | B34: 0.51 | C34: 0.6 | D34: 0.99 | E34: 0 | F34: 2.68 | G34: 2.45 | H34: ENSG00000180834 | I34: MAP6D1 | J34: =VLOOKUP(H34,Sheet5!$A$1:$A$38,1,FALSE) -> #N/A | K34: =G34/E34 -> #DIV/0! | L34: =G34/F34 -> 0.9141791 | M34: =G34/B34 -> 4.8039216 | N34: =E34/B34 -> 0 | O34: =F34/B34 -> 5.254902 | P34: =M34/N34 -> #DIV/0! | Q34: =M34/O34 -> 0.9141791
A35: ENSG00000230092 | B35: 0 | C35: 0 | D35: 0 | E35: 0 | F35: 0 | G35: 2.25 | H35: ENSG00000230092 | J35: =VLOOKUP(H35,Sheet5!$A$1:$A$38,1,FALSE) -> #N/A | K35: =G35/E35 -> #DIV/0! | L35: =G35/F35 -> #DIV/0! | M35: =G35/B35 -> #DIV/0! | N35: =E35/B35 -> #DIV/0! | O35: =F35/B35 -> #DIV/0! | P35: =M35/N35 -> #DIV/0! | Q35: =M35/O35 -> #DIV/0!
A36: ENSG00000278334 | B36: 1.49 | C36: 0 | D36: 0 | E36: 0 | F36: 0 | G36: 2.21 | H36: ENSG00000278334 | J36: =VLOOKUP(H36,Sheet5!$A$1:$A$38,1,FALSE) -> #N/A | K36: =G36/E36 -> #DIV/0! | L36: =G36/F36 -> #DIV/0! | M36: =G36/B36 -> 1.4832215 | N36: =E36/B36 -> 0 | O36: =F36/B36 -> 0 | P36: =M36/N36 -> #DIV/0! | Q36: =M36/O36 -> #DIV/0!
A37: ENSG00000227077 | B37: 1.52 | C37: 0 | D37: 0 | E37: 0 | F37: 0 | G37: 2.07 | H37: ENSG00000227077 | J37: =VLOOKUP(H37,Sheet5!$A$1:$A$38,1,FALSE) -> #N/A | K37: =G37/E37 -> #DIV/0! | L37: =G37/F37 -> #DIV/0! | M37: =G37/B37 -> 1.3618421 | N37: =E37/B37 -> 0 | O37: =F37/B37 -> 0 | P37: =M37/N37 -> #DIV/0! | Q37: =M37/O37 -> #DIV/0!
A38: ENSG00000237039_RPS28P4 | B38: 1.52 | C38: 0 | D38: 0 | E38: 0 | F38: 0 | G38: 2.07 | H38: ENSG00000237039 | I38: RPS28P4 | J38: =VLOOKUP(H38,Sheet5!$A$1:$A$38,1,FALSE) -> #N/A | K38: =G38/E38 -> #DIV/0! | L38: =G38/F38 -> #DIV/0! | M38: =G38/B38 -> 1.3618421 | N38: =E38/B38 -> 0 | O38: =F38/B38 -> 0 | P38: =M38/N38 -> #DIV/0! | Q38: =M38/O38 -> #DIV/0!
A39: ENSG00000182841_RRP7BP | B39: 0 | C39: 1.03 | D39: 0.32 | E39: 0 | F39: 1.26 | G39: 2.06 | H39: ENSG00000182841 | I39: RRP7BP | J39: =VLOOKUP(H39,Sheet5!$A$1:$A$38,1,FALSE) -> #N/A | K39: =G39/E39 -> #DIV/0! | L39: =G39/F39 -> 1.6349206 | M39: =G39/B39 -> #DIV/0! | N39: =E39/B39 -> #DIV/0! | O39: =F39/B39 -> #DIV/0! | P39: =M39/N39 -> #DIV/0! | Q39: =M39/O39 -> #DIV/0!
A40: ENSG00000275185 | B40: 0 | C40: 1.39 | D40: 1.74 | E40: 0 | F40: 2.94 | G40: 2.03 | H40: ENSG00000275185 | J40: =VLOOKUP(H40,Sheet5!$A$1:$A$38,1,FALSE) -> #N/A | K40: =G40/E40 -> #DIV/0! | L40: =G40/F40 -> 0.69047619 | M40: =G40/B40 -> #DIV/0! | N40: =E40/B40 -> #DIV/0! | O40: =F40/B40 -> #DIV/0! | P40: =M40/N40 -> #DIV/0! | Q40: =M40/O40 -> #DIV/0!
A41: ENSG00000281379_SEPTIN14P19 | B41: 1.64 | C41: 0 | D41: 1 | E41: 0 | F41: 2.21 | G41: 2 | H41: ENSG00000281379 | I41: SEPTIN14P19 | J41: =VLOOKUP(H41,Sheet5!$A$1:$A$38,1,FALSE) -> #N/A | K41: =G41/E41 -> #DIV/0! | L41: =G41/F41 -> 0.90497738 | M41: =G41/B41 -> 1.2195122 | N41: =E41/B41 -> 0 | O41: =F41/B41 -> 1.347561 | P41: =M41/N41 -> #DIV/0! | Q41: =M41/O41 -> 0.90497738
A42: ENSG00000272159 | B42: 0 | C42: 2 | D42: 0.96 | E42: 0 | F42: 1.06 | G42: 1.92 | H42: ENSG00000272159 | J42: =VLOOKUP(H42,Sheet5!$A$1:$A$38,1,FALSE) -> #N/A | K42: =G42/E42 -> #DIV/0! | L42: =G42/F42 -> 1.8113208 | M42: =G42/B42 -> #DIV/0! | N42: =E42/B42 -> #DIV/0! | O42: =F42/B42 -> #DIV/0! | P42: =M42/N42 -> #DIV/0! | Q42: =M42/O42 -> #DIV/0!
A43: ENSG00000288626 | B43: 0 | C43: 0 | D43: 0 | E43: 0 | F43: 0.72 | G43: 1.88 | H43: ENSG00000288626 | J43: =VLOOKUP(H43,Sheet5!$A$1:$A$38,1,FALSE) -> #N/A | K43: =G43/E43 -> #DIV/0! | L43: =G43/F43 -> 2.6111111 | M43: =G43/B43 -> #DIV/0! | N43: =E43/B43 -> #DIV/0! | O43: =F43/B43 -> #DIV/0! | P43: =M43/N43 -> #DIV/0! | Q43: =M43/O43 -> #DIV/0!
A44: ENSG00000272655 | B44: 0 | C44: 3.7 | D44: 5.93 | E44: 0 | F44: 1.96 | G44: 1.75 | H44: ENSG00000272655 | J44: =VLOOKUP(H44,Sheet5!$A$1:$A$38,1,FALSE) -> #N/A | K44: =G44/E44 -> #DIV/0! | L44: =G44/F44 -> 0.89285714 | M44: =G44/B44 -> #DIV/0! | N44: =E44/B44 -> #DIV/0! | O44: =F44/B44 -> #DIV/0! | P44: =M44/N44 -> #DIV/0! | Q44: =M44/O44 -> #DIV/0!
A45: ENSG00000232218 | B45: 0 | C45: 0 | D45: 0 | E45: 0 | F45: 0 | G45: 1.69 | H45: ENSG00000232218 | J45: =VLOOKUP(H45,Sheet5!$A$1:$A$38,1,FALSE) -> #N/A | K45: =G45/E45 -> #DIV/0! | L45: =G45/F45 -> #DIV/0! | M45: =G45/B45 -> #DIV/0! | N45: =E45/B45 -> #DIV/0! | O45: =F45/B45 -> #DIV/0! | P45: =M45/N45 -> #DIV/0! | Q45: =M45/O45 -> #DIV/0!
A46: ENSG00000256569 | B46: 0 | C46: 0 | D46: 0 | E46: 0 | F46: 0 | G46: 1.68 | H46: ENSG00000256569 | J46: =VLOOKUP(H46,Sheet5!$A$1:$A$38,1,FALSE) -> #N/A | K46: =G46/E46 -> #DIV/0! | L46: =G46/F46 -> #DIV/0! | M46: =G46/B46 -> #DIV/0! | N46: =E46/B46 -> #DIV/0! | O46: =F46/B46 -> #DIV/0! | P46: =M46/N46 -> #DIV/0! | Q46: =M46/O46 -> #DIV/0!
A47: ENSG00000243339_RN7SL738P | B47: 0 | C47: 0.33 | D47: 0.34 | E47: 0 | F47: 0.8 | G47: 1.52 | H47: ENSG00000243339 | I47: RN7SL738P | J47: =VLOOKUP(H47,Sheet5!$A$1:$A$38,1,FALSE) -> #N/A | K47: =G47/E47 -> #DIV/0! | L47: =G47/F47 -> 1.9 | M47: =G47/B47 -> #DIV/0! | N47: =E47/B47 -> #DIV/0! | O47: =F47/B47 -> #DIV/0! | P47: =M47/N47 -> #DIV/0! | Q47: =M47/O47 -> #DIV/0!
A48: ENSG00000263968_RN7SL381P | B48: 0.28 | C48: 0 | D48: 0.34 | E48: 0 | F48: 0 | G48: 1.5 | H48: ENSG00000263968 | I48: RN7SL381P | J48: =VLOOKUP(H48,Sheet5!$A$1:$A$38,1,FALSE) -> #N/A | K48: =G48/E48 -> #DIV/0! | L48: =G48/F48 -> #DIV/0! | M48: =G48/B48 -> 5.3571429 | N48: =E48/B48 -> 0 | O48: =F48/B48 -> 0 | P48: =M48/N48 -> #DIV/0! | Q48: =M48/O48 -> #DIV/0!
A49: ENSG00000275710 | B49: 0 | C49: 0 | D49: 0 | E49: 0 | F49: 0 | G49: 1.5 | H49: ENSG00000275710 | J49: =VLOOKUP(H49,Sheet5!$A$1:$A$38,1,FALSE) -> #N/A | K49: =G49/E49 -> #DIV/0! | L49: =G49/F49 -> #DIV/0! | M49: =G49/B49 -> #DIV/0! | N49: =E49/B49 -> #DIV/0! | O49: =F49/B49 -> #DIV/0! | P49: =M49/N49 -> #DIV/0! | Q49: =M49/O49 -> #DIV/0!
A50: ENSG00000277966 | B50: 0 | C50: 0 | D50: 0 | E50: 0 | F50: 0.39 | G50: 1.5 | H50: ENSG00000277966 | J50: =VLOOKUP(H50,Sheet5!$A$1:$A$38,1,FALSE) -> #N/A | K50: =G50/E50 -> #DIV/0! | L50: =G50/F50 -> 3.8461538 | M50: =G50/B50 -> #DIV/0! | N50: =E50/B50 -> #DIV/0! | O50: =F50/B50 -> #DIV/0! | P50: =M50/N50 -> #DIV/0! | Q50: =M50/O50 -> #DIV/0!
A51: ENSG00000259627 | B51: 1.66 | C51: 1.08 | D51: 0 | E51: 0 | F51: 3.52 | G51: 1.45 | H51: ENSG00000259627 | J51: =VLOOKUP(H51,Sheet5!$A$1:$A$38,1,FALSE) -> #N/A | K51: =G51/E51 -> #DIV/0! | L51: =G51/F51 -> 0.41193182 | M51: =G51/B51 -> 0.87349398 | N51: =E51/B51 -> 0 | O51: =F51/B51 -> 2.1204819 | P51: =M51/N51 -> #DIV/0! | Q51: =M51/O51 -> 0.41193182
A52: ENSG00000257663 | B52: 2.08 | C52: 1.64 | D52: 3.65 | E52: 0 | F52: 0.24 | G52: 1.44 | H52: ENSG00000257663 | J52: =VLOOKUP(H52,Sheet5!$A$1:$A$38,1,FALSE) -> #N/A | K52: =G52/E52 -> #DIV/0! | L52: =G52/F52 -> 6 | M52: =G52/B52 -> 0.69230769 | N52: =E52/B52 -> 0 | O52: =F52/B52 -> 0.11538462 | P52: =M52/N52 -> #DIV/0! | Q52: =M52/O52 -> 6
A53: ENSG00000254909 | B53: 1.92 | C53: 1.17 | D53: 1.25 | E53: 0 | F53: 0 | G53: 1.43 | H53: ENSG00000254909 | J53: =VLOOKUP(H53,Sheet5!$A$1:$A$38,1,FALSE) -> #N/A | K53: =G53/E53 -> #DIV/0! | L53: =G53/F53 -> #DIV/0! | M53: =G53/B53 -> 0.74479167 | N53: =E53/B53 -> 0 | O53: =F53/B53 -> 0 | P53: =M53/N53 -> #DIV/0! | Q53: =M53/O53 -> #DIV/0!
A54: ENSG00000284639 | B54: 0 | C54: 0 | D54: 0 | E54: 0 | F54: 0 | G54: 1.4 | H54: ENSG00000284639 | J54: =VLOOKUP(H54,Sheet5!$A$1:$A$38,1,FALSE) -> #N/A | K54: =G54/E54 -> #DIV/0! | L54: =G54/F54 -> #DIV/0! | M54: =G54/B54 -> #DIV/0! | N54: =E54/B54 -> #DIV/0! | O54: =F54/B54 -> #DIV/0! | P54: =M54/N54 -> #DIV/0! | Q54: =M54/O54 -> #DIV/0!
A55: ENSG00000286252 | B55: 0 | C55: 0 | D55: 0 | E55: 0 | F55: 0 | G55: 1.4 | H55: ENSG00000286252 | J55: =VLOOKUP(H55,Sheet5!$A$1:$A$38,1,FALSE) -> #N/A | K55: =G55/E55 -> #DIV/0! | L55: =G55/F55 -> #DIV/0! | M55: =G55/B55 -> #DIV/0! | N55: =E55/B55 -> #DIV/0! | O55: =F55/B55 -> #DIV/0! | P55: =M55/N55 -> #DIV/0! | Q55: =M55/O55 -> #DIV/0!
A56: ENSG00000273300 | B56: 0 | C56: 0 | D56: 0.32 | E56: 0 | F56: 0 | G56: 1.38 | H56: ENSG00000273300 | J56: =VLOOKUP(H56,Sheet5!$A$1:$A$38,1,FALSE) -> #N/A | K56: =G56/E56 -> #DIV/0! | L56: =G56/F56 -> #DIV/0! | M56: =G56/B56 -> #DIV/0! | N56: =E56/B56 -> #DIV/0! | O56: =F56/B56 -> #DIV/0! | P56: =M56/N56 -> #DIV/0! | Q56: =M56/O56 -> #DIV/0!
A57: ENSG00000236890 | B57: 0 | C57: 0 | D57: 0 | E57: 0 | F57: 1.38 | G57: 1.37 | H57: ENSG00000236890 | J57: =VLOOKUP(H57,Sheet5!$A$1:$A$38,1,FALSE) -> #N/A | K57: =G57/E57 -> #DIV/0! | L57: =G57/F57 -> 0.99275362 | M57: =G57/B57 -> #DIV/0! | N57: =E57/B57 -> #DIV/0! | O57: =F57/B57 -> #DIV/0! | P57: =M57/N57 -> #DIV/0! | Q57: =M57/O57 -> #DIV/0!
A58: ENSG00000266402_SNHG25 | B58: 2.22 | C58: 15.83 | D58: 7.18 | E58: 0 | F58: 0.35 | G58: 1.33 | H58: ENSG00000266402 | I58: SNHG25 | J58: =VLOOKUP(H58,Sheet5!$A$1:$A$38,1,FALSE) -> #N/A | K58: =G58/E58 -> #DIV/0! | L58: =G58/F58 -> 3.8 | M58: =G58/B58 -> 0.5990991 | N58: =E58/B58 -> 0 | O58: =F58/B58 -> 0.15765766 | P58: =M58/N58 -> #DIV/0! | Q58: =M58/O58 -> 3.8
A59: ENSG00000248822_APOBEC3AP1 | B59: 0 | C59: 0 | D59: 0 | E59: 0 | F59: 0 | G59: 1.26 | H59: ENSG00000248822 | I59: APOBEC3AP1 | J59: =VLOOKUP(H59,Sheet5!$A$1:$A$38,1,FALSE) -> #N/A | K59: =G59/E59 -> #DIV/0! | L59: =G59/F59 -> #DIV/0! | M59: =G59/B59 -> #DIV/0! | N59: =E59/B59 -> #DIV/0! | O59: =F59/B59 -> #DIV/0! | P59: =M59/N59 -> #DIV/0! | Q59: =M59/O59 -> #DIV/0!
A60: ENSG00000221461_U3 | B60: 0 | C60: 0.99 | D60: 0 | E60: 0 | F60: 0 | G60: 1.22 | H60: ENSG00000221461 | I60: U3 | J60: =VLOOKUP(H60,Sheet5!$A$1:$A$38,1,FALSE) -> #N/A | K60: =G60/E60 -> #DIV/0! | L60: =G60/F60 -> #DIV/0! | M60: =G60/B60 -> #DIV/0! | N60: =E60/B60 -> #DIV/0! | O60: =F60/B60 -> #DIV/0! | P60: =M60/N60 -> #DIV/0! | Q60: =M60/O60 -> #DIV/0!
A61: ENSG00000283511 | B61: 0.13 | C61: 0.37 | D61: 0.13 | E61: 0 | F61: 0.94 | G61: 1.22 | H61: ENSG00000283511 | J61: =VLOOKUP(H61,Sheet5!$A$1:$A$38,1,FALSE) -> #N/A | K61: =G61/E61 -> #DIV/0! | L61: =G61/F61 -> 1.2978723 | M61: =G61/B61 -> 9.3846154 | N61: =E61/B61 -> 0 | O61: =F61/B61 -> 7.2307692 | P61: =M61/N61 -> #DIV/0! | Q61: =M61/O61 -> 1.2978723
A62: ENSG00000280176 | B62: 0 | C62: 0 | D62: 0 | E62: 0 | F62: 0 | G62: 1.2 | H62: ENSG00000280176 | J62: =VLOOKUP(H62,Sheet5!$A$1:$A$38,1,FALSE) -> #N/A | K62: =G62/E62 -> #DIV/0! | L62: =G62/F62 -> #DIV/0! | M62: =G62/B62 -> #DIV/0! | N62: =E62/B62 -> #DIV/0! | O62: =F62/B62 -> #DIV/0! | P62: =M62/N62 -> #DIV/0! | Q62: =M62/O62 -> #DIV/0!
A63: ENSG00000189068_VSTM1 | B63: 0 | C63: 0 | D63: 0 | E63: 0 | F63: 3.8 | G63: 1.19 | H63: ENSG00000189068 | I63: VSTM1 | J63: =VLOOKUP(H63,Sheet5!$A$1:$A$38,1,FALSE) -> #N/A | K63: =G63/E63 -> #DIV/0! | L63: =G63/F63 -> 0.31315789 | M63: =G63/B63 -> #DIV/0! | N63: =E63/B63 -> #DIV/0! | O63: =F63/B63 -> #DIV/0! | P63: =M63/N63 -> #DIV/0! | Q63: =M63/O63 -> #DIV/0!
A64: ENSG00000270062 | B64: 0.45 | C64: 0.87 | D64: 2.57 | E64: 0 | F64: 0.53 | G64: 1.17 | H64: ENSG00000270062 | J64: =VLOOKUP(H64,Sheet5!$A$1:$A$38,1,FALSE) -> #N/A | K64: =G64/E64 -> #DIV/0! | L64: =G64/F64 -> 2.2075472 | M64: =G64/B64 -> 2.6 | N64: =E64/B64 -> 0 | O64: =F64/B64 -> 1.1777778 | P64: =M64/N64 -> #DIV/0! | Q64: =M64/O64 -> 2.2075472
A65: ENSG00000188985_DHFRP1 | B65: 0 | C65: 1.24 | D65: 0.21 | E65: 0 | F65: 0.42 | G65: 1.12 | H65: ENSG00000188985 | I65: DHFRP1 | J65: =VLOOKUP(H65,Sheet5!$A$1:$A$38,1,FALSE) -> #N/A | K65: =G65/E65 -> #DIV/0! | L65: =G65/F65 -> 2.6666667 | M65: =G65/B65 -> #DIV/0! | N65: =E65/B65 -> #DIV/0! | O65: =F65/B65 -> #DIV/0! | P65: =M65/N65 -> #DIV/0! | Q65: =M65/O65 -> #DIV/0!
A66: ENSG00000251257 | B66: 0.15 | C66: 0.24 | D66: 1.11 | E66: 0 | F66: 1.36 | G66: 1.11 | H66: ENSG00000251257 | J66: =VLOOKUP(H66,Sheet5!$A$1:$A$38,1,FALSE) -> #N/A | K66: =G66/E66 -> #DIV/0! | L66: =G66/F66 -> 0.81617647 | M66: =G66/B66 -> 7.4 | N66: =E66/B66 -> 0 | O66: =F66/B66 -> 9.0666667 | P66: =M66/N66 -> #DIV/0! | Q66: =M66/O66 -> 0.81617647
A67: ENSG00000289747 | B67: 4.78 | C67: 1.61 | D67: 0.34 | E67: 0 | F67: 0.86 | G67: 1.09 | H67: ENSG00000289747 | J67: =VLOOKUP(H67,Sheet5!$A$1:$A$38,1,FALSE) -> #N/A | K67: =G67/E67 -> #DIV/0! | L67: =G67/F67 -> 1.2674419 | M67: =G67/B67 -> 0.22803347 | N67: =E67/B67 -> 0 | O67: =F67/B67 -> 0.17991632 | P67: =M67/N67 -> #DIV/0! | Q67: =M67/O67 -> 1.2674419
A68: ENSG00000255513 | B68: 0 | C68: 0 | D68: 0 | E68: 0 | F68: 0 | G68: 1.06 | H68: ENSG00000255513 | J68: =VLOOKUP(H68,Sheet5!$A$1:$A$38,1,FALSE) -> #N/A | K68: =G68/E68 -> #DIV/0! | L68: =G68/F68 -> #DIV/0! | M68: =G68/B68 -> #DIV/0! | N68: =E68/B68 -> #DIV/0! | O68: =F68/B68 -> #DIV/0! | P68: =M68/N68 -> #DIV/0! | Q68: =M68/O68 -> #DIV/0!
A69: ENSG00000212724_KRTAP2-3 | B69: 0 | C69: 0 | D69: 0 | E69: 0 | F69: 4.67 | G69: 1.03 | H69: ENSG00000212724 | I69: KRTAP2-3 | J69: =VLOOKUP(H69,Sheet5!$A$1:$A$38,1,FALSE) -> #N/A | K69: =G69/E69 -> #DIV/0! | L69: =G69/F69 -> 0.22055675 | M69: =G69/B69 -> #DIV/0! | N69: =E69/B69 -> #DIV/0! | O69: =F69/B69 -> #DIV/0! | P69: =M69/N69 -> #DIV/0! | Q69: =M69/O69 -> #DIV/0!
A70: ENSG00000283390 | B70: 0 | C70: 4.2 | D70: 0 | E70: 0 | F70: 3.12 | G70: 1.01 | H70: ENSG00000283390 | J70: =VLOOKUP(H70,Sheet5!$A$1:$A$38,1,FALSE) -> #N/A | K70: =G70/E70 -> #DIV/0! | L70: =G70/F70 -> 0.32371795 | M70: =G70/B70 -> #DIV/0! | N70: =E70/B70 -> #DIV/0! | O70: =F70/B70 -> #DIV/0! | P70: =M70/N70 -> #DIV/0! | Q70: =M70/O70 -> #DIV/0!
A71: ENSG00000227992 | B71: 0 | C71: 0.45 | D71: 0.68 | E71: 0 | F71: 0.27 | G71: 1 | H71: ENSG00000227992 | J71: =VLOOKUP(H71,Sheet5!$A$1:$A$38,1,FALSE) -> #N/A | K71: =G71/E71 -> #DIV/0! | L71: =G71/F71 -> 3.7037037 | M71: =G71/B71 -> #DIV/0! | N71: =E71/B71 -> #DIV/0! | O71: =F71/B71 -> #DIV/0! | P71: =M71/N71 -> #DIV/0! | Q71: =M71/O71 -> #DIV/0!
A72: ENSG00000228626 | B72: 0.31 | C72: 1.5 | D72: 0.38 | E72: 0 | F72: 0 | G72: 0.86 | H72: ENSG00000228626 | J72: =VLOOKUP(H72,Sheet5!$A$1:$A$38,1,FALSE) -> #N/A | K72: =G72/E72 -> #DIV/0! | L72: =G72/F72 -> #DIV/0! | M72: =G72/B72 -> 2.7741935 | N72: =E72/B72 -> 0 | O72: =F72/B72 -> 0 | P72: =M72/N72 -> #DIV/0! | Q72: =M72/O72 -> #DIV/0!
A73: ENSG00000286078 | B73: 0.35 | C73: 1.26 | D73: 0.18 | E73: 0 | F73: 0 | G73: 0.83 | H73: ENSG00000286078 | J73: =VLOOKUP(H73,Sheet5!$A$1:$A$38,1,FALSE) -> #N/A | K73: =G73/E73 -> #DIV/0! | L73: =G73/F73 -> #DIV/0! | M73: =G73/B73 -> 2.3714286 | N73: =E73/B73 -> 0 | O73: =F73/B73 -> 0 | P73: =M73/N73 -> #DIV/0! | Q73: =M73/O73 -> #DIV/0!
A74: ENSG00000226107_RPL36AP54 | B74: 0 | C74: 1.08 | D74: 0 | E74: 0 | F74: 0 | G74: 0.82 | H74: ENSG00000226107 | I74: RPL36AP54 | J74: =VLOOKUP(H74,Sheet5!$A$1:$A$38,1,FALSE) -> #N/A | K74: =G74/E74 -> #DIV/0! | L74: =G74/F74 -> #DIV/0! | M74: =G74/B74 -> #DIV/0! | N74: =E74/B74 -> #DIV/0! | O74: =F74/B74 -> #DIV/0! | P74: =M74/N74 -> #DIV/0! | Q74: =M74/O74 -> #DIV/0!
A75: ENSG00000188933_USP32P1 | B75: 0.13 | C75: 0.22 | D75: 0 | E75: 0 | F75: 2.71 | G75: 0.81 | H75: ENSG00000188933 | I75: USP32P1 | J75: =VLOOKUP(H75,Sheet5!$A$1:$A$38,1,FALSE) -> #N/A | K75: =G75/E75 -> #DIV/0! | L75: =G75/F75 -> 0.29889299 | M75: =G75/B75 -> 6.2307692 | N75: =E75/B75 -> 0 | O75: =F75/B75 -> 20.846154 | P75: =M75/N75 -> #DIV/0! | Q75: =M75/O75 -> 0.29889299
A76: ENSG00000180581_SRP9P1 | B76: 0 | C76: 4.94 | D76: 2.03 | E76: 0 | F76: 0.82 | G76: 0.76 | H76: ENSG00000180581 | I76: SRP9P1 | J76: =VLOOKUP(H76,Sheet5!$A$1:$A$38,1,FALSE) -> #N/A | K76: =G76/E76 -> #DIV/0! | L76: =G76/F76 -> 0.92682927 | M76: =G76/B76 -> #DIV/0! | N76: =E76/B76 -> #DIV/0! | O76: =F76/B76 -> #DIV/0! | P76: =M76/N76 -> #DIV/0! | Q76: =M76/O76 -> #DIV/0!
A77: ENSG00000254721 | B77: 1.25 | C77: 2.23 | D77: 1.67 | E77: 0 | F77: 2.64 | G77: 0.69 | H77: ENSG00000254721 | J77: =VLOOKUP(H77,Sheet5!$A$1:$A$38,1,FALSE) -> #N/A | K77: =G77/E77 -> #DIV/0! | L77: =G77/F77 -> 0.26136364 | M77: =G77/B77 -> 0.552 | N77: =E77/B77 -> 0 | O77: =F77/B77 -> 2.112 | P77: =M77/N77 -> #DIV/0! | Q77: =M77/O77 -> 0.26136364
A78: ENSG00000228960_OR2A9P | B78: 0 | C78: 1.35 | D78: 0.12 | E78: 0 | F78: 0 | G78: 0.67 | H78: ENSG00000228960 | I78: OR2A9P | J78: =VLOOKUP(H78,Sheet5!$A$1:$A$38,1,FALSE) -> #N/A | K78: =G78/E78 -> #DIV/0! | L78: =G78/F78 -> #DIV/0! | M78: =G78/B78 -> #DIV/0! | N78: =E78/B78 -> #DIV/0! | O78: =F78/B78 -> #DIV/0! | P78: =M78/N78 -> #DIV/0! | Q78: =M78/O78 -> #DIV/0!
A79: ENSG00000236060_HSPB1P1 | B79: 0 | C79: 1.06 | D79: 0 | E79: 0 | F79: 0.64 | G79: 0.61 | H79: ENSG00000236060 | I79: HSPB1P1 | J79: =VLOOKUP(H79,Sheet5!$A$1:$A$38,1,FALSE) -> #N/A | K79: =G79/E79 -> #DIV/0! | L79: =G79/F79 -> 0.953125 | M79: =G79/B79 -> #DIV/0! | N79: =E79/B79 -> #DIV/0! | O79: =F79/B79 -> #DIV/0! | P79: =M79/N79 -> #DIV/0! | Q79: =M79/O79 -> #DIV/0!
A80: ENSG00000257527 | B80: 0.03 | C80: 0.12 | D80: 0.58 | E80: 0 | F80: 1.46 | G80: 0.61 | H80: ENSG00000257527 | J80: =VLOOKUP(H80,Sheet5!$A$1:$A$38,1,FALSE) -> #N/A | K80: =G80/E80 -> #DIV/0! | L80: =G80/F80 -> 0.41780822 | M80: =G80/B80 -> 20.333333 | N80: =E80/B80 -> 0 | O80: =F80/B80 -> 48.666667 | P80: =M80/N80 -> #DIV/0! | Q80: =M80/O80 -> 0.41780822
A81: ENSG00000261063 | B81: 0 | C81: 0 | D81: 5.56 | E81: 0 | F81: 0 | G81: 0.58 | H81: ENSG00000261063 | J81: =VLOOKUP(H81,Sheet5!$A$1:$A$38,1,FALSE) -> #N/A | K81: =G81/E81 -> #DIV/0! | L81: =G81/F81 -> #DIV/0! | M81: =G81/B81 -> #DIV/0! | N81: =E81/B81 -> #DIV/0! | O81: =F81/B81 -> #DIV/0! | P81: =M81/N81 -> #DIV/0! | Q81: =M81/O81 -> #DIV/0!
A82: ENSG00000227848_SUCLA2-AS1 | B82: 0.15 | C82: 1.72 | D82: 0.53 | E82: 0 | F82: 0.44 | G82: 0.58 | H82: ENSG00000227848 | I82: SUCLA2-AS1 | J82: =VLOOKUP(H82,Sheet5!$A$1:$A$38,1,FALSE) -> #N/A | K82: =G82/E82 -> #DIV/0! | L82: =G82/F82 -> 1.3181818 | M82: =G82/B82 -> 3.8666667 | N82: =E82/B82 -> 0 | O82: =F82/B82 -> 2.9333333 | P82: =M82/N82 -> #DIV/0! | Q82: =M82/O82 -> 1.3181818
A83: ENSG00000196747_H2AC13 | B83: 0.18 | C83: 2.51 | D83: 1.18 | E83: 0 | F83: 0.66 | G83: 0.52 | H83: ENSG00000196747 | I83: H2AC13 | J83: =VLOOKUP(H83,Sheet5!$A$1:$A$38,1,FALSE) -> #N/A | K83: =G83/E83 -> #DIV/0! | L83: =G83/F83 -> 0.78787879 | M83: =G83/B83 -> 2.8888889 | N83: =E83/B83 -> 0 | O83: =F83/B83 -> 3.6666667 | P83: =M83/N83 -> #DIV/0! | Q83: =M83/O83 -> 0.78787879
A84: ENSG00000224645 | B84: 0.04 | C84: 0 | D84: 2.1 | E84: 0 | F84: 0 | G84: 0.49 | H84: ENSG00000224645 | J84: =VLOOKUP(H84,Sheet5!$A$1:$A$38,1,FALSE) -> #N/A | K84: =G84/E84 -> #DIV/0! | L84: =G84/F84 -> #DIV/0! | M84: =G84/B84 -> 12.25 | N84: =E84/B84 -> 0 | O84: =F84/B84 -> 0 | P84: =M84/N84 -> #DIV/0! | Q84: =M84/O84 -> #DIV/0!
A85: ENSG00000276965 | B85: 0 | C85: 1.32 | D85: 0 | E85: 0 | F85: 0 | G85: 0.49 | H85: ENSG00000276965 | J85: =VLOOKUP(H85,Sheet5!$A$1:$A$38,1,FALSE) -> #N/A | K85: =G85/E85 -> #DIV/0! | L85: =G85/F85 -> #DIV/0! | M85: =G85/B85 -> #DIV/0! | N85: =E85/B85 -> #DIV/0! | O85: =F85/B85 -> #DIV/0! | P85: =M85/N85 -> #DIV/0! | Q85: =M85/O85 -> #DIV/0!
A86: ENSG00000288931 | B86: 1.91 | C86: 1.97 | D86: 0 | E86: 0 | F86: 0.65 | G86: 0.49 | H86: ENSG00000288931 | J86: =VLOOKUP(H86,Sheet5!$A$1:$A$38,1,FALSE) -> #N/A | K86: =G86/E86 -> #DIV/0! | L86: =G86/F86 -> 0.75384615 | M86: =G86/B86 -> 0.2565445 | N86: =E86/B86 -> 0 | O86: =F86/B86 -> 0.34031414 | P86: =M86/N86 -> #DIV/0! | Q86: =M86/O86 -> 0.75384615
A87: ENSG00000272764 | B87: 0 | C87: 1.65 | D87: 0 | E87: 0 | F87: 0 | G87: 0.47 | H87: ENSG00000272764 | J87: =VLOOKUP(H87,Sheet5!$A$1:$A$38,1,FALSE) -> #N/A | K87: =G87/E87 -> #DIV/0! | L87: =G87/F87 -> #DIV/0! | M87: =G87/B87 -> #DIV/0! | N87: =E87/B87 -> #DIV/0! | O87: =F87/B87 -> #DIV/0! | P87: =M87/N87 -> #DIV/0! | Q87: =M87/O87 -> #DIV/0!
A88: ENSG00000240509_RPL34P18 | B88: 1.43 | C88: 0.43 | D88: 0.21 | E88: 0 | F88: 0.51 | G88: 0.47 | H88: ENSG00000240509 | I88: RPL34P18 | J88: =VLOOKUP(H88,Sheet5!$A$1:$A$38,1,FALSE) -> #N/A | K88: =G88/E88 -> #DIV/0! | L88: =G88/F88 -> 0.92156863 | M88: =G88/B88 -> 0.32867133 | N88: =E88/B88 -> 0 | O88: =F88/B88 -> 0.35664336 | P88: =M88/N88 -> #DIV/0! | Q88: =M88/O88 -> 0.92156863
A89: ENSG00000244618_RN7SL334P | B89: 0.67 | C89: 0 | D89: 1.23 | E89: 0 | F89: 0 | G89: 0.46 | H89: ENSG00000244618 | I89: RN7SL334P | J89: =VLOOKUP(H89,Sheet5!$A$1:$A$38,1,FALSE) -> #N/A | K89: =G89/E89 -> #DIV/0! | L89: =G89/F89 -> #DIV/0! | M89: =G89/B89 -> 0.68656716 | N89: =E89/B89 -> 0 | O89: =F89/B89 -> 0 | P89: =M89/N89 -> #DIV/0! | Q89: =M89/O89 -> #DIV/0!
A90: ENSG00000288781 | B90: 0 | C90: 0 | D90: 0 | E90: 0 | F90: 1 | G90: 0.44 | H90: ENSG00000288781 | J90: =VLOOKUP(H90,Sheet5!$A$1:$A$38,1,FALSE) -> #N/A | K90: =G90/E90 -> #DIV/0! | L90: =G90/F90 -> 0.44 | M90: =G90/B90 -> #DIV/0! | N90: =E90/B90 -> #DIV/0! | O90: =F90/B90 -> #DIV/0! | P90: =M90/N90 -> #DIV/0! | Q90: =M90/O90 -> #DIV/0!
A91: ENSG00000279064 | B91: 1.37 | C91: 1.51 | D91: 1.5 | E91: 0 | F91: 0.31 | G91: 0.41 | H91: ENSG00000279064 | J91: =VLOOKUP(H91,Sheet5!$A$1:$A$38,1,FALSE) -> #N/A | K91: =G91/E91 -> #DIV/0! | L91: =G91/F91 -> 1.3225806 | M91: =G91/B91 -> 0.29927007 | N91: =E91/B91 -> 0 | O91: =F91/B91 -> 0.22627737 | P91: =M91/N91 -> #DIV/0! | Q91: =M91/O91 -> 1.3225806
A92: ENSG00000258798_CCDC88C-DT | B92: 0 | C92: 1.26 | D92: 0 | E92: 0 | F92: 0 | G92: 0.36 | H92: ENSG00000258798 | I92: CCDC88C-DT | J92: =VLOOKUP(H92,Sheet5!$A$1:$A$38,1,FALSE) -> #N/A | K92: =G92/E92 -> #DIV/0! | L92: =G92/F92 -> #DIV/0! | M92: =G92/B92 -> #DIV/0! | N92: =E92/B92 -> #DIV/0! | O92: =F92/B92 -> #DIV/0! | P92: =M92/N92 -> #DIV/0! | Q92: =M92/O92 -> #DIV/0!
A93: ENSG00000254198 | B93: 0.13 | C93: 1.4 | D93: 0 | E93: 0 | F93: 1.05 | G93: 0.34 | H93: ENSG00000254198 | J93: =VLOOKUP(H93,Sheet5!$A$1:$A$38,1,FALSE) -> #N/A | K93: =G93/E93 -> #DIV/0! | L93: =G93/F93 -> 0.32380952 | M93: =G93/B93 -> 2.6153846 | N93: =E93/B93 -> 0 | O93: =F93/B93 -> 8.0769231 | P93: =M93/N93 -> #DIV/0! | Q93: =M93/O93 -> 0.32380952
A94: ENSG00000177243_DEFB103B | B94: 0 | C94: 0 | D94: 0 | E94: 0 | F94: 1.86 | G94: 0.34 | H94: ENSG00000177243 | I94: DEFB103B | J94: =VLOOKUP(H94,Sheet5!$A$1:$A$38,1,FALSE) -> #N/A | K94: =G94/E94 -> #DIV/0! | L94: =G94/F94 -> 0.1827957 | M94: =G94/B94 -> #DIV/0! | N94: =E94/B94 -> #DIV/0! | O94: =F94/B94 -> #DIV/0! | P94: =M94/N94 -> #DIV/0! | Q94: =M94/O94 -> #DIV/0!
A95: ENSG00000205763_RP9P | B95: 0 | C95: 0 | D95: 0 | E95: 0 | F95: 1.43 | G95: 0.32 | H95: ENSG00000205763 | I95: RP9P | J95: =VLOOKUP(H95,Sheet5!$A$1:$A$38,1,FALSE) -> #N/A | K95: =G95/E95 -> #DIV/0! | L95: =G95/F95 -> 0.22377622 | M95: =G95/B95 -> #DIV/0! | N95: =E95/B95 -> #DIV/0! | O95: =F95/B95 -> #DIV/0! | P95: =M95/N95 -> #DIV/0! | Q95: =M95/O95 -> #DIV/0!
A96: ENSG00000169509_CRCT1 | B96: 0 | C96: 0 | D96: 0 | E96: 0 | F96: 2.61 | G96: 0.32 | H96: ENSG00000169509 | I96: CRCT1 | J96: =VLOOKUP(H96,Sheet5!$A$1:$A$38,1,FALSE) -> #N/A | K96: =G96/E96 -> #DIV/0! | L96: =G96/F96 -> 0.12260536 | M96: =G96/B96 -> #DIV/0! | N96: =E96/B96 -> #DIV/0! | O96: =F96/B96 -> #DIV/0! | P96: =M96/N96 -> #DIV/0! | Q96: =M96/O96 -> #DIV/0!
A97: ENSG00000170498_KISS1 | B97: 0.15 | C97: 0.25 | D97: 0.3 | E97: 0 | F97: 1.2 | G97: 0.26 | H97: ENSG00000170498 | I97: KISS1 | J97: =VLOOKUP(H97,Sheet5!$A$1:$A$38,1,FALSE) -> #N/A | K97: =G97/E97 -> #DIV/0! | L97: =G97/F97 -> 0.21666667 | M97: =G97/B97 -> 1.7333333 | N97: =E97/B97 -> 0 | O97: =F97/B97 -> 8 | P97: =M97/N97 -> #DIV/0! | Q97: =M97/O97 -> 0.21666667
A98: ENSG00000250753 | B98: 0.53 | C98: 0.21 | D98: 1.47 | E98: 0 | F98: 0 | G98: 0.23 | H98: ENSG00000250753 | J98: =VLOOKUP(H98,Sheet5!$A$1:$A$38,1,FALSE) -> #N/A | K98: =G98/E98 -> #DIV/0! | L98: =G98/F98 -> #DIV/0! | M98: =G98/B98 -> 0.43396226 | N98: =E98/B98 -> 0 | O98: =F98/B98 -> 0 | P98: =M98/N98 -> #DIV/0! | Q98: =M98/O98 -> #DIV/0!
A99: ENSG00000260418 | B99: 2.05 | C99: 0.75 | D99: 2.08 | E99: 0 | F99: 0.45 | G99: 0.21 | H99: ENSG00000260418 | J99: =VLOOKUP(H99,Sheet5!$A$1:$A$38,1,FALSE) -> #N/A | K99: =G99/E99 -> #DIV/0! | L99: =G99/F99 -> 0.46666667 | M99: =G99/B99 -> 0.10243902 | N99: =E99/B99 -> 0 | O99: =F99/B99 -> 0.2195122 | P99: =M99/N99 -> #DIV/0! | Q99: =M99/O99 -> 0.46666667
A100: ENSG00000260342 | B100: 0 | C100: 2.35 | D100: 1.08 | E100: 0 | F100: 0.37 | G100: 0.15 | H100: ENSG00000260342 | J100: =VLOOKUP(H100,Sheet5!$A$1:$A$38,1,FALSE) -> #N/A | K100: =G100/E100 -> #DIV/0! | L100: =G100/F100 -> 0.40540541 | M100: =G100/B100 -> #DIV/0! | N100: =E100/B100 -> #DIV/0! | O100: =F100/B100 -> #DIV/0! | P100: =M100/N100 -> #DIV/0! | Q100: =M100/O100 -> #DIV/0!
...

Sheet Sheet5
A1: ENSG00000109321
A2: ENSG00000176697
A3: ENSG00000125845
A4: ENSG00000138756
A5: ENSG00000116985
A6: ENSG00000174808
A7: ENSG00000108342
A8: ENSG00000249491
A9: ENSG00000124882
A10: ENSG00000113578
A11: ENSG00000114279
A12: ENSG00000138685
... A38: ENSG00000112715

Sheet Figure 2 TPM counts of 238 gene
B1: pBABE_puro | C1: HER2_puro | D1: puro_YAP | E1: HER2_YAP | G1: gene id
A2: ENSG00000015171_ZMYND11 | B2: 6.19 | C2: 15.91 | D2: 16.79 | E2: 32.88 | F2: ENSG00000015171 | G2: ZMYND11
A3: ENSG00000016402_IL20RA | B3: 1.87 | C3: 0.47 | D3: 0.51 | E3: 0.19 | F3: ENSG00000016402 | G3: IL20RA
A4: ENSG00000020129_NCDN | B4: 7.83 | C4: 12.65 | D4: 12.44 | E4: 17.47 | F4: ENSG00000020129 | G4: NCDN
A5: ENSG00000047056_WDR37 | B5: 2.97 | C5: 4.12 | D5: 5.24 | E5: 10.44 | F5: ENSG00000047056 | G5: WDR37
A6: ENSG00000067082_KLF6 | B6: 45.81 | C6: 72.74 | D6: 75.54 | E6: 121.28 | F6: ENSG00000067082 | G6: KLF6
A7: ENSG00000067191_CACNB1 | B7: 1.92 | C7: 3.49 | D7: 3.64 | E7: 5.15 | F7: ENSG00000067191 | G7: CACNB1
A8: ENSG00000070759_TESK2 | B8: 5.73 | C8: 4.52 | D8: 3.33 | E8: 2.03 | F8: ENSG00000070759 | G8: TESK2
A9: ENSG00000072071_ADGRL1 | B9: 9.64 | C9: 4.7 | D9: 5.99 | E9: 2.78 | F9: ENSG00000072071 | G9: ADGRL1
A10: ENSG00000072609_CHFR | B10: 8.97 | C10: 11.84 | D10: 14.99 | E10: 20.76 | F10: ENSG00000072609 | G10: CHFR
A11: ENSG00000078403_MLLT10 | B11: 7.85 | C11: 12.07 | D11: 12.88 | E11: 19.8 | F11: ENSG00000078403 | G11: MLLT10
A12: ENSG00000080031_PTPRH | B12: 3.62 | C12: 1.06 | D12: 1.12 | E12: 0.51 | F12: ENSG00000080031 | G12: PTPRH
A13: ENSG00000083312_TNPO1 | B13: 34.98 | C13: 38.22 | D13: 55.21 | E13: 76.29 | F13: ENSG00000083312 | G13: TNPO1
... A186: ENSG00000224914_LINC00863 | B186: 6.23 | C186: 4.21 | D186: 5.01 | E186: 2.95 | F186: ENSG00000224914 | G186: LINC00863
A187: ENSG00000225313 | B187: 1.48 | C187: 3.22 | D187: 3.31 | E187: 5.62 | F187: ENSG00000225313
A188: ENSG00000225855_RUSC1-AS1 | B188: 1.42 | C188: 3.24 | D188: 2.91 | E188: 6.12 | F188: ENSG00000225855 | G188: RUSC1-AS1
A189: ENSG00000226221_RPL26P19 | B189: 16.02 | C189: 9.64 | D189: 6.82 | E189: 2.68 | F189: ENSG00000226221 | G189: RPL26P19
A190: ENSG00000227210_WDR35-DT | B190: 1.88 | C190: 0.79 | D190: 0.71 | E190: 0.27 | F190: ENSG00000227210 | G190: WDR35-DT
A191: ENSG00000227540_DNAJC9-AS1 | B191: 6.46 | C191: 5.41 | D191: 4.72 | E191: 1.45 | F191: ENSG00000227540 | G191: DNAJC9-AS1
A192: ENSG00000227617_CERS6-AS1 | B192: 22.86 | C192: 14.68 | D192: 13.18 | E192: 9.45 | F192: ENSG00000227617 | G192: CERS6-AS1
A193: ENSG00000227671_ZNF731P | B193: 9.27 | C193: 10.68 | D193: 14.62 | E193: 22.15 | F193: ENSG00000227671 | G193: ZNF731P
A194: ENSG00000228253_MT-ATP8 | B194: 2089.43 | C194: 2272.03 | D194: 2788.9 | E194: 10372.38 | F194: ENSG00000228253 | G194: MT-ATP8
A195: ENSG00000228649_SNHG26 | B195: 12.05 | C195: 7.45 | D195: 8.56 | E195: 5.48 | F195: ENSG00000228649 | G195: SNHG26
A196: ENSG00000230202 | B196: 25.49 | C196: 13.63 | D196: 13.58 | E196: 8.86 | F196: ENSG00000230202
A197: ENSG00000231131_LNCAROD | B197: 41.92 | C197: 14.75 | D197: 18.58 | E197: 5.47 | F197: ENSG00000231131 | G197: LNCAROD
A198: ENSG00000231187_SYT15-AS1 | B198: 5.96 | C198: 2.98 | D198: 1.85 | E198: 0.98 | F198: ENSG00000231187 | G198: SYT15-AS1
A199: ENSG00000231789_PIK3CD-AS2 | B199: 1.68 | C199: 0.49 | D199: 0.44 | E199: 0 | F199: ENSG00000231789 | G199: PIK3CD-AS2
A200: ENSG00000233426_EIF3FP3 | B200: 2.89 | C200: 1.25 | D200: 1.6 | E200: 0.79 | F200: ENSG00000233426 | G200: EIF3FP3
A201: ENSG00000234147 | B201: 1.93 | C201: 0.33 | D201: 0.39 | E201: 0.01 | F201: ENSG00000234147
A202: ENSG00000234287 | B202: 26.16 | C202: 20.45 | D202: 13.57 | E202: 6.18 | F202: ENSG00000234287
A203: ENSG00000235560_ZNF747-DT | B203: 3.38 | C203: 1.74 | D203: 1.57 | E203: 0.89 | F203: ENSG00000235560 | G203: ZNF747-DT
A204: ENSG00000235954_TTC28-AS1 | B204: 20.82 | C204: 19.32 | D204: 11.04 | E204: 7.84 | F204: ENSG00000235954 | G204: TTC28-AS1
A205: ENSG00000237424_FOXD2-AS1 | B205: 6.44 | C205: 3.96 | D205: 3.33 | E205: 1.88 | F205: ENSG00000237424 | G205: FOXD2-AS1
A206: ENSG00000242802_AP5Z1 | B206: 5.58 | C206: 8.14 | D206: 11.1 | E206: 16.17 | F206: ENSG00000242802 | G206: AP5Z1
A207: ENSG00000243364_EFNA4 | B207: 22.11 | C207: 14.25 | D207: 16.26 | E207: 10.78 | F207: ENSG00000243364 | G207: EFNA4
A208: ENSG00000244300_GATA2-AS1 | B208: 3.4 | C208: 1.42 | D208: 2.4 | E208: 0.25 | F208: ENSG00000244300 | G208: GATA2-AS1
A209: ENSG00000246273_SBF2-AS1 | B209: 5.46 | C209: 2.91 | D209: 2.72 | E209: 1.84 | F209: ENSG00000246273 | G209: SBF2-AS1
A210: ENSG00000247134 | B210: 10.31 | C210: 2.96 | D210: 4.49 | E210: 0.03 | F210: ENSG00000247134
A211: ENSG00000248527_MTATP6P1 | B211: 151.87 | C211: 175.97 | D211: 269.62 | E211: 771.51 | F211: ENSG00000248527 | G211: MTATP6P1
A212: ENSG00000251141_MRPS30-DT | B212: 3.77 | C212: 1.79 | D212: 2.06 | E212: 1.02 | F212: ENSG00000251141 | G212: MRPS30-DT
A213: ENSG00000257529_RPL36A-HNRNPH2 | B213: 825.16 | C213: 384.02 | D213: 355.89 | E213: 214.79 | F213: ENSG00000257529 | G213: RPL36A-HNRNPH2
A214: ENSG00000258819_LINC02289 | B214: 3.8 | C214: 2.31 | D214: 1.53 | E214: 0.84 | F214: ENSG00000258819 | G214: LINC02289
A215: ENSG00000259171 | B215: 6.51 | C215: 5.46 | D215: 3.48 | E215: 0.6 | F215: ENSG00000259171
A216: ENSG00000259712 | B216: 15.74 | C216: 3.4 | D216: 3.03 | E216: 0.7 | F216: ENSG00000259712
A217: ENSG00000266094_RASSF5 | B217: 13.03 | C217: 7.31 | D217: 11.82 | E217: 4.86 | F217: ENSG00000266094 | G217: RASSF5
A218: ENSG00000267125 | B218: 11.86 | C218: 16.15 | D218: 19.22 | E218: 25.89 | F218: ENSG00000267125
A219: ENSG00000267480_LINC02979 | B219: 2.45 | C219: 1.03 | D219: 1.43 | E219: 0.53 | F219: ENSG00000267480 | G219: LINC02979
A220: ENSG00000269940 | B220: 4.28 | C220: 5.33 | D220: 7.48 | E220: 11.47 | F220: ENSG00000269940
A221: ENSG00000270882_H4C14 | B221: 10.42 | C221: 6.5 | D221: 7.94 | E221: 4.99 | F221: ENSG00000270882 | G221: H4C14
A222: ENSG00000273226 | B222: 4.48 | C222: 3.48 | D222: 2.37 | E222: 1.19 | F222: ENSG00000273226
A223: ENSG00000273356_LINC02019 | B223: 2.7 | C223: 1.01 | D223: 0.54 | E223: 0.18 | F223: ENSG00000273356 | G223: LINC02019
A224: ENSG00000273623 | B224: 70.18 | C224: 6.85 | D224: 19.54 | E224: 0 | F224: ENSG00000273623
A225: ENSG00000273658 | B225: 3.23 | C225: 1.94 | D225: 1.86 | E225: 0 | F225: ENSG00000273658
A226: ENSG00000276547_PCDHGB5 | B226: 4.7 | C226: 2.98 | D226: 1.94 | E226: 0.25 | F226: ENSG00000276547 | G226: PCDHGB5
A227: ENSG00000277027_RMRP | B227: 35.25 | C227: 33.06 | D227: 29.22 | E227: 11.55 | F227: ENSG00000277027 | G227: RMRP
A228: ENSG00000278238_CKAP2-DT | B228: 3.1 | C228: 0.94 | D228: 1.39 | E228: 0.4 | F228: ENSG00000278238 | G228: CKAP2-DT
A229: ENSG00000279386 | B229: 2.58 | C229: 0.81 | D229: 0.82 | E229: 0.42 | F229: ENSG00000279386
A230: ENSG00000280320 | B230: 1.94 | C230: 6.96 | D230: 7.04 | E230: 17.56 | F230: ENSG00000280320
A231: ENSG00000281571 | B231: 5.21 | C231: 4.06 | D231: 3.05 | E231: 2.16 | F231: ENSG00000281571
A232: ENSG00000285830 | B232: 1.7 | C232: 0.2 | D232: 0.17 | E232: 0 | F232: ENSG00000285830
A233: ENSG00000289074 | B233: 3.02 | C233: 1.81 | D233: 1.41 | E233: 0.86 | F233: ENSG00000289074
A234: ENSG00000289316 | B234: 114.06 | C234: 63.36 | D234: 58.9 | E234: 40.87 | F234: ENSG00000289316
A235: ENSG00000291060 | B235: 2.89 | C235: 4.59 | D235: 4.54 | E235: 6.48 | F235: ENSG00000291060
A236: ENSG00000291087_CRYBB2P1 | B236: 9.34 | C236: 12.15 | D236: 14.98 | E236: 21.56 | F236: ENSG00000291087 | G236: CRYBB2P1
A237: ENSG00000291129_PPIEL | B237: 3.72 | C237: 1.74 | D237: 1.79 | E237: 0.97 | F237: ENSG00000291129 | G237: PPIEL
A238: ENSG00000291152_SBDSP1 | B238: 11.28 | C238: 15.55 | D238: 19.48 | E238: 25.78 | F238: ENSG00000291152 | G238: SBDSP1
A239: ENSG00000291214 | B239: 5.74 | C239: 6.91 | D239: 8.61 | E239: 11.72 | F239: ENSG00000291214

Sheet Figure 3 LFC of 173 genes
B1: HER2_YAP vs pBABE_puro | C1: puro_YAP vs pBABE_puro | D1: HER2_puro vs pBABE_puro | E1: HER2_shYAP vs HER2_shControl
A2: ENSG00000004660_CAMKK1 | B2: -0.85932491 | C2: -1.0243842 | D2: -0.88390294 | E2: 0.38605843 | F2: ENSG00000004660 | G2: CAMKK1
A3: ENSG00000015532_XYLT2 | B3: 0.94849815 | C3: 1.0835918 | D3: 1.0067647 | E3: 0.50196516 | F3: ENSG00000015532 | G3: XYLT2
A4: ENSG00000021355_SERPINB1 | B4: 1.7138492 | C4: 1.4393244 | D4: 1.0993099 | E4: -0.61798876 | F4: ENSG00000021355 | G4: SERPINB1
A5: ENSG00000023445_BIRC3 | B5: -1.6732557 | C5: -1.5291087 | D5: -0.84813906 | E5: 0.25758845 | F5: ENSG00000023445 | G5: BIRC3
A6: ENSG00000041802_LSG1 | B6: 0.89503044 | C6: 1.0176094 | D6: 0 | E6: 0.54005008 | F6: ENSG00000041802 | G6: LSG1
A7: ENSG00000047644_WWC3 | B7: 1.2736177 | C7: 1.0720438 | D7: 0 | E7: 0.37023789 | F7: ENSG00000047644 | G7: WWC3
A8: ENSG00000051128_HOMER3 | B8: 1.7415784 | C8: 1.7869851 | D8: 1.2197286 | E8: 0.78638696 | F8: ENSG00000051128 | G8: HOMER3
A9: ENSG00000064607_SUGP2 | B9: 1.1626826 | C9: 0.94492691 | D9: 0.91774456 | E9: -0.099892291 | F9: ENSG00000064607 | G9: SUGP2
A10: ENSG00000064652_SNX24 | B10: 1.5924742 | C10: 1.4579279 | D10: 0.7437827 | E10: -0.058476829 | F10: ENSG00000064652 | G10: SNX24
A11: ENSG00000067182_TNFRSF1A | B11: 1.181665 | C11: 0.93876186 | D11: 0.63837686 | E11: -0.48040609 | F11: ENSG00000067182 | G11: TNFRSF1A
A12: ENSG00000067334_DNTTIP2 | B12: 1.1325435 | C12: 0.98363403 | D12: 0.36897667 | E12: -0.1021896 | F12: ENSG00000067334 | G12: DNTTIP2
A13: ENSG00000072071_ADGRL1 | B13: -1.757853 | C13: -0.67747954 | D13: -1.0208874 | E13: 0.54156991 | F13: ENSG00000072071 | G13: ADGRL1
... A140: ENSG00000227440_ATP5MC1P4 | B140: 0 | C140: 0 | D140: 3.4594316 | E140: 0 | F140: ENSG00000227440 | G140: ATP5MC1P4
A141: ENSG00000232346 | B141: -2.1154772 | C141: 0 | D141: -1.676593 | E141: 0 | F141: ENSG00000232346
A142: ENSG00000236603_RANP1 | B142: 0 | C142: 1.5305147 | D142: 0 | E142: 0 | F142: ENSG00000236603 | G142: RANP1
A143: ENSG00000236682_MAP3K2-DT | B143: 0 | C143: 0 | D143: 0 | E143: 1.127444 | F143: ENSG00000236682 | G143: MAP3K2-DT
A144: ENSG00000240342_RPS2P5 | B144: -1.9280063 | C144: -1.6368335 | D144: -1.1452716 | E144: 0.016130083 | F144: ENSG00000240342 | G144: RPS2P5
A145: ENSG00000243927_MRPS6 | B145: 0.74370863 | C145: 1.0345954 | D145: 0.28858783 | E145: 0.11072817 | F145: ENSG00000243927 | G145: MRPS6
A146: ENSG00000244056_RN7SL417P | B146: 0 | C146: 0 | D146: 4.0874628 | E146: 0 | F146: ENSG00000244056 | G146: RN7SL417P
A147: ENSG00000245910_SNHG6 | B147: -1.2628124 | C147: -0.88508116 | D147: -0.10931445 | E147: -0.087789055 | F147: ENSG00000245910 | G147: SNHG6
A148: ENSG00000246067_RAB30-DT | B148: 0.76756664 | C148: 0.85364584 | D148: 1.040364 | E148: -0.23275184 | F148: ENSG00000246067 | G148: RAB30-DT
A149: ENSG00000249751_ECSCR | B149: 3.5849625 | C149: 4.2094534 | D149: 0 | E149: 0 | F149: ENSG00000249751 | G149: ECSCR
A150: ENSG00000250765_SEPTIN14P5 | B150: 6.3540289 | C150: 0 | D150: 0 | E150: 0 | F150: ENSG00000250765 | G150: SEPTIN14P5
A151: ENSG00000251191_LINC00589 | B151: 0 | C151: 0 | D151: 1.8882092 | E151: 0 | F151: ENSG00000251191 | G151: LINC00589
A152: ENSG00000255629 | B152: 2.0847227 | C152: 2.5093281 | D152: 0 | E152: 0 | F152: ENSG00000255629
A153: ENSG00000258610 | B153: 0 | C153: 0 | D153: 0 | E153: -1.0953479 | F153: ENSG00000258610
A154: ENSG00000258839_MC1R | B154: 2.4618143 | C154: 1.8768518 | D154: 2.3007893 | E154: 0 | F154: ENSG00000258839 | G154: MC1R
A155: ENSG00000259357 | B155: 1.2717166 | C155: 1.1747549 | D155: 1.095466 | E155: 0 | F155: ENSG00000259357
A156: ENSG00000261652_PIERCE2 | B156: 0.95158287 | C156: 0.88353049 | D156: 1.0142139 | E156: 0 | F156: ENSG00000261652 | G156: PIERCE2
A157: ENSG00000261838 | B157: 2.219678 | C157: 1.757697 | D157: 1.9566436 | E157: 0 | F157: ENSG00000261838
A158: ENSG00000264577 | B158: 1.4968316 | C158: 0 | D158: 0 | E158: 0 | F158: ENSG00000264577
A159: ENSG00000267580 | B159: -1.4667446 | C159: -1.8787983 | D159: -2.1252362 | E159: 0 | F159: ENSG00000267580
A160: ENSG00000268621_IGFL2-AS1 | B160: 0.83621974 | C160: 0.79625333 | D160: 0 | E160: 1.2727496 | F160: ENSG00000268621 | G160: IGFL2-AS1
A161: ENSG00000272921 | B161: 0 | C161: 0 | D161: 4.3923174 | E161: -3.6004922 | F161: ENSG00000272921
A162: ENSG00000274177 | B162: 0 | C162: 0 | D162: 5.3645724 | E162: 0 | F162: ENSG00000274177
A163: ENSG00000275216 | B163: 1.7848269 | C163: 2.2217771 | D163: 0.49666203 | E163: -0.42486851 | F163: ENSG00000275216
A164: ENSG00000277067 | B164: -3.0081739 | C164: 1.4952905 | D164: -3.219678 | E164: 0 | F164: ENSG00000277067
A165: ENSG00000278599_TBC1D3E | B165: -1.1465487 | C165: -1.1107035 | D165: -0.55254102 | E165: 0 | F165: ENSG00000278599 | G165: TBC1D3E
A166: ENSG00000278974 | B166: 1.3092272 | C166: 1.3904002 | D166: 1.1317443 | E166: -0.64316629 | F166: ENSG00000278974
A167: ENSG00000279225 | B167: 1.612088 | C167: 1.5157279 | D167: 1.3910945 | E167: 0 | F167: ENSG00000279225
A168: ENSG00000281357_ARRDC3-AS1 | B168: 0 | C168: 2.6088092 | D168: 0 | E168: 0 | F168: ENSG00000281357 | G168: ARRDC3-AS1
A169: ENSG00000285723_MKKS | B169: 2.7208459 | C169: 2.8480644 | D169: 0 | E169: -0.84997456 | F169: ENSG00000285723 | G169: MKKS
A170: ENSG00000287286 | B170: 0 | C170: 0 | D170: 0 | E170: -3.3692338 | F170: ENSG00000287286
A171: ENSG00000290399 | B171: 1.1906836 | C171: 0 | D171: 0 | E171: 0 | F171: ENSG00000290399
A172: ENSG00000290770_MFSD14CP | B172: 1.0881758 | C172: 1.0378891 | D172: 0.61825182 | E172: 0 | F172: ENSG00000290770 | G172: MFSD14CP
A173: ENSG00000290842_CROCCP3 | B173: 1.5291093 | C173: 0 | D173: 0 | E173: 0 | F173: ENSG00000290842 | G173: CROCCP3
A174: ENSG00000291263_SMG1P7 | B174: 1.9740048 | C174: 0 | D174: 0 | E174: 0 | F174: ENSG00000291263 | G174: SMG1P7

Sheet Figure 4 RummaGEO result
A1: RummaGEO of 173 genes that were three fold modulated in HER2_YAP cell line but suppressed upon silencing YAP in HER2_shYAP
A3: Pathways | K3: Disease | T3: Molecules | AC3: Input
A4: term | B4: -log10(p-value) | C4: CountInEnrichedGSEs | D4: OtherTermsInEnrichedGSEs | E4: TotalGSEsWithTerm | F4: TotalOtherTerms | G4: OddsRatio | H4: Pvalue | I4: AdjPvalue | K4: term | L4: CountInEnrichedGSEs | M4: OtherTermsInEnrichedGSEs | N4: TotalGSEsWithTerm | O4: TotalOtherTerms | P4: OddsRatio | Q4: Pvalue | R4: AdjPvalue | T4: term | U4: CountInEnrichedGSEs | V4: OtherTermsInEnrichedGSEs | W4: TotalGSEsWithTerm | X4: TotalOtherTerms | Y4: OddsRatio | Z4: Pvalue | AA4: AdjPvalue | AC4: CAMKK1
A5: apoptosis | B5: =-(LOG10(H5)) -> 18.036043 | C5: 191 | D5: 14426 | E5: 502 | F5: 85093 | G5: 2.2442827 | H5: 9.2035856e-19 | I5: 4.353296e-16 | K5: breast cancer | L5: 210 | M5: 3164 | N5: 459 | O5: 17999 | P5: 2.6026664 | Q5: 8.0609821e-26 | R5: 9.9956178e-24 | T5: p53 | U5: 89 | V5: 13559 | W5: 178 | X5: 73873 | Y5: 2.7241316 | Z5: 5.5127393e-13 | AA5: 2.5523983e-10 | AC5: XYLT2
A6: epithelial mesenchymal transition | B6: =-(LOG10(H6)) -> 15.54174 | C6: 130 | D6: 14487 | E6: 303 | F6: 85292 | G6: 2.5259838 | H6: 2.8724983e-16 | I6: 4.5289723e-14 | K6: prostate cancer | L6: 135 | M6: 3239 | N6: 299 | O6: 18159 | P6: 2.5312997 | Q6: 1.73235e-16 | R6: 1.074057e-14 | T6: androgen receptor | U6: 80 | V6: 13568 | W6: 167 | X6: 73884 | Y6: 2.6086035 | Z6: 4.5366661e-11 | AA6: 1.0502382e-08 | AC6: SERPINB1
A7: chromatin accessibility | B7: =-(LOG10(H7)) -> 15.559694 | C7: 108 | D7: 14509 | E7: 226 | F7: 85369 | G7: 2.8117586 | H7: 2.7561671e-16 | I7: 4.5289723e-14 | K7: acute myeloid leukemia | L7: 108 | M7: 3266 | N7: 280 | O7: 18178 | P7: 2.1468201 | Q7: 3.9363671e-10 | R7: 1.6270318e-08 | T7: myc | U7: 69 | V7: 13579 | W7: 169 | X7: 73882 | Y7: 2.2214331 | Z7: 1.3854468e-07 | AA7: 2.1382063e-05 | AC7: BIRC3
A8: inflammation | B8: =-(LOG10(H8)) -> 10.045894 | C8: 117 | D8: 14500 | E8: 327 | F8: 85268 | G8: 2.1040506 | H8: 8.997165e-11 | I8: 1.0639148e-08 | K8: melanoma | L8: 73 | M8: 3301 | N8: 162 | O8: 18296 | P8: 2.4975746 | Q8: 1.6025417e-09 | R8: 4.9678794e-08 | T8: biomarker | U8: 52 | V8: 13596 | W8: 120 | X8: 73931 | Y8: 2.3563376 | Z8: 1.3303759e-06 | AA8: 0.0001231928 | AC8: LSG1
A9: triple negative breast cancer | B9: =-(LOG10(H9)) -> 9.7434366 | C9: 74 | D9: 14543 | E9: 167 | F9: 85428 | G9: 2.602924 | H9: 1.8053581e-10 | I9: 1.7078688e-08 | K9: sars cov 2 | L9: 90 | M9: 3284 | N9: 231 | O9: 18227 | P9: 2.1624326 | Q9: 8.1274792e-09 | R9: 2.0156148e-07 | T9: estrogen receptor | U9: 29 | V9: 13619 | W9: 46 | X9: 74005 | Y9: 3.4257527 | Z9: 1.0807904e-06 | AA9: 0.0001231928 | AC9: WWC3
A10: cell cycle arrest | B10: =-(LOG10(H10)) -> 9.3862271 | C10: 53 | D10: 14564 | E10: 99 | F10: 85496 | G10: 3.1427208 | H10: 4.1093477e-10 | I10: 3.2395358e-08 | K10: ovarian cancer | L10: 54 | M10: 3320 | N10: 111 | O10: 18347 | P10: 2.688424 | Q10: 2.7964637e-08 | R10: 5.7793583e-07 | T10: tgf β | U10: 44 | V10: 13604 | W10: 101 | X10: 73950 | Y10: 2.3681154 | Z10: 8.5454853e-06 | AA10: 0.00056522281 | AC10: HOMER3
A11: dna damage | B11: =-(LOG10(H11)) -> 9.0306706 | C11: 56 | D11: 14561 | E11: 112 | F11: 85483 | G11: 2.935341 | H11: 9.3181427e-10 | I11: 6.2964022e-08 | K11: colorectal cancer | L11: 88 | M11: 3286 | N11: 240 | O11: 18218 | P11: 2.0328464 | Q11: 1.1584124e-07 | R11: 2.0520449e-06 | T11: arid1a | U11: 23 | V11: 13625 | W11: 35 | X11: 74016 | Y11: 3.5698412 | Z11: 8.3120532e-06 | AA11: 0.00056522281 | AC11: SUGP2
A12: glycolysis | B12: =-(LOG10(H12)) -> 8.4174902 | C12: 72 | D12: 14545 | E12: 175 | F12: 85420 | G12: 2.4162412 | H12: 3.8239291e-09 | I12: 2.2608981e-07 | K12: glioblastoma | L12: 64 | M12: 3310 | N12: 166 | O12: 18292 | P12: 2.1306155 | Q12: 1.3747198e-06 | R12: 2.1308157e-05 | T12: ezh2 | U12: 35 | V12: 13613 | W12: 72 | X12: 73979 | Y12: 2.6417405 | Z12: 1.101747e-05 | AA12: 0.00063763609 | AC12: SNX24
A13: metastasis | B13: =-(LOG10(H13)) -> 7.9471366 | C13: 77 | D13: 14540 | E13: 200 | F13: 85395 | G13: 2.2611468 | H13: 1.1294405e-08 | I13: 5.7196226e-07 | K13: alzheimers disease | L13: 63 | M13: 3311 | N13: 176 | O13: 18282 | P13: 1.9764799 | Q13: 1.2688938e-05 | R13: 0.00017482537 | T13: interferon | U13: 30 | V13: 13618 | W13: 57 | X13: 73994 | Y13: 2.8597599 | Z13: 1.7759593e-05 | AA13: 0.00091363242 | AC13: TNFRSF1A
A14: tumor suppressor | B14: =-(LOG10(H14)) -> 7.9174938 | C14: 59 | D14: 14558 | E14: 132 | F14: 85463 | G14: 2.6239436 | H14: 1.2092225e-08 | I14: 5.7196226e-07 | K14: non small cell lung cancer | L14: 35 | M14: 3339 | N14: 82 | O14: 18376 | P14: 2.349031 | Q14: 8.5086785e-05 | R14: 0.0010550761 | T14: p21 | U14: 22 | V14: 13626 | W14: 35 | X14: 74016 | Y14: 3.4143801 | Z14: 2.1519672e-05 | AA14: 0.00099636081 | AC14: DNTTIP2
A15: dna damage response | B15: =-(LOG10(H15)) -> 7.2417414 | C15: 41 | D15: 14576 | E15: 78 | F15: 85517 | G15: 3.0839218 | H15: 5.7313718e-08 | I15: 2.3869358e-06 | K15: neuroblastoma | L15: 38 | M15: 3336 | N15: 98 | O15: 18360 | P15: 2.1340479 | Q15: 0.00018448816 | R15: 0.0020169654 | T15: nf κb | U15: 54 | V15: 13594 | W15: 145 | X15: 73906 | Y15: 2.0246884 | Z15: 3.1103776e-05 | AA15: 0.0012306088 | AC15: ADGRL1
A16: wnt signaling | B16: =-(LOG10(H16)) -> 7.2178392 | C16: 78 | D16: 14539 | E16: 212 | F16: 85383 | G16: 2.1607057 | H16: 6.055651e-08 | I16: 2.3869358e-06 | K16: lung cancer | L16: 35 | M16: 3339 | N16: 86 | O16: 18372 | P16: 2.2392862 | Q16: 0.0001951902 | R16: 0.0020169654 | T16: estrogen receptor alpha | U16: 26 | V16: 13622 | W16: 48 | X16: 74003 | Y16: 2.9426632 | Z16: 3.189483e-05 | AA16: 0.0012306088 | AC16: MCM6
... A54: epigenetic regulator | B54: =-(LOG10(H54)) -> 3.6346125 | C54: 21 | D54: 14596 | E54: 43 | F54: 85552 | G54: 2.8625109 | H54: 0.00023194634 | I54: 0.0021994485 | K54: respiratory syncytial virus | L54: 5 | M54: 3369 | N54: 8 | O54: 18450 | P54: 3.4227516 | Q54: 0.038310584 | R54: 0.095010249 | T54: kras mutation | U54: 11 | V54: 13637 | W54: 18 | X54: 74033 | Y54: 3.3176204 | Z54: 0.0028999322 | AA54: 0.026695425 | AC54: CASD1
K55: hepatitis b virus | L55: 9 | M55: 3365 | N55: 21 | O55: 18437 | P55: 2.3481639 | Q55: 0.039421237 | R55: 0.095847713 | AC55: CD68
K56: amyotrophic lateral sclerosis | L56: 19 | M56: 3355 | N56: 60 | O56: 18398 | P56: 1.7365226 | Q56: 0.041788161 | R56: 0.09964869 | AC56: PUS7L
K57: lung adenocarcinoma | L57: 17 | M57: 3357 | N57: 53 | O57: 18405 | P57: 1.7585614 | Q57: 0.046760872 | R57: 0.10162203 | AC57: TMEM160
K58: breast carcinoma | L58: 6 | M58: 3368 | N58: 12 | O58: 18446 | P58: 2.7384204 | Q58: 0.047532883 | R58: 0.10162203 | AC58: LGALS3
K59: cutaneous melanoma | L59: 6 | M59: 3368 | N59: 12 | O59: 18446 | P59: 2.7384204 | Q59: 0.047532883 | R59: 0.10162203 | AC59: NOTCH2
K60: metastatic melanoma | L60: 6 | M60: 3368 | N60: 12 | O60: 18446 | P60: 2.7384204 | Q60: 0.047532883 | R60: 0.10162203 | AC60: FHOD1
K61: autism | L61: 6 | M61: 3368 | N61: 12 | O61: 18446 | P61: 2.7384204 | Q61: 0.047532883 | R61: 0.10162203 | AC61: SLC9A5
K62: pediatric cancer | L62: 6 | M62: 3368 | N62: 12 | O62: 18446 | P62: 2.7384204 | Q62: 0.047532883 | R62: 0.10162203 | AC62: VPS45
K63: parkinsons disease | L63: 20 | M63: 3354 | N63: 66 | O63: 18392 | P63: 1.6616975 | Q63: 0.051556349 | R63: 0.1078567 | AC63: ARRB1
K64: spinal cord injury | L64: 5 | M64: 3369 | N64: 9 | O64: 18449 | P64: 3.0422809 | Q64: 0.052212017 | R64: 0.1078567 | AC64: NEK1
K65: esophageal squamous cell carcinoma | L65: 13 | M65: 3361 | N65: 38 | O65: 18420 | P65: 1.8749119 | Q65: 0.053058538 | R65: 0.1078567 | AC65: TTLL7
K66: hepatitis c virus | L66: 10 | M66: 3364 | N66: 25 | O66: 18433 | P66: 2.1917955 | Q66: 0.055663659 | R66: 0.10872726 | AC66: IFI44L
... K104: burkitt lymphoma | L104: 5 | M104: 3369 | N104: 15 | O104: 18443 | P104: 1.8247749 | Q104: 0.22072004 | R104: 0.27369284 | AC104: FAM98B
AC105: ZNF738
AC106: PSME3IP1
AC107: MAB21L3
AC108: VANGL1
AC109: ZWILCH
AC110: SNHG29
AC111: SH3BP5L
AC112: SLC38A9
AC113: RPL10P16
AC114: EFCAB13
AC115: MAGED1
AC116: DDX60L
... AC161: SMG1P7

Sheet Figure 5 GSEA results
A1: Name | B1: Term | C1: ES | D1: NES | E1: NOM p-val | F1: FDR q-val | G1: FWER p-val | H1: Tag % | I1: Gene % | J1: Lead_genes | K1: File
A2: prerank | B2: HALLMARK_EPITHELIAL_MESENCHYMAL_TRANSITION | C2: 0.58835351 | D2: 3.108549 | E2: 0 | F2: 0 | G2: 0 | H2: 75/120 | I2: 0.2287 | J2: FN1;CXCL8;COL6A3;SERPINE1;TGM2;ITGB3;COL6A2;ECM1;TFPI2;POSTN;CDH2;INHBA;WIPF1;SERPINE2;IGFBP4;MMP1;NT5E;CXCL1;TNC;MMP2;ITGA5;QSOX1;WNT5A;FBN1;LOXL2;CCN2;TAGLN;AREG;TIMP1;MYL9;RHOB;ENO2;EFEMP2;GEM;LAMC2;DCN;TPM4;CCN1;VCAN;DPYSL3;PMP22;FBLN5;ADAM12;COL4A1;PMEPA1;VIM;FSTL1;LGALS1;SPARC;COL4A2;PLOD1;TNFRSF12A;ANPEP;DAB2;PTX3;APLP1;CALU;PCOLCE2;CAP2;FUCA1;P3H1;GADD45B;MATN3;SAT1;FBN2;ITGB1;ABI3BP;CD59;PTHLH;LUM;SNAI2;FLNA;GLIPR1;PLAUR;FGF2 | K2: preranked_HER2_puro_vs_pBABE_puro.csv
A3: prerank | B3: YAP_SIGNATURE_DOWN | C3: -0.8694376 | D3: -2.9083283 | E3: 0 | F3: 0 | G3: 0 | H3: 45574 | I3: 0.094 | J3: KRT15;SPRR1B;SERPINB13;FXYD3;FAT2;TP63;CLCA2;SULF2;S100A14 | K3: preranked_HER2_puro_vs_pBABE_puro.csv
A4: prerank | B4: HALLMARK_KRAS_SIGNALING_DN | C4: -0.47191276 | D4: -2.5314741 | E4: 0 | F4: 0 | G4: 0 | H4: 25/45 | I4: 0.1811 | J4: PRODH;ATP6V1B1;TGM1;KRT15;FGFR3;KLK8;DLK2;AKR1B10;CLDN16;SGK1;TG;CELSR2;RYR1;SNN;COL2A1;KRT5;RSAD2;SYNPO;ZNF112;IGFBP2;SLC16A7;SLC29A3;SELENOP;CHST2;BTG2 | K4: preranked_HER2_puro_vs_pBABE_puro.csv
A5: prerank | B5: HALLMARK_E2F_TARGETS | C5: 0.47808847 | D5: 2.5259487 | E5: 0 | F5: 0 | G5: 0 | H5: 73/106 | I5: 0.3523 | J5: RRM2;DLGAP5;CDCA3;AURKB;MYBL2;KIF2C;CDKN3;KIF18B;ASF1B;SPC25;TK1;AURKA;KPNA2;BIRC5;DIAPH3;DEPDC1;TRIP13;TOP2A;CCNB2;ORC6;RAD51AP1;LMNB1;CDC20;PLK1;UBE2S;CKS2;SPAG5;HMMR;TCF19;CDCA8;MXD3;GINS1;CIT;TACC3;GINS4;KIF4A;CDK1;POLA2;UBE2T;DONSON;MKI67;PLK4;PSMC3IP;CENPM;HMGA1;BUB1B;MELK;HMGB2;TUBG1;MAD2L1;RNASEH2A;DNMT1;DCK;DSCC1;BRCA1;SPC24;H2AX;MCM6;TUBB;CCNE1;ESPL1;STMN1;RACGAP1;KIF22;SUV39H1;CENPE;EIF2S1;MCM5;CHEK1;NCAPD2;CDKN1A;PTTG1;DCLRE1B | K5: preranked_HER2_puro_vs_pBABE_puro.csv
A6: prerank | B6: YAP_SIGNATURE_UP | C6: 0.63348249 | D6: 2.3749794 | E6: 0 | F6: 0 | G6: 0 | H6: 14/23 | I6: 0.1209 | J6: FN1;TGM2;CDH2;PAPPA;FBN1;SRGN;NAV3;PAPSS2;FBLN5;ADAMTS1;TGFB2;SLC44A2;FSTL1;DAB2 | K6: preranked_HER2_puro_vs_pBABE_puro.csv
A7: prerank | B7: HALLMARK_G2M_CHECKPOINT | C7: 0.44593005 | D7: 2.3695636 | E7: 0 | F7: 0 | G7: 0 | H7: 68/106 | I7: 0.337 | J7: AURKB;MYBL2;KIF2C;CDKN3;E2F1;TROAP;BUB1;CCNA2;UBE2C;KNL1;NEK2;AURKA;KPNA2;NDC80;BIRC5;TTK;TOP2A;CCNB2;ORC6;CENPA;LMNB1;CDC20;PLK1;UBE2S;CKS2;CDC45;KIF23;HMMR;TPX2;TACC3;CENPF;FBXO5;KIF4A;CDK1;POLA2;PRC1;EXO1;MKI67;PLK4;NUSAP1;HMGA1;MT2A;CCND1;PBK;STIL;MAD2L1;TRAIP;CCNF;GINS2;HIF1A;DTYMK;CDC6;H2AX;MCM6;KIF15;ESPL1;RAD54L;STMN1;RACGAP1;KIF22;SUV39H1;ODF2;CENPE;KIF11;KIF5B;MCM5;CHEK1;TGFB1 | K7: preranked_HER2_puro_vs_pBABE_puro.csv
A8: prerank | B8: HALLMARK_TNFA_SIGNALING_VIA_NFKB | C8: 0.4323328 | D8: 2.2359939 | E8: 0 | F8: 0 | G8: 0 | H8: 44/98 | I8: 0.2166 | J8: TLR2;SERPINE1;TNFAIP6;CSF2;CXCL3;INHBA;SLC2A3;SLC16A6;CXCL1;TNC;CLCF1;AREG;RHOB;IL1B;IER3;TUBB2A;FOSL1;GEM;SERPINB2;CCN1;CCL20;F3;LAMB3;NR4A1;PMEPA1;PHLDA1;CXCL2;PHLDA2;SPHK1;PTX3;PTGS2;LDLR;GADD45B;CCND1;NR4A2;SAT1;SLC2A6;IL7R;DUSP4;BHLHE40;DUSP5;PDE4B;IL23A;FOSB | K8: preranked_HER2_puro_vs_pBABE_puro.csv
A9: prerank | B9: HALLMARK_KRAS_SIGNALING_UP | C9: 0.43145178 | D9: 2.1832538 | E9: 0 | F9: 0 | G9: 0 | H9: 34/81 | I9: 0.191 | J9: SCG5;HSD11B1;CSF2;MMP9;IL33;INHBA;ETV4;PPBP;ETV1;EREG;ANGPTL4;ETV5;GNG11;C3AR1;DUSP6;MALL;TMEM158;IL1B;SEMA3B;NRP1;CCL20;TSPAN13;LY96;PTGS2;RBP4;PRDM1;FUCA1;PCSK1N;SPRY2;SCN1B;FCER1G;IL7R;PDCD1LG2;CTSS | K9: preranked_HER2_puro_vs_pBABE_puro.csv
A10: prerank | B10: HALLMARK_INTERFERON_ALPHA_RESPONSE | C10: -0.46198418 | D10: -2.1570511 | E10: 0 | F10: 0.0011059325 | G10: 0.003 | H10: 18/24 | I10: 0.283 | J10: GMPR;CXCL10;RTP4;IFIT2;OAS1;RSAD2;C1S;IFIT3;LPAR6;IRF1;NCOA7;IFITM2;IFI30;IFIH1;TRIM26;GBP2;HLA-C;IFI44 | K10: preranked_HER2_puro_vs_pBABE_puro.csv
A11: prerank | B11: HALLMARK_COAGULATION | C11: 0.45877331 | D11: 2.0918904 | E11: 0 | F11: 0.00055144251 | G11: 0.004 | H11: 18/54 | I11: 0.1076 | J11: FN1;SERPINE1;APOC3;PF4;ITGB3;MMP9;TFPI2;MMP1;ACOX2;MMP2;DUSP6;CAPN5;FBN1;TIMP1;SERPINB2;F3;ARF4;SPARC | K11: preranked_HER2_puro_vs_pBABE_puro.csv
A12: prerank | B12: HALLMARK_SPERMATOGENESIS | C12: 0.48076336 | D12: 1.973881 | E12: 0.0041841004 | F12: 0.0034982134 | G12: 0.029 | H12: 14/33 | I12: 0.1663 | J12: SCG5;IL13RA2;KIF2C;CDKN3;BUB1;NEK2;DMC1;AURKA;TTK;CCNB2;NCAPH;CDK1;CLGN;PCSK1N | K12: preranked_HER2_puro_vs_pBABE_puro.csv
A13: prerank | B13: HALLMARK_MITOTIC_SPINDLE | C13: 0.387912 | D13: 1.9248769 | E13: 0 | F13: 0.004717897 | G13: 0.044 | H13: 38/69 | I13: 0.3163 | J13: DLGAP5;KIF2C;BUB1;PIF1;NEK2;AURKA;NDC80;BIRC5;TTK;TOP2A;CCNB2;LMNB1;PLK1;ANLN;KIF23;TPX2;CENPF;FBXO5;KIF4A;CDK1;PRC1;NUSAP1;KIF3C;KNTC1;BIN1;FLNA;ECT2;TIAM1;EPB41L2;FARP1;KIF15;ESPL1;TUBA4A;RACGAP1;KIF22;CENPE;KIF11;KIF5B | K13: preranked_HER2_puro_vs_pBABE_puro.csv
A14: prerank | B14: HALLMARK_INFLAMMATORY_RESPONSE | C14: 0.38399413 | D14: 1.9078334 | E14: 0.0012345679 | F14: 0.0055971414 | G14: 0.058 | H14: 21/76 | I14: 0.1056 | J14: CXCL8;TLR2;SERPINE1;ITGB3;TNFAIP6;INHBA;CSF3;EREG;C3AR1;ITGA5;HAS2;TIMP1;IL1B;IRAK2;NLRP3;MEFV;CCL20;F3;PTGIR;FPR1;AQP9 | K14: preranked_HER2_puro_vs_pBABE_puro.csv
A15: prerank | B15: HALLMARK_IL2_STAT5_SIGNALING | C15: 0.39879035 | D15: 1.9064043 | E15: 0.0012626263 | F15: 0.0050883104 | G15: 0.058 | H15: 38/68 | I15: 0.3141 | J15: TGM2;CSF2;ECM1;ETV4;IL1R2;SLC2A3;NT5E;RHOB;COCH;SPRY4;SOCS1;NRP1;COL6A1;IL1RL1;GUCY1B1;PHLDA1;ENPP1;APLP1;HIPK2;GADD45B;GLIPR2;BHLHE40;ADAM19;CDCP1;P2RX4;P4HA1;PRAF2;TIAM1;CKAP4;LIF;CAPG;LRRC8C;CDC6;BATF3;CCNE1;PNP;BMP2;ITGAV | K15: preranked_HER2_puro_vs_pBABE_puro.csv
... A22: prerank | B22: HALLMARK_P53_PATHWAY | C22: -0.27188476 | D22: -1.6232341 | E22: 0.0045248869 | F22: 0.061047476 | G22: 0.228 | H22: 30/72 | I22: 0.2112 | J22: KLK8;TP63;NOTCH1;KRT17;CLCA2;JAG2;KLF4;RGS16;GLS2;STOM;SLC3A2;ST14;CTSD;ITGB4;CCND2;CEBPA;GM2A;H2AC25;PERP;TP53;FOS;PTPN14;NUPR1;EPS8L2;BTG2;CYFIP2;CD82;RXRA;COQ8A;IFI30 | K22: preranked_HER2_puro_vs_pBABE_puro.csv
A23: prerank | B23: HALLMARK_WNT_BETA_CATENIN_SIGNALING | C23: -0.44859976 | D23: -1.5859194 | E23: 0.057471264 | F23: 0.062300866 | G23: 0.27 | H23: 45634 | I23: 0.2383 | J23: DLL1;NOTCH1;JAG2;CCND2;TP53;FZD8;JAG1;HDAC5 | K23: preranked_HER2_puro_vs_pBABE_puro.csv
A24: prerank | B24: HALLMARK_COMPLEMENT | C24: 0.32593206 | D24: 1.5807311 | E24: 0.018844221 | F24: 0.057787931 | G24: 0.641 | H24: 29/69 | I24: 0.2546 | J24: FN1;SERPINE1;TFPI2;PRSS3;CDA;CXCL1;DUSP6;TIMP1;ZEB1;SERPINB2;F3;COL4A2;APOBEC3G;CPM;CTSV;KLK1;FCER1G;CTSS;DUSP5;CDH13;CD59;ANXA5;PLAUR;ATOX1;CTSB;S100A13;CTSC;FYN;CSRP1 | K24: preranked_HER2_puro_vs_pBABE_puro.csv
A25: prerank | B25: HALLMARK_HEDGEHOG_SIGNALING | C25: 0.5457214 | D25: 1.5766393 | E25: 0.043613707 | F25: 0.055917802 | G25: 0.649 | H25: 45570 | I25: 0.1362 | J25: L1CAM;VLDLR;NRP1;HEY1;RTN1 | K25: preranked_HER2_puro_vs_pBABE_puro.csv
A26: prerank | B26: HALLMARK_HYPOXIA | C26: 0.30273703 | D26: 1.5234086 | E26: 0.032338308 | F26: 0.075982973 | G26: 0.759 | H26: 48/82 | I26: 0.4315 | J26: SERPINE1;TGM2;KDELR3;SLC2A3;ANGPTL4;VLDLR;CCN2;ENO2;IER3;DCN;CCN1;F3;STC1;HMOX1;STC2;CAVIN3;PPFIA4;MT2A;P4HA2;BHLHE40;ANXA2;PLAUR;GALK1;P4HA1;GCK;LOX;HSPA5;KLF7;PFKP;BNIP3L;SRPX;EDN2;UGP2;CDKN1A;IDS;DUSP1;VEGFA;CCNG2;BGN;TMEM45A;NAGK;ADM;ALDOC;JMJD6;GLRX;SAP30;NOCT;CSRP2 | K26: preranked_HER2_puro_vs_pBABE_puro.csv
A27: prerank | B27: HALLMARK_FATTY_ACID_METABOLISM | C27: -0.27555705 | D27: -1.5203853 | E27: 0.024896266 | F27: 0.07852121 | G27: 0.371 | H27: 11/51 | I27: 0.1083 | J27: ACSS1;GLUL;CD36;CEL;LTC4S;ALDH3A1;ACSL5;RDH16;HPGD;CYP1A1;CA2 | K27: preranked_HER2_puro_vs_pBABE_puro.csv
A28: prerank | B28: HALLMARK_ESTROGEN_RESPONSE_LATE | C28: -0.22532677 | D28: -1.4635613 | E28: 0.017241379 | F28: 0.094695474 | G28: 0.484 | H28: 30/89 | I28: 0.1739 | J28: LTF;FGFR3;CXCL14;SLC7A5;SERPINA3;SGK1;KCNK5;LLGL2;TJP3;SLC27A2;RAPGEFL1;HR;TMPRSS3;CELSR2;KLF4;OVOL2;TRIM29;PLXNB1;CDH1;CA2;ST14;LSR;PDCD4;NRIP1;PERP;ASS1;FOS;ST6GALNAC2;BAG1;NPY1R | K28: preranked_HER2_puro_vs_pBABE_puro.csv
A29: prerank | B29: HALLMARK_APOPTOSIS | C29: 0.27933925 | D29: 1.3099686 | E29: 0.13537676 | F29: 0.25500769 | G29: 0.993 | H29: 20/61 | I29: 0.2154 | J29: MMP2;EREG;TIMP1;RHOB;IL1B;ENO2;IER3;DCN;IGFBP6;ERBB2;TGFB2;TOP2A;TNFRSF12A;HMOX1;GADD45B;CCND1;SAT1;HMGB2;LEF1;LUM | K29: preranked_HER2_puro_vs_pBABE_puro.csv
A30: prerank | B30: HALLMARK_DNA_REPAIR | C30: 0.28796884 | D30: 1.2915319 | E30: 0.16185696 | F30: 0.26611696 | G30: 0.996 | H30: 40/47 | I30: 0.6067 | J30: CDA;RAD51;POLA2;TAF13;PDE4B;FEN1;TYMS;POLR2K;ARL6IP1;PNP;USP11;ZWINT;CCNO;RFC4;CETN2;DAD1;POLR3GL;RFC3;RPA3;COX17;HPRT1;SNAPC5;RBX1;GTF2A2;POLR2C;TAF10;ALYREF;GTF2H5;POLD4;NELFE;NME4;TAF6;ERCC5;PCNA;LIG1;SEC61A1;TMED2;POLR2D;ERCC1;ERCC4 | K30: preranked_HER2_puro_vs_pBABE_puro.csv
A31: prerank | B31: HALLMARK_XENOBIOTIC_METABOLISM | C31: 0.25711414 | D31: 1.2419495 | E31: 0.17942284 | F31: 0.31867737 | G31: 0.999 | H31: 27/69 | I31: 0.3005 | J31: SERPINE1;HSD11B1;SMOX;IGFBP4;CDO1;CDA;ACOX2;PAPSS2;TGFB2;AQP9;TPST1;MAN1A1;RBP4;HMOX1;CES1;MT2A;AOX1;HSD17B2;LPIN2;DDAH2;IL1R1;NQO1;UPP1;ASL;PTS;SSR3;PPARD | K31: preranked_HER2_puro_vs_pBABE_puro.csv
A32: prerank | B32: HALLMARK_UNFOLDED_PROTEIN_RESPONSE | C32: 0.26946694 | D32: 1.1758384 | E32: 0.23941799 | F32: 0.40761791 | G32: 1 | H32: 31/44 | I32: 0.4989 | J32: KDELR3;TUBB2A;STC2;WIPI1;SRPRA;PDIA5;YIF1A;GOSR2;HYOU1;H2AX;HSPA5;ARFGAP1;EIF2S1;KIF5B;PSAT1;FKBP14;CKS1B;CHAC1;HSP90B1;LSM4;VEGFA;BANF1;SSR1;MTHFD2;SLC1A4;LSM1;PREB;PDIA6;SRPRB;DNAJC3;EIF4E | K32: preranked_HER2_puro_vs_pBABE_puro.csv
A33: prerank | B33: HALLMARK_TGF_BETA_SIGNALING | C33: 0.3494638 | D33: 1.1720214 | E33: 0.27586207 | F33: 0.39622293 | G33: 1 | H33: 8/16 | I33: 0.337 | J33: SERPINE1;PMEPA1;HIPK2;RAB31;SKIL;BMP2;SLC20A1;TGFB1 | K33: preranked_HER2_puro_vs_pBABE_puro.csv
A34: prerank | B34: HALLMARK_MTORC1_SIGNALING | C34: 0.22245814 | D34: 1.136625 | E34: 0.27164887 | F34: 0.43734905 | G34: 1 | H34: 49/97 | I34: 0.4293 | J34: SLC2A3;RRM2;VLDLR;IDI1;INSIG1;FADS2;BUB1;MLLT11;AURKA;STC1;PHGDH;PLK1;NIBAN1;LDLR;FADS1;BHLHE40;TUBG1;CCNF;YKT6;POLR3G;P4HA1;CTSC;ITGB2;DHFR;SERPINH1;MTHFD2L;HSPA5;TUBA4A;RDH11;PNP;SDF2L1;WARS1;HMGCS1;PSAT1;SCD;CDKN1A;RPN1;HSP90B1;SSR1;ME1;GCLC;STARD4;CDC25A;PLOD2;ACLY;GLRX;MTHFD2;HPRT1;SLC1A4 | K34: preranked_HER2_puro_vs_pBABE_puro.csv
A35: prerank | B35: HALLMARK_APICAL_JUNCTION | C35: 0.23006563 | D35: 1.1231865 | E35: 0.3101737 | F35: 0.44405968 | G35: 1 | H35: 11/70 | I35: 0.093 | J35: MMP9;CADM3;MMP2;FBN1;MYL9;INSIG1;LAMC2;VCAN;CERCAM;LAMB3;CDH4 | K35: preranked_HER2_puro_vs_pBABE_puro.csv
A36: prerank | B36: HALLMARK_NOTCH_SIGNALING | C36: -0.30465161 | D36: -1.1170542 | E36: 0.28235294 | F36: 0.47075862 | G36: 0.974 | H36: 3/14 | I36: 0.0577 | J36: DLL1;NOTCH1;DTX4 | K36: preranked_HER2_puro_vs_pBABE_puro.csv
A37: prerank | B37: HALLMARK_OXIDATIVE_PHOSPHORYLATION | C37: -0.25127104 | D37: -1.1091606 | E37: 0.30612245 | F37: 0.43739632 | G37: 0.978 | H37: 21/23 | I37: 0.6072 | J37: ACADSB;SLC25A5;TIMM9;UQCRQ;ALAS1;PDHA1;ACAA2;NDUFS1;ATP6V1D;ATP5F1C;IDH3G;NDUFS8;SDHC;IDH2;NDUFB2;LDHA;CYB5R3;ATP6V1E1;MGST3;COX17;TIMM17A | K37: preranked_HER2_puro_vs_pBABE_puro.csv
A38: prerank | B38: HALLMARK_APICAL_SURFACE | C38: 0.38327171 | D38: 1.0976021 | E38: 0.36392915 | F38: 0.4709319 | G38: 1 | H38: 45571 | I38: 0.3437 | J38: RHCG;IL2RG;PLAUR;BRCA1;SRPX;DCBLD2 | K38: preranked_HER2_puro_vs_pBABE_puro.csv
A39: prerank | B39: HALLMARK_MYOGENESIS | C39: 0.22560248 | D39: 1.0577607 | E39: 0.40469974 | F39: 0.51980349 | G39: 1 | H39: 22/55 | I39: 0.262 | J39: COL6A3;COL6A2;TAGLN;ADAM12;SPARC;COL4A2;SPHK1;PDLIM7;STC2;SMTN;PPFIA4;GADD45B;ITGB1;BHLHE40;CDH13;BIN1;FGF2;LSP1;CRYAB;TPM2;NQO1;ITGB5 | K39: preranked_HER2_puro_vs_pBABE_puro.csv
A40: prerank | B40: HALLMARK_ANDROGEN_RESPONSE | C40: 0.25609029 | D40: 1.0391189 | E40: 0.41643836 | F40: 0.53136239 | G40: 1 | H40: 10/34 | I40: 0.1878 | J40: IDI1;INSIG1;ADAMTS1;PMEPA1;SEC24D;FADS1;CCND1;SAT1;PGM3;CENPN | K40: preranked_HER2_puro_vs_pBABE_puro.csv
A41: prerank | B41: HALLMARK_ADIPOGENESIS | C41: -0.19051596 | D41: -1.0317967 | E41: 0.46774194 | F41: 0.52843467 | G41: 0.994 | H41: 30/45 | I41: 0.4424 | J41: CYP4B1;CD36;LTC4S;ALDH2;STOM;SLC1A5;PDCD4;PIM3;NABP1;ESRRA;LPCAT3;CAVIN2;BCL6;GPHN;UQCRQ;PEMT;ELOVL6;ACOX1;ACAA2;DHCR7;ALDOA;MTCH2;IDH3G;GBE1;CDKN2C;CMPK1;ABCB8;SDHC;GPAM;ESYT1 | K41: preranked_HER2_puro_vs_pBABE_puro.csv
A42: prerank | B42: HALLMARK_MYC_TARGETS_V1 | C42: 0.23778753 | D42: 1.0172815 | E42: 0.45703125 | F42: 0.54913104 | G42: 1 | H42: 39/43 | I42: 0.6918 | J42: CCNA2;KPNA2;CDC20;CDC45;TYMS;MAD2L1;MCM6;HNRNPA3;EIF2S1;MCM5;RFC4;SRSF7;CTPS1;HPRT1;SNRPG;PSMD1;H2AZ1;PGK1;SRPK1;ACP1;EIF4E;LDHA;CDK2;ILF2;PSMB3;PRDX4;PCNA;PSMB2;PSMD14;PSMC4;UBE2E1;ERH;SNRPB2;DUT;TRA2B;VBP1;HNRNPA2B1;IARS1;PSMA6 | K42: preranked_HER2_puro_vs_pBABE_puro.csv
A43: prerank | B43: HALLMARK_INTERFERON_GAMMA_RESPONSE | C43: -0.16796263 | D43: -0.95877134 | E43: 0.58333333 | F43: 0.61360824 | G43: 0.998 | H43: 17/51 | I43: 0.2112 | J43: TNFSF10;CXCL10;RTP4;CFB;C1R;IFIT2;RSAD2;C1S;SOCS3;IFIT3;IFIT1;STAT3;IRF1;SOD2;IFITM2;CD40;IFI30 | K43: preranked_HER2_puro_vs_pBABE_puro.csv
A44: prerank | B44: HALLMARK_PROTEIN_SECRETION | C44: -0.1873381 | D44: -0.958688 | E44: 0.5203252 | F44: 0.56657775 | G44: 0.998 | H44: 38/39 | I44: 0.7757 | J44: ATP6V1B1;DST;DOP1A;EGFR;ATP1A1;ICA1;SCAMP3;AP2M1;RAB2A;RAB5A;GBF1;NAPG;TMED2;SEC31A;PAM;YIPF6;COPB1;NAPA;GLA;CLTC;TPD52;ANP32E;GNAS;ARCN1;LMAN1;ARFGAP3;STAM;RER1;COPE;CD63;BET1;VAMP4;SEC22B;CTSC;YKT6;COPB2;ARF1;GOSR2 | K44: preranked_HER2_puro_vs_pBABE_puro.csv
A45: prerank | B45: HALLMARK_CHOLESTEROL_HOMEOSTASIS | C45: 0.22889521 | D45: 0.95310021 | E45: 0.51978892 | F45: 0.64167896 | G45: 1 | H45: 8/36 | I45: 0.1631 | J45: IDI1;SEMA3B;FADS2;ANTXR2;TNFRSF12A;GPX8;NIBAN1;LDLR | K45: preranked_HER2_puro_vs_pBABE_puro.csv
A46: prerank | B46: HALLMARK_UV_RESPONSE_UP | C46: 0.20455528 | D46: 0.91629854 | E46: 0.59025033 | F46: 0.68399119 | G46: 1 | H46: 24/55 | I46: 0.3573 | J46: CDO1;RHOB;ENO2;PDLIM3;DLG4;NR4A1;CXCL2;HMOX1;GGH;CTSV;FEN1;FOSB;HSPA13;YKT6;PARP2;H2AX;CCNE1;TUBA4A;SHOX2;BMP2;RFC4;ICAM1;MMP14;RPN1 | K46: preranked_HER2_puro_vs_pBABE_puro.csv
A47: prerank | B47: HALLMARK_HEME_METABOLISM | C47: 0.2082145 | D47: 0.90522883 | E47: 0.60326087 | F47: 0.68098554 | G47: 1 | H47: 12/44 | I47: 0.2376 | J47: SMOX;ACKR1;OSBP2;SLC22A4;RHCE;TNS1;EPOR;CDR2;P4HA2;LPIN2;ACP5;CTSB | K47: preranked_HER2_puro_vs_pBABE_puro.csv
A48: prerank | B48: HALLMARK_REACTIVE_OXYGEN_SPECIES_PATHWAY | C48: 0.2554213 | D48: 0.88258559 | E48: 0.64159292 | F48: 0.69493109 | G48: 1 | H48: 15/19 | I48: 0.5505 | J48: HHEX;ATOX1;LSP1;NQO1;PFKP;CDKN2D;SELENOS;GCLC;GLRX;GCLM;GLRX2;FTL;LAMTOR5;PRDX4;G6PD | K48: preranked_HER2_puro_vs_pBABE_puro.csv
A49: prerank | B49: HALLMARK_PANCREAS_BETA_CELLS | C49: -0.25957973 | D49: -0.76801049 | E49: 0.75773196 | F49: 0.80582984 | G49: 1 | H49: 45512 | I49: 0.7412 | J49: PCSK1;SRP9;SPCS1;SRPRB;AKT3;SRP14;STXBP1;GCK | K49: preranked_HER2_puro_vs_pBABE_puro.csv
A50: prerank | B50: HALLMARK_BILE_ACID_METABOLISM | C50: 0.19718599 | D50: 0.75884497 | E50: 0.77932961 | F50: 0.8457198 | G50: 1 | H50: 4/26 | I50: 0.1056 | J50: BMP6;IDI1;FADS2;AQP9 | K50: preranked_HER2_puro_vs_pBABE_puro.csv
A51: prerank | B51: HALLMARK_PEROXISOME | C51: 0.17313446 | D51: 0.65511696 | E51: 0.88461538 | F51: 0.92800498 | G51: 1 | H51: 5/25 | I51: 0.1725 | J51: IDI1;DLG4;TOP2A;CRABP2;FADS1 | K51: preranked_HER2_puro_vs_pBABE_puro.csv
A52: prerank | B52: HALLMARK_PI3K_AKT_MTOR_SIGNALING | C52: 0.12043019 | D52: 0.46413992 | E52: 0.98194444 | F52: 0.99001069 | G52: 1 | H52: 11/27 | I52: 0.3839 | J52: E2F1;CDK1;IL2RG;ARF1;TIAM1;CFL1;ARPC3;CDKN1A;PFN1;MAPKAP1;HSP90B1 | K52: preranked_HER2_puro_vs_pBABE_puro.csv
A53: prerank | B53: HALLMARK_EPITHELIAL_MESENCHYMAL_TRANSITION | C53: 0.61805922 | D53: 3.1940806 | E53: 0 | F53: 0 | G53: 0 | H53: 87/130 | I53: 0.2234 | J53: CXCL8;FN1;TAGLN;CCN2;SERPINE1;TGM2;COL6A3;MFAP5;IL6;CXCL1;CDH2;ITGB3;CCN1;TFPI2;TNC;ECM1;INHBA;PTX3;AREG;IGFBP3;SERPINE2;NT5E;POSTN;WIPF1;IGFBP4;FBN1;MYL9;LOXL2;THBS1;GLIPR1;COL6A2;RHOB;TNFRSF12A;ADAM12;FSTL1;MATN3;VCAN;QSOX1;DPYSL3;ENO2;WNT5A;SPP1;TPM4;PMEPA1;MMP2;LAMC2;COL4A1;ITGA5;FBN2;EDIL3;CAP2;PLOD2;CDH11;ANPEP;COL4A2;FBLN5;SPARC;PMP22;LAMA2;BDNF;FGF2;LGALS1;FLNA;CALU;PTHLH;TIMP1;GEM;GADD45B;DAB2;SLIT2;EFEMP2;VIM;TNFRSF11B;PLOD1;LAMA1;CD59;APLP1;ITGB1;SNAI2;VEGFA;MSX1;TPM2;ITGA2;MYLK;PLAUR;EMP3;PCOLCE2 | K53: preranked_puro_YAP_vs_pBABE_puro.csv
A54: prerank | B54: YAP_SIGNATURE_UP | C54: 0.7745875 | D54: 3.1483183 | E54: 0 | F54: 0 | G54: 0 | H54: 28/34 | I54: 0.1656 | J54: ANKRD1;FN1;TGM2;MFAP5;CDH2;ADAMTS1;ATP6V0A4;NAV3;IGFBP3;ADAMTS12;FBN1;GJA5;THBS1;ITGB2;PAPSS2;SRGN;FSTL1;PLCB4;SLC44A2;TGFB2;CLIC5;PAPPA;FBLN5;DAB2;SLIT2;CYP4F11;FYN;TRAM2 | K54: preranked_puro_YAP_vs_pBABE_puro.csv
A55: prerank | B55: YAP_SIGNATURE_DOWN | C55: -0.94955543 | D55: -3.1024998 | E55: 0 | F55: 0 | G55: 0 | H55: 45544 | I55: 0.0522 | J55: SPRR1B;KRT15;SERPINB13;FXYD3;FAT2;SULF2;CLCA2;TP63;S100A14 | K55: preranked_puro_YAP_vs_pBABE_puro.csv
A56: prerank | B56: HALLMARK_KRAS_SIGNALING_DN | C56: -0.49911946 | D56: -2.9455481 | E56: 0 | F56: 0 | G56: 0 | H56: 29/48 | I56: 0.1621 | J56: PRODH;ATP6V1B1;KRT15;FGFR3;KLK8;RYR1;AKR1B10;COL2A1;CLDN16;TGM1;RSAD2;ZBTB16;SNN;NUDT11;DLK2;SELENOP;COQ8A;TFCP2L1;GPRC5C;CELSR2;CYP39A1;GAMT;SLC16A7;IFI44L;KRT5;SLC25A23;SLC29A3;SYNPO;SGK1 | K56: preranked_puro_YAP_vs_pBABE_puro.csv
A57: prerank | B57: HALLMARK_G2M_CHECKPOINT | C57: 0.55226523 | D57: 2.8568168 | E57: 0 | F57: 0 | G57: 0 | H57: 102/133 | I57: 0.3413 | J57: MYBL2;E2F1;CDC45;AURKB;KNL1;CDKN3;KIF23;CCND1;GINS2;BUB1;EXO1;NDC80;CDC20;KPNA2;TROAP;MKI67;KIF2C;ORC6;CCNA2;LMNB1;BIRC5;PLK1;AURKA;MCM5;CENPF;HMMR;UBE2C;CDC6;TACC3;NEK2;TTK;KIF4A;RAD54L;MT2A;PLK4;PRC1;POLA2;UBE2S;CENPE;CKS2;ESPL1;TRAIP;CENPA;CDK1;BRCA2;CDC25A;TPX2;CCNB2;FBXO5;HMGA1;DTYMK;POLQ;CCNF;STIL;MCM6;STMN1;ODC1;PBK;HSPA8;SMC1A;NUSAP1;TOP2A;SUV39H1;MAD2L1;KIF15;CHAF1A;JPT1;KIF11;H2AX;SRSF1;MCM3;MCM2;KIF20B;H2AZ1;NSD2;TRA2B;SMC4;RACGAP1;INCENP;CDC7;SMC2;DDX39A;PRMT5;HIF1A;KIF22;DBF4;SNRPD1;ODF2;HMGN2;RASAL2;PRIM2;EZH2;NOTCH2;CKS1B;SRSF2;H2AZ2;BARD1;HUS1;UCK2;CHEK1;E2F4;EWSR1 | K57: preranked_puro_YAP_vs_pBABE_puro.csv
A58: prerank | B58: HALLMARK_E2F_TARGETS | C58: 0.50851122 | D58: 2.6795001 | E58: 0 | F58: 0 | G58: 0 | H58: 111/153 | I58: 0.3612 | J58: MYBL2;RRM2;CDCA3;TK1;GINS4;AURKB;SPC25;KIF18B;ASF1B;DLGAP5;CDKN3;TCF19;DIAPH3;TRIP13;GINS1;CDC20;KPNA2;MKI67;KIF2C;RAD51AP1;ORC6;LMNB1;BIRC5;PLK1;AURKA;DEPDC1;MCM5;HMMR;TACC3;BUB1B;MELK;KIF4A;PSMC3IP;SPAG5;CTPS1;PLK4;CENPM;POLA2;UBE2S;DNMT1;TUBG1;CENPE;CKS2;CDCA8;ESPL1;CDK1;BRCA2;RNASEH2A;CDC25A;UBE2T;CIT;CCNB2;HMGA1;DSCC1;BRCA1;MCM6;STMN1;SMC1A;DONSON;CCNE1;TOP2A;EIF2S1;HELLS;SUV39H1;MAD2L1;TIMELESS;RFC3;TUBB;JPT1;MXD3;E2F8;ATAD2;MCM4;SPC24;H2AX;SRSF1;MCM3;MCM2;H2AZ1;LIG1;TRA2B;SMC4;RACGAP1;DCK;DDX39A;PCNA;DCLRE1B;GINS3;KIF22;DUT;CDKN1A;MCM7;MSH2;NCAPD2;PRIM2;LYAR;EZH2;HMGB2;CKS1B;SNRPB;ANP32E;SRSF2;RANBP1;BARD1;HUS1;CHEK1;CHEK2;RFC2;RAN;NME1;RAD1 | K58: preranked_puro_YAP_vs_pBABE_puro.csv
A59: prerank | B59: HALLMARK_INTERFERON_ALPHA_RESPONSE | C59: -0.4814404 | D59: -2.5988909 | E59: 0 | F59: 0 | G59: 0 | H59: 17/32 | I59: 0.1344 | J59: C1S;GMPR;CXCL10;GBP2;RSAD2;IFIT2;CD74;RTP4;IFITM1;TXNIP;OAS1;LPAR6;IFIT3;NCOA7;IFIH1;IFI44L;IRF1 | K59: preranked_puro_YAP_vs_pBABE_puro.csv
A60: prerank | B60: HALLMARK_KRAS_SIGNALING_UP | C60: 0.50919253 | D60: 2.4544419 | E60: 0 | F60: 0 | G60: 0 | H60: 34/82 | I60: 0.1111 | J60: SCG5;ANGPTL4;CSF2;INHBA;PPBP;DUSP6;ETV4;IL1B;HSD11B1;ETV5;PDCD1LG2;IGFBP3;CCL20;ETV1;C3AR1;EREG;TMEM158;IL33;GNG11;ITGB2;PTGS2;MALL;EPB41L3;SEMA3B;RBP4;MMP9;SPP1;LIF;IL7R;LY96;HKDC1;NRP1;AKAP12;DCBLD2 | K60: preranked_puro_YAP_vs_pBABE_puro.csv
A61: prerank | B61: HALLMARK_TNFA_SIGNALING_VIA_NFKB | C61: 0.46487567 | D61: 2.3538872 | E61: 0 | F61: 0 | G61: 0 | H61: 49/111 | I61: 0.2038 | J61: SERPINE1;CSF2;F3;IL6;CXCL3;CXCL1;CCN1;SERPINB2;TNC;INHBA;CLCF1;TLR2;PTX3;TUBB2A;IER3;IL1B;FOSL1;AREG;CCL20;PHLDA2;SLC2A3;CXCL2;RHOB;CCND1;PTGS2;KLF2;SLC16A6;PMEPA1;PHLDA1;LIF;IL7R;TNFAIP6;SPHK1;LAMB3;NR4A1;DUSP4;EGR1;IL1A;GEM;GADD45B;DUSP5;BCL2A1;EDN1;LDLR;PLAU;SLC2A6;TNIP1;IL23A;VEGFA | K61: preranked_puro_YAP_vs_pBABE_puro.csv
A62: prerank | B62: HALLMARK_ANGIOGENESIS | C62: 0.632296 | D62: 2.1846172 | E62: 0 | F62: 0.00012533302 | G62: 0.001 | H62: 14/18 | I62: 0.2495 | J62: PF4;STC1;POSTN;FSTL1;VCAN;SPP1;NRP1;TIMP1;THBD;TNFRSF21;VEGFA;MSX1;LUM;FGFR1 | K62: preranked_puro_YAP_vs_pBABE_puro.csv
A63: prerank | B63: HALLMARK_INFLAMMATORY_RESPONSE | C63: 0.46130924 | D63: 2.1828923 | E63: 0 | F63: 0.00010966639 | G63: 0.001 | H63: 29/73 | I63: 0.1495 | J63: CXCL8;SERPINE1;NLRP3;F3;CSF3;IL6;ITGB3;INHBA;TLR2;IL1B;HAS2;CCL20;C3AR1;EREG;MEFV;FPR1;LIF;PTGIR;IL7R;LAMP3;ITGA5;TNFAIP6;AQP9;SPHK1;DCBLD2;AXL;TIMP1;IL1A;IRAK2 | K63: preranked_puro_YAP_vs_pBABE_puro.csv
A64: prerank | B64: HALLMARK_COAGULATION | C64: 0.46672575 | D64: 2.1097714 | E64: 0 | F64: 0.0002924437 | G64: 0.003 | H64: 25/56 | I64: 0.1609 | J64: FN1;SERPINE1;F3;ITGB3;SERPINB2;TFPI2;PF4;DUSP6;FBN1;APOC3;THBS1;CAPN5;ACOX2;MMP9;MMP2;PRSS23;SPARC;CTSV;CSRP1;TIMP1;GDA;THBD;PDGFB;ARF4;FYN | K64: preranked_puro_YAP_vs_pBABE_puro.csv
A65: prerank | B65: HALLMARK_UV_RESPONSE_DN | C65: 0.43799688 | D65: 2.0503537 | E65: 0 | F65: 0.00052639867 | G65: 0.006 | H65: 37/63 | I65: 0.3245 | J65: SERPINE1;F3;ITGB3;CCN1;ERBB2;HAS2;MAP1B;VLDLR;MGLL;PLCB4;SCN8A;CAP2;NRP1;FBLN5;PMP22;DDAH1;BDNF;ANXA2;DLC1;DAB2;MT1E;FYN;PRKAR2B;LDLR;GCNT1;SNAI2;SYNJ2;PTGFR;PDLIM5;IRS1;PTPN21;INPP4B;LPAR1;NOTCH2;INSIG1;BHLHE40;PPARG | K65: preranked_puro_YAP_vs_pBABE_puro.csv
A66: prerank | B66: HALLMARK_MITOTIC_SPINDLE | C66: 0.404657 | D66: 2.0409319 | E66: 0 | F66: 0.00047854424 | G66: 0.006 | H66: 58/103 | I66: 0.3303 | J66: DLGAP5;KIF23;BUB1;NDC80;PIF1;KIF2C;ANLN;LMNB1;BIRC5;PLK1;AURKA;CENPF;NEK2;TTK;KIF4A;PRC1;TUBA4A;CENPE;ESPL1;CDK1;BRCA2;CDC42EP2;TPX2;FLNA;CCNB2;FBXO5;KIF3C;SMC1A;TIAM1;NUSAP1;TOP2A;KNTC1;KIF15;FLNB;EPB41L2;FARP1;KIF11;ECT2;KIF20B;CENPJ;PLEKHG2;SMC4;RACGAP1;INCENP;CCDC88A;MAPRE1;ARHGAP29;PDLIM5;KIF22;ARHGEF2;TUBGCP5;CEP72;RASAL2;MYH9;NOTCH2;PXN;ACTN4;EZR | K66: preranked_puro_YAP_vs_pBABE_puro.csv
A67: prerank | B67: HALLMARK_SPERMATOGENESIS | C67: 0.46516213 | D67: 1.9311028 | E67: 0 | F67: 0.0024126606 | G67: 0.033 | H67: 13/37 | I67: 0.1259 | J67: SCG5;IL13RA2;CDKN3;BUB1;NCAPH;KIF2C;AURKA;NEK2;TTK;CCNA1;CLGN;CDK1;CCNB2 | K67: preranked_puro_YAP_vs_pBABE_puro.csv
... A84: prerank | B84: HALLMARK_XENOBIOTIC_METABOLISM | C84: 0.29413947 | D84: 1.4058704 | E84: 0.056433409 | F84: 0.12033474 | G84: 0.955 | H84: 33/80 | I84: 0.2687 | J84: SERPINE1;CDA;HSD11B1;IGFBP4;ACOX2;PAPSS2;CDO1;SMOX;RBP4;TGFB2;MT2A;AQP9;NQO1;UPP1;CES1;MAN1A1;SLC6A12;GCKR;SSR3;AOX1;ASL;PTS;XDH;GCNT2;HMOX1;TPST1;MPP2;EPHA2;SLC35B1;PPARD;HPRT1;ABCC3;PDLIM5 | K84: preranked_puro_YAP_vs_pBABE_puro.csv
A85: prerank | B85: HALLMARK_HEDGEHOG_SIGNALING | C85: 0.45035093 | D85: 1.3855844 | E85: 0.11035422 | F85: 0.12981126 | G85: 0.968 | H85: 45632 | I85: 0.2114 | J85: L1CAM;VLDLR;HEY1;NRP1;VEGFA;NKX6-1 | K85: preranked_puro_YAP_vs_pBABE_puro.csv
A86: prerank | B86: HALLMARK_ANDROGEN_RESPONSE | C86: 0.30893558 | D86: 1.3409037 | E86: 0.10864486 | F86: 0.16409341 | G86: 0.987 | H86: 24/47 | I86: 0.3359 | J86: ADAMTS1;CCND1;PMEPA1;CENPN;AKAP12;IDI1;ACTN1;FADS1;PGM3;TPD52;KRT8;HERC3;ALDH1A3;UAP1;SEC24D;NKX3-1;PDLIM5;MYL12A;PTPN21;INPP4B;STK39;INSIG1;ITGAV;SRP19 | K86: preranked_puro_YAP_vs_pBABE_puro.csv
A87: prerank | B87: HALLMARK_APICAL_SURFACE | C87: 0.47352123 | D87: 1.3211742 | E87: 0.16239316 | F87: 0.17659422 | G87: 0.989 | H87: 45570 | I87: 0.1373 | J87: ATP6V0A4;NTNG1;RHCG;DCBLD2;BRCA1 | K87: preranked_puro_YAP_vs_pBABE_puro.csv
A88: prerank | B88: HALLMARK_UNFOLDED_PROTEIN_RESPONSE | C88: 0.29372161 | D88: 1.2966679 | E88: 0.14923619 | F88: 0.19358765 | G88: 0.992 | H88: 34/50 | I88: 0.4964 | J88: TUBB2A;KDELR3;CHAC1;STC2;EIF2S1;PSAT1;H2AX;VEGFA;FUS;SLC1A4;WIPI1;SRPRA;LSM4;GOSR2;SSR1;BANF1;CKS1B;ASNS;YIF1A;PDIA5;HYOU1;EIF4E;LSM1;KIF5B;FKBP14;POP4;EXOSC9;IARS1;ARFGAP1;EXOC2;PREB;ERO1A;SPCS3;MTHFD2 | K88: preranked_puro_YAP_vs_pBABE_puro.csv
A89: prerank | B89: HALLMARK_CHOLESTEROL_HOMEOSTASIS | C89: 0.31140481 | D89: 1.2670437 | E89: 0.19950739 | F89: 0.21640834 | G89: 0.997 | H89: 20/33 | I89: 0.4236 | J89: TNFRSF12A;SEMA3B;NIBAN1;IDI1;ANTXR2;FADS2;GPX8;LDLR;FABP5;ANXA5;PLAUR;ACAT2;ACTG1;TRIB3;PPARG;FDPS;S100A11;HMGCS1;ATXN2;FDFT1 | K89: preranked_puro_YAP_vs_pBABE_puro.csv
A90: prerank | B90: HALLMARK_BILE_ACID_METABOLISM | C90: -0.2463487 | D90: -1.2600382 | E90: 0.14754098 | F90: 0.25644296 | G90: 0.68868869 | H90: 9/29 | I90: 0.1212 | J90: BBOX1;ACSL1;SLC27A2;ACSL5;TFCP2L1;ABCA6;CYP39A1;ABCA5;SULT1B1 | K90: preranked_puro_YAP_vs_pBABE_puro.csv
A91: prerank | B91: HALLMARK_PROTEIN_SECRETION | C91: -0.20770917 | D91: -1.2442486 | E91: 0.16993464 | F91: 0.24574886 | G91: 0.71671672 | H91: 46/46 | I91: 0.7942 | J91: ATP6V1B1;DST;ATP1A1;DOP1A;ARFGAP3;PPT1;MAPK1;STX7;BNIP3;SEC31A;VAMP3;DNM1L;AP1G1;RAB5A;NAPG;RPS6KA3;COPB1;GNAS;AP2M1;PAM;ARFIP1;SOD1;YIPF6;GBF1;SNAP23;NAPA;ARCN1;BET1;VAMP4;CTSC;STAM;SEC22B;CLTC;SCRN1;CD63;GLA;COPE;KRT18;ANP32E;COPB2;RER1;GOSR2;ARF1;SEC24D;YKT6;TPD52 | K91: preranked_puro_YAP_vs_pBABE_puro.csv
A92: prerank | B92: HALLMARK_WNT_BETA_CATENIN_SIGNALING | C92: -0.34149783 | D92: -1.2105037 | E92: 0.24210526 | F92: 0.26372068 | G92: 0.76876877 | H92: 45599 | I92: 0.0538 | J92: DLL1;NOTCH1;HDAC5 | K92: preranked_puro_YAP_vs_pBABE_puro.csv
A93: prerank | B93: HALLMARK_ESTROGEN_RESPONSE_EARLY | C93: 0.22244643 | D93: 1.055054 | E93: 0.39712389 | F93: 0.50565403 | G93: 1 | H93: 20/75 | I93: 0.1875 | J93: TGM2;AREG;IGFBP4;PAPSS2;CCND1;SEMA3B;TUBB2B;SLC1A1;MYBL1;PRSS23;PDLIM3;THSD4;CLIC3;DLC1;STC2;TIAM1;CYP26B1;FLNB;RAB31;FARP1 | K93: preranked_puro_YAP_vs_pBABE_puro.csv
A94: prerank | B94: HALLMARK_MYC_TARGETS_V1 | C94: 0.20580195 | D94: 1.0357415 | E94: 0.42795233 | F94: 0.5223136 | G94: 1 | H94: 52/102 | I94: 0.456 | J94: CDC45;CDC20;KPNA2;CCNA2;MCM5;CTPS1;TYMS;SRSF7;MCM6;ODC1;EIF2S1;MAD2L1;MCM4;SRSF1;HNRNPA3;CDK2;MCM2;H2AZ1;TRA2B;SRSF3;PSMD1;PCNA;HPRT1;SNRPG;RFC4;LDHA;PSMD14;DUT;SNRPD1;MCM7;PGK1;HNRNPA2B1;SRSF2;CSTF2;RANBP1;PSMB2;EIF4E;RAN;NME1;PSMB3;ERH;PSMC4;NCBP1;BUB3;PHB1;CAD;IARS1;CCT5;UBE2E1;SSBP1;UBE2L3;SRM | K94: preranked_puro_YAP_vs_pBABE_puro.csv
A95: prerank | B95: HALLMARK_UV_RESPONSE_UP | C95: 0.21469108 | D95: 1.0008789 | E95: 0.49088838 | F95: 0.56327316 | G95: 1 | H95: 21/71 | I95: 0.2266 | J95: IL6;CXCL2;RHOB;CDO1;GPX3;ENO2;FEN1;TUBA4A;NR4A1;CTSV;PDLIM3;SLC6A12;CCNE1;DLG4;H2AX;MSX1;YKT6;CDK2;HMOX1;GGH;PSMC3 | K95: preranked_puro_YAP_vs_pBABE_puro.csv
A96: prerank | B96: HALLMARK_DNA_REPAIR | C96: 0.20973574 | D96: 0.99245165 | E96: 0.48181818 | F96: 0.55935019 | G96: 1 | H96: 54/69 | I96: 0.6529 | J96: CDA;RAD51;ZWINT;FEN1;POLA2;TYMS;RFC3;TAF13;ALYREF;USP11;LIG1;POLR2K;PNP;COX17;PCNA;HPRT1;RFC4;ERCC2;DUT;GTF2A2;RBX1;NME4;POLA1;CCNO;RFC2;NME1;GTF2H5;TAF10;ARL6IP1;POLD1;ERCC4;RPA3;DAD1;RFC5;ERCC1;CANT1;TAF6;POLR2F;POLR2D;ADRM1;CETN2;ERCC8;UMPS;POM121;POLE4;NELFE;POLD3;POLR2E;SNAPC5;CSTF3;TARBP2;VPS37B;NT5C;POLR2G | K96: preranked_puro_YAP_vs_pBABE_puro.csv
A97: prerank | B97: HALLMARK_REACTIVE_OXYGEN_SPECIES_PATHWAY | C97: 0.24726281 | D97: 0.92261941 | E97: 0.54390564 | F97: 0.65341115 | G97: 1 | H97: 12/24 | I97: 0.3933 | J97: GPX3;HHEX;NQO1;GCLM;LSP1;ATOX1;G6PD;ERCC2;GLRX2;PFKP;PRDX1;TXN | K97: preranked_puro_YAP_vs_pBABE_puro.csv
A98: prerank | B98: HALLMARK_PEROXISOME | C98: -0.15030682 | D98: -0.79285469 | E98: 0.75 | F98: 0.91764337 | G98: 0.995996 | H98: 5/32 | I98: 0.0754 | J98: CEL;SOD2;ACSL1;SLC27A2;ACSL5 | K98: preranked_puro_YAP_vs_pBABE_puro.csv
A99: prerank | B99: HALLMARK_ADIPOGENESIS | C99: -0.11965963 | D99: -0.77938176 | E99: 0.84892086 | F99: 0.85925975 | G99: 0.995996 | H99: 10/61 | I99: 0.1129 | J99: CYP4B1;ALDH2;STOM;CD36;LTC4S;BCL6;STAT5A;SLC1A5;IFNGR1;PDCD4 | K99: preranked_puro_YAP_vs_pBABE_puro.csv
A100: prerank | B100: HALLMARK_MYC_TARGETS_V2 | C100: 0.22036464 | D100: 0.7761009 | E100: 0.74934726 | F100: 0.84974392 | G100: 1 | H100: 3/20 | I100: 0.0978 | J100: PLK1;MCM5;PLK4 | K100: preranked_puro_YAP_vs_pBABE_puro.csv
A101: prerank | B101: HALLMARK_PANCREAS_BETA_CELLS | C101: -0.21161525 | D101: -0.71095495 | E101: 0.8349835 | F101: 0.87067709 | G101: 0.997998 | H101: 45575 | I101: 0.7889 | J101: PCSK1;FOXO1;SRPRB;SPCS1;SRP9;AKT3;SRP14;GCK;STXBP1;NKX6-1 | K101: preranked_puro_YAP_vs_pBABE_puro.csv
A102: prerank | B102: HALLMARK_NOTCH_SIGNALING | C102: 0.21546799 | D102: 0.69538785 | E102: 0.82689747 | F102: 0.91479552 | G102: 1 | H102: 7/15 | I102: 0.329 | J102: CCND1;WNT5A;ARRB1;PPARD;NOTCH2;RBX1;SKP1 | K102: preranked_puro_YAP_vs_pBABE_puro.csv
A103: prerank | B103: HALLMARK_PI3K_AKT_MTOR_SIGNALING | C103: 0.15807511 | D103: 0.67776605 | E103: 0.85380117 | F103: 0.90644465 | G103: 1 | H103: 25/45 | I103: 0.4757 | J103: E2F1;CDK1;TIAM1;CFL1;PFN1;CDK2;UBE2N;MAPKAP1;ARF1;CDKN1A;YWHAB;ACTR3;TRIB3;GSK3B;PDK1;EIF4E;ARHGDIA;ACTR2;MAP2K3;CLTC;RIT1;SLC2A1;ARPC3;PLCG1;PPP2R1B | K103: preranked_puro_YAP_vs_pBABE_puro.csv
A104: prerank | B104: HALLMARK_HEME_METABOLISM | C104: 0.14006983 | D104: 0.64900206 | E104: 0.88965517 | F104: 0.90776775 | G104: 1 | H104: 32/60 | I104: 0.5024 | J104: SMOX;OSBP2;ABCG2;SLC22A4;SLC7A11;TNS1;GCLM;CDR2;UROS;TRAK2;ACP5;EPOR;BMP2K;BNIP3L;CTSB;ASNS;P4HA2;PPP2R5B;UROD;LPIN2;MAP2K3;CDC27;TSPAN5;SEC14L1;KAT2B;SLC2A1;TMCC2;MBOAT2;MGST3;MARCHF2;HMBS;ATG4A | K104: preranked_puro_YAP_vs_pBABE_puro.csv
A105: prerank | B105: HALLMARK_EPITHELIAL_MESENCHYMAL_TRANSITION | C105: 0.6451495 | D105: 3.6530752 | E105: 0 | F105: 0 | G105: 0 | H105: 82/120 | I105: 0.1965 | J105: CXCL8;TGM2;FN1;TAGLN;SERPINE1;CXCL1;CDH2;CCN2;TFPI2;TNC;IL6;MFAP5;ECM1;INHBA;ITGB3;COL6A3;CCN1;AREG;WIPF1;ADAM12;PTX3;NT5E;SERPINE2;FBN1;LOXL2;VCAN;PLOD2;FSTL1;TNFRSF12A;QSOX1;WNT5A;DPYSL3;IGFBP4;CAP2;RHOB;MYL9;COL6A2;GLIPR1;FBN2;ANPEP;COL4A1;TPM4;MATN3;FGF2;ITGA5;LGALS1;FBLN5;BDNF;ITGB1;COL4A2;PMEPA1;VIM;CALU;LAMC2;SLIT2;SPARC;CDH11;MMP2;DAB2;ENO2;TIMP1;SLIT3;FLNA;TPM2;VEGFA;PLOD1;THBS1;FUCA1;EMP3;CD59;PCOLCE2;PMP22;IGFBP3;ITGA2;FERMT2;MYLK;SNAI2;GADD45B;EFEMP2;LAMA1;ITGAV;FAP | K105: preranked_HER2_YAP_vs_pBABE_puro.csv
A106: prerank | B106: YAP_SIGNATURE_UP | C106: 0.72506651 | D106: 3.1109199 | E106: 0 | F106: 0 | G106: 0 | H106: 25/36 | I106: 0.1386 | J106: TGM2;FN1;ANKRD1;CDH2;MFAP5;ATP6V0A4;ADAMTS1;NAV3;FBN1;ADAMTS12;PAPPA;FSTL1;PLCB4;ITGB2;SRGN;SLC44A2;GJA5;TGFB2;FBLN5;PAPSS2;SLIT2;DAB2;TRAM2;FYN;THBS1 | K106: preranked_HER2_YAP_vs_pBABE_puro.csv
A107: prerank | B107: YAP_SIGNATURE_DOWN | C107: -0.93590683 | D107: -3.0928573 | E107: 0 | F107: 0 | G107: 0 | H107: 45574 | I107: 0.0313 | J107: KRT15;FXYD3;SPRR1B;SERPINB13;FAT2;TP63;CLCA2;SULF2;S100A14 | K107: preranked_HER2_YAP_vs_pBABE_puro.csv
A108: prerank | B108: HALLMARK_KRAS_SIGNALING_DN | C108: -0.54918 | D108: -3.0399748 | E108: 0 | F108: 0 | G108: 0 | H108: 20/45 | I108: 0.0721 | J108: PRODH;KRT15;ATP6V1B1;AKR1B10;FGFR3;KLK8;RYR1;COL2A1;GAMT;NUDT11;RSAD2;CLDN16;TGM1;SNN;DLK2;CCDC106;SELENOP;COQ8A;CELSR2;ZBTB16 | K108: preranked_HER2_YAP_vs_pBABE_puro.csv
A109: prerank | B109: HALLMARK_G2M_CHECKPOINT | C109: 0.45294751 | D109: 2.5521258 | E109: 0 | F109: 0 | G109: 0 | H109: 96/144 | I109: 0.3619 | J109: MYBL2;E2F1;CCND1;CDC45;KNL1;AURKB;KIF23;EXO1;BUB1;LMNB1;KPNA2;MT2A;NDC80;CDKN3;GINS2;ORC6;TROAP;PLK1;CDC20;CCNA2;AURKA;CENPE;ODC1;BIRC5;KIF2C;HSPA8;KIF4A;MKI67;TTK;TACC3;PLK4;HMMR;CDC6;SMC1A;UBE2C;CDC25A;MCM5;CKS2;PRC1;CENPF;NEK2;STIL;TPX2;FBXO5;MCM6;HIF1A;RAD54L;CENPA;CCNB2;TRAIP;KIF5B;POLA2;DTYMK;SRSF1;POLQ;ESPL1;PBK;SUV39H1;RASAL2;UBE2S;STMN1;CCNF;HMGA1;HUS1;SMC2;NOTCH2;TRA2B;NUSAP1;CDK1;NSD2;CDC7;JPT1;BRCA2;TOP2A;MCM3;SMC4;MAD2L1;INCENP;CHAF1A;SRSF2;CDC27;H2AZ1;CHEK1;KMT5A;DBF4;KIF15;PRMT5;DDX39A;RACGAP1;MAP3K20;KIF20B;KIF11;E2F4;MCM2;H2AX;ODF2 | K109: preranked_HER2_YAP_vs_pBABE_puro.csv
A110: prerank | B110: HALLMARK_TNFA_SIGNALING_VIA_NFKB | C110: 0.46953405 | D110: 2.5517621 | E110: 0 | F110: 0 | G110: 0 | H110: 40/111 | I110: 0.1363 | J110: CSF2;SERPINE1;CXCL3;CXCL1;TLR2;F3;CLCF1;TNC;IL6;INHBA;IL1B;CCN1;AREG;TUBB2A;PTX3;CCL20;CXCL2;IER3;SLC16A6;PHLDA2;CCND1;FOSL1;SERPINB2;TNFAIP6;SLC2A3;PTGS2;RHOB;LIF;IL7R;PHLDA1;KLF2;LDLR;DUSP4;SPHK1;PMEPA1;LAMB3;EGR1;VEGFA;TNIP1;IL1A | K110: preranked_HER2_YAP_vs_pBABE_puro.csv
A111: prerank | B111: HALLMARK_E2F_TARGETS | C111: 0.44265201 | D111: 2.5309776 | E111: 0 | F111: 0 | G111: 0 | H111: 83/146 | I111: 0.2999 | J111: MYBL2;RRM2;CDCA3;TK1;KIF18B;SPC25;DIAPH3;AURKB;DLGAP5;TRIP13;TCF19;ASF1B;LMNB1;KPNA2;RAD51AP1;GINS1;CDKN3;GINS4;DEPDC1;CTPS1;ORC6;PLK1;CDC20;BUB1B;AURKA;CENPE;BIRC5;PSMC3IP;KIF2C;MELK;KIF4A;DNMT1;MKI67;TACC3;PLK4;HMMR;SMC1A;TUBG1;CDC25A;MCM5;CKS2;CDCA8;BRCA1;MCM6;CCNE1;CCNB2;SPAG5;CENPM;POLA2;CIT;SRSF1;ESPL1;DONSON;SUV39H1;EIF2S1;UBE2S;UBE2T;TIMELESS;RNASEH2A;STMN1;DSCC1;HMGA1;ATAD2;TUBB;HUS1;TRA2B;CDK1;JPT1;BRCA2;TOP2A;RFC3;MCM3;SMC4;MAD2L1;LYAR;SRSF2;MXD3;CDKN1A;H2AZ1;DCK;HELLS;ANP32E;CHEK1 | K111: preranked_HER2_YAP_vs_pBABE_puro.csv
A112: prerank | B112: HALLMARK_INTERFERON_ALPHA_RESPONSE | C112: -0.48154531 | D112: -2.3936645 | E112: 0 | F112: 0.00034126109 | G112: 0.001001001 | H112: 16/33 | I112: 0.1315 | J112: CXCL10;GMPR;RSAD2;GBP2;IFITM1;IFIT2;OAS1;RTP4;TXNIP;C1S;IFIT3;CD74;LPAR6;IFI30;IFIH1;OASL | K112: preranked_HER2_YAP_vs_pBABE_puro.csv
A113: prerank | B113: HALLMARK_INFLAMMATORY_RESPONSE | C113: 0.44775569 | D113: 2.3382754 | E113: 0 | F113: 0 | G113: 0 | H113: 33/83 | I113: 0.1531 | J113: CXCL8;SERPINE1;CSF3;TLR2;F3;IL6;C3AR1;INHBA;ITGB3;IL1B;NLRP3;EREG;CCL20;FPR1;TNFAIP6;MEFV;LIF;IL7R;LAMP3;AQP9;DCBLD2;ITGA5;HAS2;LDLR;SPHK1;PTGIR;IRAK2;TIMP1;IL1A;AXL;HIF1A;EMP3;PCDH7 | K113: preranked_HER2_YAP_vs_pBABE_puro.csv
A114: prerank | B114: HALLMARK_KRAS_SIGNALING_UP | C114: 0.44932855 | D114: 2.335433 | E114: 0 | F114: 0 | G114: 0 | H114: 28/86 | I114: 0.0808 | J114: CSF2;ANGPTL4;HSD11B1;SCG5;DUSP6;C3AR1;INHBA;IL1B;ETV4;IL33;EREG;TMEM158;ETV5;CCL20;PDCD1LG2;GNG11;ETV1;RBP4;EPB41L3;NRP1;PTGS2;PPBP;LIF;IL7R;ITGB2;DCBLD2;SEMA3B;MALL | K114: preranked_HER2_YAP_vs_pBABE_puro.csv
A115: prerank | B115: HALLMARK_UV_RESPONSE_DN | C115: 0.43870492 | D115: 2.1677744 | E115: 0 | F115: 0.00012403949 | G115: 0.001 | H115: 29/69 | I115: 0.1891 | J115: SERPINE1;F3;ITGB3;CCN1;ERBB2;MGLL;VLDLR;MAP1B;NRP1;PLCB4;SCN8A;CAP2;DDAH1;HAS2;LDLR;FBLN5;BDNF;MT1E;ANXA2;INSIG1;DAB2;FYN;GCNT1;PTGFR;DLC1;PMP22;AMPH;SNAI2;PTPN21 | K115: preranked_HER2_YAP_vs_pBABE_puro.csv
A116: prerank | B116: HALLMARK_MTORC1_SIGNALING | C116: 0.38786501 | D116: 2.1110435 | E116: 0 | F116: 0.00044102929 | G116: 0.003 | H116: 80/112 | I116: 0.4281 | J116: RRM2;STC1;VLDLR;IDI1;MLLT11;PLOD2;SLC2A3;NIBAN1;PHGDH;FADS2;ITGB2;BUB1;CORO1A;POLR3G;SLC7A11;DHFR;PLK1;LDLR;AURKA;PSAT1;INSIG1;WARS1;TUBG1;CDC25A;HMGCS1;MTHFD2L;FADS1;ACLY;TUBA4A;PSME3;SLC1A4;TRIB3;YKT6;PNP;ASNS;CCNF;LDHA;ME1;PGK1;PNO1;EGLN3;SERPINH1;SCD;BHLHE40;ACTR3;ACTR2;HPRT1;PSMD14;SSR1;PDK1;PSMD12;RDH11;G6PD;CDKN1A;ELOVL6;ABCF2;CYP51A1;DDX39A;MAP2K3;MCM4;STIP1;NAMPT;STARD4;CYB5B;MCM2;QDPR;ATP6V1D;ERO1A;SC5D;PSMC2;DHCR7;PSMC4;IDH1;HSPA4;GBE1;CACYBP;ARPC5L;PSMD13;PSPH;PRDX1 | K116: preranked_HER2_YAP_vs_pBABE_puro.csv
A117: prerank | B117: HALLMARK_P53_PATHWAY | C117: -0.31410959 | D117: -1.9679622 | E117: 0 | F117: 0.0053748622 | G117: 0.02002002 | H117: 44/88 | I117: 0.2154 | J117: TP63;KLK8;CLCA2;GLS2;KRT17;RGS16;CD82;NOTCH1;H2AC25;COQ8A;STOM;TXNIP;KLF4;CEBPA;ZBTB16;BTG1;FOS;CTSD;ABHD4;ITGB4;PERP;NUPR1;IFI30;ATF3;RPL36;GM2A;SESN1;RPL18;RPS12;ADA;VWA5A;RACK1;BTG2;DCXR;FOXO3;NDRG1;F2R;ST14;JAG2;STEAP3;TRAFD1;RAB40C;RXRA;RALGDS | K117: preranked_HER2_YAP_vs_pBABE_puro.csv
A118: prerank | B118: HALLMARK_IL6_JAK_STAT3_SIGNALING | C118: 0.45687077 | D118: 1.9619639 | E118: 0.0013550136 | F118: 0.0032746425 | G118: 0.032 | H118: 9/35 | I118: 0.0358 | J118: CSF2;PF4;CXCL3;CXCL1;TLR2;IL6;ITGB3;IL1B;TNFRSF12A | K118: preranked_HER2_YAP_vs_pBABE_puro.csv
A119: prerank | B119: HALLMARK_ANGIOGENESIS | C119: 0.56036517 | D119: 1.8992928 | E119: 0 | F119: 0.0055930533 | G119: 0.06 | H119: 12/17 | I119: 0.2858 | J119: PF4;STC1;VCAN;FSTL1;NRP1;TIMP1;VEGFA;THBD;ITGAV;MSX1;LUM;FGFR1 | K119: preranked_HER2_YAP_vs_pBABE_puro.csv
... A138: prerank | B138: HALLMARK_UNFOLDED_PROTEIN_RESPONSE | C138: 0.26387303 | D138: 1.2299492 | E138: 0.21333333 | F138: 0.28236901 | G138: 1 | H138: 35/54 | I138: 0.4857 | J138: TUBB2A;KDELR3;CHAC1;STC2;PSAT1;VEGFA;KIF5B;EIF2S1;SLC1A4;ASNS;FUS;WIPI1;SRPRA;SSR1;GOSR2;IARS1;PDIA5;HYOU1;FKBP14;BANF1;SPCS3;LSM4;H2AX;EXOC2;ERO1A;LSM1;EIF4E;YIF1A;ATF6;ARFGAP1;MTHFD2;EXOSC9;ATP6V0D1;DCTN1;XPOT | K138: preranked_HER2_YAP_vs_pBABE_puro.csv
A139: prerank | B139: HALLMARK_APICAL_SURFACE | C139: 0.40554736 | D139: 1.2037978 | E139: 0.25628931 | F139: 0.30793689 | G139: 1 | H139: 45569 | I139: 0.1396 | J139: ATP6V0A4;DCBLD2;NTNG1;BRCA1 | K139: preranked_HER2_YAP_vs_pBABE_puro.csv
A140: prerank | B140: HALLMARK_APOPTOSIS | C140: 0.23051422 | D140: 1.1901855 | E140: 0.23631841 | F140: 0.31576177 | G140: 1 | H140: 33/86 | I140: 0.2948 | J140: IL6;IL1B;ERBB2;EREG;GPX3;IER3;CCND1;TNFRSF12A;RHOB;SLC20A1;TGFB2;IGFBP6;MMP2;ENO2;TIMP1;PEA15;IL1A;BRCA1;LEF1;PLCB2;GADD45B;PPP2R5B;BCL2L1;CCNA1;DCN;ANXA1;TOP2A;LUM;BNIP3L;HMOX1;CDK2;CDKN1A;PSEN2 | K140: preranked_HER2_YAP_vs_pBABE_puro.csv
...

Sheet LFC of 8781 DEGs
B1: HER2_YAP vs pBABE_puro | C1: puro_YAP vs pBABE_puro | D1: HER2_puro vs pBABE_puro | E1: HER2_shYAP vs HER2_shControl | F1: ensembl id | G1: gene
A2: ENSG00000000003_TSPAN6 | B2: 1.150913 | C2: 1.3875358 | D2: 1.2236372 | E2: NA | F2: ENSG00000000003 | G2: TSPAN6
A3: ENSG00000000460_C1orf112 | B3: 2.5003503 | C3: 2.6990343 | D3: 1.2736481 | E3: 1.8126794 | F3: ENSG00000000460 | G3: C1orf112
A4: ENSG00000000938_FGR | B4: -4.1584294 | C4: -3.7178568 | D4: -3.0588937 | E4: NA | F4: ENSG00000000938 | G4: FGR
A5: ENSG00000001036_FUCA2 | B5: 1.9882738 | C5: 1.7683513 | D5: 1.4433479 | E5: -0.16057626 | F5: ENSG00000001036 | G5: FUCA2
A6: ENSG00000001084_GCLC | B6: 0.93775079 | C6: 0.66193762 | D6: 1.5103608 | E6: NA | F6: ENSG00000001084 | G6: GCLC
A7: ENSG00000001167_NFYA | B7: 0.60700254 | C7: 1.0461648 | D7: 0.672452 | E7: 0.5680321 | F7: ENSG00000001167 | G7: NFYA
A8: ENSG00000001460_STPG1 | B8: 1.2840743 | C8: 1.5461842 | D8: 1.2626592 | E8: 0.55548962 | F8: ENSG00000001460 | G8: STPG1
A9: ENSG00000001461_NIPAL3 | B9: 1.3797508 | C9: 1.1546632 | D9: 0.64062947 | E9: 0.63082358 | F9: ENSG00000001461 | G9: NIPAL3
A10: ENSG00000001497_LAS1L | B10: 1.1539995 | C10: 1.2957758 | D10: 0.6442017 | E10: 0.87626973 | F10: ENSG00000001497 | G10: LAS1L
A11: ENSG00000001561_ENPP4 | B11: -3.3003949 | C11: 0.6760366 | D11: NA | E11: NA | F11: ENSG00000001561 | G11: ENPP4
A12: ENSG00000001629_ANKIB1 | B12: 1.1812093 | C12: 0.92747436 | D12: 0.72724699 | E12: 0.37515205 | F12: ENSG00000001629 | G12: ANKIB1
A13: ENSG00000001630_CYP51A1 | B13: 1.7851056 | C13: 0.89262551 | D13: 1.3444367 | E13: -0.33743468 | F13: ENSG00000001630 | G13: CYP51A1
A14: ENSG00000002079_MYH16 | B14: NA | C14: NA | D14: NA | E14: 3.6205864 | F14: ENSG00000002079 | G14: MYH16
A15: ENSG00000002586_CD99 | B15: 1.1353949 | C15: 1.1042108 | D15: 1.4537516 | E15: -0.82748077 | F15: ENSG00000002586 | G15: CD99
A16: ENSG00000002746_HECW1 | B16: 3 | C16: 2.6824283 | D16: 2.2356282 | E16: NA | F16: ENSG00000002746 | G16: HECW1
A17: ENSG00000002834_LASP1 | B17: 1.9602081 | C17: 1.8793075 | D17: 1.2241668 | E17: 0.49319301 | F17: ENSG00000002834 | G17: LASP1
A18: ENSG00000002919_SNX11 | B18: 1.0543111 | C18: 1.3226659 | D18: 1.0165091 | E18: 0.52874649 | F18: ENSG00000002919 | G18: SNX11
A19: ENSG00000003137_CYP26B1 | B19: 2.9722443 | C19: 2.7626859 | D19: 1.6675876 | E19: 0.76999439 | F19: ENSG00000003137 | G19: CYP26B1
A20: ENSG00000003147_ICA1 | B20: -1.0286288 | C20: -0.26452711 | D20: -1.2627361 | E20: 0.830075 | F20: ENSG00000003147 | G20: ICA1
A21: ENSG00000003249_DBNDD1 | B21: 1.0046714 | C21: 0.75124367 | D21: -0.663485 | E21: -0.37196878 | F21: ENSG00000003249 | G21: DBNDD1
A22: ENSG00000003393_ALS2 | B22: 1.2639959 | C22: 1.1311944 | D22: 0.36692365 | E22: -0.29644383 | F22: ENSG00000003393 | G22: ALS2
A23: ENSG00000003400_CASP10 | B23: NA | C23: NA | D23: NA | E23: 1.2016339 | F23: ENSG00000003400 | G23: CASP10
A24: ENSG00000003402_CFLAR | B24: 1.6789436 | C24: 1.3970771 | D24: 1.3864437 | E24: 0.17505326 | F24: ENSG00000003402 | G24: CFLAR
A25: ENSG00000003436_TFPI | B25: 1.1151554 | C25: 0.84115828 | D25: 1.7325251 | E25: -1.3588044 | F25: ENSG00000003436 | G25: TFPI
A26: ENSG00000003987_MTMR7 | B26: NA | C26: NA | D26: 2.1023617 | E26: NA | F26: ENSG00000003987 | G26: MTMR7
A27: ENSG00000003989_SLC7A2 | B27: -0.88864945 | C27: -1.519949 | D27: 0.4995635 | E27: -0.9763833 | F27: ENSG00000003989 | G27: SLC7A2
A28: ENSG00000004399_PLXND1 | B28: 1.205604 | C28: 1.1460218 | D28: 1.0088626 | E28: -1.0638284 | F28: ENSG00000004399 | G28: PLXND1
A29: ENSG00000004534_RBM6 | B29: 1.0772381 | C29: 0.88396088 | D29: 0.45593875 | E29: 0.49915055 | F29: ENSG00000004534 | G29: RBM6
A30: ENSG00000004660_CAMKK1 | B30: -0.85932491 | C30: -1.0243842 | D30: -0.88390294 | E30: 0.38605843 | F30: ENSG00000004660 | G30: CAMKK1
A31: ENSG00000004700_RECQL | B31: 1.8996805 | C31: 1.7342202 | D31: 1.5873985 | E31: 0.86041941 | F31: ENSG00000004700 | G31: RECQL
A32: ENSG00000004766_VPS50 | B32: 1.0337959 | C32: 0.67236148 | D32: NA | E32: 1.0397263 | F32: ENSG00000004766 | G32: VPS50
A33: ENSG00000004777_ARHGAP33 | B33: NA | C33: NA | D33: NA | E33: 2.0062051 | F33: ENSG00000004777 | G33: ARHGAP33
A34: ENSG00000004779_NDUFAB1 | B34: 0.87984156 | C34: 1.0383902 | D34: 0.87266561 | E34: 0.40859841 | F34: ENSG00000004779 | G34: NDUFAB1
A35: ENSG00000004799_PDK4 | B35: -3.8953556 | C35: -3.1593751 | D35: -0.79894172 | E35: -0.61112608 | F35: ENSG00000004799 | G35: PDK4
A36: ENSG00000004864_SLC25A13 | B36: 1.852968 | C36: 1.5878053 | D36: NA | E36: 0.24949695 | F36: ENSG00000004864 | G36: SLC25A13
A37: ENSG00000004866_ST7 | B37: 1.5495361 | C37: 1.4747437 | D37: 1.2033997 | E37: NA | F37: ENSG00000004866 | G37: ST7
A38: ENSG00000004897_CDC27 | B38: 1.8702599 | C38: 1.6030902 | D38: 0.95495704 | E38: 0.73054134 | F38: ENSG00000004897 | G38: CDC27
A39: ENSG00000004961_HCCS | B39: 1.2650053 | C39: 1.316989 | D39: 0.71650713 | E39: 0.23826442 | F39: ENSG00000004961 | G39: HCCS
A40: ENSG00000005020_SKAP2 | B40: 1.1967378 | C40: 1.0324215 | D40: 1.0278342 | E40: 0.21826454 | F40: ENSG00000005020 | G40: SKAP2
A41: ENSG00000005022_SLC25A5 | B41: -1.0810162 | C41: -0.76539744 | D41: -1.1315354 | E41: 0.3171561 | F41: ENSG00000005022 | G41: SLC25A5
A42: ENSG00000005059_MCUB | B42: 1.4212334 | C42: 1.8269671 | D42: 1.0096862 | E42: 0.5849625 | F42: ENSG00000005059 | G42: MCUB
A43: ENSG00000005073_HOXA11 | B43: 3.2223924 | C43: NA | D43: NA | E43: NA | F43: ENSG00000005073 | G43: HOXA11
A44: ENSG00000005156_LIG3 | B44: 1.3756994 | C44: 1.460617 | D44: 1.1248785 | E44: 1.0686373 | F44: ENSG00000005156 | G44: LIG3
A45: ENSG00000005175_RPAP3 | B45: 1.8588322 | C45: 1.5995855 | D45: 0.96247888 | E45: 0.16624934 | F45: ENSG00000005175 | G45: RPAP3
A46: ENSG00000005187_ACSM3 | B46: -2.2992903 | C46: -1.0141096 | D46: NA | E46: 1.0797272 | F46: ENSG00000005187 | G46: ACSM3
A47: ENSG00000005189_REXO5 | B47: 1.1448736 | C47: 2.0425457 | D47: 1.9456499 | E47: 1.3046271 | F47: ENSG00000005189 | G47: REXO5
A48: ENSG00000005206_SPPL2B | B48: 1.3556863 | C48: 0.91887668 | D48: 0.88844812 | E48: 0.31987497 | F48: ENSG00000005206 | G48: SPPL2B
A49: ENSG00000005238_ATOSB | B49: 2.299512 | C49: 2.0437387 | D49: 1.3464331 | E49: NA | F49: ENSG00000005238 | G49: ATOSB
A50: ENSG00000005243_COPZ2 | B50: NA | C50: 1.1241794 | D50: 2.1860447 | E50: NA | F50: ENSG00000005243 | G50: COPZ2
A51: ENSG00000005249_PRKAR2B | B51: 1.8892965 | C51: 2.6543105 | D51: NA | E51: -1.5584903 | F51: ENSG00000005249 | G51: PRKAR2B
A52: ENSG00000005302_MSL3 | B52: 1.0504138 | C52: 1.0464449 | D52: 0.50695999 | E52: 0.12201378 | F52: ENSG00000005302 | G52: MSL3
A53: ENSG00000005339_CREBBP | B53: NA | C53: NA | D53: -0.6931113 | E53: 1.1144239 | F53: ENSG00000005339 | G53: CREBBP
A54: ENSG00000005379_TSPOAP1 | B54: -2.5260688 | C54: NA | D54: NA | E54: NA | F54: ENSG00000005379 | G54: TSPOAP1
A55: ENSG00000005448_WDR54 | B55: 0.605344 | C55: 1.2593644 | D55: 1.5381747 | E55: 0.64205395 | F55: ENSG00000005448 | G55: WDR54
A56: ENSG00000005469_CROT | B56: -0.61920671 | C56: -0.58674471 | D56: -1.3160033 | E56: 1.1969086 | F56: ENSG00000005469 | G56: CROT
A57: ENSG00000005486_RHBDD2 | B57: 1.3338677 | C57: 1.0500747 | D57: 1.4016123 | E57: -0.59224973 | F57: ENSG00000005486 | G57: RHBDD2
A58: ENSG00000005700_IBTK | B58: 1.8801532 | C58: 1.464305 | D58: 1.2149578 | E58: NA | F58: ENSG00000005700 | G58: IBTK
A59: ENSG00000005884_ITGA3 | B59: 2.0901342 | C59: 2.0013139 | D59: 1.3102799 | E59: 0.49855239 | F59: ENSG00000005884 | G59: ITGA3
A60: ENSG00000006015_REX1BD | B60: 0.8516054 | C60: 1.2598234 | D60: 0.8405304 | E60: 0.99251959 | F60: ENSG00000006015 | G60: REX1BD
A61: ENSG00000006016_CRLF1 | B61: -2.542402 | C61: -2.1742509 | D61: -0.3176151 | E61: 0.42978408 | F61: ENSG00000006016 | G61: CRLF1
A62: ENSG00000006025_OSBPL7 | B62: 1.2326608 | C62: 1.1930549 | D62: 1.4665678 | E62: NA | F62: ENSG00000006025 | G62: OSBPL7
A63: ENSG00000006042_TMEM98 | B63: 1.8773383 | C63: 2.1585698 | D63: NA | E63: NA | F63: ENSG00000006042 | G63: TMEM98
A64: ENSG00000006282_SPATA20 | B64: 1.8810387 | C64: 1.7126679 | D64: 1.5785428 | E64: 0.30647114 | F64: ENSG00000006282 | G64: SPATA20
A65: ENSG00000006327_TNFRSF12A | B65: 4.3962653 | C65: 4.3200311 | D65: 3.0665087 | E65: -0.040141077 | F65: ENSG00000006327 | G65: TNFRSF12A
A66: ENSG00000006432_MAP3K9 | B66: 0.55078539 | C66: 0.78162287 | D66: NA | E66: 1.2706476 | F66: ENSG00000006432 | G66: MAP3K9
A67: ENSG00000006468_ETV1 | B67: 4.831081 | C67: 4.7491511 | D67: 4.7888348 | E67: -0.78640453 | F67: ENSG00000006468 | G67: ETV1
A68: ENSG00000006555_TTC22 | B68: -0.43432108 | C68: NA | D68: -1.5491173 | E68: 0.98859524 | F68: ENSG00000006555 | G68: TTC22
A69: ENSG00000006606_CCL26 | B69: NA | C69: 3.6205864 | D69: 4.2854022 | E69: NA | F69: ENSG00000006606 | G69: CCL26
A70: ENSG00000006607_FARP2 | B70: 1.8329959 | C70: 1.719353 | D70: 0.48067614 | E70: 0.86176396 | F70: ENSG00000006607 | G70: FARP2
A71: ENSG00000006634_DBF4 | B71: 1.8002632 | C71: 1.9513181 | D71: 1.1019546 | E71: 0.90230333 | F71: ENSG00000006634 | G71: DBF4
A72: ENSG00000006712_PAF1 | B72: 1.4225781 | C72: 1.5458953 | D72: 0.82929652 | E72: 0.55700713 | F72: ENSG00000006712 | G72: PAF1
A73: ENSG00000006740_ARHGAP44 | B73: -4.5789387 | C73: NA | D73: -1.4251334 | E73: NA | F73: ENSG00000006740 | G73: ARHGAP44
A74: ENSG00000006744_ELAC2 | B74: 1.1284569 | C74: 0.97046479 | D74: 0.35517857 | E74: 0.78491772 | F74: ENSG00000006744 | G74: ELAC2
A75: ENSG00000006756_ARSD | B75: 1.4763699 | C75: 1.090792 | D75: 0.93080879 | E75: -0.29777145 | F75: ENSG00000006756 | G75: ARSD
A76: ENSG00000006837_CDKL3 | B76: NA | C76: NA | D76: NA | E76: -1.2871262 | F76: ENSG00000006837 | G76: CDKL3
A77: ENSG00000007038_PRSS21 | B77: 5.8938553 | C77: 4.4984535 | D77: 5.6800385 | E77: -0.19161617 | F77: ENSG00000007038 | G77: PRSS21
A78: ENSG00000007168_PAFAH1B1 | B78: 1.3132687 | C78: 1.1965211 | D78: 0.76553475 | E78: 0.73477249 | F78: ENSG00000007168 | G78: PAFAH1B1
A79: ENSG00000007202_BLTP2 | B79: 1.1086284 | C79: 1.0522802 | D79: 0.12364468 | E79: 0.65382123 | F79: ENSG00000007202 | G79: BLTP2
A80: ENSG00000007255_TRAPPC6A | B80: -3.9409316 | C80: -3.0966674 | D80: -1.9225955 | E80: -0.49506491 | F80: ENSG00000007255 | G80: TRAPPC6A
A81: ENSG00000007341_ST7L | B81: 0.81867024 | C81: 0.73787409 | D81: 1.2070566 | E81: 0.38578369 | F81: ENSG00000007341 | G81: ST7L
A82: ENSG00000007376_RPUSD1 | B82: NA | C82: -0.095641501 | D82: -1.2095782 | E82: 0.45138617 | F82: ENSG00000007376 | G82: RPUSD1
A83: ENSG00000007384_RHBDF1 | B83: 1.9332337 | C83: 1.7541914 | D83: 0.94791916 | E83: -0.8823902 | F83: ENSG00000007384 | G83: RHBDF1
A84: ENSG00000007392_LUC7L | B84: 1.031514 | C84: 0.96370387 | D84: 0.28542775 | E84: NA | F84: ENSG00000007392 | G84: LUC7L
A85: ENSG00000007866_TEAD3 | B85: 1.591332 | C85: 1.6826528 | D85: 1.0986843 | E85: -0.29585458 | F85: ENSG00000007866 | G85: TEAD3
A86: ENSG00000007923_DNAJC11 | B86: 1.3142158 | C86: 1.0181289 | D86: NA | E86: 0.39504214 | F86: ENSG00000007923 | G86: DNAJC11
A87: ENSG00000007944_MYLIP | B87: -2.4506614 | C87: -1.7369656 | D87: -1.2871627 | E87: NA | F87: ENSG00000007944 | G87: MYLIP
A88: ENSG00000007968_E2F2 | B88: NA | C88: NA | D88: NA | E88: 2.2667865 | F88: ENSG00000007968 | G88: E2F2
A89: ENSG00000008018_PSMB1 | B89: 1.0772762 | C89: 1.1585105 | D89: 0.84994664 | E89: 0.2502855 | F89: ENSG00000008018 | G89: PSMB1
A90: ENSG00000008083_JARID2 | B90: 1.8751135 | C90: 1.8497682 | D90: 2.3958578 | E90: 1.1149925 | F90: ENSG00000008083 | G90: JARID2
A91: ENSG00000008128_CDK11A | B91: 1.3564558 | C91: 0.9422845 | D91: 1.0816762 | E91: 0.28599555 | F91: ENSG00000008128 | G91: CDK11A
A92: ENSG00000008256_CYTH3 | B92: 0.91930477 | C92: 1.0644933 | D92: NA | E92: 0.63120669 | F92: ENSG00000008256 | G92: CYTH3
A93: ENSG00000008283_CYB561 | B93: 1.1178473 | C93: 0.97668545 | D93: 0.82642234 | E93: 0.093305303 | F93: ENSG00000008283 | G93: CYB561
A94: ENSG00000008294_SPAG9 | B94: 1.279373 | C94: 0.95560588 | D94: 0.78591088 | E94: 0.898564 | F94: ENSG00000008294 | G94: SPAG9
A95: ENSG00000008405_CRY1 | B95: 2.0443941 | C95: 2.1621976 | D95: 0.96133838 | E95: NA | F95: ENSG00000008405 | G95: CRY1
A96: ENSG00000008441_NFIX | B96: 1.0869152 | C96: 0.81398801 | D96: 1.0092778 | E96: 0.91155328 | F96: ENSG00000008441 | G96: NFIX
A97: ENSG00000008513_ST3GAL1 | B97: 1.748183 | C97: 1.5764384 | D97: 1.2669245 | E97: NA | F97: ENSG00000008513 | G97: ST3GAL1
A98: ENSG00000008517_IL32 | B98: 1.1341683 | C98: 1.2060259 | D98: 0.53415623 | E98: -0.1203262 | F98: ENSG00000008517 | G98: IL32
A99: ENSG00000008838_MED24 | B99: 1.9276425 | C99: 1.9794832 | D99: 1.0906093 | E99: -0.093685068 | F99: ENSG00000008838 | G99: MED24
A100: ENSG00000008853_RHOBTB2 | B100: -1.0009838 | C100: -0.41274465 | D100: -1.2754792 | E100: 0.77778006 | F100: ENSG00000008853 | G100: RHOBTB2
...

Sheet case7_pathways
A1: term | B1: CountInEnrichedGSEs | C1: OtherTermsInEnrichedGSEs | D1: TotalGSEsWithTerm | E1: TotalOtherTerms | F1: OddsRatio | G1: Pvalue | H1: AdjPvalue | I1: negLog10Pval
A2: apoptosis | B2: 198 | C2: 14520 | D2: 502 | E2: 85093 | F2: 2.3114723 | G2: 1.6429884e-20 | H2: 7.7713352e-18 | I2: =-(LOG10(G2)) -> 19.784365
A3: epithelial mesenchymal transition | B3: 130 | C3: 14588 | D3: 303 | E3: 85292 | F3: 2.5084952 | G3: 3.5451823e-16 | H3: 8.384356e-14 | I3: =-(LOG10(G3)) -> 15.450361
A4: triple negative breast cancer | B4: 84 | C4: 14634 | D4: 167 | E4: 85428 | F4: 2.9362971 | G4: 7.1991907e-14 | H4: 1.1350724e-11 | I4: =-(LOG10(G4)) -> 13.142716
A5: chromatin accessibility | B5: 94 | C5: 14624 | D5: 226 | E5: 85369 | F5: 2.4280265 | G5: 1.8828444e-11 | H5: 2.2264636e-09 | I5: =-(LOG10(G5)) -> 10.725186
A6: cell cycle | B6: 84 | C6: 14634 | D6: 214 | E6: 85381 | F6: 2.2901488 | G6: 1.8290247e-09 | H6: 1.7302574e-07 | I6: =-(LOG10(G6)) -> 8.7377804
A7: cell cycle arrest | B7: 51 | C7: 14667 | D7: 99 | E7: 85496 | F7: 3.0028904 | G7: 3.846368e-09 | H7: 3.0322201e-07 | I7: =-(LOG10(G7)) -> 8.4149492
A8: dna damage | B8: 54 | C8: 14664 | D8: 112 | E8: 85483 | F8: 2.8106259 | G8: 7.012862e-09 | H8: 4.738691e-07 | I8: =-(LOG10(G8)) -> 8.1541047
A9: inflammation | B9: 109 | C9: 14609 | D9: 327 | E9: 85268 | F9: 1.9455587 | G9: 1.3285207e-08 | H9: 7.8548787e-07 | I9: =-(LOG10(G9)) -> 7.8766317
A10: proliferation | B10: 82 | C10: 14636 | D10: 220 | E10: 85375 | F10: 2.1742 | G10: 1.8596377e-08 | H10: 9.7734294e-07 | I10: =-(LOG10(G10)) -> 7.7305717
A11: tumor suppressor | B11: 58 | C11: 14660 | D11: 132 | E11: 85463 | F11: 2.5615228 | G11: 2.4935516e-08 | H11: 1.1794499e-06 | I11: =-(LOG10(G11)) -> 7.6031816
A12: autophagy | B12: 65 | C12: 14653 | D12: 161 | E12: 85434 | F12: 2.3539199 | G12: 4.7421774e-08 | H12: 2.0391363e-06 | I12: =-(LOG10(G12)) -> 7.3240222
A13: dna damage response | B13: 41 | C13: 14677 | D13: 78 | E13: 85517 | F13: 3.0626997 | G13: 6.559059e-08 | H13: 2.5853624e-06 | I13: =-(LOG10(G13)) -> 7.1831585
... A51: erythropoiesis | B51: 17 | C51: 14701 | D51: 32 | E51: 85563 | F51: 3.0919899 | G51: 0.00038808077 | H51: 0.0036221653 | I51: =-(LOG10(G51)) -> 3.4110779

Sheet case4_pathways
A1: term | B1: CountInEnrichedGSEs | C1: OtherTermsInEnrichedGSEs | D1: TotalGSEsWithTerm | E1: TotalOtherTerms | F1: OddsRatio | G1: Pvalue | H1: AdjPvalue | I1: negLog10Pval
A2: apoptosis | B2: 221 | C2: 14451 | D2: 502 | E2: 85093 | F2: 2.5922954 | G2: 7.7980296e-28 | H2: 3.6338818e-25 | I2: =-(LOG10(G2)) -> 27.108015
A3: epithelial mesenchymal transition | B3: 137 | C3: 14535 | D3: 303 | E3: 85292 | F3: 2.6532074 | G3: 1.2869794e-18 | H3: 2.9986619e-16 | I3: =-(LOG10(G3)) -> 17.890428
A4: chromatin accessibility | B4: 100 | C4: 14572 | D4: 226 | E4: 85369 | F4: 2.5922244 | G4: 2.2804378e-13 | H4: 3.54228e-11 | I4: =-(LOG10(G4)) -> 12.641982
A5: triple negative breast cancer | B5: 81 | C5: 14591 | D5: 167 | E5: 85428 | F5: 2.8397737 | G5: 8.1403187e-13 | H5: 9.4834713e-11 | I5: =-(LOG10(G5)) -> 12.089359
A6: wnt signaling | B6: 82 | C6: 14590 | D6: 212 | E6: 85383 | F6: 2.2635709 | G6: 4.0407158e-09 | H6: 3.1382892e-07 | I6: =-(LOG10(G6)) -> 8.3935417
A7: inflammation | B7: 111 | C7: 14561 | D7: 327 | E7: 85268 | F7: 1.9877882 | G7: 3.8721794e-09 | H7: 3.1382892e-07 | I7: =-(LOG10(G7)) -> 8.4120445
A8: dna damage | B8: 54 | C8: 14618 | D8: 112 | E8: 85483 | F8: 2.8194704 | G8: 6.6317185e-09 | H8: 4.1634025e-07 | I8: =-(LOG10(G8)) -> 8.1783739
A9: cell cycle arrest | B9: 50 | C9: 14622 | D9: 99 | E9: 85496 | F9: 2.9530706 | G9: 7.1474721e-09 | H9: 4.1634025e-07 | I9: =-(LOG10(G9)) -> 8.1458475
A10: cell cycle | B10: 81 | C10: 14591 | D10: 214 | E10: 85381 | F10: 2.2148658 | G10: 1.1751409e-08 | H10: 6.0846187e-07 | I10: =-(LOG10(G10)) -> 7.92991
A11: tumor suppressor | B11: 58 | C11: 14614 | D11: 132 | E11: 85463 | F11: 2.5695856 | G11: 2.3342477e-08 | H11: 1.0877594e-06 | I11: =-(LOG10(G11)) -> 7.6318531
A12: reactive oxygen species | B12: 51 | C12: 14621 | D12: 108 | E12: 85487 | F12: 2.7610192 | G12: 2.6633455e-08 | H12: 1.12829e-06 | I12: =-(LOG10(G12)) -> 7.5745725
A13: metastasis | B13: 75 | C13: 14597 | D13: 200 | E13: 85395 | F13: 2.1938155 | G13: 4.8718028e-08 | H13: 1.8918834e-06 | I13: =-(LOG10(G13)) -> 7.3123103
... A51: tca cycle | B51: 16 | C51: 14656 | D51: 26 | E51: 85569 | F51: 3.5929207 | G51: 0.00016078019 | H51: 0.0014690896 | I51: =-(LOG10(G51)) -> 3.7937675
