Workbook

Sheet Interview
A1: Questions for clinic managers/non-participatory observation (Context) | B1: Response
A2: How are RHD services provided in GSH cardaic clinic? | B2: RHD patients are seen within the clinic. No seperate facilitites for RHD patients. No CHWs . Generally RHD patients seen at the clinic will have an ECG and Echo and then collect one month supply andbe given a new appointment in about 6 months to a year, No peer educators/CHW .
A3: % of RHD patients who are on clinic | B3: No idea. Probably around 20-30%. Can ask the nursing manager for this information, based on ICD 10 codes. ( Do this for each of the clinics in a week then calculate an average)
A4: Is there an NGO or CHW support? Which NGO or CHW? Contact details. | B4: no
A5: Are RHD drugs collected daily, weekly or monthly? | B5: Monthly
A6: How are DENTAL or ENT services provided prior to RHD care or surgery? | B6: no, dental should be in the consusltation and then referral if needed. ENT unlikely, dental referrals
A7: Number, type and grade of staff involved in RHD diagnosis and treatment | B7: diagnosis: consultant cardiologist, senrior registrar and junior registrars with ECH tech and Echo tech. Treatment not done at clinic, if needed admitted or discharged home with medicialtion and new appointment.
A8: Number and type of staff involved in DENTAL or ENT diagnosis and treatment? | B8: nil- only referral to dentists
A9: Type and duration of training provided to staff involved in RHD and DENTAL or ENT services | B9: diagnosis: ECG tech and Echo tech-> however Echo tech probably has additional 1-2 years of RHD /cardiac echo training.
A10: Cardiac clinic opening hours | B10: 7 - 5 pm clinic ( actual for patients 8-3.30), 0 sisters on night shift, no drugs dispensed in clinic
A11: RHD diagnostic tests offered | B11: ECG, echo, CXR and very rarely MRI, TOE (trans-oesphageal) echo and cardiac catheterisation
A12: X-ray, ECHO, ECG, BLOOD TEST, ANGIOGRAM or SURGICAL facility on site? | B12: yes
... A16: Is there a designated person who is filing the lab results? | B16: lab results on computer, doctors fill it in to the records and a record admin cclerk witll file into the folder.

Sheet Costs
D1: Cost of Ruematic Heart Disease (RHD) Care
D3: RHD direct care departments Costs
C5: NOTE: This costing spreadsheet includes:- OutPatient department, Medical & intensive coronary (ICU) unit, Catetarisation laboratory care and Operating theatre care.
C9: NOTE: ENTER DATA IN RED CELLS ONLY
A12: Name of the research: | C12: The economic impact of Rhuematic heart disease (RHD) on the health system of South Africa
A13: Name of the hospital: | C13: Groote Schuur Hospital (GSH)
B14: Created by: | C14: Assegid Hellebo
B15: Currency | C15: Average exchange rate for 2017 was 1US$ to ZAR13,5. | I15: 13.5
A17: 1) Out-Patient department costs:
A18: Recurrent costs
A19: i) | B19: Personnel cost
A20: Sr No. | B20: Type of personnel | C20: Contributors (those involved in RHD care) | D20: FTE (full time equivalent) | E20: % time allocation to the department | F20: Unit cost: gross annual salary (US$) | G20: Total cost: Total annual salary (US$) | H20: Cost allocated to RHD (US$) | I20: Unit personnel cost per outpatient clinic RHD encounter (US$)
D21: (a) | E21: ( b) | F21: (c) | G21: (d)= a*c | H21: (e)= b*d | I21: (f)= e*annual outpatient RHD visits
A22: 1 | B22: Operations manager cardiac clinic | C22: 1 | D22: 1 | E22: ='Utilisation rate workouts '!C9 -> 0.18519726 | F22: =489393.14/I15 -> 36251.344 | G22: =D22*F22 -> 36251.344 | H22: =G22*'% of time allocation workouts'!G7 -> 6713.6496 | I22: =H22/'Utilisation rate workouts '!C5 -> 1.9699676
A23: 2 | B23: Registered professional nurse | C23: 6 | D23: 6 | E23: ='Utilisation rate workouts '!C9 -> 0.18519726 | F23: =479765.15/I15 -> 35538.159 | G23: =D23*F23 -> 213228.96 | H23: =G23*'% of time allocation workouts'!G20 -> 30651.662 | I23: =H23/'Utilisation rate workouts '!C5 -> 8.9940324
A24: 3 | B24: Cardiac Specialist/Consultant | C24: 5 | D24: 5 | E24: ='Utilisation rate workouts '!C9 -> 0.18519726 | F24: =1344449/13.5 -> 99588.815 | G24: =D24*F24 -> 497944.07 | H24: =G24*'% of time allocation workouts'!G34 -> 39420.573 | I24: =H24/'Utilisation rate workouts '!C5 -> 11.567069
A25: 4 | B25: Doctor (senior registrar) | C25: 5 | D25: 5 | E25: ='Utilisation rate workouts '!C9 -> 0.18519726 | F25: =1017921.63/13.5 -> 75401.602 | G25: =D25*F25 -> 377008.01 | H25: =G25*'% of time allocation workouts'!G47 -> 39271.668 | I25: =H25/'Utilisation rate workouts '!C5 -> 11.523377
A26: 5 | B26: Doctor (Junior registrar) | C26: 7 | D26: 7 | E26: ='Utilisation rate workouts '!C9 -> 0.18519726 | F26: =792998.15/13.5 -> 58740.604 | G26: =D26*F26 -> 411184.23 | H26: =G26*'% of time allocation workouts'!G60 -> 33408.718 | I26: =H26/'Utilisation rate workouts '!C5 -> 9.8030277
A27: 6 | B27: Enrolled nurse | C27: 3 | D27: 3 | E27: ='Utilisation rate workouts '!C9 -> 0.18519726 | F27: =175963.68/13.5 -> 13034.347 | G27: =D27*F27 -> 39103.04 | H27: =G27*'% of time allocation workouts'!G73 -> 4399.092 | I27: =H27/'Utilisation rate workouts '!C5 -> 1.2908134
A28: 7 | B28: ECGtech | C28: 4 | D28: 4 | E28: ='Utilisation rate workouts '!C9 -> 0.18519726 | F28: =430279/13.5 -> 31872.519 | G28: =D28*F28 -> 127490.07 | H28: =G28*'% of time allocation workouts'!G102 -> 2549.8015 | I28: =H28/'Utilisation rate workouts '!C5 -> 0.74818119
A29: 8 | B29: ECHOtech | C29: 4 | D29: 4 | E29: ='Utilisation rate workouts '!C9 -> 0.18519726 | F29: =416577/13.5 -> 30857.556 | G29: =D29*F29 -> 123430.22 | H29: =G29*'% of time allocation workouts'!G102 -> 2468.6044 | I29: =H29/'Utilisation rate workouts '!C5 -> 0.72435576
A30: 9 | B30: Admin clerk | C30: 3 | D30: 3 | E30: ='Utilisation rate workouts '!C9 -> 0.18519726 | F30: =164400/13.5 -> 12177.778 | G30: =D30*F30 -> 36533.333 | H30: =G30*'% of time allocation workouts'!G86 -> 1826.6667 | I30: =H30/'Utilisation rate workouts '!C5 -> 0.53599374
A31: 10 | B31: Pharmacist | C31: 8 | D31: 8 | E31: ='Utilisation rate workouts '!C9 -> 0.18519726 | F31: =447320/13.5 -> 33134.815 | G31: =D31*F31 -> 265078.52 | H31: =G31*'% of time allocation workouts'!G105 -> 9277.7481 | I31: =H31/'Utilisation rate workouts '!C5 -> 2.7223439
A32: 11 | B32: Pharmacy assistant | C32: 8 | D32: 8 | E32: ='Utilisation rate workouts '!C9 -> 0.18519726 | F32: =204000/13.5 -> 15111.111 | G32: =D32*F32 -> 120888.89 | H32: =G32*'% of time allocation workouts'!G105 -> 4231.1111 | I32: =H32/'Utilisation rate workouts '!C5 -> 1.2415232
A33: 12 | B33: Medical records officer | C33: 2 | D33: 2 | E33: ='Utilisation rate workouts '!C9 -> 0.18519726 | F33: =158000/13.5 -> 11703.704 | G33: =D33*F33 -> 23407.407 | H33: =G33*'% of time allocation workouts'!G99 -> 1609.2593 | I33: =H33/'Utilisation rate workouts '!C5 -> 0.47220049
A34: Personnel cost | H34: =SUM(H22:H33) -> 175828.55 | I34: =SUM(I22:I33) -> 51.592885
A35: ii) Outpatient materials and consumables cost
G36: Annual outpatient cardaic clinic materials and consumables cost (US$) | H36: Annual materials and consumables cost allocated to RHD (US$) | I36: Unit materials and consumables cost per outpatient clinic RHD encounter (US$)
G37: (a) | H37: (b)=a*Utilisation rate workouts '!C9 | I37: (c)=b/annual RHD outpatient cardaic clinic RHD visits
A38: 13 | B38: Cardaic clinic materials and consumables | G38: =564054.82/13.5 -> 41781.839 | H38: =G38*'Utilisation rate workouts '!C9 -> 7737.8821 | I38: =H38/'Utilisation rate workouts '!C5 -> 2.2705053
A39: iii) Outpatient care builiding maintainance cost
G40: Annual outpatient cardaic clinic building maintanance cost (US$) | H40: Annual outpatient clinic maintainance cost allocated to RHD (US$) | I40: Unit building maintainance cost per outpatient clinic RHD encounter (US$)
G41: (a) | H41: (b)=a*Utilisation rate workouts '!C9 | I41: (c)=b/annual RHD outpatient cardaic clinic RHD visits
A42: 14 | B42: Builiding maintenance cost | G42: =J82 -> 11995.354 | H42: =G42*'Utilisation rate workouts '!C9 -> 2221.5068 | I42: =H42/'Utilisation rate workouts '!C5 -> 0.65185059
A43: iv) Outpatient care overhead costs
E44: Total outpatient care annual cost (US$) | F44: Total outpatient visits in GSH | G44: Total inpatient days in GSH | H44: PDE inpatient (PDE for annual GSH outpatient cost) | I44: Unit annual cost per outpatient clinic RHD encounter (US$)
E45: (a) | F45: (b) | G45: (c) | H45: (d)= (c)*3+(b) | I45: (e)= a/d
B46: Utilities
A47: 15 | B47: Electricity | E47: =36163360.89/13.5 -> 2678767.5 | F47: 520923 | G47: 303369 | H47: =(G47*3)+(F47) -> 1431030 | I47: =E47/H47 -> 1.8719157
A48: 16 | B48: Water | E48: =7230260.49/13.5 -> 535574.85 | F48: 520923 | G48: 303369 | H48: =(G48*3)+(F48) -> 1431030 | I48: =E48/H48 -> 0.3742583
...

Sheet Utilisation rate workouts 
A1: Outpatient department | F1: Annual average utilisation rates for RHD care at four clinical units at GSH
A2: ENTER DATA IN GREEN CELLS ONLY | F2: Clinical unit | G2: Outpatient clinic | H2: Medical and ICU | I2: Cath lab | J2: Surgery/
A3: Utilisation-based allocation factor (% of RHD visits out of total cardiac clinic visits) | J3: theatre
A4: Utilisation category | B4: Number of patients | C4: Annual outpatient attendance/visit/encounter | F4: Per-patient utlisation rate per annuam | G4: 2.9 | H4: 0.31 | I4: 0.19 | J4: 0.22
A5: Total number of visits - ALL RHD patients | B5: 668 | C5: 3408 | F5: 95% confidence interval | G5: (2.0 - 3.9) | H5: (0.11 - 0.50) | I5: (0.068 - 0.31) | J5: (0.043- 0.39)
A7: Total number of visit - ALL Cardiac Clinic visits (including all RHD visits) | B7: 7423 | C7: 18402
A9: % of visits for RHD - ALLOCATION FACTOR | B9: =B5/B7 -> 0.08999057 | C9: =C5/C7 -> 0.18519726
A11: Medical & ICU department
A12: ENTER DATA IN GREEN CELLS ONLY
A13: Utilisation-based allocation factor (% of RHD admissions out of all admissions)
A15: Utilisation category | B15: Number of patients | C15: Total annual inpatient days
A16: Total number of RHD admissions | B16: 309 | C16: 1883
A18: Total number of admissions - ALL Patients admited in the GSH (including all RHD admissions) | B18: 1227 | C18: 7720
A20: % of admissions for RHD - ALLOCATION FACTOR | B20: =(B16/B18) -> 0.25183374 | C20: =(C16/C18) -> 0.24391192
A22: Catheterisation laboratory (Cath lab)
A23: ENTER DATA IN GREEN CELLS ONLY
A24: Utilisation-based allocation factor (% of RHD catheterization laboratory (cath lab) admissions out of all cath lab admissions)
A26: Utilisation category | B26: Number of patients | C26: Cath lab procedure attendace
A27: Total number of RHD cath lab admissions | B27: 301 | C27: 319
A29: Total number of cath lab admissions - ALL Patients admitted in cath lab (including all RHD patients) | B29: 1426 | C29: 1922
A31: % of cath lab admissions for RHD - ALLOCATION FACTOR | B31: =(B27/B29) -> 0.21107994 | C31: =(C27/C29) -> 0.16597294
A33: Surgery/Theater
A34: ENTER DATA IN GREEN CELLS ONLY
A35: Utilisation-based allocation factor (% of RHD surgeries out of all surgeries)
A37: Utilisation category | B37: Number of patients | C37: Surgeries bed days
A38: Total number of RHD related patient surgeries | B38: 56 | C38: 91
A40: Total number of surgeries in theatre - ALL Patients who had surgery in the surgical department including RHD patients | B40: 294 | C40: 322
A42: % of surgery for RHD - ALLOCATION FACTOR | B42: =(B38/B40) -> 0.19047619 | C42: =(C38/C40) -> 0.2826087

Sheet % of time allocation workouts
A1: Out-patient department
C2: Minutes per annuam
A3: Name of the clinic | B3: Cardaic clinic (E17) GSH | C3: 124800 | T3: 0
A4: Position/post and grade | B4: Registered professional nurse (Manager cardiac clinic) | G4: % allocation of time | T4: 0
A5: Activities | B5: Managing the whole ward regrding cardaic care | T5: 0
B6: Allocation factor was used because, operations manager does not have direct contact with patients, and equal time all cardaic patients assumed
A7: % allocation of time | G7: =('Utilisation rate workouts '!C5/'Utilisation rate workouts '!C7) -> 0.18519726
B8: Registered professional nurse
A9: Activities | B9: Folders review | C9: Testing (including weight, x-ray,blood, ECG,ECHO) | D9: Appointments and presciption adjusting | E9: Oral support | F9: other unrelated activites
A10: Monday 8.00 - 13.00
A11: Monday 13.00 – 16.00
A12: Tuesday 8.00 - 13.00 | B12: 20 | C12: 45 | D12: 30 | F12: 10
A13: Tuesday 13.00 – 16.00 | E13: 10
A14: Wednesday 8.00 - 13.00
A15: Wednsday 13.00 – 16.00 | B15: 20 | C15: 45 | D15: 30
A16: Thursday 8.00 - 13.00 | E16: 10 | F16: 10
A17: Thursday 13.00 – 16.00 | B17: 20 | C17: 45 | D17: 30
A18: Friday 8.00 - 13.00 | E18: 10 | F18: 10
A19: Sub-total | B19: =B12+B15+B17 -> 60 | C19: =C12+C15+C17 -> 135 | D19: =D12+D15+D17 -> 90 | E19: =E13+E16+E18 -> 30 | F19: =F12+F16+F18 -> 30
A20: Total | F20: =SUM(B19:F19) -> 345 | G20: =(F20*52)/C3 -> 0.14375
A21: Position/post and grade | B21: Cardiac Specialist/Consultant
A22: Activities | B22: Cardaic consultation (check-up of each patient follow-up folder) | C22: Physical examinations for check-up | D22: Review medication progress and write new | E22: Consulting and supervising other senior and junior registrars | F22: other unrelated activites
A23: Monday 8.00 - 13.00
A24: Monday 13.00 – 16.00
A25: Tuesday 8.00 - 13.00 | B25: 10 | C25: 30 | E25: 10
A26: Tuesday 13.00 – 16.00 | D26: 20
A27: Wednesday 8.00 - 13.00 | B27: 10 | C27: 30 | E27: 10
A28: Wednsday 13.00 – 16.00
A29: Thursday 8.00 - 13.00 | B29: 10 | C29: 30 | E29: 10
A30: Thursday 13.00 – 16.00 | D30: 20
A31: Friday 8.00 - 13.00
A32: Friday 14.00 - 16.00
A33: Sub-total | B33: =SUM(B24:B32) -> 30 | C33: =SUM(C24:C32) -> 90 | D33: =SUM(D24:D32) -> 40 | E33: =SUM(E24:E32) -> 30
A34: Total | F34: =SUM(B33:E33) -> 190 | G34: =(F34*52)/C3 -> 0.079166667
A35: Position/post and grade | B35: Doctor (senior registrar)
A36: Activities | B36: Cardaic consultation (check-up of each patient follow-up folder) | C36: Physical examinations for check-up | D36: Review medication progress and write new | E36: Referal writing when neccesary | F36: other unrelated ativites
A37: Monday 8.00 - 13.00
A38: Monday 13.00 – 16.00
A39: Tuesday 8.00 - 13.00 | B39: 20 | C39: 30
A40: Tuesday 13.00 – 16.00 | D40: 20 | E40: 10
...

Sheet Aggregate RHD total cost to GSH
A1: Aggregate RHD care costs to GSH in 2017 and estimated annual costs per-patient
A2: Clinical unit | B2: Aggregate cost to GSH in 2017 (US$) | C2: Unit cost per encounter (US$) | D2: Estimated per-patient annual cost (US$) | E2: % share of per-patient annual cost
A3: Outpatient clinic | B3: =Costs!H34+Costs!E67+Costs!H42+Costs!H38+Costs!K81+Costs!L190+Costs!I75+Costs!G71 -> 403584.03 | C3: =Costs!I34+Costs!I38+Costs!I42+Costs!I66+Costs!I71+Costs!H75+Costs!L81+Costs!M190 -> 319.75934 | D3: =C3*'Utilisation rate workouts '!$G$4 -> 927.30208 | E3: =D3/D7 -> 0.240574
A4: Cardaic Medical & ICU wad | B4: =Costs!H205+Costs!H209+Costs!H213+Costs!E238+Costs!G242+Costs!G246+Costs!G250+Costs!K256+Costs!L273+Costs!L288+Costs!L296+Costs!L300 -> 239356.24 | C4: =Costs!I205+Costs!I209+Costs!I213+Costs!I237+Costs!I242+Costs!I246+Costs!I250+Costs!L256+Costs!M301 -> 262.03764 | D4: =C4*'Utilisation rate workouts '!H4 -> 81.231669 | E4: =D4/D7 -> 0.021074284
A5: Cardaic Catheterisation laboratory (cath lab) | B5: =Costs!H314+Costs!H322+Costs!H318+Costs!K331+Costs!L387+Costs!G326 -> 491449.11 | C5: =Costs!I314+Costs!I318+Costs!I322+Costs!I326+Costs!L331+Costs!M387 -> 1901.3241 | D5: =C5*'Utilisation rate workouts '!I4 -> 361.25159 | E5: =D5/D7 -> 0.093721064
A6: Surgical theatre | B6: =Costs!H403+Costs!H414+Costs!H407+Costs!H409+Costs!H408+Costs!H410+Costs!K423+Costs!L469+Costs!G418 -> 800789.98 | C6: =Costs!I403+Costs!I407+Costs!I408+Costs!I409+Costs!I410+Costs!I414+Costs!I418+Costs!L423+Costs!M469 -> 11294.339 | D6: =C6*'Utilisation rate workouts '!J4 -> 2484.7546 | E6: =D6/D7 -> 0.64463066
A7: Total cost | B7: =SUM(B3:B6) -> 1935179.4 | D7: =SUM(D3:D6) -> 3854.54 | E7: =SUM(E3:E6) -> 1
