Workbook

Sheet NS calculator
A1: Diagnosis probabilities in patients with NS
A2: Fill out the form below (yellow fields) with a "1" if it applies and a "0" if it doesn't. The calculator will calculate the probability of diagoses based on the data entered and the studied NS cohort.
A3: Age | B3: Age 18-49 | C3: Age 50-70 | D3: Age >70
B4: 0 | C4: 0 | D4: 1
A5: Gender | B5: male | C5: female
B6: 0 | C6: 1
A7: Hematuria degree | B7: Hem 0 | C7: Hem 1-2 | D7: Hem 3-4
B8: 0 | C8: 0 | D8: 1
A9: CKD | B9: CDK 1-2 | C9: CDK 3 | D9: CKD 4 | E9: CKD 5
B10: 0 | C10: 0 | D10: 0 | E10: 1
A12: Diagnosis | B12: Rank | C12: Probability (with data) | D12: Probability (without data) | E12: Probability fold change (log) | F12: Probability fold change
A13: =Blad2!R58 -> FSGS | B13: =Blad2!AC58 -> 12 | C13: =Blad2!X58 -> 0.0032192859 | D13: =Blad2!Y58 -> 0.084337349 | E13: =Blad2!AD58 -> -1.4182604 | F13: =Blad2!AB58 -> -26.197534
A14: =Blad2!R59 -> IgAN | B14: =Blad2!AC59 -> 5 | C14: =Blad2!X59 -> 0.029251533 | D14: =Blad2!Y59 -> 0.066812705 | E14: =Blad2!AD59 -> -0.35871042 | F14: =Blad2!AB59 -> -2.2840753
A15: =Blad2!R60 -> MPGN | B15: =Blad2!AC60 -> 3 | C15: =Blad2!X60 -> 0.10997658 | D15: =Blad2!Y60 -> 0.056955093 | E15: =Blad2!AD60 -> 0.28576765 | F15: =Blad2!AB60 -> 1.930935
A16: =Blad2!R61 -> MN | B16: =Blad2!AC61 -> 11 | C16: =Blad2!X61 -> 0.0044832933 | D16: =Blad2!Y61 -> 0.17196057 | E16: =Blad2!AD61 -> -1.5838317 | F16: =Blad2!AB61 -> -38.35586
A17: =Blad2!R62 -> MCD | B17: =Blad2!AC62 -> 10 | C17: =Blad2!X62 -> 0.0059816896 | D17: =Blad2!Y62 -> 0.15334064 | E17: =Blad2!AD62 -> -1.4088334 | F17: =Blad2!AB62 -> -25.635004
A18: =Blad2!R63 -> Other GN | B18: =Blad2!AC63 -> 2 | C18: =Blad2!X63 -> 0.2041542 | D18: =Blad2!Y63 -> 0.029572837 | E18: =Blad2!AD63 -> 0.83906534 | F18: =Blad2!AB63 -> 6.9034365
A19: =Blad2!R64 -> DN | B19: =Blad2!AC64 -> 9 | C19: =Blad2!X64 -> 0.011137999 | D19: =Blad2!Y64 -> 0.17524644 | E19: =Blad2!AD64 -> -1.196842 | F19: =Blad2!AB64 -> -15.734105
A20: =Blad2!R65 -> SLE | B20: =Blad2!AC65 -> 7 | C20: =Blad2!X65 -> 0.026926467 | D20: =Blad2!Y65 -> 0.039430449 | E20: =Blad2!AD65 -> -0.16565234 | F20: =Blad2!AB65 -> -1.4643751
A21: =Blad2!R66 -> PCD | B21: =Blad2!AC66 -> 8 | C21: =Blad2!X66 -> 0.026210465 | D21: =Blad2!Y66 -> 0.065717415 | E21: =Blad2!AD66 -> -0.39920575 | F21: =Blad2!AB66 -> -2.5072968
A22: =Blad2!R67 -> Vascular Dis | B22: =Blad2!AC67 -> 6 | C22: =Blad2!X67 -> 0.027230355 | D22: =Blad2!Y67 -> 0.056955093 | E22: =Blad2!AD67 -> -0.32047926 | F22: =Blad2!AB67 -> -2.091603
A23: =Blad2!R68 -> Vasculitis | B23: =Blad2!AC68 -> 1 | C23: =Blad2!X68 -> 0.46358513 | D23: =Blad2!Y68 -> 0.030668127 | E23: =Blad2!AD68 -> 1.1794422 | F23: =Blad2!AB68 -> 15.116187
A24: =Blad2!R69 -> Other Renal | B24: =Blad2!AC69 -> 4 | C24: =Blad2!X69 -> 0.087842999 | D24: =Blad2!Y69 -> 0.066812705 | E24: =Blad2!AD69 -> 0.1188481 | F24: =Blad2!AB69 -> 1.3147649

Sheet Blad2
B5: Age 18-49 | C5: Age 50-70 | D5: Age >70 | F5: male | G5: female | I5: Hem 0 | J5: Hem 1-2 | K5: Hem 3-4 | M5: CDK 1-2 | N5: CDK 3 | O5: CKD 4 | P5: CKD 5
A6: FSGS | B6: 36 | C6: 26 | D6: 15 | E6: =SUM(B6:D6) -> 77 | F6: 44 | G6: 33 | H6: =SUM(F6:G6) -> 77 | I6: 22 | J6: 36 | K6: 17 | L6: =SUM(I6:K6) -> 75 | M6: 39 | N6: 25 | O6: 12 | P6: 1 | Q6: =SUM(M6:P6) -> 77 | R6: =Q6/Q$21 -> 0.084337349 | T6: 56 | U6: ok
A7: IgAN | B7: 37 | C7: 17 | D7: 7 | E7: =SUM(B7:D7) -> 61 | F7: 37 | G7: 24 | H7: =SUM(F7:G7) -> 61 | I7: 4 | J7: 19 | K7: 34 | L7: =SUM(I7:K7) -> 57 | M7: 21 | N7: 18 | O7: 16 | P7: 6 | Q7: =SUM(M7:P7) -> 61 | R7: =Q7/Q$21 -> 0.066812705 | T7: 160 | U7: ok
A8: MPGN | B8: 16 | C8: 22 | D8: 14 | E8: =SUM(B8:D8) -> 52 | F8: 24 | G8: 28 | H8: =SUM(F8:G8) -> 52 | I8: 4 | J8: 8 | K8: 36 | L8: =SUM(I8:K8) -> 48 | M8: 10 | N8: 17 | O8: 19 | P8: 6 | Q8: =SUM(M8:P8) -> 52 | R8: =Q8/Q$21 -> 0.056955093 | T8: 77 | U8: ok
A9: MN | B9: 42 | C9: 70 | D9: 45 | E9: =SUM(B9:D9) -> 157 | F9: 103 | G9: 54 | H9: =SUM(F9:G9) -> 157 | I9: 21 | J9: 96 | K9: 34 | L9: =SUM(I9:K9) -> 151 | M9: 94 | N9: 41 | O9: 20 | P9: 2 | Q9: =SUM(M9:P9) -> 157 | R9: =Q9/Q$21 -> 0.17196057 | T9: 61 | U9: ok
A10: MCD | B10: 63 | C10: 52 | D10: 25 | E10: =SUM(B10:D10) -> 140 | F10: 73 | G10: 67 | H10: =SUM(F10:G10) -> 140 | I10: 42 | J10: 63 | K10: 23 | L10: =SUM(I10:K10) -> 128 | M10: 98 | N10: 24 | O10: 14 | P10: 4 | Q10: =SUM(M10:P10) -> 140 | R10: =Q10/Q$21 -> 0.15334064 | T10: 140 | U10: ok
A11: Other GN | B11: 9 | C11: 10 | D11: 8 | E11: =SUM(B11:D11) -> 27 | F11: 12 | G11: 15 | H11: =SUM(F11:G11) -> 27 | I11: 5 | J11: 5 | K11: 13 | L11: =SUM(I11:K11) -> 23 | M11: 8 | N11: 9 | O11: 2 | P11: 8 | Q11: =SUM(M11:P11) -> 27 | R11: =Q11/Q$21 -> 0.029572837 | T11: 21 | U11: ok
A12: DN | B12: 40 | C12: 86 | D12: 34 | E12: =SUM(B12:D12) -> 160 | F12: 108 | G12: 52 | H12: =SUM(F12:G12) -> 160 | I12: 40 | J12: 85 | K12: 15 | L12: =SUM(I12:K12) -> 140 | M12: 24 | N12: 57 | O12: 56 | P12: 23 | Q12: =SUM(M12:P12) -> 160 | R12: =Q12/Q$21 -> 0.17524644 | T12: 157 | U12: ok
A13: SLE | B13: 28 | C13: 4 | D13: 4 | E13: =SUM(B13:D13) -> 36 | F13: 4 | G13: 32 | H13: =SUM(F13:G13) -> 36 | I13: 6 | J13: 14 | K13: 15 | L13: =SUM(I13:K13) -> 35 | M13: 22 | N13: 11 | O13: 1 | P13: 2 | Q13: =SUM(M13:P13) -> 36 | R13: =Q13/Q$21 -> 0.039430449 | T13: 52 | U13: ok
A14: PCD | B14: 3 | C14: 26 | D14: 31 | E14: =SUM(B14:D14) -> 60 | F14: 35 | G14: 25 | H14: =SUM(F14:G14) -> 60 | I14: 13 | J14: 33 | K14: 12 | L14: =SUM(I14:K14) -> 58 | M14: 24 | N14: 23 | O14: 10 | P14: 3 | Q14: =SUM(M14:P14) -> 60 | R14: =Q14/Q$21 -> 0.065717415 | T14: 36 | U14: ok
A15: Vascular Dis | B15: 4 | C15: 25 | D15: 23 | E15: =SUM(B15:D15) -> 52 | F15: 35 | G15: 17 | H15: =SUM(F15:G15) -> 52 | I15: 19 | J15: 26 | K15: 6 | L15: =SUM(I15:K15) -> 51 | M15: 6 | N15: 17 | O15: 19 | P15: 10 | Q15: =SUM(M15:P15) -> 52 | R15: =Q15/Q$21 -> 0.056955093 | T15: 51 | U15: diff -1
A16: Vasculitis | B16: 3 | C16: 15 | D16: 10 | E16: =SUM(B16:D16) -> 28 | F16: 16 | G16: 12 | H16: =SUM(F16:G16) -> 28 | I16: 0 | J16: 2 | K16: 24 | L16: =SUM(I16:K16) -> 26 | M16: 1 | N16: 7 | O16: 4 | P16: 16 | Q16: =SUM(M16:P16) -> 28 | R16: =Q16/Q$21 -> 0.030668127 | T16: 28 | U16: ok
A17: Other Renal | B17: 23 | C17: 24 | D17: 14 | E17: =SUM(B17:D17) -> 61 | F17: 36 | G17: 25 | H17: =SUM(F17:G17) -> 61 | I17: 12 | J17: 23 | K17: 24 | L17: =SUM(I17:K17) -> 59 | M17: 14 | N17: 15 | O17: 15 | P17: 17 | Q17: =SUM(M17:P17) -> 61 | R17: =Q17/Q$21 -> 0.066812705 | T17: 27 | U17: ok
A18: No diagnosis | B18: 0 | C18: 1 | D18: 1 | E18: =SUM(B18:D18) -> 2 | F18: 1 | G18: 1 | H18: =SUM(F18:G18) -> 2 | I18: 0 | J18: 1 | K18: 0 | L18: =SUM(I18:K18) -> 1 | M18: 1 | N18: 1 | O18: 0 | P18: 0 | Q18: =SUM(M18:P18) -> 2 | R18: =Q18/Q$21 -> 0.0021905805 | T18: 46 | U18: diff +1
A21: Summa | B21: =SUM(B6:B19) -> 304 | C21: =SUM(C6:C19) -> 378 | D21: =SUM(D6:D19) -> 231 | E21: =SUM(E6:E19) -> 913 | F21: =SUM(F6:F19) -> 528 | G21: =SUM(G6:G19) -> 385 | H21: =SUM(H6:H19) -> 913 | I21: =SUM(I6:I19) -> 188 | ... R21: =SUM(R6:R19) -> 1
D24: eGFR: CKD1-2>60 CKD3 30-55, CKD4 15-24. CKD5<15
S25: RR v2
B26: Age 18-49 | C26: Age 50-70 | D26: Age >70 | F26: male | G26: female | I26: Hem 0 | J26: Hem 1-2 | K26: Hem 3-4 | M26: CDK 1-2 | N26: CDK 3 | O26: CKD 4 | P26: CKD 5 | S26: Age 18-49 | T26: Age 50-70 | U26: Age >70 | W26: male | X26: female | Z26: Hem 0 | AA26: Hem 1-2 | AB26: Hem 3-4 | AD26: CDK 1-2 | AE26: CDK 3 | AF26: CKD 4 | AG26: CKD 5
A27: =A6 -> FSGS | B27: =B6/$B$21 -> 0.11842105 | C27: =C6/$C$21 -> 0.068783069 | D27: =D6/D$21 -> 0.064935065 | E27: =SUM(B27:D27) -> 0.25213919 | F27: =F6/F$21 -> 0.083333333 | G27: =G6/G$21 -> 0.085714286 | H27: =SUM(F27:G27) -> 0.16904762 | I27: =I6/I$21 -> 0.11702128 | J27: =J6/J$21 -> 0.087591241 | K27: =K6/K$21 -> 0.067193676 | L27: =SUM(I27:K27) -> 0.27180619 | M27: =M6/M$21 -> 0.10773481 | N27: =N6/N$21 -> 0.094339623 | O27: =O6/O$21 -> 0.063829787 | P27: =P6/P$21 -> 0.010204082 | Q27: =SUM(M27:P27) -> 0.2761083 | R27: =A27 -> FSGS | S27: =B27/E27 -> 0.4696654 | T27: =C27/E27 -> 0.27279801 | U27: =D27/E27 -> 0.25753658 | W27: =F27/H27 -> 0.49295775 | X27: =G27/H27 -> 0.50704225 | Z27: =I27/L27 -> 0.43053205 | AA27: =J27/L27 -> 0.32225624 | AB27: =K27/L27 -> 0.24721172 | AD27: =M27/Q27 -> 0.3901904 | AE27: =N27/Q27 -> 0.34167616 | AF27: =O27/Q27 -> 0.23117663 | AG27: =P27/Q27 -> 0.036956809
A28: =A7 -> IgAN | B28: =B7/$B$21 -> 0.12171053 | C28: =C7/$C$21 -> 0.044973545 | D28: =D7/$D$21 -> 0.03030303 | E28: =SUM(B28:D28) -> 0.1969871 | F28: =F7/F$21 -> 0.070075758 | G28: =G7/G$21 -> 0.062337662 | H28: =SUM(F28:G28) -> 0.13241342 | I28: =I7/I$21 -> 0.021276596 | J28: =J7/J$21 -> 0.04622871 | K28: =K7/K$21 -> 0.13438735 | L28: =SUM(I28:K28) -> 0.20189266 | M28: =M7/M$21 -> 0.05801105 | N28: =N7/N$21 -> 0.067924528 | O28: =O7/O$21 -> 0.085106383 | P28: =P7/P$21 -> 0.06122449 | Q28: =SUM(M28:P28) -> 0.27226645 | R28: =A28 -> IgAN | S28: =B28/E28 -> 0.61786038 | T28: =C28/E28 -> 0.22830705 | U28: =D28/E28 -> 0.15383256 | W28: =F28/H28 -> 0.52921945 | X28: =G28/H28 -> 0.47078055 | Z28: =I28/L28 -> 0.10538568 | AA28: =J28/L28 -> 0.22897668 | AB28: =K28/L28 -> 0.66563764 | AD28: =M28/Q28 -> 0.2130672 | AE28: =N28/Q28 -> 0.24947814 | AF28: =O28/Q28 -> 0.31258491 | AG28: =P28/Q28 -> 0.22486975
A29: =A8 -> MPGN | B29: =B8/$B$21 -> 0.052631579 | C29: =C8/$C$21 -> 0.058201058 | D29: =D8/$D$21 -> 0.060606061 | E29: =SUM(B29:D29) -> 0.1714387 | F29: =F8/F$21 -> 0.045454545 | G29: =G8/G$21 -> 0.072727273 | H29: =SUM(F29:G29) -> 0.11818182 | I29: =I8/I$21 -> 0.021276596 | J29: =J8/J$21 -> 0.01946472 | K29: =K8/K$21 -> 0.14229249 | L29: =SUM(I29:K29) -> 0.18303381 | M29: =M8/M$21 -> 0.027624309 | N29: =N8/N$21 -> 0.064150943 | O29: =O8/O$21 -> 0.10106383 | P29: =P8/P$21 -> 0.06122449 | Q29: =SUM(M29:P29) -> 0.25406357 | R29: =A29 -> MPGN | S29: =B29/E29 -> 0.30699941 | T29: =C29/E29 -> 0.33948612 | U29: =D29/E29 -> 0.35351447 | W29: =F29/H29 -> 0.38461538 | X29: =G29/H29 -> 0.61538462 | Z29: =I29/L29 -> 0.11624408 | AA29: =J29/L29 -> 0.10634495 | AB29: =K29/L29 -> 0.77741098 | AD29: =M29/Q29 -> 0.10872991 | AE29: =N29/Q29 -> 0.25249957 | AF29: =O29/Q29 -> 0.39778953 | AG29: =P29/Q29 -> 0.24098098
A30: =A9 -> MN | B30: =B9/$B$21 -> 0.13815789 | C30: =C9/$C$21 -> 0.18518519 | D30: =D9/$D$21 -> 0.19480519 | E30: =SUM(B30:D30) -> 0.51814827 | F30: =F9/F$21 -> 0.19507576 | G30: =G9/G$21 -> 0.14025974 | H30: =SUM(F30:G30) -> 0.3353355 | I30: =I9/I$21 -> 0.11170213 | J30: =J9/J$21 -> 0.23357664 | K30: =K9/K$21 -> 0.13438735 | L30: =SUM(I30:K30) -> 0.47966612 | M30: =M9/M$21 -> 0.25966851 | N30: =N9/N$21 -> 0.15471698 | O30: =O9/O$21 -> 0.10638298 | P30: =P9/P$21 -> 0.020408163 | Q30: =SUM(M30:P30) -> 0.54117663 | R30: =A30 -> MN | S30: =B30/E30 -> 0.26663776 | T30: =C30/E30 -> 0.35739805 | U30: =D30/E30 -> 0.37596419 | W30: =F30/H30 -> 0.5817331 | X30: =G30/H30 -> 0.4182669 | Z30: =I30/L30 -> 0.23287475 | AA30: =J30/L30 -> 0.48695672 | AB30: =K30/L30 -> 0.28016853 | AD30: =M30/Q30 -> 0.4798221 | AE30: =N30/Q30 -> 0.28588999 | AF30: =O30/Q30 -> 0.19657718 | AG30: =P30/Q30 -> 0.037710725
A31: =A10 -> MCD | B31: =B10/$B$21 -> 0.20723684 | C31: =C10/$C$21 -> 0.13756614 | D31: =D10/$D$21 -> 0.10822511 | E31: =SUM(B31:D31) -> 0.45302809 | F31: =F10/F$21 -> 0.13825758 | G31: =G10/G$21 -> 0.17402597 | H31: =SUM(F31:G31) -> 0.31228355 | I31: =I10/I$21 -> 0.22340426 | J31: =J10/J$21 -> 0.15328467 | K31: =K10/K$21 -> 0.090909091 | L31: =SUM(I31:K31) -> 0.46759802 | M31: =M10/M$21 -> 0.27071823 | N31: =N10/N$21 -> 0.090566038 | O31: =O10/O$21 -> 0.074468085 | P31: =P10/P$21 -> 0.040816327 | Q31: =SUM(M31:P31) -> 0.47656868 | R31: =A31 -> MCD | S31: =B31/E31 -> 0.45744811 | T31: =C31/E31 -> 0.30365918 | U31: =D31/E31 -> 0.23889271 | W31: =F31/H31 -> 0.4427309 | X31: =G31/H31 -> 0.5572691 | Z31: =I31/L31 -> 0.47776989 | AA31: =J31/L31 -> 0.32781292 | AB31: =K31/L31 -> 0.19441719 | AD31: =M31/Q31 -> 0.56805712 | AE31: =N31/Q31 -> 0.19003775 | AF31: =O31/Q31 -> 0.15625887 | AG31: =P31/Q31 -> 0.085646263
A32: =A11 -> Other GN | B32: =B11/$B$21 -> 0.029605263 | C32: =C11/$C$21 -> 0.026455026 | D32: =D11/$D$21 -> 0.034632035 | E32: =SUM(B32:D32) -> 0.090692324 | F32: =F11/F$21 -> 0.022727273 | G32: =G11/G$21 -> 0.038961039 | H32: =SUM(F32:G32) -> 0.061688312 | I32: =I11/I$21 -> 0.026595745 | J32: =J11/J$21 -> 0.01216545 | K32: =K11/K$21 -> 0.051383399 | L32: =SUM(I32:K32) -> 0.090144594 | M32: =M11/M$21 -> 0.022099448 | N32: =N11/N$21 -> 0.033962264 | O32: =O11/O$21 -> 0.010638298 | P32: =P11/P$21 -> 0.081632653 | Q32: =SUM(M32:P32) -> 0.14833266 | R32: =A32 -> Other GN | S32: =B32/E32 -> 0.32643626 | T32: =C32/E32 -> 0.29170083 | U32: =D32/E32 -> 0.38186291 | W32: =F32/H32 -> 0.36842105 | X32: =G32/H32 -> 0.63157895 | Z32: =I32/L32 -> 0.29503427 | AA32: =J32/L32 -> 0.13495485 | AB32: =K32/L32 -> 0.57001088 | AD32: =M32/Q32 -> 0.14898571 | AE32: =N32/Q32 -> 0.22896012 | AF32: =O32/Q32 -> 0.071719186 | AG32: =P32/Q32 -> 0.55033498
A33: =A12 -> DN | B33: =B12/$B$21 -> 0.13157895 | C33: =C12/$C$21 -> 0.22751323 | D33: =D12/$D$21 -> 0.14718615 | E33: =SUM(B33:D33) -> 0.50627832 | F33: =F12/F$21 -> 0.20454545 | G33: =G12/G$21 -> 0.13506494 | H33: =SUM(F33:G33) -> 0.33961039 | I33: =I12/I$21 -> 0.21276596 | J33: =J12/J$21 -> 0.20681265 | K33: =K12/K$21 -> 0.059288538 | L33: =SUM(I33:K33) -> 0.47886715 | M33: =M12/M$21 -> 0.066298343 | N33: =N12/N$21 -> 0.21509434 | O33: =O12/O$21 -> 0.29787234 | P33: =P12/P$21 -> 0.23469388 | Q33: =SUM(M33:P33) -> 0.8139589 | R33: =A33 -> DN | S33: =B33/E33 -> 0.25989449 | T33: =C33/E33 -> 0.4493837 | U33: =D33/E33 -> 0.2907218 | W33: =F33/H33 -> 0.60229446 | X33: =G33/H33 -> 0.39770554 | Z33: =I33/L33 -> 0.44431103 | AA33: =J33/L33 -> 0.43187897 | AB33: =K33/L33 -> 0.12380999 | AD33: =M33/Q33 -> 0.081451708 | AE33: =N33/Q33 -> 0.264257 | AF33: =O33/Q33 -> 0.36595501 | AG33: =P33/Q33 -> 0.28833628
A34: =A13 -> SLE | B34: =B13/$B$21 -> 0.092105263 | C34: =C13/$C$21 -> 0.010582011 | D34: =D13/$D$21 -> 0.017316017 | E34: =SUM(B34:D34) -> 0.12000329 | F34: =F13/F$21 -> 0.0075757576 | G34: =G13/G$21 -> 0.083116883 | H34: =SUM(F34:G34) -> 0.090692641 | I34: =I13/I$21 -> 0.031914894 | J34: =J13/J$21 -> 0.03406326 | K34: =K13/K$21 -> 0.059288538 | L34: =SUM(I34:K34) -> 0.12526669 | M34: =M13/M$21 -> 0.060773481 | N34: =N13/N$21 -> 0.041509434 | O34: =O13/O$21 -> 0.0053191489 | P34: =P13/P$21 -> 0.020408163 | Q34: =SUM(M34:P34) -> 0.12801023 | R34: =A34 -> SLE | S34: =B34/E34 -> 0.76752281 | T34: =C34/E34 -> 0.088181003 | U34: =D34/E34 -> 0.14429619 | W34: =F34/H34 -> 0.08353222 | X34: =G34/H34 -> 0.91646778 | Z34: =I34/L34 -> 0.25477558 | AA34: =J34/L34 -> 0.27192592 | AB34: =K34/L34 -> 0.4732985 | AD34: =M34/Q34 -> 0.47475489 | AE34: =N34/Q34 -> 0.32426654 | AF34: =O34/Q34 -> 0.041552531 | AG34: =P34/Q34 -> 0.15942604
A35: =A14 -> PCD | B35: =B14/$B$21 -> 0.0098684211 | C35: =C14/$C$21 -> 0.068783069 | D35: =D14/$D$21 -> 0.13419913 | E35: =SUM(B35:D35) -> 0.21285062 | F35: =F14/F$21 -> 0.066287879 | G35: =G14/G$21 -> 0.064935065 | H35: =SUM(F35:G35) -> 0.13122294 | I35: =I14/I$21 -> 0.069148936 | J35: =J14/J$21 -> 0.080291971 | K35: =K14/K$21 -> 0.04743083 | L35: =SUM(I35:K35) -> 0.19687174 | M35: =M14/M$21 -> 0.066298343 | N35: =N14/N$21 -> 0.086792453 | O35: =O14/O$21 -> 0.053191489 | P35: =P14/P$21 -> 0.030612245 | Q35: =SUM(M35:P35) -> 0.23689453 | R35: =A35 -> PCD | S35: =B35/E35 -> 0.04636313 | T35: =C35/E35 -> 0.32315183 | U35: =D35/E35 -> 0.63048504 | W35: =F35/H35 -> 0.50515464 | X35: =G35/H35 -> 0.49484536 | Z35: =I35/L35 -> 0.35123851 | AA35: =J35/L35 -> 0.40783899 | AB35: =K35/L35 -> 0.24092249 | AD35: =M35/Q35 -> 0.27986439 | AE35: =N35/Q35 -> 0.36637593 | AF35: =O35/Q35 -> 0.22453659 | AG35: =P35/Q35 -> 0.1292231
A36: =A15 -> Vascular Dis | B36: =B15/$B$21 -> 0.013157895 | C36: =C15/$C$21 -> 0.066137566 | D36: =D15/$D$21 -> 0.0995671 | E36: =SUM(B36:D36) -> 0.17886256 | F36: =F15/F$21 -> 0.066287879 | G36: =G15/G$21 -> 0.044155844 | H36: =SUM(F36:G36) -> 0.11044372 | I36: =I15/I$21 -> 0.10106383 | J36: =J15/J$21 -> 0.063260341 | K36: =K15/K$21 -> 0.023715415 | L36: =SUM(I36:K36) -> 0.18803959 | M36: =M15/M$21 -> 0.016574586 | N36: =N15/N$21 -> 0.064150943 | O36: =O15/O$21 -> 0.10106383 | P36: =P15/P$21 -> 0.10204082 | Q36: =SUM(M36:P36) -> 0.28383018 | R36: =A36 -> Vascular Dis | S36: =B36/E36 -> 0.073564276 | T36: =C36/E36 -> 0.36976752 | U36: =D36/E36 -> 0.5566682 | W36: =F36/H36 -> 0.60019598 | X36: =G36/H36 -> 0.39980402 | Z36: =I36/L36 -> 0.53746039 | AA36: =J36/L36 -> 0.33642034 | AB36: =K36/L36 -> 0.12611927 | AD36: =M36/Q36 -> 0.058396136 | AE36: =N36/Q36 -> 0.22601876 | AF36: =O36/Q36 -> 0.35607148 | AG36: =P36/Q36 -> 0.35951363
A37: =A16 -> Vasculitis | B37: =B16/$B$21 -> 0.0098684211 | C37: =C16/$C$21 -> 0.03968254 | D37: =D16/$D$21 -> 0.043290043 | E37: =SUM(B37:D37) -> 0.092841004 | F37: =F16/F$21 -> 0.03030303 | G37: =G16/G$21 -> 0.031168831 | H37: =SUM(F37:G37) -> 0.061471861 | I37: =I16/I$21 -> 0 | J37: =J16/J$21 -> 0.00486618 | K37: =K16/K$21 -> 0.09486166 | L37: =SUM(I37:K37) -> 0.09972784 | M37: =M16/M$21 -> 0.0027624309 | N37: =N16/N$21 -> 0.026415094 | O37: =O16/O$21 -> 0.021276596 | P37: =P16/P$21 -> 0.16326531 | Q37: =SUM(M37:P37) -> 0.21371943 | R37: =A37 -> Vasculitis | S37: =B37/E37 -> 0.10629378 | T37: =C37/E37 -> 0.42742471 | U37: =D37/E37 -> 0.46628151 | W37: =F37/H37 -> 0.49295775 | X37: =G37/H37 -> 0.50704225 | Z37: =I37/L37 -> 0 | AA37: =J37/L37 -> 0.0487946 | AB37: =K37/L37 -> 0.9512054 | AD37: =M37/Q37 -> 0.012925502 | AE37: =N37/Q37 -> 0.12359707 | AF37: =O37/Q37 -> 0.099553868 | AG37: =P37/Q37 -> 0.76392356
A38: =A17 -> Other Renal | B38: =B17/$B$21 -> 0.075657895 | C38: =C17/$C$21 -> 0.063492063 | D38: =D17/$D$21 -> 0.060606061 | E38: =SUM(B38:D38) -> 0.19975602 | F38: =F17/F$21 -> 0.068181818 | G38: =G17/G$21 -> 0.064935065 | H38: =SUM(F38:G38) -> 0.13311688 | I38: =I17/I$21 -> 0.063829787 | J38: =J17/J$21 -> 0.055961071 | K38: =K17/K$21 -> 0.09486166 | L38: =SUM(I38:K38) -> 0.21465252 | M38: =M17/M$21 -> 0.038674033 | N38: =N17/N$21 -> 0.056603774 | O38: =O17/O$21 -> 0.079787234 | P38: =P17/P$21 -> 0.17346939 | Q38: =SUM(M38:P38) -> 0.34853443 | R38: =A38 -> Other Renal | S38: =B38/E38 -> 0.37875151 | T38: =C38/E38 -> 0.31784806 | U38: =D38/E38 -> 0.30340042 | W38: =F38/H38 -> 0.51219512 | X38: =G38/H38 -> 0.48780488 | Z38: =I38/L38 -> 0.29736333 | AA38: =J38/L38 -> 0.2607054 | AB38: =K38/L38 -> 0.44193127 | AD38: =M38/Q38 -> 0.11096187 | AE38: =N38/Q38 -> 0.16240511 | AF38: =O38/Q38 -> 0.2289221 | AG38: =P38/Q38 -> 0.49771091
A39: =A18 -> No diagnosis | B39: =B18/$B$21 -> 0 | C39: =C18/$C$21 -> 0.0026455026 | D39: =D18/$D$21 -> 0.0043290043 | E39: =SUM(B39:D39) -> 0.006974507 | F39: =F18/F$21 -> 0.0018939394 | G39: =G18/G$21 -> 0.0025974026 | H39: =SUM(F39:G39) -> 0.004491342 | I39: =I18/I$21 -> 0 | J39: =J18/J$21 -> 0.00243309 | K39: =K18/K$21 -> 0 | L39: =SUM(I39:K39) -> 0.00243309 | M39: =M18/M$21 -> 0.0027624309 | N39: =N18/N$21 -> 0.0037735849 | O39: =O18/O$21 -> 0 | P39: =P18/P$21 -> 0 | Q39: =SUM(M39:P39) -> 0.0065360158 | R39: =A39 -> No diagnosis | S39: =B39/E39 -> 0 | T39: =C39/E39 -> 0.37931034 | U39: =D39/E39 -> 0.62068966 | W39: =F39/H39 -> 0.42168675 | X39: =G39/H39 -> 0.57831325 | Z39: =I39/L39 -> 0 | AA39: =J39/L39 -> 1 | AB39: =K39/L39 -> 0 | AD39: =M39/Q39 -> 0.42264753 | AE39: =N39/Q39 -> 0.57735247 | AF39: =O39/Q39 -> 0 | AG39: =P39/Q39 -> 0
A40: =A19 -> 0 | B40: =B19/$B$21 -> 0 | C40: =C19/$C$21 -> 0 | D40: =D19/$D$21 -> 0 | E40: =SUM(B40:D40) -> 0 | F40: =F19/F$21 -> 0 | G40: =G19/G$21 -> 0 | H40: =SUM(F40:G40) -> 0 | I40: =I19/I$21 -> 0 | J40: =J19/J$21 -> 0 | K40: =K19/K$21 -> 0 | L40: =SUM(I40:K40) -> 0 | M40: =M19/M$21 -> 0 | N40: =N19/N$21 -> 0 | O40: =O19/O$21 -> 0 | P40: =P19/P$21 -> 0 | Q40: =SUM(M40:P40) -> 0
A42: Summa | B42: =SUM(B27:B40) -> 1 | C42: =SUM(C27:C40) -> 1 | D42: =SUM(D27:D40) -> 1 | E42: =SUM(E27:E40) -> 3 | F42: =SUM(F27:F40) -> 1 | G42: =SUM(G27:G40) -> 1 | H42: =SUM(H27:H40) -> 2 | I42: =SUM(I27:I40) -> 1 | ... Q42: =SUM(Q27:Q40) -> 4
S57: Age | T57: Gender | U57: Hem | V57: CKD | W57: produkt | X57: Rel sannolikhet | Y57: Sannolikhet | Z57: ökad/minskad | AA57: neg inv | AB57: fold change | AC57: Rank | AD57: FC log
R58: =R27 -> FSGS | S58: =IF('NS calculator'!$B$4=1,S27,(IF('NS calculator'!$C$4=1,T27,(IF('NS calculator'!$D$4=1,U27,"FEL"))))) -> 0.25753658 | T58: =IF('NS calculator'!$B$6=1,W27,(IF('NS calculator'!$C$6=1,X27,"FEL"))) -> 0.50704225 | U58: =IF('NS calculator'!$B$8=1,Z27,(IF('NS calculator'!$C$8=1,AA27,(IF('NS calculator'!$D$8=1,AB27,"FEL"))))) -> 0.24721172 | V58: =IF('NS calculator'!$B$10=1,AD27,(IF('NS calculator'!$C$10=1,AE27,(IF('NS calculator'!$D$10=1,AF27,(IF('NS calculator'!$E$10=1,AG27,"FEL"))))))) -> 0.036956809 | W58: =S58*T58*U58*V58 -> 0.0011930169 | X58: =W58/W$72 -> 0.0032192859 | Y58: =R6 -> 0.084337349 | Z58: =X58/Y58 -> 0.038171532 | AA58: =-1/Z58 -> -26.197534 | AB58: =IF(Z58<1,AA58,Z58) -> -26.197534 | AC58: =RANK(X58,X$58:X$70,0) -> 12 | AD58: =LOG10(Z58) -> -1.4182604
R59: =R28 -> IgAN | S59: =IF('NS calculator'!$B$4=1,S28,(IF('NS calculator'!$C$4=1,T28,(IF('NS calculator'!$D$4=1,U28,"FEL"))))) -> 0.15383256 | T59: =IF('NS calculator'!$B$6=1,W28,(IF('NS calculator'!$C$6=1,X28,"FEL"))) -> 0.47078055 | U59: =IF('NS calculator'!$B$8=1,Z28,(IF('NS calculator'!$C$8=1,AA28,(IF('NS calculator'!$D$8=1,AB28,"FEL"))))) -> 0.66563764 | V59: =IF('NS calculator'!$B$10=1,AD28,(IF('NS calculator'!$C$10=1,AE28,(IF('NS calculator'!$D$10=1,AF28,(IF('NS calculator'!$E$10=1,AG28,"FEL"))))))) -> 0.22486975 | W59: =S59*T59*U59*V59 -> 0.01084016 | X59: =W59/W$72 -> 0.029251533 | Y59: =R7 -> 0.066812705 | Z59: =X59/Y59 -> 0.43781393 | AA59: =-1/Z59 -> -2.2840753 | AB59: =IF(Z59<1,AA59,Z59) -> -2.2840753 | AC59: =RANK(X59,X$58:X$70,0) -> 5 | AD59: =LOG10(Z59) -> -0.35871042
R60: =R29 -> MPGN | S60: =IF('NS calculator'!$B$4=1,S29,(IF('NS calculator'!$C$4=1,T29,(IF('NS calculator'!$D$4=1,U29,"FEL"))))) -> 0.35351447 | T60: =IF('NS calculator'!$B$6=1,W29,(IF('NS calculator'!$C$6=1,X29,"FEL"))) -> 0.61538462 | U60: =IF('NS calculator'!$B$8=1,Z29,(IF('NS calculator'!$C$8=1,AA29,(IF('NS calculator'!$D$8=1,AB29,"FEL"))))) -> 0.77741098 | V60: =IF('NS calculator'!$B$10=1,AD29,(IF('NS calculator'!$C$10=1,AE29,(IF('NS calculator'!$D$10=1,AF29,(IF('NS calculator'!$E$10=1,AG29,"FEL"))))))) -> 0.24098098 | W60: =S60*T60*U60*V60 -> 0.040755598 | X60: =W60/W$72 -> 0.10997658 | Y60: =R8 -> 0.056955093 | Z60: =X60/Y60 -> 1.930935 | AA60: =-1/Z60 -> -0.51788383 | AB60: =IF(Z60<1,AA60,Z60) -> 1.930935 | AC60: =RANK(X60,X$58:X$70,0) -> 3 | AD60: =LOG10(Z60) -> 0.28576765
R61: =R30 -> MN | S61: =IF('NS calculator'!$B$4=1,S30,(IF('NS calculator'!$C$4=1,T30,(IF('NS calculator'!$D$4=1,U30,"FEL"))))) -> 0.37596419 | T61: =IF('NS calculator'!$B$6=1,W30,(IF('NS calculator'!$C$6=1,X30,"FEL"))) -> 0.4182669 | U61: =IF('NS calculator'!$B$8=1,Z30,(IF('NS calculator'!$C$8=1,AA30,(IF('NS calculator'!$D$8=1,AB30,"FEL"))))) -> 0.28016853 | V61: =IF('NS calculator'!$B$10=1,AD30,(IF('NS calculator'!$C$10=1,AE30,(IF('NS calculator'!$D$10=1,AF30,(IF('NS calculator'!$E$10=1,AG30,"FEL"))))))) -> 0.037710725 | W61: =S61*T61*U61*V61 -> 0.0016614383 | X61: =W61/W$72 -> 0.0044832933 | Y61: =R9 -> 0.17196057 | Z61: =X61/Y61 -> 0.026071636 | AA61: =-1/Z61 -> -38.35586 | AB61: =IF(Z61<1,AA61,Z61) -> -38.35586 | AC61: =RANK(X61,X$58:X$70,0) -> 11 | AD61: =LOG10(Z61) -> -1.5838317
R62: =R31 -> MCD | S62: =IF('NS calculator'!$B$4=1,S31,(IF('NS calculator'!$C$4=1,T31,(IF('NS calculator'!$D$4=1,U31,"FEL"))))) -> 0.23889271 | T62: =IF('NS calculator'!$B$6=1,W31,(IF('NS calculator'!$C$6=1,X31,"FEL"))) -> 0.5572691 | U62: =IF('NS calculator'!$B$8=1,Z31,(IF('NS calculator'!$C$8=1,AA31,(IF('NS calculator'!$D$8=1,AB31,"FEL"))))) -> 0.19441719 | V62: =IF('NS calculator'!$B$10=1,AD31,(IF('NS calculator'!$C$10=1,AE31,(IF('NS calculator'!$D$10=1,AF31,(IF('NS calculator'!$E$10=1,AG31,"FEL"))))))) -> 0.085646263 | W62: =S62*T62*U62*V62 -> 0.0022167205 | X62: =W62/W$72 -> 0.0059816896 | Y62: =R10 -> 0.15334064 | Z62: =X62/Y62 -> 0.039009162 | AA62: =-1/Z62 -> -25.635004 | AB62: =IF(Z62<1,AA62,Z62) -> -25.635004 | AC62: =RANK(X62,X$58:X$70,0) -> 10 | AD62: =LOG10(Z62) -> -1.4088334
R63: =R32 -> Other GN | S63: =IF('NS calculator'!$B$4=1,S32,(IF('NS calculator'!$C$4=1,T32,(IF('NS calculator'!$D$4=1,U32,"FEL"))))) -> 0.38186291 | T63: =IF('NS calculator'!$B$6=1,W32,(IF('NS calculator'!$C$6=1,X32,"FEL"))) -> 0.63157895 | U63: =IF('NS calculator'!$B$8=1,Z32,(IF('NS calculator'!$C$8=1,AA32,(IF('NS calculator'!$D$8=1,AB32,"FEL"))))) -> 0.57001088 | V63: =IF('NS calculator'!$B$10=1,AD32,(IF('NS calculator'!$C$10=1,AE32,(IF('NS calculator'!$D$10=1,AF32,(IF('NS calculator'!$E$10=1,AG32,"FEL"))))))) -> 0.55033498 | W63: =S63*T63*U63*V63 -> 0.07565635 | X63: =W63/W$72 -> 0.2041542 | Y63: =R11 -> 0.029572837 | Z63: =X63/Y63 -> 6.9034365 | AA63: =-1/Z63 -> -0.14485539 | AB63: =IF(Z63<1,AA63,Z63) -> 6.9034365 | AC63: =RANK(X63,X$58:X$70,0) -> 2 | AD63: =LOG10(Z63) -> 0.83906534
...
