Workbook

Sheet Tabelle2
H2: Endmember CO2 C3 | I2: =K3+N2 -> -24.5 | J2: Endmember C4 | K2: Endmember C3 | M2: Soil diffusion CO2 | N2: 4 | O2: ‰ | P2: Clark et al., 2013
H3: Endmember C4 Maize | I3: =J3+N2 -> -8.5 | J3: -12.5 | K3: -28.5 | L3: ‰
C4: Average d13C DIC C3 meas | E4: Average CTRL | G4: Average d13C DIC C4 meas | J4: Kirkels et al., 2022 | K4: Kohn et al., 2010 | M4: =STDEV(M8:M32) -> 0.29533348
C5: =AVERAGE(G8:G17) -> -16.698 | D5: =STDEV(G8:G17)/SQRT(COUNT(G8:G17)) -> 0.39917081 | E5: =AVERAGE(G18:G22) -> -16.724 | F5: =STDEV(G18:G22)/SQRT(COUNT(G18:G22)) -> 0.47664033 | G5: =AVERAGE(G23:G32) -> -8.26 | H5: =STDEV(G23:G32)/SQRT(COUNT(G23:G32)) -> 0.16601778 | J5: DIC t0 (average unplant) | K5: =AVERAGE(J18:J22) -> 6.1420469 | M5: =AVERAGE(M8:M32) -> -29.311364 | N5: DOC t0 (average unplant) | O5: =AVERAGE(N18:N22) -> 1.3952
E6: measured | H6: C4 | I6: C3 | M6: =STDEV(M8:M32)/SQRT(COUNT(M8:M32)) -> 0.062965308 | Q6: Mass balance | R6: Efflux | S6: DOC t0 (average unplant) | T6: =AVERAGE(S18:S22) -> 7.5372469 | V6: sample - ctrl | W6: sample - ctrl
A7: ID | B7: Plant | C7: Type | D7: Treatment | E7: T °C | F7: pH leachate | G7: δ13 C DIC | H7: δ13C(DIC calculated) | I7: δ13C(DIC calculated) | J7: mmol/L C DIC | K7: f | L7: ln(f) | M7: d13 C DOC | N7: mmol/L C DOC | O7: f | P7: ln(f) | Q7: % contribution C4 to DIC | R7: CO2 (μmol/m2/s) | S7: DOC+DIC | T7: f | U7: ln(f) | V7: DOC increment | W7: DIC increment
A8: C3 + drought | B8: Silphium perfoliatum | C8: C3 | D8: drought | E8: 13.32 | F8: 7.61 | G8: -15.79 | H8: 0.088658401 | I8: -15.911342 | J8: 7.918619 | K8: =J8/$K$5 -> 1.2892476 | L8: =LN(K8) -> 0.25405877 | M8: -29.43 | N8: 2.002 | O8: =N8/$O$5 -> 1.4349197 | P8: =LN(O8) -> 0.36110891 | Q8: =((G8-I8)/(H8-I8))*100 -> 0.758385 | R8: 1.34 | S8: =J8+N8 -> 9.920619 | T8: =S8/$T$6 -> 1.3162126 | U8: =LN(T8) -> 0.27475834 | V8: =N8-$O$5 -> 0.6068 | W8: =J8-$K$5 -> 1.7765721
B9: Silphium perfoliatum | C9: C3 | D9: drought | E9: 13.27 | F9: 7.43 | G9: -14.82 | H9: -0.2121417 | I9: -16.212142 | J9: 7.0764488 | K9: =J9/$K$5 -> 1.152132 | L9: =LN(K9) -> 0.14161415 | M9: -29.56 | N9: 1.981 | O9: =N9/$O$5 -> 1.4198681 | P9: =LN(O9) -> 0.35056399 | Q9: =((G9-I9)/(H9-I9))*100 -> 8.7008856 | R9: 1.25 | S9: =J9+N9 -> 9.0574488 | T9: =S9/$T$6 -> 1.2016919 | U9: =LN(T9) -> 0.18373052 | V9: =N9-$O$5 -> 0.5858 | W9: =J9-$K$5 -> 0.93440197
B10: Silphium perfoliatum | C10: C3 | D10: drought | E10: 13.19 | F10: 7.43 | G10: -15.97 | H10: -0.20518649 | I10: -16.205186 | J10: 8.4636252 | K10: =J10/$K$5 -> 1.3779812 | L10: =LN(K10) -> 0.32061954 | M10: -29.55 | N10: 1.897 | O10: =N10/$O$5 -> 1.3596617 | P10: =LN(O10) -> 0.30723592 | Q10: =((G10-I10)/(H10-I10))*100 -> 1.4699156 | R10: 1.285 | S10: =J10+N10 -> 10.360625 | T10: =S10/$T$6 -> 1.3745901 | U10: =LN(T10) -> 0.3181556 | V10: =N10-$O$5 -> 0.5018 | W10: =J10-$K$5 -> 2.3215783
B11: Silphium perfoliatum | C11: C3 | D11: drought | E11: 13.33 | F11: 7.94 | G11: -15.74 | H11: 0.42496848 | I11: -15.575032 | J11: 6.8865598 | K11: =J11/$K$5 -> 1.1212158 | L11: =LN(K11) -> 0.11441361 | M11: -29.37 | N11: 1.186 | O11: =N11/$O$5 -> 0.85005734 | P11: =LN(O11) -> -0.16245147 | Q11: =((G11-I11)/(H11-I11))*100 -> -1.031053 | R11: 1.125 | S11: =J11+N11 -> 8.0725598 | T11: =S11/$T$6 -> 1.0710223 | U11: =LN(T11) -> 0.068613655 | V11: =N11-$O$5 -> -0.2092 | W11: =J11-$K$5 -> 0.74451295
B12: Silphium perfoliatum | C12: C3 | D12: drought | E12: 13.32 | F12: 7.8 | G12: -16.36 | H12: 0.31081588 | I12: -15.689184 | J12: 7.3575832 | K12: =J12/$K$5 -> 1.1979041 | L12: =LN(K12) -> 0.18057346 | M12: -29.62 | N12: 1.609 | O12: =N12/$O$5 -> 1.1532397 | P12: =LN(O12) -> 0.14257509 | Q12: =((G12-I12)/(H12-I12))*100 -> -4.1925993 | R12: 1.34 | S12: =J12+N12 -> 8.9665832 | T12: =S12/$T$6 -> 1.1896364 | U12: =LN(T12) -> 0.17364772 | V12: =N12-$O$5 -> 0.2138 | W12: =J12-$K$5 -> 1.2155364
A13: C3 + OM | B13: Silphium perfoliatum | C13: C3 | D13: optimum moisture | E13: 13.22 | F13: 8.03 | G13: -17.97 | H13: 0.49438492 | I13: -15.505615 | J13: 6.9889026 | K13: =J13/$K$5 -> 1.1378784 | L13: =LN(K13) -> 0.1291655 | M13: -29.4 | N13: 0.85 | O13: =N13/$O$5 -> 0.60923165 | P13: =LN(O13) -> -0.4955567 | Q13: =((G13-I13)/(H13-I13))*100 -> -15.402406 | R13: 1.72 | S13: =J13+N13 -> 7.8389026 | T13: =S13/$T$6 -> 1.040022 | U13: =LN(T13) -> 0.039241872 | V13: =N13-$O$5 -> -0.5452 | W13: =J13-$K$5 -> 0.84685573
B14: Silphium perfoliatum | C14: C3 | D14: optimum moisture | E14: 13.42 | F14: 7.62 | G14: -17.3 | H14: 0.093002508 | I14: -15.906997 | J14: 6.6362515 | K14: =J14/$K$5 -> 1.0804625 | L14: =LN(K14) -> 0.077389226 | M14: -29.23 | N14: 0.922 | O14: =N14/$O$5 -> 0.66083716 | P14: =LN(O14) -> -0.41424783 | Q14: =((G14-I14)/(H14-I14))*100 -> -8.7062657 | R14: 1.08 | S14: =J14+N14 -> 7.5582515 | T14: =S14/$T$6 -> 1.0027868 | U14: =LN(T14) -> 0.002782909 | V14: =N14-$O$5 -> -0.4732 | W14: =J14-$K$5 -> 0.49420469
B15: Silphium perfoliatum | C15: C3 | D15: optimum moisture | E15: 13.21 | F15: 7.74 | G15: -18.32 | H15: 0.26097202 | I15: -15.739028 | J15: 7.4118372 | K15: =J15/$K$5 -> 1.2067373 | L15: =LN(K15) -> 0.1879203 | M15: -29.04 | N15: 0.856 | O15: =N15/$O$5 -> 0.61353211 | P15: =LN(O15) -> -0.48852268 | Q15: =((G15-I15)/(H15-I15))*100 -> -16.131075 | R15: 1.0385 | S15: =J15+N15 -> 8.2678372 | T15: =S15/$T$6 -> 1.0969307 | U15: =LN(T15) -> 0.092515979 | V15: =N15-$O$5 -> -0.5392 | W15: =J15-$K$5 -> 1.2697904
B16: Silphium perfoliatum | C16: C3 | D16: optimum moisture | E16: 12.98 | F16: 7.79 | G16: -18.57 | H16: 0.33601262 | I16: -15.663987 | J16: 6.9161529 | K16: =J16/$K$5 -> 1.1260339 | L16: =LN(K16) -> 0.11870162 | M16: -29.61 | N16: 0.871 | O16: =N16/$O$5 -> 0.62428326 | P16: =LN(O16) -> -0.47115108 | Q16: =((G16-I16)/(H16-I16))*100 -> -18.162579 | R16: 1.655 | S16: =J16+N16 -> 7.7871529 | T16: =S16/$T$6 -> 1.0331561 | U16: =LN(T16) -> 0.032618335 | V16: =N16-$O$5 -> -0.5242 | W16: =J16-$K$5 -> 0.77410604
B17: Silphium perfoliatum | C17: C3 | D17: optimum moisture | E17: 13.71 | F17: 7.69 | G17: -16.14 | H17: 0.15428257 | I17: -15.845717 | J17: 6.7632552 | K17: =J17/$K$5 -> 1.1011403 | L17: =LN(K17) -> 0.096346268 | M17: -29.49 | N17: 1.39 | O17: =N17/$O$5 -> 0.99627294 | P17: =LN(O17) -> -0.003734027 | Q17: =((G17-I17)/(H17-I17))*100 -> -1.839266 | R17: 1.57 | S17: =J17+N17 -> 8.1532552 | T17: =S17/$T$6 -> 1.0817286 | U17: =LN(T17) -> 0.078560287 | V17: =N17-$O$5 -> -0.0052 | W17: =J17-$K$5 -> 0.62120838
A18: unplanted | B18: unplanted | D18: optimum moisture | E18: 13.39 | F18: 7.64 | G18: -14.83 | H18: 0.12295986 | I18: -15.87704 | J18: 5.865598 | L18: =LN(K18) -> #NUM! | M18: -29.57 | N18: 1.336 | P18: =LN(O18) -> #NUM! | Q18: =((G18-I18)/(H18-I18))*100 -> 6.5440009 | R18: 0.79 | S18: =J18+N18 -> 7.201598 | T18: =S18/$T$6 -> 0.95546798 | V18: =N18-$O$5 -> -0.0592 | W18: =J18-$K$5 -> -0.27644883
B19: unplanted | D19: optimum moisture | E19: 13.28 | F19: 7.11 | G19: -17.18 | H19: -1.0761005 | I19: -17.076101 | J19: 6.4093711 | L19: =LN(K19) -> #NUM! | M19: -29.59 | N19: 1.49 | P19: =LN(O19) -> #NUM! | Q19: =((G19-I19)/(H19-I19))*100 -> -0.64937166 | R19: 0.469 | S19: =J19+N19 -> 7.8993711 | T19: =S19/$T$6 -> 1.0480446 | V19: =N19-$O$5 -> 0.0948 | W19: =J19-$K$5 -> 0.26732429
B20: unplanted | D20: optimum moisture | E20: 13.57 | F20: 7.28 | G20: -17.01 | H20: -0.58205817 | I20: -16.582058 | J20: 6.3637485 | L20: =LN(K20) -> #NUM! | M20: -29.53 | N20: 1.472 | P20: =LN(O20) -> #NUM! | Q20: =((G20-I20)/(H20-I20))*100 -> -2.6746364 | R20: 0.693 | S20: =J20+N20 -> 7.8357485 | T20: =S20/$T$6 -> 1.0396035 | V20: =N20-$O$5 -> 0.0768 | W20: =J20-$K$5 -> 0.2217016
B21: unplanted | D21: optimum moisture | E21: 13.68 | F21: 7.19 | G21: -17.26 | H21: -0.84366631 | I21: -16.843666 | J21: 6.3403206 | L21: =LN(K21) -> #NUM! | M21: -29.46 | N21: 1.381 | P21: =LN(O21) -> #NUM! | Q21: =((G21-I21)/(H21-I21))*100 -> -2.6020856 | R21: 1.175 | S21: =J21+N21 -> 7.7213206 | T21: =S21/$T$6 -> 1.0244219 | V21: =N21-$O$5 -> -0.0142 | W21: =J21-$K$5 -> 0.19827374
B22: unplanted | D22: optimum moisture | E22: 13.21 | F22: 7.2 | G22: -17.34 | H22: -0.78010645 | I22: -16.780106 | J22: 5.7311961 | L22: =LN(K22) -> #NUM! | M22: -29.48 | N22: 1.297 | P22: =LN(O22) -> #NUM! | Q22: =((G22-I22)/(H22-I22))*100 -> -3.4993347 | R22: 0.8045 | S22: =J22+N22 -> 7.0281961 | T22: =S22/$T$6 -> 0.93246197 | V22: =N22-$O$5 -> -0.0982 | W22: =J22-$K$5 -> -0.4108508
A23: C4 + drought | B23: Zea mays | C23: C4 | D23: drought | E23: 13.47 | F23: 7.71 | G23: -8.07 | H23: 0.20144831 | I23: -15.798552 | J23: 9.4623921 | K23: =J23/$K$5 -> 1.5405926 | L23: =LN(K23) -> 0.43216717 | M23: -28.78 | N23: 2.014 | O23: =N23/$O$5 -> 1.4435206 | P23: =LN(O23) -> 0.36708502 | Q23: =((G23-I23)/(H23-I23))*100 -> 48.303448 | R23: 1.074 | S23: =J23+N23 -> 11.476392 | T23: =S23/$T$6 -> 1.5226239 | U23: =LN(T23) -> 0.42043509 | V23: =N23-$O$5 -> 0.6188 | W23: =J23-$K$5 -> 3.3203453
B24: Zea mays | C24: C4 | D24: drought | E24: 13.2 | R24: 0.836 | S24: =J24+N24 -> 0
B25: Zea mays | C25: C4 | D25: drought | E25: 13.23 | F25: 7.1 | G25: -7.73 | H25: -1.1078415 | I25: -17.107842 | J25: 9.5721332 | K25: =J25/$K$5 -> 1.5584598 | L25: =LN(K25) -> 0.44369803 | M25: -28.81 | N25: 1.973 | O25: =N25/$O$5 -> 1.4141342 | P25: =LN(O25) -> 0.34651745 | Q25: =((G25-I25)/(H25-I25))*100 -> 58.61151 | R25: 0.9775 | S25: =J25+N25 -> 11.545133 | T25: =S25/$T$6 -> 1.5317441 | U25: =LN(T25) -> 0.426407 | V25: =N25-$O$5 -> 0.5778 | W25: =J25-$K$5 -> 3.4300863
B26: Zea mays | C26: C4 | D26: drought | E26: 12.96 | F26: 7.53 | G26: -8.28 | H26: -0.0006285551 | I26: -16.000629 | J26: 7.2552404 | K26: =J26/$K$5 -> 1.1812415 | L26: =LN(K26) -> 0.16656598 | M26: -28.58 | N26: 2.244 | O26: =N26/$O$5 -> 1.6083716 | P26: =LN(O26) -> 0.47522221 | Q26: =((G26-I26)/(H26-I26))*100 -> 48.253928 | R26: 0.947 | S26: =J26+N26 -> 9.4992404 | T26: =S26/$T$6 -> 1.2603064 | U26: =LN(T26) -> 0.23135487 | V26: =N26-$O$5 -> 0.8488 | W26: =J26-$K$5 -> 1.1131936
B27: Zea mays | C27: C4 | D27: drought | E27: 13.51 | R27: 0.9895 | S27: =J27+N27 -> 0
A28: C4 + OM | B28: Zea mays | C28: C4 | D28: optimum moisture | E28: 11.98 | F28: 7.46 | G28: -9.12 | H28: -0.039521866 | I28: -16.039522 | J28: 8.9309494 | K28: =J28/$K$5 -> 1.4540673 | L28: =LN(K28) -> 0.37436466 | M28: -29.25 | N28: 1.082 | O28: =N28/$O$5 -> 0.77551606 | P28: =LN(O28) -> -0.25422659 | Q28: =((G28-I28)/(H28-I28))*100 -> 43.247012 | R28: 1.278 | S28: =J28+N28 -> 10.012949 | T28: =S28/$T$6 -> 1.3284625 | U28: =LN(T28) -> 0.28402222 | V28: =N28-$O$5 -> -0.3132 | W28: =J28-$K$5 -> 2.7889026
B29: Zea mays | C29: C4 | D29: optimum moisture | E29: 13.18 | F29: 7.77 | H29: 0.29556226 | I29: -15.704438 | R29: 1.02 | S29: =J29+N29 -> 0
B30: Zea mays | C30: C4 | D30: optimum moisture | E30: 13.48 | F30: 7.4 | G30: -7.96 | H30: -0.29203242 | I30: -16.292032 | J30: 8.9913687 | K30: =J30/$K$5 -> 1.4639043 | L30: =LN(K30) -> 0.38110703 | M30: -29.16 | N30: 1.614 | O30: =N30/$O$5 -> 1.1568234 | P30: =LN(O30) -> 0.1456778 | Q30: =((G30-I30)/(H30-I30))*100 -> 52.075203 | R30: 1.59 | S30: =J30+N30 -> 10.605369 | T30: =S30/$T$6 -> 1.4070613 | U30: =LN(T30) -> 0.34150338 | V30: =N30-$O$5 -> 0.2188 | W30: =J30-$K$5 -> 2.8493218
B31: Zea mays | C31: C4 | D31: optimum moisture | E31: 13.01 | F31: 7.42 | G31: -8.31 | H31: -0.20997915 | I31: -16.209979 | J31: 8.5055487 | K31: =J31/$K$5 -> 1.3848069 | L31: =LN(K31) -> 0.32556069 | M31: -29.09 | N31: 1.28 | O31: =N31/$O$5 -> 0.91743119 | P31: =LN(O31) -> -0.086177696 | Q31: =((G31-I31)/(H31-I31))*100 -> 49.37487 | R31: 0.8445 | S31: =J31+N31 -> 9.7855487 | T31: =S31/$T$6 -> 1.2982922 | U31: =LN(T31) -> 0.2610497 | V31: =N31-$O$5 -> -0.1152 | W31: =J31-$K$5 -> 2.3635018
B32: Zea mays | C32: C4 | D32: optimum moisture | E32: 13.49 | F32: 7.58 | G32: -8.35 | H32: 0.028904295 | I32: -15.971096 | J32: 9.4697904 | K32: =J32/$K$5 -> 1.5417972 | L32: =LN(K32) -> 0.43294872 | M32: -29.25 | N32: 1.621 | O32: =N32/$O$5 -> 1.1618406 | P32: =LN(O32) -> 0.15000547 | Q32: =((G32-I32)/(H32-I32))*100 -> 47.631848 | R32: 1.087 | S32: =J32+N32 -> 11.09079 | T32: =S32/$T$6 -> 1.4714644 | U32: =LN(T32) -> 0.38625809 | V32: =N32-$O$5 -> 0.2258 | W32: =J32-$K$5 -> 3.3277435
A33: C4 + OM + Fert | B33: Zea mays | C33: C4 | D33: optimum moisture + Si-fertilization | E33: 13.21 | F33: 7.31 | G33: -9.14 | H33: -0.47712018 | I33: -16.47712 | J33: 8.8692972 | K33: =J33/$K$5 -> 1.4440296 | L33: =LN(K33) -> 0.36743751 | M33: -29.08 | N33: 2.135 | O33: =N33/$O$5 -> 1.5302466 | P33: =LN(O33) -> 0.42542887 | Q33: =((G33-I33)/(H33-I33))*100 -> 45.857001 | R33: 0.991 | S33: =J33+N33 -> 11.004297 | T33: =S33/$T$6 -> 1.459989 | U33: =LN(T33) -> 0.37842887 | V33: =N33-$O$5 -> 0.7398 | W33: =J33-$K$5 -> 2.7272503
B34: Zea mays | C34: C4 | D34: optimum moisture + Si-fertilization | E34: 13.15 | F34: 7.3 | G34: -9.51 | H34: -0.49765683 | I34: -16.497657 | J34: 8.2293465 | K34: =J34/$K$5 -> 1.3398378 | L34: =LN(K34) -> 0.29254855 | M34: -29.08 | N34: 2.225 | O34: =N34/$O$5 -> 1.5947534 | P34: =LN(O34) -> 0.46671914 | Q34: =((G34-I34)/(H34-I34))*100 -> 43.672855 | R34: 0.991 | S34: =J34+N34 -> 10.454346 | T34: =S34/$T$6 -> 1.3870246 | U34: =LN(T34) -> 0.32716085 | V34: =N34-$O$5 -> 0.8298 | W34: =J34-$K$5 -> 2.0872996
B35: Zea mays | C35: C4 | D35: optimum moisture + Si-fertilization | E35: 13.3 | F35: 7.29 | G35: -6.44 | H35: -0.53508469 | I35: -16.535085 | J35: 8.2046856 | K35: =J35/$K$5 -> 1.3358227 | L35: =LN(K35) -> 0.28954735 | M35: -28.98 | N35: 2.05 | O35: =N35/$O$5 -> 1.4693234 | P35: =LN(O35) -> 0.38480202 | Q35: =((G35-I35)/(H35-I35))*100 -> 63.094279 | R35: 1.141 | S35: =J35+N35 -> 10.254686 | T35: =S35/$T$6 -> 1.3605347 | U35: =LN(T35) -> 0.30787775 | V35: =N35-$O$5 -> 0.6548 | W35: =J35-$K$5 -> 2.0626387
A38: t-test

Sheet Tabelle1
I2: Endmember CO2 C3 | J2: =L3+O2 -> -24.5 | K2: Endmember C4 | L2: Endmember C3 | N2: Soil diffusion CO2 | O2: 4 | P2: ‰ | Q2: Clark et al., 2013
I3: Endmember C4 Maize | J3: =K3+O2 -> -8.5 | K3: -12.5 | L3: -28.5 | M3: ‰
K4: Kirkels et al., 2022 | L4: Kohn et al., 2010
N6: Mass balance | O6: Efflux
A7: Date | B7: Lysimeter # | C7: Plant | D7: Type | E7: Treatment | F7: T °C | G7: pH leachate | H7: δ13 C DIC | I7: δ13C(DIC calculated) | J7: δ13C(DIC calculated) | K7: mmol/L C DIC | L7: d13 C DOC | M7: mmol/L C DOC | N7: % contribution C4 to DIC | O7: CO2 (μmol/m2/s)
A8: 44104 | B8: 1 | C8: Silphium perfoliatum | D8: C3 | E8: drought | F8: 13.32 | G8: 7.61 | H8: -15.79 | I8: 0.088658401 | J8: -15.911342 | K8: 7.918619 | L8: -29.43 | M8: 2.002 | N8: =((H8-J8)/(I8-J8))*100 -> 0.758385 | O8: 1.34
A9: 44104 | B9: 2 | C9: Silphium perfoliatum | D9: C3 | E9: drought | F9: 13.27 | G9: 7.43 | H9: -14.82 | I9: -0.2121417 | J9: -16.212142 | K9: 7.0764488 | L9: -29.56 | M9: 1.981 | N9: =((H9-J9)/(I9-J9))*100 -> 8.7008856 | O9: 1.25
A10: 44104 | B10: 3 | C10: Silphium perfoliatum | D10: C3 | E10: drought | F10: 13.19 | G10: 7.43 | H10: -15.97 | I10: -0.20518649 | J10: -16.205186 | K10: 8.4636252 | L10: -29.55 | M10: 1.897 | N10: =((H10-J10)/(I10-J10))*100 -> 1.4699156 | O10: 1.285
A11: 44104 | B11: 4 | C11: Silphium perfoliatum | D11: C3 | E11: drought | F11: 13.33 | G11: 7.94 | H11: -15.74 | I11: 0.42496848 | J11: -15.575032 | K11: 6.8865598 | L11: -29.37 | M11: 1.186 | N11: =((H11-J11)/(I11-J11))*100 -> -1.031053 | O11: 1.125
A12: 44104 | B12: 5 | C12: Silphium perfoliatum | D12: C3 | E12: drought | F12: 13.32 | G12: 7.8 | H12: -16.36 | I12: 0.31081588 | J12: -15.689184 | K12: 7.3575832 | L12: -29.62 | M12: 1.609 | N12: =((H12-J12)/(I12-J12))*100 -> -4.1925993 | O12: 1.34
A13: 44104 | B13: 6 | C13: Silphium perfoliatum | D13: C3 | E13: optimum moisture | F13: 13.22 | G13: 8.03 | H13: -17.97 | I13: 0.49438492 | J13: -15.505615 | K13: 6.9889026 | L13: -29.4 | M13: 0.85 | N13: =((H13-J13)/(I13-J13))*100 -> -15.402406 | O13: 1.72
A14: 44104 | B14: 7 | C14: Silphium perfoliatum | D14: C3 | E14: optimum moisture | F14: 13.42 | G14: 7.62 | H14: -17.3 | I14: 0.093002508 | J14: -15.906997 | K14: 6.6362515 | L14: -29.23 | M14: 0.922 | N14: =((H14-J14)/(I14-J14))*100 -> -8.7062657 | O14: 1.08
A15: 44104 | B15: 8 | C15: Silphium perfoliatum | D15: C3 | E15: optimum moisture | F15: 13.21 | G15: 7.74 | H15: -18.32 | I15: 0.26097202 | J15: -15.739028 | K15: 7.4118372 | L15: -29.04 | M15: 0.856 | N15: =((H15-J15)/(I15-J15))*100 -> -16.131075 | O15: 1.0385
A16: 44104 | B16: 9 | C16: Silphium perfoliatum | D16: C3 | E16: optimum moisture | F16: 12.98 | G16: 7.79 | H16: -18.57 | I16: 0.33601262 | J16: -15.663987 | K16: 6.9161529 | L16: -29.61 | M16: 0.871 | N16: =((H16-J16)/(I16-J16))*100 -> -18.162579 | O16: 1.655
A17: 44104 | B17: 10 | C17: Silphium perfoliatum | D17: C3 | E17: optimum moisture | F17: 13.71 | G17: 7.69 | H17: -16.14 | I17: 0.15428257 | J17: -15.845717 | K17: 6.7632552 | L17: -29.49 | M17: 1.39 | N17: =((H17-J17)/(I17-J17))*100 -> -1.839266 | O17: 1.57
A18: 44104 | B18: 11 | C18: unplanted | E18: optimum moisture | F18: 13.39 | G18: 7.64 | H18: -14.83 | I18: 0.12295986 | J18: -15.87704 | K18: 5.865598 | L18: -29.57 | M18: 1.336 | N18: =((H18-J18)/(I18-J18))*100 -> 6.5440009 | O18: 0.79
A19: 44104 | B19: 12 | C19: unplanted | E19: optimum moisture | F19: 13.28 | G19: 7.11 | H19: -17.18 | I19: -1.0761005 | J19: -17.076101 | K19: 6.4093711 | L19: -29.59 | M19: 1.49 | N19: =((H19-J19)/(I19-J19))*100 -> -0.64937166 | O19: 0.469
A20: 44104 | B20: 13 | C20: unplanted | E20: optimum moisture | F20: 13.57 | G20: 7.28 | H20: -17.01 | I20: -0.58205817 | J20: -16.582058 | K20: 6.3637485 | L20: -29.53 | M20: 1.472 | N20: =((H20-J20)/(I20-J20))*100 -> -2.6746364 | O20: 0.693
A21: 44104 | B21: 14 | C21: unplanted | E21: optimum moisture | F21: 13.68 | G21: 7.19 | H21: -17.26 | I21: -0.84366631 | J21: -16.843666 | K21: 6.3403206 | L21: -29.46 | M21: 1.381 | N21: =((H21-J21)/(I21-J21))*100 -> -2.6020856 | O21: 1.175
A22: 44104 | B22: 15 | C22: unplanted | E22: optimum moisture | F22: 13.21 | G22: 7.2 | H22: -17.34 | I22: -0.78010645 | J22: -16.780106 | K22: 5.7311961 | L22: -29.48 | M22: 1.297 | N22: =((H22-J22)/(I22-J22))*100 -> -3.4993347 | O22: 0.8045
A23: 44104 | B23: 16 | C23: Zea mays | D23: C4 | E23: drought | F23: 13.47 | G23: 7.71 | H23: -8.07 | I23: 0.20144831 | J23: -15.798552 | K23: 9.4623921 | L23: -28.78 | M23: 2.014 | N23: =((H23-J23)/(I23-J23))*100 -> 48.303448 | O23: 1.074
A24: 44104 | B24: 17 | C24: Zea mays | D24: C4 | E24: drought | F24: 13.2 | O24: 0.836
A25: 44104 | B25: 18 | C25: Zea mays | D25: C4 | E25: drought | F25: 13.23 | G25: 7.1 | H25: -7.73 | I25: -1.1078415 | J25: -17.107842 | K25: 9.5721332 | L25: -28.81 | M25: 1.973 | N25: =((H25-J25)/(I25-J25))*100 -> 58.61151 | O25: 0.9775
A26: 44104 | B26: 19 | C26: Zea mays | D26: C4 | E26: drought | F26: 12.96 | G26: 7.53 | H26: -8.28 | I26: -0.0006285551 | J26: -16.000629 | K26: 7.2552404 | L26: -28.58 | M26: 2.244 | N26: =((H26-J26)/(I26-J26))*100 -> 48.253928 | O26: 0.947
A27: 44104 | B27: 20 | C27: Zea mays | D27: C4 | E27: drought | F27: 13.51 | O27: 0.9895
A28: 44104 | B28: 21 | C28: Zea mays | D28: C4 | E28: optimum moisture | F28: 11.98 | G28: 7.46 | H28: -9.12 | I28: -0.039521866 | J28: -16.039522 | K28: 8.9309494 | L28: -29.25 | M28: 1.082 | N28: =((H28-J28)/(I28-J28))*100 -> 43.247012 | O28: 1.278
A29: 44104 | B29: 22 | C29: Zea mays | D29: C4 | E29: optimum moisture | F29: 13.18 | G29: 7.77 | I29: 0.29556226 | J29: -15.704438 | O29: 1.02
A30: 44104 | B30: 23 | C30: Zea mays | D30: C4 | E30: optimum moisture | F30: 13.48 | G30: 7.4 | H30: -7.96 | I30: -0.29203242 | J30: -16.292032 | K30: 8.9913687 | L30: -29.16 | M30: 1.614 | N30: =((H30-J30)/(I30-J30))*100 -> 52.075203 | O30: 1.59
A31: 44104 | B31: 24 | C31: Zea mays | D31: C4 | E31: optimum moisture | F31: 13.01 | G31: 7.42 | H31: -8.31 | I31: -0.20997915 | J31: -16.209979 | K31: 8.5055487 | L31: -29.09 | M31: 1.28 | N31: =((H31-J31)/(I31-J31))*100 -> 49.37487 | O31: 0.8445
A32: 44104 | B32: 25 | C32: Zea mays | D32: C4 | E32: optimum moisture + Si-fertilization | F32: 13.21 | G32: 7.31 | H32: -9.14 | I32: 0.028904295 | J32: -15.971096 | K32: 8.8692972 | L32: -29.08 | M32: 2.135 | N32: =((H32-J32)/(I32-J32))*100 -> 42.694348 | O32: 0.991
A33: 44104 | B33: 26 | C33: Zea mays | D33: C4 | E33: optimum moisture + Si-fertilization | F33: 13.15 | G33: 7.3 | H33: -9.51 | I33: -0.47712018 | J33: -16.47712 | K33: 8.2293465 | L33: -29.08 | M33: 2.225 | N33: =((H33-J33)/(I33-J33))*100 -> 43.544501 | O33: 0.991
A34: 44104 | B34: 27 | C34: Zea mays | D34: C4 | E34: optimum moisture | F34: 13.49 | G34: 7.58 | H34: -8.35 | I34: -0.49765683 | J34: -16.497657 | K34: 9.4697904 | L34: -29.25 | M34: 1.621 | N34: =((H34-J34)/(I34-J34))*100 -> 50.922855 | O34: 1.087
A35: 44104 | B35: 28 | C35: Zea mays | D35: C4 | E35: optimum moisture + Si-fertilization | F35: 13.3 | G35: 7.29 | H35: -6.44 | I35: -0.53508469 | J35: -16.535085 | K35: 8.2046856 | L35: -28.98 | M35: 2.05 | N35: =((H35-J35)/(I35-J35))*100 -> 63.094279 | O35: 1.141

Sheet Tabelle3
B2: pH | D2: DIC | F2: DOC | H2: CO2 efflux | J2: Increment | K2: DOC | L2: Increment | M2: DIC
B3: Average | C3: STDerr | D3: Average | E3: STDerr | F3: Average | G3: STDerr | H3: Average | I3: STDerr | J3: Average | K3: STDerr | L3: Average | M3: STDerr
A4: C3 drought | B4: =AVERAGE(Tabelle2!F8:F12) -> 7.642 | C4: =STDEV(Tabelle2!F8:F12)/SQRT(COUNT(Tabelle2!F8:F12)) -> 0.10116323 | D4: =AVERAGE(Tabelle2!J8:J12) -> 7.5405672 | E4: =STDEV(Tabelle2!J8:J12)/SQRT(COUNT(Tabelle2!J8:J12)) -> 0.28909979 | F4: =AVERAGE(Tabelle2!N8:N12) -> 1.735 | G4: =STDEV(Tabelle2!N8:N12)/SQRT(COUNT(Tabelle2!N8:N12)) -> 0.15416323 | H4: =AVERAGE(Tabelle2!R8:R12) -> 1.268 | I4: =STDEV(Tabelle2!R8:R12)/SQRT(COUNT(Tabelle2!R8:R12)) -> 0.039642149 | J4: =AVERAGE(Tabelle2!V8:V12) -> 0.3398 | K4: =STDEV(Tabelle2!V8:V12)/SQRT(COUNT(Tabelle2!V8:V12)) -> 0.15416323 | L4: =AVERAGE(Tabelle2!W8:W12) -> 1.3985203 | M4: =STDEV(Tabelle2!W8:W12)/SQRT(COUNT(Tabelle2!W8:W12)) -> 0.28909979
A5: C3 moist | B5: =AVERAGE(Tabelle2!F13:F17) -> 7.774 | C5: =STDEV(Tabelle2!F13:F17)/SQRT(COUNT(Tabelle2!F13:F17)) -> 0.069899928 | D5: =AVERAGE(Tabelle2!J13:J17) -> 6.9432799 | E5: =STDEV(Tabelle2!J13:J17)/SQRT(COUNT(Tabelle2!J13:J17)) -> 0.13210575 | F5: =AVERAGE(Tabelle2!N13:N17) -> 0.9778 | G5: =STDEV(Tabelle2!N13:N17)/SQRT(COUNT(Tabelle2!N13:N17)) -> 0.10382601 | H5: =AVERAGE(Tabelle2!R13:R17) -> 1.4127 | I5: =STDEV(Tabelle2!R13:R17)/SQRT(COUNT(Tabelle2!R13:R17)) -> 0.14639003 | J5: =AVERAGE(Tabelle2!V13:V17) -> -0.4174 | K5: =STDEV(Tabelle2!V13:V17)/SQRT(COUNT(Tabelle2!V13:V17)) -> 0.10382601 | L5: =AVERAGE(Tabelle2!W13:W17) -> 0.80123305 | M5: =STDEV(Tabelle2!W13:W17)/SQRT(COUNT(Tabelle2!W13:W17)) -> 0.13210575
A6: C4 drought | B6: =AVERAGE(Tabelle2!F23:F27) -> 7.4466667 | C6: =STDEV(Tabelle2!F23:F27)/SQRT(COUNT(Tabelle2!F23:F27)) -> 0.18095426 | D6: =AVERAGE(Tabelle2!J23:J27) -> 8.7632552 | E6: =STDEV(Tabelle2!J23:J27)/SQRT(COUNT(Tabelle2!J23:J27)) -> 0.75467261 | F6: =AVERAGE(Tabelle2!N23:N27) -> 2.077 | G6: =STDEV(Tabelle2!N23:N27)/SQRT(COUNT(Tabelle2!N23:N27)) -> 0.084334651 | H6: =AVERAGE(Tabelle2!R23:R27) -> 0.9648 | I6: =STDEV(Tabelle2!R23:R27)/SQRT(COUNT(Tabelle2!R23:R27)) -> 0.038472263 | J6: =AVERAGE(Tabelle2!V23:V27) -> 0.6818 | K6: =STDEV(Tabelle2!V23:V27)/SQRT(COUNT(Tabelle2!V23:V27)) -> 0.084334651 | L6: =AVERAGE(Tabelle2!W23:W27) -> 2.6212084 | M6: =STDEV(Tabelle2!W23:W27)/SQRT(COUNT(Tabelle2!W23:W27)) -> 0.75467261
A7: C4 moist | B7: =AVERAGE(Tabelle2!F28:F32) -> 7.526 | C7: =STDEV(Tabelle2!F28:F32)/SQRT(COUNT(Tabelle2!F28:F32)) -> 0.068527367 | D7: =AVERAGE(Tabelle2!J28:J32) -> 8.9744143 | E7: =STDEV(Tabelle2!J28:J32)/SQRT(COUNT(Tabelle2!J28:J32)) -> 0.19735945 | F7: =AVERAGE(Tabelle2!N28:N32) -> 1.39925 | G7: =STDEV(Tabelle2!N28:N32)/SQRT(COUNT(Tabelle2!N28:N32)) -> 0.13233756 | H7: =AVERAGE(Tabelle2!R28:R32) -> 1.1639 | I7: =STDEV(Tabelle2!R28:R32)/SQRT(COUNT(Tabelle2!R28:R32)) -> 0.12712537 | J7: =AVERAGE(Tabelle2!V28:V32) -> 0.00405 | K7: =STDEV(Tabelle2!V28:V32)/SQRT(COUNT(Tabelle2!V28:V32)) -> 0.13233756 | L7: =AVERAGE(Tabelle2!W28:W32) -> 2.8323674 | M7: =STDEV(Tabelle2!W28:W32)/SQRT(COUNT(Tabelle2!W28:W32)) -> 0.19735945
A8: C4 moist + fert. | B8: =AVERAGE(Tabelle2!F33:F35) -> 7.3 | C8: =STDEV(Tabelle2!F28:F32)/SQRT(COUNT(Tabelle2!F28:F32)) -> 0.068527367 | D8: =AVERAGE(Tabelle2!J33:J35) -> 8.4344431 | E8: =STDEV(Tabelle2!J28:J32)/SQRT(COUNT(Tabelle2!J28:J32)) -> 0.19735945 | F8: =AVERAGE(Tabelle2!N33:N35) -> 2.1366667 | G8: =STDEV(Tabelle2!N28:N32)/SQRT(COUNT(Tabelle2!N28:N32)) -> 0.13233756 | H8: =AVERAGE(Tabelle2!R33:R35) -> 1.041 | I8: =STDEV(Tabelle2!R28:R32)/SQRT(COUNT(Tabelle2!R28:R32)) -> 0.12712537 | J8: =AVERAGE(Tabelle2!V33:V35) -> 0.74146667 | K8: =STDEV(Tabelle2!V33:V35)/SQRT(COUNT(Tabelle2!V33:V35)) -> 0.050525021 | L8: =AVERAGE(Tabelle2!W33:W35) -> 2.2923962 | M8: =STDEV(Tabelle2!W33:W35)/SQRT(COUNT(Tabelle2!W33:W35)) -> 0.21754356
A9: unplanted | B9: =AVERAGE(Tabelle2!F18:F22) -> 7.284 | C9: =STDEV(Tabelle2!F18:F22)/SQRT(COUNT(Tabelle2!F18:F22)) -> 0.09298387 | D9: =AVERAGE(Tabelle2!J18:J22) -> 6.1420469 | E9: =STDEV(Tabelle2!J18:J22)/SQRT(COUNT(Tabelle2!J18:J22)) -> 0.14232861 | F9: =AVERAGE(Tabelle2!N18:N22) -> 1.3952 | G9: =STDEV(Tabelle2!N18:N22)/SQRT(COUNT(Tabelle2!N18:N22)) -> 0.037573129 | H9: =AVERAGE(Tabelle2!R18:R22) -> 0.7863 | I9: =STDEV(Tabelle2!R18:R22)/SQRT(COUNT(Tabelle2!R18:R22)) -> 0.1141965 | J9: =AVERAGE(Tabelle2!V18:V22) -> 0 | K9: =STDEV(Tabelle2!V18:V22)/SQRT(COUNT(Tabelle2!V18:V22)) -> 0.037573129 | L9: =AVERAGE(Tabelle2!W18:W22) -> -5.3290705e-16 | M9: =STDEV(Tabelle2!W18:W22)/SQRT(COUNT(Tabelle2!W18:W22)) -> 0.14232861

Sheet Tabelle4
A1: ANOVA Isotopes
A3: δ13 C DIC | B3: C3 + drought | C3: sigma | D3: sigma^2 | E3: C3 + OM | F3: sigma | G3: sigma^2 | H3: C4 + drought | I3: sigma | J3: sigma^2 | K3: C4 + OM | L3: sigma | M3: sigma^2 | N3: unplanted | O3: sigma | P3: sigma^2 | Q3: d13 C DOC | R3: C3 + drought | S3: sigma | T3: sigma^2 | U3: C3 + OM | V3: sigma | W3: sigma^2 | X3: C4 + drought | Y3: sigma | Z3: sigma^2 | AA3: C4 + OM | AB3: sigma | AC3: sigma^2 | AD3: unplanted | AE3: sigma | AF3: sigma^2
B4: -15.79 | C4: =B4-B$9 -> -0.054 | D4: =C4^2 -> 0.002916 | E4: -17.97 | F4: =E4-E$9 -> -0.31 | G4: =F4^2 -> 0.0961 | H4: -8.07 | I4: =H4-H$9 -> -0.043333333 | J4: =I4^2 -> 0.0018777778 | K4: -9.12 | L4: =K4-K$9 -> -0.685 | M4: =L4^2 -> 0.469225 | N4: -14.83 | O4: =N4-N$9 -> 1.894 | P4: =O4^2 -> 3.587236 | R4: -29.43 | S4: =R4-R$9 -> 0.076 | T4: =S4^2 -> 0.005776 | U4: -29.4 | V4: =U4-U$9 -> -0.046 | W4: =V4^2 -> 0.002116 | X4: -28.78 | Y4: =X4-X$9 -> -0.056666667 | Z4: =Y4^2 -> 0.0032111111 | AA4: -29.25 | AB4: =AA4-AA$9 -> -0.0625 | AC4: =AB4^2 -> 0.00390625 | AD4: -29.57 | AE4: =AD4-AD$9 -> -0.044 | AF4: =AE4^2 -> 0.001936
B5: -14.82 | C5: =B5-B$9 -> 0.916 | D5: =C5^2 -> 0.839056 | E5: -17.3 | F5: =E5-E$9 -> 0.36 | G5: =F5^2 -> 0.1296 | N5: -17.18 | O5: =N5-N$9 -> -0.456 | P5: =O5^2 -> 0.207936 | R5: -29.56 | S5: =R5-R$9 -> -0.054 | T5: =S5^2 -> 0.002916 | U5: -29.23 | V5: =U5-U$9 -> 0.124 | W5: =V5^2 -> 0.015376 | AD5: -29.59 | AE5: =AD5-AD$9 -> -0.064 | AF5: =AE5^2 -> 0.004096
B6: -15.97 | C6: =B6-B$9 -> -0.234 | D6: =C6^2 -> 0.054756 | E6: -18.32 | F6: =E6-E$9 -> -0.66 | G6: =F6^2 -> 0.4356 | H6: -7.73 | I6: =H6-H$9 -> 0.29666667 | J6: =I6^2 -> 0.088011111 | K6: -7.96 | L6: =K6-K$9 -> 0.475 | M6: =L6^2 -> 0.225625 | N6: -17.01 | O6: =N6-N$9 -> -0.286 | P6: =O6^2 -> 0.081796 | R6: -29.55 | S6: =R6-R$9 -> -0.044 | T6: =S6^2 -> 0.001936 | U6: -29.04 | V6: =U6-U$9 -> 0.314 | W6: =V6^2 -> 0.098596 | X6: -28.81 | Y6: =X6-X$9 -> -0.086666667 | Z6: =Y6^2 -> 0.0075111111 | AA6: -29.16 | AB6: =AA6-AA$9 -> 0.0275 | AC6: =AB6^2 -> 0.00075625 | AD6: -29.53 | AE6: =AD6-AD$9 -> -0.004 | AF6: =AE6^2 -> 1.6e-05
B7: -15.74 | C7: =B7-B$9 -> -0.004 | D7: =C7^2 -> 1.6e-05 | E7: -18.57 | F7: =E7-E$9 -> -0.91 | G7: =F7^2 -> 0.8281 | H7: -8.28 | I7: =H7-H$9 -> -0.25333333 | J7: =I7^2 -> 0.064177778 | K7: -8.31 | L7: =K7-K$9 -> 0.125 | M7: =L7^2 -> 0.015625 | N7: -17.26 | O7: =N7-N$9 -> -0.536 | P7: =O7^2 -> 0.287296 | R7: -29.37 | S7: =R7-R$9 -> 0.136 | T7: =S7^2 -> 0.018496 | U7: -29.61 | V7: =U7-U$9 -> -0.256 | W7: =V7^2 -> 0.065536 | X7: -28.58 | Y7: =X7-X$9 -> 0.14333333 | Z7: =Y7^2 -> 0.020544444 | AA7: -29.09 | AB7: =AA7-AA$9 -> 0.0975 | AC7: =AB7^2 -> 0.00950625 | AD7: -29.46 | AE7: =AD7-AD$9 -> 0.066 | AF7: =AE7^2 -> 0.004356
B8: -16.36 | C8: =B8-B$9 -> -0.624 | D8: =C8^2 -> 0.389376 | E8: -16.14 | F8: =E8-E$9 -> 1.52 | G8: =F8^2 -> 2.3104 | K8: -8.35 | L8: =K8-K$9 -> 0.085 | M8: =L8^2 -> 0.007225 | N8: -17.34 | O8: =N8-N$9 -> -0.616 | P8: =O8^2 -> 0.379456 | R8: -29.62 | S8: =R8-R$9 -> -0.114 | T8: =S8^2 -> 0.012996 | U8: -29.49 | V8: =U8-U$9 -> -0.136 | W8: =V8^2 -> 0.018496 | AA8: -29.25 | AB8: =AA8-AA$9 -> -0.0625 | AC8: =AB8^2 -> 0.00390625 | AD8: -29.48 | AE8: =AD8-AD$9 -> 0.046 | AF8: =AE8^2 -> 0.002116
A9: Average | B9: =AVERAGE(B4:B8) -> -15.736 | E9: =AVERAGE(E4:E8) -> -17.66 | H9: =AVERAGE(H4:H8) -> -8.0266667 | K9: =AVERAGE(K4:K8) -> -8.435 | N9: =AVERAGE(N4:N8) -> -16.724 | R9: =AVERAGE(R4:R8) -> -29.506 | U9: =AVERAGE(U4:U8) -> -29.354 | X9: =AVERAGE(X4:X8) -> -28.723333 | AA9: =AVERAGE(AA4:AA8) -> -29.1875 | AD9: =AVERAGE(AD4:AD8) -> -29.526
A10: STDev | B10: =STDEV(B4:B8) -> 0.56703615 | E10: =STDEV(E4:E8) -> 0.97465378 | H10: =STDEV(H4:H8) -> 0.27754879 | K10: =STDEV(K4:K8) -> 0.48911485 | N10: =STDEV(N4:N8) -> 1.0658002 | R10: =STDEV(R4:R8) -> 0.10261579 | U10: =STDEV(U4:U8) -> 0.22367387 | X10: =STDEV(X4:X8) -> 0.12503333 | AA10: =STDEV(AA4:AA8) -> 0.077620873 | AD10: =STDEV(AD4:AD8) -> 0.055946403
A11: STDerr | B11: =STDEV(B4:B8)/SQRT(COUNT(B4:B8)) -> 0.25358628 | E11: =STDEV(E4:E8)/SQRT(COUNT(E4:E8)) -> 0.43587842 | H11: =STDEV(H4:H8)/SQRT(COUNT(H4:H8)) -> 0.16024287 | K11: =STDEV(K4:K8)/SQRT(COUNT(K4:K8)) -> 0.24455742 | N11: =STDEV(N4:N8)/SQRT(COUNT(N4:N8)) -> 0.47664033 | R11: =STDEV(R4:R8)/SQRT(COUNT(R4:R8)) -> 0.045891176 | U11: =STDEV(U4:U8)/SQRT(COUNT(U4:U8)) -> 0.10003 | X11: =STDEV(X4:X8)/SQRT(COUNT(X4:X8)) -> 0.072188026 | AA11: =STDEV(AA4:AA8)/SQRT(COUNT(AA4:AA8)) -> 0.038810437 | AD11: =STDEV(AD4:AD8)/SQRT(COUNT(AD4:AD8)) -> 0.025019992
A12: Variance | B12: =SUM(D4:D8)/4 -> 0.32153 | E12: =SUM(G4:G8)/4 -> 0.94995 | H12: =SUM(J4:J8)/2 -> 0.077033333 | K12: =SUM(M4:M8)/3 -> 0.23923333 | N12: =SUM(P4:P8)/4 -> 1.13593 | R12: =SUM(T4:T8)/4 -> 0.01053 | U12: =SUM(W4:W8)/4 -> 0.05003 | X12: =SUM(Z4:Z8)/2 -> 0.015633333 | AA12: =SUM(AC4:AC8)/3 -> 0.006025 | AD12: =SUM(AF4:AF8)/4 -> 0.00313
A14: Treatment comparison | F14: F-Wert > critical value: | H14: Significant differences between groups
B15: P-Value | C15: t-test | F15: p value <0.05:
A16: C3 + drought | B16: =SQRT((B12/5)+(R12/5)) -> 0.25770526 | C16: =_xlfn.T.TEST(B24:B28,H24:H28,2,1) -> 6.752271e-07
A17: C3 + OM | B17: =SQRT((E12/5)+(U12/5)) -> 0.44720912 | C17: =_xlfn.T.TEST(C24:C28,I24:I28,2,1) -> 1.4299954e-05 | F17: The F value being larger than the critical value shows that there's evidence of a difference between group means.
A18: C4 + drought | B18: =SQRT((H12/3)+(X12/3)) -> 0.17575235 | C18: =_xlfn.T.TEST(D24:D28,J24:J28,2,1) -> 0.00011844331 | F18: The p-value below 0.05 confirms that this difference is statistically significant, meaning that the likelihood of these differences occurring by chance is very low.
A19: C4 + OM | B19: =SQRT((K12/4)+(AA12/4)) -> 0.24761782 | C19: =_xlfn.T.TEST(E24:E28,K24:K28,2,1) -> 2.8287293e-06
A20: unplanted | B20: =SQRT((N12/5)+(AD12/5)) -> 0.47729655 | C20: =_xlfn.T.TEST(F24:F28,L24:L28,2,1) -> 1.2687442e-05
A23: δ13 C DIC | B23: C3 + drought | C23: C3 + OM | D23: C4 + drought | E23: C4 + OM | F23: unplanted | G23: d13 C DOC | H23: C3 + drought | I23: C3 + OM | J23: C4 + drought | K23: C4 + OM | L23: unplanted
B24: -15.79 | C24: -17.97 | D24: -8.07 | E24: -9.12 | F24: -14.83 | H24: -29.43 | I24: -29.4 | J24: -28.78 | K24: -29.25 | L24: -29.57
B25: -14.82 | C25: -17.3 | F25: -17.18 | H25: -29.56 | I25: -29.23 | L25: -29.59
B26: -15.97 | C26: -18.32 | D26: -7.73 | E26: -7.96 | F26: -17.01 | H26: -29.55 | I26: -29.04 | J26: -28.81 | K26: -29.16 | L26: -29.53
B27: -15.74 | C27: -18.57 | D27: -8.28 | E27: -8.31 | F27: -17.26 | H27: -29.37 | I27: -29.61 | J27: -28.58 | K27: -29.09 | L27: -29.46
B28: -16.36 | C28: -16.14 | E28: -8.35 | F28: -17.34 | H28: -29.62 | I28: -29.49 | K28: -29.25 | L28: -29.48
A30: Anova: Einfaktorielle Varianzanalyse | I30: Anova: Einfaktorielle Varianzanalyse
A32: ZUSAMMENFASSUNG | I32: ZUSAMMENFASSUNG
A33: Gruppen | B33: Anzahl | C33: Summe | D33: Mittelwert | E33: Varianz | I33: Gruppen | J33: Anzahl | K33: Summe | L33: Mittelwert | M33: Varianz
A34: C3 + drought | B34: 5 | C34: -78.68 | D34: -15.736 | E34: 0.32153 | I34: C3 + drought | J34: 5 | K34: -147.53 | L34: -29.506 | M34: 0.01053
A35: C3 + OM | B35: 5 | C35: -88.3 | D35: -17.66 | E35: 0.94995 | I35: C3 + OM | J35: 5 | K35: -146.77 | L35: -29.354 | M35: 0.05003
A36: C4 + drought | B36: 3 | C36: -24.08 | D36: -8.0266667 | E36: 0.077033333 | I36: C4 + drought | J36: 3 | K36: -86.17 | L36: -28.723333 | M36: 0.015633333
A37: C4 + OM | B37: 4 | C37: -33.74 | D37: -8.435 | E37: 0.23923333 | I37: C4 + OM | J37: 4 | K37: -116.75 | L37: -29.1875 | M37: 0.006025
A38: unplanted | B38: 5 | C38: -83.62 | D38: -16.724 | E38: 1.13593 | I38: unplanted | J38: 5 | K38: -147.63 | L38: -29.526 | M38: 0.00313
A41: ANOVA | I41: ANOVA
A42: Streuungsursache | B42: Quadratsummen (SS) | C42: Freiheitsgrade (df) | D42: Mittlere Quadratsumme (MS) | E42: Prüfgröße (F) | F42: P-Wert | G42: kritischer F-Wert | I42: Streuungsursache | J42: Quadratsummen (SS) | K42: Freiheitsgrade (df) | L42: Mittlere Quadratsumme (MS) | M42: Prüfgröße (F) | N42: P-Wert | O42: kritischer F-Wert
A43: Unterschiede zwischen den Gruppen | B43: 350.05838 | C43: 4 | D43: 87.514594 | E43: 141.67132 | F43: 8.1762225e-13 | G43: 2.9647081 | I43: Unterschiede zwischen den Gruppen | J43: 1.5275574 | K43: 4 | L43: 0.38188936 | M43: 21.348515 | N43: 1.9026707e-06 | O43: 2.9647081
A44: Innerhalb der Gruppen | B44: 10.501407 | C44: 17 | D44: 0.6177298 | I44: Innerhalb der Gruppen | J44: 0.30410167 | K44: 17 | L44: 0.017888333
A46: Gesamt | B46: 360.55978 | C46: 21 | I46: Gesamt | J46: 1.8316591 | K46: 21

Sheet Tabelle5
A1: C4
A2: δ13C(DIC calculated) | B2: C3 + drought | C2: C3 + OM | D2: C4 + drought | E2: C4 + OM | F2: unplanted
B3: 0.088658401 | C3: 0.49438492 | D3: 0.20144831 | E3: -0.039521866 | F3: 0.12295986
B4: -0.2121417 | C4: 0.093002508 | E4: 0.29556226 | F4: -1.0761005
B5: -0.20518649 | C5: 0.26097202 | D5: -1.1078415 | E5: -0.29203242 | F5: -0.58205817
B6: 0.42496848 | C6: 0.33601262 | D6: -0.0006285551 | E6: -0.20997915 | F6: -0.84366631
B7: 0.31081588 | C7: 0.15428257 | E7: 0.028904295 | F7: -0.78010645
A9: C3
A10: δ13C(DIC calculated) | B10: C3 + drought | C10: C3 + OM | D10: C4 + drought | E10: C4 + OM | F10: unplanted
B11: -15.911342 | C11: -15.505615 | D11: -15.798552 | E11: -16.039522 | F11: -15.87704
B12: -16.212142 | C12: -15.906997 | E12: -15.704438 | F12: -17.076101
B13: -16.205186 | C13: -15.739028 | D13: -17.107842 | E13: -16.292032 | F13: -16.582058
B14: -15.575032 | C14: -15.663987 | D14: -16.000629 | E14: -16.209979 | F14: -16.843666
B15: -15.689184 | C15: -15.845717 | E15: -15.971096 | F15: -16.780106
A18: Mass balance | B18: C3 + drought | C18: C3 + OM | D18: C4 + drought | E18: C4 + OM | F18: unplanted | H18: Anova: Einfaktorielle Varianzanalyse
A19: % contribution C4 to DIC | B19: 0.758385 | C19: -15.402406 | D19: 48.303448 | E19: 43.247012 | F19: 6.5440009
B20: 8.7008856 | C20: -8.7062657 | F20: -0.64937166 | H20: ZUSAMMENFASSUNG
B21: 1.4699156 | C21: -16.131075 | D21: 58.61151 | E21: 52.075203 | F21: -2.6746364 | H21: Gruppen | I21: Anzahl | J21: Summe | K21: Mittelwert | L21: Varianz
B22: -1.031053 | C22: -18.162579 | D22: 48.253928 | E22: 49.37487 | F22: -2.6020856 | H22: 0.758385 | I22: 4 | J22: 10.170801 | K22: 2.5427003 | L22: 17.334921
B23: -4.1925993 | C23: -1.839266 | E23: 47.631848 | F23: -3.4993347 | H23: 0 | I23: 4 | J23: 0 | K23: 0 | L23: 0
H24: 48.303448 | I24: 2 | J24: 106.86544 | K24: 53.432719 | L24: 53.639743
H25: 43.247012 | I25: 3 | J25: 149.08192 | K25: 49.693973 | L25: 5.0122202
A26: Mass balance | B26: C3 + drought | C26: C3 + OM | D26: C4 + drought | E26: C4 + OM | F26: unplanted | H26: 6.5440009 | I26: 4 | J26: 0 | K26: 0 | L26: 0
A27: % contribution C4 to DIC | B27: 0.758385 | C27: 0 | D27: 48.303448 | E27: 43.247012 | F27: 6.5440009
B28: 8.7008856 | C28: 0 | F28: 0
B29: 1.4699156 | C29: 0 | D29: 58.61151 | E29: 52.075203 | F29: 0 | H29: ANOVA
B30: 0 | C30: 0 | D30: 48.253928 | E30: 49.37487 | F30: 0 | H30: Streuungsursache | I30: Quadratsummen (SS) | J30: Freiheitsgrade (df) | K30: Mittlere Quadratsumme (MS) | L30: Prüfgröße (F) | M30: P-Wert | N30: kritischer F-Wert
B31: 0 | C31: 0 | E31: 47.631848 | F31: 0 | H31: Unterschiede zwischen den Gruppen | I31: 8978.6291 | J31: 4 | K31: 2244.6573 | L31: 232.87052 | M31: 2.9310486e-11 | N31: 3.2591667
H32: Innerhalb der Gruppen | I32: 115.66895 | J32: 12 | K32: 9.6390789
H34: Gesamt | I34: 9094.298 | J34: 16

Sheet Tabelle6
M4: DOC/DIC | R4: DOC/DIC
A5: Batch | B5: Plant Type | C5: Condition | D5: Replicate | E5: DOC (mmol/L) | F5: DIC (mmol/L) | G5: δ13C DOC (‰) | H5: δ13C DIC (‰) | I5: Average DOC | J5: SE | K5: Average DIC | L5: SE | M5: t-test | N5: Average d13DOC | O5: SE | P5: Average d13DIC | Q5: SE | R5: t-test
A6: C3 + drought | B6: C3 | C6: Drought | D6: 1 | E6: 2.002 | F6: 7.918619 | G6: -29.43 | H6: -15.79
B7: C3 | C7: Drought | D7: 2 | E7: 1.981 | F7: 7.0764488 | G7: -29.56 | H7: -14.82
B8: C3 | C8: Drought | D8: 3 | E8: 1.897 | F8: 8.4636252 | G8: -29.55 | H8: -15.97
B9: C3 | C9: Drought | D9: 4 | E9: 1.186 | F9: 6.8865598 | G9: -29.37 | H9: -15.74
B10: C3 | C10: Drought | D10: 5 | E10: 1.609 | F10: 7.3575832 | G10: -29.62 | H10: -16.36 | I10: =AVERAGE(E6:E10) -> 1.735 | J10: =STDEV(E6:E10)/SQRT(COUNT(E6:E10)) -> 0.15416323 | K10: =AVERAGE(F6:F10) -> 7.5405672 | L10: =STDEV(F6:F10)/SQRT(COUNT(F6:F10)) -> 0.28909979 | M10: =_xlfn.T.TEST(E6:E10,F6:F10,2,1) -> 1.609426e-05 | N10: =AVERAGE(G6:G10) -> -29.506 | O10: =STDEV(G6:G10)/SQRT(COUNT(G6:G10)) -> 0.045891176 | P10: =AVERAGE(H6:H10) -> -15.736 | Q10: =STDEV(H6:H10)/SQRT(COUNT(H6:H10)) -> 0.25358628 | R10: =_xlfn.T.TEST(G6:G10,H6:H10,2,1) -> 6.752271e-07
A11: C3 + OM | B11: C3 | C11: Optimum moisture | D11: 1 | E11: 0.85 | F11: 6.9889026 | G11: -29.4 | H11: -17.97
B12: C3 | C12: Optimum moisture | D12: 2 | E12: 0.922 | F12: 6.6362515 | G12: -29.23 | H12: -17.3
B13: C3 | C13: Optimum moisture | D13: 3 | E13: 0.856 | F13: 7.4118372 | G13: -29.04 | H13: -18.32
B14: C3 | C14: Optimum moisture | D14: 4 | E14: 0.871 | F14: 6.9161529 | G14: -29.61 | H14: -18.57
B15: C3 | C15: Optimum moisture | D15: 5 | E15: 1.39 | F15: 6.7632552 | G15: -29.49 | H15: -16.14 | I15: =AVERAGE(E11:E15) -> 0.9778 | J15: =STDEV(E11:E15)/SQRT(COUNT(E11:E15)) -> 0.10382601 | K15: =AVERAGE(F11:F15) -> 6.9432799 | L15: =STDEV(F11:F15)/SQRT(COUNT(F11:F15)) -> 0.13210575 | M15: =_xlfn.T.TEST(E11:E15,F11:F15,2,1) -> 7.5012442e-06 | N15: =AVERAGE(G11:G15) -> -29.354 | O15: =STDEV(G11:G15)/SQRT(COUNT(G11:G15)) -> 0.10003 | P15: =AVERAGE(H11:H15) -> -17.66 | Q15: =STDEV(H11:H15)/SQRT(COUNT(H11:H15)) -> 0.43587842 | R15: =_xlfn.T.TEST(G11:G15,H11:H15,2,1) -> 1.4299954e-05
A16: C4 + drought | B16: C4 | C16: Drought | D16: 1 | E16: 2.014 | F16: 9.4623921 | G16: -28.78 | H16: -8.07
B17: C4 | C17: Drought | D17: 2
B18: C4 | C18: Drought | D18: 3 | E18: 1.973 | F18: 9.5721332 | G18: -28.81 | H18: -7.73
B19: C4 | C19: Drought | D19: 4 | E19: 2.244 | F19: 7.2552404 | G19: -28.58 | H19: -8.28
B20: C4 | C20: Drought | D20: 5 | I20: =AVERAGE(E16:E20) -> 2.077 | J20: =STDEV(E16:E20)/SQRT(COUNT(E16:E20)) -> 0.084334651 | K20: =AVERAGE(F16:F20) -> 8.7632552 | L20: =STDEV(F16:F20)/SQRT(COUNT(F16:F20)) -> 0.75467261 | M20: =_xlfn.T.TEST(E16:E20,F16:F20,2,1) -> 0.015370172 | N20: =AVERAGE(G16:G20) -> -28.723333 | O20: =STDEV(G16:G20)/SQRT(COUNT(G16:G20)) -> 0.072188026 | P20: =AVERAGE(H16:H20) -> -8.0266667 | Q20: =STDEV(H16:H20)/SQRT(COUNT(H16:H20)) -> 0.16024287 | R20: =_xlfn.T.TEST(G16:G20,H16:H20,2,1) -> 0.00011844331
A21: C4 + OM | B21: C4 | C21: Optimum moisture | D21: 1 | E21: 1.082 | F21: 8.9309494 | G21: -29.25 | H21: -9.12
B22: C4 | C22: Optimum moisture | D22: 2
B23: C4 | C23: Optimum moisture | D23: 3 | E23: 1.614 | F23: 8.9913687 | G23: -29.16 | H23: -7.96
B24: C4 | C24: Optimum moisture | D24: 4 | E24: 1.28 | F24: 8.5055487 | G24: -29.09 | H24: -8.31
B25: C4 | C25: Optimum moisture | D25: 5 | E25: 1.621 | F25: 9.4697904 | G25: -29.25 | H25: -8.35 | I25: =AVERAGE(E21:E25) -> 1.39925 | J25: =STDEV(E21:E25)/SQRT(COUNT(E21:E25)) -> 0.13233756 | K25: =AVERAGE(F21:F25) -> 8.9744143 | L25: =STDEV(F21:F25)/SQRT(COUNT(F21:F25)) -> 0.19735945 | M25: =_xlfn.T.TEST(E21:E25,F21:F25,2,1) -> 2.1151535e-05 | N25: =AVERAGE(G21:G25) -> -29.1875 | O25: =STDEV(G21:G25)/SQRT(COUNT(G21:G25)) -> 0.038810437 | P25: =AVERAGE(H21:H25) -> -8.435 | Q25: =STDEV(H21:H25)/SQRT(COUNT(H21:H25)) -> 0.24455742 | R25: =_xlfn.T.TEST(G21:G25,H21:H25,2,1) -> 2.8287293e-06
A26: unplanted | B26: control | C26: control | D26: 1 | E26: 1.336 | F26: 5.865598 | G26: -29.57 | H26: -14.83
B27: control | C27: control | D27: 2 | E27: 1.49 | F27: 6.4093711 | G27: -29.59 | H27: -17.18
B28: control | C28: control | D28: 3 | E28: 1.472 | F28: 6.3637485 | G28: -29.53 | H28: -17.01
B29: control | C29: control | D29: 4 | E29: 1.381 | F29: 6.3403206 | G29: -29.46 | H29: -17.26
B30: control | C30: control | D30: 5 | E30: 1.297 | F30: 5.7311961 | G30: -29.48 | H30: -17.34 | I30: =AVERAGE(E26:E30) -> 1.3952 | J30: =STDEV(E26:E30)/SQRT(COUNT(E26:E30)) -> 0.037573129 | K30: =AVERAGE(F26:F30) -> 6.1420469 | L30: =STDEV(F26:F30)/SQRT(COUNT(F26:F30)) -> 0.14232861 | M30: =_xlfn.T.TEST(E26:E30,F26:F30,2,1) -> 1.7077781e-06 | N30: =AVERAGE(G26:G30) -> -29.526 | O30: =STDEV(G26:G30)/SQRT(COUNT(G26:G30)) -> 0.025019992 | P30: =AVERAGE(H26:H30) -> -16.724 | Q30: =STDEV(H26:H30)/SQRT(COUNT(H26:H30)) -> 0.47664033 | R30: =_xlfn.T.TEST(G26:G30,H26:H30,2,1) -> 1.2687442e-05
