Workbook

Sheet Table 2
B9: BCVA in BSE before anti-VEGF | C9: BCVA in BSE after anti-VEGF | D9: QALYs- | E9: QALYs+ | F9: Difference
F10: ([QALYs+] – [QALYs-])
A11: AMD | B11: 0.5 | C11: 0.47 | D11: ='AMD norm dist'!B92 -> 0.95139203 | E11: ='AMD norm dist'!I92 -> 0.94946048 | F11: TA
A12: DME | B12: 0.5 | C12: 0.57 | D12: ='DME norm dist'!I3 -> 0.75295378 | E12: ='DME norm dist'!R4 -> 0.78002457 | F12: +0.033 (p=0.439)
A13: CRVO | B13: 0.7 | C13: 0.8 | D13: ='CRVO.BRVO'!I14 -> 0.77045714 | E13: ='CRVO.BRVO'!Q14 -> 0.80251429 | F13: +0.032 (p=0.09)

Sheet DME norm dist
A1: Qlys before interventionQALY- | E1: SD increments | F1: MY data | G1: Normalize | J1: Qalys after interventionQALY+ | N1: SD increments | O1: my data | P1: normalize
H2: QALY-
A3: 0.61750278 | B3: =ABS(A3-$I$3) -> 0.135451 | C3: =A3-$I$3 -> -0.135451 | D3: =C3^2 -> 0.018346974 | E3: -3 | F3: =I3-(I6*3) -> -1.6579346 | G3: =_xlfn.NORM.DIST(F3,$I$3,$I$6,FALSE) -> 0.0055147908 | H3: mean | I3: =AVERAGE(A3:A59) -> 0.75295378 | J3: 0.58062222 | K3: =ABS(J3-$R$4) -> 0.19940235 | L3: =J3-$R$4 -> -0.19940235 | M3: =L3^2 -> 0.039761296 | N3: -3 | O3: =R4-(R7*3) -> -1.8499794 | P3: =_xlfn.NORM.DIST(O3,$R$4,$R$7,FALSE) -> 0.0050553327 | Q3: QALY+
A4: 0.200415 | B4: =ABS(A4-$I$3) -> 0.55253878 | C4: =A4-$I$3 -> -0.55253878 | D4: =C4^2 -> 0.30529911 | E4: =E3+0.107 -> -2.893 | F4: =F3+$I$6*0.107 -> -1.5719463 | G4: =_xlfn.NORM.DIST(F4,$I$3,$I$6,FALSE) -> 0.0075587757 | H4: mean deviation | I4: =AVERAGE(B3:B59) -> 0.56495226 | J4: 0.200415 | K4: =ABS(J4-$R$4) -> 0.57960957 | L4: =J4-$R$4 -> -0.57960957 | M4: =L4^2 -> 0.33594725 | N4: =N3+0.107 -> -2.893 | O4: =O3+$R$7*0.107 -> -1.7561759 | P4: =_xlfn.NORM.DIST(O4,$R$4,$R$7,FALSE) -> 0.0069290254 | Q4: meam | R4: =AVERAGE(J3:J59) -> 0.78002457
A5: 1.0941106 | B5: =ABS(A5-$I$3) -> 0.34115677 | C5: =A5-$I$3 -> 0.34115677 | D5: =C5^2 -> 0.11638794 | E5: =E4+0.107 -> -2.786 | F5: =F4+$I$6*0.107 -> -1.4859579 | G5: =_xlfn.NORM.DIST(F5,$I$3,$I$6,FALSE) -> 0.010242398 | H5: variation | I5: =AVERAGE(D3:D59) -> 0.64582032 | J5: 1.0941106 | K5: =ABS(J5-$R$4) -> 0.31408599 | L5: =J5-$R$4 -> 0.31408599 | M5: =L5^2 -> 0.098650007 | N5: =N4+0.107 -> -2.786 | O5: =O4+$R$7*0.107 -> -1.6623725 | P5: =_xlfn.NORM.DIST(O5,$R$4,$R$7,FALSE) -> 0.0093890646 | Q5: mean deviation | R5: =AVERAGE(K3:K59) -> 0.5821223
A6: 0.67834667 | B6: =ABS(A6-$I$3) -> 0.074607115 | C6: =A6-$I$3 -> -0.074607115 | D6: =C6^2 -> 0.0055662216 | E6: =E5+0.107 -> -2.679 | F6: =F5+$I$6*0.107 -> -1.3999696 | G6: =_xlfn.NORM.DIST(F6,$I$3,$I$6,FALSE) -> 0.013720804 | H6: sd | I6: =SQRT(I5) -> 0.80362946 | J6: 0.64011556 | K6: =ABS(J6-$R$4) -> 0.13990901 | L6: =J6-$R$4 -> -0.13990901 | M6: =L6^2 -> 0.019574532 | N6: =N5+0.107 -> -2.679 | O6: =O5+$R$7*0.107 -> -1.568569 | P6: =_xlfn.NORM.DIST(O6,$R$4,$R$7,FALSE) -> 0.012577672 | Q6: variation | R6: =AVERAGE(M3:M59) -> 0.76854677
A7: 1.5383056 | B7: =ABS(A7-$I$3) -> 0.78535177 | C7: =A7-$I$3 -> 0.78535177 | D7: =C7^2 -> 0.61677741 | E7: =E6+0.107 -> -2.572 | F7: =F6+$I$6*0.107 -> -1.3139812 | G7: =_xlfn.NORM.DIST(F7,$I$3,$I$6,FALSE) -> 0.018171269 | J7: 1.1771878 | K7: =ABS(J7-$R$4) -> 0.39716321 | L7: =J7-$R$4 -> 0.39716321 | M7: =L7^2 -> 0.15773861 | N7: =N6+0.107 -> -2.572 | O7: =O6+$R$7*0.107 -> -1.4747655 | P7: =_xlfn.NORM.DIST(O7,$R$4,$R$7,FALSE) -> 0.016657352 | Q7: sd | R7: =SQRT(R6) -> 0.876668
A8: 1.8154667 | B8: =ABS(A8-$I$3) -> 1.0625129 | C8: =A8-$I$3 -> 1.0625129 | D8: =C8^2 -> 1.1289336 | E8: =E7+0.107 -> -2.465 | F8: =F7+$I$6*0.107 -> -1.2279928 | G8: =_xlfn.NORM.DIST(F8,$I$3,$I$6,FALSE) -> 0.02379133 | J8: 1.63096 | K8: =ABS(J8-$R$4) -> 0.85093543 | L8: =J8-$R$4 -> 0.85093543 | M8: =L8^2 -> 0.72409111 | N8: =N7+0.107 -> -2.465 | O8: =O7+$R$7*0.107 -> -1.380962 | P8: =_xlfn.NORM.DIST(O8,$R$4,$R$7,FALSE) -> 0.021809184
A9: 0.209035 | B9: =ABS(A9-$I$3) -> 0.54391878 | C9: =A9-$I$3 -> -0.54391878 | D9: =C9^2 -> 0.29584764 | E9: =E8+0.107 -> -2.358 | F9: =F8+$I$6*0.107 -> -1.1420045 | G9: =_xlfn.NORM.DIST(F9,$I$3,$I$6,FALSE) -> 0.030794981 | J9: 0.17880333 | K9: =ABS(J9-$R$4) -> 0.60122124 | L9: =J9-$R$4 -> -0.60122124 | M9: =L9^2 -> 0.36146697 | N9: =N8+0.107 -> -2.358 | O9: =O8+$R$7*0.107 -> -1.2871586 | P9: =_xlfn.NORM.DIST(O9,$R$4,$R$7,FALSE) -> 0.028229335
A10: 0.43617778 | B10: =ABS(A10-$I$3) -> 0.316776 | C10: =A10-$I$3 -> -0.316776 | D10: =C10^2 -> 0.10034704 | E10: =E9+0.107 -> -2.251 | F10: =F9+$I$6*0.107 -> -1.0560161 | G10: =_xlfn.NORM.DIST(F10,$I$3,$I$6,FALSE) -> 0.039406597 | J10: 0.33145778 | K10: =ABS(J10-$R$4) -> 0.44856679 | L10: =J10-$R$4 -> -0.44856679 | M10: =L10^2 -> 0.20121217 | N10: =N9+0.107 -> -2.251 | O10: =O9+$R$7*0.107 -> -1.1933551 | P10: =_xlfn.NORM.DIST(O10,$R$4,$R$7,FALSE) -> 0.036123484
A11: 0.15188333 | B11: =ABS(A11-$I$3) -> 0.60107045 | C11: =A11-$I$3 -> -0.60107045 | D11: =C11^2 -> 0.36128568 | E11: =E10+0.107 -> -2.144 | F11: =F10+$I$6*0.107 -> -0.97002779 | G11: =_xlfn.NORM.DIST(F11,$I$3,$I$6,FALSE) -> 0.049852355 | J11: 0.11136667 | K11: =ABS(J11-$R$4) -> 0.6686579 | L11: =J11-$R$4 -> -0.6686579 | M11: =L11^2 -> 0.44710339 | N11: =N10+0.107 -> -2.144 | O11: =O10+$R$7*0.107 -> -1.0995516 | P11: =_xlfn.NORM.DIST(O11,$R$4,$R$7,FALSE) -> 0.045698966
A12: 0.2757 | B12: =ABS(A12-$I$3) -> 0.47725378 | C12: =A12-$I$3 -> -0.47725378 | D12: =C12^2 -> 0.22777117 | E12: =E11+0.107 -> -2.037 | F12: =F11+$I$6*0.107 -> -0.88403944 | G12: =_xlfn.NORM.DIST(F12,$I$3,$I$6,FALSE) -> 0.062349099 | J12: 0.3131 | K12: =ABS(J12-$R$4) -> 0.46692457 | L12: =J12-$R$4 -> -0.46692457 | M12: =L12^2 -> 0.21801855 | N12: =N11+0.107 -> -2.037 | O12: =O11+$R$7*0.107 -> -1.0057481 | P12: =_xlfn.NORM.DIST(O12,$R$4,$R$7,FALSE) -> 0.05715456
A13: 0.66446778 | B13: =ABS(A13-$I$3) -> 0.088486004 | C13: =A13-$I$3 -> -0.088486004 | D13: =C13^2 -> 0.0078297729 | E13: =E12+0.107 -> -1.93 | F13: =F12+$I$6*0.107 -> -0.79805108 | G13: =_xlfn.NORM.DIST(F13,$I$3,$I$6,FALSE) -> 0.077090783 | J13: 0.70415333 | K13: =ABS(J13-$R$4) -> 0.075871236 | L13: =J13-$R$4 -> -0.075871236 | M13: =L13^2 -> 0.0057564444 | N13: =N12+0.107 -> -1.93 | O13: =O12+$R$7*0.107 -> -0.91194466 | P13: =_xlfn.NORM.DIST(O13,$R$4,$R$7,FALSE) -> 0.070668058
A14: 0.28446 | B14: =ABS(A14-$I$3) -> 0.46849378 | C14: =A14-$I$3 -> -0.46849378 | D14: =C14^2 -> 0.21948642 | E14: =E13+0.107 -> -1.823 | F14: =F13+$I$6*0.107 -> -0.71206273 | G14: =_xlfn.NORM.DIST(F14,$I$3,$I$6,FALSE) -> 0.094232886 | J14: 0.28446 | K14: =ABS(J14-$R$4) -> 0.49556457 | L14: =J14-$R$4 -> -0.49556457 | M14: =L14^2 -> 0.24558424 | N14: =N13+0.107 -> -1.823 | O14: =O13+$R$7*0.107 -> -0.81814119 | P14: =_xlfn.NORM.DIST(O14,$R$4,$R$7,FALSE) -> 0.086381987
A15: 2.2393056 | B15: =ABS(A15-$I$3) -> 1.4863518 | C15: =A15-$I$3 -> 1.4863518 | D15: =C15^2 -> 2.2092416 | E15: =E14+0.107 -> -1.716 | F15: =F14+$I$6*0.107 -> -0.62607438 | G15: =_xlfn.NORM.DIST(F15,$I$3,$I$6,FALSE) -> 0.1138755 | J15: 2.2393056 | K15: =ABS(J15-$R$4) -> 1.459281 | L15: =J15-$R$4 -> 1.459281 | M15: =L15^2 -> 2.129501 | N15: =N14+0.107 -> -1.716 | O15: =O14+$R$7*0.107 -> -0.72433771 | P15: =_xlfn.NORM.DIST(O15,$R$4,$R$7,FALSE) -> 0.1043881
A16: 0.52992 | B16: =ABS(A16-$I$3) -> 0.22303378 | C16: =A16-$I$3 -> -0.22303378 | D16: =C16^2 -> 0.049744068 | E16: =E15+0.107 -> -1.609 | F16: =F15+$I$6*0.107 -> -0.54008603 | G16: =_xlfn.NORM.DIST(F16,$I$3,$I$6,FALSE) -> 0.13604602 | J16: 0.482796 | K16: =ABS(J16-$R$4) -> 0.29722857 | L16: =J16-$R$4 -> -0.29722857 | M16: =L16^2 -> 0.088344822 | N16: =N15+0.107 -> -1.609 | O16: =O15+$R$7*0.107 -> -0.63053423 | P16: =_xlfn.NORM.DIST(O16,$R$4,$R$7,FALSE) -> 0.12471151
A17: 0.12462222 | B17: =ABS(A17-$I$3) -> 0.62833156 | C17: =A17-$I$3 -> -0.62833156 | D17: =C17^2 -> 0.39480055 | E17: =E16+0.107 -> -1.502 | F17: =F16+$I$6*0.107 -> -0.45409767 | G17: =_xlfn.NORM.DIST(F17,$I$3,$I$6,FALSE) -> 0.16068272 | J17: 0.098026667 | K17: =ABS(J17-$R$4) -> 0.6819979 | L17: =J17-$R$4 -> -0.6819979 | M17: =L17^2 -> 0.46512114 | N17: =N16+0.107 -> -1.502 | O17: =O16+$R$7*0.107 -> -0.53673076 | P17: =_xlfn.NORM.DIST(O17,$R$4,$R$7,FALSE) -> 0.14729563
A18: 2.80371 | B18: =ABS(A18-$I$3) -> 2.0507562 | C18: =A18-$I$3 -> 2.0507562 | D18: =C18^2 -> 4.2056011 | E18: =E17+0.107 -> -1.395 | F18: =F17+$I$6*0.107 -> -0.36810932 | G18: =_xlfn.NORM.DIST(F18,$I$3,$I$6,FALSE) -> 0.18762049 | J18: 2.645695 | K18: =ABS(J18-$R$4) -> 1.8656704 | L18: =J18-$R$4 -> 1.8656704 | M18: =L18^2 -> 3.4807262 | N18: =N17+0.107 -> -1.395 | O18: =O17+$R$7*0.107 -> -0.44292728 | P18: =_xlfn.NORM.DIST(O18,$R$4,$R$7,FALSE) -> 0.17198911
A19: 4.3702044 | B19: =ABS(A19-$I$3) -> 3.6172507 | C19: =A19-$I$3 -> 3.6172507 | D19: =C19^2 -> 13.084502 | E19: =E18+0.107 -> -1.288 | F19: =F18+$I$6*0.107 -> -0.28212097 | G19: =_xlfn.NORM.DIST(F19,$I$3,$I$6,FALSE) -> 0.21658038 | J19: 5.4805689 | K19: =ABS(J19-$R$4) -> 4.7005443 | L19: =J19-$R$4 -> 4.7005443 | M19: =L19^2 -> 22.095117 | N19: =N18+0.107 -> -1.288 | O19: =O18+$R$7*0.107 -> -0.34912381 | P19: =_xlfn.NORM.DIST(O19,$R$4,$R$7,FALSE) -> 0.19853624
... A59: 0.12086667 | B59: =ABS(A59-$I$3) -> 0.63208712 | C59: =A59-$I$3 -> -0.63208712 | D59: =C59^2 -> 0.39953412 | E59: =E58+0.107 -> 2.992 | F59: =F58+$I$6*0.107 -> 3.1574131 | G59: =_xlfn.NORM.DIST(F59,$I$3,$I$6,FALSE) -> 0.0056485661 | J59: 0.33145778 | K59: =ABS(J59-$R$4) -> 0.44856679 | L59: =J59-$R$4 -> -0.44856679 | M59: =L59^2 -> 0.20121217 | N59: =N58+0.107 -> 2.992 | O59: =O58+$R$7*0.107 -> 3.4030152 | P59: =_xlfn.NORM.DIST(O59,$R$4,$R$7,FALSE) -> 0.0051779627
A65: QALY- | E65: QALY+
A66: mean | B66: =AVERAGE(A3:A59) -> 0.75295378 | E66: mean | F66: =AVERAGE(J3:J59) -> 0.78002457
A67: mean deviation | B67: =AVERAGE(B3:B59) -> 0.56495226 | E67: mean deviation | F67: =AVERAGE(K3:K59) -> 0.5821223
A68: variation | B68: =AVERAGE(D3:D59) -> 0.64582032 | E68: variation | F68: =AVERAGE(M3:M59) -> 0.76854677
A69: sd | B69: =SQRT(B68) -> 0.80362946 | E69: sd | F69: =SQRT(F68) -> 0.876668

Sheet DME Ttest
A1: Qlys before interventionQALY- | B1: Qalys after interventionQALY+ | C1: Gain of QALY | G1: SD increments | H1: my data | I1: normalize | M1: meam | N1: =AVERAGE(C3:C59) -> -0.0036444951
M2: mean deviation | N2: =AVERAGE(D3:D59) -> 0.077265706
A3: 0.61750278 | B3: 0.58062222 | C3: =B3-A3 -> -0.036880556 | D3: =ABS(C3-$N$1) -> 0.03323606 | E3: =C3-$N$1 -> -0.03323606 | F3: =E3^2 -> 0.0011046357 | G3: -3 | H3: =N1-N4*3 -> -0.53913497 | I3: =_xlfn.NORM.DIST(H3,$N$1,$N$4,FALSE) -> 0.024828724 | M3: variation | N3: =AVERAGE(F3:F59) -> 0.031861117
A4: 0.200415 | B4: 0.200415 | C4: =B4-A4 -> 0 | D4: =ABS(C4-$N$1) -> 0.0036444951 | E4: =C4-$N$1 -> 0.0036444951 | F4: =E4^2 -> 1.3282345e-05 | G4: =G3+0.107 -> -2.893 | H4: =H3+$N$4*0.107 -> -0.52003581 | I4: =_xlfn.NORM.DIST(H4,$N$1,$N$4,FALSE) -> 0.034031164 | K4: ttest= | L4: =_xlfn.T.TEST(A3:A59,B3:B59,1,1) -> 0.43955572 | M4: sd | N4: =SQRT(N3) -> 0.17849683
A5: 1.0941106 | B5: 1.0941106 | C5: =B5-A5 -> 0 | D5: =ABS(C5-$N$1) -> 0.0036444951 | E5: =C5-$N$1 -> 0.0036444951 | F5: =E5^2 -> 1.3282345e-05 | G5: =G4+0.107 -> -2.786 | H5: =H4+$N$4*0.107 -> -0.50093665 | I5: =_xlfn.NORM.DIST(H5,$N$1,$N$4,FALSE) -> 0.046113383
A6: 0.67834667 | B6: 0.64011556 | C6: =B6-A6 -> -0.038231111 | D6: =ABS(C6-$N$1) -> 0.034586616 | E6: =C6-$N$1 -> -0.034586616 | F6: =E6^2 -> 0.001196234 | G6: =G5+0.107 -> -2.679 | H6: =H5+$N$4*0.107 -> -0.48183749 | I6: =_xlfn.NORM.DIST(H6,$N$1,$N$4,FALSE) -> 0.061773885
A7: 1.5383056 | B7: 1.1771878 | C7: =B7-A7 -> -0.36111778 | D7: =ABS(C7-$N$1) -> 0.35747328 | E7: =C7-$N$1 -> -0.35747328 | F7: =E7^2 -> 0.12778715 | G7: =G6+0.107 -> -2.572 | H7: =H6+$N$4*0.107 -> -0.46273833 | I7: =_xlfn.NORM.DIST(H7,$N$1,$N$4,FALSE) -> 0.081810795
A8: 1.8154667 | B8: 1.63096 | C8: =B8-A8 -> -0.18450667 | D8: =ABS(C8-$N$1) -> 0.18086217 | E8: =C8-$N$1 -> -0.18086217 | F8: =E8^2 -> 0.032711125 | G8: =G7+0.107 -> -2.465 | H8: =H7+$N$4*0.107 -> -0.44363917 | I8: =_xlfn.NORM.DIST(H8,$N$1,$N$4,FALSE) -> 0.10711347
A9: 0.209035 | B9: 0.17880333 | C9: =B9-A9 -> -0.030231667 | D9: =ABS(C9-$N$1) -> 0.026587172 | E9: =C9-$N$1 -> -0.026587172 | F9: =E9^2 -> 0.00070687769 | G9: =G8+0.107 -> -2.358 | H9: =H8+$N$4*0.107 -> -0.42454001 | I9: =_xlfn.NORM.DIST(H9,$N$1,$N$4,FALSE) -> 0.13864535
A10: 0.43617778 | B10: 0.33145778 | C10: =B10-A10 -> -0.10472 | D10: =ABS(C10-$N$1) -> 0.1010755 | E10: =C10-$N$1 -> -0.1010755 | F10: =E10^2 -> 0.010216258 | G10: =G9+0.107 -> -2.251 | H10: =H9+$N$4*0.107 -> -0.40544085 | I10: =_xlfn.NORM.DIST(H10,$N$1,$N$4,FALSE) -> 0.17741661
A11: 0.15188333 | B11: 0.11136667 | C11: =B11-A11 -> -0.040516667 | D11: =ABS(C11-$N$1) -> 0.036872172 | E11: =C11-$N$1 -> -0.036872172 | F11: =E11^2 -> 0.001359557 | G11: =G10+0.107 -> -2.144 | H11: =H10+$N$4*0.107 -> -0.38634169 | I11: =_xlfn.NORM.DIST(H11,$N$1,$N$4,FALSE) -> 0.22444556
A12: 0.2757 | B12: 0.3131 | C12: =B12-A12 -> 0.0374 | D12: =ABS(C12-$N$1) -> 0.041044495 | E12: =C12-$N$1 -> 0.041044495 | F12: =E12^2 -> 0.0016846506 | G12: =G11+0.107 -> -2.037 | H12: =H11+$N$4*0.107 -> -0.36724253 | I12: =_xlfn.NORM.DIST(H12,$N$1,$N$4,FALSE) -> 0.28070848
A13: 0.66446778 | B13: 0.70415333 | C13: =B13-A13 -> 0.039685556 | D13: =ABS(C13-$N$1) -> 0.043330051 | E13: =C13-$N$1 -> 0.043330051 | F13: =E13^2 -> 0.0018774933 | G13: =G12+0.107 -> -1.93 | H13: =H12+$N$4*0.107 -> -0.34814337 | I13: =_xlfn.NORM.DIST(H13,$N$1,$N$4,FALSE) -> 0.34707858
A14: 0.28446 | B14: 0.28446 | C14: =B14-A14 -> 0 | D14: =ABS(C14-$N$1) -> 0.0036444951 | E14: =C14-$N$1 -> 0.0036444951 | F14: =E14^2 -> 1.3282345e-05 | G14: =G13+0.107 -> -1.823 | H14: =H13+$N$4*0.107 -> -0.32904421 | I14: =_xlfn.NORM.DIST(H14,$N$1,$N$4,FALSE) -> 0.42425586
A15: 2.2393056 | B15: 2.2393056 | C15: =B15-A15 -> 0 | D15: =ABS(C15-$N$1) -> 0.0036444951 | E15: =C15-$N$1 -> 0.0036444951 | F15: =E15^2 -> 1.3282345e-05 | G15: =G14+0.107 -> -1.716 | H15: =H14+$N$4*0.107 -> -0.30994505 | I15: =_xlfn.NORM.DIST(H15,$N$1,$N$4,FALSE) -> 0.51269094
A16: 0.52992 | B16: 0.482796 | C16: =B16-A16 -> -0.047124 | D16: =ABS(C16-$N$1) -> 0.043479505 | E16: =C16-$N$1 -> -0.043479505 | F16: =E16^2 -> 0.0018904673 | G16: =G15+0.107 -> -1.609 | H16: =H15+$N$4*0.107 -> -0.29084589 | I16: =_xlfn.NORM.DIST(H16,$N$1,$N$4,FALSE) -> 0.6125072
... A59: 0.12086667 | B59: 0.11577611 | C59: =B59-A59 -> -0.0050905556 | D59: =ABS(C59-$N$1) -> 0.0014460604 | E59: =C59-$N$1 -> -0.0014460604 | F59: =E59^2 -> 2.0910908e-06 | G59: =G58+0.107 -> 2.992 | H59: =H58+$N$4*0.107 -> 0.53041801 | I59: =_xlfn.NORM.DIST(H59,$N$1,$N$4,FALSE) -> 0.025431008

Sheet AMD norm dist
A1: QALY- | E1: SD increments | F1: MY data | G1: Normalize | H1: QALY+ | L1: SD increments | M1: MY data | N1: Normalize
A2: 1.2524 | B2: =ABS(A2-$B$92) -> 0.30100797 | C2: =A2-$B$92 -> 0.30100797 | D2: =C2^2 -> 0.090605801 | E2: -3 | F2: =B92-B95*3 -> -1.6762998 | G2: =_xlfn.NORM.DIST(F2,$B$92,$B$95,FALSE) -> 0.005059781 | H2: 1.1028 | I2: =ABS(H2-$I$92) -> 0.15333952 | J2: =H2-$I$92 -> 0.15333952 | K2: =J2^2 -> 0.023513008 | L2: -3 | M2: =I92-I95*3 -> -1.5894363 | N2: =_xlfn.NORM.DIST(M2,$I$92,$I$95,FALSE) -> 0.0052367411
A3: 0.21265 | B3: =ABS(A3-$B$92) -> 0.73874203 | C3: =A3-$B$92 -> -0.73874203 | D3: =C3^2 -> 0.54573978 | E3: =E2+0.0759 -> -2.9241 | F3: =F2+$B$95*0.0759 -> -1.6098192 | G3: =_xlfn.NORM.DIST(F3,$B$92,$B$95,FALSE) -> 0.0063353357 | H3: 0.2033 | I3: =ABS(H3-$I$92) -> 0.74616048 | J3: =H3-$I$92 -> -0.74616048 | K3: =J3^2 -> 0.55675546 | L3: =L2+0.0759 -> -2.9241 | M3: =M2+$I$95*0.0759 -> -1.5252022 | N3: =_xlfn.NORM.DIST(M3,$I$92,$I$95,FALSE) -> 0.0065569069
A4: 2.9536 | B4: =ABS(A4-$B$92) -> 2.002208 | C4: =A4-$B$92 -> 2.002208 | D4: =C4^2 -> 4.0088368 | E4: =E3+0.0759 -> -2.8482 | F4: =F3+$B$95*0.0759 -> -1.5433386 | G4: =_xlfn.NORM.DIST(F4,$B$92,$B$95,FALSE) -> 0.0078868876 | H4: 2.6544 | I4: =ABS(H4-$I$92) -> 1.7049395 | J4: =H4-$I$92 -> 1.7049395 | K4: =J4^2 -> 2.9068188 | L4: =L3+0.0759 -> -2.8482 | M4: =M3+$I$95*0.0759 -> -1.4609681 | N4: =_xlfn.NORM.DIST(M4,$I$92,$I$95,FALSE) -> 0.0081627226
A5: 0.701 | B5: =ABS(A5-$B$92) -> 0.25039203 | C5: =A5-$B$92 -> -0.25039203 | D5: =C5^2 -> 0.062696166 | E5: =E4+0.0759 -> -2.7723 | F5: =F4+$B$95*0.0759 -> -1.476858 | G5: =_xlfn.NORM.DIST(F5,$B$92,$B$95,FALSE) -> 0.0097620221 | H5: 0.701 | I5: =ABS(H5-$I$92) -> 0.24846048 | J5: =H5-$I$92 -> -0.24846048 | K5: =J5^2 -> 0.061732611 | L5: =L4+0.0759 -> -2.7723 | M5: =M4+$I$95*0.0759 -> -1.396734 | N5: =_xlfn.NORM.DIST(M5,$I$92,$I$95,FALSE) -> 0.010103438
A6: 0.6262 | B6: =ABS(A6-$B$92) -> 0.32519203 | C6: =A6-$B$92 -> -0.32519203 | D6: =C6^2 -> 0.10574985 | E6: =E5+0.0759 -> -2.6964 | F6: =F5+$B$95*0.0759 -> -1.4103774 | G6: =_xlfn.NORM.DIST(F6,$B$92,$B$95,FALSE) -> 0.012013569 | H6: 0.6262 | I6: =ABS(H6-$I$92) -> 0.32326048 | J6: =H6-$I$92 -> -0.32326048 | K6: =J6^2 -> 0.10449734 | L6: =L5+0.0759 -> -2.6964 | M6: =M5+$I$95*0.0759 -> -1.3325 | N6: =_xlfn.NORM.DIST(M6,$I$92,$I$95,FALSE) -> 0.01243373
A7: 0.16542 | B7: =ABS(A7-$B$92) -> 0.78597203 | C7: =A7-$B$92 -> -0.78597203 | D7: =C7^2 -> 0.61775202 | E7: =E6+0.0759 -> -2.6205 | F7: =F6+$B$95*0.0759 -> -1.3438968 | G7: =_xlfn.NORM.DIST(F7,$B$92,$B$95,FALSE) -> 0.014699494 | H7: 0.19908 | I7: =ABS(H7-$I$92) -> 0.75038048 | J7: =H7-$I$92 -> -0.75038048 | K7: =J7^2 -> 0.56307087 | L7: =L6+0.0759 -> -2.6205 | M7: =M6+$I$95*0.0759 -> -1.2682659 | N7: =_xlfn.NORM.DIST(M7,$I$92,$I$95,FALSE) -> 0.015213592
A8: 0.8832 | B8: =ABS(A8-$B$92) -> 0.068192025 | C8: =A8-$B$92 -> -0.068192025 | D8: =C8^2 -> 0.0046501523 | E8: =E7+0.0759 -> -2.5446 | F8: =F7+$B$95*0.0759 -> -1.2774162 | G8: =_xlfn.NORM.DIST(F8,$B$92,$B$95,FALSE) -> 0.017882608 | H8: 0.79905 | I8: =ABS(H8-$I$92) -> 0.15041048 | J8: =H8-$I$92 -> -0.15041048 | K8: =J8^2 -> 0.022623313 | L8: =L7+0.0759 -> -2.5446 | M8: =M7+$I$95*0.0759 -> -1.2040318 | N8: =_xlfn.NORM.DIST(M8,$I$92,$I$95,FALSE) -> 0.018508032
A9: 1.9908 | B9: =ABS(A9-$B$92) -> 1.039408 | C9: =A9-$B$92 -> 1.039408 | D9: =C9^2 -> 1.0803689 | E9: =E8+0.0759 -> -2.4687 | F9: =F8+$B$95*0.0759 -> -1.2109356 | G9: =_xlfn.NORM.DIST(F9,$B$92,$B$95,FALSE) -> 0.021630046 | H9: 2.103 | I9: =ABS(H9-$I$92) -> 1.1535395 | J9: =H9-$I$92 -> 1.1535395 | K9: =J9^2 -> 1.3306534 | L9: =L8+0.0759 -> -2.4687 | M9: =M8+$I$95*0.0759 -> -1.1397977 | N9: =_xlfn.NORM.DIST(M9,$I$92,$I$95,FALSE) -> 0.022386532
A10: 2.6544 | B10: =ABS(A10-$B$92) -> 1.703008 | C10: =A10-$B$92 -> 1.703008 | D10: =C10^2 -> 2.9002362 | E10: =E9+0.0759 -> -2.3928 | F10: =F9+$B$95*0.0759 -> -1.144455 | G10: =_xlfn.NORM.DIST(F10,$B$92,$B$95,FALSE) -> 0.026012503 | H10: 3.1032 | I10: =ABS(H10-$I$92) -> 2.1537395 | J10: =H10-$I$92 -> 2.1537395 | K10: =J10^2 -> 4.6385939 | L10: =L9+0.0759 -> -2.3928 | M10: =M9+$I$95*0.0759 -> -1.0755636 | N10: =_xlfn.NORM.DIST(M10,$I$92,$I$95,FALSE) -> 0.02692226
A11: 1.332 | B11: =ABS(A11-$B$92) -> 0.38060797 | C11: =A11-$B$92 -> 0.38060797 | D11: =C11^2 -> 0.14486243 | E11: =E10+0.0759 -> -2.3169 | F11: =F10+$B$95*0.0759 -> -1.0779744 | G11: =_xlfn.NORM.DIST(F11,$B$92,$B$95,FALSE) -> 0.031103191 | H11: 1.332 | I11: =ABS(H11-$I$92) -> 0.38253952 | J11: =H11-$I$92 -> 0.38253952 | K11: =J11^2 -> 0.14633648 | L11: =L10+0.0759 -> -2.3169 | M11: =M10+$I$95*0.0759 -> -1.0113295 | N11: =_xlfn.NORM.DIST(M11,$I$92,$I$95,FALSE) -> 0.032190989 | P11: ttest | Q11: =TTEST(A2:A81,H2:H81,1,1) -> 0.44875027
A12: 0.15655 | B12: =ABS(A12-$B$92) -> 0.79484203 | C12: =A12-$B$92 -> -0.79484203 | D12: =C12^2 -> 0.63177385 | E12: =E11+0.0759 -> -2.241 | F12: =F11+$B$95*0.0759 -> -1.0114938 | G12: =_xlfn.NORM.DIST(F12,$B$92,$B$95,FALSE) -> 0.036976505 | H12: 0.15655 | I12: =ABS(H12-$I$92) -> 0.79291048 | J12: =H12-$I$92 -> -0.79291048 | K12: =J12^2 -> 0.62870703 | L12: =L11+0.0759 -> -2.241 | M12: =M11+$I$95*0.0759 -> -0.94709542 | N12: =_xlfn.NORM.DIST(M12,$I$92,$I$95,FALSE) -> 0.038269716
A13: 1.3272 | B13: =ABS(A13-$B$92) -> 0.37580797 | C13: =A13-$B$92 -> 0.37580797 | D13: =C13^2 -> 0.14123163 | E13: =E12+0.0759 -> -2.1651 | F13: =F12+$B$95*0.0759 -> -0.94501316 | G13: =_xlfn.NORM.DIST(F13,$B$92,$B$95,FALSE) -> 0.043706385 | H13: 1.4768 | I13: =ABS(H13-$I$92) -> 0.52733952 | J13: =H13-$I$92 -> 0.52733952 | K13: =J13^2 -> 0.27808697 | L13: =L12+0.0759 -> -2.1651 | M13: =M12+$I$95*0.0759 -> -0.88286133 | N13: =_xlfn.NORM.DIST(M13,$I$92,$I$95,FALSE) -> 0.045234966
A14: 0.2944 | B14: =ABS(A14-$B$92) -> 0.65699203 | C14: =A14-$B$92 -> -0.65699203 | D14: =C14^2 -> 0.43163852 | E14: =E13+0.0759 -> -2.0892 | F14: =F13+$B$95*0.0759 -> -0.87853256 | G14: =_xlfn.NORM.DIST(F14,$B$92,$B$95,FALSE) -> 0.051364378 | H14: 0.2757 | I14: =ABS(H14-$I$92) -> 0.67376048 | J14: =H14-$I$92 -> -0.67376048 | K14: =J14^2 -> 0.45395319 | L14: =L13+0.0759 -> -2.0892 | M14: =M13+$I$95*0.0759 -> -0.81862724 | N14: =_xlfn.NORM.DIST(M14,$I$92,$I$95,FALSE) -> 0.053160788
A15: 2.4396 | B15: =ABS(A15-$B$92) -> 1.488208 | C15: =A15-$B$92 -> 1.488208 | D15: =C15^2 -> 2.214763 | E15: =E14+0.0759 -> -2.0133 | F15: =F14+$B$95*0.0759 -> -0.81205196 | G15: =_xlfn.NORM.DIST(F15,$B$92,$B$95,FALSE) -> 0.060017415 | H15: 2.4396 | I15: =ABS(H15-$I$92) -> 1.4901395 | J15: =H15-$I$92 -> 1.4901395 | K15: =J15^2 -> 2.2205158 | L15: =L14+0.0759 -> -2.0133 | M15: =M14+$I$95*0.0759 -> -0.75439315 | N15: =_xlfn.NORM.DIST(M15,$I$92,$I$95,FALSE) -> 0.062116456
A16: 0.14208 | B16: =ABS(A16-$B$92) -> 0.80931203 | C16: =A16-$B$92 -> -0.80931203 | D16: =C16^2 -> 0.65498595 | E16: =E15+0.0759 -> -1.9374 | F16: =F15+$B$95*0.0759 -> -0.74557135 | G16: =_xlfn.NORM.DIST(F16,$B$92,$B$95,FALSE) -> 0.069725341 | H16: 0.14208 | I16: =ABS(H16-$I$92) -> 0.80738048 | J16: =H16-$I$92 -> -0.80738048 | K16: =J16^2 -> 0.65186324 | L16: =L15+0.0759 -> -1.9374 | M16: =M15+$I$95*0.0759 -> -0.69015906 | N16: =_xlfn.NORM.DIST(M16,$I$92,$I$95,FALSE) -> 0.072163906
A17: 0.46266 | B17: =ABS(A17-$B$92) -> 0.48873203 | C17: =A17-$B$92 -> -0.48873203 | D17: =C17^2 -> 0.23885899 | E17: =E16+0.0759 -> -1.8615 | F17: =F16+$B$95*0.0759 -> -0.67909075 | G17: =_xlfn.NORM.DIST(F17,$B$92,$B$95,FALSE) -> 0.080538238 | H17: 0.46266 | I17: =ABS(H17-$I$92) -> 0.48680048 | J17: =H17-$I$92 -> -0.48680048 | K17: =J17^2 -> 0.23697471 | L17: =L16+0.0759 -> -1.8615 | M17: =M16+$I$95*0.0759 -> -0.62592498 | N17: =_xlfn.NORM.DIST(M17,$I$92,$I$95,FALSE) -> 0.083354972
A18: 0.1472 | B18: =ABS(A18-$B$92) -> 0.80419203 | C18: =A18-$B$92 -> -0.80419203 | D18: =C18^2 -> 0.64672481 | E18: =E17+0.0759 -> -1.7856 | F18: =F17+$B$95*0.0759 -> -0.61261015 | G18: =_xlfn.NORM.DIST(F18,$B$92,$B$95,FALSE) -> 0.092493607 | H18: 0.13785 | I18: =ABS(H18-$I$92) -> 0.81161048 | J18: =H18-$I$92 -> -0.81161048 | K18: =J18^2 -> 0.65871157 | L18: =L17+0.0759 -> -1.7856 | M18: =M17+$I$95*0.0759 -> -0.56169089 | N18: =_xlfn.NORM.DIST(M18,$I$92,$I$95,FALSE) -> 0.095728466
A19: 0.23133 | B19: =ABS(A19-$B$92) -> 0.72006203 | C19: =A19-$B$92 -> -0.72006203 | D19: =C19^2 -> 0.51848932 | E19: =E18+0.0759 -> -1.7097 | F19: =F18+$B$95*0.0759 -> -0.54612954 | G19: =_xlfn.NORM.DIST(F19,$B$92,$B$95,FALSE) -> 0.1056135 | H19: 0.23133 | I19: =ABS(H19-$I$92) -> 0.71813048 | J19: =H19-$I$92 -> -0.71813048 | K19: =J19^2 -> 0.51571139 | L19: =L18+0.0759 -> -1.7097 | M19: =M18+$I$95*0.0759 -> -0.4974568 | N19: =_xlfn.NORM.DIST(M19,$I$92,$I$95,FALSE) -> 0.10930721
A20: 1.6264 | B20: =ABS(A20-$B$92) -> 0.67500797 | C20: =A20-$B$92 -> 0.67500797 | D20: =C20^2 -> 0.45563577 | E20: =E19+0.0759 -> -1.6338 | F20: =F19+$B$95*0.0759 -> -0.47964894 | G20: =_xlfn.NORM.DIST(F20,$B$92,$B$95,FALSE) -> 0.11990167 | H20: 1.6264 | I20: =ABS(H20-$I$92) -> 0.67693952 | J20: =H20-$I$92 -> 0.67693952 | K20: =J20^2 -> 0.45824711 | L20: =L19+0.0759 -> -1.6338 | M20: =M19+$I$95*0.0759 -> -0.43322271 | N20: =_xlfn.NORM.DIST(M20,$I$92,$I$95,FALSE) -> 0.12409509
A21: 0.888 | B21: =ABS(A21-$B$92) -> 0.063392025 | C21: =A21-$B$92 -> -0.063392025 | D21: =C21^2 -> 0.0040185489 | E21: =E20+0.0759 -> -1.5579 | F21: =F20+$B$95*0.0759 -> -0.41316834 | G21: =_xlfn.NORM.DIST(F21,$B$92,$B$95,FALSE) -> 0.13534093 | H21: 0.888 | I21: =ABS(H21-$I$92) -> 0.061460481 | J21: =H21-$I$92 -> -0.061460481 | K21: =J21^2 -> 0.0037773907 | L21: =L20+0.0759 -> -1.5579 | M21: =M20+$I$95*0.0759 -> -0.36898862 | N21: =_xlfn.NORM.DIST(M21,$I$92,$I$95,FALSE) -> 0.14007433
A22: 0.6262 | B22: =ABS(A22-$B$92) -> 0.32519203 | C22: =A22-$B$92 -> -0.32519203 | D22: =C22^2 -> 0.10574985 | E22: =E21+0.0759 -> -1.482 | F22: =F21+$B$95*0.0759 -> -0.34668773 | G22: =_xlfn.NORM.DIST(F22,$B$92,$B$95,FALSE) -> 0.1518907 | H22: 0.5327 | I22: =ABS(H22-$I$92) -> 0.41676048 | J22: =H22-$I$92 -> -0.41676048 | K22: =J22^2 -> 0.1736893 | L22: =L21+0.0759 -> -1.482 | M22: =M21+$I$95*0.0759 -> -0.30475453 | N22: =_xlfn.NORM.DIST(M22,$I$92,$I$95,FALSE) -> 0.15720291
A23: 0.388608 | B23: =ABS(A23-$B$92) -> 0.56278403 | C23: =A23-$B$92 -> -0.56278403 | D23: =C23^2 -> 0.31672586 | E23: =E22+0.0759 -> -1.4061 | F23: =F22+$B$95*0.0759 -> -0.28020713 | G23: =_xlfn.NORM.DIST(F23,$B$92,$B$95,FALSE) -> 0.16948503 | H23: 0.46266 | I23: =ABS(H23-$I$92) -> 0.48680048 | J23: =H23-$I$92 -> -0.48680048 | K23: =J23^2 -> 0.23697471 | L23: =L22+0.0759 -> -1.4061 | M23: =M22+$I$95*0.0759 -> -0.24052044 | N23: =_xlfn.NORM.DIST(M23,$I$92,$I$95,FALSE) -> 0.17541258
... A80: 0.13785 | B80: =ABS(A80-$B$92) -> 0.81354203 | C80: =A80-$B$92 -> -0.81354203 | D80: =C80^2 -> 0.66185063 | E80: =E79+0.0759 -> 2.9202 | F80: =F79+$B$95*0.0759 -> 3.5091872 | G80: =_xlfn.NORM.DIST(F80,$B$92,$B$95,FALSE) -> 0.0064079486 | H80: 0.15655 | I80: =ABS(H80-$I$92) -> 0.79291048 | J80: =H80-$I$92 -> -0.79291048 | K80: =J80^2 -> 0.62870703 | L80: =L79+0.0759 -> 2.9202 | M80: =M79+$I$95*0.0759 -> 3.4208226 | N80: =_xlfn.NORM.DIST(M80,$I$92,$I$95,FALSE) -> 0.0066320593
A91: QALY- | H91: QALY+
A92: mean | B92: =AVERAGE(A2:A81) -> 0.95139203 | H92: mean | I92: =AVERAGE(H2:H81) -> 0.94946048
A93: mean deviation | B93: =AVERAGE(B2:B81) -> 0.65056414 | H93: mean deviation | I93: =AVERAGE(I2:I81) -> 0.63438857
A94: variation | B94: =AVERAGE(D2:D81) -> 0.76719603 | H94: variation | I94: =AVERAGE(K2:K81) -> 0.71622188
A95: sd | B95: =SQRT(B94) -> 0.87589727 | H95: sd | I95: =SQRT(I94) -> 0.84629893

Sheet AMD Ttest
A1: Gain of QALY | E1: SD increments | F1: my data | G1: normalize | I1: mean | J1: =AVERAGE(A2:A81) -> -0.0019315443
A2: -0.1496 | B2: =ABS(A2-$J$1) -> 0.14766846 | C2: =A2-$J$1 -> -0.14766846 | D2: =C2^2 -> 0.021805973 | E2: -3 | F2: =J1-J4*3 -> -0.39791469 | G2: =_xlfn.NORM.DIST(F2,$J$1,$J$4,FALSE) -> 0.033576038 | I2: mean deviation | J2: =AVERAGE(B2:B81) -> 0.067130992
A3: -0.00935 | B3: =ABS(A3-$J$1) -> 0.0074184557 | C3: =A3-$J$1 -> -0.0074184557 | D3: =C3^2 -> 5.5033485e-05 | E3: =E2+0.0759 -> -2.9241 | F3: =F2+$J$4*0.0759 -> -0.38789632 | G3: =_xlfn.NORM.DIST(F3,$J$1,$J$4,FALSE) -> 0.04204045 | I3: variation | J3: =AVERAGE(D2:D81) -> 0.017422517
A4: -0.2992 | B4: =ABS(A4-$J$1) -> 0.29726846 | C4: =A4-$J$1 -> -0.29726846 | D4: =C4^2 -> 0.088368535 | E4: =E3+0.0759 -> -2.8482 | F4: =F3+$J$4*0.0759 -> -0.37787794 | G4: =_xlfn.NORM.DIST(F4,$J$1,$J$4,FALSE) -> 0.052336344 | I4: sd | J4: =SQRT(J3) -> 0.13199438
A5: 0 | B5: =ABS(A5-$J$1) -> 0.0019315443 | C5: =A5-$J$1 -> 0.0019315443 | D5: =C5^2 -> 3.7308634e-06 | E5: =E4+0.0759 -> -2.7723 | F5: =F4+$J$4*0.0759 -> -0.36785957 | G5: =_xlfn.NORM.DIST(F5,$J$1,$J$4,FALSE) -> 0.064779488
A6: 0 | B6: =ABS(A6-$J$1) -> 0.0019315443 | C6: =A6-$J$1 -> 0.0019315443 | D6: =C6^2 -> 3.7308634e-06 | E6: =E5+0.0759 -> -2.6964 | F6: =F5+$J$4*0.0759 -> -0.3578412 | G6: =_xlfn.NORM.DIST(F6,$J$1,$J$4,FALSE) -> 0.079720453
A7: 0.03366 | B7: =ABS(A7-$J$1) -> 0.035591544 | C7: =A7-$J$1 -> 0.035591544 | D7: =C7^2 -> 0.001266758 | E7: =E6+0.0759 -> -2.6205 | F7: =F6+$J$4*0.0759 -> -0.34782282 | G7: =_xlfn.NORM.DIST(F7,$J$1,$J$4,FALSE) -> 0.0975439
A8: -0.08415 | B8: =ABS(A8-$J$1) -> 0.082218456 | C8: =A8-$J$1 -> -0.082218456 | D8: =C8^2 -> 0.0067598745 | E8: =E7+0.0759 -> -2.5446 | F8: =F7+$J$4*0.0759 -> -0.33780445 | G8: =_xlfn.NORM.DIST(F8,$J$1,$J$4,FALSE) -> 0.11866662
A9: 0.1122 | B9: =ABS(A9-$J$1) -> 0.11413154 | C9: =A9-$J$1 -> 0.11413154 | D9: =C9^2 -> 0.013026009 | E9: =E8+0.0759 -> -2.4687 | F9: =F8+$J$4*0.0759 -> -0.32778608 | G9: =_xlfn.NORM.DIST(F9,$J$1,$J$4,FALSE) -> 0.14353413
A10: 0.4488 | B10: =ABS(A10-$J$1) -> 0.45073154 | C10: =A10-$J$1 -> 0.45073154 | D10: =C10^2 -> 0.20315893 | E10: =E9+0.0759 -> -2.3928 | F10: =F9+$J$4*0.0759 -> -0.3177677 | G10: =_xlfn.NORM.DIST(F10,$J$1,$J$4,FALSE) -> 0.17261553
A11: 0 | B11: =ABS(A11-$J$1) -> 0.0019315443 | C11: =A11-$J$1 -> 0.0019315443 | D11: =C11^2 -> 3.7308634e-06 | E11: =E10+0.0759 -> -2.3169 | F11: =F10+$J$4*0.0759 -> -0.30774933 | G11: =_xlfn.NORM.DIST(F11,$J$1,$J$4,FALSE) -> 0.20639666
A12: 0 | B12: =ABS(A12-$J$1) -> 0.0019315443 | C12: =A12-$J$1 -> 0.0019315443 | D12: =C12^2 -> 3.7308634e-06 | E12: =E11+0.0759 -> -2.241 | F12: =F11+$J$4*0.0759 -> -0.29773096 | G12: =_xlfn.NORM.DIST(F12,$J$1,$J$4,FALSE) -> 0.2453712
A13: 0.1496 | B13: =ABS(A13-$J$1) -> 0.15153154 | C13: =A13-$J$1 -> 0.15153154 | D13: =C13^2 -> 0.022961809 | E13: =E12+0.0759 -> -2.1651 | F13: =F12+$J$4*0.0759 -> -0.28771258 | G13: =_xlfn.NORM.DIST(F13,$J$1,$J$4,FALSE) -> 0.29002979
A14: -0.0187 | B14: =ABS(A14-$J$1) -> 0.016768456 | C14: =A14-$J$1 -> -0.016768456 | D14: =C14^2 -> 0.00028118111 | E14: =E13+0.0759 -> -2.0892 | F14: =F13+$J$4*0.0759 -> -0.27769421 | G14: =_xlfn.NORM.DIST(F14,$J$1,$J$4,FALSE) -> 0.34084722
A15: 0 | B15: =ABS(A15-$J$1) -> 0.0019315443 | C15: =A15-$J$1 -> 0.0019315443 | D15: =C15^2 -> 3.7308634e-06 | E15: =E14+0.0759 -> -2.0133 | F15: =F14+$J$4*0.0759 -> -0.26767583 | G15: =_xlfn.NORM.DIST(F15,$J$1,$J$4,FALSE) -> 0.39826763
A16: 0 | B16: =ABS(A16-$J$1) -> 0.0019315443 | C16: =A16-$J$1 -> 0.0019315443 | D16: =C16^2 -> 3.7308634e-06 | E16: =E15+0.0759 -> -1.9374 | F16: =F15+$J$4*0.0759 -> -0.25765746 | G16: =_xlfn.NORM.DIST(F16,$J$1,$J$4,FALSE) -> 0.46268815
... A80: 0.0187 | B80: =ABS(A80-$J$1) -> 0.020631544 | C80: =A80-$J$1 -> 0.020631544 | D80: =C80^2 -> 0.00042566062 | E80: =E79+0.0759 -> 2.9202 | F80: =F79+$J$4*0.0759 -> 0.38351845 | G80: =_xlfn.NORM.DIST(F80,$J$1,$J$4,FALSE) -> 0.0425223

Sheet CRVO.BRVO
A2: CRVO | B2: SEX | C2: AGE | D2: Initial VA | F2: QALY before Intervention | J2: SD increments | K2: MY data | L2: Normalize | M2: Final VA | O2: QALY after Intervention | S2: SD increments | T2: MY data | U2: Normalize | V2: ΠΟΣΤΟΣΤΙΑΙΑ ΜΕΤΑΒΟΛΗ
D3: OD | E3: OS | M3: OD | N3: OS
B4: ΑΝΔΡΑΣ | C4: 46 | D4: =9/10 -> 0.9 | E4: =3/10 -> 0.3 | F4: =0.374*D4+0.514 -> 0.8506 | G4: =ABS(F4-$I$14) -> 0.080142857 | H4: =F4-$I$14 -> 0.080142857 | I4: =H4^2 -> 0.0064228776 | J4: -3 | K4: =I14-(I17*3) -> 0.44511268 | L4: =_xlfn.NORM.DIST(K4,$I$14,$I$17,FALSE) -> 0.040866056 | M4: =9/10 -> 0.9 | N4: =1/40 -> 0.025 | O4: =0.374*M4+0.514 -> 0.8506 | P4: =ABS(O4-$Q$14) -> 0.048085714 | Q4: =O4-$Q$14 -> 0.048085714 | R4: =Q4^2 -> 0.0023122359 | S4: -3 | T4: =Q14-Q17*3 -> 0.52304659 | U4: =_xlfn.NORM.DIST(T4,$Q$14,$Q$17,FALSE) -> 0.047574534 | V4: =(O4-F4)/F4 -> 0
B5: ΓΥΝΑΙΚΑ | C5: 58 | D5: =4/10 -> 0.4 | E5: =10/10 -> 1 | F5: =0.374*E5+0.514 -> 0.888 | G5: =ABS(F5-$I$14) -> 0.11754286 | H5: =F5-$I$14 -> 0.11754286 | I5: =H5^2 -> 0.013816323 | J5: =J4+1 -> -2 | K5: =K4+$I$17 -> 0.55356083 | L5: =_xlfn.NORM.DIST(K5,$I$14,$I$17,FALSE) -> 0.49785048 | M5: =10/10 -> 1 | N5: =10/10 -> 1 | O5: =0.374*M5+0.514 -> 0.888 | P5: =ABS(O5-$Q$14) -> 0.085485714 | Q5: =O5-$Q$14 -> 0.085485714 | R5: =Q5^2 -> 0.0073078073 | S5: =S4+1 -> -2 | T5: =T4+$Q$17 -> 0.61620249 | U5: =_xlfn.NORM.DIST(T5,$Q$14,$Q$17,FALSE) -> 0.57957647 | V5: =(O5-F5)/F5 -> 0
B6: ΓΥΝΑΙΚΑ | C6: 73 | D6: =2/10 -> 0.2 | E6: 0.1 | F6: =0.374*D6+0.514 -> 0.5888 | G6: =ABS(F6-$I$14) -> 0.18165714 | H6: =F6-$I$14 -> -0.18165714 | I6: =H6^2 -> 0.032999318 | J6: =J5+1 -> -1 | K6: =K5+$I$17 -> 0.66200899 | L6: =_xlfn.NORM.DIST(K6,$I$14,$I$17,FALSE) -> 2.2312111 | M6: 0.2 | N6: ΑΚΧ | O6: =0.374*M6+0.514 -> 0.5888 | P6: =ABS(O6-$Q$14) -> 0.21371429 | Q6: =O6-$Q$14 -> -0.21371429 | R6: =Q6^2 -> 0.045673796 | S6: =S5+1 -> -1 | T6: =T5+$Q$17 -> 0.70935839 | U6: =_xlfn.NORM.DIST(T6,$Q$14,$Q$17,FALSE) -> 2.5974815 | V6: =(O6-F6)/F6 -> 0
B7: ΑΝΔΡΑΣ | C7: 76 | D7: ΜΔ | E7: =3/10 -> 0.3 | F7: =0.374*E7+0.514 -> 0.6262 | G7: =ABS(F7-$I$14) -> 0.14425714 | H7: =F7-$I$14 -> -0.14425714 | I7: =H7^2 -> 0.020810123 | J7: 0 | K7: =K6+$I$17 -> 0.77045714 | L7: =_xlfn.NORM.DIST(K7,$I$14,$I$17,FALSE) -> 3.6786451 | M7: ΜΔ | N7: =7/10 -> 0.7 | O7: =0.374*N7+0.514 -> 0.7758 | P7: =ABS(O7-$Q$14) -> 0.026714286 | Q7: =O7-$Q$14 -> -0.026714286 | R7: =Q7^2 -> 0.00071365306 | S7: 0 | T7: =T6+$Q$17 -> 0.80251429 | U7: =_xlfn.NORM.DIST(T7,$Q$14,$Q$17,FALSE) -> 4.2825231 | V7: =(O7-F7)/F7 -> 0.23890131
B8: ΑΝΔΡΑΣ | C8: 79 | D8: =1/10 -> 0.1 | E8: =9/10 -> 0.9 | F8: =0.374*E8+0.514 -> 0.8506 | G8: =ABS(F8-$I$14) -> 0.080142857 | H8: =F8-$I$14 -> 0.080142857 | I8: =H8^2 -> 0.0064228776 | J8: =J7+1 -> 1 | K8: =K7+$I$17 -> 0.8789053 | L8: =_xlfn.NORM.DIST(K8,$I$14,$I$17,FALSE) -> 2.2312111 | M8: 0.05 | N8: 0.9 | O8: =0.374*N8+0.514 -> 0.8506 | P8: =ABS(O8-$Q$14) -> 0.048085714 | Q8: =O8-$Q$14 -> 0.048085714 | R8: =Q8^2 -> 0.0023122359 | S8: =S7+1 -> 1 | T8: =T7+$Q$17 -> 0.89567018 | U8: =_xlfn.NORM.DIST(T8,$Q$14,$Q$17,FALSE) -> 2.5974815 | V8: =(O8-F8)/F8 -> 0
B9: ΓΥΝΑΙΚΑ | C9: 80 | D9: =7/10 -> 0.7 | E9: =2/10 -> 0.2 | F9: =0.374*D9+0.514 -> 0.7758 | G9: =ABS(F9-$I$14) -> 0.0053428571 | H9: =F9-$I$14 -> 0.0053428571 | I9: =H9^2 -> 2.8546122e-05 | J9: =J8+1 -> 2 | K9: =K8+$I$17 -> 0.98735345 | L9: =_xlfn.NORM.DIST(K9,$I$14,$I$17,FALSE) -> 0.49785048 | M9: =9/10 -> 0.9 | N9: =2/10 -> 0.2 | O9: =0.374*M9+0.514 -> 0.8506 | P9: =ABS(O9-$Q$14) -> 0.048085714 | Q9: =O9-$Q$14 -> 0.048085714 | R9: =Q9^2 -> 0.0023122359 | S9: =S8+1 -> 2 | T9: =T8+$Q$17 -> 0.98882608 | U9: =_xlfn.NORM.DIST(T9,$Q$14,$Q$17,FALSE) -> 0.57957647 | V9: =(O9-F9)/F9 -> 0.096416602
B10: ΑΝΔΡΑΣ | C10: 90 | D10: 0.8 | E10: 0.1 | F10: =0.374*D10+0.514 -> 0.8132 | G10: =ABS(F10-$I$14) -> 0.042742857 | H10: =F10-$I$14 -> 0.042742857 | I10: =H10^2 -> 0.0018269518 | J10: =J9+1 -> 3 | K10: =K9+$I$17 -> 1.0958016 | L10: =_xlfn.NORM.DIST(K10,$I$14,$I$17,FALSE) -> 0.040866056 | M10: 0.8 | N10: ΜΔ | O10: =0.374*M10+0.514 -> 0.8132 | P10: =ABS(O10-$Q$14) -> 0.010685714 | Q10: =O10-$Q$14 -> 0.010685714 | R10: =Q10^2 -> 0.00011418449 | S10: =S9+1 -> 3 | T10: =T9+$Q$17 -> 1.081982 | U10: =_xlfn.NORM.DIST(T10,$Q$14,$Q$17,FALSE) -> 0.047574534 | V10: =(O10-F10)/F10 -> 0
O11: Μ.Ο. | V11: =AVERAGE(V4:V10) -> 0.047902559
I13: QALY- | Q13: QALY+
H14: mean | I14: =AVERAGE(F4:F10) -> 0.77045714 | P14: mean | Q14: =AVERAGE(O4:O10) -> 0.80251429
H15: mean deviation | I15: =AVERAGE(G4:G10) -> 0.093118367 | P15: mean deviation | Q15: =AVERAGE(P4:P10) -> 0.068693878 | T15: pvalue | U15: =_xlfn.T.TEST(F4:F10,O4:O10,1,1) -> 0.099810836
H16: variation | I16: =AVERAGE(I4:I10) -> 0.011761002 | P16: variation | Q16: =AVERAGE(R4:R10) -> 0.0086780212
H17: sd | I17: =SQRT(I16) -> 0.10844816 | P17: sd | Q17: =SQRT(Q16) -> 0.093155897
