Workbook
Name _FilterDatabase_0: Foglio1!$A$1:$F$38
Name dataset1: Foglio2!$A$8:$A$37
Name dataset2: Foglio2!$B$8:$B$37

Sheet Foglio1
A1: DATA DI NASCITA | B1: ETA' | C1: SESSO | D1: REPARTO | E1: ICD | F1: DATA INTERVENTO | G1: DATA DIMISSIONE | H1: GIORNI DI DEGENZA | I1: BMI | J1: COMORBIDITA | K1: TIMING | L1: TG18 | M1: CCI | N1: ASA | O1: TP | P1: Clavien Dindo
A2: 28526 | B2: =DATEDIF(A2,F2,"y") -> 42 | C2: 1 | D2: 4 | E2: 57410 | F2: 43920 | G2: 43922 | H2: =DATEDIF(F2,G2,"d") -> 2 | I2: N.A. | J2: 0 | K2: 1 | L2: 1 | M2: 0 | N2: 1 | O2: 3 | P2: 0
A3: 27924 | B3: =DATEDIF(A3,F3,"y") -> 43 | C3: 1 | D3: 1 | E3: 57400 | F3: 43882 | G3: 43894 | H3: =DATEDIF(F3,G3,"d") -> 12 | I3: 23.3 | J3: 0 | K3: 1 | L3: 1 | M3: 0 | N3: 1 | O3: 3 | P3: 2
A4: 25786 | B4: =DATEDIF(A4,F4,"y") -> 49 | C4: 1 | D4: 1 | E4: 57400 | F4: 43941 | G4: 43944 | H4: =DATEDIF(F4,G4,"d") -> 3 | I4: 25 | J4: 0 | K4: 1 | L4: 1 | M4: 0 | N4: 1 | O4: 3 | P4: 0
A5: 25993 | B5: =DATEDIF(A5,F5,"y") -> 49 | C5: 2 | D5: 1 | E5: 57461 | F5: 43894 | G5: 43901 | H5: =DATEDIF(F5,G5,"d") -> 7 | I5: 23 | J5: 0 | K5: 1 | L5: 1 | M5: 0 | N5: 1 | O5: 3 | P5: 3B
A6: 25630 | B6: =DATEDIF(A6,F6,"y") -> 50 | C6: 2 | D6: 4 | E6: 57400 | F6: 43899 | G6: 43902 | H6: =DATEDIF(F6,G6,"d") -> 3 | I6: N.A. | J6: 0 | K6: 1 | L6: 1 | M6: 0 | N6: 1 | O6: 3 | P6: 0
A7: 22508 | B7: =DATEDIF(A7,F7,"y") -> 58 | C7: 2 | D7: 9 | E7: 57400 | F7: 43913 | G7: 43926 | H7: =DATEDIF(F7,G7,"d") -> 13 | I7: 26.2 | J7: 1 | K7: 1 | L7: 1 | M7: 1 | N7: 1 | O7: 2 | P7: 0
A8: 24711 | B8: =DATEDIF(A8,F8,"y") -> 52 | C8: 1 | D8: 2 | E8: 57400 | F8: 43931 | G8: 43934 | H8: =DATEDIF(F8,G8,"d") -> 3 | I8: 23.7 | J8: 0 | K8: 1 | L8: 1 | M8: 1 | N8: 1 | O8: 3 | P8: 0
A9: 20649 | B9: =DATEDIF(A9,F9,"y") -> 63 | C9: 1 | D9: 1 | E9: 57461 | F9: 43893 | G9: 43895 | H9: =DATEDIF(F9,G9,"d") -> 2 | I9: 26.3 | J9: 0 | K9: 1 | L9: 1 | M9: 1 | N9: 1 | O9: 3 | P9: 0
A10: 17187 | B10: =DATEDIF(A10,F10,"y") -> 73 | C10: 2 | D10: 1 | E10: 57461 | F10: 43901 | G10: 43907 | H10: =DATEDIF(F10,G10,"d") -> 6 | I10: 28.4 | J10: 1 | K10: 1 | L10: 1 | M10: 3 | N10: 1 | O10: 3 | P10: 1
A11: 16842 | B11: =DATEDIF(A11,F11,"y") -> 74 | C11: 2 | D11: 3 | E11: 57400 | F11: 43885 | G11: 43888 | H11: =DATEDIF(F11,G11,"d") -> 3 | I11: N.A. | J11: 0 | K11: 1 | L11: 1 | M11: 3 | N11: 1 | O11: 3 | P11: 0
A12: 16201 | B12: =DATEDIF(A12,F12,"y") -> 75 | C12: 2 | D12: 3 | E12: 57400 | F12: 43885 | G12: 43888 | H12: =DATEDIF(F12,G12,"d") -> 3 | I12: 30 | J12: 1.5 | K12: 1 | L12: 1 | M12: 3 | N12: 1 | O12: 3 | P12: 0
A13: 16876 | B13: =DATEDIF(A13,F13,"y") -> 74 | C13: 2 | D13: 4 | E13: 57401 | F13: 43938 | G13: 43940 | H13: =DATEDIF(F13,G13,"d") -> 2 | I13: N.A. | J13: 1.3 | K13: 1 | L13: 1 | M13: 4 | N13: 2 | O13: 3 | P13: 0
A14: 11740 | B14: =DATEDIF(A14,F14,"y") -> 88 | C14: 1 | D14: 3 | E14: 57400 | F14: 43925 | G14: 43938 | H14: =DATEDIF(F14,G14,"d") -> 13 | I14: N.A. | J14: 1.2 | K14: 1 | L14: 1 | M14: 5 | N14: 2 | O14: 2 | P14: 0
A15: 26454 | B15: =DATEDIF(A15,F15,"y") -> 47 | C15: 1 | D15: 2 | E15: 57400 | F15: 43937 | G15: 43942 | H15: =DATEDIF(F15,G15,"d") -> 5 | I15: 27.9 | J15: 0 | K15: 0 | L15: 2 | M15: 0 | N15: 1 | O15: 1 | P15: 0
A16: 29910 | B16: =DATEDIF(A16,F16,"y") -> 38 | C16: 1 | D16: 1 | E16: 57400 | F16: 43950 | G16: N.A. | H16: N.A. | I16: 25.7 | J16: 0 | K16: 0 | L16: 2 | M16: 0 | N16: 1 | O16: 2 | P16: 0
A17: 28492 | B17: =DATEDIF(A17,F17,"y") -> 42 | C17: 2 | D17: 3 | E17: 57400 | F17: 43893 | G17: 43900 | H17: =DATEDIF(F17,G17,"d") -> 7 | I17: N.A. | J17: 0 | K17: 1 | L17: 2 | M17: 0 | N17: 1 | O17: 3 | P17: 2
A18: 28558 | B18: =DATEDIF(A18,F18,"y") -> 42 | C18: 2 | D18: 4 | E18: 57400 | F18: 43918 | G18: 43921 | H18: =DATEDIF(F18,G18,"d") -> 3 | I18: N.A. | J18: 0 | K18: 1 | L18: 2 | M18: 0 | N18: 1 | O18: 3 | P18: 0
A19: 26522 | B19: =DATEDIF(A19,F19,"y") -> 47 | C19: 1 | D19: 1 | E19: 57400 | F19: 43922 | G19: 43924 | H19: =DATEDIF(F19,G19,"d") -> 2 | I19: 23.7 | J19: 0 | K19: 1 | L19: 2 | M19: 0 | N19: 1 | O19: 3 | P19: 0
A20: 18315 | B20: =DATEDIF(A20,F20,"y") -> 70 | C20: 1 | D20: 4 | E20: 57400 | F20: 43892 | G20: 43895 | H20: =DATEDIF(F20,G20,"d") -> 3 | I20: N.A. | J20: 1 | K20: 1 | L20: 2 | M20: 3 | N20: 1 | O20: 3 | P20: 0
A21: 24395 | B21: =DATEDIF(A21,F21,"y") -> 53 | C21: 2 | D21: 1 | E21: 57461 | F21: 43938 | G21: 43943 | H21: =DATEDIF(F21,G21,"d") -> 5 | I21: 24 | J21: 1 | K21: 0 | L21: 2 | M21: 4 | N21: 1 | O21: 1 | P21: 0
A22: 12575 | B22: =DATEDIF(A22,F22,"y") -> 85 | C22: 1 | D22: 8 | E22: 57400 | F22: 43904 | G22: 43924 | H22: =DATEDIF(F22,G22,"d") -> 20 | I22: N.A. | J22: 1 | K22: 1 | L22: 2 | M22: 4 | N22: 2 | O22: 1 | P22: 0
A23: 21564 | B23: =DATEDIF(A23,F23,"y") -> 61 | C23: 2 | D23: 6 | E23: 57401 | F23: 43897 | G23: 43911 | H23: =DATEDIF(F23,G23,"d") -> 14 | I23: N.A. | J23: 1,2,3,4 | K23: 1 | L23: 2 | M23: 4 | N23: 3 | O23: 1 | P23: 0
A24: 14423 | B24: =DATEDIF(A24,F24,"y") -> 80 | C24: 2 | D24: 1 | E24: 57400 | F24: 43945 | G24: 43956 | H24: =DATEDIF(F24,G24,"d") -> 11 | I24: 32 | J24: 1 | K24: 1 | L24: 2 | M24: 4 | N24: 1 | O24: 2 | P24: 0
A25: 15435 | B25: =DATEDIF(A25,F25,"y") -> 77 | C25: 1 | D25: 4 | E25: 57400 | F25: 43892 | G25: 43898 | H25: =DATEDIF(F25,G25,"d") -> 6 | I25: N.A. | J25: 1.2 | K25: 0 | L25: 2 | M25: 4 | N25: 2 | O25: 3 | P25: 0
A26: 20068 | B26: =DATEDIF(A26,F26,"y") -> 65 | C26: 1 | D26: 2 | E26: 57400 | F26: 43918 | G26: 43922 | H26: =DATEDIF(F26,G26,"d") -> 4 | I26: 37 | J26: 2,3,4,5 | K26: 1 | L26: 2 | M26: 4 | N26: 3 | O26: 3 | P26: 0
A27: 20367 | B27: =DATEDIF(A27,F27,"y") -> 64 | C27: 2 | D27: 2 | E27: 57480 | F27: 43883 | G27: 43887 | H27: =DATEDIF(F27,G27,"d") -> 4 | I27: 22 | J27: 1,3,4 | K27: 0 | L27: 2 | M27: 5 | N27: 3 | O27: 1 | P27: 0
A28: 13979 | B28: =DATEDIF(A28,F28,"y") -> 81 | C28: 2 | D28: 7 | E28: 57441 | F28: 43903 | G28: 43912 | H28: =DATEDIF(F28,G28,"d") -> 9 | I28: N.A. | J28: 1,6,8 | K28: 0 | L28: 2 | M28: 5 | N28: 3 | O28: 1 | P28: 0
A29: 14977 | B29: =DATEDIF(A29,F29,"y") -> 79 | C29: 2 | D29: 6 | E29: 5750 | F29: 43882 | G29: 43889 | H29: =DATEDIF(F29,G29,"d") -> 7 | I29: N.A. | J29: 3,4,7,8,9 | K29: 1 | L29: 2 | M29: 8 | N29: 3 | O29: 2 | P29: 2
A30: 11511 | B30: =DATEDIF(A30,F30,"y") -> 88 | C30: 2 | D30: 7 | E30: 57400 | F30: 43894 | G30: 43907 | H30: =DATEDIF(F30,G30,"d") -> 13 | I30: N.A. | J30: 1,2,4,7,8,10 | K30: 0 | L30: 2 | M30: 9 | N30: 3 | O30: 1 | P30: 2
A31: 26778 | B31: =DATEDIF(A31,F31,"y") -> 46 | C31: 1 | D31: 1 | E31: 57400 | F31: 43888 | G31: 43893 | H31: =DATEDIF(F31,G31,"d") -> 5 | I31: 20 | J31: ASMA | K31: 1 | L31: 3 | M31: 0 | N31: 1 | O31: 2 | P31: 0
A32: 29963 | B32: =DATEDIF(A32,F32,"y") -> 38 | C32: 2 | D32: 3 | E32: 57410 | F32: 43890 | G32: 43895 | H32: =DATEDIF(F32,G32,"d") -> 5 | I32: N.A. | J32: 0 | K32: 1 | L32: 3 | M32: 0 | N32: 1 | O32: 3 | P32: 0
A33: 17188 | B33: =DATEDIF(A33,F33,"y") -> 73 | C33: 2 | D33: 1 | E33: 57400 | F33: 43954 | G33: N.A. | H33: N.A. | I33: 30.5 | J33: 1.5 | K33: 1 | L33: 3 | M33: 3 | N33: 4 | O33: 2 | P33: 0
A34: 16165 | B34: =DATEDIF(A34,F34,"y") -> 76 | C34: 1 | D34: 4 | E34: 57411 | F34: 43928 | G34: 43931 | H34: =DATEDIF(F34,G34,"d") -> 3 | I34: N.A. | J34: 3 | K34: 1 | L34: 3 | M34: 4 | N34: 2 | O34: 1 | P34: 0
A35: 18547 | B35: =DATEDIF(A35,F35,"y") -> 69 | C35: 2 | D35: 5 | E35: 5750 | F35: 43888 | G35: 43901 | H35: =DATEDIF(F35,G35,"d") -> 13 | I35: 25 | J35: 1.7 | K35: 1 | L35: 3 | M35: 4 | N35: 3 | O35: 1 | P35: 0
A36: 9300 | B36: =DATEDIF(A36,F36,"y") -> 94 | C36: 2 | D36: 1 | E36: 57461 | F36: 43948 | G36: N.A. | H36: N.A. | I36: N.A. | J36: 1,4,7 | K36: 0 | L36: 3 | M36: 6 | N36: 2 | O36: 1 | P36: 0
A37: 13268 | B37: =DATEDIF(A37,F37,"y") -> 83 | C37: 2 | D37: 1 | E37: 57400 | F37: 43948 | G37: 43954 | H37: =DATEDIF(F37,G37,"d") -> 6 | I37: 29.3 | J37: 1,4,5,8 | K37: 1 | L37: 3 | M37: 6 | N37: 3 | O37: 2 | P37: 0
A38: 12557 | B38: =DATEDIF(A38,F38,"y") -> 85 | C38: 1 | D38: 2 | E38: 57400 | F38: 43943 | G38: 43950 | H38: =DATEDIF(F38,G38,"d") -> 7 | I38: 28 | J38: 1,3,4,7 | K38: 1 | L38: 3 | M38: 8 | N38: 3 | O38: 1 | P38: 2

Sheet GRAFICI
A1: TG18 | B1: TP | C1: SESSO
A2: 1 | B2: 2 | C2: 2
A3: 1 | B3: 3 | C3: 2
A4: 1 | B4: 3 | C4: 1
A5: 1 | B5: 3 | C5: 1 | E5: TG 18 | G5: TERAPIA | J5: GRADO | K5: Lap-Cholecistectomy | L5: cholecistostomy | M5: Supportive care and antibiotics | N5: TOT.
A6: 1 | B6: 3 | C6: 1 | E6: =COUNTIF(A2:A38,1) -> 13 | G6: =COUNTIF(B2:B38,1) -> 11 | J6: 1 | K6: =COUNTIF(B2:B14,3) -> 11 | L6: =COUNTIF(B2:B14,2) -> 2 | M6: =COUNTIF(B2:B14,1) -> 0 | N6: =K6+L6+M6 -> 13
A7: 1 | B7: 3 | C7: 2 | E7: =COUNTIF(A2:A38,2) -> 16 | G7: =COUNTIF(B2:B38,2) -> 8 | J7: 2 | K7: =COUNTIF(B15:B30,3) -> 6 | L7: =COUNTIF(B15:B30,2) -> 3 | M7: =COUNTIF(B15:B30,1) -> 7 | N7: =K7+L7+M7 -> 16 | AM7: DONNE | AP7: UOMINI
A8: 1 | B8: 3 | C8: 2 | E8: =COUNTIF(A2:A38,3) -> 8 | G8: =COUNTIF(B2:B38,3) -> 18 | J8: 3 | K8: =COUNTIF(B31:B38,3) -> 1 | L8: =COUNTIF(B31:B38,2) -> 3 | M8: =COUNTIF(B31:B38,1) -> 4 | N8: =K8+L8+M8 -> 8 | AL8: grado 1 | AM8: =COUNTIF(Foglio1!L4:L23,1) -> 11 | AO8: grado 1 | AP8: =COUNTIF(Foglio1!L24:L38,1) -> 0
A9: 1 | B9: 3 | C9: 1 | AL9: grado 2 | AM9: =COUNTIF(Foglio1!L4:L23,2) -> 9 | AO9: grado 2 | AP9: =COUNTIF(Foglio1!L24:L38,2) -> 7
A10: 1 | B10: 3 | C10: 1 | AL10: grado 3 | AM10: =COUNTIF(Foglio1!L4:L23,3) -> 0 | AO10: grado 3 | AP10: =COUNTIF(Foglio1!L24:L38,3) -> 8
A11: 1 | B11: 3 | C11: 2
A12: 1 | B12: 3 | C12: 2
A13: 1 | B13: 3 | C13: 2
A14: 1 | B14: 2 | C14: 2
A15: 2 | B15: 1 | C15: 1
A16: 2 | B16: 1 | C16: 1
A17: 2 | B17: 1 | C17: 2
A18: 2 | B18: 1 | C18: 1
A19: 2 | B19: 1 | C19: 2
A20: 2 | B20: 1 | C20: 2
A21: 2 | B21: 1 | C21: 2
A22: 2 | B22: 2 | C22: 2
... A38: 3 | B38: 2 | C38: 2

Sheet Foglio2
B3: Verifica dell'ipotesi in uno studio retrospettivo
B4: (con l'utilizzo del test del chi-quadrato) | N4: Confronto fra due medie: test "t" di Student (per dati non appaiati)
F5: 2
B7: ATTENZIONE: possono essere modificate soltanto le celle verdi | Q7: Scegli il livello di significatività del test
D8: ammalati | E8: sani | F8: tot. | G8: =IF($F$10=1,AM12,"") | Q8: 0.95 | S8: 2 | T8: =IF(S8=1,0.01,0.05) -> 0.05 | U8: p<
B9: esposti | D9: 8 | E9: 6 | F9: =+E9+D9 -> 14 | Q9: 0.99 | T9: =IF(R19<=T8,"è","non è")& " significativa per " -> non è significativa per
B10: non-esposti | D10: 29 | E10: 27 | F10: =+E10+D10 -> 56 | N10: DATASET 1 | O10: DATASET 2
B11: tot. | D11: =SUM(D9:D10) -> 37 | E11: =SUM(E9:E10) -> 33 | F11: =SUM(F9:F10) -> 70 | N11: 2 | O11: 2 | Q11: Dataset | R11: 1 | S11: 2
D12: =IF(F11*G14<5,"vero","") | E12: =IF(F11*(1-G14)<5,"vero","") | F12: =IF(F11<30,"vero","") | G12: =OR(D12="vero",E12="vero",F12="vero") -> FALSE | N12: 1 | O12: 2 | Q12: Numerosità campione | R12: 30 | S12: 30
G13: proporz. | H13: % | N13: 1 | O13: 2 | Q13: Media | R13: =AVERAGE(N11:N40) -> 1.3333333 | S13: =AVERAGE(O11:O40) -> 1.4333333
B14: proporzione di esposti negli ammalati: | E14: =CONCATENATE(AE33,AE36,AE33,AG36,AE34,AF36) | G14: =+D9/D11 -> 0.21621622 | H14: =+G14*100 -> 21.621622 | N14: 1 | O14: 2 | Q14: Dev. standard | R14: =STDEV(N11:N40) -> 0.4794633 | S14: =STDEV(O11:O40) -> 0.50400693
B15: proporzione di esposti nei sani: | E15: =CONCATENATE(AF33,AE36,AF33,AG36,AF34,AF36) | G15: =+E9/E11 -> 0.18181818 | H15: =+G15*100 -> 18.181818 | N15: 1 | O15: 2
B16: c h i - q u a d r a t o: | G16: =+AG21 -> 0 | I16: =+IF(G17<0.01,$AD$22,IF(G17<0.05,$AD$23,$AD$24)) -> 0 | N16: 1 | O16: 2 | Q16: t | R16: =ABS(R13-S13)/SQRT(((R12-1)*R14^2+(S12-1)*S14^2)/(R12+S12-2)*((R12+S12)/(R12*S12))) -> 0.78737062
F17: p: | G17: =CHIDIST(G16,1) -> 1 | N17: 1 | O17: 2 | Q17: gradi di libertà | R17: =R12+S12-2 -> 58
B18: c h i - q u a d r a t o (corretto Yates): | G18: =+AF21 -> 0 | I18: =+IF(G19<0.01,$AD$22,IF(G19<0.05,$AD$23,$AD$24)) -> 0 | N18: 2 | O18: 1
F19: p: | G19: =CHIDIST(G18,1) -> 1 | N19: 1 | O19: 2 | Q19: P (livello di significatività) | R19: =TDIST(R16,R17,2) -> 0.4342708
B20: o d d s r a t i o: | G20: =+AE23 -> 0 | N20: 2 | O20: 1
N21: 1 | O21: 2 | Q21: Commento:
N22: 1 | O22: 2 | Q22: ="La differenza fra le medie osservate" -> La differenza fra le medie osservate
N23: 1 | O23: 2 | Q23: =CONCATENATE(T9,U8,T8) -> non è significativa per p<0,05
N24: 1 | O24: 2
N25: 1 | O25: 1
N26: 2 | O26: 1
N27: 2 | O27: 1
N28: 2 | O28: 1
N29: 2 | O29: 1
N30: 2 | O30: 1
N31: 2 | O31: 1
N32: 2 | O32: 1
N33: 1 | O33: 1
N34: 1 | O34: 1
N35: 1 | O35: 1
... N40: 1 | O40: 2
N42: =COUNTA(N11:N40) -> 30 | O42: =COUNTA(O11:O40) -> 30

Sheet LEGENDA
A1: SESSO | B1: REPARTO | C1: ICD | D1: COMORBILITA' | E1: TERAPIA
A2: 1= F | B2: 1= ch1 SP | C2: 57400 = CALCOLOSI DELLA COLECISTI CON COLECISTITE ACUTA,SENZA MENZIONE DI OSTRUZIONE | D2: 1= ipa | E2: 1= antibiotici
A3: 2=M | B3: 2=Ch2 SP | C3: 57480 = CALCOLOSI DELLA COLECISTI E DEL DOTTO BILIARE,CON COLECISTITE ACUTA E CRONICA,SENZA MENZIONE DI OSTRUZIONE | D3: 2= dm | E3: 2= drenaggio
B4: 3=Ch3 SC | C4: 5750 - COLECISTITE ACUTA | D4: 3= CARDIOPATIA | E4: 3= VLC
B5: 4=Ch4 SC | C5: 57410 - CALCOLOSI DELLA COLECISTI CON ALTRA COLECISTITE,SENZA MENZIONE DI OSTRUZIONE | D5: 4= TAO/NAO
B6: 5=nefro SC | C6: 57461 - CALCOLOSI DELLA COLECISTI E DEL DOTTO BILIARE,CON COLECISTITE ACUTA,CON OSTRUZIONE | D6: 5= OBESITà
B7: 6=Epato SP | C7: 57471 - CALCOLOSI DELLA COLECISTI E DEL DOTTO BILIARE,CON ALTRE FORME DI COLECISTITE,CON OSTRUZIONE | D7: 6= PREGRESSE COLECISTITI
B8: 7= Epato SC | C8: 57401 - CALCOLOSI DELLA COLECISTI CON COLECISTITE ACUTA,CON OSTRUZIONE | D8: 7= IRC
B9: 8= Med SC | C9: 57441 - CALCOLOSI DEL DOTTO BILIARE CON ALTRA COLECISTITE,CON OSTRUZIONE | D9: 8= BPCO
B10: 9= med covid | C10: 57411 - CALCOLOSI DELLA COLECISTI CON ALTRA COLECISTITE,CON OSTRUZIONE | D10: 9= ICTUS
D11: 10= EPATOPATIA
