Workbook

Sheet Table 1-Carriers
A1: Identifying CNTN5 CNV carriers across cohorts included in the study
D2: All CNTN5 CNVs (Exonic and Intronic) | H2: Exonic | L2: Intronic
B3: Cohort | C3: Total samples | D3: DEL and DUP (%) | F3: DEL | G3: DUP | H3: DEL and DUP (%) | J3: DEL | K3: DUP | L3: DEL and DUP (%) | N3: DEL | O3: DUP
B4: Probands with ASD
A5: Cases | B5: Simons Simplex Collection (SSC) | C5: 2585 | D5: =SUM(F5:G5) -> 4 | E5: =D5/C5 -> 0.0015473888 | F5: =SUM(J5,N5) -> 1 | G5: =SUM(K5,O5) -> 3 | H5: =SUM(J5:K5) -> 3 | I5: =H5/C5 -> 0.0011605416 | J5: 1 | K5: 2 | L5: =SUM(N5:O5) -> 1 | M5: =L5/C5 -> 0.0003868472 | N5: 0 | O5: 1
B6: MSSNG | C6: 3289 | D6: =SUM(F6:G6) -> 1 | E6: =D6/C6 -> 0.00030404378 | F6: =SUM(J6,N6) -> 1 | G6: =SUM(K6,O6) -> 0 | H6: =SUM(J6:K6) -> 1 | I6: =H6/C6 -> 0.00030404378 | J6: 1 | K6: 0 | L6: =SUM(N6:O6) -> 0 | M6: =L6/C6 -> 0 | N6: 0 | O6: 0
B7: SPARK* | C7: 8423 | D7: =SUM(F7:G7) -> 25 | E7: =D7/C7 -> 0.0029680636 | F7: =SUM(J7,N7) -> 24 | G7: =SUM(K7,O7) -> 1 | H7: =SUM(J7:K7) -> 1 | I7: =H7/C7 -> 0.00011872255 | J7: 0 | K7: 1 | L7: =SUM(N7:O7) -> 24 | M7: =L7/C7 -> 0.0028493411 | N7: 24 | O7: 0
B8: Mercati et al. (2017)** | C8: 1534 | D8: =SUM(F8:G8) -> 1 | E8: =D8/C8 -> 0.00065189048 | F8: =SUM(J8,N8) -> 1 | G8: =SUM(K8,O8) -> 0 | H8: =SUM(J8:K8) -> 1 | I8: =H8/C8 -> 0.00065189048 | J8: 1 | K8: 0
B9: Brain & Body Genetic Resource Exchange (BBGRE) | C9: 776 | D9: =SUM(F9:G9) -> 1 | E9: =D9/C9 -> 0.0012886598 | F9: =SUM(J9,N9) -> 1 | G9: =SUM(K9,O9) -> 0 | H9: =SUM(J9:K9) -> 1 | I9: =H9/C9 -> 0.0012886598 | J9: 1 | K9: 0
B10: Total cases with ASD | C10: =SUM(C5:C9) -> 16607 | D10: =SUM(D5:D9) -> 32 | E10: =D10/C10 -> 0.0019268983 | F10: =SUM(F5:F9) -> 28 | G10: =SUM(G5:G9) -> 4 | H10: =SUM(H5:H9) -> 7 | I10: =H10/C10 -> 0.000421509 | J10: =SUM(J5:J9) -> 4 | K10: =SUM(K5:K9) -> 3 | L10: =SUM(L5:L9) -> 25 | M10: =L10/SUM(C5:C7) -> 0.0017486186 | N10: =SUM(N5:N9) -> 24 | O10: =SUM(O5:O9) -> 1
A12: Controls | B12: Unaffected siblings of probands with ASD
B13: Simons Simplex Collection (SSC) | C13: 2425 | D13: =SUM(F13:G13) -> 3 | E13: =D13/C13 -> 0.0012371134 | F13: =SUM(J13,N13) -> 1 | G13: =SUM(K13,O13) -> 2 | H13: =SUM(J13:K13) -> 2 | I13: =H13/C13 -> 0.00082474227 | J13: 1 | K13: 1 | L13: =SUM(N13:O13) -> 1 | M13: =L13/C13 -> 0.00041237113 | N13: 0 | O13: 1
B14: MSSNG | C14: 131 | D14: =SUM(F14:G14) -> 0 | E14: =D14/C14 -> 0 | F14: =SUM(J14,N14) -> 0 | G14: =SUM(K14,O14) -> 0 | H14: =SUM(J14:K14) -> 0 | I14: =H14/C14 -> 0 | J14: 0 | K14: 0 | L14: =SUM(N14:O14) -> 0 | M14: =L14/C14 -> 0 | N14: 0 | O14: 0
B15: SPARK* | C15: 2734 | D15: =SUM(F15:G15) -> 10 | E15: =D15/C15 -> 0.0036576445 | F15: =SUM(J15,N15) -> 9 | G15: =SUM(K15,O15) -> 1 | H15: =SUM(J15:K15) -> 1 | I15: =H15/C15 -> 0.00036576445 | J15: 0 | K15: 1 | L15: =SUM(N15:O15) -> 9 | M15: =L15/C15 -> 0.00329188 | N15: 9 | O15: 0
B16: Total unaffected siblings | C16: =SUM(C13:C15) -> 5290 | D16: =SUM(F16:G16) -> 13 | E16: =D16/C16 -> 0.0024574669 | F16: =SUM(J16,N16) -> 10 | G16: =SUM(K16,O16) -> 3 | H16: =SUM(H13:H15) -> 3 | I16: =H16/C16 -> 0.00056710775 | J16: =SUM(J13:J15) -> 1 | K16: =SUM(K13:K15) -> 2 | L16: =SUM(L13:L15) -> 10 | M16: =L16/C16 -> 0.0018903592 | N16: =SUM(N13:N15) -> 9 | O16: =SUM(O13:O15) -> 1
B17: Unaffected parents of probands with ASD
B18: Simons Simplex Collection (SSC) | C18: 5153 | D18: =SUM(F18:G18) -> 5 | E18: =D18/C18 -> 0.00097030856 | F18: =SUM(J18,N18) -> 2 | G18: =SUM(K18,O18) -> 3 | H18: =SUM(J18:K18) -> 4 | I18: =H18/C18 -> 0.00077624685 | J18: 2 | K18: 2 | L18: =SUM(N18:O18) -> 1 | M18: =L18/C18 -> 0.00019406171 | N18: 0 | O18: 1
B19: MSSNG | C19: 3600 | D19: =SUM(F19:G19) -> 1 | E19: =D19/C19 -> 0.00027777778 | F19: =SUM(J19,N19) -> 1 | G19: =SUM(K19,O19) -> 0 | H19: =SUM(J19:K19) -> 1 | I19: =H19/C19 -> 0.00027777778 | J19: 1 | K19: 0 | L19: =SUM(N19:O19) -> 0 | M19: =L19/C19 -> 0 | N19: 0 | O19: 0
B20: SPARK | C20: 13014 | D20: =SUM(F20:G20) -> 44 | E20: =D20/C20 -> 0.0033809743 | F20: =SUM(J20,N20) -> 42 | G20: =SUM(K20,O20) -> 2 | H20: =SUM(J20:K20) -> 3 | I20: =H20/C20 -> 0.00023052098 | J20: 1 | K20: 2 | L20: =SUM(N20:O20) -> 41 | M20: =L20/C20 -> 0.0031504534 | N20: 41 | O20: 0
B21: Total unaffected parents | C21: =SUM(C18:C20) -> 21767 | D21: =SUM(D18:D20) -> 50 | E21: =D21/C21 -> 0.0022970552 | F21: =SUM(F18:F20) -> 45 | G21: =SUM(G18:G20) -> 5 | H21: =SUM(H18:H20) -> 8 | I21: =H21/C21 -> 0.00036752883 | J21: =SUM(J18:J20) -> 4 | K21: =SUM(K18:K20) -> 4 | L21: =SUM(L18:L20) -> 42 | M21: =L21/C21 -> 0.0019295263 | N21: =SUM(N18:N20) -> 41 | O21: =SUM(O18:O20) -> 1
B22: Unselected individuals from the general population
B23: Generation Scotland (GS) | C23: 14160 | D23: =SUM(F23:G23) -> 4 | E23: =D23/C23 -> 0.00028248588 | F23: =SUM(J23,N23) -> 4 | G23: =SUM(K23,O23) -> 0 | H23: =SUM(J23:K23) -> 1 | I23: =H23/C23 -> 7.0621469e-05 | J23: 1 | K23: 0 | L23: =SUM(N23:O23) -> 3 | M23: =L23/C23 -> 0.00021186441 | N23: 3 | O23: 0
B24: IMAGEN | C24: 1802 | D24: =SUM(F24:G24) -> 0 | E24: =D24/C24 -> 0 | F24: =SUM(J24,N24) -> 0 | G24: =SUM(K24,O24) -> 0 | H24: =SUM(J24:K24) -> 0 | I24: =H24/C24 -> 0 | J24: 0 | K24: 0 | L24: =SUM(N24:O24) -> 0 | M24: =L24/C24 -> 0 | N24: 0 | O24: 0
B25: Mercati et al. (2017) | C25: 8936 | D25: =SUM(F25:G25) -> 4 | E25: =D25/C25 -> 0.00044762757 | F25: =SUM(J25,N25) -> 1 | G25: =SUM(K25,O25) -> 3 | H25: =SUM(J25:K25) -> 4 | I25: =H25/C25 -> 0.00044762757 | J25: 1 | K25: 3
B26: Total unselected general population controls (Discovery)*** | C26: =SUM(C23:C25) -> 24898 | D26: =SUM(D23:D25) -> 8 | E26: =D26/SUM(C23:C24) -> 0.00050119033 | F26: =SUM(F23:F25) -> 5 | G26: =SUM(G23:G25) -> 3 | H26: =SUM(H23:H25) -> 5 | I26: =H26/C26 -> 0.00020081934 | J26: =SUM(J23:J25) -> 2 | K26: =SUM(K23:K25) -> 3 | L26: =SUM(L23:L25) -> 3 | M26: =L26/SUM(C23:C24) -> 0.00018794637 | N26: =SUM(N23:N25) -> 3 | O26: =SUM(O23:O25) -> 0
B27: UK Biobank | C27: 459855 | D27: =SUM(F27:G27) -> 68 | E27: =D27/C27 -> 0.0001478727 | F27: =SUM(J27,N27) -> 46 | G27: =SUM(K27,O27) -> 22 | H27: =SUM(J27:K27) -> 48 | I27: =H27/C27 -> 0.00010438073 | J27: 26 | K27: 22 | L27: =SUM(N27:O27) -> 20 | M27: =L27/C27 -> 4.349197e-05 | N27: 20 | O27: 0
B28: Total unselected general population controls (Replication) | C28: 459855 | D28: =SUM(F28:G28) -> 68 | E28: =D28/C28 -> 0.0001478727 | F28: =SUM(J28,N28) -> 46 | G28: =SUM(K28,O28) -> 22 | H28: =SUM(J28:K28) -> 48 | I28: =H28/C28 -> 0.00010438073 | J28: 26 | K28: 22 | L28: =SUM(L27) -> 20 | M28: =L28/C28 -> 4.349197e-05 | N28: 20 | O28: 0
A30: Clinical pediatric cohort | B30: Individuals with suspected NDDs
B31: Centre Hospialier Universitaire Sainte-Justine (CHU-SJ) | C31: 16586 | D31: =SUM(F31:G31) -> 2 | E31: =D31/C31 -> 0.00012058362 | F31: =SUM(J31,N31) -> 1 | G31: =SUM(K31,O31) -> 1 | H31: =SUM(J31:K31) -> 2 | I31: =H31/C31 -> 0.00012058362 | J31: 1 | K31: 1 | L31: =SUM(N31:O31) -> 0 | M31: =L31/C31 -> 0 | N31: 0 | O31: 0
B32: Total individuals with suspected NDDs | C32: =SUM(C31) -> 16586 | D32: =SUM(D31) -> 2 | E32: =D32/C32 -> 0.00012058362 | F32: =SUM(F31) -> 1 | G32: =SUM(G31) -> 1 | H32: =SUM(H31) -> 2 | I32: =H32/C32 -> 0.00012058362 | J32: 1 | K32: 1 | L32: =SUM(L31) -> 0 | M32: =L32/C32 -> 0 | N32: =SUM(N31) -> 0 | O32: =SUM(O31) -> 0
B35: NOTE: fathers (n = 48) and mothers (n = 101) with ASD excluded from analyses. Maternal (n = 58) and paternal (n = 4) half-siblings excluded from analyses.
B36: All probands with ASD reflect children from unaffected parents
B37: Unaffected siblings of probands with ASD also come from unaffected parents
B39: ***Intronic CNVs available only for Generation Scotland and IMAGEN cohorts. Mercati et al. excluded from intronic prevalence calculation

Sheet Table 2- Description of CNVs
A1: Cohort | B1: CHR | C1: START | D1: STOP | E1: Exonic | F1: Intronic | G1: DEL | H1: DUP | I1: ASD | J1: role | K1: transmission
A2: MSSNG | B2: chr11 | C2: 99478401 | D2: 100157200 | E2: 1 | F2: 0 | G2: 1 | H2: 0 | I2: 0 | J2: NA | K2: NA
A3: MSSNG | B3: chr11 | C3: 99477401 | D3: 100157000 | E3: 1 | F3: 0 | G3: 1 | H3: 0 | I3: 1 | J3: NA | K3: NA
A4: SSC | B4: chr11 | C4: 98858961 | D4: 98920242 | E4: 1 | F4: 0 | G4: 0 | H4: 1 | I4: 0 | J4: NA | K4: NA
A5: SSC | B5: chr11 | C5: 100195245 | D5: 100786611 | E5: 1 | F5: 0 | G5: 0 | H5: 1 | I5: 0 | J5: NA | K5: NA
A6: SSC | B6: chr11 | C6: 100195245 | D6: 100786611 | E6: 1 | F6: 0 | G6: 0 | H6: 1 | I6: 1 | J6: NA | K6: NA
A7: SSC | B7: chr11 | C7: 99889749 | D7: 100631139 | E7: 1 | F7: 0 | G7: 0 | H7: 1 | I7: 0 | J7: NA | K7: NA
A8: SSC | B8: chr11 | C8: 99889749 | D8: 100631139 | E8: 1 | F8: 0 | G8: 0 | H8: 1 | I8: 1 | J8: NA | K8: NA
A9: SSC | B9: chr11 | C9: 99398438 | D9: 99513359 | E9: 1 | F9: 0 | G9: 1 | H9: 0 | I9: 0 | J9: NA | K9: NA
A10: SSC | B10: chr11 | C10: 97044431 | D10: 114493531 | E10: 1 | F10: 0 | G10: 1 | H10: 0 | I10: 0 | J10: NA | K10: NA
A11: SSC | B11: chr11 | C11: 100163330 | D11: 100322582 | E11: 1 | F11: 0 | G11: 1 | H11: 0 | I11: 0 | J11: NA | K11: NA
A12: SSC | B12: chr11 | C12: 100162843 | D12: 100322582 | E12: 1 | F12: 0 | G12: 1 | H12: 0 | I12: 1 | J12: NA | K12: NA
A13: SSC | B13: chr11 | C13: 99479509 | D13: 99573005 | E13: 0 | F13: 1 | G13: 0 | H13: 1 | I13: 0 | J13: NA | K13: NA
... A19: G-Scot | B19: chr11 | C19: 96447763 | D19: 100322582 | E19: 1 | F19: 0 | G19: 1 | H19: 0 | I19: 0 | J19: NA | K19: NA
A20: BBGRE | B20: NA | C20: NA | D20: NA | E20: 1 | F20: NA | G20: 1 | H20: 0 | I20: 1 | J20: NA | K20: NA
A21: Mercati | B21: NA | C21: NA | D21: NA | E21: 1 | F21: NA | G21: 0 | H21: 1 | I21: 0 | J21: NA | K21: NA
A22: Mercati | B22: NA | C22: NA | D22: NA | E22: 1 | F22: NA | G22: 0 | H22: 1 | I22: 0 | J22: NA | K22: NA
A23: Mercati | B23: NA | C23: NA | D23: NA | E23: 1 | F23: NA | G23: 0 | H23: 1 | I23: 0 | J23: NA | K23: NA
A24: Mercati | B24: NA | C24: NA | D24: NA | E24: 1 | F24: NA | G24: 1 | H24: 0 | I24: 0 | J24: NA | K24: NA
A25: Mercati | B25: NA | C25: NA | D25: NA | E25: 1 | F25: NA | G25: 1 | H25: 0 | I25: 1 | J25: NA | K25: NA
A26: SPARK | B26: chr11 | C26: 99801380 | D26: 99843709 | E26: 1 | F26: 0 | G26: 0 | H26: 1 | I26: 0 | J26: Sibling | K26: Inherited
A27: SPARK | B27: chr11 | C27: 99812222 | D27: 99843709 | E27: 1 | F27: 0 | G27: 0 | H27: 1 | I27: 0 | J27: Father | K27: Paternal transmission to child
A28: SPARK | B28: chr11 | C28: 99523253 | D28: 99573829 | E28: 0 | F28: 1 | G28: 1 | H28: 0 | I28: 0 | J28: Mother | K28: Maternal transmission to child
A29: SPARK | B29: chr11 | C29: 99523253 | D29: 99573829 | E29: 0 | F29: 1 | G29: 1 | H29: 0 | I29: 1 | J29: Proband | K29: Inherited
A30: SPARK | B30: chr11 | C30: 99523253 | D30: 99573829 | E30: 0 | F30: 1 | G30: 1 | H30: 0 | I30: 0 | J30: Mother | K30: Maternal transmission to child
A31: SPARK | B31: chr11 | C31: 99523253 | D31: 99573829 | E31: 0 | F31: 1 | G31: 1 | H31: 0 | I31: 1 | J31: Proband | K31: Inherited
A32: SPARK | B32: chr11 | C32: 99523253 | D32: 99573829 | E32: 0 | F32: 1 | G32: 1 | H32: 0 | I32: 0 | J32: Sibling | K32: Inherited
A33: SPARK | B33: chr11 | C33: 99523253 | D33: 99565136 | E33: 0 | F33: 1 | G33: 1 | H33: 0 | I33: 0 | J33: Mother | K33: No transmission to child
A34: SPARK | B34: chr11 | C34: 99523253 | D34: 99573829 | E34: 0 | F34: 1 | G34: 1 | H34: 0 | I34: 1 | J34: Proband | K34: Inherited
A35: SPARK | B35: chr11 | C35: 99523253 | D35: 99565136 | E35: 0 | F35: 1 | G35: 1 | H35: 0 | I35: 0 | J35: Father | K35: Paternal transmission to child
A36: SPARK | B36: chr11 | C36: 99523253 | D36: 99573829 | E36: 0 | F36: 1 | G36: 1 | H36: 0 | I36: 0 | J36: Mother | K36: No transmission to child
A37: SPARK | B37: chr11 | C37: 99523253 | D37: 99565136 | E37: 0 | F37: 1 | G37: 1 | H37: 0 | I37: 0 | J37: Father | K37: Paternal transmission to child
... A104: SPARK | B104: chr11 | C104: 99523253 | D104: 99565136 | E104: 0 | F104: 1 | G104: 1 | H104: 0 | I104: 0 | J104: Father | K104: Paternal transmission to child

Sheet Table 3- Transmission
A1: Role | B1: Transmission | C1: MSSNG | D1: SPARK | E1: SSC
A2: Proband with ASD | B2: De_novo | C2: 0 | D2: 1 | E2: 0
A3: Proband with ASD | B3: Inherited | C3: 1 | D3: 24 | E3: 4
A4: Unaffected Father | B4: No transmission to child | C4: 0 | D4: 8 | E4: 1
A5: Unaffected Father | B5: Paternal transmission to child | C5: 0 | D5: 13 | E5: 0
A6: Unaffected Mother | B6: Maternal transmission to child | C6: 1 | D6: 15 | E6: 4
A7: Unaffected Mother | B7: No transmission to child | C7: 0 | D7: 8 | E7: 0
A8: Unaffected Sibling | B8: De_novo | C8: 0 | D8: 0 | E8: 2
A9: Unaffected Sibling | B9: Inherited | C9: 0 | D9: 10 | E9: 1

Sheet Table 4-Statistical analyses
A1: Determining whether CNTN5 CNVs are associated with ASD risk
B2: All CNVs (DEL and DUP) | H2: DEL | N2: DUP
B3: Carrier | D3: p-value | E3: OR | F3: 95% CI | H3: Carrier | J3: p-value | K3: OR | L3: 95% CI | N3: Carrier | P3: p-value | Q3: OR | R3: 95% CI
A5: Probands with ASD vs. their unaffected siblings | F5: LL | G5: UL | L5: LL | M5: UL | R5: LL | S5: UL
A6: Generalized linear-mixed effects model of the association between CNTN5 CNVs and ASD risk in probands with ASD vs. their unaffected siblings
A7: NOTE: cases with ASD from Mercati and BBGRE are excluded. Only individuals from family-based cohorts (SSC, SPARK, MSSNG) are included
A8: All CNVs (Exonic and Intronic)
A9: Cases with ASD | B9: =SUM(B13,B17) -> 30 | C9: =B9/SUM('Table 1-Carriers'!C5:C7) -> 0.0020983423 | D9: 0.6339045 | E9: 0.8535566 | F9: 0.4448496 | G9: 1.637765 | H9: =SUM(H13,H17) -> 26 | I9: =H9/SUM('Table 1-Carriers'!C5:C7) -> 0.0018185633 | J9: 0.9170666 | K9: 0.9619508 | L9: 0.4634938 | M9: 1.996466 | N9: =SUM(N13,N17) -> 4 | O9: =N9/SUM('Table 1-Carriers'!C5:C7) -> 0.00027977897 | P9: 0.3548203 | Q9: 0.4932018 | R9: 0.1103483 | S9: 2.204366
A10: Unaffected siblings | B10: =SUM(B14,B18) -> 13 | C10: =B10/'Table 1-Carriers'!C16 -> 0.0024574669 | H10: =SUM(H18) -> 9 | I10: =H10/'Table 1-Carriers'!C16 -> 0.0017013233 | N10: =SUM(N14,N18) -> 3 | O10: =N10/'Table 1-Carriers'!C16 -> 0.00056710775
A12: Exonic
A13: Cases with ASD | B13: 5 | C13: =B13/SUM('Table 1-Carriers'!C5:C7) -> 0.00034972372 | D13: 0.5079278 | E13: 0.6165454 | F13: 0.1472899 | G13: 2.580817 | H13: 2 | I13: =H13/SUM('Table 1-Carriers'!C5:C7) -> 0.00013988949 | J13: 0.8058016 | K13: 0.7399586 | L13: 0.06706041 | M13: 8.164857 | N13: 3 | O13: =N13/SUM('Table 1-Carriers'!C5:C7) -> 0.00020983423 | P13: 0.5189063 | Q13: 0.5549182 | R13: 0.09269172 | S13: 3.322132
A14: Unaffected siblings | B14: 3 | C14: =B14/'Table 1-Carriers'!C16 -> 0.00056710775 | H14: 1 | I14: ='Table 4-Statistical analyses'!H14/'Table 1-Carriers'!C16 -> 0.00018903592 | N14: 2 | O14: ='Table 4-Statistical analyses'!N14/'Table 1-Carriers'!C16 -> 0.00037807183
A16: Intronic
A17: Cases with ASD | B17: 25 | C17: =B17/SUM('Table 1-Carriers'!C5:C7) -> 0.0017486186 | D17: 0.8348314 | E17: 0.9248879 | F17: 0.4439401 | G17: 1.926876 | H17: 24 | I17: =H17/SUM('Table 1-Carriers'!C5:C7) -> 0.0016786738 | J17: 0.9726227 | K17: 0.9866648 | L17: 0.4583437 | M17: 2.123968 | N17: 1 | O17: =N17/SUM('Table 1-Carriers'!C5:C7) -> 6.9944744e-05 | P17: 0.4820143 | Q17: 0.3699636 | R17: 0.02313546 | S17: 5.91616
A18: Unaffected siblings | B18: 10 | C18: =B18/'Table 1-Carriers'!C16 -> 0.0018903592 | H18: 9 | I18: ='Table 4-Statistical analyses'!H18/'Table 1-Carriers'!C16 -> 0.0017013233 | N18: 1 | O18: ='Table 4-Statistical analyses'!N18/'Table 1-Carriers'!C16 -> 0.00018903592
A20: Probands with ASD vs. unselected individuals from the general population
A21: DISCOVERY
A22: Fisher's exact test of enrichment for CNTN5 CNVs between cases with ASD vs. unselected individuals from the general population
A23: All CNVs (Exonic and Intronic) - Mercati and BBGRE cohorts excluded from cases and controls because no intronic CNV information available
A24: Cases with ASD | B24: =SUM('Table 1-Carriers'!D5:D7) -> 30 | C24: =SUM('Table 1-Carriers'!D5:D7)/SUM('Table 1-Carriers'!C5:C7) -> 0.0020983423 | D24: 0.0001168 | E24: 4.132778 | F24: 0.850577 | G24: 10.438604 | H24: =SUM('Table 1-Carriers'!F5:F7) -> 26 | I24: =H24/SUM('Table 1-Carriers'!C5:C7) -> 0.0018185633 | J24: 4.047e-05 | K24: 5.73065 | L24: 2.164883 | M24: 19.115011 | N24: 4 | O24: =N24/SUM('Table 1-Carriers'!C5:C7) -> 0.00027977897 | P24: 0.7154 | Q24: 1.467465 | R24: 0.2481867 | S24: 10.016731
A25: General population | B25: =SUM('Table 1-Carriers'!D23) -> 4 | C25: =B25/SUM('Table 1-Carriers'!C23:C24) -> 0.00025059516 | H25: =SUM('Table 1-Carriers'!F23:F24) -> 4 | I25: =H25/SUM('Table 1-Carriers'!C23:C24) -> 0.00025059516 | N25: =SUM('Table 1-Carriers'!G23:G24) -> 0 | O25: =N25/SUM('Table 1-Carriers'!C23:C24) -> 0
A27: Exonic
A28: Cases with ASD | B28: 7 | C28: 0.000421509 | D28: 0.2439 | E28: 2.073213 | F28: 0.5662993 | G28: 8.2852075 | H28: 4 | I28: =H28/'Table 1-Carriers'!C10 -> 0.00024086229 | J28: 0.2287 | K28: 2.961497 | L28: 0.4243782 | M28: 32.740851 | N28: 3 | O28: ='Table 4-Statistical analyses'!N28/'Table 1-Carriers'!C10 -> 0.00018064672 | P28: 0.3097 | Q28: 4.44193 | R28: 0.3566223 | S28: 232.91547
A29: General population | B29: =SUM('Table 1-Carriers'!H23:H25) -> 5 | C29: =B29/SUM('Table 1-Carriers'!C23:C25) -> 0.00020081934 | H29: =SUM('Table 1-Carriers'!J23:J25) -> 2 | I29: =H29/'Table 1-Carriers'!C26 -> 8.0327737e-05 | N29: =SUM('Table 1-Carriers'!K23:K25) -> 3 | O29: =N29/'Table 1-Carriers'!C26 -> 0.00012049161
A31: Intronic - Mercati cohort excluded because no intronic CNV information available
A32: Cases with ASD | B32: 25 | C32: =B32/SUM('Table 1-Carriers'!C5:C7) -> 0.0017486186 | D32: 4.904e-06 | E32: 9.184548 | F32: 2.801698 | G32: 47.476231 | H32: 24 | I32: =H32/SUM('Table 1-Carriers'!C5:C7) -> 0.0016786738 | J32: 1.68e-05 | K32: 8.816548 | L32: 2.676659 | M32: 45.694473 | N32: 1 | O32: =N32/SUM('Table 1-Carriers'!C5:C7) -> 6.9944744e-05 | P32: 0.4761 | Q32: Inf | R32: 0.02821824 | S32: Inf
A33: General population | B33: =SUM('Table 1-Carriers'!L23:L24) -> 3 | C33: =B33/SUM('Table 1-Carriers'!C23:C24) -> 0.00018794637 | H33: 3 | I33: =H33/SUM('Table 1-Carriers'!C23:C24) -> 0.00018794637 | N33: 0 | O33: =N33/SUM('Table 1-Carriers'!C23:C24) -> 0
A35: REPLICATION
A36: Fisher's exact test of enrichment for CNTN5 CNVs between cases with ASD vs. unselected individuals from the general population (UK Biobank)
A37: All CNVs (Exonic and Intronic) - Mercati and BBGRE cohorts excluded from cases because no intronic CNV information available
A38: Cases with ASD | B38: 30 | C38: 0.0020983423 | D38: 4.481112e-22 | E38: 14.21727 | F38: 8.925982 | G38: 22.144738 | H38: 26 | I38: 0.0018185633 | J38: 2.026161e-21 | K38: 18.21266 | L38: 10.80316 | M38: 30.12191 | N38: 4 | O38: 0.00027977897 | P38: 0.007263998 | Q38: 5.849943 | R38: 1.4651539 | S38: 17.221109
A39: General population | B39: 68 | C39: 0.0001478727 | H39: 46 | I39: =H39/'Table 1-Carriers'!C28 -> 0.00010003153 | N39: 22 | O39: =N39/'Table 1-Carriers'!C28 -> 4.7841167e-05
A41: Exonic
A42: Cases with ASD | B42: 7 | C42: 0.000421509 | D42: 0.001291234 | E42: 4.6919824 | F42: 1.790988 | G42: 10.429988 | H42: 4 | I42: 0.00024086229 | J42: 0.01210757 | K42: 4.9497764 | L42: 1.2551223 | M42: 14.266857 | N42: 3 | O42: 0.00018064672 | P42: 0.03844241 | Q42: 4.3866611 | R42: 0.84049737 | S42: 14.607877
A43: General population | B43: 48 | C43: 0.00010438073 | H43: 26 | I43: =H43/'Table 1-Carriers'!C28 -> 5.6539561e-05 | N43: 22 | O43: =N43/'Table 1-Carriers'!C28 -> 4.7841167e-05
A45: Intronic
A46: Cases with ASD | B46: 25 | C46: 0.0017486186 | D46: 1.459331e-24 | E46: 31.7727 | F46: 17.30905 | G46: 58.63064 | H46: 24 | I46: 0.0016786738 | J46: 1.451562e-22 | K46: 27.72831 | L46: 15.07166 | M46: 51.04705 | N46: 1 | O46: 6.9944744e-05 | P46: 0.03485483 | Q46: Inf | R46: 0.71000922 | S46: Inf
A47: General population | B47: 20 | C47: 4.349197e-05 | H47: 20 | I47: =H47/'Table 1-Carriers'!C28 -> 4.349197e-05 | N47: 0 | O47: ='Table 4-Statistical analyses'!N47/'Table 1-Carriers'!C28 -> 0
A49: Probands with ASD vs. unselected individuals from the general population
A50: Fisher's exact test of enrichment for CNTN5 CNVs between cases with ASD vs. individuals with suspected NDDs from the CHU-SJ clinical cohort
A51: No intronic CNVs identified in CHU-SJ cohort
A52: Exonic
A53: Cases with ASD | B53: 7 | C53: 0.000421509 | D53: 0.09099971 | E53: 4.0620064 | F53: 0.77319362 | G53: 40.080013 | H53: 4 | I53: 0.00024086229 | J53: 0.1892478 | K53: 4.6406546 | L53: 0.4592137 | M53: 228.33621 | N53: 3 | O53: 0.00018064672 | P53: 0.3422331 | Q53: 3.4806997 | R53: 0.2794225 | S53: 182.57218
A54: Cases with NDDs | B54: 2 | C54: 0.00012058362 | H54: 1 | I54: 6.0291812e-05 | N54: 1 | O54: 6.0291812e-05

Sheet Table 5-DECIPHER carriers
A1: Accessed June 2020. A total of 30 CNTN5 CNV (deletions or duplications) are listed among 36,530 patients (0.082%) in the DECIPHER database (decipher.sanger.ac.uk). The phenotype for autism is indicated 3 times in CNTN5 CNV carriers (10%).
A2: DECIPHER Patient | B2: Sex | C2: Location | D2: Size | E2: Inheritance / Genotype | F2: Pathogenicity / Contribution | G2: Phenotype(s)
A3: 767 | B3: 46XX | C3: 11:94103831-105588056 | D3: 11.48 Mb | E3: De novo | G3: Abnormality of the labia, Bifid uvula, Hydrocephalus, Hypoplasia of the corpus callosum, Intellectual disability, Muscular hypotonia, Preauricular pit, Pulmonic stenosis, Seizures, Ventricular septal defect
C4: Duplication | E4: Heterozygous
A5: 249758 | B5: Unknown | C5: 11:92254068-106746797 | D5: 14.49 Mb | E5: Unknown | G5: Bifid nasal tip, Blepharophimosis, Brachycephaly, Intellectual disability, Microcephaly, Pectus excavatum, Short philtrum, Synophrys, Thick lower lip vermilion, Thick upper lip vermilion, Wide nasal bridge
C6: Duplication | E6: Heterozygous
A7: 251178 | B7: 46XY | C7: 11:96650436-99662350 | D7: 3.01 Mb | E7: Inherited from parent with similar phenotype to child
C8: Deletion | E8: Heterozygous
A9: 251725 | B9: 46XY | C9: 11:84405018-103141743 | D9: 18.74 Mb | E9: De novo | G9: Midface retrusion
C10: Deletion | E10: Heterozygous
A11: 261576 | B11: 46XY | C11: 11:96173948-100333707 | D11: 4.16 Mb | E11: Inherited from normal parent | G11: Autism, Intellectual disability, Interictal epileptiform activity, Strabismus
C12: Duplication | E12: Heterozygous
A13: 262828 | B13: 46XY | C13: 11:92765018-106662479 | D13: 13.90 Mb | E13: Inherited from parent with similar phenotype to child | G13: Abnormality of the face
C14: Deletion | E14: Heterozygous
A15: 263349 | B15: 46XY | C15: 11:93126799-102772798 | D15: 9.65 Mb | E15: De novo | G15: Delayed speech and language development, Epicanthus, Feeding difficulties in infancy, Intellectual disability, Joint laxity, Muscular hypotonia
C16: Deletion | E16: Heterozygous
A17: 263430 | B17: 46XY | C17: 11:99025912-99074611 | D17: 48.70 kb | E17: Inherited from normal parent | G17: Abnormality of the chin, Hydrocephalus, Intellectual disability
C18: Deletion | E18: Heterozygous
A19: 270473 | B19: 46XY | C19: 11:93129498-106959524 | D19: 13.83 Mb | E19: De novo | G19: Deeply set eye, Intellectual disability, Macrocephaly, Short stature
C20: Deletion | E20: Heterozygous
A21: 270868 | B21: 46XY | C21: 11:96175999-99111112 | D21: 2.94 Mb | E21: Inherited from normal parent | G21: Cerebral hemorrhage, Coarse facial features, Hydrocephalus, Hypermetropia, Intellectual disability, Macrocephaly, Macroglossia, Protruding tongue, Seizures, Wide mouth
C22: Duplication | E22: Heterozygous
A23: 275403 | B23: 46XX | C23: 11:92903932-106177495 | D23: 13.27 Mb | E23: De novo
C24: Deletion | E24: Heterozygous
A25: 275836 | B25: 46XY | C25: 11:98652335-100268421 | D25: 1.62 Mb | E25: Unknown | G25: Autism, Global developmental delay
C26: Deletion | E26: Heterozygous
A27: 279229 | B27: 46XY | C27: 11:99032916-99074552 | D27: 41.64 kb | E27: Paternally inherited
C28: Deletion | E28: Heterozygous
A29: 280476 | B29: 46XY | C29: 11:90338659-100793328 | D29: 10.45 Mb | E29: De novo | G29: Global developmental delay
C30: Duplication | E30: Heterozygous
A31: 282360 | B31: 46XX | C31: 11:89604352-113918790 | D31: 24.31 Mb | E31: De novo | G31: Iris coloboma
C32: Deletion | E32: Heterozygous
A33: 286222 | B33: 46XY | C33: 11:212739-134267121 | D33: 134.05 Mb | E33: De novo, mosaic | F33: Pathogenic | G33: Abnormality of the foot, Abnormality of the hand
C34: Deletion | E34: Heterozygous
A35: 286904 | B35: 46XX | C35: 11:89998247-102803094 | D35: 12.80 Mb | E35: De novo | F35: Likely pathogenic | G35: Blue sclerae, Cleft palate, Downslanted palpebral fissures, Ectropion of lower eyelids, Fine hair, Hearing abnormality, Hypoplasia of dental enamel, Soft skin
C36: Deletion | E36: Heterozygous
A37: 300792 | B37: 46XX | C37: 11:61479322-134944006 | D37: 73.46 Mb | E37: Unknown | F37: Pathogenic | G37: Asthma, Delayed fine motor development, Delayed speech and language development, Epicanthus, Global developmental delay, Hypertelorism, Long philtrum, Microtia, Thin upper lip vermilion
C38: Duplication | E38: Heterozygous | F38: Uncertain
A39: 318456 | B39: 46XY | C39: 11:96174148-103429879 | D39: 7.26 Mb | E39: Unknown | G39: Delayed gross motor development, Mild expressive language delay, Mild receptive language delay
C40: Deletion | E40: Heterozygous
A41: 337643 | B41: 46XY | C41: 11:98647011-100315873 | D41: 1.67 Mb | E41: Paternally inherited | F41: Uncertain | G41: Mild global developmental delay
C42: Deletion | E42: Heterozygous
A43: 339810 | B43: 46XX | C43: 11:91443021-99432021 | D43: 7.99 Mb | E43: Maternally inherited | F43: Uncertain | G43: Abnormality of the curvature of the vertebral column, Asymmetry of the thorax, Broad face, Broad nasal tip, Deeply set eye, Highly arched eyebrow, Hyperlordosis, Hypertelorism, Hypoplastic fifth toenail, Intellectual disability, borderline, Low-set ears, Metatarsus valgus, Pectus carinatum, Prominent forehead, Specific learning disability, Speech apraxia, Thin upper lip vermilion
C44: Deletion | E44: Heterozygous | F44: Uncertain
A45: 353744 | B45: 46XY | C45: 11:95675329-103270554 | D45: 7.60 Mb | E45: De novo | F45: Pathogenic | G45: Delayed speech and language development, Mild global developmental delay
C46: Deletion | E46: Heterozygous
A47: 355425 | B47: 46XX | C47: 11:89998247-102803094 | D47: 12.80 Mb | E47: De novo | F47: Pathogenic | G47: Blue sclerae, Cleft palate, Downslanted palpebral fissures, Intellectual disability, mild, Sensorineural hearing impairment
C48: Deletion | E48: Heterozygous | F48: Full
A49: 362603 | B49: 46XY | C49: 11:98125610-99585207 | D49: 1.46 Mb | E49: Paternally inherited | F49: Uncertain
C50: Duplication | E50: Heterozygous
A51: 369831 | B51: 46XY | C51: 11:85511195-109605795 | D51: 24.09 Mb | E51: Unknown | F51: Pathogenic | G51: Thickened nuchal skin fold
C52: Deletion | E52: Heterozygous | F52: Full
A53: 394395 | B53: 46XY | C53: 11:99479688-100155296 | D53: 675.61 kb | E53: Paternally inherited | F53: Uncertain | G53: Delayed speech and language development, Global developmental delay
C54: Deletion | E54: Heterozygous | F54: Uncertain
A55: 396147 | B55: 46XX | C55: 11:97494790-121794790 | D55: 24.30 Mb | E55: Unknown | F55: Likely pathogenic | G55: Abnormality of the elbow, Coarse facial features, Convex nasal ridge, Deep palmar crease, Delayed speech and language development, Depressed nasal tip, Everted lower lip vermilion, Hyperextensibility of the finger joints, Hypertelorism, Hypertonia, Hypoplasia of the maxilla, Hypoplastic philtrum, Intellectual disability, Kyphosis, Large hands, Macrotia, Mandibular prognathia, Microcephaly, Muscle fiber atrophy, Prematurely aged appearance, Proportionate short stature, Proptosis, Protruding ear, Ptosis, Scoliosis, Short philtrum, Small face, Spina bifida occulta, Upslanted palpebral fissure, Wide mouth
C56: Duplication | E56: Heterozygous
A57: 396502 | B57: 46XY | C57: 11:92860352-102994790 | D57: 10.13 Mb | E57: De novo | F57: Likely pathogenic | G57: Elbow flexion contracture, Gait disturbance, Hyperextensibility at wrists, Hyperextensibility of the finger joints, Increased laxity of ankles, Knee flexion contracture, Limb undergrowth, Limitation of knee mobility, Limited hip movement, Limited shoulder movement, Metaphyseal dysplasia, Spondyloepiphyseal dysplasia
C58: Deletion | E58: Heterozygous
A59: 398392 | B59: 46XX | C59: 11:92860352-110494790 | D59: 17.63 Mb | E59: De novo | F59: Likely pathogenic | G59: Abnormality of prenatal development or birth, Caesarian section, Cerebellar cyst, Delayed speech and language development, Hydrocephalus, Hydronephrosis, Hypertelorism, Hypoplasia of the corpus callosum, Low-set ears, Muscular hypotonia, Proportionate short stature, Single transverse palmar crease, Talipes equinovarus
C60: Deletion | E60: Heterozygous
A61: 398747 | B61: 46XY | C61: 11:98652335-100307689 | D61: 1.66 Mb | E61: Unknown | F61: Uncertain | G61: Autism, Intellectual disability
C62: Deletion | E62: Heterozygous | F62: Uncertain
