Workbook

Sheet Power Magmatic
E4: MORB Fast | F4: MORB Slow | G4: BASC | H4: ARC | I4: MOR+BASC | K4: Sum | O4: Comments
B6: Tmagma | C6: [°C] | E6: 1250 | F6: 1250 | G6: 1200 | H6: 1100
B7: Crustal Thickness | C7: [km] | E7: 5.8 | F7: 8 | G7: 6 | H7: 15 | O7: Crustal Thickness after: Estep, J., et al. (2019). "Seismic Layer 2A: Evolution and Thickness From 0‐ to 70‐Ma Crust in the Slow‐Intermediate Spreading South Atlantic." Journal of Geophysical Research: Solid Earth 124(8): 7633-7651; Niu, X., et al. (2015). "Along‐axis variation in crustal thickness at the ultraslow spreading Southwest Indian Ridge (50°E) from a wide‐angle seismic experiment." Geochemistry, Geophysics, Geosystems 16(2): 468-485; Jicha, B. R. and O. Jagoutz (2015). "Magma Production Rates for Intraoceanic Arcs." Elements 11(2): 105-111; Aghaei, O., et al. (2014). "Crustal thickness and Moho character of the fast‐spreading East Pacific Rise from 9°42′N to 9°57′N from poststack‐migrated 3‐D MCS data." Geochemistry, Geophysics, Geosystems 15(3): 634-657.
B8: Thickness Extrusives | C8: [km] | E8: 0.35 | F8: 0.75 | G8: 0.55 | H8: 0.75 | O8: Thickness Layer 2A at MOR: after Estep, J., et al. (2019). "Seismic Layer 2A: Evolution and Thickness From 0‐ to 70‐Ma Crust in the Slow‐Intermediate Spreading South Atlantic." Journal of Geophysical Research: Solid Earth 124(8): 7633-7651.
B9: Length Boundary | C9: [km] | E9: 22723 | F9: 37416 | G9: 11145 | H9: 21700 | K9: =SUM(E9:H9) -> 92984 | O9: Lengths: Beaulieu, S. E., Baker, E. T., German, C. R., & Maffei, A. (2013). An authoritative global database for active submarine hydrothermal vent fields. Geochemistry, Geophysics, Geosystems, 14(11), 4892-4905. doi:10.1002/2013gc004998; Beaulieu, S. E., Baker, E. T., & German, C. R. (2015). Where are the undiscovered hydrothermal vents on oceanic spreading ridges? Deep Sea Research Part II: Topical Studies in Oceanography, 121, 202-212. doi:10.1016/j.dsr2.2015.05.001 ; de Ronde, C. E. J. and V. K. Stucker (2015). Seafloor Hydrothermal Venting at Volcanic Arcs and Backarcs. The Encyclopedia of Volcanoes: 823-849.
B10: Spreading Rate Boundary (length-weighted) | C10: [km/Ma] | E10: 83.5 | F10: 18.6 | G10: 46.9 | H10: =(211*3500+220*1000+160*1000+209*1000+162*850+157*2500)/(3500+1000+1000+1000+850+2500)/(H7) -> 12.573266 | O10: Spreading rates: Beaulieu, S. E., Baker, E. T., German, C. R., & Maffei, A. (2013). An authoritative global database for active submarine hydrothermal vent fields. Geochemistry, Geophysics, Geosystems, 14(11), 4892-4905. doi:10.1002/2013gc004998; Beaulieu, S. E., Baker, E. T., & German, C. R. (2015). Where are the undiscovered hydrothermal vents on oceanic spreading ridges? Deep Sea Research Part II: Topical Studies in Oceanography, 121, 202-212. doi:10.1016/j.dsr2.2015.05.001.
B11: Fraction MagmaticRocks | C11: [] | E11: 1 | F11: 0.5 | G11: 1 | H11: 1 | O11: Spreading rate arcs: only formally calculated from magma production rates given in: Jicha, B. R., & Jagoutz, O. (2015). Magma Production Rates for Intraoceanic Arcs. Elements, 11(2), 105-111. doi:10.2113/gselements.11.2.105
B12: Density Magmatic | C12: [kg/km3] | E12: 2800000000000 | F12: 2800000000000 | G12: 2800000000000 | H12: 2800000000000
B13: Density Non Magmatic | C13: [kg/km3] | E13: 3200000000000 | F13: 3200000000000 | G13: 3200000000000 | H13: 3200000000000
B14: Heat of Cryst | C14: [kJ/kg] | E14: 676 | F14: 676 | G14: 676 | H14: 676 | O14: Heat of crystallization after: Fukuyama, H. (1985). "Heat of fusion of basaltic magma." Earth and Planetary Science Letters 73(2-4): 407-414.
B15: Cp | C15: [kJ/kg/K] | E15: =Cp_Rocks!P36/1000 -> 1.0120465 | F15: =Cp_Rocks!P36/1000 -> 1.0120465 | G15: =Cp_Rocks!P36/1000 -> 1.0120465 | H15: =Cp_Rocks!P36/1000 -> 1.0120465 | O15: (see sheet: Cp_Rocks)
B17: MagmaVolumeProd | C17: [km3/a] | E17: =E7*E9*E10*E11/1000000 -> 11.004749 | F17: =F7*F9*F10*F11/1000000 -> 2.7837504 | G17: =G7*G9*G10*G11/1000000 -> 3.136203 | H17: =H7*H9*H10*H11/1000000 -> 4.092598 | K17: =SUM(E17:H17) -> 21.0173 | L17: Global crust vol. prod.
B18: NonMagmatic Volume Production | C18: [km3/a] | E18: =E7*E9*E10*(1-E11)/1000000 -> 0 | F18: =F7*F9*F10*(1-F11)/1000000 -> 2.7837504 | G18: =G7*G9*G10*(1-G11)/1000000 -> 0 | H18: =H7*H9*H10*(1-H11)/1000000 -> 0 | K18: =SUM(E18:H18) -> 2.7837504 | L18: =SUM(K17:K19) -> 25.479199
B19: Extrusives Volume Production | C19: [km3/a] | E19: =E8*E9*E10*(E11)/1000000 -> 0.66407967 | F19: =F8*F9*F10*(1)/1000000 -> 0.5219532 | G19: =G8*G9*G10*(G11)/1000000 -> 0.28748528 | H19: =H8*H9*H10*(H11)/1000000 -> 0.2046299 | K19: =SUM(E19:H19) -> 1.678148
B21: Magmatic MassProd | C21: [kg/a] | E21: =E12*E17 -> 3.0813297e+13 | F21: =F12*F17 -> 7.7945011e+12 | G21: =G12*G17 -> 8781368400000 | H21: =H12*H17 -> 1.1459274e+13 | K21: =SUM(E21:H21) -> 5.8848441e+13 | L21: Global crust mass prod.
B22: Non Magmatic Mass Prod | C22: [kg/a] | E22: =E13*E18 -> 0 | F22: =F13*F18 -> 8908001280000 | G22: =G13*G18 -> 0 | H22: =H13*H18 -> 0 | K22: =SUM(E22:H22) -> 8908001280000 | L22: =SUM(K21:K23) -> 7.2455257e+13
B23: Extrusives Mass Production | C23: [kg/a] | E23: =E12*E19 -> 1859423090000 | F23: =F12*F19 -> 1461468960000 | G23: =G12*G19 -> 8.0495877e+11 | H23: =H12*H19 -> 5.7296372e+11 | K23: =SUM(E23:H23) -> 4.6988145e+12
B25: Heat Cryst | C25: [kJ/a] | E25: =E11*E21*E14 -> 2.0829789e+16 | F25: =F11*F21*F14 -> 2.6345414e+15 | G25: =G11*G21*G14 -> 5.936205e+15 | H25: =H11*H21*H14 -> 7.7464694e+15 | K25: =SUM(E25:H25) -> 3.7147005e+16
B26: HeatCooling | C26: [kJ/a] | E26: =E21/E11*E15*E6 -> 3.898061e+16 | F26: =(F21/F11*F15*F6)+(F22/(1-F11)*F15*F6) -> 4.2259271e+16 | G26: =G21/G11*G15*G6 -> 1.0664583e+16 | H26: =H21/H11*H15*H6 -> 1.275705e+16 | K26: =SUM(E26:H26) -> 1.0466151e+17
B27: Heat of Extrusives | C27: [kJ/a] | E27: =(E11*E23*E14)+(E23/E11*E15*E6) -> 3.6092482e+15 | F27: =(F11*F23*F14)+(F23/F11*F15*F6) -> 4.1916627e+15 | G27: =(G11*G23*G14)+(G23/G11*G15*G6) -> 1.5217389e+15 | H27: =(H11*H23*H14)+(H23/H11*H15*H6) -> 1.025176e+15 | K27: =SUM(E27:H27) -> 1.0347826e+16
B30: Power Cryst | C30: [W] | E30: =E25*1000/(365*24*60*60) -> 6.6050827e+11 | F30: =F25*1000/(365*24*60*60) -> 8.3540759e+10 | G30: =G25*1000/(365*24*60*60) -> 1.8823583e+11 | H30: =H25*1000/(365*24*60*60) -> 2.4563893e+11 | K30: =SUM(E30:H30) -> 1.1779238e+12 | L30: =K30/1000000000000 -> 1.1779238 | M30: TW
B31: Power cooling | C31: [W] | E31: =E26*1000/(365*24*60*60) -> 1.236067e+12 | F31: =F26*1000/(365*24*60*60) -> 1.3400327e+12 | G31: =G26*1000/(365*24*60*60) -> 3.3817172e+11 | H31: =H26*1000/(365*24*60*60) -> 4.0452339e+11 | K31: =SUM(E31:H31) -> 3.3187948e+12 | L31: =K31/1000000000000 -> 3.3187948 | M31: TW
B32: Power total | C32: [W] | E32: =E30+E31 -> 1.8965753e+12 | F32: =F30+F31 -> 1.4235734e+12 | G32: =G30+G31 -> 5.2640754e+11 | H32: =H30+H31 -> 6.5016233e+11 | K32: =SUM(E32:H32) -> 4.4967186e+12 | L32: =K32/1000000000000 -> 4.4967186 | M32: TW
B34: Power Extrusives | C34: [W] | E34: =E27*1000/(365*24*60*60) -> 1.1444851e+11 | F34: =F27*1000/(365*24*60*60) -> 1.3291675e+11 | G34: =G27*1000/(365*24*60*60) -> 4.8254025e+10 | H34: =H27*1000/(365*24*60*60) -> 3.2508116e+10 | K34: =SUM(E34:H34) -> 3.281274e+11 | L34: =K34/1000000000000 -> 0.3281274 | M34: TW
B35: Power Conductive | C35: [W] | E35: =PowerConductive!R31*1000000000000 -> 4.1953872e+11 | F35: =PowerConductive!R57*1000000000000 -> 1.4072069e+11 | G35: =PowerConductive!R83*1000000000000 -> 1.0436049e+11 | H35: =PowerConductive!R109*1000000000000 -> 5.447422e+10 | K35: =SUM(E35:H35) -> 7.1909411e+11 | L35: =K35/1000000000000 -> 0.71909411 | M35: TW | O35: (see sheet: Power Conductive)
B36: Power remaining | C36: [W] | E36: ='Power Remaining'!H47*1000000000000 -> 2.2144725e+11 | F36: ='Power Remaining'!V47*1000000000000 -> 1.2017949e+11 | G36: ='Power Remaining'!AK47*1000000000000 -> 6.2748813e+10 | H36: ='Power Remaining'!AY47*1000000000000 -> 7.278601e+10 | K36: =SUM(E36:H36) -> 4.7716157e+11 | L36: =K36/1000000000000 -> 0.47716157 | M36: TW | O36: (see sheet: Power Remaining)
B38: Maximum Power for Hydrothermal | C38: [W] | E38: =E32-E34-E35-E36 -> 1.1411408e+12 | F38: =F32-F34-F35-F36 -> 1.0297565e+12 | G38: =G32-G34-G35-G36 -> 3.1104422e+11 | H38: =H32-H34-H35-H36 -> 4.9039398e+11 | I38: =SUM(E38:G38) -> 2.4819416e+12 | K38: =SUM(E38:H38) -> 2.9723355e+12 | L38: =K38/1000000000000 -> 2.9723355 | M38: TW
B40: Hydrothermal penetration depth likely | C40: [km] | E40: =E7*0.9 -> 5.22 | F40: =F7*0.9 -> 7.2 | G40: =G7*0.9 -> 5.4 | H40: =H7*0.8 -> 12
B41: Likely Power Hydrothermal Cooling | C41: [W] | E41: =E38*(E40-E8)/(E7-E8) -> 1.0196983e+12 | F41: =F38*(F40-F8)/(F7-F8) -> 9.1612821e+11 | G41: =G38*(G40-G8)/(G7-G8) -> 2.7680082e+11 | H41: =H38*(H40-H8)/(H7-H8) -> 3.8715314e+11 | I41: =SUM(E41:G41) -> 2.2126273e+12 | K41: =SUM(E41:H41) -> 2.5997805e+12 | L41: =K41/1000000000000 -> 2.5997805 | M41: TW
B43: Hydrothermal penetration depth minimum | C43: [km] | E43: =E7*0.8 -> 4.64 | F43: =F7*0.8 -> 6.4 | G43: =G7*0.8 -> 4.8 | H43: =H7*0.6 -> 9
B44: Minimum Power for Hydrothermal Cooling | C44: [W] | E44: =E38*(E43-E8)/(E7-E8) -> 8.982558e+11 | F44: =F38*(F43-F8)/(F7-F8) -> 8.024999e+11 | G44: =G38*(G43-G8)/(G7-G8) -> 2.4255742e+11 | H44: =H38*(H43-H8)/(H7-H8) -> 2.839123e+11 | I44: =SUM(E44:G44) -> 1.9433131e+12 | K44: =SUM(E44:H44) -> 2.2272254e+12 | L44: =K44/1000000000000 -> 2.2272254 | M44: TW

Sheet Cp_Rocks
N2: Coefficients for Cp after Robie & Hemingway 1996, Thermodynamic Properties of Minerals and Related Substances at 298.15 K and 1 Bar Pressure and at Higher Temperatures. U.S. Geol. Survey, Washington DC, Bulletin 2131.
N3: Equation: | O3: Cp [J/mol/K]=A1 + A2*T + A3*T-2 + A4* T-0.5 + A5*T2
B5: CP Peridotite | V5: CP Gabbro
E10: A1 | F10: A2 | G10: A3 | H10: A4 | I10: A5 | N10: Model rock composition | P10: Fraction weight | S10: Fraction weight | Y10: A1 | Z10: A2 | AA10: A3 | AB10: A4 | AC10: A5 | AH10: Model rock composition
D12: forsterite | E12: 87.36 | F12: 0.08717 | G12: -3699000 | H12: 843.6 | I12: -2.237e-05 | K12: 140.688 | N12: forsterite | P12: 0.54 | R12: Ol | S12: =P12+P13 -> 0.64 | X12: forsterite | Y12: 87.36 | Z12: 0.08717 | AA12: -3699000 | AB12: 843.6 | AC12: -2.237e-05 | AE12: 140.688 | AH12: forsterite | AJ12: 0.06 | AL12: Ol | AM12: =AJ12+AJ13 -> 0.08
D13: fayalite | E13: 176.02 | F13: -0.008808 | G13: -3889000 | H13: 0 | I13: 2.471e-05 | K13: 203.768 | N13: fayalite | P13: 0.1 | X13: fayalite | Y13: 176.02 | Z13: -0.008808 | AA13: -3889000 | AB13: 0 | AC13: 2.471e-05 | AE13: 203.768 | AH13: fayalite | AJ13: 0.02
D14: enstatite | E14: 350.7 | F14: -0.1472 | G14: 1769000 | H14: -4296 | I14: 5.826e-05 | K14: 200.77 | N14: enstatite | P14: 0.2 | R14: OPX | S14: =P14+P15 -> 0.25 | X14: albite | Y14: 583.9 | Z14: -0.09285 | AA14: 1678000 | AB14: -6424 | AC14: 2.272e-05 | AE14: 262.214 | AH14: albite | AJ14: 0.32 | AL14: Plag | AM14: =AJ14+AJ15 -> 0.62
D15: ferrosillite | E15: 124.3 | F15: 0.01454 | G15: -3378 | H15: 0 | I15: 0 | K15: 189.998 | N15: ferrosillite | P15: 0.05 | X15: anorthite | Y15: 516.8 | Z15: -0.09249 | AA15: -1408000 | AB15: -4589 | AC15: 4.188e-05 | AE15: 380.156 | AH15: anorthite | AJ15: 0.3
D16: diopside | E16: 470.25 | F16: -0.09864 | G16: 245400 | H16: -4823 | I16: 2.813e-05 | K16: 216.543 | N16: diopside | P16: 0.06 | R16: CPX | S16: =P16 -> 0.06 | X16: diopside | Y16: 470.25 | Z16: -0.09864 | AA16: 245400 | AB16: -4823 | AC16: 2.813e-05 | AE16: 216.543 | AH16: diopside | AJ16: 0.3 | AL16: CPX | AM16: =AJ16 -> 0.3
D17: spinel | E17: 222.9 | F17: 0.006127 | G17: -1686000 | H17: -1551 | I17: 0 | K17: 142.261 | N17: spinel | P17: 0.05 | R17: SP | S17: =P17 -> 0.05
N19: Sum | P19: =SUM(P12:P17) -> 1 | AH19: Sum | AJ19: =SUM(AJ12:AJ17) -> 1
E20: forsterite | F20: fayalite | G20: enstatite | H20: ferrosillite | I20: diopside | J20: spinel | L20: Peridotite | Y20: forsterite | Z20: fayalite | AA20: albite | AB20: anorthite | AC20: diopside | AF20: Gabbro
C21: T °C | D21: T K | W21: T °C | X21: T K
C22: =D22-273.15 -> 0 | D22: 273.15 | E22: =($E$12+$F$12*$D22+$G$12*$D22^(-2)+$H$12*$D22^(-1/2)+$I$12*$D22^2)*(1000/$K$12) -> 788.74688 | F22: =($E$13+$F$13*$D22+$G$13*$D22^(-2)+$H$13*$D22^(-1/2)+$I$13*$D22^2)*(1000/$K$13) -> 605.26675 | G22: =($E$14+$F$14*$D22+$G$14*$D22^(-2)+$H$14*$D22^(-1/2)+$I$14*$D22^2)*(1000/$K$14) -> 391.56483 | H22: =($E$15+$F$15*$D22+$G$15*$D22^(-2)+$H$15*$D22^(-1/2)+$I$15*$D22^2)*(1000/$K$15) -> 674.8825 | I22: =($E$16+$F$16*$D22+$G$16*$D22^(-2)+$H$16*$D22^(-1/2)+$I$16*$D22^2)*(1000/$K$16) -> 724.44398 | J22: =($E$17+$F$17*$D22+$G$17*$D22^(-2)+$H$17*$D22^(-1/2)+$I$17*$D22^2)*(1000/$K$17) -> 760.09131 | L22: =E22*P$12+F22*P$13+G22*P$14+H22*P$15+I22*P$16+J22*P$17 -> 679.97829 | W22: =X22-273.15 -> 0 | X22: 273.15 | Y22: =($Y$12+$Z$12*$X22+$AA$12*$X22^(-2)+$AB$12*$X22^(-1/2)+$AC$12*$X22^2)*(1000/$AE$12) -> 788.74688 | Z22: =($Y$13+$Z$13*$X22+$AA$13*$X22^(-2)+$AB$13*$X22^(-1/2)+$AC$13*$X22^2)*(1000/$AE$13) -> 605.26675 | AA22: =($Y$14+$Z$14*$X22+$AA$14*$X22^(-2)+$AB$14*$X22^(-1/2)+$AC$14*$X22^2)*(1000/$AE$14) -> 739.97494 | AB22: =($Y$15+$Z$15*$X22+$AA$15*$X22^(-2)+$AB$15*$X22^(-1/2)+$AC$15*$X22^2)*(1000/$AE$15) -> 521.17338 | AC22: =($Y$16+$Z$16*$X22+$AA$16*$X22^(-2)+$AB$16*$X22^(-1/2)+$AC$16*$X22^2)*(1000/$AE$16) -> 724.44398 | AF22: =Y22*AJ$12+Z22*AJ$13+AA22*AJ$14+AB22*AJ$15+AC22*AJ$16 -> 669.90734
C23: =D23-273.15 -> 50 | D23: =D22+50 -> 323.15 | E23: =(E$12+F$12*$D23+G$12*$D23^(-2)+H$12*$D23^(-1/2)+I$12*$D23^2)*(1000/K$12) -> 886.35138 | F23: =($E$13+$F$13*$D23+$G$13*$D23^(-2)+$H$13*$D23^(-1/2)+$I$13*$D23^2)*(1000/$K$13) -> 679.75516 | G23: =($E$14+$F$14*$D23+$G$14*$D23^(-2)+$H$14*$D23^(-1/2)+$I$14*$D23^2)*(1000/$K$14) -> 434.20861 | H23: =($E$15+$F$15*$D23+$G$15*$D23^(-2)+$H$15*$D23^(-1/2)+$I$15*$D23^2)*(1000/$K$15) -> 678.7769 | I23: =($E$16+$F$16*$D23+$G$16*$D23^(-2)+$H$16*$D23^(-1/2)+$I$16*$D23^2)*(1000/$K$16) -> 809.84086 | J23: =($E$17+$F$17*$D23+$G$17*$D23^(-2)+$H$17*$D23^(-1/2)+$I$17*$D23^2)*(1000/$K$17) -> 860.77426 | L23: =E23*P$12+F23*P$13+G23*P$14+H23*P$15+I23*P$16+J23*P$17 -> 759.01499 | W23: =X23-273.15 -> 50 | X23: =X22+50 -> 323.15 | Y23: =(Y$12+Z$12*$X23+AA$12*$X23^(-2)+AB$12*$X23^(-1/2)+AC$12*$X23^2)*(1000/AE$12) -> 886.35138 | Z23: =($Y$13+$Z$13*$X23+$AA$13*$X23^(-2)+$AB$13*$X23^(-1/2)+$AC$13*$X23^2)*(1000/$AE$13) -> 679.75516 | AA23: =($Y$14+$Z$14*$X23+$AA$14*$X23^(-2)+$AB$14*$X23^(-1/2)+$AC$14*$X23^2)*(1000/$AE$14) -> 819.86062 | AB23: =($Y$15+$Z$15*$X23+$AA$15*$X23^(-2)+$AB$15*$X23^(-1/2)+$AC$15*$X23^2)*(1000/$AE$15) -> 585.3451 | AC23: =($Y$16+$Z$16*$X23+$AA$16*$X23^(-2)+$AB$16*$X23^(-1/2)+$AC$16*$X23^2)*(1000/$AE$16) -> 809.84086 | AF23: =Y23*AJ$12+Z23*AJ$13+AA23*AJ$14+AB23*AJ$15+AC23*AJ$16 -> 747.68737
C24: =D24-273.15 -> 100 | D24: =D23+50 -> 373.15 | E24: =(E$12+F$12*$D24+G$12*$D24^(-2)+H$12*$D24^(-1/2)+I$12*$D24^2)*(1000/K$12) -> 951.59766 | F24: =($E$13+$F$13*$D24+$G$13*$D24^(-2)+$H$13*$D24^(-1/2)+$I$13*$D24^2)*(1000/$K$13) -> 727.5133 | G24: =($E$14+$F$14*$D24+$G$14*$D24^(-2)+$H$14*$D24^(-1/2)+$I$14*$D24^2)*(1000/$K$14) -> 469.17049 | H24: =($E$15+$F$15*$D24+$G$15*$D24^(-2)+$H$15*$D24^(-1/2)+$I$15*$D24^2)*(1000/$K$15) -> 682.64582 | I24: =($E$16+$F$16*$D24+$G$16*$D24^(-2)+$H$16*$D24^(-1/2)+$I$16*$D24^2)*(1000/$K$16) -> 874.86766 | J24: =($E$17+$F$17*$D24+$G$17*$D24^(-2)+$H$17*$D24^(-1/2)+$I$17*$D24^2)*(1000/$K$17) -> 933.39839 | L24: =E24*P$12+F24*P$13+G24*P$14+H24*P$15+I24*P$16+J24*P$17 -> 813.74244 | W24: =X24-273.15 -> 100 | X24: =X23+50 -> 373.15 | Y24: =(Y$12+Z$12*$X24+AA$12*$X24^(-2)+AB$12*$X24^(-1/2)+AC$12*$X24^2)*(1000/AE$12) -> 951.59766 | Z24: =($Y$13+$Z$13*$X24+$AA$13*$X24^(-2)+$AB$13*$X24^(-1/2)+$AC$13*$X24^2)*(1000/$AE$13) -> 727.5133 | AA24: =($Y$14+$Z$14*$X24+$AA$14*$X24^(-2)+$AB$14*$X24^(-1/2)+$AC$14*$X24^2)*(1000/$AE$14) -> 884.43935 | AB24: =($Y$15+$Z$15*$X24+$AA$15*$X24^(-2)+$AB$15*$X24^(-1/2)+$AC$15*$X24^2)*(1000/$AE$15) -> 632.49073 | AC24: =($Y$16+$Z$16*$X24+$AA$16*$X24^(-2)+$AB$16*$X24^(-1/2)+$AC$16*$X24^2)*(1000/$AE$16) -> 874.86766 | AF24: =Y24*AJ$12+Z24*AJ$13+AA24*AJ$14+AB24*AJ$15+AC24*AJ$16 -> 806.87424
C25: =D25-273.15 -> 150 | D25: =D24+50 -> 423.15 | E25: =(E$12+F$12*$D25+G$12*$D25^(-2)+H$12*$D25^(-1/2)+I$12*$D25^2)*(1000/K$12) -> 999.31849 | F25: =($E$13+$F$13*$D25+$G$13*$D25^(-2)+$H$13*$D25^(-1/2)+$I$13*$D25^2)*(1000/$K$13) -> 760.65867 | G25: =($E$14+$F$14*$D25+$G$14*$D25^(-2)+$H$14*$D25^(-1/2)+$I$14*$D25^2)*(1000/$K$14) -> 497.495 | H25: =($E$15+$F$15*$D25+$G$15*$D25^(-2)+$H$15*$D25^(-1/2)+$I$15*$D25^2)*(1000/$K$15) -> 686.50057 | I25: =($E$16+$F$16*$D25+$G$16*$D25^(-2)+$H$16*$D25^(-1/2)+$I$16*$D25^2)*(1000/$K$16) -> 925.71513 | J25: =($E$17+$F$17*$D25+$G$17*$D25^(-2)+$H$17*$D25^(-1/2)+$I$17*$D25^2)*(1000/$K$17) -> 988.87084 | L25: =E25*P$12+F25*P$13+G25*P$14+H25*P$15+I25*P$16+J25*P$17 -> 854.50833 | W25: =X25-273.15 -> 150 | X25: =X24+50 -> 423.15 | Y25: =(Y$12+Z$12*$X25+AA$12*$X25^(-2)+AB$12*$X25^(-1/2)+AC$12*$X25^2)*(1000/AE$12) -> 999.31849 | Z25: =($Y$13+$Z$13*$X25+$AA$13*$X25^(-2)+$AB$13*$X25^(-1/2)+$AC$13*$X25^2)*(1000/$AE$13) -> 760.65867 | AA25: =($Y$14+$Z$14*$X25+$AA$14*$X25^(-2)+$AB$14*$X25^(-1/2)+$AC$14*$X25^2)*(1000/$AE$14) -> 937.24913 | AB25: =($Y$15+$Z$15*$X25+$AA$15*$X25^(-2)+$AB$15*$X25^(-1/2)+$AC$15*$X25^2)*(1000/$AE$15) -> 668.70703 | AC25: =($Y$16+$Z$16*$X25+$AA$16*$X25^(-2)+$AB$16*$X25^(-1/2)+$AC$16*$X25^2)*(1000/$AE$16) -> 925.71513 | AF25: =Y25*AJ$12+Z25*AJ$13+AA25*AJ$14+AB25*AJ$15+AC25*AJ$16 -> 853.41865
C26: =D26-273.15 -> 200 | D26: =D25+50 -> 473.15 | E26: =(E$12+F$12*$D26+G$12*$D26^(-2)+H$12*$D26^(-1/2)+I$12*$D26^2)*(1000/K$12) -> 1036.7352 | F26: =($E$13+$F$13*$D26+$G$13*$D26^(-2)+$H$13*$D26^(-1/2)+$I$13*$D26^2)*(1000/$K$13) -> 785.26917 | G26: =($E$14+$F$14*$D26+$G$14*$D26^(-2)+$H$14*$D26^(-1/2)+$I$14*$D26^2)*(1000/$K$14) -> 520.48582 | H26: =($E$15+$F$15*$D26+$G$15*$D26^(-2)+$H$15*$D26^(-1/2)+$I$15*$D26^2)*(1000/$K$15) -> 690.3468 | I26: =($E$16+$F$16*$D26+$G$16*$D26^(-2)+$H$16*$D26^(-1/2)+$I$16*$D26^2)*(1000/$K$16) -> 966.30008 | J26: =($E$17+$F$17*$D26+$G$17*$D26^(-2)+$H$17*$D26^(-1/2)+$I$17*$D26^2)*(1000/$K$17) -> 1033.0598 | L26: =E26*P$12+F26*P$13+G26*P$14+H26*P$15+I26*P$16+J26*P$17 -> 886.60941 | W26: =X26-273.15 -> 200 | X26: =X25+50 -> 473.15 | Y26: =(Y$12+Z$12*$X26+AA$12*$X26^(-2)+AB$12*$X26^(-1/2)+AC$12*$X26^2)*(1000/AE$12) -> 1036.7352 | Z26: =($Y$13+$Z$13*$X26+$AA$13*$X26^(-2)+$AB$13*$X26^(-1/2)+$AC$13*$X26^2)*(1000/$AE$13) -> 785.26917 | AA26: =($Y$14+$Z$14*$X26+$AA$14*$X26^(-2)+$AB$14*$X26^(-1/2)+$AC$14*$X26^2)*(1000/$AE$14) -> 980.95735 | AB26: =($Y$15+$Z$15*$X26+$AA$15*$X26^(-2)+$AB$15*$X26^(-1/2)+$AC$15*$X26^2)*(1000/$AE$15) -> 697.49192 | AC26: =($Y$16+$Z$16*$X26+$AA$16*$X26^(-2)+$AB$16*$X26^(-1/2)+$AC$16*$X26^2)*(1000/$AE$16) -> 966.30008 | AF26: =Y26*AJ$12+Z26*AJ$13+AA26*AJ$14+AB26*AJ$15+AC26*AJ$16 -> 890.95345
C27: =D27-273.15 -> 250 | D27: =D26+50 -> 523.15 | E27: =(E$12+F$12*$D27+G$12*$D27^(-2)+H$12*$D27^(-1/2)+I$12*$D27^2)*(1000/K$12) -> 1067.6668 | F27: =($E$13+$F$13*$D27+$G$13*$D27^(-2)+$H$13*$D27^(-1/2)+$I$13*$D27^2)*(1000/$K$13) -> 804.66587 | G27: =($E$14+$F$14*$D27+$G$14*$D27^(-2)+$H$14*$D27^(-1/2)+$I$14*$D27^2)*(1000/$K$14) -> 539.30788 | H27: =($E$15+$F$15*$D27+$G$15*$D27^(-2)+$H$15*$D27^(-1/2)+$I$15*$D27^2)*(1000/$K$15) -> 694.18761 | I27: =($E$16+$F$16*$D27+$G$16*$D27^(-2)+$H$16*$D27^(-1/2)+$I$16*$D27^2)*(1000/$K$16) -> 999.23382 | J27: =($E$17+$F$17*$D27+$G$17*$D27^(-2)+$H$17*$D27^(-1/2)+$I$17*$D27^2)*(1000/$K$17) -> 1069.4022 | L27: =E27*P$12+F27*P$13+G27*P$14+H27*P$15+I27*P$16+J27*P$17 -> 913.00174 | P27: Average low T | W27: =X27-273.15 -> 250 | X27: =X26+50 -> 523.15 | Y27: =(Y$12+Z$12*$X27+AA$12*$X27^(-2)+AB$12*$X27^(-1/2)+AC$12*$X27^2)*(1000/AE$12) -> 1067.6668 | Z27: =($Y$13+$Z$13*$X27+$AA$13*$X27^(-2)+$AB$13*$X27^(-1/2)+$AC$13*$X27^2)*(1000/$AE$13) -> 804.66587 | AA27: =($Y$14+$Z$14*$X27+$AA$14*$X27^(-2)+$AB$14*$X27^(-1/2)+$AC$14*$X27^2)*(1000/$AE$14) -> 1017.5397 | AB27: =($Y$15+$Z$15*$X27+$AA$15*$X27^(-2)+$AB$15*$X27^(-1/2)+$AC$15*$X27^2)*(1000/$AE$15) -> 721.01203 | AC27: =($Y$16+$Z$16*$X27+$AA$16*$X27^(-2)+$AB$16*$X27^(-1/2)+$AC$16*$X27^2)*(1000/$AE$16) -> 999.23382 | AF27: =Y27*AJ$12+Z27*AJ$13+AA27*AJ$14+AB27*AJ$15+AC27*AJ$16 -> 921.83977 | AJ27: Average low T 0-300°C
C28: =D28-273.15 -> 300 | D28: =D27+50 -> 573.15 | E28: =(E$12+F$12*$D28+G$12*$D28^(-2)+H$12*$D28^(-1/2)+I$12*$D28^2)*(1000/K$12) -> 1094.265 | F28: =($E$13+$F$13*$D28+$G$13*$D28^(-2)+$H$13*$D28^(-1/2)+$I$13*$D28^2)*(1000/$K$13) -> 820.78798 | G28: =($E$14+$F$14*$D28+$G$14*$D28^(-2)+$H$14*$D28^(-1/2)+$I$14*$D28^2)*(1000/$K$14) -> 554.92037 | H28: =($E$15+$F$15*$D28+$G$15*$D28^(-2)+$H$15*$D28^(-1/2)+$I$15*$D28^2)*(1000/$K$15) -> 698.02481 | I28: =($E$16+$F$16*$D28+$G$16*$D28^(-2)+$H$16*$D28^(-1/2)+$I$16*$D28^2)*(1000/$K$16) -> 1026.3315 | J28: =($E$17+$F$17*$D28+$G$17*$D28^(-2)+$H$17*$D28^(-1/2)+$I$17*$D28^2)*(1000/$K$17) -> 1100.0472 | L28: =E28*P$12+F28*P$13+G28*P$14+H28*P$15+I28*P$16+J28*P$17 -> 935.44949 | P28: =AVERAGE(L22:L28) -> 834.61495 | Q28: J/kg*K | W28: =X28-273.15 -> 300 | X28: =X27+50 -> 573.15 | Y28: =(Y$12+Z$12*$X28+AA$12*$X28^(-2)+AB$12*$X28^(-1/2)+AC$12*$X28^2)*(1000/AE$12) -> 1094.265 | Z28: =($Y$13+$Z$13*$X28+$AA$13*$X28^(-2)+$AB$13*$X28^(-1/2)+$AC$13*$X28^2)*(1000/$AE$13) -> 820.78798 | AA28: =($Y$14+$Z$14*$X28+$AA$14*$X28^(-2)+$AB$14*$X28^(-1/2)+$AC$14*$X28^2)*(1000/$AE$14) -> 1048.4691 | AB28: =($Y$15+$Z$15*$X28+$AA$15*$X28^(-2)+$AB$15*$X28^(-1/2)+$AC$15*$X28^2)*(1000/$AE$15) -> 740.68988 | AC28: =($Y$16+$Z$16*$X28+$AA$16*$X28^(-2)+$AB$16*$X28^(-1/2)+$AC$16*$X28^2)*(1000/$AE$16) -> 1026.3315 | AF28: =Y28*AJ$12+Z28*AJ$13+AA28*AJ$14+AB28*AJ$15+AC28*AJ$16 -> 947.68819 | AJ28: =AVERAGE(AF22:AF28) -> 834.05271 | AK28: J/kg*K
C29: =D29-273.15 -> 350 | D29: =D28+50 -> 623.15 | E29: =(E$12+F$12*$D29+G$12*$D29^(-2)+H$12*$D29^(-1/2)+I$12*$D29^2)*(1000/K$12) -> 1117.8044 | F29: =($E$13+$F$13*$D29+$G$13*$D29^(-2)+$H$13*$D29^(-1/2)+$I$13*$D29^2)*(1000/$K$13) -> 834.82951 | G29: =($E$14+$F$14*$D29+$G$14*$D29^(-2)+$H$14*$D29^(-1/2)+$I$14*$D29^2)*(1000/$K$14) -> 568.09426 | H29: =($E$15+$F$15*$D29+$G$15*$D29^(-2)+$H$15*$D29^(-1/2)+$I$15*$D29^2)*(1000/$K$15) -> 701.8595 | I29: =($E$16+$F$16*$D29+$G$16*$D29^(-2)+$H$16*$D29^(-1/2)+$I$16*$D29^2)*(1000/$K$16) -> 1048.8984 | J29: =($E$17+$F$17*$D29+$G$17*$D29^(-2)+$H$17*$D29^(-1/2)+$I$17*$D29^2)*(1000/$K$17) -> 1126.4098 | L29: =E29*P$12+F29*P$13+G29*P$14+H29*P$15+I29*P$16+J29*P$17 -> 955.06354 | W29: =X29-273.15 -> 350 | X29: =X28+50 -> 623.15 | Y29: =(Y$12+Z$12*$X29+AA$12*$X29^(-2)+AB$12*$X29^(-1/2)+AC$12*$X29^2)*(1000/AE$12) -> 1117.8044 | Z29: =($Y$13+$Z$13*$X29+$AA$13*$X29^(-2)+$AB$13*$X29^(-1/2)+$AC$13*$X29^2)*(1000/$AE$13) -> 834.82951 | AA29: =($Y$14+$Z$14*$X29+$AA$14*$X29^(-2)+$AB$14*$X29^(-1/2)+$AC$14*$X29^2)*(1000/$AE$14) -> 1074.8592 | AB29: =($Y$15+$Z$15*$X29+$AA$15*$X29^(-2)+$AB$15*$X29^(-1/2)+$AC$15*$X29^2)*(1000/$AE$15) -> 757.50308 | AC29: =($Y$16+$Z$16*$X29+$AA$16*$X29^(-2)+$AB$16*$X29^(-1/2)+$AC$16*$X29^2)*(1000/$AE$16) -> 1048.8984 | AF29: =Y29*AJ$12+Z29*AJ$13+AA29*AJ$14+AB29*AJ$15+AC29*AJ$16 -> 969.64026
C30: =D30-273.15 -> 400 | D30: =D29+50 -> 673.15 | E30: =(E$12+F$12*$D30+G$12*$D30^(-2)+H$12*$D30^(-1/2)+I$12*$D30^2)*(1000/K$12) -> 1139.0702 | F30: =($E$13+$F$13*$D30+$G$13*$D30^(-2)+$H$13*$D30^(-1/2)+$I$13*$D30^2)*(1000/$K$13) -> 847.55826 | G30: =($E$14+$F$14*$D30+$G$14*$D30^(-2)+$H$14*$D30^(-1/2)+$I$14*$D30^2)*(1000/$K$14) -> 579.44662 | H30: =($E$15+$F$15*$D30+$G$15*$D30^(-2)+$H$15*$D30^(-1/2)+$I$15*$D30^2)*(1000/$K$15) -> 705.69241 | I30: =($E$16+$F$16*$D30+$G$16*$D30^(-2)+$H$16*$D30^(-1/2)+$I$16*$D30^2)*(1000/$K$16) -> 1067.9004 | J30: =($E$17+$F$17*$D30+$G$17*$D30^(-2)+$H$17*$D30^(-1/2)+$I$17*$D30^2)*(1000/$K$17) -> 1149.462 | L30: =E30*P$12+F30*P$13+G30*P$14+H30*P$15+I30*P$16+J30*P$17 -> 972.57481 | W30: =X30-273.15 -> 400 | X30: =X29+50 -> 673.15 | Y30: =(Y$12+Z$12*$X30+AA$12*$X30^(-2)+AB$12*$X30^(-1/2)+AC$12*$X30^2)*(1000/AE$12) -> 1139.0702 | Z30: =($Y$13+$Z$13*$X30+$AA$13*$X30^(-2)+$AB$13*$X30^(-1/2)+$AC$13*$X30^2)*(1000/$AE$13) -> 847.55826 | AA30: =($Y$14+$Z$14*$X30+$AA$14*$X30^(-2)+$AB$14*$X30^(-1/2)+$AC$14*$X30^2)*(1000/$AE$14) -> 1097.5649 | AB30: =($Y$15+$Z$15*$X30+$AA$15*$X30^(-2)+$AB$15*$X30^(-1/2)+$AC$15*$X30^2)*(1000/$AE$15) -> 772.14872 | AC30: =($Y$16+$Z$16*$X30+$AA$16*$X30^(-2)+$AB$16*$X30^(-1/2)+$AC$16*$X30^2)*(1000/$AE$16) -> 1067.9004 | AF30: =Y30*AJ$12+Z30*AJ$13+AA30*AJ$14+AB30*AJ$15+AC30*AJ$16 -> 988.53086
C31: =D31-273.15 -> 450 | D31: =D30+50 -> 723.15 | E31: =(E$12+F$12*$D31+G$12*$D31^(-2)+H$12*$D31^(-1/2)+I$12*$D31^2)*(1000/K$12) -> 1158.5627 | F31: =($E$13+$F$13*$D31+$G$13*$D31^(-2)+$H$13*$D31^(-1/2)+$I$13*$D31^2)*(1000/$K$13) -> 859.48615 | G31: =($E$14+$F$14*$D31+$G$14*$D31^(-2)+$H$14*$D31^(-1/2)+$I$14*$D31^2)*(1000/$K$14) -> 589.47313 | H31: =($E$15+$F$15*$D31+$G$15*$D31^(-2)+$H$15*$D31^(-1/2)+$I$15*$D31^2)*(1000/$K$15) -> 709.524 | I31: =($E$16+$F$16*$D31+$G$16*$D31^(-2)+$H$16*$D31^(-1/2)+$I$16*$D31^2)*(1000/$K$16) -> 1084.0689 | J31: =($E$17+$F$17*$D31+$G$17*$D31^(-2)+$H$17*$D31^(-1/2)+$I$17*$D31^2)*(1000/$K$17) -> 1169.8946 | L31: =E31*P$12+F31*P$13+G31*P$14+H31*P$15+I31*P$16+J31*P$17 -> 988.48214 | W31: =X31-273.15 -> 450 | X31: =X30+50 -> 723.15 | Y31: =(Y$12+Z$12*$X31+AA$12*$X31^(-2)+AB$12*$X31^(-1/2)+AC$12*$X31^2)*(1000/AE$12) -> 1158.5627 | Z31: =($Y$13+$Z$13*$X31+$AA$13*$X31^(-2)+$AB$13*$X31^(-1/2)+$AC$13*$X31^2)*(1000/$AE$13) -> 859.48615 | AA31: =($Y$14+$Z$14*$X31+$AA$14*$X31^(-2)+$AB$14*$X31^(-1/2)+$AC$14*$X31^2)*(1000/$AE$14) -> 1117.2525 | AB31: =($Y$15+$Z$15*$X31+$AA$15*$X31^(-2)+$AB$15*$X31^(-1/2)+$AC$15*$X31^2)*(1000/$AE$15) -> 785.13912 | AC31: =($Y$16+$Z$16*$X31+$AA$16*$X31^(-2)+$AB$16*$X31^(-1/2)+$AC$16*$X31^2)*(1000/$AE$16) -> 1084.0689 | AF31: =Y31*AJ$12+Z31*AJ$13+AA31*AJ$14+AB31*AJ$15+AC31*AJ$16 -> 1004.9867
C32: =D32-273.15 -> 500 | D32: =D31+50 -> 773.15 | E32: =(E$12+F$12*$D32+G$12*$D32^(-2)+H$12*$D32^(-1/2)+I$12*$D32^2)*(1000/K$12) -> 1176.6087 | F32: =($E$13+$F$13*$D32+$G$13*$D32^(-2)+$H$13*$D32^(-1/2)+$I$13*$D32^2)*(1000/$K$13) -> 870.96513 | G32: =($E$14+$F$14*$D32+$G$14*$D32^(-2)+$H$14*$D32^(-1/2)+$I$14*$D32^2)*(1000/$K$14) -> 598.57478 | H32: =($E$15+$F$15*$D32+$G$15*$D32^(-2)+$H$15*$D32^(-1/2)+$I$15*$D32^2)*(1000/$K$15) -> 713.35461 | I32: =($E$16+$F$16*$D32+$G$16*$D32^(-2)+$H$16*$D32^(-1/2)+$I$16*$D32^2)*(1000/$K$16) -> 1097.9695 | J32: =($E$17+$F$17*$D32+$G$17*$D32^(-2)+$H$17*$D32^(-1/2)+$I$17*$D32^2)*(1000/$K$17) -> 1188.2131 | L32: =E32*P$12+F32*P$13+G32*P$14+H32*P$15+I32*P$16+J32*P$17 -> 1003.1367 | W32: =X32-273.15 -> 500 | X32: =X31+50 -> 773.15 | Y32: =(Y$12+Z$12*$X32+AA$12*$X32^(-2)+AB$12*$X32^(-1/2)+AC$12*$X32^2)*(1000/AE$12) -> 1176.6087 | Z32: =($Y$13+$Z$13*$X32+$AA$13*$X32^(-2)+$AB$13*$X32^(-1/2)+$AC$13*$X32^2)*(1000/$AE$13) -> 870.96513 | AA32: =($Y$14+$Z$14*$X32+$AA$14*$X32^(-2)+$AB$14*$X32^(-1/2)+$AC$14*$X32^2)*(1000/$AE$14) -> 1134.4493 | AB32: =($Y$15+$Z$15*$X32+$AA$15*$X32^(-2)+$AB$15*$X32^(-1/2)+$AC$15*$X32^2)*(1000/$AE$15) -> 796.86045 | AC32: =($Y$16+$Z$16*$X32+$AA$16*$X32^(-2)+$AB$16*$X32^(-1/2)+$AC$16*$X32^2)*(1000/$AE$16) -> 1097.9695 | AF32: =Y32*AJ$12+Z32*AJ$13+AA32*AJ$14+AB32*AJ$15+AC32*AJ$16 -> 1019.4886
C33: =D33-273.15 -> 550 | D33: =D32+50 -> 823.15 | E33: =(E$12+F$12*$D33+G$12*$D33^(-2)+H$12*$D33^(-1/2)+I$12*$D33^2)*(1000/K$12) -> 1193.4267 | F33: =($E$13+$F$13*$D33+$G$13*$D33^(-2)+$H$13*$D33^(-1/2)+$I$13*$D33^2)*(1000/$K$13) -> 882.24362 | G33: =($E$14+$F$14*$D33+$G$14*$D33^(-2)+$H$14*$D33^(-1/2)+$I$14*$D33^2)*(1000/$K$14) -> 607.07859 | H33: =($E$15+$F$15*$D33+$G$15*$D33^(-2)+$H$15*$D33^(-1/2)+$I$15*$D33^2)*(1000/$K$15) -> 717.18447 | I33: =($E$16+$F$16*$D33+$G$16*$D33^(-2)+$H$16*$D33^(-1/2)+$I$16*$D33^2)*(1000/$K$16) -> 1110.0473 | J33: =($E$17+$F$17*$D33+$G$17*$D33^(-2)+$H$17*$D33^(-1/2)+$I$17*$D33^2)*(1000/$K$17) -> 1204.797 | L33: =E33*P$12+F33*P$13+G33*P$14+H33*P$15+I33*P$16+J33*P$17 -> 1016.7924 | W33: =X33-273.15 -> 550 | X33: =X32+50 -> 823.15 | Y33: =(Y$12+Z$12*$X33+AA$12*$X33^(-2)+AB$12*$X33^(-1/2)+AC$12*$X33^2)*(1000/AE$12) -> 1193.4267 | Z33: =($Y$13+$Z$13*$X33+$AA$13*$X33^(-2)+$AB$13*$X33^(-1/2)+$AC$13*$X33^2)*(1000/$AE$13) -> 882.24362 | AA33: =($Y$14+$Z$14*$X33+$AA$14*$X33^(-2)+$AB$14*$X33^(-1/2)+$AC$14*$X33^2)*(1000/$AE$14) -> 1149.5777 | AB33: =($Y$15+$Z$15*$X33+$AA$15*$X33^(-2)+$AB$15*$X33^(-1/2)+$AC$15*$X33^2)*(1000/$AE$15) -> 807.61012 | AC33: =($Y$16+$Z$16*$X33+$AA$16*$X33^(-2)+$AB$16*$X33^(-1/2)+$AC$16*$X33^2)*(1000/$AE$16) -> 1110.0473 | AF33: =Y33*AJ$12+Z33*AJ$13+AA33*AJ$14+AB33*AJ$15+AC33*AJ$16 -> 1032.4126
C34: =D34-273.15 -> 600 | D34: =D33+50 -> 873.15 | E34: =(E$12+F$12*$D34+G$12*$D34^(-2)+H$12*$D34^(-1/2)+I$12*$D34^2)*(1000/K$12) -> 1209.1652 | F34: =($E$13+$F$13*$D34+$G$13*$D34^(-2)+$H$13*$D34^(-1/2)+$I$13*$D34^2)*(1000/$K$13) -> 893.50103 | G34: =($E$14+$F$14*$D34+$G$14*$D34^(-2)+$H$14*$D34^(-1/2)+$I$14*$D34^2)*(1000/$K$14) -> 615.2536 | H34: =($E$15+$F$15*$D34+$G$15*$D34^(-2)+$H$15*$D34^(-1/2)+$I$15*$D34^2)*(1000/$K$15) -> 721.01375 | I34: =($E$16+$F$16*$D34+$G$16*$D34^(-2)+$H$16*$D34^(-1/2)+$I$16*$D34^2)*(1000/$K$16) -> 1120.6579 | J34: =($E$17+$F$17*$D34+$G$17*$D34^(-2)+$H$17*$D34^(-1/2)+$I$17*$D34^2)*(1000/$K$17) -> 1219.9369 | L34: =E34*P$12+F34*P$13+G34*P$14+H34*P$15+I34*P$16+J34*P$17 -> 1029.6371 | W34: =X34-273.15 -> 600 | X34: =X33+50 -> 873.15 | Y34: =(Y$12+Z$12*$X34+AA$12*$X34^(-2)+AB$12*$X34^(-1/2)+AC$12*$X34^2)*(1000/AE$12) -> 1209.1652 | Z34: =($Y$13+$Z$13*$X34+$AA$13*$X34^(-2)+$AB$13*$X34^(-1/2)+$AC$13*$X34^2)*(1000/$AE$13) -> 893.50103 | AA34: =($Y$14+$Z$14*$X34+$AA$14*$X34^(-2)+$AB$14*$X34^(-1/2)+$AC$14*$X34^2)*(1000/$AE$14) -> 1162.9804 | AB34: =($Y$15+$Z$15*$X34+$AA$15*$X34^(-2)+$AB$15*$X34^(-1/2)+$AC$15*$X34^2)*(1000/$AE$15) -> 817.62142 | AC34: =($Y$16+$Z$16*$X34+$AA$16*$X34^(-2)+$AB$16*$X34^(-1/2)+$AC$16*$X34^2)*(1000/$AE$16) -> 1120.6579 | AF34: =Y34*AJ$12+Z34*AJ$13+AA34*AJ$14+AB34*AJ$15+AC34*AJ$16 -> 1044.0575
C35: =D35-273.15 -> 650 | D35: =D34+50 -> 923.15 | E35: =(E$12+F$12*$D35+G$12*$D35^(-2)+H$12*$D35^(-1/2)+I$12*$D35^2)*(1000/K$12) -> 1223.9268 | F35: =($E$13+$F$13*$D35+$G$13*$D35^(-2)+$H$13*$D35^(-1/2)+$I$13*$D35^2)*(1000/$K$13) -> 904.86952 | G35: =($E$14+$F$14*$D35+$G$14*$D35^(-2)+$H$14*$D35^(-1/2)+$I$14*$D35^2)*(1000/$K$14) -> 623.32297 | H35: =($E$15+$F$15*$D35+$G$15*$D35^(-2)+$H$15*$D35^(-1/2)+$I$15*$D35^2)*(1000/$K$15) -> 724.84256 | I35: =($E$16+$F$16*$D35+$G$16*$D35^(-2)+$H$16*$D35^(-1/2)+$I$16*$D35^2)*(1000/$K$16) -> 1130.0892 | J35: =($E$17+$F$17*$D35+$G$17*$D35^(-2)+$H$17*$D35^(-1/2)+$I$17*$D35^2)*(1000/$K$17) -> 1233.8596 | L35: =E35*P$12+F35*P$13+G35*P$14+H35*P$15+I35*P$16+J35*P$17 -> 1041.8125 | P35: Average all | W35: =X35-273.15 -> 650 | X35: =X34+50 -> 923.15 | Y35: =(Y$12+Z$12*$X35+AA$12*$X35^(-2)+AB$12*$X35^(-1/2)+AC$12*$X35^2)*(1000/AE$12) -> 1223.9268 | Z35: =($Y$13+$Z$13*$X35+$AA$13*$X35^(-2)+$AB$13*$X35^(-1/2)+$AC$13*$X35^2)*(1000/$AE$13) -> 904.86952 | AA35: =($Y$14+$Z$14*$X35+$AA$14*$X35^(-2)+$AB$14*$X35^(-1/2)+$AC$14*$X35^2)*(1000/$AE$14) -> 1174.9384 | AB35: =($Y$15+$Z$15*$X35+$AA$15*$X35^(-2)+$AB$15*$X35^(-1/2)+$AC$15*$X35^2)*(1000/$AE$15) -> 827.08034 | AC35: =($Y$16+$Z$16*$X35+$AA$16*$X35^(-2)+$AB$16*$X35^(-1/2)+$AC$16*$X35^2)*(1000/$AE$16) -> 1130.0892 | AF35: =Y35*AJ$12+Z35*AJ$13+AA35*AJ$14+AB35*AJ$15+AC35*AJ$16 -> 1054.6642 | AJ35: Average all
C36: =D36-273.15 -> 700 | D36: =D35+50 -> 973.15 | E36: =(E$12+F$12*$D36+G$12*$D36^(-2)+H$12*$D36^(-1/2)+I$12*$D36^2)*(1000/K$12) -> 1237.7828 | F36: =($E$13+$F$13*$D36+$G$13*$D36^(-2)+$H$13*$D36^(-1/2)+$I$13*$D36^2)*(1000/$K$13) -> 916.44822 | G36: =($E$14+$F$14*$D36+$G$14*$D36^(-2)+$H$14*$D36^(-1/2)+$I$14*$D36^2)*(1000/$K$14) -> 631.47333 | H36: =($E$15+$F$15*$D36+$G$15*$D36^(-2)+$H$15*$D36^(-1/2)+$I$15*$D36^2)*(1000/$K$15) -> 728.67101 | I36: =($E$16+$F$16*$D36+$G$16*$D36^(-2)+$H$16*$D36^(-1/2)+$I$16*$D36^2)*(1000/$K$16) -> 1138.5773 | J36: =($E$17+$F$17*$D36+$G$17*$D36^(-2)+$H$17*$D36^(-1/2)+$I$17*$D36^2)*(1000/$K$17) -> 1246.7452 | L36: =E36*P$12+F36*P$13+G36*P$14+H36*P$15+I36*P$16+J36*P$17 -> 1053.4276 | P36: =AVERAGE(L22:L48) -> 1012.0465 | Q36: J/kg*K | W36: =X36-273.15 -> 700 | X36: =X35+50 -> 973.15 | Y36: =(Y$12+Z$12*$X36+AA$12*$X36^(-2)+AB$12*$X36^(-1/2)+AC$12*$X36^2)*(1000/AE$12) -> 1237.7828 | Z36: =($Y$13+$Z$13*$X36+$AA$13*$X36^(-2)+$AB$13*$X36^(-1/2)+$AC$13*$X36^2)*(1000/$AE$13) -> 916.44822 | AA36: =($Y$14+$Z$14*$X36+$AA$14*$X36^(-2)+$AB$14*$X36^(-1/2)+$AC$14*$X36^2)*(1000/$AE$14) -> 1185.6846 | AB36: =($Y$15+$Z$15*$X36+$AA$15*$X36^(-2)+$AB$15*$X36^(-1/2)+$AC$15*$X36^2)*(1000/$AE$15) -> 836.13721 | AC36: =($Y$16+$Z$16*$X36+$AA$16*$X36^(-2)+$AB$16*$X36^(-1/2)+$AC$16*$X36^2)*(1000/$AE$16) -> 1138.5773 | AF36: =Y36*AJ$12+Z36*AJ$13+AA36*AJ$14+AB36*AJ$15+AC36*AJ$16 -> 1064.4294 | AJ36: =AVERAGE(AF22:AF48) -> 1015.0625 | AK36: J/kg*K
C37: =D37-273.15 -> 750 | D37: =D36+50 -> 1023.15 | E37: =(E$12+F$12*$D37+G$12*$D37^(-2)+H$12*$D37^(-1/2)+I$12*$D37^2)*(1000/K$12) -> 1250.7834 | F37: =($E$13+$F$13*$D37+$G$13*$D37^(-2)+$H$13*$D37^(-1/2)+$I$13*$D37^2)*(1000/$K$13) -> 928.31262 | G37: =($E$14+$F$14*$D37+$G$14*$D37^(-2)+$H$14*$D37^(-1/2)+$I$14*$D37^2)*(1000/$K$14) -> 639.86194 | H37: =($E$15+$F$15*$D37+$G$15*$D37^(-2)+$H$15*$D37^(-1/2)+$I$15*$D37^2)*(1000/$K$15) -> 732.49915 | I37: =($E$16+$F$16*$D37+$G$16*$D37^(-2)+$H$16*$D37^(-1/2)+$I$16*$D37^2)*(1000/$K$16) -> 1146.3176 | J37: =($E$17+$F$17*$D37+$G$17*$D37^(-2)+$H$17*$D37^(-1/2)+$I$17*$D37^2)*(1000/$K$17) -> 1258.7385 | L37: =E37*P$12+F37*P$13+G37*P$14+H37*P$15+I37*P$16+J37*P$17 -> 1064.5676 | W37: =X37-273.15 -> 750 | X37: =X36+50 -> 1023.15 | Y37: =(Y$12+Z$12*$X37+AA$12*$X37^(-2)+AB$12*$X37^(-1/2)+AC$12*$X37^2)*(1000/AE$12) -> 1250.7834 | Z37: =($Y$13+$Z$13*$X37+$AA$13*$X37^(-2)+$AB$13*$X37^(-1/2)+$AC$13*$X37^2)*(1000/$AE$13) -> 928.31262 | AA37: =($Y$14+$Z$14*$X37+$AA$14*$X37^(-2)+$AB$14*$X37^(-1/2)+$AC$14*$X37^2)*(1000/$AE$14) -> 1195.4136 | AB37: =($Y$15+$Z$15*$X37+$AA$15*$X37^(-2)+$AB$15*$X37^(-1/2)+$AC$15*$X37^2)*(1000/$AE$15) -> 844.91507 | AC37: =($Y$16+$Z$16*$X37+$AA$16*$X37^(-2)+$AB$16*$X37^(-1/2)+$AC$16*$X37^2)*(1000/$AE$16) -> 1146.3176 | AF37: =Y37*AJ$12+Z37*AJ$13+AA37*AJ$14+AB37*AJ$15+AC37*AJ$16 -> 1073.5154
C38: =D38-273.15 -> 800 | D38: =D37+50 -> 1073.15 | E38: =(E$12+F$12*$D38+G$12*$D38^(-2)+H$12*$D38^(-1/2)+I$12*$D38^2)*(1000/K$12) -> 1262.9639 | F38: =($E$13+$F$13*$D38+$G$13*$D38^(-2)+$H$13*$D38^(-1/2)+$I$13*$D38^2)*(1000/$K$13) -> 940.52107 | G38: =($E$14+$F$14*$D38+$G$14*$D38^(-2)+$H$14*$D38^(-1/2)+$I$14*$D38^2)*(1000/$K$14) -> 648.62229 | H38: =($E$15+$F$15*$D38+$G$15*$D38^(-2)+$H$15*$D38^(-1/2)+$I$15*$D38^2)*(1000/$K$15) -> 736.32706 | I38: =($E$16+$F$16*$D38+$G$16*$D38^(-2)+$H$16*$D38^(-1/2)+$I$16*$D38^2)*(1000/$K$16) -> 1153.4737 | J38: =($E$17+$F$17*$D38+$G$17*$D38^(-2)+$H$17*$D38^(-1/2)+$I$17*$D38^2)*(1000/$K$17) -> 1269.9573 | L38: =E38*P$12+F38*P$13+G38*P$14+H38*P$15+I38*P$16+J38*P$17 -> 1075.2997 | W38: =X38-273.15 -> 800 | X38: =X37+50 -> 1073.15 | Y38: =(Y$12+Z$12*$X38+AA$12*$X38^(-2)+AB$12*$X38^(-1/2)+AC$12*$X38^2)*(1000/AE$12) -> 1262.9639 | Z38: =($Y$13+$Z$13*$X38+$AA$13*$X38^(-2)+$AB$13*$X38^(-1/2)+$AC$13*$X38^2)*(1000/$AE$13) -> 940.52107 | AA38: =($Y$14+$Z$14*$X38+$AA$14*$X38^(-2)+$AB$14*$X38^(-1/2)+$AC$14*$X38^2)*(1000/$AE$14) -> 1204.2896 | AB38: =($Y$15+$Z$15*$X38+$AA$15*$X38^(-2)+$AB$15*$X38^(-1/2)+$AC$15*$X38^2)*(1000/$AE$15) -> 853.51573 | AC38: =($Y$16+$Z$16*$X38+$AA$16*$X38^(-2)+$AB$16*$X38^(-1/2)+$AC$16*$X38^2)*(1000/$AE$16) -> 1153.4737 | AF38: =Y38*AJ$12+Z38*AJ$13+AA38*AJ$14+AB38*AJ$15+AC38*AJ$16 -> 1082.0578
C39: =D39-273.15 -> 850 | D39: =D38+50 -> 1123.15 | E39: =(E$12+F$12*$D39+G$12*$D39^(-2)+H$12*$D39^(-1/2)+I$12*$D39^2)*(1000/K$12) -> 1274.3495 | F39: =($E$13+$F$13*$D39+$G$13*$D39^(-2)+$H$13*$D39^(-1/2)+$I$13*$D39^2)*(1000/$K$13) -> 953.11922 | G39: =($E$14+$F$14*$D39+$G$14*$D39^(-2)+$H$14*$D39^(-1/2)+$I$14*$D39^2)*(1000/$K$14) -> 657.86844 | H39: =($E$15+$F$15*$D39+$G$15*$D39^(-2)+$H$15*$D39^(-1/2)+$I$15*$D39^2)*(1000/$K$15) -> 740.15476 | I39: =($E$16+$F$16*$D39+$G$16*$D39^(-2)+$H$16*$D39^(-1/2)+$I$16*$D39^2)*(1000/$K$16) -> 1160.1834 | J39: =($E$17+$F$17*$D39+$G$17*$D39^(-2)+$H$17*$D39^(-1/2)+$I$17*$D39^2)*(1000/$K$17) -> 1280.4988 | L39: =E39*P$12+F39*P$13+G39*P$14+H39*P$15+I39*P$16+J39*P$17 -> 1085.678 | W39: =X39-273.15 -> 850 | X39: =X38+50 -> 1123.15 | Y39: =(Y$12+Z$12*$X39+AA$12*$X39^(-2)+AB$12*$X39^(-1/2)+AC$12*$X39^2)*(1000/AE$12) -> 1274.3495 | Z39: =($Y$13+$Z$13*$X39+$AA$13*$X39^(-2)+$AB$13*$X39^(-1/2)+$AC$13*$X39^2)*(1000/$AE$13) -> 953.11922 | AA39: =($Y$14+$Z$14*$X39+$AA$14*$X39^(-2)+$AB$14*$X39^(-1/2)+$AC$14*$X39^2)*(1000/$AE$14) -> 1212.452 | AB39: =($Y$15+$Z$15*$X39+$AA$15*$X39^(-2)+$AB$15*$X39^(-1/2)+$AC$15*$X39^2)*(1000/$AE$15) -> 862.0243 | AC39: =($Y$16+$Z$16*$X39+$AA$16*$X39^(-2)+$AB$16*$X39^(-1/2)+$AC$16*$X39^2)*(1000/$AE$16) -> 1160.1834 | AF39: =Y39*AJ$12+Z39*AJ$13+AA39*AJ$14+AB39*AJ$15+AC39*AJ$16 -> 1090.1703
C40: =D40-273.15 -> 900 | D40: =D39+50 -> 1173.15 | E40: =(E$12+F$12*$D40+G$12*$D40^(-2)+H$12*$D40^(-1/2)+I$12*$D40^2)*(1000/K$12) -> 1284.9578 | F40: =($E$13+$F$13*$D40+$G$13*$D40^(-2)+$H$13*$D40^(-1/2)+$I$13*$D40^2)*(1000/$K$13) -> 966.14319 | G40: =($E$14+$F$14*$D40+$G$14*$D40^(-2)+$H$14*$D40^(-1/2)+$I$14*$D40^2)*(1000/$K$14) -> 667.69844 | H40: =($E$15+$F$15*$D40+$G$15*$D40^(-2)+$H$15*$D40^(-1/2)+$I$15*$D40^2)*(1000/$K$15) -> 743.98229 | I40: =($E$16+$F$16*$D40+$G$16*$D40^(-2)+$H$16*$D40^(-1/2)+$I$16*$D40^2)*(1000/$K$16) -> 1166.5642 | J40: =($E$17+$F$17*$D40+$G$17*$D40^(-2)+$H$17*$D40^(-1/2)+$I$17*$D40^2)*(1000/$K$17) -> 1290.4441 | L40: =E40*P$12+F40*P$13+G40*P$14+H40*P$15+I40*P$16+J40*P$17 -> 1095.7464 | W40: =X40-273.15 -> 900 | X40: =X39+50 -> 1173.15 | Y40: =(Y$12+Z$12*$X40+AA$12*$X40^(-2)+AB$12*$X40^(-1/2)+AC$12*$X40^2)*(1000/AE$12) -> 1284.9578 | Z40: =($Y$13+$Z$13*$X40+$AA$13*$X40^(-2)+$AB$13*$X40^(-1/2)+$AC$13*$X40^2)*(1000/$AE$13) -> 966.14319 | AA40: =($Y$14+$Z$14*$X40+$AA$14*$X40^(-2)+$AB$14*$X40^(-1/2)+$AC$14*$X40^2)*(1000/$AE$14) -> 1220.0199 | AB40: =($Y$15+$Z$15*$X40+$AA$15*$X40^(-2)+$AB$15*$X40^(-1/2)+$AC$15*$X40^2)*(1000/$AE$15) -> 870.5125 | AC40: =($Y$16+$Z$16*$X40+$AA$16*$X40^(-2)+$AB$16*$X40^(-1/2)+$AC$16*$X40^2)*(1000/$AE$16) -> 1166.5642 | AF40: =Y40*AJ$12+Z40*AJ$13+AA40*AJ$14+AB40*AJ$15+AC40*AJ$16 -> 1097.9497
C41: =D41-273.15 -> 950 | D41: =D40+50 -> 1223.15 | E41: =(E$12+F$12*$D41+G$12*$D41^(-2)+H$12*$D41^(-1/2)+I$12*$D41^2)*(1000/K$12) -> 1294.801 | F41: =($E$13+$F$13*$D41+$G$13*$D41^(-2)+$H$13*$D41^(-1/2)+$I$13*$D41^2)*(1000/$K$13) -> 979.62189 | G41: =($E$14+$F$14*$D41+$G$14*$D41^(-2)+$H$14*$D41^(-1/2)+$I$14*$D41^2)*(1000/$K$14) -> 678.19711 | H41: =($E$15+$F$15*$D41+$G$15*$D41^(-2)+$H$15*$D41^(-1/2)+$I$15*$D41^2)*(1000/$K$15) -> 747.80968 | I41: =($E$16+$F$16*$D41+$G$16*$D41^(-2)+$H$16*$D41^(-1/2)+$I$16*$D41^2)*(1000/$K$16) -> 1172.7164 | J41: =($E$17+$F$17*$D41+$G$17*$D41^(-2)+$H$17*$D41^(-1/2)+$I$17*$D41^2)*(1000/$K$17) -> 1299.861 | L41: =E41*P$12+F41*P$13+G41*P$14+H41*P$15+I41*P$16+J41*P$17 -> 1105.5407 | W41: =X41-273.15 -> 950 | X41: =X40+50 -> 1223.15 | Y41: =(Y$12+Z$12*$X41+AA$12*$X41^(-2)+AB$12*$X41^(-1/2)+AC$12*$X41^2)*(1000/AE$12) -> 1294.801 | Z41: =($Y$13+$Z$13*$X41+$AA$13*$X41^(-2)+$AB$13*$X41^(-1/2)+$AC$13*$X41^2)*(1000/$AE$13) -> 979.62189 | AA41: =($Y$14+$Z$14*$X41+$AA$14*$X41^(-2)+$AB$14*$X41^(-1/2)+$AC$14*$X41^2)*(1000/$AE$14) -> 1227.0962 | AB41: =($Y$15+$Z$15*$X41+$AA$15*$X41^(-2)+$AB$15*$X41^(-1/2)+$AC$15*$X41^2)*(1000/$AE$15) -> 879.04133 | AC41: =($Y$16+$Z$16*$X41+$AA$16*$X41^(-2)+$AB$16*$X41^(-1/2)+$AC$16*$X41^2)*(1000/$AE$16) -> 1172.7164 | AF41: =Y41*AJ$12+Z41*AJ$13+AA41*AJ$14+AB41*AJ$15+AC41*AJ$16 -> 1105.4786
C42: =D42-273.15 -> 1000 | D42: =D41+50 -> 1273.15 | E42: =(E$12+F$12*$D42+G$12*$D42^(-2)+H$12*$D42^(-1/2)+I$12*$D42^2)*(1000/K$12) -> 1303.8876 | F42: =($E$13+$F$13*$D42+$G$13*$D42^(-2)+$H$13*$D42^(-1/2)+$I$13*$D42^2)*(1000/$K$13) -> 993.57866 | G42: =($E$14+$F$14*$D42+$G$14*$D42^(-2)+$H$14*$D42^(-1/2)+$I$14*$D42^2)*(1000/$K$14) -> 689.4382 | H42: =($E$15+$F$15*$D42+$G$15*$D42^(-2)+$H$15*$D42^(-1/2)+$I$15*$D42^2)*(1000/$K$15) -> 751.63695 | I42: =($E$16+$F$16*$D42+$G$16*$D42^(-2)+$H$16*$D42^(-1/2)+$I$16*$D42^2)*(1000/$K$16) -> 1178.7266 | J42: =($E$17+$F$17*$D42+$G$17*$D42^(-2)+$H$17*$D42^(-1/2)+$I$17*$D42^2)*(1000/$K$17) -> 1308.807 | L42: =E42*P$12+F42*P$13+G42*P$14+H42*P$15+I42*P$16+J42*P$17 -> 1115.0906 | W42: =X42-273.15 -> 1000 | X42: =X41+50 -> 1273.15 | Y42: =(Y$12+Z$12*$X42+AA$12*$X42^(-2)+AB$12*$X42^(-1/2)+AC$12*$X42^2)*(1000/AE$12) -> 1303.8876 | Z42: =($Y$13+$Z$13*$X42+$AA$13*$X42^(-2)+$AB$13*$X42^(-1/2)+$AC$13*$X42^2)*(1000/$AE$13) -> 993.57866 | AA42: =($Y$14+$Z$14*$X42+$AA$14*$X42^(-2)+$AB$14*$X42^(-1/2)+$AC$14*$X42^2)*(1000/$AE$14) -> 1233.7697 | AB42: =($Y$15+$Z$15*$X42+$AA$15*$X42^(-2)+$AB$15*$X42^(-1/2)+$AC$15*$X42^2)*(1000/$AE$15) -> 887.66299 | AC42: =($Y$16+$Z$16*$X42+$AA$16*$X42^(-2)+$AB$16*$X42^(-1/2)+$AC$16*$X42^2)*(1000/$AE$16) -> 1178.7266 | AF42: =Y42*AJ$12+Z42*AJ$13+AA42*AJ$14+AB42*AJ$15+AC42*AJ$16 -> 1112.828
C43: =D43-273.15 -> 1050 | D43: =D42+50 -> 1323.15 | E43: =(E$12+F$12*$D43+G$12*$D43^(-2)+H$12*$D43^(-1/2)+I$12*$D43^2)*(1000/K$12) -> 1312.2234 | F43: =($E$13+$F$13*$D43+$G$13*$D43^(-2)+$H$13*$D43^(-1/2)+$I$13*$D43^2)*(1000/$K$13) -> 1008.0325 | G43: =($E$14+$F$14*$D43+$G$14*$D43^(-2)+$H$14*$D43^(-1/2)+$I$14*$D43^2)*(1000/$K$14) -> 701.48616 | H43: =($E$15+$F$15*$D43+$G$15*$D43^(-2)+$H$15*$D43^(-1/2)+$I$15*$D43^2)*(1000/$K$15) -> 755.46412 | I43: =($E$16+$F$16*$D43+$G$16*$D43^(-2)+$H$16*$D43^(-1/2)+$I$16*$D43^2)*(1000/$K$16) -> 1184.6699 | J43: =($E$17+$F$17*$D43+$G$17*$D43^(-2)+$H$17*$D43^(-1/2)+$I$17*$D43^2)*(1000/$K$17) -> 1317.3314 | L43: =E43*P$12+F43*P$13+G43*P$14+H43*P$15+I43*P$16+J43*P$17 -> 1124.4211 | W43: =X43-273.15 -> 1050 | X43: =X42+50 -> 1323.15 | Y43: =(Y$12+Z$12*$X43+AA$12*$X43^(-2)+AB$12*$X43^(-1/2)+AC$12*$X43^2)*(1000/AE$12) -> 1312.2234 | Z43: =($Y$13+$Z$13*$X43+$AA$13*$X43^(-2)+$AB$13*$X43^(-1/2)+$AC$13*$X43^2)*(1000/$AE$13) -> 1008.0325 | AA43: =($Y$14+$Z$14*$X43+$AA$14*$X43^(-2)+$AB$14*$X43^(-1/2)+$AC$14*$X43^2)*(1000/$AE$14) -> 1240.118 | AB43: =($Y$15+$Z$15*$X43+$AA$15*$X43^(-2)+$AB$15*$X43^(-1/2)+$AC$15*$X43^2)*(1000/$AE$15) -> 896.4225 | AC43: =($Y$16+$Z$16*$X43+$AA$16*$X43^(-2)+$AB$16*$X43^(-1/2)+$AC$16*$X43^2)*(1000/$AE$16) -> 1184.6699 | AF43: =Y43*AJ$12+Z43*AJ$13+AA43*AJ$14+AB43*AJ$15+AC43*AJ$16 -> 1120.0595
C44: =D44-273.15 -> 1100 | D44: =D43+50 -> 1373.15 | E44: =(E$12+F$12*$D44+G$12*$D44^(-2)+H$12*$D44^(-1/2)+I$12*$D44^2)*(1000/K$12) -> 1319.8118 | F44: =($E$13+$F$13*$D44+$G$13*$D44^(-2)+$H$13*$D44^(-1/2)+$I$13*$D44^2)*(1000/$K$13) -> 1022.9991 | G44: =($E$14+$F$14*$D44+$G$14*$D44^(-2)+$H$14*$D44^(-1/2)+$I$14*$D44^2)*(1000/$K$14) -> 714.39759 | H44: =($E$15+$F$15*$D44+$G$15*$D44^(-2)+$H$15*$D44^(-1/2)+$I$15*$D44^2)*(1000/$K$15) -> 759.2912 | I44: =($E$16+$F$16*$D44+$G$16*$D44^(-2)+$H$16*$D44^(-1/2)+$I$16*$D44^2)*(1000/$K$16) -> 1190.6119 | J44: =($E$17+$F$17*$D44+$G$17*$D44^(-2)+$H$17*$D44^(-1/2)+$I$17*$D44^2)*(1000/$K$17) -> 1325.4763 | L44: =E44*P$12+F44*P$13+G44*P$14+H44*P$15+I44*P$16+J44*P$17 -> 1133.5529 | W44: =X44-273.15 -> 1100 | X44: =X43+50 -> 1373.15 | Y44: =(Y$12+Z$12*$X44+AA$12*$X44^(-2)+AB$12*$X44^(-1/2)+AC$12*$X44^2)*(1000/AE$12) -> 1319.8118 | Z44: =($Y$13+$Z$13*$X44+$AA$13*$X44^(-2)+$AB$13*$X44^(-1/2)+$AC$13*$X44^2)*(1000/$AE$13) -> 1022.9991 | AA44: =($Y$14+$Z$14*$X44+$AA$14*$X44^(-2)+$AB$14*$X44^(-1/2)+$AC$14*$X44^2)*(1000/$AE$14) -> 1246.2088 | AB44: =($Y$15+$Z$15*$X44+$AA$15*$X44^(-2)+$AB$15*$X44^(-1/2)+$AC$15*$X44^2)*(1000/$AE$15) -> 905.35888 | AC44: =($Y$16+$Z$16*$X44+$AA$16*$X44^(-2)+$AB$16*$X44^(-1/2)+$AC$16*$X44^2)*(1000/$AE$16) -> 1190.6119 | AF44: =Y44*AJ$12+Z44*AJ$13+AA44*AJ$14+AB44*AJ$15+AC44*AJ$16 -> 1127.2267
C45: =D45-273.15 -> 1150 | D45: =D44+50 -> 1423.15 | E45: =(E$12+F$12*$D45+G$12*$D45^(-2)+H$12*$D45^(-1/2)+I$12*$D45^2)*(1000/K$12) -> 1326.6551 | F45: =($E$13+$F$13*$D45+$G$13*$D45^(-2)+$H$13*$D45^(-1/2)+$I$13*$D45^2)*(1000/$K$13) -> 1038.4912 | G45: =($E$14+$F$14*$D45+$G$14*$D45^(-2)+$H$14*$D45^(-1/2)+$I$14*$D45^2)*(1000/$K$14) -> 728.22243 | H45: =($E$15+$F$15*$D45+$G$15*$D45^(-2)+$H$15*$D45^(-1/2)+$I$15*$D45^2)*(1000/$K$15) -> 763.11821 | I45: =($E$16+$F$16*$D45+$G$16*$D45^(-2)+$H$16*$D45^(-1/2)+$I$16*$D45^2)*(1000/$K$16) -> 1196.6099 | J45: =($E$17+$F$17*$D45+$G$17*$D45^(-2)+$H$17*$D45^(-1/2)+$I$17*$D45^2)*(1000/$K$17) -> 1333.2783 | L45: =E45*P$12+F45*P$13+G45*P$14+H45*P$15+I45*P$16+J45*P$17 -> 1142.5038 | W45: =X45-273.15 -> 1150 | X45: =X44+50 -> 1423.15 | Y45: =(Y$12+Z$12*$X45+AA$12*$X45^(-2)+AB$12*$X45^(-1/2)+AC$12*$X45^2)*(1000/AE$12) -> 1326.6551 | Z45: =($Y$13+$Z$13*$X45+$AA$13*$X45^(-2)+$AB$13*$X45^(-1/2)+$AC$13*$X45^2)*(1000/$AE$13) -> 1038.4912 | AA45: =($Y$14+$Z$14*$X45+$AA$14*$X45^(-2)+$AB$14*$X45^(-1/2)+$AC$14*$X45^2)*(1000/$AE$14) -> 1252.1018 | AB45: =($Y$15+$Z$15*$X45+$AA$15*$X45^(-2)+$AB$15*$X45^(-1/2)+$AC$15*$X45^2)*(1000/$AE$15) -> 914.50617 | AC45: =($Y$16+$Z$16*$X45+$AA$16*$X45^(-2)+$AB$16*$X45^(-1/2)+$AC$16*$X45^2)*(1000/$AE$16) -> 1196.6099 | AF45: =Y45*AJ$12+Z45*AJ$13+AA45*AJ$14+AB45*AJ$15+AC45*AJ$16 -> 1134.3765
C46: =D46-273.15 -> 1200 | D46: =D45+50 -> 1473.15 | E46: =(E$12+F$12*$D46+G$12*$D46^(-2)+H$12*$D46^(-1/2)+I$12*$D46^2)*(1000/K$12) -> 1332.7544 | F46: =($E$13+$F$13*$D46+$G$13*$D46^(-2)+$H$13*$D46^(-1/2)+$I$13*$D46^2)*(1000/$K$13) -> 1054.5198 | G46: =($E$14+$F$14*$D46+$G$14*$D46^(-2)+$H$14*$D46^(-1/2)+$I$14*$D46^2)*(1000/$K$14) -> 743.0049 | H46: =($E$15+$F$15*$D46+$G$15*$D46^(-2)+$H$15*$D46^(-1/2)+$I$15*$D46^2)*(1000/$K$15) -> 766.94515 | I46: =($E$16+$F$16*$D46+$G$16*$D46^(-2)+$H$16*$D46^(-1/2)+$I$16*$D46^2)*(1000/$K$16) -> 1202.7146 | J46: =($E$17+$F$17*$D46+$G$17*$D46^(-2)+$H$17*$D46^(-1/2)+$I$17*$D46^2)*(1000/$K$17) -> 1340.769 | L46: =E46*P$12+F46*P$13+G46*P$14+H46*P$15+I46*P$16+J46*P$17 -> 1151.2889 | W46: =X46-273.15 -> 1200 | X46: =X45+50 -> 1473.15 | Y46: =(Y$12+Z$12*$X46+AA$12*$X46^(-2)+AB$12*$X46^(-1/2)+AC$12*$X46^2)*(1000/AE$12) -> 1332.7544 | Z46: =($Y$13+$Z$13*$X46+$AA$13*$X46^(-2)+$AB$13*$X46^(-1/2)+$AC$13*$X46^2)*(1000/$AE$13) -> 1054.5198 | AA46: =($Y$14+$Z$14*$X46+$AA$14*$X46^(-2)+$AB$14*$X46^(-1/2)+$AC$14*$X46^2)*(1000/$AE$14) -> 1257.8497 | AB46: =($Y$15+$Z$15*$X46+$AA$15*$X46^(-2)+$AB$15*$X46^(-1/2)+$AC$15*$X46^2)*(1000/$AE$15) -> 923.89422 | AC46: =($Y$16+$Z$16*$X46+$AA$16*$X46^(-2)+$AB$16*$X46^(-1/2)+$AC$16*$X46^2)*(1000/$AE$16) -> 1202.7146 | AF46: =Y46*AJ$12+Z46*AJ$13+AA46*AJ$14+AB46*AJ$15+AC46*AJ$16 -> 1141.5502
C47: =D47-273.15 -> 1250 | D47: =D46+50 -> 1523.15 | E47: =(E$12+F$12*$D47+G$12*$D47^(-2)+H$12*$D47^(-1/2)+I$12*$D47^2)*(1000/K$12) -> 1338.1098 | F47: =($E$13+$F$13*$D47+$G$13*$D47^(-2)+$H$13*$D47^(-1/2)+$I$13*$D47^2)*(1000/$K$13) -> 1071.0938 | G47: =($E$14+$F$14*$D47+$G$14*$D47^(-2)+$H$14*$D47^(-1/2)+$I$14*$D47^2)*(1000/$K$14) -> 758.78433 | H47: =($E$15+$F$15*$D47+$G$15*$D47^(-2)+$H$15*$D47^(-1/2)+$I$15*$D47^2)*(1000/$K$15) -> 770.77203 | I47: =($E$16+$F$16*$D47+$G$16*$D47^(-2)+$H$16*$D47^(-1/2)+$I$16*$D47^2)*(1000/$K$16) -> 1208.9705 | J47: =($E$17+$F$17*$D47+$G$17*$D47^(-2)+$H$17*$D47^(-1/2)+$I$17*$D47^2)*(1000/$K$17) -> 1347.9763 | L47: =E47*P$12+F47*P$13+G47*P$14+H47*P$15+I47*P$16+J47*P$17 -> 1159.9212 | W47: =X47-273.15 -> 1250 | X47: =X46+50 -> 1523.15 | Y47: =(Y$12+Z$12*$X47+AA$12*$X47^(-2)+AB$12*$X47^(-1/2)+AC$12*$X47^2)*(1000/AE$12) -> 1338.1098 | Z47: =($Y$13+$Z$13*$X47+$AA$13*$X47^(-2)+$AB$13*$X47^(-1/2)+$AC$13*$X47^2)*(1000/$AE$13) -> 1071.0938 | AA47: =($Y$14+$Z$14*$X47+$AA$14*$X47^(-2)+$AB$14*$X47^(-1/2)+$AC$14*$X47^2)*(1000/$AE$14) -> 1263.4994 | AB47: =($Y$15+$Z$15*$X47+$AA$15*$X47^(-2)+$AB$15*$X47^(-1/2)+$AC$15*$X47^2)*(1000/$AE$15) -> 933.54932 | AC47: =($Y$16+$Z$16*$X47+$AA$16*$X47^(-2)+$AB$16*$X47^(-1/2)+$AC$16*$X47^2)*(1000/$AE$16) -> 1208.9705 | AF47: =Y47*AJ$12+Z47*AJ$13+AA47*AJ$14+AB47*AJ$15+AC47*AJ$16 -> 1148.7842
C48: =D48-273.15 -> 1300 | D48: =D47+50 -> 1573.15 | E48: =(E$12+F$12*$D48+G$12*$D48^(-2)+H$12*$D48^(-1/2)+I$12*$D48^2)*(1000/K$12) -> 1342.7211 | F48: =($E$13+$F$13*$D48+$G$13*$D48^(-2)+$H$13*$D48^(-1/2)+$I$13*$D48^2)*(1000/$K$13) -> 1088.2208 | G48: =($E$14+$F$14*$D48+$G$14*$D48^(-2)+$H$14*$D48^(-1/2)+$I$14*$D48^2)*(1000/$K$14) -> 775.59581 | H48: =($E$15+$F$15*$D48+$G$15*$D48^(-2)+$H$15*$D48^(-1/2)+$I$15*$D48^2)*(1000/$K$15) -> 774.59887 | I48: =($E$16+$F$16*$D48+$G$16*$D48^(-2)+$H$16*$D48^(-1/2)+$I$16*$D48^2)*(1000/$K$16) -> 1215.4176 | J48: =($E$17+$F$17*$D48+$G$17*$D48^(-2)+$H$17*$D48^(-1/2)+$I$17*$D48^2)*(1000/$K$17) -> 1354.9246 | L48: =E48*P$12+F48*P$13+G48*P$14+H48*P$15+I48*P$16+J48*P$17 -> 1168.4118 | W48: =X48-273.15 -> 1300 | X48: =X47+50 -> 1573.15 | Y48: =(Y$12+Z$12*$X48+AA$12*$X48^(-2)+AB$12*$X48^(-1/2)+AC$12*$X48^2)*(1000/AE$12) -> 1342.7211 | Z48: =($Y$13+$Z$13*$X48+$AA$13*$X48^(-2)+$AB$13*$X48^(-1/2)+$AC$13*$X48^2)*(1000/$AE$13) -> 1088.2208 | AA48: =($Y$14+$Z$14*$X48+$AA$14*$X48^(-2)+$AB$14*$X48^(-1/2)+$AC$14*$X48^2)*(1000/$AE$14) -> 1269.0924 | AB48: =($Y$15+$Z$15*$X48+$AA$15*$X48^(-2)+$AB$15*$X48^(-1/2)+$AC$15*$X48^2)*(1000/$AE$15) -> 943.49473 | AC48: =($Y$16+$Z$16*$X48+$AA$16*$X48^(-2)+$AB$16*$X48^(-1/2)+$AC$16*$X48^2)*(1000/$AE$16) -> 1215.4176 | AF48: =Y48*AJ$12+Z48*AJ$13+AA48*AJ$14+AB48*AJ$15+AC48*AJ$16 -> 1156.111

Sheet PowerConductive
B3: Effective Heatflow | F3: Predicted heat flow
B4: Globally binned heatflow dataset | F4: C | G4: 510
B6: after: Hasterok et al., 2011. Oceanic heat flow: Implications for global heat loss. Earth and Planetary Science Letters 311. p. 386-395. | F6: after: Davies & Davies, 2010. Earth’s surface heat flux. Solid Earth, 1, p. 5-24.
K7: Intermediate-Fast
B9: t [Ma] | C9: qunfiltered [mW/m2] | D9: qunfiltered [mW/m2] | F9: t [Ma] | G9: qpredicted [mW/m2] | H9: qeffective [mW/m2] | I9: qhydro [mW/m2] | K9: t [Ma] | L9: qCond [mW/m2] | M9: qhyd [mW/m2] | N9: Δt [Ma] | O9: lbound [km] | P9: vspread [km/Ma] | Q9: A2 [km2] | R9: Pcond [TW] | S9: Pcond,cumul [TW] | T9: Phyd [TW] | U9: Phyd,cumul [TW]
B10: 0 | C10: 276 | D10: 197 | F10: 0.05 | G10: =$G$4/(F10^(1/2)) -> 2280.7893 | H10: =231.33*EXP(-0.091*F10) -> 230.27984 | I10: =G10-H10 -> 2050.5095 | K10: 0.05 | L10: =H10 -> 230.27984 | M10: =I10 -> 2050.5095 | N10: 0.1 | O10: 22723 | P10: 83.5 | Q10: =O10*P10*N10*1000 -> 1.8973705e+08 | R10: =Q10*L10/1000000000000 -> 0.043692617 | S10: =R10 -> 0.043692617 | T10: =Q10*M10/1000000000000 -> 0.38905762 | U10: =T10 -> 0.38905762
B11: 2.5 | C11: 276 | D11: 197 | F11: 0.15 | G11: =$G$4/(F11^(1/2)) -> 1316.8143 | H11: =231.33*EXP(-0.091*F11) -> 228.1938 | I11: =G11-H11 -> 1088.6205 | K11: 0.15 | L11: =H11 -> 228.1938 | M11: =I11 -> 1088.6205 | N11: 0.1 | O11: 22723 | P11: 83.5 | Q11: =O11*P11*N11*1000 -> 1.8973705e+08 | R11: =Q11*L11/1000000000000 -> 0.043296818 | S11: =S10+R11 -> 0.086989436 | T11: =Q11*M11/1000000000000 -> 0.20655165 | U11: =U10+T11 -> 0.59560927
B12: 2.5 | C12: 192 | D12: 215 | F12: 0.25 | G12: =$G$4/(F12^(1/2)) -> 1020 | H12: =231.33*EXP(-0.091*F12) -> 226.12665 | I12: =G12-H12 -> 793.87335 | K12: 0.25 | L12: =H12 -> 226.12665 | M12: =I12 -> 793.87335 | N12: 0.1 | O12: 22723 | P12: 83.5 | Q12: =O12*P12*N12*1000 -> 1.8973705e+08 | R12: =Q12*L12/1000000000000 -> 0.042904604 | S12: =S11+R12 -> 0.12989404 | T12: =Q12*M12/1000000000000 -> 0.15062719 | U12: =U11+T12 -> 0.74623646
B13: 5 | C13: 192 | D13: 215 | F13: 0.35 | G13: =$G$4/(F13^(1/2)) -> 862.05734 | H13: =231.33*EXP(-0.091*F13) -> 224.07824 | I13: =G13-H13 -> 637.9791 | K13: 0.35 | L13: =H13 -> 224.07824 | M13: =I13 -> 637.9791 | N13: 0.1 | O13: 22723 | P13: 83.5 | Q13: =O13*P13*N13*1000 -> 1.8973705e+08 | R13: =Q13*L13/1000000000000 -> 0.042515944 | S13: =S12+R13 -> 0.17240998 | T13: =Q13*M13/1000000000000 -> 0.12104827 | U13: =U12+T13 -> 0.86728473
B14: 5 | C14: 145 | D14: 110 | F14: 0.45 | G14: =$G$4/(F14^(1/2)) -> 760.26311 | H14: =231.33*EXP(-0.091*F14) -> 222.04837 | I14: =G14-H14 -> 538.21474 | K14: 0.45 | L14: =H14 -> 222.04837 | M14: =I14 -> 538.21474 | N14: 0.1 | O14: 22723 | P14: 83.5 | Q14: =O14*P14*N14*1000 -> 1.8973705e+08 | R14: =Q14*L14/1000000000000 -> 0.042130804 | S14: =S13+R14 -> 0.21454079 | T14: =Q14*M14/1000000000000 -> 0.10211928 | U14: =U13+T14 -> 0.96940401
B15: 7.5 | C15: 145 | D15: 110 | F15: 0.55 | G15: =$G$4/(F15^(1/2)) -> 687.68386 | H15: =231.33*EXP(-0.091*F15) -> 220.0369 | I15: =G15-H15 -> 467.64696 | K15: 0.55 | L15: =H15 -> 220.0369 | M15: =I15 -> 467.64696 | N15: 0.1 | O15: 22723 | P15: 83.5 | Q15: =O15*P15*N15*1000 -> 1.8973705e+08 | R15: =Q15*L15/1000000000000 -> 0.041749152 | S15: =S14+R15 -> 0.25628994 | T15: =Q15*M15/1000000000000 -> 0.088729954 | U15: =U14+T15 -> 1.058134
B16: 7.5 | C16: 85 | D16: 98.7 | F16: 0.65 | G16: =$G$4/(F16^(1/2)) -> 632.57715 | H16: =231.33*EXP(-0.091*F16) -> 218.04365 | I16: =G16-H16 -> 414.5335 | K16: 0.65 | L16: =H16 -> 218.04365 | M16: =I16 -> 414.5335 | N16: 0.1 | O16: 22723 | P16: 83.5 | Q16: =O16*P16*N16*1000 -> 1.8973705e+08 | R16: =Q16*L16/1000000000000 -> 0.041370959 | S16: =S15+R16 -> 0.2976609 | T16: =Q16*M16/1000000000000 -> 0.078652363 | U16: =U15+T16 -> 1.1367863
B17: 10 | C17: 85 | D17: 98.7 | F17: 0.75 | G17: =$G$4/(F17^(1/2)) -> 588.89727 | H17: =231.33*EXP(-0.091*F17) -> 216.06845 | I17: =G17-H17 -> 372.82882 | K17: 0.75 | L17: =H17 -> 216.06845 | M17: =I17 -> 372.82882 | N17: 0.1 | O17: 22723 | P17: 83.5 | Q17: =O17*P17*N17*1000 -> 1.8973705e+08 | R17: =Q17*L17/1000000000000 -> 0.040996191 | S17: =S16+R17 -> 0.33865709 | T17: =Q17*M17/1000000000000 -> 0.070739441 | U17: =U16+T17 -> 1.2075258
B18: 10 | C18: 78.7 | D18: 103 | F18: 0.85 | G18: =$G$4/(F18^(1/2)) -> 553.17267 | H18: =231.33*EXP(-0.091*F18) -> 214.11115 | I18: =G18-H18 -> 339.06152 | K18: 0.85 | L18: =H18 -> 214.11115 | M18: =I18 -> 339.06152 | N18: 0.1 | O18: 22723 | P18: 83.5 | Q18: =O18*P18*N18*1000 -> 1.8973705e+08 | R18: =Q18*L18/1000000000000 -> 0.040624818 | S18: =S17+R18 -> 0.37928191 | T18: =Q18*M18/1000000000000 -> 0.064332533 | U18: =U17+T18 -> 1.2718583
B19: 12.5 | C19: 78.7 | D19: 103 | F19: 0.95 | G19: =$G$4/(F19^(1/2)) -> 523.24896 | H19: =231.33*EXP(-0.091*F19) -> 212.17157 | I19: =G19-H19 -> 311.07738 | K19: 0.95 | L19: =H19 -> 212.17157 | M19: =I19 -> 311.07738 | N19: 0.1 | O19: 22723 | P19: 83.5 | Q19: =O19*P19*N19*1000 -> 1.8973705e+08 | R19: =Q19*L19/1000000000000 -> 0.040256809 | S19: =S18+R19 -> 0.41953872 | T19: =Q19*M19/1000000000000 -> 0.059022905 | U19: =U18+T19 -> 1.3308812
B20: 12.5 | C20: 75.4 | D20: 89 | F20: 1.05 | G20: =$G$4/(F20^(1/2)) -> 497.70904 | H20: =231.33*EXP(-0.091*F20) -> 210.24957 | I20: =G20-H20 -> 287.45947 | K20: 1.05 | L20: =H20 -> 210.24957 | M20: =I20 -> 287.45947 | N20: 0.1 | O20: 22723 | P20: 83.5 | Q20: =O20*P20*N20*1000 -> 1.8973705e+08 | R20: =Q20*L20/1000000000000 -> 0.039892134 | S20: =S19+R20 -> 0.45943085 | T20: =Q20*M20/1000000000000 -> 0.054541711 | U20: =U19+T20 -> 1.3854229
B21: 15 | C21: 75.4 | D21: 89 | F21: 1.15 | G21: =$G$4/(F21^(1/2)) -> 475.57745 | H21: =231.33*EXP(-0.091*F21) -> 208.34498 | I21: =G21-H21 -> 267.23247 | K21: 1.15 | L21: =H21 -> 208.34498 | M21: =I21 -> 267.23247 | N21: 0.1 | O21: 22723 | P21: 83.5 | Q21: =O21*P21*N21*1000 -> 1.8973705e+08 | R21: =Q21*L21/1000000000000 -> 0.039530762 | S21: =S20+R21 -> 0.49896161 | T21: =Q21*M21/1000000000000 -> 0.050703901 | U21: =U20+T21 -> 1.4361268
B22: 15 | C22: 80 | D22: 100 | F22: 1.25 | G22: =$G$4/(F22^(1/2)) -> 456.15787 | H22: =231.33*EXP(-0.091*F22) -> 206.45764 | I22: =G22-H22 -> 249.70023 | K22: 1.25 | L22: =H22 -> 206.45764 | M22: =I22 -> 249.70023 | N22: 0.1 | O22: 22723 | P22: 83.5 | Q22: =O22*P22*N22*1000 -> 1.8973705e+08 | R22: =Q22*L22/1000000000000 -> 0.039172664 | S22: =S21+R22 -> 0.53813427 | T22: =Q22*M22/1000000000000 -> 0.047377384 | U22: =U21+T22 -> 1.4835042
... B29: 25 | C29: 61.6 | D29: 98 | F29: 1.95 | G29: =$G$4/(F29^(1/2)) -> 365.21859 | H29: =231.33*EXP(-0.091*F29) -> 193.71641 | I29: =G29-H29 -> 171.50218 | K29: 1.95 | L29: =H29 -> 193.71641 | M29: =I29 -> 171.50218 | N29: 0.1 | O29: 22723 | P29: 83.5 | Q29: =O29*P29*N29*1000 -> 1.8973705e+08 | R29: =Q29*L29/1000000000000 -> 0.036755179 | S29: =S28+R29 -> 0.80258499 | T29: =Q29*M29/1000000000000 -> 0.032540318 | U29: =U28+T29 -> 1.7493397
B30: 25 | C30: 64.5 | D30: 91 | F30: 2.05 | G30: =$G$4/(F30^(1/2)) -> 356.19945
B31: 27.5 | C31: 64.5 | D31: 91 | F31: 2.15 | G31: =$G$4/(F31^(1/2)) -> 347.81711 | P31: Power conductive 0-1Ma | R31: =S19 -> 0.41953872 | S31: Power hydrothermal 0-1Ma | U31: =U19 -> 1.3308812
B32: 27.5 | C32: 65.2 | D32: 85.4 | F32: 2.25 | G32: =$G$4/(F32^(1/2)) -> 340
B33: 30 | C33: 65.2 | D33: 85.4 | F33: 2.35 | G33: =$G$4/(F33^(1/2)) -> 332.68732 | K33: Slow-Ultra slow
B34: 30 | C34: 69 | D34: 78 | F34: 2.45 | G34: =$G$4/(F34^(1/2)) -> 325.82705
B35: 32.5 | C35: 69 | D35: 78 | F35: 2.55 | G35: =$G$4/(F35^(1/2)) -> 319.37439 | K35: t [Ma] | L35: qCond [mW/m2] | M35: qhyd [mW/m2] | N35: Δt [Ma] | O35: lbound [km] | P35: vspread [km/Ma] | Q35: A2 [km2] | R35: Pcond [TW] | S35: Pcond,cumul [TW] | T35: Phyd [TW] | U35: Phyd,cumul [TW]
B36: 32.5 | C36: 62 | D36: 72.5 | F36: 2.65 | G36: =$G$4/(F36^(1/2)) -> 313.29051 | K36: 0.05 | L36: =H10 -> 230.27984 | M36: =I10 -> 2050.5095 | N36: 0.1 | O36: 37416 | P36: 18.6 | Q36: =O36*P36*N36*1000 -> 69593760 | R36: =Q36*L36/1000000000000 -> 0.01602604 | S36: =R36 -> 0.01602604 | T36: =Q36*M36/1000000000000 -> 0.14270267 | U36: =T36 -> 0.14270267
B37: 35 | C37: 62 | D37: 72.5 | F37: 2.75 | G37: =$G$4/(F37^(1/2)) -> 307.54157 | K37: 0.15 | L37: =0.00000000042488*(K37^6)-0.000000253*(K37^5)+0.000058949*(K37^4)-0.0067857*(K37^3)+0.40168*(K37^2)-11.751*(K37)+205.4 -> 203.64636 | M37: =I11 -> 1088.6205 | N37: 0.1 | O37: 37416 | P37: 18.6 | Q37: =O37*P37*N37*1000 -> 69593760 | R37: =Q37*L37/1000000000000 -> 0.014172516 | S37: =S36+R37 -> 0.030198556 | T37: =Q37*M37/1000000000000 -> 0.075761197 | U37: =U36+T37 -> 0.21846386
B38: 35 | C38: 70.8 | D38: 78.5 | F38: 2.85 | G38: =$G$4/(F38^(1/2)) -> 302.09793 | K38: 0.25 | L38: =0.00000000042488*(K38^6)-0.000000253*(K38^5)+0.000058949*(K38^4)-0.0067857*(K38^3)+0.40168*(K38^2)-11.751*(K38)+205.4 -> 202.48725 | M38: =I12 -> 793.87335 | N38: 0.1 | O38: 37416 | P38: 18.6 | Q38: =O38*P38*N38*1000 -> 69593760 | R38: =Q38*L38/1000000000000 -> 0.014091849 | S38: =S37+R38 -> 0.044290405 | T38: =Q38*M38/1000000000000 -> 0.055248631 | U38: =U37+T38 -> 0.27371249
B39: 37.5 | C39: 70.8 | D39: 78.5 | F39: 2.95 | G39: =$G$4/(F39^(1/2)) -> 296.93348 | K39: 0.35 | L39: =0.00000000042488*(K39^6)-0.000000253*(K39^5)+0.000058949*(K39^4)-0.0067857*(K39^3)+0.40168*(K39^2)-11.751*(K39)+205.4 -> 201.33607 | M39: =I13 -> 637.9791 | N39: 0.1 | O39: 37416 | P39: 18.6 | Q39: =O39*P39*N39*1000 -> 69593760 | R39: =Q39*L39/1000000000000 -> 0.014011734 | S39: =S38+R39 -> 0.058302139 | T39: =Q39*M39/1000000000000 -> 0.044399365 | U39: =U38+T39 -> 0.31811186
B40: 37.5 | C40: 53 | D40: 63.1 | F40: 3.05 | G40: =$G$4/(F40^(1/2)) -> 292.02515 | K40: 0.45 | L40: =0.00000000042488*(K40^6)-0.000000253*(K40^5)+0.000058949*(K40^4)-0.0067857*(K40^3)+0.40168*(K40^2)-11.751*(K40)+205.4 -> 200.19277 | M40: =I14 -> 538.21474 | N40: 0.1 | O40: 37416 | P40: 18.6 | Q40: =O40*P40*N40*1000 -> 69593760 | R40: =Q40*L40/1000000000000 -> 0.013932168 | S40: =S39+R40 -> 0.072234307 | T40: =Q40*M40/1000000000000 -> 0.037456387 | U40: =U39+T40 -> 0.35556825
B41: 40 | C41: 53 | D41: 63.1 | F41: 3.15 | G41: =$G$4/(F41^(1/2)) -> 287.35245 | K41: 0.55 | L41: =0.00000000042488*(K41^6)-0.000000253*(K41^5)+0.000058949*(K41^4)-0.0067857*(K41^3)+0.40168*(K41^2)-11.751*(K41)+205.4 -> 199.05733 | M41: =I15 -> 467.64696 | N41: 0.1 | O41: 37416 | P41: 18.6 | Q41: =O41*P41*N41*1000 -> 69593760 | R41: =Q41*L41/1000000000000 -> 0.013853148 | S41: =S40+R41 -> 0.086087455 | T41: =Q41*M41/1000000000000 -> 0.03254531 | U41: =U40+T41 -> 0.38811356
B42: 40 | C42: 70.6 | D42: 76.4 | F42: 3.25 | G42: =$G$4/(F42^(1/2)) -> 282.8971 | K42: 0.65 | L42: =0.00000000042488*(K42^6)-0.000000253*(K42^5)+0.000058949*(K42^4)-0.0067857*(K42^3)+0.40168*(K42^2)-11.751*(K42)+205.4 -> 197.92971 | M42: =I16 -> 414.5335 | N42: 0.1 | O42: 37416 | P42: 18.6 | Q42: =O42*P42*N42*1000 -> 69593760 | R42: =Q42*L42/1000000000000 -> 0.013774673 | S42: =S41+R42 -> 0.099862128 | T42: =Q42*M42/1000000000000 -> 0.028848945 | U42: =U41+T42 -> 0.4169625
