Workbook

Sheet Power Magmatic
E4: MORB Fast | F4: MORB Slow | G4: BASC | H4: ARC | I4: MOR+BASC | K4: Sum | O4: Comments
B6: Tmagma | C6: [°C] | E6: 1250 | F6: 1250 | G6: 1200 | H6: 1100
B7: Crustal Thickness | C7: [km] | E7: 5.8 | F7: 8 | G7: 6 | H7: 15 | O7: Crustal Thickness after: Estep, J., et al. (2019). "Seismic Layer 2A: Evolution and Thickness From 0‐ to 70‐Ma Crust in the Slow‐Intermediate Spreading South Atlantic." Journal of Geophysical Research: Solid Earth 124(8): 7633-7651; Niu, X., et al. (2015). "Along‐axis variation in crustal thickness at the ultraslow spreading Southwest Indian Ridge (50°E) from a wide‐angle seismic experiment." Geochemistry, Geophysics, Geosystems 16(2): 468-485; Jicha, B. R. and O. Jagoutz (2015). "Magma Production Rates for Intraoceanic Arcs." Elements 11(2): 105-111; Aghaei, O., et al. (2014). "Crustal thickness and Moho character of the fast‐spreading East Pacific Rise from 9°42′N to 9°57′N from poststack‐migrated 3‐D MCS data." Geochemistry, Geophysics, Geosystems 15(3): 634-657.
B8: Thickness Extrusives | C8: [km] | E8: 0.35 | F8: 0.75 | G8: 0.55 | H8: 0.75 | O8: Thickness Layer 2A at MOR: after Estep, J., et al. (2019). "Seismic Layer 2A: Evolution and Thickness From 0‐ to 70‐Ma Crust in the Slow‐Intermediate Spreading South Atlantic." Journal of Geophysical Research: Solid Earth 124(8): 7633-7651.
B9: Length Boundary | C9: [km] | E9: 22723 | F9: 37416 | G9: 11145 | H9: 21700 | K9: =SUM(E9:H9) -> 92984 | O9: Lengths: Beaulieu, S. E., Baker, E. T., German, C. R., & Maffei, A. (2013). An authoritative global database for active submarine hydrothermal vent fields. Geochemistry, Geophysics, Geosystems, 14(11), 4892-4905. doi:10.1002/2013gc004998; Beaulieu, S. E., Baker, E. T., & German, C. R. (2015). Where are the undiscovered hydrothermal vents on oceanic spreading ridges? Deep Sea Research Part II: Topical Studies in Oceanography, 121, 202-212. doi:10.1016/j.dsr2.2015.05.001 ; de Ronde, C. E. J. and V. K. Stucker (2015). Seafloor Hydrothermal Venting at Volcanic Arcs and Backarcs. The Encyclopedia of Volcanoes: 823-849.
B10: Spreading Rate Boundary (length-weighted) | C10: [km/Ma] | E10: 83.5 | F10: 18.6 | G10: 46.9 | H10: =(211*3500+220*1000+160*1000+209*1000+162*850+157*2500)/(3500+1000+1000+1000+850+2500)/(H7) -> 12.573266 | O10: Spreading rates: Beaulieu, S. E., Baker, E. T., German, C. R., & Maffei, A. (2013). An authoritative global database for active submarine hydrothermal vent fields. Geochemistry, Geophysics, Geosystems, 14(11), 4892-4905. doi:10.1002/2013gc004998; Beaulieu, S. E., Baker, E. T., & German, C. R. (2015). Where are the undiscovered hydrothermal vents on oceanic spreading ridges? Deep Sea Research Part II: Topical Studies in Oceanography, 121, 202-212. doi:10.1016/j.dsr2.2015.05.001.
B11: Fraction MagmaticRocks | C11: [] | E11: 1 | F11: 0.5 | G11: 1 | H11: 1 | O11: Spreading rate arcs: only formally calculated from magma production rates given in: Jicha, B. R., & Jagoutz, O. (2015). Magma Production Rates for Intraoceanic Arcs. Elements, 11(2), 105-111. doi:10.2113/gselements.11.2.105
B12: Density Magmatic | C12: [kg/km3] | E12: 2800000000000 | F12: 2800000000000 | G12: 2800000000000 | H12: 2800000000000
B13: Density Non Magmatic | C13: [kg/km3] | E13: 3200000000000 | F13: 3200000000000 | G13: 3200000000000 | H13: 3200000000000
B14: Heat of Cryst | C14: [kJ/kg] | E14: 676 | F14: 676 | G14: 676 | H14: 676 | O14: Heat of crystallization after: Fukuyama, H. (1985). "Heat of fusion of basaltic magma." Earth and Planetary Science Letters 73(2-4): 407-414.
B15: Cp | C15: [kJ/kg/K] | E15: =Cp_Rocks!P36/1000 -> 1.0120465 | F15: =Cp_Rocks!P36/1000 -> 1.0120465 | G15: =Cp_Rocks!P36/1000 -> 1.0120465 | H15: =Cp_Rocks!P36/1000 -> 1.0120465 | O15: (see sheet: Cp_Rocks)
B17: MagmaVolumeProd | C17: [km3/a] | E17: =E7*E9*E10*E11/1000000 -> 11.004749 | F17: =F7*F9*F10*F11/1000000 -> 2.7837504 | G17: =G7*G9*G10*G11/1000000 -> 3.136203 | H17: =H7*H9*H10*H11/1000000 -> 4.092598 | K17: =SUM(E17:H17) -> 21.0173 | L17: Global crust vol. prod.
B18: NonMagmatic Volume Production | C18: [km3/a] | E18: =E7*E9*E10*(1-E11)/1000000 -> 0 | F18: =F7*F9*F10*(1-F11)/1000000 -> 2.7837504 | G18: =G7*G9*G10*(1-G11)/1000000 -> 0 | H18: =H7*H9*H10*(1-H11)/1000000 -> 0 | K18: =SUM(E18:H18) -> 2.7837504 | L18: =SUM(K17:K19) -> 25.479199
B19: Extrusives Volume Production | C19: [km3/a] | E19: =E8*E9*E10*(E11)/1000000 -> 0.66407967 | F19: =F8*F9*F10*(1)/1000000 -> 0.5219532 | G19: =G8*G9*G10*(G11)/1000000 -> 0.28748528 | H19: =H8*H9*H10*(H11)/1000000 -> 0.2046299 | K19: =SUM(E19:H19) -> 1.678148
B21: Magmatic MassProd | C21: [kg/a] | E21: =E12*E17 -> 3.0813297e+13 | F21: =F12*F17 -> 7.7945011e+12 | G21: =G12*G17 -> 8781368400000 | H21: =H12*H17 -> 1.1459274e+13 | K21: =SUM(E21:H21) -> 5.8848441e+13 | L21: Global crust mass prod.
B22: Non Magmatic Mass Prod | C22: [kg/a] | E22: =E13*E18 -> 0 | F22: =F13*F18 -> 8908001280000 | G22: =G13*G18 -> 0 | H22: =H13*H18 -> 0 | K22: =SUM(E22:H22) -> 8908001280000 | L22: =SUM(K21:K23) -> 7.2455257e+13
B23: Extrusives Mass Production | C23: [kg/a] | E23: =E12*E19 -> 1859423090000 | F23: =F12*F19 -> 1461468960000 | G23: =G12*G19 -> 8.0495877e+11 | H23: =H12*H19 -> 5.7296372e+11 | K23: =SUM(E23:H23) -> 4.6988145e+12
B25: Heat Cryst | C25: [kJ/a] | E25: =E11*E21*E14 -> 2.0829789e+16 | F25: =F11*F21*F14 -> 2.6345414e+15 | G25: =G11*G21*G14 -> 5.936205e+15 | H25: =H11*H21*H14 -> 7.7464694e+15 | K25: =SUM(E25:H25) -> 3.7147005e+16
B26: HeatCooling | C26: [kJ/a] | E26: =E21/E11*E15*E6 -> 3.898061e+16 | F26: =(F21/F11*F15*F6)+(F22/(1-F11)*F15*F6) -> 4.2259271e+16 | G26: =G21/G11*G15*G6 -> 1.0664583e+16 | H26: =H21/H11*H15*H6 -> 1.275705e+16 | K26: =SUM(E26:H26) -> 1.0466151e+17
B27: Heat of Extrusives | C27: [kJ/a] | E27: =(E11*E23*E14)+(E23/E11*E15*E6) -> 3.6092482e+15 | F27: =(F11*F23*F14)+(F23/F11*F15*F6) -> 4.1916627e+15 | G27: =(G11*G23*G14)+(G23/G11*G15*G6) -> 1.5217389e+15 | H27: =(H11*H23*H14)+(H23/H11*H15*H6) -> 1.025176e+15 | K27: =SUM(E27:H27) -> 1.0347826e+16
B30: Power Cryst | C30: [W] | E30: =E25*1000/(365*24*60*60) -> 6.6050827e+11 | F30: =F25*1000/(365*24*60*60) -> 8.3540759e+10 | G30: =G25*1000/(365*24*60*60) -> 1.8823583e+11 | H30: =H25*1000/(365*24*60*60) -> 2.4563893e+11 | K30: =SUM(E30:H30) -> 1.1779238e+12 | L30: =K30/1000000000000 -> 1.1779238 | M30: TW
B31: Power cooling | C31: [W] | E31: =E26*1000/(365*24*60*60) -> 1.236067e+12 | F31: =F26*1000/(365*24*60*60) -> 1.3400327e+12 | G31: =G26*1000/(365*24*60*60) -> 3.3817172e+11 | H31: =H26*1000/(365*24*60*60) -> 4.0452339e+11 | K31: =SUM(E31:H31) -> 3.3187948e+12 | L31: =K31/1000000000000 -> 3.3187948 | M31: TW
B32: Power total | C32: [W] | E32: =E30+E31 -> 1.8965753e+12 | F32: =F30+F31 -> 1.4235734e+12 | G32: =G30+G31 -> 5.2640754e+11 | H32: =H30+H31 -> 6.5016233e+11 | K32: =SUM(E32:H32) -> 4.4967186e+12 | L32: =K32/1000000000000 -> 4.4967186 | M32: TW
B34: Power Extrusives | C34: [W] | E34: =E27*1000/(365*24*60*60) -> 1.1444851e+11 | F34: =F27*1000/(365*24*60*60) -> 1.3291675e+11 | G34: =G27*1000/(365*24*60*60) -> 4.8254025e+10 | H34: =H27*1000/(365*24*60*60) -> 3.2508116e+10 | K34: =SUM(E34:H34) -> 3.281274e+11 | L34: =K34/1000000000000 -> 0.3281274 | M34: TW
B35: Power Conductive | C35: [W] | E35: =PowerConductive!R31*1000000000000 -> 4.1953872e+11 | F35: =PowerConductive!R57*1000000000000 -> 1.4072069e+11 | G35: =PowerConductive!R83*1000000000000 -> 1.0436049e+11 | H35: =PowerConductive!R109*1000000000000 -> 5.447422e+10 | K35: =SUM(E35:H35) -> 7.1909411e+11 | L35: =K35/1000000000000 -> 0.71909411 | M35: TW | O35: (see sheet: Power Conductive)
B36: Power remaining | C36: [W] | E36: ='Power Remaining'!H47*1000000000000 -> 2.2144725e+11 | F36: ='Power Remaining'!V47*1000000000000 -> 1.2017949e+11 | G36: ='Power Remaining'!AK47*1000000000000 -> 6.2748813e+10 | H36: ='Power Remaining'!AY47*1000000000000 -> 7.278601e+10 | K36: =SUM(E36:H36) -> 4.7716157e+11 | L36: =K36/1000000000000 -> 0.47716157 | M36: TW | O36: (see sheet: Power Remaining)
B38: Maximum Power for Hydrothermal | C38: [W] | E38: =E32-E34-E35-E36 -> 1.1411408e+12 | F38: =F32-F34-F35-F36 -> 1.0297565e+12 | G38: =G32-G34-G35-G36 -> 3.1104422e+11 | H38: =H32-H34-H35-H36 -> 4.9039398e+11 | I38: =SUM(E38:G38) -> 2.4819416e+12 | K38: =SUM(E38:H38) -> 2.9723355e+12 | L38: =K38/1000000000000 -> 2.9723355 | M38: TW
B40: Hydrothermal penetration depth likely | C40: [km] | E40: =E7*0.9 -> 5.22 | F40: =F7*0.9 -> 7.2 | G40: =G7*0.9 -> 5.4 | H40: =H7*0.8 -> 12
B41: Likely Power Hydrothermal Cooling | C41: [W] | E41: =E38*(E40-E8)/(E7-E8) -> 1.0196983e+12 | F41: =F38*(F40-F8)/(F7-F8) -> 9.1612821e+11 | G41: =G38*(G40-G8)/(G7-G8) -> 2.7680082e+11 | H41: =H38*(H40-H8)/(H7-H8) -> 3.8715314e+11 | I41: =SUM(E41:G41) -> 2.2126273e+12 | K41: =SUM(E41:H41) -> 2.5997805e+12 | L41: =K41/1000000000000 -> 2.5997805 | M41: TW
B43: Hydrothermal penetration depth minimum | C43: [km] | E43: =E7*0.8 -> 4.64 | F43: =F7*0.8 -> 6.4 | G43: =G7*0.8 -> 4.8 | H43: =H7*0.6 -> 9
B44: Minimum Power for Hydrothermal Cooling | C44: [W] | E44: =E38*(E43-E8)/(E7-E8) -> 8.982558e+11 | F44: =F38*(F43-F8)/(F7-F8) -> 8.024999e+11 | G44: =G38*(G43-G8)/(G7-G8) -> 2.4255742e+11 | H44: =H38*(H43-H8)/(H7-H8) -> 2.839123e+11 | I44: =SUM(E44:G44) -> 1.9433131e+12 | K44: =SUM(E44:H44) -> 2.2272254e+12 | L44: =K44/1000000000000 -> 2.2272254 | M44: TW

Sheet Cp_Rocks
N2: Coefficients for Cp after Robie & Hemingway 1996, Thermodynamic Properties of Minerals and Related Substances at 298.15 K and 1 Bar Pressure and at Higher Temperatures. U.S. Geol. Survey, Washington DC, Bulletin 2131.
N3: Equation: | O3: Cp [J/mol/K]=A1 + A2*T + A3*T-2 + A4* T-0.5 + A5*T2
B5: CP Peridotite | V5: CP Gabbro
E10: A1 | F10: A2 | G10: A3 | H10: A4 | I10: A5 | N10: Model rock composition | P10: Fraction weight | S10: Fraction weight | Y10: A1 | Z10: A2 | AA10: A3 | AB10: A4 | AC10: A5 | AH10: Model rock composition
D12: forsterite | E12: 87.36 | F12: 0.08717 | G12: -3699000 | H12: 843.6 | I12: -2.237e-05 | K12: 140.688 | N12: forsterite | P12: 0.54 | R12: Ol | S12: =P12+P13 -> 0.64 | X12: forsterite | Y12: 87.36 | Z12: 0.08717 | AA12: -3699000 | AB12: 843.6 | AC12: -2.237e-05 | AE12: 140.688 | AH12: forsterite | AJ12: 0.06 | AL12: Ol | AM12: =AJ12+AJ13 -> 0.08
D13: fayalite | E13: 176.02 | F13: -0.008808 | G13: -3889000 | H13: 0 | I13: 2.471e-05 | K13: 203.768 | N13: fayalite | P13: 0.1 | X13: fayalite | Y13: 176.02 | Z13: -0.008808 | AA13: -3889000 | AB13: 0 | AC13: 2.471e-05 | AE13: 203.768 | AH13: fayalite | AJ13: 0.02
D14: enstatite | E14: 350.7 | F14: -0.1472 | G14: 1769000 | H14: -4296 | I14: 5.826e-05 | K14: 200.77 | N14: enstatite | P14: 0.2 | R14: OPX | S14: =P14+P15 -> 0.25 | X14: albite | Y14: 583.9 | Z14: -0.09285 | AA14: 1678000 | AB14: -6424 | AC14: 2.272e-05 | AE14: 262.214 | AH14: albite | AJ14: 0.32 | AL14: Plag | AM14: =AJ14+AJ15 -> 0.62
D15: ferrosillite | E15: 124.3 | F15: 0.01454 | G15: -3378 | H15: 0 | I15: 0 | K15: 189.998 | N15: ferrosillite | P15: 0.05 | X15: anorthite | Y15: 516.8 | Z15: -0.09249 | AA15: -1408000 | AB15: -4589 | AC15: 4.188e-05 | AE15: 380.156 | AH15: anorthite | AJ15: 0.3
D16: diopside | E16: 470.25 | F16: -0.09864 | G16: 245400 | H16: -4823 | I16: 2.813e-05 | K16: 216.543 | N16: diopside | P16: 0.06 | R16: CPX | S16: =P16 -> 0.06 | X16: diopside | Y16: 470.25 | Z16: -0.09864 | AA16: 245400 | AB16: -4823 | AC16: 2.813e-05 | AE16: 216.543 | AH16: diopside | AJ16: 0.3 | AL16: CPX | AM16: =AJ16 -> 0.3
D17: spinel | E17: 222.9 | F17: 0.006127 | G17: -1686000 | H17: -1551 | I17: 0 | K17: 142.261 | N17: spinel | P17: 0.05 | R17: SP | S17: =P17 -> 0.05
N19: Sum | P19: =SUM(P12:P17) -> 1 | AH19: Sum | AJ19: =SUM(AJ12:AJ17) -> 1
E20: forsterite | F20: fayalite | G20: enstatite | H20: ferrosillite | I20: diopside | J20: spinel | L20: Peridotite | Y20: forsterite | Z20: fayalite | AA20: albite | AB20: anorthite | AC20: diopside | AF20: Gabbro
C21: T °C | D21: T K | W21: T °C | X21: T K
C22: =D22-273.15 -> 0 | D22: 273.15 | E22: =($E$12+$F$12*$D22+$G$12*$D22^(-2)+$H$12*$D22^(-1/2)+$I$12*$D22^2)*(1000/$K$12) -> 788.74688 | F22: =($E$13+$F$13*$D22+$G$13*$D22^(-2)+$H$13*$D22^(-1/2)+$I$13*$D22^2)*(1000/$K$13) -> 605.26675 | G22: =($E$14+$F$14*$D22+$G$14*$D22^(-2)+$H$14*$D22^(-1/2)+$I$14*$D22^2)*(1000/$K$14) -> 391.56483 | H22: =($E$15+$F$15*$D22+$G$15*$D22^(-2)+$H$15*$D22^(-1/2)+$I$15*$D22^2)*(1000/$K$15) -> 674.8825 | I22: =($E$16+$F$16*$D22+$G$16*$D22^(-2)+$H$16*$D22^(-1/2)+$I$16*$D22^2)*(1000/$K$16) -> 724.44398 | J22: =($E$17+$F$17*$D22+$G$17*$D22^(-2)+$H$17*$D22^(-1/2)+$I$17*$D22^2)*(1000/$K$17) -> 760.09131 | L22: =E22*P$12+F22*P$13+G22*P$14+H22*P$15+I22*P$16+J22*P$17 -> 679.97829 | W22: =X22-273.15 -> 0 | X22: 273.15 | Y22: =($Y$12+$Z$12*$X22+$AA$12*$X22^(-2)+$AB$12*$X22^(-1/2)+$AC$12*$X22^2)*(1000/$AE$12) -> 788.74688 | Z22: =($Y$13+$Z$13*$X22+$AA$13*$X22^(-2)+$AB$13*$X22^(-1/2)+$AC$13*$X22^2)*(1000/$AE$13) -> 605.26675 | AA22: =($Y$14+$Z$14*$X22+$AA$14*$X22^(-2)+$AB$14*$X22^(-1/2)+$AC$14*$X22^2)*(1000/$AE$14) -> 739.97494 | AB22: =($Y$15+$Z$15*$X22+$AA$15*$X22^(-2)+$AB$15*$X22^(-1/2)+$AC$15*$X22^2)*(1000/$AE$15) -> 521.17338 | AC22: =($Y$16+$Z$16*$X22+$AA$16*$X22^(-2)+$AB$16*$X22^(-1/2)+$AC$16*$X22^2)*(1000/$AE$16) -> 724.44398 | AF22: =Y22*AJ$12+Z22*AJ$13+AA22*AJ$14+AB22*AJ$15+AC22*AJ$16 -> 669.90734
C23: =D23-273.15 -> 50 | D23: =D22+50 -> 323.15 | E23: =(E$12+F$12*$D23+G$12*$D23^(-2)+H$12*$D23^(-1/2)+I$12*$D23^2)*(1000/K$12) -> 886.35138 | F23: =($E$13+$F$13*$D23+$G$13*$D23^(-2)+$H$13*$D23^(-1/2)+$I$13*$D23^2)*(1000/$K$13) -> 679.75516 | G23: =($E$14+$F$14*$D23+$G$14*$D23^(-2)+$H$14*$D23^(-1/2)+$I$14*$D23^2)*(1000/$K$14) -> 434.20861 | H23: =($E$15+$F$15*$D23+$G$15*$D23^(-2)+$H$15*$D23^(-1/2)+$I$15*$D23^2)*(1000/$K$15) -> 678.7769 | I23: =($E$16+$F$16*$D23+$G$16*$D23^(-2)+$H$16*$D23^(-1/2)+$I$16*$D23^2)*(1000/$K$16) -> 809.84086 | J23: =($E$17+$F$17*$D23+$G$17*$D23^(-2)+$H$17*$D23^(-1/2)+$I$17*$D23^2)*(1000/$K$17) -> 860.77426 | L23: =E23*P$12+F23*P$13+G23*P$14+H23*P$15+I23*P$16+J23*P$17 -> 759.01499 | W23: =X23-273.15 -> 50 | X23: =X22+50 -> 323.15 | Y23: =(Y$12+Z$12*$X23+AA$12*$X23^(-2)+AB$12*$X23^(-1/2)+AC$12*$X23^2)*(1000/AE$12) -> 886.35138 | Z23: =($Y$13+$Z$13*$X23+$AA$13*$X23^(-2)+$AB$13*$X23^(-1/2)+$AC$13*$X23^2)*(1000/$AE$13) -> 679.75516 | AA23: =($Y$14+$Z$14*$X23+$AA$14*$X23^(-2)+$AB$14*$X23^(-1/2)+$AC$14*$X23^2)*(1000/$AE$14) -> 819.86062 | AB23: =($Y$15+$Z$15*$X23+$AA$15*$X23^(-2)+$AB$15*$X23^(-1/2)+$AC$15*$X23^2)*(1000/$AE$15) -> 585.3451 | AC23: =($Y$16+$Z$16*$X23+$AA$16*$X23^(-2)+$AB$16*$X23^(-1/2)+$AC$16*$X23^2)*(1000/$AE$16) -> 809.84086 | AF23: =Y23*AJ$12+Z23*AJ$13+AA23*AJ$14+AB23*AJ$15+AC23*AJ$16 -> 747.68737
C24: =D24-273.15 -> 100 | D24: =D23+50 -> 373.15 | E24: =(E$12+F$12*$D24+G$12*$D24^(-2)+H$12*$D24^(-1/2)+I$12*$D24^2)*(1000/K$12) -> 951.59766 | F24: =($E$13+$F$13*$D24+$G$13*$D24^(-2)+$H$13*$D24^(-1/2)+$I$13*$D24^2)*(1000/$K$13) -> 727.5133 | G24: =($E$14+$F$14*$D24+$G$14*$D24^(-2)+$H$14*$D24^(-1/2)+$I$14*$D24^2)*(1000/$K$14) -> 469.17049 | H24: =($E$15+$F$15*$D24+$G$15*$D24^(-2)+$H$15*$D24^(-1/2)+$I$15*$D24^2)*(1000/$K$15) -> 682.64582 | I24: =($E$16+$F$16*$D24+$G$16*$D24^(-2)+$H$16*$D24^(-1/2)+$I$16*$D24^2)*(1000/$K$16) -> 874.86766 | J24: =($E$17+$F$17*$D24+$G$17*$D24^(-2)+$H$17*$D24^(-1/2)+$I$17*$D24^2)*(1000/$K$17) -> 933.39839 | L24: =E24*P$12+F24*P$13+G24*P$14+H24*P$15+I24*P$16+J24*P$17 -> 813.74244 | W24: =X24-273.15 -> 100 | X24: =X23+50 -> 373.15 | Y24: =(Y$12+Z$12*$X24+AA$12*$X24^(-2)+AB$12*$X24^(-1/2)+AC$12*$X24^2)*(1000/AE$12) -> 951.59766 | Z24: =($Y$13+$Z$13*$X24+$AA$13*$X24^(-2)+$AB$13*$X24^(-1/2)+$AC$13*$X24^2)*(1000/$AE$13) -> 727.5133 | AA24: =($Y$14+$Z$14*$X24+$AA$14*$X24^(-2)+$AB$14*$X24^(-1/2)+$AC$14*$X24^2)*(1000/$AE$14) -> 884.43935 | AB24: =($Y$15+$Z$15*$X24+$AA$15*$X24^(-2)+$AB$15*$X24^(-1/2)+$AC$15*$X24^2)*(1000/$AE$15) -> 632.49073 | AC24: =($Y$16+$Z$16*$X24+$AA$16*$X24^(-2)+$AB$16*$X24^(-1/2)+$AC$16*$X24^2)*(1000/$AE$16) -> 874.86766 | AF24: =Y24*AJ$12+Z24*AJ$13+AA24*AJ$14+AB24*AJ$15+AC24*AJ$16 -> 806.87424
C25: =D25-273.15 -> 150 | D25: =D24+50 -> 423.15 | E25: =(E$12+F$12*$D25+G$12*$D25^(-2)+H$12*$D25^(-1/2)+I$12*$D25^2)*(1000/K$12) -> 999.31849 | F25: =($E$13+$F$13*$D25+$G$13*$D25^(-2)+$H$13*$D25^(-1/2)+$I$13*$D25^2)*(1000/$K$13) -> 760.65867 | G25: =($E$14+$F$14*$D25+$G$14*$D25^(-2)+$H$14*$D25^(-1/2)+$I$14*$D25^2)*(1000/$K$14) -> 497.495 | H25: =($E$15+$F$15*$D25+$G$15*$D25^(-2)+$H$15*$D25^(-1/2)+$I$15*$D25^2)*(1000/$K$15) -> 686.50057 | I25: =($E$16+$F$16*$D25+$G$16*$D25^(-2)+$H$16*$D25^(-1/2)+$I$16*$D25^2)*(1000/$K$16) -> 925.71513 | J25: =($E$17+$F$17*$D25+$G$17*$D25^(-2)+$H$17*$D25^(-1/2)+$I$17*$D25^2)*(1000/$K$17) -> 988.87084 | L25: =E25*P$12+F25*P$13+G25*P$14+H25*P$15+I25*P$16+J25*P$17 -> 854.50833 | W25: =X25-273.15 -> 150 | X25: =X24+50 -> 423.15 | Y25: =(Y$12+Z$12*$X25+AA$12*$X25^(-2)+AB$12*$X25^(-1/2)+AC$12*$X25^2)*(1000/AE$12) -> 999.31849 | Z25: =($Y$13+$Z$13*$X25+$AA$13*$X25^(-2)+$AB$13*$X25^(-1/2)+$AC$13*$X25^2)*(1000/$AE$13) -> 760.65867 | AA25: =($Y$14+$Z$14*$X25+$AA$14*$X25^(-2)+$AB$14*$X25^(-1/2)+$AC$14*$X25^2)*(1000/$AE$14) -> 937.24913 | AB25: =($Y$15+$Z$15*$X25+$AA$15*$X25^(-2)+$AB$15*$X25^(-1/2)+$AC$15*$X25^2)*(1000/$AE$15) -> 668.70703 | AC25: =($Y$16+$Z$16*$X25+$AA$16*$X25^(-2)+$AB$16*$X25^(-1/2)+$AC$16*$X25^2)*(1000/$AE$16) -> 925.71513 | AF25: =Y25*AJ$12+Z25*AJ$13+AA25*AJ$14+AB25*AJ$15+AC25*AJ$16 -> 853.41865
C26: =D26-273.15 -> 200 | D26: =D25+50 -> 473.15 | E26: =(E$12+F$12*$D26+G$12*$D26^(-2)+H$12*$D26^(-1/2)+I$12*$D26^2)*(1000/K$12) -> 1036.7352 | F26: =($E$13+$F$13*$D26+$G$13*$D26^(-2)+$H$13*$D26^(-1/2)+$I$13*$D26^2)*(1000/$K$13) -> 785.26917 | G26: =($E$14+$F$14*$D26+$G$14*$D26^(-2)+$H$14*$D26^(-1/2)+$I$14*$D26^2)*(1000/$K$14) -> 520.48582 | H26: =($E$15+$F$15*$D26+$G$15*$D26^(-2)+$H$15*$D26^(-1/2)+$I$15*$D26^2)*(1000/$K$15) -> 690.3468 | I26: =($E$16+$F$16*$D26+$G$16*$D26^(-2)+$H$16*$D26^(-1/2)+$I$16*$D26^2)*(1000/$K$16) -> 966.30008 | J26: =($E$17+$F$17*$D26+$G$17*$D26^(-2)+$H$17*$D26^(-1/2)+$I$17*$D26^2)*(1000/$K$17) -> 1033.0598 | L26: =E26*P$12+F26*P$13+G26*P$14+H26*P$15+I26*P$16+J26*P$17 -> 886.60941 | W26: =X26-273.15 -> 200 | X26: =X25+50 -> 473.15 | Y26: =(Y$12+Z$12*$X26+AA$12*$X26^(-2)+AB$12*$X26^(-1/2)+AC$12*$X26^2)*(1000/AE$12) -> 1036.7352 | Z26: =($Y$13+$Z$13*$X26+$AA$13*$X26^(-2)+$AB$13*$X26^(-1/2)+$AC$13*$X26^2)*(1000/$AE$13) -> 785.26917 | AA26: =($Y$14+$Z$14*$X26+$AA$14*$X26^(-2)+$AB$14*$X26^(-1/2)+$AC$14*$X26^2)*(1000/$AE$14) -> 980.95735 | AB26: =($Y$15+$Z$15*$X26+$AA$15*$X26^(-2)+$AB$15*$X26^(-1/2)+$AC$15*$X26^2)*(1000/$AE$15) -> 697.49192 | AC26: =($Y$16+$Z$16*$X26+$AA$16*$X26^(-2)+$AB$16*$X26^(-1/2)+$AC$16*$X26^2)*(1000/$AE$16) -> 966.30008 | AF26: =Y26*AJ$12+Z26*AJ$13+AA26*AJ$14+AB26*AJ$15+AC26*AJ$16 -> 890.95345
C27: =D27-273.15 -> 250 | D27: =D26+50 -> 523.15 | E27: =(E$12+F$12*$D27+G$12*$D27^(-2)+H$12*$D27^(-1/2)+I$12*$D27^2)*(1000/K$12) -> 1067.6668 | F27: =($E$13+$F$13*$D27+$G$13*$D27^(-2)+$H$13*$D27^(-1/2)+$I$13*$D27^2)*(1000/$K$13) -> 804.66587 | G27: =($E$14+$F$14*$D27+$G$14*$D27^(-2)+$H$14*$D27^(-1/2)+$I$14*$D27^2)*(1000/$K$14) -> 539.30788 | H27: =($E$15+$F$15*$D27+$G$15*$D27^(-2)+$H$15*$D27^(-1/2)+$I$15*$D27^2)*(1000/$K$15) -> 694.18761 | I27: =($E$16+$F$16*$D27+$G$16*$D27^(-2)+$H$16*$D27^(-1/2)+$I$16*$D27^2)*(1000/$K$16) -> 999.23382 | J27: =($E$17+$F$17*$D27+$G$17*$D27^(-2)+$H$17*$D27^(-1/2)+$I$17*$D27^2)*(1000/$K$17) -> 1069.4022 | L27: =E27*P$12+F27*P$13+G27*P$14+H27*P$15+I27*P$16+J27*P$17 -> 913.00174 | P27: Average low T | W27: =X27-273.15 -> 250 | X27: =X26+50 -> 523.15 | Y27: =(Y$12+Z$12*$X27+AA$12*$X27^(-2)+AB$12*$X27^(-1/2)+AC$12*$X27^2)*(1000/AE$12) -> 1067.6668 | Z27: =($Y$13+$Z$13*$X27+$AA$13*$X27^(-2)+$AB$13*$X27^(-1/2)+$AC$13*$X27^2)*(1000/$AE$13) -> 804.66587 | AA27: =($Y$14+$Z$14*$X27+$AA$14*$X27^(-2)+$AB$14*$X27^(-1/2)+$AC$14*$X27^2)*(1000/$AE$14) -> 1017.5397 | AB27: =($Y$15+$Z$15*$X27+$AA$15*$X27^(-2)+$AB$15*$X27^(-1/2)+$AC$15*$X27^2)*(1000/$AE$15) -> 721.01203 | AC27: =($Y$16+$Z$16*$X27+$AA$16*$X27^(-2)+$AB$16*$X27^(-1/2)+$AC$16*$X27^2)*(1000/$AE$16) -> 999.23382 | AF27: =Y27*AJ$12+Z27*AJ$13+AA27*AJ$14+AB27*AJ$15+AC27*AJ$16 -> 921.83977 | AJ27: Average low T 0-300°C
C28: =D28-273.15 -> 300 | D28: =D27+50 -> 573.15 | E28: =(E$12+F$12*$D28+G$12*$D28^(-2)+H$12*$D28^(-1/2)+I$12*$D28^2)*(1000/K$12) -> 1094.265 | F28: =($E$13+$F$13*$D28+$G$13*$D28^(-2)+$H$13*$D28^(-1/2)+$I$13*$D28^2)*(1000/$K$13) -> 820.78798 | G28: =($E$14+$F$14*$D28+$G$14*$D28^(-2)+$H$14*$D28^(-1/2)+$I$14*$D28^2)*(1000/$K$14) -> 554.92037 | H28: =($E$15+$F$15*$D28+$G$15*$D28^(-2)+$H$15*$D28^(-1/2)+$I$15*$D28^2)*(1000/$K$15) -> 698.02481 | I28: =($E$16+$F$16*$D28+$G$16*$D28^(-2)+$H$16*$D28^(-1/2)+$I$16*$D28^2)*(1000/$K$16) -> 1026.3315 | J28: =($E$17+$F$17*$D28+$G$17*$D28^(-2)+$H$17*$D28^(-1/2)+$I$17*$D28^2)*(1000/$K$17) -> 1100.0472 | L28: =E28*P$12+F28*P$13+G28*P$14+H28*P$15+I28*P$16+J28*P$17 -> 935.44949 | P28: =AVERAGE(L22:L28) -> 834.61495 | Q28: J/kg*K | W28: =X28-273.15 -> 300 | X28: =X27+50 -> 573.15 | Y28: =(Y$12+Z$12*$X28+AA$12*$X28^(-2)+AB$12*$X28^(-1/2)+AC$12*$X28^2)*(1000/AE$12) -> 1094.265 | Z28: =($Y$13+$Z$13*$X28+$AA$13*$X28^(-2)+$AB$13*$X28^(-1/2)+$AC$13*$X28^2)*(1000/$AE$13) -> 820.78798 | AA28: =($Y$14+$Z$14*$X28+$AA$14*$X28^(-2)+$AB$14*$X28^(-1/2)+$AC$14*$X28^2)*(1000/$AE$14) -> 1048.4691 | AB28: =($Y$15+$Z$15*$X28+$AA$15*$X28^(-2)+$AB$15*$X28^(-1/2)+$AC$15*$X28^2)*(1000/$AE$15) -> 740.68988 | AC28: =($Y$16+$Z$16*$X28+$AA$16*$X28^(-2)+$AB$16*$X28^(-1/2)+$AC$16*$X28^2)*(1000/$AE$16) -> 1026.3315 | AF28: =Y28*AJ$12+Z28*AJ$13+AA28*AJ$14+AB28*AJ$15+AC28*AJ$16 -> 947.68819 | AJ28: =AVERAGE(AF22:AF28) -> 834.05271 | AK28: J/kg*K
C29: =D29-273.15 -> 350 | D29: =D28+50 -> 623.15 | E29: =(E$12+F$12*$D29+G$12*$D29^(-2)+H$12*$D29^(-1/2)+I$12*$D29^2)*(1000/K$12) -> 1117.8044 | F29: =($E$13+$F$13*$D29+$G$13*$D29^(-2)+$H$13*$D29^(-1/2)+$I$13*$D29^2)*(1000/$K$13) -> 834.82951 | G29: =($E$14+$F$14*$D29+$G$14*$D29^(-2)+$H$14*$D29^(-1/2)+$I$14*$D29^2)*(1000/$K$14) -> 568.09426 | H29: =($E$15+$F$15*$D29+$G$15*$D29^(-2)+$H$15*$D29^(-1/2)+$I$15*$D29^2)*(1000/$K$15) -> 701.8595 | I29: =($E$16+$F$16*$D29+$G$16*$D29^(-2)+$H$16*$D29^(-1/2)+$I$16*$D29^2)*(1000/$K$16) -> 1048.8984 | J29: =($E$17+$F$17*$D29+$G$17*$D29^(-2)+$H$17*$D29^(-1/2)+$I$17*$D29^2)*(1000/$K$17) -> 1126.4098 | L29: =E29*P$12+F29*P$13+G29*P$14+H29*P$15+I29*P$16+J29*P$17 -> 955.06354 | W29: =X29-273.15 -> 350 | X29: =X28+50 -> 623.15 | Y29: =(Y$12+Z$12*$X29+AA$12*$X29^(-2)+AB$12*$X29^(-1/2)+AC$12*$X29^2)*(1000/AE$12) -> 1117.8044 | Z29: =($Y$13+$Z$13*$X29+$AA$13*$X29^(-2)+$AB$13*$X29^(-1/2)+$AC$13*$X29^2)*(1000/$AE$13) -> 834.82951 | AA29: =($Y$14+$Z$14*$X29+$AA$14*$X29^(-2)+$AB$14*$X29^(-1/2)+$AC$14*$X29^2)*(1000/$AE$14) -> 1074.8592 | AB29: =($Y$15+$Z$15*$X29+$AA$15*$X29^(-2)+$AB$15*$X29^(-1/2)+$AC$15*$X29^2)*(1000/$AE$15) -> 757.50308 | AC29: =($Y$16+$Z$16*$X29+$AA$16*$X29^(-2)+$AB$16*$X29^(-1/2)+$AC$16*$X29^2)*(1000/$AE$16) -> 1048.8984 | AF29: =Y29*AJ$12+Z29*AJ$13+AA29*AJ$14+AB29*AJ$15+AC29*AJ$16 -> 969.64026
C30: =D30-273.15 -> 400 | D30: =D29+50 -> 673.15 | E30: =(E$12+F$12*$D30+G$12*$D30^(-2)+H$12*$D30^(-1/2)+I$12*$D30^2)*(1000/K$12) -> 1139.0702 | F30: =($E$13+$F$13*$D30+$G$13*$D30^(-2)+$H$13*$D30^(-1/2)+$I$13*$D30^2)*(1000/$K$13) -> 847.55826 | G30: =($E$14+$F$14*$D30+$G$14*$D30^(-2)+$H$14*$D30^(-1/2)+$I$14*$D30^2)*(1000/$K$14) -> 579.44662 | H30: =($E$15+$F$15*$D30+$G$15*$D30^(-2)+$H$15*$D30^(-1/2)+$I$15*$D30^2)*(1000/$K$15) -> 705.69241 | I30: =($E$16+$F$16*$D30+$G$16*$D30^(-2)+$H$16*$D30^(-1/2)+$I$16*$D30^2)*(1000/$K$16) -> 1067.9004 | J30: =($E$17+$F$17*$D30+$G$17*$D30^(-2)+$H$17*$D30^(-1/2)+$I$17*$D30^2)*(1000/$K$17) -> 1149.462 | L30: =E30*P$12+F30*P$13+G30*P$14+H30*P$15+I30*P$16+J30*P$17 -> 972.57481 | W30: =X30-273.15 -> 400 | X30: =X29+50 -> 673.15 | Y30: =(Y$12+Z$12*$X30+AA$12*$X30^(-2)+AB$12*$X30^(-1/2)+AC$12*$X30^2)*(1000/AE$12) -> 1139.0702 | Z30: =($Y$13+$Z$13*$X30+$AA$13*$X30^(-2)+$AB$13*$X30^(-1/2)+$AC$13*$X30^2)*(1000/$AE$13) -> 847.55826 | AA30: =($Y$14+$Z$14*$X30+$AA$14*$X30^(-2)+$AB$14*$X30^(-1/2)+$AC$14*$X30^2)*(1000/$AE$14) -> 1097.5649 | AB30: =($Y$15+$Z$15*$X30+$AA$15*$X30^(-2)+$AB$15*$X30^(-1/2)+$AC$15*$X30^2)*(1000/$AE$15) -> 772.14872 | AC30: =($Y$16+$Z$16*$X30+$AA$16*$X30^(-2)+$AB$16*$X30^(-1/2)+$AC$16*$X30^2)*(1000/$AE$16) -> 1067.9004 | AF30: =Y30*AJ$12+Z30*AJ$13+AA30*AJ$14+AB30*AJ$15+AC30*AJ$16 -> 988.53086
C31: =D31-273.15 -> 450 | D31: =D30+50 -> 723.15 | E31: =(E$12+F$12*$D31+G$12*$D31^(-2)+H$12*$D31^(-1/2)+I$12*$D31^2)*(1000/K$12) -> 1158.5627 | F31: =($E$13+$F$13*$D31+$G$13*$D31^(-2)+$H$13*$D31^(-1/2)+$I$13*$D31^2)*(1000/$K$13) -> 859.48615 | G31: =($E$14+$F$14*$D31+$G$14*$D31^(-2)+$H$14*$D31^(-1/2)+$I$14*$D31^2)*(1000/$K$14) -> 589.47313 | H31: =($E$15+$F$15*$D31+$G$15*$D31^(-2)+$H$15*$D31^(-1/2)+$I$15*$D31^2)*(1000/$K$15) -> 709.524 | I31: =($E$16+$F$16*$D31+$G$16*$D31^(-2)+$H$16*$D31^(-1/2)+$I$16*$D31^2)*(1000/$K$16) -> 1084.0689 | J31: =($E$17+$F$17*$D31+$G$17*$D31^(-2)+$H$17*$D31^(-1/2)+$I$17*$D31^2)*(1000/$K$17) -> 1169.8946 | L31: =E31*P$12+F31*P$13+G31*P$14+H31*P$15+I31*P$16+J31*P$17 -> 988.48214 | W31: =X31-273.15 -> 450 | X31: =X30+50 -> 723.15 | Y31: =(Y$12+Z$12*$X31+AA$12*$X31^(-2)+AB$12*$X31^(-1/2)+AC$12*$X31^2)*(1000/AE$12) -> 1158.5627 | Z31: =($Y$13+$Z$13*$X31+$AA$13*$X31^(-2)+$AB$13*$X31^(-1/2)+$AC$13*$X31^2)*(1000/$AE$13) -> 859.48615 | AA31: =($Y$14+$Z$14*$X31+$AA$14*$X31^(-2)+$AB$14*$X31^(-1/2)+$AC$14*$X31^2)*(1000/$AE$14) -> 1117.2525 | AB31: =($Y$15+$Z$15*$X31+$AA$15*$X31^(-2)+$AB$15*$X31^(-1/2)+$AC$15*$X31^2)*(1000/$AE$15) -> 785.13912 | AC31: =($Y$16+$Z$16*$X31+$AA$16*$X31^(-2)+$AB$16*$X31^(-1/2)+$AC$16*$X31^2)*(1000/$AE$16) -> 1084.0689 | AF31: =Y31*AJ$12+Z31*AJ$13+AA31*AJ$14+AB31*AJ$15+AC31*AJ$16 -> 1004.9867
C32: =D32-273.15 -> 500 | D32: =D31+50 -> 773.15 | E32: =(E$12+F$12*$D32+G$12*$D32^(-2)+H$12*$D32^(-1/2)+I$12*$D32^2)*(1000/K$12) -> 1176.6087 | F32: =($E$13+$F$13*$D32+$G$13*$D32^(-2)+$H$13*$D32^(-1/2)+$I$13*$D32^2)*(1000/$K$13) -> 870.96513 | G32: =($E$14+$F$14*$D32+$G$14*$D32^(-2)+$H$14*$D32^(-1/2)+$I$14*$D32^2)*(1000/$K$14) -> 598.57478 | H32: =($E$15+$F$15*$D32+$G$15*$D32^(-2)+$H$15*$D32^(-1/2)+$I$15*$D32^2)*(1000/$K$15) -> 713.35461 | I32: =($E$16+$F$16*$D32+$G$16*$D32^(-2)+$H$16*$D32^(-1/2)+$I$16*$D32^2)*(1000/$K$16) -> 1097.9695 | J32: =($E$17+$F$17*$D32+$G$17*$D32^(-2)+$H$17*$D32^(-1/2)+$I$17*$D32^2)*(1000/$K$17) -> 1188.2131 | L32: =E32*P$12+F32*P$13+G32*P$14+H32*P$15+I32*P$16+J32*P$17 -> 1003.1367 | W32: =X32-273.15 -> 500 | X32: =X31+50 -> 773.15 | Y32: =(Y$12+Z$12*$X32+AA$12*$X32^(-2)+AB$12*$X32^(-1/2)+AC$12*$X32^2)*(1000/AE$12) -> 1176.6087 | Z32: =($Y$13+$Z$13*$X32+$AA$13*$X32^(-2)+$AB$13*$X32^(-1/2)+$AC$13*$X32^2)*(1000/$AE$13) -> 870.96513 | AA32: =($Y$14+$Z$14*$X32+$AA$14*$X32^(-2)+$AB$14*$X32^(-1/2)+$AC$14*$X32^2)*(1000/$AE$14) -> 1134.4493 | AB32: =($Y$15+$Z$15*$X32+$AA$15*$X32^(-2)+$AB$15*$X32^(-1/2)+$AC$15*$X32^2)*(1000/$AE$15) -> 796.86045 | AC32: =($Y$16+$Z$16*$X32+$AA$16*$X32^(-2)+$AB$16*$X32^(-1/2)+$AC$16*$X32^2)*(1000/$AE$16) -> 1097.9695 | AF32: =Y32*AJ$12+Z32*AJ$13+AA32*AJ$14+AB32*AJ$15+AC32*AJ$16 -> 1019.4886
C33: =D33-273.15 -> 550 | D33: =D32+50 -> 823.15 | E33: =(E$12+F$12*$D33+G$12*$D33^(-2)+H$12*$D33^(-1/2)+I$12*$D33^2)*(1000/K$12) -> 1193.4267 | F33: =($E$13+$F$13*$D33+$G$13*$D33^(-2)+$H$13*$D33^(-1/2)+$I$13*$D33^2)*(1000/$K$13) -> 882.24362 | G33: =($E$14+$F$14*$D33+$G$14*$D33^(-2)+$H$14*$D33^(-1/2)+$I$14*$D33^2)*(1000/$K$14) -> 607.07859 | H33: =($E$15+$F$15*$D33+$G$15*$D33^(-2)+$H$15*$D33^(-1/2)+$I$15*$D33^2)*(1000/$K$15) -> 717.18447 | I33: =($E$16+$F$16*$D33+$G$16*$D33^(-2)+$H$16*$D33^(-1/2)+$I$16*$D33^2)*(1000/$K$16) -> 1110.0473 | J33: =($E$17+$F$17*$D33+$G$17*$D33^(-2)+$H$17*$D33^(-1/2)+$I$17*$D33^2)*(1000/$K$17) -> 1204.797 | L33: =E33*P$12+F33*P$13+G33*P$14+H33*P$15+I33*P$16+J33*P$17 -> 1016.7924 | W33: =X33-273.15 -> 550 | X33: =X32+50 -> 823.15 | Y33: =(Y$12+Z$12*$X33+AA$12*$X33^(-2)+AB$12*$X33^(-1/2)+AC$12*$X33^2)*(1000/AE$12) -> 1193.4267 | Z33: =($Y$13+$Z$13*$X33+$AA$13*$X33^(-2)+$AB$13*$X33^(-1/2)+$AC$13*$X33^2)*(1000/$AE$13) -> 882.24362 | AA33: =($Y$14+$Z$14*$X33+$AA$14*$X33^(-2)+$AB$14*$X33^(-1/2)+$AC$14*$X33^2)*(1000/$AE$14) -> 1149.5777 | AB33: =($Y$15+$Z$15*$X33+$AA$15*$X33^(-2)+$AB$15*$X33^(-1/2)+$AC$15*$X33^2)*(1000/$AE$15) -> 807.61012 | AC33: =($Y$16+$Z$16*$X33+$AA$16*$X33^(-2)+$AB$16*$X33^(-1/2)+$AC$16*$X33^2)*(1000/$AE$16) -> 1110.0473 | AF33: =Y33*AJ$12+Z33*AJ$13+AA33*AJ$14+AB33*AJ$15+AC33*AJ$16 -> 1032.4126
C34: =D34-273.15 -> 600 | D34: =D33+50 -> 873.15 | E34: =(E$12+F$12*$D34+G$12*$D34^(-2)+H$12*$D34^(-1/2)+I$12*$D34^2)*(1000/K$12) -> 1209.1652 | F34: =($E$13+$F$13*$D34+$G$13*$D34^(-2)+$H$13*$D34^(-1/2)+$I$13*$D34^2)*(1000/$K$13) -> 893.50103 | G34: =($E$14+$F$14*$D34+$G$14*$D34^(-2)+$H$14*$D34^(-1/2)+$I$14*$D34^2)*(1000/$K$14) -> 615.2536 | H34: =($E$15+$F$15*$D34+$G$15*$D34^(-2)+$H$15*$D34^(-1/2)+$I$15*$D34^2)*(1000/$K$15) -> 721.01375 | I34: =($E$16+$F$16*$D34+$G$16*$D34^(-2)+$H$16*$D34^(-1/2)+$I$16*$D34^2)*(1000/$K$16) -> 1120.6579 | J34: =($E$17+$F$17*$D34+$G$17*$D34^(-2)+$H$17*$D34^(-1/2)+$I$17*$D34^2)*(1000/$K$17) -> 1219.9369 | L34: =E34*P$12+F34*P$13+G34*P$14+H34*P$15+I34*P$16+J34*P$17 -> 1029.6371 | W34: =X34-273.15 -> 600 | X34: =X33+50 -> 873.15 | Y34: =(Y$12+Z$12*$X34+AA$12*$X34^(-2)+AB$12*$X34^(-1/2)+AC$12*$X34^2)*(1000/AE$12) -> 1209.1652 | Z34: =($Y$13+$Z$13*$X34+$AA$13*$X34^(-2)+$AB$13*$X34^(-1/2)+$AC$13*$X34^2)*(1000/$AE$13) -> 893.50103 | AA34: =($Y$14+$Z$14*$X34+$AA$14*$X34^(-2)+$AB$14*$X34^(-1/2)+$AC$14*$X34^2)*(1000/$AE$14) -> 1162.9804 | AB34: =($Y$15+$Z$15*$X34+$AA$15*$X34^(-2)+$AB$15*$X34^(-1/2)+$AC$15*$X34^2)*(1000/$AE$15) -> 817.62142 | AC34: =($Y$16+$Z$16*$X34+$AA$16*$X34^(-2)+$AB$16*$X34^(-1/2)+$AC$16*$X34^2)*(1000/$AE$16) -> 1120.6579 | AF34: =Y34*AJ$12+Z34*AJ$13+AA34*AJ$14+AB34*AJ$15+AC34*AJ$16 -> 1044.0575
C35: =D35-273.15 -> 650 | D35: =D34+50 -> 923.15 | E35: =(E$12+F$12*$D35+G$12*$D35^(-2)+H$12*$D35^(-1/2)+I$12*$D35^2)*(1000/K$12) -> 1223.9268 | F35: =($E$13+$F$13*$D35+$G$13*$D35^(-2)+$H$13*$D35^(-1/2)+$I$13*$D35^2)*(1000/$K$13) -> 904.86952 | G35: =($E$14+$F$14*$D35+$G$14*$D35^(-2)+$H$14*$D35^(-1/2)+$I$14*$D35^2)*(1000/$K$14) -> 623.32297 | H35: =($E$15+$F$15*$D35+$G$15*$D35^(-2)+$H$15*$D35^(-1/2)+$I$15*$D35^2)*(1000/$K$15) -> 724.84256 | I35: =($E$16+$F$16*$D35+$G$16*$D35^(-2)+$H$16*$D35^(-1/2)+$I$16*$D35^2)*(1000/$K$16) -> 1130.0892 | J35: =($E$17+$F$17*$D35+$G$17*$D35^(-2)+$H$17*$D35^(-1/2)+$I$17*$D35^2)*(1000/$K$17) -> 1233.8596 | L35: =E35*P$12+F35*P$13+G35*P$14+H35*P$15+I35*P$16+J35*P$17 -> 1041.8125 | P35: Average all | W35: =X35-273.15 -> 650 | X35: =X34+50 -> 923.15 | Y35: =(Y$12+Z$12*$X35+AA$12*$X35^(-2)+AB$12*$X35^(-1/2)+AC$12*$X35^2)*(1000/AE$12) -> 1223.9268 | Z35: =($Y$13+$Z$13*$X35+$AA$13*$X35^(-2)+$AB$13*$X35^(-1/2)+$AC$13*$X35^2)*(1000/$AE$13) -> 904.86952 | AA35: =($Y$14+$Z$14*$X35+$AA$14*$X35^(-2)+$AB$14*$X35^(-1/2)+$AC$14*$X35^2)*(1000/$AE$14) -> 1174.9384 | AB35: =($Y$15+$Z$15*$X35+$AA$15*$X35^(-2)+$AB$15*$X35^(-1/2)+$AC$15*$X35^2)*(1000/$AE$15) -> 827.08034 | AC35: =($Y$16+$Z$16*$X35+$AA$16*$X35^(-2)+$AB$16*$X35^(-1/2)+$AC$16*$X35^2)*(1000/$AE$16) -> 1130.0892 | AF35: =Y35*AJ$12+Z35*AJ$13+AA35*AJ$14+AB35*AJ$15+AC35*AJ$16 -> 1054.6642 | AJ35: Average all
C36: =D36-273.15 -> 700 | D36: =D35+50 -> 973.15 | E36: =(E$12+F$12*$D36+G$12*$D36^(-2)+H$12*$D36^(-1/2)+I$12*$D36^2)*(1000/K$12) -> 1237.7828 | F36: =($E$13+$F$13*$D36+$G$13*$D36^(-2)+$H$13*$D36^(-1/2)+$I$13*$D36^2)*(1000/$K$13) -> 916.44822 | G36: =($E$14+$F$14*$D36+$G$14*$D36^(-2)+$H$14*$D36^(-1/2)+$I$14*$D36^2)*(1000/$K$14) -> 631.47333 | H36: =($E$15+$F$15*$D36+$G$15*$D36^(-2)+$H$15*$D36^(-1/2)+$I$15*$D36^2)*(1000/$K$15) -> 728.67101 | I36: =($E$16+$F$16*$D36+$G$16*$D36^(-2)+$H$16*$D36^(-1/2)+$I$16*$D36^2)*(1000/$K$16) -> 1138.5773 | J36: =($E$17+$F$17*$D36+$G$17*$D36^(-2)+$H$17*$D36^(-1/2)+$I$17*$D36^2)*(1000/$K$17) -> 1246.7452 | L36: =E36*P$12+F36*P$13+G36*P$14+H36*P$15+I36*P$16+J36*P$17 -> 1053.4276 | P36: =AVERAGE(L22:L48) -> 1012.0465 | Q36: J/kg*K | W36: =X36-273.15 -> 700 | X36: =X35+50 -> 973.15 | Y36: =(Y$12+Z$12*$X36+AA$12*$X36^(-2)+AB$12*$X36^(-1/2)+AC$12*$X36^2)*(1000/AE$12) -> 1237.7828 | Z36: =($Y$13+$Z$13*$X36+$AA$13*$X36^(-2)+$AB$13*$X36^(-1/2)+$AC$13*$X36^2)*(1000/$AE$13) -> 916.44822 | AA36: =($Y$14+$Z$14*$X36+$AA$14*$X36^(-2)+$AB$14*$X36^(-1/2)+$AC$14*$X36^2)*(1000/$AE$14) -> 1185.6846 | AB36: =($Y$15+$Z$15*$X36+$AA$15*$X36^(-2)+$AB$15*$X36^(-1/2)+$AC$15*$X36^2)*(1000/$AE$15) -> 836.13721 | AC36: =($Y$16+$Z$16*$X36+$AA$16*$X36^(-2)+$AB$16*$X36^(-1/2)+$AC$16*$X36^2)*(1000/$AE$16) -> 1138.5773 | AF36: =Y36*AJ$12+Z36*AJ$13+AA36*AJ$14+AB36*AJ$15+AC36*AJ$16 -> 1064.4294 | AJ36: =AVERAGE(AF22:AF48) -> 1015.0625 | AK36: J/kg*K
C37: =D37-273.15 -> 750 | D37: =D36+50 -> 1023.15 | E37: =(E$12+F$12*$D37+G$12*$D37^(-2)+H$12*$D37^(-1/2)+I$12*$D37^2)*(1000/K$12) -> 1250.7834 | F37: =($E$13+$F$13*$D37+$G$13*$D37^(-2)+$H$13*$D37^(-1/2)+$I$13*$D37^2)*(1000/$K$13) -> 928.31262 | G37: =($E$14+$F$14*$D37+$G$14*$D37^(-2)+$H$14*$D37^(-1/2)+$I$14*$D37^2)*(1000/$K$14) -> 639.86194 | H37: =($E$15+$F$15*$D37+$G$15*$D37^(-2)+$H$15*$D37^(-1/2)+$I$15*$D37^2)*(1000/$K$15) -> 732.49915 | I37: =($E$16+$F$16*$D37+$G$16*$D37^(-2)+$H$16*$D37^(-1/2)+$I$16*$D37^2)*(1000/$K$16) -> 1146.3176 | J37: =($E$17+$F$17*$D37+$G$17*$D37^(-2)+$H$17*$D37^(-1/2)+$I$17*$D37^2)*(1000/$K$17) -> 1258.7385 | L37: =E37*P$12+F37*P$13+G37*P$14+H37*P$15+I37*P$16+J37*P$17 -> 1064.5676 | W37: =X37-273.15 -> 750 | X37: =X36+50 -> 1023.15 | Y37: =(Y$12+Z$12*$X37+AA$12*$X37^(-2)+AB$12*$X37^(-1/2)+AC$12*$X37^2)*(1000/AE$12) -> 1250.7834 | Z37: =($Y$13+$Z$13*$X37+$AA$13*$X37^(-2)+$AB$13*$X37^(-1/2)+$AC$13*$X37^2)*(1000/$AE$13) -> 928.31262 | AA37: =($Y$14+$Z$14*$X37+$AA$14*$X37^(-2)+$AB$14*$X37^(-1/2)+$AC$14*$X37^2)*(1000/$AE$14) -> 1195.4136 | AB37: =($Y$15+$Z$15*$X37+$AA$15*$X37^(-2)+$AB$15*$X37^(-1/2)+$AC$15*$X37^2)*(1000/$AE$15) -> 844.91507 | AC37: =($Y$16+$Z$16*$X37+$AA$16*$X37^(-2)+$AB$16*$X37^(-1/2)+$AC$16*$X37^2)*(1000/$AE$16) -> 1146.3176 | AF37: =Y37*AJ$12+Z37*AJ$13+AA37*AJ$14+AB37*AJ$15+AC37*AJ$16 -> 1073.5154
C38: =D38-273.15 -> 800 | D38: =D37+50 -> 1073.15 | E38: =(E$12+F$12*$D38+G$12*$D38^(-2)+H$12*$D38^(-1/2)+I$12*$D38^2)*(1000/K$12) -> 1262.9639 | F38: =($E$13+$F$13*$D38+$G$13*$D38^(-2)+$H$13*$D38^(-1/2)+$I$13*$D38^2)*(1000/$K$13) -> 940.52107 | G38: =($E$14+$F$14*$D38+$G$14*$D38^(-2)+$H$14*$D38^(-1/2)+$I$14*$D38^2)*(1000/$K$14) -> 648.62229 | H38: =($E$15+$F$15*$D38+$G$15*$D38^(-2)+$H$15*$D38^(-1/2)+$I$15*$D38^2)*(1000/$K$15) -> 736.32706 | I38: =($E$16+$F$16*$D38+$G$16*$D38^(-2)+$H$16*$D38^(-1/2)+$I$16*$D38^2)*(1000/$K$16) -> 1153.4737 | J38: =($E$17+$F$17*$D38+$G$17*$D38^(-2)+$H$17*$D38^(-1/2)+$I$17*$D38^2)*(1000/$K$17) -> 1269.9573 | L38: =E38*P$12+F38*P$13+G38*P$14+H38*P$15+I38*P$16+J38*P$17 -> 1075.2997 | W38: =X38-273.15 -> 800 | X38: =X37+50 -> 1073.15 | Y38: =(Y$12+Z$12*$X38+AA$12*$X38^(-2)+AB$12*$X38^(-1/2)+AC$12*$X38^2)*(1000/AE$12) -> 1262.9639 | Z38: =($Y$13+$Z$13*$X38+$AA$13*$X38^(-2)+$AB$13*$X38^(-1/2)+$AC$13*$X38^2)*(1000/$AE$13) -> 940.52107 | AA38: =($Y$14+$Z$14*$X38+$AA$14*$X38^(-2)+$AB$14*$X38^(-1/2)+$AC$14*$X38^2)*(1000/$AE$14) -> 1204.2896 | AB38: =($Y$15+$Z$15*$X38+$AA$15*$X38^(-2)+$AB$15*$X38^(-1/2)+$AC$15*$X38^2)*(1000/$AE$15) -> 853.51573 | AC38: =($Y$16+$Z$16*$X38+$AA$16*$X38^(-2)+$AB$16*$X38^(-1/2)+$AC$16*$X38^2)*(1000/$AE$16) -> 1153.4737 | AF38: =Y38*AJ$12+Z38*AJ$13+AA38*AJ$14+AB38*AJ$15+AC38*AJ$16 -> 1082.0578
C39: =D39-273.15 -> 850 | D39: =D38+50 -> 1123.15 | E39: =(E$12+F$12*$D39+G$12*$D39^(-2)+H$12*$D39^(-1/2)+I$12*$D39^2)*(1000/K$12) -> 1274.3495 | F39: =($E$13+$F$13*$D39+$G$13*$D39^(-2)+$H$13*$D39^(-1/2)+$I$13*$D39^2)*(1000/$K$13) -> 953.11922 | G39: =($E$14+$F$14*$D39+$G$14*$D39^(-2)+$H$14*$D39^(-1/2)+$I$14*$D39^2)*(1000/$K$14) -> 657.86844 | H39: =($E$15+$F$15*$D39+$G$15*$D39^(-2)+$H$15*$D39^(-1/2)+$I$15*$D39^2)*(1000/$K$15) -> 740.15476 | I39: =($E$16+$F$16*$D39+$G$16*$D39^(-2)+$H$16*$D39^(-1/2)+$I$16*$D39^2)*(1000/$K$16) -> 1160.1834 | J39: =($E$17+$F$17*$D39+$G$17*$D39^(-2)+$H$17*$D39^(-1/2)+$I$17*$D39^2)*(1000/$K$17) -> 1280.4988 | L39: =E39*P$12+F39*P$13+G39*P$14+H39*P$15+I39*P$16+J39*P$17 -> 1085.678 | W39: =X39-273.15 -> 850 | X39: =X38+50 -> 1123.15 | Y39: =(Y$12+Z$12*$X39+AA$12*$X39^(-2)+AB$12*$X39^(-1/2)+AC$12*$X39^2)*(1000/AE$12) -> 1274.3495 | Z39: =($Y$13+$Z$13*$X39+$AA$13*$X39^(-2)+$AB$13*$X39^(-1/2)+$AC$13*$X39^2)*(1000/$AE$13) -> 953.11922 | AA39: =($Y$14+$Z$14*$X39+$AA$14*$X39^(-2)+$AB$14*$X39^(-1/2)+$AC$14*$X39^2)*(1000/$AE$14) -> 1212.452 | AB39: =($Y$15+$Z$15*$X39+$AA$15*$X39^(-2)+$AB$15*$X39^(-1/2)+$AC$15*$X39^2)*(1000/$AE$15) -> 862.0243 | AC39: =($Y$16+$Z$16*$X39+$AA$16*$X39^(-2)+$AB$16*$X39^(-1/2)+$AC$16*$X39^2)*(1000/$AE$16) -> 1160.1834 | AF39: =Y39*AJ$12+Z39*AJ$13+AA39*AJ$14+AB39*AJ$15+AC39*AJ$16 -> 1090.1703
C40: =D40-273.15 -> 900 | D40: =D39+50 -> 1173.15 | E40: =(E$12+F$12*$D40+G$12*$D40^(-2)+H$12*$D40^(-1/2)+I$12*$D40^2)*(1000/K$12) -> 1284.9578 | F40: =($E$13+$F$13*$D40+$G$13*$D40^(-2)+$H$13*$D40^(-1/2)+$I$13*$D40^2)*(1000/$K$13) -> 966.14319 | G40: =($E$14+$F$14*$D40+$G$14*$D40^(-2)+$H$14*$D40^(-1/2)+$I$14*$D40^2)*(1000/$K$14) -> 667.69844 | H40: =($E$15+$F$15*$D40+$G$15*$D40^(-2)+$H$15*$D40^(-1/2)+$I$15*$D40^2)*(1000/$K$15) -> 743.98229 | I40: =($E$16+$F$16*$D40+$G$16*$D40^(-2)+$H$16*$D40^(-1/2)+$I$16*$D40^2)*(1000/$K$16) -> 1166.5642 | J40: =($E$17+$F$17*$D40+$G$17*$D40^(-2)+$H$17*$D40^(-1/2)+$I$17*$D40^2)*(1000/$K$17) -> 1290.4441 | L40: =E40*P$12+F40*P$13+G40*P$14+H40*P$15+I40*P$16+J40*P$17 -> 1095.7464 | W40: =X40-273.15 -> 900 | X40: =X39+50 -> 1173.15 | Y40: =(Y$12+Z$12*$X40+AA$12*$X40^(-2)+AB$12*$X40^(-1/2)+AC$12*$X40^2)*(1000/AE$12) -> 1284.9578 | Z40: =($Y$13+$Z$13*$X40+$AA$13*$X40^(-2)+$AB$13*$X40^(-1/2)+$AC$13*$X40^2)*(1000/$AE$13) -> 966.14319 | AA40: =($Y$14+$Z$14*$X40+$AA$14*$X40^(-2)+$AB$14*$X40^(-1/2)+$AC$14*$X40^2)*(1000/$AE$14) -> 1220.0199 | AB40: =($Y$15+$Z$15*$X40+$AA$15*$X40^(-2)+$AB$15*$X40^(-1/2)+$AC$15*$X40^2)*(1000/$AE$15) -> 870.5125 | AC40: =($Y$16+$Z$16*$X40+$AA$16*$X40^(-2)+$AB$16*$X40^(-1/2)+$AC$16*$X40^2)*(1000/$AE$16) -> 1166.5642 | AF40: =Y40*AJ$12+Z40*AJ$13+AA40*AJ$14+AB40*AJ$15+AC40*AJ$16 -> 1097.9497
C41: =D41-273.15 -> 950 | D41: =D40+50 -> 1223.15 | E41: =(E$12+F$12*$D41+G$12*$D41^(-2)+H$12*$D41^(-1/2)+I$12*$D41^2)*(1000/K$12) -> 1294.801 | F41: =($E$13+$F$13*$D41+$G$13*$D41^(-2)+$H$13*$D41^(-1/2)+$I$13*$D41^2)*(1000/$K$13) -> 979.62189 | G41: =($E$14+$F$14*$D41+$G$14*$D41^(-2)+$H$14*$D41^(-1/2)+$I$14*$D41^2)*(1000/$K$14) -> 678.19711 | H41: =($E$15+$F$15*$D41+$G$15*$D41^(-2)+$H$15*$D41^(-1/2)+$I$15*$D41^2)*(1000/$K$15) -> 747.80968 | I41: =($E$16+$F$16*$D41+$G$16*$D41^(-2)+$H$16*$D41^(-1/2)+$I$16*$D41^2)*(1000/$K$16) -> 1172.7164 | J41: =($E$17+$F$17*$D41+$G$17*$D41^(-2)+$H$17*$D41^(-1/2)+$I$17*$D41^2)*(1000/$K$17) -> 1299.861 | L41: =E41*P$12+F41*P$13+G41*P$14+H41*P$15+I41*P$16+J41*P$17 -> 1105.5407 | W41: =X41-273.15 -> 950 | X41: =X40+50 -> 1223.15 | Y41: =(Y$12+Z$12*$X41+AA$12*$X41^(-2)+AB$12*$X41^(-1/2)+AC$12*$X41^2)*(1000/AE$12) -> 1294.801 | Z41: =($Y$13+$Z$13*$X41+$AA$13*$X41^(-2)+$AB$13*$X41^(-1/2)+$AC$13*$X41^2)*(1000/$AE$13) -> 979.62189 | AA41: =($Y$14+$Z$14*$X41+$AA$14*$X41^(-2)+$AB$14*$X41^(-1/2)+$AC$14*$X41^2)*(1000/$AE$14) -> 1227.0962 | AB41: =($Y$15+$Z$15*$X41+$AA$15*$X41^(-2)+$AB$15*$X41^(-1/2)+$AC$15*$X41^2)*(1000/$AE$15) -> 879.04133 | AC41: =($Y$16+$Z$16*$X41+$AA$16*$X41^(-2)+$AB$16*$X41^(-1/2)+$AC$16*$X41^2)*(1000/$AE$16) -> 1172.7164 | AF41: =Y41*AJ$12+Z41*AJ$13+AA41*AJ$14+AB41*AJ$15+AC41*AJ$16 -> 1105.4786
C42: =D42-273.15 -> 1000 | D42: =D41+50 -> 1273.15 | E42: =(E$12+F$12*$D42+G$12*$D42^(-2)+H$12*$D42^(-1/2)+I$12*$D42^2)*(1000/K$12) -> 1303.8876 | F42: =($E$13+$F$13*$D42+$G$13*$D42^(-2)+$H$13*$D42^(-1/2)+$I$13*$D42^2)*(1000/$K$13) -> 993.57866 | G42: =($E$14+$F$14*$D42+$G$14*$D42^(-2)+$H$14*$D42^(-1/2)+$I$14*$D42^2)*(1000/$K$14) -> 689.4382 | H42: =($E$15+$F$15*$D42+$G$15*$D42^(-2)+$H$15*$D42^(-1/2)+$I$15*$D42^2)*(1000/$K$15) -> 751.63695 | I42: =($E$16+$F$16*$D42+$G$16*$D42^(-2)+$H$16*$D42^(-1/2)+$I$16*$D42^2)*(1000/$K$16) -> 1178.7266 | J42: =($E$17+$F$17*$D42+$G$17*$D42^(-2)+$H$17*$D42^(-1/2)+$I$17*$D42^2)*(1000/$K$17) -> 1308.807 | L42: =E42*P$12+F42*P$13+G42*P$14+H42*P$15+I42*P$16+J42*P$17 -> 1115.0906 | W42: =X42-273.15 -> 1000 | X42: =X41+50 -> 1273.15 | Y42: =(Y$12+Z$12*$X42+AA$12*$X42^(-2)+AB$12*$X42^(-1/2)+AC$12*$X42^2)*(1000/AE$12) -> 1303.8876 | Z42: =($Y$13+$Z$13*$X42+$AA$13*$X42^(-2)+$AB$13*$X42^(-1/2)+$AC$13*$X42^2)*(1000/$AE$13) -> 993.57866 | AA42: =($Y$14+$Z$14*$X42+$AA$14*$X42^(-2)+$AB$14*$X42^(-1/2)+$AC$14*$X42^2)*(1000/$AE$14) -> 1233.7697 | AB42: =($Y$15+$Z$15*$X42+$AA$15*$X42^(-2)+$AB$15*$X42^(-1/2)+$AC$15*$X42^2)*(1000/$AE$15) -> 887.66299 | AC42: =($Y$16+$Z$16*$X42+$AA$16*$X42^(-2)+$AB$16*$X42^(-1/2)+$AC$16*$X42^2)*(1000/$AE$16) -> 1178.7266 | AF42: =Y42*AJ$12+Z42*AJ$13+AA42*AJ$14+AB42*AJ$15+AC42*AJ$16 -> 1112.828
C43: =D43-273.15 -> 1050 | D43: =D42+50 -> 1323.15 | E43: =(E$12+F$12*$D43+G$12*$D43^(-2)+H$12*$D43^(-1/2)+I$12*$D43^2)*(1000/K$12) -> 1312.2234 | F43: =($E$13+$F$13*$D43+$G$13*$D43^(-2)+$H$13*$D43^(-1/2)+$I$13*$D43^2)*(1000/$K$13) -> 1008.0325 | G43: =($E$14+$F$14*$D43+$G$14*$D43^(-2)+$H$14*$D43^(-1/2)+$I$14*$D43^2)*(1000/$K$14) -> 701.48616 | H43: =($E$15+$F$15*$D43+$G$15*$D43^(-2)+$H$15*$D43^(-1/2)+$I$15*$D43^2)*(1000/$K$15) -> 755.46412 | I43: =($E$16+$F$16*$D43+$G$16*$D43^(-2)+$H$16*$D43^(-1/2)+$I$16*$D43^2)*(1000/$K$16) -> 1184.6699 | J43: =($E$17+$F$17*$D43+$G$17*$D43^(-2)+$H$17*$D43^(-1/2)+$I$17*$D43^2)*(1000/$K$17) -> 1317.3314 | L43: =E43*P$12+F43*P$13+G43*P$14+H43*P$15+I43*P$16+J43*P$17 -> 1124.4211 | W43: =X43-273.15 -> 1050 | X43: =X42+50 -> 1323.15 | Y43: =(Y$12+Z$12*$X43+AA$12*$X43^(-2)+AB$12*$X43^(-1/2)+AC$12*$X43^2)*(1000/AE$12) -> 1312.2234 | Z43: =($Y$13+$Z$13*$X43+$AA$13*$X43^(-2)+$AB$13*$X43^(-1/2)+$AC$13*$X43^2)*(1000/$AE$13) -> 1008.0325 | AA43: =($Y$14+$Z$14*$X43+$AA$14*$X43^(-2)+$AB$14*$X43^(-1/2)+$AC$14*$X43^2)*(1000/$AE$14) -> 1240.118 | AB43: =($Y$15+$Z$15*$X43+$AA$15*$X43^(-2)+$AB$15*$X43^(-1/2)+$AC$15*$X43^2)*(1000/$AE$15) -> 896.4225 | AC43: =($Y$16+$Z$16*$X43+$AA$16*$X43^(-2)+$AB$16*$X43^(-1/2)+$AC$16*$X43^2)*(1000/$AE$16) -> 1184.6699 | AF43: =Y43*AJ$12+Z43*AJ$13+AA43*AJ$14+AB43*AJ$15+AC43*AJ$16 -> 1120.0595
C44: =D44-273.15 -> 1100 | D44: =D43+50 -> 1373.15 | E44: =(E$12+F$12*$D44+G$12*$D44^(-2)+H$12*$D44^(-1/2)+I$12*$D44^2)*(1000/K$12) -> 1319.8118 | F44: =($E$13+$F$13*$D44+$G$13*$D44^(-2)+$H$13*$D44^(-1/2)+$I$13*$D44^2)*(1000/$K$13) -> 1022.9991 | G44: =($E$14+$F$14*$D44+$G$14*$D44^(-2)+$H$14*$D44^(-1/2)+$I$14*$D44^2)*(1000/$K$14) -> 714.39759 | H44: =($E$15+$F$15*$D44+$G$15*$D44^(-2)+$H$15*$D44^(-1/2)+$I$15*$D44^2)*(1000/$K$15) -> 759.2912 | I44: =($E$16+$F$16*$D44+$G$16*$D44^(-2)+$H$16*$D44^(-1/2)+$I$16*$D44^2)*(1000/$K$16) -> 1190.6119 | J44: =($E$17+$F$17*$D44+$G$17*$D44^(-2)+$H$17*$D44^(-1/2)+$I$17*$D44^2)*(1000/$K$17) -> 1325.4763 | L44: =E44*P$12+F44*P$13+G44*P$14+H44*P$15+I44*P$16+J44*P$17 -> 1133.5529 | W44: =X44-273.15 -> 1100 | X44: =X43+50 -> 1373.15 | Y44: =(Y$12+Z$12*$X44+AA$12*$X44^(-2)+AB$12*$X44^(-1/2)+AC$12*$X44^2)*(1000/AE$12) -> 1319.8118 | Z44: =($Y$13+$Z$13*$X44+$AA$13*$X44^(-2)+$AB$13*$X44^(-1/2)+$AC$13*$X44^2)*(1000/$AE$13) -> 1022.9991 | AA44: =($Y$14+$Z$14*$X44+$AA$14*$X44^(-2)+$AB$14*$X44^(-1/2)+$AC$14*$X44^2)*(1000/$AE$14) -> 1246.2088 | AB44: =($Y$15+$Z$15*$X44+$AA$15*$X44^(-2)+$AB$15*$X44^(-1/2)+$AC$15*$X44^2)*(1000/$AE$15) -> 905.35888 | AC44: =($Y$16+$Z$16*$X44+$AA$16*$X44^(-2)+$AB$16*$X44^(-1/2)+$AC$16*$X44^2)*(1000/$AE$16) -> 1190.6119 | AF44: =Y44*AJ$12+Z44*AJ$13+AA44*AJ$14+AB44*AJ$15+AC44*AJ$16 -> 1127.2267
C45: =D45-273.15 -> 1150 | D45: =D44+50 -> 1423.15 | E45: =(E$12+F$12*$D45+G$12*$D45^(-2)+H$12*$D45^(-1/2)+I$12*$D45^2)*(1000/K$12) -> 1326.6551 | F45: =($E$13+$F$13*$D45+$G$13*$D45^(-2)+$H$13*$D45^(-1/2)+$I$13*$D45^2)*(1000/$K$13) -> 1038.4912 | G45: =($E$14+$F$14*$D45+$G$14*$D45^(-2)+$H$14*$D45^(-1/2)+$I$14*$D45^2)*(1000/$K$14) -> 728.22243 | H45: =($E$15+$F$15*$D45+$G$15*$D45^(-2)+$H$15*$D45^(-1/2)+$I$15*$D45^2)*(1000/$K$15) -> 763.11821 | I45: =($E$16+$F$16*$D45+$G$16*$D45^(-2)+$H$16*$D45^(-1/2)+$I$16*$D45^2)*(1000/$K$16) -> 1196.6099 | J45: =($E$17+$F$17*$D45+$G$17*$D45^(-2)+$H$17*$D45^(-1/2)+$I$17*$D45^2)*(1000/$K$17) -> 1333.2783 | L45: =E45*P$12+F45*P$13+G45*P$14+H45*P$15+I45*P$16+J45*P$17 -> 1142.5038 | W45: =X45-273.15 -> 1150 | X45: =X44+50 -> 1423.15 | Y45: =(Y$12+Z$12*$X45+AA$12*$X45^(-2)+AB$12*$X45^(-1/2)+AC$12*$X45^2)*(1000/AE$12) -> 1326.6551 | Z45: =($Y$13+$Z$13*$X45+$AA$13*$X45^(-2)+$AB$13*$X45^(-1/2)+$AC$13*$X45^2)*(1000/$AE$13) -> 1038.4912 | AA45: =($Y$14+$Z$14*$X45+$AA$14*$X45^(-2)+$AB$14*$X45^(-1/2)+$AC$14*$X45^2)*(1000/$AE$14) -> 1252.1018 | AB45: =($Y$15+$Z$15*$X45+$AA$15*$X45^(-2)+$AB$15*$X45^(-1/2)+$AC$15*$X45^2)*(1000/$AE$15) -> 914.50617 | AC45: =($Y$16+$Z$16*$X45+$AA$16*$X45^(-2)+$AB$16*$X45^(-1/2)+$AC$16*$X45^2)*(1000/$AE$16) -> 1196.6099 | AF45: =Y45*AJ$12+Z45*AJ$13+AA45*AJ$14+AB45*AJ$15+AC45*AJ$16 -> 1134.3765
C46: =D46-273.15 -> 1200 | D46: =D45+50 -> 1473.15 | E46: =(E$12+F$12*$D46+G$12*$D46^(-2)+H$12*$D46^(-1/2)+I$12*$D46^2)*(1000/K$12) -> 1332.7544 | F46: =($E$13+$F$13*$D46+$G$13*$D46^(-2)+$H$13*$D46^(-1/2)+$I$13*$D46^2)*(1000/$K$13) -> 1054.5198 | G46: =($E$14+$F$14*$D46+$G$14*$D46^(-2)+$H$14*$D46^(-1/2)+$I$14*$D46^2)*(1000/$K$14) -> 743.0049 | H46: =($E$15+$F$15*$D46+$G$15*$D46^(-2)+$H$15*$D46^(-1/2)+$I$15*$D46^2)*(1000/$K$15) -> 766.94515 | I46: =($E$16+$F$16*$D46+$G$16*$D46^(-2)+$H$16*$D46^(-1/2)+$I$16*$D46^2)*(1000/$K$16) -> 1202.7146 | J46: =($E$17+$F$17*$D46+$G$17*$D46^(-2)+$H$17*$D46^(-1/2)+$I$17*$D46^2)*(1000/$K$17) -> 1340.769 | L46: =E46*P$12+F46*P$13+G46*P$14+H46*P$15+I46*P$16+J46*P$17 -> 1151.2889 | W46: =X46-273.15 -> 1200 | X46: =X45+50 -> 1473.15 | Y46: =(Y$12+Z$12*$X46+AA$12*$X46^(-2)+AB$12*$X46^(-1/2)+AC$12*$X46^2)*(1000/AE$12) -> 1332.7544 | Z46: =($Y$13+$Z$13*$X46+$AA$13*$X46^(-2)+$AB$13*$X46^(-1/2)+$AC$13*$X46^2)*(1000/$AE$13) -> 1054.5198 | AA46: =($Y$14+$Z$14*$X46+$AA$14*$X46^(-2)+$AB$14*$X46^(-1/2)+$AC$14*$X46^2)*(1000/$AE$14) -> 1257.8497 | AB46: =($Y$15+$Z$15*$X46+$AA$15*$X46^(-2)+$AB$15*$X46^(-1/2)+$AC$15*$X46^2)*(1000/$AE$15) -> 923.89422 | AC46: =($Y$16+$Z$16*$X46+$AA$16*$X46^(-2)+$AB$16*$X46^(-1/2)+$AC$16*$X46^2)*(1000/$AE$16) -> 1202.7146 | AF46: =Y46*AJ$12+Z46*AJ$13+AA46*AJ$14+AB46*AJ$15+AC46*AJ$16 -> 1141.5502
C47: =D47-273.15 -> 1250 | D47: =D46+50 -> 1523.15 | E47: =(E$12+F$12*$D47+G$12*$D47^(-2)+H$12*$D47^(-1/2)+I$12*$D47^2)*(1000/K$12) -> 1338.1098 | F47: =($E$13+$F$13*$D47+$G$13*$D47^(-2)+$H$13*$D47^(-1/2)+$I$13*$D47^2)*(1000/$K$13) -> 1071.0938 | G47: =($E$14+$F$14*$D47+$G$14*$D47^(-2)+$H$14*$D47^(-1/2)+$I$14*$D47^2)*(1000/$K$14) -> 758.78433 | H47: =($E$15+$F$15*$D47+$G$15*$D47^(-2)+$H$15*$D47^(-1/2)+$I$15*$D47^2)*(1000/$K$15) -> 770.77203 | I47: =($E$16+$F$16*$D47+$G$16*$D47^(-2)+$H$16*$D47^(-1/2)+$I$16*$D47^2)*(1000/$K$16) -> 1208.9705 | J47: =($E$17+$F$17*$D47+$G$17*$D47^(-2)+$H$17*$D47^(-1/2)+$I$17*$D47^2)*(1000/$K$17) -> 1347.9763 | L47: =E47*P$12+F47*P$13+G47*P$14+H47*P$15+I47*P$16+J47*P$17 -> 1159.9212 | W47: =X47-273.15 -> 1250 | X47: =X46+50 -> 1523.15 | Y47: =(Y$12+Z$12*$X47+AA$12*$X47^(-2)+AB$12*$X47^(-1/2)+AC$12*$X47^2)*(1000/AE$12) -> 1338.1098 | Z47: =($Y$13+$Z$13*$X47+$AA$13*$X47^(-2)+$AB$13*$X47^(-1/2)+$AC$13*$X47^2)*(1000/$AE$13) -> 1071.0938 | AA47: =($Y$14+$Z$14*$X47+$AA$14*$X47^(-2)+$AB$14*$X47^(-1/2)+$AC$14*$X47^2)*(1000/$AE$14) -> 1263.4994 | AB47: =($Y$15+$Z$15*$X47+$AA$15*$X47^(-2)+$AB$15*$X47^(-1/2)+$AC$15*$X47^2)*(1000/$AE$15) -> 933.54932 | AC47: =($Y$16+$Z$16*$X47+$AA$16*$X47^(-2)+$AB$16*$X47^(-1/2)+$AC$16*$X47^2)*(1000/$AE$16) -> 1208.9705 | AF47: =Y47*AJ$12+Z47*AJ$13+AA47*AJ$14+AB47*AJ$15+AC47*AJ$16 -> 1148.7842
C48: =D48-273.15 -> 1300 | D48: =D47+50 -> 1573.15 | E48: =(E$12+F$12*$D48+G$12*$D48^(-2)+H$12*$D48^(-1/2)+I$12*$D48^2)*(1000/K$12) -> 1342.7211 | F48: =($E$13+$F$13*$D48+$G$13*$D48^(-2)+$H$13*$D48^(-1/2)+$I$13*$D48^2)*(1000/$K$13) -> 1088.2208 | G48: =($E$14+$F$14*$D48+$G$14*$D48^(-2)+$H$14*$D48^(-1/2)+$I$14*$D48^2)*(1000/$K$14) -> 775.59581 | H48: =($E$15+$F$15*$D48+$G$15*$D48^(-2)+$H$15*$D48^(-1/2)+$I$15*$D48^2)*(1000/$K$15) -> 774.59887 | I48: =($E$16+$F$16*$D48+$G$16*$D48^(-2)+$H$16*$D48^(-1/2)+$I$16*$D48^2)*(1000/$K$16) -> 1215.4176 | J48: =($E$17+$F$17*$D48+$G$17*$D48^(-2)+$H$17*$D48^(-1/2)+$I$17*$D48^2)*(1000/$K$17) -> 1354.9246 | L48: =E48*P$12+F48*P$13+G48*P$14+H48*P$15+I48*P$16+J48*P$17 -> 1168.4118 | W48: =X48-273.15 -> 1300 | X48: =X47+50 -> 1573.15 | Y48: =(Y$12+Z$12*$X48+AA$12*$X48^(-2)+AB$12*$X48^(-1/2)+AC$12*$X48^2)*(1000/AE$12) -> 1342.7211 | Z48: =($Y$13+$Z$13*$X48+$AA$13*$X48^(-2)+$AB$13*$X48^(-1/2)+$AC$13*$X48^2)*(1000/$AE$13) -> 1088.2208 | AA48: =($Y$14+$Z$14*$X48+$AA$14*$X48^(-2)+$AB$14*$X48^(-1/2)+$AC$14*$X48^2)*(1000/$AE$14) -> 1269.0924 | AB48: =($Y$15+$Z$15*$X48+$AA$15*$X48^(-2)+$AB$15*$X48^(-1/2)+$AC$15*$X48^2)*(1000/$AE$15) -> 943.49473 | AC48: =($Y$16+$Z$16*$X48+$AA$16*$X48^(-2)+$AB$16*$X48^(-1/2)+$AC$16*$X48^2)*(1000/$AE$16) -> 1215.4176 | AF48: =Y48*AJ$12+Z48*AJ$13+AA48*AJ$14+AB48*AJ$15+AC48*AJ$16 -> 1156.111

Sheet PowerConductive
B3: Effective Heatflow | F3: Predicted heat flow
B4: Globally binned heatflow dataset | F4: C | G4: 510
B6: after: Hasterok et al., 2011. Oceanic heat flow: Implications for global heat loss. Earth and Planetary Science Letters 311. p. 386-395. | F6: after: Davies & Davies, 2010. Earth’s surface heat flux. Solid Earth, 1, p. 5-24.
K7: Intermediate-Fast
B9: t [Ma] | C9: qunfiltered [mW/m2] | D9: qunfiltered [mW/m2] | F9: t [Ma] | G9: qpredicted [mW/m2] | H9: qeffective [mW/m2] | I9: qhydro [mW/m2] | K9: t [Ma] | L9: qCond [mW/m2] | M9: qhyd [mW/m2] | N9: Δt [Ma] | O9: lbound [km] | P9: vspread [km/Ma] | Q9: A2 [km2] | R9: Pcond [TW] | S9: Pcond,cumul [TW] | T9: Phyd [TW] | U9: Phyd,cumul [TW]
B10: 0 | C10: 276 | D10: 197 | F10: 0.05 | G10: =$G$4/(F10^(1/2)) -> 2280.7893 | H10: =231.33*EXP(-0.091*F10) -> 230.27984 | I10: =G10-H10 -> 2050.5095 | K10: 0.05 | L10: =H10 -> 230.27984 | M10: =I10 -> 2050.5095 | N10: 0.1 | O10: 22723 | P10: 83.5 | Q10: =O10*P10*N10*1000 -> 1.8973705e+08 | R10: =Q10*L10/1000000000000 -> 0.043692617 | S10: =R10 -> 0.043692617 | T10: =Q10*M10/1000000000000 -> 0.38905762 | U10: =T10 -> 0.38905762
B11: 2.5 | C11: 276 | D11: 197 | F11: 0.15 | G11: =$G$4/(F11^(1/2)) -> 1316.8143 | H11: =231.33*EXP(-0.091*F11) -> 228.1938 | I11: =G11-H11 -> 1088.6205 | K11: 0.15 | L11: =H11 -> 228.1938 | M11: =I11 -> 1088.6205 | N11: 0.1 | O11: 22723 | P11: 83.5 | Q11: =O11*P11*N11*1000 -> 1.8973705e+08 | R11: =Q11*L11/1000000000000 -> 0.043296818 | S11: =S10+R11 -> 0.086989436 | T11: =Q11*M11/1000000000000 -> 0.20655165 | U11: =U10+T11 -> 0.59560927
B12: 2.5 | C12: 192 | D12: 215 | F12: 0.25 | G12: =$G$4/(F12^(1/2)) -> 1020 | H12: =231.33*EXP(-0.091*F12) -> 226.12665 | I12: =G12-H12 -> 793.87335 | K12: 0.25 | L12: =H12 -> 226.12665 | M12: =I12 -> 793.87335 | N12: 0.1 | O12: 22723 | P12: 83.5 | Q12: =O12*P12*N12*1000 -> 1.8973705e+08 | R12: =Q12*L12/1000000000000 -> 0.042904604 | S12: =S11+R12 -> 0.12989404 | T12: =Q12*M12/1000000000000 -> 0.15062719 | U12: =U11+T12 -> 0.74623646
B13: 5 | C13: 192 | D13: 215 | F13: 0.35 | G13: =$G$4/(F13^(1/2)) -> 862.05734 | H13: =231.33*EXP(-0.091*F13) -> 224.07824 | I13: =G13-H13 -> 637.9791 | K13: 0.35 | L13: =H13 -> 224.07824 | M13: =I13 -> 637.9791 | N13: 0.1 | O13: 22723 | P13: 83.5 | Q13: =O13*P13*N13*1000 -> 1.8973705e+08 | R13: =Q13*L13/1000000000000 -> 0.042515944 | S13: =S12+R13 -> 0.17240998 | T13: =Q13*M13/1000000000000 -> 0.12104827 | U13: =U12+T13 -> 0.86728473
B14: 5 | C14: 145 | D14: 110 | F14: 0.45 | G14: =$G$4/(F14^(1/2)) -> 760.26311 | H14: =231.33*EXP(-0.091*F14) -> 222.04837 | I14: =G14-H14 -> 538.21474 | K14: 0.45 | L14: =H14 -> 222.04837 | M14: =I14 -> 538.21474 | N14: 0.1 | O14: 22723 | P14: 83.5 | Q14: =O14*P14*N14*1000 -> 1.8973705e+08 | R14: =Q14*L14/1000000000000 -> 0.042130804 | S14: =S13+R14 -> 0.21454079 | T14: =Q14*M14/1000000000000 -> 0.10211928 | U14: =U13+T14 -> 0.96940401
B15: 7.5 | C15: 145 | D15: 110 | F15: 0.55 | G15: =$G$4/(F15^(1/2)) -> 687.68386 | H15: =231.33*EXP(-0.091*F15) -> 220.0369 | I15: =G15-H15 -> 467.64696 | K15: 0.55 | L15: =H15 -> 220.0369 | M15: =I15 -> 467.64696 | N15: 0.1 | O15: 22723 | P15: 83.5 | Q15: =O15*P15*N15*1000 -> 1.8973705e+08 | R15: =Q15*L15/1000000000000 -> 0.041749152 | S15: =S14+R15 -> 0.25628994 | T15: =Q15*M15/1000000000000 -> 0.088729954 | U15: =U14+T15 -> 1.058134
B16: 7.5 | C16: 85 | D16: 98.7 | F16: 0.65 | G16: =$G$4/(F16^(1/2)) -> 632.57715 | H16: =231.33*EXP(-0.091*F16) -> 218.04365 | I16: =G16-H16 -> 414.5335 | K16: 0.65 | L16: =H16 -> 218.04365 | M16: =I16 -> 414.5335 | N16: 0.1 | O16: 22723 | P16: 83.5 | Q16: =O16*P16*N16*1000 -> 1.8973705e+08 | R16: =Q16*L16/1000000000000 -> 0.041370959 | S16: =S15+R16 -> 0.2976609 | T16: =Q16*M16/1000000000000 -> 0.078652363 | U16: =U15+T16 -> 1.1367863
B17: 10 | C17: 85 | D17: 98.7 | F17: 0.75 | G17: =$G$4/(F17^(1/2)) -> 588.89727 | H17: =231.33*EXP(-0.091*F17) -> 216.06845 | I17: =G17-H17 -> 372.82882 | K17: 0.75 | L17: =H17 -> 216.06845 | M17: =I17 -> 372.82882 | N17: 0.1 | O17: 22723 | P17: 83.5 | Q17: =O17*P17*N17*1000 -> 1.8973705e+08 | R17: =Q17*L17/1000000000000 -> 0.040996191 | S17: =S16+R17 -> 0.33865709 | T17: =Q17*M17/1000000000000 -> 0.070739441 | U17: =U16+T17 -> 1.2075258
B18: 10 | C18: 78.7 | D18: 103 | F18: 0.85 | G18: =$G$4/(F18^(1/2)) -> 553.17267 | H18: =231.33*EXP(-0.091*F18) -> 214.11115 | I18: =G18-H18 -> 339.06152 | K18: 0.85 | L18: =H18 -> 214.11115 | M18: =I18 -> 339.06152 | N18: 0.1 | O18: 22723 | P18: 83.5 | Q18: =O18*P18*N18*1000 -> 1.8973705e+08 | R18: =Q18*L18/1000000000000 -> 0.040624818 | S18: =S17+R18 -> 0.37928191 | T18: =Q18*M18/1000000000000 -> 0.064332533 | U18: =U17+T18 -> 1.2718583
B19: 12.5 | C19: 78.7 | D19: 103 | F19: 0.95 | G19: =$G$4/(F19^(1/2)) -> 523.24896 | H19: =231.33*EXP(-0.091*F19) -> 212.17157 | I19: =G19-H19 -> 311.07738 | K19: 0.95 | L19: =H19 -> 212.17157 | M19: =I19 -> 311.07738 | N19: 0.1 | O19: 22723 | P19: 83.5 | Q19: =O19*P19*N19*1000 -> 1.8973705e+08 | R19: =Q19*L19/1000000000000 -> 0.040256809 | S19: =S18+R19 -> 0.41953872 | T19: =Q19*M19/1000000000000 -> 0.059022905 | U19: =U18+T19 -> 1.3308812
B20: 12.5 | C20: 75.4 | D20: 89 | F20: 1.05 | G20: =$G$4/(F20^(1/2)) -> 497.70904 | H20: =231.33*EXP(-0.091*F20) -> 210.24957 | I20: =G20-H20 -> 287.45947 | K20: 1.05 | L20: =H20 -> 210.24957 | M20: =I20 -> 287.45947 | N20: 0.1 | O20: 22723 | P20: 83.5 | Q20: =O20*P20*N20*1000 -> 1.8973705e+08 | R20: =Q20*L20/1000000000000 -> 0.039892134 | S20: =S19+R20 -> 0.45943085 | T20: =Q20*M20/1000000000000 -> 0.054541711 | U20: =U19+T20 -> 1.3854229
B21: 15 | C21: 75.4 | D21: 89 | F21: 1.15 | G21: =$G$4/(F21^(1/2)) -> 475.57745 | H21: =231.33*EXP(-0.091*F21) -> 208.34498 | I21: =G21-H21 -> 267.23247 | K21: 1.15 | L21: =H21 -> 208.34498 | M21: =I21 -> 267.23247 | N21: 0.1 | O21: 22723 | P21: 83.5 | Q21: =O21*P21*N21*1000 -> 1.8973705e+08 | R21: =Q21*L21/1000000000000 -> 0.039530762 | S21: =S20+R21 -> 0.49896161 | T21: =Q21*M21/1000000000000 -> 0.050703901 | U21: =U20+T21 -> 1.4361268
B22: 15 | C22: 80 | D22: 100 | F22: 1.25 | G22: =$G$4/(F22^(1/2)) -> 456.15787 | H22: =231.33*EXP(-0.091*F22) -> 206.45764 | I22: =G22-H22 -> 249.70023 | K22: 1.25 | L22: =H22 -> 206.45764 | M22: =I22 -> 249.70023 | N22: 0.1 | O22: 22723 | P22: 83.5 | Q22: =O22*P22*N22*1000 -> 1.8973705e+08 | R22: =Q22*L22/1000000000000 -> 0.039172664 | S22: =S21+R22 -> 0.53813427 | T22: =Q22*M22/1000000000000 -> 0.047377384 | U22: =U21+T22 -> 1.4835042
... B29: 25 | C29: 61.6 | D29: 98 | F29: 1.95 | G29: =$G$4/(F29^(1/2)) -> 365.21859 | H29: =231.33*EXP(-0.091*F29) -> 193.71641 | I29: =G29-H29 -> 171.50218 | K29: 1.95 | L29: =H29 -> 193.71641 | M29: =I29 -> 171.50218 | N29: 0.1 | O29: 22723 | P29: 83.5 | Q29: =O29*P29*N29*1000 -> 1.8973705e+08 | R29: =Q29*L29/1000000000000 -> 0.036755179 | S29: =S28+R29 -> 0.80258499 | T29: =Q29*M29/1000000000000 -> 0.032540318 | U29: =U28+T29 -> 1.7493397
B30: 25 | C30: 64.5 | D30: 91 | F30: 2.05 | G30: =$G$4/(F30^(1/2)) -> 356.19945
B31: 27.5 | C31: 64.5 | D31: 91 | F31: 2.15 | G31: =$G$4/(F31^(1/2)) -> 347.81711 | P31: Power conductive 0-1Ma | R31: =S19 -> 0.41953872 | S31: Power hydrothermal 0-1Ma | U31: =U19 -> 1.3308812
B32: 27.5 | C32: 65.2 | D32: 85.4 | F32: 2.25 | G32: =$G$4/(F32^(1/2)) -> 340
B33: 30 | C33: 65.2 | D33: 85.4 | F33: 2.35 | G33: =$G$4/(F33^(1/2)) -> 332.68732 | K33: Slow-Ultra slow
B34: 30 | C34: 69 | D34: 78 | F34: 2.45 | G34: =$G$4/(F34^(1/2)) -> 325.82705
B35: 32.5 | C35: 69 | D35: 78 | F35: 2.55 | G35: =$G$4/(F35^(1/2)) -> 319.37439 | K35: t [Ma] | L35: qCond [mW/m2] | M35: qhyd [mW/m2] | N35: Δt [Ma] | O35: lbound [km] | P35: vspread [km/Ma] | Q35: A2 [km2] | R35: Pcond [TW] | S35: Pcond,cumul [TW] | T35: Phyd [TW] | U35: Phyd,cumul [TW]
B36: 32.5 | C36: 62 | D36: 72.5 | F36: 2.65 | G36: =$G$4/(F36^(1/2)) -> 313.29051 | K36: 0.05 | L36: =H10 -> 230.27984 | M36: =I10 -> 2050.5095 | N36: 0.1 | O36: 37416 | P36: 18.6 | Q36: =O36*P36*N36*1000 -> 69593760 | R36: =Q36*L36/1000000000000 -> 0.01602604 | S36: =R36 -> 0.01602604 | T36: =Q36*M36/1000000000000 -> 0.14270267 | U36: =T36 -> 0.14270267
B37: 35 | C37: 62 | D37: 72.5 | F37: 2.75 | G37: =$G$4/(F37^(1/2)) -> 307.54157 | K37: 0.15 | L37: =0.00000000042488*(K37^6)-0.000000253*(K37^5)+0.000058949*(K37^4)-0.0067857*(K37^3)+0.40168*(K37^2)-11.751*(K37)+205.4 -> 203.64636 | M37: =I11 -> 1088.6205 | N37: 0.1 | O37: 37416 | P37: 18.6 | Q37: =O37*P37*N37*1000 -> 69593760 | R37: =Q37*L37/1000000000000 -> 0.014172516 | S37: =S36+R37 -> 0.030198556 | T37: =Q37*M37/1000000000000 -> 0.075761197 | U37: =U36+T37 -> 0.21846386
B38: 35 | C38: 70.8 | D38: 78.5 | F38: 2.85 | G38: =$G$4/(F38^(1/2)) -> 302.09793 | K38: 0.25 | L38: =0.00000000042488*(K38^6)-0.000000253*(K38^5)+0.000058949*(K38^4)-0.0067857*(K38^3)+0.40168*(K38^2)-11.751*(K38)+205.4 -> 202.48725 | M38: =I12 -> 793.87335 | N38: 0.1 | O38: 37416 | P38: 18.6 | Q38: =O38*P38*N38*1000 -> 69593760 | R38: =Q38*L38/1000000000000 -> 0.014091849 | S38: =S37+R38 -> 0.044290405 | T38: =Q38*M38/1000000000000 -> 0.055248631 | U38: =U37+T38 -> 0.27371249
B39: 37.5 | C39: 70.8 | D39: 78.5 | F39: 2.95 | G39: =$G$4/(F39^(1/2)) -> 296.93348 | K39: 0.35 | L39: =0.00000000042488*(K39^6)-0.000000253*(K39^5)+0.000058949*(K39^4)-0.0067857*(K39^3)+0.40168*(K39^2)-11.751*(K39)+205.4 -> 201.33607 | M39: =I13 -> 637.9791 | N39: 0.1 | O39: 37416 | P39: 18.6 | Q39: =O39*P39*N39*1000 -> 69593760 | R39: =Q39*L39/1000000000000 -> 0.014011734 | S39: =S38+R39 -> 0.058302139 | T39: =Q39*M39/1000000000000 -> 0.044399365 | U39: =U38+T39 -> 0.31811186
B40: 37.5 | C40: 53 | D40: 63.1 | F40: 3.05 | G40: =$G$4/(F40^(1/2)) -> 292.02515 | K40: 0.45 | L40: =0.00000000042488*(K40^6)-0.000000253*(K40^5)+0.000058949*(K40^4)-0.0067857*(K40^3)+0.40168*(K40^2)-11.751*(K40)+205.4 -> 200.19277 | M40: =I14 -> 538.21474 | N40: 0.1 | O40: 37416 | P40: 18.6 | Q40: =O40*P40*N40*1000 -> 69593760 | R40: =Q40*L40/1000000000000 -> 0.013932168 | S40: =S39+R40 -> 0.072234307 | T40: =Q40*M40/1000000000000 -> 0.037456387 | U40: =U39+T40 -> 0.35556825
B41: 40 | C41: 53 | D41: 63.1 | F41: 3.15 | G41: =$G$4/(F41^(1/2)) -> 287.35245 | K41: 0.55 | L41: =0.00000000042488*(K41^6)-0.000000253*(K41^5)+0.000058949*(K41^4)-0.0067857*(K41^3)+0.40168*(K41^2)-11.751*(K41)+205.4 -> 199.05733 | M41: =I15 -> 467.64696 | N41: 0.1 | O41: 37416 | P41: 18.6 | Q41: =O41*P41*N41*1000 -> 69593760 | R41: =Q41*L41/1000000000000 -> 0.013853148 | S41: =S40+R41 -> 0.086087455 | T41: =Q41*M41/1000000000000 -> 0.03254531 | U41: =U40+T41 -> 0.38811356
B42: 40 | C42: 70.6 | D42: 76.4 | F42: 3.25 | G42: =$G$4/(F42^(1/2)) -> 282.8971 | K42: 0.65 | L42: =0.00000000042488*(K42^6)-0.000000253*(K42^5)+0.000058949*(K42^4)-0.0067857*(K42^3)+0.40168*(K42^2)-11.751*(K42)+205.4 -> 197.92971 | M42: =I16 -> 414.5335 | N42: 0.1 | O42: 37416 | P42: 18.6 | Q42: =O42*P42*N42*1000 -> 69593760 | R42: =Q42*L42/1000000000000 -> 0.013774673 | S42: =S41+R42 -> 0.099862128 | T42: =Q42*M42/1000000000000 -> 0.028848945 | U42: =U41+T42 -> 0.4169625
B43: 42.5 | C43: 70.6 | D43: 76.4 | F43: 3.35 | G43: =$G$4/(F43^(1/2)) -> 278.64277 | K43: 0.75 | L43: =0.00000000042488*(K43^6)-0.000000253*(K43^5)+0.000058949*(K43^4)-0.0067857*(K43^3)+0.40168*(K43^2)-11.751*(K43)+205.4 -> 196.80985 | M43: =I17 -> 372.82882 | N43: 0.1 | O43: 37416 | P43: 18.6 | Q43: =O43*P43*N43*1000 -> 69593760 | R43: =Q43*L43/1000000000000 -> 0.013696738 | S43: =S42+R43 -> 0.11355887 | T43: =Q43*M43/1000000000000 -> 0.02594656 | U43: =U42+T43 -> 0.44290906
B44: 42.5 | C44: 63.5 | D44: 63.4 | F44: 3.45 | G44: =$G$4/(F44^(1/2)) -> 274.57477 | K44: 0.85 | L44: =0.00000000042488*(K44^6)-0.000000253*(K44^5)+0.000058949*(K44^4)-0.0067857*(K44^3)+0.40168*(K44^2)-11.751*(K44)+205.4 -> 195.69773 | M44: =I18 -> 339.06152 | N44: 0.1 | O44: 37416 | P44: 18.6 | Q44: =O44*P44*N44*1000 -> 69593760 | R44: =Q44*L44/1000000000000 -> 0.013619341 | S44: =S43+R44 -> 0.12717821 | T44: =Q44*M44/1000000000000 -> 0.023596566 | U44: =U43+T44 -> 0.46650563
B45: 45 | C45: 63.5 | D45: 63.4 | F45: 3.55 | G45: =$G$4/(F45^(1/2)) -> 270.6799 | K45: 0.95 | L45: =0.00000000042488*(K45^6)-0.000000253*(K45^5)+0.000058949*(K45^4)-0.0067857*(K45^3)+0.40168*(K45^2)-11.751*(K45)+205.4 -> 194.5933 | M45: =I19 -> 311.07738 | N45: 0.1 | O45: 37416 | P45: 18.6 | Q45: =O45*P45*N45*1000 -> 69593760 | R45: =Q45*L45/1000000000000 -> 0.013542479 | S45: =S44+R45 -> 0.14072069 | T45: =Q45*M45/1000000000000 -> 0.021649045 | U45: =U44+T45 -> 0.48815467
B46: 45 | C46: 54.8 | D46: 66 | F46: 3.65 | G46: =$G$4/(F46^(1/2)) -> 266.9462 | K46: 1.05 | L46: =0.00000000042488*(K46^6)-0.000000253*(K46^5)+0.000058949*(K46^4)-0.0067857*(K46^3)+0.40168*(K46^2)-11.751*(K46)+205.4 -> 193.49652 | M46: =I20 -> 287.45947 | N46: 0.1 | O46: 37416 | P46: 18.6 | Q46: =O46*P46*N46*1000 -> 69593760 | R46: =Q46*L46/1000000000000 -> 0.01346615 | S46: =S45+R46 -> 0.15418684 | T46: =Q46*M46/1000000000000 -> 0.020005385 | U46: =U45+T46 -> 0.50816006
B47: 47.5 | C47: 54.8 | D47: 66 | F47: 3.75 | G47: =$G$4/(F47^(1/2)) -> 263.36287 | K47: 1.15 | L47: =0.00000000042488*(K47^6)-0.000000253*(K47^5)+0.000058949*(K47^4)-0.0067857*(K47^3)+0.40168*(K47^2)-11.751*(K47)+205.4 -> 192.40735 | M47: =I21 -> 267.23247 | N47: 0.1 | O47: 37416 | P47: 18.6 | Q47: =O47*P47*N47*1000 -> 69593760 | R47: =Q47*L47/1000000000000 -> 0.013390351 | S47: =S46+R47 -> 0.16757719 | T47: =Q47*M47/1000000000000 -> 0.018597713 | U47: =U46+T47 -> 0.52675777
B48: 47.5 | C48: 64.1 | D48: 68 | F48: 3.85 | G48: =$G$4/(F48^(1/2)) -> 259.92007 | K48: 1.25 | L48: =0.00000000042488*(K48^6)-0.000000253*(K48^5)+0.000058949*(K48^4)-0.0067857*(K48^3)+0.40168*(K48^2)-11.751*(K48)+205.4 -> 191.32576 | M48: =I22 -> 249.70023 | N48: 0.1 | O48: 37416 | P48: 18.6 | Q48: =O48*P48*N48*1000 -> 69593760 | R48: =Q48*L48/1000000000000 -> 0.013315079 | S48: =S47+R48 -> 0.18089227 | T48: =Q48*M48/1000000000000 -> 0.017377578 | U48: =U47+T48 -> 0.54413535
... B55: 57.5 | C55: 65 | D55: 68.2 | F55: 4.55 | G55: =$G$4/(F55^(1/2)) -> 239.09169 | K55: 1.95 | L55: =0.00000000042488*(K55^6)-0.000000253*(K55^5)+0.000058949*(K55^4)-0.0067857*(K55^3)+0.40168*(K55^2)-11.751*(K55)+205.4 -> 183.96347 | M55: =I29 -> 171.50218 | N55: 0.1 | O55: 37416 | P55: 18.6 | Q55: =O55*P55*N55*1000 -> 69593760 | R55: =Q55*L55/1000000000000 -> 0.012802709 | S55: =S54+R55 -> 0.27203392 | T55: =Q55*M55/1000000000000 -> 0.011935482 | U55: =U54+T55 -> 0.64164131
B56: 57.5 | C56: 62 | D56: 64.5 | F56: 4.65 | G56: =$G$4/(F56^(1/2)) -> 236.50684
B57: 60 | C57: 62 | D57: 64.5 | F57: 4.75 | G57: =$G$4/(F57^(1/2)) -> 234.00405 | P57: Power conductive 0-1Ma | R57: =S45 -> 0.14072069 | S57: Power hydrothermal 0-1Ma | U57: =U45 -> 0.48815467
B58: 60 | C58: 57.8 | D58: 61 | F58: 4.85 | G58: =$G$4/(F58^(1/2)) -> 231.57907
B59: 62.5 | C59: 57.8 | D59: 61 | F59: 4.95 | G59: =$G$4/(F59^(1/2)) -> 229.22795 | K59: BASC
B60: 62.5 | C60: 59.5 | D60: 67 | F60: 5.05 | G60: =$G$4/(F60^(1/2)) -> 226.94702
B61: 65 | C61: 59.5 | D61: 67 | F61: 5.15 | G61: =$G$4/(F61^(1/2)) -> 224.73285 | K61: t [Ma] | L61: qCond [mW/m2] | M61: qhyd [mW/m2] | N61: Δt [Ma] | O61: lbound [km] | P61: vspread [km/Ma] | Q61: A2 [km2] | R61: Pcond [TW] | S61: Pcond,cumul [TW] | T61: Phyd [TW] | U61: Phyd,cumul [TW]
B62: 65 | C62: 58.6 | D62: 57.5 | F62: 5.25 | G62: =$G$4/(F62^(1/2)) -> 222.58225 | K62: 0.05 | L62: =0.00000000042488*(K62^6)-0.000000253*(K62^5)+0.000058949*(K62^4)-0.0067857*(K62^3)+0.40168*(K62^2)-11.751*(K62)+205.4 -> 204.81345 | M62: =I10 -> 2050.5095 | N62: 0.1 | O62: 11145 | P62: 46.9 | Q62: =O62*P62*N62*1000 -> 52270050 | R62: =Q62*L62/1000000000000 -> 0.010705609 | S62: =R62 -> 0.010705609 | T62: =Q62*M62/1000000000000 -> 0.10718023 | U62: =T62 -> 0.10718023
B63: 67.5 | C63: 58.6 | D63: 57.5 | F63: 5.35 | G63: =$G$4/(F63^(1/2)) -> 220.49223 | K63: 0.15 | L63: =0.00000000042488*(K63^6)-0.000000253*(K63^5)+0.000058949*(K63^4)-0.0067857*(K63^3)+0.40168*(K63^2)-11.751*(K63)+205.4 -> 203.64636 | M63: =I11 -> 1088.6205 | N63: 0.1 | O63: 11145 | P63: 46.9 | Q63: =O63*P63*N63*1000 -> 52270050 | R63: =Q63*L63/1000000000000 -> 0.010644606 | S63: =S62+R63 -> 0.021350215 | T63: =Q63*M63/1000000000000 -> 0.05690225 | U63: =U62+T63 -> 0.16408248
B64: 67.5 | C64: 62.4 | D64: 61.8 | F64: 5.45 | G64: =$G$4/(F64^(1/2)) -> 218.46 | K64: 0.25 | L64: =0.00000000042488*(K64^6)-0.000000253*(K64^5)+0.000058949*(K64^4)-0.0067857*(K64^3)+0.40168*(K64^2)-11.751*(K64)+205.4 -> 202.48725 | M64: =I12 -> 793.87335 | N64: 0.1 | O64: 11145 | P64: 46.9 | Q64: =O64*P64*N64*1000 -> 52270050 | R64: =Q64*L64/1000000000000 -> 0.010584019 | S64: =S63+R64 -> 0.031934234 | T64: =Q64*M64/1000000000000 -> 0.041495799 | U64: =U63+T64 -> 0.20557828
B65: 70 | C65: 62.4 | D65: 61.8 | F65: 5.55 | G65: =$G$4/(F65^(1/2)) -> 216.48294 | K65: 0.35 | L65: =0.00000000042488*(K65^6)-0.000000253*(K65^5)+0.000058949*(K65^4)-0.0067857*(K65^3)+0.40168*(K65^2)-11.751*(K65)+205.4 -> 201.33607 | M65: =I13 -> 637.9791 | N65: 0.1 | O65: 11145 | P65: 46.9 | Q65: =O65*P65*N65*1000 -> 52270050 | R65: =Q65*L65/1000000000000 -> 0.010523846 | S65: =S64+R65 -> 0.04245808 | T65: =Q65*M65/1000000000000 -> 0.0333472 | U65: =U64+T65 -> 0.23892548
B66: 70 | C66: 64.5 | D66: 65.8 | F66: 5.65 | G66: =$G$4/(F66^(1/2)) -> 214.55861 | K66: 0.45 | L66: =0.00000000042488*(K66^6)-0.000000253*(K66^5)+0.000058949*(K66^4)-0.0067857*(K66^3)+0.40168*(K66^2)-11.751*(K66)+205.4 -> 200.19277 | M66: =I14 -> 538.21474 | N66: 0.1 | O66: 11145 | P66: 46.9 | Q66: =O66*P66*N66*1000 -> 52270050 | R66: =Q66*L66/1000000000000 -> 0.010464086 | S66: =S65+R66 -> 0.052922166 | T66: =Q66*M66/1000000000000 -> 0.028132511 | U66: =U65+T66 -> 0.26705799
B67: 72.5 | C67: 64.5 | D67: 65.8 | F67: 5.75 | G67: =$G$4/(F67^(1/2)) -> 212.6847 | K67: 0.55 | L67: =0.00000000042488*(K67^6)-0.000000253*(K67^5)+0.000058949*(K67^4)-0.0067857*(K67^3)+0.40168*(K67^2)-11.751*(K67)+205.4 -> 199.05733 | M67: =I15 -> 467.64696 | N67: 0.1 | O67: 11145 | P67: 46.9 | Q67: =O67*P67*N67*1000 -> 52270050 | R67: =Q67*L67/1000000000000 -> 0.010404737 | S67: =S66+R67 -> 0.063326903 | T67: =Q67*M67/1000000000000 -> 0.02444393 | U67: =U66+T67 -> 0.29150192
B68: 72.5 | C68: 62 | D68: 63.6 | F68: 5.85 | G68: =$G$4/(F68^(1/2)) -> 210.85905 | K68: 0.65 | L68: =0.00000000042488*(K68^6)-0.000000253*(K68^5)+0.000058949*(K68^4)-0.0067857*(K68^3)+0.40168*(K68^2)-11.751*(K68)+205.4 -> 197.92971 | M68: =I16 -> 414.5335 | N68: 0.1 | O68: 11145 | P68: 46.9 | Q68: =O68*P68*N68*1000 -> 52270050 | R68: =Q68*L68/1000000000000 -> 0.010345796 | S68: =S67+R68 -> 0.073672699 | T68: =Q68*M68/1000000000000 -> 0.021667687 | U68: =U67+T68 -> 0.31316961
B69: 75 | C69: 62 | D69: 63.6 | F69: 5.95 | G69: =$G$4/(F69^(1/2)) -> 209.07962 | K69: 0.75 | L69: =0.00000000042488*(K69^6)-0.000000253*(K69^5)+0.000058949*(K69^4)-0.0067857*(K69^3)+0.40168*(K69^2)-11.751*(K69)+205.4 -> 196.80985 | M69: =I17 -> 372.82882 | N69: 0.1 | O69: 11145 | P69: 46.9 | Q69: =O69*P69*N69*1000 -> 52270050 | R69: =Q69*L69/1000000000000 -> 0.010287261 | S69: =S68+R69 -> 0.08395996 | T69: =Q69*M69/1000000000000 -> 0.019487781 | U69: =U68+T69 -> 0.33265739
B70: 75 | C70: 63.6 | D70: 59 | F70: 6.05 | G70: =$G$4/(F70^(1/2)) -> 207.34449 | K70: 0.85 | L70: =0.00000000042488*(K70^6)-0.000000253*(K70^5)+0.000058949*(K70^4)-0.0067857*(K70^3)+0.40168*(K70^2)-11.751*(K70)+205.4 -> 195.69773 | M70: =I18 -> 339.06152 | N70: 0.1 | O70: 11145 | P70: 46.9 | Q70: =O70*P70*N70*1000 -> 52270050 | R70: =Q70*L70/1000000000000 -> 0.01022913 | S70: =S69+R70 -> 0.09418909 | T70: =Q70*M70/1000000000000 -> 0.017722763 | U70: =U69+T70 -> 0.35038015
B71: 77.5 | C71: 63.6 | D71: 59 | F71: 6.15 | G71: =$G$4/(F71^(1/2)) -> 205.65185 | K71: 0.95 | L71: =0.00000000042488*(K71^6)-0.000000253*(K71^5)+0.000058949*(K71^4)-0.0067857*(K71^3)+0.40168*(K71^2)-11.751*(K71)+205.4 -> 194.5933 | M71: =I19 -> 311.07738 | N71: 0.1 | O71: 11145 | P71: 46.9 | Q71: =O71*P71*N71*1000 -> 52270050 | R71: =Q71*L71/1000000000000 -> 0.010171401 | S71: =S70+R71 -> 0.10436049 | T71: =Q71*M71/1000000000000 -> 0.01626003 | U71: =U70+T71 -> 0.36664019
B72: 77.5 | C72: 63.6 | D72: 64.3 | F72: 6.25 | G72: =$G$4/(F72^(1/2)) -> 204 | K72: 1.05 | L72: =0.00000000042488*(K72^6)-0.000000253*(K72^5)+0.000058949*(K72^4)-0.0067857*(K72^3)+0.40168*(K72^2)-11.751*(K72)+205.4 -> 193.49652 | M72: =I20 -> 287.45947 | N72: 0.1 | O72: 11145 | P72: 46.9 | Q72: =O72*P72*N72*1000 -> 52270050 | R72: =Q72*L72/1000000000000 -> 0.010114073 | S72: =S71+R72 -> 0.11447456 | T72: =Q72*M72/1000000000000 -> 0.015025521 | U72: =U71+T72 -> 0.38166571
B73: 80 | C73: 63.6 | D73: 64.3 | F73: 6.35 | G73: =$G$4/(F73^(1/2)) -> 202.38733 | K73: 1.15 | L73: =0.00000000042488*(K73^6)-0.000000253*(K73^5)+0.000058949*(K73^4)-0.0067857*(K73^3)+0.40168*(K73^2)-11.751*(K73)+205.4 -> 192.40735 | M73: =I21 -> 267.23247 | N73: 0.1 | O73: 11145 | P73: 46.9 | Q73: =O73*P73*N73*1000 -> 52270050 | R73: =Q73*L73/1000000000000 -> 0.010057142 | S73: =S72+R73 -> 0.12453171 | T73: =Q73*M73/1000000000000 -> 0.013968255 | U73: =U72+T73 -> 0.39563396
B74: 80 | C74: 60.3 | D74: 70.8 | F74: 6.45 | G74: =$G$4/(F74^(1/2)) -> 200.8123 | K74: 1.25 | L74: =0.00000000042488*(K74^6)-0.000000253*(K74^5)+0.000058949*(K74^4)-0.0067857*(K74^3)+0.40168*(K74^2)-11.751*(K74)+205.4 -> 191.32576 | M74: =I22 -> 249.70023 | N74: 0.1 | O74: 11145 | P74: 46.9 | Q74: =O74*P74*N74*1000 -> 52270050 | R74: =Q74*L74/1000000000000 -> 0.010000607 | S74: =S73+R74 -> 0.13453231 | T74: =Q74*M74/1000000000000 -> 0.013051843 | U74: =U73+T74 -> 0.4086858
... B81: 90 | C81: 56 | D81: 53 | F81: 7.15 | G81: =$G$4/(F81^(1/2)) -> 190.72919 | K81: 1.95 | L81: =0.00000000042488*(K81^6)-0.000000253*(K81^5)+0.000058949*(K81^4)-0.0067857*(K81^3)+0.40168*(K81^2)-11.751*(K81)+205.4 -> 183.96347 | M81: =I29 -> 171.50218 | N81: 0.1 | O81: 11145 | P81: 46.9 | Q81: =O81*P81*N81*1000 -> 52270050 | R81: =Q81*L81/1000000000000 -> 0.0096157797 | S81: =S80+R81 -> 0.20298642 | T81: =Q81*M81/1000000000000 -> 0.0089644275 | U81: =U80+T81 -> 0.48191998
B82: 90 | C82: 54.4 | D82: 55.1 | F82: 7.25 | G82: =$G$4/(F82^(1/2)) -> 189.40924
B83: 92.5 | C83: 54.4 | D83: 55.1 | F83: 7.35 | G83: =$G$4/(F83^(1/2)) -> 188.11633 | P83: Power conductive 0-1Ma | R83: =S71 -> 0.10436049 | S83: Power hydrothermal 0-1Ma | U83: =U71 -> 0.36664019
B84: 92.5 | C84: 56.5 | D84: 56.8 | F84: 7.45 | G84: =$G$4/(F84^(1/2)) -> 186.84954
B85: 95 | C85: 56.5 | D85: 56.8 | F85: 7.55 | G85: =$G$4/(F85^(1/2)) -> 185.608 | K85: Arcs
B86: 95 | C86: 55.1 | D86: 57.4 | F86: 7.65 | G86: =$G$4/(F86^(1/2)) -> 184.39089
B87: 97.5 | C87: 55.1 | D87: 57.4 | F87: 7.75 | G87: =$G$4/(F87^(1/2)) -> 183.19741 | K87: t [Ma] | L87: qCond [mW/m2] | M87: qhyd [mW/m2] | N87: Δt [Ma] | O87: lbound [km] | P87: vspread [km/Ma] | Q87: A2 [km2] | R87: Pcond [TW] | S87: Pcond,cumul [TW] | T87: Phyd [TW] | U87: Phyd,cumul [TW]
B88: 97.5 | C88: 55 | D88: 51.9 | F88: 7.85 | G88: =$G$4/(F88^(1/2)) -> 182.02681 | K88: 0.05 | L88: =0.00000000042488*(K88^6)-0.000000253*(K88^5)+0.000058949*(K88^4)-0.0067857*(K88^3)+0.40168*(K88^2)-11.751*(K88)+205.4 -> 204.81345 | M88: =I10 -> 2050.5095 | N88: 0.1 | O88: 21700 | P88: 12.573266 | Q88: =O88*P88*N88*1000 -> 27283986 | R88: =Q88*L88/1000000000000 -> 0.0055881275 | S88: =R88 -> 0.0055881275 | T88: =Q88*M88/1000000000000 -> 0.055946073 | U88: =T88 -> 0.055946073
B89: 100 | C89: 55 | D89: 51.9 | F89: 7.95 | G89: =$G$4/(F89^(1/2)) -> 180.87836 | K89: 0.15 | L89: =0.00000000042488*(K89^6)-0.000000253*(K89^5)+0.000058949*(K89^4)-0.0067857*(K89^3)+0.40168*(K89^2)-11.751*(K89)+205.4 -> 203.64636 | M89: =I11 -> 1088.6205 | N89: 0.1 | O89: 21700 | P89: 12.573266 | Q89: =O89*P89*N89*1000 -> 27283986 | R89: =Q89*L89/1000000000000 -> 0.0055562847 | S89: =S88+R89 -> 0.011144412 | T89: =Q89*M89/1000000000000 -> 0.029701908 | U89: =U88+T89 -> 0.085647981
B90: 100 | C90: 56.4 | D90: 52.5 | F90: 8.05 | G90: =$G$4/(F90^(1/2)) -> 179.75138 | K90: 0.25 | L90: =0.00000000042488*(K90^6)-0.000000253*(K90^5)+0.000058949*(K90^4)-0.0067857*(K90^3)+0.40168*(K90^2)-11.751*(K90)+205.4 -> 202.48725 | M90: =I12 -> 793.87335 | N90: 0.1 | O90: 21700 | P90: 12.573266 | Q90: =O90*P90*N90*1000 -> 27283986 | R90: =Q90*L90/1000000000000 -> 0.0055246594 | S90: =S89+R90 -> 0.016669072 | T90: =Q90*M90/1000000000000 -> 0.02166003 | U90: =U89+T90 -> 0.10730801
B91: 102.5 | C91: 56.4 | D91: 52.5 | F91: 8.15 | G91: =$G$4/(F91^(1/2)) -> 178.64521 | K91: 0.35 | L91: =0.00000000042488*(K91^6)-0.000000253*(K91^5)+0.000058949*(K91^4)-0.0067857*(K91^3)+0.40168*(K91^2)-11.751*(K91)+205.4 -> 201.33607 | M91: =I13 -> 637.9791 | N91: 0.1 | O91: 21700 | P91: 12.573266 | Q91: =O91*P91*N91*1000 -> 27283986 | R91: =Q91*L91/1000000000000 -> 0.0054932505 | S91: =S90+R91 -> 0.022162322 | T91: =Q91*M91/1000000000000 -> 0.017406613 | U91: =U90+T91 -> 0.12471462
B92: 102.5 | C92: 57.5 | D92: 51 | F92: 8.25 | G92: =$G$4/(F92^(1/2)) -> 177.55921 | K92: 0.45 | L92: =0.00000000042488*(K92^6)-0.000000253*(K92^5)+0.000058949*(K92^4)-0.0067857*(K92^3)+0.40168*(K92^2)-11.751*(K92)+205.4 -> 200.19277 | M92: =I14 -> 538.21474 | N92: 0.1 | O92: 21700 | P92: 12.573266 | Q92: =O92*P92*N92*1000 -> 27283986 | R92: =Q92*L92/1000000000000 -> 0.0054620569 | S92: =S91+R92 -> 0.027624379 | T92: =Q92*M92/1000000000000 -> 0.014684644 | U92: =U91+T92 -> 0.13939927
B93: 105 | C93: 57.5 | D93: 51 | F93: 8.35 | G93: =$G$4/(F93^(1/2)) -> 176.49278 | K93: 0.55 | L93: =0.00000000042488*(K93^6)-0.000000253*(K93^5)+0.000058949*(K93^4)-0.0067857*(K93^3)+0.40168*(K93^2)-11.751*(K93)+205.4 -> 199.05733 | M93: =I15 -> 467.64696 | N93: 0.1 | O93: 21700 | P93: 12.573266 | Q93: =O93*P93*N93*1000 -> 27283986 | R93: =Q93*L93/1000000000000 -> 0.0054310776 | S93: =S92+R93 -> 0.033055457 | T93: =Q93*M93/1000000000000 -> 0.012759273 | U93: =U92+T93 -> 0.15215854
B94: 105 | C94: 55.7 | D94: 53.9 | F94: 8.45 | G94: =$G$4/(F94^(1/2)) -> 175.44533 | K94: 0.65 | L94: =0.00000000042488*(K94^6)-0.000000253*(K94^5)+0.000058949*(K94^4)-0.0067857*(K94^3)+0.40168*(K94^2)-11.751*(K94)+205.4 -> 197.92971 | M94: =I16 -> 414.5335 | N94: 0.1 | O94: 21700 | P94: 12.573266 | Q94: =O94*P94*N94*1000 -> 27283986 | R94: =Q94*L94/1000000000000 -> 0.0054003114 | S94: =S93+R94 -> 0.038455768 | T94: =Q94*M94/1000000000000 -> 0.011310126 | U94: =U93+T94 -> 0.16346867
B95: 107.5 | C95: 55.7 | D95: 53.9 | F95: 8.55 | G95: =$G$4/(F95^(1/2)) -> 174.41632 | K95: 0.75 | L95: =0.00000000042488*(K95^6)-0.000000253*(K95^5)+0.000058949*(K95^4)-0.0067857*(K95^3)+0.40168*(K95^2)-11.751*(K95)+205.4 -> 196.80985 | M95: =I17 -> 372.82882 | N95: 0.1 | O95: 21700 | P95: 12.573266 | Q95: =O95*P95*N95*1000 -> 27283986 | R95: =Q95*L95/1000000000000 -> 0.0053697573 | S95: =S94+R95 -> 0.043825525 | T95: =Q95*M95/1000000000000 -> 0.010172257 | U95: =U94+T95 -> 0.17364092
B96: 107.5 | C96: 54.2 | D96: 53.2 | F96: 8.65 | G96: =$G$4/(F96^(1/2)) -> 173.4052 | K96: 0.85 | L96: =0.00000000042488*(K96^6)-0.000000253*(K96^5)+0.000058949*(K96^4)-0.0067857*(K96^3)+0.40168*(K96^2)-11.751*(K96)+205.4 -> 195.69773 | M96: =I18 -> 339.06152 | N96: 0.1 | O96: 21700 | P96: 12.573266 | Q96: =O96*P96*N96*1000 -> 27283986 | R96: =Q96*L96/1000000000000 -> 0.0053394141 | S96: =S95+R96 -> 0.049164939 | T96: =Q96*M96/1000000000000 -> 0.0092509499 | U96: =U95+T96 -> 0.18289187
B97: 110 | C97: 54.2 | D97: 53.2 | F97: 8.75 | G97: =$G$4/(F97^(1/2)) -> 172.41147 | K97: 0.95 | L97: =0.00000000042488*(K97^6)-0.000000253*(K97^5)+0.000058949*(K97^4)-0.0067857*(K97^3)+0.40168*(K97^2)-11.751*(K97)+205.4 -> 194.5933 | M97: =I19 -> 311.07738 | N97: 0.1 | O97: 21700 | P97: 12.573266 | Q97: =O97*P97*N97*1000 -> 27283986 | R97: =Q97*L97/1000000000000 -> 0.0053092809 | S97: =S96+R97 -> 0.05447422 | T97: =Q97*M97/1000000000000 -> 0.0084874312 | U97: =U96+T97 -> 0.19137931
B98: 110 | C98: 58.2 | D98: 55 | F98: 8.85 | G98: =$G$4/(F98^(1/2)) -> 171.43462 | K98: 1.05 | L98: =0.00000000042488*(K98^6)-0.000000253*(K98^5)+0.000058949*(K98^4)-0.0067857*(K98^3)+0.40168*(K98^2)-11.751*(K98)+205.4 -> 193.49652 | M98: =I20 -> 287.45947 | N98: 0.1 | O98: 21700 | P98: 12.573266 | Q98: =O98*P98*N98*1000 -> 27283986 | R98: =Q98*L98/1000000000000 -> 0.0052793564 | S98: =S97+R98 -> 0.059753577 | T98: =Q98*M98/1000000000000 -> 0.0078430402 | U98: =U97+T98 -> 0.19922235
B99: 112.5 | C99: 58.2 | D99: 55 | F99: 8.95 | G99: =$G$4/(F99^(1/2)) -> 170.4742 | K99: 1.15 | L99: =0.00000000042488*(K99^6)-0.000000253*(K99^5)+0.000058949*(K99^4)-0.0067857*(K99^3)+0.40168*(K99^2)-11.751*(K99)+205.4 -> 192.40735 | M99: =I21 -> 267.23247 | N99: 0.1 | O99: 21700 | P99: 12.573266 | Q99: =O99*P99*N99*1000 -> 27283986 | R99: =Q99*L99/1000000000000 -> 0.0052496396 | S99: =S98+R99 -> 0.065003216 | T99: =Q99*M99/1000000000000 -> 0.0072911672 | U99: =U98+T99 -> 0.20651351
B100: 112.5 | C100: 50.1 | D100: 44 | F100: 9.05 | G100: =$G$4/(F100^(1/2)) -> 169.52974 | K100: 1.25 | L100: =0.00000000042488*(K100^6)-0.000000253*(K100^5)+0.000058949*(K100^4)-0.0067857*(K100^3)+0.40168*(K100^2)-11.751*(K100)+205.4 -> 191.32576 | M100: =I22 -> 249.70023 | N100: 0.1 | O100: 21700 | P100: 12.573266 | Q100: =O100*P100*N100*1000 -> 27283986 | R100: =Q100*L100/1000000000000 -> 0.0052201296 | S100: =S99+R100 -> 0.070223346 | T100: =Q100*M100/1000000000000 -> 0.0068128176 | U100: =U99+T100 -> 0.21332633
... B107: 122.5 | C107: 53.6 | D107: 52.9 | F107: 9.75 | G107: =$G$4/(F107^(1/2)) -> 163.33072 | K107: 1.95 | L107: =0.00000000042488*(K107^6)-0.000000253*(K107^5)+0.000058949*(K107^4)-0.0067857*(K107^3)+0.40168*(K107^2)-11.751*(K107)+205.4 -> 183.96347 | M107: =I29 -> 171.50218 | N107: 0.1 | O107: 21700 | P107: 12.573266 | Q107: =O107*P107*N107*1000 -> 27283986 | R107: =Q107*L107/1000000000000 -> 0.0050192568 | S107: =S106+R107 -> 0.10595511 | T107: =Q107*M107/1000000000000 -> 0.0046792632 | U107: =U106+T107 -> 0.2515532
B108: 122.5 | C108: 53.6 | D108: 53.7 | F108: 9.85 | G108: =$G$4/(F108^(1/2)) -> 162.49951
B109: 125 | C109: 53.6 | D109: 53.7 | F109: 9.95 | G109: =$G$4/(F109^(1/2)) -> 161.68087 | P109: Power conductive 0-1Ma | R109: =S97 -> 0.05447422 | S109: Power hydrothermal 0-1Ma | U109: =U97 -> 0.19137931
B110: 125 | C110: 50.3 | D110: 49 | F110: 10 | G110: =$G$4/(F110^(1/2)) -> 161.27616
B111: 127.5 | C111: 50.3 | D111: 49 | F111: 15 | G111: =$G$4/(F111^(1/2)) -> 131.68143
B112: 127.5 | C112: 50 | D112: 51.1 | F112: 20 | G112: =$G$4/(F112^(1/2)) -> 114.03947
B113: 130 | C113: 50 | D113: 51.1 | F113: 25 | G113: =$G$4/(F113^(1/2)) -> 102
B114: 130 | C114: 53.6 | D114: 48.4 | F114: 30 | G114: =$G$4/(F114^(1/2)) -> 93.112835
B115: 132.5 | C115: 53.6 | D115: 48.4 | F115: 35 | G115: =$G$4/(F115^(1/2)) -> 86.205734
B116: 132.5 | C116: 51.1 | D116: 48.5 | F116: 40 | G116: =$G$4/(F116^(1/2)) -> 80.63808
B117: 135 | C117: 51.1 | D117: 48.5 | F117: 45 | G117: =$G$4/(F117^(1/2)) -> 76.026311
B118: 135 | C118: 49.3 | D118: 49.7 | F118: 50 | G118: =$G$4/(F118^(1/2)) -> 72.124892
B119: 137.5 | C119: 49.3 | D119: 49.7 | F119: 55 | G119: =$G$4/(F119^(1/2)) -> 68.768386
B120: 137.5 | C120: 51.5 | D120: 50 | F120: 60 | G120: =$G$4/(F120^(1/2)) -> 65.840717
B121: 140 | C121: 51.5 | D121: 50 | F121: 65 | G121: =$G$4/(F121^(1/2)) -> 63.257715
... B141: 165 | C141: 44 | D141: 43.2 | F141: 165 | G141: =$G$4/(F141^(1/2)) -> 39.703446

Sheet Power Remaining
B2: Power remaining in oceancrust (Fast Spreading) | P2: Power remaining in oceancrust (Slow Spreading) | AE2: Power remaining in oceancrust (BASC) | AS2: Power remaining in oceancrust (Arc)
B3: Depths | C3: Tfinal | D3: Δdepth | E3: Cp | F3: Density | G3: E | H3: length boundary | I3: E | J3: Spreading Rate Global | K3: Power | L3: Power | M3: Power | N3: PowerCumulated | P3: Depths | Q3: Tfinal | R3: Δdepth | S3: Cp | T3: Density | U3: E | V3: length boundary | W3: E | X3: Spreading Rate Global | Y3: Power | Z3: Power | AA3: Power | AB3: PowerCumulated | AE3: Depths | AF3: Tfinal | AG3: Δdepth | AH3: Cp | AI3: Density | AJ3: E | AK3: length boundary | AL3: E | AM3: Spreading Rate Global | AN3: Power | AO3: Power | AP3: Power | AQ3: PowerCumulated | AS3: Depths | AT3: Tfinal | AU3: Δdepth | AV3: Cp | AW3: Density | AX3: E | AY3: length boundary | AZ3: E | BA3: Spreading Rate Global | BB3: Power | BC3: Power | BD3: Power | BE3: PowerCumulated
B4: [km] | C4: °C | D4: [km] | E4: [J/kg/K] | F4: [kg/km3] | G4: [J/km2] | H4: [km] | I4: [J/km] | J4: [km/Ma] | K4: [J/Ma] | L4: [W] | M4: [TW] | N4: [TW] | P4: [km] | Q4: °C | R4: [km] | S4: [J/kg/K] | T4: [kg/km3] | U4: [J/km2] | V4: [km] | W4: [J/km] | X4: [km/Ma] | Y4: [J/Ma] | Z4: [W] | AA4: [TW] | AB4: [TW] | AE4: [km] | AF4: °C | AG4: [km] | AH4: [J/kg/K] | AI4: [kg/km3] | AJ4: [J/km2] | AK4: [km] | AL4: [J/km] | AM4: [km/Ma] | AN4: [J/Ma] | AO4: [W] | AP4: [TW] | AQ4: [TW] | AS4: [km] | AT4: °C | AU4: [km] | AV4: [J/kg/K] | AW4: [kg/km3] | AX4: [J/km2] | AY4: [km] | AZ4: [J/km] | BA4: [km/Ma] | BB4: [J/Ma] | BC4: [W] | BD4: [TW] | BE4: [TW]
B5: 0 | C5: 300 | D5: =(B6-B5)/2 -> 0.25 | E5: =Cp_Rocks!$P$28 -> 834.61495 | F5: 2800000000000 | G5: =C5*D5*E5*F5 -> 1.7526914e+17 | H5: 22723 | I5: =G5*H5 -> 3.9826407e+21 | J5: 83.5 | K5: =I5*J5 -> 3.325505e+23 | L5: =K5/(1000000*365*24*60*60) -> 1.0545107e+10 | M5: =L5/1000000000000 -> 0.010545107 | N5: =M5 -> 0.010545107 | P5: 0 | Q5: 300 | R5: =(P6-P5)/2 -> 0.25 | S5: =Cp_Rocks!$P$28 -> 834.61495 | T5: 3000000000000 | U5: =Q5*R5*S5*T5 -> 1.8778836e+17 | V5: 37416 | W5: =U5*V5 -> 7.0262895e+21 | X5: 18.6 | Y5: =W5*X5 -> 1.3068898e+23 | Z5: =Y5/(1000000*365*24*60*60) -> 4.1441205e+09 | AA5: =Z5/1000000000000 -> 0.0041441205 | AB5: =AA5 -> 0.0041441205 | AE5: 0 | AF5: 300 | AG5: =(AE6-AE5)/2 -> 0.25 | AH5: =Cp_Rocks!$P$28 -> 834.61495 | AI5: 2800000000000 | AJ5: =AF5*AG5*AH5*AI5 -> 1.7526914e+17 | AK5: 11145 | AL5: =AJ5*AK5 -> 1.9533746e+21 | AM5: 46.9 | AN5: =AL5*AM5 -> 9.1613267e+22 | AO5: =AN5/(1000000*365*24*60*60) -> 2.9050376e+09 | AP5: =AO5/1000000000000 -> 0.0029050376 | AQ5: =AP5 -> 0.0029050376 | AS5: 0 | AT5: 300 | AU5: =(AS6-AS5)/2 -> 0.25 | AV5: =Cp_Rocks!$P$28 -> 834.61495 | AW5: 2800000000000 | AX5: =AT5*AU5*AV5*AW5 -> 1.7526914e+17 | AY5: 21700 | AZ5: =AX5*AY5 -> 3.8033403e+21 | BA5: 12.573266 | BB5: =AZ5*BA5 -> 4.7820409e+22 | BC5: =BB5/(1000000*365*24*60*60) -> 1.5163752e+09 | BD5: =BC5/1000000000000 -> 0.0015163752 | BE5: =BD5 -> 0.0015163752
B6: 0.5 | C6: 300 | D6: =B7-B6 -> 0.5 | E6: =Cp_Rocks!$P$28 -> 834.61495 | F6: 2800000000000 | G6: =C6*D6*E6*F6 -> 3.5053828e+17 | H6: 22723 | I6: =G6*H6 -> 7.9652814e+21 | J6: 83.5 | K6: =I6*J6 -> 6.6510099e+23 | L6: =K6/(1000000*365*24*60*60) -> 2.1090214e+10 | M6: =L6/1000000000000 -> 0.021090214 | N6: =N5+M6 -> 0.031635321 | P6: 0.5 | Q6: 300 | R6: =P7-P6 -> 0.5 | S6: =Cp_Rocks!$P$28 -> 834.61495 | T6: 3000000000000 | U6: =Q6*R6*S6*T6 -> 3.7557673e+17 | V6: 37416 | W6: =U6*V6 -> 1.4052579e+22 | X6: 18.6 | Y6: =W6*X6 -> 2.6137797e+23 | Z6: =Y6/(1000000*365*24*60*60) -> 8.288241e+09 | AA6: =Z6/1000000000000 -> 0.008288241 | AB6: =AB5+AA6 -> 0.012432361 | AE6: 0.5 | AF6: 300 | AG6: =AE7-AE6 -> 0.5 | AH6: =Cp_Rocks!$P$28 -> 834.61495 | AI6: 2800000000000 | AJ6: =AF6*AG6*AH6*AI6 -> 3.5053828e+17 | AK6: 11145 | AL6: =AJ6*AK6 -> 3.9067491e+21 | AM6: 46.9 | AN6: =AL6*AM6 -> 1.8322653e+23 | AO6: =AN6/(1000000*365*24*60*60) -> 5.8100753e+09 | AP6: =AO6/1000000000000 -> 0.0058100753 | AQ6: =AQ5+AP6 -> 0.0087151129 | AS6: 0.5 | AT6: 300 | AU6: =AS7-AS6 -> 0.5 | AV6: =Cp_Rocks!$P$28 -> 834.61495 | AW6: 2800000000000 | AX6: =AT6*AU6*AV6*AW6 -> 3.5053828e+17 | AY6: 21700 | AZ6: =AX6*AY6 -> 7.6066807e+21 | BA6: 12.573266 | BB6: =AZ6*BA6 -> 9.5640817e+22 | BC6: =BB6/(1000000*365*24*60*60) -> 3.0327504e+09 | BD6: =BC6/1000000000000 -> 0.0030327504 | BE6: =BE5+BD6 -> 0.0045491256
B7: 1 | C7: 300 | D7: =B8-B7 -> 0.5 | E7: =Cp_Rocks!$P$28 -> 834.61495 | F7: 2800000000000 | G7: =C7*D7*E7*F7 -> 3.5053828e+17 | H7: 22723 | I7: =G7*H7 -> 7.9652814e+21 | J7: 83.5 | K7: =I7*J7 -> 6.6510099e+23 | L7: =K7/(1000000*365*24*60*60) -> 2.1090214e+10 | M7: =L7/1000000000000 -> 0.021090214 | N7: =N6+M7 -> 0.052725535 | P7: 1 | Q7: 300 | R7: =P8-P7 -> 0.5 | S7: =Cp_Rocks!$P$28 -> 834.61495 | T7: 3000000000000 | U7: =Q7*R7*S7*T7 -> 3.7557673e+17 | V7: 37416 | W7: =U7*V7 -> 1.4052579e+22 | X7: 18.6 | Y7: =W7*X7 -> 2.6137797e+23 | Z7: =Y7/(1000000*365*24*60*60) -> 8.288241e+09 | AA7: =Z7/1000000000000 -> 0.008288241 | AB7: =AB6+AA7 -> 0.020720602 | AE7: 1 | AF7: 300 | AG7: =AE8-AE7 -> 0.5 | AH7: =Cp_Rocks!$P$28 -> 834.61495 | AI7: 2800000000000 | AJ7: =AF7*AG7*AH7*AI7 -> 3.5053828e+17 | AK7: 11145 | AL7: =AJ7*AK7 -> 3.9067491e+21 | AM7: 46.9 | AN7: =AL7*AM7 -> 1.8322653e+23 | AO7: =AN7/(1000000*365*24*60*60) -> 5.8100753e+09 | AP7: =AO7/1000000000000 -> 0.0058100753 | AQ7: =AQ6+AP7 -> 0.014525188 | AS7: 1 | AT7: 300 | AU7: =AS8-AS7 -> 0.5 | AV7: =Cp_Rocks!$P$28 -> 834.61495 | AW7: 2800000000000 | AX7: =AT7*AU7*AV7*AW7 -> 3.5053828e+17 | AY7: 21700 | AZ7: =AX7*AY7 -> 7.6066807e+21 | BA7: 12.573266 | BB7: =AZ7*BA7 -> 9.5640817e+22 | BC7: =BB7/(1000000*365*24*60*60) -> 3.0327504e+09 | BD7: =BC7/1000000000000 -> 0.0030327504 | BE7: =BE6+BD7 -> 0.007581876
B8: 1.5 | C8: 300 | D8: =B9-B8 -> 0.5 | E8: =Cp_Rocks!$P$28 -> 834.61495 | F8: 2800000000000 | G8: =C8*D8*E8*F8 -> 3.5053828e+17 | H8: 22723 | I8: =G8*H8 -> 7.9652814e+21 | J8: 83.5 | K8: =I8*J8 -> 6.6510099e+23 | L8: =K8/(1000000*365*24*60*60) -> 2.1090214e+10 | M8: =L8/1000000000000 -> 0.021090214 | N8: =N7+M8 -> 0.073815749 | P8: 1.5 | Q8: 300 | R8: =P9-P8 -> 0.5 | S8: =Cp_Rocks!$P$28 -> 834.61495 | T8: 3000000000000 | U8: =Q8*R8*S8*T8 -> 3.7557673e+17 | V8: 37416 | W8: =U8*V8 -> 1.4052579e+22 | X8: 18.6 | Y8: =W8*X8 -> 2.6137797e+23 | Z8: =Y8/(1000000*365*24*60*60) -> 8.288241e+09 | AA8: =Z8/1000000000000 -> 0.008288241 | AB8: =AB7+AA8 -> 0.029008843 | AE8: 1.5 | AF8: 300 | AG8: =AE9-AE8 -> 0.5 | AH8: =Cp_Rocks!$P$28 -> 834.61495 | AI8: 2800000000000 | AJ8: =AF8*AG8*AH8*AI8 -> 3.5053828e+17 | AK8: 11145 | AL8: =AJ8*AK8 -> 3.9067491e+21 | AM8: 46.9 | AN8: =AL8*AM8 -> 1.8322653e+23 | AO8: =AN8/(1000000*365*24*60*60) -> 5.8100753e+09 | AP8: =AO8/1000000000000 -> 0.0058100753 | AQ8: =AQ7+AP8 -> 0.020335264 | AS8: 1.5 | AT8: 300 | AU8: =AS9-AS8 -> 0.5 | AV8: =Cp_Rocks!$P$28 -> 834.61495 | AW8: 2800000000000 | AX8: =AT8*AU8*AV8*AW8 -> 3.5053828e+17 | AY8: 21700 | AZ8: =AX8*AY8 -> 7.6066807e+21 | BA8: 12.573266 | BB8: =AZ8*BA8 -> 9.5640817e+22 | BC8: =BB8/(1000000*365*24*60*60) -> 3.0327504e+09 | BD8: =BC8/1000000000000 -> 0.0030327504 | BE8: =BE7+BD8 -> 0.010614626
B9: 2 | C9: 300 | D9: =B10-B9 -> 0.5 | E9: =Cp_Rocks!$P$28 -> 834.61495 | F9: 2800000000000 | G9: =C9*D9*E9*F9 -> 3.5053828e+17 | H9: 22723 | I9: =G9*H9 -> 7.9652814e+21 | J9: 83.5 | K9: =I9*J9 -> 6.6510099e+23 | L9: =K9/(1000000*365*24*60*60) -> 2.1090214e+10 | M9: =L9/1000000000000 -> 0.021090214 | N9: =N8+M9 -> 0.094905964 | P9: 2 | Q9: 300 | R9: =P10-P9 -> 0.5 | S9: =Cp_Rocks!$P$28 -> 834.61495 | T9: 3000000000000 | U9: =Q9*R9*S9*T9 -> 3.7557673e+17 | V9: 37416 | W9: =U9*V9 -> 1.4052579e+22 | X9: 18.6 | Y9: =W9*X9 -> 2.6137797e+23 | Z9: =Y9/(1000000*365*24*60*60) -> 8.288241e+09 | AA9: =Z9/1000000000000 -> 0.008288241 | AB9: =AB8+AA9 -> 0.037297084 | AE9: 2 | AF9: 300 | AG9: =AE10-AE9 -> 0.5 | AH9: =Cp_Rocks!$P$28 -> 834.61495 | AI9: 2800000000000 | AJ9: =AF9*AG9*AH9*AI9 -> 3.5053828e+17 | AK9: 11145 | AL9: =AJ9*AK9 -> 3.9067491e+21 | AM9: 46.9 | AN9: =AL9*AM9 -> 1.8322653e+23 | AO9: =AN9/(1000000*365*24*60*60) -> 5.8100753e+09 | AP9: =AO9/1000000000000 -> 0.0058100753 | AQ9: =AQ8+AP9 -> 0.026145339 | AS9: 2 | AT9: 300 | AU9: =AS10-AS9 -> 0.5 | AV9: =Cp_Rocks!$P$28 -> 834.61495 | AW9: 2800000000000 | AX9: =AT9*AU9*AV9*AW9 -> 3.5053828e+17 | AY9: 21700 | AZ9: =AX9*AY9 -> 7.6066807e+21 | BA9: 12.573266 | BB9: =AZ9*BA9 -> 9.5640817e+22 | BC9: =BB9/(1000000*365*24*60*60) -> 3.0327504e+09 | BD9: =BC9/1000000000000 -> 0.0030327504 | BE9: =BE8+BD9 -> 0.013647377
B10: 2.5 | C10: 300 | D10: =B11-B10 -> 0.5 | E10: =Cp_Rocks!$P$28 -> 834.61495 | F10: 2800000000000 | G10: =C10*D10*E10*F10 -> 3.5053828e+17 | H10: 22723 | I10: =G10*H10 -> 7.9652814e+21 | J10: 83.5 | K10: =I10*J10 -> 6.6510099e+23 | L10: =K10/(1000000*365*24*60*60) -> 2.1090214e+10 | M10: =L10/1000000000000 -> 0.021090214 | N10: =N9+M10 -> 0.11599618 | P10: 2.5 | Q10: 300 | R10: =P11-P10 -> 0.5 | S10: =Cp_Rocks!$P$28 -> 834.61495 | T10: 3000000000000 | U10: =Q10*R10*S10*T10 -> 3.7557673e+17 | V10: 37416 | W10: =U10*V10 -> 1.4052579e+22 | X10: 18.6 | Y10: =W10*X10 -> 2.6137797e+23 | Z10: =Y10/(1000000*365*24*60*60) -> 8.288241e+09 | AA10: =Z10/1000000000000 -> 0.008288241 | AB10: =AB9+AA10 -> 0.045585325 | AE10: 2.5 | AF10: 300 | AG10: =AE11-AE10 -> 0.5 | AH10: =Cp_Rocks!$P$28 -> 834.61495 | AI10: 2800000000000 | AJ10: =AF10*AG10*AH10*AI10 -> 3.5053828e+17 | AK10: 11145 | AL10: =AJ10*AK10 -> 3.9067491e+21 | AM10: 46.9 | AN10: =AL10*AM10 -> 1.8322653e+23 | AO10: =AN10/(1000000*365*24*60*60) -> 5.8100753e+09 | AP10: =AO10/1000000000000 -> 0.0058100753 | AQ10: =AQ9+AP10 -> 0.031955414 | AS10: 2.5 | AT10: 300 | AU10: =AS11-AS10 -> 0.5 | AV10: =Cp_Rocks!$P$28 -> 834.61495 | AW10: 2800000000000 | AX10: =AT10*AU10*AV10*AW10 -> 3.5053828e+17 | AY10: 21700 | AZ10: =AX10*AY10 -> 7.6066807e+21 | BA10: 12.573266 | BB10: =AZ10*BA10 -> 9.5640817e+22 | BC10: =BB10/(1000000*365*24*60*60) -> 3.0327504e+09 | BD10: =BC10/1000000000000 -> 0.0030327504 | BE10: =BE9+BD10 -> 0.016680127
B11: 3 | C11: 300 | D11: =B12-B11 -> 0.5 | E11: =Cp_Rocks!$P$28 -> 834.61495 | F11: 2800000000000 | G11: =C11*D11*E11*F11 -> 3.5053828e+17 | H11: 22723 | I11: =G11*H11 -> 7.9652814e+21 | J11: 83.5 | K11: =I11*J11 -> 6.6510099e+23 | L11: =K11/(1000000*365*24*60*60) -> 2.1090214e+10 | M11: =L11/1000000000000 -> 0.021090214 | N11: =N10+M11 -> 0.13708639 | P11: 3 | Q11: 300 | R11: =P12-P11 -> 0.5 | S11: =Cp_Rocks!$P$28 -> 834.61495 | T11: 3000000000000 | U11: =Q11*R11*S11*T11 -> 3.7557673e+17 | V11: 37416 | W11: =U11*V11 -> 1.4052579e+22 | X11: 18.6 | Y11: =W11*X11 -> 2.6137797e+23 | Z11: =Y11/(1000000*365*24*60*60) -> 8.288241e+09 | AA11: =Z11/1000000000000 -> 0.008288241 | AB11: =AB10+AA11 -> 0.053873566 | AE11: 3 | AF11: 300 | AG11: =AE12-AE11 -> 0.5 | AH11: =Cp_Rocks!$P$28 -> 834.61495 | AI11: 2800000000000 | AJ11: =AF11*AG11*AH11*AI11 -> 3.5053828e+17 | AK11: 11145 | AL11: =AJ11*AK11 -> 3.9067491e+21 | AM11: 46.9 | AN11: =AL11*AM11 -> 1.8322653e+23 | AO11: =AN11/(1000000*365*24*60*60) -> 5.8100753e+09 | AP11: =AO11/1000000000000 -> 0.0058100753 | AQ11: =AQ10+AP11 -> 0.037765489 | AS11: 3 | AT11: 300 | AU11: =AS12-AS11 -> 0.5 | AV11: =Cp_Rocks!$P$28 -> 834.61495 | AW11: 2800000000000 | AX11: =AT11*AU11*AV11*AW11 -> 3.5053828e+17 | AY11: 21700 | AZ11: =AX11*AY11 -> 7.6066807e+21 | BA11: 12.573266 | BB11: =AZ11*BA11 -> 9.5640817e+22 | BC11: =BB11/(1000000*365*24*60*60) -> 3.0327504e+09 | BD11: =BC11/1000000000000 -> 0.0030327504 | BE11: =BE10+BD11 -> 0.019712878
B12: 3.5 | C12: 300 | D12: =B13-B12 -> 0.5 | E12: =Cp_Rocks!$P$28 -> 834.61495 | F12: 2800000000000 | G12: =C12*D12*E12*F12 -> 3.5053828e+17 | H12: 22723 | I12: =G12*H12 -> 7.9652814e+21 | J12: 83.5 | K12: =I12*J12 -> 6.6510099e+23 | L12: =K12/(1000000*365*24*60*60) -> 2.1090214e+10 | M12: =L12/1000000000000 -> 0.021090214 | N12: =N11+M12 -> 0.15817661 | P12: 3.5 | Q12: 300 | R12: =P13-P12 -> 0.5 | S12: =Cp_Rocks!$P$28 -> 834.61495 | T12: 3000000000000 | U12: =Q12*R12*S12*T12 -> 3.7557673e+17 | V12: 37416 | W12: =U12*V12 -> 1.4052579e+22 | X12: 18.6 | Y12: =W12*X12 -> 2.6137797e+23 | Z12: =Y12/(1000000*365*24*60*60) -> 8.288241e+09 | AA12: =Z12/1000000000000 -> 0.008288241 | AB12: =AB11+AA12 -> 0.062161807 | AE12: 3.5 | AF12: 300 | AG12: =AE13-AE12 -> 0.5 | AH12: =Cp_Rocks!$P$28 -> 834.61495 | AI12: 2800000000000 | AJ12: =AF12*AG12*AH12*AI12 -> 3.5053828e+17 | AK12: 11145 | AL12: =AJ12*AK12 -> 3.9067491e+21 | AM12: 46.9 | AN12: =AL12*AM12 -> 1.8322653e+23 | AO12: =AN12/(1000000*365*24*60*60) -> 5.8100753e+09 | AP12: =AO12/1000000000000 -> 0.0058100753 | AQ12: =AQ11+AP12 -> 0.043575565 | AS12: 3.5 | AT12: 300 | AU12: =AS13-AS12 -> 0.5 | AV12: =Cp_Rocks!$P$28 -> 834.61495 | AW12: 2800000000000 | AX12: =AT12*AU12*AV12*AW12 -> 3.5053828e+17 | AY12: 21700 | AZ12: =AX12*AY12 -> 7.6066807e+21 | BA12: 12.573266 | BB12: =AZ12*BA12 -> 9.5640817e+22 | BC12: =BB12/(1000000*365*24*60*60) -> 3.0327504e+09 | BD12: =BC12/1000000000000 -> 0.0030327504 | BE12: =BE11+BD12 -> 0.022745628
B13: 4 | C13: 300 | D13: =B14-B13 -> 0.5 | E13: =Cp_Rocks!$P$28 -> 834.61495 | F13: 2800000000000 | G13: =C13*D13*E13*F13 -> 3.5053828e+17 | H13: 22723 | I13: =G13*H13 -> 7.9652814e+21 | J13: 83.5 | K13: =I13*J13 -> 6.6510099e+23 | L13: =K13/(1000000*365*24*60*60) -> 2.1090214e+10 | M13: =L13/1000000000000 -> 0.021090214 | N13: =N12+M13 -> 0.17926682 | P13: 4 | Q13: 300 | R13: =P14-P13 -> 0.5 | S13: =Cp_Rocks!$P$28 -> 834.61495 | T13: 3000000000000 | U13: =Q13*R13*S13*T13 -> 3.7557673e+17 | V13: 37416 | W13: =U13*V13 -> 1.4052579e+22 | X13: 18.6 | Y13: =W13*X13 -> 2.6137797e+23 | Z13: =Y13/(1000000*365*24*60*60) -> 8.288241e+09 | AA13: =Z13/1000000000000 -> 0.008288241 | AB13: =AB12+AA13 -> 0.070450048 | AE13: 4 | AF13: 300 | AG13: =AE14-AE13 -> 0.5 | AH13: =Cp_Rocks!$P$28 -> 834.61495 | AI13: 2800000000000 | AJ13: =AF13*AG13*AH13*AI13 -> 3.5053828e+17 | AK13: 11145 | AL13: =AJ13*AK13 -> 3.9067491e+21 | AM13: 46.9 | AN13: =AL13*AM13 -> 1.8322653e+23 | AO13: =AN13/(1000000*365*24*60*60) -> 5.8100753e+09 | AP13: =AO13/1000000000000 -> 0.0058100753 | AQ13: =AQ12+AP13 -> 0.04938564 | AS13: 4 | AT13: 300 | AU13: =AS14-AS13 -> 0.5 | AV13: =Cp_Rocks!$P$28 -> 834.61495 | AW13: 2800000000000 | AX13: =AT13*AU13*AV13*AW13 -> 3.5053828e+17 | AY13: 21700 | AZ13: =AX13*AY13 -> 7.6066807e+21 | BA13: 12.573266 | BB13: =AZ13*BA13 -> 9.5640817e+22 | BC13: =BB13/(1000000*365*24*60*60) -> 3.0327504e+09 | BD13: =BC13/1000000000000 -> 0.0030327504 | BE13: =BE12+BD13 -> 0.025778379
B14: 4.5 | C14: 300 | D14: =B15-B14 -> 0.5 | E14: =Cp_Rocks!$P$28 -> 834.61495 | F14: 2800000000000 | G14: =C14*D14*E14*F14 -> 3.5053828e+17 | H14: 22723 | I14: =G14*H14 -> 7.9652814e+21 | J14: 83.5 | K14: =I14*J14 -> 6.6510099e+23 | L14: =K14/(1000000*365*24*60*60) -> 2.1090214e+10 | M14: =L14/1000000000000 -> 0.021090214 | N14: =N13+M14 -> 0.20035703 | P14: 4.5 | Q14: 300 | R14: =P15-P14 -> 0.5 | S14: =Cp_Rocks!$P$28 -> 834.61495 | T14: 3000000000000 | U14: =Q14*R14*S14*T14 -> 3.7557673e+17 | V14: 37416 | W14: =U14*V14 -> 1.4052579e+22 | X14: 18.6 | Y14: =W14*X14 -> 2.6137797e+23 | Z14: =Y14/(1000000*365*24*60*60) -> 8.288241e+09 | AA14: =Z14/1000000000000 -> 0.008288241 | AB14: =AB13+AA14 -> 0.078738289 | AE14: 4.5 | AF14: 300 | AG14: =AE15-AE14 -> 0.5 | AH14: =Cp_Rocks!$P$28 -> 834.61495 | AI14: 2800000000000 | AJ14: =AF14*AG14*AH14*AI14 -> 3.5053828e+17 | AK14: 11145 | AL14: =AJ14*AK14 -> 3.9067491e+21 | AM14: 46.9 | AN14: =AL14*AM14 -> 1.8322653e+23 | AO14: =AN14/(1000000*365*24*60*60) -> 5.8100753e+09 | AP14: =AO14/1000000000000 -> 0.0058100753 | AQ14: =AQ13+AP14 -> 0.055195715 | AS14: 4.5 | AT14: 300 | AU14: =AS15-AS14 -> 0.5 | AV14: =Cp_Rocks!$P$28 -> 834.61495 | AW14: 2800000000000 | AX14: =AT14*AU14*AV14*AW14 -> 3.5053828e+17 | AY14: 21700 | AZ14: =AX14*AY14 -> 7.6066807e+21 | BA14: 12.573266 | BB14: =AZ14*BA14 -> 9.5640817e+22 | BC14: =BB14/(1000000*365*24*60*60) -> 3.0327504e+09 | BD14: =BC14/1000000000000 -> 0.0030327504 | BE14: =BE13+BD14 -> 0.028811129
B15: 5 | C15: 300 | D15: =B16-B15 -> 0.5 | E15: =Cp_Rocks!$P$28 -> 834.61495 | F15: 2800000000000 | G15: =C15*D15*E15*F15 -> 3.5053828e+17 | H15: 22723 | I15: =G15*H15 -> 7.9652814e+21 | J15: 83.5 | K15: =I15*J15 -> 6.6510099e+23 | L15: =K15/(1000000*365*24*60*60) -> 2.1090214e+10 | M15: =L15/1000000000000 -> 0.021090214 | N15: =N14+M15 -> 0.22144725 | P15: 5 | Q15: 300 | R15: =P16-P15 -> 0.5 | S15: =Cp_Rocks!$P$28 -> 834.61495 | T15: 3000000000000 | U15: =Q15*R15*S15*T15 -> 3.7557673e+17 | V15: 37416 | W15: =U15*V15 -> 1.4052579e+22 | X15: 18.6 | Y15: =W15*X15 -> 2.6137797e+23 | Z15: =Y15/(1000000*365*24*60*60) -> 8.288241e+09 | AA15: =Z15/1000000000000 -> 0.008288241 | AB15: =AB14+AA15 -> 0.08702653 | AE15: 5 | AF15: 300 | AG15: =AE16-AE15 -> 0.5 | AH15: =Cp_Rocks!$P$28 -> 834.61495 | AI15: 2800000000000 | AJ15: =AF15*AG15*AH15*AI15 -> 3.5053828e+17 | AK15: 11145 | AL15: =AJ15*AK15 -> 3.9067491e+21 | AM15: 46.9 | AN15: =AL15*AM15 -> 1.8322653e+23 | AO15: =AN15/(1000000*365*24*60*60) -> 5.8100753e+09 | AP15: =AO15/1000000000000 -> 0.0058100753 | AQ15: =AQ14+AP15 -> 0.061005791 | AS15: 5 | AT15: 300 | AU15: =AS16-AS15 -> 0.5 | AV15: =Cp_Rocks!$P$28 -> 834.61495 | AW15: 2800000000000 | AX15: =AT15*AU15*AV15*AW15 -> 3.5053828e+17 | AY15: 21700 | AZ15: =AX15*AY15 -> 7.6066807e+21 | BA15: 12.573266 | BB15: =AZ15*BA15 -> 9.5640817e+22 | BC15: =BB15/(1000000*365*24*60*60) -> 3.0327504e+09 | BD15: =BC15/1000000000000 -> 0.0030327504 | BE15: =BE14+BD15 -> 0.031843879
B16: 5.5 | C16: 300 | D16: =B17-B16 -> 0.5 | E16: =Cp_Rocks!$P$28 -> 834.61495 | F16: 2800000000000 | G16: =C16*D16*E16*F16 -> 3.5053828e+17 | H16: 22723 | I16: =G16*H16 -> 7.9652814e+21 | J16: 83.5 | K16: =I16*J16 -> 6.6510099e+23 | L16: =K16/(1000000*365*24*60*60) -> 2.1090214e+10 | M16: =L16/1000000000000 -> 0.021090214 | N16: =N15+M16 -> 0.24253746 | P16: 5.5 | Q16: 300 | R16: =P17-P16 -> 0.5 | S16: =Cp_Rocks!$P$28 -> 834.61495 | T16: 3000000000000 | U16: =Q16*R16*S16*T16 -> 3.7557673e+17 | V16: 37416 | W16: =U16*V16 -> 1.4052579e+22 | X16: 18.6 | Y16: =W16*X16 -> 2.6137797e+23 | Z16: =Y16/(1000000*365*24*60*60) -> 8.288241e+09 | AA16: =Z16/1000000000000 -> 0.008288241 | AB16: =AB15+AA16 -> 0.095314771 | AE16: 5.5 | AF16: 300 | AG16: =AE17-AE16 -> 0.5 | AH16: =Cp_Rocks!$P$28 -> 834.61495 | AI16: 2800000000000 | AJ16: =AF16*AG16*AH16*AI16 -> 3.5053828e+17 | AK16: 11145 | AL16: =AJ16*AK16 -> 3.9067491e+21 | AM16: 46.9 | AN16: =AL16*AM16 -> 1.8322653e+23 | AO16: =AN16/(1000000*365*24*60*60) -> 5.8100753e+09 | AP16: =AO16/1000000000000 -> 0.0058100753 | AQ16: =AQ15+AP16 -> 0.066815866 | AS16: 5.5 | AT16: 300 | AU16: =AS17-AS16 -> 0.5 | AV16: =Cp_Rocks!$P$28 -> 834.61495 | AW16: 2800000000000 | AX16: =AT16*AU16*AV16*AW16 -> 3.5053828e+17 | AY16: 21700 | AZ16: =AX16*AY16 -> 7.6066807e+21 | BA16: 12.573266 | BB16: =AZ16*BA16 -> 9.5640817e+22 | BC16: =BB16/(1000000*365*24*60*60) -> 3.0327504e+09 | BD16: =BC16/1000000000000 -> 0.0030327504 | BE16: =BE15+BD16 -> 0.03487663
B17: 6 | C17: 300 | D17: =B18-B17 -> 0.5 | E17: =Cp_Rocks!$P$28 -> 834.61495 | F17: 2800000000000 | G17: =C17*D17*E17*F17 -> 3.5053828e+17 | H17: 22723 | I17: =G17*H17 -> 7.9652814e+21 | J17: 83.5 | K17: =I17*J17 -> 6.6510099e+23 | L17: =K17/(1000000*365*24*60*60) -> 2.1090214e+10 | M17: =L17/1000000000000 -> 0.021090214 | N17: =N16+M17 -> 0.26362768 | P17: 6 | Q17: 300 | R17: =P18-P17 -> 0.5 | S17: =Cp_Rocks!$P$28 -> 834.61495 | T17: 3000000000000 | U17: =Q17*R17*S17*T17 -> 3.7557673e+17 | V17: 37416 | W17: =U17*V17 -> 1.4052579e+22 | X17: 18.6 | Y17: =W17*X17 -> 2.6137797e+23 | Z17: =Y17/(1000000*365*24*60*60) -> 8.288241e+09 | AA17: =Z17/1000000000000 -> 0.008288241 | AB17: =AB16+AA17 -> 0.10360301 | AE17: 6 | AF17: 300 | AG17: =AE18-AE17 -> 0.5 | AH17: =Cp_Rocks!$P$28 -> 834.61495 | AI17: 2800000000000 | AJ17: =AF17*AG17*AH17*AI17 -> 3.5053828e+17 | AK17: 11145 | AL17: =AJ17*AK17 -> 3.9067491e+21 | AM17: 46.9 | AN17: =AL17*AM17 -> 1.8322653e+23 | AO17: =AN17/(1000000*365*24*60*60) -> 5.8100753e+09 | AP17: =AO17/1000000000000 -> 0.0058100753 | AQ17: =AQ16+AP17 -> 0.072625941 | AS17: 6 | AT17: 300 | AU17: =AS18-AS17 -> 0.5 | AV17: =Cp_Rocks!$P$28 -> 834.61495 | AW17: 2800000000000 | AX17: =AT17*AU17*AV17*AW17 -> 3.5053828e+17 | AY17: 21700 | AZ17: =AX17*AY17 -> 7.6066807e+21 | BA17: 12.573266 | BB17: =AZ17*BA17 -> 9.5640817e+22 | BC17: =BB17/(1000000*365*24*60*60) -> 3.0327504e+09 | BD17: =BC17/1000000000000 -> 0.0030327504 | BE17: =BE16+BD17 -> 0.03790938
... B44: 19.5 | C44: 300 | D44: =B45-B44 -> 0.5 | E44: =Cp_Rocks!$P$28 -> 834.61495 | F44: 2800000000000 | G44: =C44*D44*E44*F44 -> 3.5053828e+17 | H44: 22723 | I44: =G44*H44 -> 7.9652814e+21 | J44: 83.5 | K44: =I44*J44 -> 6.6510099e+23 | L44: =K44/(1000000*365*24*60*60) -> 2.1090214e+10 | M44: =L44/1000000000000 -> 0.021090214 | N44: =N43+M44 -> 0.83306346 | P44: 19.5 | Q44: 300 | R44: =P45-P44 -> 0.5 | S44: =Cp_Rocks!$P$28 -> 834.61495 | T44: 3000000000000 | U44: =Q44*R44*S44*T44 -> 3.7557673e+17 | V44: 37416 | W44: =U44*V44 -> 1.4052579e+22 | X44: 18.6 | Y44: =W44*X44 -> 2.6137797e+23 | Z44: =Y44/(1000000*365*24*60*60) -> 8.288241e+09 | AA44: =Z44/1000000000000 -> 0.008288241 | AB44: =AB43+AA44 -> 0.32738552 | AE44: 19.5 | AF44: 300 | AG44: =AE45-AE44 -> 0.5 | AH44: =Cp_Rocks!$P$28 -> 834.61495 | AI44: 2800000000000 | AJ44: =AF44*AG44*AH44*AI44 -> 3.5053828e+17 | AK44: 11145 | AL44: =AJ44*AK44 -> 3.9067491e+21 | AM44: 46.9 | AN44: =AL44*AM44 -> 1.8322653e+23 | AO44: =AN44/(1000000*365*24*60*60) -> 5.8100753e+09 | AP44: =AO44/1000000000000 -> 0.0058100753 | AQ44: =AQ43+AP44 -> 0.22949797 | AS44: 19.5 | AT44: 300 | AU44: =AS45-AS44 -> 0.5 | AV44: =Cp_Rocks!$P$28 -> 834.61495 | AW44: 2800000000000 | AX44: =AT44*AU44*AV44*AW44 -> 3.5053828e+17 | AY44: 21700 | AZ44: =AX44*AY44 -> 7.6066807e+21 | BA44: 12.573266 | BB44: =AZ44*BA44 -> 9.5640817e+22 | BC44: =BB44/(1000000*365*24*60*60) -> 3.0327504e+09 | BD44: =BC44/1000000000000 -> 0.0030327504 | BE44: =BE43+BD44 -> 0.11979364
B45: 20 | C45: 300 | D45: =B45-B44 -> 0.5 | E45: =Cp_Rocks!$P$28 -> 834.61495 | F45: 2800000000000 | G45: =C45*D45*E45*F45 -> 3.5053828e+17 | H45: 22723 | I45: =G45*H45 -> 7.9652814e+21 | J45: 83.5 | K45: =I45*J45 -> 6.6510099e+23 | L45: =K45/(1000000*365*24*60*60) -> 2.1090214e+10 | M45: =L45/1000000000000 -> 0.021090214 | N45: =N44+M45 -> 0.85415367 | P45: 20 | Q45: 300 | R45: =P45-P44 -> 0.5 | S45: =Cp_Rocks!$P$28 -> 834.61495 | T45: 3000000000000 | U45: =Q45*R45*S45*T45 -> 3.7557673e+17 | V45: 37416 | W45: =U45*V45 -> 1.4052579e+22 | X45: 18.6 | Y45: =W45*X45 -> 2.6137797e+23 | Z45: =Y45/(1000000*365*24*60*60) -> 8.288241e+09 | AA45: =Z45/1000000000000 -> 0.008288241 | AB45: =AB44+AA45 -> 0.33567376 | AE45: 20 | AF45: 300 | AG45: =AE45-AE44 -> 0.5 | AH45: =Cp_Rocks!$P$28 -> 834.61495 | AI45: 2800000000000 | AJ45: =AF45*AG45*AH45*AI45 -> 3.5053828e+17 | AK45: 11145 | AL45: =AJ45*AK45 -> 3.9067491e+21 | AM45: 46.9 | AN45: =AL45*AM45 -> 1.8322653e+23 | AO45: =AN45/(1000000*365*24*60*60) -> 5.8100753e+09 | AP45: =AO45/1000000000000 -> 0.0058100753 | AQ45: =AQ44+AP45 -> 0.23530805 | AS45: 20 | AT45: 300 | AU45: =AS46-AS45 -> -20 | AV45: =Cp_Rocks!$P$28 -> 834.61495 | AW45: 2800000000000 | AX45: =AT45*AU45*AV45*AW45 -> -1.4021531e+19 | AY45: 21700 | AZ45: =AX45*AY45 -> -3.0426723e+23 | BA45: 12.573266 | BB45: =AZ45*BA45 -> -3.8256327e+24 | BC45: =BB45/(1000000*365*24*60*60) -> -1.2131002e+11 | BD45: =BC45/1000000000000 -> -0.12131002 | BE45: =BE44+BD45 -> -0.0015163752
B47: Hydrothermal penetration depth: | F47: 5.22 | G47: km | H47: =N15+(N15-N15)*0.2 -> 0.22144725 | I47: TW | P47: Hydrothermal penetration depth: | T47: 7.2 | U47: km | V47: =(AB19+AB19)/2 -> 0.12017949 | W47: TW | AE47: Hydrothermal penetration depth: | AI47: 5.4 | AJ47: km | AK47: =AQ15+(AQ16-AQ15)*(0.15/0.5) -> 0.062748813 | AL47: TW | AS47: Hydrothermal penetration depth: | AW47: 12 | AX47: km | AY47: =(BE28+BE29)/2 -> 0.07278601 | AZ47: TW
