Workbook

Sheet Glaucoma surgery
A1: ID | B1: Sex_Male0 | C1: Eye_Right0 | D1: Birth | E1: Operative date | F1: Age | G1: PH_POAG1_XFS2_Atopic3_other4 | H1: PH_POAG1_XFS2_Atopic3_other4 | I1: IOL_1 piece or 3 piece | J1: IOL_On 0_In_1 | K1: IOL situation | L1: Past glaucoma surgery_yes1 | M1: AGV-Sulcus0_vit1 | N1: AGV-Self0_Extracted1 | O1: AGV-Temporal upper0_Temporal lower1_nasal lower2 | P1: conbined SFIOL_Yes1 | Q1: Past PPV_Yes1 | R1: Sucusses(IOP 6-21)_0 | S1: Last observation date | T1: Follow up time | U1: Sucusses(IOP 6-14)_0 | V1: Last observation date | W1: Follow up time | X1: IOP_pre-ope | Y1: IOP_1day | Z1: IOP_1-2W | AA1: IOP_1M | AB1: IOP_3M | AC1: IOP_6M | AD1: IOP_12M | AE1: IOP_18M | AF1: IOP_24Y | AG1: IOP_30Y | AH1: IOP_36M | AI1: IOP_42M | AJ1: IOP_48M | AK1: IOP_54M | AL1: IOP_last | AM1: ED_Pre | AN1: ED_１w | AO1: ED_1M | AP1: ED_3M | AQ1: ED_6M | AR1: ED_12M | AS1: ED_18M | AT1: ED_24M | AU1: ED_30M | AV1: ED_36M | AW1: ED_42M | AX1: ED_48M | AY1: ED_54M | AZ1: ED_last | BA1: V_pre-ope | BB1: V_preope_Log | BC1: V_1day | BD1: V_1day_log | BE1: Va_１w | BF1: V_1W_log | BG1: Va_1M | BH1: V_1M_log | BI1: Va_3M | BJ1: Va_3M_Log | BK1: V_Last | BL1: V_Last_log | BM1: HFA_pre-ope | BN1: Complication _yes1 | BO1: Complication | BP1: additional surgery | BQ1: additional surgery date | BS1: 当院Last visit | BT1: other
A2: 6883885 | B2: 0 | C2: 0 | D2: 29972 | E2: 43530 | F2: =DATEDIF(D2,E2,"Y") -> 37 | G2: 1 | H2: 3 | I2: 3 | J2: 0 | K2: On | L2: 0 | M2: 0 | N2: 0 | O2: 1 | P2: 0 | Q2: 0 | R2: 1 | S2: 44645 | T2: =(S2-'Glaucoma surgery'!E2)/28 -> 39.821429 | U2: 1 | V2: 43591 | W2: =(V2-E2)/28 -> 2.1785714 | X2: 33 | Y2: 12 | Z2: 16 | AA2: 12 | AB2: 14 | AC2: 14 | AD2: 14.5 | AE2: 15 | AF2: 21 | AG2: 16 | AH2: 24 | AL2: 24 | AM2: 8 | AN2: 0 | AO2: 5 | AP2: 5 | AQ2: 5 | AR2: 4 | AT2: 5 | AV2: 5 | AZ2: 5 | BA2: 0.7 | BE2: 0.4 | BG2: 0.4 | BI2: 0.7 | BK2: 0.3 | BM2: -18.3 | BN2: 1 | BO2: Transient IOP elevation | BR2: fail | BS2: 44645 | BT2: 2022.4.7 Trab
A3: 5170737 | B3: 0 | C3: 0 | D3: 21772 | E3: 43818 | F3: =DATEDIF(D3,E3,"Y") -> 60 | G3: 3 | K3: SFIOL | L3: 0 | M3: 0 | N3: 0 | O3: 1 | P3: 0 | Q3: 1 | R3: 0 | S3: 45420 | T3: =(S3-'Glaucoma surgery'!E3)/28 -> 57.214286 | U3: 1 | V3: 44014 | W3: =(V3-E3)/28 -> 7 | X3: 28 | Y3: 10 | Z3: 9 | AA3: 14 | AB3: 14 | AC3: 15 | AD3: 18 | AE3: 15 | AF3: 12 | AG3: 20 | AH3: 12 | AI3: 17 | AJ3: 21 | AK3: 14 | AL3: 14 | AM3: 7 | AN3: 0 | AO3: 0 | AP3: 0 | AQ3: 0 | AR3: 2 | AS3: 4 | AT3: 4 | AU3: 4 | AV3: 5 | AW3: 5 | AX3: 5 | AY3: 5 | AZ3: 5 | BA3: 0.02 | BC3: 0.02 | BE3: 0.02 | BG3: 0.02 | BI3: 0.02 | BK3: 0.03 | BM3: -25.63 | BN3: 0 | BR3: 当院 | BS3: 45420 | BT3: 2017.5.26 SFIOL | BU3: 以前からIOLCaptureでPDS
A4: 3748537 | B4: 0 | C4: 1 | D4: 14762 | E4: 43958 | F4: =DATEDIF(D4,E4,"Y") -> 79 | G4: 2 | I4: 3 | J4: 1 | K4: 偏位 | L4: 0 | M4: 1 | N4: 0 | O4: 1 | P4: 1 | Q4: 0 | R4: 0 | S4: 45450 | T4: =(S4-'Glaucoma surgery'!E4)/28 -> 53.285714 | U4: 0 | V4: 45450 | W4: =(V4-E4)/28 -> 53.285714 | X4: 30 | Y4: 9 | Z4: 12 | AA4: 15 | AB4: 17 | AC4: 14 | AD4: 15 | AE4: 14 | AF4: 12 | AG4: 12 | AH4: 10 | AI4: 11 | AJ4: 12 | AK4: 12 | AL4: 12 | AM4: 4 | AN4: 0 | AO4: 2 | AP4: 2 | AQ4: 2 | AR4: 2 | AS4: 2 | AT4: 2 | AU4: 2 | AV4: 2 | AW4: 2 | AX4: 3 | AY4: 3 | AZ4: 3 | BA4: 0.05 | BK4: 0.07 | BR4: 当院 | BS4: 45450
A5: 8035067 | B5: 0 | C5: 1 | D5: 15588 | E5: 44028 | F5: =DATEDIF(D5,E5,"Y") -> 77 | G5: 2 | K5: SFIOL | L5: 0 | M5: 1 | N5: 0 | O5: 1 | P5: 0 | Q5: 1 | R5: 0 | S5: 44293 | T5: =(S5-'Glaucoma surgery'!E5)/28 -> 9.4642857 | U5: 0 | V5: 44293 | W5: =(V5-E5)/28 -> 9.4642857 | X5: 25 | Y5: 10 | Z5: 10 | AA5: 26 | AB5: 17 | AC5: 16 | AD5: 12 | AL5: 12 | AM5: 4 | AN5: 0 | AO5: 0 | AP5: 3 | AQ5: 3 | AR5: 3 | AZ5: 3 | BA5: 0.4 | BG5: 0.3 | BI5: 0.3 | BK5: 0.3 | BM5: 0 | BN5: 0 | BR5: 中断 | BS5: 44293 | BT5: 2020/4/16 SFIOL
A6: 7883161 | B6: 0 | C6: 0 | D6: 15481 | E6: 44119 | F6: =DATEDIF(D6,E6,"Y") -> 78 | G6: 2 | H6: 4 | K6: SFIOL | L6: 0 | M6: 1 | N6: 0 | O6: 1 | P6: 0 | Q6: 1 | R6: 0 | S6: 45532 | T6: =(S6-'Glaucoma surgery'!E6)/28 -> 50.464286 | U6: 1 | V6: 44212 | W6: =(V6-E6)/28 -> 3.3214286 | X6: 32 | Y6: 5 | Z6: 10 | AA6: 20 | AB6: 20 | AC6: 16 | AD6: 18 | AE6: 17 | AL6: 17 | AM6: 4 | AN6: 0 | AO6: 0 | AP6: 0 | AQ6: 0 | AR6: 0 | AS6: 0 | AZ6: 0 | BA6: 0.5 | BE6: 0.7 | BI6: 0.2 | BK6: 0.3 | BN6: 0 | BR6: 他院 | BS6: 44678 | BT6: 2020.8.7 SFIOL
A7: 8191050 | B7: 1 | C7: 0 | D7: 18565 | E7: 44182 | F7: =DATEDIF(D7,E7,"Y") -> 70 | G7: 0 | I7: 1 | J7: 0 | K7: On | L7: 0 | M7: 1 | N7: 0 | O7: 0 | P7: 1 | Q7: 0 | R7: 0 | S7: 45532 | T7: =(S7-'Glaucoma surgery'!E7)/28 -> 48.214286 | U7: 1 | V7: 44218 | W7: =(V7-E7)/28 -> 1.2857143 | X7: 40 | Y7: 6 | Z7: 8 | AA7: 16 | AB7: 16 | AL7: 16 | AM7: 4 | AN7: 0 | AO7: 0 | AP7: 0 | AZ7: 0 | BA7: 0.6 | BG7: 1.2 | BK7: 1.2 | BN7: 1 | BO7: VH | BR7: 他院 | BS7: 44239
A8: 5852145 | B8: 0 | C8: 1 | D8: 28197 | E8: 44364 | F8: =DATEDIF(D8,E8,"Y") -> 44 | G8: 3 | I8: 1 | J8: 0 | K8: On | L8: 1 | M8: 1 | N8: 1 | O8: 2 | P8: 0 | Q8: 0 | R8: 0 | S8: 45457 | T8: =(S8-'Glaucoma surgery'!E8)/28 -> 39.035714 | U8: 0 | V8: 45457 | W8: =(V8-E8)/28 -> 39.035714 | X8: 20 | Y8: 10 | Z8: 11 | AA8: 12 | AB8: 16 | AC8: 16 | AD8: 12 | AE8: 13 | AF8: 10 | AG8: 11 | AH8: 13 | AL8: 13 | AM8: 5 | AN8: 0 | AO8: 0 | AP8: 2 | AQ8: 2 | AR8: 3 | AS8: 3 | AT8: 3 | AU8: 3 | AV8: 3 | AZ8: 3 | BA8: 0.06 | BE8: 0.06 | BG8: 0.06 | BI8: 0.06 | BK8: 0.06 | BN8: 0 | BR8: 当院 | BS8: 45457 | BT8: 2017/5 TLO, 2017/10 Trab | BU8: SFIOL前GMS4で26
A9: 5560772 | B9: 0 | C9: 1 | D9: 23911 | E9: 44631 | F9: =DATEDIF(D9,E9,"Y") -> 56 | G9: 0 | I9: 1 | J9: 1 | K9: In | L9: 0 | M9: 1 | N9: 0 | O9: 1 | P9: 1 | Q9: 0 | R9: 0 | S9: 45376 | T9: =(S9-'Glaucoma surgery'!E9)/28 -> 26.607143 | U9: 0 | V9: 45376 | W9: =(V9-E9)/28 -> 26.607143 | X9: 21 | Y9: 6 | Z9: 6 | AA9: 8 | AB9: 10 | AC9: 16 | AD9: 13 | AE9: 15 | AF9: 16 | AL9: 16 | AM9: 3 | AN9: 0 | AO9: 0 | AP9: 3 | AQ9: 3 | AR9: 3 | AS9: 3 | AT9: 3 | AZ9: 3 | BA9: 1.2 | BE9: 1 | BG9: 1.5 | BI9: 1.5 | BK9: 1.5 | BM9: 0 | BN9: 0 | BR9: 当院 | BS9: 45376
A10: 8369780 | B10: 0 | C10: 1 | D10: 19718 | E10: 44721 | F10: =DATEDIF(D10,E10,"Y") -> 68 | G10: 2 | I10: 1 | J10: 1 | K10: Donesis | L10: 0 | M10: 1 | N10: 0 | O10: 1 | P10: 0 | Q10: 0 | R10: 0 | S10: 45532 | T10: =(S10-'Glaucoma surgery'!E10)/28 -> 28.964286 | U10: 1 | V10: 44811 | W10: =(V10-E10)/28 -> 3.2142857 | X10: 24 | Y10: 7 | Z10: 5 | AA10: 10 | AB10: 15 | AC10: 16 | AD10: 15 | AL10: 15 | AM10: 7 | AN10: 0 | AO10: 0 | AP10: 0 | AQ10: 0 | AR10: 2 | AZ10: 2 | BA10: 0 | BE10: 0.15 | BG10: 0.3 | BI10: 0.4 | BK10: 0.5 | BM10: -29.14 | BN10: 0 | BR10: 他院 | BS10: 45077
A11: 1061313 | B11: 0 | C11: 1 | D11: 10835 | E11: 44861 | F11: =DATEDIF(D11,E11,"Y") -> 93 | G11: 2 | K11: SFIOL | L11: 0 | M11: 1 | N11: 0 | O11: 0 | P11: 0 | Q11: 1 | R11: 0 | S11: 45532 | T11: =(S11-'Glaucoma surgery'!E11)/28 -> 23.964286 | U11: 0 | V11: 45217 | W11: =(V11-E11)/28 -> 12.714286 | X11: 30 | Y11: 4 | Z11: 4 | AA11: 6 | AB11: 13 | AC11: 9 | AD11: 12 | AL11: 12 | AM11: 5 | AN11: 0 | AO11: 0 | AP11: 0 | AQ11: 0 | AR11: 0 | AZ11: 0 | BA11: 0.3 | BE11: 0.15 | BI11: 0.15 | BK11: 0.2 | BN11: 0 | BR11: 他院 | BS11: 45217 | BT11: 2022.9 SFIOL | BU11: SFIOL前GMS3で30
A12: 8554749 | B12: 0 | C12: 1 | D12: 1948/05/09 | E12: 45009 | F12: =DATEDIF(D12,E12,"Y") -> 74 | G12: 2 | K12: SFIOL | L12: 0 | M12: 1 | N12: 0 | O12: 0 | P12: 0 | Q12: 1 | R12: 0 | S12: 45406 | T12: =(S12-'Glaucoma surgery'!E12)/28 -> 14.178571 | U12: 0 | V12: 45406 | W12: =(V12-E12)/28 -> 14.178571 | X12: 45 | Y12: 7 | Z12: 9 | AA12: 7 | AB12: 7 | AC12: 19 | AD12: 13 | AL12: 13 | AM12: 5 | AN12: 0 | AO12: 0 | AP12: 0 | AQ12: 2 | AR12: 4 | AZ12: 4 | BA12: 1.2 | BC12: 0.5 | BE12: 0.7 | BK12: 0.5 | BM12: -4.2 | BN12: 0 | BR12: 当院 | BS12: 45406 | BT12: 2023.1.13 SFIOL
A13: 3548937 | B13: 1 | C13: 1 | D13: 1941/05/22 | E13: 45022 | F13: =DATEDIF(D13,E13,"Y") -> 81 | G13: 2 | I13: 1 | J13: 1 | K13: Donesis | L13: 1 | M13: 1 | N13: 0 | O13: 0 | P13: 1 | Q13: 0 | R13: 0 | S13: 45527 | T13: =(S13-'Glaucoma surgery'!E13)/28 -> 18.035714 | U13: 1 | V13: 45336 | W13: =(V13-E13)/28 -> 11.214286 | X13: 23 | Y13: 6 | Z13: 9 | AA13: 13 | AB13: 13 | AC13: 14 | AD13: 15 | AE13: 14 | AL13: 14 | AM13: 5 | AN13: 0 | AO13: 0 | AP13: 0 | AQ13: 0 | AR13: 0 | AS13: 2 | AZ13: 2 | BA13: 0.8 | BE13: 0.5 | BK13: 1 | BM13: -7.97 | BN13: 0 | BR13: 当院 | BS13: 45527 | BT13: 2022.9 TMH | BU13: SFIOL前GMS6で42
A14: 4738322 | B14: 0 | C14: 0 | D14: 21415 | E14: 2021/6/18 | F14: 63 | G14: 0 | K14: 逢着 | L14: 0 | M14: 1 | N14: 0 | O14: 1 | P14: 1 | Q14: 1 | R14: 0 | S14: 45467 | T14: 38 | U14: 1 | V14: 44480 | W14: 4 | X14: 29 | Y14: 2 | Z14: 11 | AA14: 12 | AB14: 18 | AC14: 19 | AD14: 13 | AE14: 16 | AF14: 13 | AG14: 16 | AH14: 15 | AL14: 15 | AM14: 4 | AN14: 0 | AO14: 0 | AP14: 2 | AQ14: 2 | AR14: 2 | AS14: 2 | AT14: 2 | AU14: 2 | AV14: 2 | AZ14: 2 | BA14: 1 | BG14: 0.8 | BI14: 0.7 | BK14: 0.8 | BM14: -10.8 | BN14: 1 | BO14: CD | BR14: 当院 | BS14: 45467 | BT14: 以前にIOL逢着、これがPDS
A15: 4192427 | B15: 0 | C15: 0 | D15: 1974/02/27 | E15: 45176 | F15: =DATEDIF(D15,E15,"Y") -> 49 | G15: 3 | K15: SFIOL | L15: 0 | M15: 1 | N15: 1 | O15: 0 | P15: 0 | Q15: 1 | R15: 0 | S15: 45525 | T15: =(S15-'Glaucoma surgery'!E15)/28 -> 12.464286 | U15: 0 | V15: 45525 | W15: =(V15-E15)/28 -> 12.464286 | X15: 24 | Y15: 4 | Z15: 7 | AA15: 18 | AB15: 20 | AC15: 12 | AD15: 10 | AL15: 10 | AM15: 1 | AN15: 0 | AO15: 0 | AP15: 0 | AQ15: 0 | AR15: 2 | BA15: 0.6 | BK15: 0.7 | BM15: -10.87 | BN15: 0 | BR15: 当院
A16: 8704449 | B16: 1 | C16: 0 | D16: 1957/02/02 | E16: 45302 | F16: =DATEDIF(D16,E16,"Y") -> 66 | K16: SFIOL | L16: 0 | M16: 1 | N16: 0 | O16: 0 | P16: 0 | Q16: 1 | R16: 0 | S16: 45539 | T16: =(S16-'Glaucoma surgery'!E16)/28 -> 8.4642857 | U16: 0 | V16: 45331 | W16: =(V16-E16)/28 -> 1.0357143 | X16: 34 | Y16: 6 | Z16: 7 | AA16: 9 | AL16: 9 | AM16: 7 | AN16: 0 | AO16: 0 | AZ16: 0 | BA16: 0.1 | BG16: 0.3 | BK16: 0.3 | BN16: 0 | BR16: 他院

Sheet SFIOL
A1: ID | B1: Group_Low0 _High1 | C1: Sex_Male0 | D1: Eye_Right0 | E1: Birth | F1: Operative date | G1: Age | H1: PH_POAG1_XFS2_Atopic3_Trauma4 | I1: PH_POAG1_XFS2_Atopic3_Trauma4 | J1: IOL_1 piece or 3 piece | K1: IOL_On 0_In_1 | L1: IOL situation | M1: Past PPV_Yes1 | N1: Sucusses(IOP 6-21 only)_0 | O1: Last observation date | P1: Follow up time | Q1: IOP_pre-ope | R1: IOP_1day | S1: IOP_1-2W | T1: IOP_1M | U1: IOP_3M | V1: IOP_6M | W1: IOP_12M | X1: IOP_18M | Y1: IOP_24M | Z1: IOP_30M | AA1: IOP_36M | AB1: IOP_42M | AC1: IOP_48M | AD1: IOP_54M | AE1: IOP_60M | AF1: IOP_Last | AG1: ED_Pre | AH1: ED_１w | AI1: ED_1M | AJ1: ED_3M | AK1: ED_6M | AL1: ED_12M | AM1: ED_18M | AN1: ED_24M | AO1: ED_30M | AP1: ED_36M | AQ1: ED_42M | AR1: ED_48M | AS1: ED_54M | AT1: ED_60M | AU1: ED_last | AV1: V_pre-ope | AW1: V_preope_Log | AX1: V_1day | AY1: V_1day_log | AZ1: Va_１w | BA1: V_1W_log | BB1: Va_1M | BC1: V_1M_log | BD1: Va_3M | BE1: Va_3M_Log | BF1: V_Last | BG1: V_Last_log | BH1: HFA_pre-ope | BI1: HFA_post-ope | BJ1: HFA_date | BK1: Complication _yes1 | BL1: Complication | BM1: additional surgery | BN1: additional surgery date | BO1: other | BQ1: 当院Last visit
A2: 6119883 | B2: 0 | C2: 1 | D2: 1 | E2: 14543 | F2: 44015 | G2: =DATEDIF(E2,F2,"Y") -> 80 | H2: 2 | J2: 1 | K2: 1 | L2: donesis | M2: 0 | N2: 0 | O2: 45532 | P2: =(O2-F2)/28 -> 54.178571 | Q2: 14 | R2: 10 | S2: 15 | T2: 18 | U2: 15 | V2: 14 | W2: 14 | X2: 14 | AF2: 14 | AG2: 2 | AH2: 0 | AI2: 0 | AJ2: 1 | AK2: 3 | AL2: 3 | AM2: 3 | AU2: 3 | AV2: 0.4 | AW2: =LOG10(1/AV2) -> 0.39794001 | AX2: 0.2 | AY2: =LOG10(1/AX2) -> 0.69897 | AZ2: 0.8 | BA2: =LOG10(1/AZ2) -> 0.096910013 | BB2: 0.8 | BC2: =LOG10(1/BB2) -> 0.096910013 | BD2: 0.5 | BE2: =LOG10(1/BD2) -> 0.30103 | BF2: 0.2 | BG2: =LOG10(1/BF2) -> 0.69897 | BK2: 0 | BP2: 他院 | BQ2: 44489
A3: 8614997 | B3: 0 | C3: 0 | D3: 1 | E3: 1974/11/11 | F3: 45044 | G3: =DATEDIF(E3,F3,"Y") -> 48 | H3: 0 | J3: 3 | K3: 1 | L3: Donesis | M3: 0 | N3: 0 | O3: 45532 | P3: =(O3-F3)/28 -> 17.428571 | Q3: 16 | R3: 10 | S3: 30 | T3: 32 | U3: 18 | AF3: 18 | AG3: 5 | AH3: 3 | AI3: 3 | AJ3: 5 | AU3: 5 | AV3: 1.5 | AW3: =LOG10(1/AV3) -> -0.17609126 | AZ3: 1.2 | BA3: =LOG10(1/AZ3) -> -0.079181246 | BB3: 1.2 | BC3: =LOG10(1/BB3) -> -0.079181246 | BD3: 1.2 | BE3: =LOG10(1/BD3) -> -0.079181246 | BF3: 1.2 | BG3: =LOG10(1/BF3) -> -0.079181246 | BH3: 0.01 | BK3: 0 | BP3: 他院 | BQ3: 45145
A4: 8038848 | B4: 0 | C4: 0 | D4: 0 | E4: 23998 | F4: 44363 | G4: =DATEDIF(E4,F4,"Y") -> 55 | H4: 1 | I4: 4 | J4: 3 | K4: 1 | L4: Donesis | M4: 1 | N4: 0 | O4: 45465 | P4: =(O4-F4)/28 -> 39.357143 | Q4: 18 | R4: 2 | S4: 27 | T4: 16 | U4: 19 | X4: 22 | Y4: 20 | Z4: 18 | AA4: 18 | AF4: 18 | AG4: 5 | AH4: 4 | AI4: 4 | AJ4: 4 | AM4: 5 | AN4: 5 | AO4: 5 | AP4: 5 | AU4: 4 | AV4: 0.09 | AW4: =LOG10(1/AV4) -> 1.0457575 | AZ4: 0.09 | BA4: =LOG10(1/AZ4) -> 1.0457575 | BB4: 0.1 | BC4: =LOG10(1/BB4) -> 1 | BD4: 0.09 | BE4: =LOG10(1/BD4) -> 1.0457575 | BF4: 0.09 | BG4: =LOG10(1/BF4) -> 1.0457575 | BH4: -26.84 | BK4: 1 | BL4: CD | BP4: 当院 | BQ4: 45465
A5: 8218129 | B5: 0 | C5: 0 | D5: 0 | E5: 13967 | F5: 44252 | G5: =DATEDIF(E5,F5,"Y") -> 82 | H5: 2 | J5: 1 | K5: 1 | L5: donesis | M5: 0 | N5: 0 | O5: 45532 | P5: =(O5-F5)/28 -> 45.714286 | Q5: 18 | R5: 7 | S5: 15 | T5: 17 | U5: 21 | V5: 21 | W5: 24 | X5: 21 | AF5: 21 | AG5: 3 | AH5: 1 | AI5: 1 | AJ5: 2 | AK5: 2 | AL5: 2 | AM5: 2 | AU5: 2 | AV5: 0.2 | AW5: =LOG10(1/AV5) -> 0.69897 | AX5: 0.2 | AY5: =LOG10(1/AX5) -> 0.69897 | AZ5: 0.5 | BA5: =LOG10(1/AZ5) -> 0.30103 | BB5: 0.6 | BC5: =LOG10(1/BB5) -> 0.22184875 | BD5: 0.7 | BE5: =LOG10(1/BD5) -> 0.15490196 | BF5: 0.9 | BG5: =LOG10(1/BF5) -> 0.045757491 | BK5: 0 | BP5: 他院 | BQ5: 44758
A6: 7384394 | B6: 0 | C6: 0 | D6: 0 | E6: 24474 | F6: 43440 | G6: =DATEDIF(E6,F6,"Y") -> 51 | H6: 0 | J6: 1 | K6: 0 | L6: lapture | M6: 1 | N6: 0 | O6: 45531 | P6: =(O6-F6)/28 -> 74.678571 | Q6: 18 | R6: 7 | S6: 6 | T6: 18 | U6: 15 | V6: 16 | W6: 14 | X6: 14 | Y6: 14 | Z6: 13 | AA6: 14 | AB6: 11 | AC6: 14 | AD6: 10 | AE6: 16 | AF6: 12 | AG6: 5 | AH6: 0 | AI6: 3 | AJ6: 3 | AK6: 2 | AL6: 2 | AM6: 2 | AN6: 2 | AO6: 2 | AP6: 2 | AQ6: 2 | AR6: 2 | AS6: 2 | AT6: 2 | AU6: 2 | AV6: 0.6 | AW6: =LOG10(1/AV6) -> 0.22184875 | AZ6: 0.04 | BA6: =LOG10(1/AZ6) -> 1.39794 | BB6: 0.4 | BC6: =LOG10(1/BB6) -> 0.39794001 | BD6: 0.4 | BE6: =LOG10(1/BD6) -> 0.39794001 | BF6: 0.5 | BG6: =LOG10(1/BF6) -> 0.30103 | BH6: -7.17 | BI6: -6.46 | BJ6: 45405 | BK6: 1 | BL6: 低眼圧黄斑症 | BP6: 当院 | BQ6: 45531
A7: 6966560 | B7: 0 | C7: 0 | D7: 1 | E7: 39479 | F7: 44812 | G7: =DATEDIF(E7,F7,"Y") -> 14 | H7: 4 | J7: 1 | K7: 0 | L7: lapture | M7: 0 | N7: 0 | O7: 45532 | P7: =(O7-F7)/28 -> 25.714286 | Q7: 20 | R7: 3 | S7: 16 | T7: 14 | AF7: 14 | AG7: 3 | AH7: 0 | AI7: 0 | AU7: 0 | AV7: 1 | AW7: =LOG10(1/AV7) -> 0 | AX7: 0.4 | AY7: =LOG10(1/AX7) -> 0.39794001 | AZ7: 1.2 | BA7: =LOG10(1/AZ7) -> -0.079181246 | BB7: 1.2 | BC7: =LOG10(1/BB7) -> -0.079181246 | BF7: 1.2 | BG7: =LOG10(1/BF7) -> -0.079181246 | BK7: 0 | BP7: 他院 | BQ7: 44835
A8: 6099408 | B8: 0 | C8: 0 | D8: 0 | E8: 27264 | F8: 44783 | G8: =DATEDIF(E8,F8,"Y") -> 47 | H8: 0 | J8: 1 | K8: 0 | L8: lapture | M8: 1 | N8: 0 | O8: 45419 | P8: =(O8-F8)/28 -> 22.714286 | Q8: 21 | R8: 2 | S8: 18 | T8: 16 | U8: 16 | V8: 21 | W8: 16 | X8: 15 | Y8: 18 | AF8: 16 | AG8: 0 | AH8: 0 | AI8: 0 | AJ8: 0 | AK8: 0 | AL8: 0 | AM8: 0 | AN8: 0 | AU8: 0 | AV8: 1.2 | AW8: =LOG10(1/AV8) -> -0.079181246 | AZ8: 1 | BA8: =LOG10(1/AZ8) -> 0 | BB8: 1.5 | BC8: =LOG10(1/BB8) -> -0.17609126 | BD8: 1.5 | BE8: =LOG10(1/BD8) -> -0.17609126 | BF8: 1.5 | BG8: =LOG10(1/BF8) -> -0.17609126 | BK8: 1 | BL8: CD | BP8: 当院 | BQ8: 45419
A9: 8708495 | B9: 0 | C9: 0 | E9: 1960/10/11 | F9: 45267 | G9: =DATEDIF(E9,F9,"Y") -> 63 | H9: 0 | J9: 1 | K9: 1 | L9: donesis | M9: 0 | N9: 0 | O9: 45539 | P9: =(O9-F9)/28 -> 9.7142857 | Q9: 21 | R9: 5 | S9: 16 | T9: 16 | AF9: 16 | AG9: 0 | AH9: 0 | AI9: 0 | AU9: 0 | AV9: 1.2 | AW9: =LOG10(1/AV9) -> -0.079181246 | AZ9: 1.2 | BA9: =LOG10(1/AZ9) -> -0.079181246 | BB9: 1.2 | BC9: =LOG10(1/BB9) -> -0.079181246 | BF9: 1.2 | BG9: =LOG10(1/BF9) -> -0.079181246 | BK9: 0 | BP9: 他院 | BQ9: 45296
A10: 8550085 | B10: 0 | C10: 0 | D10: 0 | E10: 13048 | F10: 44966 | G10: =DATEDIF(E10,F10,"Y") -> 87 | H10: 2 | J10: 1 | K10: 1 | L10: Donesis | M10: 0 | N10: 0 | O10: 45521 | P10: =(O10-F10)/28 -> 19.821429 | Q10: 22 | R10: 11 | S10: 18 | T10: 22 | U10: 12 | V10: 12 | W10: 14 | X10: 13 | AF10: 12 | AG10: 2 | AH10: 0 | AI10: 1 | AJ10: 2 | AK10: 2 | AL10: 2 | AM10: 2 | AU10: 2 | AV10: 0.5 | AW10: =LOG10(1/AV10) -> 0.30103 | AZ10: 0.5 | BA10: =LOG10(1/AZ10) -> 0.30103 | BB10: 0.5 | BC10: =LOG10(1/BB10) -> 0.30103 | BD10: 0.5 | BE10: =LOG10(1/BD10) -> 0.30103 | BF10: 0.9 | BG10: =LOG10(1/BF10) -> 0.045757491 | BH10: -10.96 | BI10: -13.58 | BJ10: 45460 | BK10: 1 | BL10: VH | BP10: 当院 | BQ10: 45521
A11: 7637357 | B11: 0 | C11: 0 | D11: 0 | E11: 25447 | F11: 43132 | G11: =DATEDIF(E11,F11,"Y") -> 48 | H11: 0 | J11: 1 | K11: 1 | L11: donesis | M11: 0 | N11: 0 | O11: 45532 | P11: =(O11-F11)/28 -> 85.714286 | Q11: 22 | R11: 23 | S11: 30 | T11: 17 | AF11: 17 | AG11: 1 | AH11: 1 | AI11: 3 | AU11: 3 | AV11: 0.9 | AW11: =LOG10(1/AV11) -> 0.045757491 | AZ11: 0.9 | BA11: =LOG10(1/AZ11) -> 0.045757491 | BB11: 0.8 | BC11: =LOG10(1/BB11) -> 0.096910013 | BF11: 0.8 | BG11: =LOG10(1/BF11) -> 0.096910013 | BK11: 0 | BP11: 他院 | BQ11: 43172
A12: 5423015 | B12: 0 | C12: 0 | D12: 0 | E12: 27332 | F12: 44918 | G12: =DATEDIF(E12,F12,"Y") -> 48 | H12: 0 | J12: 1 | K12: 1 | L12: チン氏帯断裂 | M12: 1 | N12: 0 | O12: 45532 | P12: =(O12-F12)/28 -> 21.928571 | Q12: 23 | R12: 3 | S12: 10 | T12: 12 | U12: 13 | V12: 13 | W12: 13 | X12: 12 | AF12: 13 | AG12: 0 | AH12: 0 | AI12: 0 | AJ12: 0 | AK12: 0 | AL12: 0 | AM12: 0 | AU12: 0 | AV12: 1.5 | AW12: =LOG10(1/AV12) -> -0.17609126 | AX12: 0.6 | AY12: =LOG10(1/AX12) -> 0.22184875 | AZ12: 1.2 | BA12: =LOG10(1/AZ12) -> -0.079181246 | BB12: 1.2 | BC12: =LOG10(1/BB12) -> -0.079181246 | BD12: 1.2 | BE12: =LOG10(1/BD12) -> -0.079181246 | BF12: 1.2 | BG12: =LOG10(1/BF12) -> -0.079181246 | BK12: 0 | BP12: 他院 | BQ12: 45387
A13: 7910045 | B13: 0 | C13: 1 | D13: 0 | E13: 14845 | F13: 44063 | G13: =DATEDIF(E13,F13,"Y") -> 79 | H13: 2 | J13: 1 | K13: 1 | L13: Donesis | M13: 0 | N13: 0 | O13: 44790 | P13: =(O13-F13)/28 -> 25.964286 | Q13: 24 | R13: 13 | S13: 20 | T13: 18 | U13: 15 | V13: 16 | W13: 20 | Y13: 14 | AF13: 14 | AG13: 4 | AH13: 2 | AI13: 2 | AJ13: 2 | AK13: 2 | AL13: 2 | AM13: 2 | AU13: 2 | AV13: 1 | AW13: =LOG10(1/AV13) -> 0 | AX13: 0.15 | AY13: =LOG10(1/AX13) -> 0.82390874 | AZ13: 0.8 | BA13: =LOG10(1/AZ13) -> 0.096910013 | BB13: 0.8 | BC13: =LOG10(1/BB13) -> 0.096910013 | BD13: 1 | BE13: =LOG10(1/BD13) -> 0 | BF13: 1 | BG13: =LOG10(1/BF13) -> 0 | BH13: -4.69 | BK13: 0 | BP13: 二和 | BQ13: 44790
A14: 789070 | B14: 0 | C14: 0 | D14: 1 | E14: 20246 | F14: 44188 | G14: =DATEDIF(E14,F14,"Y") -> 65 | H14: 0 | J14: 1 | K14: 1 | L14: Donesis | M14: 1 | N14: 0 | O14: 45532 | P14: =(O14-F14)/28 -> 48 | Q14: 24 | R14: 4 | S14: 6 | T14: 16 | U14: 16 | V14: 15 | W14: 16 | AF14: 16 | AG14: 0 | AH14: 0 | AI14: 0 | AJ14: 0 | AU14: 0 | AX14: 0.5 | AY14: =LOG10(1/AX14) -> 0.30103 | BB14: 0.3 | BC14: =LOG10(1/BB14) -> 0.52287875 | BD14: 0.7 | BE14: =LOG10(1/BD14) -> 0.15490196 | BF14: 0.7 | BG14: =LOG10(1/BF14) -> 0.15490196 | BH14: -5.52 | BK14: 1 | BL14: VH | BP14: 他院 | BQ14: 44474
A15: 8035067 | B15: 1 | C15: 0 | D15: 0 | E15: 15588 | F15: 44215 | G15: =DATEDIF(E15,F15,"Y") -> 78 | H15: 2 | J15: 1 | K15: 1 | L15: Donesis | M15: 0 | N15: 0 | O15: 44293 | P15: =(O15-F15)/28 -> 2.7857143 | Q15: 26 | R15: 9 | S15: 10 | T15: 27 | U15: 20 | AF15: 20 | AG15: 3 | AH15: 0 | AI15: 0 | AJ15: 3 | AU15: 3 | AV15: 0.3 | AW15: =LOG10(1/AV15) -> 0.52287875 | AZ15: 0.3 | BA15: =LOG10(1/AZ15) -> 0.52287875 | BB15: 0.4 | BC15: =LOG10(1/BB15) -> 0.39794001 | BD15: 0.5 | BE15: =LOG10(1/BD15) -> 0.30103 | BF15: 0.5 | BG15: =LOG10(1/BF15) -> 0.30103 | BH15: -2.98 | BK15: 0 | BP15: 中断 | BQ15: 44293
A16: 7876548 | B16: 1 | C16: 0 | D16: 0 | E16: 24690 | F16: 43609 | G16: =DATEDIF(E16,F16,"Y") -> 51 | H16: 3 | J16: 3 | K16: 0 | L16: Lapture | M16: 0 | N16: 0 | O16: 45518 | P16: =(O16-F16)/28 -> 68.178571 | Q16: 26 | R16: 9 | S16: 16 | T16: 13 | U16: 13 | X16: 18 | Y16: 18 | Z16: 18 | AA16: 18 | AB16: 18 | AC16: 18 | AD16: 18 | AE16: 18 | AF16: 13 | AG16: 5 | AH16: 0 | AI16: 3 | AJ16: 3 | AM16: 0 | AN16: 0 | AO16: 0 | AP16: 0 | AQ16: 0 | AR16: 0 | AS16: 0 | AT16: 0 | AU16: 0 | AV16: 1.5 | AW16: =LOG10(1/AV16) -> -0.17609126 | AZ16: 1.2 | BA16: =LOG10(1/AZ16) -> -0.079181246 | BB16: 1.5 | BC16: =LOG10(1/BB16) -> -0.17609126 | BD16: 1.5 | BE16: =LOG10(1/BD16) -> -0.17609126 | BF16: 1.2 | BG16: =LOG10(1/BF16) -> -0.079181246 | BK16: 0 | BP16: 当院 | BQ16: 45518
A17: 8704449 | B17: 1 | C17: 1 | D17: 0 | E17: 1957/02/02 | F17: 45260 | G17: =DATEDIF(E17,F17,"Y") -> 66 | H17: 2 | J17: 1 | K17: 1 | L17: donesis | M17: 0 | N17: 1 | O17: 45296 | P17: =(O17-F17)/28 -> 1.2857143 | Q17: 26 | R17: 8 | S17: 9 | T17: 29 | AF17: 29 | AG17: 6 | AH17: 0 | AI17: 6 | AU17: 6 | AV17: 0.2 | AW17: =LOG10(1/AV17) -> 0.69897 | AX17: 0.1 | AY17: =LOG10(1/AX17) -> 1 | AZ17: 0.3 | BA17: =LOG10(1/AZ17) -> 0.52287875 | BB17: 0.3 | BC17: =LOG10(1/BB17) -> 0.52287875 | BF17: 0.3 | BG17: =LOG10(1/BF17) -> 0.52287875 | BK17: 0 | BM17: AGV | BN17: 45302 | BP17: 他院 | BQ17: 45331
A18: 1061313 | B18: 1 | C18: 0 | D18: 1 | E18: 10835 | F18: 44805 | G18: =DATEDIF(E18,F18,"Y") -> 93 | H18: 2 | J18: 1 | K18: 1 | L18: donesis | M18: 0 | N18: 1 | O18: 44853 | P18: =(O18-F18)/28 -> 1.7142857 | Q18: 28 | R18: 6 | S18: 20 | T18: 30 | AF18: 30 | AG18: 5 | AH18: 0 | AI18: 3 | AU18: 3 | AV18: 0.3 | AW18: =LOG10(1/AV18) -> 0.52287875 | AX18: 0.15 | AY18: =LOG10(1/AX18) -> 0.82390874 | BB18: 0.06 | BC18: =LOG10(1/BB18) -> 1.2218487 | BD18: 0.15 | BE18: =LOG10(1/BD18) -> 0.82390874 | BF18: 0.15 | BG18: =LOG10(1/BF18) -> 0.82390874 | BK18: 0 | BM18: AGV | BN18: 44861 | BP18: fail | BQ18: 44853
A19: 8242178 | B19: 1 | C19: 0 | D19: 0 | E19: 22182 | F19: 44407 | G19: =DATEDIF(E19,F19,"Y") -> 60 | H19: 0 | J19: 3 | L19: Donesis | M19: 1 | N19: 1 | O19: 44682 | P19: =(O19-F19)/28 -> 9.8214286 | Q19: 30 | R19: 3 | S19: 22 | T19: 22 | U19: 22 | V19: 12 | AF19: 38 | AG19: 4 | AH19: 2 | AI19: 4 | AJ19: 4 | AK19: 5 | AU19: 5 | AV19: 0.8 | AW19: =LOG10(1/AV19) -> 0.096910013 | AX19: 0.6 | AY19: =LOG10(1/AX19) -> 0.22184875 | AZ19: 0.5 | BA19: =LOG10(1/AZ19) -> 0.30103 | BB19: 0.5 | BC19: =LOG10(1/BB19) -> 0.30103 | BD19: 0.6 | BE19: =LOG10(1/BD19) -> 0.22184875 | BF19: 0.5 | BG19: =LOG10(1/BF19) -> 0.30103 | BH19: -2.88 | BK19: 1 | BL19: CME | BM19: AGV | BN19: 45078 | BP19: fail | BQ19: 44682
A20: 8554749 | B20: 1 | C20: 0 | D20: 1 | E20: 17662 | F20: 44939 | G20: =DATEDIF(E20,F20,"Y") -> 74 | H20: 2 | J20: 1 | K20: 1 | L20: donesis | M20: 0 | N20: 1 | O20: 44965 | P20: =(O20-F20)/28 -> 0.92857143 | Q20: 31 | R20: 21 | S20: 58 | T20: 46 | AF20: 46 | AG20: 4 | AH20: 0 | AI20: 5 | AU20: 5 | AV20: 0.5 | AW20: =LOG10(1/AV20) -> 0.30103 | AZ20: 0.6 | BA20: =LOG10(1/AZ20) -> 0.22184875 | BB20: 1.2 | BC20: =LOG10(1/BB20) -> -0.079181246 | BD20: 0.7 | BE20: =LOG10(1/BD20) -> 0.15490196 | BF20: 0.7 | BG20: =LOG10(1/BF20) -> 0.15490196 | BH20: -4.2 | BK20: 0 | BM20: AGV | BN20: 45009 | BP20: fail | BQ20: 44965
A21: 8191921 | B21: 1 | C21: 0 | D21: 0 | E21: 25601 | F21: 44434 | G21: =DATEDIF(E21,F21,"Y") -> 51 | H21: 0 | J21: 1 | K21: 0 | L21: lapture | M21: 0 | N21: 1 | O21: 45017 | P21: =(O21-F21)/28 -> 20.821429 | Q21: 32 | R21: 2 | S21: 10 | T21: 20 | U21: 16 | V21: 16 | W21: 16 | AF21: 22 | AG21: 5 | AH21: 4 | AI21: 3 | AJ21: 4 | AK21: 2 | AL21: 1 | AU21: 3 | AV21: 1.2 | AW21: =LOG10(1/AV21) -> -0.079181246 | AX21: 0.2 | AY21: =LOG10(1/AX21) -> 0.69897 | AZ21: 0.9 | BA21: =LOG10(1/AZ21) -> 0.045757491 | BB21: 0.9 | BC21: =LOG10(1/BB21) -> 0.045757491 | BD21: 0.9 | BE21: =LOG10(1/BD21) -> 0.045757491 | BF21: 0.7 | BG21: =LOG10(1/BF21) -> 0.15490196 | BH21: -3.59 | BK21: 1 | BL21: CD, 逆瞳孔ブロック | BM21: 10-0 | BP21: fail | BQ21: 45017
A22: 5887194 | B22: 1 | C22: 0 | E22: 1974/02/07 | F22: 45302 | G22: =DATEDIF(E22,F22,"Y") -> 49 | H22: 0 | J22: 1 | K22: 1 | L22: donesis | M22: 1 | N22: 1 | O22: 45346 | P22: =(O22-F22)/28 -> 1.5714286 | Q22: 32 | R22: 8 | S22: 35 | T22: 25 | AF22: 25 | AG22: 5 | AH22: 0 | AI22: 5 | AU22: 5 | AV22: 0.5 | AW22: =LOG10(1/AV22) -> 0.30103 | AX22: 0.6 | AY22: =LOG10(1/AX22) -> 0.22184875 | AZ22: 0.8 | BA22: =LOG10(1/AZ22) -> 0.096910013 | BB22: 0.8 | BC22: =LOG10(1/BB22) -> 0.096910013 | BF22: 0.8 | BG22: =LOG10(1/BF22) -> 0.096910013 | BH22: -16.78 | BK22: 0 | BP22: 当院 | BQ22: 45535
A23: 8035067 | B23: 1 | C23: 0 | D23: 1 | E23: 15588 | F23: 43937 | G23: =DATEDIF(E23,F23,"Y") -> 77 | H23: 2 | J23: 1 | K23: 1 | L23: Donesis | M23: 0 | N23: 1 | O23: 44013 | P23: =(O23-F23)/28 -> 2.7142857 | Q23: 34 | R23: 19 | S23: 18 | T23: 16 | U23: 22 | AF23: 22 | AG23: 7 | AH23: 0 | AI23: 4 | AJ23: 6 | AU23: 6 | AV23: 0.3 | AW23: =LOG10(1/AV23) -> 0.52287875 | AZ23: 0.01 | BA23: =LOG10(1/AZ23) -> 2 | BB23: 0.4 | BC23: =LOG10(1/BB23) -> 0.39794001 | BD23: 0.4 | BE23: =LOG10(1/BD23) -> 0.39794001 | BF23: 0.4 | BG23: =LOG10(1/BF23) -> 0.39794001 | BH23: -3.65 | BK23: 1 | BL23: VH | BM23: AGV | BN23: 44028 | BP23: fail | BQ23: 44013
A24: 7883161 | B24: 1 | C24: 0 | D24: 0 | E24: 15483 | F24: 44050 | G24: =DATEDIF(E24,F24,"Y") -> 78 | H24: 2 | J24: 1 | K24: 1 | L24: Donesis | M24: 1 | N24: 1 | O24: 44076 | P24: =(O24-F24)/28 -> 0.92857143 | Q24: 42 | R24: 28 | S24: 24 | T24: 40 | AF24: 40 | AG24: 4 | AH24: 4 | AI24: 4 | AU24: 4 | AV24: 0.2 | AW24: =LOG10(1/AV24) -> 0.69897 | AZ24: 0.3 | BA24: =LOG10(1/AZ24) -> 0.52287875 | BB24: 0.5 | BC24: =LOG10(1/BB24) -> 0.30103 | BD24: 0.2 | BE24: =LOG10(1/BD24) -> 0.69897 | BF24: 0.3 | BG24: =LOG10(1/BF24) -> 0.52287875 | BK24: 0 | BM24: AGV | BN24: 44119 | BP24: fail | BQ24: 44076
A25: 7861680 | B25: 1 | C25: 0 | D25: 1 | E25: 26996 | F25: 44379 | G25: =DATEDIF(E25,F25,"Y") -> 47 | H25: 3 | J25: 1 | K25: 1 | L25: lapture | M25: 0 | N25: 1 | O25: 44405 | P25: =(O25-F25)/28 -> 0.92857143 | Q25: 48 | R25: 7 | S25: 37 | T25: 23 | AF25: 23 | AG25: 5 | AH25: 0 | AI25: 7 | AU25: 7 | AV25: 0.6 | AW25: =LOG10(1/AV25) -> 0.22184875 | BB25: 0.6 | BC25: =LOG10(1/BB25) -> 0.22184875 | BD25: 0.6 | BE25: =LOG10(1/BD25) -> 0.22184875 | BF25: 1 | BG25: =LOG10(1/BF25) -> 0 | BH25: -8.66 | BK25: 0 | BM25: AGV | BN25: 44435 | BP25: fail | BQ25: 44405
