Workbook

Sheet Potencia
A1: Nombre | B1: Cara de presion entrada | C1: Cara de presion | D1: Borde de entrada | E1: Cara de Succion | F1: Borde de salida | G1: Cara de presion salida
A2: AL10P1_completo.csv | B2: 275 | C2: 265 | D2: 109 | E2: 243 | F2: 35 | G2: 236
A3: AL10P2_completo.csv | B3: 723 | C3: 668 | D3: 157 | E3: 585 | F3: 134 | G3: 462
A4: AL10P3_completo.csv | B4: 853 | C4: 829 | D4: 143 | E4: 690 | F4: 120 | G4: 498
A5: AL10P4_completo.csv | B5: 944 | C5: 893 | D5: 99 | E5: 767 | F5: 70 | G5: 584
A6: AL11P1_completo.csv | B6: 297 | C6: 275 | D6: 120 | E6: 264 | F6: 38 | G6: 245
A7: AL11P2_completo.csv | B7: 673 | C7: 632 | D7: 148 | E7: 530 | F7: 119 | G7: 428
A8: AL11P3_completo.csv | B8: 810 | C8: 783 | D8: 136 | E8: 640 | F8: 118 | G8: 475
A9: AL11P4_completo.csv | B9: 968 | C9: 889 | D9: 102 | E9: 758 | F9: 77 | G9: 580
A10: AL12P1_completo.csv | B10: 349 | C10: 324 | D10: 93 | E10: 183 | F10: 27 | G10: 273
A11: AL12P2_completo.csv | B11: 687 | C11: 625 | D11: 110 | E11: 494 | F11: 90 | G11: 396
A12: AL12P3_completo.csv | B12: 782 | C12: 740 | D12: 102 | E12: 584 | F12: 86 | G12: 431
A13: AL12P4_completo.csv | B13: 833 | C13: 772 | D13: 89 | E13: 670 | F13: 69 | G13: 523
... A146: AL9P4_completo.csv | B146: 1164 | C146: 1030 | D146: 88 | E146: 833 | F146: 71 | G146: 613

Sheet Ft_Potencia
A1: Nombre | B1: Cara de presion entrada | C1: Cara de presion | D1: Borde de entrada | E1: Cara de Succion | F1: Borde de salida | G1: Cara de presion salida | H1: Vs
A2: AL10P1_completo.csv | B2: =+Potencia!B2/Ft_Potencia!$H2 -> 7.2946016 | C2: =+Potencia!C2/Ft_Potencia!$H2 -> 7.0293433 | D2: =+Potencia!D2/Ft_Potencia!$H2 -> 2.8913148 | E2: =+Potencia!E2/Ft_Potencia!$H2 -> 6.4457752 | F2: =+Potencia!F2/Ft_Potencia!$H2 -> 0.92840383 | G2: =+Potencia!G2/Ft_Potencia!$H2 -> 6.2600944 | H2: 37.699112
A3: AL10P2_completo.csv | B3: =+Potencia!B3/Ft_Potencia!$H3 -> 19.178171 | C3: =+Potencia!C3/Ft_Potencia!$H3 -> 17.71925 | D3: =+Potencia!D3/Ft_Potencia!$H3 -> 4.1645543 | E3: =+Potencia!E3/Ft_Potencia!$H3 -> 15.517607 | F3: =+Potencia!F3/Ft_Potencia!$H3 -> 3.5544604 | G3: =+Potencia!G3/Ft_Potencia!$H3 -> 12.254931 | H3: 37.699112
A4: AL10P3_completo.csv | B4: =+Potencia!B4/Ft_Potencia!$H4 -> 22.626528 | C4: =+Potencia!C4/Ft_Potencia!$H4 -> 21.989908 | D4: =+Potencia!D4/Ft_Potencia!$H4 -> 3.7931928 | E4: =+Potencia!E4/Ft_Potencia!$H4 -> 18.302818 | F4: =+Potencia!F4/Ft_Potencia!$H4 -> 3.1830989 | G4: =+Potencia!G4/Ft_Potencia!$H4 -> 13.20986 | H4: 37.699112
A5: AL10P4_completo.csv | B5: =+Potencia!B5/Ft_Potencia!$H5 -> 25.040378 | C5: =+Potencia!C5/Ft_Potencia!$H5 -> 23.687561 | D5: =+Potencia!D5/Ft_Potencia!$H5 -> 2.6260566 | E5: =+Potencia!E5/Ft_Potencia!$H5 -> 20.345307 | F5: =+Potencia!F5/Ft_Potencia!$H5 -> 1.8568077 | G5: =+Potencia!G5/Ft_Potencia!$H5 -> 15.491081 | H5: 37.699112
A6: AL11P1_completo.csv | B6: =+Potencia!B6/Ft_Potencia!$H6 -> 7.8781697 | C6: =+Potencia!C6/Ft_Potencia!$H6 -> 7.2946016 | D6: =+Potencia!D6/Ft_Potencia!$H6 -> 3.1830989 | E6: =+Potencia!E6/Ft_Potencia!$H6 -> 7.0028175 | F6: =+Potencia!F6/Ft_Potencia!$H6 -> 1.0079813 | G6: =+Potencia!G6/Ft_Potencia!$H6 -> 6.4988268 | H6: 37.699112
A7: AL11P2_completo.csv | B7: =+Potencia!B7/Ft_Potencia!$H7 -> 17.851879 | C7: =+Potencia!C7/Ft_Potencia!$H7 -> 16.764321 | D7: =+Potencia!D7/Ft_Potencia!$H7 -> 3.9258219 | E7: =+Potencia!E7/Ft_Potencia!$H7 -> 14.058687 | F7: =+Potencia!F7/Ft_Potencia!$H7 -> 3.156573 | G7: =+Potencia!G7/Ft_Potencia!$H7 -> 11.353053 | H7: 37.699112
A8: AL11P3_completo.csv | B8: =+Potencia!B8/Ft_Potencia!$H8 -> 21.485917 | C8: =+Potencia!C8/Ft_Potencia!$H8 -> 20.76972 | D8: =+Potencia!D8/Ft_Potencia!$H8 -> 3.607512 | E8: =+Potencia!E8/Ft_Potencia!$H8 -> 16.976527 | F8: =+Potencia!F8/Ft_Potencia!$H8 -> 3.1300472 | G8: =+Potencia!G8/Ft_Potencia!$H8 -> 12.599766 | H8: 37.699112
A9: AL11P4_completo.csv | B9: =+Potencia!B9/Ft_Potencia!$H9 -> 25.676997 | C9: =+Potencia!C9/Ft_Potencia!$H9 -> 23.581457 | D9: =+Potencia!D9/Ft_Potencia!$H9 -> 2.705634 | E9: =+Potencia!E9/Ft_Potencia!$H9 -> 20.106574 | F9: =+Potencia!F9/Ft_Potencia!$H9 -> 2.0424884 | G9: =+Potencia!G9/Ft_Potencia!$H9 -> 15.384978 | H9: 37.699112
A10: AL12P1_completo.csv | B10: =+Potencia!B10/Ft_Potencia!$H10 -> 8.5453962 | C10: =+Potencia!C10/Ft_Potencia!$H10 -> 7.9332618 | D10: =+Potencia!D10/Ft_Potencia!$H10 -> 2.27714 | E10: =+Potencia!E10/Ft_Potencia!$H10 -> 4.4808238 | F10: =+Potencia!F10/Ft_Potencia!$H10 -> 0.66110515 | G10: =+Potencia!G10/Ft_Potencia!$H10 -> 6.6845076 | H10: 40.840704
A11: AL12P2_completo.csv | B11: =+Potencia!B11/Ft_Potencia!$H11 -> 16.821453 | C11: =+Potencia!C11/Ft_Potencia!$H11 -> 15.30336 | D11: =+Potencia!D11/Ft_Potencia!$H11 -> 2.6933913 | E11: =+Potencia!E11/Ft_Potencia!$H11 -> 12.095776 | F11: =+Potencia!F11/Ft_Potencia!$H11 -> 2.2036838 | G11: =+Potencia!G11/Ft_Potencia!$H11 -> 9.6962088 | H11: 40.840704
A12: AL12P3_completo.csv | B12: =+Potencia!B12/Ft_Potencia!$H12 -> 19.147564 | C12: =+Potencia!C12/Ft_Potencia!$H12 -> 18.119178 | D12: =+Potencia!D12/Ft_Potencia!$H12 -> 2.4975083 | E12: =+Potencia!E12/Ft_Potencia!$H12 -> 14.29946 | F12: =+Potencia!F12/Ft_Potencia!$H12 -> 2.1057423 | G12: =+Potencia!G12/Ft_Potencia!$H12 -> 10.553197 | H12: 40.840704
A13: AL12P4_completo.csv | B13: =+Potencia!B13/Ft_Potencia!$H13 -> 20.396318 | C13: =+Potencia!C13/Ft_Potencia!$H13 -> 18.90271 | D13: =+Potencia!D13/Ft_Potencia!$H13 -> 2.1791985 | E13: =+Potencia!E13/Ft_Potencia!$H13 -> 16.405202 | F13: =+Potencia!F13/Ft_Potencia!$H13 -> 1.6894909 | G13: =+Potencia!G13/Ft_Potencia!$H13 -> 12.805852 | H13: 40.840704
... A146: AL9P4_completo.csv | B146: =+Potencia!B146/Ft_Potencia!$H146 -> 30.876059 | C146: =+Potencia!C146/Ft_Potencia!$H146 -> 27.321599 | D146: =+Potencia!D146/Ft_Potencia!$H146 -> 2.3342725 | E146: =+Potencia!E146/Ft_Potencia!$H146 -> 22.096011 | F146: =+Potencia!F146/Ft_Potencia!$H146 -> 1.8833335 | G146: =+Potencia!G146/Ft_Potencia!$H146 -> 16.26033 | H146: 37.699112

Sheet Cond1
A1: Nombre | B1: Cara de presion entrada | C1: Cara de presion | D1: Borde de entrada | E1: Cara de Succion | F1: Borde de salida | G1: Cara de presion salida | H1: Grano | I1: Densidad | J1: Trayectoria | K1: Dif entrada resto presion | L1: Media | M1: Desvest
A2: AL4P2_completo.csv | B2: =+INDEX(Potencia!$B$2:$G$146,MATCH(Cond1!$A2,Potencia!$A$2:$A$146,0),MATCH(Cond1!B$1,Potencia!$B$1:$G$1,0)) -> 888 | C2: =+INDEX(Potencia!$B$2:$G$146,MATCH(Cond1!$A2,Potencia!$A$2:$A$146,0),MATCH(Cond1!C$1,Potencia!$B$1:$G$1,0)) -> 768 | D2: =+INDEX(Potencia!$B$2:$G$146,MATCH(Cond1!$A2,Potencia!$A$2:$A$146,0),MATCH(Cond1!D$1,Potencia!$B$1:$G$1,0)) -> 124 | E2: =+INDEX(Potencia!$B$2:$G$146,MATCH(Cond1!$A2,Potencia!$A$2:$A$146,0),MATCH(Cond1!E$1,Potencia!$B$1:$G$1,0)) -> 565 | F2: =+INDEX(Potencia!$B$2:$G$146,MATCH(Cond1!$A2,Potencia!$A$2:$A$146,0),MATCH(Cond1!F$1,Potencia!$B$1:$G$1,0)) -> 113 | G2: =+INDEX(Potencia!$B$2:$G$146,MATCH(Cond1!$A2,Potencia!$A$2:$A$146,0),MATCH(Cond1!G$1,Potencia!$B$1:$G$1,0)) -> 440 | H2: 46 | I2: AD | J2: 2 | K2: =+(B2-C2)/C2 -> 0.15625 | L2: =+AVERAGE(K2:K13) -> 0.095732063 | M2: =+_xlfn.STDEV.P(K2:K13) -> 0.035962095
A3: AL4P3_completo.csv | B3: =+INDEX(Potencia!$B$2:$G$146,MATCH(Cond1!$A3,Potencia!$A$2:$A$146,0),MATCH(Cond1!B$1,Potencia!$B$1:$G$1,0)) -> 991 | C3: =+INDEX(Potencia!$B$2:$G$146,MATCH(Cond1!$A3,Potencia!$A$2:$A$146,0),MATCH(Cond1!C$1,Potencia!$B$1:$G$1,0)) -> 919 | D3: =+INDEX(Potencia!$B$2:$G$146,MATCH(Cond1!$A3,Potencia!$A$2:$A$146,0),MATCH(Cond1!D$1,Potencia!$B$1:$G$1,0)) -> 115 | E3: =+INDEX(Potencia!$B$2:$G$146,MATCH(Cond1!$A3,Potencia!$A$2:$A$146,0),MATCH(Cond1!E$1,Potencia!$B$1:$G$1,0)) -> 691 | F3: =+INDEX(Potencia!$B$2:$G$146,MATCH(Cond1!$A3,Potencia!$A$2:$A$146,0),MATCH(Cond1!F$1,Potencia!$B$1:$G$1,0)) -> 101 | G3: =+INDEX(Potencia!$B$2:$G$146,MATCH(Cond1!$A3,Potencia!$A$2:$A$146,0),MATCH(Cond1!G$1,Potencia!$B$1:$G$1,0)) -> 487 | H3: 46 | I3: AD | J3: 3 | K3: =+(B3-C3)/C3 -> 0.078346028
A4: AL4P4_completo.csv | B4: =+INDEX(Potencia!$B$2:$G$146,MATCH(Cond1!$A4,Potencia!$A$2:$A$146,0),MATCH(Cond1!B$1,Potencia!$B$1:$G$1,0)) -> 1098 | C4: =+INDEX(Potencia!$B$2:$G$146,MATCH(Cond1!$A4,Potencia!$A$2:$A$146,0),MATCH(Cond1!C$1,Potencia!$B$1:$G$1,0)) -> 982 | D4: =+INDEX(Potencia!$B$2:$G$146,MATCH(Cond1!$A4,Potencia!$A$2:$A$146,0),MATCH(Cond1!D$1,Potencia!$B$1:$G$1,0)) -> 81 | E4: =+INDEX(Potencia!$B$2:$G$146,MATCH(Cond1!$A4,Potencia!$A$2:$A$146,0),MATCH(Cond1!E$1,Potencia!$B$1:$G$1,0)) -> 805 | F4: =+INDEX(Potencia!$B$2:$G$146,MATCH(Cond1!$A4,Potencia!$A$2:$A$146,0),MATCH(Cond1!F$1,Potencia!$B$1:$G$1,0)) -> 62 | G4: =+INDEX(Potencia!$B$2:$G$146,MATCH(Cond1!$A4,Potencia!$A$2:$A$146,0),MATCH(Cond1!G$1,Potencia!$B$1:$G$1,0)) -> 580 | H4: 46 | I4: AD | J4: 4 | K4: =+(B4-C4)/C4 -> 0.11812627
A5: AL5P2_completo.csv | B5: =+INDEX(Potencia!$B$2:$G$146,MATCH(Cond1!$A5,Potencia!$A$2:$A$146,0),MATCH(Cond1!B$1,Potencia!$B$1:$G$1,0)) -> 971 | C5: =+INDEX(Potencia!$B$2:$G$146,MATCH(Cond1!$A5,Potencia!$A$2:$A$146,0),MATCH(Cond1!C$1,Potencia!$B$1:$G$1,0)) -> 863 | D5: =+INDEX(Potencia!$B$2:$G$146,MATCH(Cond1!$A5,Potencia!$A$2:$A$146,0),MATCH(Cond1!D$1,Potencia!$B$1:$G$1,0)) -> 129 | E5: =+INDEX(Potencia!$B$2:$G$146,MATCH(Cond1!$A5,Potencia!$A$2:$A$146,0),MATCH(Cond1!E$1,Potencia!$B$1:$G$1,0)) -> 615 | F5: =+INDEX(Potencia!$B$2:$G$146,MATCH(Cond1!$A5,Potencia!$A$2:$A$146,0),MATCH(Cond1!F$1,Potencia!$B$1:$G$1,0)) -> 125 | G5: =+INDEX(Potencia!$B$2:$G$146,MATCH(Cond1!$A5,Potencia!$A$2:$A$146,0),MATCH(Cond1!G$1,Potencia!$B$1:$G$1,0)) -> 492 | H5: 46 | I5: AD | J5: 2 | K5: =+(B5-C5)/C5 -> 0.12514484
A6: AL5P3_completo.csv | B6: =+INDEX(Potencia!$B$2:$G$146,MATCH(Cond1!$A6,Potencia!$A$2:$A$146,0),MATCH(Cond1!B$1,Potencia!$B$1:$G$1,0)) -> 1080 | C6: =+INDEX(Potencia!$B$2:$G$146,MATCH(Cond1!$A6,Potencia!$A$2:$A$146,0),MATCH(Cond1!C$1,Potencia!$B$1:$G$1,0)) -> 1041 | D6: =+INDEX(Potencia!$B$2:$G$146,MATCH(Cond1!$A6,Potencia!$A$2:$A$146,0),MATCH(Cond1!D$1,Potencia!$B$1:$G$1,0)) -> 125 | E6: =+INDEX(Potencia!$B$2:$G$146,MATCH(Cond1!$A6,Potencia!$A$2:$A$146,0),MATCH(Cond1!E$1,Potencia!$B$1:$G$1,0)) -> 757 | F6: =+INDEX(Potencia!$B$2:$G$146,MATCH(Cond1!$A6,Potencia!$A$2:$A$146,0),MATCH(Cond1!F$1,Potencia!$B$1:$G$1,0)) -> 111 | G6: =+INDEX(Potencia!$B$2:$G$146,MATCH(Cond1!$A6,Potencia!$A$2:$A$146,0),MATCH(Cond1!G$1,Potencia!$B$1:$G$1,0)) -> 528 | H6: 46 | I6: AD | J6: 3 | K6: =+(B6-C6)/C6 -> 0.037463977
A7: AL5P4_completo.csv | B7: =+INDEX(Potencia!$B$2:$G$146,MATCH(Cond1!$A7,Potencia!$A$2:$A$146,0),MATCH(Cond1!B$1,Potencia!$B$1:$G$1,0)) -> 1049 | C7: =+INDEX(Potencia!$B$2:$G$146,MATCH(Cond1!$A7,Potencia!$A$2:$A$146,0),MATCH(Cond1!C$1,Potencia!$B$1:$G$1,0)) -> 982 | D7: =+INDEX(Potencia!$B$2:$G$146,MATCH(Cond1!$A7,Potencia!$A$2:$A$146,0),MATCH(Cond1!D$1,Potencia!$B$1:$G$1,0)) -> 96 | E7: =+INDEX(Potencia!$B$2:$G$146,MATCH(Cond1!$A7,Potencia!$A$2:$A$146,0),MATCH(Cond1!E$1,Potencia!$B$1:$G$1,0)) -> 878 | F7: =+INDEX(Potencia!$B$2:$G$146,MATCH(Cond1!$A7,Potencia!$A$2:$A$146,0),MATCH(Cond1!F$1,Potencia!$B$1:$G$1,0)) -> 71 | G7: =+INDEX(Potencia!$B$2:$G$146,MATCH(Cond1!$A7,Potencia!$A$2:$A$146,0),MATCH(Cond1!G$1,Potencia!$B$1:$G$1,0)) -> 631 | H7: 46 | I7: AD | J7: 4 | K7: =+(B7-C7)/C7 -> 0.068228106
A8: AL8P2_completo.csv | B8: =+INDEX(Potencia!$B$2:$G$146,MATCH(Cond1!$A8,Potencia!$A$2:$A$146,0),MATCH(Cond1!B$1,Potencia!$B$1:$G$1,0)) -> 808 | C8: =+INDEX(Potencia!$B$2:$G$146,MATCH(Cond1!$A8,Potencia!$A$2:$A$146,0),MATCH(Cond1!C$1,Potencia!$B$1:$G$1,0)) -> 724 | D8: =+INDEX(Potencia!$B$2:$G$146,MATCH(Cond1!$A8,Potencia!$A$2:$A$146,0),MATCH(Cond1!D$1,Potencia!$B$1:$G$1,0)) -> 121 | E8: =+INDEX(Potencia!$B$2:$G$146,MATCH(Cond1!$A8,Potencia!$A$2:$A$146,0),MATCH(Cond1!E$1,Potencia!$B$1:$G$1,0)) -> 556 | F8: =+INDEX(Potencia!$B$2:$G$146,MATCH(Cond1!$A8,Potencia!$A$2:$A$146,0),MATCH(Cond1!F$1,Potencia!$B$1:$G$1,0)) -> 116 | G8: =+INDEX(Potencia!$B$2:$G$146,MATCH(Cond1!$A8,Potencia!$A$2:$A$146,0),MATCH(Cond1!G$1,Potencia!$B$1:$G$1,0)) -> 434 | H8: 46 | I8: BD | J8: 2 | K8: =+(B8-C8)/C8 -> 0.1160221
A9: AL8P3_completo.csv | B9: =+INDEX(Potencia!$B$2:$G$146,MATCH(Cond1!$A9,Potencia!$A$2:$A$146,0),MATCH(Cond1!B$1,Potencia!$B$1:$G$1,0)) -> 948 | C9: =+INDEX(Potencia!$B$2:$G$146,MATCH(Cond1!$A9,Potencia!$A$2:$A$146,0),MATCH(Cond1!C$1,Potencia!$B$1:$G$1,0)) -> 899 | D9: =+INDEX(Potencia!$B$2:$G$146,MATCH(Cond1!$A9,Potencia!$A$2:$A$146,0),MATCH(Cond1!D$1,Potencia!$B$1:$G$1,0)) -> 122 | E9: =+INDEX(Potencia!$B$2:$G$146,MATCH(Cond1!$A9,Potencia!$A$2:$A$146,0),MATCH(Cond1!E$1,Potencia!$B$1:$G$1,0)) -> 685 | F9: =+INDEX(Potencia!$B$2:$G$146,MATCH(Cond1!$A9,Potencia!$A$2:$A$146,0),MATCH(Cond1!F$1,Potencia!$B$1:$G$1,0)) -> 113 | G9: =+INDEX(Potencia!$B$2:$G$146,MATCH(Cond1!$A9,Potencia!$A$2:$A$146,0),MATCH(Cond1!G$1,Potencia!$B$1:$G$1,0)) -> 492 | H9: 46 | I9: BD | J9: 3 | K9: =+(B9-C9)/C9 -> 0.054505006
A10: AL8P4_completo.csv | B10: =+INDEX(Potencia!$B$2:$G$146,MATCH(Cond1!$A10,Potencia!$A$2:$A$146,0),MATCH(Cond1!B$1,Potencia!$B$1:$G$1,0)) -> 1134 | C10: =+INDEX(Potencia!$B$2:$G$146,MATCH(Cond1!$A10,Potencia!$A$2:$A$146,0),MATCH(Cond1!C$1,Potencia!$B$1:$G$1,0)) -> 1006 | D10: =+INDEX(Potencia!$B$2:$G$146,MATCH(Cond1!$A10,Potencia!$A$2:$A$146,0),MATCH(Cond1!D$1,Potencia!$B$1:$G$1,0)) -> 76 | E10: =+INDEX(Potencia!$B$2:$G$146,MATCH(Cond1!$A10,Potencia!$A$2:$A$146,0),MATCH(Cond1!E$1,Potencia!$B$1:$G$1,0)) -> 788 | F10: =+INDEX(Potencia!$B$2:$G$146,MATCH(Cond1!$A10,Potencia!$A$2:$A$146,0),MATCH(Cond1!F$1,Potencia!$B$1:$G$1,0)) -> 64 | G10: =+INDEX(Potencia!$B$2:$G$146,MATCH(Cond1!$A10,Potencia!$A$2:$A$146,0),MATCH(Cond1!G$1,Potencia!$B$1:$G$1,0)) -> 588 | H10: 46 | I10: BD | J10: 4 | K10: =+(B10-C10)/C10 -> 0.12723658
A11: AL9P2_completo.csv | B11: =+INDEX(Potencia!$B$2:$G$146,MATCH(Cond1!$A11,Potencia!$A$2:$A$146,0),MATCH(Cond1!B$1,Potencia!$B$1:$G$1,0)) -> 884 | C11: =+INDEX(Potencia!$B$2:$G$146,MATCH(Cond1!$A11,Potencia!$A$2:$A$146,0),MATCH(Cond1!C$1,Potencia!$B$1:$G$1,0)) -> 818 | D11: =+INDEX(Potencia!$B$2:$G$146,MATCH(Cond1!$A11,Potencia!$A$2:$A$146,0),MATCH(Cond1!D$1,Potencia!$B$1:$G$1,0)) -> 122 | E11: =+INDEX(Potencia!$B$2:$G$146,MATCH(Cond1!$A11,Potencia!$A$2:$A$146,0),MATCH(Cond1!E$1,Potencia!$B$1:$G$1,0)) -> 608 | F11: =+INDEX(Potencia!$B$2:$G$146,MATCH(Cond1!$A11,Potencia!$A$2:$A$146,0),MATCH(Cond1!F$1,Potencia!$B$1:$G$1,0)) -> 125 | G11: =+INDEX(Potencia!$B$2:$G$146,MATCH(Cond1!$A11,Potencia!$A$2:$A$146,0),MATCH(Cond1!G$1,Potencia!$B$1:$G$1,0)) -> 471 | H11: 46 | I11: BD | J11: 2 | K11: =+(B11-C11)/C11 -> 0.080684597
A12: AL9P3_completo.csv | B12: =+INDEX(Potencia!$B$2:$G$146,MATCH(Cond1!$A12,Potencia!$A$2:$A$146,0),MATCH(Cond1!B$1,Potencia!$B$1:$G$1,0)) -> 1044 | C12: =+INDEX(Potencia!$B$2:$G$146,MATCH(Cond1!$A12,Potencia!$A$2:$A$146,0),MATCH(Cond1!C$1,Potencia!$B$1:$G$1,0)) -> 988 | D12: =+INDEX(Potencia!$B$2:$G$146,MATCH(Cond1!$A12,Potencia!$A$2:$A$146,0),MATCH(Cond1!D$1,Potencia!$B$1:$G$1,0)) -> 126 | E12: =+INDEX(Potencia!$B$2:$G$146,MATCH(Cond1!$A12,Potencia!$A$2:$A$146,0),MATCH(Cond1!E$1,Potencia!$B$1:$G$1,0)) -> 723 | F12: =+INDEX(Potencia!$B$2:$G$146,MATCH(Cond1!$A12,Potencia!$A$2:$A$146,0),MATCH(Cond1!F$1,Potencia!$B$1:$G$1,0)) -> 116 | G12: =+INDEX(Potencia!$B$2:$G$146,MATCH(Cond1!$A12,Potencia!$A$2:$A$146,0),MATCH(Cond1!G$1,Potencia!$B$1:$G$1,0)) -> 514 | H12: 46 | I12: BD | J12: 3 | K12: =+(B12-C12)/C12 -> 0.056680162
A13: AL9P4_completo.csv | B13: =+INDEX(Potencia!$B$2:$G$146,MATCH(Cond1!$A13,Potencia!$A$2:$A$146,0),MATCH(Cond1!B$1,Potencia!$B$1:$G$1,0)) -> 1164 | C13: =+INDEX(Potencia!$B$2:$G$146,MATCH(Cond1!$A13,Potencia!$A$2:$A$146,0),MATCH(Cond1!C$1,Potencia!$B$1:$G$1,0)) -> 1030 | D13: =+INDEX(Potencia!$B$2:$G$146,MATCH(Cond1!$A13,Potencia!$A$2:$A$146,0),MATCH(Cond1!D$1,Potencia!$B$1:$G$1,0)) -> 88 | E13: =+INDEX(Potencia!$B$2:$G$146,MATCH(Cond1!$A13,Potencia!$A$2:$A$146,0),MATCH(Cond1!E$1,Potencia!$B$1:$G$1,0)) -> 833 | F13: =+INDEX(Potencia!$B$2:$G$146,MATCH(Cond1!$A13,Potencia!$A$2:$A$146,0),MATCH(Cond1!F$1,Potencia!$B$1:$G$1,0)) -> 71 | G13: =+INDEX(Potencia!$B$2:$G$146,MATCH(Cond1!$A13,Potencia!$A$2:$A$146,0),MATCH(Cond1!G$1,Potencia!$B$1:$G$1,0)) -> 613 | H13: 46 | I13: BD | J13: 4 | K13: =+(B13-C13)/C13 -> 0.13009709
A14: AL28P2_completo.csv | B14: =+INDEX(Potencia!$B$2:$G$146,MATCH(Cond1!$A14,Potencia!$A$2:$A$146,0),MATCH(Cond1!B$1,Potencia!$B$1:$G$1,0)) -> 661 | C14: =+INDEX(Potencia!$B$2:$G$146,MATCH(Cond1!$A14,Potencia!$A$2:$A$146,0),MATCH(Cond1!C$1,Potencia!$B$1:$G$1,0)) -> 637 | D14: =+INDEX(Potencia!$B$2:$G$146,MATCH(Cond1!$A14,Potencia!$A$2:$A$146,0),MATCH(Cond1!D$1,Potencia!$B$1:$G$1,0)) -> 123 | E14: =+INDEX(Potencia!$B$2:$G$146,MATCH(Cond1!$A14,Potencia!$A$2:$A$146,0),MATCH(Cond1!E$1,Potencia!$B$1:$G$1,0)) -> 514 | F14: =+INDEX(Potencia!$B$2:$G$146,MATCH(Cond1!$A14,Potencia!$A$2:$A$146,0),MATCH(Cond1!F$1,Potencia!$B$1:$G$1,0)) -> 111 | G14: =+INDEX(Potencia!$B$2:$G$146,MATCH(Cond1!$A14,Potencia!$A$2:$A$146,0),MATCH(Cond1!G$1,Potencia!$B$1:$G$1,0)) -> 406 | H14: 76 | I14: AD | J14: 2 | K14: =+(B14-C14)/C14 -> 0.037676609 | L14: =+AVERAGE(K14:K25) -> 0.05173583 | M14: =+_xlfn.STDEV.P(K14:K25) -> 0.019954742
A15: AL28P3_completo.csv | B15: =+INDEX(Potencia!$B$2:$G$146,MATCH(Cond1!$A15,Potencia!$A$2:$A$146,0),MATCH(Cond1!B$1,Potencia!$B$1:$G$1,0)) -> 780 | C15: =+INDEX(Potencia!$B$2:$G$146,MATCH(Cond1!$A15,Potencia!$A$2:$A$146,0),MATCH(Cond1!C$1,Potencia!$B$1:$G$1,0)) -> 763 | D15: =+INDEX(Potencia!$B$2:$G$146,MATCH(Cond1!$A15,Potencia!$A$2:$A$146,0),MATCH(Cond1!D$1,Potencia!$B$1:$G$1,0)) -> 116 | E15: =+INDEX(Potencia!$B$2:$G$146,MATCH(Cond1!$A15,Potencia!$A$2:$A$146,0),MATCH(Cond1!E$1,Potencia!$B$1:$G$1,0)) -> 616 | F15: =+INDEX(Potencia!$B$2:$G$146,MATCH(Cond1!$A15,Potencia!$A$2:$A$146,0),MATCH(Cond1!F$1,Potencia!$B$1:$G$1,0)) -> 100 | G15: =+INDEX(Potencia!$B$2:$G$146,MATCH(Cond1!$A15,Potencia!$A$2:$A$146,0),MATCH(Cond1!G$1,Potencia!$B$1:$G$1,0)) -> 450 | H15: 76 | I15: AD | J15: 3 | K15: =+(B15-C15)/C15 -> 0.022280472
A16: AL28P4_completo.csv | B16: =+INDEX(Potencia!$B$2:$G$146,MATCH(Cond1!$A16,Potencia!$A$2:$A$146,0),MATCH(Cond1!B$1,Potencia!$B$1:$G$1,0)) -> 888 | C16: =+INDEX(Potencia!$B$2:$G$146,MATCH(Cond1!$A16,Potencia!$A$2:$A$146,0),MATCH(Cond1!C$1,Potencia!$B$1:$G$1,0)) -> 848 | D16: =+INDEX(Potencia!$B$2:$G$146,MATCH(Cond1!$A16,Potencia!$A$2:$A$146,0),MATCH(Cond1!D$1,Potencia!$B$1:$G$1,0)) -> 88 | E16: =+INDEX(Potencia!$B$2:$G$146,MATCH(Cond1!$A16,Potencia!$A$2:$A$146,0),MATCH(Cond1!E$1,Potencia!$B$1:$G$1,0)) -> 714 | F16: =+INDEX(Potencia!$B$2:$G$146,MATCH(Cond1!$A16,Potencia!$A$2:$A$146,0),MATCH(Cond1!F$1,Potencia!$B$1:$G$1,0)) -> 66 | G16: =+INDEX(Potencia!$B$2:$G$146,MATCH(Cond1!$A16,Potencia!$A$2:$A$146,0),MATCH(Cond1!G$1,Potencia!$B$1:$G$1,0)) -> 532 | H16: 76 | I16: AD | J16: 4 | K16: =+(B16-C16)/C16 -> 0.047169811
A17: AL29P2_completo.csv | B17: =+INDEX(Potencia!$B$2:$G$146,MATCH(Cond1!$A17,Potencia!$A$2:$A$146,0),MATCH(Cond1!B$1,Potencia!$B$1:$G$1,0)) -> 766 | C17: =+INDEX(Potencia!$B$2:$G$146,MATCH(Cond1!$A17,Potencia!$A$2:$A$146,0),MATCH(Cond1!C$1,Potencia!$B$1:$G$1,0)) -> 735 | D17: =+INDEX(Potencia!$B$2:$G$146,MATCH(Cond1!$A17,Potencia!$A$2:$A$146,0),MATCH(Cond1!D$1,Potencia!$B$1:$G$1,0)) -> 138 | E17: =+INDEX(Potencia!$B$2:$G$146,MATCH(Cond1!$A17,Potencia!$A$2:$A$146,0),MATCH(Cond1!E$1,Potencia!$B$1:$G$1,0)) -> 559 | F17: =+INDEX(Potencia!$B$2:$G$146,MATCH(Cond1!$A17,Potencia!$A$2:$A$146,0),MATCH(Cond1!F$1,Potencia!$B$1:$G$1,0)) -> 130 | G17: =+INDEX(Potencia!$B$2:$G$146,MATCH(Cond1!$A17,Potencia!$A$2:$A$146,0),MATCH(Cond1!G$1,Potencia!$B$1:$G$1,0)) -> 463 | H17: 76 | I17: AD | J17: 2 | K17: =+(B17-C17)/C17 -> 0.042176871
A18: AL29P3_completo.csv | B18: =+INDEX(Potencia!$B$2:$G$146,MATCH(Cond1!$A18,Potencia!$A$2:$A$146,0),MATCH(Cond1!B$1,Potencia!$B$1:$G$1,0)) -> 906 | C18: =+INDEX(Potencia!$B$2:$G$146,MATCH(Cond1!$A18,Potencia!$A$2:$A$146,0),MATCH(Cond1!C$1,Potencia!$B$1:$G$1,0)) -> 865 | D18: =+INDEX(Potencia!$B$2:$G$146,MATCH(Cond1!$A18,Potencia!$A$2:$A$146,0),MATCH(Cond1!D$1,Potencia!$B$1:$G$1,0)) -> 140 | E18: =+INDEX(Potencia!$B$2:$G$146,MATCH(Cond1!$A18,Potencia!$A$2:$A$146,0),MATCH(Cond1!E$1,Potencia!$B$1:$G$1,0)) -> 676 | F18: =+INDEX(Potencia!$B$2:$G$146,MATCH(Cond1!$A18,Potencia!$A$2:$A$146,0),MATCH(Cond1!F$1,Potencia!$B$1:$G$1,0)) -> 124 | G18: =+INDEX(Potencia!$B$2:$G$146,MATCH(Cond1!$A18,Potencia!$A$2:$A$146,0),MATCH(Cond1!G$1,Potencia!$B$1:$G$1,0)) -> 499 | H18: 76 | I18: AD | J18: 3 | K18: =+(B18-C18)/C18 -> 0.047398844
A19: AL29P4_completo.csv | B19: =+INDEX(Potencia!$B$2:$G$146,MATCH(Cond1!$A19,Potencia!$A$2:$A$146,0),MATCH(Cond1!B$1,Potencia!$B$1:$G$1,0)) -> 1012 | C19: =+INDEX(Potencia!$B$2:$G$146,MATCH(Cond1!$A19,Potencia!$A$2:$A$146,0),MATCH(Cond1!C$1,Potencia!$B$1:$G$1,0)) -> 948 | D19: =+INDEX(Potencia!$B$2:$G$146,MATCH(Cond1!$A19,Potencia!$A$2:$A$146,0),MATCH(Cond1!D$1,Potencia!$B$1:$G$1,0)) -> 102 | E19: =+INDEX(Potencia!$B$2:$G$146,MATCH(Cond1!$A19,Potencia!$A$2:$A$146,0),MATCH(Cond1!E$1,Potencia!$B$1:$G$1,0)) -> 764 | F19: =+INDEX(Potencia!$B$2:$G$146,MATCH(Cond1!$A19,Potencia!$A$2:$A$146,0),MATCH(Cond1!F$1,Potencia!$B$1:$G$1,0)) -> 82 | G19: =+INDEX(Potencia!$B$2:$G$146,MATCH(Cond1!$A19,Potencia!$A$2:$A$146,0),MATCH(Cond1!G$1,Potencia!$B$1:$G$1,0)) -> 593 | H19: 76 | I19: AD | J19: 4 | K19: =+(B19-C19)/C19 -> 0.067510549
A20: AL10P2_completo.csv | B20: =+INDEX(Potencia!$B$2:$G$146,MATCH(Cond1!$A20,Potencia!$A$2:$A$146,0),MATCH(Cond1!B$1,Potencia!$B$1:$G$1,0)) -> 723 | C20: =+INDEX(Potencia!$B$2:$G$146,MATCH(Cond1!$A20,Potencia!$A$2:$A$146,0),MATCH(Cond1!C$1,Potencia!$B$1:$G$1,0)) -> 668 | D20: =+INDEX(Potencia!$B$2:$G$146,MATCH(Cond1!$A20,Potencia!$A$2:$A$146,0),MATCH(Cond1!D$1,Potencia!$B$1:$G$1,0)) -> 157 | E20: =+INDEX(Potencia!$B$2:$G$146,MATCH(Cond1!$A20,Potencia!$A$2:$A$146,0),MATCH(Cond1!E$1,Potencia!$B$1:$G$1,0)) -> 585 | F20: =+INDEX(Potencia!$B$2:$G$146,MATCH(Cond1!$A20,Potencia!$A$2:$A$146,0),MATCH(Cond1!F$1,Potencia!$B$1:$G$1,0)) -> 134 | G20: =+INDEX(Potencia!$B$2:$G$146,MATCH(Cond1!$A20,Potencia!$A$2:$A$146,0),MATCH(Cond1!G$1,Potencia!$B$1:$G$1,0)) -> 462 | H20: 76 | I20: BD | J20: 2 | K20: =+(B20-C20)/C20 -> 0.082335329
A21: AL10P3_completo.csv | B21: =+INDEX(Potencia!$B$2:$G$146,MATCH(Cond1!$A21,Potencia!$A$2:$A$146,0),MATCH(Cond1!B$1,Potencia!$B$1:$G$1,0)) -> 853 | C21: =+INDEX(Potencia!$B$2:$G$146,MATCH(Cond1!$A21,Potencia!$A$2:$A$146,0),MATCH(Cond1!C$1,Potencia!$B$1:$G$1,0)) -> 829 | D21: =+INDEX(Potencia!$B$2:$G$146,MATCH(Cond1!$A21,Potencia!$A$2:$A$146,0),MATCH(Cond1!D$1,Potencia!$B$1:$G$1,0)) -> 143 | E21: =+INDEX(Potencia!$B$2:$G$146,MATCH(Cond1!$A21,Potencia!$A$2:$A$146,0),MATCH(Cond1!E$1,Potencia!$B$1:$G$1,0)) -> 690 | F21: =+INDEX(Potencia!$B$2:$G$146,MATCH(Cond1!$A21,Potencia!$A$2:$A$146,0),MATCH(Cond1!F$1,Potencia!$B$1:$G$1,0)) -> 120 | G21: =+INDEX(Potencia!$B$2:$G$146,MATCH(Cond1!$A21,Potencia!$A$2:$A$146,0),MATCH(Cond1!G$1,Potencia!$B$1:$G$1,0)) -> 498 | H21: 76 | I21: BD | J21: 3 | K21: =+(B21-C21)/C21 -> 0.028950543
A22: AL10P4_completo.csv | B22: =+INDEX(Potencia!$B$2:$G$146,MATCH(Cond1!$A22,Potencia!$A$2:$A$146,0),MATCH(Cond1!B$1,Potencia!$B$1:$G$1,0)) -> 944 | C22: =+INDEX(Potencia!$B$2:$G$146,MATCH(Cond1!$A22,Potencia!$A$2:$A$146,0),MATCH(Cond1!C$1,Potencia!$B$1:$G$1,0)) -> 893 | D22: =+INDEX(Potencia!$B$2:$G$146,MATCH(Cond1!$A22,Potencia!$A$2:$A$146,0),MATCH(Cond1!D$1,Potencia!$B$1:$G$1,0)) -> 99 | E22: =+INDEX(Potencia!$B$2:$G$146,MATCH(Cond1!$A22,Potencia!$A$2:$A$146,0),MATCH(Cond1!E$1,Potencia!$B$1:$G$1,0)) -> 767 | F22: =+INDEX(Potencia!$B$2:$G$146,MATCH(Cond1!$A22,Potencia!$A$2:$A$146,0),MATCH(Cond1!F$1,Potencia!$B$1:$G$1,0)) -> 70 | G22: =+INDEX(Potencia!$B$2:$G$146,MATCH(Cond1!$A22,Potencia!$A$2:$A$146,0),MATCH(Cond1!G$1,Potencia!$B$1:$G$1,0)) -> 584 | H22: 76 | I22: BD | J22: 4 | K22: =+(B22-C22)/C22 -> 0.057110862
A23: AL11P2_completo.csv | B23: =+INDEX(Potencia!$B$2:$G$146,MATCH(Cond1!$A23,Potencia!$A$2:$A$146,0),MATCH(Cond1!B$1,Potencia!$B$1:$G$1,0)) -> 673 | C23: =+INDEX(Potencia!$B$2:$G$146,MATCH(Cond1!$A23,Potencia!$A$2:$A$146,0),MATCH(Cond1!C$1,Potencia!$B$1:$G$1,0)) -> 632 | D23: =+INDEX(Potencia!$B$2:$G$146,MATCH(Cond1!$A23,Potencia!$A$2:$A$146,0),MATCH(Cond1!D$1,Potencia!$B$1:$G$1,0)) -> 148 | E23: =+INDEX(Potencia!$B$2:$G$146,MATCH(Cond1!$A23,Potencia!$A$2:$A$146,0),MATCH(Cond1!E$1,Potencia!$B$1:$G$1,0)) -> 530 | F23: =+INDEX(Potencia!$B$2:$G$146,MATCH(Cond1!$A23,Potencia!$A$2:$A$146,0),MATCH(Cond1!F$1,Potencia!$B$1:$G$1,0)) -> 119 | G23: =+INDEX(Potencia!$B$2:$G$146,MATCH(Cond1!$A23,Potencia!$A$2:$A$146,0),MATCH(Cond1!G$1,Potencia!$B$1:$G$1,0)) -> 428 | H23: 76 | I23: BD | J23: 2 | K23: =+(B23-C23)/C23 -> 0.064873418
A24: AL11P3_completo.csv | B24: =+INDEX(Potencia!$B$2:$G$146,MATCH(Cond1!$A24,Potencia!$A$2:$A$146,0),MATCH(Cond1!B$1,Potencia!$B$1:$G$1,0)) -> 810 | C24: =+INDEX(Potencia!$B$2:$G$146,MATCH(Cond1!$A24,Potencia!$A$2:$A$146,0),MATCH(Cond1!C$1,Potencia!$B$1:$G$1,0)) -> 783 | D24: =+INDEX(Potencia!$B$2:$G$146,MATCH(Cond1!$A24,Potencia!$A$2:$A$146,0),MATCH(Cond1!D$1,Potencia!$B$1:$G$1,0)) -> 136 | E24: =+INDEX(Potencia!$B$2:$G$146,MATCH(Cond1!$A24,Potencia!$A$2:$A$146,0),MATCH(Cond1!E$1,Potencia!$B$1:$G$1,0)) -> 640 | F24: =+INDEX(Potencia!$B$2:$G$146,MATCH(Cond1!$A24,Potencia!$A$2:$A$146,0),MATCH(Cond1!F$1,Potencia!$B$1:$G$1,0)) -> 118 | G24: =+INDEX(Potencia!$B$2:$G$146,MATCH(Cond1!$A24,Potencia!$A$2:$A$146,0),MATCH(Cond1!G$1,Potencia!$B$1:$G$1,0)) -> 475 | H24: 76 | I24: BD | J24: 3 | K24: =+(B24-C24)/C24 -> 0.034482759
A25: AL11P4_completo.csv | B25: =+INDEX(Potencia!$B$2:$G$146,MATCH(Cond1!$A25,Potencia!$A$2:$A$146,0),MATCH(Cond1!B$1,Potencia!$B$1:$G$1,0)) -> 968 | C25: =+INDEX(Potencia!$B$2:$G$146,MATCH(Cond1!$A25,Potencia!$A$2:$A$146,0),MATCH(Cond1!C$1,Potencia!$B$1:$G$1,0)) -> 889 | D25: =+INDEX(Potencia!$B$2:$G$146,MATCH(Cond1!$A25,Potencia!$A$2:$A$146,0),MATCH(Cond1!D$1,Potencia!$B$1:$G$1,0)) -> 102 | E25: =+INDEX(Potencia!$B$2:$G$146,MATCH(Cond1!$A25,Potencia!$A$2:$A$146,0),MATCH(Cond1!E$1,Potencia!$B$1:$G$1,0)) -> 758 | F25: =+INDEX(Potencia!$B$2:$G$146,MATCH(Cond1!$A25,Potencia!$A$2:$A$146,0),MATCH(Cond1!F$1,Potencia!$B$1:$G$1,0)) -> 77 | G25: =+INDEX(Potencia!$B$2:$G$146,MATCH(Cond1!$A25,Potencia!$A$2:$A$146,0),MATCH(Cond1!G$1,Potencia!$B$1:$G$1,0)) -> 580 | H25: 76 | I25: BD | J25: 4 | K25: =+(B25-C25)/C25 -> 0.088863892

Sheet Cond1Pot
A1: Nombre | B1: Cara de presion entrada | C1: Tasa de arranque | D1: Cara de presion | E1: AGR | F1: Tasa de arranque | G1: Borde de entrada | H1: Agr | I1: Tasa de arranque | J1: Cara de Succion | K1: Agr | L1: Tasa de arranque | M1: Borde de salida | N1: Agr | O1: Cara de presion salida | P1: Grano | Q1: Densidad
A2: AL4P2_completo.csv | B2: =+Cond1!B2 -> 888 | C2: 6.3617454 | D2: =+Cond1!C2 -> 768 | E2: 9.7541365 | F2: 0.75837188 | G2: =+Cond1!D2 -> 124 | H2: 3.1382161 | I2: 4.9581082 | J2: =+Cond1!E2 -> 565 | K2: 8.5845174 | L2: 0.64602049 | M2: =+Cond1!F2 -> 113 | N2: 2.7908505 | O2: =+Cond1!G2 -> 440 | P2: 46 | Q2: AD
A3: AL4P3_completo.csv | B3: =+Cond1!B3 -> 991 | C3: 6.6095405 | D3: =+Cond1!C3 -> 919 | E3: 9.6861533 | F3: 0.54937176 | G3: =+Cond1!D3 -> 115 | H3: 2.3352877 | I3: 5.1467102 | J3: =+Cond1!E3 -> 691 | K3: 8.5163763 | L3: 0.42161088 | M3: =+Cond1!F3 -> 101 | N3: 2.0113872 | O3: =+Cond1!G3 -> 487 | P3: 46 | Q3: AD
A4: AL4P4_completo.csv | B4: =+Cond1!B4 -> 1098 | C4: 6.7470443 | D4: =+Cond1!C4 -> 982 | E4: 9.6017326 | F4: 0.29387029 | G4: =+Cond1!D4 -> 81 | H4: 1.537469 | I4: 5.249043 | J4: =+Cond1!E4 -> 805 | K4: 8.4280818 | L4: 0.15051893 | M4: =+Cond1!F4 -> 62 | N4: 0.89119298 | O4: =+Cond1!G4 -> 580 | P4: 46 | Q4: AD
A5: AL5P2_completo.csv | B5: =+Cond1!B5 -> 971 | C5: 6.3617454 | D5: =+Cond1!C5 -> 863 | E5: 9.7541365 | F5: 0.75837188 | G5: =+Cond1!D5 -> 129 | H5: 3.1382161 | I5: 4.9581082 | J5: =+Cond1!E5 -> 615 | K5: 8.5845174 | L5: 0.64602049 | M5: =+Cond1!F5 -> 125 | N5: 2.7908505 | O5: =+Cond1!G5 -> 492 | P5: 46 | Q5: AD
A6: AL5P3_completo.csv | B6: =+Cond1!B6 -> 1080 | C6: 6.6095405 | D6: =+Cond1!C6 -> 1041 | E6: 9.6861533 | F6: 0.54937176 | G6: =+Cond1!D6 -> 125 | H6: 2.3352877 | I6: 5.1467102 | J6: =+Cond1!E6 -> 757 | K6: 8.5163763 | L6: 0.42161088 | M6: =+Cond1!F6 -> 111 | N6: 2.0113872 | O6: =+Cond1!G6 -> 528 | P6: 46 | Q6: AD
A7: AL5P4_completo.csv | B7: =+Cond1!B7 -> 1049 | C7: 6.7470443 | D7: =+Cond1!C7 -> 982 | E7: 9.6017326 | F7: 0.29387029 | G7: =+Cond1!D7 -> 96 | H7: 1.537469 | I7: 5.249043 | J7: =+Cond1!E7 -> 878 | K7: 8.4280818 | L7: 0.15051893 | M7: =+Cond1!F7 -> 71 | N7: 0.89119298 | O7: =+Cond1!G7 -> 631 | P7: 46 | Q7: AD
A8: AL8P2_completo.csv | B8: =+Cond1!B8 -> 808 | C8: 6.3617454 | D8: =+Cond1!C8 -> 724 | E8: 9.7541365 | F8: 0.75837188 | G8: =+Cond1!D8 -> 121 | H8: 3.1382161 | I8: 4.9581082 | J8: =+Cond1!E8 -> 556 | K8: 8.5845174 | L8: 0.64602049 | M8: =+Cond1!F8 -> 116 | N8: 2.7908505 | O8: =+Cond1!G8 -> 434 | P8: 46 | Q8: BD
A9: AL8P3_completo.csv | B9: =+Cond1!B9 -> 948 | C9: 6.6095405 | D9: =+Cond1!C9 -> 899 | E9: 9.6861533 | F9: 0.54937176 | G9: =+Cond1!D9 -> 122 | H9: 2.3352877 | I9: 5.1467102 | J9: =+Cond1!E9 -> 685 | K9: 8.5163763 | L9: 0.42161088 | M9: =+Cond1!F9 -> 113 | N9: 2.0113872 | O9: =+Cond1!G9 -> 492 | P9: 46 | Q9: BD
A10: AL8P4_completo.csv | B10: =+Cond1!B10 -> 1134 | C10: 6.7470443 | D10: =+Cond1!C10 -> 1006 | E10: 9.6017326 | F10: 0.29387029 | G10: =+Cond1!D10 -> 76 | H10: 1.537469 | I10: 5.249043 | J10: =+Cond1!E10 -> 788 | K10: 8.4280818 | L10: 0.15051893 | M10: =+Cond1!F10 -> 64 | N10: 0.89119298 | O10: =+Cond1!G10 -> 588 | P10: 46 | Q10: BD
A11: AL9P2_completo.csv | B11: =+Cond1!B11 -> 884 | C11: 6.3617454 | D11: =+Cond1!C11 -> 818 | E11: 9.7541365 | F11: 0.75837188 | G11: =+Cond1!D11 -> 122 | H11: 3.1382161 | I11: 4.9581082 | J11: =+Cond1!E11 -> 608 | K11: 8.5845174 | L11: 0.64602049 | M11: =+Cond1!F11 -> 125 | N11: 2.7908505 | O11: =+Cond1!G11 -> 471 | P11: 46 | Q11: BD
A12: AL9P3_completo.csv | B12: =+Cond1!B12 -> 1044 | C12: 6.6095405 | D12: =+Cond1!C12 -> 988 | E12: 9.6861533 | F12: 0.54937176 | G12: =+Cond1!D12 -> 126 | H12: 2.3352877 | I12: 5.1467102 | J12: =+Cond1!E12 -> 723 | K12: 8.5163763 | L12: 0.42161088 | M12: =+Cond1!F12 -> 116 | N12: 2.0113872 | O12: =+Cond1!G12 -> 514 | P12: 46 | Q12: BD
A13: AL9P4_completo.csv | B13: =+Cond1!B13 -> 1164 | C13: 6.7470443 | D13: =+Cond1!C13 -> 1030 | E13: 9.6017326 | F13: 0.29387029 | G13: =+Cond1!D13 -> 88 | H13: 1.537469 | I13: 5.249043 | J13: =+Cond1!E13 -> 833 | K13: 8.4280818 | L13: 0.15051893 | M13: =+Cond1!F13 -> 71 | N13: 0.89119298 | O13: =+Cond1!G13 -> 613 | P13: 46 | Q13: BD
... A25: AL11P4_completo.csv | B25: =+Cond1!B25 -> 968 | C25: 6.7470443 | D25: =+Cond1!C25 -> 889 | E25: 9.6017326 | F25: 0.29387029 | G25: =+Cond1!D25 -> 102 | H25: 1.537469 | I25: 5.249043 | J25: =+Cond1!E25 -> 758 | K25: 8.4280818 | L25: 0.15051893 | M25: =+Cond1!F25 -> 77 | N25: 0.89119298 | O25: =+Cond1!G25 -> 580 | P25: 76 | Q25: BD

Sheet Cond1Eesp
A1: Nombre | B1: Cara de presion | D1: Borde de entrada | F1: Cara de succion | H1: Borde de salida | M1: DIFERENCIA BD76 | O1: Diferencia succion presion | Q1: Medias
B2: Energia especifica | C2: AGR | D2: Energia especifica | E2: AGR | F2: Energia especifica | G2: AGR | H2: Energia especifica | I2: AGR | J2: Grano | K2: Densidad | Q2: Eesp | R2: Agrr
A3: AL4P2_completo.csv | B3: =+Cond1Pot!D2/Cond1Pot!C2 -> 120.72159 | C3: =+Cond1Pot!E2 -> 9.7541365 | D3: =+Cond1Pot!G2/Cond1Pot!F2 -> 163.50817 | E3: =+Cond1Pot!H2 -> 3.1382161 | F3: =+Cond1Pot!J2/Cond1Pot!I2 -> 113.95475 | G3: =+Cond1Pot!K2 -> 8.5845174 | H3: =+Cond1Pot!M2/Cond1Pot!L2 -> 174.91705 | I3: =+Cond1Pot!N2 -> 2.7908505 | J3: 46 | K3: AD | M3: =+AVERAGE(F3:F8) -> 139.99477 | N3: =+(M3-$M$21)/$M$21 -> 0.085468076 | O3: =+F3/B3 -> 0.94394678 | P3: =+AVERAGE(O3:O8) -> 0.99346088 | Q3: =+AVERAGE(B3:B8) -> 140.66794 | R3: =+AVERAGE(C3:C8) -> 9.6806741 | S3: =+AVERAGE(D3:D8) -> 228.79644 | T3: =+AVERAGE(E3:E8) -> 2.3369909 | U3: =+AVERAGE(F3:F8) -> 139.99477 | V3: =+AVERAGE(G3:G8) -> 8.5096585 | W3: =+AVERAGE(H3:H8) -> 292.47541 | X3: =+AVERAGE(I3:I8) -> 1.8978102
A4: AL4P3_completo.csv | B4: =+Cond1Pot!D3/Cond1Pot!C3 -> 139.04144 | C4: =+Cond1Pot!E3 -> 9.6861533 | D4: =+Cond1Pot!G3/Cond1Pot!F3 -> 209.33002 | E4: =+Cond1Pot!H3 -> 2.3352877 | F4: =+Cond1Pot!J3/Cond1Pot!I3 -> 134.26052 | G4: =+Cond1Pot!K3 -> 8.5163763 | H4: =+Cond1Pot!M3/Cond1Pot!L3 -> 239.55738 | I4: =+Cond1Pot!N3 -> 2.0113872 | J4: 46 | K4: AD | O4: =+F4/B4 -> 0.96561518
A5: AL4P4_completo.csv | B5: =+Cond1Pot!D4/Cond1Pot!C4 -> 145.54521 | C5: =+Cond1Pot!E4 -> 9.6017326 | D5: =+Cond1Pot!G4/Cond1Pot!F4 -> 275.63181 | E5: =+Cond1Pot!H4 -> 1.537469 | F5: =+Cond1Pot!J4/Cond1Pot!I4 -> 153.36129 | G5: =+Cond1Pot!K4 -> 8.4280818 | H5: =+Cond1Pot!M4/Cond1Pot!L4 -> 411.90833 | I5: =+Cond1Pot!N4 -> 0.89119298 | J5: 46 | K5: AD | O5: =+F5/B5 -> 1.053702
A6: AL5P2_completo.csv | B6: =+Cond1Pot!D5/Cond1Pot!C5 -> 135.6546 | C6: =+Cond1Pot!E5 -> 9.7541365 | D6: =+Cond1Pot!G5/Cond1Pot!F5 -> 170.10124 | E6: =+Cond1Pot!H5 -> 3.1382161 | F6: =+Cond1Pot!J5/Cond1Pot!I5 -> 124.03925 | G6: =+Cond1Pot!K5 -> 8.5845174 | H6: =+Cond1Pot!M5/Cond1Pot!L5 -> 193.49231 | I6: =+Cond1Pot!N5 -> 2.7908505 | J6: 46 | K6: AD | O6: =+F6/B6 -> 0.91437554
A7: AL5P3_completo.csv | B7: =+Cond1Pot!D6/Cond1Pot!C6 -> 157.4996 | C7: =+Cond1Pot!E6 -> 9.6861533 | D7: =+Cond1Pot!G6/Cond1Pot!F6 -> 227.53263 | E7: =+Cond1Pot!H6 -> 2.3352877 | F7: =+Cond1Pot!J6/Cond1Pot!I6 -> 147.08425 | G7: =+Cond1Pot!K6 -> 8.5163763 | H7: =+Cond1Pot!M6/Cond1Pot!L6 -> 263.27594 | I7: =+Cond1Pot!N6 -> 2.0113872 | J7: 46 | K7: AD | O7: =+F7/B7 -> 0.93387059
A8: AL5P4_completo.csv | B8: =+Cond1Pot!D7/Cond1Pot!C7 -> 145.54521 | C8: =+Cond1Pot!E7 -> 9.6017326 | D8: =+Cond1Pot!G7/Cond1Pot!F7 -> 326.67474 | E8: =+Cond1Pot!H7 -> 1.537469 | F8: =+Cond1Pot!J7/Cond1Pot!I7 -> 167.26858 | G8: =+Cond1Pot!K7 -> 8.4280818 | H8: =+Cond1Pot!M7/Cond1Pot!L7 -> 471.70147 | I8: =+Cond1Pot!N7 -> 0.89119298 | J8: 46 | K8: AD | O8: =+F8/B8 -> 1.1492551
A9: AL8P2_completo.csv | B9: =+Cond1Pot!D8/Cond1Pot!C8 -> 113.80525 | C9: =+Cond1Pot!E8 -> 9.7541365 | D9: =+Cond1Pot!G8/Cond1Pot!F8 -> 159.55233 | E9: =+Cond1Pot!H8 -> 3.1382161 | F9: =+Cond1Pot!J8/Cond1Pot!I8 -> 112.13955 | G9: =+Cond1Pot!K8 -> 8.5845174 | H9: =+Cond1Pot!M8/Cond1Pot!L8 -> 179.56087 | I9: =+Cond1Pot!N8 -> 2.7908505 | J9: 46 | K9: BD | M9: =+AVERAGE(F9:F14) -> 136.193 | N9: =+(M9-$M$21)/$M$21 -> 0.055990484 | O9: =+F9/B9 -> 0.98536358 | P9: =+AVERAGE(O9:O14) -> 0.98395712 | Q9: =+AVERAGE(B9:B14) -> 138.27408 | R9: =+AVERAGE(C9:C14) -> 9.6806741 | S9: =+AVERAGE(D9:D14) -> 221.65289 | T9: =+AVERAGE(E9:E14) -> 2.3369909 | U9: =+AVERAGE(F9:F14) -> 136.193 | V9: =+AVERAGE(G9:G14) -> 8.5096585 | W9: =+AVERAGE(H9:H14) -> 302.1842 | X9: =+AVERAGE(I9:I14) -> 1.8978102
A10: AL8P3_completo.csv | B10: =+Cond1Pot!D9/Cond1Pot!C9 -> 136.01551 | C10: =+Cond1Pot!E9 -> 9.6861533 | D10: =+Cond1Pot!G9/Cond1Pot!F9 -> 222.07185 | E10: =+Cond1Pot!H9 -> 2.3352877 | F10: =+Cond1Pot!J9/Cond1Pot!I9 -> 133.09473 | G10: =+Cond1Pot!K9 -> 8.5163763 | H10: =+Cond1Pot!M9/Cond1Pot!L9 -> 268.01965 | I10: =+Cond1Pot!N9 -> 2.0113872 | J10: 46 | K10: BD | O10: =+F10/B10 -> 0.97852614
A11: AL8P4_completo.csv | B11: =+Cond1Pot!D10/Cond1Pot!C10 -> 149.10233 | C11: =+Cond1Pot!E10 -> 9.6017326 | D11: =+Cond1Pot!G10/Cond1Pot!F10 -> 258.6175 | E11: =+Cond1Pot!H10 -> 1.537469 | F11: =+Cond1Pot!J10/Cond1Pot!I10 -> 150.1226 | G11: =+Cond1Pot!K10 -> 8.4280818 | H11: =+Cond1Pot!M10/Cond1Pot!L10 -> 425.19569 | I11: =+Cond1Pot!N10 -> 0.89119298 | J11: 46 | K11: BD | O11: =+F11/B11 -> 1.0068428
A12: AL9P2_completo.csv | B12: =+Cond1Pot!D11/Cond1Pot!C11 -> 128.58107 | C12: =+Cond1Pot!E11 -> 9.7541365 | D12: =+Cond1Pot!G11/Cond1Pot!F11 -> 160.87094 | E12: =+Cond1Pot!H11 -> 3.1382161 | F12: =+Cond1Pot!J11/Cond1Pot!I11 -> 122.62742 | G12: =+Cond1Pot!K11 -> 8.5845174 | H12: =+Cond1Pot!M11/Cond1Pot!L11 -> 193.49231 | I12: =+Cond1Pot!N11 -> 2.7908505 | J12: 46 | K12: BD | O12: =+F12/B12 -> 0.95369731
A13: AL9P3_completo.csv | B13: =+Cond1Pot!D12/Cond1Pot!C12 -> 149.48089 | C13: =+Cond1Pot!E12 -> 9.6861533 | D13: =+Cond1Pot!G12/Cond1Pot!F12 -> 229.35289 | E13: =+Cond1Pot!H12 -> 2.3352877 | F13: =+Cond1Pot!J12/Cond1Pot!I12 -> 140.47809 | G13: =+Cond1Pot!K12 -> 8.5163763 | H13: =+Cond1Pot!M12/Cond1Pot!L12 -> 275.13521 | I13: =+Cond1Pot!N12 -> 2.0113872 | J13: 46 | K13: BD | O13: =+F13/B13 -> 0.93977287
A14: AL9P4_completo.csv | B14: =+Cond1Pot!D13/Cond1Pot!C13 -> 152.65944 | C14: =+Cond1Pot!E13 -> 9.6017326 | D14: =+Cond1Pot!G13/Cond1Pot!F13 -> 299.45184 | E14: =+Cond1Pot!H13 -> 1.537469 | F14: =+Cond1Pot!J13/Cond1Pot!I13 -> 158.69559 | G14: =+Cond1Pot!K13 -> 8.4280818 | H14: =+Cond1Pot!M13/Cond1Pot!L13 -> 471.70147 | I14: =+Cond1Pot!N13 -> 0.89119298 | J14: 46 | K14: BD | O14: =+F14/B14 -> 1.03954
A15: AL28P2_completo.csv | B15: =+Cond1Pot!D14/Cond1Pot!C14 -> 100.12975 | C15: =+Cond1Pot!E14 -> 9.7541365 | D15: =+Cond1Pot!G14/Cond1Pot!F14 -> 162.18956 | E15: =+Cond1Pot!H14 -> 3.1382161 | F15: =+Cond1Pot!J14/Cond1Pot!I14 -> 103.66857 | G15: =+Cond1Pot!K14 -> 8.5845174 | H15: =+Cond1Pot!M14/Cond1Pot!L14 -> 171.82117 | I15: =+Cond1Pot!N14 -> 2.7908505 | J15: 76 | K15: AD | M15: =+AVERAGE(F15:F20) -> 124.83708 | N15: =+(M15-$M$21)/$M$21 -> -0.032059131 | O15: =+F15/B15 -> 1.0353423 | P15: =+AVERAGE(O15:O20) -> 1.0283002 | Q15: =+AVERAGE(B15:B20) -> 121.36089 | R15: =+AVERAGE(C15:C20) -> 9.6806741 | S15: =+AVERAGE(D15:D20) -> 242.78148 | T15: =+AVERAGE(E15:E20) -> 2.3369909 | U15: =+AVERAGE(F15:F20) -> 124.83708 | V15: =+AVERAGE(G15:G20) -> 8.5096585 | W15: =+AVERAGE(H15:H20) -> 314.6023 | X15: =+AVERAGE(I15:I20) -> 1.8978102
A16: AL28P3_completo.csv | B16: =+Cond1Pot!D15/Cond1Pot!C15 -> 115.43919 | C16: =+Cond1Pot!E15 -> 9.6861533 | D16: =+Cond1Pot!G15/Cond1Pot!F15 -> 211.15028 | E16: =+Cond1Pot!H15 -> 2.3352877 | F16: =+Cond1Pot!J15/Cond1Pot!I15 -> 119.68811 | G16: =+Cond1Pot!K15 -> 8.5163763 | H16: =+Cond1Pot!M15/Cond1Pot!L15 -> 237.18553 | I16: =+Cond1Pot!N15 -> 2.0113872 | J16: 76 | K16: AD | O16: =+F16/B16 -> 1.0368065
A17: AL28P4_completo.csv | B17: =+Cond1Pot!D16/Cond1Pot!C16 -> 125.68466 | C17: =+Cond1Pot!E16 -> 9.6017326 | D17: =+Cond1Pot!G16/Cond1Pot!F16 -> 299.45184 | E17: =+Cond1Pot!H16 -> 1.537469 | F17: =+Cond1Pot!J16/Cond1Pot!I16 -> 136.02479 | G17: =+Cond1Pot!K16 -> 8.4280818 | H17: =+Cond1Pot!M16/Cond1Pot!L16 -> 438.48306 | I17: =+Cond1Pot!N16 -> 0.89119298 | J17: 76 | K17: AD | O17: =+F17/B17 -> 1.0822704
A18: AL29P2_completo.csv | B18: =+Cond1Pot!D17/Cond1Pot!C17 -> 115.53433 | C18: =+Cond1Pot!E17 -> 9.7541365 | D18: =+Cond1Pot!G17/Cond1Pot!F17 -> 181.96877 | E18: =+Cond1Pot!H17 -> 3.1382161 | F18: =+Cond1Pot!J17/Cond1Pot!I17 -> 112.74461 | G18: =+Cond1Pot!K17 -> 8.5845174 | H18: =+Cond1Pot!M17/Cond1Pot!L17 -> 201.23201 | I18: =+Cond1Pot!N17 -> 2.7908505 | J18: 76 | K18: AD | O18: =+F18/B18 -> 0.97585378
A19: AL29P3_completo.csv | B19: =+Cond1Pot!D18/Cond1Pot!C18 -> 130.87143 | C19: =+Cond1Pot!E18 -> 9.6861533 | D19: =+Cond1Pot!G18/Cond1Pot!F18 -> 254.83654 | E19: =+Cond1Pot!H18 -> 2.3352877 | F19: =+Cond1Pot!J18/Cond1Pot!I18 -> 131.34604 | G19: =+Cond1Pot!K18 -> 8.5163763 | H19: =+Cond1Pot!M18/Cond1Pot!L18 -> 294.11005 | I19: =+Cond1Pot!N18 -> 2.0113872 | J19: 76 | K19: AD | O19: =+F19/B19 -> 1.0036265
A20: AL29P4_completo.csv | B20: =+Cond1Pot!D19/Cond1Pot!C19 -> 140.50597 | C20: =+Cond1Pot!E19 -> 9.6017326 | D20: =+Cond1Pot!G19/Cond1Pot!F19 -> 347.09191 | E20: =+Cond1Pot!H19 -> 1.537469 | F20: =+Cond1Pot!J19/Cond1Pot!I19 -> 145.55034 | G20: =+Cond1Pot!K19 -> 8.4280818 | H20: =+Cond1Pot!M19/Cond1Pot!L19 -> 544.78198 | I20: =+Cond1Pot!N19 -> 0.89119298 | J20: 76 | K20: AD | O20: =+F20/B20 -> 1.0359015
A21: AL10P2_completo.csv | B21: =+Cond1Pot!D20/Cond1Pot!C20 -> 105.00263 | C21: =+Cond1Pot!E20 -> 9.7541365 | D21: =+Cond1Pot!G20/Cond1Pot!F20 -> 207.02244 | E21: =+Cond1Pot!H20 -> 3.1382161 | F21: =+Cond1Pot!J20/Cond1Pot!I20 -> 117.98855 | G21: =+Cond1Pot!K20 -> 8.5845174 | H21: =+Cond1Pot!M20/Cond1Pot!L20 -> 207.42376 | I21: =+Cond1Pot!N20 -> 2.7908505 | J21: 76 | K21: BD | M21: =+AVERAGE(F21:F26) -> 128.9718 | O21: =+F21/B21 -> 1.1236723 | P21: =+AVERAGE(O21:O26) -> 1.0863784 | Q21: =+AVERAGE(B21:B26) -> 118.72533 | R21: =+AVERAGE(C21:C26) -> 9.6806741 | S21: =+AVERAGE(D21:D26) -> 265.66757 | T21: =+AVERAGE(E21:E26) -> 2.3369909 | U21: =+AVERAGE(F21:F26) -> 128.9718 | V21: =+AVERAGE(G21:G26) -> 8.5096585 | W21: =+AVERAGE(H21:H26) -> 322.12523 | X21: =+AVERAGE(I21:I26) -> 1.8978102
A22: AL10P3_completo.csv | B22: =+Cond1Pot!D21/Cond1Pot!C21 -> 125.42476 | C22: =+Cond1Pot!E21 -> 9.6861533 | D22: =+Cond1Pot!G21/Cond1Pot!F21 -> 260.29733 | E22: =+Cond1Pot!H21 -> 2.3352877 | F22: =+Cond1Pot!J21/Cond1Pot!I21 -> 134.06622 | G22: =+Cond1Pot!K21 -> 8.5163763 | H22: =+Cond1Pot!M21/Cond1Pot!L21 -> 284.62263 | I22: =+Cond1Pot!N21 -> 2.0113872 | J22: 76 | K22: BD | O22: =+F22/B22 -> 1.0688976
A23: AL10P4_completo.csv | B23: =+Cond1Pot!D22/Cond1Pot!C22 -> 132.35425 | C23: =+Cond1Pot!E22 -> 9.6017326 | D23: =+Cond1Pot!G22/Cond1Pot!F22 -> 336.88332 | E23: =+Cond1Pot!H22 -> 1.537469 | F23: =+Cond1Pot!J22/Cond1Pot!I22 -> 146.12187 | G23: =+Cond1Pot!K22 -> 8.4280818 | H23: =+Cond1Pot!M22/Cond1Pot!L22 -> 465.05779 | I23: =+Cond1Pot!N22 -> 0.89119298 | J23: 76 | K23: BD | O23: =+F23/B23 -> 1.104021
A24: AL11P2_completo.csv | B24: =+Cond1Pot!D23/Cond1Pot!C23 -> 99.343806 | C24: =+Cond1Pot!E23 -> 9.7541365 | D24: =+Cond1Pot!G23/Cond1Pot!F23 -> 195.15491 | E24: =+Cond1Pot!H23 -> 3.1382161 | F24: =+Cond1Pot!J23/Cond1Pot!I23 -> 106.89561 | G24: =+Cond1Pot!K23 -> 8.5845174 | H24: =+Cond1Pot!M23/Cond1Pot!L23 -> 184.20468 | I24: =+Cond1Pot!N23 -> 2.7908505 | J24: 76 | K24: BD | O24: =+F24/B24 -> 1.0760169
A25: AL11P3_completo.csv | B25: =+Cond1Pot!D24/Cond1Pot!C24 -> 118.46512 | C25: =+Cond1Pot!E24 -> 9.6861533 | D25: =+Cond1Pot!G24/Cond1Pot!F24 -> 247.5555 | E25: =+Cond1Pot!H24 -> 2.3352877 | F25: =+Cond1Pot!J24/Cond1Pot!I24 -> 124.35128 | G25: =+Cond1Pot!K24 -> 8.5163763 | H25: =+Cond1Pot!M24/Cond1Pot!L24 -> 279.87892 | I25: =+Cond1Pot!N24 -> 2.0113872 | J25: 76 | K25: BD | O25: =+F25/B25 -> 1.0496869
A26: AL11P4_completo.csv | B26: =+Cond1Pot!D25/Cond1Pot!C25 -> 131.7614 | C26: =+Cond1Pot!E25 -> 9.6017326 | D26: =+Cond1Pot!G25/Cond1Pot!F25 -> 347.09191 | E26: =+Cond1Pot!H25 -> 1.537469 | F26: =+Cond1Pot!J25/Cond1Pot!I25 -> 144.40727 | G26: =+Cond1Pot!K25 -> 8.4280818 | H26: =+Cond1Pot!M25/Cond1Pot!L25 -> 511.56357 | I26: =+Cond1Pot!N25 -> 0.89119298 | J26: 76 | K26: BD | O26: =+F26/B26 -> 1.0959756
B28: Acondicionamiento | D28: Alabe1 Tr1 | E28: Alabe1 Tr2 | F28: Alabe1 Tr3 | G28: Alabe1 Tr4 | H28: Alabe2 Tr1 | I28: Alabe2 Tr2 | J28: Alabe2 Tr3 | K28: Alabe2 Tr4
B29: =0.3*160*4 -> 192 | D29: 14.500368 | E29: 13.934881 | F29: 13.369395 | G29: 12.803908 | H29: 14.500368 | I29: 13.934881 | J29: 13.369395 | K29: 12.803908
A30: Presion 1 | D30: =+$B$29+M30 -> 194.95193 | E30: =+D34+N30 -> 209.46315 | F30: =+E34+O30 -> 223.41082 | G30: =+F34+P30 -> 236.793 | H30: =+G34+M30 -> 249.55855 | I30: =+H34+N30 -> 264.06978 | J30: =+I34+O30 -> 278.01745 | K30: =+J34+P30 -> 291.39963 | M30: =5.90385265502428/2 -> 2.9519263 | N30: =5.92942521922454/2 -> 2.9647126 | O30: =5.95499778342467/2 -> 2.9774989 | P30: =5.98057034762494/2 -> 2.9902852
A31: Entrada | D31: =+D30+M31 -> 196.16666 | E31: =+E30+N31 -> 210.40795 | F31: =+F30+O31 -> 224.08568 | G31: =+G30+P31 -> 237.19791 | H31: =+H30+M31 -> 250.77329 | I31: =+I30+N31 -> 265.01457 | J31: =+J30+O31 -> 278.6923 | K31: =+K30+P31 -> 291.80454 | M31: 1.2147361 | N31: 0.94479472 | O31: 0.67485337 | P31: 0.40491202
A32: Succion | D32: =+D31+M32 -> 202.47917 | E32: =+E31+N32 -> 216.66666 | F32: =+F31+O32 -> 230.29058 | G32: =+G31+P32 -> 243.34902 | H32: =+H31+M32 -> 257.08579 | I32: =+I31+N32 -> 271.27328 | J32: =+J31+O32 -> 284.89721 | K32: =+K31+P32 -> 297.95565 | M32: 6.3125068 | N32: 6.2587071 | O32: 6.2049073 | P32: 6.1511075
A33: Salida | D33: =+D32+M33 -> 203.54844 | E33: =+E32+N33 -> 217.46861 | F33: =+F32+O33 -> 230.82522 | G33: =+G32+P33 -> 243.61634 | H33: =+H32+M33 -> 258.15507 | I33: =+I32+N33 -> 272.07524 | J33: =+J32+O33 -> 285.43184 | K33: =+K32+P33 -> 298.22297 | M33: 1.0692725 | N33: 0.80195436 | O33: 0.53463624 | P33: 0.26731812
A34: Presion 2 | D34: =+D33+M34 -> 206.49844 | E34: =+E33+N34 -> 220.43332 | F34: =+F33+O34 -> 233.80272 | G34: =+G33+P34 -> 246.60663 | H34: =+H33+M34 -> 261.10507 | I34: =+I33+N34 -> 275.03995 | J34: =+J33+O34 -> 288.40934 | K34: =+K33+P34 -> 301.21325 | M34: 2.95 | N34: =+N30 -> 2.9647126 | O34: =+O30 -> 2.9774989 | P34: =+P30 -> 2.9902852
D35: =+D34-B29 -> 14.498442 | E35: =+E34-D34 -> 13.934881 | F35: =+F34-E34 -> 13.369395 | G35: =+G34-F34 -> 12.803908 | H35: =+H34-G34 -> 14.498442 | I35: =+I34-H34 -> 13.934881 | J35: =+J34-I34 -> 13.369395 | K35: =+K34-J34 -> 12.803908
A37: Al1Tr2 | B37: 209.46315 | D37: 210.40795 | F37: 216.66666 | H37: 217.46861
A38: Al1Tr3 | B38: 223.41082 | D38: 224.08568 | F38: 230.29058 | H38: 230.82522
A39: Al1Tr4 | B39: 236.793 | D39: 237.19791 | F39: 243.34902 | H39: 243.61634
A40: Al2Tr2 | B40: 264.06978 | D40: 265.01457 | F40: 271.27328 | H40: 272.07524
A41: Al2Tr3 | B41: 278.01745 | D41: 278.6923 | F41: 284.89721 | H41: 285.43184
A42: Al2Tr4 | B42: 291.39963 | D42: 291.80454 | F42: 297.95565 | H42: 298.22297

Sheet Cond2
A1: Nombre | B1: Cara de presion entrada | C1: Cara de presion | D1: Borde de entrada | E1: Cara de Succion | F1: Borde de salida | G1: Cara de presion salida | H1: Grano | I1: Densidad | J1: Trayectoria | K1: Dif entrada resto presion | L1: Media | M1: Desvest
A2: AL12P2_completo.csv | B2: =+INDEX(Potencia!$B$2:$G$146,MATCH(Cond2!$A2,Potencia!$A$2:$A$146,0),MATCH(Cond2!B$1,Potencia!$B$1:$G$1,0)) -> 687 | C2: =+INDEX(Potencia!$B$2:$G$146,MATCH(Cond2!$A2,Potencia!$A$2:$A$146,0),MATCH(Cond2!C$1,Potencia!$B$1:$G$1,0)) -> 625 | D2: =+INDEX(Potencia!$B$2:$G$146,MATCH(Cond2!$A2,Potencia!$A$2:$A$146,0),MATCH(Cond2!D$1,Potencia!$B$1:$G$1,0)) -> 110 | E2: =+INDEX(Potencia!$B$2:$G$146,MATCH(Cond2!$A2,Potencia!$A$2:$A$146,0),MATCH(Cond2!E$1,Potencia!$B$1:$G$1,0)) -> 494 | F2: =+INDEX(Potencia!$B$2:$G$146,MATCH(Cond2!$A2,Potencia!$A$2:$A$146,0),MATCH(Cond2!F$1,Potencia!$B$1:$G$1,0)) -> 90 | G2: =+INDEX(Potencia!$B$2:$G$146,MATCH(Cond2!$A2,Potencia!$A$2:$A$146,0),MATCH(Cond2!G$1,Potencia!$B$1:$G$1,0)) -> 396 | H2: 46 | I2: AD | J2: 2 | K2: =+(B2-C2)/C2 -> 0.0992 | L2: =+AVERAGE(K2:K13) -> 0.076420732 | M2: =+_xlfn.STDEV.P(K2:K13) -> 0.02587725
A3: AL12P3_completo.csv | B3: =+INDEX(Potencia!$B$2:$G$146,MATCH(Cond2!$A3,Potencia!$A$2:$A$146,0),MATCH(Cond2!B$1,Potencia!$B$1:$G$1,0)) -> 782 | C3: =+INDEX(Potencia!$B$2:$G$146,MATCH(Cond2!$A3,Potencia!$A$2:$A$146,0),MATCH(Cond2!C$1,Potencia!$B$1:$G$1,0)) -> 740 | D3: =+INDEX(Potencia!$B$2:$G$146,MATCH(Cond2!$A3,Potencia!$A$2:$A$146,0),MATCH(Cond2!D$1,Potencia!$B$1:$G$1,0)) -> 102 | E3: =+INDEX(Potencia!$B$2:$G$146,MATCH(Cond2!$A3,Potencia!$A$2:$A$146,0),MATCH(Cond2!E$1,Potencia!$B$1:$G$1,0)) -> 584 | F3: =+INDEX(Potencia!$B$2:$G$146,MATCH(Cond2!$A3,Potencia!$A$2:$A$146,0),MATCH(Cond2!F$1,Potencia!$B$1:$G$1,0)) -> 86 | G3: =+INDEX(Potencia!$B$2:$G$146,MATCH(Cond2!$A3,Potencia!$A$2:$A$146,0),MATCH(Cond2!G$1,Potencia!$B$1:$G$1,0)) -> 431 | H3: 46 | I3: AD | J3: 3 | K3: =+(B3-C3)/C3 -> 0.056756757
A4: AL12P4_completo.csv | B4: =+INDEX(Potencia!$B$2:$G$146,MATCH(Cond2!$A4,Potencia!$A$2:$A$146,0),MATCH(Cond2!B$1,Potencia!$B$1:$G$1,0)) -> 833 | C4: =+INDEX(Potencia!$B$2:$G$146,MATCH(Cond2!$A4,Potencia!$A$2:$A$146,0),MATCH(Cond2!C$1,Potencia!$B$1:$G$1,0)) -> 772 | D4: =+INDEX(Potencia!$B$2:$G$146,MATCH(Cond2!$A4,Potencia!$A$2:$A$146,0),MATCH(Cond2!D$1,Potencia!$B$1:$G$1,0)) -> 89 | E4: =+INDEX(Potencia!$B$2:$G$146,MATCH(Cond2!$A4,Potencia!$A$2:$A$146,0),MATCH(Cond2!E$1,Potencia!$B$1:$G$1,0)) -> 670 | F4: =+INDEX(Potencia!$B$2:$G$146,MATCH(Cond2!$A4,Potencia!$A$2:$A$146,0),MATCH(Cond2!F$1,Potencia!$B$1:$G$1,0)) -> 69 | G4: =+INDEX(Potencia!$B$2:$G$146,MATCH(Cond2!$A4,Potencia!$A$2:$A$146,0),MATCH(Cond2!G$1,Potencia!$B$1:$G$1,0)) -> 523 | H4: 46 | I4: AD | J4: 4 | K4: =+(B4-C4)/C4 -> 0.079015544
A5: AL13P2_completo.csv | B5: =+INDEX(Potencia!$B$2:$G$146,MATCH(Cond2!$A5,Potencia!$A$2:$A$146,0),MATCH(Cond2!B$1,Potencia!$B$1:$G$1,0)) -> 778 | C5: =+INDEX(Potencia!$B$2:$G$146,MATCH(Cond2!$A5,Potencia!$A$2:$A$146,0),MATCH(Cond2!C$1,Potencia!$B$1:$G$1,0)) -> 708 | D5: =+INDEX(Potencia!$B$2:$G$146,MATCH(Cond2!$A5,Potencia!$A$2:$A$146,0),MATCH(Cond2!D$1,Potencia!$B$1:$G$1,0)) -> 146 | E5: =+INDEX(Potencia!$B$2:$G$146,MATCH(Cond2!$A5,Potencia!$A$2:$A$146,0),MATCH(Cond2!E$1,Potencia!$B$1:$G$1,0)) -> 591 | F5: =+INDEX(Potencia!$B$2:$G$146,MATCH(Cond2!$A5,Potencia!$A$2:$A$146,0),MATCH(Cond2!F$1,Potencia!$B$1:$G$1,0)) -> 119 | G5: =+INDEX(Potencia!$B$2:$G$146,MATCH(Cond2!$A5,Potencia!$A$2:$A$146,0),MATCH(Cond2!G$1,Potencia!$B$1:$G$1,0)) -> 460 | H5: 46 | I5: AD | J5: 2 | K5: =+(B5-C5)/C5 -> 0.098870056
A6: AL13P3_completo.csv | B6: =+INDEX(Potencia!$B$2:$G$146,MATCH(Cond2!$A6,Potencia!$A$2:$A$146,0),MATCH(Cond2!B$1,Potencia!$B$1:$G$1,0)) -> 862 | C6: =+INDEX(Potencia!$B$2:$G$146,MATCH(Cond2!$A6,Potencia!$A$2:$A$146,0),MATCH(Cond2!C$1,Potencia!$B$1:$G$1,0)) -> 820 | D6: =+INDEX(Potencia!$B$2:$G$146,MATCH(Cond2!$A6,Potencia!$A$2:$A$146,0),MATCH(Cond2!D$1,Potencia!$B$1:$G$1,0)) -> 125 | E6: =+INDEX(Potencia!$B$2:$G$146,MATCH(Cond2!$A6,Potencia!$A$2:$A$146,0),MATCH(Cond2!E$1,Potencia!$B$1:$G$1,0)) -> 667 | F6: =+INDEX(Potencia!$B$2:$G$146,MATCH(Cond2!$A6,Potencia!$A$2:$A$146,0),MATCH(Cond2!F$1,Potencia!$B$1:$G$1,0)) -> 102 | G6: =+INDEX(Potencia!$B$2:$G$146,MATCH(Cond2!$A6,Potencia!$A$2:$A$146,0),MATCH(Cond2!G$1,Potencia!$B$1:$G$1,0)) -> 496 | H6: 46 | I6: AD | J6: 3 | K6: =+(B6-C6)/C6 -> 0.051219512
A7: AL13P4_completo.csv | B7: =+INDEX(Potencia!$B$2:$G$146,MATCH(Cond2!$A7,Potencia!$A$2:$A$146,0),MATCH(Cond2!B$1,Potencia!$B$1:$G$1,0)) -> 936 | C7: =+INDEX(Potencia!$B$2:$G$146,MATCH(Cond2!$A7,Potencia!$A$2:$A$146,0),MATCH(Cond2!C$1,Potencia!$B$1:$G$1,0)) -> 868 | D7: =+INDEX(Potencia!$B$2:$G$146,MATCH(Cond2!$A7,Potencia!$A$2:$A$146,0),MATCH(Cond2!D$1,Potencia!$B$1:$G$1,0)) -> 84 | E7: =+INDEX(Potencia!$B$2:$G$146,MATCH(Cond2!$A7,Potencia!$A$2:$A$146,0),MATCH(Cond2!E$1,Potencia!$B$1:$G$1,0)) -> 747 | F7: =+INDEX(Potencia!$B$2:$G$146,MATCH(Cond2!$A7,Potencia!$A$2:$A$146,0),MATCH(Cond2!F$1,Potencia!$B$1:$G$1,0)) -> 75 | G7: =+INDEX(Potencia!$B$2:$G$146,MATCH(Cond2!$A7,Potencia!$A$2:$A$146,0),MATCH(Cond2!G$1,Potencia!$B$1:$G$1,0)) -> 568 | H7: 46 | I7: AD | J7: 4 | K7: =+(B7-C7)/C7 -> 0.078341014
A8: AL16P2_completo.csv | B8: =+INDEX(Potencia!$B$2:$G$146,MATCH(Cond2!$A8,Potencia!$A$2:$A$146,0),MATCH(Cond2!B$1,Potencia!$B$1:$G$1,0)) -> 793 | C8: =+INDEX(Potencia!$B$2:$G$146,MATCH(Cond2!$A8,Potencia!$A$2:$A$146,0),MATCH(Cond2!C$1,Potencia!$B$1:$G$1,0)) -> 702 | D8: =+INDEX(Potencia!$B$2:$G$146,MATCH(Cond2!$A8,Potencia!$A$2:$A$146,0),MATCH(Cond2!D$1,Potencia!$B$1:$G$1,0)) -> 147 | E8: =+INDEX(Potencia!$B$2:$G$146,MATCH(Cond2!$A8,Potencia!$A$2:$A$146,0),MATCH(Cond2!E$1,Potencia!$B$1:$G$1,0)) -> 556 | F8: =+INDEX(Potencia!$B$2:$G$146,MATCH(Cond2!$A8,Potencia!$A$2:$A$146,0),MATCH(Cond2!F$1,Potencia!$B$1:$G$1,0)) -> 118 | G8: =+INDEX(Potencia!$B$2:$G$146,MATCH(Cond2!$A8,Potencia!$A$2:$A$146,0),MATCH(Cond2!G$1,Potencia!$B$1:$G$1,0)) -> 476 | H8: 46 | I8: BD | J8: 2 | K8: =+(B8-C8)/C8 -> 0.12962963
A9: AL16P3_completo.csv | B9: =+INDEX(Potencia!$B$2:$G$146,MATCH(Cond2!$A9,Potencia!$A$2:$A$146,0),MATCH(Cond2!B$1,Potencia!$B$1:$G$1,0)) -> 845 | C9: =+INDEX(Potencia!$B$2:$G$146,MATCH(Cond2!$A9,Potencia!$A$2:$A$146,0),MATCH(Cond2!C$1,Potencia!$B$1:$G$1,0)) -> 809 | D9: =+INDEX(Potencia!$B$2:$G$146,MATCH(Cond2!$A9,Potencia!$A$2:$A$146,0),MATCH(Cond2!D$1,Potencia!$B$1:$G$1,0)) -> 134 | E9: =+INDEX(Potencia!$B$2:$G$146,MATCH(Cond2!$A9,Potencia!$A$2:$A$146,0),MATCH(Cond2!E$1,Potencia!$B$1:$G$1,0)) -> 656 | F9: =+INDEX(Potencia!$B$2:$G$146,MATCH(Cond2!$A9,Potencia!$A$2:$A$146,0),MATCH(Cond2!F$1,Potencia!$B$1:$G$1,0)) -> 112 | G9: =+INDEX(Potencia!$B$2:$G$146,MATCH(Cond2!$A9,Potencia!$A$2:$A$146,0),MATCH(Cond2!G$1,Potencia!$B$1:$G$1,0)) -> 520 | H9: 46 | I9: BD | J9: 3 | K9: =+(B9-C9)/C9 -> 0.044499382
A10: AL16P4_completo.csv | B10: =+INDEX(Potencia!$B$2:$G$146,MATCH(Cond2!$A10,Potencia!$A$2:$A$146,0),MATCH(Cond2!B$1,Potencia!$B$1:$G$1,0)) -> 923 | C10: =+INDEX(Potencia!$B$2:$G$146,MATCH(Cond2!$A10,Potencia!$A$2:$A$146,0),MATCH(Cond2!C$1,Potencia!$B$1:$G$1,0)) -> 846 | D10: =+INDEX(Potencia!$B$2:$G$146,MATCH(Cond2!$A10,Potencia!$A$2:$A$146,0),MATCH(Cond2!D$1,Potencia!$B$1:$G$1,0)) -> 94 | E10: =+INDEX(Potencia!$B$2:$G$146,MATCH(Cond2!$A10,Potencia!$A$2:$A$146,0),MATCH(Cond2!E$1,Potencia!$B$1:$G$1,0)) -> 727 | F10: =+INDEX(Potencia!$B$2:$G$146,MATCH(Cond2!$A10,Potencia!$A$2:$A$146,0),MATCH(Cond2!F$1,Potencia!$B$1:$G$1,0)) -> 71 | G10: =+INDEX(Potencia!$B$2:$G$146,MATCH(Cond2!$A10,Potencia!$A$2:$A$146,0),MATCH(Cond2!G$1,Potencia!$B$1:$G$1,0)) -> 590 | H10: 46 | I10: BD | J10: 4 | K10: =+(B10-C10)/C10 -> 0.091016548
A11: AL17P2_completo.csv | B11: =+INDEX(Potencia!$B$2:$G$146,MATCH(Cond2!$A11,Potencia!$A$2:$A$146,0),MATCH(Cond2!B$1,Potencia!$B$1:$G$1,0)) -> 759 | C11: =+INDEX(Potencia!$B$2:$G$146,MATCH(Cond2!$A11,Potencia!$A$2:$A$146,0),MATCH(Cond2!C$1,Potencia!$B$1:$G$1,0)) -> 712 | D11: =+INDEX(Potencia!$B$2:$G$146,MATCH(Cond2!$A11,Potencia!$A$2:$A$146,0),MATCH(Cond2!D$1,Potencia!$B$1:$G$1,0)) -> 148 | E11: =+INDEX(Potencia!$B$2:$G$146,MATCH(Cond2!$A11,Potencia!$A$2:$A$146,0),MATCH(Cond2!E$1,Potencia!$B$1:$G$1,0)) -> 544 | F11: =+INDEX(Potencia!$B$2:$G$146,MATCH(Cond2!$A11,Potencia!$A$2:$A$146,0),MATCH(Cond2!F$1,Potencia!$B$1:$G$1,0)) -> 130 | G11: =+INDEX(Potencia!$B$2:$G$146,MATCH(Cond2!$A11,Potencia!$A$2:$A$146,0),MATCH(Cond2!G$1,Potencia!$B$1:$G$1,0)) -> 465 | H11: 46 | I11: BD | J11: 2 | K11: =+(B11-C11)/C11 -> 0.066011236
A12: AL17P3_completo.csv | B12: =+INDEX(Potencia!$B$2:$G$146,MATCH(Cond2!$A12,Potencia!$A$2:$A$146,0),MATCH(Cond2!B$1,Potencia!$B$1:$G$1,0)) -> 851 | C12: =+INDEX(Potencia!$B$2:$G$146,MATCH(Cond2!$A12,Potencia!$A$2:$A$146,0),MATCH(Cond2!C$1,Potencia!$B$1:$G$1,0)) -> 822 | D12: =+INDEX(Potencia!$B$2:$G$146,MATCH(Cond2!$A12,Potencia!$A$2:$A$146,0),MATCH(Cond2!D$1,Potencia!$B$1:$G$1,0)) -> 141 | E12: =+INDEX(Potencia!$B$2:$G$146,MATCH(Cond2!$A12,Potencia!$A$2:$A$146,0),MATCH(Cond2!E$1,Potencia!$B$1:$G$1,0)) -> 649 | F12: =+INDEX(Potencia!$B$2:$G$146,MATCH(Cond2!$A12,Potencia!$A$2:$A$146,0),MATCH(Cond2!F$1,Potencia!$B$1:$G$1,0)) -> 123 | G12: =+INDEX(Potencia!$B$2:$G$146,MATCH(Cond2!$A12,Potencia!$A$2:$A$146,0),MATCH(Cond2!G$1,Potencia!$B$1:$G$1,0)) -> 503 | H12: 46 | I12: BD | J12: 3 | K12: =+(B12-C12)/C12 -> 0.035279805
A13: AL17P4_completo.csv | B13: =+INDEX(Potencia!$B$2:$G$146,MATCH(Cond2!$A13,Potencia!$A$2:$A$146,0),MATCH(Cond2!B$1,Potencia!$B$1:$G$1,0)) -> 935 | C13: =+INDEX(Potencia!$B$2:$G$146,MATCH(Cond2!$A13,Potencia!$A$2:$A$146,0),MATCH(Cond2!C$1,Potencia!$B$1:$G$1,0)) -> 860 | D13: =+INDEX(Potencia!$B$2:$G$146,MATCH(Cond2!$A13,Potencia!$A$2:$A$146,0),MATCH(Cond2!D$1,Potencia!$B$1:$G$1,0)) -> 99 | E13: =+INDEX(Potencia!$B$2:$G$146,MATCH(Cond2!$A13,Potencia!$A$2:$A$146,0),MATCH(Cond2!E$1,Potencia!$B$1:$G$1,0)) -> 722 | F13: =+INDEX(Potencia!$B$2:$G$146,MATCH(Cond2!$A13,Potencia!$A$2:$A$146,0),MATCH(Cond2!F$1,Potencia!$B$1:$G$1,0)) -> 79 | G13: =+INDEX(Potencia!$B$2:$G$146,MATCH(Cond2!$A13,Potencia!$A$2:$A$146,0),MATCH(Cond2!G$1,Potencia!$B$1:$G$1,0)) -> 571 | H13: 46 | I13: BD | J13: 4 | K13: =+(B13-C13)/C13 -> 0.087209302
A14: AL14P2_completo.csv | B14: =+INDEX(Potencia!$B$2:$G$146,MATCH(Cond2!$A14,Potencia!$A$2:$A$146,0),MATCH(Cond2!B$1,Potencia!$B$1:$G$1,0)) -> 582 | C14: =+INDEX(Potencia!$B$2:$G$146,MATCH(Cond2!$A14,Potencia!$A$2:$A$146,0),MATCH(Cond2!C$1,Potencia!$B$1:$G$1,0)) -> 549 | D14: =+INDEX(Potencia!$B$2:$G$146,MATCH(Cond2!$A14,Potencia!$A$2:$A$146,0),MATCH(Cond2!D$1,Potencia!$B$1:$G$1,0)) -> 145 | E14: =+INDEX(Potencia!$B$2:$G$146,MATCH(Cond2!$A14,Potencia!$A$2:$A$146,0),MATCH(Cond2!E$1,Potencia!$B$1:$G$1,0)) -> 485 | F14: =+INDEX(Potencia!$B$2:$G$146,MATCH(Cond2!$A14,Potencia!$A$2:$A$146,0),MATCH(Cond2!F$1,Potencia!$B$1:$G$1,0)) -> 119 | G14: =+INDEX(Potencia!$B$2:$G$146,MATCH(Cond2!$A14,Potencia!$A$2:$A$146,0),MATCH(Cond2!G$1,Potencia!$B$1:$G$1,0)) -> 383 | H14: 76 | I14: AD | J14: 2 | K14: =+(B14-C14)/C14 -> 0.06010929 | L14: =+AVERAGE(K14:K25) -> 0.057474771 | M14: =+_xlfn.STDEV.P(K14:K25) -> 0.019016978
A15: AL14P3_completo.csv | B15: =+INDEX(Potencia!$B$2:$G$146,MATCH(Cond2!$A15,Potencia!$A$2:$A$146,0),MATCH(Cond2!B$1,Potencia!$B$1:$G$1,0)) -> 662 | C15: =+INDEX(Potencia!$B$2:$G$146,MATCH(Cond2!$A15,Potencia!$A$2:$A$146,0),MATCH(Cond2!C$1,Potencia!$B$1:$G$1,0)) -> 646 | D15: =+INDEX(Potencia!$B$2:$G$146,MATCH(Cond2!$A15,Potencia!$A$2:$A$146,0),MATCH(Cond2!D$1,Potencia!$B$1:$G$1,0)) -> 129 | E15: =+INDEX(Potencia!$B$2:$G$146,MATCH(Cond2!$A15,Potencia!$A$2:$A$146,0),MATCH(Cond2!E$1,Potencia!$B$1:$G$1,0)) -> 554 | F15: =+INDEX(Potencia!$B$2:$G$146,MATCH(Cond2!$A15,Potencia!$A$2:$A$146,0),MATCH(Cond2!F$1,Potencia!$B$1:$G$1,0)) -> 107 | G15: =+INDEX(Potencia!$B$2:$G$146,MATCH(Cond2!$A15,Potencia!$A$2:$A$146,0),MATCH(Cond2!G$1,Potencia!$B$1:$G$1,0)) -> 409 | H15: 76 | I15: AD | J15: 3 | K15: =+(B15-C15)/C15 -> 0.024767802
A16: AL14P4_completo.csv | B16: =+INDEX(Potencia!$B$2:$G$146,MATCH(Cond2!$A16,Potencia!$A$2:$A$146,0),MATCH(Cond2!B$1,Potencia!$B$1:$G$1,0)) -> 756 | C16: =+INDEX(Potencia!$B$2:$G$146,MATCH(Cond2!$A16,Potencia!$A$2:$A$146,0),MATCH(Cond2!C$1,Potencia!$B$1:$G$1,0)) -> 708 | D16: =+INDEX(Potencia!$B$2:$G$146,MATCH(Cond2!$A16,Potencia!$A$2:$A$146,0),MATCH(Cond2!D$1,Potencia!$B$1:$G$1,0)) -> 112 | E16: =+INDEX(Potencia!$B$2:$G$146,MATCH(Cond2!$A16,Potencia!$A$2:$A$146,0),MATCH(Cond2!E$1,Potencia!$B$1:$G$1,0)) -> 626 | F16: =+INDEX(Potencia!$B$2:$G$146,MATCH(Cond2!$A16,Potencia!$A$2:$A$146,0),MATCH(Cond2!F$1,Potencia!$B$1:$G$1,0)) -> 83 | G16: =+INDEX(Potencia!$B$2:$G$146,MATCH(Cond2!$A16,Potencia!$A$2:$A$146,0),MATCH(Cond2!G$1,Potencia!$B$1:$G$1,0)) -> 497 | H16: 76 | I16: AD | J16: 4 | K16: =+(B16-C16)/C16 -> 0.06779661
A17: AL15P2_completo.csv | B17: =+INDEX(Potencia!$B$2:$G$146,MATCH(Cond2!$A17,Potencia!$A$2:$A$146,0),MATCH(Cond2!B$1,Potencia!$B$1:$G$1,0)) -> 634 | C17: =+INDEX(Potencia!$B$2:$G$146,MATCH(Cond2!$A17,Potencia!$A$2:$A$146,0),MATCH(Cond2!C$1,Potencia!$B$1:$G$1,0)) -> 590 | D17: =+INDEX(Potencia!$B$2:$G$146,MATCH(Cond2!$A17,Potencia!$A$2:$A$146,0),MATCH(Cond2!D$1,Potencia!$B$1:$G$1,0)) -> 144 | E17: =+INDEX(Potencia!$B$2:$G$146,MATCH(Cond2!$A17,Potencia!$A$2:$A$146,0),MATCH(Cond2!E$1,Potencia!$B$1:$G$1,0)) -> 496 | F17: =+INDEX(Potencia!$B$2:$G$146,MATCH(Cond2!$A17,Potencia!$A$2:$A$146,0),MATCH(Cond2!F$1,Potencia!$B$1:$G$1,0)) -> 124 | G17: =+INDEX(Potencia!$B$2:$G$146,MATCH(Cond2!$A17,Potencia!$A$2:$A$146,0),MATCH(Cond2!G$1,Potencia!$B$1:$G$1,0)) -> 394 | H17: 76 | I17: AD | J17: 2 | K17: =+(B17-C17)/C17 -> 0.074576271
A18: AL15P3_completo.csv | B18: =+INDEX(Potencia!$B$2:$G$146,MATCH(Cond2!$A18,Potencia!$A$2:$A$146,0),MATCH(Cond2!B$1,Potencia!$B$1:$G$1,0)) -> 709 | C18: =+INDEX(Potencia!$B$2:$G$146,MATCH(Cond2!$A18,Potencia!$A$2:$A$146,0),MATCH(Cond2!C$1,Potencia!$B$1:$G$1,0)) -> 681 | D18: =+INDEX(Potencia!$B$2:$G$146,MATCH(Cond2!$A18,Potencia!$A$2:$A$146,0),MATCH(Cond2!D$1,Potencia!$B$1:$G$1,0)) -> 125 | E18: =+INDEX(Potencia!$B$2:$G$146,MATCH(Cond2!$A18,Potencia!$A$2:$A$146,0),MATCH(Cond2!E$1,Potencia!$B$1:$G$1,0)) -> 568 | F18: =+INDEX(Potencia!$B$2:$G$146,MATCH(Cond2!$A18,Potencia!$A$2:$A$146,0),MATCH(Cond2!F$1,Potencia!$B$1:$G$1,0)) -> 102 | G18: =+INDEX(Potencia!$B$2:$G$146,MATCH(Cond2!$A18,Potencia!$A$2:$A$146,0),MATCH(Cond2!G$1,Potencia!$B$1:$G$1,0)) -> 423 | H18: 76 | I18: AD | J18: 3 | K18: =+(B18-C18)/C18 -> 0.041116006
A19: AL15P4_completo.csv | B19: =+INDEX(Potencia!$B$2:$G$146,MATCH(Cond2!$A19,Potencia!$A$2:$A$146,0),MATCH(Cond2!B$1,Potencia!$B$1:$G$1,0)) -> 767 | C19: =+INDEX(Potencia!$B$2:$G$146,MATCH(Cond2!$A19,Potencia!$A$2:$A$146,0),MATCH(Cond2!C$1,Potencia!$B$1:$G$1,0)) -> 724 | D19: =+INDEX(Potencia!$B$2:$G$146,MATCH(Cond2!$A19,Potencia!$A$2:$A$146,0),MATCH(Cond2!D$1,Potencia!$B$1:$G$1,0)) -> 101 | E19: =+INDEX(Potencia!$B$2:$G$146,MATCH(Cond2!$A19,Potencia!$A$2:$A$146,0),MATCH(Cond2!E$1,Potencia!$B$1:$G$1,0)) -> 638 | F19: =+INDEX(Potencia!$B$2:$G$146,MATCH(Cond2!$A19,Potencia!$A$2:$A$146,0),MATCH(Cond2!F$1,Potencia!$B$1:$G$1,0)) -> 70 | G19: =+INDEX(Potencia!$B$2:$G$146,MATCH(Cond2!$A19,Potencia!$A$2:$A$146,0),MATCH(Cond2!G$1,Potencia!$B$1:$G$1,0)) -> 504 | H19: 76 | I19: AD | J19: 4 | K19: =+(B19-C19)/C19 -> 0.059392265
A20: AL30P2_completo.csv | B20: =+INDEX(Potencia!$B$2:$G$146,MATCH(Cond2!$A20,Potencia!$A$2:$A$146,0),MATCH(Cond2!B$1,Potencia!$B$1:$G$1,0)) -> 616 | C20: =+INDEX(Potencia!$B$2:$G$146,MATCH(Cond2!$A20,Potencia!$A$2:$A$146,0),MATCH(Cond2!C$1,Potencia!$B$1:$G$1,0)) -> 595 | D20: =+INDEX(Potencia!$B$2:$G$146,MATCH(Cond2!$A20,Potencia!$A$2:$A$146,0),MATCH(Cond2!D$1,Potencia!$B$1:$G$1,0)) -> 122 | E20: =+INDEX(Potencia!$B$2:$G$146,MATCH(Cond2!$A20,Potencia!$A$2:$A$146,0),MATCH(Cond2!E$1,Potencia!$B$1:$G$1,0)) -> 466 | F20: =+INDEX(Potencia!$B$2:$G$146,MATCH(Cond2!$A20,Potencia!$A$2:$A$146,0),MATCH(Cond2!F$1,Potencia!$B$1:$G$1,0)) -> 119 | G20: =+INDEX(Potencia!$B$2:$G$146,MATCH(Cond2!$A20,Potencia!$A$2:$A$146,0),MATCH(Cond2!G$1,Potencia!$B$1:$G$1,0)) -> 401 | H20: 76 | I20: BD | J20: 2 | K20: =+(B20-C20)/C20 -> 0.035294118
A21: AL30P3_completo.csv | B21: =+INDEX(Potencia!$B$2:$G$146,MATCH(Cond2!$A21,Potencia!$A$2:$A$146,0),MATCH(Cond2!B$1,Potencia!$B$1:$G$1,0)) -> 713 | C21: =+INDEX(Potencia!$B$2:$G$146,MATCH(Cond2!$A21,Potencia!$A$2:$A$146,0),MATCH(Cond2!C$1,Potencia!$B$1:$G$1,0)) -> 683 | D21: =+INDEX(Potencia!$B$2:$G$146,MATCH(Cond2!$A21,Potencia!$A$2:$A$146,0),MATCH(Cond2!D$1,Potencia!$B$1:$G$1,0)) -> 110 | E21: =+INDEX(Potencia!$B$2:$G$146,MATCH(Cond2!$A21,Potencia!$A$2:$A$146,0),MATCH(Cond2!E$1,Potencia!$B$1:$G$1,0)) -> 555 | F21: =+INDEX(Potencia!$B$2:$G$146,MATCH(Cond2!$A21,Potencia!$A$2:$A$146,0),MATCH(Cond2!F$1,Potencia!$B$1:$G$1,0)) -> 95 | G21: =+INDEX(Potencia!$B$2:$G$146,MATCH(Cond2!$A21,Potencia!$A$2:$A$146,0),MATCH(Cond2!G$1,Potencia!$B$1:$G$1,0)) -> 429 | H21: 76 | I21: BD | J21: 3 | K21: =+(B21-C21)/C21 -> 0.043923865
A22: AL30P4_completo.csv | B22: =+INDEX(Potencia!$B$2:$G$146,MATCH(Cond2!$A22,Potencia!$A$2:$A$146,0),MATCH(Cond2!B$1,Potencia!$B$1:$G$1,0)) -> 798 | C22: =+INDEX(Potencia!$B$2:$G$146,MATCH(Cond2!$A22,Potencia!$A$2:$A$146,0),MATCH(Cond2!C$1,Potencia!$B$1:$G$1,0)) -> 736 | D22: =+INDEX(Potencia!$B$2:$G$146,MATCH(Cond2!$A22,Potencia!$A$2:$A$146,0),MATCH(Cond2!D$1,Potencia!$B$1:$G$1,0)) -> 83 | E22: =+INDEX(Potencia!$B$2:$G$146,MATCH(Cond2!$A22,Potencia!$A$2:$A$146,0),MATCH(Cond2!E$1,Potencia!$B$1:$G$1,0)) -> 632 | F22: =+INDEX(Potencia!$B$2:$G$146,MATCH(Cond2!$A22,Potencia!$A$2:$A$146,0),MATCH(Cond2!F$1,Potencia!$B$1:$G$1,0)) -> 68 | G22: =+INDEX(Potencia!$B$2:$G$146,MATCH(Cond2!$A22,Potencia!$A$2:$A$146,0),MATCH(Cond2!G$1,Potencia!$B$1:$G$1,0)) -> 510 | H22: 76 | I22: BD | J22: 4 | K22: =+(B22-C22)/C22 -> 0.08423913
A23: AL31P2_completo.csv | B23: =+INDEX(Potencia!$B$2:$G$146,MATCH(Cond2!$A23,Potencia!$A$2:$A$146,0),MATCH(Cond2!B$1,Potencia!$B$1:$G$1,0)) -> 675 | C23: =+INDEX(Potencia!$B$2:$G$146,MATCH(Cond2!$A23,Potencia!$A$2:$A$146,0),MATCH(Cond2!C$1,Potencia!$B$1:$G$1,0)) -> 643 | D23: =+INDEX(Potencia!$B$2:$G$146,MATCH(Cond2!$A23,Potencia!$A$2:$A$146,0),MATCH(Cond2!D$1,Potencia!$B$1:$G$1,0)) -> 120 | E23: =+INDEX(Potencia!$B$2:$G$146,MATCH(Cond2!$A23,Potencia!$A$2:$A$146,0),MATCH(Cond2!E$1,Potencia!$B$1:$G$1,0)) -> 487 | F23: =+INDEX(Potencia!$B$2:$G$146,MATCH(Cond2!$A23,Potencia!$A$2:$A$146,0),MATCH(Cond2!F$1,Potencia!$B$1:$G$1,0)) -> 116 | G23: =+INDEX(Potencia!$B$2:$G$146,MATCH(Cond2!$A23,Potencia!$A$2:$A$146,0),MATCH(Cond2!G$1,Potencia!$B$1:$G$1,0)) -> 414 | H23: 76 | I23: BD | J23: 2 | K23: =+(B23-C23)/C23 -> 0.049766719
A24: AL31P3_completo.csv | B24: =+INDEX(Potencia!$B$2:$G$146,MATCH(Cond2!$A24,Potencia!$A$2:$A$146,0),MATCH(Cond2!B$1,Potencia!$B$1:$G$1,0)) -> 773 | C24: =+INDEX(Potencia!$B$2:$G$146,MATCH(Cond2!$A24,Potencia!$A$2:$A$146,0),MATCH(Cond2!C$1,Potencia!$B$1:$G$1,0)) -> 731 | D24: =+INDEX(Potencia!$B$2:$G$146,MATCH(Cond2!$A24,Potencia!$A$2:$A$146,0),MATCH(Cond2!D$1,Potencia!$B$1:$G$1,0)) -> 115 | E24: =+INDEX(Potencia!$B$2:$G$146,MATCH(Cond2!$A24,Potencia!$A$2:$A$146,0),MATCH(Cond2!E$1,Potencia!$B$1:$G$1,0)) -> 584 | F24: =+INDEX(Potencia!$B$2:$G$146,MATCH(Cond2!$A24,Potencia!$A$2:$A$146,0),MATCH(Cond2!F$1,Potencia!$B$1:$G$1,0)) -> 101 | G24: =+INDEX(Potencia!$B$2:$G$146,MATCH(Cond2!$A24,Potencia!$A$2:$A$146,0),MATCH(Cond2!G$1,Potencia!$B$1:$G$1,0)) -> 445 | H24: 76 | I24: BD | J24: 3 | K24: =+(B24-C24)/C24 -> 0.05745554
A25: AL31P4_completo.csv | B25: =+INDEX(Potencia!$B$2:$G$146,MATCH(Cond2!$A25,Potencia!$A$2:$A$146,0),MATCH(Cond2!B$1,Potencia!$B$1:$G$1,0)) -> 849 | C25: =+INDEX(Potencia!$B$2:$G$146,MATCH(Cond2!$A25,Potencia!$A$2:$A$146,0),MATCH(Cond2!C$1,Potencia!$B$1:$G$1,0)) -> 778 | D25: =+INDEX(Potencia!$B$2:$G$146,MATCH(Cond2!$A25,Potencia!$A$2:$A$146,0),MATCH(Cond2!D$1,Potencia!$B$1:$G$1,0)) -> 96 | E25: =+INDEX(Potencia!$B$2:$G$146,MATCH(Cond2!$A25,Potencia!$A$2:$A$146,0),MATCH(Cond2!E$1,Potencia!$B$1:$G$1,0)) -> 658 | F25: =+INDEX(Potencia!$B$2:$G$146,MATCH(Cond2!$A25,Potencia!$A$2:$A$146,0),MATCH(Cond2!F$1,Potencia!$B$1:$G$1,0)) -> 79 | G25: =+INDEX(Potencia!$B$2:$G$146,MATCH(Cond2!$A25,Potencia!$A$2:$A$146,0),MATCH(Cond2!G$1,Potencia!$B$1:$G$1,0)) -> 523 | H25: 76 | I25: BD | J25: 4 | K25: =+(B25-C25)/C25 -> 0.09125964

Sheet Cond2Pot
A1: Nombre | B1: Cara de presion entrada | C1: Tasa de arranque | D1: Cara de presion | E1: AGR | F1: Tasa de arranque | G1: Borde de entrada | H1: Agr | I1: Tasa de arranque | J1: Cara de Succion | K1: Agr | L1: Tasa de arranque | M1: Borde de salida | N1: Agr | O1: Cara de presion salida | P1: Grano | Q1: Densidad
A2: =+Cond2!A2 -> AL12P2_completo.csv | B2: =+Cond2!B2 -> 687 | C2: 4.9056125 | D2: =+Cond2!C2 -> 625 | E2: 6.9432277 | F2: 0.58478899 | G2: =+Cond2!D2 -> 110 | H2: 2.2338573 | I2: 3.8232523 | J2: =+Cond2!E2 -> 494 | K2: 6.1106648 | L2: 0.49815358 | M2: =+Cond2!F2 -> 90 | N2: 1.9865941 | O2: =+Cond2!G2 -> 396 | P2: 46 | Q2: AD
A3: =+Cond2!A3 -> AL12P3_completo.csv | B3: =+Cond2!B3 -> 782 | C3: 5.0966901 | D3: =+Cond2!C3 -> 740 | E3: 6.8948356 | F3: 0.42362667 | G3: =+Cond2!D3 -> 102 | H3: 1.6623136 | I3: 3.9686854 | J3: =+Cond2!E3 -> 584 | K3: 6.0621604 | L3: 0.32510884 | M3: =+Cond2!F3 -> 86 | N3: 1.4317535 | O3: =+Cond2!G3 -> 431 | P3: 46 | Q3: AD
A4: =+Cond2!A4 -> AL12P4_completo.csv | B4: =+Cond2!B4 -> 833 | C4: 5.2027209 | D4: =+Cond2!C4 -> 772 | E4: 6.8347429 | F4: 0.22660665 | G4: =+Cond2!D4 -> 89 | H4: 1.0944072 | I4: 4.0475954 | J4: =+Cond2!E4 -> 670 | K4: 5.9993102 | L4: 0.11606682 | M4: =+Cond2!F4 -> 69 | N4: 0.63437248 | O4: =+Cond2!G4 -> 523 | P4: 46 | Q4: AD
A5: =+Cond2!A5 -> AL13P2_completo.csv | B5: =+Cond2!B5 -> 778 | C5: 4.9056125 | D5: =+Cond2!C5 -> 708 | E5: 6.9432277 | F5: 0.58478899 | G5: =+Cond2!D5 -> 146 | H5: 2.2338573 | I5: 3.8232523 | J5: =+Cond2!E5 -> 591 | K5: 6.1106648 | L5: 0.49815358 | M5: =+Cond2!F5 -> 119 | N5: 1.9865941 | O5: =+Cond2!G5 -> 460 | P5: 46 | Q5: AD
A6: =+Cond2!A6 -> AL13P3_completo.csv | B6: =+Cond2!B6 -> 862 | C6: 5.0966901 | D6: =+Cond2!C6 -> 820 | E6: 6.8948356 | F6: 0.42362667 | G6: =+Cond2!D6 -> 125 | H6: 1.6623136 | I6: 3.9686854 | J6: =+Cond2!E6 -> 667 | K6: 6.0621604 | L6: 0.32510884 | M6: =+Cond2!F6 -> 102 | N6: 1.4317535 | O6: =+Cond2!G6 -> 496 | P6: 46 | Q6: AD
A7: =+Cond2!A7 -> AL13P4_completo.csv | B7: =+Cond2!B7 -> 936 | C7: 5.2027209 | D7: =+Cond2!C7 -> 868 | E7: 6.8347429 | F7: 0.22660665 | G7: =+Cond2!D7 -> 84 | H7: 1.0944072 | I7: 4.0475954 | J7: =+Cond2!E7 -> 747 | K7: 5.9993102 | L7: 0.11606682 | M7: =+Cond2!F7 -> 75 | N7: 0.63437248 | O7: =+Cond2!G7 -> 568 | P7: 46 | Q7: AD
A8: =+Cond2!A8 -> AL16P2_completo.csv | B8: =+Cond2!B8 -> 793 | C8: 4.9056125 | D8: =+Cond2!C8 -> 702 | E8: 6.9432277 | F8: 0.58478899 | G8: =+Cond2!D8 -> 147 | H8: 2.2338573 | I8: 3.8232523 | J8: =+Cond2!E8 -> 556 | K8: 6.1106648 | L8: 0.49815358 | M8: =+Cond2!F8 -> 118 | N8: 1.9865941 | O8: =+Cond2!G8 -> 476 | P8: 46 | Q8: BD
A9: =+Cond2!A9 -> AL16P3_completo.csv | B9: =+Cond2!B9 -> 845 | C9: 5.0966901 | D9: =+Cond2!C9 -> 809 | E9: 6.8948356 | F9: 0.42362667 | G9: =+Cond2!D9 -> 134 | H9: 1.6623136 | I9: 3.9686854 | J9: =+Cond2!E9 -> 656 | K9: 6.0621604 | L9: 0.32510884 | M9: =+Cond2!F9 -> 112 | N9: 1.4317535 | O9: =+Cond2!G9 -> 520 | P9: 46 | Q9: BD
A10: =+Cond2!A10 -> AL16P4_completo.csv | B10: =+Cond2!B10 -> 923 | C10: 5.2027209 | D10: =+Cond2!C10 -> 846 | E10: 6.8347429 | F10: 0.22660665 | G10: =+Cond2!D10 -> 94 | H10: 1.0944072 | I10: 4.0475954 | J10: =+Cond2!E10 -> 727 | K10: 5.9993102 | L10: 0.11606682 | M10: =+Cond2!F10 -> 71 | N10: 0.63437248 | O10: =+Cond2!G10 -> 590 | P10: 46 | Q10: BD
A11: =+Cond2!A11 -> AL17P2_completo.csv | B11: =+Cond2!B11 -> 759 | C11: 4.9056125 | D11: =+Cond2!C11 -> 712 | E11: 6.9432277 | F11: 0.58478899 | G11: =+Cond2!D11 -> 148 | H11: 2.2338573 | I11: 3.8232523 | J11: =+Cond2!E11 -> 544 | K11: 6.1106648 | L11: 0.49815358 | M11: =+Cond2!F11 -> 130 | N11: 1.9865941 | O11: =+Cond2!G11 -> 465 | P11: 46 | Q11: BD
A12: =+Cond2!A12 -> AL17P3_completo.csv | B12: =+Cond2!B12 -> 851 | C12: 5.0966901 | D12: =+Cond2!C12 -> 822 | E12: 6.8948356 | F12: 0.42362667 | G12: =+Cond2!D12 -> 141 | H12: 1.6623136 | I12: 3.9686854 | J12: =+Cond2!E12 -> 649 | K12: 6.0621604 | L12: 0.32510884 | M12: =+Cond2!F12 -> 123 | N12: 1.4317535 | O12: =+Cond2!G12 -> 503 | P12: 46 | Q12: BD
A13: =+Cond2!A13 -> AL17P4_completo.csv | B13: =+Cond2!B13 -> 935 | C13: 5.2027209 | D13: =+Cond2!C13 -> 860 | E13: 6.8347429 | F13: 0.22660665 | G13: =+Cond2!D13 -> 99 | H13: 1.0944072 | I13: 4.0475954 | J13: =+Cond2!E13 -> 722 | K13: 5.9993102 | L13: 0.11606682 | M13: =+Cond2!F13 -> 79 | N13: 0.63437248 | O13: =+Cond2!G13 -> 571 | P13: 46 | Q13: BD
... A25: =+Cond2!A25 -> AL31P4_completo.csv | B25: =+Cond2!B25 -> 849 | C25: 5.2027209 | D25: =+Cond2!C25 -> 778 | E25: 6.8347429 | F25: 0.22660665 | G25: =+Cond2!D25 -> 96 | H25: 1.0944072 | I25: 4.0475954 | J25: =+Cond2!E25 -> 658 | K25: 5.9993102 | L25: 0.11606682 | M25: =+Cond2!F25 -> 79 | N25: 0.63437248 | O25: =+Cond2!G25 -> 523 | P25: 76 | Q25: BD

Sheet Cond2Eesp
A1: Nombre | B1: Cara de presion | D1: Borde de entrada | F1: Cara de succion | H1: Borde de salida | M1: DIFERENCIA BD76 | O1: Diferencia succion presion
B2: Energia especifica | C2: AGR | D2: Energia especifica | E2: AGR | F2: Energia especifica | G2: AGR | H2: Energia especifica | I2: AGR | J2: Grano | K2: Densidad
A3: AL12P2_completo.csv | B3: =+Cond2Pot!D2/Cond2Pot!C2 -> 127.40509 | C3: =+Cond2Pot!E2 -> 6.9432277 | D3: =+Cond2Pot!G2/Cond2Pot!F2 -> 188.10204 | E3: =+Cond2Pot!H2 -> 2.2338573 | F3: =+Cond2Pot!J2/Cond2Pot!I2 -> 129.20936 | G3: =+Cond2Pot!K2 -> 6.1106648 | H3: =+Cond2Pot!M2/Cond2Pot!L2 -> 180.66717 | I3: =+Cond2Pot!N2 -> 1.9865941 | J3: 46 | K3: AD | M3: =+AVERAGE(F3:F8) -> 158.18199 | N3: =+(M3-$M$21)/$M$21 -> 0.1100896 | O3: =+F3/B3 -> 1.0141617 | P3: =+AVERAGE(O3:O8) -> 1.0608477
A4: AL12P3_completo.csv | B4: =+Cond2Pot!D3/Cond2Pot!C3 -> 145.19227 | C4: =+Cond2Pot!E3 -> 6.8948356 | D4: =+Cond2Pot!G3/Cond2Pot!F3 -> 240.77804 | E4: =+Cond2Pot!H3 -> 1.6623136 | F4: =+Cond2Pot!J3/Cond2Pot!I3 -> 147.152 | G4: =+Cond2Pot!K3 -> 6.0621604 | H4: =+Cond2Pot!M3/Cond2Pot!L3 -> 264.5268 | I4: =+Cond2Pot!N3 -> 1.4317535 | J4: 46 | K4: AD | O4: =+F4/B4 -> 1.0134975
A5: AL12P4_completo.csv | B5: =+Cond2Pot!D4/Cond2Pot!C4 -> 148.3839 | C5: =+Cond2Pot!E4 -> 6.8347429 | D5: =+Cond2Pot!G4/Cond2Pot!F4 -> 392.75106 | E5: =+Cond2Pot!H4 -> 1.0944072 | F5: =+Cond2Pot!J4/Cond2Pot!I4 -> 165.53038 | G5: =+Cond2Pot!K4 -> 5.9993102 | H5: =+Cond2Pot!M4/Cond2Pot!L4 -> 594.48515 | I5: =+Cond2Pot!N4 -> 0.63437248 | J5: 46 | K5: AD | O5: =+F5/B5 -> 1.1155549
A6: AL13P2_completo.csv | B6: =+Cond2Pot!D5/Cond2Pot!C5 -> 144.32448 | C6: =+Cond2Pot!E5 -> 6.9432277 | D6: =+Cond2Pot!G5/Cond2Pot!F5 -> 249.66271 | E6: =+Cond2Pot!H5 -> 2.2338573 | F6: =+Cond2Pot!J5/Cond2Pot!I5 -> 154.58043 | G6: =+Cond2Pot!K5 -> 6.1106648 | H6: =+Cond2Pot!M5/Cond2Pot!L5 -> 238.88215 | I6: =+Cond2Pot!N5 -> 1.9865941 | J6: 46 | K6: AD | O6: =+F6/B6 -> 1.0710617
A7: AL13P3_completo.csv | B7: =+Cond2Pot!D6/Cond2Pot!C6 -> 160.88873 | C7: =+Cond2Pot!E6 -> 6.8948356 | D7: =+Cond2Pot!G6/Cond2Pot!F6 -> 295.07113 | E7: =+Cond2Pot!H6 -> 1.6623136 | F7: =+Cond2Pot!J6/Cond2Pot!I6 -> 168.06573 | G7: =+Cond2Pot!K6 -> 6.0621604 | H7: =+Cond2Pot!M6/Cond2Pot!L6 -> 313.74109 | I7: =+Cond2Pot!N6 -> 1.4317535 | J7: 46 | K7: AD | O7: =+F7/B7 -> 1.0446084
A8: AL13P4_completo.csv | B8: =+Cond2Pot!D7/Cond2Pot!C7 -> 166.83578 | C8: =+Cond2Pot!E7 -> 6.8347429 | D8: =+Cond2Pot!G7/Cond2Pot!F7 -> 370.68639 | E8: =+Cond2Pot!H7 -> 1.0944072 | F8: =+Cond2Pot!J7/Cond2Pot!I7 -> 184.55402 | G8: =+Cond2Pot!K7 -> 5.9993102 | H8: =+Cond2Pot!M7/Cond2Pot!L7 -> 646.17951 | I8: =+Cond2Pot!N7 -> 0.63437248 | J8: 46 | K8: AD | O8: =+F8/B8 -> 1.1062017
A9: AL16P2_completo.csv | B9: =+Cond2Pot!D8/Cond2Pot!C8 -> 143.1014 | C9: =+Cond2Pot!E8 -> 6.9432277 | D9: =+Cond2Pot!G8/Cond2Pot!F8 -> 251.37272 | E9: =+Cond2Pot!H8 -> 2.2338573 | F9: =+Cond2Pot!J8/Cond2Pot!I8 -> 145.42592 | G9: =+Cond2Pot!K8 -> 6.1106648 | H9: =+Cond2Pot!M8/Cond2Pot!L8 -> 236.87474 | I9: =+Cond2Pot!N8 -> 1.9865941 | J9: 46 | K9: BD | M9: =+AVERAGE(F9:F14) -> 162.42129 | N9: =+(M9-$M$21)/$M$21 -> 0.13984017 | O9: =+F9/B9 -> 1.0162439 | P9: =+AVERAGE(O9:O14) -> 1.0392653
A10: AL16P3_completo.csv | B10: =+Cond2Pot!D9/Cond2Pot!C9 -> 158.73047 | C10: =+Cond2Pot!E9 -> 6.8948356 | D10: =+Cond2Pot!G9/Cond2Pot!F9 -> 316.31625 | E10: =+Cond2Pot!H9 -> 1.6623136 | F10: =+Cond2Pot!J9/Cond2Pot!I9 -> 165.29403 | G10: =+Cond2Pot!K9 -> 6.0621604 | H10: =+Cond2Pot!M9/Cond2Pot!L9 -> 344.50002 | I10: =+Cond2Pot!N9 -> 1.4317535 | J10: 46 | K10: BD | O10: =+F10/B10 -> 1.0413504
A11: AL16P4_completo.csv | B11: =+Cond2Pot!D10/Cond2Pot!C10 -> 162.60722 | C11: =+Cond2Pot!E10 -> 6.8347429 | D11: =+Cond2Pot!G10/Cond2Pot!F10 -> 414.81573 | E11: =+Cond2Pot!H10 -> 1.0944072 | F11: =+Cond2Pot!J10/Cond2Pot!I10 -> 179.61281 | G11: =+Cond2Pot!K10 -> 5.9993102 | H11: =+Cond2Pot!M10/Cond2Pot!L10 -> 611.7166 | I11: =+Cond2Pot!N10 -> 0.63437248 | J11: 46 | K11: BD | O11: =+F11/B11 -> 1.1045808
A12: AL17P2_completo.csv | B12: =+Cond2Pot!D11/Cond2Pot!C11 -> 145.13988 | C12: =+Cond2Pot!E11 -> 6.9432277 | D12: =+Cond2Pot!G11/Cond2Pot!F11 -> 253.08274 | E12: =+Cond2Pot!H11 -> 2.2338573 | F12: =+Cond2Pot!J11/Cond2Pot!I11 -> 142.28723 | G12: =+Cond2Pot!K11 -> 6.1106648 | H12: =+Cond2Pot!M11/Cond2Pot!L11 -> 260.9637 | I12: =+Cond2Pot!N11 -> 1.9865941 | J12: 46 | K12: BD | O12: =+F12/B12 -> 0.98034556
A13: AL17P3_completo.csv | B13: =+Cond2Pot!D12/Cond2Pot!C12 -> 161.28114 | C13: =+Cond2Pot!E12 -> 6.8948356 | D13: =+Cond2Pot!G12/Cond2Pot!F12 -> 332.84024 | E13: =+Cond2Pot!H12 -> 1.6623136 | F13: =+Cond2Pot!J12/Cond2Pot!I12 -> 163.53022 | G13: =+Cond2Pot!K12 -> 6.0621604 | H13: =+Cond2Pot!M12/Cond2Pot!L12 -> 378.33484 | I13: =+Cond2Pot!N12 -> 1.4317535 | J13: 46 | K13: BD | O13: =+F13/B13 -> 1.0139451
A14: AL17P4_completo.csv | B14: =+Cond2Pot!D13/Cond2Pot!C13 -> 165.29812 | C14: =+Cond2Pot!E13 -> 6.8347429 | D14: =+Cond2Pot!G13/Cond2Pot!F13 -> 436.88039 | E14: =+Cond2Pot!H13 -> 1.0944072 | F14: =+Cond2Pot!J13/Cond2Pot!I13 -> 178.37751 | G14: =+Cond2Pot!K13 -> 5.9993102 | H14: =+Cond2Pot!M13/Cond2Pot!L13 -> 680.64242 | I14: =+Cond2Pot!N13 -> 0.63437248 | J14: 46 | K14: BD | O14: =+F14/B14 -> 1.079126
A15: AL14P2_completo.csv | B15: =+Cond2Pot!D14/Cond2Pot!C14 -> 111.91263 | C15: =+Cond2Pot!E14 -> 6.9432277 | D15: =+Cond2Pot!G14/Cond2Pot!F14 -> 247.95269 | E15: =+Cond2Pot!H14 -> 2.2338573 | F15: =+Cond2Pot!J14/Cond2Pot!I14 -> 126.85535 | G15: =+Cond2Pot!K14 -> 6.1106648 | H15: =+Cond2Pot!M14/Cond2Pot!L14 -> 238.88215 | I15: =+Cond2Pot!N14 -> 1.9865941 | J15: 76 | K15: AD | M15: =+AVERAGE(F15:F20) -> 141.93088 | N15: =+(M15-$M$21)/$M$21 -> -0.003957447 | O15: =+F15/B15 -> 1.1335213 | P15: =+AVERAGE(O15:O20) -> 1.1089791
A16: AL14P3_completo.csv | B16: =+Cond2Pot!D15/Cond2Pot!C15 -> 126.74893 | C16: =+Cond2Pot!E15 -> 6.8948356 | D16: =+Cond2Pot!G15/Cond2Pot!F15 -> 304.51341 | E16: =+Cond2Pot!H15 -> 1.6623136 | F16: =+Cond2Pot!J15/Cond2Pot!I15 -> 139.59282 | G16: =+Cond2Pot!K15 -> 6.0621604 | H16: =+Cond2Pot!M15/Cond2Pot!L15 -> 329.12055 | I16: =+Cond2Pot!N15 -> 1.4317535 | J16: 76 | K16: AD | O16: =+F16/B16 -> 1.1013334
A17: AL14P4_completo.csv | B17: =+Cond2Pot!D16/Cond2Pot!C16 -> 136.08264 | C17: =+Cond2Pot!E16 -> 6.8347429 | D17: =+Cond2Pot!G16/Cond2Pot!F16 -> 494.24852 | E17: =+Cond2Pot!H16 -> 1.0944072 | F17: =+Cond2Pot!J16/Cond2Pot!I16 -> 154.65973 | G17: =+Cond2Pot!K16 -> 5.9993102 | H17: =+Cond2Pot!M16/Cond2Pot!L16 -> 715.10533 | I17: =+Cond2Pot!N16 -> 0.63437248 | J17: 76 | K17: AD | O17: =+F17/B17 -> 1.1365133
A18: AL15P2_completo.csv | B18: =+Cond2Pot!D17/Cond2Pot!C17 -> 120.2704 | C18: =+Cond2Pot!E17 -> 6.9432277 | D18: =+Cond2Pot!G17/Cond2Pot!F17 -> 246.24267 | E18: =+Cond2Pot!H17 -> 2.2338573 | F18: =+Cond2Pot!J17/Cond2Pot!I17 -> 129.73248 | G18: =+Cond2Pot!K17 -> 6.1106648 | H18: =+Cond2Pot!M17/Cond2Pot!L17 -> 248.91922 | I18: =+Cond2Pot!N17 -> 1.9865941 | J18: 76 | K18: AD | O18: =+F18/B18 -> 1.0786733
A19: AL15P3_completo.csv | B19: =+Cond2Pot!D18/Cond2Pot!C18 -> 133.61613 | C19: =+Cond2Pot!E18 -> 6.8948356 | D19: =+Cond2Pot!G18/Cond2Pot!F18 -> 295.07113 | E19: =+Cond2Pot!H18 -> 1.6623136 | F19: =+Cond2Pot!J18/Cond2Pot!I18 -> 143.12044 | G19: =+Cond2Pot!K18 -> 6.0621604 | H19: =+Cond2Pot!M18/Cond2Pot!L18 -> 313.74109 | I19: =+Cond2Pot!N18 -> 1.4317535 | J19: 76 | K19: AD | O19: =+F19/B19 -> 1.0711315
A20: AL15P4_completo.csv | B20: =+Cond2Pot!D19/Cond2Pot!C19 -> 139.15796 | C20: =+Cond2Pot!E19 -> 6.8347429 | D20: =+Cond2Pot!G19/Cond2Pot!F19 -> 445.70626 | E20: =+Cond2Pot!H19 -> 1.0944072 | F20: =+Cond2Pot!J19/Cond2Pot!I19 -> 157.62445 | G20: =+Cond2Pot!K19 -> 5.9993102 | H20: =+Cond2Pot!M19/Cond2Pot!L19 -> 603.10088 | I20: =+Cond2Pot!N19 -> 0.63437248 | J20: 76 | K20: AD | O20: =+F20/B20 -> 1.1327017
A21: AL30P2_completo.csv | B21: =+Cond2Pot!D20/Cond2Pot!C20 -> 121.28964 | C21: =+Cond2Pot!E20 -> 6.9432277 | D21: =+Cond2Pot!G20/Cond2Pot!F20 -> 208.62226 | E21: =+Cond2Pot!H20 -> 2.2338573 | F21: =+Cond2Pot!J20/Cond2Pot!I20 -> 121.88576 | G21: =+Cond2Pot!K20 -> 6.1106648 | H21: =+Cond2Pot!M20/Cond2Pot!L20 -> 238.88215 | I21: =+Cond2Pot!N20 -> 1.9865941 | J21: 76 | K21: BD | M21: =+AVERAGE(F21:F26) -> 142.49479 | O21: =+F21/B21 -> 1.0049148 | P21: =+AVERAGE(O21:O26) -> 1.0395209
A22: AL30P3_completo.csv | B22: =+Cond2Pot!D21/Cond2Pot!C21 -> 134.00854 | C22: =+Cond2Pot!E21 -> 6.8948356 | D22: =+Cond2Pot!G21/Cond2Pot!F21 -> 259.6626 | E22: =+Cond2Pot!H21 -> 1.6623136 | F22: =+Cond2Pot!J21/Cond2Pot!I21 -> 139.8448 | G22: =+Cond2Pot!K21 -> 6.0621604 | H22: =+Cond2Pot!M21/Cond2Pot!L21 -> 292.20984 | I22: =+Cond2Pot!N21 -> 1.4317535 | J22: 76 | K22: BD | O22: =+F22/B22 -> 1.0435514
A23: AL30P4_completo.csv | B23: =+Cond2Pot!D22/Cond2Pot!C22 -> 141.46444 | C23: =+Cond2Pot!E22 -> 6.8347429 | D23: =+Cond2Pot!G22/Cond2Pot!F22 -> 366.27346 | E23: =+Cond2Pot!H22 -> 1.0944072 | F23: =+Cond2Pot!J22/Cond2Pot!I22 -> 156.14209 | G23: =+Cond2Pot!K22 -> 5.9993102 | H23: =+Cond2Pot!M22/Cond2Pot!L22 -> 585.86942 | I23: =+Cond2Pot!N22 -> 0.63437248 | J23: 76 | K23: BD | O23: =+F23/B23 -> 1.103755
A24: AL31P2_completo.csv | B24: =+Cond2Pot!D23/Cond2Pot!C23 -> 131.07436 | C24: =+Cond2Pot!E23 -> 6.9432277 | D24: =+Cond2Pot!G23/Cond2Pot!F23 -> 205.20222 | E24: =+Cond2Pot!H23 -> 2.2338573 | F24: =+Cond2Pot!J23/Cond2Pot!I23 -> 127.37846 | G24: =+Cond2Pot!K23 -> 6.1106648 | H24: =+Cond2Pot!M23/Cond2Pot!L23 -> 232.85991 | I24: =+Cond2Pot!N23 -> 1.9865941 | J24: 76 | K24: BD | O24: =+F24/B24 -> 0.97180308
A25: AL31P3_completo.csv | B25: =+Cond2Pot!D24/Cond2Pot!C24 -> 143.42642 | C25: =+Cond2Pot!E24 -> 6.8948356 | D25: =+Cond2Pot!G24/Cond2Pot!F24 -> 271.46544 | E25: =+Cond2Pot!H24 -> 1.6623136 | F25: =+Cond2Pot!J24/Cond2Pot!I24 -> 147.152 | G25: =+Cond2Pot!K24 -> 6.0621604 | H25: =+Cond2Pot!M24/Cond2Pot!L24 -> 310.66519 | I25: =+Cond2Pot!N24 -> 1.4317535 | J25: 76 | K25: BD | O25: =+F25/B25 -> 1.0259756
A26: AL31P4_completo.csv | B26: =+Cond2Pot!D25/Cond2Pot!C25 -> 149.53714 | C26: =+Cond2Pot!E25 -> 6.8347429 | D26: =+Cond2Pot!G25/Cond2Pot!F25 -> 423.64159 | E26: =+Cond2Pot!H25 -> 1.0944072 | F26: =+Cond2Pot!J25/Cond2Pot!I25 -> 162.56566 | G26: =+Cond2Pot!K25 -> 5.9993102 | H26: =+Cond2Pot!M25/Cond2Pot!L25 -> 680.64242 | I26: =+Cond2Pot!N25 -> 0.63437248 | J26: 76 | K26: BD | O26: =+F26/B26 -> 1.0871256
A29: Al1Tr2 | B29: 209.46315 | D29: 210.40795 | F29: 216.66666 | H29: 217.46861
A30: Al1Tr3 | B30: 223.41082 | D30: 224.08568 | F30: 230.29058 | H30: 230.82522 | M30: =5.90385265502428/2 -> 2.9519263 | N30: =5.92942521922454/2 -> 2.9647126 | O30: =5.95499778342467/2 -> 2.9774989 | P30: =5.98057034762494/2 -> 2.9902852
A31: Al1Tr4 | B31: 236.793 | D31: 237.19791 | F31: 243.34902 | H31: 243.61634 | M31: 1.2147361 | N31: 0.94479472 | O31: 0.67485337 | P31: 0.40491202
A32: Al2Tr2 | B32: 264.06978 | D32: 265.01457 | F32: 271.27328 | H32: 272.07524 | M32: 6.3125068 | N32: 6.2587071 | O32: 6.2049073 | P32: 6.1511075
A33: Al2Tr3 | B33: 278.01745 | D33: 278.6923 | F33: 284.89721 | H33: 285.43184 | M33: 1.0692725 | N33: 0.80195436 | O33: 0.53463624 | P33: 0.26731812
A34: Al2Tr4 | B34: 291.39963 | D34: 291.80454 | F34: 297.95565 | H34: 298.22297 | M34: 2.95 | N34: =+N30 -> 2.9647126 | O34: =+O30 -> 2.9774989 | P34: =+P30 -> 2.9902852

Sheet Cond3
A1: Nombre | B1: Cara de presion entrada | C1: Cara de presion | D1: Borde de entrada | E1: Cara de Succion | F1: Borde de salida | G1: Cara de presion salida | H1: Grano | I1: Densidad | J1: Trayectoria | K1: Dif entrada resto presion | L1: Media | M1: Desvest
A2: AL36P2_completo.csv | B2: =+INDEX(Potencia!$B$2:$G$146,MATCH(Cond3!$A2,Potencia!$A$2:$A$146,0),MATCH(Cond3!B$1,Potencia!$B$1:$G$1,0)) -> 485 | C2: =+INDEX(Potencia!$B$2:$G$146,MATCH(Cond3!$A2,Potencia!$A$2:$A$146,0),MATCH(Cond3!C$1,Potencia!$B$1:$G$1,0)) -> 468 | D2: =+INDEX(Potencia!$B$2:$G$146,MATCH(Cond3!$A2,Potencia!$A$2:$A$146,0),MATCH(Cond3!D$1,Potencia!$B$1:$G$1,0)) -> 96 | E2: =+INDEX(Potencia!$B$2:$G$146,MATCH(Cond3!$A2,Potencia!$A$2:$A$146,0),MATCH(Cond3!E$1,Potencia!$B$1:$G$1,0)) -> 337 | F2: =+INDEX(Potencia!$B$2:$G$146,MATCH(Cond3!$A2,Potencia!$A$2:$A$146,0),MATCH(Cond3!F$1,Potencia!$B$1:$G$1,0)) -> 87 | G2: =+INDEX(Potencia!$B$2:$G$146,MATCH(Cond3!$A2,Potencia!$A$2:$A$146,0),MATCH(Cond3!G$1,Potencia!$B$1:$G$1,0)) -> 304 | H2: 46 | I2: BD | J2: 2 | K2: =+(B2-C2)/C2 -> 0.036324786 | L2: =+AVERAGE(K2:K7) -> 0.044460355 | M2: =+_xlfn.STDEV.P(K2:K7) -> 0.019621247
A3: AL36P3_completo.csv | B3: =+INDEX(Potencia!$B$2:$G$146,MATCH(Cond3!$A3,Potencia!$A$2:$A$146,0),MATCH(Cond3!B$1,Potencia!$B$1:$G$1,0)) -> 537 | C3: =+INDEX(Potencia!$B$2:$G$146,MATCH(Cond3!$A3,Potencia!$A$2:$A$146,0),MATCH(Cond3!C$1,Potencia!$B$1:$G$1,0)) -> 515 | D3: =+INDEX(Potencia!$B$2:$G$146,MATCH(Cond3!$A3,Potencia!$A$2:$A$146,0),MATCH(Cond3!D$1,Potencia!$B$1:$G$1,0)) -> 84 | E3: =+INDEX(Potencia!$B$2:$G$146,MATCH(Cond3!$A3,Potencia!$A$2:$A$146,0),MATCH(Cond3!E$1,Potencia!$B$1:$G$1,0)) -> 405 | F3: =+INDEX(Potencia!$B$2:$G$146,MATCH(Cond3!$A3,Potencia!$A$2:$A$146,0),MATCH(Cond3!F$1,Potencia!$B$1:$G$1,0)) -> 71 | G3: =+INDEX(Potencia!$B$2:$G$146,MATCH(Cond3!$A3,Potencia!$A$2:$A$146,0),MATCH(Cond3!G$1,Potencia!$B$1:$G$1,0)) -> 323 | H3: 46 | I3: BD | J3: 3 | K3: =+(B3-C3)/C3 -> 0.042718447
A4: AL36P4_completo.csv | B4: =+INDEX(Potencia!$B$2:$G$146,MATCH(Cond3!$A4,Potencia!$A$2:$A$146,0),MATCH(Cond3!B$1,Potencia!$B$1:$G$1,0)) -> 579 | C4: =+INDEX(Potencia!$B$2:$G$146,MATCH(Cond3!$A4,Potencia!$A$2:$A$146,0),MATCH(Cond3!C$1,Potencia!$B$1:$G$1,0)) -> 536 | D4: =+INDEX(Potencia!$B$2:$G$146,MATCH(Cond3!$A4,Potencia!$A$2:$A$146,0),MATCH(Cond3!D$1,Potencia!$B$1:$G$1,0)) -> 59 | E4: =+INDEX(Potencia!$B$2:$G$146,MATCH(Cond3!$A4,Potencia!$A$2:$A$146,0),MATCH(Cond3!E$1,Potencia!$B$1:$G$1,0)) -> 448 | F4: =+INDEX(Potencia!$B$2:$G$146,MATCH(Cond3!$A4,Potencia!$A$2:$A$146,0),MATCH(Cond3!F$1,Potencia!$B$1:$G$1,0)) -> 44 | G4: =+INDEX(Potencia!$B$2:$G$146,MATCH(Cond3!$A4,Potencia!$A$2:$A$146,0),MATCH(Cond3!G$1,Potencia!$B$1:$G$1,0)) -> 375 | H4: 46 | I4: BD | J4: 4 | K4: =+(B4-C4)/C4 -> 0.080223881
A5: AL37P2_completo.csv | B5: =+INDEX(Potencia!$B$2:$G$146,MATCH(Cond3!$A5,Potencia!$A$2:$A$146,0),MATCH(Cond3!B$1,Potencia!$B$1:$G$1,0)) -> 514 | C5: =+INDEX(Potencia!$B$2:$G$146,MATCH(Cond3!$A5,Potencia!$A$2:$A$146,0),MATCH(Cond3!C$1,Potencia!$B$1:$G$1,0)) -> 502 | D5: =+INDEX(Potencia!$B$2:$G$146,MATCH(Cond3!$A5,Potencia!$A$2:$A$146,0),MATCH(Cond3!D$1,Potencia!$B$1:$G$1,0)) -> 102 | E5: =+INDEX(Potencia!$B$2:$G$146,MATCH(Cond3!$A5,Potencia!$A$2:$A$146,0),MATCH(Cond3!E$1,Potencia!$B$1:$G$1,0)) -> 357 | F5: =+INDEX(Potencia!$B$2:$G$146,MATCH(Cond3!$A5,Potencia!$A$2:$A$146,0),MATCH(Cond3!F$1,Potencia!$B$1:$G$1,0)) -> 87 | G5: =+INDEX(Potencia!$B$2:$G$146,MATCH(Cond3!$A5,Potencia!$A$2:$A$146,0),MATCH(Cond3!G$1,Potencia!$B$1:$G$1,0)) -> 319 | H5: 46 | I5: BD | J5: 2 | K5: =+(B5-C5)/C5 -> 0.023904382
A6: AL37P3_completo.csv | B6: =+INDEX(Potencia!$B$2:$G$146,MATCH(Cond3!$A6,Potencia!$A$2:$A$146,0),MATCH(Cond3!B$1,Potencia!$B$1:$G$1,0)) -> 561 | C6: =+INDEX(Potencia!$B$2:$G$146,MATCH(Cond3!$A6,Potencia!$A$2:$A$146,0),MATCH(Cond3!C$1,Potencia!$B$1:$G$1,0)) -> 547 | D6: =+INDEX(Potencia!$B$2:$G$146,MATCH(Cond3!$A6,Potencia!$A$2:$A$146,0),MATCH(Cond3!D$1,Potencia!$B$1:$G$1,0)) -> 89 | E6: =+INDEX(Potencia!$B$2:$G$146,MATCH(Cond3!$A6,Potencia!$A$2:$A$146,0),MATCH(Cond3!E$1,Potencia!$B$1:$G$1,0)) -> 427 | F6: =+INDEX(Potencia!$B$2:$G$146,MATCH(Cond3!$A6,Potencia!$A$2:$A$146,0),MATCH(Cond3!F$1,Potencia!$B$1:$G$1,0)) -> 73 | G6: =+INDEX(Potencia!$B$2:$G$146,MATCH(Cond3!$A6,Potencia!$A$2:$A$146,0),MATCH(Cond3!G$1,Potencia!$B$1:$G$1,0)) -> 334 | H6: 46 | I6: BD | J6: 3 | K6: =+(B6-C6)/C6 -> 0.02559415
A7: AL37P4_completo.csv | B7: =+INDEX(Potencia!$B$2:$G$146,MATCH(Cond3!$A7,Potencia!$A$2:$A$146,0),MATCH(Cond3!B$1,Potencia!$B$1:$G$1,0)) -> 602 | C7: =+INDEX(Potencia!$B$2:$G$146,MATCH(Cond3!$A7,Potencia!$A$2:$A$146,0),MATCH(Cond3!C$1,Potencia!$B$1:$G$1,0)) -> 569 | D7: =+INDEX(Potencia!$B$2:$G$146,MATCH(Cond3!$A7,Potencia!$A$2:$A$146,0),MATCH(Cond3!D$1,Potencia!$B$1:$G$1,0)) -> 64 | E7: =+INDEX(Potencia!$B$2:$G$146,MATCH(Cond3!$A7,Potencia!$A$2:$A$146,0),MATCH(Cond3!E$1,Potencia!$B$1:$G$1,0)) -> 469 | F7: =+INDEX(Potencia!$B$2:$G$146,MATCH(Cond3!$A7,Potencia!$A$2:$A$146,0),MATCH(Cond3!F$1,Potencia!$B$1:$G$1,0)) -> 46 | G7: =+INDEX(Potencia!$B$2:$G$146,MATCH(Cond3!$A7,Potencia!$A$2:$A$146,0),MATCH(Cond3!G$1,Potencia!$B$1:$G$1,0)) -> 380 | H7: 46 | I7: BD | J7: 4 | K7: =+(B7-C7)/C7 -> 0.057996485
A8: AL34P2_completo.csv | B8: =+INDEX(Potencia!$B$2:$G$146,MATCH(Cond3!$A8,Potencia!$A$2:$A$146,0),MATCH(Cond3!B$1,Potencia!$B$1:$G$1,0)) -> 436 | C8: =+INDEX(Potencia!$B$2:$G$146,MATCH(Cond3!$A8,Potencia!$A$2:$A$146,0),MATCH(Cond3!C$1,Potencia!$B$1:$G$1,0)) -> 426 | D8: =+INDEX(Potencia!$B$2:$G$146,MATCH(Cond3!$A8,Potencia!$A$2:$A$146,0),MATCH(Cond3!D$1,Potencia!$B$1:$G$1,0)) -> 104 | E8: =+INDEX(Potencia!$B$2:$G$146,MATCH(Cond3!$A8,Potencia!$A$2:$A$146,0),MATCH(Cond3!E$1,Potencia!$B$1:$G$1,0)) -> 320 | F8: =+INDEX(Potencia!$B$2:$G$146,MATCH(Cond3!$A8,Potencia!$A$2:$A$146,0),MATCH(Cond3!F$1,Potencia!$B$1:$G$1,0)) -> 92 | G8: =+INDEX(Potencia!$B$2:$G$146,MATCH(Cond3!$A8,Potencia!$A$2:$A$146,0),MATCH(Cond3!G$1,Potencia!$B$1:$G$1,0)) -> 282 | H8: 76 | I8: AD | J8: 2 | K8: =+(B8-C8)/C8 -> 0.023474178 | L8: =+AVERAGE(K8:K19) -> 0.044575775 | M8: =+_xlfn.STDEV.P(K8:K19) -> 0.01588148
A9: AL34P3_completo.csv | B9: =+INDEX(Potencia!$B$2:$G$146,MATCH(Cond3!$A9,Potencia!$A$2:$A$146,0),MATCH(Cond3!B$1,Potencia!$B$1:$G$1,0)) -> 488 | C9: =+INDEX(Potencia!$B$2:$G$146,MATCH(Cond3!$A9,Potencia!$A$2:$A$146,0),MATCH(Cond3!C$1,Potencia!$B$1:$G$1,0)) -> 466 | D9: =+INDEX(Potencia!$B$2:$G$146,MATCH(Cond3!$A9,Potencia!$A$2:$A$146,0),MATCH(Cond3!D$1,Potencia!$B$1:$G$1,0)) -> 81 | E9: =+INDEX(Potencia!$B$2:$G$146,MATCH(Cond3!$A9,Potencia!$A$2:$A$146,0),MATCH(Cond3!E$1,Potencia!$B$1:$G$1,0)) -> 368 | F9: =+INDEX(Potencia!$B$2:$G$146,MATCH(Cond3!$A9,Potencia!$A$2:$A$146,0),MATCH(Cond3!F$1,Potencia!$B$1:$G$1,0)) -> 66 | G9: =+INDEX(Potencia!$B$2:$G$146,MATCH(Cond3!$A9,Potencia!$A$2:$A$146,0),MATCH(Cond3!G$1,Potencia!$B$1:$G$1,0)) -> 287 | H9: 76 | I9: AD | J9: 3 | K9: =+(B9-C9)/C9 -> 0.0472103
A10: AL34P4_completo.csv | B10: =+INDEX(Potencia!$B$2:$G$146,MATCH(Cond3!$A10,Potencia!$A$2:$A$146,0),MATCH(Cond3!B$1,Potencia!$B$1:$G$1,0)) -> 532 | C10: =+INDEX(Potencia!$B$2:$G$146,MATCH(Cond3!$A10,Potencia!$A$2:$A$146,0),MATCH(Cond3!C$1,Potencia!$B$1:$G$1,0)) -> 499 | D10: =+INDEX(Potencia!$B$2:$G$146,MATCH(Cond3!$A10,Potencia!$A$2:$A$146,0),MATCH(Cond3!D$1,Potencia!$B$1:$G$1,0)) -> 71 | E10: =+INDEX(Potencia!$B$2:$G$146,MATCH(Cond3!$A10,Potencia!$A$2:$A$146,0),MATCH(Cond3!E$1,Potencia!$B$1:$G$1,0)) -> 436 | F10: =+INDEX(Potencia!$B$2:$G$146,MATCH(Cond3!$A10,Potencia!$A$2:$A$146,0),MATCH(Cond3!F$1,Potencia!$B$1:$G$1,0)) -> 58 | G10: =+INDEX(Potencia!$B$2:$G$146,MATCH(Cond3!$A10,Potencia!$A$2:$A$146,0),MATCH(Cond3!G$1,Potencia!$B$1:$G$1,0)) -> 350 | H10: 76 | I10: AD | J10: 4 | K10: =+(B10-C10)/C10 -> 0.066132265
A11: AL35P2_completo.csv | B11: =+INDEX(Potencia!$B$2:$G$146,MATCH(Cond3!$A11,Potencia!$A$2:$A$146,0),MATCH(Cond3!B$1,Potencia!$B$1:$G$1,0)) -> 475 | C11: =+INDEX(Potencia!$B$2:$G$146,MATCH(Cond3!$A11,Potencia!$A$2:$A$146,0),MATCH(Cond3!C$1,Potencia!$B$1:$G$1,0)) -> 464 | D11: =+INDEX(Potencia!$B$2:$G$146,MATCH(Cond3!$A11,Potencia!$A$2:$A$146,0),MATCH(Cond3!D$1,Potencia!$B$1:$G$1,0)) -> 102 | E11: =+INDEX(Potencia!$B$2:$G$146,MATCH(Cond3!$A11,Potencia!$A$2:$A$146,0),MATCH(Cond3!E$1,Potencia!$B$1:$G$1,0)) -> 336 | F11: =+INDEX(Potencia!$B$2:$G$146,MATCH(Cond3!$A11,Potencia!$A$2:$A$146,0),MATCH(Cond3!F$1,Potencia!$B$1:$G$1,0)) -> 90 | G11: =+INDEX(Potencia!$B$2:$G$146,MATCH(Cond3!$A11,Potencia!$A$2:$A$146,0),MATCH(Cond3!G$1,Potencia!$B$1:$G$1,0)) -> 302 | H11: 76 | I11: AD | J11: 2 | K11: =+(B11-C11)/C11 -> 0.023706897
A12: AL35P3_completo.csv | B12: =+INDEX(Potencia!$B$2:$G$146,MATCH(Cond3!$A12,Potencia!$A$2:$A$146,0),MATCH(Cond3!B$1,Potencia!$B$1:$G$1,0)) -> 534 | C12: =+INDEX(Potencia!$B$2:$G$146,MATCH(Cond3!$A12,Potencia!$A$2:$A$146,0),MATCH(Cond3!C$1,Potencia!$B$1:$G$1,0)) -> 516 | D12: =+INDEX(Potencia!$B$2:$G$146,MATCH(Cond3!$A12,Potencia!$A$2:$A$146,0),MATCH(Cond3!D$1,Potencia!$B$1:$G$1,0)) -> 99 | E12: =+INDEX(Potencia!$B$2:$G$146,MATCH(Cond3!$A12,Potencia!$A$2:$A$146,0),MATCH(Cond3!E$1,Potencia!$B$1:$G$1,0)) -> 410 | F12: =+INDEX(Potencia!$B$2:$G$146,MATCH(Cond3!$A12,Potencia!$A$2:$A$146,0),MATCH(Cond3!F$1,Potencia!$B$1:$G$1,0)) -> 88 | G12: =+INDEX(Potencia!$B$2:$G$146,MATCH(Cond3!$A12,Potencia!$A$2:$A$146,0),MATCH(Cond3!G$1,Potencia!$B$1:$G$1,0)) -> 325 | H12: 76 | I12: AD | J12: 3 | K12: =+(B12-C12)/C12 -> 0.034883721
A13: AL35P4_completo.csv | B13: =+INDEX(Potencia!$B$2:$G$146,MATCH(Cond3!$A13,Potencia!$A$2:$A$146,0),MATCH(Cond3!B$1,Potencia!$B$1:$G$1,0)) -> 568 | C13: =+INDEX(Potencia!$B$2:$G$146,MATCH(Cond3!$A13,Potencia!$A$2:$A$146,0),MATCH(Cond3!C$1,Potencia!$B$1:$G$1,0)) -> 533 | D13: =+INDEX(Potencia!$B$2:$G$146,MATCH(Cond3!$A13,Potencia!$A$2:$A$146,0),MATCH(Cond3!D$1,Potencia!$B$1:$G$1,0)) -> 68 | E13: =+INDEX(Potencia!$B$2:$G$146,MATCH(Cond3!$A13,Potencia!$A$2:$A$146,0),MATCH(Cond3!E$1,Potencia!$B$1:$G$1,0)) -> 452 | F13: =+INDEX(Potencia!$B$2:$G$146,MATCH(Cond3!$A13,Potencia!$A$2:$A$146,0),MATCH(Cond3!F$1,Potencia!$B$1:$G$1,0)) -> 51 | G13: =+INDEX(Potencia!$B$2:$G$146,MATCH(Cond3!$A13,Potencia!$A$2:$A$146,0),MATCH(Cond3!G$1,Potencia!$B$1:$G$1,0)) -> 356 | H13: 76 | I13: AD | J13: 4 | K13: =+(B13-C13)/C13 -> 0.065666041
A14: AL38P2_completo.csv | B14: =+INDEX(Potencia!$B$2:$G$146,MATCH(Cond3!$A14,Potencia!$A$2:$A$146,0),MATCH(Cond3!B$1,Potencia!$B$1:$G$1,0)) -> 453 | C14: =+INDEX(Potencia!$B$2:$G$146,MATCH(Cond3!$A14,Potencia!$A$2:$A$146,0),MATCH(Cond3!C$1,Potencia!$B$1:$G$1,0)) -> 438 | D14: =+INDEX(Potencia!$B$2:$G$146,MATCH(Cond3!$A14,Potencia!$A$2:$A$146,0),MATCH(Cond3!D$1,Potencia!$B$1:$G$1,0)) -> 107 | E14: =+INDEX(Potencia!$B$2:$G$146,MATCH(Cond3!$A14,Potencia!$A$2:$A$146,0),MATCH(Cond3!E$1,Potencia!$B$1:$G$1,0)) -> 337 | F14: =+INDEX(Potencia!$B$2:$G$146,MATCH(Cond3!$A14,Potencia!$A$2:$A$146,0),MATCH(Cond3!F$1,Potencia!$B$1:$G$1,0)) -> 95 | G14: =+INDEX(Potencia!$B$2:$G$146,MATCH(Cond3!$A14,Potencia!$A$2:$A$146,0),MATCH(Cond3!G$1,Potencia!$B$1:$G$1,0)) -> 298 | H14: 76 | I14: BD | J14: 2 | K14: =+(B14-C14)/C14 -> 0.034246575
A15: AL38P3_completo.csv | B15: =+INDEX(Potencia!$B$2:$G$146,MATCH(Cond3!$A15,Potencia!$A$2:$A$146,0),MATCH(Cond3!B$1,Potencia!$B$1:$G$1,0)) -> 503 | C15: =+INDEX(Potencia!$B$2:$G$146,MATCH(Cond3!$A15,Potencia!$A$2:$A$146,0),MATCH(Cond3!C$1,Potencia!$B$1:$G$1,0)) -> 484 | D15: =+INDEX(Potencia!$B$2:$G$146,MATCH(Cond3!$A15,Potencia!$A$2:$A$146,0),MATCH(Cond3!D$1,Potencia!$B$1:$G$1,0)) -> 95 | E15: =+INDEX(Potencia!$B$2:$G$146,MATCH(Cond3!$A15,Potencia!$A$2:$A$146,0),MATCH(Cond3!E$1,Potencia!$B$1:$G$1,0)) -> 391 | F15: =+INDEX(Potencia!$B$2:$G$146,MATCH(Cond3!$A15,Potencia!$A$2:$A$146,0),MATCH(Cond3!F$1,Potencia!$B$1:$G$1,0)) -> 85 | G15: =+INDEX(Potencia!$B$2:$G$146,MATCH(Cond3!$A15,Potencia!$A$2:$A$146,0),MATCH(Cond3!G$1,Potencia!$B$1:$G$1,0)) -> 313 | H15: 76 | I15: BD | J15: 3 | K15: =+(B15-C15)/C15 -> 0.039256198
A16: AL38P4_completo.csv | B16: =+INDEX(Potencia!$B$2:$G$146,MATCH(Cond3!$A16,Potencia!$A$2:$A$146,0),MATCH(Cond3!B$1,Potencia!$B$1:$G$1,0)) -> 549 | C16: =+INDEX(Potencia!$B$2:$G$146,MATCH(Cond3!$A16,Potencia!$A$2:$A$146,0),MATCH(Cond3!C$1,Potencia!$B$1:$G$1,0)) -> 517 | D16: =+INDEX(Potencia!$B$2:$G$146,MATCH(Cond3!$A16,Potencia!$A$2:$A$146,0),MATCH(Cond3!D$1,Potencia!$B$1:$G$1,0)) -> 68 | E16: =+INDEX(Potencia!$B$2:$G$146,MATCH(Cond3!$A16,Potencia!$A$2:$A$146,0),MATCH(Cond3!E$1,Potencia!$B$1:$G$1,0)) -> 442 | F16: =+INDEX(Potencia!$B$2:$G$146,MATCH(Cond3!$A16,Potencia!$A$2:$A$146,0),MATCH(Cond3!F$1,Potencia!$B$1:$G$1,0)) -> 51 | G16: =+INDEX(Potencia!$B$2:$G$146,MATCH(Cond3!$A16,Potencia!$A$2:$A$146,0),MATCH(Cond3!G$1,Potencia!$B$1:$G$1,0)) -> 349 | H16: 76 | I16: BD | J16: 4 | K16: =+(B16-C16)/C16 -> 0.061895551
A17: AL39P2_completo.csv | B17: =+INDEX(Potencia!$B$2:$G$146,MATCH(Cond3!$A17,Potencia!$A$2:$A$146,0),MATCH(Cond3!B$1,Potencia!$B$1:$G$1,0)) -> 480 | C17: =+INDEX(Potencia!$B$2:$G$146,MATCH(Cond3!$A17,Potencia!$A$2:$A$146,0),MATCH(Cond3!C$1,Potencia!$B$1:$G$1,0)) -> 467 | D17: =+INDEX(Potencia!$B$2:$G$146,MATCH(Cond3!$A17,Potencia!$A$2:$A$146,0),MATCH(Cond3!D$1,Potencia!$B$1:$G$1,0)) -> 112 | E17: =+INDEX(Potencia!$B$2:$G$146,MATCH(Cond3!$A17,Potencia!$A$2:$A$146,0),MATCH(Cond3!E$1,Potencia!$B$1:$G$1,0)) -> 352 | F17: =+INDEX(Potencia!$B$2:$G$146,MATCH(Cond3!$A17,Potencia!$A$2:$A$146,0),MATCH(Cond3!F$1,Potencia!$B$1:$G$1,0)) -> 101 | G17: =+INDEX(Potencia!$B$2:$G$146,MATCH(Cond3!$A17,Potencia!$A$2:$A$146,0),MATCH(Cond3!G$1,Potencia!$B$1:$G$1,0)) -> 308 | H17: 76 | I17: BD | J17: 2 | K17: =+(B17-C17)/C17 -> 0.027837259
A18: AL39P3_completo.csv | B18: =+INDEX(Potencia!$B$2:$G$146,MATCH(Cond3!$A18,Potencia!$A$2:$A$146,0),MATCH(Cond3!B$1,Potencia!$B$1:$G$1,0)) -> 528 | C18: =+INDEX(Potencia!$B$2:$G$146,MATCH(Cond3!$A18,Potencia!$A$2:$A$146,0),MATCH(Cond3!C$1,Potencia!$B$1:$G$1,0)) -> 505 | D18: =+INDEX(Potencia!$B$2:$G$146,MATCH(Cond3!$A18,Potencia!$A$2:$A$146,0),MATCH(Cond3!D$1,Potencia!$B$1:$G$1,0)) -> 94 | E18: =+INDEX(Potencia!$B$2:$G$146,MATCH(Cond3!$A18,Potencia!$A$2:$A$146,0),MATCH(Cond3!E$1,Potencia!$B$1:$G$1,0)) -> 406 | F18: =+INDEX(Potencia!$B$2:$G$146,MATCH(Cond3!$A18,Potencia!$A$2:$A$146,0),MATCH(Cond3!F$1,Potencia!$B$1:$G$1,0)) -> 83 | G18: =+INDEX(Potencia!$B$2:$G$146,MATCH(Cond3!$A18,Potencia!$A$2:$A$146,0),MATCH(Cond3!G$1,Potencia!$B$1:$G$1,0)) -> 322 | H18: 76 | I18: BD | J18: 3 | K18: =+(B18-C18)/C18 -> 0.045544554
A19: AL39P4_completo.csv | B19: =+INDEX(Potencia!$B$2:$G$146,MATCH(Cond3!$A19,Potencia!$A$2:$A$146,0),MATCH(Cond3!B$1,Potencia!$B$1:$G$1,0)) -> 573 | C19: =+INDEX(Potencia!$B$2:$G$146,MATCH(Cond3!$A19,Potencia!$A$2:$A$146,0),MATCH(Cond3!C$1,Potencia!$B$1:$G$1,0)) -> 538 | D19: =+INDEX(Potencia!$B$2:$G$146,MATCH(Cond3!$A19,Potencia!$A$2:$A$146,0),MATCH(Cond3!D$1,Potencia!$B$1:$G$1,0)) -> 70 | E19: =+INDEX(Potencia!$B$2:$G$146,MATCH(Cond3!$A19,Potencia!$A$2:$A$146,0),MATCH(Cond3!E$1,Potencia!$B$1:$G$1,0)) -> 455 | F19: =+INDEX(Potencia!$B$2:$G$146,MATCH(Cond3!$A19,Potencia!$A$2:$A$146,0),MATCH(Cond3!F$1,Potencia!$B$1:$G$1,0)) -> 52 | G19: =+INDEX(Potencia!$B$2:$G$146,MATCH(Cond3!$A19,Potencia!$A$2:$A$146,0),MATCH(Cond3!G$1,Potencia!$B$1:$G$1,0)) -> 366 | H19: 76 | I19: BD | J19: 4 | K19: =+(B19-C19)/C19 -> 0.065055762

Sheet Cond3Pot
A1: Nombre | B1: Cara de presion entrada | C1: Tasa de arranque | D1: Cara de presion | E1: AGR | F1: Tasa de arranque | G1: Borde de entrada | H1: Agr | I1: Tasa de arranque | J1: Cara de Succion | K1: Agr | L1: Tasa de arranque | M1: Borde de salida | N1: Agr | O1: Cara de presion salida | P1: Grano | Q1: Densidad
A2: AL34P2_completo.csv | B2: =+Cond3!B8 -> 436 | C2: 2.7388656 | D2: =+Cond3!C8 -> 426 | E2: 3.3598457 | F2: 0.32649509 | G2: =+Cond3!D8 -> 104 | H2: 1.0809693 | I2: 2.1345702 | J2: =+Cond3!E8 -> 320 | K2: 2.9569664 | L2: 0.27812545 | M2: =+Cond3!F8 -> 92 | N2: 0.961318 | O2: =+Cond3!G8 -> 282 | P2: 76 | Q2: AD
A3: AL34P3_completo.csv | B3: =+Cond3!B9 -> 488 | C3: 2.8455466 | D3: =+Cond3!C9 -> 466 | E3: 3.3364286 | F3: 0.23651613 | G3: =+Cond3!D9 -> 81 | H3: 0.80439783 | I3: 2.2157673 | J3: =+Cond3!E9 -> 368 | K3: 2.9334949 | L3: 0.18151238 | M3: =+Cond3!F9 -> 66 | N3: 0.69282918 | O3: =+Cond3!G9 -> 287 | P3: 76 | Q3: AD
A4: AL34P4_completo.csv | B4: =+Cond3!B10 -> 532 | C4: 2.9047449 | D4: =+Cond3!C10 -> 499 | E4: 3.3073496 | F4: 0.12651736 | G4: =+Cond3!D10 -> 71 | H4: 0.52958646 | I4: 2.2598237 | J4: =+Cond3!E10 -> 436 | K4: 2.9030816 | L4: 0.064801574 | M4: =+Cond3!F10 -> 58 | N4: 0.30697447 | O4: =+Cond3!G10 -> 350 | P4: 76 | Q4: AD
A5: AL35P2_completo.csv | B5: =+Cond3!B11 -> 475 | C5: 2.7388656 | D5: =+Cond3!C11 -> 464 | E5: 3.3598457 | F5: 0.32649509 | G5: =+Cond3!D11 -> 102 | H5: 1.0809693 | I5: 2.1345702 | J5: =+Cond3!E11 -> 336 | K5: 2.9569664 | L5: 0.27812545 | M5: =+Cond3!F11 -> 90 | N5: 0.961318 | O5: =+Cond3!G11 -> 302 | P5: 76 | Q5: AD
A6: AL35P3_completo.csv | B6: =+Cond3!B12 -> 534 | C6: 2.8455466 | D6: =+Cond3!C12 -> 516 | E6: 3.3364286 | F6: 0.23651613 | G6: =+Cond3!D12 -> 99 | H6: 0.80439783 | I6: 2.2157673 | J6: =+Cond3!E12 -> 410 | K6: 2.9334949 | L6: 0.18151238 | M6: =+Cond3!F12 -> 88 | N6: 0.69282918 | O6: =+Cond3!G12 -> 325 | P6: 76 | Q6: AD
A7: AL35P4_completo.csv | B7: =+Cond3!B13 -> 568 | C7: 2.9047449 | D7: =+Cond3!C13 -> 533 | E7: 3.3073496 | F7: 0.12651736 | G7: =+Cond3!D13 -> 68 | H7: 0.52958646 | I7: 2.2598237 | J7: =+Cond3!E13 -> 452 | K7: 2.9030816 | L7: 0.064801574 | M7: =+Cond3!F13 -> 51 | N7: 0.30697447 | O7: =+Cond3!G13 -> 356 | P7: 76 | Q7: AD
A8: AL36P2_completo.csv | B8: =+Cond3!B2 -> 485 | C8: 2.7388656 | D8: =+Cond3!C2 -> 468 | E8: 3.3598457 | F8: 0.32649509 | G8: =+Cond3!D2 -> 96 | H8: 1.0809693 | I8: 2.1345702 | J8: =+Cond3!E2 -> 337 | K8: 2.9569664 | L8: 0.27812545 | M8: =+Cond3!F2 -> 87 | N8: 0.961318 | O8: =+Cond3!G2 -> 304 | P8: 46 | Q8: BD
A9: AL36P3_completo.csv | B9: =+Cond3!B3 -> 537 | C9: 2.8455466 | D9: =+Cond3!C3 -> 515 | E9: 3.3364286 | F9: 0.23651613 | G9: =+Cond3!D3 -> 84 | H9: 0.80439783 | I9: 2.2157673 | J9: =+Cond3!E3 -> 405 | K9: 2.9334949 | L9: 0.18151238 | M9: =+Cond3!F3 -> 71 | N9: 0.69282918 | O9: =+Cond3!G3 -> 323 | P9: 46 | Q9: BD
A10: AL36P4_completo.csv | B10: =+Cond3!B4 -> 579 | C10: 2.9047449 | D10: =+Cond3!C4 -> 536 | E10: 3.3073496 | F10: 0.12651736 | G10: =+Cond3!D4 -> 59 | H10: 0.52958646 | I10: 2.2598237 | J10: =+Cond3!E4 -> 448 | K10: 2.9030816 | L10: 0.064801574 | M10: =+Cond3!F4 -> 44 | N10: 0.30697447 | O10: =+Cond3!G4 -> 375 | P10: 46 | Q10: BD
A11: AL37P2_completo.csv | B11: =+Cond3!B5 -> 514 | C11: 2.7388656 | D11: =+Cond3!C5 -> 502 | E11: 3.3598457 | F11: 0.32649509 | G11: =+Cond3!D5 -> 102 | H11: 1.0809693 | I11: 2.1345702 | J11: =+Cond3!E5 -> 357 | K11: 2.9569664 | L11: 0.27812545 | M11: =+Cond3!F5 -> 87 | N11: 0.961318 | O11: =+Cond3!G5 -> 319 | P11: 46 | Q11: BD
A12: AL37P3_completo.csv | B12: =+Cond3!B6 -> 561 | C12: 2.8455466 | D12: =+Cond3!C6 -> 547 | E12: 3.3364286 | F12: 0.23651613 | G12: =+Cond3!D6 -> 89 | H12: 0.80439783 | I12: 2.2157673 | J12: =+Cond3!E6 -> 427 | K12: 2.9334949 | L12: 0.18151238 | M12: =+Cond3!F6 -> 73 | N12: 0.69282918 | O12: =+Cond3!G6 -> 334 | P12: 46 | Q12: BD
A13: AL37P4_completo.csv | B13: =+Cond3!B7 -> 602 | C13: 2.9047449 | D13: =+Cond3!C7 -> 569 | E13: 3.3073496 | F13: 0.12651736 | G13: =+Cond3!D7 -> 64 | H13: 0.52958646 | I13: 2.2598237 | J13: =+Cond3!E7 -> 469 | K13: 2.9030816 | L13: 0.064801574 | M13: =+Cond3!F7 -> 46 | N13: 0.30697447 | O13: =+Cond3!G7 -> 380 | P13: 46 | Q13: BD
A14: AL38P2_completo.csv | B14: =+Cond3!B14 -> 453 | C14: 2.7388656 | D14: =+Cond3!C14 -> 438 | E14: 3.3598457 | F14: 0.32649509 | G14: =+Cond3!D14 -> 107 | H14: 1.0809693 | I14: 2.1345702 | J14: =+Cond3!E14 -> 337 | K14: 2.9569664 | L14: 0.27812545 | M14: =+Cond3!F14 -> 95 | N14: 0.961318 | O14: =+Cond3!G14 -> 298 | P14: 76 | Q14: BD
A15: AL38P3_completo.csv | B15: =+Cond3!B15 -> 503 | C15: 2.8455466 | D15: =+Cond3!C15 -> 484 | E15: 3.3364286 | F15: 0.23651613 | G15: =+Cond3!D15 -> 95 | H15: 0.80439783 | I15: 2.2157673 | J15: =+Cond3!E15 -> 391 | K15: 2.9334949 | L15: 0.18151238 | M15: =+Cond3!F15 -> 85 | N15: 0.69282918 | O15: =+Cond3!G15 -> 313 | P15: 76 | Q15: BD
A16: AL38P4_completo.csv | B16: =+Cond3!B16 -> 549 | C16: 2.9047449 | D16: =+Cond3!C16 -> 517 | E16: 3.3073496 | F16: 0.12651736 | G16: =+Cond3!D16 -> 68 | H16: 0.52958646 | I16: 2.2598237 | J16: =+Cond3!E16 -> 442 | K16: 2.9030816 | L16: 0.064801574 | M16: =+Cond3!F16 -> 51 | N16: 0.30697447 | O16: =+Cond3!G16 -> 349 | P16: 76 | Q16: BD
A17: AL39P2_completo.csv | B17: =+Cond3!B17 -> 480 | C17: 2.7388656 | D17: =+Cond3!C17 -> 467 | E17: 3.3598457 | F17: 0.32649509 | G17: =+Cond3!D17 -> 112 | H17: 1.0809693 | I17: 2.1345702 | J17: =+Cond3!E17 -> 352 | K17: 2.9569664 | L17: 0.27812545 | M17: =+Cond3!F17 -> 101 | N17: 0.961318 | O17: =+Cond3!G17 -> 308 | P17: 76 | Q17: BD
A18: AL39P3_completo.csv | B18: =+Cond3!B18 -> 528 | C18: 2.8455466 | D18: =+Cond3!C18 -> 505 | E18: 3.3364286 | F18: 0.23651613 | G18: =+Cond3!D18 -> 94 | H18: 0.80439783 | I18: 2.2157673 | J18: =+Cond3!E18 -> 406 | K18: 2.9334949 | L18: 0.18151238 | M18: =+Cond3!F18 -> 83 | N18: 0.69282918 | O18: =+Cond3!G18 -> 322 | P18: 76 | Q18: BD
A19: AL39P4_completo.csv | B19: =+Cond3!B19 -> 573 | C19: 2.9047449 | D19: =+Cond3!C19 -> 538 | E19: 3.3073496 | F19: 0.12651736 | G19: =+Cond3!D19 -> 70 | H19: 0.52958646 | I19: 2.2598237 | J19: =+Cond3!E19 -> 455 | K19: 2.9030816 | L19: 0.064801574 | M19: =+Cond3!F19 -> 52 | N19: 0.30697447 | O19: =+Cond3!G19 -> 366 | P19: 76 | Q19: BD

Sheet Cond3Eesp
A1: Nombre | B1: Cara de presion | D1: Borde de entrada | F1: Cara de succion | H1: Borde de salida | M1: DIFERENCIA BD76 | O1: Diferencia succion presion
B2: Energia especifica | C2: AGR | D2: Energia especifica | E2: AGR | F2: Energia especifica | G2: AGR | H2: Energia especifica | I2: AGR | J2: Grano | K2: Densidad
A3: AL34P2_completo.csv | B3: =+Cond3Pot!D2/Cond3Pot!C2 -> 155.53885 | C3: =+Cond3Pot!E2 -> 3.3598457 | D3: =+Cond3Pot!G2/Cond3Pot!F2 -> 318.53465 | E3: =+Cond3Pot!H2 -> 1.0809693 | F3: =+Cond3Pot!J2/Cond3Pot!I2 -> 149.91309 | G3: =+Cond3Pot!K2 -> 2.9569664 | H3: =+Cond3Pot!M2/Cond3Pot!L2 -> 330.78598 | I3: =+Cond3Pot!N2 -> 0.961318 | J3: 76 | K3: AD | M3: =+AVERAGE(F3:F8) -> 175.23212 | N3: =+(M3-$M$15)/$M$15 -> -0.025956129 | O3: =+F3/B3 -> 0.96383049 | P3: =+AVERAGE(O3:O8) -> 1.0234474
A4: AL34P3_completo.csv | B4: =+Cond3Pot!D3/Cond3Pot!C3 -> 163.76467 | C4: =+Cond3Pot!E3 -> 3.3364286 | D4: =+Cond3Pot!G3/Cond3Pot!F3 -> 342.47136 | E4: =+Cond3Pot!H3 -> 0.80439783 | F4: =+Cond3Pot!J3/Cond3Pot!I3 -> 166.08242 | G4: =+Cond3Pot!K3 -> 2.9334949 | H4: =+Cond3Pot!M3/Cond3Pot!L3 -> 363.61157 | I4: =+Cond3Pot!N3 -> 0.69282918 | J4: 76 | K4: AD | O4: =+F4/B4 -> 1.0141529
A5: AL34P4_completo.csv | B5: =+Cond3Pot!D4/Cond3Pot!C4 -> 171.78789 | C5: =+Cond3Pot!E4 -> 3.3073496 | D5: =+Cond3Pot!G4/Cond3Pot!F4 -> 561.18782 | E5: =+Cond3Pot!H4 -> 0.52958646 | F5: =+Cond3Pot!J4/Cond3Pot!I4 -> 192.9354 | G5: =+Cond3Pot!K4 -> 2.9030816 | H5: =+Cond3Pot!M4/Cond3Pot!L4 -> 895.03999 | I5: =+Cond3Pot!N4 -> 0.30697447 | J5: 76 | K5: AD | O5: =+F5/B5 -> 1.1231024
A6: AL35P2_completo.csv | B6: =+Cond3Pot!D5/Cond3Pot!C5 -> 169.41321 | C6: =+Cond3Pot!E5 -> 3.3598457 | D6: =+Cond3Pot!G5/Cond3Pot!F5 -> 312.40898 | E6: =+Cond3Pot!H5 -> 1.0809693 | F6: =+Cond3Pot!J5/Cond3Pot!I5 -> 157.40874 | G6: =+Cond3Pot!K5 -> 2.9569664 | H6: =+Cond3Pot!M5/Cond3Pot!L5 -> 323.59498 | I6: =+Cond3Pot!N5 -> 0.961318 | J6: 76 | K6: AD | O6: =+F6/B6 -> 0.9291409
A7: AL35P3_completo.csv | B7: =+Cond3Pot!D6/Cond3Pot!C6 -> 181.33599 | C7: =+Cond3Pot!E6 -> 3.3364286 | D7: =+Cond3Pot!G6/Cond3Pot!F6 -> 418.5761 | E7: =+Cond3Pot!H6 -> 0.80439783 | F7: =+Cond3Pot!J6/Cond3Pot!I6 -> 185.03748 | G7: =+Cond3Pot!K6 -> 2.9334949 | H7: =+Cond3Pot!M6/Cond3Pot!L6 -> 484.81542 | I7: =+Cond3Pot!N6 -> 0.69282918 | J7: 76 | K7: AD | O7: =+F7/B7 -> 1.0204123
A8: AL35P4_completo.csv | B8: =+Cond3Pot!D7/Cond3Pot!C7 -> 183.49288 | C8: =+Cond3Pot!E7 -> 3.3073496 | D8: =+Cond3Pot!G7/Cond3Pot!F7 -> 537.47566 | E8: =+Cond3Pot!H7 -> 0.52958646 | F8: =+Cond3Pot!J7/Cond3Pot!I7 -> 200.0156 | G8: =+Cond3Pot!K7 -> 2.9030816 | H8: =+Cond3Pot!M7/Cond3Pot!L7 -> 787.01793 | I8: =+Cond3Pot!N7 -> 0.30697447 | J8: 76 | K8: AD | O8: =+F8/B8 -> 1.0900456
A9: AL36P2_completo.csv | B9: =+Cond3Pot!D8/Cond3Pot!C8 -> 170.87367 | C9: =+Cond3Pot!E8 -> 3.3598457 | D9: =+Cond3Pot!G8/Cond3Pot!F8 -> 294.03199 | E9: =+Cond3Pot!H8 -> 1.0809693 | F9: =+Cond3Pot!J8/Cond3Pot!I8 -> 157.87722 | G9: =+Cond3Pot!K8 -> 2.9569664 | H9: =+Cond3Pot!M8/Cond3Pot!L8 -> 312.80848 | I9: =+Cond3Pot!N8 -> 0.961318 | J9: 46 | K9: BD | M9: =+AVERAGE(F9:F14) -> 184.39976 | N9: =+(M9-$M$15)/$M$15 -> 0.025003031 | O9: =+F9/B9 -> 0.92394119 | P9: =+AVERAGE(O9:O14) -> 0.99711327
A10: AL36P3_completo.csv | B10: =+Cond3Pot!D9/Cond3Pot!C9 -> 180.98456 | C10: =+Cond3Pot!E9 -> 3.3364286 | D10: =+Cond3Pot!G9/Cond3Pot!F9 -> 355.15548 | E10: =+Cond3Pot!H9 -> 0.80439783 | F10: =+Cond3Pot!J9/Cond3Pot!I9 -> 182.78093 | G10: =+Cond3Pot!K9 -> 2.9334949 | H10: =+Cond3Pot!M9/Cond3Pot!L9 -> 391.1579 | I10: =+Cond3Pot!N9 -> 0.69282918 | J10: 46 | K10: BD | O10: =+F10/B10 -> 1.0099255
A11: AL36P4_completo.csv | B11: =+Cond3Pot!D10/Cond3Pot!C10 -> 184.52567 | C11: =+Cond3Pot!E10 -> 3.3073496 | D11: =+Cond3Pot!G10/Cond3Pot!F10 -> 466.33917 | E11: =+Cond3Pot!H10 -> 0.52958646 | F11: =+Cond3Pot!J10/Cond3Pot!I10 -> 198.24555 | G11: =+Cond3Pot!K10 -> 2.9030816 | H11: =+Cond3Pot!M10/Cond3Pot!L10 -> 678.99586 | I11: =+Cond3Pot!N10 -> 0.30697447 | J11: 46 | K11: BD | O11: =+F11/B11 -> 1.0743521
A12: AL37P2_completo.csv | B12: =+Cond3Pot!D11/Cond3Pot!C11 -> 183.28757 | C12: =+Cond3Pot!E11 -> 3.3598457 | D12: =+Cond3Pot!G11/Cond3Pot!F11 -> 312.40898 | E12: =+Cond3Pot!H11 -> 1.0809693 | F12: =+Cond3Pot!J11/Cond3Pot!I11 -> 167.24679 | G12: =+Cond3Pot!K11 -> 2.9569664 | H12: =+Cond3Pot!M11/Cond3Pot!L11 -> 312.80848 | I12: =+Cond3Pot!N11 -> 0.961318 | J12: 46 | K12: BD | O12: =+F12/B12 -> 0.912483
A13: AL37P3_completo.csv | B13: =+Cond3Pot!D12/Cond3Pot!C12 -> 192.2302 | C13: =+Cond3Pot!E12 -> 3.3364286 | D13: =+Cond3Pot!G12/Cond3Pot!F12 -> 376.29569 | E13: =+Cond3Pot!H12 -> 0.80439783 | F13: =+Cond3Pot!J12/Cond3Pot!I12 -> 192.70977 | G13: =+Cond3Pot!K12 -> 2.9334949 | H13: =+Cond3Pot!M12/Cond3Pot!L12 -> 402.17643 | I13: =+Cond3Pot!N12 -> 0.69282918 | J13: 46 | K13: BD | O13: =+F13/B13 -> 1.0024947
A14: AL37P4_completo.csv | B14: =+Cond3Pot!D13/Cond3Pot!C13 -> 195.88639 | C14: =+Cond3Pot!E13 -> 3.3073496 | D14: =+Cond3Pot!G13/Cond3Pot!F13 -> 505.85944 | E14: =+Cond3Pot!H13 -> 0.52958646 | F14: =+Cond3Pot!J13/Cond3Pot!I13 -> 207.53831 | G14: =+Cond3Pot!K13 -> 2.9030816 | H14: =+Cond3Pot!M13/Cond3Pot!L13 -> 709.85931 | I14: =+Cond3Pot!N13 -> 0.30697447 | J14: 46 | K14: BD | O14: =+F14/B14 -> 1.059483
A15: AL38P2_completo.csv | B15: =+Cond3Pot!D14/Cond3Pot!C14 -> 159.92023 | C15: =+Cond3Pot!E14 -> 3.3598457 | D15: =+Cond3Pot!G14/Cond3Pot!F14 -> 327.72315 | E15: =+Cond3Pot!H14 -> 1.0809693 | F15: =+Cond3Pot!J14/Cond3Pot!I14 -> 157.87722 | G15: =+Cond3Pot!K14 -> 2.9569664 | H15: =+Cond3Pot!M14/Cond3Pot!L14 -> 341.57248 | I15: =+Cond3Pot!N14 -> 0.961318 | J15: 76 | K15: BD | M15: =+AVERAGE(F15:F20) -> 179.90167 | O15: =+F15/B15 -> 0.98722484 | P15: =+AVERAGE(O15:O20) -> 1.0350481
A16: AL38P3_completo.csv | B16: =+Cond3Pot!D15/Cond3Pot!C15 -> 170.09035 | C16: =+Cond3Pot!E15 -> 3.3364286 | D16: =+Cond3Pot!G15/Cond3Pot!F15 -> 401.66394 | E16: =+Cond3Pot!H15 -> 0.80439783 | F16: =+Cond3Pot!J15/Cond3Pot!I15 -> 176.46257 | G16: =+Cond3Pot!K15 -> 2.9334949 | H16: =+Cond3Pot!M15/Cond3Pot!L15 -> 468.28762 | I16: =+Cond3Pot!N15 -> 0.69282918 | J16: 76 | K16: BD | O16: =+F16/B16 -> 1.0374638
A17: AL38P4_completo.csv | B17: =+Cond3Pot!D16/Cond3Pot!C16 -> 177.98465 | C17: =+Cond3Pot!E16 -> 3.3073496 | D17: =+Cond3Pot!G16/Cond3Pot!F16 -> 537.47566 | E17: =+Cond3Pot!H16 -> 0.52958646 | F17: =+Cond3Pot!J16/Cond3Pot!I16 -> 195.59048 | G17: =+Cond3Pot!K16 -> 2.9030816 | H17: =+Cond3Pot!M16/Cond3Pot!L16 -> 787.01793 | I17: =+Cond3Pot!N16 -> 0.30697447 | J17: 76 | K17: BD | O17: =+F17/B17 -> 1.0989177
A18: AL39P2_completo.csv | B18: =+Cond3Pot!D17/Cond3Pot!C17 -> 170.50855 | C18: =+Cond3Pot!E17 -> 3.3598457 | D18: =+Cond3Pot!G17/Cond3Pot!F17 -> 343.03732 | E18: =+Cond3Pot!H17 -> 1.0809693 | F18: =+Cond3Pot!J17/Cond3Pot!I17 -> 164.90439 | G18: =+Cond3Pot!K17 -> 2.9569664 | H18: =+Cond3Pot!M17/Cond3Pot!L17 -> 363.14548 | I18: =+Cond3Pot!N17 -> 0.961318 | J18: 76 | K18: BD | O18: =+F18/B18 -> 0.96713269
A19: AL39P3_completo.csv | B19: =+Cond3Pot!D18/Cond3Pot!C18 -> 177.4703 | C19: =+Cond3Pot!E18 -> 3.3364286 | D19: =+Cond3Pot!G18/Cond3Pot!F18 -> 397.4359 | E19: =+Cond3Pot!H18 -> 0.80439783 | F19: =+Cond3Pot!J18/Cond3Pot!I18 -> 183.23224 | G19: =+Cond3Pot!K18 -> 2.9334949 | H19: =+Cond3Pot!M18/Cond3Pot!L18 -> 457.26909 | I19: =+Cond3Pot!N18 -> 0.69282918 | J19: 76 | K19: BD | O19: =+F19/B19 -> 1.0324671
A20: AL39P4_completo.csv | B20: =+Cond3Pot!D19/Cond3Pot!C19 -> 185.2142 | C20: =+Cond3Pot!E19 -> 3.3073496 | D20: =+Cond3Pot!G19/Cond3Pot!F19 -> 553.28376 | E20: =+Cond3Pot!H19 -> 0.52958646 | F20: =+Cond3Pot!J19/Cond3Pot!I19 -> 201.34314 | G20: =+Cond3Pot!K19 -> 2.9030816 | H20: =+Cond3Pot!M19/Cond3Pot!L19 -> 802.44965 | I20: =+Cond3Pot!N19 -> 0.30697447 | J20: 76 | K20: BD | O20: =+F20/B20 -> 1.0870826
A22: Al1Tr2 | B22: 209.46315 | D22: 210.40795 | F22: 216.66666 | H22: 217.46861
A23: Al1Tr3 | B23: 223.41082 | D23: 224.08568 | F23: 230.29058 | H23: 230.82522
A24: Al1Tr4 | B24: 236.793 | D24: 237.19791 | F24: 243.34902 | H24: 243.61634
A25: Al2Tr2 | B25: 264.06978 | D25: 265.01457 | F25: 271.27328 | H25: 272.07524
A26: Al2Tr3 | B26: 278.01745 | D26: 278.6923 | F26: 284.89721 | H26: 285.43184
A27: Al2Tr4 | B27: 291.39963 | D27: 291.80454 | F27: 297.95565 | H27: 298.22297
M30: =5.90385265502428/2 -> 2.9519263 | O30: =5.95499778342467/2 -> 2.9774989 | P30: =5.98057034762494/2 -> 2.9902852
M31: 1.2147361 | O31: 0.67485337 | P31: 0.40491202
M32: 6.3125068 | O32: 6.2049073 | P32: 6.1511075
M33: 1.0692725 | O33: 0.53463624 | P33: 0.26731812
M34: 2.95 | O34: =+O30 -> 2.9774989 | P34: =+P30 -> 2.9902852

Sheet Cond4
A1: Nombre | B1: Cara de presion entrada | C1: Cara de presion | D1: Borde de entrada | E1: Cara de Succion | F1: Borde de salida | G1: Cara de presion salida | H1: Grano | I1: Densidad | J1: Trayectoria | K1: Dif entrada resto presion | L1: Media | M1: Desvest
A2: AL20P2_completo.csv | B2: =+INDEX(Potencia!$B$2:$G$146,MATCH(Cond4!$A2,Potencia!$A$2:$A$146,0),MATCH(Cond4!B$1,Potencia!$B$1:$G$1,0)) -> 332 | C2: =+INDEX(Potencia!$B$2:$G$146,MATCH(Cond4!$A2,Potencia!$A$2:$A$146,0),MATCH(Cond4!C$1,Potencia!$B$1:$G$1,0)) -> 312 | D2: =+INDEX(Potencia!$B$2:$G$146,MATCH(Cond4!$A2,Potencia!$A$2:$A$146,0),MATCH(Cond4!D$1,Potencia!$B$1:$G$1,0)) -> 34 | E2: =+INDEX(Potencia!$B$2:$G$146,MATCH(Cond4!$A2,Potencia!$A$2:$A$146,0),MATCH(Cond4!E$1,Potencia!$B$1:$G$1,0)) -> 252 | F2: =+INDEX(Potencia!$B$2:$G$146,MATCH(Cond4!$A2,Potencia!$A$2:$A$146,0),MATCH(Cond4!F$1,Potencia!$B$1:$G$1,0)) -> 59 | G2: =+INDEX(Potencia!$B$2:$G$146,MATCH(Cond4!$A2,Potencia!$A$2:$A$146,0),MATCH(Cond4!G$1,Potencia!$B$1:$G$1,0)) -> 215 | H2: 46 | I2: AD | J2: 2 | K2: =+(B2-C2)/C2 -> 0.064102564 | L2: =+AVERAGE(K2:K13) -> 0.067373215 | M2: =+_xlfn.STDEV.P(K2:K13) -> 0.027134622
A3: AL20P3_completo.csv | B3: =+INDEX(Potencia!$B$2:$G$146,MATCH(Cond4!$A3,Potencia!$A$2:$A$146,0),MATCH(Cond4!B$1,Potencia!$B$1:$G$1,0)) -> 371 | C3: =+INDEX(Potencia!$B$2:$G$146,MATCH(Cond4!$A3,Potencia!$A$2:$A$146,0),MATCH(Cond4!C$1,Potencia!$B$1:$G$1,0)) -> 355 | D3: =+INDEX(Potencia!$B$2:$G$146,MATCH(Cond4!$A3,Potencia!$A$2:$A$146,0),MATCH(Cond4!D$1,Potencia!$B$1:$G$1,0)) -> 52 | E3: =+INDEX(Potencia!$B$2:$G$146,MATCH(Cond4!$A3,Potencia!$A$2:$A$146,0),MATCH(Cond4!E$1,Potencia!$B$1:$G$1,0)) -> 298 | F3: =+INDEX(Potencia!$B$2:$G$146,MATCH(Cond4!$A3,Potencia!$A$2:$A$146,0),MATCH(Cond4!F$1,Potencia!$B$1:$G$1,0)) -> 44 | G3: =+INDEX(Potencia!$B$2:$G$146,MATCH(Cond4!$A3,Potencia!$A$2:$A$146,0),MATCH(Cond4!G$1,Potencia!$B$1:$G$1,0)) -> 237 | H3: 46 | I3: AD | J3: 3 | K3: =+(B3-C3)/C3 -> 0.045070423
A4: AL20P4_completo.csv | B4: =+INDEX(Potencia!$B$2:$G$146,MATCH(Cond4!$A4,Potencia!$A$2:$A$146,0),MATCH(Cond4!B$1,Potencia!$B$1:$G$1,0)) -> 424 | C4: =+INDEX(Potencia!$B$2:$G$146,MATCH(Cond4!$A4,Potencia!$A$2:$A$146,0),MATCH(Cond4!C$1,Potencia!$B$1:$G$1,0)) -> 394 | D4: =+INDEX(Potencia!$B$2:$G$146,MATCH(Cond4!$A4,Potencia!$A$2:$A$146,0),MATCH(Cond4!D$1,Potencia!$B$1:$G$1,0)) -> 48 | E4: =+INDEX(Potencia!$B$2:$G$146,MATCH(Cond4!$A4,Potencia!$A$2:$A$146,0),MATCH(Cond4!E$1,Potencia!$B$1:$G$1,0)) -> 343 | F4: =+INDEX(Potencia!$B$2:$G$146,MATCH(Cond4!$A4,Potencia!$A$2:$A$146,0),MATCH(Cond4!F$1,Potencia!$B$1:$G$1,0)) -> 44 | G4: =+INDEX(Potencia!$B$2:$G$146,MATCH(Cond4!$A4,Potencia!$A$2:$A$146,0),MATCH(Cond4!G$1,Potencia!$B$1:$G$1,0)) -> 284 | H4: 46 | I4: AD | J4: 4 | K4: =+(B4-C4)/C4 -> 0.076142132
A5: AL21P2_completo.csv | B5: =+INDEX(Potencia!$B$2:$G$146,MATCH(Cond4!$A5,Potencia!$A$2:$A$146,0),MATCH(Cond4!B$1,Potencia!$B$1:$G$1,0)) -> 365 | C5: =+INDEX(Potencia!$B$2:$G$146,MATCH(Cond4!$A5,Potencia!$A$2:$A$146,0),MATCH(Cond4!C$1,Potencia!$B$1:$G$1,0)) -> 338 | D5: =+INDEX(Potencia!$B$2:$G$146,MATCH(Cond4!$A5,Potencia!$A$2:$A$146,0),MATCH(Cond4!D$1,Potencia!$B$1:$G$1,0)) -> 66 | E5: =+INDEX(Potencia!$B$2:$G$146,MATCH(Cond4!$A5,Potencia!$A$2:$A$146,0),MATCH(Cond4!E$1,Potencia!$B$1:$G$1,0)) -> 257 | F5: =+INDEX(Potencia!$B$2:$G$146,MATCH(Cond4!$A5,Potencia!$A$2:$A$146,0),MATCH(Cond4!F$1,Potencia!$B$1:$G$1,0)) -> 58 | G5: =+INDEX(Potencia!$B$2:$G$146,MATCH(Cond4!$A5,Potencia!$A$2:$A$146,0),MATCH(Cond4!G$1,Potencia!$B$1:$G$1,0)) -> 236 | H5: 46 | I5: AD | J5: 2 | K5: =+(B5-C5)/C5 -> 0.079881657
A6: AL21P3_completo.csv | B6: =+INDEX(Potencia!$B$2:$G$146,MATCH(Cond4!$A6,Potencia!$A$2:$A$146,0),MATCH(Cond4!B$1,Potencia!$B$1:$G$1,0)) -> 397 | C6: =+INDEX(Potencia!$B$2:$G$146,MATCH(Cond4!$A6,Potencia!$A$2:$A$146,0),MATCH(Cond4!C$1,Potencia!$B$1:$G$1,0)) -> 372 | D6: =+INDEX(Potencia!$B$2:$G$146,MATCH(Cond4!$A6,Potencia!$A$2:$A$146,0),MATCH(Cond4!D$1,Potencia!$B$1:$G$1,0)) -> 55 | E6: =+INDEX(Potencia!$B$2:$G$146,MATCH(Cond4!$A6,Potencia!$A$2:$A$146,0),MATCH(Cond4!E$1,Potencia!$B$1:$G$1,0)) -> 299 | F6: =+INDEX(Potencia!$B$2:$G$146,MATCH(Cond4!$A6,Potencia!$A$2:$A$146,0),MATCH(Cond4!F$1,Potencia!$B$1:$G$1,0)) -> 51 | G6: =+INDEX(Potencia!$B$2:$G$146,MATCH(Cond4!$A6,Potencia!$A$2:$A$146,0),MATCH(Cond4!G$1,Potencia!$B$1:$G$1,0)) -> 248 | H6: 46 | I6: AD | J6: 3 | K6: =+(B6-C6)/C6 -> 0.067204301
A7: AL21P4_completo.csv | B7: =+INDEX(Potencia!$B$2:$G$146,MATCH(Cond4!$A7,Potencia!$A$2:$A$146,0),MATCH(Cond4!B$1,Potencia!$B$1:$G$1,0)) -> 429 | C7: =+INDEX(Potencia!$B$2:$G$146,MATCH(Cond4!$A7,Potencia!$A$2:$A$146,0),MATCH(Cond4!C$1,Potencia!$B$1:$G$1,0)) -> 397 | D7: =+INDEX(Potencia!$B$2:$G$146,MATCH(Cond4!$A7,Potencia!$A$2:$A$146,0),MATCH(Cond4!D$1,Potencia!$B$1:$G$1,0)) -> 49 | E7: =+INDEX(Potencia!$B$2:$G$146,MATCH(Cond4!$A7,Potencia!$A$2:$A$146,0),MATCH(Cond4!E$1,Potencia!$B$1:$G$1,0)) -> 335 | F7: =+INDEX(Potencia!$B$2:$G$146,MATCH(Cond4!$A7,Potencia!$A$2:$A$146,0),MATCH(Cond4!F$1,Potencia!$B$1:$G$1,0)) -> 40 | G7: =+INDEX(Potencia!$B$2:$G$146,MATCH(Cond4!$A7,Potencia!$A$2:$A$146,0),MATCH(Cond4!G$1,Potencia!$B$1:$G$1,0)) -> 275 | H7: 46 | I7: AD | J7: 4 | K7: =+(B7-C7)/C7 -> 0.080604534
A8: AL24P2_completo.csv | B8: =+INDEX(Potencia!$B$2:$G$146,MATCH(Cond4!$A8,Potencia!$A$2:$A$146,0),MATCH(Cond4!B$1,Potencia!$B$1:$G$1,0)) -> 320 | C8: =+INDEX(Potencia!$B$2:$G$146,MATCH(Cond4!$A8,Potencia!$A$2:$A$146,0),MATCH(Cond4!C$1,Potencia!$B$1:$G$1,0)) -> 303 | D8: =+INDEX(Potencia!$B$2:$G$146,MATCH(Cond4!$A8,Potencia!$A$2:$A$146,0),MATCH(Cond4!D$1,Potencia!$B$1:$G$1,0)) -> 58 | E8: =+INDEX(Potencia!$B$2:$G$146,MATCH(Cond4!$A8,Potencia!$A$2:$A$146,0),MATCH(Cond4!E$1,Potencia!$B$1:$G$1,0)) -> 227 | F8: =+INDEX(Potencia!$B$2:$G$146,MATCH(Cond4!$A8,Potencia!$A$2:$A$146,0),MATCH(Cond4!F$1,Potencia!$B$1:$G$1,0)) -> 56 | G8: =+INDEX(Potencia!$B$2:$G$146,MATCH(Cond4!$A8,Potencia!$A$2:$A$146,0),MATCH(Cond4!G$1,Potencia!$B$1:$G$1,0)) -> 213 | H8: 46 | I8: BD | J8: 2 | K8: =+(B8-C8)/C8 -> 0.056105611
A9: AL24P3_completo.csv | B9: =+INDEX(Potencia!$B$2:$G$146,MATCH(Cond4!$A9,Potencia!$A$2:$A$146,0),MATCH(Cond4!B$1,Potencia!$B$1:$G$1,0)) -> 333 | C9: =+INDEX(Potencia!$B$2:$G$146,MATCH(Cond4!$A9,Potencia!$A$2:$A$146,0),MATCH(Cond4!C$1,Potencia!$B$1:$G$1,0)) -> 334 | D9: =+INDEX(Potencia!$B$2:$G$146,MATCH(Cond4!$A9,Potencia!$A$2:$A$146,0),MATCH(Cond4!D$1,Potencia!$B$1:$G$1,0)) -> 45 | E9: =+INDEX(Potencia!$B$2:$G$146,MATCH(Cond4!$A9,Potencia!$A$2:$A$146,0),MATCH(Cond4!E$1,Potencia!$B$1:$G$1,0)) -> 257 | F9: =+INDEX(Potencia!$B$2:$G$146,MATCH(Cond4!$A9,Potencia!$A$2:$A$146,0),MATCH(Cond4!F$1,Potencia!$B$1:$G$1,0)) -> 32 | G9: =+INDEX(Potencia!$B$2:$G$146,MATCH(Cond4!$A9,Potencia!$A$2:$A$146,0),MATCH(Cond4!G$1,Potencia!$B$1:$G$1,0)) -> 199 | H9: 46 | I9: BD | J9: 3 | K9: =+(B9-C9)/C9 -> -0.002994012
A10: AL24P4_completo.csv | B10: =+INDEX(Potencia!$B$2:$G$146,MATCH(Cond4!$A10,Potencia!$A$2:$A$146,0),MATCH(Cond4!B$1,Potencia!$B$1:$G$1,0)) -> 401 | C10: =+INDEX(Potencia!$B$2:$G$146,MATCH(Cond4!$A10,Potencia!$A$2:$A$146,0),MATCH(Cond4!C$1,Potencia!$B$1:$G$1,0)) -> 371 | D10: =+INDEX(Potencia!$B$2:$G$146,MATCH(Cond4!$A10,Potencia!$A$2:$A$146,0),MATCH(Cond4!D$1,Potencia!$B$1:$G$1,0)) -> 31 | E10: =+INDEX(Potencia!$B$2:$G$146,MATCH(Cond4!$A10,Potencia!$A$2:$A$146,0),MATCH(Cond4!E$1,Potencia!$B$1:$G$1,0)) -> 320 | F10: =+INDEX(Potencia!$B$2:$G$146,MATCH(Cond4!$A10,Potencia!$A$2:$A$146,0),MATCH(Cond4!F$1,Potencia!$B$1:$G$1,0)) -> 29 | G10: =+INDEX(Potencia!$B$2:$G$146,MATCH(Cond4!$A10,Potencia!$A$2:$A$146,0),MATCH(Cond4!G$1,Potencia!$B$1:$G$1,0)) -> 286 | H10: 46 | I10: BD | J10: 4 | K10: =+(B10-C10)/C10 -> 0.080862534
A11: AL25P2_completo.csv | B11: =+INDEX(Potencia!$B$2:$G$146,MATCH(Cond4!$A11,Potencia!$A$2:$A$146,0),MATCH(Cond4!B$1,Potencia!$B$1:$G$1,0)) -> 394 | C11: =+INDEX(Potencia!$B$2:$G$146,MATCH(Cond4!$A11,Potencia!$A$2:$A$146,0),MATCH(Cond4!C$1,Potencia!$B$1:$G$1,0)) -> 372 | D11: =+INDEX(Potencia!$B$2:$G$146,MATCH(Cond4!$A11,Potencia!$A$2:$A$146,0),MATCH(Cond4!D$1,Potencia!$B$1:$G$1,0)) -> 61 | E11: =+INDEX(Potencia!$B$2:$G$146,MATCH(Cond4!$A11,Potencia!$A$2:$A$146,0),MATCH(Cond4!E$1,Potencia!$B$1:$G$1,0)) -> 272 | F11: =+INDEX(Potencia!$B$2:$G$146,MATCH(Cond4!$A11,Potencia!$A$2:$A$146,0),MATCH(Cond4!F$1,Potencia!$B$1:$G$1,0)) -> 70 | G11: =+INDEX(Potencia!$B$2:$G$146,MATCH(Cond4!$A11,Potencia!$A$2:$A$146,0),MATCH(Cond4!G$1,Potencia!$B$1:$G$1,0)) -> 265 | H11: 46 | I11: BD | J11: 2 | K11: =+(B11-C11)/C11 -> 0.059139785
A12: AL25P3_completo.csv | B12: =+INDEX(Potencia!$B$2:$G$146,MATCH(Cond4!$A12,Potencia!$A$2:$A$146,0),MATCH(Cond4!B$1,Potencia!$B$1:$G$1,0)) -> 429 | C12: =+INDEX(Potencia!$B$2:$G$146,MATCH(Cond4!$A12,Potencia!$A$2:$A$146,0),MATCH(Cond4!C$1,Potencia!$B$1:$G$1,0)) -> 394 | D12: =+INDEX(Potencia!$B$2:$G$146,MATCH(Cond4!$A12,Potencia!$A$2:$A$146,0),MATCH(Cond4!D$1,Potencia!$B$1:$G$1,0)) -> 57 | E12: =+INDEX(Potencia!$B$2:$G$146,MATCH(Cond4!$A12,Potencia!$A$2:$A$146,0),MATCH(Cond4!E$1,Potencia!$B$1:$G$1,0)) -> 329 | F12: =+INDEX(Potencia!$B$2:$G$146,MATCH(Cond4!$A12,Potencia!$A$2:$A$146,0),MATCH(Cond4!F$1,Potencia!$B$1:$G$1,0)) -> 48 | G12: =+INDEX(Potencia!$B$2:$G$146,MATCH(Cond4!$A12,Potencia!$A$2:$A$146,0),MATCH(Cond4!G$1,Potencia!$B$1:$G$1,0)) -> 279 | H12: 46 | I12: BD | J12: 3 | K12: =+(B12-C12)/C12 -> 0.088832487
A13: AL25P4_completo.csv | B13: =+INDEX(Potencia!$B$2:$G$146,MATCH(Cond4!$A13,Potencia!$A$2:$A$146,0),MATCH(Cond4!B$1,Potencia!$B$1:$G$1,0)) -> 461 | C13: =+INDEX(Potencia!$B$2:$G$146,MATCH(Cond4!$A13,Potencia!$A$2:$A$146,0),MATCH(Cond4!C$1,Potencia!$B$1:$G$1,0)) -> 414 | D13: =+INDEX(Potencia!$B$2:$G$146,MATCH(Cond4!$A13,Potencia!$A$2:$A$146,0),MATCH(Cond4!D$1,Potencia!$B$1:$G$1,0)) -> 36 | E13: =+INDEX(Potencia!$B$2:$G$146,MATCH(Cond4!$A13,Potencia!$A$2:$A$146,0),MATCH(Cond4!E$1,Potencia!$B$1:$G$1,0)) -> 360 | F13: =+INDEX(Potencia!$B$2:$G$146,MATCH(Cond4!$A13,Potencia!$A$2:$A$146,0),MATCH(Cond4!F$1,Potencia!$B$1:$G$1,0)) -> 32 | G13: =+INDEX(Potencia!$B$2:$G$146,MATCH(Cond4!$A13,Potencia!$A$2:$A$146,0),MATCH(Cond4!G$1,Potencia!$B$1:$G$1,0)) -> 298 | H13: 46 | I13: BD | J13: 4 | K13: =+(B13-C13)/C13 -> 0.11352657
A14: AL22P2_completo.csv | B14: =+INDEX(Potencia!$B$2:$G$146,MATCH(Cond4!$A14,Potencia!$A$2:$A$146,0),MATCH(Cond4!B$1,Potencia!$B$1:$G$1,0)) -> 331 | C14: =+INDEX(Potencia!$B$2:$G$146,MATCH(Cond4!$A14,Potencia!$A$2:$A$146,0),MATCH(Cond4!C$1,Potencia!$B$1:$G$1,0)) -> 296 | D14: =+INDEX(Potencia!$B$2:$G$146,MATCH(Cond4!$A14,Potencia!$A$2:$A$146,0),MATCH(Cond4!D$1,Potencia!$B$1:$G$1,0)) -> 36 | E14: =+INDEX(Potencia!$B$2:$G$146,MATCH(Cond4!$A14,Potencia!$A$2:$A$146,0),MATCH(Cond4!E$1,Potencia!$B$1:$G$1,0)) -> 213 | F14: =+INDEX(Potencia!$B$2:$G$146,MATCH(Cond4!$A14,Potencia!$A$2:$A$146,0),MATCH(Cond4!F$1,Potencia!$B$1:$G$1,0)) -> 33 | G14: =+INDEX(Potencia!$B$2:$G$146,MATCH(Cond4!$A14,Potencia!$A$2:$A$146,0),MATCH(Cond4!G$1,Potencia!$B$1:$G$1,0)) -> 155 | H14: 76 | I14: AD | J14: 2 | K14: =+(B14-C14)/C14 -> 0.11824324 | L14: =+AVERAGE(K14:K25) -> 0.090775145 | M14: =+_xlfn.STDEV.P(K14:K25) -> 0.036218742
A15: AL22P3_completo.csv | B15: =+INDEX(Potencia!$B$2:$G$146,MATCH(Cond4!$A15,Potencia!$A$2:$A$146,0),MATCH(Cond4!B$1,Potencia!$B$1:$G$1,0)) -> 412 | C15: =+INDEX(Potencia!$B$2:$G$146,MATCH(Cond4!$A15,Potencia!$A$2:$A$146,0),MATCH(Cond4!C$1,Potencia!$B$1:$G$1,0)) -> 348 | D15: =+INDEX(Potencia!$B$2:$G$146,MATCH(Cond4!$A15,Potencia!$A$2:$A$146,0),MATCH(Cond4!D$1,Potencia!$B$1:$G$1,0)) -> 61 | E15: =+INDEX(Potencia!$B$2:$G$146,MATCH(Cond4!$A15,Potencia!$A$2:$A$146,0),MATCH(Cond4!E$1,Potencia!$B$1:$G$1,0)) -> 305 | F15: =+INDEX(Potencia!$B$2:$G$146,MATCH(Cond4!$A15,Potencia!$A$2:$A$146,0),MATCH(Cond4!F$1,Potencia!$B$1:$G$1,0)) -> 50 | G15: =+INDEX(Potencia!$B$2:$G$146,MATCH(Cond4!$A15,Potencia!$A$2:$A$146,0),MATCH(Cond4!G$1,Potencia!$B$1:$G$1,0)) -> 235 | H15: 76 | I15: AD | J15: 3 | K15: =+(B15-C15)/C15 -> 0.18390805
A16: AL22P4_completo.csv | B16: =+INDEX(Potencia!$B$2:$G$146,MATCH(Cond4!$A16,Potencia!$A$2:$A$146,0),MATCH(Cond4!B$1,Potencia!$B$1:$G$1,0)) -> 450 | C16: =+INDEX(Potencia!$B$2:$G$146,MATCH(Cond4!$A16,Potencia!$A$2:$A$146,0),MATCH(Cond4!C$1,Potencia!$B$1:$G$1,0)) -> 397 | D16: =+INDEX(Potencia!$B$2:$G$146,MATCH(Cond4!$A16,Potencia!$A$2:$A$146,0),MATCH(Cond4!D$1,Potencia!$B$1:$G$1,0)) -> 46 | E16: =+INDEX(Potencia!$B$2:$G$146,MATCH(Cond4!$A16,Potencia!$A$2:$A$146,0),MATCH(Cond4!E$1,Potencia!$B$1:$G$1,0)) -> 357 | F16: =+INDEX(Potencia!$B$2:$G$146,MATCH(Cond4!$A16,Potencia!$A$2:$A$146,0),MATCH(Cond4!F$1,Potencia!$B$1:$G$1,0)) -> 41 | G16: =+INDEX(Potencia!$B$2:$G$146,MATCH(Cond4!$A16,Potencia!$A$2:$A$146,0),MATCH(Cond4!G$1,Potencia!$B$1:$G$1,0)) -> 283 | H16: 76 | I16: AD | J16: 4 | K16: =+(B16-C16)/C16 -> 0.13350126
A17: AL23P2_completo.csv | B17: =+INDEX(Potencia!$B$2:$G$146,MATCH(Cond4!$A17,Potencia!$A$2:$A$146,0),MATCH(Cond4!B$1,Potencia!$B$1:$G$1,0)) -> 390 | C17: =+INDEX(Potencia!$B$2:$G$146,MATCH(Cond4!$A17,Potencia!$A$2:$A$146,0),MATCH(Cond4!C$1,Potencia!$B$1:$G$1,0)) -> 357 | D17: =+INDEX(Potencia!$B$2:$G$146,MATCH(Cond4!$A17,Potencia!$A$2:$A$146,0),MATCH(Cond4!D$1,Potencia!$B$1:$G$1,0)) -> 84 | E17: =+INDEX(Potencia!$B$2:$G$146,MATCH(Cond4!$A17,Potencia!$A$2:$A$146,0),MATCH(Cond4!E$1,Potencia!$B$1:$G$1,0)) -> 291 | F17: =+INDEX(Potencia!$B$2:$G$146,MATCH(Cond4!$A17,Potencia!$A$2:$A$146,0),MATCH(Cond4!F$1,Potencia!$B$1:$G$1,0)) -> 72 | G17: =+INDEX(Potencia!$B$2:$G$146,MATCH(Cond4!$A17,Potencia!$A$2:$A$146,0),MATCH(Cond4!G$1,Potencia!$B$1:$G$1,0)) -> 264 | H17: 76 | I17: AD | J17: 2 | K17: =+(B17-C17)/C17 -> 0.092436975
A18: AL23P3_completo.csv | B18: =+INDEX(Potencia!$B$2:$G$146,MATCH(Cond4!$A18,Potencia!$A$2:$A$146,0),MATCH(Cond4!B$1,Potencia!$B$1:$G$1,0)) -> 442 | C18: =+INDEX(Potencia!$B$2:$G$146,MATCH(Cond4!$A18,Potencia!$A$2:$A$146,0),MATCH(Cond4!C$1,Potencia!$B$1:$G$1,0)) -> 419 | D18: =+INDEX(Potencia!$B$2:$G$146,MATCH(Cond4!$A18,Potencia!$A$2:$A$146,0),MATCH(Cond4!D$1,Potencia!$B$1:$G$1,0)) -> 75 | E18: =+INDEX(Potencia!$B$2:$G$146,MATCH(Cond4!$A18,Potencia!$A$2:$A$146,0),MATCH(Cond4!E$1,Potencia!$B$1:$G$1,0)) -> 344 | F18: =+INDEX(Potencia!$B$2:$G$146,MATCH(Cond4!$A18,Potencia!$A$2:$A$146,0),MATCH(Cond4!F$1,Potencia!$B$1:$G$1,0)) -> 65 | G18: =+INDEX(Potencia!$B$2:$G$146,MATCH(Cond4!$A18,Potencia!$A$2:$A$146,0),MATCH(Cond4!G$1,Potencia!$B$1:$G$1,0)) -> 273 | H18: 76 | I18: AD | J18: 3 | K18: =+(B18-C18)/C18 -> 0.054892601
A19: AL23P4_completo.csv | B19: =+INDEX(Potencia!$B$2:$G$146,MATCH(Cond4!$A19,Potencia!$A$2:$A$146,0),MATCH(Cond4!B$1,Potencia!$B$1:$G$1,0)) -> 471 | C19: =+INDEX(Potencia!$B$2:$G$146,MATCH(Cond4!$A19,Potencia!$A$2:$A$146,0),MATCH(Cond4!C$1,Potencia!$B$1:$G$1,0)) -> 436 | D19: =+INDEX(Potencia!$B$2:$G$146,MATCH(Cond4!$A19,Potencia!$A$2:$A$146,0),MATCH(Cond4!D$1,Potencia!$B$1:$G$1,0)) -> 49 | E19: =+INDEX(Potencia!$B$2:$G$146,MATCH(Cond4!$A19,Potencia!$A$2:$A$146,0),MATCH(Cond4!E$1,Potencia!$B$1:$G$1,0)) -> 378 | F19: =+INDEX(Potencia!$B$2:$G$146,MATCH(Cond4!$A19,Potencia!$A$2:$A$146,0),MATCH(Cond4!F$1,Potencia!$B$1:$G$1,0)) -> 44 | G19: =+INDEX(Potencia!$B$2:$G$146,MATCH(Cond4!$A19,Potencia!$A$2:$A$146,0),MATCH(Cond4!G$1,Potencia!$B$1:$G$1,0)) -> 298 | H19: 76 | I19: AD | J19: 4 | K19: =+(B19-C19)/C19 -> 0.080275229
A20: AL32P2_completo.csv | B20: =+INDEX(Potencia!$B$2:$G$146,MATCH(Cond4!$A20,Potencia!$A$2:$A$146,0),MATCH(Cond4!B$1,Potencia!$B$1:$G$1,0)) -> 309 | C20: =+INDEX(Potencia!$B$2:$G$146,MATCH(Cond4!$A20,Potencia!$A$2:$A$146,0),MATCH(Cond4!C$1,Potencia!$B$1:$G$1,0)) -> 291 | D20: =+INDEX(Potencia!$B$2:$G$146,MATCH(Cond4!$A20,Potencia!$A$2:$A$146,0),MATCH(Cond4!D$1,Potencia!$B$1:$G$1,0)) -> 71 | E20: =+INDEX(Potencia!$B$2:$G$146,MATCH(Cond4!$A20,Potencia!$A$2:$A$146,0),MATCH(Cond4!E$1,Potencia!$B$1:$G$1,0)) -> 236 | F20: =+INDEX(Potencia!$B$2:$G$146,MATCH(Cond4!$A20,Potencia!$A$2:$A$146,0),MATCH(Cond4!F$1,Potencia!$B$1:$G$1,0)) -> 64 | G20: =+INDEX(Potencia!$B$2:$G$146,MATCH(Cond4!$A20,Potencia!$A$2:$A$146,0),MATCH(Cond4!G$1,Potencia!$B$1:$G$1,0)) -> 219 | H20: 76 | I20: BD | J20: 2 | K20: =+(B20-C20)/C20 -> 0.06185567
A21: AL32P3_completo.csv | B21: =+INDEX(Potencia!$B$2:$G$146,MATCH(Cond4!$A21,Potencia!$A$2:$A$146,0),MATCH(Cond4!B$1,Potencia!$B$1:$G$1,0)) -> 363 | C21: =+INDEX(Potencia!$B$2:$G$146,MATCH(Cond4!$A21,Potencia!$A$2:$A$146,0),MATCH(Cond4!C$1,Potencia!$B$1:$G$1,0)) -> 339 | D21: =+INDEX(Potencia!$B$2:$G$146,MATCH(Cond4!$A21,Potencia!$A$2:$A$146,0),MATCH(Cond4!D$1,Potencia!$B$1:$G$1,0)) -> 68 | E21: =+INDEX(Potencia!$B$2:$G$146,MATCH(Cond4!$A21,Potencia!$A$2:$A$146,0),MATCH(Cond4!E$1,Potencia!$B$1:$G$1,0)) -> 281 | F21: =+INDEX(Potencia!$B$2:$G$146,MATCH(Cond4!$A21,Potencia!$A$2:$A$146,0),MATCH(Cond4!F$1,Potencia!$B$1:$G$1,0)) -> 59 | G21: =+INDEX(Potencia!$B$2:$G$146,MATCH(Cond4!$A21,Potencia!$A$2:$A$146,0),MATCH(Cond4!G$1,Potencia!$B$1:$G$1,0)) -> 227 | H21: 76 | I21: BD | J21: 3 | K21: =+(B21-C21)/C21 -> 0.07079646
A22: AL32P4_completo.csv | B22: =+INDEX(Potencia!$B$2:$G$146,MATCH(Cond4!$A22,Potencia!$A$2:$A$146,0),MATCH(Cond4!B$1,Potencia!$B$1:$G$1,0)) -> 392 | C22: =+INDEX(Potencia!$B$2:$G$146,MATCH(Cond4!$A22,Potencia!$A$2:$A$146,0),MATCH(Cond4!C$1,Potencia!$B$1:$G$1,0)) -> 358 | D22: =+INDEX(Potencia!$B$2:$G$146,MATCH(Cond4!$A22,Potencia!$A$2:$A$146,0),MATCH(Cond4!D$1,Potencia!$B$1:$G$1,0)) -> 42 | E22: =+INDEX(Potencia!$B$2:$G$146,MATCH(Cond4!$A22,Potencia!$A$2:$A$146,0),MATCH(Cond4!E$1,Potencia!$B$1:$G$1,0)) -> 311 | F22: =+INDEX(Potencia!$B$2:$G$146,MATCH(Cond4!$A22,Potencia!$A$2:$A$146,0),MATCH(Cond4!F$1,Potencia!$B$1:$G$1,0)) -> 34 | G22: =+INDEX(Potencia!$B$2:$G$146,MATCH(Cond4!$A22,Potencia!$A$2:$A$146,0),MATCH(Cond4!G$1,Potencia!$B$1:$G$1,0)) -> 245 | H22: 76 | I22: BD | J22: 4 | K22: =+(B22-C22)/C22 -> 0.094972067
A23: AL33P2_completo.csv | B23: =+INDEX(Potencia!$B$2:$G$146,MATCH(Cond4!$A23,Potencia!$A$2:$A$146,0),MATCH(Cond4!B$1,Potencia!$B$1:$G$1,0)) -> 340 | C23: =+INDEX(Potencia!$B$2:$G$146,MATCH(Cond4!$A23,Potencia!$A$2:$A$146,0),MATCH(Cond4!C$1,Potencia!$B$1:$G$1,0)) -> 319 | D23: =+INDEX(Potencia!$B$2:$G$146,MATCH(Cond4!$A23,Potencia!$A$2:$A$146,0),MATCH(Cond4!D$1,Potencia!$B$1:$G$1,0)) -> 82 | E23: =+INDEX(Potencia!$B$2:$G$146,MATCH(Cond4!$A23,Potencia!$A$2:$A$146,0),MATCH(Cond4!E$1,Potencia!$B$1:$G$1,0)) -> 261 | F23: =+INDEX(Potencia!$B$2:$G$146,MATCH(Cond4!$A23,Potencia!$A$2:$A$146,0),MATCH(Cond4!F$1,Potencia!$B$1:$G$1,0)) -> 71 | G23: =+INDEX(Potencia!$B$2:$G$146,MATCH(Cond4!$A23,Potencia!$A$2:$A$146,0),MATCH(Cond4!G$1,Potencia!$B$1:$G$1,0)) -> 243 | H23: 76 | I23: BD | J23: 2 | K23: =+(B23-C23)/C23 -> 0.065830721
A24: AL33P3_completo.csv | B24: =+INDEX(Potencia!$B$2:$G$146,MATCH(Cond4!$A24,Potencia!$A$2:$A$146,0),MATCH(Cond4!B$1,Potencia!$B$1:$G$1,0)) -> 384 | C24: =+INDEX(Potencia!$B$2:$G$146,MATCH(Cond4!$A24,Potencia!$A$2:$A$146,0),MATCH(Cond4!C$1,Potencia!$B$1:$G$1,0)) -> 361 | D24: =+INDEX(Potencia!$B$2:$G$146,MATCH(Cond4!$A24,Potencia!$A$2:$A$146,0),MATCH(Cond4!D$1,Potencia!$B$1:$G$1,0)) -> 68 | E24: =+INDEX(Potencia!$B$2:$G$146,MATCH(Cond4!$A24,Potencia!$A$2:$A$146,0),MATCH(Cond4!E$1,Potencia!$B$1:$G$1,0)) -> 298 | F24: =+INDEX(Potencia!$B$2:$G$146,MATCH(Cond4!$A24,Potencia!$A$2:$A$146,0),MATCH(Cond4!F$1,Potencia!$B$1:$G$1,0)) -> 55 | G24: =+INDEX(Potencia!$B$2:$G$146,MATCH(Cond4!$A24,Potencia!$A$2:$A$146,0),MATCH(Cond4!G$1,Potencia!$B$1:$G$1,0)) -> 232 | H24: 76 | I24: BD | J24: 3 | K24: =+(B24-C24)/C24 -> 0.063711911
A25: AL33P4_completo.csv | B25: =+INDEX(Potencia!$B$2:$G$146,MATCH(Cond4!$A25,Potencia!$A$2:$A$146,0),MATCH(Cond4!B$1,Potencia!$B$1:$G$1,0)) -> 419 | C25: =+INDEX(Potencia!$B$2:$G$146,MATCH(Cond4!$A25,Potencia!$A$2:$A$146,0),MATCH(Cond4!C$1,Potencia!$B$1:$G$1,0)) -> 392 | D25: =+INDEX(Potencia!$B$2:$G$146,MATCH(Cond4!$A25,Potencia!$A$2:$A$146,0),MATCH(Cond4!D$1,Potencia!$B$1:$G$1,0)) -> 46 | E25: =+INDEX(Potencia!$B$2:$G$146,MATCH(Cond4!$A25,Potencia!$A$2:$A$146,0),MATCH(Cond4!E$1,Potencia!$B$1:$G$1,0)) -> 326 | F25: =+INDEX(Potencia!$B$2:$G$146,MATCH(Cond4!$A25,Potencia!$A$2:$A$146,0),MATCH(Cond4!F$1,Potencia!$B$1:$G$1,0)) -> 37 | G25: =+INDEX(Potencia!$B$2:$G$146,MATCH(Cond4!$A25,Potencia!$A$2:$A$146,0),MATCH(Cond4!G$1,Potencia!$B$1:$G$1,0)) -> 260 | H25: 76 | I25: BD | J25: 4 | K25: =+(B25-C25)/C25 -> 0.068877551

Sheet Cond4Pot
A1: Nombre | B1: Cara de presion entrada | C1: Tasa de arranque | D1: Cara de presion | E1: AGR | F1: Tasa de arranque | G1: Borde de entrada | H1: Agr | I1: Tasa de arranque | J1: Cara de Succion | K1: Agr | L1: Tasa de arranque | M1: Borde de salida | N1: Agr | O1: Cara de presion salida | P1: Grano | Q1: Densidad
A2: AL20P2_completo.csv | B2: =+Cond4!B2 -> 332 | C2: 1.4060673 | D2: =+Cond4!C2 -> 312 | E2: 1.7248634 | F2: 0.16761468 | G2: =+Cond4!D2 -> 34 | H2: 0.55494346 | I2: 1.0958367 | J2: =+Cond4!E2 -> 252 | K2: 1.518035 | L2: 0.14278287 | M2: =+Cond4!F2 -> 59 | N2: 0.49351739 | O2: =+Cond4!G2 -> 215 | P2: 46 | Q2: AD
A3: AL20P3_completo.csv | B3: =+Cond4!B3 -> 371 | C3: 1.4608347 | D3: =+Cond4!C3 -> 355 | E3: 1.7128417 | F3: 0.12142166 | G3: =+Cond4!D3 -> 52 | H3: 0.41295838 | I3: 1.1375213 | J3: =+Cond4!E3 -> 298 | K3: 1.5059853 | L3: 0.093184062 | M3: =+Cond4!F3 -> 44 | N3: 0.35568173 | O3: =+Cond4!G3 -> 237 | P3: 46 | Q3: AD
A4: AL20P4_completo.csv | B4: =+Cond4!B4 -> 424 | C4: 1.4912257 | D4: =+Cond4!C4 -> 394 | E4: 1.6979132 | F4: 0.064950949 | G4: =+Cond4!D4 -> 48 | H4: 0.27187687 | I4: 1.1601388 | J4: =+Cond4!E4 -> 343 | K4: 1.4903718 | L4: 0.033267559 | M4: =+Cond4!F4 -> 44 | N4: 0.15759326 | O4: =+Cond4!G4 -> 284 | P4: 46 | Q4: AD
A5: AL21P2_completo.csv | B5: =+Cond4!B5 -> 365 | C5: 1.4060673 | D5: =+Cond4!C5 -> 338 | E5: 1.7248634 | F5: 0.16761468 | G5: =+Cond4!D5 -> 66 | H5: 0.55494346 | I5: 1.0958367 | J5: =+Cond4!E5 -> 257 | K5: 1.518035 | L5: 0.14278287 | M5: =+Cond4!F5 -> 58 | N5: 0.49351739 | O5: =+Cond4!G5 -> 236 | P5: 46 | Q5: AD
A6: AL21P3_completo.csv | B6: =+Cond4!B6 -> 397 | C6: 1.4608347 | D6: =+Cond4!C6 -> 372 | E6: 1.7128417 | F6: 0.12142166 | G6: =+Cond4!D6 -> 55 | H6: 0.41295838 | I6: 1.1375213 | J6: =+Cond4!E6 -> 299 | K6: 1.5059853 | L6: 0.093184062 | M6: =+Cond4!F6 -> 51 | N6: 0.35568173 | O6: =+Cond4!G6 -> 248 | P6: 46 | Q6: AD
A7: AL21P4_completo.csv | B7: =+Cond4!B7 -> 429 | C7: 1.4912257 | D7: =+Cond4!C7 -> 397 | E7: 1.6979132 | F7: 0.064950949 | G7: =+Cond4!D7 -> 49 | H7: 0.27187687 | I7: 1.1601388 | J7: =+Cond4!E7 -> 335 | K7: 1.4903718 | L7: 0.033267559 | M7: =+Cond4!F7 -> 40 | N7: 0.15759326 | O7: =+Cond4!G7 -> 275 | P7: 46 | Q7: AD
A8: AL24P2_completo.csv | B8: =+Cond4!B8 -> 320 | C8: 1.4060673 | D8: =+Cond4!C8 -> 303 | E8: 1.7248634 | F8: 0.16761468 | G8: =+Cond4!D8 -> 58 | H8: 0.55494346 | I8: 1.0958367 | J8: =+Cond4!E8 -> 227 | K8: 1.518035 | L8: 0.14278287 | M8: =+Cond4!F8 -> 56 | N8: 0.49351739 | O8: =+Cond4!G8 -> 213 | P8: 46 | Q8: BD
A9: AL24P3_completo.csv | B9: =+Cond4!B9 -> 333 | C9: 1.4608347 | D9: =+Cond4!C9 -> 334 | E9: 1.7128417 | F9: 0.12142166 | G9: =+Cond4!D9 -> 45 | H9: 0.41295838 | I9: 1.1375213 | J9: =+Cond4!E9 -> 257 | K9: 1.5059853 | L9: 0.093184062 | M9: =+Cond4!F9 -> 32 | N9: 0.35568173 | O9: =+Cond4!G9 -> 199 | P9: 46 | Q9: BD
A10: AL24P4_completo.csv | B10: =+Cond4!B10 -> 401 | C10: 1.4912257 | D10: =+Cond4!C10 -> 371 | E10: 1.6979132 | F10: 0.064950949 | G10: =+Cond4!D10 -> 31 | H10: 0.27187687 | I10: 1.1601388 | J10: =+Cond4!E10 -> 320 | K10: 1.4903718 | L10: 0.033267559 | M10: =+Cond4!F10 -> 29 | N10: 0.15759326 | O10: =+Cond4!G10 -> 286 | P10: 46 | Q10: BD
A11: AL25P2_completo.csv | B11: =+Cond4!B11 -> 394 | C11: 1.4060673 | D11: =+Cond4!C11 -> 372 | E11: 1.7248634 | F11: 0.16761468 | G11: =+Cond4!D11 -> 61 | H11: 0.55494346 | I11: 1.0958367 | J11: =+Cond4!E11 -> 272 | K11: 1.518035 | L11: 0.14278287 | M11: =+Cond4!F11 -> 70 | N11: 0.49351739 | O11: =+Cond4!G11 -> 265 | P11: 46 | Q11: BD
A12: AL25P3_completo.csv | B12: =+Cond4!B12 -> 429 | C12: 1.4608347 | D12: =+Cond4!C12 -> 394 | E12: 1.7128417 | F12: 0.12142166 | G12: =+Cond4!D12 -> 57 | H12: 0.41295838 | I12: 1.1375213 | J12: =+Cond4!E12 -> 329 | K12: 1.5059853 | L12: 0.093184062 | M12: =+Cond4!F12 -> 48 | N12: 0.35568173 | O12: =+Cond4!G12 -> 279 | P12: 46 | Q12: BD
A13: AL25P4_completo.csv | B13: =+Cond4!B13 -> 461 | C13: 1.4912257 | D13: =+Cond4!C13 -> 414 | E13: 1.6979132 | F13: 0.064950949 | G13: =+Cond4!D13 -> 36 | H13: 0.27187687 | I13: 1.1601388 | J13: =+Cond4!E13 -> 360 | K13: 1.4903718 | L13: 0.033267559 | M13: =+Cond4!F13 -> 32 | N13: 0.15759326 | O13: =+Cond4!G13 -> 298 | P13: 46 | Q13: BD
... A25: AL33P4_completo.csv | B25: =+Cond4!B25 -> 419 | C25: 1.4912257 | D25: =+Cond4!C25 -> 392 | E25: 1.6979132 | F25: 0.064950949 | G25: =+Cond4!D25 -> 46 | H25: 0.27187687 | I25: 1.1601388 | J25: =+Cond4!E25 -> 326 | K25: 1.4903718 | L25: 0.033267559 | M25: =+Cond4!F25 -> 37 | N25: 0.15759326 | O25: =+Cond4!G25 -> 260 | P25: 76 | Q25: BD

Sheet Cond4Eesp
A1: Nombre | B1: Cara de presion | D1: Borde de entrada | F1: Cara de succion | H1: Borde de salida | M1: DIFERENCIA BD76 | O1: Diferencia succion presion
B2: Energia especifica | C2: AGR | D2: Energia especifica | E2: AGR | F2: Energia especifica | G2: AGR | H2: Energia especifica | I2: AGR | J2: Grano | K2: Densidad
A3: AL20P2_completo.csv | B3: =+Cond4Pot!D2/Cond4Pot!C2 -> 221.8955 | C3: =+Cond4Pot!E2 -> 1.7248634 | D3: =+Cond4Pot!G2/Cond4Pot!F2 -> 202.8462 | E3: =+Cond4Pot!H2 -> 0.55494346 | F3: =+Cond4Pot!J2/Cond4Pot!I2 -> 229.96128 | G3: =+Cond4Pot!K2 -> 1.518035 | H3: =+Cond4Pot!M2/Cond4Pot!L2 -> 413.21482 | I3: =+Cond4Pot!N2 -> 0.49351739 | J3: 46 | K3: AD | M3: =+AVERAGE(F3:F8) -> 262.28724 | N3: =+(M3-$M$21)/$M$21 -> 0.041092001 | O3: =+F3/B3 -> 1.0363495 | P3: =+AVERAGE(O3:O8) -> 1.0543083
A4: AL20P3_completo.csv | B4: =+Cond4Pot!D3/Cond4Pot!C3 -> 243.01175 | C4: =+Cond4Pot!E3 -> 1.7128417 | D4: =+Cond4Pot!G3/Cond4Pot!F3 -> 428.25968 | E4: =+Cond4Pot!H3 -> 0.41295838 | F4: =+Cond4Pot!J3/Cond4Pot!I3 -> 261.97312 | G4: =+Cond4Pot!K3 -> 1.5059853 | H4: =+Cond4Pot!M3/Cond4Pot!L3 -> 472.18375 | I4: =+Cond4Pot!N3 -> 0.35568173 | J4: 46 | K4: AD | O4: =+F4/B4 -> 1.0780266
A5: AL20P4_completo.csv | B5: =+Cond4Pot!D4/Cond4Pot!C4 -> 264.21218 | C5: =+Cond4Pot!E4 -> 1.6979132 | D5: =+Cond4Pot!G4/Cond4Pot!F4 -> 739.01922 | E5: =+Cond4Pot!H4 -> 0.27187687 | F5: =+Cond4Pot!J4/Cond4Pot!I4 -> 295.65428 | G5: =+Cond4Pot!K4 -> 1.4903718 | H5: =+Cond4Pot!M4/Cond4Pot!L4 -> 1322.6098 | I5: =+Cond4Pot!N4 -> 0.15759326 | J5: 46 | K5: AD | O5: =+F5/B5 -> 1.1190032
A6: AL21P2_completo.csv | B6: =+Cond4Pot!D5/Cond4Pot!C5 -> 240.38679 | C6: =+Cond4Pot!E5 -> 1.7248634 | D6: =+Cond4Pot!G5/Cond4Pot!F5 -> 393.76027 | E6: =+Cond4Pot!H5 -> 0.55494346 | F6: =+Cond4Pot!J5/Cond4Pot!I5 -> 234.524 | G6: =+Cond4Pot!K5 -> 1.518035 | H6: =+Cond4Pot!M5/Cond4Pot!L5 -> 406.21118 | I6: =+Cond4Pot!N5 -> 0.49351739 | J6: 46 | K6: AD | O6: =+F6/B6 -> 0.97561104
A7: AL21P3_completo.csv | B7: =+Cond4Pot!D6/Cond4Pot!C6 -> 254.64893 | C7: =+Cond4Pot!E6 -> 1.7128417 | D7: =+Cond4Pot!G6/Cond4Pot!F6 -> 452.96697 | E7: =+Cond4Pot!H6 -> 0.41295838 | F7: =+Cond4Pot!J6/Cond4Pot!I6 -> 262.85222 | G7: =+Cond4Pot!K6 -> 1.5059853 | H7: =+Cond4Pot!M6/Cond4Pot!L6 -> 547.3039 | I7: =+Cond4Pot!N6 -> 0.35568173 | J7: 46 | K7: AD | O7: =+F7/B7 -> 1.0322141
A8: AL21P4_completo.csv | B8: =+Cond4Pot!D7/Cond4Pot!C7 -> 266.22395 | C8: =+Cond4Pot!E7 -> 1.6979132 | D8: =+Cond4Pot!G7/Cond4Pot!F7 -> 754.41545 | E8: =+Cond4Pot!H7 -> 0.27187687 | F8: =+Cond4Pot!J7/Cond4Pot!I7 -> 288.75855 | G8: =+Cond4Pot!K7 -> 1.4903718 | H8: =+Cond4Pot!M7/Cond4Pot!L7 -> 1202.3725 | I8: =+Cond4Pot!N7 -> 0.15759326 | J8: 46 | K8: AD | O8: =+F8/B8 -> 1.0846453
A9: AL24P2_completo.csv | B9: =+Cond4Pot!D8/Cond4Pot!C8 -> 215.49467 | C9: =+Cond4Pot!E8 -> 1.7248634 | D9: =+Cond4Pot!G8/Cond4Pot!F8 -> 346.03175 | E9: =+Cond4Pot!H8 -> 0.55494346 | F9: =+Cond4Pot!J8/Cond4Pot!I8 -> 207.14766 | G9: =+Cond4Pot!K8 -> 1.518035 | H9: =+Cond4Pot!M8/Cond4Pot!L8 -> 392.2039 | I9: =+Cond4Pot!N8 -> 0.49351739 | J9: 46 | K9: BD | M9: =+AVERAGE(F9:F14) -> 259.44196 | N9: =+(M9-$M$21)/$M$21 -> 0.029798293 | O9: =+F9/B9 -> 0.96126584 | P9: =+AVERAGE(O9:O14) -> 1.0310641
A10: AL24P3_completo.csv | B10: =+Cond4Pot!D9/Cond4Pot!C9 -> 228.6364 | C10: =+Cond4Pot!E9 -> 1.7128417 | D10: =+Cond4Pot!G9/Cond4Pot!F9 -> 370.60934 | E10: =+Cond4Pot!H9 -> 0.41295838 | F10: =+Cond4Pot!J9/Cond4Pot!I9 -> 225.92984 | G10: =+Cond4Pot!K9 -> 1.5059853 | H10: =+Cond4Pot!M9/Cond4Pot!L9 -> 343.40637 | I10: =+Cond4Pot!N9 -> 0.35568173 | J10: 46 | K10: BD | O10: =+F10/B10 -> 0.98816213
A11: AL24P4_completo.csv | B11: =+Cond4Pot!D10/Cond4Pot!C10 -> 248.78863 | C11: =+Cond4Pot!E10 -> 1.6979132 | D11: =+Cond4Pot!G10/Cond4Pot!F10 -> 477.28325 | E11: =+Cond4Pot!H10 -> 0.27187687 | F11: =+Cond4Pot!J10/Cond4Pot!I10 -> 275.82906 | G11: =+Cond4Pot!K10 -> 1.4903718 | H11: =+Cond4Pot!M10/Cond4Pot!L10 -> 871.72009 | I11: =+Cond4Pot!N10 -> 0.15759326 | J11: 46 | K11: BD | O11: =+F11/B11 -> 1.1086884
A12: AL25P2_completo.csv | B12: =+Cond4Pot!D11/Cond4Pot!C11 -> 264.56771 | C12: =+Cond4Pot!E11 -> 1.7248634 | D12: =+Cond4Pot!G11/Cond4Pot!F11 -> 363.92994 | E12: =+Cond4Pot!H11 -> 0.55494346 | F12: =+Cond4Pot!J11/Cond4Pot!I11 -> 248.21218 | G12: =+Cond4Pot!K11 -> 1.518035 | H12: =+Cond4Pot!M11/Cond4Pot!L11 -> 490.25488 | I12: =+Cond4Pot!N11 -> 0.49351739 | J12: 46 | K12: BD | O12: =+F12/B12 -> 0.93818016
A13: AL25P3_completo.csv | B13: =+Cond4Pot!D12/Cond4Pot!C12 -> 269.70881 | C13: =+Cond4Pot!E12 -> 1.7128417 | D13: =+Cond4Pot!G12/Cond4Pot!F12 -> 469.4385 | E13: =+Cond4Pot!H12 -> 0.41295838 | F13: =+Cond4Pot!J12/Cond4Pot!I12 -> 289.22535 | G13: =+Cond4Pot!K12 -> 1.5059853 | H13: =+Cond4Pot!M12/Cond4Pot!L12 -> 515.10955 | I13: =+Cond4Pot!N12 -> 0.35568173 | J13: 46 | K13: BD | O13: =+F13/B13 -> 1.0723615
A14: AL25P4_completo.csv | B14: =+Cond4Pot!D13/Cond4Pot!C13 -> 277.62397 | C14: =+Cond4Pot!E13 -> 1.6979132 | D14: =+Cond4Pot!G13/Cond4Pot!F13 -> 554.26442 | E14: =+Cond4Pot!H13 -> 0.27187687 | F14: =+Cond4Pot!J13/Cond4Pot!I13 -> 310.30769 | G14: =+Cond4Pot!K13 -> 1.4903718 | H14: =+Cond4Pot!M13/Cond4Pot!L13 -> 961.89803 | I14: =+Cond4Pot!N13 -> 0.15759326 | J14: 46 | K14: BD | O14: =+F14/B14 -> 1.1177266
A15: AL22P2_completo.csv | B15: =+Cond4Pot!D14/Cond4Pot!C14 -> 210.51624 | C15: =+Cond4Pot!E14 -> 1.7248634 | D15: =+Cond4Pot!G14/Cond4Pot!F14 -> 214.77833 | E15: =+Cond4Pot!H14 -> 0.55494346 | F15: =+Cond4Pot!J14/Cond4Pot!I14 -> 194.37203 | G15: =+Cond4Pot!K14 -> 1.518035 | H15: =+Cond4Pot!M14/Cond4Pot!L14 -> 231.12016 | I15: =+Cond4Pot!N14 -> 0.49351739 | J15: 76 | K15: AD | M15: =+AVERAGE(F15:F20) -> 277.33437 | N15: =+(M15-$M$21)/$M$21 -> 0.10081829 | O15: =+F15/B15 -> 0.92331135 | P15: =+AVERAGE(O15:O20) -> 1.0698941
A16: AL22P3_completo.csv | B16: =+Cond4Pot!D15/Cond4Pot!C15 -> 238.21996 | C16: =+Cond4Pot!E15 -> 1.7128417 | D16: =+Cond4Pot!G15/Cond4Pot!F15 -> 502.38155 | E16: =+Cond4Pot!H15 -> 0.41295838 | F16: =+Cond4Pot!J15/Cond4Pot!I15 -> 268.12685 | G16: =+Cond4Pot!K15 -> 1.5059853 | H16: =+Cond4Pot!M15/Cond4Pot!L15 -> 536.57245 | I16: =+Cond4Pot!N15 -> 0.35568173 | J16: 76 | K16: AD | O16: =+F16/B16 -> 1.1255431
A17: AL22P4_completo.csv | B17: =+Cond4Pot!D16/Cond4Pot!C16 -> 266.22395 | C17: =+Cond4Pot!E16 -> 1.6979132 | D17: =+Cond4Pot!G16/Cond4Pot!F16 -> 708.22675 | E17: =+Cond4Pot!H16 -> 0.27187687 | F17: =+Cond4Pot!J16/Cond4Pot!I16 -> 307.7218 | G17: =+Cond4Pot!K16 -> 1.4903718 | H17: =+Cond4Pot!M16/Cond4Pot!L16 -> 1232.4319 | I17: =+Cond4Pot!N16 -> 0.15759326 | J17: 76 | K17: AD | O17: =+F17/B17 -> 1.1558757
A18: AL23P2_completo.csv | B18: =+Cond4Pot!D17/Cond4Pot!C17 -> 253.89966 | C18: =+Cond4Pot!E17 -> 1.7248634 | D18: =+Cond4Pot!G17/Cond4Pot!F17 -> 501.14943 | E18: =+Cond4Pot!H17 -> 0.55494346 | F18: =+Cond4Pot!J17/Cond4Pot!I17 -> 265.55053 | G18: =+Cond4Pot!K17 -> 1.518035 | H18: =+Cond4Pot!M17/Cond4Pot!L17 -> 504.26216 | I18: =+Cond4Pot!N17 -> 0.49351739 | J18: 76 | K18: AD | O18: =+F18/B18 -> 1.0458877
A19: AL23P3_completo.csv | B19: =+Cond4Pot!D18/Cond4Pot!C18 -> 286.82231 | C19: =+Cond4Pot!E18 -> 1.7128417 | D19: =+Cond4Pot!G18/Cond4Pot!F18 -> 617.68224 | E19: =+Cond4Pot!H18 -> 0.41295838 | F19: =+Cond4Pot!J18/Cond4Pot!I18 -> 302.41192 | G19: =+Cond4Pot!K18 -> 1.5059853 | H19: =+Cond4Pot!M18/Cond4Pot!L18 -> 697.54418 | I19: =+Cond4Pot!N18 -> 0.35568173 | J19: 76 | K19: AD | O19: =+F19/B19 -> 1.0543528
A20: AL23P4_completo.csv | B20: =+Cond4Pot!D19/Cond4Pot!C19 -> 292.37693 | C20: =+Cond4Pot!E19 -> 1.6979132 | D20: =+Cond4Pot!G19/Cond4Pot!F19 -> 754.41545 | E20: =+Cond4Pot!H19 -> 0.27187687 | F20: =+Cond4Pot!J19/Cond4Pot!I19 -> 325.82308 | G20: =+Cond4Pot!K19 -> 1.4903718 | H20: =+Cond4Pot!M19/Cond4Pot!L19 -> 1322.6098 | I20: =+Cond4Pot!N19 -> 0.15759326 | J20: 76 | K20: AD | O20: =+F20/B20 -> 1.1143939
A21: AL32P2_completo.csv | B21: =+Cond4Pot!D20/Cond4Pot!C20 -> 206.96022 | C21: =+Cond4Pot!E20 -> 1.7248634 | D21: =+Cond4Pot!G20/Cond4Pot!F20 -> 423.59059 | E21: =+Cond4Pot!H20 -> 0.55494346 | F21: =+Cond4Pot!J20/Cond4Pot!I20 -> 215.36056 | G21: =+Cond4Pot!K20 -> 1.518035 | H21: =+Cond4Pot!M20/Cond4Pot!L20 -> 448.23303 | I21: =+Cond4Pot!N20 -> 0.49351739 | J21: 76 | K21: BD | M21: =+AVERAGE(F21:F26) -> 251.93474 | O21: =+F21/B21 -> 1.0405892 | P21: =+AVERAGE(O21:O26) -> 1.0667693
A22: AL32P3_completo.csv | B22: =+Cond4Pot!D21/Cond4Pot!C21 -> 232.0591 | C22: =+Cond4Pot!E21 -> 1.7128417 | D22: =+Cond4Pot!G21/Cond4Pot!F21 -> 560.03189 | E22: =+Cond4Pot!H21 -> 0.41295838 | F22: =+Cond4Pot!J21/Cond4Pot!I21 -> 247.02834 | G22: =+Cond4Pot!K21 -> 1.5059853 | H22: =+Cond4Pot!M21/Cond4Pot!L21 -> 633.15549 | I22: =+Cond4Pot!N21 -> 0.35568173 | J22: 76 | K22: BD | O22: =+F22/B22 -> 1.0645061
A23: AL32P4_completo.csv | B23: =+Cond4Pot!D22/Cond4Pot!C22 -> 240.07097 | C23: =+Cond4Pot!E22 -> 1.6979132 | D23: =+Cond4Pot!G22/Cond4Pot!F22 -> 646.64182 | E23: =+Cond4Pot!H22 -> 0.27187687 | F23: =+Cond4Pot!J22/Cond4Pot!I22 -> 268.07137 | G23: =+Cond4Pot!K22 -> 1.4903718 | H23: =+Cond4Pot!M22/Cond4Pot!L22 -> 1022.0167 | I23: =+Cond4Pot!N22 -> 0.15759326 | J23: 76 | K23: BD | O23: =+F23/B23 -> 1.1166339
A24: AL33P2_completo.csv | B24: =+Cond4Pot!D23/Cond4Pot!C23 -> 226.87392 | C24: =+Cond4Pot!E23 -> 1.7248634 | D24: =+Cond4Pot!G23/Cond4Pot!F23 -> 489.2173 | E24: =+Cond4Pot!H23 -> 0.55494346 | F24: =+Cond4Pot!J23/Cond4Pot!I23 -> 238.17418 | G24: =+Cond4Pot!K23 -> 1.518035 | H24: =+Cond4Pot!M23/Cond4Pot!L23 -> 497.25852 | I24: =+Cond4Pot!N23 -> 0.49351739 | J24: 76 | K24: BD | O24: =+F24/B24 -> 1.0498086
A25: AL33P3_completo.csv | B25: =+Cond4Pot!D24/Cond4Pot!C24 -> 247.11899 | C25: =+Cond4Pot!E24 -> 1.7128417 | D25: =+Cond4Pot!G24/Cond4Pot!F24 -> 560.03189 | E25: =+Cond4Pot!H24 -> 0.41295838 | F25: =+Cond4Pot!J24/Cond4Pot!I24 -> 261.97312 | G25: =+Cond4Pot!K24 -> 1.5059853 | H25: =+Cond4Pot!M24/Cond4Pot!L24 -> 590.22969 | I25: =+Cond4Pot!N24 -> 0.35568173 | J25: 76 | K25: BD | O25: =+F25/B25 -> 1.0601092
A26: AL33P4_completo.csv | B26: =+Cond4Pot!D25/Cond4Pot!C25 -> 262.871 | C26: =+Cond4Pot!E25 -> 1.6979132 | D26: =+Cond4Pot!G25/Cond4Pot!F25 -> 708.22675 | E26: =+Cond4Pot!H25 -> 0.27187687 | F26: =+Cond4Pot!J25/Cond4Pot!I25 -> 281.00086 | G26: =+Cond4Pot!K25 -> 1.4903718 | H26: =+Cond4Pot!M25/Cond4Pot!L25 -> 1112.1946 | I26: =+Cond4Pot!N25 -> 0.15759326 | J26: 76 | K26: BD | O26: =+F26/B26 -> 1.0689686
A28: Al1Tr2 | B28: 209.46315 | D28: 210.40795 | F28: 216.66666 | H28: 217.46861
A29: Al1Tr3 | B29: 223.41082 | D29: 224.08568 | F29: 230.29058 | H29: 230.82522
A30: Al1Tr4 | B30: 236.793 | D30: 237.19791 | F30: 243.34902 | H30: 243.61634 | M30: =5.90385265502428/2 -> 2.9519263 | O30: =5.95499778342467/2 -> 2.9774989 | P30: =5.98057034762494/2 -> 2.9902852
A31: Al2Tr2 | B31: 264.06978 | D31: 265.01457 | F31: 271.27328 | H31: 272.07524 | M31: 1.2147361 | O31: 0.67485337 | P31: 0.40491202
A32: Al2Tr3 | B32: 278.01745 | D32: 278.6923 | F32: 284.89721 | H32: 285.43184 | M32: 6.3125068 | O32: 6.2049073 | P32: 6.1511075
A33: Al2Tr4 | B33: 291.39963 | D33: 291.80454 | F33: 297.95565 | H33: 298.22297 | M33: 1.0692725 | O33: 0.53463624 | P33: 0.26731812
M34: 2.95 | O34: =+O30 -> 2.9774989 | P34: =+P30 -> 2.9902852

Sheet Media comparada
C2: Condición 1 | D2: Condición 2 | E2: Condición 3 | F2: Condición 4
B3: AD46 | C3: =Cond1Eesp!N3 -> 0.085468076 | D3: =Cond2Eesp!N3 -> 0.1100896 | E3: -- | F3: =Cond4Eesp!N3 -> 0.041092001
B4: BD46 | C4: =Cond1Eesp!N9 -> 0.055990484 | D4: =Cond2Eesp!N9 -> 0.13984017 | E4: =Cond3Eesp!N9 -> 0.025003031 | F4: =Cond4Eesp!N9 -> 0.029798293
B5: AD76 | C5: =Cond1Eesp!N15 -> -0.032059131 | D5: =Cond2Eesp!N15 -> -0.003957447 | E5: =Cond3Eesp!N15 -> 0 | F5: =Cond4Eesp!N15 -> 0.10081829
