Workbook

Sheet Potencia
A1: Nombre | B1: Cara de presion entrada | C1: Cara de presion | D1: Borde de entrada | E1: Cara de Succion | F1: Borde de salida | G1: Cara de presion salida
A2: AL10P1_completo.csv | B2: 275 | C2: 265 | D2: 109 | E2: 243 | F2: 35 | G2: 236
A3: AL10P2_completo.csv | B3: 723 | C3: 668 | D3: 157 | E3: 585 | F3: 134 | G3: 462
A4: AL10P3_completo.csv | B4: 853 | C4: 829 | D4: 143 | E4: 690 | F4: 120 | G4: 498
A5: AL10P4_completo.csv | B5: 944 | C5: 893 | D5: 99 | E5: 767 | F5: 70 | G5: 584
A6: AL11P1_completo.csv | B6: 297 | C6: 275 | D6: 120 | E6: 264 | F6: 38 | G6: 245
A7: AL11P2_completo.csv | B7: 673 | C7: 632 | D7: 148 | E7: 530 | F7: 119 | G7: 428
A8: AL11P3_completo.csv | B8: 810 | C8: 783 | D8: 136 | E8: 640 | F8: 118 | G8: 475
A9: AL11P4_completo.csv | B9: 968 | C9: 889 | D9: 102 | E9: 758 | F9: 77 | G9: 580
A10: AL12P1_completo.csv | B10: 349 | C10: 324 | D10: 93 | E10: 183 | F10: 27 | G10: 273
A11: AL12P2_completo.csv | B11: 687 | C11: 625 | D11: 110 | E11: 494 | F11: 90 | G11: 396
A12: AL12P3_completo.csv | B12: 782 | C12: 740 | D12: 102 | E12: 584 | F12: 86 | G12: 431
A13: AL12P4_completo.csv | B13: 833 | C13: 772 | D13: 89 | E13: 670 | F13: 69 | G13: 523
... A146: AL9P4_completo.csv | B146: 1164 | C146: 1030 | D146: 88 | E146: 833 | F146: 71 | G146: 613

Sheet Ft_Potencia
A1: Nombre | B1: Cara de presion entrada | C1: Cara de presion | D1: Borde de entrada | E1: Cara de Succion | F1: Borde de salida | G1: Cara de presion salida | H1: Vs
A2: AL10P1_completo.csv | B2: =+Potencia!B2/Ft_Potencia!$H2 -> 7.2946016 | C2: =+Potencia!C2/Ft_Potencia!$H2 -> 7.0293433 | D2: =+Potencia!D2/Ft_Potencia!$H2 -> 2.8913148 | E2: =+Potencia!E2/Ft_Potencia!$H2 -> 6.4457752 | F2: =+Potencia!F2/Ft_Potencia!$H2 -> 0.92840383 | G2: =+Potencia!G2/Ft_Potencia!$H2 -> 6.2600944 | H2: 37.699112
A3: AL10P2_completo.csv | B3: =+Potencia!B3/Ft_Potencia!$H3 -> 19.178171 | C3: =+Potencia!C3/Ft_Potencia!$H3 -> 17.71925 | D3: =+Potencia!D3/Ft_Potencia!$H3 -> 4.1645543 | E3: =+Potencia!E3/Ft_Potencia!$H3 -> 15.517607 | F3: =+Potencia!F3/Ft_Potencia!$H3 -> 3.5544604 | G3: =+Potencia!G3/Ft_Potencia!$H3 -> 12.254931 | H3: 37.699112
A4: AL10P3_completo.csv | B4: =+Potencia!B4/Ft_Potencia!$H4 -> 22.626528 | C4: =+Potencia!C4/Ft_Potencia!$H4 -> 21.989908 | D4: =+Potencia!D4/Ft_Potencia!$H4 -> 3.7931928 | E4: =+Potencia!E4/Ft_Potencia!$H4 -> 18.302818 | F4: =+Potencia!F4/Ft_Potencia!$H4 -> 3.1830989 | G4: =+Potencia!G4/Ft_Potencia!$H4 -> 13.20986 | H4: 37.699112
A5: AL10P4_completo.csv | B5: =+Potencia!B5/Ft_Potencia!$H5 -> 25.040378 | C5: =+Potencia!C5/Ft_Potencia!$H5 -> 23.687561 | D5: =+Potencia!D5/Ft_Potencia!$H5 -> 2.6260566 | E5: =+Potencia!E5/Ft_Potencia!$H5 -> 20.345307 | F5: =+Potencia!F5/Ft_Potencia!$H5 -> 1.8568077 | G5: =+Potencia!G5/Ft_Potencia!$H5 -> 15.491081 | H5: 37.699112
A6: AL11P1_completo.csv | B6: =+Potencia!B6/Ft_Potencia!$H6 -> 7.8781697 | C6: =+Potencia!C6/Ft_Potencia!$H6 -> 7.2946016 | D6: =+Potencia!D6/Ft_Potencia!$H6 -> 3.1830989 | E6: =+Potencia!E6/Ft_Potencia!$H6 -> 7.0028175 | F6: =+Potencia!F6/Ft_Potencia!$H6 -> 1.0079813 | G6: =+Potencia!G6/Ft_Potencia!$H6 -> 6.4988268 | H6: 37.699112
A7: AL11P2_completo.csv | B7: =+Potencia!B7/Ft_Potencia!$H7 -> 17.851879 | C7: =+Potencia!C7/Ft_Potencia!$H7 -> 16.764321 | D7: =+Potencia!D7/Ft_Potencia!$H7 -> 3.9258219 | E7: =+Potencia!E7/Ft_Potencia!$H7 -> 14.058687 | F7: =+Potencia!F7/Ft_Potencia!$H7 -> 3.156573 | G7: =+Potencia!G7/Ft_Potencia!$H7 -> 11.353053 | H7: 37.699112
A8: AL11P3_completo.csv | B8: =+Potencia!B8/Ft_Potencia!$H8 -> 21.485917 | C8: =+Potencia!C8/Ft_Potencia!$H8 -> 20.76972 | D8: =+Potencia!D8/Ft_Potencia!$H8 -> 3.607512 | E8: =+Potencia!E8/Ft_Potencia!$H8 -> 16.976527 | F8: =+Potencia!F8/Ft_Potencia!$H8 -> 3.1300472 | G8: =+Potencia!G8/Ft_Potencia!$H8 -> 12.599766 | H8: 37.699112
A9: AL11P4_completo.csv | B9: =+Potencia!B9/Ft_Potencia!$H9 -> 25.676997 | C9: =+Potencia!C9/Ft_Potencia!$H9 -> 23.581457 | D9: =+Potencia!D9/Ft_Potencia!$H9 -> 2.705634 | E9: =+Potencia!E9/Ft_Potencia!$H9 -> 20.106574 | F9: =+Potencia!F9/Ft_Potencia!$H9 -> 2.0424884 | G9: =+Potencia!G9/Ft_Potencia!$H9 -> 15.384978 | H9: 37.699112
A10: AL12P1_completo.csv | B10: =+Potencia!B10/Ft_Potencia!$H10 -> 8.5453962 | C10: =+Potencia!C10/Ft_Potencia!$H10 -> 7.9332618 | D10: =+Potencia!D10/Ft_Potencia!$H10 -> 2.27714 | E10: =+Potencia!E10/Ft_Potencia!$H10 -> 4.4808238 | F10: =+Potencia!F10/Ft_Potencia!$H10 -> 0.66110515 | G10: =+Potencia!G10/Ft_Potencia!$H10 -> 6.6845076 | H10: 40.840704
A11: AL12P2_completo.csv | B11: =+Potencia!B11/Ft_Potencia!$H11 -> 16.821453 | C11: =+Potencia!C11/Ft_Potencia!$H11 -> 15.30336 | D11: =+Potencia!D11/Ft_Potencia!$H11 -> 2.6933913 | E11: =+Potencia!E11/Ft_Potencia!$H11 -> 12.095776 | F11: =+Potencia!F11/Ft_Potencia!$H11 -> 2.2036838 | G11: =+Potencia!G11/Ft_Potencia!$H11 -> 9.6962088 | H11: 40.840704
A12: AL12P3_completo.csv | B12: =+Potencia!B12/Ft_Potencia!$H12 -> 19.147564 | C12: =+Potencia!C12/Ft_Potencia!$H12 -> 18.119178 | D12: =+Potencia!D12/Ft_Potencia!$H12 -> 2.4975083 | E12: =+Potencia!E12/Ft_Potencia!$H12 -> 14.29946 | F12: =+Potencia!F12/Ft_Potencia!$H12 -> 2.1057423 | G12: =+Potencia!G12/Ft_Potencia!$H12 -> 10.553197 | H12: 40.840704
A13: AL12P4_completo.csv | B13: =+Potencia!B13/Ft_Potencia!$H13 -> 20.396318 | C13: =+Potencia!C13/Ft_Potencia!$H13 -> 18.90271 | D13: =+Potencia!D13/Ft_Potencia!$H13 -> 2.1791985 | E13: =+Potencia!E13/Ft_Potencia!$H13 -> 16.405202 | F13: =+Potencia!F13/Ft_Potencia!$H13 -> 1.6894909 | G13: =+Potencia!G13/Ft_Potencia!$H13 -> 12.805852 | H13: 40.840704
... A146: AL9P4_completo.csv | B146: =+Potencia!B146/Ft_Potencia!$H146 -> 30.876059 | C146: =+Potencia!C146/Ft_Potencia!$H146 -> 27.321599 | D146: =+Potencia!D146/Ft_Potencia!$H146 -> 2.3342725 | E146: =+Potencia!E146/Ft_Potencia!$H146 -> 22.096011 | F146: =+Potencia!F146/Ft_Potencia!$H146 -> 1.8833335 | G146: =+Potencia!G146/Ft_Potencia!$H146 -> 16.26033 | H146: 37.699112

Sheet Cond1
A1: Nombre | B1: Cara de presion entrada | C1: Cara de presion | D1: Borde de entrada | E1: Cara de Succion | F1: Borde de salida | G1: Cara de presion salida | H1: Grano | I1: Densidad | J1: Trayectoria | K1: Dif entrada resto presion | L1: Media | M1: Desvest
A2: AL4P2_completo.csv | B2: =+INDEX(Potencia!$B$2:$G$146,MATCH(Cond1!$A2,Potencia!$A$2:$A$146,0),MATCH(Cond1!B$1,Potencia!$B$1:$G$1,0)) -> 888 | C2: =+INDEX(Potencia!$B$2:$G$146,MATCH(Cond1!$A2,Potencia!$A$2:$A$146,0),MATCH(Cond1!C$1,Potencia!$B$1:$G$1,0)) -> 768 | D2: =+INDEX(Potencia!$B$2:$G$146,MATCH(Cond1!$A2,Potencia!$A$2:$A$146,0),MATCH(Cond1!D$1,Potencia!$B$1:$G$1,0)) -> 124 | E2: =+INDEX(Potencia!$B$2:$G$146,MATCH(Cond1!$A2,Potencia!$A$2:$A$146,0),MATCH(Cond1!E$1,Potencia!$B$1:$G$1,0)) -> 565 | F2: =+INDEX(Potencia!$B$2:$G$146,MATCH(Cond1!$A2,Potencia!$A$2:$A$146,0),MATCH(Cond1!F$1,Potencia!$B$1:$G$1,0)) -> 113 | G2: =+INDEX(Potencia!$B$2:$G$146,MATCH(Cond1!$A2,Potencia!$A$2:$A$146,0),MATCH(Cond1!G$1,Potencia!$B$1:$G$1,0)) -> 440 | H2: 46 | I2: AD | J2: 2 | K2: =+(B2-C2)/C2 -> 0.15625 | L2: =+AVERAGE(K2:K13) -> 0.095732063 | M2: =+_xlfn.STDEV.P(K2:K13) -> 0.035962095
A3: AL4P3_completo.csv | B3: =+INDEX(Potencia!$B$2:$G$146,MATCH(Cond1!$A3,Potencia!$A$2:$A$146,0),MATCH(Cond1!B$1,Potencia!$B$1:$G$1,0)) -> 991 | C3: =+INDEX(Potencia!$B$2:$G$146,MATCH(Cond1!$A3,Potencia!$A$2:$A$146,0),MATCH(Cond1!C$1,Potencia!$B$1:$G$1,0)) -> 919 | D3: =+INDEX(Potencia!$B$2:$G$146,MATCH(Cond1!$A3,Potencia!$A$2:$A$146,0),MATCH(Cond1!D$1,Potencia!$B$1:$G$1,0)) -> 115 | E3: =+INDEX(Potencia!$B$2:$G$146,MATCH(Cond1!$A3,Potencia!$A$2:$A$146,0),MATCH(Cond1!E$1,Potencia!$B$1:$G$1,0)) -> 691 | F3: =+INDEX(Potencia!$B$2:$G$146,MATCH(Cond1!$A3,Potencia!$A$2:$A$146,0),MATCH(Cond1!F$1,Potencia!$B$1:$G$1,0)) -> 101 | G3: =+INDEX(Potencia!$B$2:$G$146,MATCH(Cond1!$A3,Potencia!$A$2:$A$146,0),MATCH(Cond1!G$1,Potencia!$B$1:$G$1,0)) -> 487 | H3: 46 | I3: AD | J3: 3 | K3: =+(B3-C3)/C3 -> 0.078346028
A4: AL4P4_completo.csv | B4: =+INDEX(Potencia!$B$2:$G$146,MATCH(Cond1!$A4,Potencia!$A$2:$A$146,0),MATCH(Cond1!B$1,Potencia!$B$1:$G$1,0)) -> 1098 | C4: =+INDEX(Potencia!$B$2:$G$146,MATCH(Cond1!$A4,Potencia!$A$2:$A$146,0),MATCH(Cond1!C$1,Potencia!$B$1:$G$1,0)) -> 982 | D4: =+INDEX(Potencia!$B$2:$G$146,MATCH(Cond1!$A4,Potencia!$A$2:$A$146,0),MATCH(Cond1!D$1,Potencia!$B$1:$G$1,0)) -> 81 | E4: =+INDEX(Potencia!$B$2:$G$146,MATCH(Cond1!$A4,Potencia!$A$2:$A$146,0),MATCH(Cond1!E$1,Potencia!$B$1:$G$1,0)) -> 805 | F4: =+INDEX(Potencia!$B$2:$G$146,MATCH(Cond1!$A4,Potencia!$A$2:$A$146,0),MATCH(Cond1!F$1,Potencia!$B$1:$G$1,0)) -> 62 | G4: =+INDEX(Potencia!$B$2:$G$146,MATCH(Cond1!$A4,Potencia!$A$2:$A$146,0),MATCH(Cond1!G$1,Potencia!$B$1:$G$1,0)) -> 580 | H4: 46 | I4: AD | J4: 4 | K4: =+(B4-C4)/C4 -> 0.11812627
A5: AL5P2_completo.csv | B5: =+INDEX(Potencia!$B$2:$G$146,MATCH(Cond1!$A5,Potencia!$A$2:$A$146,0),MATCH(Cond1!B$1,Potencia!$B$1:$G$1,0)) -> 971 | C5: =+INDEX(Potencia!$B$2:$G$146,MATCH(Cond1!$A5,Potencia!$A$2:$A$146,0),MATCH(Cond1!C$1,Potencia!$B$1:$G$1,0)) -> 863 | D5: =+INDEX(Potencia!$B$2:$G$146,MATCH(Cond1!$A5,Potencia!$A$2:$A$146,0),MATCH(Cond1!D$1,Potencia!$B$1:$G$1,0)) -> 129 | E5: =+INDEX(Potencia!$B$2:$G$146,MATCH(Cond1!$A5,Potencia!$A$2:$A$146,0),MATCH(Cond1!E$1,Potencia!$B$1:$G$1,0)) -> 615 | F5: =+INDEX(Potencia!$B$2:$G$146,MATCH(Cond1!$A5,Potencia!$A$2:$A$146,0),MATCH(Cond1!F$1,Potencia!$B$1:$G$1,0)) -> 125 | G5: =+INDEX(Potencia!$B$2:$G$146,MATCH(Cond1!$A5,Potencia!$A$2:$A$146,0),MATCH(Cond1!G$1,Potencia!$B$1:$G$1,0)) -> 492 | H5: 46 | I5: AD | J5: 2 | K5: =+(B5-C5)/C5 -> 0.12514484
A6: AL5P3_completo.csv | B6: =+INDEX(Potencia!$B$2:$G$146,MATCH(Cond1!$A6,Potencia!$A$2:$A$146,0),MATCH(Cond1!B$1,Potencia!$B$1:$G$1,0)) -> 1080 | C6: =+INDEX(Potencia!$B$2:$G$146,MATCH(Cond1!$A6,Potencia!$A$2:$A$146,0),MATCH(Cond1!C$1,Potencia!$B$1:$G$1,0)) -> 1041 | D6: =+INDEX(Potencia!$B$2:$G$146,MATCH(Cond1!$A6,Potencia!$A$2:$A$146,0),MATCH(Cond1!D$1,Potencia!$B$1:$G$1,0)) -> 125 | E6: =+INDEX(Potencia!$B$2:$G$146,MATCH(Cond1!$A6,Potencia!$A$2:$A$146,0),MATCH(Cond1!E$1,Potencia!$B$1:$G$1,0)) -> 757 | F6: =+INDEX(Potencia!$B$2:$G$146,MATCH(Cond1!$A6,Potencia!$A$2:$A$146,0),MATCH(Cond1!F$1,Potencia!$B$1:$G$1,0)) -> 111 | G6: =+INDEX(Potencia!$B$2:$G$146,MATCH(Cond1!$A6,Potencia!$A$2:$A$146,0),MATCH(Cond1!G$1,Potencia!$B$1:$G$1,0)) -> 528 | H6: 46 | I6: AD | J6: 3 | K6: =+(B6-C6)/C6 -> 0.037463977
A7: AL5P4_completo.csv | B7: =+INDEX(Potencia!$B$2:$G$146,MATCH(Cond1!$A7,Potencia!$A$2:$A$146,0),MATCH(Cond1!B$1,Potencia!$B$1:$G$1,0)) -> 1049 | C7: =+INDEX(Potencia!$B$2:$G$146,MATCH(Cond1!$A7,Potencia!$A$2:$A$146,0),MATCH(Cond1!C$1,Potencia!$B$1:$G$1,0)) -> 982 | D7: =+INDEX(Potencia!$B$2:$G$146,MATCH(Cond1!$A7,Potencia!$A$2:$A$146,0),MATCH(Cond1!D$1,Potencia!$B$1:$G$1,0)) -> 96 | E7: =+INDEX(Potencia!$B$2:$G$146,MATCH(Cond1!$A7,Potencia!$A$2:$A$146,0),MATCH(Cond1!E$1,Potencia!$B$1:$G$1,0)) -> 878 | F7: =+INDEX(Potencia!$B$2:$G$146,MATCH(Cond1!$A7,Potencia!$A$2:$A$146,0),MATCH(Cond1!F$1,Potencia!$B$1:$G$1,0)) -> 71 | G7: =+INDEX(Potencia!$B$2:$G$146,MATCH(Cond1!$A7,Potencia!$A$2:$A$146,0),MATCH(Cond1!G$1,Potencia!$B$1:$G$1,0)) -> 631 | H7: 46 | I7: AD | J7: 4 | K7: =+(B7-C7)/C7 -> 0.068228106
A8: AL8P2_completo.csv | B8: =+INDEX(Potencia!$B$2:$G$146,MATCH(Cond1!$A8,Potencia!$A$2:$A$146,0),MATCH(Cond1!B$1,Potencia!$B$1:$G$1,0)) -> 808 | C8: =+INDEX(Potencia!$B$2:$G$146,MATCH(Cond1!$A8,Potencia!$A$2:$A$146,0),MATCH(Cond1!C$1,Potencia!$B$1:$G$1,0)) -> 724 | D8: =+INDEX(Potencia!$B$2:$G$146,MATCH(Cond1!$A8,Potencia!$A$2:$A$146,0),MATCH(Cond1!D$1,Potencia!$B$1:$G$1,0)) -> 121 | E8: =+INDEX(Potencia!$B$2:$G$146,MATCH(Cond1!$A8,Potencia!$A$2:$A$146,0),MATCH(Cond1!E$1,Potencia!$B$1:$G$1,0)) -> 556 | F8: =+INDEX(Potencia!$B$2:$G$146,MATCH(Cond1!$A8,Potencia!$A$2:$A$146,0),MATCH(Cond1!F$1,Potencia!$B$1:$G$1,0)) -> 116 | G8: =+INDEX(Potencia!$B$2:$G$146,MATCH(Cond1!$A8,Potencia!$A$2:$A$146,0),MATCH(Cond1!G$1,Potencia!$B$1:$G$1,0)) -> 434 | H8: 46 | I8: BD | J8: 2 | K8: =+(B8-C8)/C8 -> 0.1160221
A9: AL8P3_completo.csv | B9: =+INDEX(Potencia!$B$2:$G$146,MATCH(Cond1!$A9,Potencia!$A$2:$A$146,0),MATCH(Cond1!B$1,Potencia!$B$1:$G$1,0)) -> 948 | C9: =+INDEX(Potencia!$B$2:$G$146,MATCH(Cond1!$A9,Potencia!$A$2:$A$146,0),MATCH(Cond1!C$1,Potencia!$B$1:$G$1,0)) -> 899 | D9: =+INDEX(Potencia!$B$2:$G$146,MATCH(Cond1!$A9,Potencia!$A$2:$A$146,0),MATCH(Cond1!D$1,Potencia!$B$1:$G$1,0)) -> 122 | E9: =+INDEX(Potencia!$B$2:$G$146,MATCH(Cond1!$A9,Potencia!$A$2:$A$146,0),MATCH(Cond1!E$1,Potencia!$B$1:$G$1,0)) -> 685 | F9: =+INDEX(Potencia!$B$2:$G$146,MATCH(Cond1!$A9,Potencia!$A$2:$A$146,0),MATCH(Cond1!F$1,Potencia!$B$1:$G$1,0)) -> 113 | G9: =+INDEX(Potencia!$B$2:$G$146,MATCH(Cond1!$A9,Potencia!$A$2:$A$146,0),MATCH(Cond1!G$1,Potencia!$B$1:$G$1,0)) -> 492 | H9: 46 | I9: BD | J9: 3 | K9: =+(B9-C9)/C9 -> 0.054505006
A10: AL8P4_completo.csv | B10: =+INDEX(Potencia!$B$2:$G$146,MATCH(Cond1!$A10,Potencia!$A$2:$A$146,0),MATCH(Cond1!B$1,Potencia!$B$1:$G$1,0)) -> 1134 | C10: =+INDEX(Potencia!$B$2:$G$146,MATCH(Cond1!$A10,Potencia!$A$2:$A$146,0),MATCH(Cond1!C$1,Potencia!$B$1:$G$1,0)) -> 1006 | D10: =+INDEX(Potencia!$B$2:$G$146,MATCH(Cond1!$A10,Potencia!$A$2:$A$146,0),MATCH(Cond1!D$1,Potencia!$B$1:$G$1,0)) -> 76 | E10: =+INDEX(Potencia!$B$2:$G$146,MATCH(Cond1!$A10,Potencia!$A$2:$A$146,0),MATCH(Cond1!E$1,Potencia!$B$1:$G$1,0)) -> 788 | F10: =+INDEX(Potencia!$B$2:$G$146,MATCH(Cond1!$A10,Potencia!$A$2:$A$146,0),MATCH(Cond1!F$1,Potencia!$B$1:$G$1,0)) -> 64 | G10: =+INDEX(Potencia!$B$2:$G$146,MATCH(Cond1!$A10,Potencia!$A$2:$A$146,0),MATCH(Cond1!G$1,Potencia!$B$1:$G$1,0)) -> 588 | H10: 46 | I10: BD | J10: 4 | K10: =+(B10-C10)/C10 -> 0.12723658
A11: AL9P2_completo.csv | B11: =+INDEX(Potencia!$B$2:$G$146,MATCH(Cond1!$A11,Potencia!$A$2:$A$146,0),MATCH(Cond1!B$1,Potencia!$B$1:$G$1,0)) -> 884 | C11: =+INDEX(Potencia!$B$2:$G$146,MATCH(Cond1!$A11,Potencia!$A$2:$A$146,0),MATCH(Cond1!C$1,Potencia!$B$1:$G$1,0)) -> 818 | D11: =+INDEX(Potencia!$B$2:$G$146,MATCH(Cond1!$A11,Potencia!$A$2:$A$146,0),MATCH(Cond1!D$1,Potencia!$B$1:$G$1,0)) -> 122 | E11: =+INDEX(Potencia!$B$2:$G$146,MATCH(Cond1!$A11,Potencia!$A$2:$A$146,0),MATCH(Cond1!E$1,Potencia!$B$1:$G$1,0)) -> 608 | F11: =+INDEX(Potencia!$B$2:$G$146,MATCH(Cond1!$A11,Potencia!$A$2:$A$146,0),MATCH(Cond1!F$1,Potencia!$B$1:$G$1,0)) -> 125 | G11: =+INDEX(Potencia!$B$2:$G$146,MATCH(Cond1!$A11,Potencia!$A$2:$A$146,0),MATCH(Cond1!G$1,Potencia!$B$1:$G$1,0)) -> 471 | H11: 46 | I11: BD | J11: 2 | K11: =+(B11-C11)/C11 -> 0.080684597
A12: AL9P3_completo.csv | B12: =+INDEX(Potencia!$B$2:$G$146,MATCH(Cond1!$A12,Potencia!$A$2:$A$146,0),MATCH(Cond1!B$1,Potencia!$B$1:$G$1,0)) -> 1044 | C12: =+INDEX(Potencia!$B$2:$G$146,MATCH(Cond1!$A12,Potencia!$A$2:$A$146,0),MATCH(Cond1!C$1,Potencia!$B$1:$G$1,0)) -> 988 | D12: =+INDEX(Potencia!$B$2:$G$146,MATCH(Cond1!$A12,Potencia!$A$2:$A$146,0),MATCH(Cond1!D$1,Potencia!$B$1:$G$1,0)) -> 126 | E12: =+INDEX(Potencia!$B$2:$G$146,MATCH(Cond1!$A12,Potencia!$A$2:$A$146,0),MATCH(Cond1!E$1,Potencia!$B$1:$G$1,0)) -> 723 | F12: =+INDEX(Potencia!$B$2:$G$146,MATCH(Cond1!$A12,Potencia!$A$2:$A$146,0),MATCH(Cond1!F$1,Potencia!$B$1:$G$1,0)) -> 116 | G12: =+INDEX(Potencia!$B$2:$G$146,MATCH(Cond1!$A12,Potencia!$A$2:$A$146,0),MATCH(Cond1!G$1,Potencia!$B$1:$G$1,0)) -> 514 | H12: 46 | I12: BD | J12: 3 | K12: =+(B12-C12)/C12 -> 0.056680162
A13: AL9P4_completo.csv | B13: =+INDEX(Potencia!$B$2:$G$146,MATCH(Cond1!$A13,Potencia!$A$2:$A$146,0),MATCH(Cond1!B$1,Potencia!$B$1:$G$1,0)) -> 1164 | C13: =+INDEX(Potencia!$B$2:$G$146,MATCH(Cond1!$A13,Potencia!$A$2:$A$146,0),MATCH(Cond1!C$1,Potencia!$B$1:$G$1,0)) -> 1030 | D13: =+INDEX(Potencia!$B$2:$G$146,MATCH(Cond1!$A13,Potencia!$A$2:$A$146,0),MATCH(Cond1!D$1,Potencia!$B$1:$G$1,0)) -> 88 | E13: =+INDEX(Potencia!$B$2:$G$146,MATCH(Cond1!$A13,Potencia!$A$2:$A$146,0),MATCH(Cond1!E$1,Potencia!$B$1:$G$1,0)) -> 833 | F13: =+INDEX(Potencia!$B$2:$G$146,MATCH(Cond1!$A13,Potencia!$A$2:$A$146,0),MATCH(Cond1!F$1,Potencia!$B$1:$G$1,0)) -> 71 | G13: =+INDEX(Potencia!$B$2:$G$146,MATCH(Cond1!$A13,Potencia!$A$2:$A$146,0),MATCH(Cond1!G$1,Potencia!$B$1:$G$1,0)) -> 613 | H13: 46 | I13: BD | J13: 4 | K13: =+(B13-C13)/C13 -> 0.13009709
A14: AL28P2_completo.csv | B14: =+INDEX(Potencia!$B$2:$G$146,MATCH(Cond1!$A14,Potencia!$A$2:$A$146,0),MATCH(Cond1!B$1,Potencia!$B$1:$G$1,0)) -> 661 | C14: =+INDEX(Potencia!$B$2:$G$146,MATCH(Cond1!$A14,Potencia!$A$2:$A$146,0),MATCH(Cond1!C$1,Potencia!$B$1:$G$1,0)) -> 637 | D14: =+INDEX(Potencia!$B$2:$G$146,MATCH(Cond1!$A14,Potencia!$A$2:$A$146,0),MATCH(Cond1!D$1,Potencia!$B$1:$G$1,0)) -> 123 | E14: =+INDEX(Potencia!$B$2:$G$146,MATCH(Cond1!$A14,Potencia!$A$2:$A$146,0),MATCH(Cond1!E$1,Potencia!$B$1:$G$1,0)) -> 514 | F14: =+INDEX(Potencia!$B$2:$G$146,MATCH(Cond1!$A14,Potencia!$A$2:$A$146,0),MATCH(Cond1!F$1,Potencia!$B$1:$G$1,0)) -> 111 | G14: =+INDEX(Potencia!$B$2:$G$146,MATCH(Cond1!$A14,Potencia!$A$2:$A$146,0),MATCH(Cond1!G$1,Potencia!$B$1:$G$1,0)) -> 406 | H14: 76 | I14: AD | J14: 2 | K14: =+(B14-C14)/C14 -> 0.037676609 | L14: =+AVERAGE(K14:K25) -> 0.05173583 | M14: =+_xlfn.STDEV.P(K14:K25) -> 0.019954742
A15: AL28P3_completo.csv | B15: =+INDEX(Potencia!$B$2:$G$146,MATCH(Cond1!$A15,Potencia!$A$2:$A$146,0),MATCH(Cond1!B$1,Potencia!$B$1:$G$1,0)) -> 780 | C15: =+INDEX(Potencia!$B$2:$G$146,MATCH(Cond1!$A15,Potencia!$A$2:$A$146,0),MATCH(Cond1!C$1,Potencia!$B$1:$G$1,0)) -> 763 | D15: =+INDEX(Potencia!$B$2:$G$146,MATCH(Cond1!$A15,Potencia!$A$2:$A$146,0),MATCH(Cond1!D$1,Potencia!$B$1:$G$1,0)) -> 116 | E15: =+INDEX(Potencia!$B$2:$G$146,MATCH(Cond1!$A15,Potencia!$A$2:$A$146,0),MATCH(Cond1!E$1,Potencia!$B$1:$G$1,0)) -> 616 | F15: =+INDEX(Potencia!$B$2:$G$146,MATCH(Cond1!$A15,Potencia!$A$2:$A$146,0),MATCH(Cond1!F$1,Potencia!$B$1:$G$1,0)) -> 100 | G15: =+INDEX(Potencia!$B$2:$G$146,MATCH(Cond1!$A15,Potencia!$A$2:$A$146,0),MATCH(Cond1!G$1,Potencia!$B$1:$G$1,0)) -> 450 | H15: 76 | I15: AD | J15: 3 | K15: =+(B15-C15)/C15 -> 0.022280472
A16: AL28P4_completo.csv | B16: =+INDEX(Potencia!$B$2:$G$146,MATCH(Cond1!$A16,Potencia!$A$2:$A$146,0),MATCH(Cond1!B$1,Potencia!$B$1:$G$1,0)) -> 888 | C16: =+INDEX(Potencia!$B$2:$G$146,MATCH(Cond1!$A16,Potencia!$A$2:$A$146,0),MATCH(Cond1!C$1,Potencia!$B$1:$G$1,0)) -> 848 | D16: =+INDEX(Potencia!$B$2:$G$146,MATCH(Cond1!$A16,Potencia!$A$2:$A$146,0),MATCH(Cond1!D$1,Potencia!$B$1:$G$1,0)) -> 88 | E16: =+INDEX(Potencia!$B$2:$G$146,MATCH(Cond1!$A16,Potencia!$A$2:$A$146,0),MATCH(Cond1!E$1,Potencia!$B$1:$G$1,0)) -> 714 | F16: =+INDEX(Potencia!$B$2:$G$146,MATCH(Cond1!$A16,Potencia!$A$2:$A$146,0),MATCH(Cond1!F$1,Potencia!$B$1:$G$1,0)) -> 66 | G16: =+INDEX(Potencia!$B$2:$G$146,MATCH(Cond1!$A16,Potencia!$A$2:$A$146,0),MATCH(Cond1!G$1,Potencia!$B$1:$G$1,0)) -> 532 | H16: 76 | I16: AD | J16: 4 | K16: =+(B16-C16)/C16 -> 0.047169811
A17: AL29P2_completo.csv | B17: =+INDEX(Potencia!$B$2:$G$146,MATCH(Cond1!$A17,Potencia!$A$2:$A$146,0),MATCH(Cond1!B$1,Potencia!$B$1:$G$1,0)) -> 766 | C17: =+INDEX(Potencia!$B$2:$G$146,MATCH(Cond1!$A17,Potencia!$A$2:$A$146,0),MATCH(Cond1!C$1,Potencia!$B$1:$G$1,0)) -> 735 | D17: =+INDEX(Potencia!$B$2:$G$146,MATCH(Cond1!$A17,Potencia!$A$2:$A$146,0),MATCH(Cond1!D$1,Potencia!$B$1:$G$1,0)) -> 138 | E17: =+INDEX(Potencia!$B$2:$G$146,MATCH(Cond1!$A17,Potencia!$A$2:$A$146,0),MATCH(Cond1!E$1,Potencia!$B$1:$G$1,0)) -> 559 | F17: =+INDEX(Potencia!$B$2:$G$146,MATCH(Cond1!$A17,Potencia!$A$2:$A$146,0),MATCH(Cond1!F$1,Potencia!$B$1:$G$1,0)) -> 130 | G17: =+INDEX(Potencia!$B$2:$G$146,MATCH(Cond1!$A17,Potencia!$A$2:$A$146,0),MATCH(Cond1!G$1,Potencia!$B$1:$G$1,0)) -> 463 | H17: 76 | I17: AD | J17: 2 | K17: =+(B17-C17)/C17 -> 0.042176871
A18: AL29P3_completo.csv | B18: =+INDEX(Potencia!$B$2:$G$146,MATCH(Cond1!$A18,Potencia!$A$2:$A$146,0),MATCH(Cond1!B$1,Potencia!$B$1:$G$1,0)) -> 906 | C18: =+INDEX(Potencia!$B$2:$G$146,MATCH(Cond1!$A18,Potencia!$A$2:$A$146,0),MATCH(Cond1!C$1,Potencia!$B$1:$G$1,0)) -> 865 | D18: =+INDEX(Potencia!$B$2:$G$146,MATCH(Cond1!$A18,Potencia!$A$2:$A$146,0),MATCH(Cond1!D$1,Potencia!$B$1:$G$1,0)) -> 140 | E18: =+INDEX(Potencia!$B$2:$G$146,MATCH(Cond1!$A18,Potencia!$A$2:$A$146,0),MATCH(Cond1!E$1,Potencia!$B$1:$G$1,0)) -> 676 | F18: =+INDEX(Potencia!$B$2:$G$146,MATCH(Cond1!$A18,Potencia!$A$2:$A$146,0),MATCH(Cond1!F$1,Potencia!$B$1:$G$1,0)) -> 124 | G18: =+INDEX(Potencia!$B$2:$G$146,MATCH(Cond1!$A18,Potencia!$A$2:$A$146,0),MATCH(Cond1!G$1,Potencia!$B$1:$G$1,0)) -> 499 | H18: 76 | I18: AD | J18: 3 | K18: =+(B18-C18)/C18 -> 0.047398844
A19: AL29P4_completo.csv | B19: =+INDEX(Potencia!$B$2:$G$146,MATCH(Cond1!$A19,Potencia!$A$2:$A$146,0),MATCH(Cond1!B$1,Potencia!$B$1:$G$1,0)) -> 1012 | C19: =+INDEX(Potencia!$B$2:$G$146,MATCH(Cond1!$A19,Potencia!$A$2:$A$146,0),MATCH(Cond1!C$1,Potencia!$B$1:$G$1,0)) -> 948 | D19: =+INDEX(Potencia!$B$2:$G$146,MATCH(Cond1!$A19,Potencia!$A$2:$A$146,0),MATCH(Cond1!D$1,Potencia!$B$1:$G$1,0)) -> 102 | E19: =+INDEX(Potencia!$B$2:$G$146,MATCH(Cond1!$A19,Potencia!$A$2:$A$146,0),MATCH(Cond1!E$1,Potencia!$B$1:$G$1,0)) -> 764 | F19: =+INDEX(Potencia!$B$2:$G$146,MATCH(Cond1!$A19,Potencia!$A$2:$A$146,0),MATCH(Cond1!F$1,Potencia!$B$1:$G$1,0)) -> 82 | G19: =+INDEX(Potencia!$B$2:$G$146,MATCH(Cond1!$A19,Potencia!$A$2:$A$146,0),MATCH(Cond1!G$1,Potencia!$B$1:$G$1,0)) -> 593 | H19: 76 | I19: AD | J19: 4 | K19: =+(B19-C19)/C19 -> 0.067510549
A20: AL10P2_completo.csv | B20: =+INDEX(Potencia!$B$2:$G$146,MATCH(Cond1!$A20,Potencia!$A$2:$A$146,0),MATCH(Cond1!B$1,Potencia!$B$1:$G$1,0)) -> 723 | C20: =+INDEX(Potencia!$B$2:$G$146,MATCH(Cond1!$A20,Potencia!$A$2:$A$146,0),MATCH(Cond1!C$1,Potencia!$B$1:$G$1,0)) -> 668 | D20: =+INDEX(Potencia!$B$2:$G$146,MATCH(Cond1!$A20,Potencia!$A$2:$A$146,0),MATCH(Cond1!D$1,Potencia!$B$1:$G$1,0)) -> 157 | E20: =+INDEX(Potencia!$B$2:$G$146,MATCH(Cond1!$A20,Potencia!$A$2:$A$146,0),MATCH(Cond1!E$1,Potencia!$B$1:$G$1,0)) -> 585 | F20: =+INDEX(Potencia!$B$2:$G$146,MATCH(Cond1!$A20,Potencia!$A$2:$A$146,0),MATCH(Cond1!F$1,Potencia!$B$1:$G$1,0)) -> 134 | G20: =+INDEX(Potencia!$B$2:$G$146,MATCH(Cond1!$A20,Potencia!$A$2:$A$146,0),MATCH(Cond1!G$1,Potencia!$B$1:$G$1,0)) -> 462 | H20: 76 | I20: BD | J20: 2 | K20: =+(B20-C20)/C20 -> 0.082335329
A21: AL10P3_completo.csv | B21: =+INDEX(Potencia!$B$2:$G$146,MATCH(Cond1!$A21,Potencia!$A$2:$A$146,0),MATCH(Cond1!B$1,Potencia!$B$1:$G$1,0)) -> 853 | C21: =+INDEX(Potencia!$B$2:$G$146,MATCH(Cond1!$A21,Potencia!$A$2:$A$146,0),MATCH(Cond1!C$1,Potencia!$B$1:$G$1,0)) -> 829 | D21: =+INDEX(Potencia!$B$2:$G$146,MATCH(Cond1!$A21,Potencia!$A$2:$A$146,0),MATCH(Cond1!D$1,Potencia!$B$1:$G$1,0)) -> 143 | E21: =+INDEX(Potencia!$B$2:$G$146,MATCH(Cond1!$A21,Potencia!$A$2:$A$146,0),MATCH(Cond1!E$1,Potencia!$B$1:$G$1,0)) -> 690 | F21: =+INDEX(Potencia!$B$2:$G$146,MATCH(Cond1!$A21,Potencia!$A$2:$A$146,0),MATCH(Cond1!F$1,Potencia!$B$1:$G$1,0)) -> 120 | G21: =+INDEX(Potencia!$B$2:$G$146,MATCH(Cond1!$A21,Potencia!$A$2:$A$146,0),MATCH(Cond1!G$1,Potencia!$B$1:$G$1,0)) -> 498 | H21: 76 | I21: BD | J21: 3 | K21: =+(B21-C21)/C21 -> 0.028950543
A22: AL10P4_completo.csv | B22: =+INDEX(Potencia!$B$2:$G$146,MATCH(Cond1!$A22,Potencia!$A$2:$A$146,0),MATCH(Cond1!B$1,Potencia!$B$1:$G$1,0)) -> 944 | C22: =+INDEX(Potencia!$B$2:$G$146,MATCH(Cond1!$A22,Potencia!$A$2:$A$146,0),MATCH(Cond1!C$1,Potencia!$B$1:$G$1,0)) -> 893 | D22: =+INDEX(Potencia!$B$2:$G$146,MATCH(Cond1!$A22,Potencia!$A$2:$A$146,0),MATCH(Cond1!D$1,Potencia!$B$1:$G$1,0)) -> 99 | E22: =+INDEX(Potencia!$B$2:$G$146,MATCH(Cond1!$A22,Potencia!$A$2:$A$146,0),MATCH(Cond1!E$1,Potencia!$B$1:$G$1,0)) -> 767 | F22: =+INDEX(Potencia!$B$2:$G$146,MATCH(Cond1!$A22,Potencia!$A$2:$A$146,0),MATCH(Cond1!F$1,Potencia!$B$1:$G$1,0)) -> 70 | G22: =+INDEX(Potencia!$B$2:$G$146,MATCH(Cond1!$A22,Potencia!$A$2:$A$146,0),MATCH(Cond1!G$1,Potencia!$B$1:$G$1,0)) -> 584 | H22: 76 | I22: BD | J22: 4 | K22: =+(B22-C22)/C22 -> 0.057110862
A23: AL11P2_completo.csv | B23: =+INDEX(Potencia!$B$2:$G$146,MATCH(Cond1!$A23,Potencia!$A$2:$A$146,0),MATCH(Cond1!B$1,Potencia!$B$1:$G$1,0)) -> 673 | C23: =+INDEX(Potencia!$B$2:$G$146,MATCH(Cond1!$A23,Potencia!$A$2:$A$146,0),MATCH(Cond1!C$1,Potencia!$B$1:$G$1,0)) -> 632 | D23: =+INDEX(Potencia!$B$2:$G$146,MATCH(Cond1!$A23,Potencia!$A$2:$A$146,0),MATCH(Cond1!D$1,Potencia!$B$1:$G$1,0)) -> 148 | E23: =+INDEX(Potencia!$B$2:$G$146,MATCH(Cond1!$A23,Potencia!$A$2:$A$146,0),MATCH(Cond1!E$1,Potencia!$B$1:$G$1,0)) -> 530 | F23: =+INDEX(Potencia!$B$2:$G$146,MATCH(Cond1!$A23,Potencia!$A$2:$A$146,0),MATCH(Cond1!F$1,Potencia!$B$1:$G$1,0)) -> 119 | G23: =+INDEX(Potencia!$B$2:$G$146,MATCH(Cond1!$A23,Potencia!$A$2:$A$146,0),MATCH(Cond1!G$1,Potencia!$B$1:$G$1,0)) -> 428 | H23: 76 | I23: BD | J23: 2 | K23: =+(B23-C23)/C23 -> 0.064873418
A24: AL11P3_completo.csv | B24: =+INDEX(Potencia!$B$2:$G$146,MATCH(Cond1!$A24,Potencia!$A$2:$A$146,0),MATCH(Cond1!B$1,Potencia!$B$1:$G$1,0)) -> 810 | C24: =+INDEX(Potencia!$B$2:$G$146,MATCH(Cond1!$A24,Potencia!$A$2:$A$146,0),MATCH(Cond1!C$1,Potencia!$B$1:$G$1,0)) -> 783 | D24: =+INDEX(Potencia!$B$2:$G$146,MATCH(Cond1!$A24,Potencia!$A$2:$A$146,0),MATCH(Cond1!D$1,Potencia!$B$1:$G$1,0)) -> 136 | E24: =+INDEX(Potencia!$B$2:$G$146,MATCH(Cond1!$A24,Potencia!$A$2:$A$146,0),MATCH(Cond1!E$1,Potencia!$B$1:$G$1,0)) -> 640 | F24: =+INDEX(Potencia!$B$2:$G$146,MATCH(Cond1!$A24,Potencia!$A$2:$A$146,0),MATCH(Cond1!F$1,Potencia!$B$1:$G$1,0)) -> 118 | G24: =+INDEX(Potencia!$B$2:$G$146,MATCH(Cond1!$A24,Potencia!$A$2:$A$146,0),MATCH(Cond1!G$1,Potencia!$B$1:$G$1,0)) -> 475 | H24: 76 | I24: BD | J24: 3 | K24: =+(B24-C24)/C24 -> 0.034482759
A25: AL11P4_completo.csv | B25: =+INDEX(Potencia!$B$2:$G$146,MATCH(Cond1!$A25,Potencia!$A$2:$A$146,0),MATCH(Cond1!B$1,Potencia!$B$1:$G$1,0)) -> 968 | C25: =+INDEX(Potencia!$B$2:$G$146,MATCH(Cond1!$A25,Potencia!$A$2:$A$146,0),MATCH(Cond1!C$1,Potencia!$B$1:$G$1,0)) -> 889 | D25: =+INDEX(Potencia!$B$2:$G$146,MATCH(Cond1!$A25,Potencia!$A$2:$A$146,0),MATCH(Cond1!D$1,Potencia!$B$1:$G$1,0)) -> 102 | E25: =+INDEX(Potencia!$B$2:$G$146,MATCH(Cond1!$A25,Potencia!$A$2:$A$146,0),MATCH(Cond1!E$1,Potencia!$B$1:$G$1,0)) -> 758 | F25: =+INDEX(Potencia!$B$2:$G$146,MATCH(Cond1!$A25,Potencia!$A$2:$A$146,0),MATCH(Cond1!F$1,Potencia!$B$1:$G$1,0)) -> 77 | G25: =+INDEX(Potencia!$B$2:$G$146,MATCH(Cond1!$A25,Potencia!$A$2:$A$146,0),MATCH(Cond1!G$1,Potencia!$B$1:$G$1,0)) -> 580 | H25: 76 | I25: BD | J25: 4 | K25: =+(B25-C25)/C25 -> 0.088863892

Sheet Cond1Pot
A1: Nombre | B1: Cara de presion entrada | C1: Tasa de arranque | D1: Cara de presion | E1: AGR | F1: Tasa de arranque | G1: Borde de entrada | H1: Agr | I1: Tasa de arranque | J1: Cara de Succion | K1: Agr | L1: Tasa de arranque | M1: Borde de salida | N1: Agr | O1: Cara de presion salida | P1: Grano | Q1: Densidad
A2: AL4P2_completo.csv | B2: =+Cond1!B2 -> 888 | C2: 6.3617454 | D2: =+Cond1!C2 -> 768 | E2: 9.7541365 | F2: 0.75837188 | G2: =+Cond1!D2 -> 124 | H2: 3.1382161 | I2: 4.9581082 | J2: =+Cond1!E2 -> 565 | K2: 8.5845174 | L2: 0.64602049 | M2: =+Cond1!F2 -> 113 | N2: 2.7908505 | O2: =+Cond1!G2 -> 440 | P2: 46 | Q2: AD
A3: AL4P3_completo.csv | B3: =+Cond1!B3 -> 991 | C3: 6.6095405 | D3: =+Cond1!C3 -> 919 | E3: 9.6861533 | F3: 0.54937176 | G3: =+Cond1!D3 -> 115 | H3: 2.3352877 | I3: 5.1467102 | J3: =+Cond1!E3 -> 691 | K3: 8.5163763 | L3: 0.42161088 | M3: =+Cond1!F3 -> 101 | N3: 2.0113872 | O3: =+Cond1!G3 -> 487 | P3: 46 | Q3: AD
A4: AL4P4_completo.csv | B4: =+Cond1!B4 -> 1098 | C4: 6.7470443 | D4: =+Cond1!C4 -> 982 | E4: 9.6017326 | F4: 0.29387029 | G4: =+Cond1!D4 -> 81 | H4: 1.537469 | I4: 5.249043 | J4: =+Cond1!E4 -> 805 | K4: 8.4280818 | L4: 0.15051893 | M4: =+Cond1!F4 -> 62 | N4: 0.89119298 | O4: =+Cond1!G4 -> 580 | P4: 46 | Q4: AD
A5: AL5P2_completo.csv | B5: =+Cond1!B5 -> 971 | C5: 6.3617454 | D5: =+Cond1!C5 -> 863 | E5: 9.7541365 | F5: 0.75837188 | G5: =+Cond1!D5 -> 129 | H5: 3.1382161 | I5: 4.9581082 | J5: =+Cond1!E5 -> 615 | K5: 8.5845174 | L5: 0.64602049 | M5: =+Cond1!F5 -> 125 | N5: 2.7908505 | O5: =+Cond1!G5 -> 492 | P5: 46 | Q5: AD
A6: AL5P3_completo.csv | B6: =+Cond1!B6 -> 1080 | C6: 6.6095405 | D6: =+Cond1!C6 -> 1041 | E6: 9.6861533 | F6: 0.54937176 | G6: =+Cond1!D6 -> 125 | H6: 2.3352877 | I6: 5.1467102 | J6: =+Cond1!E6 -> 757 | K6: 8.5163763 | L6: 0.42161088 | M6: =+Cond1!F6 -> 111 | N6: 2.0113872 | O6: =+Cond1!G6 -> 528 | P6: 46 | Q6: AD
A7: AL5P4_completo.csv | B7: =+Cond1!B7 -> 1049 | C7: 6.7470443 | D7: =+Cond1!C7 -> 982 | E7: 9.6017326 | F7: 0.29387029 | G7: =+Cond1!D7 -> 96 | H7: 1.537469 | I7: 5.249043 | J7: =+Cond1!E7 -> 878 | K7: 8.4280818 | L7: 0.15051893 | M7: =+Cond1!F7 -> 71 | N7: 0.89119298 | O7: =+Cond1!G7 -> 631 | P7: 46 | Q7: AD
A8: AL8P2_completo.csv | B8: =+Cond1!B8 -> 808 | C8: 6.3617454 | D8: =+Cond1!C8 -> 724 | E8: 9.7541365 | F8: 0.75837188 | G8: =+Cond1!D8 -> 121 | H8: 3.1382161 | I8: 4.9581082 | J8: =+Cond1!E8 -> 556 | K8: 8.5845174 | L8: 0.64602049 | M8: =+Cond1!F8 -> 116 | N8: 2.7908505 | O8: =+Cond1!G8 -> 434 | P8: 46 | Q8: BD
A9: AL8P3_completo.csv | B9: =+Cond1!B9 -> 948 | C9: 6.6095405 | D9: =+Cond1!C9 -> 899 | E9: 9.6861533 | F9: 0.54937176 | G9: =+Cond1!D9 -> 122 | H9: 2.3352877 | I9: 5.1467102 | J9: =+Cond1!E9 -> 685 | K9: 8.5163763 | L9: 0.42161088 | M9: =+Cond1!F9 -> 113 | N9: 2.0113872 | O9: =+Cond1!G9 -> 492 | P9: 46 | Q9: BD
A10: AL8P4_completo.csv | B10: =+Cond1!B10 -> 1134 | C10: 6.7470443 | D10: =+Cond1!C10 -> 1006 | E10: 9.6017326 | F10: 0.29387029 | G10: =+Cond1!D10 -> 76 | H10: 1.537469 | I10: 5.249043 | J10: =+Cond1!E10 -> 788 | K10: 8.4280818 | L10: 0.15051893 | M10: =+Cond1!F10 -> 64 | N10: 0.89119298 | O10: =+Cond1!G10 -> 588 | P10: 46 | Q10: BD
A11: AL9P2_completo.csv | B11: =+Cond1!B11 -> 884 | C11: 6.3617454 | D11: =+Cond1!C11 -> 818 | E11: 9.7541365 | F11: 0.75837188 | G11: =+Cond1!D11 -> 122 | H11: 3.1382161 | I11: 4.9581082 | J11: =+Cond1!E11 -> 608 | K11: 8.5845174 | L11: 0.64602049 | M11: =+Cond1!F11 -> 125 | N11: 2.7908505 | O11: =+Cond1!G11 -> 471 | P11: 46 | Q11: BD
A12: AL9P3_completo.csv | B12: =+Cond1!B12 -> 1044 | C12: 6.6095405 | D12: =+Cond1!C12 -> 988 | E12: 9.6861533 | F12: 0.54937176 | G12: =+Cond1!D12 -> 126 | H12: 2.3352877 | I12: 5.1467102 | J12: =+Cond1!E12 -> 723 | K12: 8.5163763 | L12: 0.42161088 | M12: =+Cond1!F12 -> 116 | N12: 2.0113872 | O12: =+Cond1!G12 -> 514 | P12: 46 | Q12: BD
A13: AL9P4_completo.csv | B13: =+Cond1!B13 -> 1164 | C13: 6.7470443 | D13: =+Cond1!C13 -> 1030 | E13: 9.6017326 | F13: 0.29387029 | G13: =+Cond1!D13 -> 88 | H13: 1.537469 | I13: 5.249043 | J13: =+Cond1!E13 -> 833 | K13: 8.4280818 | L13: 0.15051893 | M13: =+Cond1!F13 -> 71 | N13: 0.89119298 | O13: =+Cond1!G13 -> 613 | P13: 46 | Q13: BD
... A25: AL11P4_completo.csv | B25: =+Cond1!B25 -> 968 | C25: 6.7470443 | D25: =+Cond1!C25 -> 889 | E25: 9.6017326 | F25: 0.29387029 | G25: =+Cond1!D25 -> 102 | H25: 1.537469 | I25: 5.249043 | J25: =+Cond1!E25 -> 758 | K25: 8.4280818 | L25: 0.15051893 | M25: =+Cond1!F25 -> 77 | N25: 0.89119298 | O25: =+Cond1!G25 -> 580 | P25: 76 | Q25: BD

Sheet Cond1Eesp
A1: Nombre | B1: Cara de presion | D1: Borde de entrada | F1: Cara de succion | H1: Borde de salida | M1: DIFERENCIA BD76 | O1: Diferencia succion presion | Q1: Medias
B2: Energia especifica | C2: AGR | D2: Energia especifica | E2: AGR | F2: Energia especifica | G2: AGR | H2: Energia especifica | I2: AGR | J2: Grano | K2: Densidad | Q2: Eesp | R2: Agrr
A3: AL4P2_completo.csv | B3: =+Cond1Pot!D2/Cond1Pot!C2 -> 120.72159 | C3: =+Cond1Pot!E2 -> 9.7541365 | D3: =+Cond1Pot!G2/Cond1Pot!F2 -> 163.50817 | E3: =+Cond1Pot!H2 -> 3.1382161 | F3: =+Cond1Pot!J2/Cond1Pot!I2 -> 113.95475 | G3: =+Cond1Pot!K2 -> 8.5845174 | H3: =+Cond1Pot!M2/Cond1Pot!L2 -> 174.91705 | I3: =+Cond1Pot!N2 -> 2.7908505 | J3: 46 | K3: AD | M3: =+AVERAGE(F3:F8) -> 139.99477 | N3: =+(M3-$M$21)/$M$21 -> 0.085468076 | O3: =+F3/B3 -> 0.94394678 | P3: =+AVERAGE(O3:O8) -> 0.99346088 | Q3: =+AVERAGE(B3:B8) -> 140.66794 | R3: =+AVERAGE(C3:C8) -> 9.6806741 | S3: =+AVERAGE(D3:D8) -> 228.79644 | T3: =+AVERAGE(E3:E8) -> 2.3369909 | U3: =+AVERAGE(F3:F8) -> 139.99477 | V3: =+AVERAGE(G3:G8) -> 8.5096585 | W3: =+AVERAGE(H3:H8) -> 292.47541 | X3: =+AVERAGE(I3:I8) -> 1.8978102
A4: AL4P3_completo.csv | B4: =+Cond1Pot!D3/Cond1Pot!C3 -> 139.04144 | C4: =+Cond1Pot!E3 -> 9.6861533 | D4: =+Cond1Pot!G3/Cond1Pot!F3 -> 209.33002 | E4: =+Cond1Pot!H3 -> 2.3352877 | F4: =+Cond1Pot!J3/Cond1Pot!I3 -> 134.26052 | G4: =+Cond1Pot!K3 -> 8.5163763 | H4: =+Cond1Pot!M3/Cond1Pot!L3 -> 239.55738 | I4: =+Cond1Pot!N3 -> 2.0113872 | J4: 46 | K4: AD | O4: =+F4/B4 -> 0.96561518
A5: AL4P4_completo.csv | B5: =+Cond1Pot!D4/Cond1Pot!C4 -> 145.54521 | C5: =+Cond1Pot!E4 -> 9.6017326 | D5: =+Cond1Pot!G4/Cond1Pot!F4 -> 275.63181 | E5: =+Cond1Pot!H4 -> 1.537469 | F5: =+Cond1Pot!J4/Cond1Pot!I4 -> 153.36129 | G5: =+Cond1Pot!K4 -> 8.4280818 | H5: =+Cond1Pot!M4/Cond1Pot!L4 -> 411.90833 | I5: =+Cond1Pot!N4 -> 0.89119298 | J5: 46 | K5: AD | O5: =+F5/B5 -> 1.053702
A6: AL5P2_completo.csv | B6: =+Cond1Pot!D5/Cond1Pot!C5 -> 135.6546 | C6: =+Cond1Pot!E5 -> 9.7541365 | D6: =+Cond1Pot!G5/Cond1Pot!F5 -> 170.10124 | E6: =+Cond1Pot!H5 -> 3.1382161 | F6: =+Cond1Pot!J5/Cond1Pot!I5 -> 124.03925 | G6: =+Cond1Pot!K5 -> 8.5845174 | H6: =+Cond1Pot!M5/Cond1Pot!L5 -> 193.49231 | I6: =+Cond1Pot!N5 -> 2.7908505 | J6: 46 | K6: AD | O6: =+F6/B6 -> 0.91437554
A7: AL5P3_completo.csv | B7: =+Cond1Pot!D6/Cond1Pot!C6 -> 157.4996 | C7: =+Cond1Pot!E6 -> 9.6861533 | D7: =+Cond1Pot!G6/Cond1Pot!F6 -> 227.53263 | E7: =+Cond1Pot!H6 -> 2.3352877 | F7: =+Cond1Pot!J6/Cond1Pot!I6 -> 147.08425 | G7: =+Cond1Pot!K6 -> 8.5163763 | H7: =+Cond1Pot!M6/Cond1Pot!L6 -> 263.27594 | I7: =+Cond1Pot!N6 -> 2.0113872 | J7: 46 | K7: AD | O7: =+F7/B7 -> 0.93387059
A8: AL5P4_completo.csv | B8: =+Cond1Pot!D7/Cond1Pot!C7 -> 145.54521 | C8: =+Cond1Pot!E7 -> 9.6017326 | D8: =+Cond1Pot!G7/Cond1Pot!F7 -> 326.67474 | E8: =+Cond1Pot!H7 -> 1.537469 | F8: =+Cond1Pot!J7/Cond1Pot!I7 -> 167.26858 | G8: =+Cond1Pot!K7 -> 8.4280818 | H8: =+Cond1Pot!M7/Cond1Pot!L7 -> 471.70147 | I8: =+Cond1Pot!N7 -> 0.89119298 | J8: 46 | K8: AD | O8: =+F8/B8 -> 1.1492551
A9: AL8P2_completo.csv | B9: =+Cond1Pot!D8/Cond1Pot!C8 -> 113.80525 | C9: =+Cond1Pot!E8 -> 9.7541365 | D9: =+Cond1Pot!G8/Cond1Pot!F8 -> 159.55233 | E9: =+Cond1Pot!H8 -> 3.1382161 | F9: =+Cond1Pot!J8/Cond1Pot!I8 -> 112.13955 | G9: =+Cond1Pot!K8 -> 8.5845174 | H9: =+Cond1Pot!M8/Cond1Pot!L8 -> 179.56087 | I9: =+Cond1Pot!N8 -> 2.7908505 | J9: 46 | K9: BD | M9: =+AVERAGE(F9:F14) -> 136.193 | N9: =+(M9-$M$21)/$M$21 -> 0.055990484 | O9: =+F9/B9 -> 0.98536358 | P9: =+AVERAGE(O9:O14) -> 0.98395712 | Q9: =+AVERAGE(B9:B14) -> 138.27408 | R9: =+AVERAGE(C9:C14) -> 9.6806741 | S9: =+AVERAGE(D9:D14) -> 221.65289 | T9: =+AVERAGE(E9:E14) -> 2.3369909 | U9: =+AVERAGE(F9:F14) -> 136.193 | V9: =+AVERAGE(G9:G14) -> 8.5096585 | W9: =+AVERAGE(H9:H14) -> 302.1842 | X9: =+AVERAGE(I9:I14) -> 1.8978102
A10: AL8P3_completo.csv | B10: =+Cond1Pot!D9/Cond1Pot!C9 -> 136.01551 | C10: =+Cond1Pot!E9 -> 9.6861533 | D10: =+Cond1Pot!G9/Cond1Pot!F9 -> 222.07185 | E10: =+Cond1Pot!H9 -> 2.3352877 | F10: =+Cond1Pot!J9/Cond1Pot!I9 -> 133.09473 | G10: =+Cond1Pot!K9 -> 8.5163763 | H10: =+Cond1Pot!M9/Cond1Pot!L9 -> 268.01965 | I10: =+Cond1Pot!N9 -> 2.0113872 | J10: 46 | K10: BD | O10: =+F10/B10 -> 0.97852614
A11: AL8P4_completo.csv | B11: =+Cond1Pot!D10/Cond1Pot!C10 -> 149.10233 | C11: =+Cond1Pot!E10 -> 9.6017326 | D11: =+Cond1Pot!G10/Cond1Pot!F10 -> 258.6175 | E11: =+Cond1Pot!H10 -> 1.537469 | F11: =+Cond1Pot!J10/Cond1Pot!I10 -> 150.1226 | G11: =+Cond1Pot!K10 -> 8.4280818 | H11: =+Cond1Pot!M10/Cond1Pot!L10 -> 425.19569 | I11: =+Cond1Pot!N10 -> 0.89119298 | J11: 46 | K11: BD | O11: =+F11/B11 -> 1.0068428
A12: AL9P2_completo.csv | B12: =+Cond1Pot!D11/Cond1Pot!C11 -> 128.58107 | C12: =+Cond1Pot!E11 -> 9.7541365 | D12: =+Cond1Pot!G11/Cond1Pot!F11 -> 160.87094 | E12: =+Cond1Pot!H11 -> 3.1382161 | F12: =+Cond1Pot!J11/Cond1Pot!I11 -> 122.62742 | G12: =+Cond1Pot!K11 -> 8.5845174 | H12: =+Cond1Pot!M11/Cond1Pot!L11 -> 193.49231 | I12: =+Cond1Pot!N11 -> 2.7908505 | J12: 46 | K12: BD | O12: =+F12/B12 -> 0.95369731
A13: AL9P3_completo.csv | B13: =+Cond1Pot!D12/Cond1Pot!C12 -> 149.48089 | C13: =+Cond1Pot!E12 -> 9.6861533 | D13: =+Cond1Pot!G12/Cond1Pot!F12 -> 229.35289 | E13: =+Cond1Pot!H12 -> 2.3352877 | F13: =+Cond1Pot!J12/Cond1Pot!I12 -> 140.47809 | G13: =+Cond1Pot!K12 -> 8.5163763 | H13: =+Cond1Pot!M12/Cond1Pot!L12 -> 275.13521 | I13: =+Cond1Pot!N12 -> 2.0113872 | J13: 46 | K13: BD | O13: =+F13/B13 -> 0.93977287
A14: AL9P4_completo.csv | B14: =+Cond1Pot!D13/Cond1Pot!C13 -> 152.65944 | C14: =+Cond1Pot!E13 -> 9.6017326 | D14: =+Cond1Pot!G13/Cond1Pot!F13 -> 299.45184 | E14: =+Cond1Pot!H13 -> 1.537469 | F14: =+Cond1Pot!J13/Cond1Pot!I13 -> 158.69559 | G14: =+Cond1Pot!K13 -> 8.4280818 | H14: =+Cond1Pot!M13/Cond1Pot!L13 -> 471.70147 | I14: =+Cond1Pot!N13 -> 0.89119298 | J14: 46 | K14: BD | O14: =+F14/B14 -> 1.03954
A15: AL28P2_completo.csv | B15: =+Cond1Pot!D14/Cond1Pot!C14 -> 100.12975 | C15: =+Cond1Pot!E14 -> 9.7541365 | D15: =+Cond1Pot!G14/Cond1Pot!F14 -> 162.18956 | E15: =+Cond1Pot!H14 -> 3.1382161 | F15: =+Cond1Pot!J14/Cond1Pot!I14 -> 103.66857 | G15: =+Cond1Pot!K14 -> 8.5845174 | H15: =+Cond1Pot!M14/Cond1Pot!L14 -> 171.82117 | I15: =+Cond1Pot!N14 -> 2.7908505 | J15: 76 | K15: AD | M15: =+AVERAGE(F15:F20) -> 124.83708 | N15: =+(M15-$M$21)/$M$21 -> -0.032059131 | O15: =+F15/B15 -> 1.0353423 | P15: =+AVERAGE(O15:O20) -> 1.0283002 | Q15: =+AVERAGE(B15:B20) -> 121.36089 | R15: =+AVERAGE(C15:C20) -> 9.6806741 | S15: =+AVERAGE(D15:D20) -> 242.78148 | T15: =+AVERAGE(E15:E20) -> 2.3369909 | U15: =+AVERAGE(F15:F20) -> 124.83708 | V15: =+AVERAGE(G15:G20) -> 8.5096585 | W15: =+AVERAGE(H15:H20) -> 314.6023 | X15: =+AVERAGE(I15:I20) -> 1.8978102
A16: AL28P3_completo.csv | B16: =+Cond1Pot!D15/Cond1Pot!C15 -> 115.43919 | C16: =+Cond1Pot!E15 -> 9.6861533 | D16: =+Cond1Pot!G15/Cond1Pot!F15 -> 211.15028 | E16: =+Cond1Pot!H15 -> 2.3352877 | F16: =+Cond1Pot!J15/Cond1Pot!I15 -> 119.68811 | G16: =+Cond1Pot!K15 -> 8.5163763 | H16: =+Cond1Pot!M15/Cond1Pot!L15 -> 237.18553 | I16: =+Cond1Pot!N15 -> 2.0113872 | J16: 76 | K16: AD | O16: =+F16/B16 -> 1.0368065
A17: AL28P4_completo.csv | B17: =+Cond1Pot!D16/Cond1Pot!C16 -> 125.68466 | C17: =+Cond1Pot!E16 -> 9.6017326 | D17: =+Cond1Pot!G16/Cond1Pot!F16 -> 299.45184 | E17: =+Cond1Pot!H16 -> 1.537469 | F17: =+Cond1Pot!J16/Cond1Pot!I16 -> 136.02479 | G17: =+Cond1Pot!K16 -> 8.4280818 | H17: =+Cond1Pot!M16/Cond1Pot!L16 -> 438.48306 | I17: =+Cond1Pot!N16 -> 0.89119298 | J17: 76 | K17: AD | O17: =+F17/B17 -> 1.0822704
A18: AL29P2_completo.csv | B18: =+Cond1Pot!D17/Cond1Pot!C17 -> 115.53433 | C18: =+Cond1Pot!E17 -> 9.7541365 | D18: =+Cond1Pot!G17/Cond1Pot!F17 -> 181.96877 | E18: =+Cond1Pot!H17 -> 3.1382161 | F18: =+Cond1Pot!J17/Cond1Pot!I17 -> 112.74461 | G18: =+Cond1Pot!K17 -> 8.5845174 | H18: =+Cond1Pot!M17/Cond1Pot!L17 -> 201.23201 | I18: =+Cond1Pot!N17 -> 2.7908505 | J18: 76 | K18: AD | O18: =+F18/B18 -> 0.97585378
A19: AL29P3_completo.csv | B19: =+Cond1Pot!D18/Cond1Pot!C18 -> 130.87143 | C19: =+Cond1Pot!E18 -> 9.6861533 | D19: =+Cond1Pot!G18/Cond1Pot!F18 -> 254.83654 | E19: =+Cond1Pot!H18 -> 2.3352877 | F19: =+Cond1Pot!J18/Cond1Pot!I18 -> 131.34604 | G19: =+Cond1Pot!K18 -> 8.5163763 | H19: =+Cond1Pot!M18/Cond1Pot!L18 -> 294.11005 | I19: =+Cond1Pot!N18 -> 2.0113872 | J19: 76 | K19: AD | O19: =+F19/B19 -> 1.0036265
A20: AL29P4_completo.csv | B20: =+Cond1Pot!D19/Cond1Pot!C19 -> 140.50597 | C20: =+Cond1Pot!E19 -> 9.6017326 | D20: =+Cond1Pot!G19/Cond1Pot!F19 -> 347.09191 | E20: =+Cond1Pot!H19 -> 1.537469 | F20: =+Cond1Pot!J19/Cond1Pot!I19 -> 145.55034 | G20: =+Cond1Pot!K19 -> 8.4280818 | H20: =+Cond1Pot!M19/Cond1Pot!L19 -> 544.78198 | I20: =+Cond1Pot!N19 -> 0.89119298 | J20: 76 | K20: AD | O20: =+F20/B20 -> 1.0359015
A21: AL10P2_completo.csv | B21: =+Cond1Pot!D20/Cond1Pot!C20 -> 105.00263 | C21: =+Cond1Pot!E20 -> 9.7541365 | D21: =+Cond1Pot!G20/Cond1Pot!F20 -> 207.02244 | E21: =+Cond1Pot!H20 -> 3.1382161 | F21: =+Cond1Pot!J20/Cond1Pot!I20 -> 117.98855 | G21: =+Cond1Pot!K20 -> 8.5845174 | H21: =+Cond1Pot!M20/Cond1Pot!L20 -> 207.42376 | I21: =+Cond1Pot!N20 -> 2.7908505 | J21: 76 | K21: BD | M21: =+AVERAGE(F21:F26) -> 128.9718 | O21: =+F21/B21 -> 1.1236723 | P21: =+AVERAGE(O21:O26) -> 1.0863784 | Q21: =+AVERAGE(B21:B26) -> 118.72533 | R21: =+AVERAGE(C21:C26) -> 9.6806741 | S21: =+AVERAGE(D21:D26) -> 265.66757 | T21: =+AVERAGE(E21:E26) -> 2.3369909 | U21: =+AVERAGE(F21:F26) -> 128.9718 | V21: =+AVERAGE(G21:G26) -> 8.5096585 | W21: =+AVERAGE(H21:H26) -> 322.12523 | X21: =+AVERAGE(I21:I26) -> 1.8978102
A22: AL10P3_completo.csv | B22: =+Cond1Pot!D21/Cond1Pot!C21 -> 125.42476 | C22: =+Cond1Pot!E21 -> 9.6861533 | D22: =+Cond1Pot!G21/Cond1Pot!F21 -> 260.29733 | E22: =+Cond1Pot!H21 -> 2.3352877 | F22: =+Cond1Pot!J21/Cond1Pot!I21 -> 134.06622 | G22: =+Cond1Pot!K21 -> 8.5163763 | H22: =+Cond1Pot!M21/Cond1Pot!L21 -> 284.62263 | I22: =+Cond1Pot!N21 -> 2.0113872 | J22: 76 | K22: BD | O22: =+F22/B22 -> 1.0688976
A23: AL10P4_completo.csv | B23: =+Cond1Pot!D22/Cond1Pot!C22 -> 132.35425 | C23: =+Cond1Pot!E22 -> 9.6017326 | D23: =+Cond1Pot!G22/Cond1Pot!F22 -> 336.88332 | E23: =+Cond1Pot!H22 -> 1.537469 | F23: =+Cond1Pot!J22/Cond1Pot!I22 -> 146.12187 | G23: =+Cond1Pot!K22 -> 8.4280818 | H23: =+Cond1Pot!M22/Cond1Pot!L22 -> 465.05779 | I23: =+Cond1Pot!N22 -> 0.89119298 | J23: 76 | K23: BD | O23: =+F23/B23 -> 1.104021
A24: AL11P2_completo.csv | B24: =+Cond1Pot!D23/Cond1Pot!C23 -> 99.343806 | C24: =+Cond1Pot!E23 -> 9.7541365 | D24: =+Cond1Pot!G23/Cond1Pot!F23 -> 195.15491 | E24: =+Cond1Pot!H23 -> 3.1382161 | F24: =+Cond1Pot!J23/Cond1Pot!I23 -> 106.89561 | G24: =+Cond1Pot!K23 -> 8.5845174 | H24: =+Cond1Pot!M23/Cond1Pot!L23 -> 184.20468 | I24: =+Cond1Pot!N23 -> 2.7908505 | J24: 76 | K24: BD | O24: =+F24/B24 -> 1.0760169
A25: AL11P3_completo.csv | B25: =+Cond1Pot!D24/Cond1Pot!C24 -> 118.46512 | C25: =+Cond1Pot!E24 -> 9.6861533 | D25: =+Cond1Pot!G24/Cond1Pot!F24 -> 247.5555 | E25: =+Cond1Pot!H24 -> 2.3352877 | F25: =+Cond1Pot!J24/Cond1Pot!I24 -> 124.35128 | G25: =+Cond1Pot!K24 -> 8.5163763 | H25: =+Cond1Pot!M24/Cond1Pot!L24 -> 279.87892 | I25: =+Cond1Pot!N24 -> 2.0113872 | J25: 76 | K25: BD | O25: =+F25/B25 -> 1.0496869
A26: AL11P4_completo.csv | B26: =+Cond1Pot!D25/Cond1Pot!C25 -> 131.7614 | C26: =+Cond1Pot!E25 -> 9.6017326 | D26: =+Cond1Pot!G25/Cond1Pot!F25 -> 347.09191 | E26: =+Cond1Pot!H25 -> 1.537469 | F26: =+Cond1Pot!J25/Cond1Pot!I25 -> 144.40727 | G26: =+Cond1Pot!K25 -> 8.4280818 | H26: =+Cond1Pot!M25/Cond1Pot!L25 -> 511.56357 | I26: =+Cond1Pot!N25 -> 0.89119298 | J26: 76 | K26: BD | O26: =+F26/B26 -> 1.0959756
B28: Acondicionamiento | D28: Alabe1 Tr1 | E28: Alabe1 Tr2 | F28: Alabe1 Tr3 | G28: Alabe1 Tr4 | H28: Alabe2 Tr1 | I28: Alabe2 Tr2 | J28: Alabe2 Tr3 | K28: Alabe2 Tr4
B29: =0.3*160*4 -> 192 | D29: 14.500368 | E29: 13.934881 | F29: 13.369395 | G29: 12.803908 | H29: 14.500368 | I29: 13.934881 | J29: 13.369395 | K29: 12.803908
A30: Presion 1 | D30: =+$B$29+M30 -> 194.95193 | E30: =+D34+N30 -> 209.46315 | F30: =+E34+O30 -> 223.41082 | G30: =+F34+P30 -> 236.793 | H30: =+G34+M30 -> 249.55855 | I30: =+H34+N30 -> 264.06978 | J30: =+I34+O30 -> 278.01745 | K30: =+J34+P30 -> 291.39963 | M30: =5.90385265502428/2 -> 2.9519263 | N30: =5.92942521922454/2 -> 2.9647126 | O30: =5.95499778342467/2 -> 2.9774989 | P30: =5.98057034762494/2 -> 2.9902852
A31: Entrada | D31: =+D30+M31 -> 196.16666 | E31: =+E30+N31 -> 210.40795 | F31: =+F30+O31 -> 224.08568 | G31: =+G30+P31 -> 237.19791 | H31: =+H30+M31 -> 250.77329 | I31: =+I30+N31 -> 265.01457 | J31: =+J30+O31 -> 278.6923 | K31: =+K30+P31 -> 291.80454 | M31: 1.2147361 | N31: 0.94479472 | O31: 0.67485337 | P31: 0.40491202
A32: Succion | D32: =+D31+M32 -> 202.47917 | E32: =+E31+N32 -> 216.66666 | F32: =+F31+O32 -> 230.29058 | G32: =+G31+P32 -> 243.34902 | H32: =+H31+M32 -> 257.08579 | I32: =+I31+N32 -> 271.27328 | J32: =+J31+O32 -> 284.89721 | K32: =+K31+P32 -> 297.95565 | M32: 6.3125068 | N32: 6.2587071 | O32: 6.2049073 | P32: 6.1511075
A33: Salida | D33: =+D32+M33 -> 203.54844 | E33: =+E32+N33 -> 217.46861 | F33: =+F32+O33 -> 230.82522 | G33: =+G32+P33 -> 243.61634 | H33: =+H32+M33 -> 258.15507 | I33: =+I32+N33 -> 272.07524 | J33: =+J32+O33 -> 285.43184 | K33: =+K32+P33 -> 298.22297 | M33: 1.0692725 | N33: 0.80195436 | O33: 0.53463624 | P33: 0.26731812
A34: Presion 2 | D34: =+D33+M34 -> 206.49844 | E34: =+E33+N34 -> 220.43332 | F34: =+F33+O34 -> 233.80272 | G34: =+G33+P34 -> 246.60663 | H34: =+H33+M34 -> 261.10507 | I34: =+I33+N34 -> 275.03995 | J34: =+J33+O34 -> 288.40934 | K34: =+K33+P34 -> 301.21325 | M34: 2.95 | N34: =+N30 -> 2.9647126 | O34: =+O30 -> 2.9774989 | P34: =+P30 -> 2.9902852
D35: =+D34-B29 -> 14.498442 | E35: =+E34-D34 -> 13.934881 | F35: =+F34-E34 -> 13.369395 | G35: =+G34-F34 -> 12.803908 | H35: =+H34-G34 -> 14.498442 | I35: =+I34-H34 -> 13.934881 | J35: =+J34-I34 -> 13.369395 | K35: =+K34-J34 -> 12.803908
A37: Al1Tr2 | B37: 209.46315 | D37: 210.40795 | F37: 216.66666 | H37: 217.46861
A38: Al1Tr3 | B38: 223.41082 | D38: 224.08568 | F38: 230.29058 | H38: 230.82522
A39: Al1Tr4 | B39: 236.793 | D39: 237.19791 | F39: 243.34902 | H39: 243.61634
A40: Al2Tr2 | B40: 264.06978 | D40: 265.01457 | F40: 271.27328 | H40: 272.07524
A41: Al2Tr3 | B41: 278.01745 | D41: 278.6923 | F41: 284.89721 | H41: 285.43184
A42: Al2Tr4 | B42: 291.39963 | D42: 291.80454 | F42: 297.95565 | H42: 298.22297

Sheet Cond2
A1: Nombre | B1: Cara de presion entrada | C1: Cara de presion | D1: Borde de entrada | E1: Cara de Succion | F1: Borde de salida | G1: Cara de presion salida | H1: Grano | I1: Densidad | J1: Trayectoria | K1: Dif entrada resto presion | L1: Media | M1: Desvest
A2: AL12P2_completo.csv | B2: =+INDEX(Potencia!$B$2:$G$146,MATCH(Cond2!$A2,Potencia!$A$2:$A$146,0),MATCH(Cond2!B$1,Potencia!$B$1:$G$1,0)) -> 687 | C2: =+INDEX(Potencia!$B$2:$G$146,MATCH(Cond2!$A2,Potencia!$A$2:$A$146,0),MATCH(Cond2!C$1,Potencia!$B$1:$G$1,0)) -> 625 | D2: =+INDEX(Potencia!$B$2:$G$146,MATCH(Cond2!$A2,Potencia!$A$2:$A$146,0),MATCH(Cond2!D$1,Potencia!$B$1:$G$1,0)) -> 110 | E2: =+INDEX(Potencia!$B$2:$G$146,MATCH(Cond2!$A2,Potencia!$A$2:$A$146,0),MATCH(Cond2!E$1,Potencia!$B$1:$G$1,0)) -> 494 | F2: =+INDEX(Potencia!$B$2:$G$146,MATCH(Cond2!$A2,Potencia!$A$2:$A$146,0),MATCH(Cond2!F$1,Potencia!$B$1:$G$1,0)) -> 90 | G2: =+INDEX(Potencia!$B$2:$G$146,MATCH(Cond2!$A2,Potencia!$A$2:$A$146,0),MATCH(Cond2!G$1,Potencia!$B$1:$G$1,0)) -> 396 | H2: 46 | I2: AD | J2: 2 | K2: =+(B2-C2)/C2 -> 0.0992 | L2: =+AVERAGE(K2:K13) -> 0.076420732 | M2: =+_xlfn.STDEV.P(K2:K13) -> 0.02587725
A3: AL12P3_completo.csv | B3: =+INDEX(Potencia!$B$2:$G$146,MATCH(Cond2!$A3,Potencia!$A$2:$A$146,0),MATCH(Cond2!B$1,Potencia!$B$1:$G$1,0)) -> 782 | C3: =+INDEX(Potencia!$B$2:$G$146,MATCH(Cond2!$A3,Potencia!$A$2:$A$146,0),MATCH(Cond2!C$1,Potencia!$B$1:$G$1,0)) -> 740 | D3: =+INDEX(Potencia!$B$2:$G$146,MATCH(Cond2!$A3,Potencia!$A$2:$A$146,0),MATCH(Cond2!D$1,Potencia!$B$1:$G$1,0)) -> 102 | E3: =+INDEX(Potencia!$B$2:$G$146,MATCH(Cond2!$A3,Potencia!$A$2:$A$146,0),MATCH(Cond2!E$1,Potencia!$B$1:$G$1,0)) -> 584 | F3: =+INDEX(Potencia!$B$2:$G$146,MATCH(Cond2!$A3,Potencia!$A$2:$A$146,0),MATCH(Cond2!F$1,Potencia!$B$1:$G$1,0)) -> 86 | G3: =+INDEX(Potencia!$B$2:$G$146,MATCH(Cond2!$A3,Potencia!$A$2:$A$146,0),MATCH(Cond2!G$1,Potencia!$B$1:$G$1,0)) -> 431 | H3: 46 | I3: AD | J3: 3 | K3: =+(B3-C3)/C3 -> 0.056756757
A4: AL12P4_completo.csv | B4: =+INDEX(Potencia!$B$2:$G$146,MATCH(Cond2!$A4,Potencia!$A$2:$A$146,0),MATCH(Cond2!B$1,Potencia!$B$1:$G$1,0)) -> 833 | C4: =+INDEX(Potencia!$B$2:$G$146,MATCH(Cond2!$A4,Potencia!$A$2:$A$146,0),MATCH(Cond2!C$1,Potencia!$B$1:$G$1,0)) -> 772 | D4: =+INDEX(Potencia!$B$2:$G$146,MATCH(Cond2!$A4,Potencia!$A$2:$A$146,0),MATCH(Cond2!D$1,Potencia!$B$1:$G$1,0)) -> 89 | E4: =+INDEX(Potencia!$B$2:$G$146,MATCH(Cond2!$A4,Potencia!$A$2:$A$146,0),MATCH(Cond2!E$1,Potencia!$B$1:$G$1,0)) -> 670 | F4: =+INDEX(Potencia!$B$2:$G$146,MATCH(Cond2!$A4,Potencia!$A$2:$A$146,0),MATCH(Cond2!F$1,Potencia!$B$1:$G$1,0)) -> 69 | G4: =+INDEX(Potencia!$B$2:$G$146,MATCH(Cond2!$A4,Potencia!$A$2:$A$146,0),MATCH(Cond2!G$1,Potencia!$B$1:$G$1,0)) -> 523 | H4: 46 | I4: AD | J4: 4 | K4: =+(B4-C4)/C4 -> 0.079015544
A5: AL13P2_completo.csv | B5: =+INDEX(Potencia!$B$2:$G$146,MATCH(Cond2!$A5,Potencia!$A$2:$A$146,0),MATCH(Cond2!B$1,Potencia!$B$1:$G$1,0)) -> 778 | C5: =+INDEX(Potencia!$B$2:$G$146,MATCH(Cond2!$A5,Potencia!$A$2:$A$146,0),MATCH(Cond2!C$1,Potencia!$B$1:$G$1,0)) -> 708 | D5: =+INDEX(Potencia!$B$2:$G$146,MATCH(Cond2!$A5,Potencia!$A$2:$A$146,0),MATCH(Cond2!D$1,Potencia!$B$1:$G$1,0)) -> 146 | E5: =+INDEX(Potencia!$B$2:$G$146,MATCH(Cond2!$A5,Potencia!$A$2:$A$146,0),MATCH(Cond2!E$1,Potencia!$B$1:$G$1,0)) -> 591 | F5: =+INDEX(Potencia!$B$2:$G$146,MATCH(Cond2!$A5,Potencia!$A$2:$A$146,0),MATCH(Cond2!F$1,Potencia!$B$1:$G$1,0)) -> 119 | G5: =+INDEX(Potencia!$B$2:$G$146,MATCH(Cond2!$A5,Potencia!$A$2:$A$146,0),MATCH(Cond2!G$1,Potencia!$B$1:$G$1,0)) -> 460 | H5: 46 | I5: AD | J5: 2 | K5: =+(B5-C5)/C5 -> 0.098870056
A6: AL13P3_completo.csv | B6: =+INDEX(Potencia!$B$2:$G$146,MATCH(Cond2!$A6,Potencia!$A$2:$A$146,0),MATCH(Cond2!B$1,Potencia!$B$1:$G$1,0)) -> 862 | C6: =+INDEX(Potencia!$B$2:$G$146,MATCH(Cond2!$A6,Potencia!$A$2:$A$146,0),MATCH(Cond2!C$1,Potencia!$B$1:$G$1,0)) -> 820 | D6: =+INDEX(Potencia!$B$2:$G$146,MATCH(Cond2!$A6,Potencia!$A$2:$A$146,0),MATCH(Cond2!D$1,Potencia!$B$1:$G$1,0)) -> 125 | E6: =+INDEX(Potencia!$B$2:$G$146,MATCH(Cond2!$A6,Potencia!$A$2:$A$146,0),MATCH(Cond2!E$1,Potencia!$B$1:$G$1,0)) -> 667 | F6: =+INDEX(Potencia!$B$2:$G$146,MATCH(Cond2!$A6,Potencia!$A$2:$A$146,0),MATCH(Cond2!F$1,Potencia!$B$1:$G$1,0)) -> 102 | G6: =+INDEX(Potencia!$B$2:$G$146,MATCH(Cond2!$A6,Potencia!$A$2:$A$146,0),MATCH(Cond2!G$1,Potencia!$B$1:$G$1,0)) -> 496 | H6: 46 | I6: AD | J6: 3 | K6: =+(B6-C6)/C6 -> 0.051219512
A7: AL13P4_completo.csv | B7: =+INDEX(Potencia!$B$2:$G$146,MATCH(Cond2!$A7,Potencia!$A$2:$A$146,0),MATCH(Cond2!B$1,Potencia!$B$1:$G$1,0)) -> 936 | C7: =+INDEX(Potencia!$B$2:$G$146,MATCH(Cond2!$A7,Potencia!$A$2:$A$146,0),MATCH(Cond2!C$1,Potencia!$B$1:$G$1,0)) -> 868 | D7: =+INDEX(Potencia!$B$2:$G$146,MATCH(Cond2!$A7,Potencia!$A$2:$A$146,0),MATCH(Cond2!D$1,Potencia!$B$1:$G$1,0)) -> 84 | E7: =+INDEX(Potencia!$B$2:$G$146,MATCH(Cond2!$A7,Potencia!$A$2:$A$146,0),MATCH(Cond2!E$1,Potencia!$B$1:$G$1,0)) -> 747 | F7: =+INDEX(Potencia!$B$2:$G$146,MATCH(Cond2!$A7,Potencia!$A$2:$A$146,0),MATCH(Cond2!F$1,Potencia!$B$1:$G$1,0)) -> 75 | G7: =+INDEX(Potencia!$B$2:$G$146,MATCH(Cond2!$A7,Potencia!$A$2:$A$146,0),MATCH(Cond2!G$1,Potencia!$B$1:$G$1,0)) -> 568 | H7: 46 | I7: AD | J7: 4 | K7: =+(B7-C7)/C7 -> 0.078341014
A8: AL16P2_completo.csv | B8: =+INDEX(Potencia!$B$2:$G$146,MATCH(Cond2!$A8,Potencia!$A$2:$A$146,0),MATCH(Cond2!B$1,Potencia!$B$1:$G$1,0)) -> 793 | C8: =+INDEX(Potencia!$B$2:$G$146,MATCH(Cond2!$A8,Potencia!$A$2:$A$146,0),MATCH(Cond2!C$1,Potencia!$B$1:$G$1,0)) -> 702 | D8: =+INDEX(Potencia!$B$2:$G$146,MATCH(Cond2!$A8,Potencia!$A$2:$A$146,0),MATCH(Cond2!D$1,Potencia!$B$1:$G$1,0)) -> 147 | E8: =+INDEX(Potencia!$B$2:$G$146,MATCH(Cond2!$A8,Potencia!$A$2:$A$146,0),MATCH(Cond2!E$1,Potencia!$B$1:$G$1,0)) -> 556 | F8: =+INDEX(Potencia!$B$2:$G$146,MATCH(Cond2!$A8,Potencia!$A$2:$A$146,0),MATCH(Cond2!F$1,Potencia!$B$1:$G$1,0)) -> 118 | G8: =+INDEX(Potencia!$B$2:$G$146,MATCH(Cond2!$A8,Potencia!$A$2:$A$146,0),MATCH(Cond2!G$1,Potencia!$B$1:$G$1,0)) -> 476 | H8: 46 | I8: BD | J8: 2 | K8: =+(B8-C8)/C8 -> 0.12962963
A9: AL16P3_completo.csv | B9: =+INDEX(Potencia!$B$2:$G$146,MATCH(Cond2!$A9,Potencia!$A$2:$A$146,0),MATCH(Cond2!B$1,Potencia!$B$1:$G$1,0)) -> 845 | C9: =+INDEX(Potencia!$B$2:$G$146,MATCH(Cond2!$A9,Potencia!$A$2:$A$146,0),MATCH(Cond2!C$1,Potencia!$B$1:$G$1,0)) -> 809 | D9: =+INDEX(Potencia!$B$2:$G$146,MATCH(Cond2!$A9,Potencia!$A$2:$A$146,0),MATCH(Cond2!D$1,Potencia!$B$1:$G$1,0)) -> 134 | E9: =+INDEX(Potencia!$B$2:$G$146,MATCH(Cond2!$A9,Potencia!$A$2:$A$146,0),MATCH(Cond2!E$1,Potencia!$B$1:$G$1,0)) -> 656 | F9: =+INDEX(Potencia!$B$2:$G$146,MATCH(Cond2!$A9,Potencia!$A$2:$A$146,0),MATCH(Cond2!F$1,Potencia!$B$1:$G$1,0)) -> 112 | G9: =+INDEX(Potencia!$B$2:$G$146,MATCH(Cond2!$A9,Potencia!$A$2:$A$146,0),MATCH(Cond2!G$1,Potencia!$B$1:$G$1,0)) -> 520 | H9: 46 | I9: BD | J9: 3 | K9: =+(B9-C9)/C9 -> 0.044499382
A10: AL16P4_completo.csv | B10: =+INDEX(Potencia!$B$2:$G$146,MATCH(Cond2!$A10,Potencia!$A$2:$A$146,0),MATCH(Cond2!B$1,Potencia!$B$1:$G$1,0)) -> 923 | C10: =+INDEX(Potencia!$B$2:$G$146,MATCH(Cond2!$A10,Potencia!$A$2:$A$146,0),MATCH(Cond2!C$1,Potencia!$B$1:$G$1,0)) -> 846 | D10: =+INDEX(Potencia!$B$2:$G$146,MATCH(Cond2!$A10,Potencia!$A$2:$A$146,0),MATCH(Cond2!D$1,Potencia!$B$1:$G$1,0)) -> 94 | E10: =+INDEX(Potencia!$B$2:$G$146,MATCH(Cond2!$A10,Potencia!$A$2:$A$146,0),MATCH(Cond2!E$1,Potencia!$B$1:$G$1,0)) -> 727 | F10: =+INDEX(Potencia!$B$2:$G$146,MATCH(Cond2!$A10,Potencia!$A$2:$A$146,0),MATCH(Cond2!F$1,Potencia!$B$1:$G$1,0)) -> 71 | G10: =+INDEX(Potencia!$B$2:$G$146,MATCH(Cond2!$A10,Potencia!$A$2:$A$146,0),MATCH(Cond2!G$1,Potencia!$B$1:$G$1,0)) -> 590 | H10: 46 | I10: BD | J10: 4 | K10: =+(B10-C10)/C10 -> 0.091016548
A11: AL17P2_completo.csv | B11: =+INDEX(Potencia!$B$2:$G$146,MATCH(Cond2!$A11,Potencia!$A$2:$A$146,0),MATCH(Cond2!B$1,Potencia!$B$1:$G$1,0)) -> 759 | C11: =+INDEX(Potencia!$B$2:$G$146,MATCH(Cond2!$A11,Potencia!$A$2:$A$146,0),MATCH(Cond2!C$1,Potencia!$B$1:$G$1,0)) -> 712 | D11: =+INDEX(Potencia!$B$2:$G$146,MATCH(Cond2!$A11,Potencia!$A$2:$A$146,0),MATCH(Cond2!D$1,Potencia!$B$1:$G$1,0)) -> 148 | E11: =+INDEX(Potencia!$B$2:$G$146,MATCH(Cond2!$A11,Potencia!$A$2:$A$146,0),MATCH(Cond2!E$1,Potencia!$B$1:$G$1,0)) -> 544 | F11: =+INDEX(Potencia!$B$2:$G$146,MATCH(Cond2!$A11,Potencia!$A$2:$A$146,0),MATCH(Cond2!F$1,Potencia!$B$1:$G$1,0)) -> 130 | G11: =+INDEX(Potencia!$B$2:$G$146,MATCH(Cond2!$A11,Potencia!$A$2:$A$146,0),MATCH(Cond2!G$1,Potencia!$B$1:$G$1,0)) -> 465 | H11: 46 | I11: BD | J11: 2 | K11: =+(B11-C11)/C11 -> 0.066011236
A12: AL17P3_completo.csv | B12: =+INDEX(Potencia!$B$2:$G$146,MATCH(Cond2!$A12,Potencia!$A$2:$A$146,0),MATCH(Cond2!B$1,Potencia!$B$1:$G$1,0)) -> 851 | C12: =+INDEX(Potencia!$B$2:$G$146,MATCH(Cond2!$A12,Potencia!$A$2:$A$146,0),MATCH(Cond2!C$1,Potencia!$B$1:$G$1,0)) -> 822 | D12: =+INDEX(Potencia!$B$2:$G$146,MATCH(Cond2!$A12,Potencia!$A$2:$A$146,0),MATCH(Cond2!D$1,Potencia!$B$1:$G$1,0)) -> 141 | E12: =+INDEX(Potencia!$B$2:$G$146,MATCH(Cond2!$A12,Potencia!$A$2:$A$146,0),MATCH(Cond2!E$1,Potencia!$B$1:$G$1,0)) -> 649 | F12: =+INDEX(Potencia!$B$2:$G$146,MATCH(Cond2!$A12,Potencia!$A$2:$A$146,0),MATCH(Cond2!F$1,Potencia!$B$1:$G$1,0)) -> 123 | G12: =+INDEX(Potencia!$B$2:$G$146,MATCH(Cond2!$A12,Potencia!$A$2:$A$146,0),MATCH(Cond2!G$1,Potencia!$B$1:$G$1,0)) -> 503 | H12: 46 | I12: BD | J12: 3 | K12: =+(B12-C12)/C12 -> 0.035279805
A13: AL17P4_completo.csv | B13: =+INDEX(Potencia!$B$2:$G$146,MATCH(Cond2!$A13,Potencia!$A$2:$A$146,0),MATCH(Cond2!B$1,Potencia!$B$1:$G$1,0)) -> 935 | C13: =+INDEX(Potencia!$B$2:$G$146,MATCH(Cond2!$A13,Potencia!$A$2:$A$146,0),MATCH(Cond2!C$1,Potencia!$B$1:$G$1,0)) -> 860 | D13: =+INDEX(Potencia!$B$2:$G$146,MATCH(Cond2!$A13,Potencia!$A$2:$A$146,0),MATCH(Cond2!D$1,Potencia!$B$1:$G$1,0)) -> 99 | E13: =+INDEX(Potencia!$B$2:$G$146,MATCH(Cond2!$A13,Potencia!$A$2:$A$146,0),MATCH(Cond2!E$1,Potencia!$B$1:$G$1,0)) -> 722 | F13: =+INDEX(Potencia!$B$2:$G$146,MATCH(Cond2!$A13,Potencia!$A$2:$A$146,0),MATCH(Cond2!F$1,Potencia!$B$1:$G$1,0)) -> 79 | G13: =+INDEX(Potencia!$B$2:$G$146,MATCH(Cond2!$A13,Potencia!$A$2:$A$146,0),MATCH(Cond2!G$1,Potencia!$B$1:$G$1,0)) -> 571 | H13: 46 | I13: BD | J13: 4 | K13: =+(B13-C13)/C13 -> 0.087209302
A14: AL14P2_completo.csv | B14: =+INDEX(Potencia!$B$2:$G$146,MATCH(Cond2!$A14,Potencia!$A$2:$A$146,0),MATCH(Cond2!B$1,Potencia!$B$1:$G$1,0)) -> 582 | C14: =+INDEX(Potencia!$B$2:$G$146,MATCH(Cond2!$A14,Potencia!$A$2:$A$146,0),MATCH(Cond2!C$1,Potencia!$B$1:$G$1,0)) -> 549 | D14: =+INDEX(Potencia!$B$2:$G$146,MATCH(Cond2!$A14,Potencia!$A$2:$A$146,0),MATCH(Cond2!D$1,Potencia!$B$1:$G$1,0)) -> 145 | E14: =+INDEX(Potencia!$B$2:$G$146,MATCH(Cond2!$A14,Potencia!$A$2:$A$146,0),MATCH(Cond2!E$1,Potencia!$B$1:$G$1,0)) -> 485 | F14: =+INDEX(Potencia!$B$2:$G$146,MATCH(Cond2!$A14,Potencia!$A$2:$A$146,0),MATCH(Cond2!F$1,Potencia!$B$1:$G$1,0)) -> 119 | G14: =+INDEX(Potencia!$B$2:$G$146,MATCH(Cond2!$A14,Potencia!$A$2:$A$146,0),MATCH(Cond2!G$1,Potencia!$B$1:$G$1,0)) -> 383 | H14: 76 | I14: AD | J14: 2 | K14: =+(B14-C14)/C14 -> 0.06010929 | L14: =+AVERAGE(K14:K25) -> 0.057474771 | M14: =+_xlfn.STDEV.P(K14:K25) -> 0.019016978
A15: AL14P3_completo.csv | B15: =+INDEX(Potencia!$B$2:$G$146,MATCH(Cond2!$A15,Potencia!$A$2:$A$146,0),MATCH(Cond2!B$1,Potencia!$B$1:$G$1,0)) -> 662 | C15: =+INDEX(Potencia!$B$2:$G$146,MATCH(Cond2!$A15,Potencia!$A$2:$A$146,0),MATCH(Cond2!C$1,Potencia!$B$1:$G$1,0)) -> 646 | D15: =+INDEX(Potencia!$B$2:$G$146,MATCH(Cond2!$A15,Potencia!$A$2:$A$146,0),MATCH(Cond2!D$1,Potencia!$B$1:$G$1,0)) -> 129 | E15: =+INDEX(Potencia!$B$2:$G$146,MATCH(Cond2!$A15,Potencia!$A$2:$A$146,0),MATCH(Cond2!E$1,Potencia!$B$1:$G$1,0)) -> 554 | F15: =+INDEX(Potencia!$B$2:$G$146,MATCH(Cond2!$A15,Potencia!$A$2:$A$146,0),MATCH(Cond2!F$1,Potencia!$B$1:$G$1,0)) -> 107 | G15: =+INDEX(Potencia!$B$2:$G$146,MATCH(Cond2!$A15,Potencia!$A$2:$A$146,0),MATCH(Cond2!G$1,Potencia!$B$1:$G$1,0)) -> 409 | H15: 76 | I15: AD | J15: 3 | K15: =+(B15-C15)/C15 -> 0.024767802
A16: AL14P4_completo.csv | B16: =+INDEX(Potencia!$B$2:$G$146,MATCH(Cond2!$A16,Potencia!$A$2:$A$146,0),MATCH(Cond2!B$1,Potencia!$B$1:$G$1,0)) -> 756 | C16: =+INDEX(Potencia!$B$2:$G$146,MATCH(Cond2!$A16,Potencia!$A$2:$A$146,0),MATCH(Cond2!C$1,Potencia!$B$1:$G$1,0)) -> 708 | D16: =+INDEX(Potencia!$B$2:$G$146,MATCH(Cond2!$A16,Potencia!$A$2:$A$146,0),MATCH(Cond2!D$1,Potencia!$B$1:$G$1,0)) -> 112 | E16: =+INDEX(Potencia!$B$2:$G$146,MATCH(Cond2!$A16,Potencia!$A$2:$A$146,0),MATCH(Cond2!E$1,Potencia!$B$1:$G$1,0)) -> 626 | F16: =+INDEX(Potencia!$B$2:$G$146,MATCH(Cond2!$A16,Potencia!$A$2:$A$146,0),MATCH(Cond2!F$1,Potencia!$B$1:$G$1,0)) -> 83 | G16: =+INDEX(Potencia!$B$2:$G$146,MATCH(Cond2!$A16,Potencia!$A$2:$A$146,0),MATCH(Cond2!G$1,Potencia!$B$1:$G$1,0)) -> 497 | H16: 76 | I16: AD | J16: 4 | K16: =+(B16-C16)/C16 -> 0.06779661
A17: AL15P2_completo.csv | B17: =+INDEX(Potencia!$B$2:$G$146,MATCH(Cond2!$A17,Potencia!$A$2:$A$146,0),MATCH(Cond2!B$1,Potencia!$B$1:$G$1,0)) -> 634 | C17: =+INDEX(Potencia!$B$2:$G$146,MATCH(Cond2!$A17,Potencia!$A$2:$A$146,0),MATCH(Cond2!C$1,Potencia!$B$1:$G$1,0)) -> 590 | D17: =+INDEX(Potencia!$B$2:$G$146,MATCH(Cond2!$A17,Potencia!$A$2:$A$146,0),MATCH(Cond2!D$1,Potencia!$B$1:$G$1,0)) -> 144 | E17: =+INDEX(Potencia!$B$2:$G$146,MATCH(Cond2!$A17,Potencia!$A$2:$A$146,0),MATCH(Cond2!E$1,Potencia!$B$1:$G$1,0)) -> 496 | F17: =+INDEX(Potencia!$B$2:$G$146,MATCH(Cond2!$A17,Potencia!$A$2:$A$146,0),MATCH(Cond2!F$1,Potencia!$B$1:$G$1,0)) -> 124 | G17: =+INDEX(Potencia!$B$2:$G$146,MATCH(Cond2!$A17,Potencia!$A$2:$A$146,0),MATCH(Cond2!G$1,Potencia!$B$1:$G$1,0)) -> 394 | H17: 76 | I17: AD | J17: 2 | K17: =+(B17-C17)/C17 -> 0.074576271
A18: AL15P3_completo.csv | B18: =+INDEX(Potencia!$B$2:$G$146,MATCH(Cond2!$A18,Potencia!$A$2:$A$146,0),MATCH(Cond2!B$1,Potencia!$B$1:$G$1,0)) -> 709 | C18: =+INDEX(Potencia!$B$2:$G$146,MATCH(Cond2!$A18,Potencia!$A$2:$A$146,0),MATCH(Cond2!C$1,Potencia!$B$1:$G$1,0)) -> 681 | D18: =+INDEX(Potencia!$B$2:$G$146,MATCH(Cond2!$A18,Potencia!$A$2:$A$146,0),MATCH(Cond2!D$1,Potencia!$B$1:$G$1,0)) -> 125 | E18: =+INDEX(Potencia!$B$2:$G$146,MATCH(Cond2!$A18,Potencia!$A$2:$A$146,0),MATCH(Cond2!E$1,Potencia!$B$1:$G$1,0)) -> 568 | F18: =+INDEX(Potencia!$B$2:$G$146,MATCH(Cond2!$A18,Potencia!$A$2:$A$146,0),MATCH(Cond2!F$1,Potencia!$B$1:$G$1,0)) -> 102 | G18: =+INDEX(Potencia!$B$2:$G$146,MATCH(Cond2!$A18,Potencia!$A$2:$A$146,0),MATCH(Cond2!G$1,Potencia!$B$1:$G$1,0)) -> 423 | H18: 76 | I18: AD | J18: 3 | K18: =+(B18-C18)/C18 -> 0.041116006
