Workbook

Sheet Detalle
C1: HD76 | D1: LD76 | E1: HD46 | F1: LD46
B2: AGRR | C2: Fn/Ft | D2: Fn/Ft | E2: Fn/Ft | F2: Fn/Ft
B3: 9.7541365 | C3: 2.6168663 | D3: 2.4457282 | E3: 2.5206084 | F3: 2.4752217
B4: 9.6861533 | C4: 2.6504472 | D4: 2.4506696 | E4: 2.4977456 | F4: 2.3933589
B5: 9.6017326 | C5: 2.645773 | D5: 2.4479885 | E5: 2.4276721 | F5: 2.1737417
B6: 9.7541365 | C6: 2.6214667 | D6: 2.7423942 | E6: 2.5499 | F6: 2.5074003
B7: 9.6861533 | C7: 2.5107772 | D7: 2.6765226 | E7: 2.4536909 | F7: 2.3995265
B8: 9.6017326 | C8: 2.3895988 | D8: 2.4113226 | E8: 2.4313375 | F8: 2.3407534
B9: 8.5845174 | C9: 2.8183588 | D9: 2.602079 | E9: 2.8051777 | F9: 2.6213087
B10: 8.5163763 | C10: 2.8381734 | D10: 2.5527544 | E10: 2.7000148 | F10: 2.5341913
B11: 8.4280818 | C11: 2.7515388 | D11: 2.6352966 | E11: 2.7079493 | F11: 2.6718289
B12: 8.5845174 | C12: 2.6745886 | D12: 2.8045461 | E12: 2.7747612 | F12: 2.6268286
B13: 8.5163763 | C13: 2.6554975 | D13: 2.7665258 | E13: 2.6939798 | F13: 2.5443198
B14: 8.4280818 | C14: 2.6497332 | D14: 2.7006498 | E14: 2.6149632 | F14: 2.574091
... B26: 5.9993102 | C26: 2.7697361 | D26: 2.9846145 | E26: 2.7819845 | F26: 2.8719143
B27: 3.3598457 | C27: 3.745452 | D27: 3.7687457 | F27: 3.701021
B28: 3.3364286 | C28: 3.8616164 | D28: 3.743596 | F28: 3.6089427
B29: 3.3073496 | C29: 3.7041465 | D29: 3.6723553 | F29: 3.7437169
B30: 3.3598457 | C30: 3.6852496 | D30: 3.6606225 | F30: 3.7621223
B31: 3.3364286 | C31: 3.6883018 | D31: 3.6186119 | F31: 3.6911212
B32: 3.3073496 | C32: 3.6110718 | D32: 3.6595467 | F32: 3.5524054
B33: 2.9569664 | C33: 4.1214768 | D33: 4.1821725 | F33: 4.1282933
B34: 2.9334949 | C34: 4.1765116 | D34: 3.9847435 | F34: 4.0567636
B35: 2.9030816 | C35: 3.9336129 | D35: 3.9448383 | F35: 3.8957789
B36: 2.9569664 | C36: 4.172043 | D36: 4.0964706 | F36: 4.0458939
B37: 2.9334949 | C37: 3.7579763 | D37: 4.0523208 | F37: 3.9351634
B38: 2.9030816 | C38: 3.9122823 | D38: 3.8012984 | F38: 3.9815713
B39: 1.7248634 | C39: 3.9226223 | D39: 4.6221541 | E39: 5.6185827 | F39: 3.7481648
B40: 1.7128417 | C40: 3.7298445 | D40: 4.7337036 | E40: 5.5111243 | F40: 3.8495189
B41: 1.6979132 | C41: 3.7229036 | D41: 4.3224722 | E41: 4.8779206 | F41: 3.5705945
B42: 1.7248634 | C42: 3.8112862 | D42: 4.6097588 | E42: 4.6694211 | F42: 4.0244429
B43: 1.7128417 | C43: 3.8514876 | D43: 4.5336402 | E43: 4.6812513 | F43: 4.1883649
B44: 1.6979132 | C44: 3.8349132 | D44: 4.1445483 | E44: 4.5628366 | F44: 4.22725
B45: 1.518035 | C45: 4.6259826 | D45: 4.554094 | E45: 5.8101135 | F45: 4.0031731
B46: 1.5059853 | C46: 4.1929428 | D46: 4.4489667 | E46: 5.5839257 | F46: 4.5075429
B47: 1.4903718 | C47: 4.0126505 | D47: 4.8271654 | E47: 5.4942264 | F47: 4.1690721
B48: 1.518035 | C48: 3.8470433 | D48: 4.6454504 | E48: 5.0175654 | F48: 4.163734
B49: 1.5059853 | C49: 3.6593309 | D49: 4.7787016 | E49: 5.0609376 | F49: 3.9762877
B50: 1.4903718 | C50: 3.7877202 | D50: 5.0295303 | E50: 4.8728499 | F50: 3.9496011

Sheet Medias
C1: HD76 | E1: LD76 | G1: HD46 | I1: LD46
B2: AGRR | C2: Fn/Ft Avg | D2: Desvest | E2: Fn/Ft Avg | F2: Desvest | G2: Fn/Ft Avg | H2: Desvest | I2: Fn/Ft Avg | J2: Desvest
B3: =+AVERAGE(Detalle!B3:B8) -> 9.6806741 | C3: =+AVERAGE(Detalle!C3:C8) -> 2.5724882 | D3: =+_xlfn.STDEV.P(Detalle!C3:C8) -> 0.094050857 | E3: =+AVERAGE(Detalle!D3:D8) -> 2.5291043 | F3: =+_xlfn.STDEV.P(Detalle!D3:D8) -> 0.12960234 | G3: =+AVERAGE(Detalle!E3:E8) -> 2.4801591 | H3: =+_xlfn.STDEV.P(Detalle!E3:E8) -> 0.045913352 | I3: =+AVERAGE(Detalle!F3:F8) -> 2.3816671 | J3: =+_xlfn.STDEV.P(Detalle!F3:F8) -> 0.1079536
B4: =+AVERAGE(Detalle!B9:B14) -> 8.5096585 | C4: =+AVERAGE(Detalle!C9:C14) -> 2.7313151 | D4: =+_xlfn.STDEV.P(Detalle!C9:C14) -> 0.076404745 | E4: =+AVERAGE(Detalle!D9:D14) -> 2.6769753 | F4: =+_xlfn.STDEV.P(Detalle!D9:D14) -> 0.089098716 | G4: =+AVERAGE(Detalle!E9:E14) -> 2.716141 | H4: =+_xlfn.STDEV.P(Detalle!E9:E14) -> 0.061127028 | I4: =+AVERAGE(Detalle!F9:F14) -> 2.595428 | J4: =+_xlfn.STDEV.P(Detalle!F9:F14) -> 0.048836727
B5: =+AVERAGE(Detalle!B15:B20) -> 6.8909354 | C5: =+AVERAGE(Detalle!C15:C20) -> 2.6915929 | D5: =+_xlfn.STDEV.P(Detalle!C15:C20) -> 0.032672679 | E5: =+AVERAGE(Detalle!D15:D20) -> 2.8754311 | F5: =+_xlfn.STDEV.P(Detalle!D15:D20) -> 0.08680307 | G5: =+AVERAGE(Detalle!E15:E20) -> 2.7016251 | H5: =+_xlfn.STDEV.P(Detalle!E15:E20) -> 0.10360386 | I5: =+AVERAGE(Detalle!F15:F20) -> 2.6414882 | J5: =+_xlfn.STDEV.P(Detalle!F15:F20) -> 0.061970341
B6: =+AVERAGE(Detalle!B21:B26) -> 6.0573785 | C6: =+AVERAGE(Detalle!C21:C26) -> 2.837413 | D6: =+_xlfn.STDEV.P(Detalle!C21:C26) -> 0.037503118 | E6: =+AVERAGE(Detalle!D21:D26) -> 2.9735269 | F6: =+_xlfn.STDEV.P(Detalle!D21:D26) -> 0.037317959 | G6: =+AVERAGE(Detalle!E21:E26) -> 2.8365405 | H6: =+_xlfn.STDEV.P(Detalle!E21:E26) -> 0.093876433 | I6: =+AVERAGE(Detalle!F21:F26) -> 2.7873189 | J6: =+_xlfn.STDEV.P(Detalle!F21:F26) -> 0.086866894
B7: =+AVERAGE(Detalle!B27:B32) -> 3.3345413 | C7: =+AVERAGE(Detalle!C27:C32) -> 3.715973 | D7: =+_xlfn.STDEV.P(Detalle!C27:C32) -> 0.076305056 | E7: =+AVERAGE(Detalle!D27:D32) -> 3.6872463 | F7: =+_xlfn.STDEV.P(Detalle!D27:D32) -> 0.052003142 | I7: =+AVERAGE(Detalle!F27:F32) -> 3.6765549 | J7: =+_xlfn.STDEV.P(Detalle!F27:F32) -> 0.073742576
B8: =+AVERAGE(Detalle!B33:B38) -> 2.931181 | C8: =+AVERAGE(Detalle!C33:C38) -> 4.0123171 | D8: =+_xlfn.STDEV.P(Detalle!C33:C38) -> 0.15560559 | E8: =+AVERAGE(Detalle!D33:D38) -> 4.0103073 | F8: =+_xlfn.STDEV.P(Detalle!D33:D38) -> 0.12065884 | I8: =+AVERAGE(Detalle!F33:F38) -> 4.0072441 | J8: =+_xlfn.STDEV.P(Detalle!F33:F38) -> 0.078398662
B9: =+AVERAGE(Detalle!B39:B44) -> 1.7118728 | C9: =+AVERAGE(Detalle!C39:C44) -> 3.8121762 | D9: =+_xlfn.STDEV.P(Detalle!C39:C44) -> 0.06953368 | E9: =+AVERAGE(Detalle!D39:D44) -> 4.4943795 | F9: =+_xlfn.STDEV.P(Detalle!D39:D44) -> 0.20016251 | G9: =+AVERAGE(Detalle!E39:E44) -> 4.9868561 | H9: =+_xlfn.STDEV.P(Detalle!E39:E44) -> 0.42026865 | I9: =+AVERAGE(Detalle!F39:F44) -> 3.9347227 | J9: =+_xlfn.STDEV.P(Detalle!F39:F44) -> 0.23544611
B10: =+AVERAGE(Detalle!B45:B50) -> 1.5047974 | C10: =+AVERAGE(Detalle!C45:C50) -> 4.0209451 | D10: =+_xlfn.STDEV.P(Detalle!C45:C50) -> 0.31914545 | E10: =+AVERAGE(Detalle!D45:D50) -> 4.7139847 | F10: =+_xlfn.STDEV.P(Detalle!D45:D50) -> 0.19020325 | G10: =+AVERAGE(Detalle!E45:E50) -> 5.3066031 | H10: =+_xlfn.STDEV.P(Detalle!E45:E50) -> 0.3409959 | I10: =+AVERAGE(Detalle!F45:F50) -> 4.1282351 | J10: =+_xlfn.STDEV.P(Detalle!F45:F50) -> 0.19036843
