Workbook

Sheet Summary
B2: Supplementary Information
B4: Does height matter? The Embodied impacts of tallness, slab thickness, building code and design tranches.
B6: Avery Hoffer, Evan C Bentz, Shoshanna Saxe
B7: Department of Civil and Mineral Engineering, University of Toronto, Toronto, Canada
B9: Correspondence
B10: Avery Hoffer, Department of Civil and Mineral Engineering, University of Toronto, Toronto, Canada
B11: Email: avery.hoffer@mail.utoronto.ca
B14: Key Values:
B15: Storey Height - 2.7 m
B16: Gross Floor Area - 489 m2 / Floor
B17: Net Rentable Area - 423 m2 / Floor
B18: Building Length - 35.6 m
... B34: TKM - Tonne-Kilometer

Sheet Project Workflow
B2: The project workflow consists of one input, an iterative structural design loop, and two outputs, displayed in Figure 5. Starting with the project input, the 1st Python file, “Python A – Building File Creation”, creates a structural building model which can then be imported into S-Frame. The Python code takes inputs, such as slab thickness, number of storeys and design tranches, and creates a .TEL file supported within S-Frame. The code also calculates and applies Dead, Live, Snow and Wind loads and load combinations, as well as support conditions and material properties. Once the file is created, the structural design loop begins, using the .TEL file as input. The structural design loop is necessary to ensure that the design of the members is near optimal. When the input file is created, placeholder values are used for the dimensions of the columns, beams and walls, and must be redesigned onc e initial results are generated. However, with new dimensions, the results continue to change and must be re-run. To do so automatically, this iterative structural design loop is created, which begins with the 2nd Python code “Python B – Run Automation”. This code automates the process of importing the created .TEL file into S-Frame, meshing the finite elements, adding additional supports, and running a linear analysis. Once completed, Python B exports the member forces, nodal displacements and slab strip forces. Next, another automated Python code, “Python C – Section Design”, uses the exported member forces from the previous step as imports into S-Concrete’s Multistorey Designer (MSD). Here, the columns, beams and walls are designed to have a utilization ratio between 75% to 90% where possible. First, the columns are designed to have a square cross section, and a minimum steel ratio (rho) of 1%. Columns are divided into 3 categories, Corner, Internal and External, and the number of designs is determined by the amount of design tranches. For a 5-Storey building with 1 design traunche (5 storeys / design), 3 columns are designed. 1 for the corners, 1 for the internal columns and 1 for the external columns. Similarly, a 5-Storey building with 5 design tranches (1 storey / design) design 15 columns (5 for each of the 3 categories). For each design, an initial cross section area estimate is calculated by dividing the maximum design tranches’ axial load over the factored compressive strength, which is square rooted to find the dimension. This value is then rounded up to the nearest 25 mm increment. The minimum steel is then determined by multiplying the initial area by 1% and rounding up to the nearest bar. Once the initial design is input into S-Concrete by Python C, the MSD is run and provides a utilization ratio for both shear and axial + moment. If both values are below 90%, and at least one is above 75%, the design is complete. Then, the concrete and rebar quantities for the design are quantified. If at least one of the utilization ratios are above 90%, the column dimensions are increased depending on how far over the 90% threshold the value is. If the ratio is at 95%, the dimensions would increase by a single 25 mm increment. However, if the ratio is at 250%, the dimensions would increase by 100 mm each. If the new rho is now below 1%, the amount of rebar must be increased as well, and the MSD is run once more. Conversely, if both utilization ratios are below 75%, the column dimensions are decreased. Like the increase previously mentioned, the amount of decrease is dependent on how far below 75% the ratio is, and the MSD is rerun. Once the result has converged to be between 75% and 90%, the quantities are calculated, and the automated code moves on to the next column design section. An exception to the above is that the columns cannot be smaller than 250 mm, therefore if both utilization ratios are less than 75%, but the column is at 250 mm, the design is complete. Additionally, S-Concrete has 37 column warnings and error checks, such as minimum clear spacing, minimum diameter and slenderness effects. These are displayed as messages on the MSD interface, and even if both ratios are within 75% to 90%, if an error message is present, the column dimensions and/or rebar must be redesigned to satisfy the warning messages, even if it moves the utilization ratios below 75%. Once every column section is designed, Python C moves on to design the coupling beams against shear and axial + moment. With 2 coupling beams per storey, one on each side of the elevator openings, there are no subcategories of beams. Like columns, however, the number of designs depends on the design tranches. The minimum beam width of 250 mm, and a minimum top and bottom rho of 0.75% are used, as well as a closed stirrup. The beam depth is changed to determine the minimum depth that would satisfy the utilization ratio goal, and the rebar would be automatically updated to satisfy the minimum rho requirement. 42 additional beam checks included in S-Concrete had to be designed against as well. Lastly, the walls are designed against shear, axial + moment, and torsion. 2 C-Shaped walls per story are located on each side of the elevator shafts, separated by the opening to allow for passage into the elevators. Each C-Shaped wall is comprised of 2 short walls and 1 long wall. The wall design is therefore split into 2 subcategories, short and long, and designs each separately. Therefore, the number of wall sections designed is the number of design tranches multiplied by 2. The long walls have a minimum thickness of 150 mm, and the short walls are dependent on the coupling beams sitting atop them, typically 250 mm. The initial design of the wall thickness is based on axial compression, and once the MSD is run, the design is iterated based on the values of the utilization ratios and the 47 wall warning checks, typically governed by torsion.
B3: After every column, beam and wall is designed, the code calculates the total quantities of steel and concrete. If the design is similar in dimension to the previous iteration, the design loop is completed. If, however, the results differ, such as they would between the placeholder values and the first full iteration, the design loop continues. Here, the new dimensions for the columns, beams and walls are used as inputs in “Python A - Building File Creation”, and a new .TEL file is created with the updated dimensions. Python B is then used to input the new file back into S-Frame, and the process of running the linear analysis, exporting the member forces, displacements & strip forces, and designing columns, beams & walls is started again until the design converges. This entire process can be run by itself without supervision, simplifying the tedious process of iterative structural design.
B4: After the column, beam and wall design is finalized, the slabs and foundations are designed and quantified. For designing the slabs, the exported slab strip forces from the final iteration of the S-Frame structural model are the inputs in “Python D – Slab Design”. The floor slab rebar is then designed against the slab strip moments and shear forces. For this to take place, the slabs are subdivided into 1-dimensional strips in the initial model creation, completed by ‘Python A’. The width of the strips is taken as 2 metres based on a slab strip study conducted to find the optimal number of strips in each direction. With these strips, the slab forces are averaged over their width to get a representative value for that area. There are 8 strips along the length, and 16 along the width due to a roughly 2:1 aspect ratio. The reinforcement for the 24 strips per floor is calculated and quantified.
B5: Lastly, the foundations are designed, completed manually to optimize the substructure due to high design variability. Support reactions exported from the final iteration of the S-Frame model are used as inputs into S-Foundation as substructure loads. The footings are initially designed to withstand soil bearing, governing the footprint. If the area demand is too high, piles are used, inserted 10 metres deep into bedrock. The thickness and rebar within the footing are designed to withstand one-way shear, punching shear and flexure. The piles are designed to withstand axial + moment, shear + torsion and both vertical and lateral deflection.

Sheet Structure
B2: Table S1: Structural results for a building using 20 MPa Concrete, 400MPa Steel, CSA-19 Code, 2.7m storey height and 1 Storey / tranche | R2: Table S2: Structural results for a building using 3000 PSI Concrete, 60KSI Steel, ACI-19 Code, 2.7m storey height and 1 Storey / tranche
D3: Concrete | J3: Steel | P3: Total | T3: Concrete | Z3: Steel | AF3: Total
B4: Slab Thickness [mm] | C4: Storeys | D4: CBW Concrete [kg] | E4: Slab Concrete [kg] | F4: Foundation Concrete [kg] | G4: Total Concrete [kg] | H4: Concrete [kg/NRA] | I4: Concrete CO2e [kg/NRA] | J4: CBW Steel [kg] | K4: Slab Steel [kg] | L4: Foundation Steel [kg] | M4: Total Steel [kg] | N4: Steel [kg/NRA] | O4: Steel CO2e [kg/NRA] | P4: CO2e [kg/NRA] | R4: Slab Thickness [mm] | S4: Storeys | T4: CBW Concrete [kg] | U4: Slab Concrete [kg] | V4: Foundation Concrete [kg] | W4: Total Concrete [kg] | X4: Concrete [kg/NRA] | Y4: Concrete CO2e [kg/NRA] | Z4: CBW Steel [kg] | AA4: Slab Steel [kg] | AB4: Foundation Steel [kg] | AC4: Total Steel [kg] | AD4: Steel [kg/NRA] | AE4: Steel CO2e [kg/NRA] | AF4: CO2e [kg/NRA]
B5: 175 | C5: 5 | D5: 270901.8 | E5: 1106448 | F5: 182000 | G5: =SUM(D5:F5) -> 1559349.8 | H5: =G5/(422.75*C5) -> 737.71723 | I5: =H5*EPDs!$C$5 -> 67.869985 | J5: 23147.34 | K5: 45674 | L5: 4797.459 | M5: =SUM(J5:L5) -> 73618.799 | N5: =M5/(422.75*C5) -> 34.828527 | O5: =N5*EPDs!$D$5 -> 29.743562 | P5: =O5+I5 -> 97.613547 | R5: 175 | S5: 5 | T5: 245572 | U5: 1106448 | V5: 179000 | W5: =SUM(T5:V5) -> 1531020 | X5: =W5/(422.75*S5) -> 724.31461 | Y5: =X5*EPDs!$C$6 -> 76.777348 | Z5: 17715 | AA5: 52838 | AB5: 4687.259 | AC5: =SUM(Z5:AB5) -> 75240.259 | AD5: =AC5/(422.75*S5) -> 35.595628 | AE5: =AD5*EPDs!$D$6 -> 30.398666 | AF5: =AE5+Y5 -> 107.17601
B6: 175 | C6: 6 | D6: 329734.8 | E6: 1327737.6 | F6: 237400 | G6: =SUM(D6:F6) -> 1894872.4 | H6: =G6/(422.75*C6) -> 747.04214 | I6: =H6*EPDs!$C$5 -> 68.727877 | J6: 28083.96 | K6: 55254 | L6: 5351.776 | M6: =SUM(J6:L6) -> 88689.736 | N6: =M6/(422.75*C6) -> 34.9654 | O6: =N6*EPDs!$D$5 -> 29.860451 | P6: =O6+I6 -> 98.588329 | R6: 175 | S6: 6 | T6: 299365.2 | U6: 1327737.6 | V6: 236000 | W6: =SUM(T6:V6) -> 1863102.8 | X6: =W6/(422.75*S6) -> 734.51717 | Y6: =X6*EPDs!$C$6 -> 77.85882 | Z6: 21505.32 | AA6: 63900 | AB6: 5423.7938 | AC6: =SUM(Z6:AB6) -> 90829.114 | AD6: =AC6/(422.75*S6) -> 35.808837 | AE6: =AD6*EPDs!$D$6 -> 30.580746 | AF6: =AE6+Y6 -> 108.43957
B7: 175 | C7: 7 | D7: 390706.2 | E7: 1549027.2 | F7: 292800 | G7: =SUM(D7:F7) -> 2232533.4 | H7: =G7/(422.75*C7) -> 754.42541 | I7: =H7*EPDs!$C$5 -> 69.407138 | J7: 33056.22 | K7: 62965 | L7: 5906.093 | M7: =SUM(J7:L7) -> 101927.31 | N7: =M7/(422.75*C7) -> 34.44363 | O7: =N7*EPDs!$D$5 -> 29.41486 | P7: =O7+I7 -> 98.821998 | R7: 175 | S7: 7 | T7: 359735.4 | U7: 1549027.2 | V7: 293000 | W7: =SUM(T7:V7) -> 2201762.6 | X7: =W7/(422.75*S7) -> 744.02724 | Y7: =X7*EPDs!$C$6 -> 78.866887 | Z7: 25405.44 | AA7: 72334 | AB7: 6160.3286 | AC7: =SUM(Z7:AB7) -> 103899.77 | AD7: =AC7/(422.75*S7) -> 35.110169 | AE7: =AD7*EPDs!$D$6 -> 29.984085 | AF7: =AE7+Y7 -> 108.85097
B8: 175 | C8: 8 | D8: 454723.2 | E8: 1770316.8 | F8: 348200 | G8: =SUM(D8:F8) -> 2573240 | H8: =G8/(422.75*C8) -> 760.86339 | I8: =H8*EPDs!$C$5 -> 69.999432 | J8: 38060.88 | K8: 72208 | L8: 6460.41 | M8: =SUM(J8:L8) -> 116729.29 | N8: =M8/(422.75*C8) -> 34.51487 | O8: =N8*EPDs!$D$5 -> 29.475699 | P8: =O8+I8 -> 99.475131 | R8: 175 | S8: 8 | T8: 420688.8 | U8: 1770316.8 | V8: 350000 | W8: =SUM(T8:V8) -> 2541005.6 | X8: =W8/(422.75*S8) -> 751.33223 | Y8: =X8*EPDs!$C$6 -> 79.641216 | Z8: 29580.96 | AA8: 83158 | AB8: 6896.8634 | AC8: =SUM(Z8:AB8) -> 119635.82 | AD8: =AC8/(422.75*S8) -> 35.374282 | AE8: =AD8*EPDs!$D$6 -> 30.209637 | AF8: =AE8+Y8 -> 109.85085
B9: 175 | C9: 9 | D9: 527558.4 | E9: 1991606.4 | F9: 403600 | G9: =SUM(D9:F9) -> 2922764.8 | H9: =G9/(422.75*C9) -> 768.1884 | I9: =H9*EPDs!$C$5 -> 70.673332 | J9: 43266.96 | K9: 81513 | L9: 7014.727 | M9: =SUM(J9:L9) -> 131794.69 | N9: =M9/(422.75*C9) -> 34.639513 | O9: =N9*EPDs!$D$5 -> 29.582144 | P9: =O9+I9 -> 100.25548 | R9: 175 | S9: 9 | T9: 489418.2 | U9: 1991606.4 | V9: 407000 | W9: =SUM(T9:V9) -> 2888024.6 | X9: =W9/(422.75*S9) -> 759.05765 | Y9: =X9*EPDs!$C$6 -> 80.460111 | Z9: 33766.2 | AA9: 93675 | AB9: 7633.3982 | AC9: =SUM(Z9:AB9) -> 135074.6 | AD9: =AC9/(422.75*S9) -> 35.50157 | AE9: =AD9*EPDs!$D$6 -> 30.318341 | AF9: =AE9+Y9 -> 110.77845
B10: 175 | C10: 10 | D10: 599653.8 | E10: 2212896 | F10: 459000 | G10: =SUM(D10:F10) -> 3271549.8 | H10: =G10/(422.75*C10) -> 773.8734 | I10: =H10*EPDs!$C$5 -> 71.196353 | J10: 47940.6 | K10: 85734 | L10: 7569.044 | M10: =SUM(J10:L10) -> 141243.64 | N10: =M10/(422.75*C10) -> 33.410679 | O10: =N10*EPDs!$D$5 -> 28.53272 | P10: =O10+I10 -> 99.729072 | R10: 175 | S10: 10 | T10: 575676 | U10: 2212896 | V10: 464000 | W10: =SUM(T10:V10) -> 3252572 | X10: =W10/(422.75*S10) -> 769.38427 | Y10: =X10*EPDs!$C$6 -> 81.554733 | Z10: 39309 | AA10: 99078 | AB10: 8369.933 | AC10: =SUM(Z10:AB10) -> 146756.93 | AD10: =AC10/(422.75*S10) -> 34.714827 | AE10: =AD10*EPDs!$D$6 -> 29.646463 | AF10: =AE10+Y10 -> 111.2012
B11: 175 | C11: 11 | D11: 670771.8 | E11: 2434185.6 | F11: 533200 | G11: =SUM(D11:F11) -> 3638157.4 | H11: =G11/(422.75*C11) -> 782.35738 | I11: =H11*EPDs!$C$5 -> 71.976879 | J11: 53849.22 | K11: 94583 | L11: 9675.2436 | M11: =SUM(J11:L11) -> 158107.46 | N11: =M11/(422.75*C11) -> 33.999777 | O11: =N11*EPDs!$D$5 -> 29.03581 | P11: =O11+I11 -> 101.01269 | R11: 175 | S11: 11 | T11: 660540.6 | U11: 2434185.6 | V11: 548800 | W11: =SUM(T11:V11) -> 3643526.2 | X11: =W11/(422.75*S11) -> 783.5119 | Y11: =X11*EPDs!$C$6 -> 83.052261 | Z11: 44423.04 | AA11: 109367 | AB11: 11102.091 | AC11: =SUM(Z11:AB11) -> 164892.13 | AD11: =AC11/(422.75*S11) -> 35.458767 | AE11: =AD11*EPDs!$D$6 -> 30.281787 | AF11: =AE11+Y11 -> 113.33405
B12: 175 | C12: 12 | D12: 751869 | E12: 2655475.2 | F12: 607400 | G12: =SUM(D12:F12) -> 4014744.2 | H12: =G12/(422.75*C12) -> 791.39448 | I12: =H12*EPDs!$C$5 -> 72.808292 | J12: 59920.92 | K12: 103462 | L12: 11781.443 | M12: =SUM(J12:L12) -> 175164.36 | N12: =M12/(422.75*C12) -> 34.528753 | O12: =N12*EPDs!$D$5 -> 29.487555 | P12: =O12+I12 -> 102.29585 | R12: 175 | S12: 12 | T12: 743644.8 | U12: 2655475.2 | V12: 633600 | W12: =SUM(T12:V12) -> 4032720 | X12: =W12/(422.75*S12) -> 794.93791 | Y12: =X12*EPDs!$C$6 -> 84.263418 | Z12: 49764.42 | AA12: 119581 | AB12: 13834.249 | AC12: =SUM(Z12:AB12) -> 183179.67 | AD12: =AC12/(422.75*S12) -> 36.108746 | AE12: =AD12*EPDs!$D$6 -> 30.836869 | AF12: =AE12+Y12 -> 115.10029
B13: 175 | C13: 13 | D13: 840515.4 | E13: 2876764.8 | F13: 681600 | G13: =SUM(D13:F13) -> 4398880.2 | H13: =G13/(422.75*C13) -> 800.4149 | I13: =H13*EPDs!$C$5 -> 73.638171 | J13: 64790.58 | K13: 112302 | L13: 13887.643 | M13: =SUM(J13:L13) -> 190980.22 | N13: =M13/(422.75*C13) -> 34.75053 | O13: =N13*EPDs!$D$5 -> 29.676952 | P13: =O13+I13 -> 103.31512 | R13: 175 | S13: 13 | T13: 823131 | U13: 2876764.8 | V13: 718400 | W13: =SUM(T13:V13) -> 4418295.8 | X13: =W13/(422.75*S13) -> 803.94774 | Y13: =X13*EPDs!$C$6 -> 85.218461 | Z13: 55604.76 | AA13: 129500 | AB13: 16566.408 | AC13: =SUM(Z13:AB13) -> 201671.17 | AD13: =AC13/(422.75*S13) -> 36.695841 | AE13: =AD13*EPDs!$D$6 -> 31.338248 | AF13: =AE13+Y13 -> 116.55671
B14: 175 | C14: 14 | D14: 935177.4 | E14: 3098054.4 | F14: 755800 | G14: =SUM(D14:F14) -> 4789031.8 | H14: =G14/(422.75*C14) -> 809.1631 | I14: =H14*EPDs!$C$5 -> 74.443005 | J14: 71002.14 | K14: 121349 | L14: 15993.842 | M14: =SUM(J14:L14) -> 208344.98 | N14: =M14/(422.75*C14) -> 35.202329 | O14: =N14*EPDs!$D$5 -> 30.062789 | P14: =O14+I14 -> 104.50579 | R14: 175 | S14: 14 | T14: 913600.8 | U14: 3098054.4 | V14: 803200 | W14: =SUM(T14:V14) -> 4814855.2 | X14: =W14/(422.75*S14) -> 813.52627 | Y14: =X14*EPDs!$C$6 -> 86.233784 | Z14: 61063.32 | AA14: 139569 | AB14: 19298.566 | AC14: =SUM(Z14:AB14) -> 219930.89 | AD14: =AC14/(422.75*S14) -> 37.159903 | AE14: =AD14*EPDs!$D$6 -> 31.734557 | AF14: =AE14+Y14 -> 117.96834
B15: 175 | C15: 15 | D15: 1041406.2 | E15: 3319344 | F15: 830000 | G15: =SUM(D15:F15) -> 5190750.2 | H15: =G15/(422.75*C15) -> 818.56893 | I15: =H15*EPDs!$C$5 -> 75.308341 | J15: 76341.06 | K15: 130093 | L15: 18100.042 | M15: =SUM(J15:L15) -> 224534.1 | N15: =M15/(422.75*C15) -> 35.408492 | O15: =N15*EPDs!$D$5 -> 30.238852 | P15: =O15+I15 -> 105.54719 | R15: 175 | S15: 15 | T15: 1053264.6 | U15: 3319344 | V15: 888000 | W15: =SUM(T15:V15) -> 5260608.6 | X15: =W15/(422.75*S15) -> 829.58543 | Y15: =X15*EPDs!$C$6 -> 87.936055 | Z15: 67023 | AA15: 150059 | AB15: 22030.724 | AC15: =SUM(Z15:AB15) -> 239112.72 | AD15: =AC15/(422.75*S15) -> 37.707506 | AE15: =AD15*EPDs!$D$6 -> 32.20221 | AF15: =AE15+Y15 -> 120.13827
B16: 175 | C16: 16 | D16: 1168074 | E16: 3540633.6 | F16: 894000 | G16: =SUM(D16:F16) -> 5602707.6 | H16: =G16/(422.75*C16) -> 828.31277 | I16: =H16*EPDs!$C$5 -> 76.204775 | J16: 86410.92 | K16: 138914 | L16: 19479.134 | M16: =SUM(J16:L16) -> 244804.05 | N16: =M16/(422.75*C16) -> 36.192202 | O16: =N16*EPDs!$D$5 -> 30.90814 | P16: =O16+I16 -> 107.11292 | R16: 175 | S16: 16 | T16: 1118548.8 | U16: 3540633.6 | V16: 940400 | W16: =SUM(T16:V16) -> 5599582.4 | X16: =W16/(422.75*S16) -> 827.85074 | Y16: =X16*EPDs!$C$6 -> 87.752178 | Z16: 79260.72 | AA16: 160394 | AB16: 25090.11 | AC16: =SUM(Z16:AB16) -> 264744.83 | AD16: =AC16/(422.75*S16) -> 39.140276 | AE16: =AD16*EPDs!$D$6 -> 33.425796 | AF16: =AE16+Y16 -> 121.17797
... B68: 250 | C68: 20 | D68: 2266407 | E68: 6322560 | F68: 1480000 | G68: =SUM(D68:F68) -> 10068967 | H68: =G68/(422.75*C68) -> 1190.8891 | I68: =H68*EPDs!$C$5 -> 109.56179 | J68: 116134.44 | K68: 254234 | L68: 20670.061 | M68: =SUM(J68:L68) -> 391038.5 | N68: =M68/(422.75*C68) -> 46.249379 | O68: =N68*EPDs!$D$5 -> 39.49697 | P68: =O68+I68 -> 149.05876 | R68: 250 | S68: 20 | T68: 2035656 | U68: 6322560 | V68: 1470000 | W68: =SUM(T68:V68) -> 9828216 | X68: =W68/(422.75*S68) -> 1162.4147 | Y68: =X68*EPDs!$C$6 -> 123.21595 | Z68: 119687.7 | AA68: 323328 | AB68: 35610.447 | AC68: =SUM(Z68:AB68) -> 478626.15 | AD68: =AC68/(422.75*S68) -> 56.608651 | AE68: =AD68*EPDs!$D$6 -> 48.343788 | AF68: =AE68+Y68 -> 171.55974

Sheet EPDs
B2: Table S3: Material GWP values used in study
B3: INDUSTRY EPDs [kg CO2e / kg] | I3: Link | J3: Reference
C4: Concrete | D4: Steel | I4: Canadian Concrete EPD | J4: Concrete Ontario. Environmental Product Declaration. (2022).
B5: Canadian | C5: =0.092 -> 0.092 | D5: 0.854 | I5: American Concrete EPD | J5: National Ready Mixed Concrete Association (NRMCA). Environmental Product Declaration. (2019).
B6: American | C6: 0.106 | D6: 0.854 | I6: Canadian and American Steel EPD | J6: Concrete Reinforcing Steel Institute (CRSI). Environmental Product Declaration. (2022).
B14: Table S4: Elevator GWP values used in study
B15: Published | C15: Building Height Range | D15: Representative Travel Height (m) | E15: CO2e [kg / TKM] | F15: TKM | G15: Total CO2e [kg] | I15: Link | J15: Reference
B16: 45100 | C16: Up to 24 | D16: 35 | E16: 9.07 | F16: 2128 | G16: =E16*F16 -> 19300.96 | I16: OTIS Gen2 Stream | J16: OTIS. Gen2 Stream Environmental Product Declaration. (2023).
B17: 45446 | C17: Up to 12 | D17: 13.72 | E17: 45.9 | F17: 360.8 | G17: =E17*F17 -> 16560.72 | I17: Schindler 3300 | J17: Schindler. Schindler 3300 Environmental Product Declaration. (2024).
B18: 45611 | C18: Up to 21 (Low-Mid) | D18: 31.7 | E18: 11.2 | F18: 2028.3 | G18: =E18*F18 -> 22716.96 | I18: Schindler 5000 | J18: Schindler. Schindler 5000 Environmental Product Declaration. (2024).
B19: 44879 | C19: 10-30 (Mid-High) | D19: 29 | E19: 7.8 | F19: 4787 | G19: =E19*F19 -> 37338.6 | I19: OTIS Gen3 Peak | J19: OTIS. Gen3 Peak Environmental Product Declaration. (2022).
B20: 45519 | C20: Up to 21 | D20: 18 | E20: 10.4 | F20: 1102 | G20: =E20*F20 -> 11460.8 | I20: KONE MonoSpace® 4 DX | J20: Kone. MonoSpace 4 DX Environmental Product Declaration. (2024).
F21: Average: | G21: =AVERAGE(G16:G20) -> 21475.608
B23: TKM (Tonne-Kilometre) is calculated by multiplying the average car load in tonnes with the lifetime distance travelled in kilometers. The average car load is the rated lift load multiplied by the percentage rated load from Table 3 in ISO 25745-2. The lifetime distance travelled is taken as the product of the one way average travel distance, number of trips per day, operating days per year and the service lifetime.

Sheet Warnings
B2: Table S5: All possible warning messages in S-Concrete that were designed against | G2: Link | H2: Reference
B3: # | C3: Description of Message | D3: Status | E3: Type | G3: S-Concrete Manual | H3: Altair. S-CONCRETE 2021.1 Reference Manual. 2021.
B4: 1 | C4: Axial Load and Moment Utilization equals or exceeds Maximum. | D4: Borderline | E4: Beams
C5: Utilization = Mf / Mr or Nf / Nr whichever is greater. | D5: Unacceptable | E5: Columns
C6: For Utilization < Maximum, status is "Acceptable". | E6: Walls
C7: For Maximum <= Utilization <= Maximum + 0.05, status is "Borderline".
C8: For Utilization > Maximum + 0.05, status is "Unacceptable".
C9: CSA-A23.3-14 Clauses 10.1 and 10.10, 14.2.2 (Empirical Design Method for walls)
C10: CSA-A23.3-04 Clauses 10.1 and 10.10, 14.2.2 (Empirical Design Method for walls)
C11: CSA-A23.3-94 Clauses 10.1 and 10.10, 14.5.1 (Empirical Design Method for walls)
C12: ACI 318 Clauses 10.2 and 10.3, 14.5.1 (Empirical Design Method for walls)
C13: BS8110 / CP65 Clauses 3.4.4 and 3.8.4 of Part 1
C14: EN-1992-1-1 Clause 6.1
B15: 2 | C15: Area of Steel provided does not meet the Minimum. | D15: Warning | E15: Beams
C16: CSA-A23.3 Clause 10.5.1
C17: ACI 318 Clause 10.5
C18: BS8110 / CP65 Clause 3.12.5.3 of Part 1
B19: 3 | C19: Area of Steel provided has exceeded the allowable. | D19: Unacceptable | E19: Beams
C20: CSA-A23.3 Clauses 10.1.4 and 10.5.2
C21: ACI 318 Clauses 10.3.2 and 10.3.3
C22: BS8110 / CP65 Clause 3.2.2.1(b) of Part 1
B23: 4 | C23: Shear and Torsion Utilization equals or exceeds Maximum. | D23: Borderline | E23: Beams
C24: For Utilization < Maximum, status is "Acceptable". | D24: Unacceptable | E24: Columns
C25: For Maximum <= Utilization <= Maximum + 0.05, status is "Borderline". | E25: Walls
C26: For Utilization > Maximum + 0.05, status is "Unacceptable".
C27: CSA-A23.3-14 Clauses 11.3.1 and/or 11.3.10
C28: CSA-A23.3-04 Clauses 11.3.1 and/or 11.3.10
C29: CSA-A23.3-94 Clauses 11.3.3, 11.3.9 (Simplified) or Clauses 11.4.2, 11.4.10 (General)
C30: ACI 318 Clause 11.1.1 and/or Clause 11.5 (2011|2008), Clause 11.6 (2005 & earlier)
C31: BS8110 / CP65 Clause 3.4.5 of Part 1
C32: EN-1992-1-1 Clause 6.2 and/or 6.3
B33: 5 | C33: Maximum shear/torsional stress has exceeded the allowable. | D33: Unacceptable | E33: Beams
C34: CSA-A23.3-14 Clause 11.3.10.4 | E34: Columns
C35: CSA-A23.3-04 Clause 11.3.10.4
C36: CSA-A23.3-94 Clause 11.3.9.8 (Simplified) or Clauses 11.3.9.8 & 11.4.10.3(b) (General)
C37: ACI 318 Clause 11.5.3.1 (2011|2008), Clause 11.6.3.1 (2005 & earlier)
C38: BS8110 / CP65 Clause 3.4.5.2 of Part 1, Clause 2.4.5 of Part 2
C39: EN-1992-1-1 Clause 6.2.3(3) and 6.3.2(4)
B40: 6 | C40: Maximum torsional stress for small sections has exceeded the allowable. | D40: Unacceptable | E40: Beams
C41: BS8110 / CP65 Clause 2.4.5 of Part 2 | E41: Columns
...

Sheet Design Groups
B2: Table S6: Results of largest design tranches per building
B3: Slab Thickness [mm] | C3: Storeys | D3: Storeys / tranche | E3: CBW Concrete [kg] | F3: CBW Steel [kg] | G3: CBW CO2e [kg] | H3: % CBW Emissions Increase from 1 Storey / Tranche | I3: % Total Emissions Increase from increase tranches
B4: 175 | C4: 5 | D4: 5 | E4: 280953 | F4: 24083.4 | G4: =(E4*EPDs!$C$5+F4*EPDs!$D$5) -> 46414.9 | H4: {=(G4-((INDEX(Structure!$D$5:D$68,MATCH(1,(Structure!$B$5:$B$68=B4)*(Structure!$C$5:$C$68=C4),0)))*EPDs!$C$5 + (INDEX(Structure!$J$5:J$68,MATCH(1,(Structure!$B$5:$B$68=B4)*(Structure!$C$5:$C$68=C4),0)))*EPDs!$D$5))/((INDEX(Structure!$D$5:D$68,MATCH(1,(Structure!$B$5:$B$68=B4)*(Structure!$C$5:$C$68=C4),0)))*EPDs!$C$5 + (INDEX(Structure!$J$5:J$68,MATCH(1,(Structure!$B$5:$B$68=B4)*(Structure!$C$5:$C$68=C4),0)))*EPDs!$D$5)} -> 0.038578541 | I4: {=H4*((INDEX(Structure!$D$5:D$68,MATCH(1,(Structure!$B$5:$B$68=B4)*(Structure!$C$5:$C$68=C4),0)))*EPDs!$C$5 + (INDEX(Structure!$J$5:J$68,MATCH(1,(Structure!$B$5:$B$68=B4)*(Structure!$C$5:$C$68=C4),0)))*EPDs!$D$5) / (422.75*C4*(INDEX(Structure!$P$5:P$68,MATCH(1,(Structure!$B$5:$B$68=B4)*(Structure!$C$5:$C$68=C4),0))))} -> 0.0083560332
B5: 200 | C5: 5 | D5: 5 | E5: 280953 | F5: 24083.4 | G5: =(E5*EPDs!$C$5+F5*EPDs!$D$5) -> 46414.9 | H5: {=(G5-((INDEX(Structure!$D$5:D$68,MATCH(1,(Structure!$B$5:$B$68=B5)*(Structure!$C$5:$C$68=C5),0)))*EPDs!$C$5 + (INDEX(Structure!$J$5:J$68,MATCH(1,(Structure!$B$5:$B$68=B5)*(Structure!$C$5:$C$68=C5),0)))*EPDs!$D$5))/((INDEX(Structure!$D$5:D$68,MATCH(1,(Structure!$B$5:$B$68=B5)*(Structure!$C$5:$C$68=C5),0)))*EPDs!$C$5 + (INDEX(Structure!$J$5:J$68,MATCH(1,(Structure!$B$5:$B$68=B5)*(Structure!$C$5:$C$68=C5),0)))*EPDs!$D$5)} -> 0.077168964 | I5: {=H5*((INDEX(Structure!$D$5:D$68,MATCH(1,(Structure!$B$5:$B$68=B5)*(Structure!$C$5:$C$68=C5),0)))*EPDs!$C$5 + (INDEX(Structure!$J$5:J$68,MATCH(1,(Structure!$B$5:$B$68=B5)*(Structure!$C$5:$C$68=C5),0)))*EPDs!$D$5) / (422.75*C5*(INDEX(Structure!$P$5:P$68,MATCH(1,(Structure!$B$5:$B$68=B5)*(Structure!$C$5:$C$68=C5),0))))} -> 0.014776506
B6: 225 | C6: 5 | D6: 5 | E6: 287433 | F6: 24164.4 | G6: =(E6*EPDs!$C$5+F6*EPDs!$D$5) -> 47080.234 | H6: {=(G6-((INDEX(Structure!$D$5:D$68,MATCH(1,(Structure!$B$5:$B$68=B6)*(Structure!$C$5:$C$68=C6),0)))*EPDs!$C$5 + (INDEX(Structure!$J$5:J$68,MATCH(1,(Structure!$B$5:$B$68=B6)*(Structure!$C$5:$C$68=C6),0)))*EPDs!$D$5))/((INDEX(Structure!$D$5:D$68,MATCH(1,(Structure!$B$5:$B$68=B6)*(Structure!$C$5:$C$68=C6),0)))*EPDs!$C$5 + (INDEX(Structure!$J$5:J$68,MATCH(1,(Structure!$B$5:$B$68=B6)*(Structure!$C$5:$C$68=C6),0)))*EPDs!$D$5)} -> 0.20566705 | I6: {=H6*((INDEX(Structure!$D$5:D$68,MATCH(1,(Structure!$B$5:$B$68=B6)*(Structure!$C$5:$C$68=C6),0)))*EPDs!$C$5 + (INDEX(Structure!$J$5:J$68,MATCH(1,(Structure!$B$5:$B$68=B6)*(Structure!$C$5:$C$68=C6),0)))*EPDs!$D$5) / (422.75*C6*(INDEX(Structure!$P$5:P$68,MATCH(1,(Structure!$B$5:$B$68=B6)*(Structure!$C$5:$C$68=C6),0))))} -> 0.033727846
B7: 250 | C7: 5 | D7: 5 | E7: 287433 | F7: 24164.4 | G7: =(E7*EPDs!$C$5+F7*EPDs!$D$5) -> 47080.234 | H7: {=(G7-((INDEX(Structure!$D$5:D$68,MATCH(1,(Structure!$B$5:$B$68=B7)*(Structure!$C$5:$C$68=C7),0)))*EPDs!$C$5 + (INDEX(Structure!$J$5:J$68,MATCH(1,(Structure!$B$5:$B$68=B7)*(Structure!$C$5:$C$68=C7),0)))*EPDs!$D$5))/((INDEX(Structure!$D$5:D$68,MATCH(1,(Structure!$B$5:$B$68=B7)*(Structure!$C$5:$C$68=C7),0)))*EPDs!$C$5 + (INDEX(Structure!$J$5:J$68,MATCH(1,(Structure!$B$5:$B$68=B7)*(Structure!$C$5:$C$68=C7),0)))*EPDs!$D$5)} -> 0.16761356 | I7: {=H7*((INDEX(Structure!$D$5:D$68,MATCH(1,(Structure!$B$5:$B$68=B7)*(Structure!$C$5:$C$68=C7),0)))*EPDs!$C$5 + (INDEX(Structure!$J$5:J$68,MATCH(1,(Structure!$B$5:$B$68=B7)*(Structure!$C$5:$C$68=C7),0)))*EPDs!$D$5) / (422.75*C7*(INDEX(Structure!$P$5:P$68,MATCH(1,(Structure!$B$5:$B$68=B7)*(Structure!$C$5:$C$68=C7),0))))} -> 0.025692872
B8: 175 | C8: 10 | D8: 10 | E8: 740430 | F8: 57303.6 | G8: =(E8*EPDs!$C$5+F8*EPDs!$D$5) -> 117056.83 | H8: {=(G8-((INDEX(Structure!$D$5:D$68,MATCH(1,(Structure!$B$5:$B$68=B8)*(Structure!$C$5:$C$68=C8),0)))*EPDs!$C$5 + (INDEX(Structure!$J$5:J$68,MATCH(1,(Structure!$B$5:$B$68=B8)*(Structure!$C$5:$C$68=C8),0)))*EPDs!$D$5))/((INDEX(Structure!$D$5:D$68,MATCH(1,(Structure!$B$5:$B$68=B8)*(Structure!$C$5:$C$68=C8),0)))*EPDs!$C$5 + (INDEX(Structure!$J$5:J$68,MATCH(1,(Structure!$B$5:$B$68=B8)*(Structure!$C$5:$C$68=C8),0)))*EPDs!$D$5)} -> 0.21795379 | I8: {=H8*((INDEX(Structure!$D$5:D$68,MATCH(1,(Structure!$B$5:$B$68=B8)*(Structure!$C$5:$C$68=C8),0)))*EPDs!$C$5 + (INDEX(Structure!$J$5:J$68,MATCH(1,(Structure!$B$5:$B$68=B8)*(Structure!$C$5:$C$68=C8),0)))*EPDs!$D$5) / (422.75*C8*(INDEX(Structure!$P$5:P$68,MATCH(1,(Structure!$B$5:$B$68=B8)*(Structure!$C$5:$C$68=C8),0))))} -> 0.049684965
B9: 200 | C9: 10 | D9: 10 | E9: 740430 | F9: 57303.6 | G9: =(E9*EPDs!$C$5+F9*EPDs!$D$5) -> 117056.83 | H9: {=(G9-((INDEX(Structure!$D$5:D$68,MATCH(1,(Structure!$B$5:$B$68=B9)*(Structure!$C$5:$C$68=C9),0)))*EPDs!$C$5 + (INDEX(Structure!$J$5:J$68,MATCH(1,(Structure!$B$5:$B$68=B9)*(Structure!$C$5:$C$68=C9),0)))*EPDs!$D$5))/((INDEX(Structure!$D$5:D$68,MATCH(1,(Structure!$B$5:$B$68=B9)*(Structure!$C$5:$C$68=C9),0)))*EPDs!$C$5 + (INDEX(Structure!$J$5:J$68,MATCH(1,(Structure!$B$5:$B$68=B9)*(Structure!$C$5:$C$68=C9),0)))*EPDs!$D$5)} -> 0.20844696 | I9: {=H9*((INDEX(Structure!$D$5:D$68,MATCH(1,(Structure!$B$5:$B$68=B9)*(Structure!$C$5:$C$68=C9),0)))*EPDs!$C$5 + (INDEX(Structure!$J$5:J$68,MATCH(1,(Structure!$B$5:$B$68=B9)*(Structure!$C$5:$C$68=C9),0)))*EPDs!$D$5) / (422.75*C9*(INDEX(Structure!$P$5:P$68,MATCH(1,(Structure!$B$5:$B$68=B9)*(Structure!$C$5:$C$68=C9),0))))} -> 0.043446872
B10: 225 | C10: 10 | D10: 10 | E10: 713862 | F10: 63070.8 | G10: =(E10*EPDs!$C$5+F10*EPDs!$D$5) -> 119537.77 | H10: {=(G10-((INDEX(Structure!$D$5:D$68,MATCH(1,(Structure!$B$5:$B$68=B10)*(Structure!$C$5:$C$68=C10),0)))*EPDs!$C$5 + (INDEX(Structure!$J$5:J$68,MATCH(1,(Structure!$B$5:$B$68=B10)*(Structure!$C$5:$C$68=C10),0)))*EPDs!$D$5))/((INDEX(Structure!$D$5:D$68,MATCH(1,(Structure!$B$5:$B$68=B10)*(Structure!$C$5:$C$68=C10),0)))*EPDs!$C$5 + (INDEX(Structure!$J$5:J$68,MATCH(1,(Structure!$B$5:$B$68=B10)*(Structure!$C$5:$C$68=C10),0)))*EPDs!$D$5)} -> 0.26733696 | I10: {=H10*((INDEX(Structure!$D$5:D$68,MATCH(1,(Structure!$B$5:$B$68=B10)*(Structure!$C$5:$C$68=C10),0)))*EPDs!$C$5 + (INDEX(Structure!$J$5:J$68,MATCH(1,(Structure!$B$5:$B$68=B10)*(Structure!$C$5:$C$68=C10),0)))*EPDs!$D$5) / (422.75*C10*(INDEX(Structure!$P$5:P$68,MATCH(1,(Structure!$B$5:$B$68=B10)*(Structure!$C$5:$C$68=C10),0))))} -> 0.0501733
B11: 250 | C11: 10 | D11: 10 | E11: 766674 | F11: 63562.2 | G11: =(E11*EPDs!$C$5+F11*EPDs!$D$5) -> 124816.13 | H11: {=(G11-((INDEX(Structure!$D$5:D$68,MATCH(1,(Structure!$B$5:$B$68=B11)*(Structure!$C$5:$C$68=C11),0)))*EPDs!$C$5 + (INDEX(Structure!$J$5:J$68,MATCH(1,(Structure!$B$5:$B$68=B11)*(Structure!$C$5:$C$68=C11),0)))*EPDs!$D$5))/((INDEX(Structure!$D$5:D$68,MATCH(1,(Structure!$B$5:$B$68=B11)*(Structure!$C$5:$C$68=C11),0)))*EPDs!$C$5 + (INDEX(Structure!$J$5:J$68,MATCH(1,(Structure!$B$5:$B$68=B11)*(Structure!$C$5:$C$68=C11),0)))*EPDs!$D$5)} -> 0.26268725 | I11: {=H11*((INDEX(Structure!$D$5:D$68,MATCH(1,(Structure!$B$5:$B$68=B11)*(Structure!$C$5:$C$68=C11),0)))*EPDs!$C$5 + (INDEX(Structure!$J$5:J$68,MATCH(1,(Structure!$B$5:$B$68=B11)*(Structure!$C$5:$C$68=C11),0)))*EPDs!$D$5) / (422.75*C11*(INDEX(Structure!$P$5:P$68,MATCH(1,(Structure!$B$5:$B$68=B11)*(Structure!$C$5:$C$68=C11),0))))} -> 0.046626157
B12: 175 | C12: 15 | D12: 15 | E12: 1598913 | F12: 102171.6 | G12: =(E12*EPDs!$C$5+F12*EPDs!$D$5) -> 234354.54 | H12: {=(G12-((INDEX(Structure!$D$5:D$68,MATCH(1,(Structure!$B$5:$B$68=B12)*(Structure!$C$5:$C$68=C12),0)))*EPDs!$C$5 + (INDEX(Structure!$J$5:J$68,MATCH(1,(Structure!$B$5:$B$68=B12)*(Structure!$C$5:$C$68=C12),0)))*EPDs!$D$5))/((INDEX(Structure!$D$5:D$68,MATCH(1,(Structure!$B$5:$B$68=B12)*(Structure!$C$5:$C$68=C12),0)))*EPDs!$C$5 + (INDEX(Structure!$J$5:J$68,MATCH(1,(Structure!$B$5:$B$68=B12)*(Structure!$C$5:$C$68=C12),0)))*EPDs!$D$5)} -> 0.45557637 | I12: {=H12*((INDEX(Structure!$D$5:D$68,MATCH(1,(Structure!$B$5:$B$68=B12)*(Structure!$C$5:$C$68=C12),0)))*EPDs!$C$5 + (INDEX(Structure!$J$5:J$68,MATCH(1,(Structure!$B$5:$B$68=B12)*(Structure!$C$5:$C$68=C12),0)))*EPDs!$D$5) / (422.75*C12*(INDEX(Structure!$P$5:P$68,MATCH(1,(Structure!$B$5:$B$68=B12)*(Structure!$C$5:$C$68=C12),0))))} -> 0.10959178
B13: 200 | C13: 15 | D13: 15 | E13: 1654965 | F13: 102754.8 | G13: =(E13*EPDs!$C$5+F13*EPDs!$D$5) -> 240009.38 | H13: {=(G13-((INDEX(Structure!$D$5:D$68,MATCH(1,(Structure!$B$5:$B$68=B13)*(Structure!$C$5:$C$68=C13),0)))*EPDs!$C$5 + (INDEX(Structure!$J$5:J$68,MATCH(1,(Structure!$B$5:$B$68=B13)*(Structure!$C$5:$C$68=C13),0)))*EPDs!$D$5))/((INDEX(Structure!$D$5:D$68,MATCH(1,(Structure!$B$5:$B$68=B13)*(Structure!$C$5:$C$68=C13),0)))*EPDs!$C$5 + (INDEX(Structure!$J$5:J$68,MATCH(1,(Structure!$B$5:$B$68=B13)*(Structure!$C$5:$C$68=C13),0)))*EPDs!$D$5)} -> 0.41891526 | I13: {=H13*((INDEX(Structure!$D$5:D$68,MATCH(1,(Structure!$B$5:$B$68=B13)*(Structure!$C$5:$C$68=C13),0)))*EPDs!$C$5 + (INDEX(Structure!$J$5:J$68,MATCH(1,(Structure!$B$5:$B$68=B13)*(Structure!$C$5:$C$68=C13),0)))*EPDs!$D$5) / (422.75*C13*(INDEX(Structure!$P$5:P$68,MATCH(1,(Structure!$B$5:$B$68=B13)*(Structure!$C$5:$C$68=C13),0))))} -> 0.095711785
B14: 225 | C14: 15 | D14: 15 | E14: 1750059 | F14: 103532.4 | G14: =(E14*EPDs!$C$5+F14*EPDs!$D$5) -> 249422.1 | H14: {=(G14-((INDEX(Structure!$D$5:D$68,MATCH(1,(Structure!$B$5:$B$68=B14)*(Structure!$C$5:$C$68=C14),0)))*EPDs!$C$5 + (INDEX(Structure!$J$5:J$68,MATCH(1,(Structure!$B$5:$B$68=B14)*(Structure!$C$5:$C$68=C14),0)))*EPDs!$D$5))/((INDEX(Structure!$D$5:D$68,MATCH(1,(Structure!$B$5:$B$68=B14)*(Structure!$C$5:$C$68=C14),0)))*EPDs!$C$5 + (INDEX(Structure!$J$5:J$68,MATCH(1,(Structure!$B$5:$B$68=B14)*(Structure!$C$5:$C$68=C14),0)))*EPDs!$D$5)} -> 0.41739734 | I14: {=H14*((INDEX(Structure!$D$5:D$68,MATCH(1,(Structure!$B$5:$B$68=B14)*(Structure!$C$5:$C$68=C14),0)))*EPDs!$C$5 + (INDEX(Structure!$J$5:J$68,MATCH(1,(Structure!$B$5:$B$68=B14)*(Structure!$C$5:$C$68=C14),0)))*EPDs!$D$5) / (422.75*C14*(INDEX(Structure!$P$5:P$68,MATCH(1,(Structure!$B$5:$B$68=B14)*(Structure!$C$5:$C$68=C14),0))))} -> 0.091788312
B15: 250 | C15: 15 | D15: 15 | E15: 1825389 | F15: 111551.4 | G15: =(E15*EPDs!$C$5+F15*EPDs!$D$5) -> 263200.68 | H15: {=(G15-((INDEX(Structure!$D$5:D$68,MATCH(1,(Structure!$B$5:$B$68=B15)*(Structure!$C$5:$C$68=C15),0)))*EPDs!$C$5 + (INDEX(Structure!$J$5:J$68,MATCH(1,(Structure!$B$5:$B$68=B15)*(Structure!$C$5:$C$68=C15),0)))*EPDs!$D$5))/((INDEX(Structure!$D$5:D$68,MATCH(1,(Structure!$B$5:$B$68=B15)*(Structure!$C$5:$C$68=C15),0)))*EPDs!$C$5 + (INDEX(Structure!$J$5:J$68,MATCH(1,(Structure!$B$5:$B$68=B15)*(Structure!$C$5:$C$68=C15),0)))*EPDs!$D$5)} -> 0.40761307 | I15: {=H15*((INDEX(Structure!$D$5:D$68,MATCH(1,(Structure!$B$5:$B$68=B15)*(Structure!$C$5:$C$68=C15),0)))*EPDs!$C$5 + (INDEX(Structure!$J$5:J$68,MATCH(1,(Structure!$B$5:$B$68=B15)*(Structure!$C$5:$C$68=C15),0)))*EPDs!$D$5) / (422.75*C15*(INDEX(Structure!$P$5:P$68,MATCH(1,(Structure!$B$5:$B$68=B15)*(Structure!$C$5:$C$68=C15),0))))} -> 0.086250672
... B19: 250 | C19: 20 | D19: 10 | E19: 2552814 | F19: 156732.6 | G19: =(E19*EPDs!$C$5+F19*EPDs!$D$5) -> 368708.53 | H19: {=(G19-((INDEX(Structure!$D$5:D$68,MATCH(1,(Structure!$B$5:$B$68=B19)*(Structure!$C$5:$C$68=C19),0)))*EPDs!$C$5 + (INDEX(Structure!$J$5:J$68,MATCH(1,(Structure!$B$5:$B$68=B19)*(Structure!$C$5:$C$68=C19),0)))*EPDs!$D$5))/((INDEX(Structure!$D$5:D$68,MATCH(1,(Structure!$B$5:$B$68=B19)*(Structure!$C$5:$C$68=C19),0)))*EPDs!$C$5 + (INDEX(Structure!$J$5:J$68,MATCH(1,(Structure!$B$5:$B$68=B19)*(Structure!$C$5:$C$68=C19),0)))*EPDs!$D$5)} -> 0.1983185 | I19: {=H19*((INDEX(Structure!$D$5:D$68,MATCH(1,(Structure!$B$5:$B$68=B19)*(Structure!$C$5:$C$68=C19),0)))*EPDs!$C$5 + (INDEX(Structure!$J$5:J$68,MATCH(1,(Structure!$B$5:$B$68=B19)*(Structure!$C$5:$C$68=C19),0)))*EPDs!$D$5) / (422.75*C19*(INDEX(Structure!$P$5:P$68,MATCH(1,(Structure!$B$5:$B$68=B19)*(Structure!$C$5:$C$68=C19),0))))} -> 0.048417573

Sheet Storey Height
B2: Table S8: Results of 2.4m storey height
B3: Slab Thickness [mm] | C3: Storeys | D3: CBW Concrete [kg] | E3: CBW Steel [kg] | F3: CBW CO2e [kg] | G3: % CBW Emissions Increase from 2.7m storey height | H3: % Total Emissions Increase from 2.7m storey height
B4: 175 | C4: 5 | D4: 239152.2 | E4: 20192.88 | F4: =(D4*EPDs!$C$5+E4*EPDs!$D$5) -> 39246.722 | G4: {=ABS(F4-((INDEX(Structure!$D$5:D$68,MATCH(1,(Structure!$B$5:$B$68=B4)*(Structure!$C$5:$C$68=C4),0)))*EPDs!$C$5 + (INDEX(Structure!$J$5:J$68,MATCH(1,(Structure!$B$5:$B$68=B4)*(Structure!$C$5:$C$68=C4),0)))*EPDs!$D$5))/((INDEX(Structure!$D$5:D$68,MATCH(1,(Structure!$B$5:$B$68=B4)*(Structure!$C$5:$C$68=C4),0)))*EPDs!$C$5 + (INDEX(Structure!$J$5:J$68,MATCH(1,(Structure!$B$5:$B$68=B4)*(Structure!$C$5:$C$68=C4),0)))*EPDs!$D$5)} -> 0.12181641 | H4: {=G4*((INDEX(Structure!$D$5:D$68,MATCH(1,(Structure!$B$5:$B$68=B4)*(Structure!$C$5:$C$68=C4),0)))*EPDs!$C$5 + (INDEX(Structure!$J$5:J$68,MATCH(1,(Structure!$B$5:$B$68=B4)*(Structure!$C$5:$C$68=C4),0)))*EPDs!$D$5) / (422.75*C4*(INDEX(Structure!$P$5:P$68,MATCH(1,(Structure!$B$5:$B$68=B4)*(Structure!$C$5:$C$68=C4),0))))} -> 0.026385185
B5: 175 | C5: 10 | D5: 529078.8 | E5: 43352.16 | F5: =(D5*EPDs!$C$5+E5*EPDs!$D$5) -> 85697.994 | G5: {=ABS(F5-((INDEX(Structure!$D$5:D$68,MATCH(1,(Structure!$B$5:$B$68=B5)*(Structure!$C$5:$C$68=C5),0)))*EPDs!$C$5 + (INDEX(Structure!$J$5:J$68,MATCH(1,(Structure!$B$5:$B$68=B5)*(Structure!$C$5:$C$68=C5),0)))*EPDs!$D$5))/((INDEX(Structure!$D$5:D$68,MATCH(1,(Structure!$B$5:$B$68=B5)*(Structure!$C$5:$C$68=C5),0)))*EPDs!$C$5 + (INDEX(Structure!$J$5:J$68,MATCH(1,(Structure!$B$5:$B$68=B5)*(Structure!$C$5:$C$68=C5),0)))*EPDs!$D$5)} -> 0.1083289 | H5: {=G5*((INDEX(Structure!$D$5:D$68,MATCH(1,(Structure!$B$5:$B$68=B5)*(Structure!$C$5:$C$68=C5),0)))*EPDs!$C$5 + (INDEX(Structure!$J$5:J$68,MATCH(1,(Structure!$B$5:$B$68=B5)*(Structure!$C$5:$C$68=C5),0)))*EPDs!$D$5) / (422.75*C5*(INDEX(Structure!$P$5:P$68,MATCH(1,(Structure!$B$5:$B$68=B5)*(Structure!$C$5:$C$68=C5),0))))} -> 0.024694765
B6: 175 | C6: 15 | D6: 900231 | E6: 71089.68 | F6: =(D6*EPDs!$C$5+E6*EPDs!$D$5) -> 143531.84 | G6: {=ABS(F6-((INDEX(Structure!$D$5:D$68,MATCH(1,(Structure!$B$5:$B$68=B6)*(Structure!$C$5:$C$68=C6),0)))*EPDs!$C$5 + (INDEX(Structure!$J$5:J$68,MATCH(1,(Structure!$B$5:$B$68=B6)*(Structure!$C$5:$C$68=C6),0)))*EPDs!$D$5))/((INDEX(Structure!$D$5:D$68,MATCH(1,(Structure!$B$5:$B$68=B6)*(Structure!$C$5:$C$68=C6),0)))*EPDs!$C$5 + (INDEX(Structure!$J$5:J$68,MATCH(1,(Structure!$B$5:$B$68=B6)*(Structure!$C$5:$C$68=C6),0)))*EPDs!$D$5)} -> 0.10852356 | H6: {=G6*((INDEX(Structure!$D$5:D$68,MATCH(1,(Structure!$B$5:$B$68=B6)*(Structure!$C$5:$C$68=C6),0)))*EPDs!$C$5 + (INDEX(Structure!$J$5:J$68,MATCH(1,(Structure!$B$5:$B$68=B6)*(Structure!$C$5:$C$68=C6),0)))*EPDs!$D$5) / (422.75*C6*(INDEX(Structure!$P$5:P$68,MATCH(1,(Structure!$B$5:$B$68=B6)*(Structure!$C$5:$C$68=C6),0))))} -> 0.026106032
B7: 175 | C7: 20 | D7: 1475834.4 | E7: 107102.88 | F7: =(D7*EPDs!$C$5+E7*EPDs!$D$5) -> 227242.62 | G7: {=ABS(F7-((INDEX(Structure!$D$5:D$68,MATCH(1,(Structure!$B$5:$B$68=B7)*(Structure!$C$5:$C$68=C7),0)))*EPDs!$C$5 + (INDEX(Structure!$J$5:J$68,MATCH(1,(Structure!$B$5:$B$68=B7)*(Structure!$C$5:$C$68=C7),0)))*EPDs!$D$5))/((INDEX(Structure!$D$5:D$68,MATCH(1,(Structure!$B$5:$B$68=B7)*(Structure!$C$5:$C$68=C7),0)))*EPDs!$C$5 + (INDEX(Structure!$J$5:J$68,MATCH(1,(Structure!$B$5:$B$68=B7)*(Structure!$C$5:$C$68=C7),0)))*EPDs!$D$5)} -> 0.10033159 | H7: {=G7*((INDEX(Structure!$D$5:D$68,MATCH(1,(Structure!$B$5:$B$68=B7)*(Structure!$C$5:$C$68=C7),0)))*EPDs!$C$5 + (INDEX(Structure!$J$5:J$68,MATCH(1,(Structure!$B$5:$B$68=B7)*(Structure!$C$5:$C$68=C7),0)))*EPDs!$D$5) / (422.75*C7*(INDEX(Structure!$P$5:P$68,MATCH(1,(Structure!$B$5:$B$68=B7)*(Structure!$C$5:$C$68=C7),0))))} -> 0.027072392
B8: 200 | C8: 5 | D8: 241168.2 | E8: 20221.68 | F8: =(D8*EPDs!$C$5+E8*EPDs!$D$5) -> 39456.789 | G8: {=ABS(F8-((INDEX(Structure!$D$5:D$68,MATCH(1,(Structure!$B$5:$B$68=B8)*(Structure!$C$5:$C$68=C8),0)))*EPDs!$C$5 + (INDEX(Structure!$J$5:J$68,MATCH(1,(Structure!$B$5:$B$68=B8)*(Structure!$C$5:$C$68=C8),0)))*EPDs!$D$5))/((INDEX(Structure!$D$5:D$68,MATCH(1,(Structure!$B$5:$B$68=B8)*(Structure!$C$5:$C$68=C8),0)))*EPDs!$C$5 + (INDEX(Structure!$J$5:J$68,MATCH(1,(Structure!$B$5:$B$68=B8)*(Structure!$C$5:$C$68=C8),0)))*EPDs!$D$5)} -> 0.084310663 | H8: {=G8*((INDEX(Structure!$D$5:D$68,MATCH(1,(Structure!$B$5:$B$68=B8)*(Structure!$C$5:$C$68=C8),0)))*EPDs!$C$5 + (INDEX(Structure!$J$5:J$68,MATCH(1,(Structure!$B$5:$B$68=B8)*(Structure!$C$5:$C$68=C8),0)))*EPDs!$D$5) / (422.75*C8*(INDEX(Structure!$P$5:P$68,MATCH(1,(Structure!$B$5:$B$68=B8)*(Structure!$C$5:$C$68=C8),0))))} -> 0.016144017
B9: 200 | C9: 10 | D9: 540944.4 | E9: 43100.16 | F9: =(D9*EPDs!$C$5+E9*EPDs!$D$5) -> 86574.421 | G9: {=ABS(F9-((INDEX(Structure!$D$5:D$68,MATCH(1,(Structure!$B$5:$B$68=B9)*(Structure!$C$5:$C$68=C9),0)))*EPDs!$C$5 + (INDEX(Structure!$J$5:J$68,MATCH(1,(Structure!$B$5:$B$68=B9)*(Structure!$C$5:$C$68=C9),0)))*EPDs!$D$5))/((INDEX(Structure!$D$5:D$68,MATCH(1,(Structure!$B$5:$B$68=B9)*(Structure!$C$5:$C$68=C9),0)))*EPDs!$C$5 + (INDEX(Structure!$J$5:J$68,MATCH(1,(Structure!$B$5:$B$68=B9)*(Structure!$C$5:$C$68=C9),0)))*EPDs!$D$5)} -> 0.10624102 | H9: {=G9*((INDEX(Structure!$D$5:D$68,MATCH(1,(Structure!$B$5:$B$68=B9)*(Structure!$C$5:$C$68=C9),0)))*EPDs!$C$5 + (INDEX(Structure!$J$5:J$68,MATCH(1,(Structure!$B$5:$B$68=B9)*(Structure!$C$5:$C$68=C9),0)))*EPDs!$D$5) / (422.75*C9*(INDEX(Structure!$P$5:P$68,MATCH(1,(Structure!$B$5:$B$68=B9)*(Structure!$C$5:$C$68=C9),0))))} -> 0.022143956
B10: 200 | C10: 15 | D10: 943939.8 | E10: 72901.2 | F10: =(D10*EPDs!$C$5+E10*EPDs!$D$5) -> 149100.09 | G10: {=ABS(F10-((INDEX(Structure!$D$5:D$68,MATCH(1,(Structure!$B$5:$B$68=B10)*(Structure!$C$5:$C$68=C10),0)))*EPDs!$C$5 + (INDEX(Structure!$J$5:J$68,MATCH(1,(Structure!$B$5:$B$68=B10)*(Structure!$C$5:$C$68=C10),0)))*EPDs!$D$5))/((INDEX(Structure!$D$5:D$68,MATCH(1,(Structure!$B$5:$B$68=B10)*(Structure!$C$5:$C$68=C10),0)))*EPDs!$C$5 + (INDEX(Structure!$J$5:J$68,MATCH(1,(Structure!$B$5:$B$68=B10)*(Structure!$C$5:$C$68=C10),0)))*EPDs!$D$5)} -> 0.11853283 | H10: {=G10*((INDEX(Structure!$D$5:D$68,MATCH(1,(Structure!$B$5:$B$68=B10)*(Structure!$C$5:$C$68=C10),0)))*EPDs!$C$5 + (INDEX(Structure!$J$5:J$68,MATCH(1,(Structure!$B$5:$B$68=B10)*(Structure!$C$5:$C$68=C10),0)))*EPDs!$D$5) / (422.75*C10*(INDEX(Structure!$P$5:P$68,MATCH(1,(Structure!$B$5:$B$68=B10)*(Structure!$C$5:$C$68=C10),0))))} -> 0.027081824
B11: 200 | C11: 20 | D11: 1561111.2 | E11: 109141.92 | F11: =(D11*EPDs!$C$5+E11*EPDs!$D$5) -> 236829.43 | G11: {=ABS(F11-((INDEX(Structure!$D$5:D$68,MATCH(1,(Structure!$B$5:$B$68=B11)*(Structure!$C$5:$C$68=C11),0)))*EPDs!$C$5 + (INDEX(Structure!$J$5:J$68,MATCH(1,(Structure!$B$5:$B$68=B11)*(Structure!$C$5:$C$68=C11),0)))*EPDs!$D$5))/((INDEX(Structure!$D$5:D$68,MATCH(1,(Structure!$B$5:$B$68=B11)*(Structure!$C$5:$C$68=C11),0)))*EPDs!$C$5 + (INDEX(Structure!$J$5:J$68,MATCH(1,(Structure!$B$5:$B$68=B11)*(Structure!$C$5:$C$68=C11),0)))*EPDs!$D$5)} -> 0.12562729 | H11: {=G11*((INDEX(Structure!$D$5:D$68,MATCH(1,(Structure!$B$5:$B$68=B11)*(Structure!$C$5:$C$68=C11),0)))*EPDs!$C$5 + (INDEX(Structure!$J$5:J$68,MATCH(1,(Structure!$B$5:$B$68=B11)*(Structure!$C$5:$C$68=C11),0)))*EPDs!$D$5) / (422.75*C11*(INDEX(Structure!$P$5:P$68,MATCH(1,(Structure!$B$5:$B$68=B11)*(Structure!$C$5:$C$68=C11),0))))} -> 0.032329659
B12: 225 | C12: 5 | D12: 243414.6 | E12: 20250.48 | F12: =(D12*EPDs!$C$5+E12*EPDs!$D$5) -> 39688.053 | G12: {=ABS(F12-((INDEX(Structure!$D$5:D$68,MATCH(1,(Structure!$B$5:$B$68=B12)*(Structure!$C$5:$C$68=C12),0)))*EPDs!$C$5 + (INDEX(Structure!$J$5:J$68,MATCH(1,(Structure!$B$5:$B$68=B12)*(Structure!$C$5:$C$68=C12),0)))*EPDs!$D$5))/((INDEX(Structure!$D$5:D$68,MATCH(1,(Structure!$B$5:$B$68=B12)*(Structure!$C$5:$C$68=C12),0)))*EPDs!$C$5 + (INDEX(Structure!$J$5:J$68,MATCH(1,(Structure!$B$5:$B$68=B12)*(Structure!$C$5:$C$68=C12),0)))*EPDs!$D$5)} -> 0.016362372 | H12: {=G12*((INDEX(Structure!$D$5:D$68,MATCH(1,(Structure!$B$5:$B$68=B12)*(Structure!$C$5:$C$68=C12),0)))*EPDs!$C$5 + (INDEX(Structure!$J$5:J$68,MATCH(1,(Structure!$B$5:$B$68=B12)*(Structure!$C$5:$C$68=C12),0)))*EPDs!$D$5) / (422.75*C12*(INDEX(Structure!$P$5:P$68,MATCH(1,(Structure!$B$5:$B$68=B12)*(Structure!$C$5:$C$68=C12),0))))} -> 0.0026833056
B13: 225 | C13: 10 | D13: 545926.8 | E13: 43692.48 | F13: =(D13*EPDs!$C$5+E13*EPDs!$D$5) -> 87538.644 | G13: {=ABS(F13-((INDEX(Structure!$D$5:D$68,MATCH(1,(Structure!$B$5:$B$68=B13)*(Structure!$C$5:$C$68=C13),0)))*EPDs!$C$5 + (INDEX(Structure!$J$5:J$68,MATCH(1,(Structure!$B$5:$B$68=B13)*(Structure!$C$5:$C$68=C13),0)))*EPDs!$D$5))/((INDEX(Structure!$D$5:D$68,MATCH(1,(Structure!$B$5:$B$68=B13)*(Structure!$C$5:$C$68=C13),0)))*EPDs!$C$5 + (INDEX(Structure!$J$5:J$68,MATCH(1,(Structure!$B$5:$B$68=B13)*(Structure!$C$5:$C$68=C13),0)))*EPDs!$D$5)} -> 0.071917091 | H13: {=G13*((INDEX(Structure!$D$5:D$68,MATCH(1,(Structure!$B$5:$B$68=B13)*(Structure!$C$5:$C$68=C13),0)))*EPDs!$C$5 + (INDEX(Structure!$J$5:J$68,MATCH(1,(Structure!$B$5:$B$68=B13)*(Structure!$C$5:$C$68=C13),0)))*EPDs!$D$5) / (422.75*C13*(INDEX(Structure!$P$5:P$68,MATCH(1,(Structure!$B$5:$B$68=B13)*(Structure!$C$5:$C$68=C13),0))))} -> 0.013497265
B14: 225 | C14: 15 | D14: 980736.6 | E14: 73796.88 | F14: =(D14*EPDs!$C$5+E14*EPDs!$D$5) -> 153250.3 | G14: {=ABS(F14-((INDEX(Structure!$D$5:D$68,MATCH(1,(Structure!$B$5:$B$68=B14)*(Structure!$C$5:$C$68=C14),0)))*EPDs!$C$5 + (INDEX(Structure!$J$5:J$68,MATCH(1,(Structure!$B$5:$B$68=B14)*(Structure!$C$5:$C$68=C14),0)))*EPDs!$D$5))/((INDEX(Structure!$D$5:D$68,MATCH(1,(Structure!$B$5:$B$68=B14)*(Structure!$C$5:$C$68=C14),0)))*EPDs!$C$5 + (INDEX(Structure!$J$5:J$68,MATCH(1,(Structure!$B$5:$B$68=B14)*(Structure!$C$5:$C$68=C14),0)))*EPDs!$D$5)} -> 0.12912058 | H14: {=G14*((INDEX(Structure!$D$5:D$68,MATCH(1,(Structure!$B$5:$B$68=B14)*(Structure!$C$5:$C$68=C14),0)))*EPDs!$C$5 + (INDEX(Structure!$J$5:J$68,MATCH(1,(Structure!$B$5:$B$68=B14)*(Structure!$C$5:$C$68=C14),0)))*EPDs!$D$5) / (422.75*C14*(INDEX(Structure!$P$5:P$68,MATCH(1,(Structure!$B$5:$B$68=B14)*(Structure!$C$5:$C$68=C14),0))))} -> 0.028394431
B15: 225 | C15: 20 | D15: 1638650.4 | E15: 113098.56 | F15: =(D15*EPDs!$C$5+E15*EPDs!$D$5) -> 247342.01 | G15: {=ABS(F15-((INDEX(Structure!$D$5:D$68,MATCH(1,(Structure!$B$5:$B$68=B15)*(Structure!$C$5:$C$68=C15),0)))*EPDs!$C$5 + (INDEX(Structure!$J$5:J$68,MATCH(1,(Structure!$B$5:$B$68=B15)*(Structure!$C$5:$C$68=C15),0)))*EPDs!$D$5))/((INDEX(Structure!$D$5:D$68,MATCH(1,(Structure!$B$5:$B$68=B15)*(Structure!$C$5:$C$68=C15),0)))*EPDs!$C$5 + (INDEX(Structure!$J$5:J$68,MATCH(1,(Structure!$B$5:$B$68=B15)*(Structure!$C$5:$C$68=C15),0)))*EPDs!$D$5)} -> 0.13638543 | H15: {=G15*((INDEX(Structure!$D$5:D$68,MATCH(1,(Structure!$B$5:$B$68=B15)*(Structure!$C$5:$C$68=C15),0)))*EPDs!$C$5 + (INDEX(Structure!$J$5:J$68,MATCH(1,(Structure!$B$5:$B$68=B15)*(Structure!$C$5:$C$68=C15),0)))*EPDs!$D$5) / (422.75*C15*(INDEX(Structure!$P$5:P$68,MATCH(1,(Structure!$B$5:$B$68=B15)*(Structure!$C$5:$C$68=C15),0))))} -> 0.034115686
... B19: 250 | C19: 20 | D19: 1762135.2 | E19: 116316.96 | F19: =(D19*EPDs!$C$5+E19*EPDs!$D$5) -> 261451.12 | G19: {=ABS(F19-((INDEX(Structure!$D$5:D$68,MATCH(1,(Structure!$B$5:$B$68=B19)*(Structure!$C$5:$C$68=C19),0)))*EPDs!$C$5 + (INDEX(Structure!$J$5:J$68,MATCH(1,(Structure!$B$5:$B$68=B19)*(Structure!$C$5:$C$68=C19),0)))*EPDs!$D$5))/((INDEX(Structure!$D$5:D$68,MATCH(1,(Structure!$B$5:$B$68=B19)*(Structure!$C$5:$C$68=C19),0)))*EPDs!$C$5 + (INDEX(Structure!$J$5:J$68,MATCH(1,(Structure!$B$5:$B$68=B19)*(Structure!$C$5:$C$68=C19),0)))*EPDs!$D$5)} -> 0.15027266 | H19: {=G19*((INDEX(Structure!$D$5:D$68,MATCH(1,(Structure!$B$5:$B$68=B19)*(Structure!$C$5:$C$68=C19),0)))*EPDs!$C$5 + (INDEX(Structure!$J$5:J$68,MATCH(1,(Structure!$B$5:$B$68=B19)*(Structure!$C$5:$C$68=C19),0)))*EPDs!$D$5) / (422.75*C19*(INDEX(Structure!$P$5:P$68,MATCH(1,(Structure!$B$5:$B$68=B19)*(Structure!$C$5:$C$68=C19),0))))} -> 0.03668764

Sheet Foundations
B2: Table S7: Foundation results for buildings using the same design parameters as Tables S1 & S2
B3: Input | D3: CSA | H3: ACI
B4: Slab Thickness [mm] | C4: Storeys | D4: Concrete [kg] | E4: Steel [kg] | F4: CO2e [kg] | G4: CO2e [kg/NRA] | H4: Concrete [kg] | I4: Steel [kg] | J4: CO2e [kg] | K4: CO2e [kg/NRA] | L4: % Difference
B5: 175 | C5: 5 | D5: 182000 | E5: 4797.459 | F5: =D5*EPDs!$C$5+E5*EPDs!$D$5 -> 20841.03 | G5: =F5/(422.75*C5) -> 9.8597422 | H5: 179000 | I5: 4687.259 | J5: =H5*EPDs!$C$6+I5*EPDs!$D$6 -> 22976.919 | K5: =J5/(422.75*C5) -> 10.870216 | L5: =(K5-G5)/G5 -> 0.10248482
B6: 175 | C6: 10 | D6: 459000 | E6: 7569.044 | F6: =D6*EPDs!$C$5+E6*EPDs!$D$5 -> 48691.964 | G6: =F6/(422.75*C6) -> 11.51791 | H6: 464000 | I6: 8369.933 | J6: =H6*EPDs!$C$6+I6*EPDs!$D$6 -> 56331.923 | K6: =J6/(422.75*C6) -> 13.325115 | L6: =(K6-G6)/G6 -> 0.1569039
B7: 175 | C7: 15 | D7: 830000 | E7: 18100.042 | F7: =D7*EPDs!$C$5+E7*EPDs!$D$5 -> 91817.436 | G7: =F7/(422.75*C7) -> 14.479391 | H7: 888000 | I7: 22030.724 | J7: =H7*EPDs!$C$6+I7*EPDs!$D$6 -> 112942.24 | K7: =J7/(422.75*C7) -> 17.810722 | L7: =(K7-G7)/G7 -> 0.23007397
B8: 175 | C8: 20 | D8: 1150000 | E8: 24995.503 | F8: =D8*EPDs!$C$5+E8*EPDs!$D$5 -> 127146.16 | G8: =F8/(422.75*C8) -> 15.037985 | H8: 1150000 | I8: 37327.655 | J8: =H8*EPDs!$C$6+I8*EPDs!$D$6 -> 153777.82 | K8: =J8/(422.75*C8) -> 18.187796 | L8: =(K8-G8)/G8 -> 0.20945704
B9: 200 | C9: 5 | D9: 203000 | E9: 6325.672 | F9: =D9*EPDs!$C$5+E9*EPDs!$D$5 -> 24078.124 | G9: =F9/(422.75*C9) -> 11.391188 | H9: 204000 | I9: 6742.614 | J9: =H9*EPDs!$C$6+I9*EPDs!$D$6 -> 27382.192 | K9: =J9/(422.75*C9) -> 12.954319 | L9: =(K9-G9)/G9 -> 0.13722284
B10: 200 | C10: 10 | D10: 464000 | E10: 9970.089 | F10: =D10*EPDs!$C$5+E10*EPDs!$D$5 -> 51202.456 | G10: =F10/(422.75*C10) -> 12.111758 | H10: 479533 | I10: 10041.576 | J10: =H10*EPDs!$C$6+I10*EPDs!$D$6 -> 59406.004 | K10: =J10/(422.75*C10) -> 14.052278 | L10: =(K10-G10)/G10 -> 0.16021785
B11: 200 | C11: 15 | D11: 824000 | E11: 18955.983 | F11: =D11*EPDs!$C$5+E11*EPDs!$D$5 -> 91996.409 | G11: =F11/(422.75*C11) -> 14.507614 | H11: 861000 | I11: 21332.377 | J11: =H11*EPDs!$C$6+I11*EPDs!$D$6 -> 109483.85 | K11: =J11/(422.75*C11) -> 17.265342 | L11: =(K11-G11)/G11 -> 0.19008829
B12: 200 | C12: 20 | D12: 1220000 | E12: 25999.42 | F12: =D12*EPDs!$C$5+E12*EPDs!$D$5 -> 134443.5 | G12: =F12/(422.75*C12) -> 15.901065 | H12: 1250000 | I12: 31141.455 | J12: =H12*EPDs!$C$6+I12*EPDs!$D$6 -> 159094.8 | K12: =J12/(422.75*C12) -> 18.816653 | L12: =(K12-G12)/G12 -> 0.18335804
B13: 225 | C13: 5 | D13: 206000 | E13: 6617.81 | F13: =D13*EPDs!$C$5+E13*EPDs!$D$5 -> 24603.61 | G13: =F13/(422.75*C13) -> 11.639792 | H13: 225000 | I13: 6943.214 | J13: =H13*EPDs!$C$6+I13*EPDs!$D$6 -> 29779.505 | K13: =J13/(422.75*C13) -> 14.088471 | L13: =(K13-G13)/G13 -> 0.21037137
B14: 225 | C14: 10 | D14: 486000 | E14: 13975.506 | F14: =D14*EPDs!$C$5+E14*EPDs!$D$5 -> 56647.082 | G14: =F14/(422.75*C14) -> 13.399665 | H14: 501000 | I14: 14134.112 | J14: =H14*EPDs!$C$6+I14*EPDs!$D$6 -> 65176.532 | K14: =J14/(422.75*C14) -> 15.417275 | L14: =(K14-G14)/G14 -> 0.15057174
B15: 225 | C15: 15 | D15: 815000 | E15: 21137.659 | F15: =D15*EPDs!$C$5+E15*EPDs!$D$5 -> 93031.561 | G15: =F15/(422.75*C15) -> 14.670855 | H15: 846000 | I15: 21551.989 | J15: =H15*EPDs!$C$6+I15*EPDs!$D$6 -> 108081.4 | K15: =J15/(422.75*C15) -> 17.044179 | L15: =(K15-G15)/G15 -> 0.16177131
B16: 225 | C16: 20 | D16: 1306780 | E16: 27306.138 | F16: =D16*EPDs!$C$5+E16*EPDs!$D$5 -> 143543.2 | G16: =F16/(422.75*C16) -> 16.977315 | H16: 1330000 | I16: 33818.039 | J16: =H16*EPDs!$C$6+I16*EPDs!$D$6 -> 169860.61 | K16: =J16/(422.75*C16) -> 20.089959 | L16: =(K16-G16)/G16 -> 0.18334134
... B20: 250 | C20: 20 | D20: 1480000 | E20: 20670.061 | F20: =D20*EPDs!$C$5+E20*EPDs!$D$5 -> 153812.23 | G20: =F20/(422.75*C20) -> 18.191867 | H20: 1470000 | I20: 35610.447 | J20: =H20*EPDs!$C$6+I20*EPDs!$D$6 -> 186231.32 | K20: =J20/(422.75*C20) -> 22.026176 | L20: =(K20-G20)/G20 -> 0.21077056

Sheet Building Loads
B2: Table S9: Building Loads for a 10-Storey structure | H2: Link | I2: Reference
B3: Load Category | C3: Subcategory | D3: Load Weight | E3: Weight Unit | H3: National Building Code of Canada | I3: Canadian Comission on Building and Fire Codes. National Building Code of Canada 2020. (2020).
B4: Live | C4: Roof | D4: 1 | E4: KPa
B5: Live | C5: Unit | D5: 1.9 | E5: KPa
B6: Live | C6: Hallway | D6: 4.8 | E6: KPa
B7: Dead | C7: Superimposed | D7: 2 | E7: KPa
B8: Dead | C8: Exterior Cladding | D8: 4 | E8: KN/m
B9: Snow | C9: Rood Main Load | D9: 1.12 | E9: KPa
B10: Snow | C10: Roof Drift Load | D10: 1.74 | E10: KPa
B11: Wind | C11: Roof | D11: 0.76 | E11: KPa
B12: Wind | C12: Windward - Maximum | D12: 0.61 | E12: KPa
B13: Wind | C13: Leeward | D13: 0.31 | E13: KPa
B14: Wind | C14: Side | D14: 0.53 | E14: KPa

Sheet Column Count
B2: Table S10: Columns per slab thickness
B3: Slab Thickness [mm] | C3: Maximum Spacing [m] | D3: Columns / Floor
B4: 175 | C4: =B4*28/1000 -> 4.9 | D4: 36
B5: 200 | C5: =B5*28/1000 -> 5.6 | D5: 30
B6: 225 | C6: =B6*28/1000 -> 6.3 | D6: 30
B7: 250 | C7: =B7*28/1000 -> 7 | D7: 24

Sheet Results
B2: Table S11: S-Concrete results for CSA 2 storey building, 250 mm slab, 2 run iterations
B3: Name | C3: Floor(s) | D3: Width [mm] | E3: Depth [mm] | F3: Concrete [kg/m] | G3: Steel [kg/m] | H3: Quantity | I3: Length [m] | J3: Concrete [kg] | K3: Steel [kg]
B4: Beams | C4: 10 | D4: 250 | E4: 200 | F4: 117 | G4: 19.6 | H4: 2 | I4: 3 | J4: 351 | K4: 58.8
B5: Beams | C5: 11 | D5: 250 | E5: 200 | F5: 117 | G5: 19.6 | H5: 2 | I5: 3 | J5: 351 | K5: 58.8
B6: Beams | C6: 12 | D6: 250 | E6: 200 | F6: 117 | G6: 19.6 | H6: 2 | I6: 3 | J6: 351 | K6: 58.8
B7: Beams | C7: 13 | D7: 250 | E7: 200 | F7: 117 | G7: 19.6 | H7: 2 | I7: 3 | J7: 351 | K7: 58.8
B8: Beams | C8: 14 | D8: 250 | E8: 200 | F8: 117 | G8: 19.6 | H8: 2 | I8: 3 | J8: 351 | K8: 58.8
B9: Beams | C9: 15 | D9: 250 | E9: 200 | F9: 117 | G9: 19.6 | H9: 2 | I9: 3 | J9: 351 | K9: 58.8
B10: Beams | C10: 16 | D10: 250 | E10: 200 | F10: 117 | G10: 19.6 | H10: 2 | I10: 3 | J10: 351 | K10: 58.8
B11: Beams | C11: 17 | D11: 250 | E11: 200 | F11: 117 | G11: 19.6 | H11: 2 | I11: 3 | J11: 351 | K11: 58.8
B12: Beams | C12: 18 | D12: 250 | E12: 200 | F12: 117 | G12: 19.6 | H12: 2 | I12: 3 | J12: 351 | K12: 58.8
B13: Beams | C13: 19 | D13: 250 | E13: 200 | F13: 117 | G13: 19.6 | H13: 2 | I13: 3 | J13: 351 | K13: 58.8
B14: Beams | C14: 2 | D14: 250 | E14: 200 | F14: 117 | G14: 19.6 | H14: 2 | I14: 3 | J14: 351 | K14: 58.8
B15: Beams | C15: 20 | D15: 250 | E15: 200 | F15: 117 | G15: 19.6 | H15: 2 | I15: 3 | J15: 351 | K15: 58.8
... B83: Interior Columns | C83: 9 - 10 | D83: 700 | E83: 700 | F83: 1162 | G83: 75.8 | H83: 4 | I83: 10.8 | J83: 12549.6 | K83: 818.64
B84: Long Walls | C84: 1 - 2 | D84: 550 | E84: NA | F84: 11457 | G84: 346 | H84: 2 | I84: 5.4 | J84: 61867.8 | K84: 1868.4
B85: Long Walls | C85: 2 - 3 | D85: 550 | E85: NA | F85: 11457 | G85: 346 | H85: 2 | I85: 5.4 | J85: 61867.8 | K85: 1868.4
B86: Long Walls | C86: 3 - 4 | D86: 550 | E86: NA | F86: 11462 | G86: 289.6 | H86: 2 | I86: 5.4 | J86: 61894.8 | K86: 1563.84
B87: Long Walls | C87: 4 - 5 | D87: 500 | E87: NA | F87: 10412 | G87: 345.2 | H87: 2 | I87: 5.4 | J87: 56224.8 | K87: 1864.08
B88: Long Walls | C88: 5 - 6 | D88: 500 | E88: NA | F88: 10417 | G88: 267.9 | H88: 2 | I88: 5.4 | J88: 56251.8 | K88: 1446.66
B89: Long Walls | C89: 6 - 7 | D89: 450 | E89: NA | F89: 9374 | G89: 261.6 | H89: 2 | I89: 5.4 | J89: 50619.6 | K89: 1412.64
B90: Long Walls | C90: 7 - 8 | D90: 425 | E90: NA | F90: 8852 | G90: 260 | H90: 2 | I90: 5.4 | J90: 47800.8 | K90: 1404
B91: Long Walls | C91: 8 - 9 | D91: 400 | E91: NA | F91: 8331 | G91: 255.3 | H91: 2 | I91: 5.4 | J91: 44987.4 | K91: 1378.62
B92: Long Walls | C92: 9 - 10 | D92: 375 | E92: NA | F92: 7809 | G92: 253.7 | H92: 2 | I92: 5.4 | J92: 42168.6 | K92: 1369.98
B93: Long Walls | C93: 10 - 11 | D93: 350 | E93: NA | F93: 7287 | G93: 252.2 | H93: 2 | I93: 5.4 | J93: 39349.8 | K93: 1361.88
B94: Long Walls | C94: 11 - 12 | D94: 325 | E94: NA | F94: 6765 | G94: 250.6 | H94: 2 | I94: 5.4 | J94: 36531 | K94: 1353.24
B95: Long Walls | C95: 12 - 13 | D95: 300 | E95: NA | F95: 6243 | G95: 249 | H95: 2 | I95: 5.4 | J95: 33712.2 | K95: 1344.6
... B123: Short Walls | C123: 20 - 21 | D123: 500 | E123: NA | F123: 2629 | G123: 114.1 | H123: 4 | I123: 10.8 | J123: 28393.2 | K123: 1232.28
