Workbook

Sheet Galangin
A2: MTT-assay
B7: w1 | C7: w2 | D7: w3 | F7: AVE | G7: SD
A8: 0 | B8: 2.004 | C8: 2.242 | D8: 2.091 | F8: =AVERAGE(B8:D8) -> 2.1123333
A9: 25 | B9: 1.997 | C9: 1.716 | D9: 1.894 | F9: =AVERAGE(B9:D9) -> 1.869
A10: 50 | B10: 1.474 | C10: 1.823 | D10: 1.793 | F10: =AVERAGE(B10:D10) -> 1.6966667
A11: 100 | B11: 1.345 | C11: 1.313 | D11: 1.771 | F11: =AVERAGE(B11:D11) -> 1.4763333
A12: 150 | B12: 1.403 | C12: 1.294 | D12: 1.028 | F12: =AVERAGE(B12:D12) -> 1.2416667
A13: 200 | B13: 0.942 | C13: 0.627 | D13: 0.703 | F13: =AVERAGE(B13:D13) -> 0.75733333
B18: w1 | C18: w2 | D18: w3 | F18: AVE | G18: SD | I18: toxicity
A19: 0 | B19: =(B8/F8)*100 -> 94.87139 | C19: =(C8/F8)*100 -> 106.13855 | D19: =(D8/F8)*100 -> 98.990058 | F19: =(F8/F8)*100 -> 100 | G19: =STDEV(B19:D19) -> 5.7010715 | I19: =100-F19 -> 0
A20: 25 | B20: =(B9/F8)*100 -> 94.540003 | C20: =(C9/F8)*100 -> 81.237178 | D20: =(D9/F8)*100 -> 89.663879 | F20: =(F9/F8)*100 -> 88.480353 | G20: =STDEV(B20:D20) -> 6.7299209 | I20: =100-F20 -> 11.519647
A21: 50 | B21: =(B10/F8)*100 -> 69.780653 | C21: =(C10/F8)*100 -> 86.302667 | D21: =(D10/F8)*100 -> 84.882436 | F21: =(F10/F8)*100 -> 80.321919 | G21: =STDEV(B21:D21) -> 9.1565809 | I21: =100-F21 -> 19.678081
A22: 100 | B22: =(B11/F8)*100 -> 63.673663 | C22: =(C11/F8)*100 -> 62.15875 | D22: =(D11/F8)*100 -> 83.840934 | F22: =(F11/F8)*100 -> 69.891116 | G22: =STDEV(B22:D22) -> 12.10462 | I22: =100-F22 -> 30.108884
A23: 150 | B23: =(B12/F8)*100 -> 66.419441 | C23: =(C12/F8)*100 -> 61.259271 | D23: =(D12/F8)*100 -> 48.666561 | F23: =(F12/F8)*100 -> 58.781758 | G23: =STDEV(B23:D23) -> 9.132072 | I23: =100-F23 -> 41.218242
A24: 200 | B24: =(B13/F8)*100 -> 44.595234 | C24: =(C13/F8)*100 -> 29.682815 | D24: =(D13/F8)*100 -> 33.280732 | F24: =(F13/F8)*100 -> 35.852927 | G24: =STDEV(B24:D24) -> 7.7818508 | I24: =100-F24 -> 64.147073
A35: concent | B35: Galangin | C35: GA- NLC | D35: GA- NLC-RGD
A36: 0 | B36: =F19 -> 100 | C36: =GaNLC!F19 -> 100 | D36: =GaNLCRGD!F19 -> 100
A37: 25 | B37: =F20 -> 88.480353 | C37: =GaNLC!F20 -> 89.111567 | D37: =GaNLCRGD!F20 -> 79.643364
A38: 50 | B38: =F21 -> 80.321919 | C38: =GaNLC!F21 -> 77.481458 | D38: =GaNLCRGD!F21 -> 71.169323
A39: 100 | B39: =F22 -> 69.891116 | C39: =GaNLC!F22 -> 63.610541 | D39: =GaNLCRGD!F22 -> 58.797538
A40: 150 | B40: =F23 -> 58.781758 | C40: =GaNLC!F23 -> 56.761875 | D40: =GaNLCRGD!F23 -> 45.494714
A41: 200 | B41: =F24 -> 35.852927 | C41: =GaNLC!F24 -> 32.065646 | D41: =GaNLCRGD!F24 -> 20.861606
B61: Y | C61: IC50, 30,20 | G61: y | H61: IC50,30 | L61: y | M61: IC50,30
A62: IC50 | B62: 50 | C62: =(B62-97.896)/-0.2934 -> 163.24472 | G62: 50 | H62: =(G62-97.175)/-0.3124 -> 151.00832 | L62: 50 | M62: =(L62-93.524)/-0.3527 -> 123.40232
A63: IC30 | B63: 70 | C63: =(B63-97.896)/-0.2934 -> 95.078391 | G63: 70 | H63: =(G63-97.175)/-0.3124 -> 86.987836 | L63: 70 | M63: =(L63-93.524)/-0.3527 -> 66.69691
A64: IC20 | B64: 80 | C64: =(B64-97.896)/-0.2934 -> 60.995228

Sheet GaNLC
A2: MTT-assay
B7: w1 | C7: w2 | D7: w3 | F7: AVE | G7: SD
A8: 0 | B8: 2.004 | C8: 2.242 | D8: 2.091 | F8: =AVERAGE(B8:D8) -> 2.1123333
A9: 25 | B9: 1.757 | C9: 1.896 | D9: 1.994 | F9: =AVERAGE(B9:D9) -> 1.8823333
A10: 50 | B10: 1.474 | C10: 1.623 | D10: 1.813 | F10: =AVERAGE(B10:D10) -> 1.6366667
A11: 100 | B11: 1.345 | C11: 1.507 | D11: 1.179 | F11: =AVERAGE(B11:D11) -> 1.3436667
A12: 150 | B12: 1.153 | C12: 1.396 | D12: 1.048 | F12: =AVERAGE(B12:D12) -> 1.199
A13: 200 | B13: 0.842 | C13: 0.697 | D13: 0.493 | F13: =AVERAGE(B13:D13) -> 0.67733333
B18: w1 | C18: w2 | D18: w3 | F18: AVE | G18: SD | I18: toxicity
A19: 0 | B19: =(B8/F8)*100 -> 94.87139 | C19: =(C8/F8)*100 -> 106.13855 | D19: =(D8/F8)*100 -> 98.990058 | F19: =(F8/F8)*100 -> 100 | G19: =STDEV(B19:D19) -> 5.7010715 | I19: =100-F19 -> 0
A20: 25 | B20: =(B9/F8)*100 -> 83.17816 | C20: =(C9/F8)*100 -> 89.758561 | D20: =(D9/F8)*100 -> 94.39798 | F20: =(F9/F8)*100 -> 89.111567 | G20: =STDEV(B20:D20) -> 5.6378224 | I20: =100-F20 -> 10.888433
A21: 50 | B21: =(B10/F8)*100 -> 69.780653 | C21: =(C10/F8)*100 -> 76.834464 | D21: =(D10/F8)*100 -> 85.829257 | F21: =(F10/F8)*100 -> 77.481458 | G21: =STDEV(B21:D21) -> 8.0438404 | I21: =100-F21 -> 22.518542
A22: 100 | B22: =(B11/F8)*100 -> 63.673663 | C22: =(C11/F8)*100 -> 71.342907 | D22: =(D11/F8)*100 -> 55.815054 | F22: =(F11/F8)*100 -> 63.610541 | G22: =STDEV(B22:D22) -> 7.7641186 | I22: =100-F22 -> 36.389459
A23: 150 | B23: =(B12/F8)*100 -> 54.584188 | C23: =(C12/F8)*100 -> 66.088054 | D23: =(D12/F8)*100 -> 49.613382 | F23: =(F12/F8)*100 -> 56.761875 | G23: =STDEV(B23:D23) -> 8.4504703 | I23: =100-F23 -> 43.238125
A24: 200 | B24: =(B13/F8)*100 -> 39.861133 | C24: =(C13/F8)*100 -> 32.996686 | D24: =(D13/F8)*100 -> 23.339119 | F24: =(F13/F8)*100 -> 32.065646 | G24: =STDEV(B24:D24) -> 8.3002626 | I24: =100-F24 -> 67.934354

Sheet GaNLCRGD
A2: MTT-assay
B7: w1 | C7: w2 | D7: w3 | F7: AVE | G7: SD
A8: 0 | B8: 2.004 | C8: 2.242 | D8: 2.091 | F8: =AVERAGE(B8:D8) -> 2.1123333
A9: 25 | B9: 1.697 | C9: 1.716 | D9: 1.634 | F9: =AVERAGE(B9:D9) -> 1.6823333
A10: 50 | B10: 1.374 | C10: 1.523 | D10: 1.613 | F10: =AVERAGE(B10:D10) -> 1.5033333
A11: 100 | B11: 1.245 | C11: 1.31 | D11: 1.171 | F11: =AVERAGE(B11:D11) -> 1.242
A12: 150 | B12: 0.803 | C12: 0.972 | D12: 1.108 | F12: =AVERAGE(B12:D12) -> 0.961
A13: 200 | B13: 0.335 | C13: 0.584 | D13: 0.403 | F13: =AVERAGE(B13:D13) -> 0.44066667
B18: w1 | C18: w2 | D18: w3 | F18: AVE | G18: SD | I18: toxicity
A19: 0 | B19: =(B8/F8)*100 -> 94.87139 | C19: =(C8/F8)*100 -> 106.13855 | D19: =(D8/F8)*100 -> 98.990058 | F19: =(F8/F8)*100 -> 100 | G19: =STDEV(B19:D19) -> 5.7010715 | I19: =100-F19 -> 0
A20: 25 | B20: =(B9/F8)*100 -> 80.337699 | C20: =(C9/F8)*100 -> 81.237178 | D20: =(D9/F8)*100 -> 77.355215 | F20: =(F9/F8)*100 -> 79.643364 | G20: =STDEV(B20:D20) -> 2.0319904 | I20: =100-F20 -> 20.356636
A21: 50 | B21: =(B10/F8)*100 -> 65.046552 | C21: =(C10/F8)*100 -> 72.100363 | D21: =(D10/F8)*100 -> 76.361054 | F21: =(F10/F8)*100 -> 71.169323 | G21: =STDEV(B21:D21) -> 5.7144218 | I21: =100-F21 -> 28.830677
A22: 100 | B22: =(B11/F8)*100 -> 58.939561 | C22: =(C11/F8)*100 -> 62.016727 | D22: =(D11/F8)*100 -> 55.436326 | F22: =(F11/F8)*100 -> 58.797538 | G22: =STDEV(B22:D22) -> 3.2924985 | I22: =100-F22 -> 41.202462
A23: 150 | B23: =(B12/F8)*100 -> 38.014834 | C23: =(C12/F8)*100 -> 46.015465 | D23: =(D12/F8)*100 -> 52.453843 | F23: =(F12/F8)*100 -> 45.494714 | G23: =STDEV(B23:D23) -> 7.2335767 | I23: =100-F23 -> 54.505286
A24: 200 | B24: =(B13/F8)*100 -> 15.859239 | C24: =(C13/F8)*100 -> 27.647152 | D24: =(D13/F8)*100 -> 19.078428 | F24: =(F13/F8)*100 -> 20.861606 | G24: =STDEV(B24:D24) -> 6.0929067 | I24: =100-F24 -> 79.138394

Sheet DOX
A2: MTT-assay
B7: w1 | C7: w2 | D7: w3 | F7: AVE | G7: SD
A8: 0 | B8: 2.004 | C8: 2.242 | D8: 2.091 | F8: =AVERAGE(B8:D8) -> 2.1123333
A9: 0.5 | B9: 1.497 | C9: 1.916 | D9: 1.634 | F9: =AVERAGE(B9:D9) -> 1.6823333
A10: 1 | B10: 1.634 | C10: 1.363 | D10: 1.421 | F10: =AVERAGE(B10:D10) -> 1.4726667
A11: 2 | B11: 1.151 | C11: 1.078 | D11: 1.371 | F11: =AVERAGE(B11:D11) -> 1.2
A12: 4 | B12: 0.835 | C12: 0.792 | D12: 0.685 | F12: =AVERAGE(B12:D12) -> 0.77066667
A13: 8 | B13: 0.268 | C13: 0.427 | D13: 0.182 | F13: =AVERAGE(B13:D13) -> 0.29233333
B18: w1 | C18: w2 | D18: w3 | F18: AVE | G18: SD | I18: toxicity
A19: 0 | B19: =(B8/F8)*100 -> 94.87139 | C19: =(C8/F8)*100 -> 106.13855 | D19: =(D8/F8)*100 -> 98.990058 | F19: =(F8/F8)*100 -> 100 | G19: =STDEV(B19:D19) -> 5.7010715 | I19: =100-F19 -> 0
A20: 0.5 | B20: =(B9/F8)*100 -> 70.869497 | C20: =(C9/F8)*100 -> 90.705381 | D20: =(D9/F8)*100 -> 77.355215 | F20: =(F9/F8)*100 -> 79.643364 | G20: =STDEV(B20:D20) -> 10.113965 | I20: =100-F20 -> 20.356636
A21: 1 | B21: =(B10/F8)*100 -> 77.355215 | C21: =(C10/F8)*100 -> 64.525801 | D21: =(D10/F8)*100 -> 67.27158 | F21: =(F10/F8)*100 -> 69.717532 | G21: =STDEV(B21:D21) -> 6.7554039 | I21: =100-F21 -> 30.282468
A22: 2 | B22: =(B11/F8)*100 -> 54.489506 | C22: =(C11/F8)*100 -> 51.033612 | D22: =(D11/F8)*100 -> 64.904529 | F22: =(F11/F8)*100 -> 56.809216 | G22: =STDEV(B22:D22) -> 7.2205521 | I22: =100-F22 -> 43.190784
A23: 4 | B23: =(B12/F8)*100 -> 39.529746 | C23: =(C12/F8)*100 -> 37.494082 | D23: =(D12/F8)*100 -> 32.428594 | F23: =(F12/F8)*100 -> 36.484141 | G23: =STDEV(B23:D23) -> 3.6567166 | I23: =100-F23 -> 63.515859
A24: 8 | B24: =(B13/F8)*100 -> 12.687392 | C24: =(C13/F8)*100 -> 20.214613 | D24: =(D13/F8)*100 -> 8.6160644 | F24: =(F13/F8)*100 -> 13.839356 | G24: =STDEV(B24:D24) -> 5.8844581 | I24: =100-F24 -> 86.160644
D38: y | E38: IC50,30
D39: 50 | E39: =(D39-84.623)/-9.7578 -> 3.5482383
D40: 70 | E40: =(D40-84.623)/-9.7578 -> 1.498596
D41: 80 | E41: =(D41-84.623)/-9.7578 -> 0.47377483
D42: 75 | E42: =(D42-84.623)/-9.7578 -> 0.98618541

Sheet Mix
A2: MTT-assay
B7: w1 | C7: w2 | D7: w3 | F7: AVE | G7: SD
A8: control | B8: 2.074 | C8: 1.921 | D8: 2.184 | F8: =AVERAGE(B8:D8) -> 2.0596667
A9: 1uM DOX | B9: 1.427 | C9: 1.516 | D9: 1.704 | F9: =AVERAGE(B9:D9) -> 1.549
A10: 1 uM DOX + 61 uM Galangin | B10: 0.954 | C10: 1.163 | D10: 1.013 | F10: =AVERAGE(B10:D10) -> 1.0433333
A11: Dox + Ga-loaded-NLC | B11: 0.975 | C11: 0.878 | D11: 0.982 | F11: =AVERAGE(B11:D11) -> 0.945
A12: Dox + Ga loadedNLCRGD | B12: 0.507 | C12: 0.792 | D12: 0.625 | F12: =AVERAGE(B12:D12) -> 0.64133333
B18: w1 | C18: w2 | D18: w3 | F18: AVE | G18: SD | I18: toxicity
A19: control | B19: =(B8/F8)*100 -> 100.69591 | C19: =(C8/F8)*100 -> 93.267519 | D19: =(D8/F8)*100 -> 106.03658 | F19: =(F8/F8)*100 -> 100 | G19: =STDEV(B19:D19) -> 6.41291 | I19: =100-F19 -> 0
A20: DOX | B20: =(B9/F8)*100 -> 69.283056 | C20: =(C9/F8)*100 -> 73.604143 | D20: =(D9/F8)*100 -> 82.731834 | F20: =(F9/F8)*100 -> 75.206344 | G20: =STDEV(B20:D20) -> 6.8660538 | I20: =100-F20 -> 24.793656
A21: DOX + Galangin | B21: =(B10/F8)*100 -> 46.318174 | C21: =(C10/F8)*100 -> 56.465447 | D21: =(D10/F8)*100 -> 49.182716 | F21: =(F10/F8)*100 -> 50.655446 | G21: =STDEV(B21:D21) -> 5.2314901 | I21: =100-F21 -> 49.344554
A22: Dox + Ga-loaded-NLC | B22: =(B11/F8)*100 -> 47.337757 | C22: =(C11/F8)*100 -> 42.628257 | D22: =(D11/F8)*100 -> 47.677618 | F22: =(F11/F8)*100 -> 45.881211 | G22: =STDEV(B22:D22) -> 2.8222609 | I22: =100-F22 -> 54.118789
A23: Dox + Ga loadedNLCRGD | B23: =(B12/F8)*100 -> 24.615634 | C23: =(C12/F8)*100 -> 38.452824 | D23: =(D12/F8)*100 -> 30.344716 | F23: =(F12/F8)*100 -> 31.137725 | G23: =STDEV(B23:D23) -> 6.9525971 | I23: =100-F23 -> 68.862275
