Workbook

Sheet Table.2.A
A1: Leprévost et al.
A2: Comparative genomic analysis of QTL for resistance to Aphanomyces euteiches between pea, lentil, faba bean and the model species Medicago truncatula
A4: Supplementary Table 2.A : Description of the 321 lentil accessions composing the AGILE panel.
A6: Genotype | B6: Accession codea | C6: Country of originb | D6: Continent of origin | E6: Species | F6: Cultivation status | G6: Previously studied in Ma et al. (2020)c
A7: 3156-11 AGL | B7: KP:GERM28819 | C7: CANADA | D7: AMERICAS | E7: Lens culinaris | F7: Research/Breeding line | G7: No
A8: CDC Asterix AGL | B8: KP:GERM28820 | C8: CANADA | D8: AMERICAS | E8: Lens culinaris | F8: Cultivar | G8: No
A9: CDC Cherie AGL | B9: KP:GERM28821 | C9: CANADA | D9: AMERICAS | E9: Lens culinaris | F9: Cultivar | G9: No
A10: CDC Glamis AGL | B10: KP:GERM28822 | C10: CANADA | D10: AMERICAS | E10: Lens culinaris | F10: Cultivar | G10: No
A11: CDC Gold AGL | B11: KP:GERM28823 | C11: CANADA | D11: AMERICAS | E11: Lens culinaris | F11: Cultivar | G11: No
A12: CDC Greenstar AGL | B12: KP:GERM28824 | C12: CANADA | D12: AMERICAS | E12: Lens culinaris | F12: Cultivar | G12: No
A13: CDC KR-1 AGL | B13: KP:GERM28827 | C13: CANADA | D13: AMERICAS | E13: Lens culinaris | F13: Cultivar | G13: No
A14: CDC LeMay AGL | B14: KP:GERM28828 | C14: CANADA | D14: AMERICAS | E14: Lens culinaris | F14: Cultivar | G14: No
A15: CDC QG-1 AGL | B15: KP:GERM28830 | C15: CANADA | D15: AMERICAS | E15: Lens culinaris | F15: Cultivar | G15: No
A16: CDC Red Rider AGL | B16: KP:GERM28832 | C16: CANADA | D16: AMERICAS | E16: Lens culinaris | F16: Cultivar | G16: No
A17: CDC Redcoat AGL | B17: KP:GERM28831 | C17: CANADA | D17: AMERICAS | E17: Lens culinaris | F17: Cultivar | G17: No
... A327: W6 27767 LSP AGL | B327: KP:GERM29141 | C327: USDA | D327: Unknown | E327: Lens culinaris | F327: Research/Breeding line | G327: Yes
A329: a Accession code information is available at: https://knowpulse.usask.ca/germplasm-collection/AGILE%20LDP.
A330: b Origin genebanks (ICARDA and USDA) were attributed when the country of origin was unknown.
A331: c Lines previously evaluated by Ma et al. (2020) for partial resistance to the Ae-16-04D isolate belonging to pea pathotype I of A. euteiches.

Sheet Table.2.B
A1: Leprévost et al.
A2: Comparative genomic analysis of QTL for resistance to Aphanomyces euteiches between pea, lentil, faba bean and the model species Medicago truncatula
A4: Supplementary Table 2.B : Raw phenotypic data assessed for partial resistance to A. euteiches in the AGILE panel.
C6: Raw phenotypic dataa
A7: Genotype | B7: Replicate | C7: AGILE_DS_RB84 | D7: AGILE_RDL_RB84 | E7: AGILE_SDL_RB84
A8: 3156-11 AGL | B8: Rep1 | C8: 4.5 | D8: 0.23404255 | E8: 0.008264463
A9: 3156-11 AGL | B9: Rep2 | C9: 5 | D9: . | E9: .
A10: 3156-11 AGL | B10: Rep3 | C10: 4 | D10: . | E10: .
A11: 3156-11 AGL | B11: Rep4 | C11: 3.5 | D11: 0.44897959 | E11: 0.12790698
A12: 3156-11 AGL | B12: Rep5 | C12: 4.5 | D12: 0.051724138 | E12: 0.35526316
A13: 3156-11 AGL | B13: Rep6 | C13: 4 | D13: -1.1081081 | E13: -0.87755102
A14: 3156-11 AGL | B14: Rep7 | C14: 2.5 | D14: . | E14: .
A15: 3156-11 AGL | B15: Rep8 | C15: 4.5 | D15: . | E15: .
A16: 3156-11 AGL | B16: Rep9 | C16: . | D16: . | E16: .
A17: 3156-11 AGL | B17: Rep10 | C17: . | D17: . | E17: .
A18: CDC Asterix AGL | B18: Rep1 | C18: 0.5 | D18: 0.10569106 | E18: 0.28254438
A19: CDC Asterix AGL | B19: Rep2 | C19: 2 | D19: 0.3 | E19: 0.36231884
A20: CDC Asterix AGL | B20: Rep3 | C20: 3 | D20: 0.76811594 | E20: 0.56842105
A21: CDC Asterix AGL | B21: Rep4 | C21: 3 | D21: -0.21052632 | E21: -0.69014084
A22: CDC Asterix AGL | B22: Rep5 | C22: 1.5 | D22: . | E22: .
A23: CDC Asterix AGL | B23: Rep6 | C23: 1 | D23: -0.051724138 | E23: 0.21238938
A24: CDC Asterix AGL | B24: Rep7 | C24: 2 | D24: . | E24: .
A25: CDC Asterix AGL | B25: Rep8 | C25: 1.5 | D25: . | E25: .
A26: CDC Asterix AGL | B26: Rep9 | C26: 2.5 | D26: -0.43333333 | E26: -0.078125
A27: CDC Asterix AGL | B27: Rep10 | C27: 2 | D27: 0.15277778 | E27: 0.11764706
A28: CDC Cherie AGL | B28: Rep1 | C28: 4 | D28: 0.37777778 | E28: 0.24657534
A29: CDC Cherie AGL | B29: Rep2 | C29: 4.5 | D29: 0.53125 | E29: 0.41176471
A30: CDC Cherie AGL | B30: Rep3 | C30: 4 | D30: -0.052631579 | E30: -0.45454545
A31: CDC Cherie AGL | B31: Rep4 | C31: 2.5 | D31: -0.071428571 | E31: 0.39669422
A32: CDC Cherie AGL | B32: Rep5 | C32: 3 | D32: 0.39784946 | E32: 0.47169811
A33: CDC Cherie AGL | B33: Rep6 | C33: 2 | D33: -0.55172414 | E33: 0.22
A34: CDC Cherie AGL | B34: Rep7 | C34: 3.5 | D34: 0.375 | E34: 0.31818182
A35: CDC Cherie AGL | B35: Rep8 | C35: 4 | D35: . | E35: .
A36: CDC Cherie AGL | B36: Rep9 | C36: 3 | D36: -1.16 | E36: -0.21111111
A37: CDC Cherie AGL | B37: Rep10 | C37: 3 | D37: 0.036144578 | E37: 0.12359551
A38: CDC Glamis AGL | B38: Rep1 | C38: 3 | D38: . | E38: .
A39: CDC Glamis AGL | B39: Rep2 | C39: 3 | D39: 0.2 | E39: 0.42168675
A40: CDC Glamis AGL | B40: Rep3 | C40: 2.5 | D40: 0.038834951 | E40: 0.56462585
A41: CDC Glamis AGL | B41: Rep4 | C41: 2 | D41: 0.62184874 | E41: 0.47142857
A42: CDC Glamis AGL | B42: Rep5 | C42: 3 | D42: 0.45454545 | E42: 0
...

Sheet Table.2.C
A1: Leprévost et al.
A2: Comparative genomic analysis of QTL for resistance to Aphanomyces euteiches between pea, lentil, faba bean and the model species Medicago truncatula
A4: Supplementary Table 2.C : For each lentil accession: genetic subgroups obtained from individual relatedness and population structure, and EMMean values computed from each resistance variable. Summaries of statistical models applied to phenotypic datasets are also presented.
B6: Genetic subgroupa | D6: EMMeansb | H6: Statistical modelc | J6: CLMM or LMM : (Y ~ Genotype + (1|Replicate)) | Q6: Pearson’s correlation coefficientse
A7: Genotype | B7: Kinship | C7: Admixture | D7: AGILE_DS_RB84 | E7: AGILE_RDL_RB84 | F7: AGILE_SDL_RB84 | J7: Model | K7: Variable | L7: Number of linesd | M7: Number of observations | N7: Condition number of the Hessian matrix | O7: Akaike Inf. Crit. | P7: Genotypic effect (p-value) | Q7: AGILE_DS_RB84 | R7: AGILE_RDL_RB84 | S7: AGILE_SDL_RB84
A8: CN 105789 AGL | B8: 3 | C8: 3 | D8: -1.7545594 | E8: -0.85081447 | F8: -0.30612985 | H8: Strain | I8: RB84 | J8: CLMM | K8: AGILE_DS_RB84 | L8: 318 | M8: 3094 | N8: 660000 | O8: - | P8: < 2.2e-16 | Q8: - | R8: 0.20** | S8: 0.25***
A9: CDC Asterix AGL | B9: 1 | C9: 1 | D9: -1.2678059 | E9: 0.099687765 | F9: 0.1112129 | J9: LMM | K9: AGILE_RDL_RB84 | L9: 260 | M9: 1753 | N9: - | O9: 3521 | P9: 0.414 | Q9: 0.20** | R9: - | S9: 0.55***
A10: PI 472380 LSP AGL | B10: 5 | C10: 5 | D10: -1.1661782 | E10: -0.10892003 | F10: 0.34585936 | J10: LMM | K10: AGILE_SDL_RB84 | L10: 260 | M10: 1771 | N10: - | O10: 2582 | P10: 0.011 | Q10: 0.25*** | R10: 0.55*** | S10: -
A11: CN 105895 AGL | B11: 3 | C11: 3 | D11: -1.1635559 | E11: 0.074595095 | F11: 0.22055592 | H11: c Statistical models performed to compute EMMean values for each variable. CLMM and LMM were performed to analyze ordinal and quantitative variables, respectively.
A12: ILL 4164 AGL | B12: 6 | C12: 6 | D12: -0.93778549 | E12: -0.37558264 | F12: -0.029647926 | H12: d A total of three lines (PI 209858 LSP AGL, PI 368647 LSP AGL, and PI 432001 LSP AGL) and 61 lines were excluded from the statistical analyses for all variables, as well as for both AGILE_RDL_RB84 and AGILE_SDL_RB84 variables, respectively. This exclusion was due to these lines having fewer than 5 phenotypic observations.
A13: ILL 9888 AGL | B13: 3 | C13: 3 | D13: -0.91459225 | E13: 0.023454847 | F13: 0.3647664 | H13: e Significance p-value codes: 0 < ‘***’ ≤ 0.001 < ‘**’ ≤ 0.01.
A14: CN 105715 AGL | B14: - | C14: - | D14: -0.64171141 | E14: -0.29807742 | F14: -0.036078929
A15: PI 289073 LSP AGL | B15: 1 | C15: 1 | D15: -0.63002359 | E15: -0.27059681 | F15: -0.2320535
A16: ILL 9 AGL | B16: 2 | C16: 2 | D16: -0.62530546 | E16: -0.047698456 | F16: 0.1096777
A17: ILL 8174 AGL | B17: 1 | C17: 1 | D17: -0.52999367 | E17: -0.08853229 | F17: 0.084870511
A18: ILL 7663 AGL | B18: 5 | C18: 5 | D18: -0.4980164 | E18: -0.16982588 | F18: 0.055793043
A19: PI 289066 AGL | B19: 3 | C19: 3 | D19: -0.4499577 | E19: 0.020569726 | F19: 0.16569891
A20: ILL 10657 AGL | B20: 2 | C20: 2 | D20: -0.44443216 | E20: -0.01005033 | F20: 0.18968367
A21: ILL 4782 AGL | B21: 6 | C21: 6 | D21: -0.43333859 | E21: -0.39161005 | F21: -0.12003204
A22: PI 193548 LSP AGL | B22: 3 | C22: 3 | D22: -0.42457905 | E22: . | F22: .
A23: PI 477921 LSP AGL | B23: - | C23: - | D23: -0.4029426 | E23: -0.21789615 | F23: -0.15440568
A24: PI 320945 LSP AGL | B24: 1 | C24: 1 | D24: -0.4012193 | E24: 0.34535408 | F24: 0.39219229
A25: PI 374116 LSP AGL | B25: 1 | C25: 1 | D25: -0.39379197 | E25: -0.10606628 | F25: 0.29285585
A26: CDC KR-1 AGL | B26: 1 | C26: 1 | D26: -0.38051836 | E26: -0.039754648 | F26: 0.25317491
A27: PI 508090 AGL | B27: 1 | C27: 1 | D27: -0.35386575 | E27: -0.38642447 | F27: 0.19875855
A28: CN 108369 AGL | B28: 1 | C28: 1 | D28: -0.3505288 | E28: 0.32732292 | F28: 0.2379751
A29: ILL 9945 AGL | B29: 5 | C29: 5 | D29: -0.34703214 | E29: . | F29: .
A30: CDC Royale AGL | B30: 1 | C30: 1 | D30: -0.31730424 | E30: -0.05257284 | F30: -0.045158706
A31: PI 320954 LSP AGL | B31: 1 | C31: 1 | D31: -0.315148 | E31: -0.092357456 | F31: -0.14846927
A32: ILL 8595 AGL | B32: 1 | C32: 1 | D32: -0.2265047 | E32: . | F32: .
A33: ILL 3597 AGL | B33: 5 | C33: 5 | D33: -0.20566527 | E33: -0.15732113 | F33: 0.19956314
A34: ILL 8072 AGL | B34: 2 | C34: 2 | D34: -0.19484274 | E34: 0.086976585 | F34: 0.18329482
A35: PI 297783 AGL | B35: 3 | C35: 3 | D35: -0.18591136 | E35: -0.20361109 | F35: -0.041132714
A36: PI 299165 AGL | B36: 2 | C36: 2 | D36: -0.17877787 | E36: . | F36: .
A37: PI 420929 LSP AGL | B37: 3 | C37: 3 | D37: -0.14686453 | E37: 0.14278571 | F37: 0.22143779
A38: PI 299126 LSP AGL | B38: 1 | C38: 1 | D38: -0.13574676 | E38: -0.035525697 | F38: 0.1924032
A39: PI 431824 LSP AGL | B39: 6 | C39: 6 | D39: -0.088453537 | E39: 0.10594991 | F39: 0.21829103
A40: CDC Sedley AGL | B40: 1 | C40: 1 | D40: -0.074928877 | E40: -0.086415548 | F40: 0.081681773
A41: CDC Red Rider AGL | B41: 1 | C41: 1 | D41: -0.049090433 | E41: 0.12823651 | F41: 0.3005118
A42: PI 432212 LSP AGL | B42: 4 | C42: 4 | D42: -0.045321061 | E42: 0.1769171 | F42: 0.34980912
...

Sheet Table.2.D
A1: Leprévost et al.
A2: Comparative genomic analysis of QTL for resistance to Aphanomyces euteiches between pea, lentil, faba bean and the model species Medicago truncatula
A4: Supplementary Table 2.D : Significant GWAS-SNPs for partial resistance to the RB84 isolate of A. euteiches, identified using the MLM, along with variant effects in gene intervals.
A6: GWAS results associated with the MLM | M6: Gene annotation | Q6: Variant analysis
A7: Chromosome | B7: Traita | C7: SNPb | D7: Position (pb) | E7: P-valuec | F7: Q-valued | G7: Allele1e | H7: Size allele1f | I7: Allele2g | J7: Size allele2h | K7: SNP weighti | L7: MAFj | M7: Gene Idk | N7: Start (pb) | O7: End (pb) | P7: Protein domainl | Q7: Transcript Idm | R7: REFn | S7: ALTo | T7: Variant location on gene | U7: Nucleotide variant | V7: Amino acid variant | W7: CDNA positionp | X7: CDNA lengthq | Y7: CDS positionr | Z7: CDS lengths | AA7: AA positiont | AB7: AA lengthu
A8: 2 | B8: AGILE_Disease_Severity | C8: Lcu.2RBY.Chr2_390043467 | D8: 390043467 | E8: 2.46e-06 | F8: 0.059561907 | G8: A | H8: 105 | I8: C | J8: 499 | K8: -0.26 | L8: 0.17 | M8: - | N8: - | O8: - | P8: - | Q8: Lcu.2RBY.2g060640-Lcu.2RBY.2g060650 | R8: C | S8: A | T8: intergenic_region | U8: n.390043467C>A | V8: . | W8: -1 | X8: -1 | Y8: -1 | Z8: -1 | AA8: -1 | AB8: -1
A9: 1 | B9: AGILE_Disease_Severity | C9: Lcu.2RBY.Chr1_523488581 | D9: 523488581 | E9: 2.75e-06 | F9: 0.046083483 | G9: T | H9: 78 | I9: A | J9: 526 | K9: 0.3 | L9: 0.13 | M9: Lcu.2RBY.1g073310 | N9: 523486477 | O9: 523490593 | P9: PPM-type phosphatase domain,Protein phosphatase 2C family | Q9: Lcu.2RBY.1g073320.1,Lcu.2RBY.1g073300.1,Lcu.2RBY.1g073310.1 | R9: A | S9: T,T,T | T9: upstream_gene_variant,downstream_gene_variant,intron_variant | U9: c.-2805A>T,c.*4688A>T,c.382+52A>T | V9: .,.,. | W9: -1,-1,-1 | X9: -1,-1,-1 | Y9: -1,-1,-1 | Z9: -1,-1,-1 | AA9: -1,-1,-1 | AB9: -1,-1,-1
A10: 5 | B10: AGILE_Disease_Severity | C10: Lcu.2RBY.Chr5_474129221 | D10: 474129221 | E10: 3.03e-06 | F10: 0.012965141 | G10: T | H10: 108 | I10: C | J10: 496 | K10: -0.27 | L10: 0.18 | M10: Lcu.2RBY.5g074430 | N10: 474125913 | O10: 474131288 | P10: tRNA (adenine(58)-N(1))-methyltransferase non-catalytic subunit TRM6 | Q10: Lcu.2RBY.5g074420.1,Lcu.2RBY.5g074430.1 | R10: C | S10: T,T | T10: upstream_gene_variant,intron_variant | U10: c.-4684G>A,c.548+58G>A | V10: .,. | W10: -1,-1 | X10: -1,-1 | Y10: -1,-1 | Z10: -1,-1 | AA10: -1,-1 | AB10: -1,-1
A11: 5 | B11: AGILE_Disease_Severity | C11: Lcu.2RBY.Chr5_474232871 | D11: 474232871 | E11: 3.89e-06 | F11: 0.012965141 | G11: G | H11: 147 | I11: T | J11: 457 | K11: -0.27 | L11: 0.24 | M11: Lcu.2RBY.5g074470 | N11: 474231834 | O11: 474234565 | P11: Hexokinase, binding site,Hexokinase,Hexokinase, C-terminal,Hexokinase, N-terminal | Q11: Lcu.2RBY.5g074470.1 | R11: T | S11: G | T11: intron_variant | U11: c.927+38A>C | V11: . | W11: -1 | X11: -1 | Y11: -1 | Z11: -1 | AA11: -1 | AB11: -1
A12: 5 | B12: AGILE_Disease_Severity | C12: Lcu.2RBY.Chr5_474288094 | D12: 474288094 | E12: 4.05e-06 | F12: 0.012965141 | G12: G | H12: 113 | I12: C | J12: 491 | K12: -0.27 | L12: 0.19 | M12: Lcu.2RBY.5g074520 | N12: 474287270 | O12: 474288201 | P12: Gibberellin regulated protein | Q12: Lcu.2RBY.5g074520.1,Lcu.2RBY.5g074530.1 | R12: C | S12: G,G | T12: missense_variant,downstream_gene_variant | U12: c.9G>C,c.*3769G>C | V12: p.Met3Ile,. | W12: 108,-1 | X12: 585,-1 | Y12: 9,-1 | Z12: 348,-1 | AA12: 3,-1 | AB12: 115,-1
A13: 5 | B13: AGILE_Disease_Severity | C13: Lcu.2RBY.Chr5_474118651 | D13: 474118651 | E13: 4.08e-06 | F13: 0.012965141 | G13: T | H13: 115 | I13: A | J13: 489 | K13: -0.26 | L13: 0.19 | M13: Lcu.2RBY.5g074420 | N13: 474110843 | O13: 474124537 | P13: NB-ARC,P-loop containing nucleoside triphosphate hydrolase,Winged helix-turn-helix DNA-binding domain,Leucine-rich repeat domain, L domain-like | Q13: Lcu.2RBY.5g074420.1 | R13: A | S13: T | T13: intron_variant | U13: c.3146-248T>A | V13: . | W13: -1 | X13: -1 | Y13: -1 | Z13: -1 | AA13: -1 | AB13: -1
A14: 7 | B14: AGILE_RDL | C14: Lcu.2RBY.Chr7_519849758 | D14: 519849758 | E14: 1.02e-06 | F14: 0.0095837919 | G14: T | H14: 112 | I14: G | J14: 382 | K14: 0.11 | L14: 0.23 | M14: - | N14: - | O14: - | P14: - | Q14: Lcu.2RBY.7g073790.1,Lcu.2RBY.7g073790-Lcu.2RBY.7g073800 | R14: G | S14: T,T | T14: downstream_gene_variant,intergenic_region | U14: c.*333G>T,n.519849758G>T | V14: .,. | W14: -1,-1 | X14: -1,-1 | Y14: -1,-1 | Z14: -1,-1 | AA14: -1,-1 | AB14: -1,-1
A15: 4 | B15: AGILE_RDL | C15: Lcu.2RBY.Chr4_317995287 | D15: 317995287 | E15: 1.58e-06 | F15: 0.036472029 | G15: C | H15: 240 | I15: T | J15: 254 | K15: -0.11 | L15: 0.49 | M15: Lcu.2RBY.4g046070 | N15: 317993185 | O15: 317998028 | P15: Ribokinase-like,Carbohydrate kinase PfkB,Carbohydrate/puine kinase, PfkB, conserved site,Ribokinase/fructokinase | Q15: Lcu.2RBY.4g046070.1 | R15: T | S15: C | T15: intron_variant | U15: c.657-115T>C | V15: . | W15: -1 | X15: -1 | Y15: -1 | Z15: -1 | AA15: -1 | AB15: -1
A16: 7 | B16: AGILE_RDL | C16: Lcu.2RBY.Chr7_473560103 | D16: 473560103 | E16: 2.05e-06 | F16: 0.0095837919 | G16: C | H16: 66 | I16: T | J16: 428 | K16: -0.07 | L16: 0.13 | M16: Lcu.2RBY.7g061240 | N16: 473560096 | O16: 473565986 | P16: P-type ATPase,P-type ATPase, A domain,P-type ATPase, transmembrane domain,Cation-transporting P-type ATPase, N-terminal,P-type ATPase, subfamily IIIA,P-type ATPase, cytoplasmic domain N,HAD-like domain,P-type ATPase, phosphorylation site | Q16: Lcu.2RBY.7g061240.1 | R16: T | S16: C | T16: 5_prime_UTR_variant | U16: c.-171T>C | V16: . | W16: -1 | X16: -1 | Y16: -1 | Z16: -1 | AA16: -1 | AB16: -1
A17: 7 | B17: AGILE_RDL | C17: Lcu.2RBY.Chr7_519849801 | D17: 519849801 | E17: 2.89e-06 | F17: 0.0095837919 | G17: T | H17: 113 | I17: A | J17: 381 | K17: 0.11 | L17: 0.23 | M17: - | N17: - | O17: - | P17: - | Q17: Lcu.2RBY.7g073790.1,Lcu.2RBY.7g073790-Lcu.2RBY.7g073800 | R17: A | S17: T,T | T17: downstream_gene_variant,intergenic_region | U17: c.*376A>T,n.519849801A>T | V17: .,. | W17: -1,-1 | X17: -1,-1 | Y17: -1,-1 | Z17: -1,-1 | AA17: -1,-1 | AB17: -1,-1
A18: 7 | B18: AGILE_RDL | C18: Lcu.2RBY.Chr7_519847889 | D18: 519847889 | E18: 3.14e-06 | F18: 0.0095837919 | G18: C | H18: 114 | I18: T | J18: 380 | K18: 0.1 | L18: 0.23 | M18: Lcu.2RBY.7g073790 | N18: 519846924 | O18: 519849733 | P18: DEAD/DEAH box helicase domain,P-loop containing nucleoside triphosphate hydrolase,ATP-dependent RNA helicase DEAD-box, conserved site,Helicase superfamily 1/2, ATP-binding domain,Helicase, C-terminal,RNA helicase, DEAD-box type, Q motif | Q18: Lcu.2RBY.7g073790.1 | R18: T | S18: C | T18: intron_variant | U18: c.175+32T>C | V18: . | W18: -1 | X18: -1 | Y18: -1 | Z18: -1 | AA18: -1 | AB18: -1
A19: 7 | B19: AGILE_RDL | C19: Lcu.2RBY.Chr7_519847912 | D19: 519847912 | E19: 3.14e-06 | F19: 0.0095837919 | G19: G | H19: 114 | I19: A | J19: 380 | K19: 0.1 | L19: 0.23 | M19: Lcu.2RBY.7g073790 | N19: 519846924 | O19: 519849733 | P19: DEAD/DEAH box helicase domain,P-loop containing nucleoside triphosphate hydrolase,ATP-dependent RNA helicase DEAD-box, conserved site,Helicase superfamily 1/2, ATP-binding domain,Helicase, C-terminal,RNA helicase, DEAD-box type, Q motif | Q19: Lcu.2RBY.7g073790.1 | R19: A | S19: G | T19: intron_variant | U19: c.175+55A>G | V19: . | W19: -1 | X19: -1 | Y19: -1 | Z19: -1 | AA19: -1 | AB19: -1
A20: 4 | B20: AGILE_RDL | C20: Lcu.2RBY.Chr4_317979593 | D20: 317979593 | E20: 3.86e-06 | F20: 0.044615823 | G20: G | H20: 239 | I20: A | J20: 255 | K20: -0.1 | L20: 0.48 | M20: Lcu.2RBY.4g046060 | N20: 317977783 | O20: 317984983 | P20: Cell division protein Cdc14,Armadillo-like helical,Armadillo-type fold | Q20: Lcu.2RBY.4g046060.1 | R20: A | S20: G | T20: intron_variant | U20: c.615+104T>C | V20: . | W20: -1 | X20: -1 | Y20: -1 | Z20: -1 | AA20: -1 | AB20: -1
A21: 7 | B21: AGILE_SDL | C21: Lcu.2RBY.Chr7_515914271 | D21: 515914271 | E21: 1.56e-06 | F21: 0.011921323 | G21: A | H21: 131 | I21: C | J21: 363 | K21: -0.07 | L21: 0.27 | M21: Lcu.2RBY.7g072290 | N21: 515914011 | O21: 515919400 | P21: WRKY domain | Q21: Lcu.2RBY.7g072290.1 | R21: C | S21: A | T21: missense_variant | U21: c.1032G>T | V21: p.Met344Ile | W21: 1255 | X21: 1515 | Y21: 1032 | Z21: 1089 | AA21: 344 | AB21: 362
A22: 7 | B22: AGILE_SDL | C22: Lcu.2RBY.Chr7_515914322 | D22: 515914322 | E22: 1.56e-06 | F22: 0.011921323 | G22: A | H22: 131 | I22: G | J22: 363 | K22: -0.07 | L22: 0.27 | M22: Lcu.2RBY.7g072290 | N22: 515914011 | O22: 515919400 | P22: WRKY domain | Q22: Lcu.2RBY.7g072290.1 | R22: G | S22: A | T22: synonymous_variant | U22: c.981C>T | V22: p.Asn327Asn | W22: 1204 | X22: 1515 | Y22: 981 | Z22: 1089 | AA22: 327 | AB22: 362
A24: a Traits from which GWAS-SNPs were detected from the AGILE lentil panel. DS: Disease Severity; RDL: Root Dry Weight Loss; SDL: Shoot Dry Weight Loss. RB84 is a strain of A. euteiches belonging to the pea pathotype I.
A25: b Significant GWAS-SNPs detected using the MLM.
A26: c The p-value computed for the SNP tested. SNPs showing p-values inferior to a common threshold equal to 5.0e-06 were retained in genetic analyses.
A27: d The q-value (or adjusted p-value) computed for the SNP tested using the procedure of Benjamini and Hochberg. A FDR threshold of 5% was fixed to consider a SNP as significant. Although, Lcu.2RBY.Chr2_390043467 displayed a q-value slightly higher than 5%, the SNP was retained in genetic analyses due to its low p-value (2.46E-06).
A28: e Minor allele and its f occurrence in the AGILE lentil panel.
A29: g Major allele and its h occurrence in the AGILE lentil panel.
A30: i Contribution of the SNP to the phenotype. A positive sign indicates that the allele increasing the resistance is in major frequency whereas a negative sign means that resistance allele is in minor frequency.
A31: j Minor allele frequency (MAF) computed for each GWAS-SNP from the filtered genotyping dataset (140,007 SNPs).
A32: k Gene including significant GWAS-SNP(s). "-" : Variants located oustide of gene intervals obtained from the structural annotation.
A33: l Protein domain annotated from CDS using TRAPID with default parameters (http://bioinformatics.psb.ugent.be/trapid_02/). Reference database: PLAZA 4.5 dicots.
A34: m Identification of the transcript including significant GWAS-SNP(s).
A35: n Reference allele obtained from the RedBerry lentil genome V2.
... A39: t Position and u number of amino acids.

Sheet Table.2.E
A1: Leprévost et al.
A2: Comparative genomic analysis of QTL for resistance to Aphanomyces euteiches between pea, lentil, faba bean and the model species Medicago truncatula
A4: Supplementary Table 2.E : Markers and haplotypes within the identified LD blocks, including the most significant SNPs at GWAS peaks.
B7: Legend:
C9: LD block
C10: Significant GWAS-SNP containing an alternative allele predicted to cause a non -synonymous change in the protein sequence
C11: Favorable haplotypes at significant GWAS-SNPs (in bold)
I14: LD block: Ae-Lc1.1f
I15: Size: 23 SNPs
I16: Number of significant GWAS-SNP: 1
I17: Physical interval: 43,192 pb
B18: QTL clustera | C18: Chromosome | D18: Position (pb) | E18: Peak GWAS-SNPb | F18: Variablec | G18: p-valued | H18: R2 e | I18: Lcu.2RBY.Chr1_523486933 | J18: Lcu.2RBY.Chr1_523486941 | K18: Lcu.2RBY.Chr1_523486987 | L18: Lcu.2RBY.Chr1_523487419 | M18: Lcu.2RBY.Chr1_523487516 | N18: Lcu.2RBY.Chr1_523488209 | O18: Lcu.2RBY.Chr1_523488581 | P18: Lcu.2RBY.Chr1_523489614 | Q18: Lcu.2RBY.Chr1_523490166 | R18: Lcu.2RBY.Chr1_523490206 | S18: Lcu.2RBY.Chr1_523490270 | T18: Lcu.2RBY.Chr1_523490316 | U18: Lcu.2RBY.Chr1_523490432 | V18: Lcu.2RBY.Chr1_523491365 | W18: Lcu.2RBY.Chr1_523491397 | X18: Lcu.2RBY.Chr1_523492358 | Y18: Lcu.2RBY.Chr1_523492375 | Z18: Lcu.2RBY.Chr1_523522409 | AA18: Lcu.2RBY.Chr1_523522433 | AB18: Lcu.2RBY.Chr1_523523164 | AC18: Lcu.2RBY.Chr1_523529007 | AD18: Lcu.2RBY.Chr1_523529388 | AE18: Lcu.2RBY.Chr1_523530125 | AF18: Percentage of linesg | AG18: Number of linesh | AH18: Haplotype IDi | AI18: Haplotype EMMean valuesj
B19: - | C19: 1 | D19: 523488581 | E19: Lcu.2RBY.Chr1_523488581 | F19: AGILE_DS_RB84 | G19: 2.7542125e-06 | H19: 0.1661667 | I19: GG | J19: AA | K19: CC | L19: GG | M19: TT | N19: TT | O19: AA | P19: AA | Q19: CC | R19: GG | S19: TT | T19: TT | U19: TT | V19: TT | W19: TT | X19: TT | Y19: TT | Z19: AA | AA19: GG | AB19: GG | AC19: GG | AD19: GG | AE19: TT | AF19: 26.490066 | AG19: 80 | AH19: A | AI19: 0.98 ± 0.1 a
I20: GG | J20: AA | K20: CC | L20: GG | M20: TT | N20: GG | O20: AA | P20: AA | Q20: TT | R20: AA | S20: TT | T20: TT | U20: TT | V20: TT | W20: TT | X20: AA | Y20: AA | Z20: AA | AA20: GG | AB20: AA | AC20: GG | AD20: GG | AE20: CC | AF20: 13.245033 | AG20: 40 | AH20: B | AI20: 0.6 ± 0.14 a
I21: AA | J21: GG | K21: TT | L21: TT | M21: TT | N21: TT | O21: AA | P21: AA | Q21: TT | R21: AA | S21: AA | T21: AA | U21: TT | V21: CC | W21: CC | X21: AA | Y21: TT | Z21: AA | AA21: GG | AB21: AA | AC21: GG | AD21: GG | AE21: TT | AF21: 12.582781 | AG21: 38 | AH21: C | AI21: 1.47 ± 0.14 bc
I22: GG | J22: GG | K22: CC | L22: GG | M22: TT | N22: TT | O22: TT | P22: AA | Q22: TT | R22: AA | S22: TT | T22: TT | U22: CC | V22: TT | W22: TT | X22: TT | Y22: TT | Z22: AA | AA22: GG | AB22: AA | AC22: GG | AD22: GG | AE22: CC | AF22: 8.2781457 | AG22: 25 | AH22: D | AI22: 1.86 ± 0.17 c
AA23: Rare haplotype : | AF23: 11.258278 | AG23: 34 | AH23: R | AI23: 0.95 ± 0.15 ab
AA24: Heterozygous haplotype : | AF24: 28.145695 | AG24: 85
AA25: Total : | AF25: 100 | AG25: 302
I29: LD block: Ae-Lc2.1f
I30: Size: 15 SNPs
I31: Number of significant GWAS-SNP: 1
I32: Physical interval: 147,341 pb
B33: QTL clustera | C33: Chromosome | D33: Position (pb) | E33: Peak GWAS-SNPb | F33: Variablec | G33: p-valued | H33: R2 e | I33: Lcu.2RBY.Chr2_389924963 | J33: Lcu.2RBY.Chr2_389925253 | K33: Lcu.2RBY.Chr2_390026220 | L33: Lcu.2RBY.Chr2_390029610 | M33: Lcu.2RBY.Chr2_390030610 | N33: Lcu.2RBY.Chr2_390031796 | O33: Lcu.2RBY.Chr2_390032540 | P33: Lcu.2RBY.Chr2_390043467 | Q33: Lcu.2RBY.Chr2_390060302 | R33: Lcu.2RBY.Chr2_390066401 | S33: Lcu.2RBY.Chr2_390067168 | T33: Lcu.2RBY.Chr2_390067579 | U33: Lcu.2RBY.Chr2_390071860 | V33: Lcu.2RBY.Chr2_390072182 | W33: Lcu.2RBY.Chr2_390072304 | X33: Percentage of linesg | Y33: Number of linesh | Z33: Haplotype IDi | AA33: Haplotype EMMean valuesj
B34: - | C34: 2 | D34: 390043467 | E34: Lcu.2RBY.Chr2_390043467 | F34: AGILE_DS_RB84 | G34: 2.458087e-06 | H34: 0.11682561 | I34: GG | J34: GG | K34: TT | L34: TT | M34: AA | N34: AA | O34: TT | P34: CC | Q34: AA | R34: CC | S34: TT | T34: TT | U34: AA | V34: AA | W34: AA | X34: 43.708609 | Y34: 132 | Z34: A | AA34: 1.39 ± 0.08 b
I35: GG | J35: GG | K35: TT | L35: TT | M35: AA | N35: AA | O35: TT | P35: CC | Q35: AA | R35: TT | S35: CC | T35: TT | U35: AA | V35: TT | W35: AA | X35: 13.907285 | Y35: 42 | Z35: B | AA35: 1.09 ± 0.14 ab
I36: TT | J36: TT | K36: CC | L36: AA | M36: GG | N36: CC | O36: CC | P36: CC | Q36: AA | R36: TT | S36: CC | T36: TT | U36: GG | V36: AA | W36: GG | X36: 11.589404 | Y36: 35 | Z36: C | AA36: 1.51 ± 0.15 b
I37: TT | J37: TT | K37: CC | L37: AA | M37: GG | N37: CC | O37: CC | P37: AA | Q37: AA | R37: TT | S37: CC | T37: GG | U37: GG | V37: AA | W37: GG | X37: 8.9403974 | Y37: 27 | Z37: D | AA37: 0.59 ± 0.17 a
S38: Rare haplotype : | X38: 9.2715232 | Y38: 28 | Z38: R | AA38: 0.63 ± 0.17 a
S39: Heterozygous haplotype : | X39: 12.582781 | Y39: 38
S40: Total : | X40: 100 | Y40: 302
I43: LD block: Ae-Lc4.1f
I44: Size: 16 SNPs
I45: Number of significant GWAS-SNP: 2
I46: Physical interval: 18,799 pb
B47: QTL clustera | C47: Chromosome | D47: Position (pb) | E47: Peak GWAS-SNPb | F47: Variablec | G47: p-valued | H47: R2 e | I47: Lcu.2RBY.Chr4_317977994 | J47: Lcu.2RBY.Chr4_317978140 | K47: Lcu.2RBY.Chr4_317978209 | L47: Lcu.2RBY.Chr4_317978264 | M47: Lcu.2RBY.Chr4_317978592 | N47: Lcu.2RBY.Chr4_317979593 | O47: Lcu.2RBY.Chr4_317979902 | P47: Lcu.2RBY.Chr4_317984168 | Q47: Lcu.2RBY.Chr4_317993731 | R47: Lcu.2RBY.Chr4_317994793 | S47: Lcu.2RBY.Chr4_317994826 | T47: Lcu.2RBY.Chr4_317995094 | U47: Lcu.2RBY.Chr4_317995287 | V47: Lcu.2RBY.Chr4_317995307 | W47: Lcu.2RBY.Chr4_317996733 | X47: Lcu.2RBY.Chr4_317996793 | Y47: Percentage of linesg | Z47: Number of linesh | AA47: Haplotype IDi | AB47: Haplotype EMMean valuesj
B48: - | C48: 4 | D48: 317995287 | E48: Lcu.2RBY.Chr4_317995287 | F48: AGILE_RDL_RB84 | G48: 1.5783291e-06 | H48: 0.028334077 | I48: TT | J48: GG | K48: TT | L48: TT | M48: CC | N48: GG | O48: AA | P48: CC | Q48: TT | R48: AA | S48: GG | T48: AA | U48: CC | V48: TT | W48: GG | X48: CC | Y48: 44.370861 | Z48: 134 | AA48: A | AB48: -0.04 ± 0.02 a
I49: CC | J49: AA | K49: CC | L49: TT | M49: TT | N49: AA | O49: AA | P49: AA | Q49: TT | R49: AA | S49: TT | T49: GG | U49: TT | V49: CC | W49: CC | X49: AA | Y49: 23.509934 | Z49: 71 | AA49: B | AB49: 0.04 ± 0.03 a
I50: TT | J50: AA | K50: CC | L50: TT | M50: TT | N50: AA | O50: AA | P50: CC | Q50: TT | R50: CC | S50: GG | T50: AA | U50: TT | V50: TT | W50: GG | X50: CC | Y50: 16.556291 | Z50: 50 | AA50: C | AB50: 0.03 ± 0.03 a
I51: TT | J51: GG | K51: TT | L51: CC | M51: CC | N51: AA | O51: GG | P51: CC | Q51: CC | R51: AA | S51: TT | T51: GG | U51: TT | V51: TT | W51: CC | X51: CC | Y51: 12.582781 | Z51: 38 | AA51: D | AB51: 0.02 ± 0.04 a
...

Sheet Table.2.F
A1: Leprévost et al.
A2: Comparative genomic analysis of QTL for resistance to Aphanomyces euteiches between pea, lentil, faba bean and the model species Medicago truncatula
A4: Supplementary Table 2.F : Description of the favorable haplotypes, within resistance LD blocks, carried by each lentil accession from the AGILE panel.
B7: Haplotypea | D7: Number of favorable partial resistance haplotypes | E7: EMMean valuesb
A8: Genotype | B8: Ae-Lc1.1 | C8: Ae-Lc2.1 | E8: AGILE_DS_RB84 | F8: AGILE_RDL_RB84 | G8: AGILE_SDL_RB84
A9: PI 508090 AGL | B9: B | C9: D | D9: =COUNTIF(B9,"A")+COUNTIF(B9,"B")+COUNTIF(C9,"D") -> 2 | E9: -0.35386575 | F9: -0.38642447 | G9: 0.19875855
A10: CN 108369 AGL | B10: B | C10: D | D10: =COUNTIF(B10,"A")+COUNTIF(B10,"B")+COUNTIF(C10,"D") -> 2 | E10: -0.3505288 | F10: 0.32732292 | G10: 0.2379751
A11: CDC Royale AGL | B11: B | C11: D | D11: =COUNTIF(B11,"A")+COUNTIF(B11,"B")+COUNTIF(C11,"D") -> 2 | E11: -0.31730424 | F11: -0.05257284 | G11: -0.045158706
A12: ILL 8595 AGL | B12: B | C12: D | D12: =COUNTIF(B12,"A")+COUNTIF(B12,"B")+COUNTIF(C12,"D") -> 2 | E12: -0.2265047 | F12: . | G12: .
A13: ILL 8072 AGL | B13: A | C13: D | D13: =COUNTIF(B13,"A")+COUNTIF(B13,"B")+COUNTIF(C13,"D") -> 2 | E13: -0.19484274 | F13: 0.086976585 | G13: 0.18329482
A14: ILL 5480 AGL | B14: B | C14: D | D14: =COUNTIF(B14,"A")+COUNTIF(B14,"B")+COUNTIF(C14,"D") -> 2 | E14: -0.043931121 | F14: -0.24866754 | G14: 0.090915716
A15: PI 297287 AGL | B15: A | C15: D | D15: =COUNTIF(B15,"A")+COUNTIF(B15,"B")+COUNTIF(C15,"D") -> 2 | E15: 0.070279685 | F15: -0.24687177 | G15: -0.20424758
A16: CDC Greenstar AGL | B16: A | C16: D | D16: =COUNTIF(B16,"A")+COUNTIF(B16,"B")+COUNTIF(C16,"D") -> 2 | E16: 0.25021812 | F16: -0.043920304 | G16: 0.048574776
A17: CDC Glamis AGL | B17: A | C17: D | D17: =COUNTIF(B17,"A")+COUNTIF(B17,"B")+COUNTIF(C17,"D") -> 2 | E17: 0.3200504 | F17: 0.26229139 | G17: 0.35378771
A18: ILL 4783 AGL | B18: A | C18: D | D18: =COUNTIF(B18,"A")+COUNTIF(B18,"B")+COUNTIF(C18,"D") -> 2 | E18: 0.41184327 | F18: 0.0529667 | G18: 0.076046475
A19: PI 298122 LSP AGL | B19: A | C19: D | D19: =COUNTIF(B19,"A")+COUNTIF(B19,"B")+COUNTIF(C19,"D") -> 2 | E19: 0.41198864 | F19: . | G19: .
A20: PI 345627 LSP AGL | B20: B | C20: D | D20: =COUNTIF(B20,"A")+COUNTIF(B20,"B")+COUNTIF(C20,"D") -> 2 | E20: 0.48014689 | F20: 0.22142335 | G20: -0.24201611
A21: PI 490288 LSP AGL | B21: A | C21: D | D21: =COUNTIF(B21,"A")+COUNTIF(B21,"B")+COUNTIF(C21,"D") -> 2 | E21: 0.77905469 | F21: 0.15499932 | G21: 0.36299678
A22: Laird AGL | B22: A | C22: D | D22: =COUNTIF(B22,"A")+COUNTIF(B22,"B")+COUNTIF(C22,"D") -> 2 | E22: 0.93578478 | F22: 0.15841168 | G22: 0.25446746
A23: CDC LeMay AGL | B23: B | C23: D | D23: =COUNTIF(B23,"A")+COUNTIF(B23,"B")+COUNTIF(C23,"D") -> 2 | E23: 1.362356 | F23: . | G23: .
A24: PI 289079 LSP AGL | B24: A | C24: D | D24: =COUNTIF(B24,"A")+COUNTIF(B24,"B")+COUNTIF(C24,"D") -> 2 | E24: 1.7945367 | F24: -0.22193922 | G24: 0.29887099
A25: CDC Redwing AGL | B25: A | C25: D | D25: =COUNTIF(B25,"A")+COUNTIF(B25,"B")+COUNTIF(C25,"D") -> 2 | E25: 2.048943 | F25: . | G25: .
A26: PI 238758 LSP AGL | B26: B | C26: D | D26: =COUNTIF(B26,"A")+COUNTIF(B26,"B")+COUNTIF(C26,"D") -> 2 | E26: 2.0595236 | F26: -0.062065609 | G26: 0.10368188
A27: CDC Asterix AGL | B27: B | C27: - | D27: =COUNTIF(B27,"A")+COUNTIF(B27,"B")+COUNTIF(C27,"D") -> 1 | E27: -1.2678059 | F27: 0.099687765 | G27: 0.1112129
A28: PI 289073 LSP AGL | B28: R | C28: D | D28: =COUNTIF(B28,"A")+COUNTIF(B28,"B")+COUNTIF(C28,"D") -> 1 | E28: -0.63002359 | F28: -0.27059681 | G28: -0.2320535
A29: ILL 9 AGL | B29: A | C29: B | D29: =COUNTIF(B29,"A")+COUNTIF(B29,"B")+COUNTIF(C29,"D") -> 1 | E29: -0.62530546 | F29: -0.047698456 | G29: 0.1096777
A30: ILL 8174 AGL | B30: B | C30: - | D30: =COUNTIF(B30,"A")+COUNTIF(B30,"B")+COUNTIF(C30,"D") -> 1 | E30: -0.52999367 | F30: -0.08853229 | G30: 0.084870511
A31: PI 289066 AGL | B31: B | C31: R | D31: =COUNTIF(B31,"A")+COUNTIF(B31,"B")+COUNTIF(C31,"D") -> 1 | E31: -0.4499577 | F31: 0.020569726 | G31: 0.16569891
A32: ILL 10657 AGL | B32: A | C32: B | D32: =COUNTIF(B32,"A")+COUNTIF(B32,"B")+COUNTIF(C32,"D") -> 1 | E32: -0.44443216 | F32: -0.01005033 | G32: 0.18968367
A33: PI 320945 LSP AGL | B33: B | C33: R | D33: =COUNTIF(B33,"A")+COUNTIF(B33,"B")+COUNTIF(C33,"D") -> 1 | E33: -0.4012193 | F33: 0.34535408 | G33: 0.39219229
A34: PI 374116 LSP AGL | B34: B | C34: - | D34: =COUNTIF(B34,"A")+COUNTIF(B34,"B")+COUNTIF(C34,"D") -> 1 | E34: -0.39379197 | F34: -0.10606628 | G34: 0.29285585
A35: CDC KR-1 AGL | B35: A | C35: B | D35: =COUNTIF(B35,"A")+COUNTIF(B35,"B")+COUNTIF(C35,"D") -> 1 | E35: -0.38051836 | F35: -0.039754648 | G35: 0.25317491
A36: PI 297783 AGL | B36: B | C36: R | D36: =COUNTIF(B36,"A")+COUNTIF(B36,"B")+COUNTIF(C36,"D") -> 1 | E36: -0.18591136 | F36: -0.20361109 | G36: -0.041132714
A37: PI 299165 AGL | B37: A | C37: B | D37: =COUNTIF(B37,"A")+COUNTIF(B37,"B")+COUNTIF(C37,"D") -> 1 | E37: -0.17877787 | F37: . | G37: .
A38: PI 420929 LSP AGL | B38: A | C38: - | D38: =COUNTIF(B38,"A")+COUNTIF(B38,"B")+COUNTIF(C38,"D") -> 1 | E38: -0.14686453 | F38: 0.14278571 | G38: 0.22143779
A39: PI 299126 LSP AGL | B39: B | C39: R | D39: =COUNTIF(B39,"A")+COUNTIF(B39,"B")+COUNTIF(C39,"D") -> 1 | E39: -0.13574676 | F39: -0.035525697 | G39: 0.1924032
A40: CDC Sedley AGL | B40: A | C40: - | D40: =COUNTIF(B40,"A")+COUNTIF(B40,"B")+COUNTIF(C40,"D") -> 1 | E40: -0.074928877 | F40: -0.086415548 | G40: 0.081681773
A41: CDC Red Rider AGL | B41: A | C41: C | D41: =COUNTIF(B41,"A")+COUNTIF(B41,"B")+COUNTIF(C41,"D") -> 1 | E41: -0.049090433 | F41: 0.12823651 | G41: 0.3005118
A42: PI 299163 LSP AGL | B42: B | C42: B | D42: =COUNTIF(B42,"A")+COUNTIF(B42,"B")+COUNTIF(C42,"D") -> 1 | E42: 0.056727927 | F42: . | G42: .
A43: CDC Gold AGL | B43: R | C43: D | D43: =COUNTIF(B43,"A")+COUNTIF(B43,"B")+COUNTIF(C43,"D") -> 1 | E43: 0.061736661 | F43: -0.031046674 | G43: 0.11942611
...

Sheet Table.2.G
A1: Leprévost et al.
A2: Comparative genomic analysis of QTL for resistance to Aphanomyces euteiches between pea, lentil, faba bean and the model species Medicago truncatula
A4: Supplementary Table 2.G : Genes encompassed within each resistance LD block.
B7: LD block: Ae-Lc1.1a
B8: Gene IDb | C8: Chromosomec | D8: Start (pb)d | E8: End (pb)e | F8: Number of variantf | G8: Annotationg
B9: Lcu.2RBY.1g073310 | C9: chr1 | D9: 523486477 | E9: 523490593 | F9: =COUNTIF(Table.2.D!$M$8:$M$22,Table.2.G!B9) -> 1 | G9: PPM-type phosphatase domain,Protein phosphatase 2C family
B10: Lcu.2RBY.1g073320 | C10: chr1 | D10: 523491386 | E10: 523501741 | F10: =COUNTIF(Table.2.D!$M$8:$M$22,Table.2.G!B10) -> 0 | G10: Protein kinase, ATP binding site,Protein kinase-like domain,Serine/threonine-protein kinase, active site,Protein kinase domain
B11: Lcu.2RBY.1g073330 | C11: chr1 | D11: 523522333 | E11: 523530009 | F11: =COUNTIF(Table.2.D!$M$8:$M$22,Table.2.G!B11) -> 0 | G11: Protein kinase, ATP binding site,Protein kinase-like domain,Serine/threonine-protein kinase, active site,Protein kinase domain
B13: LD block: Ae-Lc2.1a
B14: Gene IDb | C14: Chromosomec | D14: Start (pb)d | E14: End (pb)e | F14: Number of variantf | G14: Annotationg
B15: Lcu.2RBY.2g060620 | C15: chr2 | D15: 389924616 | E15: 389928662 | F15: =COUNTIF(Table.2.D!$M$8:$M$22,Table.2.G!B15) -> 0 | G15: Ribosomal protein S5 domain 2-type fold,GHMP kinase, C-terminal domain,Ribosomal protein S5 domain 2-type fold, subgroup,GHMP kinase N-terminal domain
B16: Lcu.2RBY.2g060630 | C16: chr2 | D16: 389929307 | E16: 389931651 | F16: =COUNTIF(Table.2.D!$M$8:$M$22,Table.2.G!B16) -> 0 | G16: Unknown
B17: Lcu.2RBY.2g060640 | C17: chr2 | D17: 390027818 | E17: 390033525 | F17: =COUNTIF(Table.2.D!$M$8:$M$22,Table.2.G!B17) -> 0 | G17: Pseudouridine synthase, catalytic domain,tRNA pseudouridine synthase II, TruB,tRNA pseudouridylate synthase B, C-terminal,Pseudouridine synthase II, N-terminal
B18: Lcu.2RBY.2g060650 | C18: chr2 | D18: 390066163 | E18: 390067972 | F18: =COUNTIF(Table.2.D!$M$8:$M$22,Table.2.G!B18) -> 0 | G18: Class I glutamine amidotransferase-like,Glutamine amidotransferase,Peptidase C26
B19: Lcu.2RBY.2g060660 | C19: chr2 | D19: 390071683 | E19: 390072645 | F19: =COUNTIF(Table.2.D!$M$8:$M$22,Table.2.G!B19) -> 0 | G19: Non-specific lipid-transfer protein type 2,Bifunctional inhibitor/plant lipid transfer protein/seed storage helical domain
B21: a Name of the LD block comprising the most significant GWAS-SNP at each GWAS peak detected using the MLM. Only LD block showing a marginal global explanatory capacities (R2) > 5% are presented.
B22: b Genes entirely or partially located within the LD block. Gene including the most significant GWAS-SNP for each GWAS peak is presented in bold. For the LD block "AGILE.Chr2_390043467", the GWAS-SNP peak was located outside annotated genes.
B23: c Chromosome, d start postion, and e end position associated with each gene on the second version of the RedBerry lentil genome.
B24: f Number of significant GWAS-SNP(s) detected in MLM, and included in the gene interval.
B25: g Protein domain annotated from CDS using TRAPID with default parameters (http://bioinformatics.psb.ugent.be/trapid_02/). Reference database: PLAZA 4.5 dicots.
