Workbook

Sheet Table.2.A
A1: Leprévost et al.
A2: Comparative genomic analysis of QTL for resistance to Aphanomyces euteiches between pea, lentil, faba bean and the model species Medicago truncatula
A4: Supplementary Table 2.A : Description of the 321 lentil accessions composing the AGILE panel.
A6: Genotype | B6: Accession codea | C6: Country of originb | D6: Continent of origin | E6: Species | F6: Cultivation status | G6: Previously studied in Ma et al. (2020)c
A7: 3156-11 AGL | B7: KP:GERM28819 | C7: CANADA | D7: AMERICAS | E7: Lens culinaris | F7: Research/Breeding line | G7: No
A8: CDC Asterix AGL | B8: KP:GERM28820 | C8: CANADA | D8: AMERICAS | E8: Lens culinaris | F8: Cultivar | G8: No
A9: CDC Cherie AGL | B9: KP:GERM28821 | C9: CANADA | D9: AMERICAS | E9: Lens culinaris | F9: Cultivar | G9: No
A10: CDC Glamis AGL | B10: KP:GERM28822 | C10: CANADA | D10: AMERICAS | E10: Lens culinaris | F10: Cultivar | G10: No
A11: CDC Gold AGL | B11: KP:GERM28823 | C11: CANADA | D11: AMERICAS | E11: Lens culinaris | F11: Cultivar | G11: No
A12: CDC Greenstar AGL | B12: KP:GERM28824 | C12: CANADA | D12: AMERICAS | E12: Lens culinaris | F12: Cultivar | G12: No
A13: CDC KR-1 AGL | B13: KP:GERM28827 | C13: CANADA | D13: AMERICAS | E13: Lens culinaris | F13: Cultivar | G13: No
A14: CDC LeMay AGL | B14: KP:GERM28828 | C14: CANADA | D14: AMERICAS | E14: Lens culinaris | F14: Cultivar | G14: No
A15: CDC QG-1 AGL | B15: KP:GERM28830 | C15: CANADA | D15: AMERICAS | E15: Lens culinaris | F15: Cultivar | G15: No
A16: CDC Red Rider AGL | B16: KP:GERM28832 | C16: CANADA | D16: AMERICAS | E16: Lens culinaris | F16: Cultivar | G16: No
A17: CDC Redcoat AGL | B17: KP:GERM28831 | C17: CANADA | D17: AMERICAS | E17: Lens culinaris | F17: Cultivar | G17: No
... A327: W6 27767 LSP AGL | B327: KP:GERM29141 | C327: USDA | D327: Unknown | E327: Lens culinaris | F327: Research/Breeding line | G327: Yes
A329: a Accession code information is available at: https://knowpulse.usask.ca/germplasm-collection/AGILE%20LDP.
A330: b Origin genebanks (ICARDA and USDA) were attributed when the country of origin was unknown.
A331: c Lines previously evaluated by Ma et al. (2020) for partial resistance to the Ae-16-04D isolate belonging to pea pathotype I of A. euteiches.

Sheet Table.2.B
A1: Leprévost et al.
A2: Comparative genomic analysis of QTL for resistance to Aphanomyces euteiches between pea, lentil, faba bean and the model species Medicago truncatula
A4: Supplementary Table 2.B : Raw phenotypic data assessed for partial resistance to A. euteiches in the AGILE panel.
C6: Raw phenotypic dataa
A7: Genotype | B7: Replicate | C7: AGILE_DS_RB84 | D7: AGILE_RDL_RB84 | E7: AGILE_SDL_RB84
A8: 3156-11 AGL | B8: Rep1 | C8: 4.5 | D8: 0.23404255 | E8: 0.008264463
A9: 3156-11 AGL | B9: Rep2 | C9: 5 | D9: . | E9: .
A10: 3156-11 AGL | B10: Rep3 | C10: 4 | D10: . | E10: .
A11: 3156-11 AGL | B11: Rep4 | C11: 3.5 | D11: 0.44897959 | E11: 0.12790698
A12: 3156-11 AGL | B12: Rep5 | C12: 4.5 | D12: 0.051724138 | E12: 0.35526316
A13: 3156-11 AGL | B13: Rep6 | C13: 4 | D13: -1.1081081 | E13: -0.87755102
A14: 3156-11 AGL | B14: Rep7 | C14: 2.5 | D14: . | E14: .
A15: 3156-11 AGL | B15: Rep8 | C15: 4.5 | D15: . | E15: .
A16: 3156-11 AGL | B16: Rep9 | C16: . | D16: . | E16: .
A17: 3156-11 AGL | B17: Rep10 | C17: . | D17: . | E17: .
A18: CDC Asterix AGL | B18: Rep1 | C18: 0.5 | D18: 0.10569106 | E18: 0.28254438
A19: CDC Asterix AGL | B19: Rep2 | C19: 2 | D19: 0.3 | E19: 0.36231884
A20: CDC Asterix AGL | B20: Rep3 | C20: 3 | D20: 0.76811594 | E20: 0.56842105
A21: CDC Asterix AGL | B21: Rep4 | C21: 3 | D21: -0.21052632 | E21: -0.69014084
A22: CDC Asterix AGL | B22: Rep5 | C22: 1.5 | D22: . | E22: .
A23: CDC Asterix AGL | B23: Rep6 | C23: 1 | D23: -0.051724138 | E23: 0.21238938
A24: CDC Asterix AGL | B24: Rep7 | C24: 2 | D24: . | E24: .
A25: CDC Asterix AGL | B25: Rep8 | C25: 1.5 | D25: . | E25: .
A26: CDC Asterix AGL | B26: Rep9 | C26: 2.5 | D26: -0.43333333 | E26: -0.078125
A27: CDC Asterix AGL | B27: Rep10 | C27: 2 | D27: 0.15277778 | E27: 0.11764706
A28: CDC Cherie AGL | B28: Rep1 | C28: 4 | D28: 0.37777778 | E28: 0.24657534
A29: CDC Cherie AGL | B29: Rep2 | C29: 4.5 | D29: 0.53125 | E29: 0.41176471
A30: CDC Cherie AGL | B30: Rep3 | C30: 4 | D30: -0.052631579 | E30: -0.45454545
A31: CDC Cherie AGL | B31: Rep4 | C31: 2.5 | D31: -0.071428571 | E31: 0.39669422
A32: CDC Cherie AGL | B32: Rep5 | C32: 3 | D32: 0.39784946 | E32: 0.47169811
A33: CDC Cherie AGL | B33: Rep6 | C33: 2 | D33: -0.55172414 | E33: 0.22
A34: CDC Cherie AGL | B34: Rep7 | C34: 3.5 | D34: 0.375 | E34: 0.31818182
A35: CDC Cherie AGL | B35: Rep8 | C35: 4 | D35: . | E35: .
A36: CDC Cherie AGL | B36: Rep9 | C36: 3 | D36: -1.16 | E36: -0.21111111
A37: CDC Cherie AGL | B37: Rep10 | C37: 3 | D37: 0.036144578 | E37: 0.12359551
A38: CDC Glamis AGL | B38: Rep1 | C38: 3 | D38: . | E38: .
A39: CDC Glamis AGL | B39: Rep2 | C39: 3 | D39: 0.2 | E39: 0.42168675
A40: CDC Glamis AGL | B40: Rep3 | C40: 2.5 | D40: 0.038834951 | E40: 0.56462585
A41: CDC Glamis AGL | B41: Rep4 | C41: 2 | D41: 0.62184874 | E41: 0.47142857
A42: CDC Glamis AGL | B42: Rep5 | C42: 3 | D42: 0.45454545 | E42: 0
A43: CDC Glamis AGL | B43: Rep6 | C43: 3 | D43: . | E43: .
A44: CDC Glamis AGL | B44: Rep7 | C44: 4.5 | D44: . | E44: .
A45: CDC Glamis AGL | B45: Rep8 | C45: 1 | D45: 0.2173913 | E45: 0.43378995
A46: CDC Glamis AGL | B46: Rep9 | C46: 3.5 | D46: -0.17283951 | E46: 0.21686747
A47: CDC Glamis AGL | B47: Rep10 | C47: 3 | D47: . | E47: .
A48: CDC Gold AGL | B48: Rep1 | C48: 1.5 | D48: . | E48: .
A49: CDC Gold AGL | B49: Rep2 | C49: 4 | D49: -0.10344828 | E49: 0.043478261
A50: CDC Gold AGL | B50: Rep3 | C50: 3 | D50: -0.91891892 | E50: -0.26
A51: CDC Gold AGL | B51: Rep4 | C51: 3 | D51: 0.38271605 | E51: 0.46
A52: CDC Gold AGL | B52: Rep5 | C52: 3 | D52: -0.033333333 | E52: -0.078947368
A53: CDC Gold AGL | B53: Rep6 | C53: 0.5 | D53: 0.82733813 | E53: 0.66875
A54: CDC Gold AGL | B54: Rep7 | C54: 3 | D54: . | E54: .
A55: CDC Gold AGL | B55: Rep8 | C55: 1 | D55: -0.19148936 | E55: 0.35820895
A56: CDC Gold AGL | B56: Rep9 | C56: 4 | D56: 0.084615385 | E56: 0.15384615
A57: CDC Gold AGL | B57: Rep10 | C57: 2.5 | D57: -0.57142857 | E57: -0.44067797
A58: CDC Greenstar AGL | B58: Rep1 | C58: 3 | D58: -0.35440181 | E58: -0.44866385
A59: CDC Greenstar AGL | B59: Rep2 | C59: 3.5 | D59: . | E59: .
A60: CDC Greenstar AGL | B60: Rep3 | C60: 3 | D60: 0.11392405 | E60: 0.13333333
A61: CDC Greenstar AGL | B61: Rep4 | C61: 3 | D61: 0.36708861 | E61: 0.50461539
A62: CDC Greenstar AGL | B62: Rep5 | C62: 2.5 | D62: -0.086538462 | E62: 0.18243243
A63: CDC Greenstar AGL | B63: Rep6 | C63: 3.5 | D63: -0.19387755 | E63: 0.032894737
A64: CDC Greenstar AGL | B64: Rep7 | C64: 2.5 | D64: . | E64: .
A65: CDC Greenstar AGL | B65: Rep8 | C65: 2.5 | D65: . | E65: .
A66: CDC Greenstar AGL | B66: Rep9 | C66: 3 | D66: -0.33802817 | E66: -0.031390135
A67: CDC Greenstar AGL | B67: Rep10 | C67: 2 | D67: . | E67: .
A68: CDC KR-1 AGL | B68: Rep1 | C68: 3.5 | D68: -0.35820895 | E68: 0.39455782
A69: CDC KR-1 AGL | B69: Rep2 | C69: 2.5 | D69: -0.203125 | E69: 0.10067114
A70: CDC KR-1 AGL | B70: Rep3 | C70: 3 | D70: -0.2 | E70: -0.30434783
A71: CDC KR-1 AGL | B71: Rep4 | C71: 3 | D71: 0.61206897 | E71: 0.5
A72: CDC KR-1 AGL | B72: Rep5 | C72: 1 | D72: . | E72: .
A73: CDC KR-1 AGL | B73: Rep6 | C73: 2.5 | D73: -0.5 | E73: -0.075757576
A74: CDC KR-1 AGL | B74: Rep7 | C74: 3 | D74: 0.55395684 | E74: 0.54545455
A75: CDC KR-1 AGL | B75: Rep8 | C75: 1 | D75: -0.37931034 | E75: 0.14018692
A76: CDC KR-1 AGL | B76: Rep9 | C76: 3 | D76: 0.037037037 | E76: 0.69072165
A77: CDC KR-1 AGL | B77: Rep10 | C77: 1 | D77: . | E77: .
A78: CDC LeMay AGL | B78: Rep1 | C78: 4 | D78: . | E78: .
A79: CDC LeMay AGL | B79: Rep2 | C79: 5 | D79: 0.68 | E79: 0.47540984
A80: CDC LeMay AGL | B80: Rep3 | C80: 3 | D80: . | E80: .
A81: CDC LeMay AGL | B81: Rep4 | C81: 1 | D81: 0.13333333 | E81: 0.31111111
A82: CDC LeMay AGL | B82: Rep5 | C82: 4 | D82: . | E82: .
A83: CDC LeMay AGL | B83: Rep6 | C83: 1 | D83: . | E83: .
A84: CDC LeMay AGL | B84: Rep7 | C84: 4 | D84: . | E84: .
A85: CDC LeMay AGL | B85: Rep8 | C85: 4 | D85: . | E85: .
A86: CDC LeMay AGL | B86: Rep9 | C86: 3 | D86: . | E86: .
A87: CDC LeMay AGL | B87: Rep10 | C87: 0.5 | D87: 0.54368932 | E87: 0.42372881
A88: CDC QG-1 AGL | B88: Rep1 | C88: 4.5 | D88: . | E88: .
A89: CDC QG-1 AGL | B89: Rep2 | C89: 3 | D89: 0.7826087 | E89: 0.86283186
A90: CDC QG-1 AGL | B90: Rep3 | C90: 4 | D90: -0.08 | E90: 0.4375
A91: CDC QG-1 AGL | B91: Rep4 | C91: 2.5 | D91: 0.08490566 | E91: 0.45652174
A92: CDC QG-1 AGL | B92: Rep5 | C92: 4 | D92: . | E92: .
A93: CDC QG-1 AGL | B93: Rep6 | C93: 4 | D93: . | E93: .
A94: CDC QG-1 AGL | B94: Rep7 | C94: 4 | D94: . | E94: .
A95: CDC QG-1 AGL | B95: Rep8 | C95: 4 | D95: 0.060606061 | E95: 0.23404255
A96: CDC QG-1 AGL | B96: Rep9 | C96: 3.5 | D96: 0.66 | E96: 0.30508475
A97: CDC QG-1 AGL | B97: Rep10 | C97: 3 | D97: 0.093333333 | E97: -0.021276596
A98: CDC Red Rider AGL | B98: Rep1 | C98: 2.5 | D98: 0.23364486 | E98: 0.25510204
A99: CDC Red Rider AGL | B99: Rep2 | C99: 0.5 | D99: 0.056603774 | E99: 0.44827586
A100: CDC Red Rider AGL | B100: Rep3 | C100: 2 | D100: -0.5952381 | E100: 0.007874016
A101: CDC Red Rider AGL | B101: Rep4 | C101: 3 | D101: 0.56 | E101: 0.066666667
A102: CDC Red Rider AGL | B102: Rep5 | C102: 3.5 | D102: 0.17 | E102: 0.051282051
...

Sheet Table.2.C
A1: Leprévost et al.
A2: Comparative genomic analysis of QTL for resistance to Aphanomyces euteiches between pea, lentil, faba bean and the model species Medicago truncatula
A4: Supplementary Table 2.C : For each lentil accession: genetic subgroups obtained from individual relatedness and population structure, and EMMean values computed from each resistance variable. Summaries of statistical models applied to phenotypic datasets are also presented.
B6: Genetic subgroupa | D6: EMMeansb | H6: Statistical modelc | J6: CLMM or LMM : (Y ~ Genotype + (1|Replicate)) | Q6: Pearson’s correlation coefficientse
A7: Genotype | B7: Kinship | C7: Admixture | D7: AGILE_DS_RB84 | E7: AGILE_RDL_RB84 | F7: AGILE_SDL_RB84 | J7: Model | K7: Variable | L7: Number of linesd | M7: Number of observations | N7: Condition number of the Hessian matrix | O7: Akaike Inf. Crit. | P7: Genotypic effect (p-value) | Q7: AGILE_DS_RB84 | R7: AGILE_RDL_RB84 | S7: AGILE_SDL_RB84
A8: CN 105789 AGL | B8: 3 | C8: 3 | D8: -1.7545594 | E8: -0.85081447 | F8: -0.30612985 | H8: Strain | I8: RB84 | J8: CLMM | K8: AGILE_DS_RB84 | L8: 318 | M8: 3094 | N8: 660000 | O8: - | P8: < 2.2e-16 | Q8: - | R8: 0.20** | S8: 0.25***
A9: CDC Asterix AGL | B9: 1 | C9: 1 | D9: -1.2678059 | E9: 0.099687765 | F9: 0.1112129 | J9: LMM | K9: AGILE_RDL_RB84 | L9: 260 | M9: 1753 | N9: - | O9: 3521 | P9: 0.414 | Q9: 0.20** | R9: - | S9: 0.55***
A10: PI 472380 LSP AGL | B10: 5 | C10: 5 | D10: -1.1661782 | E10: -0.10892003 | F10: 0.34585936 | J10: LMM | K10: AGILE_SDL_RB84 | L10: 260 | M10: 1771 | N10: - | O10: 2582 | P10: 0.011 | Q10: 0.25*** | R10: 0.55*** | S10: -
A11: CN 105895 AGL | B11: 3 | C11: 3 | D11: -1.1635559 | E11: 0.074595095 | F11: 0.22055592 | H11: c Statistical models performed to compute EMMean values for each variable. CLMM and LMM were performed to analyze ordinal and quantitative variables, respectively.
A12: ILL 4164 AGL | B12: 6 | C12: 6 | D12: -0.93778549 | E12: -0.37558264 | F12: -0.029647926 | H12: d A total of three lines (PI 209858 LSP AGL, PI 368647 LSP AGL, and PI 432001 LSP AGL) and 61 lines were excluded from the statistical analyses for all variables, as well as for both AGILE_RDL_RB84 and AGILE_SDL_RB84 variables, respectively. This exclusion was due to these lines having fewer than 5 phenotypic observations.
A13: ILL 9888 AGL | B13: 3 | C13: 3 | D13: -0.91459225 | E13: 0.023454847 | F13: 0.3647664 | H13: e Significance p-value codes: 0 < ‘***’ ≤ 0.001 < ‘**’ ≤ 0.01.
A14: CN 105715 AGL | B14: - | C14: - | D14: -0.64171141 | E14: -0.29807742 | F14: -0.036078929
A15: PI 289073 LSP AGL | B15: 1 | C15: 1 | D15: -0.63002359 | E15: -0.27059681 | F15: -0.2320535
A16: ILL 9 AGL | B16: 2 | C16: 2 | D16: -0.62530546 | E16: -0.047698456 | F16: 0.1096777
A17: ILL 8174 AGL | B17: 1 | C17: 1 | D17: -0.52999367 | E17: -0.08853229 | F17: 0.084870511
A18: ILL 7663 AGL | B18: 5 | C18: 5 | D18: -0.4980164 | E18: -0.16982588 | F18: 0.055793043
A19: PI 289066 AGL | B19: 3 | C19: 3 | D19: -0.4499577 | E19: 0.020569726 | F19: 0.16569891
A20: ILL 10657 AGL | B20: 2 | C20: 2 | D20: -0.44443216 | E20: -0.01005033 | F20: 0.18968367
A21: ILL 4782 AGL | B21: 6 | C21: 6 | D21: -0.43333859 | E21: -0.39161005 | F21: -0.12003204
A22: PI 193548 LSP AGL | B22: 3 | C22: 3 | D22: -0.42457905 | E22: . | F22: .
A23: PI 477921 LSP AGL | B23: - | C23: - | D23: -0.4029426 | E23: -0.21789615 | F23: -0.15440568
A24: PI 320945 LSP AGL | B24: 1 | C24: 1 | D24: -0.4012193 | E24: 0.34535408 | F24: 0.39219229
A25: PI 374116 LSP AGL | B25: 1 | C25: 1 | D25: -0.39379197 | E25: -0.10606628 | F25: 0.29285585
A26: CDC KR-1 AGL | B26: 1 | C26: 1 | D26: -0.38051836 | E26: -0.039754648 | F26: 0.25317491
A27: PI 508090 AGL | B27: 1 | C27: 1 | D27: -0.35386575 | E27: -0.38642447 | F27: 0.19875855
A28: CN 108369 AGL | B28: 1 | C28: 1 | D28: -0.3505288 | E28: 0.32732292 | F28: 0.2379751
A29: ILL 9945 AGL | B29: 5 | C29: 5 | D29: -0.34703214 | E29: . | F29: .
A30: CDC Royale AGL | B30: 1 | C30: 1 | D30: -0.31730424 | E30: -0.05257284 | F30: -0.045158706
A31: PI 320954 LSP AGL | B31: 1 | C31: 1 | D31: -0.315148 | E31: -0.092357456 | F31: -0.14846927
A32: ILL 8595 AGL | B32: 1 | C32: 1 | D32: -0.2265047 | E32: . | F32: .
A33: ILL 3597 AGL | B33: 5 | C33: 5 | D33: -0.20566527 | E33: -0.15732113 | F33: 0.19956314
A34: ILL 8072 AGL | B34: 2 | C34: 2 | D34: -0.19484274 | E34: 0.086976585 | F34: 0.18329482
A35: PI 297783 AGL | B35: 3 | C35: 3 | D35: -0.18591136 | E35: -0.20361109 | F35: -0.041132714
A36: PI 299165 AGL | B36: 2 | C36: 2 | D36: -0.17877787 | E36: . | F36: .
A37: PI 420929 LSP AGL | B37: 3 | C37: 3 | D37: -0.14686453 | E37: 0.14278571 | F37: 0.22143779
A38: PI 299126 LSP AGL | B38: 1 | C38: 1 | D38: -0.13574676 | E38: -0.035525697 | F38: 0.1924032
A39: PI 431824 LSP AGL | B39: 6 | C39: 6 | D39: -0.088453537 | E39: 0.10594991 | F39: 0.21829103
A40: CDC Sedley AGL | B40: 1 | C40: 1 | D40: -0.074928877 | E40: -0.086415548 | F40: 0.081681773
A41: CDC Red Rider AGL | B41: 1 | C41: 1 | D41: -0.049090433 | E41: 0.12823651 | F41: 0.3005118
A42: PI 432212 LSP AGL | B42: 4 | C42: 4 | D42: -0.045321061 | E42: 0.1769171 | F42: 0.34980912
A43: ILL 5480 AGL | B43: 1 | C43: 1 | D43: -0.043931121 | E43: -0.24866754 | F43: 0.090915716
A44: PI 299163 LSP AGL | B44: 2 | C44: 2 | D44: 0.056727927 | E44: . | F44: .
A45: CDC Gold AGL | B45: 1 | C45: 1 | D45: 0.061736661 | E45: -0.031046674 | F45: 0.11942611
A46: PI 297287 AGL | B46: 2 | C46: 2 | D46: 0.070279685 | E46: -0.24687177 | F46: -0.20424758
A47: PI 312175 LSP AGL | B47: 1 | C47: 1 | D47: 0.083776876 | E47: -0.31192948 | F47: 0.26137676
A48: PI 251248 LSP AGL | B48: 3 | C48: 3 | D48: 0.091681557 | E48: 0.21713479 | F48: 0.39688799
A49: PI 431717 LSP AGL | B49: 4 | C49: 4 | D49: 0.099268237 | E49: -0.053385934 | F49: 0.25906429
A50: PI 432000 LSP AGL | B50: 4 | C50: 4 | D50: 0.14571012 | E50: -0.09221792 | F50: 0.19919363
A51: ILL 7716 AGL | B51: 2 | C51: 2 | D51: 0.18312335 | E51: -0.034921064 | F51: 0.29852413
A52: ILL 7946 AGL | B52: 3 | C52: 3 | D52: 0.20536881 | E52: -0.078477394 | F52: 0.30188447
A53: PI 468900 LSP AGL | B53: 1 | C53: 1 | D53: 0.21007192 | E53: 0.057523795 | F53: 0.41055871
A54: W6 27763 LSP AGL | B54: 3 | C54: 3 | D54: 0.21797617 | E54: -0.27612202 | F54: 0.20848043
A55: ILL 5722 AGL | B55: 2 | C55: 2 | D55: 0.23541893 | E55: 0.043218735 | F55: 0.19172739
A56: CDC Greenstar AGL | B56: 1 | C56: 1 | D56: 0.25021812 | E56: -0.043920304 | F56: 0.048574776
A57: PI 420818 AGL | B57: 2 | C57: 2 | D57: 0.25575449 | E57: . | F57: .
A58: CN 105605 AGL | B58: 6 | C58: 4 | D58: 0.26791341 | E58: . | F58: .
A59: PI 297285 LSP AGL | B59: - | C59: - | D59: 0.29096863 | E59: 0.21782463 | F59: 0.11723848
A60: PI 343026 LSP AGL | B60: 4 | C60: 4 | D60: 0.29517758 | E60: -0.087501876 | F60: 0.11070567
A61: CDC Glamis AGL | B61: 1 | C61: 1 | D61: 0.3200504 | E61: 0.26229139 | F61: 0.35378771
A62: PI 299345 AGL | B62: 2 | C62: 2 | D62: 0.3257331 | E62: . | F62: .
A63: CDC Redcoat AGL | B63: 1 | C63: 1 | D63: 0.34755848 | E63: -0.18499381 | F63: -0.091604276
A64: ILL 7558 AGL | B64: 2 | C64: 2 | D64: 0.34803659 | E64: -0.12913671 | F64: 0.16789643
A65: ILL 4768 AGL | B65: 3 | C65: 3 | D65: 0.37319393 | E65: -0.17103063 | F65: 0.10615626
A66: ILL 8010 AGL | B66: 5 | C66: 5 | D66: 0.38015802 | E66: -0.08343105 | F66: 0.37818072
A67: CN 108370 AGL | B67: 1 | C67: 1 | D67: 0.38821142 | E67: 0.045464054 | F67: 0.13884188
A68: ILL 1553 AGL | B68: 6 | C68: 6 | D68: 0.40069295 | E68: -0.093894676 | F68: 0.257738
A69: PI 420925 LSP AGL | B69: 3 | C69: 3 | D69: 0.4014558 | E69: -0.093665178 | F69: -0.032549613
A70: PI 299177 LSP AGL | B70: 2 | C70: 2 | D70: 0.41010065 | E70: 0.2315484 | F70: 0.30509345
A71: ILL 4783 AGL | B71: 1 | C71: 1 | D71: 0.41184327 | E71: 0.0529667 | F71: 0.076046475
A72: PI 298122 LSP AGL | B72: 1 | C72: 1 | D72: 0.41198864 | E72: . | F72: .
A73: PI 533693 LSP AGL | B73: 1 | C73: 1 | D73: 0.41958873 | E73: -0.095810727 | F73: 0.27629634
A74: CN 105862 AGL | B74: 2 | C74: 2 | D74: 0.42352275 | E74: . | F74: .
A75: ILL 4400 AGL | B75: 2 | C75: 2 | D75: 0.4479161 | E75: -0.18920647 | F75: 0.19192073
A76: Shasta AGL | B76: 1 | C76: 1 | D76: 0.45060244 | E76: . | F76: .
A77: PI 472615 LSP AGL | B77: 2 | C77: 2 | D77: 0.45402556 | E77: 0.050115245 | F77: 0.16934031
A78: PI 374121 AGL | B78: 2 | C78: 2 | D78: 0.46685489 | E78: -0.39473507 | F78: 0.11657883
A79: PI 345627 LSP AGL | B79: 1 | C79: 1 | D79: 0.48014689 | E79: 0.22142335 | F79: -0.24201611
A80: CN 105732 AGL | B80: 1 | C80: 1 | D80: 0.49262721 | E80: -0.036891343 | F80: 0.15628498
A81: PI 299289 AGL | B81: 6 | C81: 6 | D81: 0.49591132 | E81: -0.39316172 | F81: -0.025579729
A82: PI 472213 LSP AGL | B82: 5 | C82: 6 | D82: 0.50360907 | E82: 0.23116837 | F82: 0.32058577
A83: PI 339285 AGL | B83: 5 | C83: 6 | D83: 0.50760182 | E83: 0.15170671 | F83: 0.27213228
A84: CN 106265 AGL | B84: 1 | C84: 1 | D84: 0.54898988 | E84: 0.005930457 | F84: 0.018253146
A85: PI 451763 LSP AGL | B85: 1 | C85: 1 | D85: 0.55045507 | E85: 0.30926151 | F85: 0.41430804
A86: PI 431728 LSP AGL | B86: 4 | C86: 4 | D86: 0.57119831 | E86: 0.035465452 | F86: 0.2450461
A87: PI 432190 LSP AGL | B87: 1 | C87: 1 | D87: 0.57204367 | E87: -0.11575731 | F87: 0.26339418
A88: CDC SB-1 AGL | B88: - | C88: - | D88: 0.5818106 | E88: -0.44509003 | F88: 0.12308265
A89: ILL 7978 AGL | B89: 3 | C89: 3 | D89: 0.58235325 | E89: -0.16887597 | F89: -0.0016103106
A90: PI 175754 LSP AGL | B90: - | C90: - | D90: 0.58536664 | E90: 0.11161937 | F90: 0.23097069
A91: ILWL 118 AGL | B91: 5 | C91: 5 | D91: 0.58676859 | E91: -0.072923384 | F91: 0.2406631
A92: CDC Rouleau AGL | B92: 1 | C92: 1 | D92: 0.61610441 | E92: 0.007074624 | F92: 0.35666016
A93: CDC Ruby AGL | B93: 1 | C93: 1 | D93: 0.61659842 | E93: -0.069642079 | F93: -0.11024428
A94: PI 368651 LSP AGL | B94: 1 | C94: 1 | D94: 0.62603075 | E94: 0.12997889 | F94: 0.24965637
A95: ILL 7979 AGL | B95: 5 | C95: 5 | D95: 0.62827511 | E95: 0.10685362 | F95: 0.16384775
A96: PI 432145 LSP AGL | B96: 4 | C96: 4 | D96: 0.64407199 | E96: 0.21095805 | F96: 0.4133923
A97: PI 308614 LSP AGL | B97: 6 | C97: 6 | D97: 0.65248235 | E97: -0.1073181 | F97: 0.21789423
A98: PI 431662 LSP AGL | B98: - | C98: - | D98: 0.65763936 | E98: -0.36926958 | F98: 0.013159311
A99: ILL 5209 AGL | B99: 3 | C99: 3 | D99: 0.6665129 | E99: 0.030558882 | F99: 0.039869826
A100: PI 299116 LSP AGL | B100: 1 | C100: 1 | D100: 0.67255033 | E100: -0.34231909 | F100: 0.31719191
A101: IG 1046 AGL | B101: 6 | C101: 6 | D101: 0.67477927 | E101: 0.31611188 | F101: 0.41246223
A102: PI 432106 LSP AGL | B102: 2 | C102: 2 | D102: 0.67697383 | E102: . | F102: .
...

Sheet Table.2.D
A1: Leprévost et al.
A2: Comparative genomic analysis of QTL for resistance to Aphanomyces euteiches between pea, lentil, faba bean and the model species Medicago truncatula
A4: Supplementary Table 2.D : Significant GWAS-SNPs for partial resistance to the RB84 isolate of A. euteiches, identified using the MLM, along with variant effects in gene intervals.
A6: GWAS results associated with the MLM | M6: Gene annotation | Q6: Variant analysis
A7: Chromosome | B7: Traita | C7: SNPb | D7: Position (pb) | E7: P-valuec | F7: Q-valued | G7: Allele1e | H7: Size allele1f | I7: Allele2g | J7: Size allele2h | K7: SNP weighti | L7: MAFj | M7: Gene Idk | N7: Start (pb) | O7: End (pb) | P7: Protein domainl | Q7: Transcript Idm | R7: REFn | S7: ALTo | T7: Variant location on gene | U7: Nucleotide variant | V7: Amino acid variant | W7: CDNA positionp | X7: CDNA lengthq | Y7: CDS positionr | Z7: CDS lengths | AA7: AA positiont | AB7: AA lengthu
A8: 2 | B8: AGILE_Disease_Severity | C8: Lcu.2RBY.Chr2_390043467 | D8: 390043467 | E8: 2.46e-06 | F8: 0.059561907 | G8: A | H8: 105 | I8: C | J8: 499 | K8: -0.26 | L8: 0.17 | M8: - | N8: - | O8: - | P8: - | Q8: Lcu.2RBY.2g060640-Lcu.2RBY.2g060650 | R8: C | S8: A | T8: intergenic_region | U8: n.390043467C>A | V8: . | W8: -1 | X8: -1 | Y8: -1 | Z8: -1 | AA8: -1 | AB8: -1
A9: 1 | B9: AGILE_Disease_Severity | C9: Lcu.2RBY.Chr1_523488581 | D9: 523488581 | E9: 2.75e-06 | F9: 0.046083483 | G9: T | H9: 78 | I9: A | J9: 526 | K9: 0.3 | L9: 0.13 | M9: Lcu.2RBY.1g073310 | N9: 523486477 | O9: 523490593 | P9: PPM-type phosphatase domain,Protein phosphatase 2C family | Q9: Lcu.2RBY.1g073320.1,Lcu.2RBY.1g073300.1,Lcu.2RBY.1g073310.1 | R9: A | S9: T,T,T | T9: upstream_gene_variant,downstream_gene_variant,intron_variant | U9: c.-2805A>T,c.*4688A>T,c.382+52A>T | V9: .,.,. | W9: -1,-1,-1 | X9: -1,-1,-1 | Y9: -1,-1,-1 | Z9: -1,-1,-1 | AA9: -1,-1,-1 | AB9: -1,-1,-1
A10: 5 | B10: AGILE_Disease_Severity | C10: Lcu.2RBY.Chr5_474129221 | D10: 474129221 | E10: 3.03e-06 | F10: 0.012965141 | G10: T | H10: 108 | I10: C | J10: 496 | K10: -0.27 | L10: 0.18 | M10: Lcu.2RBY.5g074430 | N10: 474125913 | O10: 474131288 | P10: tRNA (adenine(58)-N(1))-methyltransferase non-catalytic subunit TRM6 | Q10: Lcu.2RBY.5g074420.1,Lcu.2RBY.5g074430.1 | R10: C | S10: T,T | T10: upstream_gene_variant,intron_variant | U10: c.-4684G>A,c.548+58G>A | V10: .,. | W10: -1,-1 | X10: -1,-1 | Y10: -1,-1 | Z10: -1,-1 | AA10: -1,-1 | AB10: -1,-1
A11: 5 | B11: AGILE_Disease_Severity | C11: Lcu.2RBY.Chr5_474232871 | D11: 474232871 | E11: 3.89e-06 | F11: 0.012965141 | G11: G | H11: 147 | I11: T | J11: 457 | K11: -0.27 | L11: 0.24 | M11: Lcu.2RBY.5g074470 | N11: 474231834 | O11: 474234565 | P11: Hexokinase, binding site,Hexokinase,Hexokinase, C-terminal,Hexokinase, N-terminal | Q11: Lcu.2RBY.5g074470.1 | R11: T | S11: G | T11: intron_variant | U11: c.927+38A>C | V11: . | W11: -1 | X11: -1 | Y11: -1 | Z11: -1 | AA11: -1 | AB11: -1
A12: 5 | B12: AGILE_Disease_Severity | C12: Lcu.2RBY.Chr5_474288094 | D12: 474288094 | E12: 4.05e-06 | F12: 0.012965141 | G12: G | H12: 113 | I12: C | J12: 491 | K12: -0.27 | L12: 0.19 | M12: Lcu.2RBY.5g074520 | N12: 474287270 | O12: 474288201 | P12: Gibberellin regulated protein | Q12: Lcu.2RBY.5g074520.1,Lcu.2RBY.5g074530.1 | R12: C | S12: G,G | T12: missense_variant,downstream_gene_variant | U12: c.9G>C,c.*3769G>C | V12: p.Met3Ile,. | W12: 108,-1 | X12: 585,-1 | Y12: 9,-1 | Z12: 348,-1 | AA12: 3,-1 | AB12: 115,-1
A13: 5 | B13: AGILE_Disease_Severity | C13: Lcu.2RBY.Chr5_474118651 | D13: 474118651 | E13: 4.08e-06 | F13: 0.012965141 | G13: T | H13: 115 | I13: A | J13: 489 | K13: -0.26 | L13: 0.19 | M13: Lcu.2RBY.5g074420 | N13: 474110843 | O13: 474124537 | P13: NB-ARC,P-loop containing nucleoside triphosphate hydrolase,Winged helix-turn-helix DNA-binding domain,Leucine-rich repeat domain, L domain-like | Q13: Lcu.2RBY.5g074420.1 | R13: A | S13: T | T13: intron_variant | U13: c.3146-248T>A | V13: . | W13: -1 | X13: -1 | Y13: -1 | Z13: -1 | AA13: -1 | AB13: -1
A14: 7 | B14: AGILE_RDL | C14: Lcu.2RBY.Chr7_519849758 | D14: 519849758 | E14: 1.02e-06 | F14: 0.0095837919 | G14: T | H14: 112 | I14: G | J14: 382 | K14: 0.11 | L14: 0.23 | M14: - | N14: - | O14: - | P14: - | Q14: Lcu.2RBY.7g073790.1,Lcu.2RBY.7g073790-Lcu.2RBY.7g073800 | R14: G | S14: T,T | T14: downstream_gene_variant,intergenic_region | U14: c.*333G>T,n.519849758G>T | V14: .,. | W14: -1,-1 | X14: -1,-1 | Y14: -1,-1 | Z14: -1,-1 | AA14: -1,-1 | AB14: -1,-1
A15: 4 | B15: AGILE_RDL | C15: Lcu.2RBY.Chr4_317995287 | D15: 317995287 | E15: 1.58e-06 | F15: 0.036472029 | G15: C | H15: 240 | I15: T | J15: 254 | K15: -0.11 | L15: 0.49 | M15: Lcu.2RBY.4g046070 | N15: 317993185 | O15: 317998028 | P15: Ribokinase-like,Carbohydrate kinase PfkB,Carbohydrate/puine kinase, PfkB, conserved site,Ribokinase/fructokinase | Q15: Lcu.2RBY.4g046070.1 | R15: T | S15: C | T15: intron_variant | U15: c.657-115T>C | V15: . | W15: -1 | X15: -1 | Y15: -1 | Z15: -1 | AA15: -1 | AB15: -1
A16: 7 | B16: AGILE_RDL | C16: Lcu.2RBY.Chr7_473560103 | D16: 473560103 | E16: 2.05e-06 | F16: 0.0095837919 | G16: C | H16: 66 | I16: T | J16: 428 | K16: -0.07 | L16: 0.13 | M16: Lcu.2RBY.7g061240 | N16: 473560096 | O16: 473565986 | P16: P-type ATPase,P-type ATPase, A domain,P-type ATPase, transmembrane domain,Cation-transporting P-type ATPase, N-terminal,P-type ATPase, subfamily IIIA,P-type ATPase, cytoplasmic domain N,HAD-like domain,P-type ATPase, phosphorylation site | Q16: Lcu.2RBY.7g061240.1 | R16: T | S16: C | T16: 5_prime_UTR_variant | U16: c.-171T>C | V16: . | W16: -1 | X16: -1 | Y16: -1 | Z16: -1 | AA16: -1 | AB16: -1
A17: 7 | B17: AGILE_RDL | C17: Lcu.2RBY.Chr7_519849801 | D17: 519849801 | E17: 2.89e-06 | F17: 0.0095837919 | G17: T | H17: 113 | I17: A | J17: 381 | K17: 0.11 | L17: 0.23 | M17: - | N17: - | O17: - | P17: - | Q17: Lcu.2RBY.7g073790.1,Lcu.2RBY.7g073790-Lcu.2RBY.7g073800 | R17: A | S17: T,T | T17: downstream_gene_variant,intergenic_region | U17: c.*376A>T,n.519849801A>T | V17: .,. | W17: -1,-1 | X17: -1,-1 | Y17: -1,-1 | Z17: -1,-1 | AA17: -1,-1 | AB17: -1,-1
A18: 7 | B18: AGILE_RDL | C18: Lcu.2RBY.Chr7_519847889 | D18: 519847889 | E18: 3.14e-06 | F18: 0.0095837919 | G18: C | H18: 114 | I18: T | J18: 380 | K18: 0.1 | L18: 0.23 | M18: Lcu.2RBY.7g073790 | N18: 519846924 | O18: 519849733 | P18: DEAD/DEAH box helicase domain,P-loop containing nucleoside triphosphate hydrolase,ATP-dependent RNA helicase DEAD-box, conserved site,Helicase superfamily 1/2, ATP-binding domain,Helicase, C-terminal,RNA helicase, DEAD-box type, Q motif | Q18: Lcu.2RBY.7g073790.1 | R18: T | S18: C | T18: intron_variant | U18: c.175+32T>C | V18: . | W18: -1 | X18: -1 | Y18: -1 | Z18: -1 | AA18: -1 | AB18: -1
A19: 7 | B19: AGILE_RDL | C19: Lcu.2RBY.Chr7_519847912 | D19: 519847912 | E19: 3.14e-06 | F19: 0.0095837919 | G19: G | H19: 114 | I19: A | J19: 380 | K19: 0.1 | L19: 0.23 | M19: Lcu.2RBY.7g073790 | N19: 519846924 | O19: 519849733 | P19: DEAD/DEAH box helicase domain,P-loop containing nucleoside triphosphate hydrolase,ATP-dependent RNA helicase DEAD-box, conserved site,Helicase superfamily 1/2, ATP-binding domain,Helicase, C-terminal,RNA helicase, DEAD-box type, Q motif | Q19: Lcu.2RBY.7g073790.1 | R19: A | S19: G | T19: intron_variant | U19: c.175+55A>G | V19: . | W19: -1 | X19: -1 | Y19: -1 | Z19: -1 | AA19: -1 | AB19: -1
A20: 4 | B20: AGILE_RDL | C20: Lcu.2RBY.Chr4_317979593 | D20: 317979593 | E20: 3.86e-06 | F20: 0.044615823 | G20: G | H20: 239 | I20: A | J20: 255 | K20: -0.1 | L20: 0.48 | M20: Lcu.2RBY.4g046060 | N20: 317977783 | O20: 317984983 | P20: Cell division protein Cdc14,Armadillo-like helical,Armadillo-type fold | Q20: Lcu.2RBY.4g046060.1 | R20: A | S20: G | T20: intron_variant | U20: c.615+104T>C | V20: . | W20: -1 | X20: -1 | Y20: -1 | Z20: -1 | AA20: -1 | AB20: -1
A21: 7 | B21: AGILE_SDL | C21: Lcu.2RBY.Chr7_515914271 | D21: 515914271 | E21: 1.56e-06 | F21: 0.011921323 | G21: A | H21: 131 | I21: C | J21: 363 | K21: -0.07 | L21: 0.27 | M21: Lcu.2RBY.7g072290 | N21: 515914011 | O21: 515919400 | P21: WRKY domain | Q21: Lcu.2RBY.7g072290.1 | R21: C | S21: A | T21: missense_variant | U21: c.1032G>T | V21: p.Met344Ile | W21: 1255 | X21: 1515 | Y21: 1032 | Z21: 1089 | AA21: 344 | AB21: 362
A22: 7 | B22: AGILE_SDL | C22: Lcu.2RBY.Chr7_515914322 | D22: 515914322 | E22: 1.56e-06 | F22: 0.011921323 | G22: A | H22: 131 | I22: G | J22: 363 | K22: -0.07 | L22: 0.27 | M22: Lcu.2RBY.7g072290 | N22: 515914011 | O22: 515919400 | P22: WRKY domain | Q22: Lcu.2RBY.7g072290.1 | R22: G | S22: A | T22: synonymous_variant | U22: c.981C>T | V22: p.Asn327Asn | W22: 1204 | X22: 1515 | Y22: 981 | Z22: 1089 | AA22: 327 | AB22: 362
A24: a Traits from which GWAS-SNPs were detected from the AGILE lentil panel. DS: Disease Severity; RDL: Root Dry Weight Loss; SDL: Shoot Dry Weight Loss. RB84 is a strain of A. euteiches belonging to the pea pathotype I.
A25: b Significant GWAS-SNPs detected using the MLM.
A26: c The p-value computed for the SNP tested. SNPs showing p-values inferior to a common threshold equal to 5.0e-06 were retained in genetic analyses.
A27: d The q-value (or adjusted p-value) computed for the SNP tested using the procedure of Benjamini and Hochberg. A FDR threshold of 5% was fixed to consider a SNP as significant. Although, Lcu.2RBY.Chr2_390043467 displayed a q-value slightly higher than 5%, the SNP was retained in genetic analyses due to its low p-value (2.46E-06).
A28: e Minor allele and its f occurrence in the AGILE lentil panel.
A29: g Major allele and its h occurrence in the AGILE lentil panel.
A30: i Contribution of the SNP to the phenotype. A positive sign indicates that the allele increasing the resistance is in major frequency whereas a negative sign means that resistance allele is in minor frequency.
A31: j Minor allele frequency (MAF) computed for each GWAS-SNP from the filtered genotyping dataset (140,007 SNPs).
A32: k Gene including significant GWAS-SNP(s). "-" : Variants located oustide of gene intervals obtained from the structural annotation.
A33: l Protein domain annotated from CDS using TRAPID with default parameters (http://bioinformatics.psb.ugent.be/trapid_02/). Reference database: PLAZA 4.5 dicots.
A34: m Identification of the transcript including significant GWAS-SNP(s).
A35: n Reference allele obtained from the RedBerry lentil genome V2.
... A39: t Position and u number of amino acids.

Sheet Table.2.E
A1: Leprévost et al.
A2: Comparative genomic analysis of QTL for resistance to Aphanomyces euteiches between pea, lentil, faba bean and the model species Medicago truncatula
A4: Supplementary Table 2.E : Markers and haplotypes within the identified LD blocks, including the most significant SNPs at GWAS peaks.
B7: Legend:
C9: LD block
C10: Significant GWAS-SNP containing an alternative allele predicted to cause a non -synonymous change in the protein sequence
C11: Favorable haplotypes at significant GWAS-SNPs (in bold)
I14: LD block: Ae-Lc1.1f
I15: Size: 23 SNPs
I16: Number of significant GWAS-SNP: 1
I17: Physical interval: 43,192 pb
B18: QTL clustera | C18: Chromosome | D18: Position (pb) | E18: Peak GWAS-SNPb | F18: Variablec | G18: p-valued | H18: R2 e | I18: Lcu.2RBY.Chr1_523486933 | J18: Lcu.2RBY.Chr1_523486941 | K18: Lcu.2RBY.Chr1_523486987 | L18: Lcu.2RBY.Chr1_523487419 | M18: Lcu.2RBY.Chr1_523487516 | N18: Lcu.2RBY.Chr1_523488209 | O18: Lcu.2RBY.Chr1_523488581 | P18: Lcu.2RBY.Chr1_523489614 | Q18: Lcu.2RBY.Chr1_523490166 | R18: Lcu.2RBY.Chr1_523490206 | S18: Lcu.2RBY.Chr1_523490270 | T18: Lcu.2RBY.Chr1_523490316 | U18: Lcu.2RBY.Chr1_523490432 | V18: Lcu.2RBY.Chr1_523491365 | W18: Lcu.2RBY.Chr1_523491397 | X18: Lcu.2RBY.Chr1_523492358 | Y18: Lcu.2RBY.Chr1_523492375 | Z18: Lcu.2RBY.Chr1_523522409 | AA18: Lcu.2RBY.Chr1_523522433 | AB18: Lcu.2RBY.Chr1_523523164 | AC18: Lcu.2RBY.Chr1_523529007 | AD18: Lcu.2RBY.Chr1_523529388 | AE18: Lcu.2RBY.Chr1_523530125 | AF18: Percentage of linesg | AG18: Number of linesh | AH18: Haplotype IDi | AI18: Haplotype EMMean valuesj
B19: - | C19: 1 | D19: 523488581 | E19: Lcu.2RBY.Chr1_523488581 | F19: AGILE_DS_RB84 | G19: 2.7542125e-06 | H19: 0.1661667 | I19: GG | J19: AA | K19: CC | L19: GG | M19: TT | N19: TT | O19: AA | P19: AA | Q19: CC | R19: GG | S19: TT | T19: TT | U19: TT | V19: TT | W19: TT | X19: TT | Y19: TT | Z19: AA | AA19: GG | AB19: GG | AC19: GG | AD19: GG | AE19: TT | AF19: 26.490066 | AG19: 80 | AH19: A | AI19: 0.98 ± 0.1 a
I20: GG | J20: AA | K20: CC | L20: GG | M20: TT | N20: GG | O20: AA | P20: AA | Q20: TT | R20: AA | S20: TT | T20: TT | U20: TT | V20: TT | W20: TT | X20: AA | Y20: AA | Z20: AA | AA20: GG | AB20: AA | AC20: GG | AD20: GG | AE20: CC | AF20: 13.245033 | AG20: 40 | AH20: B | AI20: 0.6 ± 0.14 a
I21: AA | J21: GG | K21: TT | L21: TT | M21: TT | N21: TT | O21: AA | P21: AA | Q21: TT | R21: AA | S21: AA | T21: AA | U21: TT | V21: CC | W21: CC | X21: AA | Y21: TT | Z21: AA | AA21: GG | AB21: AA | AC21: GG | AD21: GG | AE21: TT | AF21: 12.582781 | AG21: 38 | AH21: C | AI21: 1.47 ± 0.14 bc
I22: GG | J22: GG | K22: CC | L22: GG | M22: TT | N22: TT | O22: TT | P22: AA | Q22: TT | R22: AA | S22: TT | T22: TT | U22: CC | V22: TT | W22: TT | X22: TT | Y22: TT | Z22: AA | AA22: GG | AB22: AA | AC22: GG | AD22: GG | AE22: CC | AF22: 8.2781457 | AG22: 25 | AH22: D | AI22: 1.86 ± 0.17 c
AA23: Rare haplotype : | AF23: 11.258278 | AG23: 34 | AH23: R | AI23: 0.95 ± 0.15 ab
AA24: Heterozygous haplotype : | AF24: 28.145695 | AG24: 85
AA25: Total : | AF25: 100 | AG25: 302
I29: LD block: Ae-Lc2.1f
I30: Size: 15 SNPs
I31: Number of significant GWAS-SNP: 1
I32: Physical interval: 147,341 pb
B33: QTL clustera | C33: Chromosome | D33: Position (pb) | E33: Peak GWAS-SNPb | F33: Variablec | G33: p-valued | H33: R2 e | I33: Lcu.2RBY.Chr2_389924963 | J33: Lcu.2RBY.Chr2_389925253 | K33: Lcu.2RBY.Chr2_390026220 | L33: Lcu.2RBY.Chr2_390029610 | M33: Lcu.2RBY.Chr2_390030610 | N33: Lcu.2RBY.Chr2_390031796 | O33: Lcu.2RBY.Chr2_390032540 | P33: Lcu.2RBY.Chr2_390043467 | Q33: Lcu.2RBY.Chr2_390060302 | R33: Lcu.2RBY.Chr2_390066401 | S33: Lcu.2RBY.Chr2_390067168 | T33: Lcu.2RBY.Chr2_390067579 | U33: Lcu.2RBY.Chr2_390071860 | V33: Lcu.2RBY.Chr2_390072182 | W33: Lcu.2RBY.Chr2_390072304 | X33: Percentage of linesg | Y33: Number of linesh | Z33: Haplotype IDi | AA33: Haplotype EMMean valuesj
B34: - | C34: 2 | D34: 390043467 | E34: Lcu.2RBY.Chr2_390043467 | F34: AGILE_DS_RB84 | G34: 2.458087e-06 | H34: 0.11682561 | I34: GG | J34: GG | K34: TT | L34: TT | M34: AA | N34: AA | O34: TT | P34: CC | Q34: AA | R34: CC | S34: TT | T34: TT | U34: AA | V34: AA | W34: AA | X34: 43.708609 | Y34: 132 | Z34: A | AA34: 1.39 ± 0.08 b
I35: GG | J35: GG | K35: TT | L35: TT | M35: AA | N35: AA | O35: TT | P35: CC | Q35: AA | R35: TT | S35: CC | T35: TT | U35: AA | V35: TT | W35: AA | X35: 13.907285 | Y35: 42 | Z35: B | AA35: 1.09 ± 0.14 ab
I36: TT | J36: TT | K36: CC | L36: AA | M36: GG | N36: CC | O36: CC | P36: CC | Q36: AA | R36: TT | S36: CC | T36: TT | U36: GG | V36: AA | W36: GG | X36: 11.589404 | Y36: 35 | Z36: C | AA36: 1.51 ± 0.15 b
I37: TT | J37: TT | K37: CC | L37: AA | M37: GG | N37: CC | O37: CC | P37: AA | Q37: AA | R37: TT | S37: CC | T37: GG | U37: GG | V37: AA | W37: GG | X37: 8.9403974 | Y37: 27 | Z37: D | AA37: 0.59 ± 0.17 a
S38: Rare haplotype : | X38: 9.2715232 | Y38: 28 | Z38: R | AA38: 0.63 ± 0.17 a
S39: Heterozygous haplotype : | X39: 12.582781 | Y39: 38
S40: Total : | X40: 100 | Y40: 302
I43: LD block: Ae-Lc4.1f
I44: Size: 16 SNPs
I45: Number of significant GWAS-SNP: 2
I46: Physical interval: 18,799 pb
B47: QTL clustera | C47: Chromosome | D47: Position (pb) | E47: Peak GWAS-SNPb | F47: Variablec | G47: p-valued | H47: R2 e | I47: Lcu.2RBY.Chr4_317977994 | J47: Lcu.2RBY.Chr4_317978140 | K47: Lcu.2RBY.Chr4_317978209 | L47: Lcu.2RBY.Chr4_317978264 | M47: Lcu.2RBY.Chr4_317978592 | N47: Lcu.2RBY.Chr4_317979593 | O47: Lcu.2RBY.Chr4_317979902 | P47: Lcu.2RBY.Chr4_317984168 | Q47: Lcu.2RBY.Chr4_317993731 | R47: Lcu.2RBY.Chr4_317994793 | S47: Lcu.2RBY.Chr4_317994826 | T47: Lcu.2RBY.Chr4_317995094 | U47: Lcu.2RBY.Chr4_317995287 | V47: Lcu.2RBY.Chr4_317995307 | W47: Lcu.2RBY.Chr4_317996733 | X47: Lcu.2RBY.Chr4_317996793 | Y47: Percentage of linesg | Z47: Number of linesh | AA47: Haplotype IDi | AB47: Haplotype EMMean valuesj
B48: - | C48: 4 | D48: 317995287 | E48: Lcu.2RBY.Chr4_317995287 | F48: AGILE_RDL_RB84 | G48: 1.5783291e-06 | H48: 0.028334077 | I48: TT | J48: GG | K48: TT | L48: TT | M48: CC | N48: GG | O48: AA | P48: CC | Q48: TT | R48: AA | S48: GG | T48: AA | U48: CC | V48: TT | W48: GG | X48: CC | Y48: 44.370861 | Z48: 134 | AA48: A | AB48: -0.04 ± 0.02 a
I49: CC | J49: AA | K49: CC | L49: TT | M49: TT | N49: AA | O49: AA | P49: AA | Q49: TT | R49: AA | S49: TT | T49: GG | U49: TT | V49: CC | W49: CC | X49: AA | Y49: 23.509934 | Z49: 71 | AA49: B | AB49: 0.04 ± 0.03 a
I50: TT | J50: AA | K50: CC | L50: TT | M50: TT | N50: AA | O50: AA | P50: CC | Q50: TT | R50: CC | S50: GG | T50: AA | U50: TT | V50: TT | W50: GG | X50: CC | Y50: 16.556291 | Z50: 50 | AA50: C | AB50: 0.03 ± 0.03 a
I51: TT | J51: GG | K51: TT | L51: CC | M51: CC | N51: AA | O51: GG | P51: CC | Q51: CC | R51: AA | S51: TT | T51: GG | U51: TT | V51: TT | W51: CC | X51: CC | Y51: 12.582781 | Z51: 38 | AA51: D | AB51: 0.02 ± 0.04 a
T52: Heterozygous haplotype : | Y52: 2.9801325 | Z52: 9
T53: Total : | Y53: 100 | Z53: 302
I56: LD block: Ae-Lc5.1f
I57: Size: 99 SNPs
I58: Number of significant GWAS-SNP: 2
I59: Physical interval: 193,213 pb
B60: QTL clustera | C60: Chromosome | D60: Position (pb) | E60: Peak GWAS-SNPb | F60: Variablec | G60: p-valued | H60: R2 e | I60: Lcu.2RBY.Chr5_473971929 | J60: Lcu.2RBY.Chr5_473978044 | K60: Lcu.2RBY.Chr5_473978137 | L60: Lcu.2RBY.Chr5_473978197 | M60: Lcu.2RBY.Chr5_473978200 | N60: Lcu.2RBY.Chr5_473981003 | O60: Lcu.2RBY.Chr5_473981995 | P60: Lcu.2RBY.Chr5_473982782 | Q60: Lcu.2RBY.Chr5_474009216 | R60: Lcu.2RBY.Chr5_474009224 | S60: Lcu.2RBY.Chr5_474009231 | T60: Lcu.2RBY.Chr5_474009491 | U60: Lcu.2RBY.Chr5_474009656 | V60: Lcu.2RBY.Chr5_474012117 | W60: Lcu.2RBY.Chr5_474012574 | X60: Lcu.2RBY.Chr5_474015351 | Y60: Lcu.2RBY.Chr5_474015402 | Z60: Lcu.2RBY.Chr5_474019026 | AA60: Lcu.2RBY.Chr5_474026750 | AB60: Lcu.2RBY.Chr5_474027208 | AC60: Lcu.2RBY.Chr5_474028226 | AD60: Lcu.2RBY.Chr5_474028741 | AE60: Lcu.2RBY.Chr5_474028814 | AF60: Lcu.2RBY.Chr5_474028819 | AG60: Lcu.2RBY.Chr5_474028935 | AH60: Lcu.2RBY.Chr5_474030695 | AI60: Lcu.2RBY.Chr5_474030698 | AJ60: Lcu.2RBY.Chr5_474030699 | AK60: Lcu.2RBY.Chr5_474030750 | AL60: Lcu.2RBY.Chr5_474030946 | AM60: Lcu.2RBY.Chr5_474030952 | AN60: Lcu.2RBY.Chr5_474030970 | AO60: Lcu.2RBY.Chr5_474031197 | AP60: Lcu.2RBY.Chr5_474031213 | AQ60: Lcu.2RBY.Chr5_474034402 | AR60: Lcu.2RBY.Chr5_474035938 | AS60: Lcu.2RBY.Chr5_474036207 | AT60: Lcu.2RBY.Chr5_474036308 | AU60: Lcu.2RBY.Chr5_474036426 | AV60: Lcu.2RBY.Chr5_474036485 | AW60: Lcu.2RBY.Chr5_474036531 | AX60: Lcu.2RBY.Chr5_474036820 | AY60: Lcu.2RBY.Chr5_474036919 | AZ60: Lcu.2RBY.Chr5_474037000 | BA60: Lcu.2RBY.Chr5_474037009 | BB60: Lcu.2RBY.Chr5_474037033 | BC60: Lcu.2RBY.Chr5_474037054 | BD60: Lcu.2RBY.Chr5_474037062 | BE60: Lcu.2RBY.Chr5_474037129 | BF60: Lcu.2RBY.Chr5_474037143 | BG60: Lcu.2RBY.Chr5_474037969 | BH60: Lcu.2RBY.Chr5_474038211 | BI60: Lcu.2RBY.Chr5_474062915 | BJ60: Lcu.2RBY.Chr5_474063006 | BK60: Lcu.2RBY.Chr5_474063433 | BL60: Lcu.2RBY.Chr5_474063503 | BM60: Lcu.2RBY.Chr5_474063581 | BN60: Lcu.2RBY.Chr5_474064007 | BO60: Lcu.2RBY.Chr5_474064975 | BP60: Lcu.2RBY.Chr5_474065074 | BQ60: Lcu.2RBY.Chr5_474088568 | BR60: Lcu.2RBY.Chr5_474088633 | BS60: Lcu.2RBY.Chr5_474088664 | BT60: Lcu.2RBY.Chr5_474089637 | BU60: Lcu.2RBY.Chr5_474098811 | BV60: Lcu.2RBY.Chr5_474116035 | BW60: Lcu.2RBY.Chr5_474118651 | BX60: Lcu.2RBY.Chr5_474119544 | BY60: Lcu.2RBY.Chr5_474127251 | BZ60: Lcu.2RBY.Chr5_474128608 | CA60: Lcu.2RBY.Chr5_474129221* | CB60: Lcu.2RBY.Chr5_474129335 | CC60: Lcu.2RBY.Chr5_474129413 | CD60: Lcu.2RBY.Chr5_474129468 | CE60: Lcu.2RBY.Chr5_474130061 | CF60: Lcu.2RBY.Chr5_474130917 | CG60: Lcu.2RBY.Chr5_474159559 | CH60: Lcu.2RBY.Chr5_474159563 | CI60: Lcu.2RBY.Chr5_474159920 | CJ60: Lcu.2RBY.Chr5_474160164 | CK60: Lcu.2RBY.Chr5_474160291 | CL60: Lcu.2RBY.Chr5_474160416 | CM60: Lcu.2RBY.Chr5_474161787 | CN60: Lcu.2RBY.Chr5_474161894 | CO60: Lcu.2RBY.Chr5_474161996 | CP60: Lcu.2RBY.Chr5_474162648 | CQ60: Lcu.2RBY.Chr5_474164816 | CR60: Lcu.2RBY.Chr5_474164829 | CS60: Lcu.2RBY.Chr5_474164844 | CT60: Lcu.2RBY.Chr5_474164875 | CU60: Lcu.2RBY.Chr5_474164919 | CV60: Lcu.2RBY.Chr5_474164944 | CW60: Lcu.2RBY.Chr5_474164985 | CX60: Lcu.2RBY.Chr5_474165022 | CY60: Lcu.2RBY.Chr5_474165062 | CZ60: Lcu.2RBY.Chr5_474165072 | DA60: Lcu.2RBY.Chr5_474165078 | DB60: Lcu.2RBY.Chr5_474165079 | DC60: Lcu.2RBY.Chr5_474165142 | DD60: Percentage of linesg | DE60: Number of linesh | DF60: Haplotype IDi | DG60: Haplotype EMMean valuesj
B61: QTL_cluster5 | C61: 5 | D61: 474129221 | E61: Lcu.2RBY.Chr5_474129221* | F61: AGILE_DS_RB84 | G61: 3.027955e-06 | H61: 0.022694008 | I61: TT | J61: TT | K61: AA | L61: TT | M61: TT | N61: AA | O61: TT | P61: CC | Q61: TT | R61: TT | S61: AA | T61: GG | U61: TT | V61: GG | W61: TT | X61: AA | Y61: AA | Z61: TT | AA61: TT | AB61: TT | AC61: AA | AD61: AA | AE61: TT | AF61: GG | AG61: AA | AH61: GG | AI61: AA | AJ61: TT | AK61: AA | AL61: AA | AM61: TT | AN61: TT | AO61: AA | AP61: AA | AQ61: TT | AR61: AA | AS61: AA | AT61: TT | AU61: CC | AV61: CC | AW61: AA | AX61: CC | AY61: TT | AZ61: CC | BA61: GG | BB61: AA | BC61: TT | BD61: AA | BE61: AA | BF61: TT | BG61: CC | BH61: TT | BI61: TT | BJ61: AA | BK61: AA | BL61: TT | BM61: TT | BN61: CC | BO61: AA | BP61: AA | BQ61: TT | BR61: AA | BS61: AA | BT61: AA | BU61: AA | BV61: GG | BW61: AA | BX61: GG | BY61: AA | BZ61: TT | CA61: CC | CB61: AA | CC61: GG | CD61: GG | CE61: GG | CF61: AA | CG61: TT | CH61: TT | CI61: AA | CJ61: CC | CK61: AA | CL61: TT | CM61: TT | CN61: AA | CO61: CC | CP61: TT | CQ61: CC | CR61: CC | CS61: AA | CT61: TT | CU61: GG | CV61: GG | CW61: AA | CX61: TT | CY61: CC | CZ61: TT | DA61: TT | DB61: CC | DC61: TT | DD61: 20.860927 | DE61: 63 | DF61: A | DG61: 1.4 ± 0.11 a
I62: TT | J62: TT | K62: GG | L62: GG | M62: TT | N62: AA | O62: CC | P62: TT | Q62: TT | R62: TT | S62: AA | T62: GG | U62: TT | V62: TT | W62: GG | X62: GG | Y62: AA | Z62: AA | AA62: AA | AB62: TT | AC62: GG | AD62: AA | AE62: CC | AF62: GG | AG62: TT | AH62: AA | AI62: GG | AJ62: CC | AK62: CC | AL62: GG | AM62: TT | AN62: TT | AO62: TT | AP62: AA | AQ62: AA | AR62: GG | AS62: AA | AT62: TT | AU62: TT | AV62: CC | AW62: TT | AX62: CC | AY62: TT | AZ62: AA | BA62: AA | BB62: AA | BC62: TT | BD62: AA | BE62: AA | BF62: AA | BG62: AA | BH62: TT | BI62: TT | BJ62: AA | BK62: AA | BL62: TT | BM62: TT | BN62: CC | BO62: AA | BP62: AA | BQ62: TT | BR62: AA | BS62: AA | BT62: AA | BU62: AA | BV62: GG | BW62: AA | BX62: GG | BY62: TT | BZ62: TT | CA62: CC | CB62: AA | CC62: AA | CD62: AA | CE62: TT | CF62: GG | CG62: TT | CH62: TT | CI62: AA | CJ62: CC | CK62: TT | CL62: TT | CM62: CC | CN62: GG | CO62: CC | CP62: TT | CQ62: CC | CR62: CC | CS62: AA | CT62: TT | CU62: GG | CV62: GG | CW62: AA | CX62: TT | CY62: CC | CZ62: TT | DA62: TT | DB62: CC | DC62: TT | DD62: 13.907285 | DE62: 42 | DF62: B | DG62: 1.17 ± 0.13 a
I63: TT | J63: TT | K63: AA | L63: TT | M63: TT | N63: AA | O63: TT | P63: CC | Q63: TT | R63: TT | S63: AA | T63: GG | U63: TT | V63: GG | W63: TT | X63: AA | Y63: AA | Z63: TT | AA63: TT | AB63: TT | AC63: GG | AD63: AA | AE63: CC | AF63: GG | AG63: TT | AH63: AA | AI63: AA | AJ63: TT | AK63: AA | AL63: AA | AM63: TT | AN63: TT | AO63: AA | AP63: AA | AQ63: TT | AR63: GG | AS63: AA | AT63: TT | AU63: TT | AV63: TT | AW63: TT | AX63: TT | AY63: CC | AZ63: AA | BA63: AA | BB63: CC | BC63: AA | BD63: GG | BE63: AA | BF63: AA | BG63: CC | BH63: TT | BI63: TT | BJ63: AA | BK63: AA | BL63: TT | BM63: TT | BN63: CC | BO63: AA | BP63: AA | BQ63: TT | BR63: AA | BS63: AA | BT63: AA | BU63: AA | BV63: GG | BW63: AA | BX63: GG | BY63: TT | BZ63: TT | CA63: CC | CB63: AA | CC63: AA | CD63: AA | CE63: TT | CF63: GG | CG63: TT | CH63: TT | CI63: AA | CJ63: CC | CK63: TT | CL63: TT | CM63: CC | CN63: GG | CO63: CC | CP63: CC | CQ63: CC | CR63: CC | CS63: AA | CT63: TT | CU63: GG | CV63: GG | CW63: AA | CX63: TT | CY63: CC | CZ63: TT | DA63: TT | DB63: CC | DC63: TT | DD63: 6.2913907 | DE63: 19 | DF63: C | DG63: 1.56 ± 0.19 a
CY64: Rare haplotype : | DD64: 14.900662 | DE64: 45 | DF64: R | DG64: 1.23 ± 0.13 a
CY65: Heterozygous haplotype : | DD65: 44.039735 | DE65: 133
CY66: Total : | DD66: 100 | DE66: 302
B67: * Favorable alleles at the GWAS-SNP: Lcu.2RBY.Chr5_474129221, are included in several rare haplotypes shared by less than four lines (haplotype frequency < 1.5%) in the AGILE panel. These rare haplotypes are not presented in the above table.
I71: LD block: Ae-Lc7.1f
I72: Size: 15 SNPs
I73: Number of significant GWAS-SNP: 2
I74: Physical interval: 198,643 pb
B75: QTL clustera | C75: Chromosome | D75: Position (pb) | E75: Peak GWAS-SNPb | F75: Variablec | G75: p-valued | H75: R2 e | I75: Lcu.2RBY.Chr7_515914044 | J75: Lcu.2RBY.Chr7_515914271 | K75: Lcu.2RBY.Chr7_515914322 | L75: Lcu.2RBY.Chr7_515918441 | M75: Lcu.2RBY.Chr7_515918620 | N75: Lcu.2RBY.Chr7_515918841 | O75: Lcu.2RBY.Chr7_515919000 | P75: Lcu.2RBY.Chr7_515996135 | Q75: Lcu.2RBY.Chr7_515997811 | R75: Lcu.2RBY.Chr7_516001797 | S75: Lcu.2RBY.Chr7_516002965 | T75: Lcu.2RBY.Chr7_516013212 | U75: Lcu.2RBY.Chr7_516013456 | V75: Lcu.2RBY.Chr7_516112282 | W75: Lcu.2RBY.Chr7_516112687 | X75: Percentage of linesg | Y75: Number of linesh | Z75: Haplotype IDi | AA75: Haplotype EMMean valuesj
B76: - | C76: 7 | D76: 515914271 | E76: Lcu.2RBY.Chr7_515914271 | F76: AGILE_SDL_RB84 | G76: 1.5602805e-06 | H76: 0.031770342 | I76: CC | J76: CC | K76: GG | L76: AA | M76: AA | N76: AA | O76: AA | P76: AA | Q76: GG | R76: AA | S76: AA | T76: TT | U76: TT | V76: AA | W76: TT | X76: 33.112583 | Y76: 100 | Z76: A | AA76: 0.23 ± 0.02 a
I77: CC | J77: AA | K77: AA | L77: GG | M77: AA | N77: CC | O77: AA | P77: AA | Q77: GG | R77: AA | S77: AA | T77: TT | U77: TT | V77: AA | W77: TT | X77: 16.225166 | Y77: 49 | Z77: B | AA77: 0.15 ± 0.03 a
I78: CC | J78: CC | K78: GG | L78: AA | M78: GG | N78: CC | O78: GG | P78: GG | Q78: AA | R78: AA | S78: AA | T78: TT | U78: CC | V78: GG | W78: AA | X78: 8.2781457 | Y78: 25 | Z78: C | AA78: 0.17 ± 0.04 a
I79: AA | J79: CC | K79: GG | L79: AA | M79: AA | N79: AA | O79: AA | P79: AA | Q79: GG | R79: CC | S79: AA | T79: AA | U79: CC | V79: AA | W79: TT | X79: 7.9470199 | Y79: 24 | Z79: D | AA79: 0.25 ± 0.04 a
S80: Rare haplotype : | X80: 31.788079 | Y80: 96 | Z80: R | AA80: 0.19 ± 0.02 a
S81: Heterozygous haplotype : | X81: 2.6490066 | Y81: 8
S82: Total : | X82: 100 | Y82: 302
I85: LD block: Ae-Lc7.2f
I86: Size: 101 SNPs
I87: Number of significant GWAS-SNP: 4
I88: Physical interval: 327,851 pb
B89: QTL clustera | C89: Chromosome | D89: Position (pb) | E89: Peak GWAS-SNPb | F89: Variablec | G89: p-valued | H89: R2 e | I89: Lcu.2RBY.Chr7_519597210 | J89: Lcu.2RBY.Chr7_519684247 | K89: Lcu.2RBY.Chr7_519684254 | L89: Lcu.2RBY.Chr7_519684259 | M89: Lcu.2RBY.Chr7_519684269 | N89: Lcu.2RBY.Chr7_519684433 | O89: Lcu.2RBY.Chr7_519684971 | P89: Lcu.2RBY.Chr7_519685217 | Q89: Lcu.2RBY.Chr7_519685229 | R89: Lcu.2RBY.Chr7_519779389 | S89: Lcu.2RBY.Chr7_519781281 | T89: Lcu.2RBY.Chr7_519781616 | U89: Lcu.2RBY.Chr7_519781642 | V89: Lcu.2RBY.Chr7_519781677 | W89: Lcu.2RBY.Chr7_519789100 | X89: Lcu.2RBY.Chr7_519789111 | Y89: Lcu.2RBY.Chr7_519793787 | Z89: Lcu.2RBY.Chr7_519794465 | AA89: Lcu.2RBY.Chr7_519796465 | AB89: Lcu.2RBY.Chr7_519802952 | AC89: Lcu.2RBY.Chr7_519802954 | AD89: Lcu.2RBY.Chr7_519803195 | AE89: Lcu.2RBY.Chr7_519804654 | AF89: Lcu.2RBY.Chr7_519804697 | AG89: Lcu.2RBY.Chr7_519804732 | AH89: Lcu.2RBY.Chr7_519805483 | AI89: Lcu.2RBY.Chr7_519808495 | AJ89: Lcu.2RBY.Chr7_519808596 | AK89: Lcu.2RBY.Chr7_519808611 | AL89: Lcu.2RBY.Chr7_519808643 | AM89: Lcu.2RBY.Chr7_519825175 | AN89: Lcu.2RBY.Chr7_519825204 | AO89: Lcu.2RBY.Chr7_519825400 | AP89: Lcu.2RBY.Chr7_519826203 | AQ89: Lcu.2RBY.Chr7_519826218 | AR89: Lcu.2RBY.Chr7_519826269 | AS89: Lcu.2RBY.Chr7_519826307 | AT89: Lcu.2RBY.Chr7_519826417 | AU89: Lcu.2RBY.Chr7_519826676 | AV89: Lcu.2RBY.Chr7_519826685 | AW89: Lcu.2RBY.Chr7_519826919 | AX89: Lcu.2RBY.Chr7_519826948 | AY89: Lcu.2RBY.Chr7_519828201 | AZ89: Lcu.2RBY.Chr7_519828494 | BA89: Lcu.2RBY.Chr7_519828774 | BB89: Lcu.2RBY.Chr7_519828961 | BC89: Lcu.2RBY.Chr7_519829261 | BD89: Lcu.2RBY.Chr7_519829266 | BE89: Lcu.2RBY.Chr7_519829369 | BF89: Lcu.2RBY.Chr7_519829944 | BG89: Lcu.2RBY.Chr7_519830618 | BH89: Lcu.2RBY.Chr7_519830638 | BI89: Lcu.2RBY.Chr7_519830641 | BJ89: Lcu.2RBY.Chr7_519830762 | BK89: Lcu.2RBY.Chr7_519832664 | BL89: Lcu.2RBY.Chr7_519832841 | BM89: Lcu.2RBY.Chr7_519834344 | BN89: Lcu.2RBY.Chr7_519834726 | BO89: Lcu.2RBY.Chr7_519834792 | BP89: Lcu.2RBY.Chr7_519835017 | BQ89: Lcu.2RBY.Chr7_519835146 | BR89: Lcu.2RBY.Chr7_519846865 | BS89: Lcu.2RBY.Chr7_519846993 | BT89: Lcu.2RBY.Chr7_519847446 | BU89: Lcu.2RBY.Chr7_519847510 | BV89: Lcu.2RBY.Chr7_519847599 | BW89: Lcu.2RBY.Chr7_519847737 | BX89: Lcu.2RBY.Chr7_519847889 | BY89: Lcu.2RBY.Chr7_519847912 | BZ89: Lcu.2RBY.Chr7_519847941 | CA89: Lcu.2RBY.Chr7_519849758 | CB89: Lcu.2RBY.Chr7_519849801 | CC89: Lcu.2RBY.Chr7_519855313 | CD89: Lcu.2RBY.Chr7_519855437 | CE89: Lcu.2RBY.Chr7_519855526 | CF89: Lcu.2RBY.Chr7_519855991 | CG89: Lcu.2RBY.Chr7_519856445 | CH89: Lcu.2RBY.Chr7_519856720 | CI89: Lcu.2RBY.Chr7_519857511 | CJ89: Lcu.2RBY.Chr7_519859217 | CK89: Lcu.2RBY.Chr7_519860346 | CL89: Lcu.2RBY.Chr7_519862836 | CM89: Lcu.2RBY.Chr7_519863015 | CN89: Lcu.2RBY.Chr7_519865689 | CO89: Lcu.2RBY.Chr7_519866262 | CP89: Lcu.2RBY.Chr7_519866590 | CQ89: Lcu.2RBY.Chr7_519874070 | CR89: Lcu.2RBY.Chr7_519874367 | CS89: Lcu.2RBY.Chr7_519875736 | CT89: Lcu.2RBY.Chr7_519875903 | CU89: Lcu.2RBY.Chr7_519876983 | CV89: Lcu.2RBY.Chr7_519877622 | CW89: Lcu.2RBY.Chr7_519879098 | CX89: Lcu.2RBY.Chr7_519879812 | CY89: Lcu.2RBY.Chr7_519888670 | CZ89: Lcu.2RBY.Chr7_519888757 | DA89: Lcu.2RBY.Chr7_519889521 | DB89: Lcu.2RBY.Chr7_519891831 | DC89: Lcu.2RBY.Chr7_519925041 | DD89: Lcu.2RBY.Chr7_519925045 | DE89: Lcu.2RBY.Chr7_519925061 | DF89: Percentage of linesg | DG89: Number of linesh | DH89: Haplotype IDi | DI89: Haplotype EMMean valuesj
B90: - | C90: 7 | D90: 519849758 | E90: Lcu.2RBY.Chr7_519849758 | F90: AGILE_RDL_RB84 | G90: 1.0222762e-06 | H90: 0.009626279 | I90: TT | J90: TT | K90: GG | L90: CC | M90: AA | N90: CC | O90: TT | P90: TT | Q90: GG | R90: AA | S90: TT | T90: CC | U90: CC | V90: AA | W90: TT | X90: AA | Y90: TT | Z90: TT | AA90: CC | AB90: TT | AC90: GG | AD90: AA | AE90: CC | AF90: TT | AG90: GG | AH90: AA | AI90: AA | AJ90: TT | AK90: AA | AL90: AA | AM90: AA | AN90: TT | AO90: TT | AP90: AA | AQ90: CC | AR90: TT | AS90: TT | AT90: AA | AU90: GG | AV90: AA | AW90: TT | AX90: GG | AY90: TT | AZ90: AA | BA90: AA | BB90: TT | BC90: TT | BD90: TT | BE90: AA | BF90: AA | BG90: TT | BH90: GG | BI90: CC | BJ90: GG | BK90: TT | BL90: TT | BM90: TT | BN90: CC | BO90: AA | BP90: TT | BQ90: CC | BR90: TT | BS90: CC | BT90: TT | BU90: AA | BV90: AA | BW90: TT | BX90: TT | BY90: AA | BZ90: AA | CA90: GG | CB90: AA | CC90: CC | CD90: AA | CE90: AA | CF90: AA | CG90: GG | CH90: CC | CI90: GG | CJ90: AA | CK90: TT | CL90: TT | CM90: AA | CN90: GG | CO90: CC | CP90: CC | CQ90: AA | CR90: AA | CS90: CC | CT90: AA | CU90: GG | CV90: TT | CW90: TT | CX90: TT | CY90: GG | CZ90: TT | DA90: TT | DB90: AA | DC90: AA | DD90: AA | DE90: GG | DF90: 12.582781 | DG90: 38 | DH90: A | DI90: -0.02 ± 0.04 a
I91: TT | J91: CC | K91: GG | L91: CC | M91: AA | N91: CC | O91: CC | P91: TT | Q91: GG | R91: AA | S91: TT | T91: CC | U91: CC | V91: AA | W91: TT | X91: AA | Y91: TT | Z91: TT | AA91: CC | AB91: TT | AC91: GG | AD91: AA | AE91: CC | AF91: TT | AG91: GG | AH91: AA | AI91: AA | AJ91: TT | AK91: AA | AL91: AA | AM91: AA | AN91: TT | AO91: TT | AP91: AA | AQ91: CC | AR91: TT | AS91: TT | AT91: AA | AU91: GG | AV91: AA | AW91: TT | AX91: GG | AY91: TT | AZ91: AA | BA91: TT | BB91: TT | BC91: TT | BD91: TT | BE91: AA | BF91: AA | BG91: TT | BH91: GG | BI91: CC | BJ91: GG | BK91: TT | BL91: TT | BM91: TT | BN91: CC | BO91: AA | BP91: TT | BQ91: CC | BR91: TT | BS91: CC | BT91: TT | BU91: AA | BV91: AA | BW91: TT | BX91: TT | BY91: AA | BZ91: AA | CA91: GG | CB91: AA | CC91: CC | CD91: AA | CE91: AA | CF91: AA | CG91: GG | CH91: CC | CI91: GG | CJ91: AA | CK91: TT | CL91: TT | CM91: AA | CN91: GG | CO91: CC | CP91: CC | CQ91: AA | CR91: AA | CS91: CC | CT91: AA | CU91: GG | CV91: TT | CW91: TT | CX91: TT | CY91: GG | CZ91: TT | DA91: TT | DB91: AA | DC91: AA | DD91: AA | DE91: GG | DF91: 7.615894 | DG91: 23 | DH91: B | DI91: -0.09 ± 0.05 a
I92: TT | J92: TT | K92: CC | L92: TT | M92: AA | N92: TT | O92: TT | P92: TT | Q92: GG | R92: AA | S92: CC | T92: TT | U92: AA | V92: GG | W92: CC | X92: AA | Y92: TT | Z92: TT | AA92: AA | AB92: TT | AC92: GG | AD92: AA | AE92: CC | AF92: TT | AG92: GG | AH92: TT | AI92: AA | AJ92: CC | AK92: TT | AL92: AA | AM92: AA | AN92: AA | AO92: TT | AP92: GG | AQ92: AA | AR92: CC | AS92: TT | AT92: CC | AU92: AA | AV92: TT | AW92: TT | AX92: AA | AY92: CC | AZ92: CC | BA92: AA | BB92: TT | BC92: TT | BD92: CC | BE92: AA | BF92: CC | BG92: TT | BH92: AA | BI92: TT | BJ92: GG | BK92: CC | BL92: TT | BM92: TT | BN92: CC | BO92: AA | BP92: CC | BQ92: TT | BR92: AA | BS92: TT | BT92: TT | BU92: GG | BV92: TT | BW92: AA | BX92: TT | BY92: AA | BZ92: GG | CA92: GG | CB92: AA | CC92: CC | CD92: AA | CE92: AA | CF92: TT | CG92: GG | CH92: TT | CI92: GG | CJ92: TT | CK92: TT | CL92: TT | CM92: TT | CN92: AA | CO92: TT | CP92: AA | CQ92: GG | CR92: CC | CS92: TT | CT92: AA | CU92: GG | CV92: TT | CW92: TT | CX92: TT | CY92: GG | CZ92: CC | DA92: AA | DB92: AA | DC92: GG | DD92: GG | DE92: AA | DF92: 6.9536424 | DG92: 21 | DH92: C | DI92: -0.03 ± 0.06 a
I93: TT | J93: TT | K93: GG | L93: CC | M93: AA | N93: CC | O93: TT | P93: TT | Q93: GG | R93: TT | S93: CC | T93: TT | U93: AA | V93: GG | W93: TT | X93: AA | Y93: TT | Z93: TT | AA93: AA | AB93: AA | AC93: AA | AD93: CC | AE93: AA | AF93: AA | AG93: CC | AH93: AA | AI93: GG | AJ93: CC | AK93: TT | AL93: CC | AM93: AA | AN93: AA | AO93: CC | AP93: GG | AQ93: AA | AR93: TT | AS93: TT | AT93: CC | AU93: GG | AV93: TT | AW93: TT | AX93: AA | AY93: TT | AZ93: AA | BA93: AA | BB93: AA | BC93: CC | BD93: TT | BE93: TT | BF93: CC | BG93: AA | BH93: AA | BI93: CC | BJ93: AA | BK93: TT | BL93: CC | BM93: CC | BN93: CC | BO93: GG | BP93: CC | BQ93: TT | BR93: AA | BS93: TT | BT93: TT | BU93: GG | BV93: TT | BW93: TT | BX93: CC | BY93: GG | BZ93: AA | CA93: TT | CB93: TT | CC93: CC | CD93: GG | CE93: AA | CF93: TT | CG93: GG | CH93: TT | CI93: GG | CJ93: TT | CK93: TT | CL93: TT | CM93: TT | CN93: AA | CO93: TT | CP93: AA | CQ93: GG | CR93: CC | CS93: TT | CT93: AA | CU93: GG | CV93: TT | CW93: TT | CX93: TT | CY93: TT | CZ93: CC | DA93: AA | DB93: AA | DC93: GG | DD93: GG | DE93: AA | DF93: 5.9602649 | DG93: 18 | DH93: D | DI93: -0.04 ± 0.05 a
DA94: Rare haplotype : | DF94: 27.81457 | DG94: 84 | DH94: R | DI94: -0.05 ± 0.02 a
DA95: Heterozygous haplotype : | DF95: 39.072848 | DG95: 118
DA96: Total : | DF96: 100 | DG96: 302
B98: a QTL cluster presented in Ma et al. (2020), colocalizing with resistance LD block detected in this study.
B99: b SNP showing the most significant p-value for each GWAS peak, using the MLM.
B100: c Traits from which GWAS-SNPs were detected from the AGILE lentil panel. DS: Disease Severity; RDL: Root Dry Weight Loss; SDL: Shoot Dry Weight Loss. RB84 is a strain of A. euteiches belonging to the pea pathotype I.
B101: d P-value associated with presented significant GWAS-SNPs passing the relaxed p-value threshold (p-value = 5.0e-06).
B102: e Marginal global explanatory capacities (R2) of each haplotype set.
B103: f Name of the LD block comprising the most significant SNP at each GWAS peak detected using the MLM. Additional significant GWAS-SNPs included in LD blocks are presented in bold.
B104: g Percentage and h number of lines sharing a unique haplotype in the LD block.
B105: i Haplotype identification.
B106: j EMMean ± standard error values for single haplotypes (frequency ≥ 5%) and the group of rare haplotypes (cumulated frequency ≥ 5%; n ≥ 2 rare haplotypes). Significant differences between EMMean values computed for each haplotype are presented with small letters (Tukey-HSD test; α = 5%).

Sheet Table.2.F
A1: Leprévost et al.
A2: Comparative genomic analysis of QTL for resistance to Aphanomyces euteiches between pea, lentil, faba bean and the model species Medicago truncatula
A4: Supplementary Table 2.F : Description of the favorable haplotypes, within resistance LD blocks, carried by each lentil accession from the AGILE panel.
B7: Haplotypea | D7: Number of favorable partial resistance haplotypes | E7: EMMean valuesb
A8: Genotype | B8: Ae-Lc1.1 | C8: Ae-Lc2.1 | E8: AGILE_DS_RB84 | F8: AGILE_RDL_RB84 | G8: AGILE_SDL_RB84
A9: PI 508090 AGL | B9: B | C9: D | D9: =COUNTIF(B9,"A")+COUNTIF(B9,"B")+COUNTIF(C9,"D") -> 2 | E9: -0.35386575 | F9: -0.38642447 | G9: 0.19875855
A10: CN 108369 AGL | B10: B | C10: D | D10: =COUNTIF(B10,"A")+COUNTIF(B10,"B")+COUNTIF(C10,"D") -> 2 | E10: -0.3505288 | F10: 0.32732292 | G10: 0.2379751
A11: CDC Royale AGL | B11: B | C11: D | D11: =COUNTIF(B11,"A")+COUNTIF(B11,"B")+COUNTIF(C11,"D") -> 2 | E11: -0.31730424 | F11: -0.05257284 | G11: -0.045158706
A12: ILL 8595 AGL | B12: B | C12: D | D12: =COUNTIF(B12,"A")+COUNTIF(B12,"B")+COUNTIF(C12,"D") -> 2 | E12: -0.2265047 | F12: . | G12: .
A13: ILL 8072 AGL | B13: A | C13: D | D13: =COUNTIF(B13,"A")+COUNTIF(B13,"B")+COUNTIF(C13,"D") -> 2 | E13: -0.19484274 | F13: 0.086976585 | G13: 0.18329482
A14: ILL 5480 AGL | B14: B | C14: D | D14: =COUNTIF(B14,"A")+COUNTIF(B14,"B")+COUNTIF(C14,"D") -> 2 | E14: -0.043931121 | F14: -0.24866754 | G14: 0.090915716
A15: PI 297287 AGL | B15: A | C15: D | D15: =COUNTIF(B15,"A")+COUNTIF(B15,"B")+COUNTIF(C15,"D") -> 2 | E15: 0.070279685 | F15: -0.24687177 | G15: -0.20424758
A16: CDC Greenstar AGL | B16: A | C16: D | D16: =COUNTIF(B16,"A")+COUNTIF(B16,"B")+COUNTIF(C16,"D") -> 2 | E16: 0.25021812 | F16: -0.043920304 | G16: 0.048574776
A17: CDC Glamis AGL | B17: A | C17: D | D17: =COUNTIF(B17,"A")+COUNTIF(B17,"B")+COUNTIF(C17,"D") -> 2 | E17: 0.3200504 | F17: 0.26229139 | G17: 0.35378771
A18: ILL 4783 AGL | B18: A | C18: D | D18: =COUNTIF(B18,"A")+COUNTIF(B18,"B")+COUNTIF(C18,"D") -> 2 | E18: 0.41184327 | F18: 0.0529667 | G18: 0.076046475
A19: PI 298122 LSP AGL | B19: A | C19: D | D19: =COUNTIF(B19,"A")+COUNTIF(B19,"B")+COUNTIF(C19,"D") -> 2 | E19: 0.41198864 | F19: . | G19: .
A20: PI 345627 LSP AGL | B20: B | C20: D | D20: =COUNTIF(B20,"A")+COUNTIF(B20,"B")+COUNTIF(C20,"D") -> 2 | E20: 0.48014689 | F20: 0.22142335 | G20: -0.24201611
A21: PI 490288 LSP AGL | B21: A | C21: D | D21: =COUNTIF(B21,"A")+COUNTIF(B21,"B")+COUNTIF(C21,"D") -> 2 | E21: 0.77905469 | F21: 0.15499932 | G21: 0.36299678
A22: Laird AGL | B22: A | C22: D | D22: =COUNTIF(B22,"A")+COUNTIF(B22,"B")+COUNTIF(C22,"D") -> 2 | E22: 0.93578478 | F22: 0.15841168 | G22: 0.25446746
A23: CDC LeMay AGL | B23: B | C23: D | D23: =COUNTIF(B23,"A")+COUNTIF(B23,"B")+COUNTIF(C23,"D") -> 2 | E23: 1.362356 | F23: . | G23: .
A24: PI 289079 LSP AGL | B24: A | C24: D | D24: =COUNTIF(B24,"A")+COUNTIF(B24,"B")+COUNTIF(C24,"D") -> 2 | E24: 1.7945367 | F24: -0.22193922 | G24: 0.29887099
A25: CDC Redwing AGL | B25: A | C25: D | D25: =COUNTIF(B25,"A")+COUNTIF(B25,"B")+COUNTIF(C25,"D") -> 2 | E25: 2.048943 | F25: . | G25: .
A26: PI 238758 LSP AGL | B26: B | C26: D | D26: =COUNTIF(B26,"A")+COUNTIF(B26,"B")+COUNTIF(C26,"D") -> 2 | E26: 2.0595236 | F26: -0.062065609 | G26: 0.10368188
A27: CDC Asterix AGL | B27: B | C27: - | D27: =COUNTIF(B27,"A")+COUNTIF(B27,"B")+COUNTIF(C27,"D") -> 1 | E27: -1.2678059 | F27: 0.099687765 | G27: 0.1112129
A28: PI 289073 LSP AGL | B28: R | C28: D | D28: =COUNTIF(B28,"A")+COUNTIF(B28,"B")+COUNTIF(C28,"D") -> 1 | E28: -0.63002359 | F28: -0.27059681 | G28: -0.2320535
A29: ILL 9 AGL | B29: A | C29: B | D29: =COUNTIF(B29,"A")+COUNTIF(B29,"B")+COUNTIF(C29,"D") -> 1 | E29: -0.62530546 | F29: -0.047698456 | G29: 0.1096777
A30: ILL 8174 AGL | B30: B | C30: - | D30: =COUNTIF(B30,"A")+COUNTIF(B30,"B")+COUNTIF(C30,"D") -> 1 | E30: -0.52999367 | F30: -0.08853229 | G30: 0.084870511
A31: PI 289066 AGL | B31: B | C31: R | D31: =COUNTIF(B31,"A")+COUNTIF(B31,"B")+COUNTIF(C31,"D") -> 1 | E31: -0.4499577 | F31: 0.020569726 | G31: 0.16569891
A32: ILL 10657 AGL | B32: A | C32: B | D32: =COUNTIF(B32,"A")+COUNTIF(B32,"B")+COUNTIF(C32,"D") -> 1 | E32: -0.44443216 | F32: -0.01005033 | G32: 0.18968367
A33: PI 320945 LSP AGL | B33: B | C33: R | D33: =COUNTIF(B33,"A")+COUNTIF(B33,"B")+COUNTIF(C33,"D") -> 1 | E33: -0.4012193 | F33: 0.34535408 | G33: 0.39219229
A34: PI 374116 LSP AGL | B34: B | C34: - | D34: =COUNTIF(B34,"A")+COUNTIF(B34,"B")+COUNTIF(C34,"D") -> 1 | E34: -0.39379197 | F34: -0.10606628 | G34: 0.29285585
A35: CDC KR-1 AGL | B35: A | C35: B | D35: =COUNTIF(B35,"A")+COUNTIF(B35,"B")+COUNTIF(C35,"D") -> 1 | E35: -0.38051836 | F35: -0.039754648 | G35: 0.25317491
A36: PI 297783 AGL | B36: B | C36: R | D36: =COUNTIF(B36,"A")+COUNTIF(B36,"B")+COUNTIF(C36,"D") -> 1 | E36: -0.18591136 | F36: -0.20361109 | G36: -0.041132714
A37: PI 299165 AGL | B37: A | C37: B | D37: =COUNTIF(B37,"A")+COUNTIF(B37,"B")+COUNTIF(C37,"D") -> 1 | E37: -0.17877787 | F37: . | G37: .
A38: PI 420929 LSP AGL | B38: A | C38: - | D38: =COUNTIF(B38,"A")+COUNTIF(B38,"B")+COUNTIF(C38,"D") -> 1 | E38: -0.14686453 | F38: 0.14278571 | G38: 0.22143779
A39: PI 299126 LSP AGL | B39: B | C39: R | D39: =COUNTIF(B39,"A")+COUNTIF(B39,"B")+COUNTIF(C39,"D") -> 1 | E39: -0.13574676 | F39: -0.035525697 | G39: 0.1924032
A40: CDC Sedley AGL | B40: A | C40: - | D40: =COUNTIF(B40,"A")+COUNTIF(B40,"B")+COUNTIF(C40,"D") -> 1 | E40: -0.074928877 | F40: -0.086415548 | G40: 0.081681773
A41: CDC Red Rider AGL | B41: A | C41: C | D41: =COUNTIF(B41,"A")+COUNTIF(B41,"B")+COUNTIF(C41,"D") -> 1 | E41: -0.049090433 | F41: 0.12823651 | G41: 0.3005118
A42: PI 299163 LSP AGL | B42: B | C42: B | D42: =COUNTIF(B42,"A")+COUNTIF(B42,"B")+COUNTIF(C42,"D") -> 1 | E42: 0.056727927 | F42: . | G42: .
A43: CDC Gold AGL | B43: R | C43: D | D43: =COUNTIF(B43,"A")+COUNTIF(B43,"B")+COUNTIF(C43,"D") -> 1 | E43: 0.061736661 | F43: -0.031046674 | G43: 0.11942611
A44: ILL 7716 AGL | B44: A | C44: - | D44: =COUNTIF(B44,"A")+COUNTIF(B44,"B")+COUNTIF(C44,"D") -> 1 | E44: 0.18312335 | F44: -0.034921064 | G44: 0.29852413
A45: ILL 7946 AGL | B45: A | C45: B | D45: =COUNTIF(B45,"A")+COUNTIF(B45,"B")+COUNTIF(C45,"D") -> 1 | E45: 0.20536881 | F45: -0.078477394 | G45: 0.30188447
A46: PI 468900 LSP AGL | B46: A | C46: C | D46: =COUNTIF(B46,"A")+COUNTIF(B46,"B")+COUNTIF(C46,"D") -> 1 | E46: 0.21007192 | F46: 0.057523795 | G46: 0.41055871
A47: W6 27763 LSP AGL | B47: A | C47: - | D47: =COUNTIF(B47,"A")+COUNTIF(B47,"B")+COUNTIF(C47,"D") -> 1 | E47: 0.21797617 | F47: -0.27612202 | G47: 0.20848043
A48: ILL 5722 AGL | B48: B | C48: B | D48: =COUNTIF(B48,"A")+COUNTIF(B48,"B")+COUNTIF(C48,"D") -> 1 | E48: 0.23541893 | F48: 0.043218735 | G48: 0.19172739
A49: PI 420818 AGL | B49: B | C49: B | D49: =COUNTIF(B49,"A")+COUNTIF(B49,"B")+COUNTIF(C49,"D") -> 1 | E49: 0.25575449 | F49: . | G49: .
A50: PI 299345 AGL | B50: A | C50: B | D50: =COUNTIF(B50,"A")+COUNTIF(B50,"B")+COUNTIF(C50,"D") -> 1 | E50: 0.3257331 | F50: . | G50: .
A51: CDC Redcoat AGL | B51: A | C51: C | D51: =COUNTIF(B51,"A")+COUNTIF(B51,"B")+COUNTIF(C51,"D") -> 1 | E51: 0.34755848 | F51: -0.18499381 | G51: -0.091604276
A52: ILL 7558 AGL | B52: A | C52: - | D52: =COUNTIF(B52,"A")+COUNTIF(B52,"B")+COUNTIF(C52,"D") -> 1 | E52: 0.34803659 | F52: -0.12913671 | G52: 0.16789643
A53: CN 108370 AGL | B53: - | C53: D | D53: =COUNTIF(B53,"A")+COUNTIF(B53,"B")+COUNTIF(C53,"D") -> 1 | E53: 0.38821142 | F53: 0.045464054 | G53: 0.13884188
A54: ILL 1553 AGL | B54: A | C54: A | D54: =COUNTIF(B54,"A")+COUNTIF(B54,"B")+COUNTIF(C54,"D") -> 1 | E54: 0.40069295 | F54: -0.093894676 | G54: 0.257738
A55: PI 420925 LSP AGL | B55: B | C55: R | D55: =COUNTIF(B55,"A")+COUNTIF(B55,"B")+COUNTIF(C55,"D") -> 1 | E55: 0.4014558 | F55: -0.093665178 | G55: -0.032549613
A56: PI 299177 LSP AGL | B56: A | C56: R | D56: =COUNTIF(B56,"A")+COUNTIF(B56,"B")+COUNTIF(C56,"D") -> 1 | E56: 0.41010065 | F56: 0.2315484 | G56: 0.30509345
A57: PI 533693 LSP AGL | B57: R | C57: D | D57: =COUNTIF(B57,"A")+COUNTIF(B57,"B")+COUNTIF(C57,"D") -> 1 | E57: 0.41958873 | F57: -0.095810727 | G57: 0.27629634
A58: CN 105862 AGL | B58: A | C58: B | D58: =COUNTIF(B58,"A")+COUNTIF(B58,"B")+COUNTIF(C58,"D") -> 1 | E58: 0.42352275 | F58: . | G58: .
A59: ILL 4400 AGL | B59: A | C59: - | D59: =COUNTIF(B59,"A")+COUNTIF(B59,"B")+COUNTIF(C59,"D") -> 1 | E59: 0.4479161 | F59: -0.18920647 | G59: 0.19192073
A60: PI 472615 LSP AGL | B60: A | C60: - | D60: =COUNTIF(B60,"A")+COUNTIF(B60,"B")+COUNTIF(C60,"D") -> 1 | E60: 0.45402556 | F60: 0.050115245 | G60: 0.16934031
A61: PI 374121 AGL | B61: A | C61: - | D61: =COUNTIF(B61,"A")+COUNTIF(B61,"B")+COUNTIF(C61,"D") -> 1 | E61: 0.46685489 | F61: -0.39473507 | G61: 0.11657883
A62: CN 105732 AGL | B62: B | C62: A | D62: =COUNTIF(B62,"A")+COUNTIF(B62,"B")+COUNTIF(C62,"D") -> 1 | E62: 0.49262721 | F62: -0.036891343 | G62: 0.15628498
A63: PI 451763 LSP AGL | B63: D | C63: D | D63: =COUNTIF(B63,"A")+COUNTIF(B63,"B")+COUNTIF(C63,"D") -> 1 | E63: 0.55045507 | F63: 0.30926151 | G63: 0.41430804
A64: PI 432190 LSP AGL | B64: D | C64: D | D64: =COUNTIF(B64,"A")+COUNTIF(B64,"B")+COUNTIF(C64,"D") -> 1 | E64: 0.57204367 | F64: -0.11575731 | G64: 0.26339418
A65: ILL 7978 AGL | B65: B | C65: R | D65: =COUNTIF(B65,"A")+COUNTIF(B65,"B")+COUNTIF(C65,"D") -> 1 | E65: 0.58235325 | F65: -0.16887597 | G65: -0.0016103106
A66: CDC Rouleau AGL | B66: B | C66: - | D66: =COUNTIF(B66,"A")+COUNTIF(B66,"B")+COUNTIF(C66,"D") -> 1 | E66: 0.61610441 | F66: 0.007074624 | G66: 0.35666016
A67: PI 308614 LSP AGL | B67: A | C67: - | D67: =COUNTIF(B67,"A")+COUNTIF(B67,"B")+COUNTIF(C67,"D") -> 1 | E67: 0.65248235 | F67: -0.1073181 | G67: 0.21789423
A68: ILL 5209 AGL | B68: A | C68: B | D68: =COUNTIF(B68,"A")+COUNTIF(B68,"B")+COUNTIF(C68,"D") -> 1 | E68: 0.6665129 | F68: 0.030558882 | G68: 0.039869826
A69: PI 299116 LSP AGL | B69: B | C69: R | D69: =COUNTIF(B69,"A")+COUNTIF(B69,"B")+COUNTIF(C69,"D") -> 1 | E69: 0.67255033 | F69: -0.34231909 | G69: 0.31719191
A70: PI 432106 LSP AGL | B70: A | C70: A | D70: =COUNTIF(B70,"A")+COUNTIF(B70,"B")+COUNTIF(C70,"D") -> 1 | E70: 0.67697383 | F70: . | G70: .
A71: PI 320946 LSP AGL | B71: B | C71: B | D71: =COUNTIF(B71,"A")+COUNTIF(B71,"B")+COUNTIF(C71,"D") -> 1 | E71: 0.6953151 | F71: 0.17422521 | G71: 0.32803333
A72: PI 280686 AGL | B72: B | C72: - | D72: =COUNTIF(B72,"A")+COUNTIF(B72,"B")+COUNTIF(C72,"D") -> 1 | E72: 0.70779923 | F72: 0.24308244 | G72: 0.32951859
A73: Crimson AGL | B73: A | C73: - | D73: =COUNTIF(B73,"A")+COUNTIF(B73,"B")+COUNTIF(C73,"D") -> 1 | E73: 0.72847121 | F73: 0.059909116 | G73: 0.14021473
A74: ILL 6853 AGL | B74: B | C74: B | D74: =COUNTIF(B74,"A")+COUNTIF(B74,"B")+COUNTIF(C74,"D") -> 1 | E74: 0.73262685 | F74: 0.039572781 | G74: 0.2296594
A75: PI 298644 LSP AGL | B75: A | C75: B | D75: =COUNTIF(B75,"A")+COUNTIF(B75,"B")+COUNTIF(C75,"D") -> 1 | E75: 0.75154999 | F75: . | G75: .
A76: PI 299164 LSP AGL | B76: A | C76: R | D76: =COUNTIF(B76,"A")+COUNTIF(B76,"B")+COUNTIF(C76,"D") -> 1 | E76: 0.7642755 | F76: -0.47980877 | G76: -0.3212836
A77: PI 320937 LSP AGL | B77: B | C77: - | D77: =COUNTIF(B77,"A")+COUNTIF(B77,"B")+COUNTIF(C77,"D") -> 1 | E77: 0.80217164 | F77: 0.10104128 | G77: 0.25329365
A78: PI 431618 LSP AGL | B78: A | C78: A | D78: =COUNTIF(B78,"A")+COUNTIF(B78,"B")+COUNTIF(C78,"D") -> 1 | E78: 0.80293945 | F78: -0.095531575 | G78: 0.24219786
A79: PI 298922 LSP AGL | B79: B | C79: C | D79: =COUNTIF(B79,"A")+COUNTIF(B79,"B")+COUNTIF(C79,"D") -> 1 | E79: 0.82874747 | F79: -0.28419455 | G79: 0.061224652
A80: PI 370481 LSP AGL | B80: A | C80: C | D80: =COUNTIF(B80,"A")+COUNTIF(B80,"B")+COUNTIF(C80,"D") -> 1 | E80: 0.83668239 | F80: . | G80: .
A81: PI 297767 AGL | B81: A | C81: B | D81: =COUNTIF(B81,"A")+COUNTIF(B81,"B")+COUNTIF(C81,"D") -> 1 | E81: 0.85443228 | F81: . | G81: .
A82: ILL 10748 AGL | B82: B | C82: C | D82: =COUNTIF(B82,"A")+COUNTIF(B82,"B")+COUNTIF(C82,"D") -> 1 | E82: 0.88853875 | F82: -0.28934856 | G82: -0.21679501
A83: ILL 11548 AGL | B83: B | C83: C | D83: =COUNTIF(B83,"A")+COUNTIF(B83,"B")+COUNTIF(C83,"D") -> 1 | E83: 0.89992587 | F83: 0.18710327 | G83: 0.20088411
A84: CN 105864 AGL | B84: B | C84: C | D84: =COUNTIF(B84,"A")+COUNTIF(B84,"B")+COUNTIF(C84,"D") -> 1 | E84: 0.91773859 | F84: 0.04527387 | G84: 0.043073005
A85: PI 374120 LSP AGL | B85: A | C85: - | D85: =COUNTIF(B85,"A")+COUNTIF(B85,"B")+COUNTIF(C85,"D") -> 1 | E85: 0.93464316 | F85: -0.22977081 | G85: 0.24937419
A86: ILL 6211 AGL | B86: A | C86: - | D86: =COUNTIF(B86,"A")+COUNTIF(B86,"B")+COUNTIF(C86,"D") -> 1 | E86: 0.94284277 | F86: 0.33592433 | G86: 0.28177261
A87: ILL 2194 AGL | B87: B | C87: B | D87: =COUNTIF(B87,"A")+COUNTIF(B87,"B")+COUNTIF(C87,"D") -> 1 | E87: 1.0032557 | F87: . | G87: .
A88: PI 533688 LSP AGL | B88: A | C88: B | D88: =COUNTIF(B88,"A")+COUNTIF(B88,"B")+COUNTIF(C88,"D") -> 1 | E88: 1.0057947 | F88: . | G88: .
A89: ILL 6821 AGL | B89: A | C89: - | D89: =COUNTIF(B89,"A")+COUNTIF(B89,"B")+COUNTIF(C89,"D") -> 1 | E89: 1.0137372 | F89: 0.099516366 | G89: 0.34413725
A90: ILL 4605 AGL | B90: A | C90: - | D90: =COUNTIF(B90,"A")+COUNTIF(B90,"B")+COUNTIF(C90,"D") -> 1 | E90: 1.041769 | F90: -0.17600544 | G90: 0.029824677
A91: PI 302398 LSP AGL | B91: A | C91: B | D91: =COUNTIF(B91,"A")+COUNTIF(B91,"B")+COUNTIF(C91,"D") -> 1 | E91: 1.0475518 | F91: . | G91: .
A92: PI 193550 AGL | B92: B | C92: R | D92: =COUNTIF(B92,"A")+COUNTIF(B92,"B")+COUNTIF(C92,"D") -> 1 | E92: 1.0487385 | F92: 0.19082494 | G92: 0.10038336
A93: ILL 6002 AGL | B93: A | C93: - | D93: =COUNTIF(B93,"A")+COUNTIF(B93,"B")+COUNTIF(C93,"D") -> 1 | E93: 1.0794753 | F93: . | G93: .
A94: W6 27760 LSP AGL | B94: A | C94: C | D94: =COUNTIF(B94,"A")+COUNTIF(B94,"B")+COUNTIF(C94,"D") -> 1 | E94: 1.0870326 | F94: -0.066607047 | G94: 0.34944989
A95: CN 105767 AGL | B95: A | C95: - | D95: =COUNTIF(B95,"A")+COUNTIF(B95,"B")+COUNTIF(C95,"D") -> 1 | E95: 1.118818 | F95: -0.17611849 | G95: 0.26030561
A96: PI 299121 LSP AGL | B96: A | C96: R | D96: =COUNTIF(B96,"A")+COUNTIF(B96,"B")+COUNTIF(C96,"D") -> 1 | E96: 1.1482976 | F96: 0.18357048 | G96: 0.13763974
A97: PI 432005 LSP AGL | B97: A | C97: A | D97: =COUNTIF(B97,"A")+COUNTIF(B97,"B")+COUNTIF(C97,"D") -> 1 | E97: 1.1569158 | F97: -0.26265458 | G97: 0.36600528
A98: PI 374118 AGL | B98: A | C98: - | D98: =COUNTIF(B98,"A")+COUNTIF(B98,"B")+COUNTIF(C98,"D") -> 1 | E98: 1.1828797 | F98: -0.10923471 | G98: 0.25970992
A99: CDC Rosie AGL | B99: D | C99: D | D99: =COUNTIF(B99,"A")+COUNTIF(B99,"B")+COUNTIF(C99,"D") -> 1 | E99: 1.2114083 | F99: . | G99: .
A100: PI 299312 AGL | B100: A | C100: B | D100: =COUNTIF(B100,"A")+COUNTIF(B100,"B")+COUNTIF(C100,"D") -> 1 | E100: 1.2192977 | F100: 0.19735733 | G100: 0.2880498
A101: PI 297754 LSP AGL | B101: A | C101: C | D101: =COUNTIF(B101,"A")+COUNTIF(B101,"B")+COUNTIF(C101,"D") -> 1 | E101: 1.2222676 | F101: -0.018748828 | G101: 0.12609398
A102: PI 431633 LSP AGL | B102: A | C102: A | D102: =COUNTIF(B102,"A")+COUNTIF(B102,"B")+COUNTIF(C102,"D") -> 1 | E102: 1.2239572 | F102: . | G102: .
A103: ILL 4671 AGL | B103: A | C103: B | D103: =COUNTIF(B103,"A")+COUNTIF(B103,"B")+COUNTIF(C103,"D") -> 1 | E103: 1.2290198 | F103: 0.26012666 | G103: -0.54935727
...

Sheet Table.2.G
A1: Leprévost et al.
A2: Comparative genomic analysis of QTL for resistance to Aphanomyces euteiches between pea, lentil, faba bean and the model species Medicago truncatula
A4: Supplementary Table 2.G : Genes encompassed within each resistance LD block.
B7: LD block: Ae-Lc1.1a
B8: Gene IDb | C8: Chromosomec | D8: Start (pb)d | E8: End (pb)e | F8: Number of variantf | G8: Annotationg
B9: Lcu.2RBY.1g073310 | C9: chr1 | D9: 523486477 | E9: 523490593 | F9: =COUNTIF(Table.2.D!$M$8:$M$22,Table.2.G!B9) -> 1 | G9: PPM-type phosphatase domain,Protein phosphatase 2C family
B10: Lcu.2RBY.1g073320 | C10: chr1 | D10: 523491386 | E10: 523501741 | F10: =COUNTIF(Table.2.D!$M$8:$M$22,Table.2.G!B10) -> 0 | G10: Protein kinase, ATP binding site,Protein kinase-like domain,Serine/threonine-protein kinase, active site,Protein kinase domain
B11: Lcu.2RBY.1g073330 | C11: chr1 | D11: 523522333 | E11: 523530009 | F11: =COUNTIF(Table.2.D!$M$8:$M$22,Table.2.G!B11) -> 0 | G11: Protein kinase, ATP binding site,Protein kinase-like domain,Serine/threonine-protein kinase, active site,Protein kinase domain
B13: LD block: Ae-Lc2.1a
B14: Gene IDb | C14: Chromosomec | D14: Start (pb)d | E14: End (pb)e | F14: Number of variantf | G14: Annotationg
B15: Lcu.2RBY.2g060620 | C15: chr2 | D15: 389924616 | E15: 389928662 | F15: =COUNTIF(Table.2.D!$M$8:$M$22,Table.2.G!B15) -> 0 | G15: Ribosomal protein S5 domain 2-type fold,GHMP kinase, C-terminal domain,Ribosomal protein S5 domain 2-type fold, subgroup,GHMP kinase N-terminal domain
B16: Lcu.2RBY.2g060630 | C16: chr2 | D16: 389929307 | E16: 389931651 | F16: =COUNTIF(Table.2.D!$M$8:$M$22,Table.2.G!B16) -> 0 | G16: Unknown
B17: Lcu.2RBY.2g060640 | C17: chr2 | D17: 390027818 | E17: 390033525 | F17: =COUNTIF(Table.2.D!$M$8:$M$22,Table.2.G!B17) -> 0 | G17: Pseudouridine synthase, catalytic domain,tRNA pseudouridine synthase II, TruB,tRNA pseudouridylate synthase B, C-terminal,Pseudouridine synthase II, N-terminal
B18: Lcu.2RBY.2g060650 | C18: chr2 | D18: 390066163 | E18: 390067972 | F18: =COUNTIF(Table.2.D!$M$8:$M$22,Table.2.G!B18) -> 0 | G18: Class I glutamine amidotransferase-like,Glutamine amidotransferase,Peptidase C26
B19: Lcu.2RBY.2g060660 | C19: chr2 | D19: 390071683 | E19: 390072645 | F19: =COUNTIF(Table.2.D!$M$8:$M$22,Table.2.G!B19) -> 0 | G19: Non-specific lipid-transfer protein type 2,Bifunctional inhibitor/plant lipid transfer protein/seed storage helical domain
B21: a Name of the LD block comprising the most significant GWAS-SNP at each GWAS peak detected using the MLM. Only LD block showing a marginal global explanatory capacities (R2) > 5% are presented.
B22: b Genes entirely or partially located within the LD block. Gene including the most significant GWAS-SNP for each GWAS peak is presented in bold. For the LD block "AGILE.Chr2_390043467", the GWAS-SNP peak was located outside annotated genes.
B23: c Chromosome, d start postion, and e end position associated with each gene on the second version of the RedBerry lentil genome.
B24: f Number of significant GWAS-SNP(s) detected in MLM, and included in the gene interval.
B25: g Protein domain annotated from CDS using TRAPID with default parameters (http://bioinformatics.psb.ugent.be/trapid_02/). Reference database: PLAZA 4.5 dicots.
