Workbook

Sheet HDLC
A1: The Online Supplementary Materials File 4. The data of HDLC
A2: Study | B2: RR genotype group | F2: K allele carriers | I2: Year | J2: Ethnicity | K2: country | L2: Sample size | M2: Healthy | N2: Female% | O2: Age
B3: mean | C3: SD | D3: n | F3: mean | G3: SD | H3: n
A4: Abd El-Aziz TA | B4: 0.76 | C4: 0.07 | D4: 49 | F4: 1.23 | G4: 0.27 | H4: 186 | I4: 2014 | J4: Caucasian | K4: Egypt | L4: 235 | M4: mix | N4: 0.35 | O4: 42.15
A5: Abellan Rosario data1 | B5: 1.12 | C5: 0.04 | D5: 51 | F5: 1.2 | G5: 0.01 | H5: 558 | I5: 2010 | J5: Caucasian | K5: Spain | L5: 609 | M5: random | N5: 0 | O5: 52.6
A6: Abellan Rosario data2 | B6: 1.54 | C6: 0.06 | D6: 52 | F6: 1.51 | G6: 0.02 | H6: 575 | I6: 2010 | J6: Caucasian | K6: Spain | L6: 627 | M6: random | N6: 1 | O6: 52.7
A7: Akao H data 1 | B7: 1.36 | C7: 0.35 | D7: 1439 | F7: 1.38 | G7: 0.35 | H7: 1356 | I7: 2014 | J7: Caucasian | K7: USA | L7: =D7+H7 -> 2795 | M7: mix | N7: 0.52 | O7: 75.3
A8: Akao H data 2 | B8: 1.17 | C8: 0.31 | D8: 1395 | F8: 1.18 | G8: 0.33 | H8: 1224 | I8: 2014 | J8: Caucasian | K8: USA | L8: =D8+H8 -> 2619 | M8: mix | N8: 0.52 | O8: 75.3
A9: Balcerzyk A | B9: 1.18 | C9: 0.53 | D9: 181 | F9: 1.11 | G9: 0.25 | H9: 177 | I9: 2007 | J9: Caucasian | K9: Poland | L9: 358 | M9: mix | N9: 0.32 | O9: 39.39
A10: Benton JL | B10: 1.34 | C10: 0.39 | D10: 388 | F10: 1.31 | G10: 0.36 | H10: 581 | I10: 2007 | J10: Caucasian/Asian/A frican/Hispanic | K10: USA | L10: 969 | M10: random | N10: 0.57 | O10: 60
A11: Cai R data1 | B11: 1.11 | C11: 0.25 | D11: 39 | F11: 1.24 | G11: 0.32 | H11: 85 | I11: 2017 | J11: Asian | K11: China | L11: 124 | M11: patient | N11: 0.51 | O11: 62.46
A12: Cai R data2 | B12: 1.29 | C12: 0.22 | D12: 37 | F12: 1.33 | G12: 0.26 | H12: 65 | I12: 2017 | J12: Asian | K12: China | L12: 102 | M12: random | N12: 0.45 | O12: 60.52
A13: Cenarro A data1 | B13: 1.17 | C13: 0.32 | D13: 120 | F13: 1.19 | G13: 0.33 | H13: 90 | I13: 2003 | J13: Caucasian | K13: Spain | L13: 210 | M13: mix | N13: 0 | O13: 64.3
A14: Cenarro A data2 | B14: 1.42 | C14: 0.38 | D14: 75 | F14: 1.45 | G14: 0.41 | H14: 89 | I14: 2003 | J14: Caucasian | K14: Spain | L14: 164 | M14: mix | N14: 1 | O14: 70.5
A15: Chen LC | B15: 1.34 | C15: 0.38 | D15: 190 | F15: 1.46 | G15: 0.42 | H15: 310 | I15: 2009 | J15: Asian | K15: China | L15: 500 | M15: mix | N15: 0.4 | O15: 64.05
A16: Clee SM | B16: 0.92 | C16: 0.22 | D16: 424 | F16: 0.93 | G16: 0.23 | H16: 366 | I16: 2011 | J16: Caucasian | K16: Canada | L16: =D16+H16 -> 790 | M16: patient | N16: 0 | O16: 57
A17: Coban N data1 | B17: 1.29 | C17: 0.3 | D17: 111 | F17: 1.28 | G17: 0.31 | H17: 219 | I17: 2014 | J17: Caucasian | K17: Turkey | L17: 330 | M17: patient | N17: 1 | O17: 56.7
A18: Coban N data2 | B18: 1.06 | C18: 0.32 | D18: 105 | F18: 1.15 | G18: 0.32 | H18: 161 | I18: 2014 | J18: Caucasian | K18: Turkey | L18: 266 | M18: patient | N18: 0 | O18: 58.9
A19: Delgado-Lista J | B19: 1.18 | C19: 0.04 | D19: 50 | F19: 1.22 | G19: 0.05 | H19: 38 | I19: 2010 | J19: Caucasian | K19: Spain | L19: 88 | M19: random | N19: 0 | O19: /
A20: Deng K | B20: 1.35 | C20: 0.35 | D20: 140 | F20: 1.38 | G20: 0.35 | H20: 308 | I20: 2008 | J20: Asian | K20: China | L20: 448 | M20: mix | N20: 0.43 | O20: 62.3
A21: Evans D | B21: 1.32 | C21: 0.43 | D21: 279 | F21: 1.33 | G21: 0.69 | H21: 236 | I21: 2003 | J21: Caucasian | K21: Germany | L21: =D21+H21 -> 515 | M21: patient | N21: 0.45 | O21: 45.8
A22: Fawzy MS | B22: 1.73 | C22: 0.7 | D22: 10 | F22: 1.64 | G22: 0.54 | H22: 118 | I22: 2015 | J22: African | K22: Egypt | L22: 128 | M22: patient | N22: 0.66 | O22: 12.7
A23: Genvigir FD data1 | B23: 1.43 | C23: 0.32 | D23: 54 | F23: 1.51 | G23: 0.34 | H23: 89 | I23: 2008 | J23: Caucasian | K23: Brazil | L23: 143 | M23: random | N23: 0.73 | O23: 47
A24: Genvigir FD data2 | B24: 1.43 | C24: 0.38 | D24: 76 | F24: 1.5 | G24: 0.38 | H24: 148 | I24: 2008 | J24: Caucasian | K24: Brazil | L24: 224 | M24: patient | N24: 0.67 | O24: 55
A25: Ghaznavi H data1 | B25: 0.99 | C25: 0.21 | D25: 50 | F25: 1.03 | G25: 0.23 | H25: 50 | I25: 2018 | J25: Caucasian | K25: Iran | L25: 100 | M25: patient | N25: 0.5 | O25: 58.96
A26: Ghaznavi H data2 | B26: 1.12 | C26: 0.33 | D26: 29 | F26: 1.2 | G26: 0.32 | H26: 71 | I26: 2018 | J26: Caucasian | K26: Iran | L26: 100 | M26: random | N26: 0.5 | O26: 57.53
A27: Guo Q | B27: 1.27 | C27: 0.2 | D27: 57 | F27: 1.3 | G27: 0.17 | H27: 87 | I27: 2010 | J27: Asian | K27: China | L27: 144 | M27: patient | N27: 0.47 | O27: 58
A28: Haghvirdizadeh P data1 | B28: 1.24 | C28: 0.4 | D28: 94 | F28: 1.28 | G28: 0.57 | H28: 70 | I28: 2015 | J28: Asian | K28: Malaysia | L28: 164 | M28: patient | N28: 0.37 | O28: 62.14
A29: Haghvirdizadeh P data2 | B29: 1.28 | C29: 0.44 | D29: 56 | F29: 1.16 | G29: 0.42 | H29: 109 | I29: 2015 | J29: Asian | K29: Malaysia | L29: 165 | M29: random | N29: 0.53 | O29: 54.97
A30: Harada T | B30: 1.26 | C30: 0.41 | D30: 68 | F30: 1.24 | G30: 0.39 | H30: 197 | I30: 2003 | J30: Asian | K30: Japan | L30: 265 | M30: mix | N30: 0.13 | O30: 65.08
A31: Hodoğlugil U data 1 | B31: 0.91 | C31: 0.19 | D31: 574 | F31: 0.91 | G31: 0.19 | H31: 892 | I31: 2005 | J31: Caucasian | K31: Turkey | L31: 1466 | M31: random | N31: 0 | O31: 41
A32: Hodoğlugil U data2 | B32: 1.07 | C32: 0.24 | D32: 364 | F32: 1.06 | G32: 0.23 | H32: 632 | I32: 2005 | J32: Caucasian | K32: Turkey | L32: 996 | M32: random | N32: 1 | O32: 41
A33: Huang Y data1 | B33: 1.12 | C33: 0.34 | D33: 66 | F33: 1.25 | G33: 0.33 | H33: 140 | I33: 2011 | J33: Asian | K33: China | L33: 206 | M33: patient | N33: 0.38 | O33: 55.31
A34: Huang Y data2 | B34: 1.43 | C34: 0.34 | D34: 34 | F34: 1.49 | G34: 0.49 | H34: 98 | I34: 2011 | J34: Asian | K34: China | L34: 132 | M34: random | N34: 0.47 | O34: 51.7
A35: Katerina H data 1 | B35: 1.57 | C35: 0.43 | D35: 221 | F35: 1.57 | G35: 0.4 | H35: 182 | I35: 2010 | J35: Caucasian | K35: Czech Republic | L35: =D35+H35 -> 403 | M35: random | N35: 1 | O35: 45.7
A36: Katerina H data 2 | B36: 1.2 | C36: 0.31 | D36: 182 | F36: 1.23 | G36: 0.34 | H36: 158 | I36: 2010 | J36: Caucasian | K36: Czech Republic | L36: =D36+H36 -> 340 | M36: random | N36: 0 | O36: 44.8
A37: Katzov H | B37: 1.2 | C37: 0.01 | D37: 1427 | F37: 1.19 | G37: 0.1 | H37: 1117 | I37: 2006 | J37: Caucasian | K37: Sweden | L37: 2544 | M37: mix | N37: 0.33 | O37: 60.82
A38: Kitjaroentham data1 | B38: 1.27 | C38: 0.25 | D38: 18 | F38: 1.24 | G38: 0.27 | H38: 22 | I38: 2007 | J38: Asian | K38: Thailand | L38: 40 | M38: patient | N38: 0 | O38: 43
A39: Kitjaroentham data2 | B39: 1.35 | C39: 0.37 | D39: 25 | F39: 1.38 | G39: 0.34 | H39: 47 | I39: 2007 | J39: Asian | K39: Thailand | L39: 72 | M39: patient | N39: 1 | O39: 43
A40: Kitjaroentham data3 | B40: 1.16 | C40: 0.27 | D40: 33 | F40: 1.42 | G40: 0.4 | H40: 63 | I40: 2007 | J40: Asian | K40: Thailand | L40: 96 | M40: random | N40: 0 | O40: 37
A41: Kitjaroentham data4 | B41: 1.4 | C41: 0.33 | D41: 6 | F41: 1.15 | G41: 0.22 | H41: 15 | I41: 2007 | J41: Asian | K41: Thailand | L41: 21 | M41: random | N41: 1 | O41: 37
A42: Kolovou G | B42: 1.24 | C42: 0.44 | D42: 276 | F42: 1.19 | G42: 0.47 | H42: 310 | I42: 2013 | J42: Caucasian | K42: Greece | L42: 586 | M42: patient | N42: 0.31 | O42: 57.2
A43: Kolovou V | B43: 1.71 | C43: 0.75 | D43: 218 | F43: 1.65 | G43: 0.73 | H43: 214 | I43: 2016 | J43: Caucasian | K43: Greece | L43: 432 | M43: random | N43: 0.8 | O43: 22
A44: Kolovou V data 1 | B44: 1.58 | C44: 0.19 | D44: 39 | F44: 1.54 | G44: 0.27 | H44: 48 | I44: 2011 | J44: Caucasian | K44: Greece | L44: 87 | M44: random | N44: 0 | O44: 22
A45: Kolovou V data 2 | B45: 1.72 | C45: 0.22 | D45: 186 | F45: 1.75 | G45: 0.22 | H45: 173 | I45: 2011 | J45: Caucasian | K45: Greece | L45: 359 | M45: random | N45: 1 | O45: 22
A46: Kyriakou T | B46: 1.26 | C46: 0.3 | D46: 129 | F46: 1.23 | G46: 0.3 | H46: 122 | I46: 2017 | J46: Caucasian | K46: UK | L46: =D46+H46 -> 251 | M46: patient | N46: 0.24 | O46: 59.77
A47: Li J data 1 | B47: 1.04 | C47: 0.21 | D47: 52 | F47: 1.1 | G47: 0.23 | H47: 98 | I47: 2012 | J47: Asian | K47: China | L47: 150 | M47: patient | N47: 0.36 | O47: 62
A48: Li J data 2 | B48: 1.06 | C48: 0.15 | D48: 140 | F48: 1.1 | G48: 0.14 | H48: 225 | I48: 2009 | J48: Asian | K48: China | L48: 365 | M48: patient | N48: 0.52 | O48: 63
A49: Li Y | B49: 1.12 | C49: 0.33 | D49: 156 | F49: 1.16 | G49: 0.32 | H49: 240 | I49: 2005 | J49: Asian | K49: China | L49: 396 | M49: patient | N49: 0.4 | O49: 60.1
A50: Liu J | B50: 1.22 | C50: 0.18 | D50: 29 | F50: 1.28 | G50: 0.19 | H50: 42 | I50: 2008 | J50: Asian | K50: China | L50: 71 | M50: patient | N50: 0.48 | O50: 58
A51: Manresa JM | B51: 1.35 | C51: 0.38 | D51: 657 | F51: 1.36 | G51: 0.4 | H51: 591 | I51: 2006 | J51: Caucasian | K51: Spain | L51: =D51+H51 -> 1248 | M51: random | N51: 0.48 | O51: 51
A52: Mantaring M | B52: 1.58 | C52: 0.95 | D52: 54 | F52: 1.86 | G52: 1.1 | H52: 70 | I52: 2007 | J52: Caucasian | K52: Spain | L52: 124 | M52: patient | N52: / | O52: 52.82
A53: Mao Y data1 | B53: 0.97 | C53: 0.29 | D53: 88 | F53: 1.04 | G53: 0.25 | H53: 111 | I53: 2013 | J53: Asian | K53: China | L53: 199 | M53: patient | N53: / | O53: 54.92
A54: Mao Y data2 | B54: 1.06 | C54: 0.32 | D54: 28 | F54: 1.09 | G54: 0.32 | H54: 55 | I54: 2013 | J54: Asian | K54: China | L54: 83 | M54: random | N54: / | O54: 50.62
A55: Mao Y data3 | B55: 1.05 | C55: 0.64 | D55: 66 | F55: 0.98 | G55: 0.24 | H55: 112 | I55: 2013 | J55: Asian | K55: China | L55: 178 | M55: patient | N55: / | O55: 69.82
A56: Mao Y data4 | B56: 1.21 | C56: 0.23 | D56: 28 | F56: 1.28 | G56: 0.26 | H56: 67 | I56: 2013 | J56: Asian | K56: China | L56: 95 | M56: random | N56: / | O56: 56.94
A57: Marvaki A | B57: 1.71 | C57: 0.75 | D57: 225 | F57: 1.66 | G57: 0.72 | H57: 223 | I57: 2014 | J57: Caucasian | K57: Greece | L57: 448 | M57: random | N57: 0.81 | O57: 22.5
A58: Min XH | B58: 1.33 | C58: 0.49 | D58: 126 | F58: 1.83 | G58: 0.53 | H58: 179 | I58: 2014 | J58: Asian | K58: China | L58: 305 | M58: patient | N58: 1 | O58: /
A59: Mokuno J data1 | B59: 1.75 | C59: 0.38 | D59: 869 | F59: 1.78 | G59: 0.38 | H59: 2806 | I59: 2015 | J59: Asian | K59: Japan | L59: 3675 | M59: mix | N59: 1 | O59: 52.5
A60: Mokuno J data2 | B60: 1.44 | C60: 0.36 | D60: 356 | F60: 1.47 | G60: 0.37 | H60: 1102 | I60: 2015 | J60: Asian | K60: Japan | L60: 1458 | M60: mix | N60: 0 | O60: 52.5
A61: Porchay I | B61: 1.63 | C61: 0.41 | D61: 2603 | F61: 1.62 | G61: 0.44 | H61: 2437 | I61: 2006 | J61: Caucasian | K61: France | L61: 5040 | M61: random | N61: 0.51 | O61: 46.8
A62: Porchay-Baldérelli I | B62: 1.31 | C62: 0.36 | D62: 1597 | F62: 1.32 | G62: 0.35 | H62: 1532 | I62: 2009 | J62: Caucasian | K62: France | L62: 3129 | M62: patient | N62: 0.27 | O62: 65.63
A63: Saleheen D | B63: 1.06 | C63: 0.3 | D63: 80 | F63: 1.1 | G63: 0.29 | H63: 120 | I63: 2007 | J63: Caucasian | K63: Pakistan | L63: =D63+H63 -> 200 | M63: patient | N63: 0.36 | O63: 49.35
A64: Sandhofer A | B64: 1.41 | C64: 0.34 | D64: 350 | F64: 1.38 | G64: 0.33 | H64: 338 | I64: 2008 | J64: Caucasian | K64: Austria | L64: =D64+H64 -> 688 | M64: random | N64: 0 | O64: 50.1
A65: Shi WY data1 | B65: 0.99 | C65: 0.45 | D65: 49 | F65: 1.19 | G65: 0.52 | H65: 83 | I65: 2009 | J65: Asian | K65: China | L65: 132 | M65: patient | N65: 0.36 | O65: 61.72
A66: Shi WY data2 | B66: 1.41 | C66: 0.51 | D66: 53 | F66: 1.54 | G66: 0.49 | H66: 104 | I66: 2009 | J66: Asian | K66: China | L66: 157 | M66: random | N66: 0.36 | O66: 61.13
A67: Smirnov GP | B67: 1.29 | C67: 0.4 | D67: 180 | F67: 1.29 | G67: 0.4 | H67: 178 | I67: 2018 | J67: Caucasian | K67: Russia | L67: 358 | M67: patient | N67: 0.57 | O67: 48.7
A68: Srinivasan SR data 1 | B68: 1.23 | C68: 0.35 | D68: 495 | F68: 1.23 | G68: 0.31 | H68: 392 | I68: 2003 | J68: Caucasian/African | K68: USA | L68: =D68+H68 -> 887 | M68: random | N68: / | O68: 29.8
A69: Srinivasan SR data 2 | B69: 1.4 | C69: 0.35 | D69: 63 | F69: 1.39 | G69: 0.42 | H69: 327 | I69: 2003 | J69: Caucasian/African | K69: USA | L69: =D69+H69 -> 390 | M69: random | N69: / | O69: 28.9
A70: Sun MH data1 | B70: 1.17 | C70: 0.08 | D70: 160 | F70: 1.35 | G70: 0.12 | H70: 308 | I70: 2011 | J70: Asian | K70: China | L70: 468 | M70: random | N70: 0.28 | O70: 53.78
A71: Sun MH data2 | B71: 1.23 | C71: 0.03 | D71: 182 | F71: 1.44 | G71: 0.09 | H71: 458 | I71: 2011 | J71: Asian | K71: China | L71: 640 | M71: random | N71: 0.23 | O71: 54.77
A72: Sun P data2 | B72: 1.14 | C72: 0.23 | D72: 62 | F72: 1.23 | G72: 0.25 | H72: 186 | I72: 2005 | J72: Asian | K72: China | L72: 248 | M72: random | N72: 0.45 | O72: 59.61
A73: Takagi S | B73: 1.14 | C73: 0.37 | D73: 120 | F73: 1.14 | G73: 0.39 | H73: 345 | I73: 2002 | J73: Asian | K73: Japan | L73: =D73+H73 -> 465 | M73: patient | N73: 0.18 | O73: 58
A74: Wang B | B74: 2.12 | C74: 0.55 | D74: 63 | F74: 2.38 | G74: 0.49 | H74: 78 | I74: 2012 | J74: Asian | K74: China | L74: 141 | M74: patient | N74: 0.32 | O74: 62.76
A75: Wang J | B75: 1.15 | C75: 0.16 | D75: 29 | F75: 1.25 | G75: 0.24 | H75: 64 | I75: 2008 | J75: Asian | K75: China | L75: =D75+H75 -> 93 | M75: patient | N75: 0.3 | O75: 52.09
A76: Wang JR data2 | B76: 1.19 | C76: 0.24 | D76: 34 | F76: 1.28 | G76: 0.26 | H76: 80 | I76: 2013 | J76: Asian | K76: China | L76: 114 | M76: random | N76: 0.41 | O76: 63.81
A77: Wang N data1 | B77: 1.05 | C77: 0.03 | D77: 47 | F77: 1.22 | G77: 0.29 | H77: 115 | I77: 2010 | J77: Asian | K77: China | L77: 162 | M77: mix | N77: 1 | O77: 65.58
A78: Wang N data2 | B78: 1.07 | C78: 0.29 | D78: 101 | F78: 1.05 | G78: 0.29 | H78: 213 | I78: 2010 | J78: Asian | K78: China | L78: 314 | M78: mix | N78: 0 | O78: 65.58
A79: Wang XD data1 | B79: 0.96 | C79: 0.14 | D79: 79 | F79: 0.97 | G79: 0.14 | H79: 143 | I79: 2004 | J79: Asian | K79: China | L79: 222 | M79: patient | N79: 0.45 | O79: 62.37
A80: Wang XD data2 | B80: 1.1 | C80: 0.14 | D80: 76 | F80: 1.15 | G80: 0.17 | H80: 202 | I80: 2004 | J80: Asian | K80: China | L80: 278 | M80: random | N80: 0.49 | O80: 62.2
A81: Wang XP | B81: 1.09 | C81: 0.18 | D81: 108 | F81: 1.15 | G81: 0.27 | H81: 124 | I81: 2006 | J81: Asian | K81: China | L81: 232 | M81: patient | N81: 0.39 | O81: 64.85
A82: Wang Y a | B82: 0.96 | C82: 0.26 | D82: 108 | F82: 1.04 | G82: 0.28 | H82: 181 | I82: 2009 | J82: Asian | K82: China | L82: 289 | M82: mix | N82: 0.27 | O82: 52.35
A83: Wang Y b | B83: 1.08 | C83: 0.17 | D83: 108 | F83: 1.12 | G83: 0.3 | H83: 181 | I83: 2016 | J83: Asian | K83: China | L83: 289 | M83: random | N83: 0.29 | O83: 41
A84: Wang Y c | B84: 1.07 | C84: 0.17 | D84: 67 | F84: 1.25 | G84: 0.29 | H84: 122 | I84: 2018 | J84: Asian | K84: China | L84: 189 | M84: random | N84: 0.32 | O84: 41.23
A85: Wang YM | B85: 1.12 | C85: 0.33 | D85: 158 | F85: 1.16 | G85: 0.32 | H85: 238 | I85: 2006 | J85: Asian | K85: China | L85: 396 | M85: patient | N85: 0.4 | O85: 60.1
A86: Woll PS data1 | B86: 0.9 | C86: 0.21 | D86: 450 | F86: 0.92 | G86: 0.59 | H86: 388 | I86: 2005 | J86: Caucasian | K86: USA | L86: 838 | M86: patient | N86: 0.5 | O86: 49.5
A87: Woll PS data2 | B87: 1.23 | C87: 0.32 | D87: 115 | F87: 1.25 | G87: 0.6 | H87: 142 | I87: 2005 | J87: Caucasian | K87: USA | L87: 257 | M87: random | N87: 0.5 | O87: 48.3
... A89: Wu Y data2 | B89: 0.87 | C89: 0.19 | D89: 33 | F89: 0.97 | G89: 0.28 | H89: 76 | I89: 2007 | J89: Asian | K89: China | L89: 109 | M89: patient | N89: 0.28 | O89: 52.28
A90: Wu YF data1 | B90: 0.88 | C90: 0.17 | D90: 26 | F90: 1.12 | G90: 0.29 | H90: 41 | I90: 2006 | J90: Asian | K90: China | L90: 67 | M90: patient | N90: 0 | O90: /
A91: Wu YF data2 | B91: 1.2 | C91: 0.06 | D91: 2 | F91: 1.35 | G91: 0.38 | H91: 18 | I91: 2006 | J91: Asian | K91: China | L91: 20 | M91: random | N91: 0 | O91: /
A92: Xia ZH data1 | B92: 1.09 | C92: 0.18 | D92: 96 | F92: 1.15 | G92: 0.27 | H92: 131 | I92: 2011 | J92: Asian | K92: China | L92: 227 | M92: patient | N92: 0.52 | O92: 61.1
A93: Xia ZH data2 | B93: 1.11 | C93: 0.14 | D93: 51 | F93: 1.14 | G93: 0.17 | H93: 111 | I93: 2011 | J93: Asian | K93: China | L93: 162 | M93: random | N93: 0.45 | O93: 59.5
A94: Xiao ZJ a | B94: 1.31 | C94: 0.36 | D94: 261 | F94: 1.35 | G94: 0.36 | H94: 469 | I94: 2004 | J94: Asian | K94: China | L94: 730 | M94: mix | N94: 0.42 | O94: 62.17
A95: Xiao ZJ b | B95: 1.33 | C95: 0.38 | D95: 385 | F95: 1.37 | G95: 0.39 | H95: 634 | I95: 2005 | J95: Asian | K95: China | L95: 1019 | M95: mix | N95: 0.41 | O95: 61.73
A96: Xiao ZJ c | B96: 1.27 | C96: 0.28 | D96: 78 | F96: 1.45 | G96: 0.31 | H96: 130 | I96: 2012 | J96: Asian | K96: China | L96: 208 | M96: mix | N96: 0.46 | O96: 77.15
A97: Xu Y data1 | B97: 1.32 | C97: 0.27 | D97: 146 | F97: 1.36 | G97: 0.43 | H97: 308 | I97: 2018 | J97: Asian | K97: China | L97: 454 | M97: mix | N97: 0.49 | O97: 68.49
A98: Xue XH | B98: 1.05 | C98: 0.29 | D98: 132 | F98: 1.1 | G98: 0.29 | H98: 279 | I98: 2012 | J98: Asian | K98: China | L98: 411 | M98: mix | N98: 0.33 | O98: 64.98
A99: Ya L data1 | B99: 1.39 | C99: 0.23 | D99: 48 | F99: 2.06 | G99: 0.17 | H99: 57 | I99: 2017 | J99: Asian | K99: China | L99: 105 | M99: patient | N99: 0.43 | O99: 69.94
A100: Ya L data2 | B100: 0.84 | C100: 0.1 | D100: 81 | F100: 1.29 | G100: 0.14 | H100: 35 | I100: 2017 | J100: Asian | K100: China | L100: 116 | M100: patient | N100: 0.41 | O100: 68.94
A101: Ya L data3 | B101: 1.33 | C101: 0.15 | D101: 53 | F101: 1.46 | G101: 0.2 | H101: 47 | I101: 2017 | J101: Asian | K101: China | L101: 100 | M101: random | N101: 0.5 | O101: 64.85
...

Sheet LDLC
A1: The Online Supplementary Materials File 4. The data of LDLC
A2: Study | B2: RR genotype group | F2: K allele carriers | I2: Year | J2: Ethnicity | K2: country | L2: Sample size | M2: Healthy | N2: Female% | O2: Age
B3: mean | C3: SD | D3: n | F3: mean | G3: SD | H3: n
A4: Abd El-Aziz TA | B4: 4.35 | C4: 1.57 | D4: 49 | F4: 3.06 | G4: 1.73 | H4: 186 | I4: 2014 | J4: Caucasian | K4: =VLOOKUP(A4,HDLC!A4:K119,11,FALSE) -> Egypt | L4: 235 | M4: mix | N4: 0.35 | O4: 42.15
A5: Abellan Rosario data1 | B5: 3.26 | C5: 0.12 | D5: 51 | F5: 2.91 | G5: 0.04 | H5: 558 | I5: 2010 | J5: Caucasian | K5: =VLOOKUP(A5,HDLC!A5:K120,11,FALSE) -> Spain | L5: 609 | M5: random | N5: 0 | O5: 52.6
A6: Abellan Rosario data2 | B6: 2.96 | C6: 0.12 | D6: 52 | F6: 2.96 | G6: 0.04 | H6: 575 | I6: 2010 | J6: Caucasian | K6: =VLOOKUP(A6,HDLC!A6:K121,11,FALSE) -> Spain | L6: 627 | M6: random | N6: 1 | O6: 52.7
A7: Akao H data 1 | B7: 4.01 | C7: 0.81 | D7: 1439 | F7: 4 | G7: 0.81 | H7: 1356 | I7: 2014 | J7: Caucasian | K7: =VLOOKUP(A7,HDLC!A7:K122,11,FALSE) -> USA | L7: =D7+H7 -> 2795 | M7: mix | N7: 0.52 | O7: 75.3
A8: Akao H data 2 | B8: 3.59 | C8: 0.72 | D8: 1395 | F8: 3.57 | G8: 0.71 | H8: 1224 | I8: 2014 | J8: Caucasian | K8: =VLOOKUP(A8,HDLC!A8:K123,11,FALSE) -> USA | L8: =D8+H8 -> 2619 | M8: mix | N8: 0.52 | O8: 75.3
A9: Balcerzyk A | B9: 3.93 | C9: 1.13 | D9: 181 | F9: 3.73 | G9: 1.23 | H9: 177 | I9: 2007 | J9: Caucasian | K9: =VLOOKUP(A9,HDLC!A9:K124,11,FALSE) -> Poland | L9: 358 | M9: mix | N9: 0.32 | O9: 39.39
A10: Benton JL | B10: 3.04 | C10: 0.76 | D10: 388 | F10: 3.04 | G10: 0.82 | H10: 581 | I10: 2007 | J10: Caucasian/Asian/A frican/Hispanic | K10: =VLOOKUP(A10,HDLC!A10:K125,11,FALSE) -> USA | L10: 969 | M10: random | N10: 0.57 | O10: 60
A11: Cai R data1 | B11: 3.29 | C11: 0.89 | D11: 39 | F11: 3.02 | G11: 0.86 | H11: 85 | I11: 2017 | J11: Asian | K11: =VLOOKUP(A11,HDLC!A11:K126,11,FALSE) -> China | L11: 124 | M11: patient | N11: 0.51 | O11: 62.46
A12: Cai R data2 | B12: 2.91 | C12: 0.71 | D12: 37 | F12: 3.02 | G12: 0.96 | H12: 65 | I12: 2017 | J12: Asian | K12: =VLOOKUP(A12,HDLC!A12:K127,11,FALSE) -> China | L12: 102 | M12: random | N12: 0.45 | O12: 60.52
A13: Cenarro A data1 | B13: 9.1 | C13: 2 | D13: 120 | F13: 8.6 | G13: 1.8 | H13: 90 | I13: 2003 | J13: Caucasian | K13: =VLOOKUP(A13,HDLC!A13:K128,11,FALSE) -> Spain | L13: 210 | M13: mix | N13: 0 | O13: 64.3
A14: Cenarro A data2 | B14: 9.1 | C14: 2.4 | D14: 75 | F14: 9.1 | G14: 1.9 | H14: 89 | I14: 2003 | J14: Caucasian | K14: =VLOOKUP(A14,HDLC!A14:K129,11,FALSE) -> Spain | L14: 164 | M14: mix | N14: 1 | O14: 70.5
A15: Chen LC | B15: 2.85 | C15: 0.84 | D15: 190 | F15: 2.82 | G15: 0.82 | H15: 310 | I15: 2009 | J15: Asian | K15: =VLOOKUP(A15,HDLC!A15:K130,11,FALSE) -> China | L15: 500 | M15: mix | N15: 0.4 | O15: 64.05
A16: Clee SM | B16: 4.27 | C16: 0.75 | D16: 424 | F16: 4.35 | G16: 0.83 | H16: 366 | I16: 2011 | J16: Caucasian | K16: =VLOOKUP(A16,HDLC!A16:K131,11,FALSE) -> Canada | L16: =D16+H16 -> 790 | M16: patient | N16: 0 | O16: 57
A17: Coban N data1 | B17: 2.95 | C17: 0.84 | D17: 103 | F17: 2.85 | G17: 0.84 | H17: 199 | I17: 2014 | J17: Caucasian | K17: =VLOOKUP(A17,HDLC!A17:K132,11,FALSE) -> Turkey | L17: 302 | M17: patient | N17: 1 | O17: 56.7
A18: Coban N data2 | B18: 2.64 | C18: 0.9 | D18: 98 | F18: 2.86 | G18: 0.9 | H18: 155 | I18: 2014 | J18: Caucasian | K18: =VLOOKUP(A18,HDLC!A18:K133,11,FALSE) -> Turkey | L18: 253 | M18: patient | N18: 0 | O18: 58.9
A19: Delgado-Lista J | B19: 2.34 | C19: 0.08 | D19: 50 | F19: 2.3 | G19: 0.09 | H19: 38 | I19: 2010 | J19: Caucasian | K19: =VLOOKUP(A19,HDLC!A19:K134,11,FALSE) -> Spain | L19: 88 | M19: random | N19: 0 | O19: /
A20: Deng K | B20: 2.72 | C20: 0.73 | D20: 140 | F20: 2.82 | G20: 0.71 | H20: 308 | I20: 2008 | J20: Asian | K20: =VLOOKUP(A20,HDLC!A20:K135,11,FALSE) -> China | L20: 448 | M20: mix | N20: 0.43 | O20: 62.3
A21: Evans D | B21: 4.86 | C21: 1.73 | D21: 279 | F21: 4.88 | G21: 1.84 | H21: 236 | I21: 2003 | J21: Caucasian | K21: =VLOOKUP(A21,HDLC!A21:K136,11,FALSE) -> Germany | L21: =D21+H21 -> 515 | M21: patient | N21: 0.45 | O21: 45.8
A22: Fawzy MS | B22: 2.95 | C22: 1.11 | D22: 10 | F22: 3.71 | G22: 0.93 | H22: 118 | I22: 2015 | J22: African | K22: =VLOOKUP(A22,HDLC!A22:K137,11,FALSE) -> Egypt | L22: 128 | M22: patient | N22: 0.66 | O22: 12.7
A23: Genvigir FD data1 | B23: 2.59 | C23: 0.48 | D23: 54 | F23: 2.55 | G23: 0.44 | H23: 89 | I23: 2008 | J23: Caucasian | K23: =VLOOKUP(A23,HDLC!A23:K138,11,FALSE) -> Brazil | L23: 143 | M23: random | N23: 0.73 | O23: 47
A24: Genvigir FD data2 | B24: 4.39 | C24: 1.11 | D24: 76 | F24: 4.41 | G24: 1.13 | H24: 148 | I24: 2008 | J24: Caucasian | K24: =VLOOKUP(A24,HDLC!A24:K139,11,FALSE) -> Brazil | L24: 224 | M24: patient | N24: 0.67 | O24: 55
A25: Ghaznavi H data1 | B25: 3.18 | C25: 1.03 | D25: 50 | F25: 2.76 | G25: 1.23 | H25: 50 | I25: 2018 | J25: Caucasian | K25: =VLOOKUP(A25,HDLC!A25:K140,11,FALSE) -> Iran | L25: 100 | M25: patient | N25: 0.5 | O25: 58.96
A26: Ghaznavi H data2 | B26: 2.8 | C26: 0.84 | D26: 29 | F26: 2.39 | G26: 0.89 | H26: 71 | I26: 2018 | J26: Caucasian | K26: =VLOOKUP(A26,HDLC!A26:K141,11,FALSE) -> Iran | L26: 100 | M26: random | N26: 0.5 | O26: 57.53
A27: Guo Q | B27: 2.92 | C27: 0.77 | D27: 57 | F27: 2.95 | G27: 0.63 | H27: 87 | I27: 2010 | J27: Asian | K27: =VLOOKUP(A27,HDLC!A27:K142,11,FALSE) -> China | L27: 144 | M27: patient | N27: 0.47 | O27: 58
A28: Haghvirdizadeh P data1 | B28: 2.34 | C28: 0.92 | D28: 94 | F28: 2.36 | G28: 0.88 | H28: 70 | I28: 2015 | J28: Asian | K28: =VLOOKUP(A28,HDLC!A28:K143,11,FALSE) -> Malaysia | L28: 164 | M28: patient | N28: 0.37 | O28: 62.14
A29: Haghvirdizadeh P data2 | B29: 2.71 | C29: 0.95 | D29: 56 | F29: 2.57 | G29: 0.95 | H29: 109 | I29: 2015 | J29: Asian | K29: =VLOOKUP(A29,HDLC!A29:K144,11,FALSE) -> Malaysia | L29: 165 | M29: random | N29: 0.53 | O29: 54.97
A30: Harada T | B30: 2.94 | C30: 0.93 | D30: 68 | F30: 2.99 | G30: 0.94 | H30: 197 | I30: 2003 | J30: Asian | K30: =VLOOKUP(A30,HDLC!A30:K145,11,FALSE) -> Japan | L30: 265 | M30: mix | N30: 0.13 | O30: 65.08
A31: Huang Y data1 | B31: 3.43 | C31: 0.94 | D31: 66 | F31: 3.25 | G31: 0.88 | H31: 140 | I31: 2011 | J31: Asian | K31: =VLOOKUP(A31,HDLC!A31:K146,11,FALSE) -> China | L31: 206 | M31: patient | N31: 0.38 | O31: 55.31
A32: Huang Y data2 | B32: 3.37 | C32: 0.99 | D32: 34 | F32: 3.14 | G32: 1.13 | H32: 98 | I32: 2011 | J32: Asian | K32: =VLOOKUP(A32,HDLC!A32:K147,11,FALSE) -> China | L32: 132 | M32: random | N32: 0.47 | O32: 51.7
A33: Katzov H | B33: 4.05 | C33: 0.03 | D33: 1415 | F33: 4.11 | G33: 0.33 | H33: 1105 | I33: 2006 | J33: Caucasian | K33: =VLOOKUP(A33,HDLC!A33:K148,11,FALSE) -> Sweden | L33: 2520 | M33: mix | N33: 0.33 | O33: 60.82
... A41: Kolovou V data 2 | B41: 2.69 | C41: 0.36 | D41: 186 | F41: 2.68 | G41: 0.44 | H41: 173 | I41: 2011 | J41: Caucasian | K41: =VLOOKUP(A41,HDLC!A41:K156,11,FALSE) -> Greece | L41: 359 | M41: random | N41: 1 | O41: 22
A42: Li J data1 | B42: 3.16 | C42: 0.87 | D42: 52 | F42: 3.32 | G42: 1.01 | H42: 98 | I42: 2012 | J42: Asian | K42: China | L42: 150 | M42: patient | N42: 0.36 | O42: 62
A43: Li J data2 | B43: 3.13 | C43: 0.26 | D43: 140 | F43: 3.11 | G43: 0.25 | H43: 225 | I43: 2009 | J43: Asian | K43: China | L43: 365 | M43: patient | N43: 0.52 | O43: 63
A44: Liu J | B44: 3.07 | C44: 0.56 | D44: 29 | F44: 2.93 | G44: 0.62 | H44: 42 | I44: 2008 | J44: Asian | K44: =VLOOKUP(A44,HDLC!A44:K159,11,FALSE) -> China | L44: =D44+H44 -> 71 | M44: patient | N44: 0.48 | O44: 58
A45: Manresa JM | B45: 3.85 | C45: 1.01 | D45: 657 | F45: 3.88 | G45: 1.09 | H45: 591 | I45: 2006 | J45: Caucasian | K45: =VLOOKUP(A45,HDLC!A45:K160,11,FALSE) -> Spain | L45: =D45+H45 -> 1248 | M45: random | N45: 0.48 | O45: 51
A46: Mantaring M | B46: 3.08 | C46: 1.14 | D46: 54 | F46: 2.97 | G46: 1.32 | H46: 70 | I46: 2007 | J46: Caucasian | K46: =VLOOKUP(A46,HDLC!A46:K161,11,FALSE) -> Spain | L46: 124 | M46: patient | N46: / | O46: 52.82
A47: Mao Y data1 | B47: 2.32 | C47: 0.89 | D47: 88 | F47: 2.23 | G47: 0.84 | H47: 111 | I47: 2013 | J47: Asian | K47: =VLOOKUP(A47,HDLC!A47:K162,11,FALSE) -> China | L47: 199 | M47: patient | N47: / | O47: 54.92
A48: Mao Y data2 | B48: 2.51 | C48: 0.67 | D48: 28 | F48: 2.32 | G48: 0.9 | H48: 55 | I48: 2013 | J48: Asian | K48: =VLOOKUP(A48,HDLC!A48:K163,11,FALSE) -> China | L48: 83 | M48: random | N48: / | O48: 50.62
A49: Mao Y data3 | B49: 2.22 | C49: 0.96 | D49: 66 | F49: 2.26 | G49: 1.1 | H49: 112 | I49: 2013 | J49: Asian | K49: =VLOOKUP(A49,HDLC!A49:K164,11,FALSE) -> China | L49: 178 | M49: patient | N49: / | O49: 69.82
A50: Mao Y data4 | B50: 2.31 | C50: 0.72 | D50: 28 | F50: 2.51 | G50: 0.52 | H50: 67 | I50: 2013 | J50: Asian | K50: =VLOOKUP(A50,HDLC!A50:K165,11,FALSE) -> China | L50: 95 | M50: random | N50: / | O50: 56.94
A51: Marvaki | B51: 2.74 | C51: 1.16 | D51: 225 | F51: 2.8 | G51: 1.18 | H51: 223 | I51: 2014 | J51: Caucasian | K51: Greece | L51: 448 | M51: random | N51: 0.81 | O51: 22.5
A52: Min XH | B52: 4.12 | C52: 0.93 | D52: 126 | F52: 4.15 | G52: 0.95 | H52: 179 | I52: 2014 | J52: Asian | K52: =VLOOKUP(A52,HDLC!A52:K167,11,FALSE) -> China | L52: 305 | M52: patient | N52: 1 | O52: /
A53: Sandhofer A | B53: 3.83 | C53: 0.97 | D53: 350 | F53: 3.76 | G53: 0.96 | H53: 338 | I53: 2008 | J53: Caucasian | K53: =VLOOKUP(A53,HDLC!A53:K168,11,FALSE) -> Austria | L53: =D53+H53 -> 688 | M53: random | N53: 0 | O53: 50.1
A54: Shi WY data1 | B54: 3.46 | C54: 1.01 | D54: 49 | F54: 3.27 | G54: 0.99 | H54: 83 | I54: 2009 | J54: Asian | K54: =VLOOKUP(A54,HDLC!A54:K169,11,FALSE) -> China | L54: 132 | M54: patient | N54: 0.36 | O54: 61.72
A55: Shi WY data2 | B55: 2.29 | C55: 1.04 | D55: 53 | F55: 2.23 | G55: 1.01 | H55: 104 | I55: 2009 | J55: Asian | K55: =VLOOKUP(A55,HDLC!A55:K170,11,FALSE) -> China | L55: 157 | M55: random | N55: 0.36 | O55: 61.13
A56: Sun MH data1 | B56: 2.77 | C56: 0.1 | D56: 160 | F56: 2.69 | G56: 0.12 | H56: 308 | I56: 2011 | J56: Asian | K56: =VLOOKUP(A56,HDLC!A56:K171,11,FALSE) -> China | L56: 468 | M56: random | N56: 0.28 | O56: 53.78
A57: Sun MH data2 | B57: 2.89 | C57: 0.08 | D57: 182 | F57: 2.85 | G57: 0.07 | H57: 458 | I57: 2011 | J57: Asian | K57: =VLOOKUP(A57,HDLC!A57:K172,11,FALSE) -> China | L57: 640 | M57: random | N57: 0.23 | O57: 54.77
A58: Sun P data2 | B58: 2.65 | C58: 0.74 | D58: 62 | F58: 2.92 | G58: 0.86 | H58: 186 | I58: 2005 | J58: Asian | K58: =VLOOKUP(A58,HDLC!A58:K173,11,FALSE) -> China | L58: 248 | M58: random | N58: 0.45 | O58: 59.61
A59: Wang B | B59: 6.68 | C59: 1.74 | D59: 63 | F59: 7.08 | G59: 2 | H59: 78 | I59: 2012 | J59: Asian | K59: =VLOOKUP(A59,HDLC!A59:K174,11,FALSE) -> China | L59: 141 | M59: patient | N59: 0.32 | O59: 62.76
A60: Wang JR data2 | B60: 2.64 | C60: 0.74 | D60: 34 | F60: 2.97 | G60: 0.76 | H60: 80 | I60: 2013 | J60: Asian | K60: =VLOOKUP(A60,HDLC!A60:K175,11,FALSE) -> China | L60: 114 | M60: random | N60: 0.41 | O60: 63.81
A61: Wang N data1 | B61: 3.16 | C61: 1.04 | D61: 47 | F61: 3.32 | G61: 0.98 | H61: 115 | I61: 2010 | J61: Asian | K61: =VLOOKUP(A61,HDLC!A61:K176,11,FALSE) -> China | L61: 162 | M61: mix | N61: 1 | O61: 65.58
A62: Wang N data2 | B62: 2.98 | C62: 0.79 | D62: 101 | F62: 2.86 | G62: 0.79 | H62: 213 | I62: 2010 | J62: Asian | K62: =VLOOKUP(A62,HDLC!A62:K177,11,FALSE) -> China | L62: 314 | M62: mix | N62: 0 | O62: 65.58
A63: Wang XD data1 | B63: 3.67 | C63: 0.7 | D63: 79 | F63: 3.58 | G63: 0.76 | H63: 143 | I63: 2004 | J63: Asian | K63: =VLOOKUP(A63,HDLC!A63:K178,11,FALSE) -> China | L63: 222 | M63: patient | N63: 0.45 | O63: 62.37
A64: Wang XD data2 | B64: 3.56 | C64: 0.77 | D64: 76 | F64: 3.54 | G64: 0.9 | H64: 202 | I64: 2004 | J64: Asian | K64: =VLOOKUP(A64,HDLC!A64:K179,11,FALSE) -> China | L64: 278 | M64: random | N64: 0.49 | O64: 62.2
A65: Wang XP | B65: 2.92 | C65: 0.78 | D65: 108 | F65: 2.71 | G65: 0.9 | H65: 124 | I65: 2006 | J65: Asian | K65: =VLOOKUP(A65,HDLC!A65:K180,11,FALSE) -> China | L65: =D65+H65 -> 232 | M65: patient | N65: 0.39 | O65: 64 .85
A66: Wang Y a | B66: 2.36 | C66: 0.97 | D66: 67 | F66: 2.48 | G66: 0.96 | H66: 122 | I66: 2018 | J66: Asian | K66: =VLOOKUP(A66,HDLC!A66:K181,11,FALSE) -> China | L66: 189 | M66: random | N66: 0.32 | O66: 41.23
A67: Wang Y b | B67: 2.29 | C67: 0.92 | D67: 108 | F67: 2.44 | G67: 0.94 | H67: 181 | I67: 2009 | J67: Asian | K67: =VLOOKUP(A67,HDLC!A67:K182,11,FALSE) -> China | L67: 289 | M67: mix | N67: 0.27 | O67: 52.35
A68: Wang Y c | B68: 2.36 | C68: 0.98 | D68: 108 | F68: 2.54 | G68: 0.96 | H68: 181 | I68: 2016 | J68: Asian | K68: =VLOOKUP(A68,HDLC!A68:K183,11,FALSE) -> China | L68: 289 | M68: random | N68: 0.29 | O68: 41
A69: Wang YM | B69: 2.27 | C69: 0.75 | D69: 158 | F69: 2.17 | G69: 0.71 | H69: 238 | I69: 2006 | J69: Asian | K69: =VLOOKUP(A69,HDLC!A69:K184,11,FALSE) -> China | L69: 396 | M69: patient | N69: 0.4 | O69: 60.1
A70: Wu Y data1 | B70: 3.03 | C70: 0.65 | D70: 52 | F70: 3.13 | G70: 0.77 | H70: 148 | I70: 2007 | J70: Asian | K70: =VLOOKUP(A70,HDLC!A70:K185,11,FALSE) -> China | L70: 200 | M70: random | N70: 0.48 | O70: 50.57
A71: Wu Y data2 | B71: 2.66 | C71: 0.85 | D71: 33 | F71: 2.39 | G71: 0.94 | H71: 76 | I71: 2007 | J71: Asian | K71: =VLOOKUP(A71,HDLC!A71:K186,11,FALSE) -> China | L71: 109 | M71: patient | N71: 0.28 | O71: 52.28
A72: Xia ZH data1 | B72: 2.92 | C72: 0.78 | D72: 96 | F72: 2.71 | G72: 0.9 | H72: 131 | I72: 2011 | J72: Asian | K72: =VLOOKUP(A72,HDLC!A72:K187,11,FALSE) -> China | L72: 227 | M72: patient | N72: 0.52 | O72: 61.1
A73: Xia ZH data2 | B73: 3.56 | C73: 0.77 | D73: 51 | F73: 3.54 | G73: 0.91 | H73: 111 | I73: 2011 | J73: Asian | K73: =VLOOKUP(A73,HDLC!A73:K188,11,FALSE) -> China | L73: 162 | M73: random | N73: 0.45 | O73: 59.5
A74: Xiao ZJ a | B74: 2.82 | C74: 0.83 | D74: 261 | F74: 2.86 | G74: 0.77 | H74: 469 | I74: 2004 | J74: Asian | K74: =VLOOKUP(A74,HDLC!A74:K189,11,FALSE) -> China | L74: 730 | M74: mix | N74: 0.42 | O74: 62.17
A75: Xiao ZJ b | B75: 2.84 | C75: 0.84 | D75: 385 | F75: 2.84 | G75: 0.81 | H75: 634 | I75: 2005 | J75: Asian | K75: =VLOOKUP(A75,HDLC!A75:K190,11,FALSE) -> China | L75: 1019 | M75: mix | N75: 0.41 | O75: 61.73
A76: Xiao ZJ c | B76: 2.35 | C76: 0.72 | D76: 78 | F76: 2.48 | G76: 0.75 | H76: 130 | I76: 2012 | J76: Asian | K76: =VLOOKUP(A76,HDLC!A76:K191,11,FALSE) -> China | L76: 208 | M76: mix | N76: 0.46 | O76: 77.15
A77: Xu Y data1 | B77: 2.71 | C77: 0.42 | D77: 146 | F77: 2.77 | G77: 0.55 | H77: 308 | I77: 2018 | J77: Asian | K77: =VLOOKUP(A77,HDLC!A77:K192,11,FALSE) -> China | L77: 454 | M77: mix | N77: 0.49 | O77: 68.49
... A81: Ya L data3 | B81: 2.95 | C81: 0.21 | D81: 53 | F81: 2.66 | G81: 0.22 | H81: 47 | I81: 2017 | J81: Asian | K81: =VLOOKUP(A81,HDLC!A81:K196,11,FALSE) -> China | L81: 100 | M81: random | N81: 0.5 | O81: 64.85
A82: Ya Li | B82: 2.27 | C82: 0.75 | D82: 156 | F82: 2.17 | G82: 0.71 | H82: 240 | I82: 2005 | J82: Asian | K82: China | L82: 396 | M82: patient | N82: 0.4 | O82: 60.1
A83: Yang P | B83: 2.95 | C83: 0.94 | D83: 75 | F83: 2.96 | G83: 1.01 | H83: 191 | I83: 2011 | J83: Asian | K83: =VLOOKUP(A83,HDLC!A83:K198,11,FALSE) -> China | L83: 266 | M83: patient | N83: 0.37 | O83: 61.85
A84: Young-Guk Ko data1 | B84: 3.41 | C84: 1.04 | D84: 43 | F84: 3.16 | G84: 1.14 | H84: 107 | I84: 2003 | J84: Asian | K84: =VLOOKUP(A84,HDLC!A84:K199,11,FALSE) -> Korea | L84: 150 | M84: patient | N84: 0 | O84: 56.53
A85: Young-Guk Ko data2 | B85: 3.34 | C85: 0.92 | D85: 108 | F85: 3.23 | G85: 0.91 | H85: 295 | I85: 2003 | J85: Asian | K85: =VLOOKUP(A85,HDLC!A85:K200,11,FALSE) -> Korea | L85: 403 | M85: random | N85: 0 | O85: 43.16
A86: Young-Guk Ko data3 | B86: 3.3 | C86: 0.8 | D86: 10 | F86: 3.36 | G86: 1.33 | H86: 38 | I86: 2003 | J86: Asian | K86: =VLOOKUP(A86,HDLC!A86:K201,11,FALSE) -> Korea | L86: 48 | M86: patient | N86: 1 | O86: 61.12
A87: Young-Guk Ko data4 | B87: 3.19 | C87: 0.86 | D87: 154 | F87: 3.33 | G87: 0.88 | H87: 379 | I87: 2003 | J87: Asian | K87: =VLOOKUP(A87,HDLC!A87:K202,11,FALSE) -> Korea | L87: 533 | M87: random | N87: 1 | O87: 44.48
A88: Yu B | B88: 2.98 | C88: 0.72 | D88: 29 | F88: 2.99 | G88: 0.61 | H88: 20 | I88: 2008 | J88: Asian | K88: China | L88: 49 | M88: patient | N88: 0 | O88: 55.8
A89: Yuan TY data1 | B89: 2.92 | C89: 1.01 | D89: 61 | F89: 2.7 | G89: 0.77 | H89: 151 | I89: 2017 | J89: Asian | K89: =VLOOKUP(A89,HDLC!A89:K204,11,FALSE) -> China | L89: 212 | M89: mix | N89: 0.52 | O89: 61.08
A90: Yuan TY data2 | B90: 3.11 | C90: 0.87 | D90: 50 | F90: 2.9 | G90: 0.86 | H90: 153 | I90: 2017 | J90: Asian | K90: =VLOOKUP(A90,HDLC!A90:K205,11,FALSE) -> China | L90: 203 | M90: mix | N90: 0.42 | O90: 58.42
A91: Zhang LF | B91: 2.78 | C91: 0.91 | D91: 83 | F91: 2.94 | G91: 1.07 | H91: 328 | I91: 2008 | J91: Asian | K91: =VLOOKUP(A91,HDLC!A91:K206,11,FALSE) -> China | L91: 411 | M91: mix | N91: 0.52 | O91: 58.76
A92: Zhang XX | B92: 2.42 | C92: 0.75 | D92: 49 | F92: 2.33 | G92: 0.58 | H92: 137 | I92: 2008 | J92: Asian | K92: =VLOOKUP(A92,HDLC!A92:K207,11,FALSE) -> China | L92: =D92+H92 -> 186 | M92: random | N92: 0.34 | O92: 63.5
A93: Zhao L | B93: 2.98 | C93: 0.72 | D93: 13 | F93: 2.99 | G93: 0.61 | H93: 113 | I93: 2016 | J93: Asian | K93: =VLOOKUP(A93,HDLC!A93:K208,11,FALSE) -> China | L93: 126 | M93: patient | N93: 0.32 | O93: 62.3
A94: Zhao SP a | B94: 2.93 | C94: 0.8 | D94: 176 | F94: 2.8 | G94: 0.76 | H94: 311 | I94: 2004 | J94: Asian | K94: =VLOOKUP(A94,HDLC!A94:K209,11,FALSE) -> China | L94: 487 | M94: mix | N94: 0.42 | O94: 62
A95: Zhao SP data 1 | B95: 2.9 | C95: 0.8 | D95: 170 | F95: 2.86 | G95: 0.8 | H95: 251 | I95: 2004 | J95: Asian | K95: =VLOOKUP(A95,HDLC!A95:K210,11,FALSE) -> China | L95: =D95+H95 -> 421 | M95: mix | N95: 1 | O95: 62
A96: Zhao SP data 2 | B96: 2.8 | C96: 0.8 | D96: 224 | F96: 2.8 | G96: 0.83 | H96: 398 | I96: 2004 | J96: Asian | K96: =VLOOKUP(A96,HDLC!A96:K211,11,FALSE) -> China | L96: =D96+H96 -> 622 | M96: mix | N96: 0 | O96: 62
A97: Zhou ZH | B97: 2.82 | C97: 0.81 | D97: 210 | F97: 2.87 | G97: 0.77 | H97: 420 | I97: 2013 | J97: Asian | K97: =VLOOKUP(A97,HDLC!A97:K212,11,FALSE) -> China | L97: 630 | M97: mix | N97: 0.42 | O97: 62.05

Sheet TG
A1: The Online Supplementary Materials File 4. The data of TC
A2: Study | B2: RR genotype group | F2: K allele carriers | I2: Year | J2: Ethnicity | K2: country | L2: Sample size | M2: Healthy | N2: Female% | O2: Age
B3: mean | C3: SD | D3: n | F3: mean | G3: SD | H3: n
A4: Abd El-Aziz TA | B4: 2.52 | C4: 0.81 | D4: 49 | F4: 2.3 | G4: 0.67 | H4: 186 | I4: 2014 | J4: Caucasian | K4: =VLOOKUP(A4,HDLC!A4:K119,11,FALSE) -> Egypt | L4: 235 | M4: mix | N4: 0.35 | O4: 42.15
A5: Akao H data 1 | B5: 1.61 | C5: 0.69 | D5: 1439 | F5: 1.56 | G5: 0.65 | H5: 1356 | I5: 2014 | J5: Caucasian | K5: =VLOOKUP(A5,HDLC!A5:K120,11,FALSE) -> USA | L5: =D5+H5 -> 2795 | M5: mix | N5: 0.52 | O5: 75.3
A6: Akao H data 2 | B6: 1.5 | C6: 0.74 | D6: 1395 | F6: 1.49 | G6: 0.72 | H6: 1224 | I6: 2014 | J6: Caucasian | K6: =VLOOKUP(A6,HDLC!A6:K121,11,FALSE) -> USA | L6: =D6+H6 -> 2619 | M6: mix | N6: 0.52 | O6: 75.3
A7: Balcerzyk A | B7: 1.8 | C7: 0.98 | D7: 181 | F7: 1.96 | G7: 0.99 | H7: 177 | I7: 2007 | J7: Caucasian | K7: =VLOOKUP(A7,HDLC!A7:K122,11,FALSE) -> Poland | L7: 358 | M7: mix | N7: 0.32 | O7: 39.39
A8: Benton JL | B8: 1.52 | C8: 0.24 | D8: 388 | F8: 1.5 | G8: 0.91 | H8: 581 | I8: 2007 | J8: Caucasian/Asian/A frican/Hispanic | K8: =VLOOKUP(A8,HDLC!A8:K123,11,FALSE) -> USA | L8: 969 | M8: random | N8: 0.57 | O8: 60
A9: Cai R data1 | B9: 2.05 | C9: 1.32 | D9: 39 | F9: 2.15 | G9: 2.24 | H9: 85 | I9: 2017 | J9: Asian | K9: =VLOOKUP(A9,HDLC!A9:K124,11,FALSE) -> China | L9: 124 | M9: patient | N9: 0.51 | O9: 62.46
A10: Cai R data2 | B10: 2.12 | C10: 1.57 | D10: 37 | F10: 2.06 | G10: 1.56 | H10: 65 | I10: 2017 | J10: Asian | K10: =VLOOKUP(A10,HDLC!A10:K125,11,FALSE) -> China | L10: 102 | M10: random | N10: 0.45 | O10: 60.52
A11: Cenarro A data1 | B11: 1.53 | C11: 0.65 | D11: 120 | F11: 1.6 | G11: 0.81 | H11: 90 | I11: 2003 | J11: Caucasian | K11: =VLOOKUP(A11,HDLC!A11:K126,11,FALSE) -> Spain | L11: 210 | M11: mix | N11: 0 | O11: 64.3
A12: Cenarro A data2 | B12: 1.46 | C12: 0.64 | D12: 75 | F12: 1.38 | G12: 0.63 | H12: 89 | I12: 2003 | J12: Caucasian | K12: =VLOOKUP(A12,HDLC!A12:K127,11,FALSE) -> Spain | L12: 164 | M12: mix | N12: 1 | O12: 70.5
A13: Chen LC | B13: 1.56 | C13: 1.06 | D13: 190 | F13: 1.51 | G13: 0.85 | H13: 310 | I13: 2009 | J13: Asian | K13: =VLOOKUP(A13,HDLC!A13:K128,11,FALSE) -> China | L13: 500 | M13: mix | N13: 0.4 | O13: 64.05
A14: Clee SM | B14: 1.84 | C14: 0.77 | D14: 424 | F14: 1.74 | G14: 0.76 | H14: 366 | I14: 2011 | J14: Caucasian | K14: =VLOOKUP(A14,HDLC!A14:K129,11,FALSE) -> Canada | L14: =D14+H14 -> 790 | M14: patient | N14: 0 | O14: 57
A15: Coban N data1 | B15: 1.4 | C15: 0.12 | D15: 107 | F15: 1.59 | G15: 0.17 | H15: 218 | I15: 2014 | J15: Caucasian | K15: =VLOOKUP(A15,HDLC!A15:K130,11,FALSE) -> Turkey | L15: 325 | M15: patient | N15: 1 | O15: 56.7
A16: Coban N data2 | B16: 1.63 | C16: 0.12 | D16: 103 | F16: 1.49 | G16: 0.15 | H16: 162 | I16: 2014 | J16: Caucasian | K16: =VLOOKUP(A16,HDLC!A16:K131,11,FALSE) -> Turkey | L16: 265 | M16: patient | N16: 0 | O16: 58.9
A17: Delgado-Lista J | B17: 0.98 | C17: 0.05 | D17: 50 | F17: 0.82 | G17: 0.06 | H17: 38 | I17: 2010 | J17: Caucasian | K17: =VLOOKUP(A17,HDLC!A17:K132,11,FALSE) -> Spain | L17: 88 | M17: random | N17: 0 | O17: /
A18: Deng K | B18: 1.45 | C18: 0.96 | D18: 140 | F18: 2.35 | G18: 1.62 | H18: 308 | I18: 2008 | J18: Asian | K18: =VLOOKUP(A18,HDLC!A18:K133,11,FALSE) -> China | L18: 448 | M18: mix | N18: 0.43 | O18: 62.3
A19: Evans D | B19: 3.7 | C19: 5.66 | D19: 279 | F19: 3.18 | G19: 4.97 | H19: 236 | I19: 2003 | J19: Caucasian | K19: =VLOOKUP(A19,HDLC!A19:K134,11,FALSE) -> Germany | L19: =D19+H19 -> 515 | M19: patient | N19: 0.45 | O19: 45.8
A20: Fawzy MS | B20: 0.84 | C20: 0.21 | D20: 10 | F20: 1.08 | G20: 0.36 | H20: 118 | I20: 2015 | J20: African | K20: =VLOOKUP(A20,HDLC!A20:K135,11,FALSE) -> Egypt | L20: 128 | M20: patient | N20: 0.66 | O20: 12.7
A21: Genvigir FD data1 | B21: 0.96 | C21: 0.32 | D21: 54 | F21: 0.93 | G21: 0.32 | H21: 89 | I21: 2008 | J21: Caucasian | K21: =VLOOKUP(A21,HDLC!A21:K136,11,FALSE) -> Brazil | L21: 143 | M21: random | N21: 0.73 | O21: 47
A22: Genvigir FD data2 | B22: 1.86 | C22: 0.88 | D22: 76 | F22: 1.58 | G22: 0.64 | H22: 148 | I22: 2008 | J22: Caucasian | K22: =VLOOKUP(A22,HDLC!A22:K137,11,FALSE) -> Brazil | L22: 224 | M22: patient | N22: 0.67 | O22: 55
A23: Ghaznavi H data1 | B23: 2.17 | C23: 1.08 | D23: 50 | F23: 2.36 | G23: 0.95 | H23: 50 | I23: 2018 | J23: Caucasian | K23: =VLOOKUP(A23,HDLC!A23:K138,11,FALSE) -> Iran | L23: 100 | M23: patient | N23: 0.5 | O23: 58.96
A24: Ghaznavi H data2 | B24: 1.83 | C24: 1.04 | D24: 29 | F24: 1.83 | G24: 0.67 | H24: 71 | I24: 2018 | J24: Caucasian | K24: =VLOOKUP(A24,HDLC!A24:K139,11,FALSE) -> Iran | L24: 100 | M24: random | N24: 0.5 | O24: 57.53
A25: Guo Q | B25: 2.09 | C25: 1.02 | D25: 57 | F25: 1.92 | G25: 0.88 | H25: 87 | I25: 2010 | J25: Asian | K25: =VLOOKUP(A25,HDLC!A25:K140,11,FALSE) -> China | L25: 144 | M25: patient | N25: 0.47 | O25: 58
A26: Haghvirdizadeh P data1 | B26: 1.85 | C26: 1.45 | D26: 94 | F26: 1.65 | G26: 0.78 | H26: 70 | I26: 2015 | J26: Asian | K26: =VLOOKUP(A26,HDLC!A26:K141,11,FALSE) -> Malaysia | L26: 164 | M26: patient | N26: 0.37 | O26: 62.14
A27: Haghvirdizadeh P data2 | B27: 1.26 | C27: 0.79 | D27: 56 | F27: 1.28 | G27: 0.75 | H27: 109 | I27: 2015 | J27: Asian | K27: =VLOOKUP(A27,HDLC!A27:K142,11,FALSE) -> Malaysia | L27: 165 | M27: random | N27: 0.53 | O27: 54.97
A28: Harada T | B28: 1.2 | C28: 0.57 | D28: 68 | F28: 1.44 | G28: 0.78 | H28: 197 | I28: 2003 | J28: Asian | K28: =VLOOKUP(A28,HDLC!A28:K143,11,FALSE) -> Japan | L28: 265 | M28: mix | N28: 0.13 | O28: 65.08
A29: Huang Y data1 | B29: 2.53 | C29: 1.75 | D29: 66 | F29: 2.19 | G29: 1.68 | H29: 140 | I29: 2011 | J29: Asian | K29: =VLOOKUP(A29,HDLC!A29:K144,11,FALSE) -> China | L29: 206 | M29: patient | N29: 0.38 | O29: 55.31
A30: Huang Y data2 | B30: 1.75 | C30: 2.64 | D30: 34 | F30: 1.62 | G30: 1.11 | H30: 98 | I30: 2011 | J30: Asian | K30: =VLOOKUP(A30,HDLC!A30:K145,11,FALSE) -> China | L30: 132 | M30: random | N30: 0.47 | O30: 51.7
A31: Katzov H | B31: 1.72 | C31: 0.03 | D31: 1441 | F31: 1.73 | G31: 0.08 | H31: 1126 | I31: 2006 | J31: Caucasian | K31: =VLOOKUP(A31,HDLC!A31:K146,11,FALSE) -> Sweden | L31: 2567 | M31: mix | N31: 0.33 | O31: 60.82
... A39: Kolovou V data 2 | B39: 1.09 | C39: 0.31 | D39: 186 | F39: 1.11 | G39: 0.3 | H39: 173 | I39: 2011 | J39: Caucasian | K39: =VLOOKUP(A39,HDLC!A39:K154,11,FALSE) -> Greece | L39: 359 | M39: random | N39: 1 | O39: 22
A40: Li J data1 | B40: 1.81 | C40: 0.29 | D40: 140 | F40: 1.72 | G40: 0.25 | H40: 225 | I40: 2009 | J40: Asian | K40: China | L40: 365 | M40: patient | N40: 0.52 | O40: 63
A41: Li J data2 | B41: 1.98 | C41: 1 | D41: 52 | F41: 1.75 | G41: 0.99 | H41: 98 | I41: 2012 | J41: Asian | K41: China | L41: 150 | M41: patient | N41: 0.36 | O41: 62
A42: Liu J | B42: 2.27 | C42: 1.02 | D42: 29 | F42: 1.96 | G42: 1.01 | H42: 42 | I42: 2008 | J42: Asian | K42: =VLOOKUP(A42,HDLC!A42:K157,11,FALSE) -> China | L42: =D42+H42 -> 71 | M42: patient | N42: 0.48 | O42: 58
A43: Mantaring M | B43: 1.82 | C43: 3.32 | D43: 54 | F43: 1.83 | G43: 3.35 | H43: 70 | I43: 2007 | J43: Caucasian | K43: =VLOOKUP(A43,HDLC!A43:K158,11,FALSE) -> Spain | L43: 124 | M43: patient | N43: / | O43: 52.82
A44: Mao Y data1 | B44: 1.72 | C44: 1.16 | D44: 88 | F44: 1.9 | G44: 0.92 | H44: 111 | I44: 2013 | J44: Asian | K44: =VLOOKUP(A44,HDLC!A44:K159,11,FALSE) -> China | L44: 199 | M44: patient | N44: / | O44: 54.92
A45: Mao Y data2 | B45: 1.65 | C45: 0.74 | D45: 28 | F45: 2.05 | G45: 1.23 | H45: 55 | I45: 2013 | J45: Asian | K45: =VLOOKUP(A45,HDLC!A45:K160,11,FALSE) -> China | L45: 83 | M45: random | N45: / | O45: 50.62
A46: Mao Y data3 | B46: 2.17 | C46: 2.23 | D46: 66 | F46: 2.09 | G46: 1.49 | H46: 112 | I46: 2013 | J46: Asian | K46: =VLOOKUP(A46,HDLC!A46:K161,11,FALSE) -> China | L46: 178 | M46: patient | N46: / | O46: 69.82
A47: Mao Y data4 | B47: 1.61 | C47: 0.99 | D47: 28 | F47: 1.81 | G47: 0.74 | H47: 67 | I47: 2013 | J47: Asian | K47: =VLOOKUP(A47,HDLC!A47:K162,11,FALSE) -> China | L47: 95 | M47: random | N47: / | O47: 56.94
A48: Min XH | B48: 4.81 | C48: 0.83 | D48: 126 | F48: 4.24 | G48: 0.82 | H48: 179 | I48: 2014 | J48: Asian | K48: =VLOOKUP(A48,HDLC!A48:K163,11,FALSE) -> China | L48: 305 | M48: patient | N48: 1 | O48: /
A49: Sandhofer A | B49: 1.56 | C49: 1.04 | D49: 350 | F49: 1.56 | G49: 0.9 | H49: 338 | I49: 2008 | J49: Caucasian | K49: =VLOOKUP(A49,HDLC!A49:K164,11,FALSE) -> Austria | L49: =D49+H49 -> 688 | M49: random | N49: 0 | O49: 50.1
A50: Shi WY data1 | B50: 1.79 | C50: 1.22 | D50: 49 | F50: 1.68 | G50: 0.94 | H50: 83 | I50: 2009 | J50: Asian | K50: =VLOOKUP(A50,HDLC!A50:K165,11,FALSE) -> China | L50: 132 | M50: patient | N50: 0.36 | O50: 61.72
A51: Shi WY data2 | B51: 1.36 | C51: 1.05 | D51: 53 | F51: 1.39 | G51: 0.9 | H51: 104 | I51: 2009 | J51: Asian | K51: =VLOOKUP(A51,HDLC!A51:K166,11,FALSE) -> China | L51: 157 | M51: random | N51: 0.36 | O51: 61.13
A52: Smirnov GP | B52: 4.05 | C52: 8.6 | D52: 180 | F52: 2.72 | G52: 3.06 | H52: 178 | I52: 2018 | J52: Caucasian | K52: =VLOOKUP(A52,HDLC!A52:K167,11,FALSE) -> Russia | L52: 358 | M52: patient | N52: 0.57 | O52: 48.7
A53: Srinivasan SR data 1 | B53: 1.42 | C53: 1.26 | D53: 495 | F53: 1.33 | G53: 1.12 | H53: 392 | I53: 2003 | J53: Caucasian/African | K53: =VLOOKUP(A53,HDLC!A53:K168,11,FALSE) -> USA | L53: =D53+H53 -> 887 | M53: random | N53: / | O53: 29.8
A54: Srinivasan SR data 2 | B54: 0.95 | C54: 0.56 | D54: 63 | F54: 1.07 | G54: 0.86 | H54: 327 | I54: 2003 | J54: Caucasian/African | K54: =VLOOKUP(A54,HDLC!A54:K169,11,FALSE) -> USA | L54: =D54+H54 -> 390 | M54: random | N54: / | O54: 28.9
A55: Sun MH data1 | B55: 2.07 | C55: 0.13 | D55: 160 | F55: 1.63 | G55: 0.16 | H55: 308 | I55: 2011 | J55: Asian | K55: =VLOOKUP(A55,HDLC!A55:K170,11,FALSE) -> China | L55: 468 | M55: random | N55: 0.28 | O55: 53.78
A56: Sun MH data2 | B56: 2.04 | C56: 0.1 | D56: 182 | F56: 1.73 | G56: 0.09 | H56: 458 | I56: 2011 | J56: Asian | K56: =VLOOKUP(A56,HDLC!A56:K171,11,FALSE) -> China | L56: 640 | M56: random | N56: 0.23 | O56: 54.77
A57: Sun P data2 | B57: 1.81 | C57: 0.94 | D57: 62 | F57: 1.69 | G57: 0.94 | H57: 186 | I57: 2005 | J57: Asian | K57: =VLOOKUP(A57,HDLC!A57:K172,11,FALSE) -> China | L57: 248 | M57: random | N57: 0.45 | O57: 59.61
A58: Takagi S | B58: 1.51 | C58: 0.77 | D58: 120 | F58: 1.56 | G58: 1.06 | H58: 345 | I58: 2002 | J58: Asian | K58: =VLOOKUP(A58,HDLC!A58:K173,11,FALSE) -> Japan | L58: =D58+H58 -> 465 | M58: patient | N58: 0.18 | O58: 58
A59: Wang B | B59: 0.27 | C59: 0.03 | D59: 63 | F59: 0.24 | G59: 0.03 | H59: 78 | I59: 2012 | J59: Asian | K59: =VLOOKUP(A59,HDLC!A59:K174,11,FALSE) -> China | L59: 141 | M59: patient | N59: 0.32 | O59: 62.76
A60: Wang JR data2 | B60: 4.65 | C60: 1.08 | D60: 34 | F60: 4.94 | G60: 1.03 | H60: 80 | I60: 2013 | J60: Asian | K60: =VLOOKUP(A60,HDLC!A60:K175,11,FALSE) -> China | L60: 114 | M60: random | N60: 0.41 | O60: 63.81
A61: Wang N data1 | B61: 1.75 | C61: 0.68 | D61: 47 | F61: 1.7 | G61: 0.99 | H61: 115 | I61: 2010 | J61: Asian | K61: =VLOOKUP(A61,HDLC!A61:K176,11,FALSE) -> China | L61: 162 | M61: mix | N61: 1 | O61: 65.58
A62: Wang N data2 | B62: 1.79 | C62: 1.05 | D62: 101 | F62: 1.67 | G62: 0.97 | H62: 213 | I62: 2010 | J62: Asian | K62: =VLOOKUP(A62,HDLC!A62:K177,11,FALSE) -> China | L62: 314 | M62: mix | N62: 0 | O62: 65.58
A63: Wang XD data1 | B63: 1.56 | C63: 0.63 | D63: 79 | F63: 1.32 | G63: 0.64 | H63: 143 | I63: 2004 | J63: Asian | K63: =VLOOKUP(A63,HDLC!A63:K178,11,FALSE) -> China | L63: 222 | M63: patient | N63: 0.45 | O63: 62.37
A64: Wang XD data2 | B64: 1.23 | C64: 0.64 | D64: 76 | F64: 1.19 | G64: 0.67 | H64: 202 | I64: 2004 | J64: Asian | K64: =VLOOKUP(A64,HDLC!A64:K179,11,FALSE) -> China | L64: 278 | M64: random | N64: 0.49 | O64: 62.2
A65: Wang XP | B65: 1.87 | C65: 1.34 | D65: 108 | F65: 1.67 | G65: 0.63 | H65: 124 | I65: 2006 | J65: Asian | K65: =VLOOKUP(A65,HDLC!A65:K180,11,FALSE) -> China | L65: =D65+H65 -> 232 | M65: patient | N65: 0.39 | O65: 64 .85
A66: Wang Y a | B66: 1.76 | C66: 1.13 | D66: 108 | F66: 1.78 | G66: 1.48 | H66: 181 | I66: 2009 | J66: Asian | K66: =VLOOKUP(A66,HDLC!A66:K181,11,FALSE) -> China | L66: 289 | M66: mix | N66: 0.27 | O66: 52.35
A67: Wang Y b | B67: 1.81 | C67: 1.12 | D67: 108 | F67: 1.89 | G67: 1.56 | H67: 181 | I67: 2016 | J67: Asian | K67: =VLOOKUP(A67,HDLC!A67:K182,11,FALSE) -> China | L67: 289 | M67: random | N67: 0.29 | O67: 41
A68: Wang Y c | B68: 1.57 | C68: 1.11 | D68: 67 | F68: 1.68 | G68: 1.57 | H68: 122 | I68: 2018 | J68: Asian | K68: =VLOOKUP(A68,HDLC!A68:K183,11,FALSE) -> China | L68: 189 | M68: random | N68: 0.32 | O68: 41.23
A69: Wang YM | B69: 1.84 | C69: 0.86 | D69: 158 | F69: 1.7 | G69: 0.93 | H69: 238 | I69: 2006 | J69: Asian | K69: =VLOOKUP(A69,HDLC!A69:K184,11,FALSE) -> China | L69: 396 | M69: patient | N69: 0.4 | O69: 60.1
A70: Wu Y data1 | B70: 1.41 | C70: 0.84 | D70: 52 | F70: 1.22 | G70: 0.4 | H70: 148 | I70: 2007 | J70: Asian | K70: =VLOOKUP(A70,HDLC!A70:K185,11,FALSE) -> China | L70: 200 | M70: random | N70: 0.48 | O70: 50.57
A71: Wu Y data2 | B71: 3.82 | C71: 2.02 | D71: 33 | F71: 3.4 | G71: 1.6 | H71: 76 | I71: 2007 | J71: Asian | K71: =VLOOKUP(A71,HDLC!A71:K186,11,FALSE) -> China | L71: 109 | M71: patient | N71: 0.28 | O71: 52.28
A72: Xia ZH data1 | B72: 1.87 | C72: 1.34 | D72: 96 | F72: 1.67 | G72: 0.63 | H72: 131 | I72: 2011 | J72: Asian | K72: =VLOOKUP(A72,HDLC!A72:K187,11,FALSE) -> China | L72: 227 | M72: patient | N72: 0.52 | O72: 61.1
A73: Xia ZH data2 | B73: 1.23 | C73: 0.64 | D73: 51 | F73: 1.19 | G73: 0.67 | H73: 111 | I73: 2011 | J73: Asian | K73: =VLOOKUP(A73,HDLC!A73:K188,11,FALSE) -> China | L73: 162 | M73: random | N73: 0.45 | O73: 59.5
A74: Xiao ZJ c | B74: 1.39 | C74: 0.8 | D74: 78 | F74: 1.31 | G74: 0.58 | H74: 130 | I74: 2012 | J74: Asian | K74: China | L74: 208 | M74: mix | N74: 0.46 | O74: 77.15
A75: Xiao ZJ a | B75: 1.64 | C75: 1.15 | D75: 261 | F75: 1.6 | G75: 0.82 | H75: 469 | I75: 2004 | J75: Asian | K75: =VLOOKUP(A75,HDLC!A75:K190,11,FALSE) -> China | L75: 730 | M75: mix | N75: 0.42 | O75: 62.17
A76: Xiao ZJ b | B76: 1.6 | C76: 1.12 | D76: 385 | F76: 1.57 | G76: 0.79 | H76: 634 | I76: 2005 | J76: Asian | K76: =VLOOKUP(A76,HDLC!A76:K191,11,FALSE) -> China | L76: 1019 | M76: mix | N76: 0.41 | O76: 61.73
A77: Xu Y data1 | B77: 1.41 | C77: 0.87 | D77: 146 | F77: 1.51 | G77: 0.71 | H77: 308 | I77: 2018 | J77: Asian | K77: =VLOOKUP(A77,HDLC!A77:K192,11,FALSE) -> China | L77: 454 | M77: mix | N77: 0.49 | O77: 68.49
A78: Xue XH | B78: 2.14 | C78: 0.82 | D78: 132 | F78: 1.9 | G78: 0.88 | H78: 279 | I78: 2012 | J78: Asian | K78: =VLOOKUP(A78,HDLC!A78:K193,11,FALSE) -> China | L78: 411 | M78: mix | N78: 0.33 | O78: 64.98
A79: Ya L data1 | B79: 1.47 | C79: 0.16 | D79: 48 | F79: 1.15 | G79: 0.1 | H79: 57 | I79: 2017 | J79: Asian | K79: =VLOOKUP(A79,HDLC!A79:K194,11,FALSE) -> China | L79: 105 | M79: patient | N79: 0.43 | O79: 69.94
A80: Ya L data2 | B80: 1.31 | C80: 0.08 | D80: 81 | F80: 1.42 | G80: 0.11 | H80: 35 | I80: 2017 | J80: Asian | K80: =VLOOKUP(A80,HDLC!A80:K195,11,FALSE) -> China | L80: 116 | M80: patient | N80: 0.41 | O80: 68.94
A81: Ya L data3 | B81: 1.5 | C81: 0.09 | D81: 53 | F81: 1.39 | G81: 0.16 | H81: 47 | I81: 2017 | J81: Asian | K81: =VLOOKUP(A81,HDLC!A81:K196,11,FALSE) -> China | L81: 100 | M81: random | N81: 0.5 | O81: 64.85
A82: Ya Li | B82: 1.84 | C82: 0.86 | D82: 156 | F82: 1.7 | G82: 0.93 | H82: 240 | I82: 2005 | J82: Asian | K82: China | L82: 396 | M82: patient | N82: 0.4 | O82: 60.1
A83: Yamakawa-Kobayashi K | B83: 0.81 | C83: 0.36 | D83: 70 | F83: 0.86 | G83: 0.38 | H83: 257 | I83: 2004 | J83: Asian | K83: =VLOOKUP(A83,HDLC!A83:K198,11,FALSE) -> Japan | L83: 327 | M83: random | N83: 0.5 | O83: 12.3
A84: Yang P | B84: 1.69 | C84: 0.62 | D84: 75 | F84: 1.63 | G84: 0.82 | H84: 191 | I84: 2011 | J84: Asian | K84: =VLOOKUP(A84,HDLC!A84:K199,11,FALSE) -> China | L84: 266 | M84: patient | N84: 0.37 | O84: 61.85
A85: Young-Guk Ko data1 | B85: 1.76 | C85: 0.88 | D85: 43 | F85: 1.93 | G85: 1.32 | H85: 107 | I85: 2003 | J85: Asian | K85: =VLOOKUP(A85,HDLC!A85:K200,11,FALSE) -> Korea | L85: 150 | M85: patient | N85: 0 | O85: 56.53
A86: Young-Guk Ko data2 | B86: 1.68 | C86: 0.83 | D86: 108 | F86: 1.64 | G86: 0.87 | H86: 295 | I86: 2003 | J86: Asian | K86: =VLOOKUP(A86,HDLC!A86:K201,11,FALSE) -> Korea | L86: 403 | M86: random | N86: 0 | O86: 43.16
A87: Young-Guk Ko data3 | B87: 1.6 | C87: 0.34 | D87: 10 | F87: 1.77 | G87: 0.79 | H87: 38 | I87: 2003 | J87: Asian | K87: =VLOOKUP(A87,HDLC!A87:K202,11,FALSE) -> Korea | L87: 48 | M87: patient | N87: 1 | O87: 61.12
A88: Young-Guk Ko data4 | B88: 1.23 | C88: 0.68 | D88: 154 | F88: 1.25 | G88: 0.74 | H88: 379 | I88: 2003 | J88: Asian | K88: =VLOOKUP(A88,HDLC!A88:K203,11,FALSE) -> Korea | L88: 533 | M88: random | N88: 1 | O88: 44.48
A89: Yu B | B89: 3.05 | C89: 0.11 | D89: 29 | F89: 3.06 | G89: 0.5 | H89: 20 | I89: 2008 | J89: Asian | K89: =VLOOKUP(A89,HDLC!A89:K204,11,FALSE) -> China | L89: 49 | M89: patient | N89: 0 | O89: 55.8
A90: Yuan TY data1 | B90: 2.03 | C90: 1.3 | D90: 61 | F90: 1.58 | G90: 0.85 | H90: 151 | I90: 2017 | J90: Asian | K90: =VLOOKUP(A90,HDLC!A90:K205,11,FALSE) -> China | L90: 212 | M90: mix | N90: 0.52 | O90: 61.08
A91: Yuan TY data2 | B91: 2.03 | C91: 1.3 | D91: 50 | F91: 1.59 | G91: 0.85 | H91: 153 | I91: 2017 | J91: Asian | K91: =VLOOKUP(A91,HDLC!A91:K206,11,FALSE) -> China | L91: 203 | M91: mix | N91: 0.42 | O91: 58.42
A92: Zhang LF | B92: 1.68 | C92: 0.97 | D92: 83 | F92: 1.64 | G92: 0.95 | H92: 328 | I92: 2008 | J92: Asian | K92: =VLOOKUP(A92,HDLC!A92:K207,11,FALSE) -> China | L92: 411 | M92: mix | N92: 0.52 | O92: 58.76
A93: Zhang XX | B93: 1.54 | C93: 1.09 | D93: 49 | F93: 1.3 | G93: 0.45 | H93: 137 | I93: 2008 | J93: Asian | K93: =VLOOKUP(A93,HDLC!A93:K208,11,FALSE) -> China | L93: =D93+H93 -> 186 | M93: random | N93: 0.34 | O93: 63.5
A94: Zhao L | B94: 3.05 | C94: 0.11 | D94: 13 | F94: 3.06 | G94: 0.5 | H94: 113 | I94: 2016 | J94: Asian | K94: =VLOOKUP(A94,HDLC!A94:K209,11,FALSE) -> China | L94: 126 | M94: patient | N94: 0.32 | O94: 62.3
A95: Zhao SP a | B95: 1.58 | C95: 0.83 | D95: 176 | F95: 1.49 | G95: 0.67 | H95: 311 | I95: 2004 | J95: Asian | K95: =VLOOKUP(A95,HDLC!A95:K210,11,FALSE) -> China | L95: =D95+H95 -> 487 | M95: mix | N95: 0.42 | O95: 62
A96: Zhao SP data 1 | B96: 1.6 | C96: 1.2 | D96: 170 | F96: 1.6 | G96: 0.77 | H96: 251 | I96: 2004 | J96: Asian | K96: =VLOOKUP(A96,HDLC!A96:K211,11,FALSE) -> China | L96: =D96+H96 -> 421 | M96: mix | N96: 1 | O96: 62
A97: Zhao SP data 2 | B97: 1.6 | C97: 1.1 | D97: 224 | F97: 1.6 | G97: 0.8 | H97: 398 | I97: 2004 | J97: Asian | K97: =VLOOKUP(A97,HDLC!A97:K212,11,FALSE) -> China | L97: =D97+H97 -> 622 | M97: mix | N97: 0 | O97: 62
A98: Zhou ZH | B98: 1.5 | C98: 1.11 | D98: 210 | F98: 1.62 | G98: 0.86 | H98: 420 | I98: 2013 | J98: Asian | K98: =VLOOKUP(A98,HDLC!A98:K213,11,FALSE) -> China | L98: 630 | M98: mix | N98: 0.42 | O98: 62.05

Sheet TC
A1: The Online Supplementary Materials File 4. The data of TG
A2: Study | B2: RR genotype group | F2: K allele carriers | I2: Year | J2: Ethnicity | K2: country | L2: Sample size | M2: Healthy | N2: Female% | O2: Age
B3: mean | C3: SD | D3: n | F3: mean | G3: SD | H3: n
A4: Abd El-Aziz TA | B4: 6.26 | C4: 1.44 | D4: 49 | F4: 5.35 | G4: 1.74 | H4: 186 | I4: 2014 | J4: Caucasian | K4: =VLOOKUP(A4,HDLC!A4:K119,11,FALSE) -> Egypt | L4: 235 | M4: mix | N4: 0.35 | O4: 42.15
A5: Abellan Rosario data1 | B5: 5.49 | C5: 0.14 | D5: 51 | F5: 5.15 | G5: 0.05 | H5: 558 | I5: 2010 | J5: Caucasian | K5: =VLOOKUP(A5,HDLC!A5:K120,11,FALSE) -> Spain | L5: 609 | M5: random | N5: 0 | O5: 52.6
A6: Abellan Rosario data2 | B6: 5.21 | C6: 0.14 | D6: 52 | F6: 5.21 | G6: 0.04 | H6: 575 | I6: 2010 | J6: Caucasian | K6: =VLOOKUP(A6,HDLC!A6:K121,11,FALSE) -> Spain | L6: 627 | M6: random | N6: 1 | O6: 52.7
A7: Akao H data 1 | B7: 6 | C7: 0.89 | D7: 1439 | F7: 5.99 | G7: 0.89 | H7: 1356 | I7: 2014 | J7: Caucasian | K7: =VLOOKUP(A7,HDLC!A7:K122,11,FALSE) -> USA | L7: =D7+H7 -> 2795 | M7: mix | N7: 0.52 | O7: 75.3
A8: Akao H data 2 | B8: 5.36 | C8: 0.8 | D8: 1395 | F8: 5.35 | G8: 0.79 | H8: 1224 | I8: 2014 | J8: Caucasian | K8: =VLOOKUP(A8,HDLC!A8:K123,11,FALSE) -> USA | L8: =D8+H8 -> 2619 | M8: mix | N8: 0.52 | O8: 75.3
A9: Balcerzyk A | B9: 5.8 | C9: 1.35 | D9: 181 | F9: 5.71 | G9: 1.39 | H9: 177 | I9: 2007 | J9: Caucasian | K9: =VLOOKUP(A9,HDLC!A9:K124,11,FALSE) -> Poland | L9: 358 | M9: mix | N9: 0.32 | O9: 39.39
A10: Cai R data1 | B10: 5.25 | C10: 1.36 | D10: 39 | F10: 5.04 | G10: 1.63 | H10: 85 | I10: 2017 | J10: Asian | K10: =VLOOKUP(A10,HDLC!A10:K125,11,FALSE) -> China | L10: 124 | M10: patient | N10: 0.51 | O10: 62.46
A11: Cai R data2 | B11: 4.61 | C11: 0.99 | D11: 37 | F11: 4.74 | G11: 1.38 | H11: 65 | I11: 2017 | J11: Asian | K11: =VLOOKUP(A11,HDLC!A11:K126,11,FALSE) -> China | L11: 102 | M11: random | N11: 0.45 | O11: 60.52
A12: Cenarro A data1 | B12: 10.9 | C12: 2 | D12: 120 | F12: 10.5 | G12: 1.7 | H12: 90 | I12: 2003 | J12: Caucasian | K12: =VLOOKUP(A12,HDLC!A12:K127,11,FALSE) -> Spain | L12: 210 | M12: mix | N12: 0 | O12: 64.3
A13: Cenarro A data2 | B13: 11.2 | C13: 2.3 | D13: 75 | F13: 11.1 | G13: 1.9 | H13: 89 | I13: 2003 | J13: Caucasian | K13: =VLOOKUP(A13,HDLC!A13:K128,11,FALSE) -> Spain | L13: 164 | M13: mix | N13: 1 | O13: 70.5
A14: Chen LC | B14: 4.95 | C14: 0.98 | D14: 190 | F14: 5.02 | G14: 0.96 | H14: 310 | I14: 2009 | J14: Asian | K14: =VLOOKUP(A14,HDLC!A14:K129,11,FALSE) -> China | L14: 500 | M14: mix | N14: 0.4 | O14: 64.05
A15: Clee SM | B15: 6.02 | C15: 0.86 | D15: 424 | F15: 6.06 | G15: 0.89 | H15: 366 | I15: 2011 | J15: Caucasian | K15: =VLOOKUP(A15,HDLC!A15:K130,11,FALSE) -> Canada | L15: =D15+H15 -> 790 | M15: patient | N15: 0 | O15: 57
A16: Coban N data1 | B16: 4.99 | C16: 1.06 | D16: 111 | F16: 5.04 | G16: 1.07 | H16: 219 | I16: 2014 | J16: Caucasian | K16: =VLOOKUP(A16,HDLC!A16:K131,11,FALSE) -> Turkey | L16: 330 | M16: patient | N16: 1 | O16: 56.7
A17: Coban N data2 | B17: 4.65 | C17: 1.14 | D17: 105 | F17: 4.84 | G17: 1.15 | H17: 161 | I17: 2014 | J17: Caucasian | K17: =VLOOKUP(A17,HDLC!A17:K132,11,FALSE) -> Turkey | L17: 266 | M17: patient | N17: 0 | O17: 58.9
A18: Delgado-Lista J | B18: 3.97 | C18: 0.09 | D18: 50 | F18: 3.89 | G18: 0.09 | H18: 38 | I18: 2010 | J18: Caucasian | K18: =VLOOKUP(A18,HDLC!A18:K133,11,FALSE) -> Spain | L18: 88 | M18: random | N18: 0 | O18: /
A19: Deng K | B19: 4.71 | C19: 0.85 | D19: 140 | F19: 4.78 | G19: 0.9 | H19: 308 | I19: 2008 | J19: Asian | K19: =VLOOKUP(A19,HDLC!A19:K134,11,FALSE) -> China | L19: 448 | M19: mix | N19: 0.43 | O19: 62.3
A20: Evans D | B20: 7.37 | C20: 2.12 | D20: 279 | F20: 7.33 | G20: 2.17 | H20: 236 | I20: 2003 | J20: Caucasian | K20: =VLOOKUP(A20,HDLC!A20:K135,11,FALSE) -> Germany | L20: =D20+H20 -> 515 | M20: patient | N20: 0.45 | O20: 45.8
A21: Fawzy MS | B21: 5.07 | C21: 1.82 | D21: 10 | F21: 5.88 | G21: 1 | H21: 118 | I21: 2015 | J21: African | K21: =VLOOKUP(A21,HDLC!A21:K136,11,FALSE) -> Egypt | L21: =D21+H21 -> 128 | M21: patient | N21: 0.66 | O21: 12.7
A22: Genvigir FD data1 | B22: 4.47 | C22: 0.51 | D22: 54 | F22: 4.49 | G22: 0.45 | H22: 89 | I22: 2008 | J22: Caucasian | K22: =VLOOKUP(A22,HDLC!A22:K137,11,FALSE) -> Brazil | L22: 143 | M22: random | N22: 0.73 | O22: 47
A23: Genvigir FD data2 | B23: 6.67 | C23: 1.17 | D23: 76 | F23: 6.64 | G23: 1.23 | H23: 148 | I23: 2008 | J23: Caucasian | K23: =VLOOKUP(A23,HDLC!A23:K138,11,FALSE) -> Brazil | L23: 224 | M23: patient | N23: 0.67 | O23: 55
A24: Ghaznavi H data1 | B24: 5.09 | C24: 1.37 | D24: 50 | F24: 5.29 | G24: 1.64 | H24: 50 | I24: 2018 | J24: Caucasian | K24: =VLOOKUP(A24,HDLC!A24:K139,11,FALSE) -> Iran | L24: 100 | M24: patient | N24: 0.5 | O24: 58.96
A25: Ghaznavi H data2 | B25: 4.7 | C25: 0.87 | D25: 29 | F25: 4.39 | G25: 1.09 | H25: 71 | I25: 2018 | J25: Caucasian | K25: =VLOOKUP(A25,HDLC!A25:K140,11,FALSE) -> Iran | L25: 100 | M25: random | N25: 0.5 | O25: 57.53
A26: Guo Q | B26: 4.88 | C26: 0.8 | D26: 57 | F26: 4.97 | G26: 0.79 | H26: 87 | I26: 2010 | J26: Asian | K26: =VLOOKUP(A26,HDLC!A26:K141,11,FALSE) -> China | L26: =D26+H26 -> 144 | M26: patient | N26: 0.47 | O26: 58
A27: Haghvirdizadeh P data1 | B27: 4.42 | C27: 1.19 | D27: 94 | F27: 4.32 | G27: 1.08 | H27: 70 | I27: 2015 | J27: Asian | K27: =VLOOKUP(A27,HDLC!A27:K142,11,FALSE) -> Malaysia | L27: 164 | M27: patient | N27: 0.37 | O27: 62.14
A28: Haghvirdizadeh P data2 | B28: 4.66 | C28: 1.16 | D28: 56 | F28: 4.31 | G28: 1.16 | H28: 109 | I28: 2015 | J28: Asian | K28: =VLOOKUP(A28,HDLC!A28:K143,11,FALSE) -> Malaysia | L28: 165 | M28: random | N28: 0.53 | O28: 54.97
A29: Harada T | B29: 4.54 | C29: 0.91 | D29: 68 | F29: 4.78 | G29: 0.89 | H29: 197 | I29: 2003 | J29: Asian | K29: =VLOOKUP(A29,HDLC!A29:K144,11,FALSE) -> Japan | L29: 265 | M29: mix | N29: 0.13 | O29: 65.08
A30: Huang Y data1 | B30: 5.53 | C30: 1 | D30: 66 | F30: 5.43 | G30: 0.97 | H30: 140 | I30: 2011 | J30: Asian | K30: =VLOOKUP(A30,HDLC!A30:K145,11,FALSE) -> China | L30: 206 | M30: patient | N30: 0.38 | O30: 55.31
A31: Huang Y data2 | B31: 5.55 | C31: 1.46 | D31: 34 | F31: 5.31 | G31: 1.06 | H31: 98 | I31: 2011 | J31: Asian | K31: =VLOOKUP(A31,HDLC!A31:K146,11,FALSE) -> China | L31: 132 | M31: random | N31: 0.47 | O31: 51.7
A32: Katzov H | B32: 6.01 | C32: 0.03 | D32: 1439 | F32: 6.07 | G32: 0.08 | H32: 1126 | I32: 2006 | J32: Caucasian | K32: =VLOOKUP(A32,HDLC!A32:K147,11,FALSE) -> Sweden | L32: 2565 | M32: mix | N32: 0.33 | O32: 60.82
A33: Kitjaroentham data1 | B33: 5.81 | C33: 2.02 | D33: 18 | F33: 5.51 | G33: 1.04 | H33: 22 | I33: 2007 | J33: Asian | K33: =VLOOKUP(A33,HDLC!A33:K148,11,FALSE) -> Thailand | L33: 40 | M33: patient | N33: 0 | O33: 43
A34: Kitjaroentham data2 | B34: 6.39 | C34: 2.15 | D34: 25 | F34: 6.27 | G34: 1.88 | H34: 47 | I34: 2007 | J34: Asian | K34: =VLOOKUP(A34,HDLC!A34:K149,11,FALSE) -> Thailand | L34: 72 | M34: patient | N34: 1 | O34: 43
A35: Kitjaroentham data3 | B35: 5.28 | C35: 1.17 | D35: 33 | F35: 5.25 | G35: 1.12 | H35: 63 | I35: 2007 | J35: Asian | K35: =VLOOKUP(A35,HDLC!A35:K150,11,FALSE) -> Thailand | L35: 96 | M35: random | N35: 0 | O35: 37
A36: Kitjaroentham data4 | B36: 5.66 | C36: 1.44 | D36: 6 | F36: 5.88 | G36: 1.14 | H36: 15 | I36: 2007 | J36: Asian | K36: =VLOOKUP(A36,HDLC!A36:K151,11,FALSE) -> Thailand | L36: 21 | M36: random | N36: 1 | O36: 37
A37: Kolovou G | B37: 7.54 | C37: 1.55 | D37: 276 | F37: 7.16 | G37: 1.23 | H37: 310 | I37: 2013 | J37: Caucasian | K37: =VLOOKUP(A37,HDLC!A37:K152,11,FALSE) -> Greece | L37: 586 | M37: patient | N37: 0.31 | O37: 57.2
A38: Kolovou V | B38: 5.2 | C38: 1.68 | D38: 218 | F38: 5.29 | G38: 1.74 | H38: 214 | I38: 2016 | J38: Caucasian | K38: =VLOOKUP(A38,HDLC!A38:K153,11,FALSE) -> Greece | L38: 432 | M38: random | N38: 0.8 | O38: 22
... A40: Kolovou V data 2 | B40: 5.16 | C40: 0.58 | D40: 186 | F40: 5.08 | G40: 0.63 | H40: 173 | I40: 2011 | J40: Caucasian | K40: =VLOOKUP(A40,HDLC!A40:K155,11,FALSE) -> Greece | L40: 359 | M40: random | N40: 1 | O40: 22
A41: Li J data1 | B41: 5.12 | C41: 0.51 | D41: 140 | F41: 5.11 | G41: 0.49 | H41: 225 | I41: 2009 | J41: Asian | K41: China | L41: 365 | M41: patient | N41: 0.52 | O41: 63
A42: Li J data2 | B42: 5 | C42: 0.88 | D42: 52 | F42: 5.23 | G42: 1.2 | H42: 98 | I42: 2012 | J42: Asian | K42: China | L42: =D42+H42 -> 150 | M42: patient | N42: 0.36 | O42: 62
A43: Liu J | B43: 4.97 | C43: 0.85 | D43: 29 | F43: 4.87 | G43: 0.84 | H43: 42 | I43: 2008 | J43: Asian | K43: =VLOOKUP(A43,HDLC!A43:K158,11,FALSE) -> China | L43: =D43+H43 -> 71 | M43: patient | N43: 0.48 | O43: 58
A44: Manresa JM | B44: 5.77 | C44: 1.14 | D44: 657 | F44: 5.74 | G44: 1.16 | H44: 591 | I44: 2006 | J44: Caucasian | K44: =VLOOKUP(A44,HDLC!A44:K159,11,FALSE) -> Spain | L44: =D44+H44 -> 1248 | M44: random | N44: 0.48 | O44: 51
A45: Mantaring M | B45: 5.3 | C45: 1.33 | D45: 54 | F45: 5.48 | G45: 1.54 | H45: 70 | I45: 2007 | J45: Caucasian | K45: =VLOOKUP(A45,HDLC!A45:K160,11,FALSE) -> Spain | L45: 124 | M45: patient | N45: / | O45: 52.82
A46: Mao Y data1 | B46: 4.15 | C46: 1.09 | D46: 88 | F46: 4.19 | G46: 0.93 | H46: 111 | I46: 2013 | J46: Asian | K46: =VLOOKUP(A46,HDLC!A46:K161,11,FALSE) -> China | L46: 199 | M46: patient | N46: / | O46: 54.92
A47: Mao Y data2 | B47: 4.06 | C47: 0.77 | D47: 28 | F47: 4.23 | G47: 0.98 | H47: 55 | I47: 2013 | J47: Asian | K47: =VLOOKUP(A47,HDLC!A47:K162,11,FALSE) -> China | L47: 83 | M47: random | N47: / | O47: 50.62
A48: Mao Y data3 | B48: 4.23 | C48: 1.44 | D48: 66 | F48: 4.21 | G48: 1.24 | H48: 112 | I48: 2013 | J48: Asian | K48: =VLOOKUP(A48,HDLC!A48:K163,11,FALSE) -> China | L48: 178 | M48: patient | N48: / | O48: 69.82
A49: Mao Y data4 | B49: 3.92 | C49: 0.77 | D49: 28 | F49: 4.08 | G49: 0.58 | H49: 67 | I49: 2013 | J49: Asian | K49: =VLOOKUP(A49,HDLC!A49:K164,11,FALSE) -> China | L49: 95 | M49: random | N49: / | O49: 56.94
A50: Marvaki | B50: 5.17 | C50: 1.66 | D50: 225 | F50: 5.29 | G50: 1.73 | H50: 223 | I50: 2014 | J50: Caucasian | K50: Greece | L50: 448 | M50: random | N50: 0.81 | O50: 22.5
A51: Min XH | B51: 6.11 | C51: 1.4 | D51: 126 | F51: 5.81 | G51: 1.57 | H51: 179 | I51: 2014 | J51: Asian | K51: =VLOOKUP(A51,HDLC!A51:K166,11,FALSE) -> China | L51: 305 | M51: patient | N51: 1 | O51: /
A52: Sandhofer A | B52: 5.96 | C52: 1.08 | D52: 350 | F52: 5.85 | G52: 1.02 | H52: 338 | I52: 2008 | J52: Caucasian | K52: =VLOOKUP(A52,HDLC!A52:K167,11,FALSE) -> Austria | L52: =D52+H52 -> 688 | M52: random | N52: 0 | O52: 50.1
A53: Shi WY data1 | B53: 5.46 | C53: 0.95 | D53: 49 | F53: 5.38 | G53: 1.14 | H53: 83 | I53: 2009 | J53: Asian | K53: =VLOOKUP(A53,HDLC!A53:K168,11,FALSE) -> China | L53: 132 | M53: patient | N53: 0.36 | O53: 61.72
A54: Shi WY data2 | B54: 4.5 | C54: 0.94 | D54: 53 | F54: 4.34 | G54: 1.06 | H54: 104 | I54: 2009 | J54: Asian | K54: =VLOOKUP(A54,HDLC!A54:K169,11,FALSE) -> China | L54: 157 | M54: random | N54: 0.36 | O54: 61.13
A55: Smirnov GP | B55: 7.89 | C55: 3.1 | D55: 180 | F55: 7.65 | G55: 3.49 | H55: 178 | I55: 2018 | J55: Caucasian | K55: =VLOOKUP(A55,HDLC!A55:K170,11,FALSE) -> Russia | L55: 358 | M55: patient | N55: 0.57 | O55: 48.7
A56: Sun MH data1 | B56: 4.66 | C56: 0.15 | D56: 160 | F56: 4.64 | G56: 0.26 | H56: 308 | I56: 2011 | J56: Asian | K56: =VLOOKUP(A56,HDLC!A56:K171,11,FALSE) -> China | L56: 468 | M56: random | N56: 0.28 | O56: 53.78
A57: Sun MH data2 | B57: 4.44 | C57: 0.08 | D57: 182 | F57: 4.5 | G57: 0.07 | H57: 458 | I57: 2011 | J57: Asian | K57: =VLOOKUP(A57,HDLC!A57:K172,11,FALSE) -> China | L57: 640 | M57: random | N57: 0.23 | O57: 54.77
A58: Sun P data2 | B58: 4.64 | C58: 1.08 | D58: 62 | F58: 4.94 | G58: 1.03 | H58: 186 | I58: 2005 | J58: Asian | K58: =VLOOKUP(A58,HDLC!A58:K173,11,FALSE) -> China | L58: 248 | M58: random | N58: 0.45 | O58: 59.61
A59: Takagi S | B59: 5.33 | C59: 1.05 | D59: 120 | F59: 5.36 | G59: 1.06 | H59: 345 | I59: 2002 | J59: Asian | K59: =VLOOKUP(A59,HDLC!A59:K174,11,FALSE) -> Japan | L59: =D59+H59 -> 465 | M59: patient | N59: 0.18 | O59: 58
A60: Wang B | B60: 9.95 | C60: 1.95 | D60: 63 | F60: 10.57 | G60: 2.41 | H60: 78 | I60: 2012 | J60: Asian | K60: =VLOOKUP(A60,HDLC!A60:K175,11,FALSE) -> China | L60: 141 | M60: patient | N60: 0.32 | O60: 62.76
A61: Wang N data1 | B61: 4.9 | C61: 1.12 | D61: 47 | F61: 5.23 | G61: 1.11 | H61: 115 | I61: 2010 | J61: Asian | K61: =VLOOKUP(A61,HDLC!A61:K176,11,FALSE) -> China | L61: 162 | M61: mix | N61: 1 | O61: 65.58
A62: Wang N data2 | B62: 4.74 | C62: 0.87 | D62: 101 | F62: 4.68 | G62: 0.94 | H62: 213 | I62: 2010 | J62: Asian | K62: =VLOOKUP(A62,HDLC!A62:K177,11,FALSE) -> China | L62: 314 | M62: mix | N62: 0 | O62: 65.58
A63: Wang XD data1 | B63: 4.57 | C63: 0.82 | D63: 79 | F63: 4.57 | G63: 0.85 | H63: 143 | I63: 2004 | J63: Asian | K63: =VLOOKUP(A63,HDLC!A63:K178,11,FALSE) -> China | L63: 222 | M63: patient | N63: 0.45 | O63: 62.37
A64: Wang XD data2 | B64: 4.6 | C64: 0.82 | D64: 76 | F64: 4.49 | G64: 0.86 | H64: 202 | I64: 2004 | J64: Asian | K64: =VLOOKUP(A64,HDLC!A64:K179,11,FALSE) -> China | L64: 278 | M64: random | N64: 0.49 | O64: 62.2
A65: Wang XP | B65: 4.58 | C65: 0.83 | D65: 108 | F65: 4.42 | G65: 0.98 | H65: 124 | I65: 2006 | J65: Asian | K65: =VLOOKUP(A65,HDLC!A65:K180,11,FALSE) -> China | L65: =D65+H65 -> 232 | M65: patient | N65: 0.39 | O65: 64.85
A66: Wang Y a | B66: 4.93 | C66: 1.29 | D66: 108 | F66: 4.84 | G66: 1.31 | H66: 181 | I66: 2009 | J66: Asian | K66: =VLOOKUP(A66,HDLC!A66:K181,11,FALSE) -> China | L66: 289 | M66: mix | N66: 0.27 | O66: 52.35
A67: Wang Y b | B67: 5.01 | C67: 1.31 | D67: 108 | F67: 5.15 | G67: 1.36 | H67: 181 | I67: 2016 | J67: Asian | K67: =VLOOKUP(A67,HDLC!A67:K182,11,FALSE) -> China | L67: 289 | M67: random | N67: 0.29 | O67: 41
A68: Wang Y c | B68: 4.55 | C68: 1.29 | D68: 67 | F68: 4.27 | G68: 1.32 | H68: 122 | I68: 2018 | J68: Asian | K68: =VLOOKUP(A68,HDLC!A68:K183,11,FALSE) -> China | L68: 189 | M68: random | N68: 0.32 | O68: 41.23
A69: Wang YM | B69: 4.47 | C69: 1.11 | D69: 158 | F69: 4.4 | G69: 1.09 | H69: 238 | I69: 2006 | J69: Asian | K69: =VLOOKUP(A69,HDLC!A69:K184,11,FALSE) -> China | L69: 396 | M69: patient | N69: 0.4 | O69: 60.1
A70: Wu Y data1 | B70: 5.03 | C70: 0.72 | D70: 52 | F70: 5.17 | G70: 0.75 | H70: 148 | I70: 2007 | J70: Asian | K70: =VLOOKUP(A70,HDLC!A70:K185,11,FALSE) -> China | L70: 200 | M70: random | N70: 0.48 | O70: 50.57
A71: Wu Y data2 | B71: 5.25 | C71: 0.66 | D71: 33 | F71: 4.89 | G71: 1.01 | H71: 76 | I71: 2007 | J71: Asian | K71: =VLOOKUP(A71,HDLC!A71:K186,11,FALSE) -> China | L71: 109 | M71: patient | N71: 0.28 | O71: 52.28
A72: Wu YF data1 | B72: 4.85 | C72: 1.05 | D72: 26 | F72: 4.64 | G72: 1.26 | H72: 41 | I72: 2006 | J72: Asian | K72: =VLOOKUP(A72,HDLC!A72:K187,11,FALSE) -> China | L72: 67 | M72: patient | N72: 0 | O72: /
A73: Wu YF data2 | B73: 4.7 | C73: 0.42 | D73: 2 | F73: 4.04 | G73: 0.66 | H73: 18 | I73: 2006 | J73: Asian | K73: =VLOOKUP(A73,HDLC!A73:K188,11,FALSE) -> China | L73: 20 | M73: random | N73: 0 | O73: /
A74: Xia ZH data1 | B74: 4.58 | C74: 0.83 | D74: 96 | F74: 4.42 | G74: 0.98 | H74: 131 | I74: 2011 | J74: Asian | K74: =VLOOKUP(A74,HDLC!A74:K189,11,FALSE) -> China | L74: 227 | M74: patient | N74: 0.52 | O74: 61.1
A75: Xia ZH data2 | B75: 4.6 | C75: 0.82 | D75: 51 | F75: 4.51 | G75: 0.84 | H75: 111 | I75: 2011 | J75: Asian | K75: =VLOOKUP(A75,HDLC!A75:K190,11,FALSE) -> China | L75: 162 | M75: random | N75: 0.45 | O75: 59.5
A76: Xiao ZJ a | B76: 4.79 | C76: 0.98 | D76: 261 | F76: 4.82 | G76: 0.99 | H76: 469 | I76: 2004 | J76: Asian | K76: =VLOOKUP(A76,HDLC!A76:K191,11,FALSE) -> China | L76: 730 | M76: mix | N76: 0.42 | O76: 62.17
A77: Xiao ZJ b | B77: 4.81 | C77: 1.05 | D77: 385 | F77: 4.8 | G77: 1 | H77: 634 | I77: 2005 | J77: Asian | K77: =VLOOKUP(A77,HDLC!A77:K192,11,FALSE) -> China | L77: 1019 | M77: mix | N77: 0.41 | O77: 61.73
A78: Xiao ZJ c | B78: 4.22 | C78: 0.97 | D78: 78 | F78: 4.34 | G78: 0.99 | H78: 130 | I78: 2012 | J78: Asian | K78: =VLOOKUP(A78,HDLC!A78:K193,11,FALSE) -> China | L78: 208 | M78: mix | N78: 0.46 | O78: 77.15
A79: Xu Y data1 | B79: 4.72 | C79: 0.76 | D79: 146 | F79: 4.8 | G79: 0.85 | H79: 308 | I79: 2018 | J79: Asian | K79: =VLOOKUP(A79,HDLC!A79:K194,11,FALSE) -> China | L79: 454 | M79: mix | N79: 0.49 | O79: 68.49
A80: Xue XH | B80: 4.94 | C80: 0.99 | D80: 132 | F80: 5.03 | G80: 1.08 | H80: 279 | I80: 2012 | J80: Asian | K80: =VLOOKUP(A80,HDLC!A80:K195,11,FALSE) -> China | L80: 411 | M80: mix | N80: 0.33 | O80: 64.98
A81: Ya L data1 | B81: 4.86 | C81: 0.23 | D81: 48 | F81: 4.21 | G81: 0.12 | H81: 57 | I81: 2017 | J81: Asian | K81: =VLOOKUP(A81,HDLC!A81:K196,11,FALSE) -> China | L81: 105 | M81: patient | N81: 0.43 | O81: 69.94
A82: Ya L data2 | B82: 4.26 | C82: 0.07 | D82: 81 | F82: 4.6 | G82: 0.12 | H82: 35 | I82: 2017 | J82: Asian | K82: =VLOOKUP(A82,HDLC!A82:K197,11,FALSE) -> China | L82: 116 | M82: patient | N82: 0.41 | O82: 68.94
A83: Ya L data3 | B83: 4.43 | C83: 0.1 | D83: 53 | F83: 4.89 | G83: 0.08 | H83: 47 | I83: 2017 | J83: Asian | K83: =VLOOKUP(A83,HDLC!A83:K198,11,FALSE) -> China | L83: 100 | M83: random | N83: 0.5 | O83: 64.85
A84: Ya Li | B84: 4.47 | C84: 1.11 | D84: 156 | F84: 4.4 | G84: 1.09 | H84: 240 | I84: 2005 | J84: Asian | K84: China | L84: 396 | M84: patient | N84: 0.4 | O84: 60.1
A85: Yang P | B85: 4.92 | C85: 1.06 | D85: 75 | F85: 4.64 | G85: 0.97 | H85: 191 | I85: 2011 | J85: Asian | K85: =VLOOKUP(A85,HDLC!A85:K200,11,FALSE) -> China | L85: 266 | M85: patient | N85: 0.37 | O85: 61.85
A86: Young-Guk Ko data1 | B86: 5.4 | C86: 0.8 | D86: 43 | F86: 5.28 | G86: 1.02 | H86: 107 | I86: 2003 | J86: Asian | K86: =VLOOKUP(A86,HDLC!A86:K201,11,FALSE) -> Korea | L86: 150 | M86: patient | N86: 0 | O86: 56.53
A87: Young-Guk Ko data2 | B87: 5.38 | C87: 1.04 | D87: 108 | F87: 5.29 | G87: 0.97 | H87: 295 | I87: 2003 | J87: Asian | K87: =VLOOKUP(A87,HDLC!A87:K202,11,FALSE) -> Korea | L87: 403 | M87: random | N87: 0 | O87: 43.16
A88: Young-Guk Ko data3 | B88: 5.45 | C88: 0.72 | D88: 10 | F88: 5.61 | G88: 0.64 | H88: 38 | I88: 2003 | J88: Asian | K88: =VLOOKUP(A88,HDLC!A88:K203,11,FALSE) -> Korea | L88: 48 | M88: patient | N88: 1 | O88: 61.12
A89: Young-Guk Ko data4 | B89: 5.21 | C89: 0.94 | D89: 154 | F89: 5.35 | G89: 0.99 | H89: 379 | I89: 2003 | J89: Asian | K89: =VLOOKUP(A89,HDLC!A89:K204,11,FALSE) -> Korea | L89: 533 | M89: random | N89: 1 | O89: 44.48
A90: Yu B | B90: 4.88 | C90: 1.01 | D90: 29 | F90: 4.77 | G90: 0.97 | H90: 20 | I90: 2008 | J90: Asian | K90: =VLOOKUP(A90,HDLC!A90:K205,11,FALSE) -> China | L90: =D90+H90 -> 49 | M90: patient | N90: 0 | O90: 55.8
A91: Yuan TY data1 | B91: 4.61 | C91: 1.45 | D91: 61 | F91: 4.09 | G91: 0.93 | H91: 151 | I91: 2017 | J91: Asian | K91: =VLOOKUP(A91,HDLC!A91:K206,11,FALSE) -> China | L91: 212 | M91: mix | N91: 0.52 | O91: 61.08
A92: Yuan TY data2 | B92: 4.67 | C92: 1.18 | D92: 50 | F92: 4.45 | G92: 1.2 | H92: 153 | I92: 2017 | J92: Asian | K92: =VLOOKUP(A92,HDLC!A92:K207,11,FALSE) -> China | L92: 203 | M92: mix | N92: 0.42 | O92: 58.42
A93: Zhang LF | B93: 4.65 | C93: 0.96 | D93: 83 | F93: 4.7 | G93: 1.03 | H93: 328 | I93: 2008 | J93: Asian | K93: =VLOOKUP(A93,HDLC!A93:K208,11,FALSE) -> China | L93: 411 | M93: mix | N93: 0.52 | O93: 58.76
A94: Zhang XX | B94: 4.67 | C94: 0.84 | D94: 49 | F94: 4.69 | G94: 0.98 | H94: 137 | I94: 2008 | J94: Asian | K94: =VLOOKUP(A94,HDLC!A94:K209,11,FALSE) -> China | L94: =D94+H94 -> 186 | M94: random | N94: 0.34 | O94: 63.5
A95: Zhao L | B95: 4.88 | C95: 1.01 | D95: 13 | F95: 4.77 | G95: 0.97 | H95: 113 | I95: 2016 | J95: Asian | K95: =VLOOKUP(A95,HDLC!A95:K210,11,FALSE) -> China | L95: 126 | M95: patient | N95: 0.32 | O95: 62.3
A96: Zhao SP a | B96: 1.58 | C96: 0.83 | D96: 176 | F96: 1.49 | G96: 0.67 | H96: 311 | I96: 2004 | J96: Asian | K96: =VLOOKUP(A96,HDLC!A96:K211,11,FALSE) -> China | L96: =D96+H96 -> 487 | M96: mix | N96: 0.42 | O96: 62
A97: Zhao SP data 1 | B97: 4.9 | C97: 1 | D97: 170 | F97: 4.96 | G97: 1 | H97: 251 | I97: 2004 | J97: Asian | K97: =VLOOKUP(A97,HDLC!A97:K212,11,FALSE) -> China | L97: =D97+H97 -> 421 | M97: mix | N97: 1 | O97: 62
A98: Zhao SP data 2 | B98: 4.8 | C98: 1.1 | D98: 224 | F98: 4.7 | G98: 1 | H98: 398 | I98: 2004 | J98: Asian | K98: =VLOOKUP(A98,HDLC!A98:K213,11,FALSE) -> China | L98: =D98+H98 -> 622 | M98: mix | N98: 0 | O98: 62
A99: Zhou ZH | B99: 4.78 | C99: 0.97 | D99: 210 | F99: 4.83 | G99: 0.97 | H99: 420 | I99: 2013 | J99: Asian | K99: =VLOOKUP(A99,HDLC!A99:K214,11,FALSE) -> China | L99: 630 | M99: mix | N99: 0.42 | O99: 62.05
