Workbook

Sheet HDLC
A1: The Online Supplementary Materials File 4. The data of HDLC
A2: Study | B2: RR genotype group | F2: K allele carriers | I2: Year | J2: Ethnicity | K2: country | L2: Sample size | M2: Healthy | N2: Female% | O2: Age
B3: mean | C3: SD | D3: n | F3: mean | G3: SD | H3: n
A4: Abd El-Aziz TA | B4: 0.76 | C4: 0.07 | D4: 49 | F4: 1.23 | G4: 0.27 | H4: 186 | I4: 2014 | J4: Caucasian | K4: Egypt | L4: 235 | M4: mix | N4: 0.35 | O4: 42.15
A5: Abellan Rosario data1 | B5: 1.12 | C5: 0.04 | D5: 51 | F5: 1.2 | G5: 0.01 | H5: 558 | I5: 2010 | J5: Caucasian | K5: Spain | L5: 609 | M5: random | N5: 0 | O5: 52.6
A6: Abellan Rosario data2 | B6: 1.54 | C6: 0.06 | D6: 52 | F6: 1.51 | G6: 0.02 | H6: 575 | I6: 2010 | J6: Caucasian | K6: Spain | L6: 627 | M6: random | N6: 1 | O6: 52.7
A7: Akao H data 1 | B7: 1.36 | C7: 0.35 | D7: 1439 | F7: 1.38 | G7: 0.35 | H7: 1356 | I7: 2014 | J7: Caucasian | K7: USA | L7: =D7+H7 -> 2795 | M7: mix | N7: 0.52 | O7: 75.3
A8: Akao H data 2 | B8: 1.17 | C8: 0.31 | D8: 1395 | F8: 1.18 | G8: 0.33 | H8: 1224 | I8: 2014 | J8: Caucasian | K8: USA | L8: =D8+H8 -> 2619 | M8: mix | N8: 0.52 | O8: 75.3
A9: Balcerzyk A | B9: 1.18 | C9: 0.53 | D9: 181 | F9: 1.11 | G9: 0.25 | H9: 177 | I9: 2007 | J9: Caucasian | K9: Poland | L9: 358 | M9: mix | N9: 0.32 | O9: 39.39
A10: Benton JL | B10: 1.34 | C10: 0.39 | D10: 388 | F10: 1.31 | G10: 0.36 | H10: 581 | I10: 2007 | J10: Caucasian/Asian/A frican/Hispanic | K10: USA | L10: 969 | M10: random | N10: 0.57 | O10: 60
A11: Cai R data1 | B11: 1.11 | C11: 0.25 | D11: 39 | F11: 1.24 | G11: 0.32 | H11: 85 | I11: 2017 | J11: Asian | K11: China | L11: 124 | M11: patient | N11: 0.51 | O11: 62.46
A12: Cai R data2 | B12: 1.29 | C12: 0.22 | D12: 37 | F12: 1.33 | G12: 0.26 | H12: 65 | I12: 2017 | J12: Asian | K12: China | L12: 102 | M12: random | N12: 0.45 | O12: 60.52
A13: Cenarro A data1 | B13: 1.17 | C13: 0.32 | D13: 120 | F13: 1.19 | G13: 0.33 | H13: 90 | I13: 2003 | J13: Caucasian | K13: Spain | L13: 210 | M13: mix | N13: 0 | O13: 64.3
A14: Cenarro A data2 | B14: 1.42 | C14: 0.38 | D14: 75 | F14: 1.45 | G14: 0.41 | H14: 89 | I14: 2003 | J14: Caucasian | K14: Spain | L14: 164 | M14: mix | N14: 1 | O14: 70.5
A15: Chen LC | B15: 1.34 | C15: 0.38 | D15: 190 | F15: 1.46 | G15: 0.42 | H15: 310 | I15: 2009 | J15: Asian | K15: China | L15: 500 | M15: mix | N15: 0.4 | O15: 64.05
A16: Clee SM | B16: 0.92 | C16: 0.22 | D16: 424 | F16: 0.93 | G16: 0.23 | H16: 366 | I16: 2011 | J16: Caucasian | K16: Canada | L16: =D16+H16 -> 790 | M16: patient | N16: 0 | O16: 57
A17: Coban N data1 | B17: 1.29 | C17: 0.3 | D17: 111 | F17: 1.28 | G17: 0.31 | H17: 219 | I17: 2014 | J17: Caucasian | K17: Turkey | L17: 330 | M17: patient | N17: 1 | O17: 56.7
A18: Coban N data2 | B18: 1.06 | C18: 0.32 | D18: 105 | F18: 1.15 | G18: 0.32 | H18: 161 | I18: 2014 | J18: Caucasian | K18: Turkey | L18: 266 | M18: patient | N18: 0 | O18: 58.9
A19: Delgado-Lista J | B19: 1.18 | C19: 0.04 | D19: 50 | F19: 1.22 | G19: 0.05 | H19: 38 | I19: 2010 | J19: Caucasian | K19: Spain | L19: 88 | M19: random | N19: 0 | O19: /
A20: Deng K | B20: 1.35 | C20: 0.35 | D20: 140 | F20: 1.38 | G20: 0.35 | H20: 308 | I20: 2008 | J20: Asian | K20: China | L20: 448 | M20: mix | N20: 0.43 | O20: 62.3
A21: Evans D | B21: 1.32 | C21: 0.43 | D21: 279 | F21: 1.33 | G21: 0.69 | H21: 236 | I21: 2003 | J21: Caucasian | K21: Germany | L21: =D21+H21 -> 515 | M21: patient | N21: 0.45 | O21: 45.8
A22: Fawzy MS | B22: 1.73 | C22: 0.7 | D22: 10 | F22: 1.64 | G22: 0.54 | H22: 118 | I22: 2015 | J22: African | K22: Egypt | L22: 128 | M22: patient | N22: 0.66 | O22: 12.7
A23: Genvigir FD data1 | B23: 1.43 | C23: 0.32 | D23: 54 | F23: 1.51 | G23: 0.34 | H23: 89 | I23: 2008 | J23: Caucasian | K23: Brazil | L23: 143 | M23: random | N23: 0.73 | O23: 47
A24: Genvigir FD data2 | B24: 1.43 | C24: 0.38 | D24: 76 | F24: 1.5 | G24: 0.38 | H24: 148 | I24: 2008 | J24: Caucasian | K24: Brazil | L24: 224 | M24: patient | N24: 0.67 | O24: 55
A25: Ghaznavi H data1 | B25: 0.99 | C25: 0.21 | D25: 50 | F25: 1.03 | G25: 0.23 | H25: 50 | I25: 2018 | J25: Caucasian | K25: Iran | L25: 100 | M25: patient | N25: 0.5 | O25: 58.96
A26: Ghaznavi H data2 | B26: 1.12 | C26: 0.33 | D26: 29 | F26: 1.2 | G26: 0.32 | H26: 71 | I26: 2018 | J26: Caucasian | K26: Iran | L26: 100 | M26: random | N26: 0.5 | O26: 57.53
A27: Guo Q | B27: 1.27 | C27: 0.2 | D27: 57 | F27: 1.3 | G27: 0.17 | H27: 87 | I27: 2010 | J27: Asian | K27: China | L27: 144 | M27: patient | N27: 0.47 | O27: 58
A28: Haghvirdizadeh P data1 | B28: 1.24 | C28: 0.4 | D28: 94 | F28: 1.28 | G28: 0.57 | H28: 70 | I28: 2015 | J28: Asian | K28: Malaysia | L28: 164 | M28: patient | N28: 0.37 | O28: 62.14
A29: Haghvirdizadeh P data2 | B29: 1.28 | C29: 0.44 | D29: 56 | F29: 1.16 | G29: 0.42 | H29: 109 | I29: 2015 | J29: Asian | K29: Malaysia | L29: 165 | M29: random | N29: 0.53 | O29: 54.97
A30: Harada T | B30: 1.26 | C30: 0.41 | D30: 68 | F30: 1.24 | G30: 0.39 | H30: 197 | I30: 2003 | J30: Asian | K30: Japan | L30: 265 | M30: mix | N30: 0.13 | O30: 65.08
A31: Hodoğlugil U data 1 | B31: 0.91 | C31: 0.19 | D31: 574 | F31: 0.91 | G31: 0.19 | H31: 892 | I31: 2005 | J31: Caucasian | K31: Turkey | L31: 1466 | M31: random | N31: 0 | O31: 41
A32: Hodoğlugil U data2 | B32: 1.07 | C32: 0.24 | D32: 364 | F32: 1.06 | G32: 0.23 | H32: 632 | I32: 2005 | J32: Caucasian | K32: Turkey | L32: 996 | M32: random | N32: 1 | O32: 41
A33: Huang Y data1 | B33: 1.12 | C33: 0.34 | D33: 66 | F33: 1.25 | G33: 0.33 | H33: 140 | I33: 2011 | J33: Asian | K33: China | L33: 206 | M33: patient | N33: 0.38 | O33: 55.31
A34: Huang Y data2 | B34: 1.43 | C34: 0.34 | D34: 34 | F34: 1.49 | G34: 0.49 | H34: 98 | I34: 2011 | J34: Asian | K34: China | L34: 132 | M34: random | N34: 0.47 | O34: 51.7
A35: Katerina H data 1 | B35: 1.57 | C35: 0.43 | D35: 221 | F35: 1.57 | G35: 0.4 | H35: 182 | I35: 2010 | J35: Caucasian | K35: Czech Republic | L35: =D35+H35 -> 403 | M35: random | N35: 1 | O35: 45.7
A36: Katerina H data 2 | B36: 1.2 | C36: 0.31 | D36: 182 | F36: 1.23 | G36: 0.34 | H36: 158 | I36: 2010 | J36: Caucasian | K36: Czech Republic | L36: =D36+H36 -> 340 | M36: random | N36: 0 | O36: 44.8
A37: Katzov H | B37: 1.2 | C37: 0.01 | D37: 1427 | F37: 1.19 | G37: 0.1 | H37: 1117 | I37: 2006 | J37: Caucasian | K37: Sweden | L37: 2544 | M37: mix | N37: 0.33 | O37: 60.82
A38: Kitjaroentham data1 | B38: 1.27 | C38: 0.25 | D38: 18 | F38: 1.24 | G38: 0.27 | H38: 22 | I38: 2007 | J38: Asian | K38: Thailand | L38: 40 | M38: patient | N38: 0 | O38: 43
A39: Kitjaroentham data2 | B39: 1.35 | C39: 0.37 | D39: 25 | F39: 1.38 | G39: 0.34 | H39: 47 | I39: 2007 | J39: Asian | K39: Thailand | L39: 72 | M39: patient | N39: 1 | O39: 43
A40: Kitjaroentham data3 | B40: 1.16 | C40: 0.27 | D40: 33 | F40: 1.42 | G40: 0.4 | H40: 63 | I40: 2007 | J40: Asian | K40: Thailand | L40: 96 | M40: random | N40: 0 | O40: 37
...

Sheet LDLC
A1: The Online Supplementary Materials File 4. The data of LDLC
A2: Study | B2: RR genotype group | F2: K allele carriers | I2: Year | J2: Ethnicity | K2: country | L2: Sample size | M2: Healthy | N2: Female% | O2: Age
B3: mean | C3: SD | D3: n | F3: mean | G3: SD | H3: n
A4: Abd El-Aziz TA | B4: 4.35 | C4: 1.57 | D4: 49 | F4: 3.06 | G4: 1.73 | H4: 186 | I4: 2014 | J4: Caucasian | K4: =VLOOKUP(A4,HDLC!A4:K119,11,FALSE) -> Egypt | L4: 235 | M4: mix | N4: 0.35 | O4: 42.15
A5: Abellan Rosario data1 | B5: 3.26 | C5: 0.12 | D5: 51 | F5: 2.91 | G5: 0.04 | H5: 558 | I5: 2010 | J5: Caucasian | K5: =VLOOKUP(A5,HDLC!A5:K120,11,FALSE) -> Spain | L5: 609 | M5: random | N5: 0 | O5: 52.6
A6: Abellan Rosario data2 | B6: 2.96 | C6: 0.12 | D6: 52 | F6: 2.96 | G6: 0.04 | H6: 575 | I6: 2010 | J6: Caucasian | K6: =VLOOKUP(A6,HDLC!A6:K121,11,FALSE) -> Spain | L6: 627 | M6: random | N6: 1 | O6: 52.7
A7: Akao H data 1 | B7: 4.01 | C7: 0.81 | D7: 1439 | F7: 4 | G7: 0.81 | H7: 1356 | I7: 2014 | J7: Caucasian | K7: =VLOOKUP(A7,HDLC!A7:K122,11,FALSE) -> USA | L7: =D7+H7 -> 2795 | M7: mix | N7: 0.52 | O7: 75.3
A8: Akao H data 2 | B8: 3.59 | C8: 0.72 | D8: 1395 | F8: 3.57 | G8: 0.71 | H8: 1224 | I8: 2014 | J8: Caucasian | K8: =VLOOKUP(A8,HDLC!A8:K123,11,FALSE) -> USA | L8: =D8+H8 -> 2619 | M8: mix | N8: 0.52 | O8: 75.3
A9: Balcerzyk A | B9: 3.93 | C9: 1.13 | D9: 181 | F9: 3.73 | G9: 1.23 | H9: 177 | I9: 2007 | J9: Caucasian | K9: =VLOOKUP(A9,HDLC!A9:K124,11,FALSE) -> Poland | L9: 358 | M9: mix | N9: 0.32 | O9: 39.39
A10: Benton JL | B10: 3.04 | C10: 0.76 | D10: 388 | F10: 3.04 | G10: 0.82 | H10: 581 | I10: 2007 | J10: Caucasian/Asian/A frican/Hispanic | K10: =VLOOKUP(A10,HDLC!A10:K125,11,FALSE) -> USA | L10: 969 | M10: random | N10: 0.57 | O10: 60
A11: Cai R data1 | B11: 3.29 | C11: 0.89 | D11: 39 | F11: 3.02 | G11: 0.86 | H11: 85 | I11: 2017 | J11: Asian | K11: =VLOOKUP(A11,HDLC!A11:K126,11,FALSE) -> China | L11: 124 | M11: patient | N11: 0.51 | O11: 62.46
A12: Cai R data2 | B12: 2.91 | C12: 0.71 | D12: 37 | F12: 3.02 | G12: 0.96 | H12: 65 | I12: 2017 | J12: Asian | K12: =VLOOKUP(A12,HDLC!A12:K127,11,FALSE) -> China | L12: 102 | M12: random | N12: 0.45 | O12: 60.52
A13: Cenarro A data1 | B13: 9.1 | C13: 2 | D13: 120 | F13: 8.6 | G13: 1.8 | H13: 90 | I13: 2003 | J13: Caucasian | K13: =VLOOKUP(A13,HDLC!A13:K128,11,FALSE) -> Spain | L13: 210 | M13: mix | N13: 0 | O13: 64.3
A14: Cenarro A data2 | B14: 9.1 | C14: 2.4 | D14: 75 | F14: 9.1 | G14: 1.9 | H14: 89 | I14: 2003 | J14: Caucasian | K14: =VLOOKUP(A14,HDLC!A14:K129,11,FALSE) -> Spain | L14: 164 | M14: mix | N14: 1 | O14: 70.5
A15: Chen LC | B15: 2.85 | C15: 0.84 | D15: 190 | F15: 2.82 | G15: 0.82 | H15: 310 | I15: 2009 | J15: Asian | K15: =VLOOKUP(A15,HDLC!A15:K130,11,FALSE) -> China | L15: 500 | M15: mix | N15: 0.4 | O15: 64.05
A16: Clee SM | B16: 4.27 | C16: 0.75 | D16: 424 | F16: 4.35 | G16: 0.83 | H16: 366 | I16: 2011 | J16: Caucasian | K16: =VLOOKUP(A16,HDLC!A16:K131,11,FALSE) -> Canada | L16: =D16+H16 -> 790 | M16: patient | N16: 0 | O16: 57
A17: Coban N data1 | B17: 2.95 | C17: 0.84 | D17: 103 | F17: 2.85 | G17: 0.84 | H17: 199 | I17: 2014 | J17: Caucasian | K17: =VLOOKUP(A17,HDLC!A17:K132,11,FALSE) -> Turkey | L17: 302 | M17: patient | N17: 1 | O17: 56.7
A18: Coban N data2 | B18: 2.64 | C18: 0.9 | D18: 98 | F18: 2.86 | G18: 0.9 | H18: 155 | I18: 2014 | J18: Caucasian | K18: =VLOOKUP(A18,HDLC!A18:K133,11,FALSE) -> Turkey | L18: 253 | M18: patient | N18: 0 | O18: 58.9
A19: Delgado-Lista J | B19: 2.34 | C19: 0.08 | D19: 50 | F19: 2.3 | G19: 0.09 | H19: 38 | I19: 2010 | J19: Caucasian | K19: =VLOOKUP(A19,HDLC!A19:K134,11,FALSE) -> Spain | L19: 88 | M19: random | N19: 0 | O19: /
A20: Deng K | B20: 2.72 | C20: 0.73 | D20: 140 | F20: 2.82 | G20: 0.71 | H20: 308 | I20: 2008 | J20: Asian | K20: =VLOOKUP(A20,HDLC!A20:K135,11,FALSE) -> China | L20: 448 | M20: mix | N20: 0.43 | O20: 62.3
A21: Evans D | B21: 4.86 | C21: 1.73 | D21: 279 | F21: 4.88 | G21: 1.84 | H21: 236 | I21: 2003 | J21: Caucasian | K21: =VLOOKUP(A21,HDLC!A21:K136,11,FALSE) -> Germany | L21: =D21+H21 -> 515 | M21: patient | N21: 0.45 | O21: 45.8
A22: Fawzy MS | B22: 2.95 | C22: 1.11 | D22: 10 | F22: 3.71 | G22: 0.93 | H22: 118 | I22: 2015 | J22: African | K22: =VLOOKUP(A22,HDLC!A22:K137,11,FALSE) -> Egypt | L22: 128 | M22: patient | N22: 0.66 | O22: 12.7
A23: Genvigir FD data1 | B23: 2.59 | C23: 0.48 | D23: 54 | F23: 2.55 | G23: 0.44 | H23: 89 | I23: 2008 | J23: Caucasian | K23: =VLOOKUP(A23,HDLC!A23:K138,11,FALSE) -> Brazil | L23: 143 | M23: random | N23: 0.73 | O23: 47
A24: Genvigir FD data2 | B24: 4.39 | C24: 1.11 | D24: 76 | F24: 4.41 | G24: 1.13 | H24: 148 | I24: 2008 | J24: Caucasian | K24: =VLOOKUP(A24,HDLC!A24:K139,11,FALSE) -> Brazil | L24: 224 | M24: patient | N24: 0.67 | O24: 55
A25: Ghaznavi H data1 | B25: 3.18 | C25: 1.03 | D25: 50 | F25: 2.76 | G25: 1.23 | H25: 50 | I25: 2018 | J25: Caucasian | K25: =VLOOKUP(A25,HDLC!A25:K140,11,FALSE) -> Iran | L25: 100 | M25: patient | N25: 0.5 | O25: 58.96
A26: Ghaznavi H data2 | B26: 2.8 | C26: 0.84 | D26: 29 | F26: 2.39 | G26: 0.89 | H26: 71 | I26: 2018 | J26: Caucasian | K26: =VLOOKUP(A26,HDLC!A26:K141,11,FALSE) -> Iran | L26: 100 | M26: random | N26: 0.5 | O26: 57.53
A27: Guo Q | B27: 2.92 | C27: 0.77 | D27: 57 | F27: 2.95 | G27: 0.63 | H27: 87 | I27: 2010 | J27: Asian | K27: =VLOOKUP(A27,HDLC!A27:K142,11,FALSE) -> China | L27: 144 | M27: patient | N27: 0.47 | O27: 58
A28: Haghvirdizadeh P data1 | B28: 2.34 | C28: 0.92 | D28: 94 | F28: 2.36 | G28: 0.88 | H28: 70 | I28: 2015 | J28: Asian | K28: =VLOOKUP(A28,HDLC!A28:K143,11,FALSE) -> Malaysia | L28: 164 | M28: patient | N28: 0.37 | O28: 62.14
A29: Haghvirdizadeh P data2 | B29: 2.71 | C29: 0.95 | D29: 56 | F29: 2.57 | G29: 0.95 | H29: 109 | I29: 2015 | J29: Asian | K29: =VLOOKUP(A29,HDLC!A29:K144,11,FALSE) -> Malaysia | L29: 165 | M29: random | N29: 0.53 | O29: 54.97
A30: Harada T | B30: 2.94 | C30: 0.93 | D30: 68 | F30: 2.99 | G30: 0.94 | H30: 197 | I30: 2003 | J30: Asian | K30: =VLOOKUP(A30,HDLC!A30:K145,11,FALSE) -> Japan | L30: 265 | M30: mix | N30: 0.13 | O30: 65.08
A31: Huang Y data1 | B31: 3.43 | C31: 0.94 | D31: 66 | F31: 3.25 | G31: 0.88 | H31: 140 | I31: 2011 | J31: Asian | K31: =VLOOKUP(A31,HDLC!A31:K146,11,FALSE) -> China | L31: 206 | M31: patient | N31: 0.38 | O31: 55.31
A32: Huang Y data2 | B32: 3.37 | C32: 0.99 | D32: 34 | F32: 3.14 | G32: 1.13 | H32: 98 | I32: 2011 | J32: Asian | K32: =VLOOKUP(A32,HDLC!A32:K147,11,FALSE) -> China | L32: 132 | M32: random | N32: 0.47 | O32: 51.7
A33: Katzov H | B33: 4.05 | C33: 0.03 | D33: 1415 | F33: 4.11 | G33: 0.33 | H33: 1105 | I33: 2006 | J33: Caucasian | K33: =VLOOKUP(A33,HDLC!A33:K148,11,FALSE) -> Sweden | L33: 2520 | M33: mix | N33: 0.33 | O33: 60.82
... A41: Kolovou V data 2 | B41: 2.69 | C41: 0.36 | D41: 186 | F41: 2.68 | G41: 0.44 | H41: 173 | I41: 2011 | J41: Caucasian | K41: =VLOOKUP(A41,HDLC!A41:K156,11,FALSE) -> Greece | L41: 359 | M41: random | N41: 1 | O41: 22
A42: Li J data1 | B42: 3.16 | C42: 0.87 | D42: 52 | F42: 3.32 | G42: 1.01 | H42: 98 | I42: 2012 | J42: Asian | K42: China | L42: 150 | M42: patient | N42: 0.36 | O42: 62
A43: Li J data2 | B43: 3.13 | C43: 0.26 | D43: 140 | F43: 3.11 | G43: 0.25 | H43: 225 | I43: 2009 | J43: Asian | K43: China | L43: 365 | M43: patient | N43: 0.52 | O43: 63
A44: Liu J | B44: 3.07 | C44: 0.56 | D44: 29 | F44: 2.93 | G44: 0.62 | H44: 42 | I44: 2008 | J44: Asian | K44: =VLOOKUP(A44,HDLC!A44:K159,11,FALSE) -> China | L44: =D44+H44 -> 71 | M44: patient | N44: 0.48 | O44: 58
A45: Manresa JM | B45: 3.85 | C45: 1.01 | D45: 657 | F45: 3.88 | G45: 1.09 | H45: 591 | I45: 2006 | J45: Caucasian | K45: =VLOOKUP(A45,HDLC!A45:K160,11,FALSE) -> Spain | L45: =D45+H45 -> 1248 | M45: random | N45: 0.48 | O45: 51
A46: Mantaring M | B46: 3.08 | C46: 1.14 | D46: 54 | F46: 2.97 | G46: 1.32 | H46: 70 | I46: 2007 | J46: Caucasian | K46: =VLOOKUP(A46,HDLC!A46:K161,11,FALSE) -> Spain | L46: 124 | M46: patient | N46: / | O46: 52.82
A47: Mao Y data1 | B47: 2.32 | C47: 0.89 | D47: 88 | F47: 2.23 | G47: 0.84 | H47: 111 | I47: 2013 | J47: Asian | K47: =VLOOKUP(A47,HDLC!A47:K162,11,FALSE) -> China | L47: 199 | M47: patient | N47: / | O47: 54.92
...

Sheet TG
A1: The Online Supplementary Materials File 4. The data of TC
A2: Study | B2: RR genotype group | F2: K allele carriers | I2: Year | J2: Ethnicity | K2: country | L2: Sample size | M2: Healthy | N2: Female% | O2: Age
B3: mean | C3: SD | D3: n | F3: mean | G3: SD | H3: n
A4: Abd El-Aziz TA | B4: 2.52 | C4: 0.81 | D4: 49 | F4: 2.3 | G4: 0.67 | H4: 186 | I4: 2014 | J4: Caucasian | K4: =VLOOKUP(A4,HDLC!A4:K119,11,FALSE) -> Egypt | L4: 235 | M4: mix | N4: 0.35 | O4: 42.15
A5: Akao H data 1 | B5: 1.61 | C5: 0.69 | D5: 1439 | F5: 1.56 | G5: 0.65 | H5: 1356 | I5: 2014 | J5: Caucasian | K5: =VLOOKUP(A5,HDLC!A5:K120,11,FALSE) -> USA | L5: =D5+H5 -> 2795 | M5: mix | N5: 0.52 | O5: 75.3
A6: Akao H data 2 | B6: 1.5 | C6: 0.74 | D6: 1395 | F6: 1.49 | G6: 0.72 | H6: 1224 | I6: 2014 | J6: Caucasian | K6: =VLOOKUP(A6,HDLC!A6:K121,11,FALSE) -> USA | L6: =D6+H6 -> 2619 | M6: mix | N6: 0.52 | O6: 75.3
A7: Balcerzyk A | B7: 1.8 | C7: 0.98 | D7: 181 | F7: 1.96 | G7: 0.99 | H7: 177 | I7: 2007 | J7: Caucasian | K7: =VLOOKUP(A7,HDLC!A7:K122,11,FALSE) -> Poland | L7: 358 | M7: mix | N7: 0.32 | O7: 39.39
A8: Benton JL | B8: 1.52 | C8: 0.24 | D8: 388 | F8: 1.5 | G8: 0.91 | H8: 581 | I8: 2007 | J8: Caucasian/Asian/A frican/Hispanic | K8: =VLOOKUP(A8,HDLC!A8:K123,11,FALSE) -> USA | L8: 969 | M8: random | N8: 0.57 | O8: 60
A9: Cai R data1 | B9: 2.05 | C9: 1.32 | D9: 39 | F9: 2.15 | G9: 2.24 | H9: 85 | I9: 2017 | J9: Asian | K9: =VLOOKUP(A9,HDLC!A9:K124,11,FALSE) -> China | L9: 124 | M9: patient | N9: 0.51 | O9: 62.46
A10: Cai R data2 | B10: 2.12 | C10: 1.57 | D10: 37 | F10: 2.06 | G10: 1.56 | H10: 65 | I10: 2017 | J10: Asian | K10: =VLOOKUP(A10,HDLC!A10:K125,11,FALSE) -> China | L10: 102 | M10: random | N10: 0.45 | O10: 60.52
A11: Cenarro A data1 | B11: 1.53 | C11: 0.65 | D11: 120 | F11: 1.6 | G11: 0.81 | H11: 90 | I11: 2003 | J11: Caucasian | K11: =VLOOKUP(A11,HDLC!A11:K126,11,FALSE) -> Spain | L11: 210 | M11: mix | N11: 0 | O11: 64.3
A12: Cenarro A data2 | B12: 1.46 | C12: 0.64 | D12: 75 | F12: 1.38 | G12: 0.63 | H12: 89 | I12: 2003 | J12: Caucasian | K12: =VLOOKUP(A12,HDLC!A12:K127,11,FALSE) -> Spain | L12: 164 | M12: mix | N12: 1 | O12: 70.5
A13: Chen LC | B13: 1.56 | C13: 1.06 | D13: 190 | F13: 1.51 | G13: 0.85 | H13: 310 | I13: 2009 | J13: Asian | K13: =VLOOKUP(A13,HDLC!A13:K128,11,FALSE) -> China | L13: 500 | M13: mix | N13: 0.4 | O13: 64.05
A14: Clee SM | B14: 1.84 | C14: 0.77 | D14: 424 | F14: 1.74 | G14: 0.76 | H14: 366 | I14: 2011 | J14: Caucasian | K14: =VLOOKUP(A14,HDLC!A14:K129,11,FALSE) -> Canada | L14: =D14+H14 -> 790 | M14: patient | N14: 0 | O14: 57
A15: Coban N data1 | B15: 1.4 | C15: 0.12 | D15: 107 | F15: 1.59 | G15: 0.17 | H15: 218 | I15: 2014 | J15: Caucasian | K15: =VLOOKUP(A15,HDLC!A15:K130,11,FALSE) -> Turkey | L15: 325 | M15: patient | N15: 1 | O15: 56.7
A16: Coban N data2 | B16: 1.63 | C16: 0.12 | D16: 103 | F16: 1.49 | G16: 0.15 | H16: 162 | I16: 2014 | J16: Caucasian | K16: =VLOOKUP(A16,HDLC!A16:K131,11,FALSE) -> Turkey | L16: 265 | M16: patient | N16: 0 | O16: 58.9
A17: Delgado-Lista J | B17: 0.98 | C17: 0.05 | D17: 50 | F17: 0.82 | G17: 0.06 | H17: 38 | I17: 2010 | J17: Caucasian | K17: =VLOOKUP(A17,HDLC!A17:K132,11,FALSE) -> Spain | L17: 88 | M17: random | N17: 0 | O17: /
A18: Deng K | B18: 1.45 | C18: 0.96 | D18: 140 | F18: 2.35 | G18: 1.62 | H18: 308 | I18: 2008 | J18: Asian | K18: =VLOOKUP(A18,HDLC!A18:K133,11,FALSE) -> China | L18: 448 | M18: mix | N18: 0.43 | O18: 62.3
A19: Evans D | B19: 3.7 | C19: 5.66 | D19: 279 | F19: 3.18 | G19: 4.97 | H19: 236 | I19: 2003 | J19: Caucasian | K19: =VLOOKUP(A19,HDLC!A19:K134,11,FALSE) -> Germany | L19: =D19+H19 -> 515 | M19: patient | N19: 0.45 | O19: 45.8
A20: Fawzy MS | B20: 0.84 | C20: 0.21 | D20: 10 | F20: 1.08 | G20: 0.36 | H20: 118 | I20: 2015 | J20: African | K20: =VLOOKUP(A20,HDLC!A20:K135,11,FALSE) -> Egypt | L20: 128 | M20: patient | N20: 0.66 | O20: 12.7
A21: Genvigir FD data1 | B21: 0.96 | C21: 0.32 | D21: 54 | F21: 0.93 | G21: 0.32 | H21: 89 | I21: 2008 | J21: Caucasian | K21: =VLOOKUP(A21,HDLC!A21:K136,11,FALSE) -> Brazil | L21: 143 | M21: random | N21: 0.73 | O21: 47
A22: Genvigir FD data2 | B22: 1.86 | C22: 0.88 | D22: 76 | F22: 1.58 | G22: 0.64 | H22: 148 | I22: 2008 | J22: Caucasian | K22: =VLOOKUP(A22,HDLC!A22:K137,11,FALSE) -> Brazil | L22: 224 | M22: patient | N22: 0.67 | O22: 55
A23: Ghaznavi H data1 | B23: 2.17 | C23: 1.08 | D23: 50 | F23: 2.36 | G23: 0.95 | H23: 50 | I23: 2018 | J23: Caucasian | K23: =VLOOKUP(A23,HDLC!A23:K138,11,FALSE) -> Iran | L23: 100 | M23: patient | N23: 0.5 | O23: 58.96
A24: Ghaznavi H data2 | B24: 1.83 | C24: 1.04 | D24: 29 | F24: 1.83 | G24: 0.67 | H24: 71 | I24: 2018 | J24: Caucasian | K24: =VLOOKUP(A24,HDLC!A24:K139,11,FALSE) -> Iran | L24: 100 | M24: random | N24: 0.5 | O24: 57.53
A25: Guo Q | B25: 2.09 | C25: 1.02 | D25: 57 | F25: 1.92 | G25: 0.88 | H25: 87 | I25: 2010 | J25: Asian | K25: =VLOOKUP(A25,HDLC!A25:K140,11,FALSE) -> China | L25: 144 | M25: patient | N25: 0.47 | O25: 58
A26: Haghvirdizadeh P data1 | B26: 1.85 | C26: 1.45 | D26: 94 | F26: 1.65 | G26: 0.78 | H26: 70 | I26: 2015 | J26: Asian | K26: =VLOOKUP(A26,HDLC!A26:K141,11,FALSE) -> Malaysia | L26: 164 | M26: patient | N26: 0.37 | O26: 62.14
A27: Haghvirdizadeh P data2 | B27: 1.26 | C27: 0.79 | D27: 56 | F27: 1.28 | G27: 0.75 | H27: 109 | I27: 2015 | J27: Asian | K27: =VLOOKUP(A27,HDLC!A27:K142,11,FALSE) -> Malaysia | L27: 165 | M27: random | N27: 0.53 | O27: 54.97
A28: Harada T | B28: 1.2 | C28: 0.57 | D28: 68 | F28: 1.44 | G28: 0.78 | H28: 197 | I28: 2003 | J28: Asian | K28: =VLOOKUP(A28,HDLC!A28:K143,11,FALSE) -> Japan | L28: 265 | M28: mix | N28: 0.13 | O28: 65.08
A29: Huang Y data1 | B29: 2.53 | C29: 1.75 | D29: 66 | F29: 2.19 | G29: 1.68 | H29: 140 | I29: 2011 | J29: Asian | K29: =VLOOKUP(A29,HDLC!A29:K144,11,FALSE) -> China | L29: 206 | M29: patient | N29: 0.38 | O29: 55.31
A30: Huang Y data2 | B30: 1.75 | C30: 2.64 | D30: 34 | F30: 1.62 | G30: 1.11 | H30: 98 | I30: 2011 | J30: Asian | K30: =VLOOKUP(A30,HDLC!A30:K145,11,FALSE) -> China | L30: 132 | M30: random | N30: 0.47 | O30: 51.7
A31: Katzov H | B31: 1.72 | C31: 0.03 | D31: 1441 | F31: 1.73 | G31: 0.08 | H31: 1126 | I31: 2006 | J31: Caucasian | K31: =VLOOKUP(A31,HDLC!A31:K146,11,FALSE) -> Sweden | L31: 2567 | M31: mix | N31: 0.33 | O31: 60.82
... A39: Kolovou V data 2 | B39: 1.09 | C39: 0.31 | D39: 186 | F39: 1.11 | G39: 0.3 | H39: 173 | I39: 2011 | J39: Caucasian | K39: =VLOOKUP(A39,HDLC!A39:K154,11,FALSE) -> Greece | L39: 359 | M39: random | N39: 1 | O39: 22
A40: Li J data1 | B40: 1.81 | C40: 0.29 | D40: 140 | F40: 1.72 | G40: 0.25 | H40: 225 | I40: 2009 | J40: Asian | K40: China | L40: 365 | M40: patient | N40: 0.52 | O40: 63
A41: Li J data2 | B41: 1.98 | C41: 1 | D41: 52 | F41: 1.75 | G41: 0.99 | H41: 98 | I41: 2012 | J41: Asian | K41: China | L41: 150 | M41: patient | N41: 0.36 | O41: 62
A42: Liu J | B42: 2.27 | C42: 1.02 | D42: 29 | F42: 1.96 | G42: 1.01 | H42: 42 | I42: 2008 | J42: Asian | K42: =VLOOKUP(A42,HDLC!A42:K157,11,FALSE) -> China | L42: =D42+H42 -> 71 | M42: patient | N42: 0.48 | O42: 58
A43: Mantaring M | B43: 1.82 | C43: 3.32 | D43: 54 | F43: 1.83 | G43: 3.35 | H43: 70 | I43: 2007 | J43: Caucasian | K43: =VLOOKUP(A43,HDLC!A43:K158,11,FALSE) -> Spain | L43: 124 | M43: patient | N43: / | O43: 52.82
A44: Mao Y data1 | B44: 1.72 | C44: 1.16 | D44: 88 | F44: 1.9 | G44: 0.92 | H44: 111 | I44: 2013 | J44: Asian | K44: =VLOOKUP(A44,HDLC!A44:K159,11,FALSE) -> China | L44: 199 | M44: patient | N44: / | O44: 54.92
A45: Mao Y data2 | B45: 1.65 | C45: 0.74 | D45: 28 | F45: 2.05 | G45: 1.23 | H45: 55 | I45: 2013 | J45: Asian | K45: =VLOOKUP(A45,HDLC!A45:K160,11,FALSE) -> China | L45: 83 | M45: random | N45: / | O45: 50.62
A46: Mao Y data3 | B46: 2.17 | C46: 2.23 | D46: 66 | F46: 2.09 | G46: 1.49 | H46: 112 | I46: 2013 | J46: Asian | K46: =VLOOKUP(A46,HDLC!A46:K161,11,FALSE) -> China | L46: 178 | M46: patient | N46: / | O46: 69.82
A47: Mao Y data4 | B47: 1.61 | C47: 0.99 | D47: 28 | F47: 1.81 | G47: 0.74 | H47: 67 | I47: 2013 | J47: Asian | K47: =VLOOKUP(A47,HDLC!A47:K162,11,FALSE) -> China | L47: 95 | M47: random | N47: / | O47: 56.94
...

Sheet TC
A1: The Online Supplementary Materials File 4. The data of TG
A2: Study | B2: RR genotype group | F2: K allele carriers | I2: Year | J2: Ethnicity | K2: country | L2: Sample size | M2: Healthy | N2: Female% | O2: Age
B3: mean | C3: SD | D3: n | F3: mean | G3: SD | H3: n
A4: Abd El-Aziz TA | B4: 6.26 | C4: 1.44 | D4: 49 | F4: 5.35 | G4: 1.74 | H4: 186 | I4: 2014 | J4: Caucasian | K4: =VLOOKUP(A4,HDLC!A4:K119,11,FALSE) -> Egypt | L4: 235 | M4: mix | N4: 0.35 | O4: 42.15
A5: Abellan Rosario data1 | B5: 5.49 | C5: 0.14 | D5: 51 | F5: 5.15 | G5: 0.05 | H5: 558 | I5: 2010 | J5: Caucasian | K5: =VLOOKUP(A5,HDLC!A5:K120,11,FALSE) -> Spain | L5: 609 | M5: random | N5: 0 | O5: 52.6
A6: Abellan Rosario data2 | B6: 5.21 | C6: 0.14 | D6: 52 | F6: 5.21 | G6: 0.04 | H6: 575 | I6: 2010 | J6: Caucasian | K6: =VLOOKUP(A6,HDLC!A6:K121,11,FALSE) -> Spain | L6: 627 | M6: random | N6: 1 | O6: 52.7
A7: Akao H data 1 | B7: 6 | C7: 0.89 | D7: 1439 | F7: 5.99 | G7: 0.89 | H7: 1356 | I7: 2014 | J7: Caucasian | K7: =VLOOKUP(A7,HDLC!A7:K122,11,FALSE) -> USA | L7: =D7+H7 -> 2795 | M7: mix | N7: 0.52 | O7: 75.3
A8: Akao H data 2 | B8: 5.36 | C8: 0.8 | D8: 1395 | F8: 5.35 | G8: 0.79 | H8: 1224 | I8: 2014 | J8: Caucasian | K8: =VLOOKUP(A8,HDLC!A8:K123,11,FALSE) -> USA | L8: =D8+H8 -> 2619 | M8: mix | N8: 0.52 | O8: 75.3
A9: Balcerzyk A | B9: 5.8 | C9: 1.35 | D9: 181 | F9: 5.71 | G9: 1.39 | H9: 177 | I9: 2007 | J9: Caucasian | K9: =VLOOKUP(A9,HDLC!A9:K124,11,FALSE) -> Poland | L9: 358 | M9: mix | N9: 0.32 | O9: 39.39
A10: Cai R data1 | B10: 5.25 | C10: 1.36 | D10: 39 | F10: 5.04 | G10: 1.63 | H10: 85 | I10: 2017 | J10: Asian | K10: =VLOOKUP(A10,HDLC!A10:K125,11,FALSE) -> China | L10: 124 | M10: patient | N10: 0.51 | O10: 62.46
A11: Cai R data2 | B11: 4.61 | C11: 0.99 | D11: 37 | F11: 4.74 | G11: 1.38 | H11: 65 | I11: 2017 | J11: Asian | K11: =VLOOKUP(A11,HDLC!A11:K126,11,FALSE) -> China | L11: 102 | M11: random | N11: 0.45 | O11: 60.52
A12: Cenarro A data1 | B12: 10.9 | C12: 2 | D12: 120 | F12: 10.5 | G12: 1.7 | H12: 90 | I12: 2003 | J12: Caucasian | K12: =VLOOKUP(A12,HDLC!A12:K127,11,FALSE) -> Spain | L12: 210 | M12: mix | N12: 0 | O12: 64.3
A13: Cenarro A data2 | B13: 11.2 | C13: 2.3 | D13: 75 | F13: 11.1 | G13: 1.9 | H13: 89 | I13: 2003 | J13: Caucasian | K13: =VLOOKUP(A13,HDLC!A13:K128,11,FALSE) -> Spain | L13: 164 | M13: mix | N13: 1 | O13: 70.5
A14: Chen LC | B14: 4.95 | C14: 0.98 | D14: 190 | F14: 5.02 | G14: 0.96 | H14: 310 | I14: 2009 | J14: Asian | K14: =VLOOKUP(A14,HDLC!A14:K129,11,FALSE) -> China | L14: 500 | M14: mix | N14: 0.4 | O14: 64.05
A15: Clee SM | B15: 6.02 | C15: 0.86 | D15: 424 | F15: 6.06 | G15: 0.89 | H15: 366 | I15: 2011 | J15: Caucasian | K15: =VLOOKUP(A15,HDLC!A15:K130,11,FALSE) -> Canada | L15: =D15+H15 -> 790 | M15: patient | N15: 0 | O15: 57
A16: Coban N data1 | B16: 4.99 | C16: 1.06 | D16: 111 | F16: 5.04 | G16: 1.07 | H16: 219 | I16: 2014 | J16: Caucasian | K16: =VLOOKUP(A16,HDLC!A16:K131,11,FALSE) -> Turkey | L16: 330 | M16: patient | N16: 1 | O16: 56.7
A17: Coban N data2 | B17: 4.65 | C17: 1.14 | D17: 105 | F17: 4.84 | G17: 1.15 | H17: 161 | I17: 2014 | J17: Caucasian | K17: =VLOOKUP(A17,HDLC!A17:K132,11,FALSE) -> Turkey | L17: 266 | M17: patient | N17: 0 | O17: 58.9
A18: Delgado-Lista J | B18: 3.97 | C18: 0.09 | D18: 50 | F18: 3.89 | G18: 0.09 | H18: 38 | I18: 2010 | J18: Caucasian | K18: =VLOOKUP(A18,HDLC!A18:K133,11,FALSE) -> Spain | L18: 88 | M18: random | N18: 0 | O18: /
A19: Deng K | B19: 4.71 | C19: 0.85 | D19: 140 | F19: 4.78 | G19: 0.9 | H19: 308 | I19: 2008 | J19: Asian | K19: =VLOOKUP(A19,HDLC!A19:K134,11,FALSE) -> China | L19: 448 | M19: mix | N19: 0.43 | O19: 62.3
A20: Evans D | B20: 7.37 | C20: 2.12 | D20: 279 | F20: 7.33 | G20: 2.17 | H20: 236 | I20: 2003 | J20: Caucasian | K20: =VLOOKUP(A20,HDLC!A20:K135,11,FALSE) -> Germany | L20: =D20+H20 -> 515 | M20: patient | N20: 0.45 | O20: 45.8
A21: Fawzy MS | B21: 5.07 | C21: 1.82 | D21: 10 | F21: 5.88 | G21: 1 | H21: 118 | I21: 2015 | J21: African | K21: =VLOOKUP(A21,HDLC!A21:K136,11,FALSE) -> Egypt | L21: =D21+H21 -> 128 | M21: patient | N21: 0.66 | O21: 12.7
A22: Genvigir FD data1 | B22: 4.47 | C22: 0.51 | D22: 54 | F22: 4.49 | G22: 0.45 | H22: 89 | I22: 2008 | J22: Caucasian | K22: =VLOOKUP(A22,HDLC!A22:K137,11,FALSE) -> Brazil | L22: 143 | M22: random | N22: 0.73 | O22: 47
A23: Genvigir FD data2 | B23: 6.67 | C23: 1.17 | D23: 76 | F23: 6.64 | G23: 1.23 | H23: 148 | I23: 2008 | J23: Caucasian | K23: =VLOOKUP(A23,HDLC!A23:K138,11,FALSE) -> Brazil | L23: 224 | M23: patient | N23: 0.67 | O23: 55
A24: Ghaznavi H data1 | B24: 5.09 | C24: 1.37 | D24: 50 | F24: 5.29 | G24: 1.64 | H24: 50 | I24: 2018 | J24: Caucasian | K24: =VLOOKUP(A24,HDLC!A24:K139,11,FALSE) -> Iran | L24: 100 | M24: patient | N24: 0.5 | O24: 58.96
A25: Ghaznavi H data2 | B25: 4.7 | C25: 0.87 | D25: 29 | F25: 4.39 | G25: 1.09 | H25: 71 | I25: 2018 | J25: Caucasian | K25: =VLOOKUP(A25,HDLC!A25:K140,11,FALSE) -> Iran | L25: 100 | M25: random | N25: 0.5 | O25: 57.53
A26: Guo Q | B26: 4.88 | C26: 0.8 | D26: 57 | F26: 4.97 | G26: 0.79 | H26: 87 | I26: 2010 | J26: Asian | K26: =VLOOKUP(A26,HDLC!A26:K141,11,FALSE) -> China | L26: =D26+H26 -> 144 | M26: patient | N26: 0.47 | O26: 58
A27: Haghvirdizadeh P data1 | B27: 4.42 | C27: 1.19 | D27: 94 | F27: 4.32 | G27: 1.08 | H27: 70 | I27: 2015 | J27: Asian | K27: =VLOOKUP(A27,HDLC!A27:K142,11,FALSE) -> Malaysia | L27: 164 | M27: patient | N27: 0.37 | O27: 62.14
A28: Haghvirdizadeh P data2 | B28: 4.66 | C28: 1.16 | D28: 56 | F28: 4.31 | G28: 1.16 | H28: 109 | I28: 2015 | J28: Asian | K28: =VLOOKUP(A28,HDLC!A28:K143,11,FALSE) -> Malaysia | L28: 165 | M28: random | N28: 0.53 | O28: 54.97
A29: Harada T | B29: 4.54 | C29: 0.91 | D29: 68 | F29: 4.78 | G29: 0.89 | H29: 197 | I29: 2003 | J29: Asian | K29: =VLOOKUP(A29,HDLC!A29:K144,11,FALSE) -> Japan | L29: 265 | M29: mix | N29: 0.13 | O29: 65.08
A30: Huang Y data1 | B30: 5.53 | C30: 1 | D30: 66 | F30: 5.43 | G30: 0.97 | H30: 140 | I30: 2011 | J30: Asian | K30: =VLOOKUP(A30,HDLC!A30:K145,11,FALSE) -> China | L30: 206 | M30: patient | N30: 0.38 | O30: 55.31
A31: Huang Y data2 | B31: 5.55 | C31: 1.46 | D31: 34 | F31: 5.31 | G31: 1.06 | H31: 98 | I31: 2011 | J31: Asian | K31: =VLOOKUP(A31,HDLC!A31:K146,11,FALSE) -> China | L31: 132 | M31: random | N31: 0.47 | O31: 51.7
A32: Katzov H | B32: 6.01 | C32: 0.03 | D32: 1439 | F32: 6.07 | G32: 0.08 | H32: 1126 | I32: 2006 | J32: Caucasian | K32: =VLOOKUP(A32,HDLC!A32:K147,11,FALSE) -> Sweden | L32: 2565 | M32: mix | N32: 0.33 | O32: 60.82
A33: Kitjaroentham data1 | B33: 5.81 | C33: 2.02 | D33: 18 | F33: 5.51 | G33: 1.04 | H33: 22 | I33: 2007 | J33: Asian | K33: =VLOOKUP(A33,HDLC!A33:K148,11,FALSE) -> Thailand | L33: 40 | M33: patient | N33: 0 | O33: 43
A34: Kitjaroentham data2 | B34: 6.39 | C34: 2.15 | D34: 25 | F34: 6.27 | G34: 1.88 | H34: 47 | I34: 2007 | J34: Asian | K34: =VLOOKUP(A34,HDLC!A34:K149,11,FALSE) -> Thailand | L34: 72 | M34: patient | N34: 1 | O34: 43
A35: Kitjaroentham data3 | B35: 5.28 | C35: 1.17 | D35: 33 | F35: 5.25 | G35: 1.12 | H35: 63 | I35: 2007 | J35: Asian | K35: =VLOOKUP(A35,HDLC!A35:K150,11,FALSE) -> Thailand | L35: 96 | M35: random | N35: 0 | O35: 37
A36: Kitjaroentham data4 | B36: 5.66 | C36: 1.44 | D36: 6 | F36: 5.88 | G36: 1.14 | H36: 15 | I36: 2007 | J36: Asian | K36: =VLOOKUP(A36,HDLC!A36:K151,11,FALSE) -> Thailand | L36: 21 | M36: random | N36: 1 | O36: 37
A37: Kolovou G | B37: 7.54 | C37: 1.55 | D37: 276 | F37: 7.16 | G37: 1.23 | H37: 310 | I37: 2013 | J37: Caucasian | K37: =VLOOKUP(A37,HDLC!A37:K152,11,FALSE) -> Greece | L37: 586 | M37: patient | N37: 0.31 | O37: 57.2
A38: Kolovou V | B38: 5.2 | C38: 1.68 | D38: 218 | F38: 5.29 | G38: 1.74 | H38: 214 | I38: 2016 | J38: Caucasian | K38: =VLOOKUP(A38,HDLC!A38:K153,11,FALSE) -> Greece | L38: 432 | M38: random | N38: 0.8 | O38: 22
... A40: Kolovou V data 2 | B40: 5.16 | C40: 0.58 | D40: 186 | F40: 5.08 | G40: 0.63 | H40: 173 | I40: 2011 | J40: Caucasian | K40: =VLOOKUP(A40,HDLC!A40:K155,11,FALSE) -> Greece | L40: 359 | M40: random | N40: 1 | O40: 22
A41: Li J data1 | B41: 5.12 | C41: 0.51 | D41: 140 | F41: 5.11 | G41: 0.49 | H41: 225 | I41: 2009 | J41: Asian | K41: China | L41: 365 | M41: patient | N41: 0.52 | O41: 63
...
