Workbook

Sheet standard quantity
A1: Mtce | B1: Nuclear | C1: Hydro | D1: Wind | E1: Solar | F1: Others | G1: total
A2: Beijing | B2: ='physical quantity'!B2*'physical quantity'!$G2/10000 -> 0 | C2: ='physical quantity'!C2*'physical quantity'!$G2/10000 -> 0.2244 | D2: ='physical quantity'!D2*'physical quantity'!$G2/10000 -> 0.0612 | E2: ='physical quantity'!E2*'physical quantity'!$G2/10000 -> 0.0408 | F2: ='physical quantity'!F2*'physical quantity'!$G2/10000 -> 0.0204 | G2: =SUM(B2:F2) -> 0.3468
A3: Tianjin | B3: ='physical quantity'!B3*'physical quantity'!$G3/10000 -> 0 | C3: ='physical quantity'!C3*'physical quantity'!$G3/10000 -> 0.00273 | D3: ='physical quantity'!D3*'physical quantity'!$G3/10000 -> 0.1638 | E3: ='physical quantity'!E3*'physical quantity'!$G3/10000 -> 0.1638 | F3: ='physical quantity'!F3*'physical quantity'!$G3/10000 -> 0 | G3: =SUM(B3:F3) -> 0.33033
A4: Hebei | B4: ='physical quantity'!B4*'physical quantity'!$G4/10000 -> 0 | C4: ='physical quantity'!C4*'physical quantity'!$G4/10000 -> 0.594 | D4: ='physical quantity'!D4*'physical quantity'!$G4/10000 -> 7.8111 | E4: ='physical quantity'!E4*'physical quantity'!$G4/10000 -> 2.2869 | F4: ='physical quantity'!F4*'physical quantity'!$G4/10000 -> 0 | G4: =SUM(B4:F4) -> 10.692
A5: Shanxi | B5: ='physical quantity'!B5*'physical quantity'!$G5/10000 -> 0 | C5: ='physical quantity'!C5*'physical quantity'!$G5/10000 -> 1.2474 | D5: ='physical quantity'!D5*'physical quantity'!$G5/10000 -> 4.9005 | E5: ='physical quantity'!E5*'physical quantity'!$G5/10000 -> 1.6632 | F5: ='physical quantity'!F5*'physical quantity'!$G5/10000 -> 0 | G5: =SUM(B5:F5) -> 7.8111
A6: Inner Mongolia | B6: ='physical quantity'!B6*'physical quantity'!$G6/10000 -> 0 | C6: ='physical quantity'!C6*'physical quantity'!$G6/10000 -> 0.7368 | D6: ='physical quantity'!D6*'physical quantity'!$G6/10000 -> 16.9157 | E6: ='physical quantity'!E6*'physical quantity'!$G6/10000 -> 3.4691 | F6: ='physical quantity'!F6*'physical quantity'!$G6/10000 -> 0 | G6: =SUM(B6:F6) -> 21.1216
A7: Liaoning | B7: ='physical quantity'!B7*'physical quantity'!$G7/10000 -> 6.8204 | C7: ='physical quantity'!C7*'physical quantity'!$G7/10000 -> 1.3005 | D7: ='physical quantity'!D7*'physical quantity'!$G7/10000 -> 4.335 | E7: ='physical quantity'!E7*'physical quantity'!$G7/10000 -> 0.3468 | F7: ='physical quantity'!F7*'physical quantity'!$G7/10000 -> 0 | G7: =SUM(B7:F7) -> 12.8027
A8: Jilin | B8: ='physical quantity'!B8*'physical quantity'!$G8/10000 -> 0 | C8: ='physical quantity'!C8*'physical quantity'!$G8/10000 -> 2.1791 | D8: ='physical quantity'!D8*'physical quantity'!$G8/10000 -> 2.4621 | E8: ='physical quantity'!E8*'physical quantity'!$G8/10000 -> 0.3679 | F8: ='physical quantity'!F8*'physical quantity'!$G8/10000 -> 0 | G8: =SUM(B8:F8) -> 5.0091
A9: Heilongjiang | B9: ='physical quantity'!B9*'physical quantity'!$G9/10000 -> 0 | C9: ='physical quantity'!C9*'physical quantity'!$G9/10000 -> 0.7475 | D9: ='physical quantity'!D9*'physical quantity'!$G9/10000 -> 3.2292 | E9: ='physical quantity'!E9*'physical quantity'!$G9/10000 -> 0.17043 | F9: ='physical quantity'!F9*'physical quantity'!$G9/10000 -> 0 | G9: =SUM(B9:F9) -> 4.14713
A10: Shanghai | B10: ='physical quantity'!B10*'physical quantity'!$G10/10000 -> 0 | C10: ='physical quantity'!C10*'physical quantity'!$G10/10000 -> 0 | D10: ='physical quantity'!D10*'physical quantity'!$G10/10000 -> 0.4862 | E10: ='physical quantity'!E10*'physical quantity'!$G10/10000 -> 0.0858 | F10: ='physical quantity'!F10*'physical quantity'!$G10/10000 -> 0 | G10: =SUM(B10:F10) -> 0.572
A11: Jiangsu | B11: ='physical quantity'!B11*'physical quantity'!$G11/10000 -> 4.8786 | C11: ='physical quantity'!C11*'physical quantity'!$G11/10000 -> 0.8178 | D11: ='physical quantity'!D11*'physical quantity'!$G11/10000 -> 3.384 | E11: ='physical quantity'!E11*'physical quantity'!$G11/10000 -> 2.2842 | F11: ='physical quantity'!F11*'physical quantity'!$G11/10000 -> 0 | G11: =SUM(B11:F11) -> 11.3646
A12: Zhejiang | B12: ='physical quantity'!B12*'physical quantity'!$G12/10000 -> 14.4102 | C12: ='physical quantity'!C12*'physical quantity'!$G12/10000 -> 5.9784 | D12: ='physical quantity'!D12*'physical quantity'!$G12/10000 -> 0.705 | E12: ='physical quantity'!E12*'physical quantity'!$G12/10000 -> 1.5792 | F12: ='physical quantity'!F12*'physical quantity'!$G12/10000 -> 0 | G12: =SUM(B12:F12) -> 22.6728
A13: Anhui | B13: ='physical quantity'!B13*'physical quantity'!$G13/10000 -> 0 | C13: ='physical quantity'!C13*'physical quantity'!$G13/10000 -> 1.6188 | D13: ='physical quantity'!D13*'physical quantity'!$G13/10000 -> 1.1644 | E13: ='physical quantity'!E13*'physical quantity'!$G13/10000 -> 1.7608 | F13: ='physical quantity'!F13*'physical quantity'!$G13/10000 -> 0 | G13: =SUM(B13:F13) -> 4.544
... A31: Xinjiang | B31: ='physical quantity'!B31*'physical quantity'!$G31/10000 -> 0 | C31: ='physical quantity'!C31*'physical quantity'!$G31/10000 -> 7.552 | D31: ='physical quantity'!D31*'physical quantity'!$G31/10000 -> 9.381 | E31: ='physical quantity'!E31*'physical quantity'!$G31/10000 -> 3.1565 | F31: ='physical quantity'!F31*'physical quantity'!$G31/10000 -> 0 | G31: =SUM(B31:F31) -> 20.0895

Sheet physical quantity
A1: 108Kwh | B1: Nuclear | C1: Hydro | D1: Wind | E1: Solar | F1: Others | G1: Standard coal consumption (g/kWh)
A2: Beijing | C2: 11 | D2: 3 | E2: 2 | F2: 1 | G2: 204
A3: Tianjin | C3: 0.1 | D3: 6 | E3: 6 | G3: 273
A4: Hebei | C4: 20 | D4: 263 | E4: 77 | G4: 297
A5: Shanxi | C5: 42 | D5: 165 | E5: 56 | G5: 297
A6: Inner Mongolia | C6: 24 | D6: 551 | E6: 113 | G6: 307
A7: Liaoning | B7: 236 | C7: 45 | D7: 150 | E7: 12 | G7: 289
A8: Jilin | C8: 77 | D8: 87 | E8: 13 | G8: 283
A9: Heilongjiang | C9: 25 | D9: 108 | E9: 5.7 | G9: 299
A10: Shanghai | D10: 17 | E10: 3 | G10: 286
A11: Jiangsu | B11: 173 | C11: 29 | D11: 120 | E11: 81 | G11: 282
A12: Zhejiang | B12: 511 | C12: 212 | D12: 25 | E12: 56 | G12: 282
A13: Anhui | C13: 57 | D13: 41 | E13: 62 | G13: 284
A14: Fujian | B14: 560 | C14: 416 | D14: 65 | E14: 6 | G14: 292
A15: Jiangxi | C15: 157 | D15: 31 | E15: 30 | G15: 291
A16: Shandong | C16: 6.7 | D16: 166 | E16: 73 | G16: 294
A17: Henan | C17: 100 | D17: 30 | E17: 44 | G17: 293
A18: Hubei | C18: 1494 | D18: 48 | E18: 28 | G18: 289
A19: Hunan | C19: 498 | D19: 50 | E19: 6 | G19: 295
A20: Guangdong | B20: 800 | C20: 301 | D20: 62 | E20: 20 | G20: 282
A21: Guangxi | B21: 127 | C21: 614 | D21: 25 | E21: 4.1 | G21: 293
A22: Hainan | B22: 75 | C22: 26 | D22: 6 | E22: 3 | G22: 281
A23: Chongqing | C23: 253 | D23: 7 | E23: 0.2 | G23: 298
A24: Sichuan | C24: 3164 | D24: 35 | E24: 16 | G24: 309
A25: Guizhou | C25: 733 | D25: 63 | E25: 5.7 | G25: 301
A26: Yunnan | C26: 2502 | D26: 188 | E26: 28 | G26: 311
A27: Shannxi | C27: 93 | D27: 42 | E27: 41 | G27: 304
A28: Gansu | C28: 374 | D28: 188 | E28: 73 | G28: 299
A29: Qinghai | C29: 332 | D29: 18 | E29: 113 | G29: 310
A30: Ningxia | C30: 16 | D30: 155 | E30: 76 | G30: 298
A31: Xinjiang | C31: 256 | D31: 318 | E31: 107 | G31: 295
