Workbook

Sheet Provincial
A1: Billion Yuan | B1: population (persons, thousands) | C1: Primary | D1: Secondary | E1: Tertiary
A2: Beijing | B2: 21707 | C2: ='2017-real'!B2/10 -> 10.227581 | D2: ='2017-real'!C2/10 -> 516.58733 | E2: ='2017-real'!D2/10 -> 1784.8553
A3: Tianjin | B3: 15570 | C3: ='2017-real'!B3/10 -> 18.033047 | D3: ='2017-real'!C3/10 -> 977.10324 | E3: ='2017-real'!D3/10 -> 868.71404
A4: Hebei | B4: 75195.2 | C4: ='2017-real'!B4/10 -> 328.88213 | D4: ='2017-real'!C4/10 -> 1753.1332 | E4: ='2017-real'!D4/10 -> 1383.0356
A5: Shanxi | B5: 37020 | C5: ='2017-real'!B5/10 -> 73.257924 | D5: ='2017-real'!C5/10 -> 825.40094 | E5: ='2017-real'!D5/10 -> 593.60527
A6: Inner Mongolia | B6: 25290 | C6: ='2017-real'!B6/10 -> 145.67157 | D6: ='2017-real'!C6/10 -> 1195.2386 | E6: ='2017-real'!D6/10 -> 740.4143
A7: Liaoning | B7: 43690 | C7: ='2017-real'!B7/10 -> 200.69993 | D7: ='2017-real'!C7/10 -> 1360.1594 | E7: ='2017-real'!D7/10 -> 1130.9227
A8: Jilin | B8: 27170 | C8: ='2017-real'!B8/10 -> 142.20984 | D8: ='2017-real'!C8/10 -> 813.38046 | E8: ='2017-real'!D8/10 -> 566.77847
A9: Heilongjiang | B9: 37887 | C9: ='2017-real'!B9/10 -> 190.7314 | D9: ='2017-real'!C9/10 -> 760.79673 | E9: ='2017-real'!D9/10 -> 758.94291
A10: Shanghai | B10: 24180 | C10: ='2017-real'!B10/10 -> 8.8609286 | D10: ='2017-real'!C10/10 -> 947.99262 | E10: ='2017-real'!D10/10 -> 1839.1786
A11: Jiangsu | B11: 80293 | C11: ='2017-real'!B11/10 -> 306.13828 | D11: ='2017-real'!C11/10 -> 3948.5896 | E11: ='2017-real'!D11/10 -> 3288.4916
A12: Zhejiang | B12: 56570 | C12: ='2017-real'!B12/10 -> 156.68477 | D12: ='2017-real'!C12/10 -> 2311.8483 | E12: ='2017-real'!D12/10 -> 2275.8568
A13: Anhui | B13: 62550 | C13: ='2017-real'!B13/10 -> 228.82279 | D13: ='2017-real'!C13/10 -> 1360.7034 | E13: ='2017-real'!D13/10 -> 834.78522
... A31: Xinjiang | B31: 24450 | C31: ='2017-real'!B31/10 -> 163.42498 | D31: ='2017-real'!C31/10 -> 505.37931 | E31: ='2017-real'!D31/10 -> 370.77157

Sheet national
A1: Billion Yuan | B1: GDP-2010 | F1: Industrial Structure | I1: GDP-Prediction-OECD | J1: growth rate-OECD
B2: Primary | C2: Secondary | D2: Tertiary | E2: Total | F2: Primary | G2: Secondary | H2: Tertiary
A3: 2040 | B3: =B4*B$36 -> 9183.6958 | C3: =C4*C$36 -> 91826.603 | D3: =D4*D$36 -> 136856.04 | E3: =SUM(B3:D3) -> 237866.34 | F3: =B3/$E3 -> 0.038608639 | G3: =C3/$E3 -> 0.38604286 | H3: =D3/$E3 -> 0.5753485 | I3: =I4*(1+J3) -> 176126.9 | J3: 0.018875532
A4: 2039 | B4: =B5*B$36 -> 9017.9714 | C4: =C5*C$36 -> 88299.867 | D4: =D5*D$36 -> 129284.7 | E4: =SUM(B4:D4) -> 226602.54 | F4: =B4/$E4 -> 0.039796427 | G4: =C4/$E4 -> 0.38966848 | H4: =D4/$E4 -> 0.57053509 | I4: =I5*(1+J4) -> 172864 | J4: 0.019851421
A5: 2038 | B5: =B6*B$36 -> 8855.2376 | C5: =C6*C$36 -> 84908.58 | D5: =D6*D$36 -> 122132.23 | E5: =SUM(B5:D5) -> 215896.05 | F5: =B5/$E5 -> 0.04101621 | G5: =C5/$E5 -> 0.39328455 | H5: =D5/$E5 -> 0.56569924 | I5: =I6*(1+J5) -> 169499.2 | J5: 0.020918385
A6: 2037 | B6: =B7*B$36 -> 8695.4404 | C6: =C7*C$36 -> 81647.54 | D6: =D7*D$36 -> 115375.46 | E6: =SUM(B6:D6) -> 205718.44 | F6: =B6/$E6 -> 0.042268648 | G6: =C6/$E6 -> 0.39688975 | H6: =D6/$E6 -> 0.56084161 | I6: =I7*(1+J6) -> 166026.2 | J6: 0.022068895
A7: 2036 | B7: =B8*B$36 -> 8538.5268 | C7: =C8*C$36 -> 78511.745 | D7: =D8*D$36 -> 108992.5 | E7: =SUM(B7:D7) -> 196042.77 | F7: =B7/$E7 -> 0.043554408 | G7: =C7/$E7 -> 0.40048274 | H7: =D7/$E7 -> 0.55596285 | I7: =I8*(1+J7) -> 162441.3 | J7: 0.023296116
A8: 2035 | B8: =B9*B$36 -> 8384.4448 | C8: =C9*C$36 -> 75496.385 | D8: =D9*D$36 -> 102962.66 | E8: =SUM(B8:D8) -> 186843.49 | F8: =B8/$E8 -> 0.04487416 | G8: =C8/$E8 -> 0.40406216 | H8: =D8/$E8 -> 0.55106368 | I8: =I9*(1+J8) -> 158743.2 | J8: 0.024650103
A9: 2034 | B9: =B10*B$36 -> 8233.1433 | C9: =C10*C$36 -> 72596.835 | D9: =D10*D$36 -> 97266.417 | E9: =SUM(B9:D9) -> 178096.39 | F9: =B9/$E9 -> 0.046228579 | G9: =C9/$E9 -> 0.40762664 | H9: =D9/$E9 -> 0.54614478 | I9: =I10*(1+J9) -> 154924.3 | J9: 0.026038345
A10: 2033 | B10: =B11*B$36 -> 8084.5721 | C10: =C11*C$36 -> 69808.646 | D10: =D11*D$36 -> 91885.307 | E10: =SUM(B10:D10) -> 169778.52 | F10: =B10/$E10 -> 0.047618343 | G10: =C10/$E10 -> 0.41117477 | H10: =D10/$E10 -> 0.54120689 | I10: =I11*(1+J10) -> 150992.7 | J10: 0.027436605
A11: 2032 | B11: =B12*B$36 -> 7938.6819 | C11: =C12*C$36 -> 67127.541 | D11: =D12*D$36 -> 86801.899 | E11: =SUM(B11:D11) -> 161868.12 | F11: =B11/$E11 -> 0.049044134 | G11: =C11/$E11 -> 0.41470513 | H11: =D11/$E11 -> 0.53625073 | I11: =I12*(1+J11) -> 146960.6 | J11: 0.028839739
A12: 2031 | B12: =B13*B$36 -> 7795.4244 | C12: =C13*C$36 -> 64549.409 | D12: =D13*D$36 -> 81999.723 | E12: =SUM(B12:D12) -> 154344.56 | F12: =B12/$E12 -> 0.050506637 | G12: =C12/$E12 -> 0.4182163 | H12: =D12/$E12 -> 0.53127707 | I12: =I13*(1+J12) -> 142841.1 | J12: 0.030264322
A13: 2030 | B13: =B14*B$35 -> 7654.7521 | C13: =C14*C$35 -> 62070.293 | D13: =D14*D$35 -> 77463.219 | E13: =SUM(B13:D13) -> 147188.26 | F13: =B13/$E13 -> 0.052006538 | G13: =C13/$E13 -> 0.42170681 | H13: =D13/$E13 -> 0.52628665 | I13: =I14*(1+J13) -> 138645.1 | J13: 0.031679983
A14: 2029 | B14: =B15*B$35 -> 7516.6182 | C14: =C15*C$35 -> 59686.391 | D14: =D15*D$35 -> 73177.69 | E14: =SUM(B14:D14) -> 140380.7 | F14: =B14/$E14 -> 0.053544528 | G14: =C14/$E14 -> 0.4251752 | H14: =D14/$E14 -> 0.52128028 | I14: =I15*(1+J14) -> 134387.7 | J14: 0.033158664
A15: 2028 | B15: =B16*B$35 -> 7380.9771 | C15: =C16*C$35 -> 57394.047 | D15: =D16*D$35 -> 69129.251 | E15: =SUM(B15:D15) -> 133904.28 | F15: =B15/$E15 -> 0.055121295 | G15: =C15/$E15 -> 0.42861998 | H15: =D15/$E15 -> 0.51625873 | I15: =I16*(1+J15) -> 130074.6 | J15: 0.0347163
A16: 2027 | B16: =B17*B$35 -> 7247.7836 | C16: =C17*C$35 -> 55189.744 | D16: =D17*D$35 -> 65304.785 | E16: =SUM(B16:D16) -> 127742.31 | F16: =B16/$E16 -> 0.056737533 | G16: =C16/$E16 -> 0.43203965 | H16: =D16/$E16 -> 0.51122282 | I16: =I17*(1+J16) -> 125710.4 | J16: 0.036364566
A17: 2026 | B17: =B18*B$35 -> 7116.9937 | C17: =C18*C$35 -> 53070.1 | D17: =D18*D$35 -> 61691.902 | E17: =SUM(B17:D17) -> 121879 | F17: =B17/$E17 -> 0.058393932 | G17: =C17/$E17 -> 0.4354327 | H17: =D17/$E17 -> 0.50617337 | I17: =I18*(1+J17) -> 121299.4 | J17: 0.03810453
A18: 2025 | B18: =B19*B$34 -> 6988.564 | C18: =C19*C$34 -> 51031.864 | D18: =D19*D$34 -> 58278.896 | E18: =SUM(B18:D18) -> 116299.32 | F18: =B18/$E18 -> 0.060091183 | G18: =C18/$E18 -> 0.4387976 | H18: =D18/$E18 -> 0.50111122 | I18: =I19*(1+J18) -> 116847 | J18: 0.039911928
A19: 2024 | B19: =B20*B$34 -> 6726.2406 | C19: =C20*C$34 -> 48097.893 | D19: =D20*D$34 -> 53961.941 | E19: =SUM(B19:D19) -> 108786.07 | F19: =B19/$E19 -> 0.061829979 | G19: =C19/$E19 -> 0.44213281 | H19: =D19/$E19 -> 0.49603721 | I19: =I20*(1+J19) -> 112362.4 | J19: 0.041732376
A20: 2023 | B20: =B21*B$34 -> 6473.7638 | C20: =C21*C$34 -> 45332.604 | D20: =D21*D$34 -> 49964.76 | E20: =SUM(B20:D20) -> 101771.13 | F20: =B20/$E20 -> 0.063611006 | G20: =C20/$E20 -> 0.44543678 | H20: =D20/$E20 -> 0.49095221 | I20: =I21*(1+J20) -> 107861.1 | J20: 0.043835616
A21: 2022 | B21: =B22*B$34 -> 6230.764 | C21: =C22*C$34 -> 42726.299 | D21: =D22*D$34 -> 46263.667 | E21: =SUM(B21:D21) -> 95220.73 | F21: =B21/$E21 -> 0.065434953 | G21: =C21/$E21 -> 0.44870796 | H21: =D21/$E21 -> 0.48585709 | I21: =I22*(1+J21) -> 103331.5 | J21: 0.046448133
A22: 2021 | B22: =B23*B$34 -> 5996.8855 | C22: =C23*C$34 -> 40269.839 | D22: =D23*D$34 -> 42836.729 | E22: =SUM(B22:D22) -> 89103.453 | F22: =B22/$E22 -> 0.067302504 | G22: =C22/$E22 -> 0.45194476 | H22: =D22/$E22 -> 0.48075273 | I22: =I23*(1+J22) -> 98744.98 | J22: 0.049692246
A23: 2020 | B23: =B24*B$34 -> 5771.7859 | C23: =C24*C$34 -> 37954.608 | D23: =D24*D$34 -> 39663.638 | E23: =SUM(B23:D23) -> 83390.032 | F23: =B23/$E23 -> 0.069214338 | G23: =C23/$E23 -> 0.45514563 | H23: =D23/$E23 -> 0.47564004 | I23: =I24*(1+J23) -> 94070.41 | J23: 0.054254516
A24: 2019 | B24: =B25*B$34 -> 5555.1356 | C24: =C25*C$34 -> 35772.486 | D24: =D25*D$34 -> 36725.59 | E24: =SUM(B24:D24) -> 78053.212 | F24: =B24/$E24 -> 0.071171133 | G24: =C24/$E24 -> 0.45830896 | H24: =D24/$E24 -> 0.47051991 | I24: =I25*(1+J24) -> 89229.317 | J24: 0.064418185
A25: 2018 | B25: =B26*B38 -> 5346.6175 | C25: =C26*C38 -> 33715.821 | D25: =D26*D38 -> 34005.176 | E25: =SUM(B25:D25) -> 73067.615 | F25: =B25/$E25 -> 0.07317356 | G25: =C25/$E25 -> 0.46143317 | H25: =D25/$E25 -> 0.46539327 | I25: =I26*(1+J25) -> 83829.192 | J25: 0.066598813
A26: 2017 | B26: =B27*B39 -> 5165.814 | C26: =C27*C39 -> 31867.506 | D26: =D27*D39 -> 31603.324 | E26: =SUM(B26:D26) -> 68636.644 | F26: =B26/$E26 -> 0.075263208 | G26: =C26/$E26 -> 0.4642929 | H26: =D26/$E26 -> 0.4604439 | I26: 78594.867
A27: 2016 | B27: =B28*B40 -> 4967.1288 | C27: =C28*C40 -> 30092.074 | D27: =D28*D40 -> 29289.457 | E27: =SUM(B27:D27) -> 64348.659 | F27: =B27/$E27 -> 0.077190868 | G27: =C27/$E27 -> 0.46764104 | H27: =D27/$E27 -> 0.45516809
A28: 2015 | B28: 4808.45 | C28: 28308.63 | D28: 27195.41 | E28: =SUM(B28:D28) -> 60312.49 | F28: =B28/$E28 -> 0.079725609 | G28: =C28/$E28 -> 0.46936596 | H28: =D28/$E28 -> 0.45090843
A29: 2014 | B29: 4627.75 | C29: 26656.41 | D29: 25135.29 | E29: =SUM(B29:D29) -> 56419.45 | F29: =B29/$E29 -> 0.082024018 | G29: =C29/$E29 -> 0.47246845 | H29: =D29/$E29 -> 0.44550753
A30: 2013 | B30: 4447.35 | C30: 24821.14 | D30: 23315.05 | E30: =SUM(B30:D30) -> 52583.54 | F30: =B30/$E30 -> 0.084576847 | G30: =C30/$E30 -> 0.4720325 | H30: =D30/$E30 -> 0.44339065
A31: 2012 | B31: 4283.98 | C31: 22985.27 | D31: 21528.37 | E31: =SUM(B31:D31) -> 48797.62 | F31: =B31/$E31 -> 0.087790757 | G31: =C31/$E31 -> 0.4710326 | H31: =D31/$E31 -> 0.44117664
A32: 2011 | B32: 4100.69 | C32: 21211.24 | D32: 19931.05 | E32: =SUM(B32:D32) -> 45242.98 | F32: =B32/$E32 -> 0.090637045 | G32: =C32/$E32 -> 0.46882942 | H32: =D32/$E32 -> 0.44053354
A33: 2010 | B33: 3936.26 | C33: 19162.98 | D33: 18203.8 | E33: =SUM(B33:D33) -> 41303.04 | F33: =B33/$E33 -> 0.095301944 | G33: =C33/$E33 -> 0.46396052 | H33: =D33/$E33 -> 0.44073753
A34: Before 2025 | B34: 1.039 | C34: 1.061 | D34: 1.08 | E34: 1.058 | F34: =E34/E35 -> 1.0202507 | G34: 备注：黄色部分是预测的未来分行业增长率+1；绿色部分是IEA预测的未来中国GDP增长率+1（以2017年美元价格）
A35: 2025-2030 | B35: =B34/F34 -> 1.0183771 | C35: =C34/F34 -> 1.0399405 | D35: =D34/F34 -> 1.0585633 | E35: 1.037 | F35: =E35/E36 -> 1
A36: 2030-2040 | B36: =B35/F35 -> 1.0183771 | C36: =C35/F35 -> 1.0399405 | D36: =D35/F35 -> 1.0585633 | E36: 1.037
A38: 2018 | B38: 1.035 | C38: 1.058 | D38: 1.076
A39: 2017 | B39: 1.04 | C39: 1.059 | D39: 1.079 | E39: 备注：这部分是2011-2018年全国分行业不变价格指数
A40: 2016 | B40: 1.033 | C40: 1.063 | D40: 1.077
A41: 2015 | B41: 1.039 | C41: 1.061 | D41: 1.083
A42: 2014 | B42: 1.041 | C42: 1.074 | D42: 1.078
A43: 2013 | B43: 1.038 | C43: 1.08 | D43: 1.083
A44: 2012 | B44: 1.045 | C44: 1.084 | D44: 1.08
A45: 2011 | B45: 1.042 | C45: 1.107 | D45: 1.095

Sheet 2010
A1: 10^8 Yuan | B1: Primary | C1: Secondary | D1: Tertiary
A2: Beijing | B2: 124.36 | C2: 3388.38 | D2: 10600.84
A3: Tianjin | B3: 145.58 | C3: 4840.23 | D3: 4238.65
A4: Hebei | B4: 2562.81 | C4: 10707.68 | D4: 7123.77
A5: Shanxi | B5: 554.48 | C5: 5234 | D5: 3412.38
A6: Inner Mongolia | B6: 1095.28 | C6: 6367.69 | D6: 4209.02
A7: Liaoning | B7: 1631.08 | C7: 9976.82 | D7: 6849.37
A8: Jilin | B8: 1050.15 | C8: 4506.31 | D8: 3111.12
A9: Heilongjiang | B9: 1302.9 | C9: 5204.11 | D9: 3861.59
A10: Shanghai | B10: 114.15 | C10: 7218.32 | D10: 9833.51
A11: Jiangsu | B11: 2540.1 | C11: 21753.93 | D11: 17131.45
A12: Zhejiang | B12: 1360.56 | C12: 14297.93 | D12: 12063.82
A13: Anhui | B13: 1729.02 | C13: 6436.62 | D13: 4193.68
... A31: Xinjiang | B31: 1078.63 | C31: 2592.15 | D31: 1766.69
B32: =SUM(B2:B31)/10 -> 4046.411 | C32: =SUM(C2:C31)/10 -> 21990.085 | D32: =SUM(D2:D31)/10 -> 17616.954 | E32: =SUM(B32:D32) -> 43653.45
B33: =B32/E32 -> 0.092693957 | C33: =C32/E32 -> 0.5037422 | D33: =D32/E32 -> 0.40356384

Sheet 2011
B1: Primary | C1: Secondary | D1: Tertiary
A2: Beijing | B2: 1.009 | C2: 1.067 | D2: 1.087
A3: Tianjin | B3: 1.038 | C3: 1.183 | D3: 1.147
A4: Hebei | B4: 1.042 | C4: 1.134 | D4: 1.105
A5: Shanxi | B5: 1.061 | C5: 1.165 | D5: 1.087
A6: Inner Mongolia | B6: 1.059 | C6: 1.171 | D6: 1.124
A7: Liaoning | B7: 1.065 | C7: 1.141 | D7: 1.11
A8: Jilin | B8: 1.051 | C8: 1.177 | D8: 1.11
A9: Heilongjiang | B9: 1.062 | C9: 1.132 | D9: 1.132
A10: Shanghai | B10: 0.993 | C10: 1.063 | D10: 1.096
A11: Jiangsu | B11: 1.04 | C11: 1.117 | D11: 1.111
A12: Zhejiang | B12: 1.036 | C12: 1.092 | D12: 1.095
A13: Anhui | B13: 1.04 | C13: 1.18 | D13: 1.106
... A31: Xinjiang | B31: 1.065 | C31: 1.12 | D31: 1.152

Sheet 2012
B1: Primary | C1: Secondary | D1: Tertiary
A2: Beijing | B2: 1.0318649 | C2: 1.0748218 | D2: 1.078598
A3: Tianjin | B3: 1.0299663 | C3: 1.1521603 | D3: 1.1257766
A4: Hebei | B4: 1.040001 | C4: 1.1151448 | D4: 1.0862446
A5: Shanxi | B5: 1.0632055 | C5: 1.1080939 | D5: 1.0965381
A6: Inner Mongolia | B6: 1.0564692 | C6: 1.1328109 | D6: 1.1002369
A7: Liaoning | B7: 1.0514889 | C7: 1.0982263 | D7: 1.1013717
A8: Jilin | B8: 1.0530123 | C8: 1.1401776 | D8: 1.1130019
A9: Heilongjiang | B9: 1.0645189 | C9: 1.1029646 | D9: 1.1076807
A10: Shanghai | B10: 1.0047627 | C10: 1.0311585 | D10: 1.1061919
A11: Jiangsu | B11: 1.045991 | C11: 1.1105733 | D11: 1.0971541
A12: Zhejiang | B12: 1.019789 | C12: 1.0732844 | D12: 1.093952
A13: Anhui | B13: 1.0554802 | C13: 1.1435953 | D13: 1.1095055
... A31: Xinjiang | B31: 1.0702365 | C31: 1.1365547 | D31: 1.1232594

Sheet 2013
B1: Primary | C1: Secondary | D1: Tertiary
A2: Beijing | B2: 1.03 | C2: 1.081 | D2: 1.076
A3: Tianjin | B3: 1.037 | C3: 1.127 | D3: 1.125
A4: Hebei | B4: 1.035 | C4: 1.09 | D4: 1.084
A5: Shanxi | B5: 1.045 | C5: 1.102 | D5: 1.075
A6: Inner Mongolia | B6: 1.052 | C6: 1.107 | D6: 1.071
A7: Liaoning | B7: 1.048 | C7: 1.089 | D7: 1.092
A8: Jilin | B8: 1.04 | C8: 1.088 | D8: 1.087
A9: Heilongjiang | B9: 1.051 | C9: 1.066 | D9: 1.104
A10: Shanghai | B10: 0.971 | C10: 1.061 | D10: 1.088
A11: Jiangsu | B11: 1.031 | C11: 1.1 | D11: 1.098
A12: Zhejiang | B12: 1.004 | C12: 1.084 | D12: 1.087
A13: Anhui | B13: 1.035 | C13: 1.124 | D13: 1.095
... A31: Xinjiang | B31: 1.069 | C31: 1.136 | D31: 1.093

Sheet 2014
B1: Primary | C1: Secondary | D1: Tertiary
A2: Beijing | B2: 1 | C2: 1.069 | D2: 1.075
A3: Tianjin | B3: 1.0292573 | C3: 1.0985851 | D3: 1.1043191
A4: Hebei | B4: 1.037 | C4: 1.05 | D4: 1.097
A5: Shanxi | B5: 1.047 | C5: 1.036 | D5: 1.071
A6: Inner Mongolia | B6: 1.0306556 | C6: 1.0903519 | D6: 1.0681369
A7: Liaoning | B7: 1.022 | C7: 1.052 | D7: 1.072
A8: Jilin | B8: 1.046 | C8: 1.066 | D8: 1.069
A9: Heilongjiang | B9: 1.0556254 | C9: 1.027567 | D9: 1.0889913
A10: Shanghai | B10: 1.001 | C10: 1.042 | D10: 1.088
A11: Jiangsu | B11: 1.0295111 | C11: 1.0820498 | D11: 1.1000825
A12: Zhejiang | B12: 1.0139879 | C12: 1.0723923 | D12: 1.0859459
A13: Anhui | B13: 1.0457297 | C13: 1.0994161 | D13: 1.0947724
... A31: Xinjiang | B31: 1.059 | C31: 1.112 | D31: 1.104

Sheet 2015
B1: Primary | C1: Secondary | D1: Tertiary
A2: Beijing | B2: 0.892 | C2: 1.033 | D2: 1.081
A3: Tianjin | B3: 1.025328 | C3: 1.0918088 | D3: 1.0961357
A4: Hebei | B4: 1.026 | C4: 1.047 | D4: 1.112
A5: Shanxi | B5: 1.01 | C5: 0.988 | D5: 1.1
A6: Inner Mongolia | B6: 1.0304572 | C6: 1.0804392 | D6: 1.081115
A7: Liaoning | B7: 1.038 | C7: 0.997 | D7: 1.072
A8: Jilin | B8: 1.048 | C8: 1.052 | D8: 1.084
A9: Heilongjiang | B9: 1.0516173 | C9: 1.0137637 | D9: 1.1043027
A10: Shanghai | B10: 0.86393028 | C10: 1.0121872 | D10: 1.1061079
A11: Jiangsu | B11: 1.0325926 | C11: 1.082985 | D11: 1.0940708
A12: Zhejiang | B12: 1.0146666 | C12: 1.0534124 | D12: 1.1132916
A13: Anhui | B13: 1.0424468 | C13: 1.0834315 | D13: 1.1081117
... A31: Xinjiang | B31: 1.059 | C31: 1.073 | D31: 1.122

Sheet 2016
B1: Primary | C1: Secondary | D1: Tertiary
A2: Beijing | B2: 0.91324786 | C2: 1.0632668 | D2: 1.0702415
A3: Tianjin | B3: 1.03 | C3: 1.084 | D3: 1.1
A4: Hebei | B4: 1.035 | C4: 1.049 | D4: 1.099
A5: Shanxi | B5: 1.028 | C5: 1.015 | D5: 1.069
A6: Inner Mongolia | B6: 1.03 | C6: 1.069 | D6: 1.083
A7: Liaoning | B7: 0.954 | C7: 0.923 | D7: 1.025
A8: Jilin | B8: 1.039 | C8: 1.062 | D8: 1.088
A9: Heilongjiang | B9: 1.053 | C9: 1.026 | D9: 1.085
A10: Shanghai | B10: 0.934 | C10: 1.012 | D10: 1.096
A11: Jiangsu | B11: 1.007 | C11: 1.066 | D11: 1.098
A12: Zhejiang | B12: 1.0272681 | C12: 1.0568089 | D12: 1.0973315
A13: Anhui | B13: 1.0268736 | C13: 1.0811387 | D13: 1.1114037
... A31: Xinjiang | B31: 1.058 | C31: 1.062 | D31: 1.094

Sheet 2017
B1: Primary | C1: Secondary | D1: Tertiary
A2: Beijing | B2: 0.94142879 | C2: 1.0473812 | D2: 1.0731127
A3: Tianjin | B3: 1.0278844 | C3: 1.0107489 | D3: 1.0595697
A4: Hebei | B4: 1.039 | C4: 1.03 | D4: 1.113
A5: Shanxi | B5: 1.031 | C5: 1.067 | D5: 1.078
A6: Inner Mongolia | B6: 1.033 | C6: 1.015 | D6: 1.062
A7: Liaoning | B7: 1.036 | C7: 1.032 | D7: 1.05
A8: Jilin | B8: 1.033 | C8: 1.038 | D8: 1.076
A9: Heilongjiang | B9: 1.0539854 | C9: 1.0276913 | D9: 1.0881044
A10: Shanghai | B10: 0.992 | C10: 1.058 | D10: 1.075
A11: Jiangsu | B11: 1.0038236 | C11: 1.0648398 | D11: 1.0852895
A12: Zhejiang | B12: 1.0272245 | C12: 1.0660334 | D12: 1.092102
A13: Anhui | B13: 1.0406032 | C13: 1.0822808 | D13: 1.0987568
... A31: Xinjiang | B31: 1.048 | C31: 1.064 | D31: 1.095

Sheet 2017-real
A1: 10^8 Yuan | B1: Primary | C1: Secondary | D1: Tertiary
A2: Beijing | B2: ='2010'!B2*'2011'!B2*'2012'!B2*'2013'!B2*'2014'!B2*'2015'!B2*'2016'!B2*'2017'!B2 -> 102.27581 | C2: ='2010'!$C2*'2011'!$C2*'2012'!$C2*'2013'!$C2*'2014'!$C2*'2015'!$C2*'2016'!$C2*'2017'!$C2 -> 5165.8733 | D2: ='2010'!$D2*'2011'!$D2*'2012'!$D2*'2013'!$D2*'2014'!$D2*'2015'!$D2*'2016'!$D2*'2017'!$D2 -> 17848.553
A3: Tianjin | B3: ='2010'!B3*'2011'!B3*'2012'!B3*'2013'!B3*'2014'!B3*'2015'!B3*'2016'!B3*'2017'!B3 -> 180.33047 | C3: ='2010'!$C3*'2011'!$C3*'2012'!$C3*'2013'!$C3*'2014'!$C3*'2015'!$C3*'2016'!$C3*'2017'!$C3 -> 9771.0324 | D3: ='2010'!$D3*'2011'!$D3*'2012'!$D3*'2013'!$D3*'2014'!$D3*'2015'!$D3*'2016'!$D3*'2017'!$D3 -> 8687.1404
A4: Hebei | B4: ='2010'!B4*'2011'!B4*'2012'!B4*'2013'!B4*'2014'!B4*'2015'!B4*'2016'!B4*'2017'!B4 -> 3288.8213 | C4: ='2010'!$C4*'2011'!$C4*'2012'!$C4*'2013'!$C4*'2014'!$C4*'2015'!$C4*'2016'!$C4*'2017'!$C4 -> 17531.332 | D4: ='2010'!$D4*'2011'!$D4*'2012'!$D4*'2013'!$D4*'2014'!$D4*'2015'!$D4*'2016'!$D4*'2017'!$D4 -> 13830.356
A5: Shanxi | B5: ='2010'!B5*'2011'!B5*'2012'!B5*'2013'!B5*'2014'!B5*'2015'!B5*'2016'!B5*'2017'!B5 -> 732.57924 | C5: ='2010'!$C5*'2011'!$C5*'2012'!$C5*'2013'!$C5*'2014'!$C5*'2015'!$C5*'2016'!$C5*'2017'!$C5 -> 8254.0094 | D5: ='2010'!$D5*'2011'!$D5*'2012'!$D5*'2013'!$D5*'2014'!$D5*'2015'!$D5*'2016'!$D5*'2017'!$D5 -> 5936.0527
A6: Inner Mongolia | B6: ='2010'!B6*'2011'!B6*'2012'!B6*'2013'!B6*'2014'!B6*'2015'!B6*'2016'!B6*'2017'!B6 -> 1456.7157 | C6: ='2010'!$C6*'2011'!$C6*'2012'!$C6*'2013'!$C6*'2014'!$C6*'2015'!$C6*'2016'!$C6*'2017'!$C6 -> 11952.386 | D6: ='2010'!$D6*'2011'!$D6*'2012'!$D6*'2013'!$D6*'2014'!$D6*'2015'!$D6*'2016'!$D6*'2017'!$D6 -> 7404.143
A7: Liaoning | B7: ='2010'!B7*'2011'!B7*'2012'!B7*'2013'!B7*'2014'!B7*'2015'!B7*'2016'!B7*'2017'!B7 -> 2006.9993 | C7: ='2010'!$C7*'2011'!$C7*'2012'!$C7*'2013'!$C7*'2014'!$C7*'2015'!$C7*'2016'!$C7*'2017'!$C7 -> 13601.594 | D7: ='2010'!$D7*'2011'!$D7*'2012'!$D7*'2013'!$D7*'2014'!$D7*'2015'!$D7*'2016'!$D7*'2017'!$D7 -> 11309.227
A8: Jilin | B8: ='2010'!B8*'2011'!B8*'2012'!B8*'2013'!B8*'2014'!B8*'2015'!B8*'2016'!B8*'2017'!B8 -> 1422.0984 | C8: ='2010'!$C8*'2011'!$C8*'2012'!$C8*'2013'!$C8*'2014'!$C8*'2015'!$C8*'2016'!$C8*'2017'!$C8 -> 8133.8046 | D8: ='2010'!$D8*'2011'!$D8*'2012'!$D8*'2013'!$D8*'2014'!$D8*'2015'!$D8*'2016'!$D8*'2017'!$D8 -> 5667.7847
A9: Heilongjiang | B9: ='2010'!B9*'2011'!B9*'2012'!B9*'2013'!B9*'2014'!B9*'2015'!B9*'2016'!B9*'2017'!B9 -> 1907.314 | C9: ='2010'!$C9*'2011'!$C9*'2012'!$C9*'2013'!$C9*'2014'!$C9*'2015'!$C9*'2016'!$C9*'2017'!$C9 -> 7607.9673 | D9: ='2010'!$D9*'2011'!$D9*'2012'!$D9*'2013'!$D9*'2014'!$D9*'2015'!$D9*'2016'!$D9*'2017'!$D9 -> 7589.4291
A10: Shanghai | B10: ='2010'!B10*'2011'!B10*'2012'!B10*'2013'!B10*'2014'!B10*'2015'!B10*'2016'!B10*'2017'!B10 -> 88.609286 | C10: ='2010'!$C10*'2011'!$C10*'2012'!$C10*'2013'!$C10*'2014'!$C10*'2015'!$C10*'2016'!$C10*'2017'!$C10 -> 9479.9262 | D10: ='2010'!$D10*'2011'!$D10*'2012'!$D10*'2013'!$D10*'2014'!$D10*'2015'!$D10*'2016'!$D10*'2017'!$D10 -> 18391.786
A11: Jiangsu | B11: ='2010'!B11*'2011'!B11*'2012'!B11*'2013'!B11*'2014'!B11*'2015'!B11*'2016'!B11*'2017'!B11 -> 3061.3828 | C11: ='2010'!$C11*'2011'!$C11*'2012'!$C11*'2013'!$C11*'2014'!$C11*'2015'!$C11*'2016'!$C11*'2017'!$C11 -> 39485.896 | D11: ='2010'!$D11*'2011'!$D11*'2012'!$D11*'2013'!$D11*'2014'!$D11*'2015'!$D11*'2016'!$D11*'2017'!$D11 -> 32884.916
A12: Zhejiang | B12: ='2010'!B12*'2011'!B12*'2012'!B12*'2013'!B12*'2014'!B12*'2015'!B12*'2016'!B12*'2017'!B12 -> 1566.8477 | C12: ='2010'!$C12*'2011'!$C12*'2012'!$C12*'2013'!$C12*'2014'!$C12*'2015'!$C12*'2016'!$C12*'2017'!$C12 -> 23118.483 | D12: ='2010'!$D12*'2011'!$D12*'2012'!$D12*'2013'!$D12*'2014'!$D12*'2015'!$D12*'2016'!$D12*'2017'!$D12 -> 22758.568
A13: Anhui | B13: ='2010'!B13*'2011'!B13*'2012'!B13*'2013'!B13*'2014'!B13*'2015'!B13*'2016'!B13*'2017'!B13 -> 2288.2279 | C13: ='2010'!$C13*'2011'!$C13*'2012'!$C13*'2013'!$C13*'2014'!$C13*'2015'!$C13*'2016'!$C13*'2017'!$C13 -> 13607.034 | D13: ='2010'!$D13*'2011'!$D13*'2012'!$D13*'2013'!$D13*'2014'!$D13*'2015'!$D13*'2016'!$D13*'2017'!$D13 -> 8347.8522
... A31: Xinjiang | B31: ='2010'!B31*'2011'!B31*'2012'!B31*'2013'!B31*'2014'!B31*'2015'!B31*'2016'!B31*'2017'!B31 -> 1634.2498 | C31: ='2010'!$C31*'2011'!$C31*'2012'!$C31*'2013'!$C31*'2014'!$C31*'2015'!$C31*'2016'!$C31*'2017'!$C31 -> 5053.7931 | D31: ='2010'!$D31*'2011'!$D31*'2012'!$D31*'2013'!$D31*'2014'!$D31*'2015'!$D31*'2016'!$D31*'2017'!$D31 -> 3707.7157
