Workbook

Sheet Full_dataset
C1: Infos from the publication | K1: Analysis 1: SRs included in databases | R1: Calculations | W1: Analysis 2: DB-included SR, not included in MEDL+Refs | AC1: Results: | AD1: Inclusion rates
A2: Overview | B2: Title | C2: N DBs searched | D2: DBs searched | E2: addl. methods* | F2: N SR included | G2: Intervention? | H2: Mental health? | I2: Psych? | J2: HTA /Cochrane /other | K2: N included in DB1: MEDL | L2: N included in DB2: CINAHL | M2: N included in DB3: PsycInfo | N2: N included in DB4: Epistemonikos | O2: N included in DB6: EMBASE | P2: N included in DB7: TRIP | Q2: N included in DB1 + refs | R2: N by ref-checking | S2: N not included in DB1 | T2: N not included in DB1 + ref-checking | U2: of which included in DB | V2: N SRs not included in 6 DBs + refs | W2: N in DB 2 | X2: N in DB 3 | Y2: N in DB 4 | Z2: N in DB 6 | AA2: N in DB 7 | AD2: MEDL | AE2: CIN | AF2: EMB | AG2: PSI | AH2: TRIP | AI2: EPIS | AJ2: refs | AK2: all DBs + refs | AM2: ME + refs | AN2: ME + refs + CIN | AO2: ME + refs + EMB | AP2: ME + refs + PSI | AQ2: ME + refs + TRIP | AR2: ME + refs + EPIS
A3: Andersen 2011 | B3: Risk factors for neck and upper extremity disorders among computers users and the effect of interventions: an overview of systematic reviews | C3: 4 | D3: PubMed, Embase, CINAHL, Web of Science | E3: Ja | F3: 17 | G3: N | H3: N | I3: N | J3: other | K3: 15 | L3: 11 | M3: 5 | N3: 17 | O3: 14 | P3: 3 | Q3: 16 | R3: =Q3-K3 -> 1 | S3: =F3-K3 -> 2 | T3: =F3-Q3 -> 1 | U3: 1 | V3: =F3-(Q3+U3) -> 0 | Y3: 1 | AD3: =K3/$F3 -> 0.88235294 | AE3: =L3/$F3 -> 0.64705882 | AF3: =O3/$F3 -> 0.82352941 | AG3: =M3/$F3 -> 0.29411765 | AH3: =P3/$F3 -> 0.17647059 | AI3: =N3/$F3 -> 1 | AJ3: =R3/$F3 -> 0.058823529 | AK3: =($F3-V3)/$F3 -> 1 | AM3: =Q3/$F3 -> 0.94117647 | AN3: =$AM3+W3/$F3 -> 0.94117647 | AO3: =$AM3+Z3/$F3 -> 0.94117647 | AP3: =$AM3+X3/$F3 -> 0.94117647 | AQ3: =$AM3+AA3/$F3 -> 0.94117647 | AR3: =$AM3+Y3/$F3 -> 1
A4: Australia MSAC 2009a lymphoma HTA | B4: Positron emission tomography for lymphoma : assessment report | C4: 8 | D4: Embase, Medline, Cochrane (SR, Trials), DARE, NHS EED, HTA, Cochrane Methodology Register | E4: Ja | F4: 6 | G4: N | H4: N | I4: N | J4: HTA | K4: 5 | L4: 1 | M4: 0 | N4: 5 | O4: 3 | P4: 5 | Q4: 6 | R4: =Q4-K4 -> 1 | S4: =F4-K4 -> 1 | T4: =F4-Q4 -> 0 | V4: =F4-(Q4+U4) -> 0 | AD4: =K4/$F4 -> 0.83333333 | AE4: =L4/$F4 -> 0.16666667 | AF4: =O4/$F4 -> 0.5 | AG4: =M4/$F4 -> 0 | AH4: =P4/$F4 -> 0.83333333 | AI4: =N4/$F4 -> 0.83333333 | AJ4: =R4/$F4 -> 0.16666667 | AK4: =($F4-V4)/$F4 -> 1 | AM4: =Q4/$F4 -> 1 | AN4: =$AM4+W4/$F4 -> 1 | AO4: =$AM4+Z4/$F4 -> 1 | AP4: =$AM4+X4/$F4 -> 1 | AQ4: =$AM4+AA4/$F4 -> 1 | AR4: =$AM4+Y4/$F4 -> 1
A5: Australia MSAC 2009b HPV HTA | B5: Human papillomavirus triage test for women with possible or definite low-grade squamous intra-epithelial lesions | C5: 8 | D5: INAHATA, EED, DARE, HTA, Cochrane (SR, Trials), Embase, Medline | E5: Ja | F5: 4 | G5: N | H5: N | I5: N | J5: HTA | K5: 2 | L5: 1 | M5: 0 | N5: 3 | O5: 2 | P5: 2 | Q5: 2 | R5: =Q5-K5 -> 0 | S5: =F5-K5 -> 2 | T5: =F5-Q5 -> 2 | U5: 2 | V5: =F5-(Q5+U5) -> 0 | Y5: 2 | AA5: 1 | AD5: =K5/$F5 -> 0.5 | AE5: =L5/$F5 -> 0.25 | AF5: =O5/$F5 -> 0.5 | AG5: =M5/$F5 -> 0 | AH5: =P5/$F5 -> 0.5 | AI5: =N5/$F5 -> 0.75 | AJ5: =R5/$F5 -> 0 | AK5: =($F5-V5)/$F5 -> 1 | AM5: =Q5/$F5 -> 0.5 | AN5: =$AM5+W5/$F5 -> 0.5 | AO5: =$AM5+Z5/$F5 -> 0.5 | AP5: =$AM5+X5/$F5 -> 0.5 | AQ5: =$AM5+AA5/$F5 -> 0.75 | AR5: =$AM5+Y5/$F5 -> 1
A6: Australia MSAC 2010a cervical cancer HTA | B6: Positron emission tomography for cervical cancer : assessment report | C6: 8 | D6: Embase, Medline, Cochrane (SR, Trials), DARE, NHS EED, HTA, Cochrane Methodology Register | E6: Ja | F6: 4 | G6: N | H6: N | I6: N | J6: HTA | K6: 3 | L6: 0 | M6: 0 | N6: =1+3 -> 4 | O6: 2 | P6: 4 | Q6: 3 | R6: =Q6-K6 -> 0 | S6: =F6-K6 -> 1 | T6: =F6-Q6 -> 1 | U6: 1 | V6: =F6-(Q6+U6) -> 0 | Y6: 1 | AA6: 1 | AD6: =K6/$F6 -> 0.75 | AE6: =L6/$F6 -> 0 | AF6: =O6/$F6 -> 0.5 | AG6: =M6/$F6 -> 0 | AH6: =P6/$F6 -> 1 | AI6: =N6/$F6 -> 1 | AJ6: =R6/$F6 -> 0 | AK6: =($F6-V6)/$F6 -> 1 | AM6: =Q6/$F6 -> 0.75 | AN6: =$AM6+W6/$F6 -> 0.75 | AO6: =$AM6+Z6/$F6 -> 0.75 | AP6: =$AM6+X6/$F6 -> 0.75 | AQ6: =$AM6+AA6/$F6 -> 1 | AR6: =$AM6+Y6/$F6 -> 1
A7: Australia MSAC 2010b PET glioma HTA | B7: Positron emission tomography for glioma | C7: 8 | D7: Embase, Medline, Cochrane (SR, Trials), DARE, NHS EED, HTA, Cochrane Methodology Register | E7: Ja | F7: 3 | G7: N | H7: N | I7: N | J7: HTA | K7: 2 | L7: 0 | M7: 0 | N7: =1+2 -> 3 | O7: 0 | P7: 3 | Q7: 2 | R7: =Q7-K7 -> 0 | S7: =F7-K7 -> 1 | T7: =F7-Q7 -> 1 | U7: 1 | V7: =F7-(Q7+U7) -> 0 | Y7: 1 | AA7: 1 | AD7: =K7/$F7 -> 0.66666667 | AE7: =L7/$F7 -> 0 | AF7: =O7/$F7 -> 0 | AG7: =M7/$F7 -> 0 | AH7: =P7/$F7 -> 1 | AI7: =N7/$F7 -> 1 | AJ7: =R7/$F7 -> 0 | AK7: =($F7-V7)/$F7 -> 1 | AM7: =Q7/$F7 -> 0.66666667 | AN7: =$AM7+W7/$F7 -> 0.66666667 | AO7: =$AM7+Z7/$F7 -> 0.66666667 | AP7: =$AM7+X7/$F7 -> 0.66666667 | AQ7: =$AM7+AA7/$F7 -> 1 | AR7: =$AM7+Y7/$F7 -> 1
A8: Australia MSAC 2010c myocardial HTA | B8: Positron emission tomography for myocardial viability : Assessment report | C8: 8 | D8: Embase, Medline, Cochrane (SR, Trials), DARE, NHS EED, HTA, Cochrane Methodology Register | E8: Ja | F8: 6 | G8: N | H8: N | I8: N | J8: HTA | K8: 3 | L8: 0 | M8: 0 | N8: =3+1 -> 4 | O8: 2 | P8: 3 | Q8: 3 | R8: =Q8-K8 -> 0 | S8: =F8-K8 -> 3 | T8: =F8-Q8 -> 3 | U8: 3 | V8: =F8-(Q8+U8) -> 0 | Y8: 3 | AA8: 3 | AD8: =K8/$F8 -> 0.5 | AE8: =L8/$F8 -> 0 | AF8: =O8/$F8 -> 0.33333333 | AG8: =M8/$F8 -> 0 | AH8: =P8/$F8 -> 0.5 | AI8: =N8/$F8 -> 0.66666667 | AJ8: =R8/$F8 -> 0 | AK8: =($F8-V8)/$F8 -> 1 | AM8: =Q8/$F8 -> 0.5 | AN8: =$AM8+W8/$F8 -> 0.5 | AO8: =$AM8+Z8/$F8 -> 0.5 | AP8: =$AM8+X8/$F8 -> 0.5 | AQ8: =$AM8+AA8/$F8 -> 1 | AR8: =$AM8+Y8/$F8 -> 1
A9: Beattie 2011 | B9: Silver alloy vs. uncoated urinary catheters: a systematic review of the literature | C9: 9 | D9: Medline, CINAHL, BNI & Archive, Embase, Dare, Cochrane (SR, Trials), MRCT, FADE | E9: Ja | F9: 5 | G9: Y | H9: N | I9: N | J9: other | K9: 5 | L9: 3 | M9: 0 | N9: 4 | O9: 4 | P9: 4 | Q9: 5 | R9: =Q9-K9 -> 0 | S9: =F9-K9 -> 0 | T9: =F9-Q9 -> 0 | V9: =F9-(Q9+U9) -> 0 | AD9: =K9/$F9 -> 1 | AE9: =L9/$F9 -> 0.6 | AF9: =O9/$F9 -> 0.8 | AG9: =M9/$F9 -> 0 | AH9: =P9/$F9 -> 0.8 | AI9: =N9/$F9 -> 0.8 | AJ9: =R9/$F9 -> 0 | AK9: =($F9-V9)/$F9 -> 1 | AM9: =Q9/$F9 -> 1 | AN9: =$AM9+W9/$F9 -> 1 | AO9: =$AM9+Z9/$F9 -> 1 | AP9: =$AM9+X9/$F9 -> 1 | AQ9: =$AM9+AA9/$F9 -> 1 | AR9: =$AM9+Y9/$F9 -> 1
A10: Berkhof 2010 | B10: Effective training strategies for teaching communication skills to physicians: an overview of systematic reviews | C10: 4 | D10: PubMed, PsychINFO, CINAHL, Cochrane | E10: Nein | F10: 11 | G10: Y | H10: N | I10: N | J10: other | K10: 9 | L10: 4 | M10: 5 | N10: 8 | O10: 4 | P10: 4 | Q10: 11 | R10: =Q10-K10 -> 2 | S10: =F10-K10 -> 2 | T10: =F10-Q10 -> 0 | V10: =F10-(Q10+U10) -> 0 | AD10: =K10/$F10 -> 0.81818182 | AE10: =L10/$F10 -> 0.36363636 | AF10: =O10/$F10 -> 0.36363636 | AG10: =M10/$F10 -> 0.45454545 | AH10: =P10/$F10 -> 0.36363636 | AI10: =N10/$F10 -> 0.72727273 | AJ10: =R10/$F10 -> 0.18181818 | AK10: =($F10-V10)/$F10 -> 1 | AM10: =Q10/$F10 -> 1 | AN10: =$AM10+W10/$F10 -> 1 | AO10: =$AM10+Z10/$F10 -> 1 | AP10: =$AM10+X10/$F10 -> 1 | AQ10: =$AM10+AA10/$F10 -> 1 | AR10: =$AM10+Y10/$F10 -> 1
A11: Black 2011 | B11: The impact of eHealth on the quality and safety of health care: a systematic overview | C11: 3 | D11: PubMed,Embase, Cochrane | E11: Ja | F11: 53 | G11: N | H11: N | I11: N | J11: other | K11: 46 | L11: 22 | M11: 7 | N11: 51 | O11: 44 | P11: 29 | Q11: 47 | R11: =Q11-K11 -> 1 | S11: =F11-K11 -> 7 | T11: =F11-Q11 -> 6 | U11: 5 | V11: =F11-(Q11+U11) -> 1 | X11: 1 | Y11: 4 | Z11: 2 | AA11: 2 | AD11: =K11/$F11 -> 0.86792453 | AE11: =L11/$F11 -> 0.41509434 | AF11: =O11/$F11 -> 0.83018868 | AG11: =M11/$F11 -> 0.13207547 | AH11: =P11/$F11 -> 0.54716981 | AI11: =N11/$F11 -> 0.96226415 | AJ11: =R11/$F11 -> 0.018867925 | AK11: =($F11-V11)/$F11 -> 0.98113208 | AM11: =Q11/$F11 -> 0.88679245 | AN11: =$AM11+W11/$F11 -> 0.88679245 | AO11: =$AM11+Z11/$F11 -> 0.9245283 | AP11: =$AM11+X11/$F11 -> 0.90566038 | AQ11: =$AM11+AA11/$F11 -> 0.9245283 | AR11: =$AM11+Y11/$F11 -> 0.96226415
A12: Brouwers 2011 | B12: The landscape of knowledge translation interventions in cancer control: what do we know and where to next? A review of systematic reviews | C12: 3 | D12: CADTH-EPOC, Health Systems Evidence, McMaster KT+ | E12: Nein | F12: 34 | G12: Y | H12: N | I12: N | J12: other | K12: 34 | L12: 22 | M12: 0 | N12: 31 | O12: 31 | P12: 22 | Q12: 34 | R12: =Q12-K12 -> 0 | S12: =F12-K12 -> 0 | T12: =F12-Q12 -> 0 | V12: =F12-(Q12+U12) -> 0 | AD12: =K12/$F12 -> 1 | AE12: =L12/$F12 -> 0.64705882 | AF12: =O12/$F12 -> 0.91176471 | AG12: =M12/$F12 -> 0 | AH12: =P12/$F12 -> 0.64705882 | AI12: =N12/$F12 -> 0.91176471 | AJ12: =R12/$F12 -> 0 | AK12: =($F12-V12)/$F12 -> 1 | AM12: =Q12/$F12 -> 1 | AN12: =$AM12+W12/$F12 -> 1 | AO12: =$AM12+Z12/$F12 -> 1 | AP12: =$AM12+X12/$F12 -> 1 | AQ12: =$AM12+AA12/$F12 -> 1 | AR12: =$AM12+Y12/$F12 -> 1
A13: Clar 2010 HTA | B13: Self-monitoring of blood glucose in type 2 diabetes: systematic review | C13: 5 | D13: Cochrane, Medline, Embase, PsychINFO, Web of Science | E13: Ja | F13: 12 | G13: Y | H13: N | I13: N | J13: HTA | K13: 10 | L13: 7 | M13: 0 | N13: 11 | O13: 8 | P13: 9 | Q13: 11 | R13: =Q13-K13 -> 1 | S13: =F13-K13 -> 2 | T13: =F13-Q13 -> 1 | U13: 1 | V13: =F13-(Q13+U13) -> 0 | W13: 1 | Y13: 1 | Z13: 1 | AA13: 1 | AD13: =K13/$F13 -> 0.83333333 | AE13: =L13/$F13 -> 0.58333333 | AF13: =O13/$F13 -> 0.66666667 | AG13: =M13/$F13 -> 0 | AH13: =P13/$F13 -> 0.75 | AI13: =N13/$F13 -> 0.91666667 | AJ13: =R13/$F13 -> 0.083333333 | AK13: =($F13-V13)/$F13 -> 1 | AM13: =Q13/$F13 -> 0.91666667 | AN13: =$AM13+W13/$F13 -> 1 | AO13: =$AM13+Z13/$F13 -> 1 | AP13: =$AM13+X13/$F13 -> 0.91666667 | AQ13: =$AM13+AA13/$F13 -> 1 | AR13: =$AM13+Y13/$F13 -> 1
A14: Damen 2011 | B14: Evidence based post graduate training. A systematic review of reviews based on the WFME quality framework | C14: 4 | D14: Medline Ovid, Embase, ERIC, RDRB Databases | E14: Ja | F14: 31 | G14: Y | H14: N | I14: N | J14: other | K14: 31 | L14: 11 | M14: 0 | N14: 21 | O14: 30 | P14: 3 | Q14: 31 | R14: =Q14-K14 -> 0 | S14: =F14-K14 -> 0 | T14: =F14-Q14 -> 0 | V14: =F14-(Q14+U14) -> 0 | AD14: =K14/$F14 -> 1 | AE14: =L14/$F14 -> 0.35483871 | AF14: =O14/$F14 -> 0.96774194 | AG14: =M14/$F14 -> 0 | AH14: =P14/$F14 -> 0.096774194 | AI14: =N14/$F14 -> 0.67741935 | AJ14: =R14/$F14 -> 0 | AK14: =($F14-V14)/$F14 -> 1 | AM14: =Q14/$F14 -> 1 | AN14: =$AM14+W14/$F14 -> 1 | AO14: =$AM14+Z14/$F14 -> 1 | AP14: =$AM14+X14/$F14 -> 1 | AQ14: =$AM14+AA14/$F14 -> 1 | AR14: =$AM14+Y14/$F14 -> 1
A15: De Niet 2009 | B15: Review of systematic reviews about the efficacy of non-pharmacological interventions to improve sleep quality in insomnia | C15: 3 | D15: PubMed, Cochrane (SR), DARE | E15: Nein | F15: 16 | G15: Y | H15: N | I15: N | J15: other | K15: 15 | L15: 9 | M15: 8 | N15: 14 | O15: 10 | P15: 14 | Q15: 16 | R15: =Q15-K15 -> 1 | S15: =F15-K15 -> 1 | T15: =F15-Q15 -> 0 | V15: =F15-(Q15+U15) -> 0 | AD15: =K15/$F15 -> 0.9375 | AE15: =L15/$F15 -> 0.5625 | AF15: =O15/$F15 -> 0.625 | AG15: =M15/$F15 -> 0.5 | AH15: =P15/$F15 -> 0.875 | AI15: =N15/$F15 -> 0.875 | AJ15: =R15/$F15 -> 0.0625 | AK15: =($F15-V15)/$F15 -> 1 | AM15: =Q15/$F15 -> 1 | AN15: =$AM15+W15/$F15 -> 1 | AO15: =$AM15+Z15/$F15 -> 1 | AP15: =$AM15+X15/$F15 -> 1 | AQ15: =$AM15+AA15/$F15 -> 1 | AR15: =$AM15+Y15/$F15 -> 1
A16: De Vet 2010 | B16: Environmental correlates of physical activity and dietary behaviours among young people: a systematic review of reviews | C16: 3 | D16: PubMed, Embase, PsychINFO | E16: Nein | F16: 17 | G16: N | H16: N | I16: N | J16: other | K16: 17 | L16: 11 | M16: 10 | N16: 15 | O16: 16 | P16: 0 | Q16: 17 | R16: =Q16-K16 -> 0 | S16: =F16-K16 -> 0 | T16: =F16-Q16 -> 0 | V16: =F16-(Q16+U16) -> 0 | AD16: =K16/$F16 -> 1 | AE16: =L16/$F16 -> 0.64705882 | AF16: =O16/$F16 -> 0.94117647 | AG16: =M16/$F16 -> 0.58823529 | AH16: =P16/$F16 -> 0 | AI16: =N16/$F16 -> 0.88235294 | AJ16: =R16/$F16 -> 0 | AK16: =($F16-V16)/$F16 -> 1 | AM16: =Q16/$F16 -> 1 | AN16: =$AM16+W16/$F16 -> 1 | AO16: =$AM16+Z16/$F16 -> 1 | AP16: =$AM16+X16/$F16 -> 1 | AQ16: =$AM16+AA16/$F16 -> 1 | AR16: =$AM16+Y16/$F16 -> 1
A17: Diener 2010 | B17: Elective midline laparotomy closure: the INLINE systematic review and meta-analysis | C17: 3 | D17: PubMed, Embase, Cochrane (Trials) | E17: Nein | F17: 6 | G17: Y | H17: N | I17: N | J17: other | K17: 6 | L17: 0 | M17: 0 | N17: 5 | O17: 5 | P17: 4 | Q17: 6 | R17: =Q17-K17 -> 0 | S17: =F17-K17 -> 0 | T17: =F17-Q17 -> 0 | V17: =F17-(Q17+U17) -> 0 | AD17: =K17/$F17 -> 1 | AE17: =L17/$F17 -> 0 | AF17: =O17/$F17 -> 0.83333333 | AG17: =M17/$F17 -> 0 | AH17: =P17/$F17 -> 0.66666667 | AI17: =N17/$F17 -> 0.83333333 | AJ17: =R17/$F17 -> 0 | AK17: =($F17-V17)/$F17 -> 1 | AM17: =Q17/$F17 -> 1 | AN17: =$AM17+W17/$F17 -> 1 | AO17: =$AM17+Z17/$F17 -> 1 | AP17: =$AM17+X17/$F17 -> 1 | AQ17: =$AM17+AA17/$F17 -> 1 | AR17: =$AM17+Y17/$F17 -> 1
A18: DIMDI 2010 rhinitis HTA | B18: Spezifische Immuntherapie (SIT) zur Behandlung der allergischen Rhinitis | C18: 21 | D18: Medline, Embase, SciSearch, Social SciSearch, Amed, BIOSIS, CAB Abstracts, CCMed, Derwent Drug File, GLOBAL Health, GMS, ISTPB+ISTP/ISSHP, MEDIKAT, ETHMED, INAHTA, DAHTA, DARE, NHS-EED, SOMED, Cochrane (Trials, SR) | E18: Ja | F18: 4 | G18: Y | H18: N | I18: N | J18: HTA | K18: 3 | L18: 3 | M18: 0 | N18: 3 | O18: 4 | P18: 2 | Q18: 3 | R18: =Q18-K18 -> 0 | S18: =F18-K18 -> 1 | T18: =F18-Q18 -> 1 | U18: 1 | V18: =F18-(Q18+U18) -> 0 | W18: 1 | Z18: 1 | AD18: =K18/$F18 -> 0.75 | AE18: =L18/$F18 -> 0.75 | AF18: =O18/$F18 -> 1 | AG18: =M18/$F18 -> 0 | AH18: =P18/$F18 -> 0.5 | AI18: =N18/$F18 -> 0.75 | AJ18: =R18/$F18 -> 0 | AK18: =($F18-V18)/$F18 -> 1 | AM18: =Q18/$F18 -> 0.75 | AN18: =$AM18+W18/$F18 -> 1 | AO18: =$AM18+Z18/$F18 -> 1 | AP18: =$AM18+X18/$F18 -> 0.75 | AQ18: =$AM18+AA18/$F18 -> 0.75 | AR18: =$AM18+Y18/$F18 -> 0.75
A19: DIMDI 2011a angina pectoris HTA | B19: Perkutane Koronarinterventionen zusätzlich zur optimalen medikamentösen Therapie bei stabiler Angina Pectoris | C19: 23 | D19: CCMed, Cochrane (SR, Trials), DAHTA, GMS, GMS Meetings, DARE, INAHTA, SOMED, Medline, MEDIKAT, ETHMED, HECLINET, CAB Abstracts, Amed, NHS-EED, IPA, BIOSIS, Embase, Derwent Drug Backlife, Derwent Drug File, ISTPB+ISTP/ISSHP, SciSearch | E19: Ja | F19: 7 | G19: Y | H19: N | I19: N | J19: HTA | K19: 7 | L19: 5 | M19: 0 | N19: 7 | O19: 6 | P19: 7 | Q19: 7 | R19: =Q19-K19 -> 0 | S19: =F19-K19 -> 0 | T19: =F19-Q19 -> 0 | V19: =F19-(Q19+U19) -> 0 | AD19: =K19/$F19 -> 1 | AE19: =L19/$F19 -> 0.71428571 | AF19: =O19/$F19 -> 0.85714286 | AG19: =M19/$F19 -> 0 | AH19: =P19/$F19 -> 1 | AI19: =N19/$F19 -> 1 | AJ19: =R19/$F19 -> 0 | AK19: =($F19-V19)/$F19 -> 1 | AM19: =Q19/$F19 -> 1 | AN19: =$AM19+W19/$F19 -> 1 | AO19: =$AM19+Z19/$F19 -> 1 | AP19: =$AM19+X19/$F19 -> 1 | AQ19: =$AM19+AA19/$F19 -> 1 | AR19: =$AM19+Y19/$F19 -> 1
A20: DIMDI 2011b IGEL HTA | B20: Individuelle Gesundheitsleistungen | C20: 23 | D20: CCMed, Cochrane (SR, Trials), DAHTA, GMS, GMS Meetings, DARE, INAHTA, SOMED, Medline, MEDIKAT, ETHMED, HECLINET, CAB Abstracts, Amed, NHS-EED, IPA, BIOSIS, Embase, Derwent Drug File, ISTPB+ISTP/ISSHP, SciSearch, Social SciSearch | E20: Ja | F20: 13 | G20: N | H20: N | I20: N | J20: HTA | K20: 11 | L20: 3 | M20: 0 | N20: =1+8 -> 9 | O20: 7 | P20: 8 | Q20: 11 | R20: =Q20-K20 -> 0 | S20: =F20-K20 -> 2 | T20: =F20-Q20 -> 2 | U20: 1 | V20: =F20-(Q20+U20) -> 1 | Y20: 1 | AA20: 1 | AD20: =K20/$F20 -> 0.84615385 | AE20: =L20/$F20 -> 0.23076923 | AF20: =O20/$F20 -> 0.53846154 | AG20: =M20/$F20 -> 0 | AH20: =P20/$F20 -> 0.61538462 | AI20: =N20/$F20 -> 0.69230769 | AJ20: =R20/$F20 -> 0 | AK20: =($F20-V20)/$F20 -> 0.92307692 | AM20: =Q20/$F20 -> 0.84615385 | AN20: =$AM20+W20/$F20 -> 0.84615385 | AO20: =$AM20+Z20/$F20 -> 0.84615385 | AP20: =$AM20+X20/$F20 -> 0.84615385 | AQ20: =$AM20+AA20/$F20 -> 0.92307692 | AR20: =$AM20+Y20/$F20 -> 0.92307692
A21: Ekeland 2010 | B21: Effectiveness of telemedicine: a systematic review of reviews | C21: 14 | D21: ACM Digital Library, British Nursing Index, Cochrane, DARE, HTA Database, CSA, Ovid Medline, Embase, HSTAT, INAHATA, PsychINFO, PubMed, TIE, Web of Science | E21: Nein | F21: 78 | G21: Y | H21: N | I21: N | J21: other | K21: 66 | L21: 30 | M21: 33 | N21: =1+76 -> 77 | O21: 63 | P21: 38 | Q21: 71 | R21: =Q21-K21 -> 5 | S21: =F21-K21 -> 12 | T21: =F21-Q21 -> 7 | U21: 7 | V21: =F21-(Q21+U21) -> 0 | W21: 2 | X21: 2 | Y21: 7 | Z21: 1 | AA21: 4 | AD21: =K21/$F21 -> 0.84615385 | AE21: =L21/$F21 -> 0.38461538 | AF21: =O21/$F21 -> 0.80769231 | AG21: =M21/$F21 -> 0.42307692 | AH21: =P21/$F21 -> 0.48717949 | AI21: =N21/$F21 -> 0.98717949 | AJ21: =R21/$F21 -> 0.064102564 | AK21: =($F21-V21)/$F21 -> 1 | AM21: =Q21/$F21 -> 0.91025641 | AN21: =$AM21+W21/$F21 -> 0.93589744 | AO21: =$AM21+Z21/$F21 -> 0.92307692 | AP21: =$AM21+X21/$F21 -> 0.93589744 | AQ21: =$AM21+AA21/$F21 -> 0.96153846 | AR21: =$AM21+Y21/$F21 -> 1
A22: Ernst 2010a ayurvedic | B22: Ayurvedic medicine: an overview of systematic reviews | C22: 12 | D22: Medline, Embase, Amed, CINAHL, Cochrane, Korean + Chinese DBs (7) | E22: Ja | F22: 5 | G22: Y | H22: N | I22: N | J22: other | K22: 5 | L22: 4 | M22: 1 | N22: 5 | O22: 5 | P22: 5 | Q22: 5 | R22: =Q22-K22 -> 0 | S22: =F22-K22 -> 0 | T22: =F22-Q22 -> 0 | V22: =F22-(Q22+U22) -> 0 | AD22: =K22/$F22 -> 1 | AE22: =L22/$F22 -> 0.8 | AF22: =O22/$F22 -> 1 | AG22: =M22/$F22 -> 0.2 | AH22: =P22/$F22 -> 1 | AI22: =N22/$F22 -> 1 | AJ22: =R22/$F22 -> 0 | AK22: =($F22-V22)/$F22 -> 1 | AM22: =Q22/$F22 -> 1 | AN22: =$AM22+W22/$F22 -> 1 | AO22: =$AM22+Z22/$F22 -> 1 | AP22: =$AM22+X22/$F22 -> 1 | AQ22: =$AM22+AA22/$F22 -> 1 | AR22: =$AM22+Y22/$F22 -> 1
A23: Ernst 2010b acupressure | B23: Acupressure: an overview of systematic reviews | C23: 11 | D23: Medline, Embase, CINAHL, Cochrane, Amed, Korean+Chinese DBs (6)§ | E23: Nein | F23: 7 | G23: Y | H23: N | I23: N | J23: other | K23: 6 | L23: 5 | M23: 0 | N23: 7 | O23: 7 | P23: 2 | Q23: 6 | R23: =Q23-K23 -> 0 | S23: =F23-K23 -> 1 | T23: =F23-Q23 -> 1 | U23: 1 | V23: =F23-(Q23+U23) -> 0 | W23: 1 | Y23: 1 | Z23: 1 | AA23: 1 | AD23: =K23/$F23 -> 0.85714286 | AE23: =L23/$F23 -> 0.71428571 | AF23: =O23/$F23 -> 1 | AG23: =M23/$F23 -> 0 | AH23: =P23/$F23 -> 0.28571429 | AI23: =N23/$F23 -> 1 | AJ23: =R23/$F23 -> 0 | AK23: =($F23-V23)/$F23 -> 1 | AM23: =Q23/$F23 -> 0.85714286 | AN23: =$AM23+W23/$F23 -> 1 | AO23: =$AM23+Z23/$F23 -> 1 | AP23: =$AM23+X23/$F23 -> 0.85714286 | AQ23: =$AM23+AA23/$F23 -> 1 | AR23: =$AM23+Y23/$F23 -> 1
A24: Ernst 2010c acupuncture rheuma | B24: Acupuncture for rheumatic conditions: an overview of systematic reviews | C24: 15 | D24: Medline, Embase, Amed, CINAHL, HTA Database, DARE, Cochrane, Korean DBs (6), Chinese DBs (2) | E24: Ja | F24: 25 | G24: Y | H24: N | I24: N | J24: other | K24: 24 | L24: 14 | M24: 1 | N24: 24 | O24: 23 | P24: 16 | Q24: 24 | R24: =Q24-K24 -> 0 | S24: =F24-K24 -> 1 | T24: =F24-Q24 -> 1 | U24: 1 | V24: =F24-(Q24+U24) -> 0 | Y24: 1 | AD24: =K24/$F24 -> 0.96 | AE24: =L24/$F24 -> 0.56 | AF24: =O24/$F24 -> 0.92 | AG24: =M24/$F24 -> 0.04 | AH24: =P24/$F24 -> 0.64 | AI24: =N24/$F24 -> 0.96 | AJ24: =R24/$F24 -> 0 | AK24: =($F24-V24)/$F24 -> 1 | AM24: =Q24/$F24 -> 0.96 | AN24: =$AM24+W24/$F24 -> 0.96 | AO24: =$AM24+Z24/$F24 -> 0.96 | AP24: =$AM24+X24/$F24 -> 0.96 | AQ24: =$AM24+AA24/$F24 -> 0.96 | AR24: =$AM24+Y24/$F24 -> 1
A25: Ernst 2010d yoga | B25: How effective is yoga? A concise overview of systematic reviews | C25: 12 | D25: Medline, Embase, Amed, CINAHL, Cochrane, Korean + Chinese DBs (7) | E25: Ja | F25: 18 | G25: Y | H25: N | I25: N | J25: other | K25: 16 | L25: 9 | M25: 6 | N25: 11 | O25: 16 | P25: 7 | Q25: 16 | R25: =Q25-K25 -> 0 | S25: =F25-K25 -> 2 | T25: =F25-Q25 -> 2 | U25: 1 | V25: =F25-(Q25+U25) -> 1 | X25: 1 | Z25: 1 | AD25: =K25/$F25 -> 0.88888889 | AE25: =L25/$F25 -> 0.5 | AF25: =O25/$F25 -> 0.88888889 | AG25: =M25/$F25 -> 0.33333333 | AH25: =P25/$F25 -> 0.38888889 | AI25: =N25/$F25 -> 0.61111111 | AJ25: =R25/$F25 -> 0 | AK25: =($F25-V25)/$F25 -> 0.94444444 | AM25: =Q25/$F25 -> 0.88888889 | AN25: =$AM25+W25/$F25 -> 0.88888889 | AO25: =$AM25+Z25/$F25 -> 0.94444444 | AP25: =$AM25+X25/$F25 -> 0.94444444 | AQ25: =$AM25+AA25/$F25 -> 0.88888889 | AR25: =$AM25+Y25/$F25 -> 0.88888889
A26: Ernst 2011a acupuncture depression | B26: Acupuncture for depression?: A systematic review of systematic reviews | C26: 13 | D26: Medline, Embase, Amed, CINAHL, Health Technology Assessments, DARE, Cochrane, 5 Korean medical database (Korean Studies Information, DBPIA, Korea Institute of Science and Technology Information, KoreaMed, and Research Information Service System), 1 Chinese database (CNKI) | E26: Ja | F26: 9 | G26: Y | H26: Y | I26: N | J26: other | K26: 6 | L26: 2 | M26: 4 | N26: 9 | O26: 8 | P26: 3 | Q26: =K26+0 -> 6 | R26: =Q26-K26 -> 0 | S26: =F26-K26 -> 3 | T26: =F26-Q26 -> 3 | U26: 3 | V26: =F26-(Q26+U26) -> 0 | W26: 0 | X26: 1 | Y26: 3 | Z26: 2 | AA26: 0 | AD26: =K26/$F26 -> 0.66666667 | AE26: =L26/$F26 -> 0.22222222 | AF26: =O26/$F26 -> 0.88888889 | AG26: =M26/$F26 -> 0.44444444 | AH26: =P26/$F26 -> 0.33333333 | AI26: =N26/$F26 -> 1 | AJ26: =R26/$F26 -> 0 | AK26: =($F26-V26)/$F26 -> 1 | AM26: =Q26/$F26 -> 0.66666667 | AN26: =$AM26+W26/$F26 -> 0.66666667 | AO26: =$AM26+Z26/$F26 -> 0.88888889 | AP26: =$AM26+X26/$F26 -> 0.77777778 | AQ26: =$AM26+AA26/$F26 -> 0.66666667 | AR26: =$AM26+Y26/$F26 -> 1
A27: Ernst 2011b acu insomnia | B27: Acupuncture for insomnia? An overview of systematic reviews | C27: 13 | D27: Medline, Embase, Amed, CINAHL, HTA Database, DARE, Cochrane, Korean+Chinese DBs (6)§ | E27: Ja | F27: 8 | G27: Y | H27: N | I27: N | J27: other | K27: 8 | L27: 5 | M27: 3 | N27: 8 | O27: 5 | P27: 8 | Q27: 8 | R27: =Q27-K27 -> 0 | S27: =F27-K27 -> 0 | T27: =F27-Q27 -> 0 | V27: =F27-(Q27+U27) -> 0 | AD27: =K27/$F27 -> 1 | AE27: =L27/$F27 -> 0.625 | AF27: =O27/$F27 -> 0.625 | AG27: =M27/$F27 -> 0.375 | AH27: =P27/$F27 -> 1 | AI27: =N27/$F27 -> 1 | AJ27: =R27/$F27 -> 0 | AK27: =($F27-V27)/$F27 -> 1 | AM27: =Q27/$F27 -> 1 | AN27: =$AM27+W27/$F27 -> 1 | AO27: =$AM27+Z27/$F27 -> 1 | AP27: =$AM27+X27/$F27 -> 1 | AQ27: =$AM27+AA27/$F27 -> 1 | AR27: =$AM27+Y27/$F27 -> 1
A28: Ernst 2011c CAM RA OA | B28: Complementary and alternative medicine for rheumatoid arthritis and osteoarthritis: an overview of systematic reviews | C28: 4 | D28: Medline, Embase, Amed, Cochrane | E28: Ja | F28: 5 | G28: Y | H28: N | I28: N | J28: other | K28: 5 | L28: 2 | M28: 0 | N28: 5 | O28: 5 | P28: 1 | Q28: 5 | R28: =Q28-K28 -> 0 | S28: =F28-K28 -> 0 | T28: =F28-Q28 -> 0 | V28: =F28-(Q28+U28) -> 0 | AD28: =K28/$F28 -> 1 | AE28: =L28/$F28 -> 0.4 | AF28: =O28/$F28 -> 1 | AG28: =M28/$F28 -> 0 | AH28: =P28/$F28 -> 0.2 | AI28: =N28/$F28 -> 1 | AJ28: =R28/$F28 -> 0 | AK28: =($F28-V28)/$F28 -> 1 | AM28: =Q28/$F28 -> 1 | AN28: =$AM28+W28/$F28 -> 1 | AO28: =$AM28+Z28/$F28 -> 1 | AP28: =$AM28+X28/$F28 -> 1 | AQ28: =$AM28+AA28/$F28 -> 1 | AR28: =$AM28+Y28/$F28 -> 1
A29: Ernst 2011d CAM sex | B29: Complementary and alternative medicine (CAM) for sexual dysfunction and erectile dysfunction in older men and women: an overview of systematic reviews | C29: 6 | D29: Medline, Embase, Amed, DARE, CINAHL, Cochrane | E29: Ja | F29: 4 | G29: Y | H29: N | I29: N | J29: other | K29: 4 | L29: 0 | M29: 0 | N29: 4 | O29: 4 | P29: 3 | Q29: 4 | R29: =Q29-K29 -> 0 | S29: =F29-K29 -> 0 | T29: =F29-Q29 -> 0 | V29: =F29-(Q29+U29) -> 0 | AD29: =K29/$F29 -> 1 | AE29: =L29/$F29 -> 0 | AF29: =O29/$F29 -> 1 | AG29: =M29/$F29 -> 0 | AH29: =P29/$F29 -> 0.75 | AI29: =N29/$F29 -> 1 | AJ29: =R29/$F29 -> 0 | AK29: =($F29-V29)/$F29 -> 1 | AM29: =Q29/$F29 -> 1 | AN29: =$AM29+W29/$F29 -> 1 | AO29: =$AM29+Z29/$F29 -> 1 | AP29: =$AM29+X29/$F29 -> 1 | AQ29: =$AM29+AA29/$F29 -> 1 | AR29: =$AM29+Y29/$F29 -> 1
A30: Flodgren 2011 | B30: An overview of reviews evaluating the effectiveness of financial incentives in changing healthcare professional behaviours and patient outcomes | C30: 11 | D30: Cochrane (SR) , DARE, TRIP, Medline, Embase, Science Citation Index, Social Science Citation Index, NHS EED, HEED, EconLit, Program in Policy Decision-Making | E30: Ja | F30: 4 | G30: Y | H30: N | I30: N | J30: Cochrane | K30: 4 | L30: 3 | M30: 0 | N30: 3 | O30: 3 | P30: 3 | Q30: 4 | R30: =Q30-K30 -> 0 | S30: =F30-K30 -> 0 | T30: =F30-Q30 -> 0 | V30: =F30-(Q30+U30) -> 0 | AD30: =K30/$F30 -> 1 | AE30: =L30/$F30 -> 0.75 | AF30: =O30/$F30 -> 0.75 | AG30: =M30/$F30 -> 0 | AH30: =P30/$F30 -> 0.75 | AI30: =N30/$F30 -> 0.75 | AJ30: =R30/$F30 -> 0 | AK30: =($F30-V30)/$F30 -> 1 | AM30: =Q30/$F30 -> 1 | AN30: =$AM30+W30/$F30 -> 1 | AO30: =$AM30+Z30/$F30 -> 1 | AP30: =$AM30+X30/$F30 -> 1 | AQ30: =$AM30+AA30/$F30 -> 1 | AR30: =$AM30+Y30/$F30 -> 1
A31: Gibson 2011 | B31: Housing and health inequalities: a synthesis of systematic reviews of interventions aimed at different pathways linking housing and health | C31: 6 | D31: CRD Wider Public Health database, Cochrane (SR), Criminal Justice Abstracts database, DARE, Campbell Collaboration Database , Evidence for Policy and Practice Information and Coordinating Centre database | E31: Ja | F31: 5 | G31: Y | H31: N | I31: N | J31: other | K31: 4 | L31: 3 | M31: 2 | N31: 5 | O31: 4 | P31: 3 | Q31: 4 | R31: =Q31-K31 -> 0 | S31: =F31-K31 -> 1 | T31: =F31-Q31 -> 1 | U31: 1 | V31: =F31-(Q31+U31) -> 0 | Y31: 1 | AD31: =K31/$F31 -> 0.8 | AE31: =L31/$F31 -> 0.6 | AF31: =O31/$F31 -> 0.8 | AG31: =M31/$F31 -> 0.4 | AH31: =P31/$F31 -> 0.6 | AI31: =N31/$F31 -> 1 | AJ31: =R31/$F31 -> 0 | AK31: =($F31-V31)/$F31 -> 1 | AM31: =Q31/$F31 -> 0.8 | AN31: =$AM31+W31/$F31 -> 0.8 | AO31: =$AM31+Z31/$F31 -> 0.8 | AP31: =$AM31+X31/$F31 -> 0.8 | AQ31: =$AM31+AA31/$F31 -> 0.8 | AR31: =$AM31+Y31/$F31 -> 1
A32: Greaves 2011 | B32: Systematic review of reviews of intervention components associated with increased effectiveness in dietary and physical activity interventions | C32: 5 | D32: Medline, Embase, CINAHL, PsychINFO, Cochrane | E32: Ja | F32: 29 | G32: Y | H32: N | I32: N | J32: other | K32: 29 | L32: 18 | M32: 10 | N32: 28 | O32: 27 | P32: 23 | Q32: 29 | R32: =Q32-K32 -> 0 | S32: =F32-K32 -> 0 | T32: =F32-Q32 -> 0 | V32: =F32-(Q32+U32) -> 0 | AD32: =K32/$F32 -> 1 | AE32: =L32/$F32 -> 0.62068966 | AF32: =O32/$F32 -> 0.93103448 | AG32: =M32/$F32 -> 0.34482759 | AH32: =P32/$F32 -> 0.79310345 | AI32: =N32/$F32 -> 0.96551724 | AJ32: =R32/$F32 -> 0 | AK32: =($F32-V32)/$F32 -> 1 | AM32: =Q32/$F32 -> 1 | AN32: =$AM32+W32/$F32 -> 1 | AO32: =$AM32+Z32/$F32 -> 1 | AP32: =$AM32+X32/$F32 -> 1 | AQ32: =$AM32+AA32/$F32 -> 1 | AR32: =$AM32+Y32/$F32 -> 1
A33: Heighes 2010 | B33: An overview of evidence from systematic reviews evaluating early enteral nutrition in critically ill patients: more convincing evidence is needed | C33: 2 | D33: Medline, Embase | E33: Ja | F33: 5 | G33: Y | H33: N | I33: N | J33: other | K33: 5 | L33: 4 | M33: 0 | N33: 5 | O33: 5 | P33: 5 | Q33: 5 | R33: =Q33-K33 -> 0 | S33: =F33-K33 -> 0 | T33: =F33-Q33 -> 0 | V33: =F33-(Q33+U33) -> 0 | AD33: =K33/$F33 -> 1 | AE33: =L33/$F33 -> 0.8 | AF33: =O33/$F33 -> 1 | AG33: =M33/$F33 -> 0 | AH33: =P33/$F33 -> 1 | AI33: =N33/$F33 -> 1 | AJ33: =R33/$F33 -> 0 | AK33: =($F33-V33)/$F33 -> 1 | AM33: =Q33/$F33 -> 1 | AN33: =$AM33+W33/$F33 -> 1 | AO33: =$AM33+Z33/$F33 -> 1 | AP33: =$AM33+X33/$F33 -> 1 | AQ33: =$AM33+AA33/$F33 -> 1 | AR33: =$AM33+Y33/$F33 -> 1
A34: Hillberg 2011 | B34: Review of meta-analyses on the association between child sexual abuse and adult mental health difficulties: a systematic approach | C34: 17 | D34: Campbell Collaboration Database, CRD Wider Public Health database, Cochrane, CINAHL, Cambridge Scientific Abstracts, Applied Social Science Index and Abstracts, Education Resources Information Center, Social Services Abstracts , Sociological Abstracts, Embase, Ovid Medline, Sience Direct, Social Service Information Gateway, Swetswise, PsychINFO, Zetoc, Web of Science | E34: Nein | F34: 7 | G34: N | H34: N | I34: N | J34: other | K34: 5 | L34: 2 | M34: 5 | N34: 4 | O34: 6 | P34: 0 | Q34: 7 | R34: =Q34-K34 -> 2 | S34: =F34-K34 -> 2 | T34: =F34-Q34 -> 0 | V34: =F34-(Q34+U34) -> 0 | AD34: =K34/$F34 -> 0.71428571 | AE34: =L34/$F34 -> 0.28571429 | AF34: =O34/$F34 -> 0.85714286 | AG34: =M34/$F34 -> 0.71428571 | AH34: =P34/$F34 -> 0 | AI34: =N34/$F34 -> 0.57142857 | AJ34: =R34/$F34 -> 0.28571429 | AK34: =($F34-V34)/$F34 -> 1 | AM34: =Q34/$F34 -> 1 | AN34: =$AM34+W34/$F34 -> 1 | AO34: =$AM34+Z34/$F34 -> 1 | AP34: =$AM34+X34/$F34 -> 1 | AQ34: =$AM34+AA34/$F34 -> 1 | AR34: =$AM34+Y34/$F34 -> 1
A35: Hopton 2010 | B35: Acupuncture for chronic pain: is acupuncture more than an effective placebo? A systematic review of pooled data from meta-analyses | C35: 4 | D35: Ovid Medline, Allied and Complementary Medicine database, Cochrane, Web of Science | E35: Ja | F35: 8 | G35: Y | H35: N | I35: N | J35: other | K35: 8 | L35: 4 | M35: 2 | N35: 8 | O35: 7 | P35: 6 | Q35: 8 | R35: =Q35-K35 -> 0 | S35: =F35-K35 -> 0 | T35: =F35-Q35 -> 0 | V35: =F35-(Q35+U35) -> 0 | AD35: =K35/$F35 -> 1 | AE35: =L35/$F35 -> 0.5 | AF35: =O35/$F35 -> 0.875 | AG35: =M35/$F35 -> 0.25 | AH35: =P35/$F35 -> 0.75 | AI35: =N35/$F35 -> 1 | AJ35: =R35/$F35 -> 0 | AK35: =($F35-V35)/$F35 -> 1 | AM35: =Q35/$F35 -> 1 | AN35: =$AM35+W35/$F35 -> 1 | AO35: =$AM35+Z35/$F35 -> 1 | AP35: =$AM35+X35/$F35 -> 1 | AQ35: =$AM35+AA35/$F35 -> 1 | AR35: =$AM35+Y35/$F35 -> 1
A36: Huguet 2009 | B36: Chemoradiotherapy in the management of locally advanced pancreatic carcinoma: a qualitative systematic review | C36: 1 | D36: Medline | E36: Ja | F36: 2 | G36: Y | H36: N | I36: N | J36: other | K36: 2 | L36: 0 | M36: 0 | N36: 1 | O36: 2 | P36: 2 | Q36: 2 | R36: =Q36-K36 -> 0 | S36: =F36-K36 -> 0 | T36: =F36-Q36 -> 0 | V36: =F36-(Q36+U36) -> 0 | AD36: =K36/$F36 -> 1 | AE36: =L36/$F36 -> 0 | AF36: =O36/$F36 -> 1 | AG36: =M36/$F36 -> 0 | AH36: =P36/$F36 -> 1 | AI36: =N36/$F36 -> 0.5 | AJ36: =R36/$F36 -> 0 | AK36: =($F36-V36)/$F36 -> 1 | AM36: =Q36/$F36 -> 1 | AN36: =$AM36+W36/$F36 -> 1 | AO36: =$AM36+Z36/$F36 -> 1 | AP36: =$AM36+X36/$F36 -> 1 | AQ36: =$AM36+AA36/$F36 -> 1 | AR36: =$AM36+Y36/$F36 -> 1
A37: IQWIG 2009a HTA | B37: Nutzenbewertung nichtmedikamentöser Behandlungsstrategien bei Patienten mit essenzieller Hypertonie: Kochsalzreduktion | C37: 5 | D37: Embase, Medline, Cochrane (SR), Dare, HTA | E37: Ja | F37: 7 | G37: Y | H37: N | I37: N | J37: HTA | K37: 7 | L37: 3 | M37: 0 | N37: 4 | O37: 7 | P37: 4 | Q37: 7 | R37: =Q37-K37 -> 0 | S37: =F37-K37 -> 0 | T37: =F37-Q37 -> 0 | V37: =F37-(Q37+U37) -> 0 | AD37: =K37/$F37 -> 1 | AE37: =L37/$F37 -> 0.42857143 | AF37: =O37/$F37 -> 1 | AG37: =M37/$F37 -> 0 | AH37: =P37/$F37 -> 0.57142857 | AI37: =N37/$F37 -> 0.57142857 | AJ37: =R37/$F37 -> 0 | AK37: =($F37-V37)/$F37 -> 1 | AM37: =Q37/$F37 -> 1 | AN37: =$AM37+W37/$F37 -> 1 | AO37: =$AM37+Z37/$F37 -> 1 | AP37: =$AM37+X37/$F37 -> 1 | AQ37: =$AM37+AA37/$F37 -> 1 | AR37: =$AM37+Y37/$F37 -> 1
A38: IQWIG 2009b PET-CT HTA | B38: Positronenemissionstomographie (PET und PET/CT) bei malignen Lymphomen | C38: 12 | D38: Embase, Medline, Cochrane (Trials, SR), DARE, SciSearch, HTA, NHS EED, IHTA, HSTAT, TRIP, DAHTA | E38: Ja | F38: 11 | G38: N | H38: N | I38: N | J38: HTA | K38: 5 | L38: 1 | M38: 0 | N38: 9 | O38: 3 | P38: 10 | Q38: 9 | R38: =Q38-K38 -> 4 | S38: =F38-K38 -> 6 | T38: =F38-Q38 -> 2 | U38: 2 | V38: =F38-(Q38+U38) -> 0 | Y38: 2 | AA38: 2 | AD38: =K38/$F38 -> 0.45454545 | AE38: =L38/$F38 -> 0.090909091 | AF38: =O38/$F38 -> 0.27272727 | AG38: =M38/$F38 -> 0 | AH38: =P38/$F38 -> 0.90909091 | AI38: =N38/$F38 -> 0.81818182 | AJ38: =R38/$F38 -> 0.36363636 | AK38: =($F38-V38)/$F38 -> 1 | AM38: =Q38/$F38 -> 0.81818182 | AN38: =$AM38+W38/$F38 -> 0.81818182 | AO38: =$AM38+Z38/$F38 -> 0.81818182 | AP38: =$AM38+X38/$F38 -> 0.81818182 | AQ38: =$AM38+AA38/$F38 -> 1 | AR38: =$AM38+Y38/$F38 -> 1
A39: IQWIG 2011a HTA | B39: Positronenemissionstomographie (PET) und PET/CT bei malignem Melanom | C39: 6 | D39: Medline, Embase, Cochrane (Trials, SR), DARE, HTA | E39: Ja | F39: 2 | G39: N | H39: N | I39: N | J39: HTA | K39: 2 | L39: 0 | M39: 0 | N39: 2 | O39: 1 | P39: 2 | Q39: 2 | R39: =Q39-K39 -> 0 | S39: =F39-K39 -> 0 | T39: =F39-Q39 -> 0 | V39: =F39-(Q39+U39) -> 0 | AD39: =K39/$F39 -> 1 | AE39: =L39/$F39 -> 0 | AF39: =O39/$F39 -> 0.5 | AG39: =M39/$F39 -> 0 | AH39: =P39/$F39 -> 1 | AI39: =N39/$F39 -> 1 | AJ39: =R39/$F39 -> 0 | AK39: =($F39-V39)/$F39 -> 1 | AM39: =Q39/$F39 -> 1 | AN39: =$AM39+W39/$F39 -> 1 | AO39: =$AM39+Z39/$F39 -> 1 | AP39: =$AM39+X39/$F39 -> 1 | AQ39: =$AM39+AA39/$F39 -> 1 | AR39: =$AM39+Y39/$F39 -> 1
A40: IQWIG 2011b neck cancer HTA | B40: Positronenemissionstomographie (PET) und PET/CT bei Kopf- und Halstumoren | C40: 6 | D40: Medline, Embase, Cochrane (Trials, SR), DARE, HTA | E40: Ja | F40: 2 | G40: N | H40: N | I40: N | J40: HTA | K40: 2 | L40: 0 | M40: 0 | N40: 2 | O40: 1 | P40: 2 | Q40: 2 | R40: =Q40-K40 -> 0 | S40: =F40-K40 -> 0 | T40: =F40-Q40 -> 0 | V40: =F40-(Q40+U40) -> 0 | AD40: =K40/$F40 -> 1 | AE40: =L40/$F40 -> 0 | AF40: =O40/$F40 -> 0.5 | AG40: =M40/$F40 -> 0 | AH40: =P40/$F40 -> 1 | AI40: =N40/$F40 -> 1 | AJ40: =R40/$F40 -> 0 | AK40: =($F40-V40)/$F40 -> 1 | AM40: =Q40/$F40 -> 1 | AN40: =$AM40+W40/$F40 -> 1 | AO40: =$AM40+Z40/$F40 -> 1 | AP40: =$AM40+X40/$F40 -> 1 | AQ40: =$AM40+AA40/$F40 -> 1 | AR40: =$AM40+Y40/$F40 -> 1
...

Sheet By no. DB
B1: Infos from the publication | F1: Analysis 1: SRs included in databases | M1: Calculations | R1: Analysis 2: DB-included SR, not included in MEDL+Refs | X1: Results: | Y1: Inclusion rates
A2: Overview | B2: N DBs searched | C2: DBs searched | D2: addl. methods* | E2: N SR included | F2: N included in DB1: MEDL | G2: N included in DB2: CINAHL | H2: N included in DB3: PsycInfo | I2: N included in DB4: Epistemonikos | J2: N included in DB6: EMBASE | K2: N included in DB7: TRIP | L2: N included in DB1 + refs | M2: N by ref-checking | N2: N not included in DB1 | O2: N not included in DB1 + ref-checking | P2: of which included in DB | Q2: N SRs not included in 6 DBs + refs | R2: N in DB 2 | S2: N in DB 3 | T2: N in DB 4 | U2: N in DB 6 | V2: N in DB 7 | Y2: MEDL | Z2: CIN | AA2: EMB | AB2: PSI | AC2: TRIP | AD2: EPIS | AE2: Refs | AF2: all DB + Refs | AH2: ME + Refs | AI2: ME + Refs + CIN | AJ2: ME + Refs + EMB | AK2: ME + Refs + PSI | AL2: ME + Refs + TRIP | AM2: ME + Refs + EPIS | AN2: Refs | AO2: all DB + Refs
A3: Huguet 2009 | B3: 1 | C3: Medline | D3: Ja | E3: 2 | F3: =Full_dataset!$K$36 -> 2 | G3: =Full_dataset!L36 -> 0 | H3: =Full_dataset!M36 -> 0 | I3: =Full_dataset!N36 -> 1 | J3: =Full_dataset!O36 -> 2 | K3: =Full_dataset!P36 -> 2 | L3: =Full_dataset!Q36 -> 2 | M3: =L3-F3 -> 0 | N3: =E3-F3 -> 0 | O3: =E3-L3 -> 0 | P3: =Full_dataset!U36 -> 0 | Q3: =E3-(L3+P3) -> 0 | R3: =Full_dataset!W36 -> 0 | S3: =Full_dataset!X36 -> 0 | T3: =Full_dataset!Y36 -> 0 | U3: =Full_dataset!Z36 -> 0 | V3: =Full_dataset!AA36 -> 0 | Y3: =F3/$E3 -> 1 | Z3: =G3/$E3 -> 0 | AA3: =J3/$E3 -> 1 | AB3: =H3/$E3 -> 0 | AC3: =K3/$E3 -> 1 | AD3: =I3/$E3 -> 0.5 | AE3: =M3/$E3 -> 0 | AF3: =($E3-Q3)/$E3 -> 1 | AH3: =L3/$E3 -> 1 | AI3: =$AH3+R3/$E3 -> 1 | AJ3: =$AH3+U3/$E3 -> 1 | AK3: =$AH3+S3/$E3 -> 1 | AL3: =$AH3+V3/$E3 -> 1 | AM3: =$AH3+T3/$E3 -> 1 | AN3: =AE3 -> 0 | AO3: =AF3 -> 1
A4: Keus 2010 | B4: 1 | C4: Cochrane (SR) | D4: Nein | E4: 3 | F4: =Full_dataset!K44 -> 3 | G4: =Full_dataset!L44 -> 3 | H4: =Full_dataset!M44 -> 0 | I4: =Full_dataset!N44 -> 3 | J4: =Full_dataset!O44 -> 3 | K4: =Full_dataset!P44 -> 2 | L4: =Full_dataset!Q44 -> 3 | M4: =L4-F4 -> 0 | N4: =E4-F4 -> 0 | O4: =E4-L4 -> 0 | P4: =Full_dataset!U44 -> 0 | Q4: =E4-(L4+P4) -> 0 | R4: =Full_dataset!W44 -> 0 | S4: =Full_dataset!X44 -> 0 | T4: =Full_dataset!Y44 -> 0 | U4: =Full_dataset!Z44 -> 0 | V4: =Full_dataset!AA44 -> 0 | Y4: =F4/$E4 -> 1 | Z4: =G4/$E4 -> 1 | AA4: =J4/$E4 -> 1 | AB4: =H4/$E4 -> 0 | AC4: =K4/$E4 -> 0.66666667 | AD4: =I4/$E4 -> 1 | AE4: =M4/$E4 -> 0 | AF4: =($E4-Q4)/$E4 -> 1 | AH4: =L4/$E4 -> 1 | AI4: =$AH4+R4/$E4 -> 1 | AJ4: =$AH4+U4/$E4 -> 1 | AK4: =$AH4+S4/$E4 -> 1 | AL4: =$AH4+V4/$E4 -> 1 | AM4: =$AH4+T4/$E4 -> 1 | AN4: =AE4 -> 0 | AO4: =AF4 -> 1
A5: Heighes 2010 | B5: 2 | C5: Medline, Embase | D5: Ja | E5: 5 | F5: =Full_dataset!K33 -> 5 | G5: =Full_dataset!L33 -> 4 | H5: =Full_dataset!M33 -> 0 | I5: =Full_dataset!N33 -> 5 | J5: =Full_dataset!O33 -> 5 | K5: =Full_dataset!P33 -> 5 | L5: =Full_dataset!Q33 -> 5 | M5: =L5-F5 -> 0 | N5: =E5-F5 -> 0 | O5: =E5-L5 -> 0 | P5: =Full_dataset!U33 -> 0 | Q5: =E5-(L5+P5) -> 0 | R5: =Full_dataset!W33 -> 0 | S5: =Full_dataset!X33 -> 0 | T5: =Full_dataset!Y33 -> 0 | U5: =Full_dataset!Z33 -> 0 | V5: =Full_dataset!AA33 -> 0 | Y5: =F5/$E5 -> 1 | Z5: =G5/$E5 -> 0.8 | AA5: =J5/$E5 -> 1 | AB5: =H5/$E5 -> 0 | AC5: =K5/$E5 -> 1 | AD5: =I5/$E5 -> 1 | AE5: =M5/$E5 -> 0 | AF5: =($E5-Q5)/$E5 -> 1 | AH5: =L5/$E5 -> 1 | AI5: =$AH5+R5/$E5 -> 1 | AJ5: =$AH5+U5/$E5 -> 1 | AK5: =$AH5+S5/$E5 -> 1 | AL5: =$AH5+V5/$E5 -> 1 | AM5: =$AH5+T5/$E5 -> 1 | AN5: =AE5 -> 0 | AO5: =AF5 -> 1
A6: Kumar 2010 | B6: 2 | C6: PubMed, Cochrane (SR) | D6: Nein | E6: 10 | F6: =Full_dataset!K46 -> 10 | G6: =Full_dataset!L46 -> 2 | H6: =Full_dataset!M46 -> 0 | I6: =Full_dataset!N46 -> 10 | J6: =Full_dataset!O46 -> 9 | K6: =Full_dataset!P46 -> 6 | L6: =Full_dataset!Q46 -> 10 | M6: =L6-F6 -> 0 | N6: =E6-F6 -> 0 | O6: =E6-L6 -> 0 | P6: =Full_dataset!U46 -> 0 | Q6: =E6-(L6+P6) -> 0 | R6: =Full_dataset!W46 -> 0 | S6: =Full_dataset!X46 -> 0 | T6: =Full_dataset!Y46 -> 0 | U6: =Full_dataset!Z46 -> 0 | V6: =Full_dataset!AA46 -> 0 | Y6: =F6/$E6 -> 1 | Z6: =G6/$E6 -> 0.2 | AA6: =J6/$E6 -> 0.9 | AB6: =H6/$E6 -> 0 | AC6: =K6/$E6 -> 0.6 | AD6: =I6/$E6 -> 1 | AE6: =M6/$E6 -> 0 | AF6: =($E6-Q6)/$E6 -> 1 | AH6: =L6/$E6 -> 1 | AI6: =$AH6+R6/$E6 -> 1 | AJ6: =$AH6+U6/$E6 -> 1 | AK6: =$AH6+S6/$E6 -> 1 | AL6: =$AH6+V6/$E6 -> 1 | AM6: =$AH6+T6/$E6 -> 1 | AN6: =AE6 -> 0 | AO6: =AF6 -> 1
A7: Ryan 2011 | B7: 2 | C7: Cochrane (SR), DARE | D7: Nein | E7: 38 | F7: =Full_dataset!K71 -> 37 | G7: =Full_dataset!L71 -> 20 | H7: =Full_dataset!M71 -> 4 | I7: =Full_dataset!N71 -> 29 | J7: =Full_dataset!O71 -> 36 | K7: =Full_dataset!P71 -> 29 | L7: =Full_dataset!Q71 -> 37 | M7: =L7-F7 -> 0 | N7: =E7-F7 -> 1 | O7: =E7-L7 -> 1 | P7: =Full_dataset!U71 -> 1 | Q7: =E7-(L7+P7) -> 0 | R7: =Full_dataset!W71 -> 0 | S7: =Full_dataset!X71 -> 0 | T7: =Full_dataset!Y71 -> 1 | U7: =Full_dataset!Z71 -> 1 | V7: =Full_dataset!AA71 -> 1 | Y7: =F7/$E7 -> 0.97368421 | Z7: =G7/$E7 -> 0.52631579 | AA7: =J7/$E7 -> 0.94736842 | AB7: =H7/$E7 -> 0.10526316 | AC7: =K7/$E7 -> 0.76315789 | AD7: =I7/$E7 -> 0.76315789 | AE7: =M7/$E7 -> 0 | AF7: =($E7-Q7)/$E7 -> 1 | AH7: =L7/$E7 -> 0.97368421 | AI7: =$AH7+R7/$E7 -> 0.97368421 | AJ7: =$AH7+U7/$E7 -> 1 | AK7: =$AH7+S7/$E7 -> 0.97368421 | AL7: =$AH7+V7/$E7 -> 1 | AM7: =$AH7+T7/$E7 -> 1 | AN7: =AE7 -> 0 | AO7: =AF7 -> 1
A8: Trudeau 2011 | B8: 2 | C8: Medline, Embase | D8: Ja | E8: 3 | F8: =Full_dataset!K85 -> 2 | G8: =Full_dataset!L85 -> 2 | H8: =Full_dataset!M85 -> 0 | I8: =Full_dataset!N85 -> 0 | J8: =Full_dataset!O85 -> 2 | K8: =Full_dataset!P85 -> 0 | L8: =Full_dataset!Q85 -> 2 | M8: =L8-F8 -> 0 | N8: =E8-F8 -> 1 | O8: =E8-L8 -> 1 | P8: =Full_dataset!U85 -> 0 | Q8: =E8-(L8+P8) -> 1 | R8: =Full_dataset!W85 -> 0 | S8: =Full_dataset!X85 -> 0 | T8: =Full_dataset!Y85 -> 0 | U8: =Full_dataset!Z85 -> 0 | V8: =Full_dataset!AA85 -> 0 | Y8: =F8/$E8 -> 0.66666667 | Z8: =G8/$E8 -> 0.66666667 | AA8: =J8/$E8 -> 0.66666667 | AB8: =H8/$E8 -> 0 | AC8: =K8/$E8 -> 0 | AD8: =I8/$E8 -> 0 | AE8: =M8/$E8 -> 0 | AF8: =($E8-Q8)/$E8 -> 0.66666667 | AH8: =L8/$E8 -> 0.66666667 | AI8: =$AH8+R8/$E8 -> 0.66666667 | AJ8: =$AH8+U8/$E8 -> 0.66666667 | AK8: =$AH8+S8/$E8 -> 0.66666667 | AL8: =$AH8+V8/$E8 -> 0.66666667 | AM8: =$AH8+T8/$E8 -> 0.66666667 | AN8: =AE8 -> 0 | AO8: =AF8 -> 0.66666667
A9: Black 2011 | B9: 3 | C9: PubMed,Embase, Cochrane | D9: Ja | E9: 53 | F9: =Full_dataset!K11 -> 46 | G9: =Full_dataset!L11 -> 22 | H9: =Full_dataset!M11 -> 7 | I9: =Full_dataset!N11 -> 51 | J9: =Full_dataset!O11 -> 44 | K9: =Full_dataset!P11 -> 29 | L9: =Full_dataset!Q11 -> 47 | M9: =L9-F9 -> 1 | N9: =E9-F9 -> 7 | O9: =E9-L9 -> 6 | P9: =Full_dataset!U11 -> 5 | Q9: =E9-(L9+P9) -> 1 | R9: =Full_dataset!W11 -> 0 | S9: =Full_dataset!X11 -> 1 | T9: =Full_dataset!Y11 -> 4 | U9: =Full_dataset!Z11 -> 2 | V9: =Full_dataset!AA11 -> 2 | Y9: =F9/$E9 -> 0.86792453 | Z9: =G9/$E9 -> 0.41509434 | AA9: =J9/$E9 -> 0.83018868 | AB9: =H9/$E9 -> 0.13207547 | AC9: =K9/$E9 -> 0.54716981 | AD9: =I9/$E9 -> 0.96226415 | AE9: =M9/$E9 -> 0.018867925 | AF9: =($E9-Q9)/$E9 -> 0.98113208 | AH9: =L9/$E9 -> 0.88679245 | AI9: =$AH9+R9/$E9 -> 0.88679245 | AJ9: =$AH9+U9/$E9 -> 0.9245283 | AK9: =$AH9+S9/$E9 -> 0.90566038 | AL9: =$AH9+V9/$E9 -> 0.9245283 | AM9: =$AH9+T9/$E9 -> 0.96226415 | AN9: =AE9 -> 0.018867925 | AO9: =AF9 -> 0.98113208
A10: Brouwers 2011 | B10: 3 | C10: CADTH-EPOC, Health Systems Evidence, McMaster KT+ | D10: Nein | E10: 34 | F10: =Full_dataset!K12 -> 34 | G10: =Full_dataset!L12 -> 22 | H10: =Full_dataset!M12 -> 0 | I10: =Full_dataset!N12 -> 31 | J10: =Full_dataset!O12 -> 31 | K10: =Full_dataset!P12 -> 22 | L10: =Full_dataset!Q12 -> 34 | M10: =L10-F10 -> 0 | N10: =E10-F10 -> 0 | O10: =E10-L10 -> 0 | P10: =Full_dataset!U12 -> 0 | Q10: =E10-(L10+P10) -> 0 | R10: =Full_dataset!W12 -> 0 | S10: =Full_dataset!X12 -> 0 | T10: =Full_dataset!Y12 -> 0 | U10: =Full_dataset!Z12 -> 0 | V10: =Full_dataset!AA12 -> 0 | Y10: =F10/$E10 -> 1 | Z10: =G10/$E10 -> 0.64705882 | AA10: =J10/$E10 -> 0.91176471 | AB10: =H10/$E10 -> 0 | AC10: =K10/$E10 -> 0.64705882 | AD10: =I10/$E10 -> 0.91176471 | AE10: =M10/$E10 -> 0 | AF10: =($E10-Q10)/$E10 -> 1 | AH10: =L10/$E10 -> 1 | AI10: =$AH10+R10/$E10 -> 1 | AJ10: =$AH10+U10/$E10 -> 1 | AK10: =$AH10+S10/$E10 -> 1 | AL10: =$AH10+V10/$E10 -> 1 | AM10: =$AH10+T10/$E10 -> 1 | AN10: =AE10 -> 0 | AO10: =AF10 -> 1
A11: De Niet 2009 | B11: 3 | C11: PubMed, Cochrane (SR), DARE | D11: Nein | E11: 16 | F11: =Full_dataset!K15 -> 15 | G11: =Full_dataset!L15 -> 9 | H11: =Full_dataset!M15 -> 8 | I11: =Full_dataset!N15 -> 14 | J11: =Full_dataset!O15 -> 10 | K11: =Full_dataset!P15 -> 14 | L11: =Full_dataset!Q15 -> 16 | M11: =L11-F11 -> 1 | N11: =E11-F11 -> 1 | O11: =E11-L11 -> 0 | P11: =Full_dataset!U15 -> 0 | Q11: =E11-(L11+P11) -> 0 | R11: =Full_dataset!W15 -> 0 | S11: =Full_dataset!X15 -> 0 | T11: =Full_dataset!Y15 -> 0 | U11: =Full_dataset!Z15 -> 0 | V11: =Full_dataset!AA15 -> 0 | Y11: =F11/$E11 -> 0.9375 | Z11: =G11/$E11 -> 0.5625 | AA11: =J11/$E11 -> 0.625 | AB11: =H11/$E11 -> 0.5 | AC11: =K11/$E11 -> 0.875 | AD11: =I11/$E11 -> 0.875 | AE11: =M11/$E11 -> 0.0625 | AF11: =($E11-Q11)/$E11 -> 1 | AH11: =L11/$E11 -> 1 | AI11: =$AH11+R11/$E11 -> 1 | AJ11: =$AH11+U11/$E11 -> 1 | AK11: =$AH11+S11/$E11 -> 1 | AL11: =$AH11+V11/$E11 -> 1 | AM11: =$AH11+T11/$E11 -> 1 | AN11: =AE11 -> 0.0625 | AO11: =AF11 -> 1
A12: De Vet 2010 | B12: 3 | C12: PubMed, Embase, PsychINFO | D12: Nein | E12: 17 | F12: =Full_dataset!K16 -> 17 | G12: =Full_dataset!L16 -> 11 | H12: =Full_dataset!M16 -> 10 | I12: =Full_dataset!N16 -> 15 | J12: =Full_dataset!O16 -> 16 | K12: =Full_dataset!P16 -> 0 | L12: =Full_dataset!Q16 -> 17 | M12: =L12-F12 -> 0 | N12: =E12-F12 -> 0 | O12: =E12-L12 -> 0 | P12: =Full_dataset!U16 -> 0 | Q12: =E12-(L12+P12) -> 0 | R12: =Full_dataset!W16 -> 0 | S12: =Full_dataset!X16 -> 0 | T12: =Full_dataset!Y16 -> 0 | U12: =Full_dataset!Z16 -> 0 | V12: =Full_dataset!AA16 -> 0 | Y12: =F12/$E12 -> 1 | Z12: =G12/$E12 -> 0.64705882 | AA12: =J12/$E12 -> 0.94117647 | AB12: =H12/$E12 -> 0.58823529 | AC12: =K12/$E12 -> 0 | AD12: =I12/$E12 -> 0.88235294 | AE12: =M12/$E12 -> 0 | AF12: =($E12-Q12)/$E12 -> 1 | AH12: =L12/$E12 -> 1 | AI12: =$AH12+R12/$E12 -> 1 | AJ12: =$AH12+U12/$E12 -> 1 | AK12: =$AH12+S12/$E12 -> 1 | AL12: =$AH12+V12/$E12 -> 1 | AM12: =$AH12+T12/$E12 -> 1 | AN12: =AE12 -> 0 | AO12: =AF12 -> 1
A13: Diener 2010 | B13: 3 | C13: PubMed, Embase, Cochrane (Trials) | D13: Nein | E13: 6 | F13: =Full_dataset!K17 -> 6 | G13: =Full_dataset!L17 -> 0 | H13: =Full_dataset!M17 -> 0 | I13: =Full_dataset!N17 -> 5 | J13: =Full_dataset!O17 -> 5 | K13: =Full_dataset!P17 -> 4 | L13: =Full_dataset!Q17 -> 6 | M13: =L13-F13 -> 0 | N13: =E13-F13 -> 0 | O13: =E13-L13 -> 0 | P13: =Full_dataset!U17 -> 0 | Q13: =E13-(L13+P13) -> 0 | R13: =Full_dataset!W17 -> 0 | S13: =Full_dataset!X17 -> 0 | T13: =Full_dataset!Y17 -> 0 | U13: =Full_dataset!Z17 -> 0 | V13: =Full_dataset!AA17 -> 0 | Y13: =F13/$E13 -> 1 | Z13: =G13/$E13 -> 0 | AA13: =J13/$E13 -> 0.83333333 | AB13: =H13/$E13 -> 0 | AC13: =K13/$E13 -> 0.66666667 | AD13: =I13/$E13 -> 0.83333333 | AE13: =M13/$E13 -> 0 | AF13: =($E13-Q13)/$E13 -> 1 | AH13: =L13/$E13 -> 1 | AI13: =$AH13+R13/$E13 -> 1 | AJ13: =$AH13+U13/$E13 -> 1 | AK13: =$AH13+S13/$E13 -> 1 | AL13: =$AH13+V13/$E13 -> 1 | AM13: =$AH13+T13/$E13 -> 1 | AN13: =AE13 -> 0 | AO13: =AF13 -> 1
A14: LBI 2011 HTA | B14: 3 | C14: Embase, Medline, Cochrane | D14: Ja | E14: 6 | F14: =Full_dataset!K48 -> 4 | G14: =Full_dataset!L48 -> 0 | H14: =Full_dataset!M48 -> 0 | I14: =Full_dataset!N48 -> 4 | J14: =Full_dataset!O48 -> 4 | K14: =Full_dataset!P48 -> 2 | L14: =Full_dataset!Q48 -> 5 | M14: =L14-F14 -> 1 | N14: =E14-F14 -> 2 | O14: =E14-L14 -> 1 | P14: =Full_dataset!U48 -> 1 | Q14: =E14-(L14+P14) -> 0 | R14: =Full_dataset!W48 -> 0 | S14: =Full_dataset!X48 -> 0 | T14: =Full_dataset!Y48 -> 1 | U14: =Full_dataset!Z48 -> 0 | V14: =Full_dataset!AA48 -> 0 | Y14: =F14/$E14 -> 0.66666667 | Z14: =G14/$E14 -> 0 | AA14: =J14/$E14 -> 0.66666667 | AB14: =H14/$E14 -> 0 | AC14: =K14/$E14 -> 0.33333333 | AD14: =I14/$E14 -> 0.66666667 | AE14: =M14/$E14 -> 0.16666667 | AF14: =($E14-Q14)/$E14 -> 1 | AH14: =L14/$E14 -> 0.83333333 | AI14: =$AH14+R14/$E14 -> 0.83333333 | AJ14: =$AH14+U14/$E14 -> 0.83333333 | AK14: =$AH14+S14/$E14 -> 0.83333333 | AL14: =$AH14+V14/$E14 -> 0.83333333 | AM14: =$AH14+T14/$E14 -> 1 | AN14: =AE14 -> 0.16666667 | AO14: =AF14 -> 1
A15: Lenz 2009 | B15: 3 | C15: Cochrane, PubMed, HTA | D15: Ja | E15: 27 | F15: =Full_dataset!K50 -> 27 | G15: =Full_dataset!L50 -> 9 | H15: =Full_dataset!M50 -> 1 | I15: =Full_dataset!N50 -> 17 | J15: =Full_dataset!O50 -> 27 | K15: =Full_dataset!P50 -> 1 | L15: =Full_dataset!Q50 -> 27 | M15: =L15-F15 -> 0 | N15: =E15-F15 -> 0 | O15: =E15-L15 -> 0 | P15: =Full_dataset!U50 -> 0 | Q15: =E15-(L15+P15) -> 0 | R15: =Full_dataset!W50 -> 0 | S15: =Full_dataset!X50 -> 0 | T15: =Full_dataset!Y50 -> 0 | U15: =Full_dataset!Z50 -> 0 | V15: =Full_dataset!AA50 -> 0 | Y15: =F15/$E15 -> 1 | Z15: =G15/$E15 -> 0.33333333 | AA15: =J15/$E15 -> 1 | AB15: =H15/$E15 -> 0.037037037 | AC15: =K15/$E15 -> 0.037037037 | AD15: =I15/$E15 -> 0.62962963 | AE15: =M15/$E15 -> 0 | AF15: =($E15-Q15)/$E15 -> 1 | AH15: =L15/$E15 -> 1 | AI15: =$AH15+R15/$E15 -> 1 | AJ15: =$AH15+U15/$E15 -> 1 | AK15: =$AH15+S15/$E15 -> 1 | AL15: =$AH15+V15/$E15 -> 1 | AM15: =$AH15+T15/$E15 -> 1 | AN15: =AE15 -> 0 | AO15: =AF15 -> 1
A16: List 2010 | B16: 3 | C16: PubMed, Cochrane, Bandolier | D16: Ja | E16: 29 | F16: =Full_dataset!K51 -> 27 | G16: =Full_dataset!L51 -> 14 | H16: =Full_dataset!M51 -> 1 | I16: =Full_dataset!N51 -> 18 | J16: =Full_dataset!O51 -> 22 | K16: =Full_dataset!P51 -> 13 | L16: =Full_dataset!Q51 -> 28 | M16: =L16-F16 -> 1 | N16: =E16-F16 -> 2 | O16: =E16-L16 -> 1 | P16: =Full_dataset!U51 -> 1 | Q16: =E16-(L16+P16) -> 0 | R16: =Full_dataset!W51 -> 0 | S16: =Full_dataset!X51 -> 0 | T16: =Full_dataset!Y51 -> 1 | U16: =Full_dataset!Z51 -> 0 | V16: =Full_dataset!AA51 -> 1 | Y16: =F16/$E16 -> 0.93103448 | Z16: =G16/$E16 -> 0.48275862 | AA16: =J16/$E16 -> 0.75862069 | AB16: =H16/$E16 -> 0.034482759 | AC16: =K16/$E16 -> 0.44827586 | AD16: =I16/$E16 -> 0.62068966 | AE16: =M16/$E16 -> 0.034482759 | AF16: =($E16-Q16)/$E16 -> 1 | AH16: =L16/$E16 -> 0.96551724 | AI16: =$AH16+R16/$E16 -> 0.96551724 | AJ16: =$AH16+U16/$E16 -> 0.96551724 | AK16: =$AH16+S16/$E16 -> 0.96551724 | AL16: =$AH16+V16/$E16 -> 1 | AM16: =$AH16+T16/$E16 -> 1 | AN16: =AE16 -> 0.034482759 | AO16: =AF16 -> 1
A17: Minozzi 2010 | B17: 3 | C17: Medline, Embase, CINAHL | D17: Ja | E17: 5 | F17: =Full_dataset!K59 -> 5 | G17: =Full_dataset!L59 -> 2 | H17: =Full_dataset!M59 -> 3 | I17: =Full_dataset!N59 -> 5 | J17: =Full_dataset!O59 -> 4 | K17: =Full_dataset!P59 -> 1 | L17: =Full_dataset!Q59 -> 5 | M17: =L17-F17 -> 0 | N17: =E17-F17 -> 0 | O17: =E17-L17 -> 0 | P17: =Full_dataset!U59 -> 0 | Q17: =E17-(L17+P17) -> 0 | R17: =Full_dataset!W59 -> 0 | S17: =Full_dataset!X59 -> 0 | T17: =Full_dataset!Y59 -> 0 | U17: =Full_dataset!Z59 -> 0 | V17: =Full_dataset!AA59 -> 0 | Y17: =F17/$E17 -> 1 | Z17: =G17/$E17 -> 0.4 | AA17: =J17/$E17 -> 0.8 | AB17: =H17/$E17 -> 0.6 | AC17: =K17/$E17 -> 0.2 | AD17: =I17/$E17 -> 1 | AE17: =M17/$E17 -> 0 | AF17: =($E17-Q17)/$E17 -> 1 | AH17: =L17/$E17 -> 1 | AI17: =$AH17+R17/$E17 -> 1 | AJ17: =$AH17+U17/$E17 -> 1 | AK17: =$AH17+S17/$E17 -> 1 | AL17: =$AH17+V17/$E17 -> 1 | AM17: =$AH17+T17/$E17 -> 1 | AN17: =AE17 -> 0 | AO17: =AF17 -> 1
A18: Peters 2009 | B18: 3 | C18: Pubmed, PsycINFO, ERIC | D18: Ja | E18: 55 | F18: =Full_dataset!K68 -> 38 | G18: =Full_dataset!L68 -> 25 | H18: =Full_dataset!M68 -> 40 | I18: =Full_dataset!N68 -> 52 | J18: =Full_dataset!O68 -> 42 | K18: =Full_dataset!P68 -> 16 | L18: =Full_dataset!Q68 -> 48 | M18: =L18-F18 -> 10 | N18: =E18-F18 -> 17 | O18: =E18-L18 -> 7 | P18: =Full_dataset!U68 -> 7 | Q18: =E18-(L18+P18) -> 0 | R18: =Full_dataset!W68 -> 2 | S18: =Full_dataset!X68 -> 3 | T18: =Full_dataset!Y68 -> 6 | U18: =Full_dataset!Z68 -> 0 | V18: =Full_dataset!AA68 -> 1 | Y18: =F18/$E18 -> 0.69090909 | Z18: =G18/$E18 -> 0.45454545 | AA18: =J18/$E18 -> 0.76363636 | AB18: =H18/$E18 -> 0.72727273 | AC18: =K18/$E18 -> 0.29090909 | AD18: =I18/$E18 -> 0.94545455 | AE18: =M18/$E18 -> 0.18181818 | AF18: =($E18-Q18)/$E18 -> 1 | AH18: =L18/$E18 -> 0.87272727 | AI18: =$AH18+R18/$E18 -> 0.90909091 | AJ18: =$AH18+U18/$E18 -> 0.87272727 | AK18: =$AH18+S18/$E18 -> 0.92727273 | AL18: =$AH18+V18/$E18 -> 0.89090909 | AM18: =$AH18+T18/$E18 -> 0.98181818 | AN18: =AE18 -> 0.18181818 | AO18: =AF18 -> 1
A19: Smith 2009a acupuncture pregnancy | B19: 3 | C19: PubMed, CINAHL, Cochrane | D19: Nein | E19: 8 | F19: =Full_dataset!K78 -> 8 | G19: =Full_dataset!L78 -> 3 | H19: =Full_dataset!M78 -> 0 | I19: =Full_dataset!N78 -> 7 | J19: =Full_dataset!O78 -> 8 | K19: =Full_dataset!P78 -> 7 | L19: =Full_dataset!Q78 -> 8 | M19: =L19-F19 -> 0 | N19: =E19-F19 -> 0 | O19: =E19-L19 -> 0 | P19: =Full_dataset!U78 -> 0 | Q19: =E19-(L19+P19) -> 0 | R19: =Full_dataset!W78 -> 0 | S19: =Full_dataset!X78 -> 0 | T19: =Full_dataset!Y78 -> 0 | U19: =Full_dataset!Z78 -> 0 | V19: =Full_dataset!AA78 -> 0 | Y19: =F19/$E19 -> 1 | Z19: =G19/$E19 -> 0.375 | AA19: =J19/$E19 -> 1 | AB19: =H19/$E19 -> 0 | AC19: =K19/$E19 -> 0.875 | AD19: =I19/$E19 -> 0.875 | AE19: =M19/$E19 -> 0 | AF19: =($E19-Q19)/$E19 -> 1 | AH19: =L19/$E19 -> 1 | AI19: =$AH19+R19/$E19 -> 1 | AJ19: =$AH19+U19/$E19 -> 1 | AK19: =$AH19+S19/$E19 -> 1 | AL19: =$AH19+V19/$E19 -> 1 | AM19: =$AH19+T19/$E19 -> 1 | AN19: =AE19 -> 0 | AO19: =AF19 -> 1
A20: Smith 2010 | B20: 3 | C20: Pubmed, CINAHL, Cochrane | D20: Nein | E20: 6 | F20: =Full_dataset!K80 -> 6 | G20: =Full_dataset!L80 -> 1 | H20: =Full_dataset!M80 -> 0 | I20: =Full_dataset!N80 -> 5 | J20: =Full_dataset!O80 -> 5 | K20: =Full_dataset!P80 -> 5 | L20: =Full_dataset!Q80 -> 6 | M20: =L20-F20 -> 0 | N20: =E20-F20 -> 0 | O20: =E20-L20 -> 0 | P20: =Full_dataset!U80 -> 0 | Q20: =E20-(L20+P20) -> 0 | R20: =Full_dataset!W80 -> 0 | S20: =Full_dataset!X80 -> 0 | T20: =Full_dataset!Y80 -> 0 | U20: =Full_dataset!Z80 -> 0 | V20: =Full_dataset!AA80 -> 0 | Y20: =F20/$E20 -> 1 | Z20: =G20/$E20 -> 0.16666667 | AA20: =J20/$E20 -> 0.83333333 | AB20: =H20/$E20 -> 0 | AC20: =K20/$E20 -> 0.83333333 | AD20: =I20/$E20 -> 0.83333333 | AE20: =M20/$E20 -> 0 | AF20: =($E20-Q20)/$E20 -> 1 | AH20: =L20/$E20 -> 1 | AI20: =$AH20+R20/$E20 -> 1 | AJ20: =$AH20+U20/$E20 -> 1 | AK20: =$AH20+S20/$E20 -> 1 | AL20: =$AH20+V20/$E20 -> 1 | AM20: =$AH20+T20/$E20 -> 1 | AN20: =AE20 -> 0 | AO20: =AF20 -> 1
A21: van der Feltz-Cornelis 2011 | B21: 3 | C21: Pubmed, Cochrane, DARE | D21: Ja | E21: 6 | F21: =Full_dataset!K87 -> 5 | G21: =Full_dataset!L87 -> 5 | H21: =Full_dataset!M87 -> 0 | I21: =Full_dataset!N87 -> 6 | J21: =Full_dataset!O87 -> 6 | K21: =Full_dataset!P87 -> 2 | L21: =Full_dataset!Q87 -> 5 | M21: =L21-F21 -> 0 | N21: =E21-F21 -> 1 | O21: =E21-L21 -> 1 | P21: =Full_dataset!U87 -> 1 | Q21: =E21-(L21+P21) -> 0 | R21: =Full_dataset!W87 -> 0 | S21: =Full_dataset!X87 -> 0 | T21: =Full_dataset!Y87 -> 1 | U21: =Full_dataset!Z87 -> 1 | V21: =Full_dataset!AA87 -> 0 | Y21: =F21/$E21 -> 0.83333333 | Z21: =G21/$E21 -> 0.83333333 | AA21: =J21/$E21 -> 1 | AB21: =H21/$E21 -> 0 | AC21: =K21/$E21 -> 0.33333333 | AD21: =I21/$E21 -> 1 | AE21: =M21/$E21 -> 0 | AF21: =($E21-Q21)/$E21 -> 1 | AH21: =L21/$E21 -> 0.83333333 | AI21: =$AH21+R21/$E21 -> 0.83333333 | AJ21: =$AH21+U21/$E21 -> 1 | AK21: =$AH21+S21/$E21 -> 0.83333333 | AL21: =$AH21+V21/$E21 -> 0.83333333 | AM21: =$AH21+T21/$E21 -> 1 | AN21: =AE21 -> 0 | AO21: =AF21 -> 1
A22: Andersen 2011 | B22: 4 | C22: PubMed, Embase, CINAHL, Web of Science | D22: Ja | E22: 17 | F22: =Full_dataset!K3 -> 15 | G22: =Full_dataset!L3 -> 11 | H22: =Full_dataset!M3 -> 5 | I22: =Full_dataset!N3 -> 17 | J22: =Full_dataset!O3 -> 14 | K22: =Full_dataset!P3 -> 3 | L22: =Full_dataset!Q3 -> 16 | M22: =L22-F22 -> 1 | N22: =E22-F22 -> 2 | O22: =E22-L22 -> 1 | P22: =Full_dataset!U3 -> 1 | Q22: =E22-(L22+P22) -> 0 | R22: =Full_dataset!W3 -> 0 | S22: =Full_dataset!X3 -> 0 | T22: =Full_dataset!Y3 -> 1 | U22: =Full_dataset!Z3 -> 0 | V22: =Full_dataset!AA3 -> 0 | Y22: =F22/$E22 -> 0.88235294 | Z22: =G22/$E22 -> 0.64705882 | AA22: =J22/$E22 -> 0.82352941 | AB22: =H22/$E22 -> 0.29411765 | AC22: =K22/$E22 -> 0.17647059 | AD22: =I22/$E22 -> 1 | AE22: =M22/$E22 -> 0.058823529 | AF22: =($E22-Q22)/$E22 -> 1 | AH22: =L22/$E22 -> 0.94117647 | AI22: =$AH22+R22/$E22 -> 0.94117647 | AJ22: =$AH22+U22/$E22 -> 0.94117647 | AK22: =$AH22+S22/$E22 -> 0.94117647 | AL22: =$AH22+V22/$E22 -> 0.94117647 | AM22: =$AH22+T22/$E22 -> 1 | AN22: =AE22 -> 0.058823529 | AO22: =AF22 -> 1
A23: Berkhof 2010 | B23: 4 | C23: PubMed, PsychINFO, CINAHL, Cochrane | D23: Nein | E23: 11 | F23: =Full_dataset!K10 -> 9 | G23: =Full_dataset!L10 -> 4 | H23: =Full_dataset!M10 -> 5 | I23: =Full_dataset!N10 -> 8 | J23: =Full_dataset!O10 -> 4 | K23: =Full_dataset!P10 -> 4 | L23: =Full_dataset!Q10 -> 11 | M23: =L23-F23 -> 2 | N23: =E23-F23 -> 2 | O23: =E23-L23 -> 0 | P23: =Full_dataset!U10 -> 0 | Q23: =E23-(L23+P23) -> 0 | R23: =Full_dataset!W10 -> 0 | S23: =Full_dataset!X10 -> 0 | T23: =Full_dataset!Y10 -> 0 | U23: =Full_dataset!Z10 -> 0 | V23: =Full_dataset!AA10 -> 0 | Y23: =F23/$E23 -> 0.81818182 | Z23: =G23/$E23 -> 0.36363636 | AA23: =J23/$E23 -> 0.36363636 | AB23: =H23/$E23 -> 0.45454545 | AC23: =K23/$E23 -> 0.36363636 | AD23: =I23/$E23 -> 0.72727273 | AE23: =M23/$E23 -> 0.18181818 | AF23: =($E23-Q23)/$E23 -> 1 | AH23: =L23/$E23 -> 1 | AI23: =$AH23+R23/$E23 -> 1 | AJ23: =$AH23+U23/$E23 -> 1 | AK23: =$AH23+S23/$E23 -> 1 | AL23: =$AH23+V23/$E23 -> 1 | AM23: =$AH23+T23/$E23 -> 1 | AN23: =AE23 -> 0.18181818 | AO23: =AF23 -> 1
A24: Damen 2011 | B24: 4 | C24: Medline Ovid, Embase, ERIC, RDRB Databases | D24: Ja | E24: 31 | F24: =Full_dataset!K14 -> 31 | G24: =Full_dataset!L14 -> 11 | H24: =Full_dataset!M14 -> 0 | I24: =Full_dataset!N14 -> 21 | J24: =Full_dataset!O14 -> 30 | K24: =Full_dataset!P14 -> 3 | L24: =Full_dataset!Q14 -> 31 | M24: =L24-F24 -> 0 | N24: =E24-F24 -> 0 | O24: =E24-L24 -> 0 | P24: =Full_dataset!U14 -> 0 | Q24: =E24-(L24+P24) -> 0 | R24: =Full_dataset!W14 -> 0 | S24: =Full_dataset!X14 -> 0 | T24: =Full_dataset!Y14 -> 0 | U24: =Full_dataset!Z14 -> 0 | V24: =Full_dataset!AA14 -> 0 | Y24: =F24/$E24 -> 1 | Z24: =G24/$E24 -> 0.35483871 | AA24: =J24/$E24 -> 0.96774194 | AB24: =H24/$E24 -> 0 | AC24: =K24/$E24 -> 0.096774194 | AD24: =I24/$E24 -> 0.67741935 | AE24: =M24/$E24 -> 0 | AF24: =($E24-Q24)/$E24 -> 1 | AH24: =L24/$E24 -> 1 | AI24: =$AH24+R24/$E24 -> 1 | AJ24: =$AH24+U24/$E24 -> 1 | AK24: =$AH24+S24/$E24 -> 1 | AL24: =$AH24+V24/$E24 -> 1 | AM24: =$AH24+T24/$E24 -> 1 | AN24: =AE24 -> 0 | AO24: =AF24 -> 1
A25: Ernst 2011c CAM RA OA | B25: 4 | C25: Medline, Embase, Amed, Cochrane | D25: Ja | E25: 5 | F25: =Full_dataset!K28 -> 5 | G25: =Full_dataset!L28 -> 2 | H25: =Full_dataset!M28 -> 0 | I25: =Full_dataset!N28 -> 5 | J25: =Full_dataset!O28 -> 5 | K25: =Full_dataset!P28 -> 1 | L25: =Full_dataset!Q28 -> 5 | M25: =L25-F25 -> 0 | N25: =E25-F25 -> 0 | O25: =E25-L25 -> 0 | P25: =Full_dataset!U28 -> 0 | Q25: =E25-(L25+P25) -> 0 | R25: =Full_dataset!W28 -> 0 | S25: =Full_dataset!X28 -> 0 | T25: =Full_dataset!Y28 -> 0 | U25: =Full_dataset!Z28 -> 0 | V25: =Full_dataset!AA28 -> 0 | Y25: =F25/$E25 -> 1 | Z25: =G25/$E25 -> 0.4 | AA25: =J25/$E25 -> 1 | AB25: =H25/$E25 -> 0 | AC25: =K25/$E25 -> 0.2 | AD25: =I25/$E25 -> 1 | AE25: =M25/$E25 -> 0 | AF25: =($E25-Q25)/$E25 -> 1 | AH25: =L25/$E25 -> 1 | AI25: =$AH25+R25/$E25 -> 1 | AJ25: =$AH25+U25/$E25 -> 1 | AK25: =$AH25+S25/$E25 -> 1 | AL25: =$AH25+V25/$E25 -> 1 | AM25: =$AH25+T25/$E25 -> 1 | AN25: =AE25 -> 0 | AO25: =AF25 -> 1
A26: Hopton 2010 | B26: 4 | C26: Ovid Medline, Allied and Complementary Medicine database, Cochrane, Web of Science | D26: Ja | E26: 8 | F26: =Full_dataset!K35 -> 8 | G26: =Full_dataset!L35 -> 4 | H26: =Full_dataset!M35 -> 2 | I26: =Full_dataset!N35 -> 8 | J26: =Full_dataset!O35 -> 7 | K26: =Full_dataset!P35 -> 6 | L26: =Full_dataset!Q35 -> 8 | M26: =L26-F26 -> 0 | N26: =E26-F26 -> 0 | O26: =E26-L26 -> 0 | P26: =Full_dataset!U35 -> 0 | Q26: =E26-(L26+P26) -> 0 | R26: =Full_dataset!W35 -> 0 | S26: =Full_dataset!X35 -> 0 | T26: =Full_dataset!Y35 -> 0 | U26: =Full_dataset!Z35 -> 0 | V26: =Full_dataset!AA35 -> 0 | Y26: =F26/$E26 -> 1 | Z26: =G26/$E26 -> 0.5 | AA26: =J26/$E26 -> 0.875 | AB26: =H26/$E26 -> 0.25 | AC26: =K26/$E26 -> 0.75 | AD26: =I26/$E26 -> 1 | AE26: =M26/$E26 -> 0 | AF26: =($E26-Q26)/$E26 -> 1 | AH26: =L26/$E26 -> 1 | AI26: =$AH26+R26/$E26 -> 1 | AJ26: =$AH26+U26/$E26 -> 1 | AK26: =$AH26+S26/$E26 -> 1 | AL26: =$AH26+V26/$E26 -> 1 | AM26: =$AH26+T26/$E26 -> 1 | AN26: =AE26 -> 0 | AO26: =AF26 -> 1
A27: Lakke 2009 | B27: 4 | C27: Medline, CINAHL, Embase, PsychINFO | D27: Ja | E27: 9 | F27: =Full_dataset!K47 -> 9 | G27: =Full_dataset!L47 -> 5 | H27: =Full_dataset!M47 -> 2 | I27: =Full_dataset!N47 -> 6 | J27: =Full_dataset!O47 -> 9 | K27: =Full_dataset!P47 -> 0 | L27: =Full_dataset!Q47 -> 9 | M27: =L27-F27 -> 0 | N27: =E27-F27 -> 0 | O27: =E27-L27 -> 0 | P27: =Full_dataset!U47 -> 0 | Q27: =E27-(L27+P27) -> 0 | R27: =Full_dataset!W47 -> 0 | S27: =Full_dataset!X47 -> 0 | T27: =Full_dataset!Y47 -> 0 | U27: =Full_dataset!Z47 -> 0 | V27: =Full_dataset!AA47 -> 0 | Y27: =F27/$E27 -> 1 | Z27: =G27/$E27 -> 0.55555556 | AA27: =J27/$E27 -> 1 | AB27: =H27/$E27 -> 0.22222222 | AC27: =K27/$E27 -> 0 | AD27: =I27/$E27 -> 0.66666667 | AE27: =M27/$E27 -> 0 | AF27: =($E27-Q27)/$E27 -> 1 | AH27: =L27/$E27 -> 1 | AI27: =$AH27+R27/$E27 -> 1 | AJ27: =$AH27+U27/$E27 -> 1 | AK27: =$AH27+S27/$E27 -> 1 | AL27: =$AH27+V27/$E27 -> 1 | AM27: =$AH27+T27/$E27 -> 1 | AN27: =AE27 -> 0 | AO27: =AF27 -> 1
