Workbook

Sheet Full_dataset
C1: Infos from the publication | K1: Analysis 1: SRs included in databases | R1: Calculations | W1: Analysis 2: DB-included SR, not included in MEDL+Refs | AC1: Results: | AD1: Inclusion rates
A2: Overview | B2: Title | C2: N DBs searched | D2: DBs searched | E2: addl. methods* | F2: N SR included | G2: Intervention? | H2: Mental health? | I2: Psych? | J2: HTA /Cochrane /other | K2: N included in DB1: MEDL | L2: N included in DB2: CINAHL | M2: N included in DB3: PsycInfo | N2: N included in DB4: Epistemonikos | O2: N included in DB6: EMBASE | P2: N included in DB7: TRIP | Q2: N included in DB1 + refs | R2: N by ref-checking | S2: N not included in DB1 | T2: N not included in DB1 + ref-checking | U2: of which included in DB | V2: N SRs not included in 6 DBs + refs | W2: N in DB 2 | X2: N in DB 3 | Y2: N in DB 4 | Z2: N in DB 6 | AA2: N in DB 7 | AD2: MEDL | AE2: CIN | AF2: EMB | AG2: PSI | AH2: TRIP | AI2: EPIS | AJ2: refs | AK2: all DBs + refs | AM2: ME + refs | AN2: ME + refs + CIN | AO2: ME + refs + EMB | AP2: ME + refs + PSI | AQ2: ME + refs + TRIP | AR2: ME + refs + EPIS
A3: Andersen 2011 | B3: Risk factors for neck and upper extremity disorders among computers users and the effect of interventions: an overview of systematic reviews | C3: 4 | D3: PubMed, Embase, CINAHL, Web of Science | E3: Ja | F3: 17 | G3: N | H3: N | I3: N | J3: other | K3: 15 | L3: 11 | M3: 5 | N3: 17 | O3: 14 | P3: 3 | Q3: 16 | R3: =Q3-K3 -> 1 | S3: =F3-K3 -> 2 | T3: =F3-Q3 -> 1 | U3: 1 | V3: =F3-(Q3+U3) -> 0 | Y3: 1 | AD3: =K3/$F3 -> 0.88235294 | AE3: =L3/$F3 -> 0.64705882 | AF3: =O3/$F3 -> 0.82352941 | AG3: =M3/$F3 -> 0.29411765 | AH3: =P3/$F3 -> 0.17647059 | AI3: =N3/$F3 -> 1 | AJ3: =R3/$F3 -> 0.058823529 | AK3: =($F3-V3)/$F3 -> 1 | AM3: =Q3/$F3 -> 0.94117647 | AN3: =$AM3+W3/$F3 -> 0.94117647 | AO3: =$AM3+Z3/$F3 -> 0.94117647 | AP3: =$AM3+X3/$F3 -> 0.94117647 | AQ3: =$AM3+AA3/$F3 -> 0.94117647 | AR3: =$AM3+Y3/$F3 -> 1
A4: Australia MSAC 2009a lymphoma HTA | B4: Positron emission tomography for lymphoma : assessment report | C4: 8 | D4: Embase, Medline, Cochrane (SR, Trials), DARE, NHS EED, HTA, Cochrane Methodology Register | E4: Ja | F4: 6 | G4: N | H4: N | I4: N | J4: HTA | K4: 5 | L4: 1 | M4: 0 | N4: 5 | O4: 3 | P4: 5 | Q4: 6 | R4: =Q4-K4 -> 1 | S4: =F4-K4 -> 1 | T4: =F4-Q4 -> 0 | V4: =F4-(Q4+U4) -> 0 | AD4: =K4/$F4 -> 0.83333333 | AE4: =L4/$F4 -> 0.16666667 | AF4: =O4/$F4 -> 0.5 | AG4: =M4/$F4 -> 0 | AH4: =P4/$F4 -> 0.83333333 | AI4: =N4/$F4 -> 0.83333333 | AJ4: =R4/$F4 -> 0.16666667 | AK4: =($F4-V4)/$F4 -> 1 | AM4: =Q4/$F4 -> 1 | AN4: =$AM4+W4/$F4 -> 1 | AO4: =$AM4+Z4/$F4 -> 1 | AP4: =$AM4+X4/$F4 -> 1 | AQ4: =$AM4+AA4/$F4 -> 1 | AR4: =$AM4+Y4/$F4 -> 1
A5: Australia MSAC 2009b HPV HTA | B5: Human papillomavirus triage test for women with possible or definite low-grade squamous intra-epithelial lesions | C5: 8 | D5: INAHATA, EED, DARE, HTA, Cochrane (SR, Trials), Embase, Medline | E5: Ja | F5: 4 | G5: N | H5: N | I5: N | J5: HTA | K5: 2 | L5: 1 | M5: 0 | N5: 3 | O5: 2 | P5: 2 | Q5: 2 | R5: =Q5-K5 -> 0 | S5: =F5-K5 -> 2 | T5: =F5-Q5 -> 2 | U5: 2 | V5: =F5-(Q5+U5) -> 0 | Y5: 2 | AA5: 1 | AD5: =K5/$F5 -> 0.5 | AE5: =L5/$F5 -> 0.25 | AF5: =O5/$F5 -> 0.5 | AG5: =M5/$F5 -> 0 | AH5: =P5/$F5 -> 0.5 | AI5: =N5/$F5 -> 0.75 | AJ5: =R5/$F5 -> 0 | AK5: =($F5-V5)/$F5 -> 1 | AM5: =Q5/$F5 -> 0.5 | AN5: =$AM5+W5/$F5 -> 0.5 | AO5: =$AM5+Z5/$F5 -> 0.5 | AP5: =$AM5+X5/$F5 -> 0.5 | AQ5: =$AM5+AA5/$F5 -> 0.75 | AR5: =$AM5+Y5/$F5 -> 1
A6: Australia MSAC 2010a cervical cancer HTA | B6: Positron emission tomography for cervical cancer : assessment report | C6: 8 | D6: Embase, Medline, Cochrane (SR, Trials), DARE, NHS EED, HTA, Cochrane Methodology Register | E6: Ja | F6: 4 | G6: N | H6: N | I6: N | J6: HTA | K6: 3 | L6: 0 | M6: 0 | N6: =1+3 -> 4 | O6: 2 | P6: 4 | Q6: 3 | R6: =Q6-K6 -> 0 | S6: =F6-K6 -> 1 | T6: =F6-Q6 -> 1 | U6: 1 | V6: =F6-(Q6+U6) -> 0 | Y6: 1 | AA6: 1 | AD6: =K6/$F6 -> 0.75 | AE6: =L6/$F6 -> 0 | AF6: =O6/$F6 -> 0.5 | AG6: =M6/$F6 -> 0 | AH6: =P6/$F6 -> 1 | AI6: =N6/$F6 -> 1 | AJ6: =R6/$F6 -> 0 | AK6: =($F6-V6)/$F6 -> 1 | AM6: =Q6/$F6 -> 0.75 | AN6: =$AM6+W6/$F6 -> 0.75 | AO6: =$AM6+Z6/$F6 -> 0.75 | AP6: =$AM6+X6/$F6 -> 0.75 | AQ6: =$AM6+AA6/$F6 -> 1 | AR6: =$AM6+Y6/$F6 -> 1
A7: Australia MSAC 2010b PET glioma HTA | B7: Positron emission tomography for glioma | C7: 8 | D7: Embase, Medline, Cochrane (SR, Trials), DARE, NHS EED, HTA, Cochrane Methodology Register | E7: Ja | F7: 3 | G7: N | H7: N | I7: N | J7: HTA | K7: 2 | L7: 0 | M7: 0 | N7: =1+2 -> 3 | O7: 0 | P7: 3 | Q7: 2 | R7: =Q7-K7 -> 0 | S7: =F7-K7 -> 1 | T7: =F7-Q7 -> 1 | U7: 1 | V7: =F7-(Q7+U7) -> 0 | Y7: 1 | AA7: 1 | AD7: =K7/$F7 -> 0.66666667 | AE7: =L7/$F7 -> 0 | AF7: =O7/$F7 -> 0 | AG7: =M7/$F7 -> 0 | AH7: =P7/$F7 -> 1 | AI7: =N7/$F7 -> 1 | AJ7: =R7/$F7 -> 0 | AK7: =($F7-V7)/$F7 -> 1 | AM7: =Q7/$F7 -> 0.66666667 | AN7: =$AM7+W7/$F7 -> 0.66666667 | AO7: =$AM7+Z7/$F7 -> 0.66666667 | AP7: =$AM7+X7/$F7 -> 0.66666667 | AQ7: =$AM7+AA7/$F7 -> 1 | AR7: =$AM7+Y7/$F7 -> 1
A8: Australia MSAC 2010c myocardial HTA | B8: Positron emission tomography for myocardial viability : Assessment report | C8: 8 | D8: Embase, Medline, Cochrane (SR, Trials), DARE, NHS EED, HTA, Cochrane Methodology Register | E8: Ja | F8: 6 | G8: N | H8: N | I8: N | J8: HTA | K8: 3 | L8: 0 | M8: 0 | N8: =3+1 -> 4 | O8: 2 | P8: 3 | Q8: 3 | R8: =Q8-K8 -> 0 | S8: =F8-K8 -> 3 | T8: =F8-Q8 -> 3 | U8: 3 | V8: =F8-(Q8+U8) -> 0 | Y8: 3 | AA8: 3 | AD8: =K8/$F8 -> 0.5 | AE8: =L8/$F8 -> 0 | AF8: =O8/$F8 -> 0.33333333 | AG8: =M8/$F8 -> 0 | AH8: =P8/$F8 -> 0.5 | AI8: =N8/$F8 -> 0.66666667 | AJ8: =R8/$F8 -> 0 | AK8: =($F8-V8)/$F8 -> 1 | AM8: =Q8/$F8 -> 0.5 | AN8: =$AM8+W8/$F8 -> 0.5 | AO8: =$AM8+Z8/$F8 -> 0.5 | AP8: =$AM8+X8/$F8 -> 0.5 | AQ8: =$AM8+AA8/$F8 -> 1 | AR8: =$AM8+Y8/$F8 -> 1
A9: Beattie 2011 | B9: Silver alloy vs. uncoated urinary catheters: a systematic review of the literature | C9: 9 | D9: Medline, CINAHL, BNI & Archive, Embase, Dare, Cochrane (SR, Trials), MRCT, FADE | E9: Ja | F9: 5 | G9: Y | H9: N | I9: N | J9: other | K9: 5 | L9: 3 | M9: 0 | N9: 4 | O9: 4 | P9: 4 | Q9: 5 | R9: =Q9-K9 -> 0 | S9: =F9-K9 -> 0 | T9: =F9-Q9 -> 0 | V9: =F9-(Q9+U9) -> 0 | AD9: =K9/$F9 -> 1 | AE9: =L9/$F9 -> 0.6 | AF9: =O9/$F9 -> 0.8 | AG9: =M9/$F9 -> 0 | AH9: =P9/$F9 -> 0.8 | AI9: =N9/$F9 -> 0.8 | AJ9: =R9/$F9 -> 0 | AK9: =($F9-V9)/$F9 -> 1 | AM9: =Q9/$F9 -> 1 | AN9: =$AM9+W9/$F9 -> 1 | AO9: =$AM9+Z9/$F9 -> 1 | AP9: =$AM9+X9/$F9 -> 1 | AQ9: =$AM9+AA9/$F9 -> 1 | AR9: =$AM9+Y9/$F9 -> 1
A10: Berkhof 2010 | B10: Effective training strategies for teaching communication skills to physicians: an overview of systematic reviews | C10: 4 | D10: PubMed, PsychINFO, CINAHL, Cochrane | E10: Nein | F10: 11 | G10: Y | H10: N | I10: N | J10: other | K10: 9 | L10: 4 | M10: 5 | N10: 8 | O10: 4 | P10: 4 | Q10: 11 | R10: =Q10-K10 -> 2 | S10: =F10-K10 -> 2 | T10: =F10-Q10 -> 0 | V10: =F10-(Q10+U10) -> 0 | AD10: =K10/$F10 -> 0.81818182 | AE10: =L10/$F10 -> 0.36363636 | AF10: =O10/$F10 -> 0.36363636 | AG10: =M10/$F10 -> 0.45454545 | AH10: =P10/$F10 -> 0.36363636 | AI10: =N10/$F10 -> 0.72727273 | AJ10: =R10/$F10 -> 0.18181818 | AK10: =($F10-V10)/$F10 -> 1 | AM10: =Q10/$F10 -> 1 | AN10: =$AM10+W10/$F10 -> 1 | AO10: =$AM10+Z10/$F10 -> 1 | AP10: =$AM10+X10/$F10 -> 1 | AQ10: =$AM10+AA10/$F10 -> 1 | AR10: =$AM10+Y10/$F10 -> 1
A11: Black 2011 | B11: The impact of eHealth on the quality and safety of health care: a systematic overview | C11: 3 | D11: PubMed,Embase, Cochrane | E11: Ja | F11: 53 | G11: N | H11: N | I11: N | J11: other | K11: 46 | L11: 22 | M11: 7 | N11: 51 | O11: 44 | P11: 29 | Q11: 47 | R11: =Q11-K11 -> 1 | S11: =F11-K11 -> 7 | T11: =F11-Q11 -> 6 | U11: 5 | V11: =F11-(Q11+U11) -> 1 | X11: 1 | Y11: 4 | Z11: 2 | AA11: 2 | AD11: =K11/$F11 -> 0.86792453 | AE11: =L11/$F11 -> 0.41509434 | AF11: =O11/$F11 -> 0.83018868 | AG11: =M11/$F11 -> 0.13207547 | AH11: =P11/$F11 -> 0.54716981 | AI11: =N11/$F11 -> 0.96226415 | AJ11: =R11/$F11 -> 0.018867925 | AK11: =($F11-V11)/$F11 -> 0.98113208 | AM11: =Q11/$F11 -> 0.88679245 | AN11: =$AM11+W11/$F11 -> 0.88679245 | AO11: =$AM11+Z11/$F11 -> 0.9245283 | AP11: =$AM11+X11/$F11 -> 0.90566038 | AQ11: =$AM11+AA11/$F11 -> 0.9245283 | AR11: =$AM11+Y11/$F11 -> 0.96226415
A12: Brouwers 2011 | B12: The landscape of knowledge translation interventions in cancer control: what do we know and where to next? A review of systematic reviews | C12: 3 | D12: CADTH-EPOC, Health Systems Evidence, McMaster KT+ | E12: Nein | F12: 34 | G12: Y | H12: N | I12: N | J12: other | K12: 34 | L12: 22 | M12: 0 | N12: 31 | O12: 31 | P12: 22 | Q12: 34 | R12: =Q12-K12 -> 0 | S12: =F12-K12 -> 0 | T12: =F12-Q12 -> 0 | V12: =F12-(Q12+U12) -> 0 | AD12: =K12/$F12 -> 1 | AE12: =L12/$F12 -> 0.64705882 | AF12: =O12/$F12 -> 0.91176471 | AG12: =M12/$F12 -> 0 | AH12: =P12/$F12 -> 0.64705882 | AI12: =N12/$F12 -> 0.91176471 | AJ12: =R12/$F12 -> 0 | AK12: =($F12-V12)/$F12 -> 1 | AM12: =Q12/$F12 -> 1 | AN12: =$AM12+W12/$F12 -> 1 | AO12: =$AM12+Z12/$F12 -> 1 | AP12: =$AM12+X12/$F12 -> 1 | AQ12: =$AM12+AA12/$F12 -> 1 | AR12: =$AM12+Y12/$F12 -> 1
A13: Clar 2010 HTA | B13: Self-monitoring of blood glucose in type 2 diabetes: systematic review | C13: 5 | D13: Cochrane, Medline, Embase, PsychINFO, Web of Science | E13: Ja | F13: 12 | G13: Y | H13: N | I13: N | J13: HTA | K13: 10 | L13: 7 | M13: 0 | N13: 11 | O13: 8 | P13: 9 | Q13: 11 | R13: =Q13-K13 -> 1 | S13: =F13-K13 -> 2 | T13: =F13-Q13 -> 1 | U13: 1 | V13: =F13-(Q13+U13) -> 0 | W13: 1 | Y13: 1 | Z13: 1 | AA13: 1 | AD13: =K13/$F13 -> 0.83333333 | AE13: =L13/$F13 -> 0.58333333 | AF13: =O13/$F13 -> 0.66666667 | AG13: =M13/$F13 -> 0 | AH13: =P13/$F13 -> 0.75 | AI13: =N13/$F13 -> 0.91666667 | AJ13: =R13/$F13 -> 0.083333333 | AK13: =($F13-V13)/$F13 -> 1 | AM13: =Q13/$F13 -> 0.91666667 | AN13: =$AM13+W13/$F13 -> 1 | AO13: =$AM13+Z13/$F13 -> 1 | AP13: =$AM13+X13/$F13 -> 0.91666667 | AQ13: =$AM13+AA13/$F13 -> 1 | AR13: =$AM13+Y13/$F13 -> 1
A14: Damen 2011 | B14: Evidence based post graduate training. A systematic review of reviews based on the WFME quality framework | C14: 4 | D14: Medline Ovid, Embase, ERIC, RDRB Databases | E14: Ja | F14: 31 | G14: Y | H14: N | I14: N | J14: other | K14: 31 | L14: 11 | M14: 0 | N14: 21 | O14: 30 | P14: 3 | Q14: 31 | R14: =Q14-K14 -> 0 | S14: =F14-K14 -> 0 | T14: =F14-Q14 -> 0 | V14: =F14-(Q14+U14) -> 0 | AD14: =K14/$F14 -> 1 | AE14: =L14/$F14 -> 0.35483871 | AF14: =O14/$F14 -> 0.96774194 | AG14: =M14/$F14 -> 0 | AH14: =P14/$F14 -> 0.096774194 | AI14: =N14/$F14 -> 0.67741935 | AJ14: =R14/$F14 -> 0 | AK14: =($F14-V14)/$F14 -> 1 | AM14: =Q14/$F14 -> 1 | AN14: =$AM14+W14/$F14 -> 1 | AO14: =$AM14+Z14/$F14 -> 1 | AP14: =$AM14+X14/$F14 -> 1 | AQ14: =$AM14+AA14/$F14 -> 1 | AR14: =$AM14+Y14/$F14 -> 1
A15: De Niet 2009 | B15: Review of systematic reviews about the efficacy of non-pharmacological interventions to improve sleep quality in insomnia | C15: 3 | D15: PubMed, Cochrane (SR), DARE | E15: Nein | F15: 16 | G15: Y | H15: N | I15: N | J15: other | K15: 15 | L15: 9 | M15: 8 | N15: 14 | O15: 10 | P15: 14 | Q15: 16 | R15: =Q15-K15 -> 1 | S15: =F15-K15 -> 1 | T15: =F15-Q15 -> 0 | V15: =F15-(Q15+U15) -> 0 | AD15: =K15/$F15 -> 0.9375 | AE15: =L15/$F15 -> 0.5625 | AF15: =O15/$F15 -> 0.625 | AG15: =M15/$F15 -> 0.5 | AH15: =P15/$F15 -> 0.875 | AI15: =N15/$F15 -> 0.875 | AJ15: =R15/$F15 -> 0.0625 | AK15: =($F15-V15)/$F15 -> 1 | AM15: =Q15/$F15 -> 1 | AN15: =$AM15+W15/$F15 -> 1 | AO15: =$AM15+Z15/$F15 -> 1 | AP15: =$AM15+X15/$F15 -> 1 | AQ15: =$AM15+AA15/$F15 -> 1 | AR15: =$AM15+Y15/$F15 -> 1
A16: De Vet 2010 | B16: Environmental correlates of physical activity and dietary behaviours among young people: a systematic review of reviews | C16: 3 | D16: PubMed, Embase, PsychINFO | E16: Nein | F16: 17 | G16: N | H16: N | I16: N | J16: other | K16: 17 | L16: 11 | M16: 10 | N16: 15 | O16: 16 | P16: 0 | Q16: 17 | R16: =Q16-K16 -> 0 | S16: =F16-K16 -> 0 | T16: =F16-Q16 -> 0 | V16: =F16-(Q16+U16) -> 0 | AD16: =K16/$F16 -> 1 | AE16: =L16/$F16 -> 0.64705882 | AF16: =O16/$F16 -> 0.94117647 | AG16: =M16/$F16 -> 0.58823529 | AH16: =P16/$F16 -> 0 | AI16: =N16/$F16 -> 0.88235294 | AJ16: =R16/$F16 -> 0 | AK16: =($F16-V16)/$F16 -> 1 | AM16: =Q16/$F16 -> 1 | AN16: =$AM16+W16/$F16 -> 1 | AO16: =$AM16+Z16/$F16 -> 1 | AP16: =$AM16+X16/$F16 -> 1 | AQ16: =$AM16+AA16/$F16 -> 1 | AR16: =$AM16+Y16/$F16 -> 1
A17: Diener 2010 | B17: Elective midline laparotomy closure: the INLINE systematic review and meta-analysis | C17: 3 | D17: PubMed, Embase, Cochrane (Trials) | E17: Nein | F17: 6 | G17: Y | H17: N | I17: N | J17: other | K17: 6 | L17: 0 | M17: 0 | N17: 5 | O17: 5 | P17: 4 | Q17: 6 | R17: =Q17-K17 -> 0 | S17: =F17-K17 -> 0 | T17: =F17-Q17 -> 0 | V17: =F17-(Q17+U17) -> 0 | AD17: =K17/$F17 -> 1 | AE17: =L17/$F17 -> 0 | AF17: =O17/$F17 -> 0.83333333 | AG17: =M17/$F17 -> 0 | AH17: =P17/$F17 -> 0.66666667 | AI17: =N17/$F17 -> 0.83333333 | AJ17: =R17/$F17 -> 0 | AK17: =($F17-V17)/$F17 -> 1 | AM17: =Q17/$F17 -> 1 | AN17: =$AM17+W17/$F17 -> 1 | AO17: =$AM17+Z17/$F17 -> 1 | AP17: =$AM17+X17/$F17 -> 1 | AQ17: =$AM17+AA17/$F17 -> 1 | AR17: =$AM17+Y17/$F17 -> 1
A18: DIMDI 2010 rhinitis HTA | B18: Spezifische Immuntherapie (SIT) zur Behandlung der allergischen Rhinitis | C18: 21 | D18: Medline, Embase, SciSearch, Social SciSearch, Amed, BIOSIS, CAB Abstracts, CCMed, Derwent Drug File, GLOBAL Health, GMS, ISTPB+ISTP/ISSHP, MEDIKAT, ETHMED, INAHTA, DAHTA, DARE, NHS-EED, SOMED, Cochrane (Trials, SR) | E18: Ja | F18: 4 | G18: Y | H18: N | I18: N | J18: HTA | K18: 3 | L18: 3 | M18: 0 | N18: 3 | O18: 4 | P18: 2 | Q18: 3 | R18: =Q18-K18 -> 0 | S18: =F18-K18 -> 1 | T18: =F18-Q18 -> 1 | U18: 1 | V18: =F18-(Q18+U18) -> 0 | W18: 1 | Z18: 1 | AD18: =K18/$F18 -> 0.75 | AE18: =L18/$F18 -> 0.75 | AF18: =O18/$F18 -> 1 | AG18: =M18/$F18 -> 0 | AH18: =P18/$F18 -> 0.5 | AI18: =N18/$F18 -> 0.75 | AJ18: =R18/$F18 -> 0 | AK18: =($F18-V18)/$F18 -> 1 | AM18: =Q18/$F18 -> 0.75 | AN18: =$AM18+W18/$F18 -> 1 | AO18: =$AM18+Z18/$F18 -> 1 | AP18: =$AM18+X18/$F18 -> 0.75 | AQ18: =$AM18+AA18/$F18 -> 0.75 | AR18: =$AM18+Y18/$F18 -> 0.75
A19: DIMDI 2011a angina pectoris HTA | B19: Perkutane Koronarinterventionen zusätzlich zur optimalen medikamentösen Therapie bei stabiler Angina Pectoris | C19: 23 | D19: CCMed, Cochrane (SR, Trials), DAHTA, GMS, GMS Meetings, DARE, INAHTA, SOMED, Medline, MEDIKAT, ETHMED, HECLINET, CAB Abstracts, Amed, NHS-EED, IPA, BIOSIS, Embase, Derwent Drug Backlife, Derwent Drug File, ISTPB+ISTP/ISSHP, SciSearch | E19: Ja | F19: 7 | G19: Y | H19: N | I19: N | J19: HTA | K19: 7 | L19: 5 | M19: 0 | N19: 7 | O19: 6 | P19: 7 | Q19: 7 | R19: =Q19-K19 -> 0 | S19: =F19-K19 -> 0 | T19: =F19-Q19 -> 0 | V19: =F19-(Q19+U19) -> 0 | AD19: =K19/$F19 -> 1 | AE19: =L19/$F19 -> 0.71428571 | AF19: =O19/$F19 -> 0.85714286 | AG19: =M19/$F19 -> 0 | AH19: =P19/$F19 -> 1 | AI19: =N19/$F19 -> 1 | AJ19: =R19/$F19 -> 0 | AK19: =($F19-V19)/$F19 -> 1 | AM19: =Q19/$F19 -> 1 | AN19: =$AM19+W19/$F19 -> 1 | AO19: =$AM19+Z19/$F19 -> 1 | AP19: =$AM19+X19/$F19 -> 1 | AQ19: =$AM19+AA19/$F19 -> 1 | AR19: =$AM19+Y19/$F19 -> 1
A20: DIMDI 2011b IGEL HTA | B20: Individuelle Gesundheitsleistungen | C20: 23 | D20: CCMed, Cochrane (SR, Trials), DAHTA, GMS, GMS Meetings, DARE, INAHTA, SOMED, Medline, MEDIKAT, ETHMED, HECLINET, CAB Abstracts, Amed, NHS-EED, IPA, BIOSIS, Embase, Derwent Drug File, ISTPB+ISTP/ISSHP, SciSearch, Social SciSearch | E20: Ja | F20: 13 | G20: N | H20: N | I20: N | J20: HTA | K20: 11 | L20: 3 | M20: 0 | N20: =1+8 -> 9 | O20: 7 | P20: 8 | Q20: 11 | R20: =Q20-K20 -> 0 | S20: =F20-K20 -> 2 | T20: =F20-Q20 -> 2 | U20: 1 | V20: =F20-(Q20+U20) -> 1 | Y20: 1 | AA20: 1 | AD20: =K20/$F20 -> 0.84615385 | AE20: =L20/$F20 -> 0.23076923 | AF20: =O20/$F20 -> 0.53846154 | AG20: =M20/$F20 -> 0 | AH20: =P20/$F20 -> 0.61538462 | AI20: =N20/$F20 -> 0.69230769 | AJ20: =R20/$F20 -> 0 | AK20: =($F20-V20)/$F20 -> 0.92307692 | AM20: =Q20/$F20 -> 0.84615385 | AN20: =$AM20+W20/$F20 -> 0.84615385 | AO20: =$AM20+Z20/$F20 -> 0.84615385 | AP20: =$AM20+X20/$F20 -> 0.84615385 | AQ20: =$AM20+AA20/$F20 -> 0.92307692 | AR20: =$AM20+Y20/$F20 -> 0.92307692
A21: Ekeland 2010 | B21: Effectiveness of telemedicine: a systematic review of reviews | C21: 14 | D21: ACM Digital Library, British Nursing Index, Cochrane, DARE, HTA Database, CSA, Ovid Medline, Embase, HSTAT, INAHATA, PsychINFO, PubMed, TIE, Web of Science | E21: Nein | F21: 78 | G21: Y | H21: N | I21: N | J21: other | K21: 66 | L21: 30 | M21: 33 | N21: =1+76 -> 77 | O21: 63 | P21: 38 | Q21: 71 | R21: =Q21-K21 -> 5 | S21: =F21-K21 -> 12 | T21: =F21-Q21 -> 7 | U21: 7 | V21: =F21-(Q21+U21) -> 0 | W21: 2 | X21: 2 | Y21: 7 | Z21: 1 | AA21: 4 | AD21: =K21/$F21 -> 0.84615385 | AE21: =L21/$F21 -> 0.38461538 | AF21: =O21/$F21 -> 0.80769231 | AG21: =M21/$F21 -> 0.42307692 | AH21: =P21/$F21 -> 0.48717949 | AI21: =N21/$F21 -> 0.98717949 | AJ21: =R21/$F21 -> 0.064102564 | AK21: =($F21-V21)/$F21 -> 1 | AM21: =Q21/$F21 -> 0.91025641 | AN21: =$AM21+W21/$F21 -> 0.93589744 | AO21: =$AM21+Z21/$F21 -> 0.92307692 | AP21: =$AM21+X21/$F21 -> 0.93589744 | AQ21: =$AM21+AA21/$F21 -> 0.96153846 | AR21: =$AM21+Y21/$F21 -> 1
A22: Ernst 2010a ayurvedic | B22: Ayurvedic medicine: an overview of systematic reviews | C22: 12 | D22: Medline, Embase, Amed, CINAHL, Cochrane, Korean + Chinese DBs (7) | E22: Ja | F22: 5 | G22: Y | H22: N | I22: N | J22: other | K22: 5 | L22: 4 | M22: 1 | N22: 5 | O22: 5 | P22: 5 | Q22: 5 | R22: =Q22-K22 -> 0 | S22: =F22-K22 -> 0 | T22: =F22-Q22 -> 0 | V22: =F22-(Q22+U22) -> 0 | AD22: =K22/$F22 -> 1 | AE22: =L22/$F22 -> 0.8 | AF22: =O22/$F22 -> 1 | AG22: =M22/$F22 -> 0.2 | AH22: =P22/$F22 -> 1 | AI22: =N22/$F22 -> 1 | AJ22: =R22/$F22 -> 0 | AK22: =($F22-V22)/$F22 -> 1 | AM22: =Q22/$F22 -> 1 | AN22: =$AM22+W22/$F22 -> 1 | AO22: =$AM22+Z22/$F22 -> 1 | AP22: =$AM22+X22/$F22 -> 1 | AQ22: =$AM22+AA22/$F22 -> 1 | AR22: =$AM22+Y22/$F22 -> 1
A23: Ernst 2010b acupressure | B23: Acupressure: an overview of systematic reviews | C23: 11 | D23: Medline, Embase, CINAHL, Cochrane, Amed, Korean+Chinese DBs (6)§ | E23: Nein | F23: 7 | G23: Y | H23: N | I23: N | J23: other | K23: 6 | L23: 5 | M23: 0 | N23: 7 | O23: 7 | P23: 2 | Q23: 6 | R23: =Q23-K23 -> 0 | S23: =F23-K23 -> 1 | T23: =F23-Q23 -> 1 | U23: 1 | V23: =F23-(Q23+U23) -> 0 | W23: 1 | Y23: 1 | Z23: 1 | AA23: 1 | AD23: =K23/$F23 -> 0.85714286 | AE23: =L23/$F23 -> 0.71428571 | AF23: =O23/$F23 -> 1 | AG23: =M23/$F23 -> 0 | AH23: =P23/$F23 -> 0.28571429 | AI23: =N23/$F23 -> 1 | AJ23: =R23/$F23 -> 0 | AK23: =($F23-V23)/$F23 -> 1 | AM23: =Q23/$F23 -> 0.85714286 | AN23: =$AM23+W23/$F23 -> 1 | AO23: =$AM23+Z23/$F23 -> 1 | AP23: =$AM23+X23/$F23 -> 0.85714286 | AQ23: =$AM23+AA23/$F23 -> 1 | AR23: =$AM23+Y23/$F23 -> 1
A24: Ernst 2010c acupuncture rheuma | B24: Acupuncture for rheumatic conditions: an overview of systematic reviews | C24: 15 | D24: Medline, Embase, Amed, CINAHL, HTA Database, DARE, Cochrane, Korean DBs (6), Chinese DBs (2) | E24: Ja | F24: 25 | G24: Y | H24: N | I24: N | J24: other | K24: 24 | L24: 14 | M24: 1 | N24: 24 | O24: 23 | P24: 16 | Q24: 24 | R24: =Q24-K24 -> 0 | S24: =F24-K24 -> 1 | T24: =F24-Q24 -> 1 | U24: 1 | V24: =F24-(Q24+U24) -> 0 | Y24: 1 | AD24: =K24/$F24 -> 0.96 | AE24: =L24/$F24 -> 0.56 | AF24: =O24/$F24 -> 0.92 | AG24: =M24/$F24 -> 0.04 | AH24: =P24/$F24 -> 0.64 | AI24: =N24/$F24 -> 0.96 | AJ24: =R24/$F24 -> 0 | AK24: =($F24-V24)/$F24 -> 1 | AM24: =Q24/$F24 -> 0.96 | AN24: =$AM24+W24/$F24 -> 0.96 | AO24: =$AM24+Z24/$F24 -> 0.96 | AP24: =$AM24+X24/$F24 -> 0.96 | AQ24: =$AM24+AA24/$F24 -> 0.96 | AR24: =$AM24+Y24/$F24 -> 1
A25: Ernst 2010d yoga | B25: How effective is yoga? A concise overview of systematic reviews | C25: 12 | D25: Medline, Embase, Amed, CINAHL, Cochrane, Korean + Chinese DBs (7) | E25: Ja | F25: 18 | G25: Y | H25: N | I25: N | J25: other | K25: 16 | L25: 9 | M25: 6 | N25: 11 | O25: 16 | P25: 7 | Q25: 16 | R25: =Q25-K25 -> 0 | S25: =F25-K25 -> 2 | T25: =F25-Q25 -> 2 | U25: 1 | V25: =F25-(Q25+U25) -> 1 | X25: 1 | Z25: 1 | AD25: =K25/$F25 -> 0.88888889 | AE25: =L25/$F25 -> 0.5 | AF25: =O25/$F25 -> 0.88888889 | AG25: =M25/$F25 -> 0.33333333 | AH25: =P25/$F25 -> 0.38888889 | AI25: =N25/$F25 -> 0.61111111 | AJ25: =R25/$F25 -> 0 | AK25: =($F25-V25)/$F25 -> 0.94444444 | AM25: =Q25/$F25 -> 0.88888889 | AN25: =$AM25+W25/$F25 -> 0.88888889 | AO25: =$AM25+Z25/$F25 -> 0.94444444 | AP25: =$AM25+X25/$F25 -> 0.94444444 | AQ25: =$AM25+AA25/$F25 -> 0.88888889 | AR25: =$AM25+Y25/$F25 -> 0.88888889
A26: Ernst 2011a acupuncture depression | B26: Acupuncture for depression?: A systematic review of systematic reviews | C26: 13 | D26: Medline, Embase, Amed, CINAHL, Health Technology Assessments, DARE, Cochrane, 5 Korean medical database (Korean Studies Information, DBPIA, Korea Institute of Science and Technology Information, KoreaMed, and Research Information Service System), 1 Chinese database (CNKI) | E26: Ja | F26: 9 | G26: Y | H26: Y | I26: N | J26: other | K26: 6 | L26: 2 | M26: 4 | N26: 9 | O26: 8 | P26: 3 | Q26: =K26+0 -> 6 | R26: =Q26-K26 -> 0 | S26: =F26-K26 -> 3 | T26: =F26-Q26 -> 3 | U26: 3 | V26: =F26-(Q26+U26) -> 0 | W26: 0 | X26: 1 | Y26: 3 | Z26: 2 | AA26: 0 | AD26: =K26/$F26 -> 0.66666667 | AE26: =L26/$F26 -> 0.22222222 | AF26: =O26/$F26 -> 0.88888889 | AG26: =M26/$F26 -> 0.44444444 | AH26: =P26/$F26 -> 0.33333333 | AI26: =N26/$F26 -> 1 | AJ26: =R26/$F26 -> 0 | AK26: =($F26-V26)/$F26 -> 1 | AM26: =Q26/$F26 -> 0.66666667 | AN26: =$AM26+W26/$F26 -> 0.66666667 | AO26: =$AM26+Z26/$F26 -> 0.88888889 | AP26: =$AM26+X26/$F26 -> 0.77777778 | AQ26: =$AM26+AA26/$F26 -> 0.66666667 | AR26: =$AM26+Y26/$F26 -> 1
A27: Ernst 2011b acu insomnia | B27: Acupuncture for insomnia? An overview of systematic reviews | C27: 13 | D27: Medline, Embase, Amed, CINAHL, HTA Database, DARE, Cochrane, Korean+Chinese DBs (6)§ | E27: Ja | F27: 8 | G27: Y | H27: N | I27: N | J27: other | K27: 8 | L27: 5 | M27: 3 | N27: 8 | O27: 5 | P27: 8 | Q27: 8 | R27: =Q27-K27 -> 0 | S27: =F27-K27 -> 0 | T27: =F27-Q27 -> 0 | V27: =F27-(Q27+U27) -> 0 | AD27: =K27/$F27 -> 1 | AE27: =L27/$F27 -> 0.625 | AF27: =O27/$F27 -> 0.625 | AG27: =M27/$F27 -> 0.375 | AH27: =P27/$F27 -> 1 | AI27: =N27/$F27 -> 1 | AJ27: =R27/$F27 -> 0 | AK27: =($F27-V27)/$F27 -> 1 | AM27: =Q27/$F27 -> 1 | AN27: =$AM27+W27/$F27 -> 1 | AO27: =$AM27+Z27/$F27 -> 1 | AP27: =$AM27+X27/$F27 -> 1 | AQ27: =$AM27+AA27/$F27 -> 1 | AR27: =$AM27+Y27/$F27 -> 1
A28: Ernst 2011c CAM RA OA | B28: Complementary and alternative medicine for rheumatoid arthritis and osteoarthritis: an overview of systematic reviews | C28: 4 | D28: Medline, Embase, Amed, Cochrane | E28: Ja | F28: 5 | G28: Y | H28: N | I28: N | J28: other | K28: 5 | L28: 2 | M28: 0 | N28: 5 | O28: 5 | P28: 1 | Q28: 5 | R28: =Q28-K28 -> 0 | S28: =F28-K28 -> 0 | T28: =F28-Q28 -> 0 | V28: =F28-(Q28+U28) -> 0 | AD28: =K28/$F28 -> 1 | AE28: =L28/$F28 -> 0.4 | AF28: =O28/$F28 -> 1 | AG28: =M28/$F28 -> 0 | AH28: =P28/$F28 -> 0.2 | AI28: =N28/$F28 -> 1 | AJ28: =R28/$F28 -> 0 | AK28: =($F28-V28)/$F28 -> 1 | AM28: =Q28/$F28 -> 1 | AN28: =$AM28+W28/$F28 -> 1 | AO28: =$AM28+Z28/$F28 -> 1 | AP28: =$AM28+X28/$F28 -> 1 | AQ28: =$AM28+AA28/$F28 -> 1 | AR28: =$AM28+Y28/$F28 -> 1
A29: Ernst 2011d CAM sex | B29: Complementary and alternative medicine (CAM) for sexual dysfunction and erectile dysfunction in older men and women: an overview of systematic reviews | C29: 6 | D29: Medline, Embase, Amed, DARE, CINAHL, Cochrane | E29: Ja | F29: 4 | G29: Y | H29: N | I29: N | J29: other | K29: 4 | L29: 0 | M29: 0 | N29: 4 | O29: 4 | P29: 3 | Q29: 4 | R29: =Q29-K29 -> 0 | S29: =F29-K29 -> 0 | T29: =F29-Q29 -> 0 | V29: =F29-(Q29+U29) -> 0 | AD29: =K29/$F29 -> 1 | AE29: =L29/$F29 -> 0 | AF29: =O29/$F29 -> 1 | AG29: =M29/$F29 -> 0 | AH29: =P29/$F29 -> 0.75 | AI29: =N29/$F29 -> 1 | AJ29: =R29/$F29 -> 0 | AK29: =($F29-V29)/$F29 -> 1 | AM29: =Q29/$F29 -> 1 | AN29: =$AM29+W29/$F29 -> 1 | AO29: =$AM29+Z29/$F29 -> 1 | AP29: =$AM29+X29/$F29 -> 1 | AQ29: =$AM29+AA29/$F29 -> 1 | AR29: =$AM29+Y29/$F29 -> 1
A30: Flodgren 2011 | B30: An overview of reviews evaluating the effectiveness of financial incentives in changing healthcare professional behaviours and patient outcomes | C30: 11 | D30: Cochrane (SR) , DARE, TRIP, Medline, Embase, Science Citation Index, Social Science Citation Index, NHS EED, HEED, EconLit, Program in Policy Decision-Making | E30: Ja | F30: 4 | G30: Y | H30: N | I30: N | J30: Cochrane | K30: 4 | L30: 3 | M30: 0 | N30: 3 | O30: 3 | P30: 3 | Q30: 4 | R30: =Q30-K30 -> 0 | S30: =F30-K30 -> 0 | T30: =F30-Q30 -> 0 | V30: =F30-(Q30+U30) -> 0 | AD30: =K30/$F30 -> 1 | AE30: =L30/$F30 -> 0.75 | AF30: =O30/$F30 -> 0.75 | AG30: =M30/$F30 -> 0 | AH30: =P30/$F30 -> 0.75 | AI30: =N30/$F30 -> 0.75 | AJ30: =R30/$F30 -> 0 | AK30: =($F30-V30)/$F30 -> 1 | AM30: =Q30/$F30 -> 1 | AN30: =$AM30+W30/$F30 -> 1 | AO30: =$AM30+Z30/$F30 -> 1 | AP30: =$AM30+X30/$F30 -> 1 | AQ30: =$AM30+AA30/$F30 -> 1 | AR30: =$AM30+Y30/$F30 -> 1
A31: Gibson 2011 | B31: Housing and health inequalities: a synthesis of systematic reviews of interventions aimed at different pathways linking housing and health | C31: 6 | D31: CRD Wider Public Health database, Cochrane (SR), Criminal Justice Abstracts database, DARE, Campbell Collaboration Database , Evidence for Policy and Practice Information and Coordinating Centre database | E31: Ja | F31: 5 | G31: Y | H31: N | I31: N | J31: other | K31: 4 | L31: 3 | M31: 2 | N31: 5 | O31: 4 | P31: 3 | Q31: 4 | R31: =Q31-K31 -> 0 | S31: =F31-K31 -> 1 | T31: =F31-Q31 -> 1 | U31: 1 | V31: =F31-(Q31+U31) -> 0 | Y31: 1 | AD31: =K31/$F31 -> 0.8 | AE31: =L31/$F31 -> 0.6 | AF31: =O31/$F31 -> 0.8 | AG31: =M31/$F31 -> 0.4 | AH31: =P31/$F31 -> 0.6 | AI31: =N31/$F31 -> 1 | AJ31: =R31/$F31 -> 0 | AK31: =($F31-V31)/$F31 -> 1 | AM31: =Q31/$F31 -> 0.8 | AN31: =$AM31+W31/$F31 -> 0.8 | AO31: =$AM31+Z31/$F31 -> 0.8 | AP31: =$AM31+X31/$F31 -> 0.8 | AQ31: =$AM31+AA31/$F31 -> 0.8 | AR31: =$AM31+Y31/$F31 -> 1
A32: Greaves 2011 | B32: Systematic review of reviews of intervention components associated with increased effectiveness in dietary and physical activity interventions | C32: 5 | D32: Medline, Embase, CINAHL, PsychINFO, Cochrane | E32: Ja | F32: 29 | G32: Y | H32: N | I32: N | J32: other | K32: 29 | L32: 18 | M32: 10 | N32: 28 | O32: 27 | P32: 23 | Q32: 29 | R32: =Q32-K32 -> 0 | S32: =F32-K32 -> 0 | T32: =F32-Q32 -> 0 | V32: =F32-(Q32+U32) -> 0 | AD32: =K32/$F32 -> 1 | AE32: =L32/$F32 -> 0.62068966 | AF32: =O32/$F32 -> 0.93103448 | AG32: =M32/$F32 -> 0.34482759 | AH32: =P32/$F32 -> 0.79310345 | AI32: =N32/$F32 -> 0.96551724 | AJ32: =R32/$F32 -> 0 | AK32: =($F32-V32)/$F32 -> 1 | AM32: =Q32/$F32 -> 1 | AN32: =$AM32+W32/$F32 -> 1 | AO32: =$AM32+Z32/$F32 -> 1 | AP32: =$AM32+X32/$F32 -> 1 | AQ32: =$AM32+AA32/$F32 -> 1 | AR32: =$AM32+Y32/$F32 -> 1
A33: Heighes 2010 | B33: An overview of evidence from systematic reviews evaluating early enteral nutrition in critically ill patients: more convincing evidence is needed | C33: 2 | D33: Medline, Embase | E33: Ja | F33: 5 | G33: Y | H33: N | I33: N | J33: other | K33: 5 | L33: 4 | M33: 0 | N33: 5 | O33: 5 | P33: 5 | Q33: 5 | R33: =Q33-K33 -> 0 | S33: =F33-K33 -> 0 | T33: =F33-Q33 -> 0 | V33: =F33-(Q33+U33) -> 0 | AD33: =K33/$F33 -> 1 | AE33: =L33/$F33 -> 0.8 | AF33: =O33/$F33 -> 1 | AG33: =M33/$F33 -> 0 | AH33: =P33/$F33 -> 1 | AI33: =N33/$F33 -> 1 | AJ33: =R33/$F33 -> 0 | AK33: =($F33-V33)/$F33 -> 1 | AM33: =Q33/$F33 -> 1 | AN33: =$AM33+W33/$F33 -> 1 | AO33: =$AM33+Z33/$F33 -> 1 | AP33: =$AM33+X33/$F33 -> 1 | AQ33: =$AM33+AA33/$F33 -> 1 | AR33: =$AM33+Y33/$F33 -> 1
A34: Hillberg 2011 | B34: Review of meta-analyses on the association between child sexual abuse and adult mental health difficulties: a systematic approach | C34: 17 | D34: Campbell Collaboration Database, CRD Wider Public Health database, Cochrane, CINAHL, Cambridge Scientific Abstracts, Applied Social Science Index and Abstracts, Education Resources Information Center, Social Services Abstracts , Sociological Abstracts, Embase, Ovid Medline, Sience Direct, Social Service Information Gateway, Swetswise, PsychINFO, Zetoc, Web of Science | E34: Nein | F34: 7 | G34: N | H34: N | I34: N | J34: other | K34: 5 | L34: 2 | M34: 5 | N34: 4 | O34: 6 | P34: 0 | Q34: 7 | R34: =Q34-K34 -> 2 | S34: =F34-K34 -> 2 | T34: =F34-Q34 -> 0 | V34: =F34-(Q34+U34) -> 0 | AD34: =K34/$F34 -> 0.71428571 | AE34: =L34/$F34 -> 0.28571429 | AF34: =O34/$F34 -> 0.85714286 | AG34: =M34/$F34 -> 0.71428571 | AH34: =P34/$F34 -> 0 | AI34: =N34/$F34 -> 0.57142857 | AJ34: =R34/$F34 -> 0.28571429 | AK34: =($F34-V34)/$F34 -> 1 | AM34: =Q34/$F34 -> 1 | AN34: =$AM34+W34/$F34 -> 1 | AO34: =$AM34+Z34/$F34 -> 1 | AP34: =$AM34+X34/$F34 -> 1 | AQ34: =$AM34+AA34/$F34 -> 1 | AR34: =$AM34+Y34/$F34 -> 1
A35: Hopton 2010 | B35: Acupuncture for chronic pain: is acupuncture more than an effective placebo? A systematic review of pooled data from meta-analyses | C35: 4 | D35: Ovid Medline, Allied and Complementary Medicine database, Cochrane, Web of Science | E35: Ja | F35: 8 | G35: Y | H35: N | I35: N | J35: other | K35: 8 | L35: 4 | M35: 2 | N35: 8 | O35: 7 | P35: 6 | Q35: 8 | R35: =Q35-K35 -> 0 | S35: =F35-K35 -> 0 | T35: =F35-Q35 -> 0 | V35: =F35-(Q35+U35) -> 0 | AD35: =K35/$F35 -> 1 | AE35: =L35/$F35 -> 0.5 | AF35: =O35/$F35 -> 0.875 | AG35: =M35/$F35 -> 0.25 | AH35: =P35/$F35 -> 0.75 | AI35: =N35/$F35 -> 1 | AJ35: =R35/$F35 -> 0 | AK35: =($F35-V35)/$F35 -> 1 | AM35: =Q35/$F35 -> 1 | AN35: =$AM35+W35/$F35 -> 1 | AO35: =$AM35+Z35/$F35 -> 1 | AP35: =$AM35+X35/$F35 -> 1 | AQ35: =$AM35+AA35/$F35 -> 1 | AR35: =$AM35+Y35/$F35 -> 1
A36: Huguet 2009 | B36: Chemoradiotherapy in the management of locally advanced pancreatic carcinoma: a qualitative systematic review | C36: 1 | D36: Medline | E36: Ja | F36: 2 | G36: Y | H36: N | I36: N | J36: other | K36: 2 | L36: 0 | M36: 0 | N36: 1 | O36: 2 | P36: 2 | Q36: 2 | R36: =Q36-K36 -> 0 | S36: =F36-K36 -> 0 | T36: =F36-Q36 -> 0 | V36: =F36-(Q36+U36) -> 0 | AD36: =K36/$F36 -> 1 | AE36: =L36/$F36 -> 0 | AF36: =O36/$F36 -> 1 | AG36: =M36/$F36 -> 0 | AH36: =P36/$F36 -> 1 | AI36: =N36/$F36 -> 0.5 | AJ36: =R36/$F36 -> 0 | AK36: =($F36-V36)/$F36 -> 1 | AM36: =Q36/$F36 -> 1 | AN36: =$AM36+W36/$F36 -> 1 | AO36: =$AM36+Z36/$F36 -> 1 | AP36: =$AM36+X36/$F36 -> 1 | AQ36: =$AM36+AA36/$F36 -> 1 | AR36: =$AM36+Y36/$F36 -> 1
A37: IQWIG 2009a HTA | B37: Nutzenbewertung nichtmedikamentöser Behandlungsstrategien bei Patienten mit essenzieller Hypertonie: Kochsalzreduktion | C37: 5 | D37: Embase, Medline, Cochrane (SR), Dare, HTA | E37: Ja | F37: 7 | G37: Y | H37: N | I37: N | J37: HTA | K37: 7 | L37: 3 | M37: 0 | N37: 4 | O37: 7 | P37: 4 | Q37: 7 | R37: =Q37-K37 -> 0 | S37: =F37-K37 -> 0 | T37: =F37-Q37 -> 0 | V37: =F37-(Q37+U37) -> 0 | AD37: =K37/$F37 -> 1 | AE37: =L37/$F37 -> 0.42857143 | AF37: =O37/$F37 -> 1 | AG37: =M37/$F37 -> 0 | AH37: =P37/$F37 -> 0.57142857 | AI37: =N37/$F37 -> 0.57142857 | AJ37: =R37/$F37 -> 0 | AK37: =($F37-V37)/$F37 -> 1 | AM37: =Q37/$F37 -> 1 | AN37: =$AM37+W37/$F37 -> 1 | AO37: =$AM37+Z37/$F37 -> 1 | AP37: =$AM37+X37/$F37 -> 1 | AQ37: =$AM37+AA37/$F37 -> 1 | AR37: =$AM37+Y37/$F37 -> 1
A38: IQWIG 2009b PET-CT HTA | B38: Positronenemissionstomographie (PET und PET/CT) bei malignen Lymphomen | C38: 12 | D38: Embase, Medline, Cochrane (Trials, SR), DARE, SciSearch, HTA, NHS EED, IHTA, HSTAT, TRIP, DAHTA | E38: Ja | F38: 11 | G38: N | H38: N | I38: N | J38: HTA | K38: 5 | L38: 1 | M38: 0 | N38: 9 | O38: 3 | P38: 10 | Q38: 9 | R38: =Q38-K38 -> 4 | S38: =F38-K38 -> 6 | T38: =F38-Q38 -> 2 | U38: 2 | V38: =F38-(Q38+U38) -> 0 | Y38: 2 | AA38: 2 | AD38: =K38/$F38 -> 0.45454545 | AE38: =L38/$F38 -> 0.090909091 | AF38: =O38/$F38 -> 0.27272727 | AG38: =M38/$F38 -> 0 | AH38: =P38/$F38 -> 0.90909091 | AI38: =N38/$F38 -> 0.81818182 | AJ38: =R38/$F38 -> 0.36363636 | AK38: =($F38-V38)/$F38 -> 1 | AM38: =Q38/$F38 -> 0.81818182 | AN38: =$AM38+W38/$F38 -> 0.81818182 | AO38: =$AM38+Z38/$F38 -> 0.81818182 | AP38: =$AM38+X38/$F38 -> 0.81818182 | AQ38: =$AM38+AA38/$F38 -> 1 | AR38: =$AM38+Y38/$F38 -> 1
A39: IQWIG 2011a HTA | B39: Positronenemissionstomographie (PET) und PET/CT bei malignem Melanom | C39: 6 | D39: Medline, Embase, Cochrane (Trials, SR), DARE, HTA | E39: Ja | F39: 2 | G39: N | H39: N | I39: N | J39: HTA | K39: 2 | L39: 0 | M39: 0 | N39: 2 | O39: 1 | P39: 2 | Q39: 2 | R39: =Q39-K39 -> 0 | S39: =F39-K39 -> 0 | T39: =F39-Q39 -> 0 | V39: =F39-(Q39+U39) -> 0 | AD39: =K39/$F39 -> 1 | AE39: =L39/$F39 -> 0 | AF39: =O39/$F39 -> 0.5 | AG39: =M39/$F39 -> 0 | AH39: =P39/$F39 -> 1 | AI39: =N39/$F39 -> 1 | AJ39: =R39/$F39 -> 0 | AK39: =($F39-V39)/$F39 -> 1 | AM39: =Q39/$F39 -> 1 | AN39: =$AM39+W39/$F39 -> 1 | AO39: =$AM39+Z39/$F39 -> 1 | AP39: =$AM39+X39/$F39 -> 1 | AQ39: =$AM39+AA39/$F39 -> 1 | AR39: =$AM39+Y39/$F39 -> 1
A40: IQWIG 2011b neck cancer HTA | B40: Positronenemissionstomographie (PET) und PET/CT bei Kopf- und Halstumoren | C40: 6 | D40: Medline, Embase, Cochrane (Trials, SR), DARE, HTA | E40: Ja | F40: 2 | G40: N | H40: N | I40: N | J40: HTA | K40: 2 | L40: 0 | M40: 0 | N40: 2 | O40: 1 | P40: 2 | Q40: 2 | R40: =Q40-K40 -> 0 | S40: =F40-K40 -> 0 | T40: =F40-Q40 -> 0 | V40: =F40-(Q40+U40) -> 0 | AD40: =K40/$F40 -> 1 | AE40: =L40/$F40 -> 0 | AF40: =O40/$F40 -> 0.5 | AG40: =M40/$F40 -> 0 | AH40: =P40/$F40 -> 1 | AI40: =N40/$F40 -> 1 | AJ40: =R40/$F40 -> 0 | AK40: =($F40-V40)/$F40 -> 1 | AM40: =Q40/$F40 -> 1 | AN40: =$AM40+W40/$F40 -> 1 | AO40: =$AM40+Z40/$F40 -> 1 | AP40: =$AM40+X40/$F40 -> 1 | AQ40: =$AM40+AA40/$F40 -> 1 | AR40: =$AM40+Y40/$F40 -> 1
A41: Jepson 2010 | B41: The effectiveness of interventions to change six health behaviours: a review of reviews | C41: 8 | D41: CDSR, DARE, AMED, ERIC, Cinahl, EmBase, Medline, PsycINFO | E41: Nein | F41: 103 | G41: Y | H41: N | I41: N | J41: other | K41: 89 | L41: 55 | M41: 31 | N41: 94 | O41: 88 | P41: 90 | Q41: =4+K41 -> 93 | R41: =Q41-K41 -> 4 | S41: =F41-K41 -> 14 | T41: =F41-Q41 -> 10 | U41: 9 | V41: =F41-(Q41+U41) -> 1 | W41: 1 | X41: 3 | Y41: 9 | Z41: 1 | AA41: 6 | AD41: =K41/$F41 -> 0.86407767 | AE41: =L41/$F41 -> 0.53398058 | AF41: =O41/$F41 -> 0.85436893 | AG41: =M41/$F41 -> 0.30097087 | AH41: =P41/$F41 -> 0.87378641 | AI41: =N41/$F41 -> 0.91262136 | AJ41: =R41/$F41 -> 0.038834951 | AK41: =($F41-V41)/$F41 -> 0.99029126 | AM41: =Q41/$F41 -> 0.90291262 | AN41: =$AM41+W41/$F41 -> 0.91262136 | AO41: =$AM41+Z41/$F41 -> 0.91262136 | AP41: =$AM41+X41/$F41 -> 0.93203883 | AQ41: =$AM41+AA41/$F41 -> 0.96116505 | AR41: =$AM41+Y41/$F41 -> 0.99029126
A42: Kamioka 2010 | B42: Effectiveness of aquatic exercise and balneotherapy: a summary of systematic reviews based on randomized controlled trials of water immersion therapies | C42: 6 | D42: Cochrane (SR), PubMed, CINAHL, Web of Science, Jdream II, Ichushi-Web | E42: Nein | F42: 6 | G42: Y | H42: N | I42: N | J42: other | K42: 6 | L42: 4 | M42: 0 | N42: 4 | O42: 6 | P42: 5 | Q42: 6 | R42: =Q42-K42 -> 0 | S42: =F42-K42 -> 0 | T42: =F42-Q42 -> 0 | V42: =F42-(Q42+U42) -> 0 | AD42: =K42/$F42 -> 1 | AE42: =L42/$F42 -> 0.66666667 | AF42: =O42/$F42 -> 1 | AG42: =M42/$F42 -> 0 | AH42: =P42/$F42 -> 0.83333333 | AI42: =N42/$F42 -> 0.66666667 | AJ42: =R42/$F42 -> 0 | AK42: =($F42-V42)/$F42 -> 1 | AM42: =Q42/$F42 -> 1 | AN42: =$AM42+W42/$F42 -> 1 | AO42: =$AM42+Z42/$F42 -> 1 | AP42: =$AM42+X42/$F42 -> 1 | AQ42: =$AM42+AA42/$F42 -> 1 | AR42: =$AM42+Y42/$F42 -> 1
A43: Kang 2011 | B43: The use of acupuncture for managing gynaecologic conditions: An overview of systematic reviews | C43: 6 | D43: PubMed, Cochrane, Korean DBs (4)$ | E43: Ja | F43: 16 | G43: Y | H43: N | I43: N | J43: other | K43: 16 | L43: 7 | M43: 0 | N43: 16 | O43: 9 | P43: 9 | Q43: 16 | R43: =Q43-K43 -> 0 | S43: =F43-K43 -> 0 | T43: =F43-Q43 -> 0 | V43: =F43-(Q43+U43) -> 0 | AD43: =K43/$F43 -> 1 | AE43: =L43/$F43 -> 0.4375 | AF43: =O43/$F43 -> 0.5625 | AG43: =M43/$F43 -> 0 | AH43: =P43/$F43 -> 0.5625 | AI43: =N43/$F43 -> 1 | AJ43: =R43/$F43 -> 0 | AK43: =($F43-V43)/$F43 -> 1 | AM43: =Q43/$F43 -> 1 | AN43: =$AM43+W43/$F43 -> 1 | AO43: =$AM43+Z43/$F43 -> 1 | AP43: =$AM43+X43/$F43 -> 1 | AQ43: =$AM43+AA43/$F43 -> 1 | AR43: =$AM43+Y43/$F43 -> 1
A44: Keus 2010 | B44: Open, small-incision, or laparoscopic cholecystectomy for patients with symptomatic cholecystolithiasis. An overview of Cochrane Hepato-Biliary Group reviews | C44: 1 | D44: Cochrane (SR) | E44: Nein | F44: 3 | G44: Y | H44: N | I44: N | J44: Cochrane | K44: 3 | L44: 3 | M44: 0 | N44: 3 | O44: 3 | P44: 2 | Q44: 3 | R44: =Q44-K44 -> 0 | S44: =F44-K44 -> 0 | T44: =F44-Q44 -> 0 | V44: =F44-(Q44+U44) -> 0 | AD44: =K44/$F44 -> 1 | AE44: =L44/$F44 -> 1 | AF44: =O44/$F44 -> 1 | AG44: =M44/$F44 -> 0 | AH44: =P44/$F44 -> 0.66666667 | AI44: =N44/$F44 -> 1 | AJ44: =R44/$F44 -> 0 | AK44: =($F44-V44)/$F44 -> 1 | AM44: =Q44/$F44 -> 1 | AN44: =$AM44+W44/$F44 -> 1 | AO44: =$AM44+Z44/$F44 -> 1 | AP44: =$AM44+X44/$F44 -> 1 | AQ44: =$AM44+AA44/$F44 -> 1 | AR44: =$AM44+Y44/$F44 -> 1
A45: Khambalia 2012 | B45: A synthesis of existing systematic reviews and meta-analyses of school-based behavioural interventions for controlling and preventing obesity | C45: 5 | D45: PubMed, Medline, Embase, PsychINFO, Cochrane (SR) | E45: Ja | F45: 8 | G45: Y | H45: N | I45: Y | J45: other | K45: 7 | L45: 2 | M45: 4 | N45: 8 | O45: 7 | P45: 4 | Q45: 7 | R45: =Q45-K45 -> 0 | S45: =F45-K45 -> 1 | T45: =F45-Q45 -> 1 | U45: 1 | V45: =F45-(Q45+U45) -> 0 | X45: 1 | Y45: 1 | AA45: 1 | AD45: =K45/$F45 -> 0.875 | AE45: =L45/$F45 -> 0.25 | AF45: =O45/$F45 -> 0.875 | AG45: =M45/$F45 -> 0.5 | AH45: =P45/$F45 -> 0.5 | AI45: =N45/$F45 -> 1 | AJ45: =R45/$F45 -> 0 | AK45: =($F45-V45)/$F45 -> 1 | AM45: =Q45/$F45 -> 0.875 | AN45: =$AM45+W45/$F45 -> 0.875 | AO45: =$AM45+Z45/$F45 -> 0.875 | AP45: =$AM45+X45/$F45 -> 1 | AQ45: =$AM45+AA45/$F45 -> 1 | AR45: =$AM45+Y45/$F45 -> 1
A46: Kumar 2010 | B46: Treatment of patients with multiple myeloma: an overview of systematic reviews | C46: 2 | D46: PubMed, Cochrane (SR) | E46: Nein | F46: 10 | G46: Y | H46: N | I46: N | J46: other | K46: 10 | L46: 2 | M46: 0 | N46: 10 | O46: 9 | P46: 6 | Q46: 10 | R46: =Q46-K46 -> 0 | S46: =F46-K46 -> 0 | T46: =F46-Q46 -> 0 | V46: =F46-(Q46+U46) -> 0 | AD46: =K46/$F46 -> 1 | AE46: =L46/$F46 -> 0.2 | AF46: =O46/$F46 -> 0.9 | AG46: =M46/$F46 -> 0 | AH46: =P46/$F46 -> 0.6 | AI46: =N46/$F46 -> 1 | AJ46: =R46/$F46 -> 0 | AK46: =($F46-V46)/$F46 -> 1 | AM46: =Q46/$F46 -> 1 | AN46: =$AM46+W46/$F46 -> 1 | AO46: =$AM46+Z46/$F46 -> 1 | AP46: =$AM46+X46/$F46 -> 1 | AQ46: =$AM46+AA46/$F46 -> 1 | AR46: =$AM46+Y46/$F46 -> 1
A47: Lakke 2009 | B47: Risk and prognostic factors for non-specific musculoskeletal pain: a synthesis of evidence from systematic reviews classified into ICF dimensions | C47: 4 | D47: Medline, CINAHL, Embase, PsychINFO | E47: Ja | F47: 9 | G47: N | H47: N | I47: N | J47: other | K47: 9 | L47: 5 | M47: 2 | N47: 6 | O47: 9 | P47: 0 | Q47: 9 | R47: =Q47-K47 -> 0 | S47: =F47-K47 -> 0 | T47: =F47-Q47 -> 0 | V47: =F47-(Q47+U47) -> 0 | AD47: =K47/$F47 -> 1 | AE47: =L47/$F47 -> 0.55555556 | AF47: =O47/$F47 -> 1 | AG47: =M47/$F47 -> 0.22222222 | AH47: =P47/$F47 -> 0 | AI47: =N47/$F47 -> 0.66666667 | AJ47: =R47/$F47 -> 0 | AK47: =($F47-V47)/$F47 -> 1 | AM47: =Q47/$F47 -> 1 | AN47: =$AM47+W47/$F47 -> 1 | AO47: =$AM47+Z47/$F47 -> 1 | AP47: =$AM47+X47/$F47 -> 1 | AQ47: =$AM47+AA47/$F47 -> 1 | AR47: =$AM47+Y47/$F47 -> 1
A48: LBI 2011 HTA | B48: Sakralnervenstimulation bei fäkaler Inkontinenz. Rapid Assessment | C48: 3 | D48: Embase, Medline, Cochrane | E48: Ja | F48: 6 | G48: Y | H48: N | I48: N | J48: HTA | K48: 4 | L48: 0 | M48: 0 | N48: 4 | O48: 4 | P48: 2 | Q48: 5 | R48: =Q48-K48 -> 1 | S48: =F48-K48 -> 2 | T48: =F48-Q48 -> 1 | U48: 1 | V48: =F48-(Q48+U48) -> 0 | Y48: 1 | AD48: =K48/$F48 -> 0.66666667 | AE48: =L48/$F48 -> 0 | AF48: =O48/$F48 -> 0.66666667 | AG48: =M48/$F48 -> 0 | AH48: =P48/$F48 -> 0.33333333 | AI48: =N48/$F48 -> 0.66666667 | AJ48: =R48/$F48 -> 0.16666667 | AK48: =($F48-V48)/$F48 -> 1 | AM48: =Q48/$F48 -> 0.83333333 | AN48: =$AM48+W48/$F48 -> 0.83333333 | AO48: =$AM48+Z48/$F48 -> 0.83333333 | AP48: =$AM48+X48/$F48 -> 0.83333333 | AQ48: =$AM48+AA48/$F48 -> 0.83333333 | AR48: =$AM48+Y48/$F48 -> 1
A49: Lee 2011 | B49: Is cupping an effective treatment? An overview of systematic reviews | C49: 13 | D49: Medline, Embase, Amed, CINAHL, Cochrane, Korean DBs (6), Chinese DBs (2)& | E49: Ja | F49: 5 | G49: Y | H49: N | I49: N | J49: other | K49: 4 | L49: 1 | M49: 1 | N49: 4 | O49: 4 | P49: 1 | Q49: 5 | R49: =Q49-K49 -> 1 | S49: =F49-K49 -> 1 | T49: =F49-Q49 -> 0 | V49: =F49-(Q49+U49) -> 0 | AD49: =K49/$F49 -> 0.8 | AE49: =L49/$F49 -> 0.2 | AF49: =O49/$F49 -> 0.8 | AG49: =M49/$F49 -> 0.2 | AH49: =P49/$F49 -> 0.2 | AI49: =N49/$F49 -> 0.8 | AJ49: =R49/$F49 -> 0.2 | AK49: =($F49-V49)/$F49 -> 1 | AM49: =Q49/$F49 -> 1 | AN49: =$AM49+W49/$F49 -> 1 | AO49: =$AM49+Z49/$F49 -> 1 | AP49: =$AM49+X49/$F49 -> 1 | AQ49: =$AM49+AA49/$F49 -> 1 | AR49: =$AM49+Y49/$F49 -> 1
A50: Lenz 2009 | B50: Morbidität und Mortalität bei Übergewicht und Adipositas im Erwachsenenalter | C50: 3 | D50: Cochrane, PubMed, HTA | E50: Ja | F50: 27 | G50: N | H50: N | I50: N | J50: other | K50: 27 | L50: 9 | M50: 1 | N50: 17 | O50: 27 | P50: 1 | Q50: 27 | R50: =Q50-K50 -> 0 | S50: =F50-K50 -> 0 | T50: =F50-Q50 -> 0 | V50: =F50-(Q50+U50) -> 0 | AD50: =K50/$F50 -> 1 | AE50: =L50/$F50 -> 0.33333333 | AF50: =O50/$F50 -> 1 | AG50: =M50/$F50 -> 0.037037037 | AH50: =P50/$F50 -> 0.037037037 | AI50: =N50/$F50 -> 0.62962963 | AJ50: =R50/$F50 -> 0 | AK50: =($F50-V50)/$F50 -> 1 | AM50: =Q50/$F50 -> 1 | AN50: =$AM50+W50/$F50 -> 1 | AO50: =$AM50+Z50/$F50 -> 1 | AP50: =$AM50+X50/$F50 -> 1 | AQ50: =$AM50+AA50/$F50 -> 1 | AR50: =$AM50+Y50/$F50 -> 1
A51: List 2010 | B51: Management of TMD: evidence from systematic reviews and meta-analyses | C51: 3 | D51: PubMed, Cochrane, Bandolier | E51: Ja | F51: 29 | G51: Y | H51: N | I51: N | J51: other | K51: 27 | L51: 14 | M51: 1 | N51: =1+17 -> 18 | O51: 22 | P51: 13 | Q51: 28 | R51: =Q51-K51 -> 1 | S51: =F51-K51 -> 2 | T51: =F51-Q51 -> 1 | U51: 1 | V51: =F51-(Q51+U51) -> 0 | Y51: 1 | AA51: 1 | AD51: =K51/$F51 -> 0.93103448 | AE51: =L51/$F51 -> 0.48275862 | AF51: =O51/$F51 -> 0.75862069 | AG51: =M51/$F51 -> 0.034482759 | AH51: =P51/$F51 -> 0.44827586 | AI51: =N51/$F51 -> 0.62068966 | AJ51: =R51/$F51 -> 0.034482759 | AK51: =($F51-V51)/$F51 -> 1 | AM51: =Q51/$F51 -> 0.96551724 | AN51: =$AM51+W51/$F51 -> 0.96551724 | AO51: =$AM51+Z51/$F51 -> 0.96551724 | AP51: =$AM51+X51/$F51 -> 0.96551724 | AQ51: =$AM51+AA51/$F51 -> 1 | AR51: =$AM51+Y51/$F51 -> 1
A52: Maniglio 2009 | B52: The impact of child sexual abuse on health: a systematic review of reviews | C52: 7 | D52: Amed, Cochrane (SR), EBSCO, Education Resources Information Center, Medline, PsychINFO, Science Direct | E52: Ja | F52: 14 | G52: N | H52: N | I52: N | J52: other | K52: 12 | L52: 4 | M52: 12 | N52: 10 | O52: 12 | P52: 2 | Q52: 14 | R52: =Q52-K52 -> 2 | S52: =F52-K52 -> 2 | T52: =F52-Q52 -> 0 | V52: =F52-(Q52+U52) -> 0 | AD52: =K52/$F52 -> 0.85714286 | AE52: =L52/$F52 -> 0.28571429 | AF52: =O52/$F52 -> 0.85714286 | AG52: =M52/$F52 -> 0.85714286 | AH52: =P52/$F52 -> 0.14285714 | AI52: =N52/$F52 -> 0.71428571 | AJ52: =R52/$F52 -> 0.14285714 | AK52: =($F52-V52)/$F52 -> 1 | AM52: =Q52/$F52 -> 1 | AN52: =$AM52+W52/$F52 -> 1 | AO52: =$AM52+Z52/$F52 -> 1 | AP52: =$AM52+X52/$F52 -> 1 | AQ52: =$AM52+AA52/$F52 -> 1 | AR52: =$AM52+Y52/$F52 -> 1
A53: Maniglio 2010 | B53: Child sexual abuse in the etiology of depression: A systematic review of reviews | C53: 7 | D53: Amed, Cochrane (SR), EBSCO, Education Resources Information Center, Medline, PsychINFO, Science Direct | E53: Ja | F53: 4 | G53: N | H53: Y | I53: N | J53: other | K53: 3 | L53: 1 | M53: 3 | N53: 2 | O53: 3 | P53: 0 | Q53: 4 | R53: =Q53-K53 -> 1 | S53: =F53-K53 -> 1 | T53: =F53-Q53 -> 0 | V53: =F53-(Q53+U53) -> 0 | AD53: =K53/$F53 -> 0.75 | AE53: =L53/$F53 -> 0.25 | AF53: =O53/$F53 -> 0.75 | AG53: =M53/$F53 -> 0.75 | AH53: =P53/$F53 -> 0 | AI53: =N53/$F53 -> 0.5 | AJ53: =R53/$F53 -> 0.25 | AK53: =($F53-V53)/$F53 -> 1 | AM53: =Q53/$F53 -> 1 | AN53: =$AM53+W53/$F53 -> 1 | AO53: =$AM53+Z53/$F53 -> 1 | AP53: =$AM53+X53/$F53 -> 1 | AQ53: =$AM53+AA53/$F53 -> 1 | AR53: =$AM53+Y53/$F53 -> 1
A54: Matheson 2010 | B54: Quality assessment and comparison of evidence for electroconvulsive therapy and repetitive transcranial magnetic stimulation for schizophrenia: a systematic meta-review | C54: 6 | D54: Medline, Embase, CINAHL, Current Contents, PsycINFO, Cochrane | E54: Ja | F54: 5 | G54: Y | H54: N | I54: N | J54: other | K54: 5 | L54: 1 | M54: 2 | N54: 5 | O54: 5 | P54: 4 | Q54: 5 | R54: =Q54-K54 -> 0 | S54: =F54-K54 -> 0 | T54: =F54-Q54 -> 0 | V54: =F54-(Q54+U54) -> 0 | AD54: =K54/$F54 -> 1 | AE54: =L54/$F54 -> 0.2 | AF54: =O54/$F54 -> 1 | AG54: =M54/$F54 -> 0.4 | AH54: =P54/$F54 -> 0.8 | AI54: =N54/$F54 -> 1 | AJ54: =R54/$F54 -> 0 | AK54: =($F54-V54)/$F54 -> 1 | AM54: =Q54/$F54 -> 1 | AN54: =$AM54+W54/$F54 -> 1 | AO54: =$AM54+Z54/$F54 -> 1 | AP54: =$AM54+X54/$F54 -> 1 | AQ54: =$AM54+AA54/$F54 -> 1 | AR54: =$AM54+Y54/$F54 -> 1
A55: Matheson 2011 | B55: A systematic meta-review grading the evidence for non-genetic risk factors and putative antecedents of schizophrenia | C55: 5 | D55: Medline, Embase, CINAHL, Current Contents, PsycINFO | E55: Ja | F55: 24 | G55: N | H55: N | I55: N | J55: other | K55: 24 | L55: 5 | M55: 18 | N55: 16 | O55: 21 | P55: 1 | Q55: 24 | R55: =Q55-K55 -> 0 | S55: =F55-K55 -> 0 | T55: =F55-Q55 -> 0 | V55: =F55-(Q55+U55) -> 0 | AD55: =K55/$F55 -> 1 | AE55: =L55/$F55 -> 0.20833333 | AF55: =O55/$F55 -> 0.875 | AG55: =M55/$F55 -> 0.75 | AH55: =P55/$F55 -> 0.041666667 | AI55: =N55/$F55 -> 0.66666667 | AJ55: =R55/$F55 -> 0 | AK55: =($F55-V55)/$F55 -> 1 | AM55: =Q55/$F55 -> 1 | AN55: =$AM55+W55/$F55 -> 1 | AO55: =$AM55+Z55/$F55 -> 1 | AP55: =$AM55+X55/$F55 -> 1 | AQ55: =$AM55+AA55/$F55 -> 1 | AR55: =$AM55+Y55/$F55 -> 1
A56: Matyas 2011 | B56: Benefit assessment of salt reduction in patients with hypertension: systematic overview | C56: 5 | D56: Embase, Medline, Chochrane (HTA, SR), DARE | E56: Nein | F56: 7 | G56: Y | H56: N | I56: N | J56: other | K56: 7 | L56: 3 | M56: 0 | N56: 6 | O56: 7 | P56: 4 | Q56: 7 | R56: =Q56-K56 -> 0 | S56: =F56-K56 -> 0 | T56: =F56-Q56 -> 0 | V56: =F56-(Q56+U56) -> 0 | AD56: =K56/$F56 -> 1 | AE56: =L56/$F56 -> 0.42857143 | AF56: =O56/$F56 -> 1 | AG56: =M56/$F56 -> 0 | AH56: =P56/$F56 -> 0.57142857 | AI56: =N56/$F56 -> 0.85714286 | AJ56: =R56/$F56 -> 0 | AK56: =($F56-V56)/$F56 -> 1 | AM56: =Q56/$F56 -> 1 | AN56: =$AM56+W56/$F56 -> 1 | AO56: =$AM56+Z56/$F56 -> 1 | AP56: =$AM56+X56/$F56 -> 1 | AQ56: =$AM56+AA56/$F56 -> 1 | AR56: =$AM56+Y56/$F56 -> 1
A57: Melnik 2010 | B57: Efficacy and safety of atypical antipsychotic drugs (quetiapine, risperidone, aripiprazole and paliperidone) compared with placebo or typical antipsychotic drugs for treating refractory schizophrenia: overview of systematic reviews | C57: 4 | D57: Medline, Cochrane (Trials), Embase, Lilacs, | E57: Ja | F57: 7 | G57: Y | H57: Y | I57: N | J57: other | K57: 7 | L57: 7 | M57: 1 | N57: 6 | O57: 7 | P57: 5 | Q57: 7 | R57: =Q57-K57 -> 0 | S57: =F57-K57 -> 0 | T57: =F57-Q57 -> 0 | V57: =F57-(Q57+U57) -> 0 | AD57: =K57/$F57 -> 1 | AE57: =L57/$F57 -> 1 | AF57: =O57/$F57 -> 1 | AG57: =M57/$F57 -> 0.14285714 | AH57: =P57/$F57 -> 0.71428571 | AI57: =N57/$F57 -> 0.85714286 | AJ57: =R57/$F57 -> 0 | AK57: =($F57-V57)/$F57 -> 1 | AM57: =Q57/$F57 -> 1 | AN57: =$AM57+W57/$F57 -> 1 | AO57: =$AM57+Z57/$F57 -> 1 | AP57: =$AM57+X57/$F57 -> 1 | AQ57: =$AM57+AA57/$F57 -> 1 | AR57: =$AM57+Y57/$F57 -> 1
A58: Mikton 2009 | B58: Child maltreatment prevention: a systematic review of reviews | C58: 14 | D58: Medline, PsychINFO, Embase, CINAHL, Social Sciences Citation Index, Science Citation Index, LILACS, ERIC, NCJRS, Campbell Library, Cochrane Library, WorldWideScience, KoreaMed, IndMED | E58: Ja | F58: 14 | G58: Y | H58: N | I58: N | J58: other | K58: 8 | L58: 4 | M58: 7 | N58: 14 | O58: 8 | P58: 3 | Q58: 9 | R58: =Q58-K58 -> 1 | S58: =F58-K58 -> 6 | T58: =F58-Q58 -> 5 | U58: 5 | V58: =F58-(Q58+U58) -> 0 | W58: 1 | X58: 2 | Y58: 5 | AD58: =K58/$F58 -> 0.57142857 | AE58: =L58/$F58 -> 0.28571429 | AF58: =O58/$F58 -> 0.57142857 | AG58: =M58/$F58 -> 0.5 | AH58: =P58/$F58 -> 0.21428571 | AI58: =N58/$F58 -> 1 | AJ58: =R58/$F58 -> 0.071428571 | AK58: =($F58-V58)/$F58 -> 1 | AM58: =Q58/$F58 -> 0.64285714 | AN58: =$AM58+W58/$F58 -> 0.71428571 | AO58: =$AM58+Z58/$F58 -> 0.64285714 | AP58: =$AM58+X58/$F58 -> 0.78571429 | AQ58: =$AM58+AA58/$F58 -> 0.64285714 | AR58: =$AM58+Y58/$F58 -> 1
A59: Minozzi 2010 | B59: An overview of systematic reviews on cannabis and psychosis: discussing apparently conflicting results | C59: 3 | D59: Medline, Embase, CINAHL | E59: Ja | F59: 5 | G59: N | H59: Y | I59: N | J59: other | K59: 5 | L59: 2 | M59: 3 | N59: 5 | O59: 4 | P59: 1 | Q59: 5 | R59: =Q59-K59 -> 0 | S59: =F59-K59 -> 0 | T59: =F59-Q59 -> 0 | V59: =F59-(Q59+U59) -> 0 | AD59: =K59/$F59 -> 1 | AE59: =L59/$F59 -> 0.4 | AF59: =O59/$F59 -> 0.8 | AG59: =M59/$F59 -> 0.6 | AH59: =P59/$F59 -> 0.2 | AI59: =N59/$F59 -> 1 | AJ59: =R59/$F59 -> 0 | AK59: =($F59-V59)/$F59 -> 1 | AM59: =Q59/$F59 -> 1 | AN59: =$AM59+W59/$F59 -> 1 | AO59: =$AM59+Z59/$F59 -> 1 | AP59: =$AM59+X59/$F59 -> 1 | AQ59: =$AM59+AA59/$F59 -> 1 | AR59: =$AM59+Y59/$F59 -> 1
A60: Moe 2009 | B60: There is inadequate evidence to determine the effectiveness of nonpharmacological and nonsurgical interventions for hand osteoarthritis: an overview of high-quality systematic reviews | C60: 7 | D60: Cochrane (SR), DARE, Medline, Embase, PEDro, PsychINFO, CINAHL | E60: Ja | F60: 4 | G60: Y | H60: N | I60: N | J60: other | K60: 4 | L60: 1 | M60: 4 | N60: 4 | O60: 4 | P60: 4 | Q60: 4 | R60: =Q60-K60 -> 0 | S60: =F60-K60 -> 0 | T60: =F60-Q60 -> 0 | V60: =F60-(Q60+U60) -> 0 | AD60: =K60/$F60 -> 1 | AE60: =L60/$F60 -> 0.25 | AF60: =O60/$F60 -> 1 | AG60: =M60/$F60 -> 1 | AH60: =P60/$F60 -> 1 | AI60: =N60/$F60 -> 1 | AJ60: =R60/$F60 -> 0 | AK60: =($F60-V60)/$F60 -> 1 | AM60: =Q60/$F60 -> 1 | AN60: =$AM60+W60/$F60 -> 1 | AO60: =$AM60+Z60/$F60 -> 1 | AP60: =$AM60+X60/$F60 -> 1 | AQ60: =$AM60+AA60/$F60 -> 1 | AR60: =$AM60+Y60/$F60 -> 1
A61: Monasta 2010 | B61: Early-life determinants of overweight and obesity: a review of systematic reviews | C61: 7 | D61: Medline, Embase, Web of Science, Cochrane (Trials), DARE, CINAHL, PsychINFO | E61: Nein | F61: 22 | G61: N | H61: N | I61: N | J61: other | K61: 21 | L61: 10 | M61: 0 | N61: 11 | O61: 19 | P61: 3 | Q61: 21 | R61: =Q61-K61 -> 0 | S61: =F61-K61 -> 1 | T61: =F61-Q61 -> 1 | V61: =F61-(Q61+U61) -> 1 | AD61: =K61/$F61 -> 0.95454545 | AE61: =L61/$F61 -> 0.45454545 | AF61: =O61/$F61 -> 0.86363636 | AG61: =M61/$F61 -> 0 | AH61: =P61/$F61 -> 0.13636364 | AI61: =N61/$F61 -> 0.5 | AJ61: =R61/$F61 -> 0 | AK61: =($F61-V61)/$F61 -> 0.95454545 | AM61: =Q61/$F61 -> 0.95454545 | AN61: =$AM61+W61/$F61 -> 0.95454545 | AO61: =$AM61+Z61/$F61 -> 0.95454545 | AP61: =$AM61+X61/$F61 -> 0.95454545 | AQ61: =$AM61+AA61/$F61 -> 0.95454545 | AR61: =$AM61+Y61/$F61 -> 0.95454545
A62: Mungpaisan 2010 | B62: Systematic review of statins for the prevention of vascular dementia or dementia | C62: 4 | D62: Cochrane (Trials), Medline, Embase, PsycINFO | E62: Ja | F62: 2 | G62: Y | H62: N | I62: N | J62: other | K62: 2 | L62: 1 | M62: 2 | N62: 2 | O62: 2 | P62: 2 | Q62: 2 | R62: =Q62-K62 -> 0 | S62: =F62-K62 -> 0 | T62: =F62-Q62 -> 0 | V62: =F62-(Q62+U62) -> 0 | AD62: =K62/$F62 -> 1 | AE62: =L62/$F62 -> 0.5 | AF62: =O62/$F62 -> 1 | AG62: =M62/$F62 -> 1 | AH62: =P62/$F62 -> 1 | AI62: =N62/$F62 -> 1 | AJ62: =R62/$F62 -> 0 | AK62: =($F62-V62)/$F62 -> 1 | AM62: =Q62/$F62 -> 1 | AN62: =$AM62+W62/$F62 -> 1 | AO62: =$AM62+Z62/$F62 -> 1 | AP62: =$AM62+X62/$F62 -> 1 | AQ62: =$AM62+AA62/$F62 -> 1 | AR62: =$AM62+Y62/$F62 -> 1
A63: O´Connor 2009 | B63: Screening for Depression in Adults and Older Adults in Primary Care: An Updated Systematic Review | C63: 5 | D63: Medline, Cochrane (Trials, SR), DARE, PsychINFO | E63: Ja | F63: 28 | G63: N | H63: Y | I63: N | J63: other | K63: 23 | L63: 7 | M63: 20 | N63: =1+12 -> 13 | O63: 23 | P63: 8 | Q63: 27 | R63: =Q63-K63 -> 4 | S63: =F63-K63 -> 5 | T63: =F63-Q63 -> 1 | U63: 1 | V63: =F63-(Q63+U63) -> 0 | X63: 1 | Y63: 1 | Z63: 1 | AD63: =K63/$F63 -> 0.82142857 | AE63: =L63/$F63 -> 0.25 | AF63: =O63/$F63 -> 0.82142857 | AG63: =M63/$F63 -> 0.71428571 | AH63: =P63/$F63 -> 0.28571429 | AI63: =N63/$F63 -> 0.46428571 | AJ63: =R63/$F63 -> 0.14285714 | AK63: =($F63-V63)/$F63 -> 1 | AM63: =Q63/$F63 -> 0.96428571 | AN63: =$AM63+W63/$F63 -> 0.96428571 | AO63: =$AM63+Z63/$F63 -> 1 | AP63: =$AM63+X63/$F63 -> 1 | AQ63: =$AM63+AA63/$F63 -> 0.96428571 | AR63: =$AM63+Y63/$F63 -> 1
A64: Oestergaard 2011 | B64: Improving outcomes for patients with depression by enhancing antidepressant therapy with non-pharmacological interventions: a systematic review of reviews | C64: 6 | D64: PubMed, Embase, International Pharmaceutical Abstracts, Web of Science, PsycINFO, Cochrane | E64: Ja | F64: 19 | G64: Y | H64: Y | I64: Y | J64: other | K64: 18 | L64: 5 | M64: 12 | N64: 11 | O64: 15 | P64: 9 | Q64: 19 | R64: =Q64-K64 -> 1 | S64: =F64-K64 -> 1 | T64: =F64-Q64 -> 0 | V64: =F64-(Q64+U64) -> 0 | AD64: =K64/$F64 -> 0.94736842 | AE64: =L64/$F64 -> 0.26315789 | AF64: =O64/$F64 -> 0.78947368 | AG64: =M64/$F64 -> 0.63157895 | AH64: =P64/$F64 -> 0.47368421 | AI64: =N64/$F64 -> 0.57894737 | AJ64: =R64/$F64 -> 0.052631579 | AK64: =($F64-V64)/$F64 -> 1 | AM64: =Q64/$F64 -> 1 | AN64: =$AM64+W64/$F64 -> 1 | AO64: =$AM64+Z64/$F64 -> 1 | AP64: =$AM64+X64/$F64 -> 1 | AQ64: =$AM64+AA64/$F64 -> 1 | AR64: =$AM64+Y64/$F64 -> 1
A65: Onakpoya 2011 | B65: Food supplements for body weight reduction: a systematic review of systematic reviews | C65: 5 | D65: Medline, Embase, Cochrane, Amed, CINAHL | E65: Ja | F65: 9 | G65: Y | H65: N | I65: N | J65: other | K65: 9 | L65: 5 | M65: 0 | N65: 7 | O65: 8 | P65: 5 | Q65: 9 | R65: =Q65-K65 -> 0 | S65: =F65-K65 -> 0 | T65: =F65-Q65 -> 0 | V65: =F65-(Q65+U65) -> 0 | AD65: =K65/$F65 -> 1 | AE65: =L65/$F65 -> 0.55555556 | AF65: =O65/$F65 -> 0.88888889 | AG65: =M65/$F65 -> 0 | AH65: =P65/$F65 -> 0.55555556 | AI65: =N65/$F65 -> 0.77777778 | AJ65: =R65/$F65 -> 0 | AK65: =($F65-V65)/$F65 -> 1 | AM65: =Q65/$F65 -> 1 | AN65: =$AM65+W65/$F65 -> 1 | AO65: =$AM65+Z65/$F65 -> 1 | AP65: =$AM65+X65/$F65 -> 1 | AQ65: =$AM65+AA65/$F65 -> 1 | AR65: =$AM65+Y65/$F65 -> 1
A66: Oxman 2009 | B66: Can paying for results help to achieve the Millennium Development Goals? Overview of the effectiveness of results-based financing | C66: 5 | D66: Cochrane (SR), DARE, Embase, Medline, PubMed | E66: Ja | F66: 13 | G66: N | H66: N | I66: N | J66: other | K66: 12 | L66: 6 | M66: 2 | N66: 12 | O66: 11 | P66: 6 | Q66: 12 | R66: =Q66-K66 -> 0 | S66: =F66-K66 -> 1 | T66: =F66-Q66 -> 1 | U66: 1 | V66: =F66-(Q66+U66) -> 0 | Y66: 1 | AA66: 1 | AD66: =K66/$F66 -> 0.92307692 | AE66: =L66/$F66 -> 0.46153846 | AF66: =O66/$F66 -> 0.84615385 | AG66: =M66/$F66 -> 0.15384615 | AH66: =P66/$F66 -> 0.46153846 | AI66: =N66/$F66 -> 0.92307692 | AJ66: =R66/$F66 -> 0 | AK66: =($F66-V66)/$F66 -> 1 | AM66: =Q66/$F66 -> 0.92307692 | AN66: =$AM66+W66/$F66 -> 0.92307692 | AO66: =$AM66+Z66/$F66 -> 0.92307692 | AP66: =$AM66+X66/$F66 -> 0.92307692 | AQ66: =$AM66+AA66/$F66 -> 1 | AR66: =$AM66+Y66/$F66 -> 1
A67: Palmateer 2010 | B67: Evidence for the effectiveness of sterile injecting equipment provision in preventing hepatitis C and human immunodeficiency virus transmission among injecting drug users: a review of reviews | C67: 6 | D67: CINAHL, Cochrane, Embase, IBSS, Medline, PsychINFO | E67: Ja | F67: 5 | G67: Y | H67: N | I67: N | J67: other | K67: 3 | L67: 0 | M67: 2 | N67: =2+1 -> 3 | O67: 3 | P67: 2 | Q67: 3 | R67: =Q67-K67 -> 0 | S67: =F67-K67 -> 2 | T67: =F67-Q67 -> 2 | U67: 2 | V67: =F67-(Q67+U67) -> 0 | Y67: 2 | AD67: =K67/$F67 -> 0.6 | AE67: =L67/$F67 -> 0 | AF67: =O67/$F67 -> 0.6 | AG67: =M67/$F67 -> 0.4 | AH67: =P67/$F67 -> 0.4 | AI67: =N67/$F67 -> 0.6 | AJ67: =R67/$F67 -> 0 | AK67: =($F67-V67)/$F67 -> 1 | AM67: =Q67/$F67 -> 0.6 | AN67: =$AM67+W67/$F67 -> 0.6 | AO67: =$AM67+Z67/$F67 -> 0.6 | AP67: =$AM67+X67/$F67 -> 0.6 | AQ67: =$AM67+AA67/$F67 -> 0.6 | AR67: =$AM67+Y67/$F67 -> 1
A68: Peters 2009 | B68: Effective elements of school health promotion across behavioral domains: a systematic review of reviews | C68: 3 | D68: Pubmed, PsycINFO, ERIC | E68: Ja | F68: 55 | G68: Y | H68: N | I68: N | J68: other | K68: 38 | L68: 25 | M68: 40 | N68: 52 | O68: 42 | P68: 16 | Q68: 48 | R68: =Q68-K68 -> 10 | S68: =F68-K68 -> 17 | T68: =F68-Q68 -> 7 | U68: 7 | V68: =F68-(Q68+U68) -> 0 | W68: 2 | X68: 3 | Y68: 6 | AA68: 1 | AD68: =K68/$F68 -> 0.69090909 | AE68: =L68/$F68 -> 0.45454545 | AF68: =O68/$F68 -> 0.76363636 | AG68: =M68/$F68 -> 0.72727273 | AH68: =P68/$F68 -> 0.29090909 | AI68: =N68/$F68 -> 0.94545455 | AJ68: =R68/$F68 -> 0.18181818 | AK68: =($F68-V68)/$F68 -> 1 | AM68: =Q68/$F68 -> 0.87272727 | AN68: =$AM68+W68/$F68 -> 0.90909091 | AO68: =$AM68+Z68/$F68 -> 0.87272727 | AP68: =$AM68+X68/$F68 -> 0.92727273 | AQ68: =$AM68+AA68/$F68 -> 0.89090909 | AR68: =$AM68+Y68/$F68 -> 0.98181818
A69: Posadzki 2011a | B69: Spinal manipulation: an update of a systematic review of systematic reviews | C69: 4 | D69: Medline, Embase, AMED, Cochrane | E69: Nein | F69: 44 | G69: Y | H69: N | I69: N | J69: other | K69: 41 | L69: 27 | M69: 2 | N69: 41 | O69: 38 | P69: 20 | Q69: 42 | R69: =Q69-K69 -> 1 | S69: =F69-K69 -> 3 | T69: =F69-Q69 -> 2 | U69: 2 | V69: =F69-(Q69+U69) -> 0 | W69: 1 | Y69: 2 | AA69: 1 | AD69: =K69/$F69 -> 0.93181818 | AE69: =L69/$F69 -> 0.61363636 | AF69: =O69/$F69 -> 0.86363636 | AG69: =M69/$F69 -> 0.045454545 | AH69: =P69/$F69 -> 0.45454545 | AI69: =N69/$F69 -> 0.93181818 | AJ69: =R69/$F69 -> 0.022727273 | AK69: =($F69-V69)/$F69 -> 1 | AM69: =Q69/$F69 -> 0.95454545 | AN69: =$AM69+W69/$F69 -> 0.97727273 | AO69: =$AM69+Z69/$F69 -> 0.95454545 | AP69: =$AM69+X69/$F69 -> 0.95454545 | AQ69: =$AM69+AA69/$F69 -> 0.97727273 | AR69: =$AM69+Y69/$F69 -> 1
A70: Posadzki 2011b headache | B70: Systematic reviews of spinal manipulations for headaches: an attempt to clear up the confusion | C70: 6 | D70: Medline, Embase, Cochrane, Amed, CINAHL, PsychINFO | E70: Ja | F70: 6 | G70: Y | H70: N | I70: N | J70: other | K70: 6 | L70: 4 | M70: 0 | N70: 6 | O70: 5 | P70: 5 | Q70: 6 | R70: =Q70-K70 -> 0 | S70: =F70-K70 -> 0 | T70: =F70-Q70 -> 0 | V70: =F70-(Q70+U70) -> 0 | AD70: =K70/$F70 -> 1 | AE70: =L70/$F70 -> 0.66666667 | AF70: =O70/$F70 -> 0.83333333 | AG70: =M70/$F70 -> 0 | AH70: =P70/$F70 -> 0.83333333 | AI70: =N70/$F70 -> 1 | AJ70: =R70/$F70 -> 0 | AK70: =($F70-V70)/$F70 -> 1 | AM70: =Q70/$F70 -> 1 | AN70: =$AM70+W70/$F70 -> 1 | AO70: =$AM70+Z70/$F70 -> 1 | AP70: =$AM70+X70/$F70 -> 1 | AQ70: =$AM70+AA70/$F70 -> 1 | AR70: =$AM70+Y70/$F70 -> 1
A71: Ryan 2011 | B71: Consumer-oriented interventions for evidence-based prescribing and medicines use: an overview of systematic reviews | C71: 2 | D71: Cochrane (SR), DARE | E71: Nein | F71: 38 | G71: Y | H71: N | I71: N | J71: Cochrane | K71: 37 | L71: 20 | M71: 4 | N71: 29 | O71: 36 | P71: 29 | Q71: 37 | R71: =Q71-K71 -> 0 | S71: =F71-K71 -> 1 | T71: =F71-Q71 -> 1 | U71: 1 | V71: =F71-(Q71+U71) -> 0 | Y71: 1 | Z71: 1 | AA71: 1 | AD71: =K71/$F71 -> 0.97368421 | AE71: =L71/$F71 -> 0.52631579 | AF71: =O71/$F71 -> 0.94736842 | AG71: =M71/$F71 -> 0.10526316 | AH71: =P71/$F71 -> 0.76315789 | AI71: =N71/$F71 -> 0.76315789 | AJ71: =R71/$F71 -> 0 | AK71: =($F71-V71)/$F71 -> 1 | AM71: =Q71/$F71 -> 0.97368421 | AN71: =$AM71+W71/$F71 -> 0.97368421 | AO71: =$AM71+Z71/$F71 -> 1 | AP71: =$AM71+X71/$F71 -> 0.97368421 | AQ71: =$AM71+AA71/$F71 -> 1 | AR71: =$AM71+Y71/$F71 -> 1
A72: Safron 2011a environ | B72: Micro-environmental characteristics related to body weight, diet, and physical activity of children and adolescents: a systematic umbrella review | C72: 7 | D72: PsycINFO, PsychArticles, Health Source: Nursing/Academic Edition, Medline, Cochrane (SR), ScienceDirect, Ovid databases | E72: Ja | F72: 8 | G72: N | H72: N | I72: N | J72: other | K72: 8 | L72: 5 | M72: 1 | N72: 8 | O72: 7 | P72: 1 | Q72: 8 | R72: =Q72-K72 -> 0 | S72: =F72-K72 -> 0 | T72: =F72-Q72 -> 0 | V72: =F72-(Q72+U72) -> 0 | AD72: =K72/$F72 -> 1 | AE72: =L72/$F72 -> 0.625 | AF72: =O72/$F72 -> 0.875 | AG72: =M72/$F72 -> 0.125 | AH72: =P72/$F72 -> 0.125 | AI72: =N72/$F72 -> 1 | AJ72: =R72/$F72 -> 0 | AK72: =($F72-V72)/$F72 -> 1 | AM72: =Q72/$F72 -> 1 | AN72: =$AM72+W72/$F72 -> 1 | AO72: =$AM72+Z72/$F72 -> 1 | AP72: =$AM72+X72/$F72 -> 1 | AQ72: =$AM72+AA72/$F72 -> 1 | AR72: =$AM72+Y72/$F72 -> 1
A73: Safron 2011b obesity | B73: Effects of school-based interventions targeting obesity-related behaviors and body weight change: a systematic umbrella review | C73: 7 | D73: PsycINFO, PsychArticles, Health Source: Nursing/Academic Edition, Medline, Cochrane (SR), ScienceDirect, Ovid databases | E73: Ja | F73: 17 | G73: Y | H73: N | I73: N | J73: other | K73: 15 | L73: 6 | M73: 8 | N73: 17 | O73: 15 | P73: 10 | Q73: 15 | R73: =Q73-K73 -> 0 | S73: =F73-K73 -> 2 | T73: =F73-Q73 -> 2 | U73: 2 | V73: =F73-(Q73+U73) -> 0 | X73: 1 | Y73: 2 | AA73: 1 | AD73: =K73/$F73 -> 0.88235294 | AE73: =L73/$F73 -> 0.35294118 | AF73: =O73/$F73 -> 0.88235294 | AG73: =M73/$F73 -> 0.47058824 | AH73: =P73/$F73 -> 0.58823529 | AI73: =N73/$F73 -> 1 | AJ73: =R73/$F73 -> 0 | AK73: =($F73-V73)/$F73 -> 1 | AM73: =Q73/$F73 -> 0.88235294 | AN73: =$AM73+W73/$F73 -> 0.88235294 | AO73: =$AM73+Z73/$F73 -> 0.88235294 | AP73: =$AM73+X73/$F73 -> 0.94117647 | AQ73: =$AM73+AA73/$F73 -> 0.94117647 | AR73: =$AM73+Y73/$F73 -> 1
A74: Salvo 2011 | B74: Cardiovascular and gastrointestinal safety of NSAIDs: a systematic review of meta-analyses of randomized clinical trials | C74: 4 | D74: Medline, Web of Science, DARE, SCOPUS | E74: Nein | F74: 29 | G74: Y | H74: N | I74: N | J74: other | K74: 28 | L74: 12 | M74: 0 | N74: 29 | O74: 27 | P74: 18 | Q74: 28 | R74: =Q74-K74 -> 0 | S74: =F74-K74 -> 1 | T74: =F74-Q74 -> 1 | U74: 1 | V74: =F74-(Q74+U74) -> 0 | Y74: 1 | Z74: 1 | AD74: =K74/$F74 -> 0.96551724 | AE74: =L74/$F74 -> 0.4137931 | AF74: =O74/$F74 -> 0.93103448 | AG74: =M74/$F74 -> 0 | AH74: =P74/$F74 -> 0.62068966 | AI74: =N74/$F74 -> 1 | AJ74: =R74/$F74 -> 0 | AK74: =($F74-V74)/$F74 -> 1 | AM74: =Q74/$F74 -> 0.96551724 | AN74: =$AM74+W74/$F74 -> 0.96551724 | AO74: =$AM74+Z74/$F74 -> 1 | AP74: =$AM74+X74/$F74 -> 0.96551724 | AQ74: =$AM74+AA74/$F74 -> 0.96551724 | AR74: =$AM74+Y74/$F74 -> 1
A75: Savard 2011 | B75: A meta-review of evidence on heart failure disease management programs: the challenges of describing and synthesizing evidence on complex interventions | C75: 11 | D75: Medline, Embase, Cochrane (SR), DARE, NHS EED, NHS HTA, Ageline, Amed, SCOPUS, Web of Science, CINAHL | E75: Ja | F75: 15 | G75: Y | H75: N | I75: N | J75: other | K75: 15 | L75: 7 | M75: 1 | N75: 15 | O75: 14 | P75: 13 | Q75: 15 | R75: =Q75-K75 -> 0 | S75: =F75-K75 -> 0 | T75: =F75-Q75 -> 0 | V75: =F75-(Q75+U75) -> 0 | AD75: =K75/$F75 -> 1 | AE75: =L75/$F75 -> 0.46666667 | AF75: =O75/$F75 -> 0.93333333 | AG75: =M75/$F75 -> 0.066666667 | AH75: =P75/$F75 -> 0.86666667 | AI75: =N75/$F75 -> 1 | AJ75: =R75/$F75 -> 0 | AK75: =($F75-V75)/$F75 -> 1 | AM75: =Q75/$F75 -> 1 | AN75: =$AM75+W75/$F75 -> 1 | AO75: =$AM75+Z75/$F75 -> 1 | AP75: =$AM75+X75/$F75 -> 1 | AQ75: =$AM75+AA75/$F75 -> 1 | AR75: =$AM75+Y75/$F75 -> 1
A76: Schneider Chafen 2010 | B76: Diagnosing and managing common food allergies: a systematic review | C76: 4 | D76: PubMed, Cochrane (SR,Trials), DARE | E76: Nein | F76: 1 | G76: N | H76: N | I76: N | J76: other | K76: 1 | L76: 0 | M76: 0 | N76: 0 | O76: 1 | P76: 0 | Q76: 1 | R76: =Q76-K76 -> 0 | S76: =F76-K76 -> 0 | T76: =F76-Q76 -> 0 | V76: =F76-(Q76+U76) -> 0 | AD76: =K76/$F76 -> 1 | AE76: =L76/$F76 -> 0 | AF76: =O76/$F76 -> 1 | AG76: =M76/$F76 -> 0 | AH76: =P76/$F76 -> 0 | AI76: =N76/$F76 -> 0 | AJ76: =R76/$F76 -> 0 | AK76: =($F76-V76)/$F76 -> 1 | AM76: =Q76/$F76 -> 1 | AN76: =$AM76+W76/$F76 -> 1 | AO76: =$AM76+Z76/$F76 -> 1 | AP76: =$AM76+X76/$F76 -> 1 | AQ76: =$AM76+AA76/$F76 -> 1 | AR76: =$AM76+Y76/$F76 -> 1
A77: Seida 2009 | B77: Systematic reviews of psychosocial interventions for autism: an umbrella review | C77: 25 | D77: Academic Search Premier, Amed, BIOSIS, Child Development and Adolescent Studies, CINAHL, Cochrane (SR, Trials), DARE, Dissertation Abstracts, DOAJ–Directory of Open Access Journals, Embase, ERIC, HTA Database, LILACS, Linguistics and Language Behavior Abstracts, Medline, Medline (in Process and other non-indexed), NHS Economic Evaluation Database, NLM Gateway, OCLC Papers First and OCLC Proceedings, PsychARTICLES, Psychology and Behavioral Sciences Collection, PsychINFO, Social Sciences Abstracts, Web of Science | E77: Ja | F77: 12 | G77: Y | H77: Y | I77: N | J77: other | K77: 8 | L77: 3 | M77: 5 | N77: =1+10 -> 11 | O77: 8 | P77: 6 | Q77: 10 | R77: =Q77-K77 -> 2 | S77: =F77-K77 -> 4 | T77: =F77-Q77 -> 2 | U77: 2 | V77: =F77-(Q77+U77) -> 0 | X77: 1 | Y77: 2 | AA77: 1 | AD77: =K77/$F77 -> 0.66666667 | AE77: =L77/$F77 -> 0.25 | AF77: =O77/$F77 -> 0.66666667 | AG77: =M77/$F77 -> 0.41666667 | AH77: =P77/$F77 -> 0.5 | AI77: =N77/$F77 -> 0.91666667 | AJ77: =R77/$F77 -> 0.16666667 | AK77: =($F77-V77)/$F77 -> 1 | AM77: =Q77/$F77 -> 0.83333333 | AN77: =$AM77+W77/$F77 -> 0.83333333 | AO77: =$AM77+Z77/$F77 -> 0.83333333 | AP77: =$AM77+X77/$F77 -> 0.91666667 | AQ77: =$AM77+AA77/$F77 -> 0.91666667 | AR77: =$AM77+Y77/$F77 -> 1
A78: Smith 2009a acupuncture pregnancy | B78: Does acupuncture have a place as an adjunct treatment during pregnancy? A review of randomized controlled trials and systematic reviews | C78: 3 | D78: PubMed, CINAHL, Cochrane | E78: Nein | F78: 8 | G78: Y | H78: N | I78: N | J78: other | K78: 8 | L78: 3 | M78: 0 | N78: 7 | O78: 8 | P78: 7 | Q78: 8 | R78: =Q78-K78 -> 0 | S78: =F78-K78 -> 0 | T78: =F78-Q78 -> 0 | V78: =F78-(Q78+U78) -> 0 | AD78: =K78/$F78 -> 1 | AE78: =L78/$F78 -> 0.375 | AF78: =O78/$F78 -> 1 | AG78: =M78/$F78 -> 0 | AH78: =P78/$F78 -> 0.875 | AI78: =N78/$F78 -> 0.875 | AJ78: =R78/$F78 -> 0 | AK78: =($F78-V78)/$F78 -> 1 | AM78: =Q78/$F78 -> 1 | AN78: =$AM78+W78/$F78 -> 1 | AO78: =$AM78+Z78/$F78 -> 1 | AP78: =$AM78+X78/$F78 -> 1 | AQ78: =$AM78+AA78/$F78 -> 1 | AR78: =$AM78+Y78/$F78 -> 1
A79: Smith 2009b preterm birth | B79: A systematic review and quality assessment of systematic reviews of randomised trials of interventions for preventing and treating preterm birth | C79: 5 | D79: Medline, Embase, CINAHL, Cochrane, Science Citation Index | E79: Ja | F79: 22 | G79: Y | H79: N | I79: N | J79: other | K79: 22 | L79: 7 | M79: 0 | N79: 20 | O79: 22 | P79: 17 | Q79: 22 | R79: =Q79-K79 -> 0 | S79: =F79-K79 -> 0 | T79: =F79-Q79 -> 0 | V79: =F79-(Q79+U79) -> 0 | AD79: =K79/$F79 -> 1 | AE79: =L79/$F79 -> 0.31818182 | AF79: =O79/$F79 -> 1 | AG79: =M79/$F79 -> 0 | AH79: =P79/$F79 -> 0.77272727 | AI79: =N79/$F79 -> 0.90909091 | AJ79: =R79/$F79 -> 0 | AK79: =($F79-V79)/$F79 -> 1 | AM79: =Q79/$F79 -> 1 | AN79: =$AM79+W79/$F79 -> 1 | AO79: =$AM79+Z79/$F79 -> 1 | AP79: =$AM79+X79/$F79 -> 1 | AQ79: =$AM79+AA79/$F79 -> 1 | AR79: =$AM79+Y79/$F79 -> 1
A80: Smith 2010 | B80: Acupuncture to treat common reproductive health complaints: An overview of the evidence | C80: 3 | D80: Pubmed, CINAHL, Cochrane | E80: Nein | F80: 6 | G80: Y | H80: N | I80: N | J80: other | K80: 6 | L80: 1 | M80: 0 | N80: 5 | O80: 5 | P80: 5 | Q80: 6 | R80: =Q80-K80 -> 0 | S80: =F80-K80 -> 0 | T80: =F80-Q80 -> 0 | V80: =F80-(Q80+U80) -> 0 | AD80: =K80/$F80 -> 1 | AE80: =L80/$F80 -> 0.16666667 | AF80: =O80/$F80 -> 0.83333333 | AG80: =M80/$F80 -> 0 | AH80: =P80/$F80 -> 0.83333333 | AI80: =N80/$F80 -> 0.83333333 | AJ80: =R80/$F80 -> 0 | AK80: =($F80-V80)/$F80 -> 1 | AM80: =Q80/$F80 -> 1 | AN80: =$AM80+W80/$F80 -> 1 | AO80: =$AM80+Z80/$F80 -> 1 | AP80: =$AM80+X80/$F80 -> 1 | AQ80: =$AM80+AA80/$F80 -> 1 | AR80: =$AM80+Y80/$F80 -> 1
A81: Spearing 2011 | B81: Is compensation "bad for health"? A systematic meta-review | C81: 10 | D81: PubMED, CINAHL, Embase, PEDro, PsycINFO, EconLit, Lexis, ABI/INFORM, Cochrane, AHRQ EPC | E81: Ja | F81: 11 | G81: N | H81: N | I81: N | J81: other | K81: 11 | L81: 6 | M81: 1 | N81: 10 | O81: 11 | P81: 2 | Q81: 11 | R81: =Q81-K81 -> 0 | S81: =F81-K81 -> 0 | T81: =F81-Q81 -> 0 | V81: =F81-(Q81+U81) -> 0 | AD81: =K81/$F81 -> 1 | AE81: =L81/$F81 -> 0.54545455 | AF81: =O81/$F81 -> 1 | AG81: =M81/$F81 -> 0.090909091 | AH81: =P81/$F81 -> 0.18181818 | AI81: =N81/$F81 -> 0.90909091 | AJ81: =R81/$F81 -> 0 | AK81: =($F81-V81)/$F81 -> 1 | AM81: =Q81/$F81 -> 1 | AN81: =$AM81+W81/$F81 -> 1 | AO81: =$AM81+Z81/$F81 -> 1 | AP81: =$AM81+X81/$F81 -> 1 | AQ81: =$AM81+AA81/$F81 -> 1 | AR81: =$AM81+Y81/$F81 -> 1
A82: Swinkels 2009 | B82: Exercise interventions for non-specific low back pain: an overview of systematic reviews | C82: 8 | D82: SPORTDiscus, Amed, Medline, Embase, CINAHL, DARE, PEDro, Chochrane (SR) | E82: Ja | F82: 4 | G82: Y | H82: N | I82: N | J82: other | K82: 3 | L82: 4 | M82: 0 | N82: 4 | O82: 2 | P82: 1 | Q82: 3 | R82: =Q82-K82 -> 0 | S82: =F82-K82 -> 1 | T82: =F82-Q82 -> 1 | U82: 1 | V82: =F82-(Q82+U82) -> 0 | W82: 1 | Y82: 1 | AD82: =K82/$F82 -> 0.75 | AE82: =L82/$F82 -> 1 | AF82: =O82/$F82 -> 0.5 | AG82: =M82/$F82 -> 0 | AH82: =P82/$F82 -> 0.25 | AI82: =N82/$F82 -> 1 | AJ82: =R82/$F82 -> 0 | AK82: =($F82-V82)/$F82 -> 1 | AM82: =Q82/$F82 -> 0.75 | AN82: =$AM82+W82/$F82 -> 1 | AO82: =$AM82+Z82/$F82 -> 0.75 | AP82: =$AM82+X82/$F82 -> 0.75 | AQ82: =$AM82+AA82/$F82 -> 0.75 | AR82: =$AM82+Y82/$F82 -> 1
A83: Tamayo-Velazquez 2010 | B83: Interventions to promote the use of advance directives: an overview of systematic reviews | C83: 16 | D83: Cochrane Library (SR, Trials), DARE, NHSEED, HTA Database, Medline, TRIP, CINAHL, PsychINFO; Embase, Social Sciences Citation Index, Science Citation Index, ERIC, LILACS, CSIC Database, SCOPUS | E83: Ja | F83: 7 | G83: Y | H83: N | I83: N | J83: other | K83: 6 | L83: 5 | M83: 2 | N83: 7 | O83: 6 | P83: 4 | Q83: 6 | R83: =Q83-K83 -> 0 | S83: =F83-K83 -> 1 | T83: =F83-Q83 -> 1 | U83: 1 | V83: =F83-(Q83+U83) -> 0 | Y83: 1 | AA83: 1 | AD83: =K83/$F83 -> 0.85714286 | AE83: =L83/$F83 -> 0.71428571 | AF83: =O83/$F83 -> 0.85714286 | AG83: =M83/$F83 -> 0.28571429 | AH83: =P83/$F83 -> 0.57142857 | AI83: =N83/$F83 -> 1 | AJ83: =R83/$F83 -> 0 | AK83: =($F83-V83)/$F83 -> 1 | AM83: =Q83/$F83 -> 0.85714286 | AN83: =$AM83+W83/$F83 -> 0.85714286 | AO83: =$AM83+Z83/$F83 -> 0.85714286 | AP83: =$AM83+X83/$F83 -> 0.85714286 | AQ83: =$AM83+AA83/$F83 -> 1 | AR83: =$AM83+Y83/$F83 -> 1
A84: Terry 2012 | B84: An overview of systematic reviews of complementary and alternative medicine for fibromyalgia | C84: 7 | D84: Medline, PsychINFO, Embase, CINAHL, BNI, Amed, Cochrane (Trials) | E84: Ja | F84: 5 | G84: Y | H84: N | I84: N | J84: other | K84: 5 | L84: 0 | M84: 0 | N84: 5 | O84: 4 | P84: 2 | Q84: 5 | R84: =Q84-K84 -> 0 | S84: =F84-K84 -> 0 | T84: =F84-Q84 -> 0 | V84: =F84-(Q84+U84) -> 0 | AD84: =K84/$F84 -> 1 | AE84: =L84/$F84 -> 0 | AF84: =O84/$F84 -> 0.8 | AG84: =M84/$F84 -> 0 | AH84: =P84/$F84 -> 0.4 | AI84: =N84/$F84 -> 1 | AJ84: =R84/$F84 -> 0 | AK84: =($F84-V84)/$F84 -> 1 | AM84: =Q84/$F84 -> 1 | AN84: =$AM84+W84/$F84 -> 1 | AO84: =$AM84+Z84/$F84 -> 1 | AP84: =$AM84+X84/$F84 -> 1 | AQ84: =$AM84+AA84/$F84 -> 1 | AR84: =$AM84+Y84/$F84 -> 1
A85: Trudeau 2011 | B85: Key components of intravenous chemotherapy labeling: a systematic review and practice guideline | C85: 2 | D85: Medline, Embase | E85: Ja | F85: 3 | G85: Y | H85: N | I85: N | J85: other | K85: 2 | L85: 2 | M85: 0 | N85: 0 | O85: 2 | P85: 0 | Q85: 2 | R85: =Q85-K85 -> 0 | S85: =F85-K85 -> 1 | T85: =F85-Q85 -> 1 | V85: =F85-(Q85+U85) -> 1 | AD85: =K85/$F85 -> 0.66666667 | AE85: =L85/$F85 -> 0.66666667 | AF85: =O85/$F85 -> 0.66666667 | AG85: =M85/$F85 -> 0 | AH85: =P85/$F85 -> 0 | AI85: =N85/$F85 -> 0 | AJ85: =R85/$F85 -> 0 | AK85: =($F85-V85)/$F85 -> 0.66666667 | AM85: =Q85/$F85 -> 0.66666667 | AN85: =$AM85+W85/$F85 -> 0.66666667 | AO85: =$AM85+Z85/$F85 -> 0.66666667 | AP85: =$AM85+X85/$F85 -> 0.66666667 | AQ85: =$AM85+AA85/$F85 -> 0.66666667 | AR85: =$AM85+Y85/$F85 -> 0.66666667
A86: van Achterberg 2010 | B86: How to promote healthy behaviours in patients? An overview of evidence for behaviour change techniques | C86: 4 | D86: Pubmed, CINAHL, PsycINFO, Cochrane (SR) | E86: Nein | F86: 23 | G86: Y | H86: N | I86: N | J86: other | K86: 22 | L86: 12 | M86: 4 | N86: 20 | O86: 23 | P86: 19 | Q86: 23 | R86: =Q86-K86 -> 1 | S86: =F86-K86 -> 1 | T86: =F86-Q86 -> 0 | V86: =F86-(Q86+U86) -> 0 | AD86: =K86/$F86 -> 0.95652174 | AE86: =L86/$F86 -> 0.52173913 | AF86: =O86/$F86 -> 1 | AG86: =M86/$F86 -> 0.17391304 | AH86: =P86/$F86 -> 0.82608696 | AI86: =N86/$F86 -> 0.86956522 | AJ86: =R86/$F86 -> 0.043478261 | AK86: =($F86-V86)/$F86 -> 1 | AM86: =Q86/$F86 -> 1 | AN86: =$AM86+W86/$F86 -> 1 | AO86: =$AM86+Z86/$F86 -> 1 | AP86: =$AM86+X86/$F86 -> 1 | AQ86: =$AM86+AA86/$F86 -> 1 | AR86: =$AM86+Y86/$F86 -> 1
A87: van der Feltz-Cornelis 2011 | B87: Best practice elements of multilevel suicide prevention strategies: a review of systematic reviews | C87: 3 | D87: Pubmed, Cochrane, DARE | E87: Ja | F87: 6 | G87: Y | H87: Y | I87: N | J87: other | K87: 5 | L87: 5 | M87: 0 | N87: 6 | O87: 6 | P87: 2 | Q87: 5 | R87: =Q87-K87 -> 0 | S87: =F87-K87 -> 1 | T87: =F87-Q87 -> 1 | U87: 1 | V87: =F87-(Q87+U87) -> 0 | Y87: 1 | Z87: 1 | AD87: =K87/$F87 -> 0.83333333 | AE87: =L87/$F87 -> 0.83333333 | AF87: =O87/$F87 -> 1 | AG87: =M87/$F87 -> 0 | AH87: =P87/$F87 -> 0.33333333 | AI87: =N87/$F87 -> 1 | AJ87: =R87/$F87 -> 0 | AK87: =($F87-V87)/$F87 -> 1 | AM87: =Q87/$F87 -> 0.83333333 | AN87: =$AM87+W87/$F87 -> 0.83333333 | AO87: =$AM87+Z87/$F87 -> 1 | AP87: =$AM87+X87/$F87 -> 0.83333333 | AQ87: =$AM87+AA87/$F87 -> 0.83333333 | AR87: =$AM87+Y87/$F87 -> 1
A88: Zwicker 2010 | B88: Effectiveness of treadmill training in children with motor impairments: an overview of systematic reviews | C88: 10 | D88: Amed, Cochrane (SR), CINAHL, DARE, Embase, ERIC, Medline. PEDro, PsychINFO, SPORTDiscus | E88: Nein | F88: 5 | G88: Y | H88: N | I88: N | J88: other | K88: 4 | L88: 5 | M88: 1 | N88: 5 | O88: 4 | P88: 3 | Q88: 5 | R88: =Q88-K88 -> 1 | S88: =F88-K88 -> 1 | T88: =F88-Q88 -> 0 | V88: =F88-(Q88+U88) -> 0 | AD88: =K88/$F88 -> 0.8 | AE88: =L88/$F88 -> 1 | AF88: =O88/$F88 -> 0.8 | AG88: =M88/$F88 -> 0.2 | AH88: =P88/$F88 -> 0.6 | AI88: =N88/$F88 -> 1 | AJ88: =R88/$F88 -> 0.2 | AK88: =($F88-V88)/$F88 -> 1 | AM88: =Q88/$F88 -> 1 | AN88: =$AM88+W88/$F88 -> 1 | AO88: =$AM88+Z88/$F88 -> 1 | AP88: =$AM88+X88/$F88 -> 1 | AQ88: =$AM88+AA88/$F88 -> 1 | AR88: =$AM88+Y88/$F88 -> 1
F89: =SUM(F3:F88) -> 1219 | K89: =SUM(K3:K88) -> 1093 | L89: =SUM(L3:L88) -> 545 | M89: =SUM(M3:M88) -> 299 | N89: =SUM(N3:N88) -> 1044 | O89: =SUM(O3:O88) -> 1020 | P89: =SUM(P3:P88) -> 641 | Q89: =SUM(Q3:Q88) -> 1142 | R89: =Q89-K89 -> 49 | S89: =F89-K89 -> 126 | T89: =SUM(T3:T88) -> 77 | U89: =SUM(U3:U88) -> 71 | V89: =SUM(V3:V88) -> 6 | W89: =SUM(W3:W88) -> 11 | X89: =SUM(X3:X88) -> 17 | Y89: =SUM(Y3:Y88) -> 67 | Z89: =SUM(Z3:Z88) -> 14 | AA89: =SUM(AA3:AA88) -> 32 | AD89: =K89/$F89 -> 0.89663659 | AE89: =L89/$F89 -> 0.44708778 | AF89: =O89/$F89 -> 0.83675144 | AG89: =M89/$F89 -> 0.24528302 | AH89: =P89/$F89 -> 0.52584085 | AI89: =N89/$F89 -> 0.8564397 | AJ89: =R89/$F89 -> 0.040196883 | AK89: =($F89-V89)/$F89 -> 0.99507793 | AM89: =Q89/$F89 -> 0.93683347 | AN89: =$AM89+W89/$F89 -> 0.94585726 | AO89: =$AM89+Z89/$F89 -> 0.94831829 | AP89: =$AM89+X89/$F89 -> 0.95077933 | AQ89: =$AM89+AA89/$F89 -> 0.9630845 | AR89: =$AM89+Y89/$F89 -> 0.99179655
A91: DB1: Medline via Pubmed | D91: =COUNTIF(D3:D88,"Medline") -> 1 | E91: MW: | F91: =AVERAGE(F3:F88) -> 14.174419 | J91: =COUNTIF(J3:J88,"HTA")/86 -> 0.1627907 | K91: =AVERAGE(K3:K88) -> 12.709302 | R91: =AVERAGE(R3:R88) -> 0.56976744 | S91: =AVERAGE(S3:S88) -> 1.4651163 | T91: =AVERAGE(T3:T88) -> 0.89534884 | V91: =AVERAGE(V3:V88) -> 0.069767442 | W91: =AVERAGE(W3:W88) -> 1.1 | X91: =AVERAGE(X3:X88) -> 1.5454545 | Y91: =AVERAGE(Y3:Y88) -> 2.1612903 | Z91: =AVERAGE(Z3:Z88) -> 1.1666667 | AA91: =AVERAGE(AA3:AA88) -> 1.5238095 | AC91: mean | AD91: =AVERAGE(AD3:AD88) -> 0.89429666 | AE91: =AVERAGE(AE3:AE88) -> 0.4206759 | AF91: =AVERAGE(AF3:AF88) -> 0.81211818 | AG91: =AVERAGE(AG3:AG88) -> 0.20227691 | AH91: =AVERAGE(AH3:AH88) -> 0.54731176 | AI91: =AVERAGE(AI3:AI88) -> 0.84149619 | AK91: =AVERAGE(AK3:AK89) -> 0.99373833 | AM91: =AVERAGE(AM3:AM89) -> 0.92926733 | AN91: =AVERAGE(AN3:AN89) -> 0.93962461 | AO91: =AVERAGE(AO3:AO89) -> 0.9417834 | AP91: =AVERAGE(AP3:AP89) -> 0.93793999 | AQ91: =AVERAGE(AQ3:AQ89) -> 0.95892746 | AR91: =AVERAGE(AR3:AR89) -> 0.98976262
A92: DB2: CINAHL | E92: von der Gesamtzahl: | J92: =COUNTIF(J3:J88,"Cochrane")/86 -> 0.034883721 | K92: =K89/$F$89 -> 0.89663659 | L92: =L89/$F$89 -> 0.44708778 | M92: =M89/$F$89 -> 0.24528302 | N92: =N89/$F$89 -> 0.8564397 | O92: =O89/$F$89 -> 0.83675144 | P92: =P89/$F$89 -> 0.52584085 | Q92: =Q89/$F$89 -> 0.93683347 | R92: =R89/$F$89 -> 0.040196883 | ... V92: =V89/$F$89 -> 0.0049220673 | AC92: SD | AD92: =STDEV(AD3:AD89) -> 0.13896956 | AE92: =STDEV(AE3:AE89) -> 0.26270834 | AF92: =STDEV(AF3:AF89) -> 0.19810386 | AG92: =STDEV(AG3:AG89) -> 0.26858483 | AH92: =STDEV(AH3:AH89) -> 0.30705429 | AI92: =STDEV(AI3:AI89) -> 0.20402511 | AK92: =STDEV(AK3:AK89) -> 0.03723654 | AM92: =STDEV(AM3:AM89) -> 0.11874762 | AN92: =STDEV(AN3:AN89) -> 0.11392962 | AO92: =STDEV(AO3:AO89) -> 0.11370707 | AP92: =STDEV(AP3:AP89) -> 0.11242576 | AQ92: =STDEV(AQ3:AQ89) -> 0.090655607 | AR92: =STDEV(AR3:AR89) -> 0.046598015
A93: DB3: Psycinfo | E93: von den in Medline fehlenden: | J93: =COUNTIF(J3:J88,"other")/86 -> 0.80232558 | R93: =R89/S89 -> 0.38888889 | T93: =T89/S89 -> 0.61111111 | AC93: 95%CI lower | AD93: =AD91-CONFIDENCE(0.05,AD92,COUNT(AD3:AD89)) -> 0.86509495 | AE93: =AE91-CONFIDENCE(0.05,AE92,COUNT(AE3:AE89)) -> 0.36547294 | AF93: =AF91-CONFIDENCE(0.05,AF92,COUNT(AF3:AF89)) -> 0.77049058 | AG93: =AG91-CONFIDENCE(0.05,AG92,COUNT(AG3:AG89)) -> 0.14583912 | AH93: =AH91-CONFIDENCE(0.05,AH92,COUNT(AH3:AH89)) -> 0.48279038 | AI93: =AI91-CONFIDENCE(0.05,AI92,COUNT(AI3:AI89)) -> 0.79862436 | AK93: =AK91-CONFIDENCE(0.05,AK92,COUNT(AK3:AK89)) -> 0.98591381 | AM93: =AM91-CONFIDENCE(0.05,AM92,COUNT(AM3:AM89)) -> 0.90431487 | AN93: =AN91-CONFIDENCE(0.05,AN92,COUNT(AN3:AN89)) -> 0.91568456 | AO93: =AO91-CONFIDENCE(0.05,AO92,COUNT(AO3:AO89)) -> 0.91789011 | AP93: =AP91-CONFIDENCE(0.05,AP92,COUNT(AP3:AP89)) -> 0.91431595 | AQ93: =AQ91-CONFIDENCE(0.05,AQ92,COUNT(AQ3:AQ89)) -> 0.93987798 | AR93: =AR91-CONFIDENCE(0.05,AR92,COUNT(AR3:AR89)) -> 0.97997097
A94: DB4: Epistemonikos | AC94: 95% CI upper | AD94: =AD91+CONFIDENCE(0.05,AD92,COUNT(AD3:AD89)) -> 0.92349836 | AE94: =AE91+CONFIDENCE(0.05,AE92,COUNT(AE3:AE89)) -> 0.47587885 | AF94: =AF91+CONFIDENCE(0.05,AF92,COUNT(AF3:AF89)) -> 0.85374579 | AG94: =AG91+CONFIDENCE(0.05,AG92,COUNT(AG3:AG89)) -> 0.25871469 | AH94: =AH91+CONFIDENCE(0.05,AH92,COUNT(AH3:AH89)) -> 0.61183313 | AI94: =AI91+CONFIDENCE(0.05,AI92,COUNT(AI3:AI89)) -> 0.88436803 | AK94: =AK91+CONFIDENCE(0.05,AK92,COUNT(AK3:AK89)) -> 1.0015629 | AM94: =AM91+CONFIDENCE(0.05,AM92,COUNT(AM3:AM89)) -> 0.95421979 | AN94: =AN91+CONFIDENCE(0.05,AN92,COUNT(AN3:AN89)) -> 0.96356467 | AO94: =AO91+CONFIDENCE(0.05,AO92,COUNT(AO3:AO89)) -> 0.96567669 | AP94: =AP91+CONFIDENCE(0.05,AP92,COUNT(AP3:AP89)) -> 0.96156404 | AQ94: =AQ91+CONFIDENCE(0.05,AQ92,COUNT(AQ3:AQ89)) -> 0.97797694 | AR94: =AR91+CONFIDENCE(0.05,AR92,COUNT(AR3:AR89)) -> 0.99955427
A95: DB6: Embase via Embase
A96: DB7: TRIP Database | AC96: weighted mean | AD96: =SUMPRODUCT($F3:$F88,AD3:AD88)/SUM($F3:$F88) -> 0.89663659 | AE96: =SUMPRODUCT($F3:$F88,AE3:AE88)/SUM($F3:$F88) -> 0.44708778 | AF96: =SUMPRODUCT($F3:$F88,AF3:AF88)/SUM($F3:$F88) -> 0.83675144 | AG96: =SUMPRODUCT($F3:$F88,AG3:AG88)/SUM($F3:$F88) -> 0.24528302 | AH96: =SUMPRODUCT($F3:$F88,AH3:AH88)/SUM($F3:$F88) -> 0.52584085 | AI96: =SUMPRODUCT($F3:$F88,AI3:AI88)/SUM($F3:$F88) -> 0.8564397 | AJ96: =SUMPRODUCT($F3:$F88,AJ3:AJ88)/SUM($F3:$F88) -> 0.040196883 | AK96: =SUMPRODUCT($F3:$F88,AK3:AK88)/SUM($F3:$F88) -> 0.99507793 | AM96: =SUMPRODUCT($F3:$F88,AM3:AM88)/SUM($F3:$F88) -> 0.93683347 | AN96: =SUMPRODUCT($F3:$F88,AN3:AN88)/SUM($F3:$F88) -> 0.94585726 | AO96: =SUMPRODUCT($F3:$F88,AO3:AO88)/SUM($F3:$F88) -> 0.94831829 | AP96: =SUMPRODUCT($F3:$F88,AP3:AP88)/SUM($F3:$F88) -> 0.95077933 | AQ96: =SUMPRODUCT($F3:$F88,AQ3:AQ88)/SUM($F3:$F88) -> 0.9630845 | AR96: =SUMPRODUCT($F3:$F88,AR3:AR88)/SUM($F3:$F88) -> 0.99179655
AC97: weighted SD | AD97: =SQRT(SUMPRODUCT($F3:$F88,(AD3:AD88)^2)/SUM($F3:$F88)-(SUMPRODUCT($F3:$F88,AD3:AD88)/SUM($F3:$F88))^2) -> 0.11539054 | AE97: =SQRT(SUMPRODUCT($F3:$F88,(AE3:AE88)^2)/SUM($F3:$F88)-(SUMPRODUCT($F3:$F88,AE3:AE88)/SUM($F3:$F88))^2) -> 0.18010815 | AF97: =SQRT(SUMPRODUCT($F3:$F88,(AF3:AF88)^2)/SUM($F3:$F88)-(SUMPRODUCT($F3:$F88,AF3:AF88)/SUM($F3:$F88))^2) -> 0.14538135 | AG97: =SQRT(SUMPRODUCT($F3:$F88,(AG3:AG88)^2)/SUM($F3:$F88)-(SUMPRODUCT($F3:$F88,AG3:AG88)/SUM($F3:$F88))^2) -> 0.25478545 | AH97: =SQRT(SUMPRODUCT($F3:$F88,(AH3:AH88)^2)/SUM($F3:$F88)-(SUMPRODUCT($F3:$F88,AH3:AH88)/SUM($F3:$F88))^2) -> 0.27514058 | AI97: =SQRT(SUMPRODUCT($F3:$F88,(AI3:AI88)^2)/SUM($F3:$F88)-(SUMPRODUCT($F3:$F88,AI3:AI88)/SUM($F3:$F88))^2) -> 0.16026663 | AJ97: =SQRT(SUMPRODUCT($F3:$F88,(AJ3:AJ88)^2)/SUM($F3:$F88)-(SUMPRODUCT($F3:$F88,AJ3:AJ88)/SUM($F3:$F88))^2) -> 0.066162107 | AK97: =SQRT(SUMPRODUCT($F3:$F88,(AK3:AK88)^2)/SUM($F3:$F88)-(SUMPRODUCT($F3:$F88,AK3:AK88)/SUM($F3:$F88))^2) -> 0.020460466 | AM97: =SQRT(SUMPRODUCT($F3:$F88,(AM3:AM88)^2)/SUM($F3:$F88)-(SUMPRODUCT($F3:$F88,AM3:AM88)/SUM($F3:$F88))^2) -> 0.08467695 | AN97: =SQRT(SUMPRODUCT($F3:$F88,(AN3:AN88)^2)/SUM($F3:$F88)-(SUMPRODUCT($F3:$F88,AN3:AN88)/SUM($F3:$F88))^2) -> 0.079297092 | AO97: =SQRT(SUMPRODUCT($F3:$F88,(AO3:AO88)^2)/SUM($F3:$F88)-(SUMPRODUCT($F3:$F88,AO3:AO88)/SUM($F3:$F88))^2) -> 0.080119451 | AP97: =SQRT(SUMPRODUCT($F3:$F88,(AP3:AP88)^2)/SUM($F3:$F88)-(SUMPRODUCT($F3:$F88,AP3:AP88)/SUM($F3:$F88))^2) -> 0.073517002 | AQ97: =SQRT(SUMPRODUCT($F3:$F88,(AQ3:AQ88)^2)/SUM($F3:$F88)-(SUMPRODUCT($F3:$F88,AQ3:AQ88)/SUM($F3:$F88))^2) -> 0.066845263 | AR97: =SQRT(SUMPRODUCT($F3:$F88,(AR3:AR88)^2)/SUM($F3:$F88)-(SUMPRODUCT($F3:$F88,AR3:AR88)/SUM($F3:$F88))^2) -> 0.027905574
AC98: weighted 95%CI lower | AD98: =AD96-CONFIDENCE(0.05,AD97,SUM($F3:$F88)) -> 0.89015895 | AE98: =AE96-CONFIDENCE(0.05,AE97,SUM($F3:$F88)) -> 0.43697711 | AF98: =AF96-CONFIDENCE(0.05,AF97,SUM($F3:$F88)) -> 0.82859022 | AG98: =AG96-CONFIDENCE(0.05,AG97,SUM($F3:$F88)) -> 0.23098023 | AH98: =AH96-CONFIDENCE(0.05,AH97,SUM($F3:$F88)) -> 0.51039539 | AI98: =AI96-CONFIDENCE(0.05,AI97,SUM($F3:$F88)) -> 0.84744288 | AJ98: =AJ96-CONFIDENCE(0.05,AJ97,SUM($F3:$F88)) -> 0.036482766 | AK98: =AK96-CONFIDENCE(0.05,AK97,SUM($F3:$F88)) -> 0.99392935 | AM98: =AM96-CONFIDENCE(0.05,AM97,SUM($F3:$F88)) -> 0.93207999 | AN98: =AN96-CONFIDENCE(0.05,AN97,SUM($F3:$F88)) -> 0.94140579 | AO98: =AO96-CONFIDENCE(0.05,AO97,SUM($F3:$F88)) -> 0.94382066 | AP98: =AP96-CONFIDENCE(0.05,AP97,SUM($F3:$F88)) -> 0.94665233 | AQ98: =AQ96-CONFIDENCE(0.05,AQ97,SUM($F3:$F88)) -> 0.95933203 | AR98: =AR96-CONFIDENCE(0.05,AR97,SUM($F3:$F88)) -> 0.99023003
A99: medians | C99: =MEDIAN(C3:C88) -> 6 | F99: =MEDIAN(F3:F88) -> 8 | AC99: weighted 95% CI upper | AD99: =AD96+CONFIDENCE(0.05,AD97,SUM($F3:$F88)) -> 0.90311422 | AE99: =AE96+CONFIDENCE(0.05,AE97,SUM($F3:$F88)) -> 0.45719844 | AF99: =AF96+CONFIDENCE(0.05,AF97,SUM($F3:$F88)) -> 0.84491265 | AG99: =AG96+CONFIDENCE(0.05,AG97,SUM($F3:$F88)) -> 0.25958581 | AH99: =AH96+CONFIDENCE(0.05,AH97,SUM($F3:$F88)) -> 0.54128631 | AI99: =AI96+CONFIDENCE(0.05,AI97,SUM($F3:$F88)) -> 0.86543653 | AJ99: =AJ96+CONFIDENCE(0.05,AJ97,SUM($F3:$F88)) -> 0.043911 | AK99: =AK96+CONFIDENCE(0.05,AK97,SUM($F3:$F88)) -> 0.99622651 | AM99: =AM96+CONFIDENCE(0.05,AM97,SUM($F3:$F88)) -> 0.94158695 | AN99: =AN96+CONFIDENCE(0.05,AN97,SUM($F3:$F88)) -> 0.95030873 | AO99: =AO96+CONFIDENCE(0.05,AO97,SUM($F3:$F88)) -> 0.95281593 | AP99: =AP96+CONFIDENCE(0.05,AP97,SUM($F3:$F88)) -> 0.95490632 | AQ99: =AQ96+CONFIDENCE(0.05,AQ97,SUM($F3:$F88)) -> 0.96683696 | AR99: =AR96+CONFIDENCE(0.05,AR97,SUM($F3:$F88)) -> 0.99336308
A100: additional methods | E100: =COUNTIF(E3:E88,"Ja") -> 64
E101: =E100/86 -> 0.74418605 | AC101: Konfidenz | AD101: =CONFIDENCE(0.05,AD97,SUM($F3:$F88)) -> 0.0064776343 | AE101: =CONFIDENCE(0.05,AE97,SUM($F3:$F88)) -> 0.010110662 | AF101: =CONFIDENCE(0.05,AF97,SUM($F3:$F88)) -> 0.0081612173 | AG101: =CONFIDENCE(0.05,AG97,SUM($F3:$F88)) -> 0.014302793 | AH101: =CONFIDENCE(0.05,AH97,SUM($F3:$F88)) -> 0.015445461 | AI101: =CONFIDENCE(0.05,AI97,SUM($F3:$F88)) -> 0.0089968264 | AJ101: =CONFIDENCE(0.05,AJ97,SUM($F3:$F88)) -> 0.0037141169 | AK101: =CONFIDENCE(0.05,AK97,SUM($F3:$F88)) -> 0.0011485813 | AM101: =CONFIDENCE(0.05,AM97,SUM($F3:$F88)) -> 0.0047534775 | AN101: =CONFIDENCE(0.05,AN97,SUM($F3:$F88)) -> 0.0044514705 | AO101: =CONFIDENCE(0.05,AO97,SUM($F3:$F88)) -> 0.004497635 | AP101: =CONFIDENCE(0.05,AP97,SUM($F3:$F88)) -> 0.0041269958 | AQ101: =CONFIDENCE(0.05,AQ97,SUM($F3:$F88)) -> 0.0037524669 | AR101: =CONFIDENCE(0.05,AR97,SUM($F3:$F88)) -> 0.0015665245
...

Sheet By no. DB
B1: Infos from the publication | F1: Analysis 1: SRs included in databases | M1: Calculations | R1: Analysis 2: DB-included SR, not included in MEDL+Refs | X1: Results: | Y1: Inclusion rates
A2: Overview | B2: N DBs searched | C2: DBs searched | D2: addl. methods* | E2: N SR included | F2: N included in DB1: MEDL | G2: N included in DB2: CINAHL | H2: N included in DB3: PsycInfo | I2: N included in DB4: Epistemonikos | J2: N included in DB6: EMBASE | K2: N included in DB7: TRIP | L2: N included in DB1 + refs | M2: N by ref-checking | N2: N not included in DB1 | O2: N not included in DB1 + ref-checking | P2: of which included in DB | Q2: N SRs not included in 6 DBs + refs | R2: N in DB 2 | S2: N in DB 3 | T2: N in DB 4 | U2: N in DB 6 | V2: N in DB 7 | Y2: MEDL | Z2: CIN | AA2: EMB | AB2: PSI | AC2: TRIP | AD2: EPIS | AE2: Refs | AF2: all DB + Refs | AH2: ME + Refs | AI2: ME + Refs + CIN | AJ2: ME + Refs + EMB | AK2: ME + Refs + PSI | AL2: ME + Refs + TRIP | AM2: ME + Refs + EPIS | AN2: Refs | AO2: all DB + Refs
A3: Huguet 2009 | B3: 1 | C3: Medline | D3: Ja | E3: 2 | F3: =Full_dataset!$K$36 -> 2 | G3: =Full_dataset!L36 -> 0 | H3: =Full_dataset!M36 -> 0 | I3: =Full_dataset!N36 -> 1 | J3: =Full_dataset!O36 -> 2 | K3: =Full_dataset!P36 -> 2 | L3: =Full_dataset!Q36 -> 2 | M3: =L3-F3 -> 0 | N3: =E3-F3 -> 0 | O3: =E3-L3 -> 0 | P3: =Full_dataset!U36 -> 0 | Q3: =E3-(L3+P3) -> 0 | R3: =Full_dataset!W36 -> 0 | S3: =Full_dataset!X36 -> 0 | T3: =Full_dataset!Y36 -> 0 | U3: =Full_dataset!Z36 -> 0 | V3: =Full_dataset!AA36 -> 0 | Y3: =F3/$E3 -> 1 | Z3: =G3/$E3 -> 0 | AA3: =J3/$E3 -> 1 | AB3: =H3/$E3 -> 0 | AC3: =K3/$E3 -> 1 | AD3: =I3/$E3 -> 0.5 | AE3: =M3/$E3 -> 0 | AF3: =($E3-Q3)/$E3 -> 1 | AH3: =L3/$E3 -> 1 | AI3: =$AH3+R3/$E3 -> 1 | AJ3: =$AH3+U3/$E3 -> 1 | AK3: =$AH3+S3/$E3 -> 1 | AL3: =$AH3+V3/$E3 -> 1 | AM3: =$AH3+T3/$E3 -> 1 | AN3: =AE3 -> 0 | AO3: =AF3 -> 1
A4: Keus 2010 | B4: 1 | C4: Cochrane (SR) | D4: Nein | E4: 3 | F4: =Full_dataset!K44 -> 3 | G4: =Full_dataset!L44 -> 3 | H4: =Full_dataset!M44 -> 0 | I4: =Full_dataset!N44 -> 3 | J4: =Full_dataset!O44 -> 3 | K4: =Full_dataset!P44 -> 2 | L4: =Full_dataset!Q44 -> 3 | M4: =L4-F4 -> 0 | N4: =E4-F4 -> 0 | O4: =E4-L4 -> 0 | P4: =Full_dataset!U44 -> 0 | Q4: =E4-(L4+P4) -> 0 | R4: =Full_dataset!W44 -> 0 | S4: =Full_dataset!X44 -> 0 | T4: =Full_dataset!Y44 -> 0 | U4: =Full_dataset!Z44 -> 0 | V4: =Full_dataset!AA44 -> 0 | Y4: =F4/$E4 -> 1 | Z4: =G4/$E4 -> 1 | AA4: =J4/$E4 -> 1 | AB4: =H4/$E4 -> 0 | AC4: =K4/$E4 -> 0.66666667 | AD4: =I4/$E4 -> 1 | AE4: =M4/$E4 -> 0 | AF4: =($E4-Q4)/$E4 -> 1 | AH4: =L4/$E4 -> 1 | AI4: =$AH4+R4/$E4 -> 1 | AJ4: =$AH4+U4/$E4 -> 1 | AK4: =$AH4+S4/$E4 -> 1 | AL4: =$AH4+V4/$E4 -> 1 | AM4: =$AH4+T4/$E4 -> 1 | AN4: =AE4 -> 0 | AO4: =AF4 -> 1
A5: Heighes 2010 | B5: 2 | C5: Medline, Embase | D5: Ja | E5: 5 | F5: =Full_dataset!K33 -> 5 | G5: =Full_dataset!L33 -> 4 | H5: =Full_dataset!M33 -> 0 | I5: =Full_dataset!N33 -> 5 | J5: =Full_dataset!O33 -> 5 | K5: =Full_dataset!P33 -> 5 | L5: =Full_dataset!Q33 -> 5 | M5: =L5-F5 -> 0 | N5: =E5-F5 -> 0 | O5: =E5-L5 -> 0 | P5: =Full_dataset!U33 -> 0 | Q5: =E5-(L5+P5) -> 0 | R5: =Full_dataset!W33 -> 0 | S5: =Full_dataset!X33 -> 0 | T5: =Full_dataset!Y33 -> 0 | U5: =Full_dataset!Z33 -> 0 | V5: =Full_dataset!AA33 -> 0 | Y5: =F5/$E5 -> 1 | Z5: =G5/$E5 -> 0.8 | AA5: =J5/$E5 -> 1 | AB5: =H5/$E5 -> 0 | AC5: =K5/$E5 -> 1 | AD5: =I5/$E5 -> 1 | AE5: =M5/$E5 -> 0 | AF5: =($E5-Q5)/$E5 -> 1 | AH5: =L5/$E5 -> 1 | AI5: =$AH5+R5/$E5 -> 1 | AJ5: =$AH5+U5/$E5 -> 1 | AK5: =$AH5+S5/$E5 -> 1 | AL5: =$AH5+V5/$E5 -> 1 | AM5: =$AH5+T5/$E5 -> 1 | AN5: =AE5 -> 0 | AO5: =AF5 -> 1
A6: Kumar 2010 | B6: 2 | C6: PubMed, Cochrane (SR) | D6: Nein | E6: 10 | F6: =Full_dataset!K46 -> 10 | G6: =Full_dataset!L46 -> 2 | H6: =Full_dataset!M46 -> 0 | I6: =Full_dataset!N46 -> 10 | J6: =Full_dataset!O46 -> 9 | K6: =Full_dataset!P46 -> 6 | L6: =Full_dataset!Q46 -> 10 | M6: =L6-F6 -> 0 | N6: =E6-F6 -> 0 | O6: =E6-L6 -> 0 | P6: =Full_dataset!U46 -> 0 | Q6: =E6-(L6+P6) -> 0 | R6: =Full_dataset!W46 -> 0 | S6: =Full_dataset!X46 -> 0 | T6: =Full_dataset!Y46 -> 0 | U6: =Full_dataset!Z46 -> 0 | V6: =Full_dataset!AA46 -> 0 | Y6: =F6/$E6 -> 1 | Z6: =G6/$E6 -> 0.2 | AA6: =J6/$E6 -> 0.9 | AB6: =H6/$E6 -> 0 | AC6: =K6/$E6 -> 0.6 | AD6: =I6/$E6 -> 1 | AE6: =M6/$E6 -> 0 | AF6: =($E6-Q6)/$E6 -> 1 | AH6: =L6/$E6 -> 1 | AI6: =$AH6+R6/$E6 -> 1 | AJ6: =$AH6+U6/$E6 -> 1 | AK6: =$AH6+S6/$E6 -> 1 | AL6: =$AH6+V6/$E6 -> 1 | AM6: =$AH6+T6/$E6 -> 1 | AN6: =AE6 -> 0 | AO6: =AF6 -> 1
A7: Ryan 2011 | B7: 2 | C7: Cochrane (SR), DARE | D7: Nein | E7: 38 | F7: =Full_dataset!K71 -> 37 | G7: =Full_dataset!L71 -> 20 | H7: =Full_dataset!M71 -> 4 | I7: =Full_dataset!N71 -> 29 | J7: =Full_dataset!O71 -> 36 | K7: =Full_dataset!P71 -> 29 | L7: =Full_dataset!Q71 -> 37 | M7: =L7-F7 -> 0 | N7: =E7-F7 -> 1 | O7: =E7-L7 -> 1 | P7: =Full_dataset!U71 -> 1 | Q7: =E7-(L7+P7) -> 0 | R7: =Full_dataset!W71 -> 0 | S7: =Full_dataset!X71 -> 0 | T7: =Full_dataset!Y71 -> 1 | U7: =Full_dataset!Z71 -> 1 | V7: =Full_dataset!AA71 -> 1 | Y7: =F7/$E7 -> 0.97368421 | Z7: =G7/$E7 -> 0.52631579 | AA7: =J7/$E7 -> 0.94736842 | AB7: =H7/$E7 -> 0.10526316 | AC7: =K7/$E7 -> 0.76315789 | AD7: =I7/$E7 -> 0.76315789 | AE7: =M7/$E7 -> 0 | AF7: =($E7-Q7)/$E7 -> 1 | AH7: =L7/$E7 -> 0.97368421 | AI7: =$AH7+R7/$E7 -> 0.97368421 | AJ7: =$AH7+U7/$E7 -> 1 | AK7: =$AH7+S7/$E7 -> 0.97368421 | AL7: =$AH7+V7/$E7 -> 1 | AM7: =$AH7+T7/$E7 -> 1 | AN7: =AE7 -> 0 | AO7: =AF7 -> 1
A8: Trudeau 2011 | B8: 2 | C8: Medline, Embase | D8: Ja | E8: 3 | F8: =Full_dataset!K85 -> 2 | G8: =Full_dataset!L85 -> 2 | H8: =Full_dataset!M85 -> 0 | I8: =Full_dataset!N85 -> 0 | J8: =Full_dataset!O85 -> 2 | K8: =Full_dataset!P85 -> 0 | L8: =Full_dataset!Q85 -> 2 | M8: =L8-F8 -> 0 | N8: =E8-F8 -> 1 | O8: =E8-L8 -> 1 | P8: =Full_dataset!U85 -> 0 | Q8: =E8-(L8+P8) -> 1 | R8: =Full_dataset!W85 -> 0 | S8: =Full_dataset!X85 -> 0 | T8: =Full_dataset!Y85 -> 0 | U8: =Full_dataset!Z85 -> 0 | V8: =Full_dataset!AA85 -> 0 | Y8: =F8/$E8 -> 0.66666667 | Z8: =G8/$E8 -> 0.66666667 | AA8: =J8/$E8 -> 0.66666667 | AB8: =H8/$E8 -> 0 | AC8: =K8/$E8 -> 0 | AD8: =I8/$E8 -> 0 | AE8: =M8/$E8 -> 0 | AF8: =($E8-Q8)/$E8 -> 0.66666667 | AH8: =L8/$E8 -> 0.66666667 | AI8: =$AH8+R8/$E8 -> 0.66666667 | AJ8: =$AH8+U8/$E8 -> 0.66666667 | AK8: =$AH8+S8/$E8 -> 0.66666667 | AL8: =$AH8+V8/$E8 -> 0.66666667 | AM8: =$AH8+T8/$E8 -> 0.66666667 | AN8: =AE8 -> 0 | AO8: =AF8 -> 0.66666667
A9: Black 2011 | B9: 3 | C9: PubMed,Embase, Cochrane | D9: Ja | E9: 53 | F9: =Full_dataset!K11 -> 46 | G9: =Full_dataset!L11 -> 22 | H9: =Full_dataset!M11 -> 7 | I9: =Full_dataset!N11 -> 51 | J9: =Full_dataset!O11 -> 44 | K9: =Full_dataset!P11 -> 29 | L9: =Full_dataset!Q11 -> 47 | M9: =L9-F9 -> 1 | N9: =E9-F9 -> 7 | O9: =E9-L9 -> 6 | P9: =Full_dataset!U11 -> 5 | Q9: =E9-(L9+P9) -> 1 | R9: =Full_dataset!W11 -> 0 | S9: =Full_dataset!X11 -> 1 | T9: =Full_dataset!Y11 -> 4 | U9: =Full_dataset!Z11 -> 2 | V9: =Full_dataset!AA11 -> 2 | Y9: =F9/$E9 -> 0.86792453 | Z9: =G9/$E9 -> 0.41509434 | AA9: =J9/$E9 -> 0.83018868 | AB9: =H9/$E9 -> 0.13207547 | AC9: =K9/$E9 -> 0.54716981 | AD9: =I9/$E9 -> 0.96226415 | AE9: =M9/$E9 -> 0.018867925 | AF9: =($E9-Q9)/$E9 -> 0.98113208 | AH9: =L9/$E9 -> 0.88679245 | AI9: =$AH9+R9/$E9 -> 0.88679245 | AJ9: =$AH9+U9/$E9 -> 0.9245283 | AK9: =$AH9+S9/$E9 -> 0.90566038 | AL9: =$AH9+V9/$E9 -> 0.9245283 | AM9: =$AH9+T9/$E9 -> 0.96226415 | AN9: =AE9 -> 0.018867925 | AO9: =AF9 -> 0.98113208
A10: Brouwers 2011 | B10: 3 | C10: CADTH-EPOC, Health Systems Evidence, McMaster KT+ | D10: Nein | E10: 34 | F10: =Full_dataset!K12 -> 34 | G10: =Full_dataset!L12 -> 22 | H10: =Full_dataset!M12 -> 0 | I10: =Full_dataset!N12 -> 31 | J10: =Full_dataset!O12 -> 31 | K10: =Full_dataset!P12 -> 22 | L10: =Full_dataset!Q12 -> 34 | M10: =L10-F10 -> 0 | N10: =E10-F10 -> 0 | O10: =E10-L10 -> 0 | P10: =Full_dataset!U12 -> 0 | Q10: =E10-(L10+P10) -> 0 | R10: =Full_dataset!W12 -> 0 | S10: =Full_dataset!X12 -> 0 | T10: =Full_dataset!Y12 -> 0 | U10: =Full_dataset!Z12 -> 0 | V10: =Full_dataset!AA12 -> 0 | Y10: =F10/$E10 -> 1 | Z10: =G10/$E10 -> 0.64705882 | AA10: =J10/$E10 -> 0.91176471 | AB10: =H10/$E10 -> 0 | AC10: =K10/$E10 -> 0.64705882 | AD10: =I10/$E10 -> 0.91176471 | AE10: =M10/$E10 -> 0 | AF10: =($E10-Q10)/$E10 -> 1 | AH10: =L10/$E10 -> 1 | AI10: =$AH10+R10/$E10 -> 1 | AJ10: =$AH10+U10/$E10 -> 1 | AK10: =$AH10+S10/$E10 -> 1 | AL10: =$AH10+V10/$E10 -> 1 | AM10: =$AH10+T10/$E10 -> 1 | AN10: =AE10 -> 0 | AO10: =AF10 -> 1
A11: De Niet 2009 | B11: 3 | C11: PubMed, Cochrane (SR), DARE | D11: Nein | E11: 16 | F11: =Full_dataset!K15 -> 15 | G11: =Full_dataset!L15 -> 9 | H11: =Full_dataset!M15 -> 8 | I11: =Full_dataset!N15 -> 14 | J11: =Full_dataset!O15 -> 10 | K11: =Full_dataset!P15 -> 14 | L11: =Full_dataset!Q15 -> 16 | M11: =L11-F11 -> 1 | N11: =E11-F11 -> 1 | O11: =E11-L11 -> 0 | P11: =Full_dataset!U15 -> 0 | Q11: =E11-(L11+P11) -> 0 | R11: =Full_dataset!W15 -> 0 | S11: =Full_dataset!X15 -> 0 | T11: =Full_dataset!Y15 -> 0 | U11: =Full_dataset!Z15 -> 0 | V11: =Full_dataset!AA15 -> 0 | Y11: =F11/$E11 -> 0.9375 | Z11: =G11/$E11 -> 0.5625 | AA11: =J11/$E11 -> 0.625 | AB11: =H11/$E11 -> 0.5 | AC11: =K11/$E11 -> 0.875 | AD11: =I11/$E11 -> 0.875 | AE11: =M11/$E11 -> 0.0625 | AF11: =($E11-Q11)/$E11 -> 1 | AH11: =L11/$E11 -> 1 | AI11: =$AH11+R11/$E11 -> 1 | AJ11: =$AH11+U11/$E11 -> 1 | AK11: =$AH11+S11/$E11 -> 1 | AL11: =$AH11+V11/$E11 -> 1 | AM11: =$AH11+T11/$E11 -> 1 | AN11: =AE11 -> 0.0625 | AO11: =AF11 -> 1
A12: De Vet 2010 | B12: 3 | C12: PubMed, Embase, PsychINFO | D12: Nein | E12: 17 | F12: =Full_dataset!K16 -> 17 | G12: =Full_dataset!L16 -> 11 | H12: =Full_dataset!M16 -> 10 | I12: =Full_dataset!N16 -> 15 | J12: =Full_dataset!O16 -> 16 | K12: =Full_dataset!P16 -> 0 | L12: =Full_dataset!Q16 -> 17 | M12: =L12-F12 -> 0 | N12: =E12-F12 -> 0 | O12: =E12-L12 -> 0 | P12: =Full_dataset!U16 -> 0 | Q12: =E12-(L12+P12) -> 0 | R12: =Full_dataset!W16 -> 0 | S12: =Full_dataset!X16 -> 0 | T12: =Full_dataset!Y16 -> 0 | U12: =Full_dataset!Z16 -> 0 | V12: =Full_dataset!AA16 -> 0 | Y12: =F12/$E12 -> 1 | Z12: =G12/$E12 -> 0.64705882 | AA12: =J12/$E12 -> 0.94117647 | AB12: =H12/$E12 -> 0.58823529 | AC12: =K12/$E12 -> 0 | AD12: =I12/$E12 -> 0.88235294 | AE12: =M12/$E12 -> 0 | AF12: =($E12-Q12)/$E12 -> 1 | AH12: =L12/$E12 -> 1 | AI12: =$AH12+R12/$E12 -> 1 | AJ12: =$AH12+U12/$E12 -> 1 | AK12: =$AH12+S12/$E12 -> 1 | AL12: =$AH12+V12/$E12 -> 1 | AM12: =$AH12+T12/$E12 -> 1 | AN12: =AE12 -> 0 | AO12: =AF12 -> 1
A13: Diener 2010 | B13: 3 | C13: PubMed, Embase, Cochrane (Trials) | D13: Nein | E13: 6 | F13: =Full_dataset!K17 -> 6 | G13: =Full_dataset!L17 -> 0 | H13: =Full_dataset!M17 -> 0 | I13: =Full_dataset!N17 -> 5 | J13: =Full_dataset!O17 -> 5 | K13: =Full_dataset!P17 -> 4 | L13: =Full_dataset!Q17 -> 6 | M13: =L13-F13 -> 0 | N13: =E13-F13 -> 0 | O13: =E13-L13 -> 0 | P13: =Full_dataset!U17 -> 0 | Q13: =E13-(L13+P13) -> 0 | R13: =Full_dataset!W17 -> 0 | S13: =Full_dataset!X17 -> 0 | T13: =Full_dataset!Y17 -> 0 | U13: =Full_dataset!Z17 -> 0 | V13: =Full_dataset!AA17 -> 0 | Y13: =F13/$E13 -> 1 | Z13: =G13/$E13 -> 0 | AA13: =J13/$E13 -> 0.83333333 | AB13: =H13/$E13 -> 0 | AC13: =K13/$E13 -> 0.66666667 | AD13: =I13/$E13 -> 0.83333333 | AE13: =M13/$E13 -> 0 | AF13: =($E13-Q13)/$E13 -> 1 | AH13: =L13/$E13 -> 1 | AI13: =$AH13+R13/$E13 -> 1 | AJ13: =$AH13+U13/$E13 -> 1 | AK13: =$AH13+S13/$E13 -> 1 | AL13: =$AH13+V13/$E13 -> 1 | AM13: =$AH13+T13/$E13 -> 1 | AN13: =AE13 -> 0 | AO13: =AF13 -> 1
A14: LBI 2011 HTA | B14: 3 | C14: Embase, Medline, Cochrane | D14: Ja | E14: 6 | F14: =Full_dataset!K48 -> 4 | G14: =Full_dataset!L48 -> 0 | H14: =Full_dataset!M48 -> 0 | I14: =Full_dataset!N48 -> 4 | J14: =Full_dataset!O48 -> 4 | K14: =Full_dataset!P48 -> 2 | L14: =Full_dataset!Q48 -> 5 | M14: =L14-F14 -> 1 | N14: =E14-F14 -> 2 | O14: =E14-L14 -> 1 | P14: =Full_dataset!U48 -> 1 | Q14: =E14-(L14+P14) -> 0 | R14: =Full_dataset!W48 -> 0 | S14: =Full_dataset!X48 -> 0 | T14: =Full_dataset!Y48 -> 1 | U14: =Full_dataset!Z48 -> 0 | V14: =Full_dataset!AA48 -> 0 | Y14: =F14/$E14 -> 0.66666667 | Z14: =G14/$E14 -> 0 | AA14: =J14/$E14 -> 0.66666667 | AB14: =H14/$E14 -> 0 | AC14: =K14/$E14 -> 0.33333333 | AD14: =I14/$E14 -> 0.66666667 | AE14: =M14/$E14 -> 0.16666667 | AF14: =($E14-Q14)/$E14 -> 1 | AH14: =L14/$E14 -> 0.83333333 | AI14: =$AH14+R14/$E14 -> 0.83333333 | AJ14: =$AH14+U14/$E14 -> 0.83333333 | AK14: =$AH14+S14/$E14 -> 0.83333333 | AL14: =$AH14+V14/$E14 -> 0.83333333 | AM14: =$AH14+T14/$E14 -> 1 | AN14: =AE14 -> 0.16666667 | AO14: =AF14 -> 1
A15: Lenz 2009 | B15: 3 | C15: Cochrane, PubMed, HTA | D15: Ja | E15: 27 | F15: =Full_dataset!K50 -> 27 | G15: =Full_dataset!L50 -> 9 | H15: =Full_dataset!M50 -> 1 | I15: =Full_dataset!N50 -> 17 | J15: =Full_dataset!O50 -> 27 | K15: =Full_dataset!P50 -> 1 | L15: =Full_dataset!Q50 -> 27 | M15: =L15-F15 -> 0 | N15: =E15-F15 -> 0 | O15: =E15-L15 -> 0 | P15: =Full_dataset!U50 -> 0 | Q15: =E15-(L15+P15) -> 0 | R15: =Full_dataset!W50 -> 0 | S15: =Full_dataset!X50 -> 0 | T15: =Full_dataset!Y50 -> 0 | U15: =Full_dataset!Z50 -> 0 | V15: =Full_dataset!AA50 -> 0 | Y15: =F15/$E15 -> 1 | Z15: =G15/$E15 -> 0.33333333 | AA15: =J15/$E15 -> 1 | AB15: =H15/$E15 -> 0.037037037 | AC15: =K15/$E15 -> 0.037037037 | AD15: =I15/$E15 -> 0.62962963 | AE15: =M15/$E15 -> 0 | AF15: =($E15-Q15)/$E15 -> 1 | AH15: =L15/$E15 -> 1 | AI15: =$AH15+R15/$E15 -> 1 | AJ15: =$AH15+U15/$E15 -> 1 | AK15: =$AH15+S15/$E15 -> 1 | AL15: =$AH15+V15/$E15 -> 1 | AM15: =$AH15+T15/$E15 -> 1 | AN15: =AE15 -> 0 | AO15: =AF15 -> 1
A16: List 2010 | B16: 3 | C16: PubMed, Cochrane, Bandolier | D16: Ja | E16: 29 | F16: =Full_dataset!K51 -> 27 | G16: =Full_dataset!L51 -> 14 | H16: =Full_dataset!M51 -> 1 | I16: =Full_dataset!N51 -> 18 | J16: =Full_dataset!O51 -> 22 | K16: =Full_dataset!P51 -> 13 | L16: =Full_dataset!Q51 -> 28 | M16: =L16-F16 -> 1 | N16: =E16-F16 -> 2 | O16: =E16-L16 -> 1 | P16: =Full_dataset!U51 -> 1 | Q16: =E16-(L16+P16) -> 0 | R16: =Full_dataset!W51 -> 0 | S16: =Full_dataset!X51 -> 0 | T16: =Full_dataset!Y51 -> 1 | U16: =Full_dataset!Z51 -> 0 | V16: =Full_dataset!AA51 -> 1 | Y16: =F16/$E16 -> 0.93103448 | Z16: =G16/$E16 -> 0.48275862 | AA16: =J16/$E16 -> 0.75862069 | AB16: =H16/$E16 -> 0.034482759 | AC16: =K16/$E16 -> 0.44827586 | AD16: =I16/$E16 -> 0.62068966 | AE16: =M16/$E16 -> 0.034482759 | AF16: =($E16-Q16)/$E16 -> 1 | AH16: =L16/$E16 -> 0.96551724 | AI16: =$AH16+R16/$E16 -> 0.96551724 | AJ16: =$AH16+U16/$E16 -> 0.96551724 | AK16: =$AH16+S16/$E16 -> 0.96551724 | AL16: =$AH16+V16/$E16 -> 1 | AM16: =$AH16+T16/$E16 -> 1 | AN16: =AE16 -> 0.034482759 | AO16: =AF16 -> 1
A17: Minozzi 2010 | B17: 3 | C17: Medline, Embase, CINAHL | D17: Ja | E17: 5 | F17: =Full_dataset!K59 -> 5 | G17: =Full_dataset!L59 -> 2 | H17: =Full_dataset!M59 -> 3 | I17: =Full_dataset!N59 -> 5 | J17: =Full_dataset!O59 -> 4 | K17: =Full_dataset!P59 -> 1 | L17: =Full_dataset!Q59 -> 5 | M17: =L17-F17 -> 0 | N17: =E17-F17 -> 0 | O17: =E17-L17 -> 0 | P17: =Full_dataset!U59 -> 0 | Q17: =E17-(L17+P17) -> 0 | R17: =Full_dataset!W59 -> 0 | S17: =Full_dataset!X59 -> 0 | T17: =Full_dataset!Y59 -> 0 | U17: =Full_dataset!Z59 -> 0 | V17: =Full_dataset!AA59 -> 0 | Y17: =F17/$E17 -> 1 | Z17: =G17/$E17 -> 0.4 | AA17: =J17/$E17 -> 0.8 | AB17: =H17/$E17 -> 0.6 | AC17: =K17/$E17 -> 0.2 | AD17: =I17/$E17 -> 1 | AE17: =M17/$E17 -> 0 | AF17: =($E17-Q17)/$E17 -> 1 | AH17: =L17/$E17 -> 1 | AI17: =$AH17+R17/$E17 -> 1 | AJ17: =$AH17+U17/$E17 -> 1 | AK17: =$AH17+S17/$E17 -> 1 | AL17: =$AH17+V17/$E17 -> 1 | AM17: =$AH17+T17/$E17 -> 1 | AN17: =AE17 -> 0 | AO17: =AF17 -> 1
A18: Peters 2009 | B18: 3 | C18: Pubmed, PsycINFO, ERIC | D18: Ja | E18: 55 | F18: =Full_dataset!K68 -> 38 | G18: =Full_dataset!L68 -> 25 | H18: =Full_dataset!M68 -> 40 | I18: =Full_dataset!N68 -> 52 | J18: =Full_dataset!O68 -> 42 | K18: =Full_dataset!P68 -> 16 | L18: =Full_dataset!Q68 -> 48 | M18: =L18-F18 -> 10 | N18: =E18-F18 -> 17 | O18: =E18-L18 -> 7 | P18: =Full_dataset!U68 -> 7 | Q18: =E18-(L18+P18) -> 0 | R18: =Full_dataset!W68 -> 2 | S18: =Full_dataset!X68 -> 3 | T18: =Full_dataset!Y68 -> 6 | U18: =Full_dataset!Z68 -> 0 | V18: =Full_dataset!AA68 -> 1 | Y18: =F18/$E18 -> 0.69090909 | Z18: =G18/$E18 -> 0.45454545 | AA18: =J18/$E18 -> 0.76363636 | AB18: =H18/$E18 -> 0.72727273 | AC18: =K18/$E18 -> 0.29090909 | AD18: =I18/$E18 -> 0.94545455 | AE18: =M18/$E18 -> 0.18181818 | AF18: =($E18-Q18)/$E18 -> 1 | AH18: =L18/$E18 -> 0.87272727 | AI18: =$AH18+R18/$E18 -> 0.90909091 | AJ18: =$AH18+U18/$E18 -> 0.87272727 | AK18: =$AH18+S18/$E18 -> 0.92727273 | AL18: =$AH18+V18/$E18 -> 0.89090909 | AM18: =$AH18+T18/$E18 -> 0.98181818 | AN18: =AE18 -> 0.18181818 | AO18: =AF18 -> 1
A19: Smith 2009a acupuncture pregnancy | B19: 3 | C19: PubMed, CINAHL, Cochrane | D19: Nein | E19: 8 | F19: =Full_dataset!K78 -> 8 | G19: =Full_dataset!L78 -> 3 | H19: =Full_dataset!M78 -> 0 | I19: =Full_dataset!N78 -> 7 | J19: =Full_dataset!O78 -> 8 | K19: =Full_dataset!P78 -> 7 | L19: =Full_dataset!Q78 -> 8 | M19: =L19-F19 -> 0 | N19: =E19-F19 -> 0 | O19: =E19-L19 -> 0 | P19: =Full_dataset!U78 -> 0 | Q19: =E19-(L19+P19) -> 0 | R19: =Full_dataset!W78 -> 0 | S19: =Full_dataset!X78 -> 0 | T19: =Full_dataset!Y78 -> 0 | U19: =Full_dataset!Z78 -> 0 | V19: =Full_dataset!AA78 -> 0 | Y19: =F19/$E19 -> 1 | Z19: =G19/$E19 -> 0.375 | AA19: =J19/$E19 -> 1 | AB19: =H19/$E19 -> 0 | AC19: =K19/$E19 -> 0.875 | AD19: =I19/$E19 -> 0.875 | AE19: =M19/$E19 -> 0 | AF19: =($E19-Q19)/$E19 -> 1 | AH19: =L19/$E19 -> 1 | AI19: =$AH19+R19/$E19 -> 1 | AJ19: =$AH19+U19/$E19 -> 1 | AK19: =$AH19+S19/$E19 -> 1 | AL19: =$AH19+V19/$E19 -> 1 | AM19: =$AH19+T19/$E19 -> 1 | AN19: =AE19 -> 0 | AO19: =AF19 -> 1
A20: Smith 2010 | B20: 3 | C20: Pubmed, CINAHL, Cochrane | D20: Nein | E20: 6 | F20: =Full_dataset!K80 -> 6 | G20: =Full_dataset!L80 -> 1 | H20: =Full_dataset!M80 -> 0 | I20: =Full_dataset!N80 -> 5 | J20: =Full_dataset!O80 -> 5 | K20: =Full_dataset!P80 -> 5 | L20: =Full_dataset!Q80 -> 6 | M20: =L20-F20 -> 0 | N20: =E20-F20 -> 0 | O20: =E20-L20 -> 0 | P20: =Full_dataset!U80 -> 0 | Q20: =E20-(L20+P20) -> 0 | R20: =Full_dataset!W80 -> 0 | S20: =Full_dataset!X80 -> 0 | T20: =Full_dataset!Y80 -> 0 | U20: =Full_dataset!Z80 -> 0 | V20: =Full_dataset!AA80 -> 0 | Y20: =F20/$E20 -> 1 | Z20: =G20/$E20 -> 0.16666667 | AA20: =J20/$E20 -> 0.83333333 | AB20: =H20/$E20 -> 0 | AC20: =K20/$E20 -> 0.83333333 | AD20: =I20/$E20 -> 0.83333333 | AE20: =M20/$E20 -> 0 | AF20: =($E20-Q20)/$E20 -> 1 | AH20: =L20/$E20 -> 1 | AI20: =$AH20+R20/$E20 -> 1 | AJ20: =$AH20+U20/$E20 -> 1 | AK20: =$AH20+S20/$E20 -> 1 | AL20: =$AH20+V20/$E20 -> 1 | AM20: =$AH20+T20/$E20 -> 1 | AN20: =AE20 -> 0 | AO20: =AF20 -> 1
A21: van der Feltz-Cornelis 2011 | B21: 3 | C21: Pubmed, Cochrane, DARE | D21: Ja | E21: 6 | F21: =Full_dataset!K87 -> 5 | G21: =Full_dataset!L87 -> 5 | H21: =Full_dataset!M87 -> 0 | I21: =Full_dataset!N87 -> 6 | J21: =Full_dataset!O87 -> 6 | K21: =Full_dataset!P87 -> 2 | L21: =Full_dataset!Q87 -> 5 | M21: =L21-F21 -> 0 | N21: =E21-F21 -> 1 | O21: =E21-L21 -> 1 | P21: =Full_dataset!U87 -> 1 | Q21: =E21-(L21+P21) -> 0 | R21: =Full_dataset!W87 -> 0 | S21: =Full_dataset!X87 -> 0 | T21: =Full_dataset!Y87 -> 1 | U21: =Full_dataset!Z87 -> 1 | V21: =Full_dataset!AA87 -> 0 | Y21: =F21/$E21 -> 0.83333333 | Z21: =G21/$E21 -> 0.83333333 | AA21: =J21/$E21 -> 1 | AB21: =H21/$E21 -> 0 | AC21: =K21/$E21 -> 0.33333333 | AD21: =I21/$E21 -> 1 | AE21: =M21/$E21 -> 0 | AF21: =($E21-Q21)/$E21 -> 1 | AH21: =L21/$E21 -> 0.83333333 | AI21: =$AH21+R21/$E21 -> 0.83333333 | AJ21: =$AH21+U21/$E21 -> 1 | AK21: =$AH21+S21/$E21 -> 0.83333333 | AL21: =$AH21+V21/$E21 -> 0.83333333 | AM21: =$AH21+T21/$E21 -> 1 | AN21: =AE21 -> 0 | AO21: =AF21 -> 1
A22: Andersen 2011 | B22: 4 | C22: PubMed, Embase, CINAHL, Web of Science | D22: Ja | E22: 17 | F22: =Full_dataset!K3 -> 15 | G22: =Full_dataset!L3 -> 11 | H22: =Full_dataset!M3 -> 5 | I22: =Full_dataset!N3 -> 17 | J22: =Full_dataset!O3 -> 14 | K22: =Full_dataset!P3 -> 3 | L22: =Full_dataset!Q3 -> 16 | M22: =L22-F22 -> 1 | N22: =E22-F22 -> 2 | O22: =E22-L22 -> 1 | P22: =Full_dataset!U3 -> 1 | Q22: =E22-(L22+P22) -> 0 | R22: =Full_dataset!W3 -> 0 | S22: =Full_dataset!X3 -> 0 | T22: =Full_dataset!Y3 -> 1 | U22: =Full_dataset!Z3 -> 0 | V22: =Full_dataset!AA3 -> 0 | Y22: =F22/$E22 -> 0.88235294 | Z22: =G22/$E22 -> 0.64705882 | AA22: =J22/$E22 -> 0.82352941 | AB22: =H22/$E22 -> 0.29411765 | AC22: =K22/$E22 -> 0.17647059 | AD22: =I22/$E22 -> 1 | AE22: =M22/$E22 -> 0.058823529 | AF22: =($E22-Q22)/$E22 -> 1 | AH22: =L22/$E22 -> 0.94117647 | AI22: =$AH22+R22/$E22 -> 0.94117647 | AJ22: =$AH22+U22/$E22 -> 0.94117647 | AK22: =$AH22+S22/$E22 -> 0.94117647 | AL22: =$AH22+V22/$E22 -> 0.94117647 | AM22: =$AH22+T22/$E22 -> 1 | AN22: =AE22 -> 0.058823529 | AO22: =AF22 -> 1
A23: Berkhof 2010 | B23: 4 | C23: PubMed, PsychINFO, CINAHL, Cochrane | D23: Nein | E23: 11 | F23: =Full_dataset!K10 -> 9 | G23: =Full_dataset!L10 -> 4 | H23: =Full_dataset!M10 -> 5 | I23: =Full_dataset!N10 -> 8 | J23: =Full_dataset!O10 -> 4 | K23: =Full_dataset!P10 -> 4 | L23: =Full_dataset!Q10 -> 11 | M23: =L23-F23 -> 2 | N23: =E23-F23 -> 2 | O23: =E23-L23 -> 0 | P23: =Full_dataset!U10 -> 0 | Q23: =E23-(L23+P23) -> 0 | R23: =Full_dataset!W10 -> 0 | S23: =Full_dataset!X10 -> 0 | T23: =Full_dataset!Y10 -> 0 | U23: =Full_dataset!Z10 -> 0 | V23: =Full_dataset!AA10 -> 0 | Y23: =F23/$E23 -> 0.81818182 | Z23: =G23/$E23 -> 0.36363636 | AA23: =J23/$E23 -> 0.36363636 | AB23: =H23/$E23 -> 0.45454545 | AC23: =K23/$E23 -> 0.36363636 | AD23: =I23/$E23 -> 0.72727273 | AE23: =M23/$E23 -> 0.18181818 | AF23: =($E23-Q23)/$E23 -> 1 | AH23: =L23/$E23 -> 1 | AI23: =$AH23+R23/$E23 -> 1 | AJ23: =$AH23+U23/$E23 -> 1 | AK23: =$AH23+S23/$E23 -> 1 | AL23: =$AH23+V23/$E23 -> 1 | AM23: =$AH23+T23/$E23 -> 1 | AN23: =AE23 -> 0.18181818 | AO23: =AF23 -> 1
A24: Damen 2011 | B24: 4 | C24: Medline Ovid, Embase, ERIC, RDRB Databases | D24: Ja | E24: 31 | F24: =Full_dataset!K14 -> 31 | G24: =Full_dataset!L14 -> 11 | H24: =Full_dataset!M14 -> 0 | I24: =Full_dataset!N14 -> 21 | J24: =Full_dataset!O14 -> 30 | K24: =Full_dataset!P14 -> 3 | L24: =Full_dataset!Q14 -> 31 | M24: =L24-F24 -> 0 | N24: =E24-F24 -> 0 | O24: =E24-L24 -> 0 | P24: =Full_dataset!U14 -> 0 | Q24: =E24-(L24+P24) -> 0 | R24: =Full_dataset!W14 -> 0 | S24: =Full_dataset!X14 -> 0 | T24: =Full_dataset!Y14 -> 0 | U24: =Full_dataset!Z14 -> 0 | V24: =Full_dataset!AA14 -> 0 | Y24: =F24/$E24 -> 1 | Z24: =G24/$E24 -> 0.35483871 | AA24: =J24/$E24 -> 0.96774194 | AB24: =H24/$E24 -> 0 | AC24: =K24/$E24 -> 0.096774194 | AD24: =I24/$E24 -> 0.67741935 | AE24: =M24/$E24 -> 0 | AF24: =($E24-Q24)/$E24 -> 1 | AH24: =L24/$E24 -> 1 | AI24: =$AH24+R24/$E24 -> 1 | AJ24: =$AH24+U24/$E24 -> 1 | AK24: =$AH24+S24/$E24 -> 1 | AL24: =$AH24+V24/$E24 -> 1 | AM24: =$AH24+T24/$E24 -> 1 | AN24: =AE24 -> 0 | AO24: =AF24 -> 1
A25: Ernst 2011c CAM RA OA | B25: 4 | C25: Medline, Embase, Amed, Cochrane | D25: Ja | E25: 5 | F25: =Full_dataset!K28 -> 5 | G25: =Full_dataset!L28 -> 2 | H25: =Full_dataset!M28 -> 0 | I25: =Full_dataset!N28 -> 5 | J25: =Full_dataset!O28 -> 5 | K25: =Full_dataset!P28 -> 1 | L25: =Full_dataset!Q28 -> 5 | M25: =L25-F25 -> 0 | N25: =E25-F25 -> 0 | O25: =E25-L25 -> 0 | P25: =Full_dataset!U28 -> 0 | Q25: =E25-(L25+P25) -> 0 | R25: =Full_dataset!W28 -> 0 | S25: =Full_dataset!X28 -> 0 | T25: =Full_dataset!Y28 -> 0 | U25: =Full_dataset!Z28 -> 0 | V25: =Full_dataset!AA28 -> 0 | Y25: =F25/$E25 -> 1 | Z25: =G25/$E25 -> 0.4 | AA25: =J25/$E25 -> 1 | AB25: =H25/$E25 -> 0 | AC25: =K25/$E25 -> 0.2 | AD25: =I25/$E25 -> 1 | AE25: =M25/$E25 -> 0 | AF25: =($E25-Q25)/$E25 -> 1 | AH25: =L25/$E25 -> 1 | AI25: =$AH25+R25/$E25 -> 1 | AJ25: =$AH25+U25/$E25 -> 1 | AK25: =$AH25+S25/$E25 -> 1 | AL25: =$AH25+V25/$E25 -> 1 | AM25: =$AH25+T25/$E25 -> 1 | AN25: =AE25 -> 0 | AO25: =AF25 -> 1
A26: Hopton 2010 | B26: 4 | C26: Ovid Medline, Allied and Complementary Medicine database, Cochrane, Web of Science | D26: Ja | E26: 8 | F26: =Full_dataset!K35 -> 8 | G26: =Full_dataset!L35 -> 4 | H26: =Full_dataset!M35 -> 2 | I26: =Full_dataset!N35 -> 8 | J26: =Full_dataset!O35 -> 7 | K26: =Full_dataset!P35 -> 6 | L26: =Full_dataset!Q35 -> 8 | M26: =L26-F26 -> 0 | N26: =E26-F26 -> 0 | O26: =E26-L26 -> 0 | P26: =Full_dataset!U35 -> 0 | Q26: =E26-(L26+P26) -> 0 | R26: =Full_dataset!W35 -> 0 | S26: =Full_dataset!X35 -> 0 | T26: =Full_dataset!Y35 -> 0 | U26: =Full_dataset!Z35 -> 0 | V26: =Full_dataset!AA35 -> 0 | Y26: =F26/$E26 -> 1 | Z26: =G26/$E26 -> 0.5 | AA26: =J26/$E26 -> 0.875 | AB26: =H26/$E26 -> 0.25 | AC26: =K26/$E26 -> 0.75 | AD26: =I26/$E26 -> 1 | AE26: =M26/$E26 -> 0 | AF26: =($E26-Q26)/$E26 -> 1 | AH26: =L26/$E26 -> 1 | AI26: =$AH26+R26/$E26 -> 1 | AJ26: =$AH26+U26/$E26 -> 1 | AK26: =$AH26+S26/$E26 -> 1 | AL26: =$AH26+V26/$E26 -> 1 | AM26: =$AH26+T26/$E26 -> 1 | AN26: =AE26 -> 0 | AO26: =AF26 -> 1
A27: Lakke 2009 | B27: 4 | C27: Medline, CINAHL, Embase, PsychINFO | D27: Ja | E27: 9 | F27: =Full_dataset!K47 -> 9 | G27: =Full_dataset!L47 -> 5 | H27: =Full_dataset!M47 -> 2 | I27: =Full_dataset!N47 -> 6 | J27: =Full_dataset!O47 -> 9 | K27: =Full_dataset!P47 -> 0 | L27: =Full_dataset!Q47 -> 9 | M27: =L27-F27 -> 0 | N27: =E27-F27 -> 0 | O27: =E27-L27 -> 0 | P27: =Full_dataset!U47 -> 0 | Q27: =E27-(L27+P27) -> 0 | R27: =Full_dataset!W47 -> 0 | S27: =Full_dataset!X47 -> 0 | T27: =Full_dataset!Y47 -> 0 | U27: =Full_dataset!Z47 -> 0 | V27: =Full_dataset!AA47 -> 0 | Y27: =F27/$E27 -> 1 | Z27: =G27/$E27 -> 0.55555556 | AA27: =J27/$E27 -> 1 | AB27: =H27/$E27 -> 0.22222222 | AC27: =K27/$E27 -> 0 | AD27: =I27/$E27 -> 0.66666667 | AE27: =M27/$E27 -> 0 | AF27: =($E27-Q27)/$E27 -> 1 | AH27: =L27/$E27 -> 1 | AI27: =$AH27+R27/$E27 -> 1 | AJ27: =$AH27+U27/$E27 -> 1 | AK27: =$AH27+S27/$E27 -> 1 | AL27: =$AH27+V27/$E27 -> 1 | AM27: =$AH27+T27/$E27 -> 1 | AN27: =AE27 -> 0 | AO27: =AF27 -> 1
A28: Melnik 2010 | B28: 4 | C28: Medline, Cochrane (Trials), Embase, Lilacs, | D28: Ja | E28: 7 | F28: =Full_dataset!K57 -> 7 | G28: =Full_dataset!L57 -> 7 | H28: =Full_dataset!M57 -> 1 | I28: =Full_dataset!N57 -> 6 | J28: =Full_dataset!O57 -> 7 | K28: =Full_dataset!P57 -> 5 | L28: =Full_dataset!Q57 -> 7 | M28: =L28-F28 -> 0 | N28: =E28-F28 -> 0 | O28: =E28-L28 -> 0 | P28: =Full_dataset!U57 -> 0 | Q28: =E28-(L28+P28) -> 0 | R28: =Full_dataset!W57 -> 0 | S28: =Full_dataset!X57 -> 0 | T28: =Full_dataset!Y57 -> 0 | U28: =Full_dataset!Z57 -> 0 | V28: =Full_dataset!AA57 -> 0 | Y28: =F28/$E28 -> 1 | Z28: =G28/$E28 -> 1 | AA28: =J28/$E28 -> 1 | AB28: =H28/$E28 -> 0.14285714 | AC28: =K28/$E28 -> 0.71428571 | AD28: =I28/$E28 -> 0.85714286 | AE28: =M28/$E28 -> 0 | AF28: =($E28-Q28)/$E28 -> 1 | AH28: =L28/$E28 -> 1 | AI28: =$AH28+R28/$E28 -> 1 | AJ28: =$AH28+U28/$E28 -> 1 | AK28: =$AH28+S28/$E28 -> 1 | AL28: =$AH28+V28/$E28 -> 1 | AM28: =$AH28+T28/$E28 -> 1 | AN28: =AE28 -> 0 | AO28: =AF28 -> 1
A29: Mungpaisan 2010 | B29: 4 | C29: Cochrane (Trials), Medline, Embase, PsycINFO | D29: Ja | E29: 2 | F29: =Full_dataset!K62 -> 2 | G29: =Full_dataset!L62 -> 1 | H29: =Full_dataset!M62 -> 2 | I29: =Full_dataset!N62 -> 2 | J29: =Full_dataset!O62 -> 2 | K29: =Full_dataset!P62 -> 2 | L29: =Full_dataset!Q62 -> 2 | M29: =L29-F29 -> 0 | N29: =E29-F29 -> 0 | O29: =E29-L29 -> 0 | P29: =Full_dataset!U62 -> 0 | Q29: =E29-(L29+P29) -> 0 | R29: =Full_dataset!W62 -> 0 | S29: =Full_dataset!X62 -> 0 | T29: =Full_dataset!Y62 -> 0 | U29: =Full_dataset!Z62 -> 0 | V29: =Full_dataset!AA62 -> 0 | Y29: =F29/$E29 -> 1 | Z29: =G29/$E29 -> 0.5 | AA29: =J29/$E29 -> 1 | AB29: =H29/$E29 -> 1 | AC29: =K29/$E29 -> 1 | AD29: =I29/$E29 -> 1 | AE29: =M29/$E29 -> 0 | AF29: =($E29-Q29)/$E29 -> 1 | AH29: =L29/$E29 -> 1 | AI29: =$AH29+R29/$E29 -> 1 | AJ29: =$AH29+U29/$E29 -> 1 | AK29: =$AH29+S29/$E29 -> 1 | AL29: =$AH29+V29/$E29 -> 1 | AM29: =$AH29+T29/$E29 -> 1 | AN29: =AE29 -> 0 | AO29: =AF29 -> 1
A30: Posadzki 2011a | B30: 4 | C30: Medline, Embase, AMED, Cochrane | D30: Nein | E30: 44 | F30: =Full_dataset!K69 -> 41 | G30: =Full_dataset!L69 -> 27 | H30: =Full_dataset!M69 -> 2 | I30: =Full_dataset!N69 -> 41 | J30: =Full_dataset!O69 -> 38 | K30: =Full_dataset!P69 -> 20 | L30: =Full_dataset!Q69 -> 42 | M30: =L30-F30 -> 1 | N30: =E30-F30 -> 3 | O30: =E30-L30 -> 2 | P30: =Full_dataset!U69 -> 2 | Q30: =E30-(L30+P30) -> 0 | R30: =Full_dataset!W69 -> 1 | S30: =Full_dataset!X69 -> 0 | T30: =Full_dataset!Y69 -> 2 | U30: =Full_dataset!Z69 -> 0 | V30: =Full_dataset!AA69 -> 1 | Y30: =F30/$E30 -> 0.93181818 | Z30: =G30/$E30 -> 0.61363636 | AA30: =J30/$E30 -> 0.86363636 | AB30: =H30/$E30 -> 0.045454545 | AC30: =K30/$E30 -> 0.45454545 | AD30: =I30/$E30 -> 0.93181818 | AE30: =M30/$E30 -> 0.022727273 | AF30: =($E30-Q30)/$E30 -> 1 | AH30: =L30/$E30 -> 0.95454545 | AI30: =$AH30+R30/$E30 -> 0.97727273 | AJ30: =$AH30+U30/$E30 -> 0.95454545 | AK30: =$AH30+S30/$E30 -> 0.95454545 | AL30: =$AH30+V30/$E30 -> 0.97727273 | AM30: =$AH30+T30/$E30 -> 1 | AN30: =AE30 -> 0.022727273 | AO30: =AF30 -> 1
A31: Salvo 2011 | B31: 4 | C31: Medline, Web of Science, DARE, SCOPUS | D31: Nein | E31: 29 | F31: =Full_dataset!K74 -> 28 | G31: =Full_dataset!L74 -> 12 | H31: =Full_dataset!M74 -> 0 | I31: =Full_dataset!N74 -> 29 | J31: =Full_dataset!O74 -> 27 | K31: =Full_dataset!P74 -> 18 | L31: =Full_dataset!Q74 -> 28 | M31: =L31-F31 -> 0 | N31: =E31-F31 -> 1 | O31: =E31-L31 -> 1 | P31: =Full_dataset!U74 -> 1 | Q31: =E31-(L31+P31) -> 0 | R31: =Full_dataset!W74 -> 0 | S31: =Full_dataset!X74 -> 0 | T31: =Full_dataset!Y74 -> 1 | U31: =Full_dataset!Z74 -> 1 | V31: =Full_dataset!AA74 -> 0 | Y31: =F31/$E31 -> 0.96551724 | Z31: =G31/$E31 -> 0.4137931 | AA31: =J31/$E31 -> 0.93103448 | AB31: =H31/$E31 -> 0 | AC31: =K31/$E31 -> 0.62068966 | AD31: =I31/$E31 -> 1 | AE31: =M31/$E31 -> 0 | AF31: =($E31-Q31)/$E31 -> 1 | AH31: =L31/$E31 -> 0.96551724 | AI31: =$AH31+R31/$E31 -> 0.96551724 | AJ31: =$AH31+U31/$E31 -> 1 | AK31: =$AH31+S31/$E31 -> 0.96551724 | AL31: =$AH31+V31/$E31 -> 0.96551724 | AM31: =$AH31+T31/$E31 -> 1 | AN31: =AE31 -> 0 | AO31: =AF31 -> 1
A32: Schneider Chafen 2010 | B32: 4 | C32: PubMed, Cochrane (SR,Trials), DARE | D32: Nein | E32: 1 | F32: =Full_dataset!K76 -> 1 | G32: =Full_dataset!L76 -> 0 | H32: =Full_dataset!M76 -> 0 | I32: =Full_dataset!N76 -> 0 | J32: =Full_dataset!O76 -> 1 | K32: =Full_dataset!P76 -> 0 | L32: =Full_dataset!Q76 -> 1 | M32: =L32-F32 -> 0 | N32: =E32-F32 -> 0 | O32: =E32-L32 -> 0 | P32: =Full_dataset!U76 -> 0 | Q32: =E32-(L32+P32) -> 0 | R32: =Full_dataset!W76 -> 0 | S32: =Full_dataset!X76 -> 0 | T32: =Full_dataset!Y76 -> 0 | U32: =Full_dataset!Z76 -> 0 | V32: =Full_dataset!AA76 -> 0 | Y32: =F32/$E32 -> 1 | Z32: =G32/$E32 -> 0 | AA32: =J32/$E32 -> 1 | AB32: =H32/$E32 -> 0 | AC32: =K32/$E32 -> 0 | AD32: =I32/$E32 -> 0 | AE32: =M32/$E32 -> 0 | AF32: =($E32-Q32)/$E32 -> 1 | AH32: =L32/$E32 -> 1 | AI32: =$AH32+R32/$E32 -> 1 | AJ32: =$AH32+U32/$E32 -> 1 | AK32: =$AH32+S32/$E32 -> 1 | AL32: =$AH32+V32/$E32 -> 1 | AM32: =$AH32+T32/$E32 -> 1 | AN32: =AE32 -> 0 | AO32: =AF32 -> 1
A33: van Achterberg 2010 | B33: 4 | C33: Pubmed, CINAHL, PsycINFO, Cochrane (SR) | D33: Nein | E33: 23 | F33: =Full_dataset!K86 -> 22 | G33: =Full_dataset!L86 -> 12 | H33: =Full_dataset!M86 -> 4 | I33: =Full_dataset!N86 -> 20 | J33: =Full_dataset!O86 -> 23 | K33: =Full_dataset!P86 -> 19 | L33: =Full_dataset!Q86 -> 23 | M33: =L33-F33 -> 1 | N33: =E33-F33 -> 1 | O33: =E33-L33 -> 0 | P33: =Full_dataset!U86 -> 0 | Q33: =E33-(L33+P33) -> 0 | R33: =Full_dataset!W86 -> 0 | S33: =Full_dataset!X86 -> 0 | T33: =Full_dataset!Y86 -> 0 | U33: =Full_dataset!Z86 -> 0 | V33: =Full_dataset!AA86 -> 0 | Y33: =F33/$E33 -> 0.95652174 | Z33: =G33/$E33 -> 0.52173913 | AA33: =J33/$E33 -> 1 | AB33: =H33/$E33 -> 0.17391304 | AC33: =K33/$E33 -> 0.82608696 | AD33: =I33/$E33 -> 0.86956522 | AE33: =M33/$E33 -> 0.043478261 | AF33: =($E33-Q33)/$E33 -> 1 | AH33: =L33/$E33 -> 1 | AI33: =$AH33+R33/$E33 -> 1 | AJ33: =$AH33+U33/$E33 -> 1 | AK33: =$AH33+S33/$E33 -> 1 | AL33: =$AH33+V33/$E33 -> 1 | AM33: =$AH33+T33/$E33 -> 1 | AN33: =AE33 -> 0.043478261 | AO33: =AF33 -> 1
A34: Clar 2010 HTA | B34: 5 | C34: Cochrane, Medline, Embase, PsychINFO, Web of Science | D34: Ja | E34: 12 | F34: =Full_dataset!K13 -> 10 | G34: =Full_dataset!L13 -> 7 | H34: =Full_dataset!M13 -> 0 | I34: =Full_dataset!N13 -> 11 | J34: =Full_dataset!O13 -> 8 | K34: =Full_dataset!P13 -> 9 | L34: =Full_dataset!Q13 -> 11 | M34: =L34-F34 -> 1 | N34: =E34-F34 -> 2 | O34: =E34-L34 -> 1 | P34: =Full_dataset!U13 -> 1 | Q34: =E34-(L34+P34) -> 0 | R34: =Full_dataset!W13 -> 1 | S34: =Full_dataset!X13 -> 0 | T34: =Full_dataset!Y13 -> 1 | U34: =Full_dataset!Z13 -> 1 | V34: =Full_dataset!AA13 -> 1 | Y34: =F34/$E34 -> 0.83333333 | Z34: =G34/$E34 -> 0.58333333 | AA34: =J34/$E34 -> 0.66666667 | AB34: =H34/$E34 -> 0 | AC34: =K34/$E34 -> 0.75 | AD34: =I34/$E34 -> 0.91666667 | AE34: =M34/$E34 -> 0.083333333 | AF34: =($E34-Q34)/$E34 -> 1 | AH34: =L34/$E34 -> 0.91666667 | AI34: =$AH34+R34/$E34 -> 1 | AJ34: =$AH34+U34/$E34 -> 1 | AK34: =$AH34+S34/$E34 -> 0.91666667 | AL34: =$AH34+V34/$E34 -> 1 | AM34: =$AH34+T34/$E34 -> 1 | AN34: =AE34 -> 0.083333333 | AO34: =AF34 -> 1
A35: Greaves 2011 | B35: 5 | C35: Medline, Embase, CINAHL, PsychINFO, Cochrane | D35: Ja | E35: 29 | F35: =Full_dataset!K32 -> 29 | G35: =Full_dataset!L32 -> 18 | H35: =Full_dataset!M32 -> 10 | I35: =Full_dataset!N32 -> 28 | J35: =Full_dataset!O32 -> 27 | K35: =Full_dataset!P32 -> 23 | L35: =Full_dataset!Q32 -> 29 | M35: =L35-F35 -> 0 | N35: =E35-F35 -> 0 | O35: =E35-L35 -> 0 | P35: =Full_dataset!U32 -> 0 | Q35: =E35-(L35+P35) -> 0 | R35: =Full_dataset!W32 -> 0 | S35: =Full_dataset!X32 -> 0 | T35: =Full_dataset!Y32 -> 0 | U35: =Full_dataset!Z32 -> 0 | V35: =Full_dataset!AA32 -> 0 | Y35: =F35/$E35 -> 1 | Z35: =G35/$E35 -> 0.62068966 | AA35: =J35/$E35 -> 0.93103448 | AB35: =H35/$E35 -> 0.34482759 | AC35: =K35/$E35 -> 0.79310345 | AD35: =I35/$E35 -> 0.96551724 | AE35: =M35/$E35 -> 0 | AF35: =($E35-Q35)/$E35 -> 1 | AH35: =L35/$E35 -> 1 | AI35: =$AH35+R35/$E35 -> 1 | AJ35: =$AH35+U35/$E35 -> 1 | AK35: =$AH35+S35/$E35 -> 1 | AL35: =$AH35+V35/$E35 -> 1 | AM35: =$AH35+T35/$E35 -> 1 | AN35: =AE35 -> 0 | AO35: =AF35 -> 1
A36: IQWIG 2009a HTA | B36: 5 | C36: Embase, Medline, Cochrane (SR), Dare, HTA | D36: Ja | E36: 7 | F36: =Full_dataset!K37 -> 7 | G36: =Full_dataset!L37 -> 3 | H36: =Full_dataset!M37 -> 0 | I36: =Full_dataset!N37 -> 4 | J36: =Full_dataset!O37 -> 7 | K36: =Full_dataset!P37 -> 4 | L36: =Full_dataset!Q37 -> 7 | M36: =L36-F36 -> 0 | N36: =E36-F36 -> 0 | O36: =E36-L36 -> 0 | P36: =Full_dataset!U37 -> 0 | Q36: =E36-(L36+P36) -> 0 | R36: =Full_dataset!W37 -> 0 | S36: =Full_dataset!X37 -> 0 | T36: =Full_dataset!Y37 -> 0 | U36: =Full_dataset!Z37 -> 0 | V36: =Full_dataset!AA37 -> 0 | Y36: =F36/$E36 -> 1 | Z36: =G36/$E36 -> 0.42857143 | AA36: =J36/$E36 -> 1 | AB36: =H36/$E36 -> 0 | AC36: =K36/$E36 -> 0.57142857 | AD36: =I36/$E36 -> 0.57142857 | AE36: =M36/$E36 -> 0 | AF36: =($E36-Q36)/$E36 -> 1 | AH36: =L36/$E36 -> 1 | AI36: =$AH36+R36/$E36 -> 1 | AJ36: =$AH36+U36/$E36 -> 1 | AK36: =$AH36+S36/$E36 -> 1 | AL36: =$AH36+V36/$E36 -> 1 | AM36: =$AH36+T36/$E36 -> 1 | AN36: =AE36 -> 0 | AO36: =AF36 -> 1
A37: Khambalia 2011 | B37: 5 | C37: PubMed, Medline, Embase, PsychINFO, Cochrane (SR) | D37: Ja | E37: 8 | F37: =Full_dataset!K45 -> 7 | G37: =Full_dataset!L45 -> 2 | H37: =Full_dataset!M45 -> 4 | I37: =Full_dataset!N45 -> 8 | J37: =Full_dataset!O45 -> 7 | K37: =Full_dataset!P45 -> 4 | L37: =Full_dataset!Q45 -> 7 | M37: =L37-F37 -> 0 | N37: =E37-F37 -> 1 | O37: =E37-L37 -> 1 | P37: =Full_dataset!U45 -> 1 | Q37: =E37-(L37+P37) -> 0 | R37: =Full_dataset!W45 -> 0 | S37: =Full_dataset!X45 -> 1 | T37: =Full_dataset!Y45 -> 1 | U37: =Full_dataset!Z45 -> 0 | V37: =Full_dataset!AA45 -> 1 | Y37: =F37/$E37 -> 0.875 | Z37: =G37/$E37 -> 0.25 | AA37: =J37/$E37 -> 0.875 | AB37: =H37/$E37 -> 0.5 | AC37: =K37/$E37 -> 0.5 | AD37: =I37/$E37 -> 1 | AE37: =M37/$E37 -> 0 | AF37: =($E37-Q37)/$E37 -> 1 | AH37: =L37/$E37 -> 0.875 | AI37: =$AH37+R37/$E37 -> 0.875 | AJ37: =$AH37+U37/$E37 -> 0.875 | AK37: =$AH37+S37/$E37 -> 1 | AL37: =$AH37+V37/$E37 -> 1 | AM37: =$AH37+T37/$E37 -> 1 | AN37: =AE37 -> 0 | AO37: =AF37 -> 1
A38: Matheson 2011 | B38: 5 | C38: Medline, Embase, CINAHL, Current Contents, PsycINFO | D38: Ja | E38: 24 | F38: =Full_dataset!K55 -> 24 | G38: =Full_dataset!L55 -> 5 | H38: =Full_dataset!M55 -> 18 | I38: =Full_dataset!N55 -> 16 | J38: =Full_dataset!O55 -> 21 | K38: =Full_dataset!P55 -> 1 | L38: =Full_dataset!Q55 -> 24 | M38: =L38-F38 -> 0 | N38: =E38-F38 -> 0 | O38: =E38-L38 -> 0 | P38: =Full_dataset!U55 -> 0 | Q38: =E38-(L38+P38) -> 0 | R38: =Full_dataset!W55 -> 0 | S38: =Full_dataset!X55 -> 0 | T38: =Full_dataset!Y55 -> 0 | U38: =Full_dataset!Z55 -> 0 | V38: =Full_dataset!AA55 -> 0 | Y38: =F38/$E38 -> 1 | Z38: =G38/$E38 -> 0.20833333 | AA38: =J38/$E38 -> 0.875 | AB38: =H38/$E38 -> 0.75 | AC38: =K38/$E38 -> 0.041666667 | AD38: =I38/$E38 -> 0.66666667 | AE38: =M38/$E38 -> 0 | AF38: =($E38-Q38)/$E38 -> 1 | AH38: =L38/$E38 -> 1 | AI38: =$AH38+R38/$E38 -> 1 | AJ38: =$AH38+U38/$E38 -> 1 | AK38: =$AH38+S38/$E38 -> 1 | AL38: =$AH38+V38/$E38 -> 1 | AM38: =$AH38+T38/$E38 -> 1 | AN38: =AE38 -> 0 | AO38: =AF38 -> 1
A39: Matyas 2011 | B39: 5 | C39: Embase, Medline, Chochrane (HTA, SR), DARE | D39: Nein | E39: 7 | F39: =Full_dataset!K56 -> 7 | G39: =Full_dataset!L56 -> 3 | H39: =Full_dataset!M56 -> 0 | I39: =Full_dataset!N56 -> 6 | J39: =Full_dataset!O56 -> 7 | K39: =Full_dataset!P56 -> 4 | L39: =Full_dataset!Q56 -> 7 | M39: =L39-F39 -> 0 | N39: =E39-F39 -> 0 | O39: =E39-L39 -> 0 | P39: =Full_dataset!U56 -> 0 | Q39: =E39-(L39+P39) -> 0 | R39: =Full_dataset!W56 -> 0 | S39: =Full_dataset!X56 -> 0 | T39: =Full_dataset!Y56 -> 0 | U39: =Full_dataset!Z56 -> 0 | V39: =Full_dataset!AA56 -> 0 | Y39: =F39/$E39 -> 1 | Z39: =G39/$E39 -> 0.42857143 | AA39: =J39/$E39 -> 1 | AB39: =H39/$E39 -> 0 | AC39: =K39/$E39 -> 0.57142857 | AD39: =I39/$E39 -> 0.85714286 | AE39: =M39/$E39 -> 0 | AF39: =($E39-Q39)/$E39 -> 1 | AH39: =L39/$E39 -> 1 | AI39: =$AH39+R39/$E39 -> 1 | AJ39: =$AH39+U39/$E39 -> 1 | AK39: =$AH39+S39/$E39 -> 1 | AL39: =$AH39+V39/$E39 -> 1 | AM39: =$AH39+T39/$E39 -> 1 | AN39: =AE39 -> 0 | AO39: =AF39 -> 1
A40: O´Connor 2009 | B40: 5 | C40: Medline, Cochrane (Trials, SR), DARE, PsychINFO | D40: Ja | E40: 28 | F40: =Full_dataset!K63 -> 23 | G40: =Full_dataset!L63 -> 7 | H40: =Full_dataset!M63 -> 20 | I40: =Full_dataset!N63 -> 13 | J40: =Full_dataset!O63 -> 23 | K40: =Full_dataset!P63 -> 8 | L40: =Full_dataset!Q63 -> 27 | M40: =L40-F40 -> 4 | N40: =E40-F40 -> 5 | O40: =E40-L40 -> 1 | P40: =Full_dataset!U63 -> 1 | Q40: =E40-(L40+P40) -> 0 | R40: =Full_dataset!W63 -> 0 | S40: =Full_dataset!X63 -> 1 | T40: =Full_dataset!Y63 -> 1 | U40: =Full_dataset!Z63 -> 1 | V40: =Full_dataset!AA63 -> 0 | Y40: =F40/$E40 -> 0.82142857 | Z40: =G40/$E40 -> 0.25 | AA40: =J40/$E40 -> 0.82142857 | AB40: =H40/$E40 -> 0.71428571 | AC40: =K40/$E40 -> 0.28571429 | AD40: =I40/$E40 -> 0.46428571 | AE40: =M40/$E40 -> 0.14285714 | AF40: =($E40-Q40)/$E40 -> 1 | AH40: =L40/$E40 -> 0.96428571 | AI40: =$AH40+R40/$E40 -> 0.96428571 | AJ40: =$AH40+U40/$E40 -> 1 | AK40: =$AH40+S40/$E40 -> 1 | AL40: =$AH40+V40/$E40 -> 0.96428571 | AM40: =$AH40+T40/$E40 -> 1 | AN40: =AE40 -> 0.14285714 | AO40: =AF40 -> 1
A41: Onakpoya 2011 | B41: 5 | C41: Medline, Embase, Cochrane, Amed, CINAHL | D41: Ja | E41: 9 | F41: =Full_dataset!K65 -> 9 | G41: =Full_dataset!L65 -> 5 | H41: =Full_dataset!M65 -> 0 | I41: =Full_dataset!N65 -> 7 | J41: =Full_dataset!O65 -> 8 | K41: =Full_dataset!P65 -> 5 | L41: =Full_dataset!Q65 -> 9 | M41: =L41-F41 -> 0 | N41: =E41-F41 -> 0 | O41: =E41-L41 -> 0 | P41: =Full_dataset!U65 -> 0 | Q41: =E41-(L41+P41) -> 0 | R41: =Full_dataset!W65 -> 0 | S41: =Full_dataset!X65 -> 0 | T41: =Full_dataset!Y65 -> 0 | U41: =Full_dataset!Z65 -> 0 | V41: =Full_dataset!AA65 -> 0 | Y41: =F41/$E41 -> 1 | Z41: =G41/$E41 -> 0.55555556 | AA41: =J41/$E41 -> 0.88888889 | AB41: =H41/$E41 -> 0 | AC41: =K41/$E41 -> 0.55555556 | AD41: =I41/$E41 -> 0.77777778 | AE41: =M41/$E41 -> 0 | AF41: =($E41-Q41)/$E41 -> 1 | AH41: =L41/$E41 -> 1 | AI41: =$AH41+R41/$E41 -> 1 | AJ41: =$AH41+U41/$E41 -> 1 | AK41: =$AH41+S41/$E41 -> 1 | AL41: =$AH41+V41/$E41 -> 1 | AM41: =$AH41+T41/$E41 -> 1 | AN41: =AE41 -> 0 | AO41: =AF41 -> 1
A42: Oxman 2009 | B42: 5 | C42: Cochrane (SR), DARE, Embase, Medline, PubMed | D42: Ja | E42: 13 | F42: =Full_dataset!K66 -> 12 | G42: =Full_dataset!L66 -> 6 | H42: =Full_dataset!M66 -> 2 | I42: =Full_dataset!N66 -> 12 | J42: =Full_dataset!O66 -> 11 | K42: =Full_dataset!P66 -> 6 | L42: =Full_dataset!Q66 -> 12 | M42: =L42-F42 -> 0 | N42: =E42-F42 -> 1 | O42: =E42-L42 -> 1 | P42: =Full_dataset!U66 -> 1 | Q42: =E42-(L42+P42) -> 0 | R42: =Full_dataset!W66 -> 0 | S42: =Full_dataset!X66 -> 0 | T42: =Full_dataset!Y66 -> 1 | U42: =Full_dataset!Z66 -> 0 | V42: =Full_dataset!AA66 -> 1 | Y42: =F42/$E42 -> 0.92307692 | Z42: =G42/$E42 -> 0.46153846 | AA42: =J42/$E42 -> 0.84615385 | AB42: =H42/$E42 -> 0.15384615 | AC42: =K42/$E42 -> 0.46153846 | AD42: =I42/$E42 -> 0.92307692 | AE42: =M42/$E42 -> 0 | AF42: =($E42-Q42)/$E42 -> 1 | AH42: =L42/$E42 -> 0.92307692 | AI42: =$AH42+R42/$E42 -> 0.92307692 | AJ42: =$AH42+U42/$E42 -> 0.92307692 | AK42: =$AH42+S42/$E42 -> 0.92307692 | AL42: =$AH42+V42/$E42 -> 1 | AM42: =$AH42+T42/$E42 -> 1 | AN42: =AE42 -> 0 | AO42: =AF42 -> 1
A43: Smith 2009b preterm birth | B43: 5 | C43: Medline, Embase, CINAHL, Cochrane, Science Citation Index | D43: Ja | E43: 22 | F43: =Full_dataset!K79 -> 22 | G43: =Full_dataset!L79 -> 7 | H43: =Full_dataset!M79 -> 0 | I43: =Full_dataset!N79 -> 20 | J43: =Full_dataset!O79 -> 22 | K43: =Full_dataset!P79 -> 17 | L43: =Full_dataset!Q79 -> 22 | M43: =L43-F43 -> 0 | N43: =E43-F43 -> 0 | O43: =E43-L43 -> 0 | P43: =Full_dataset!U79 -> 0 | Q43: =E43-(L43+P43) -> 0 | R43: =Full_dataset!W79 -> 0 | S43: =Full_dataset!X79 -> 0 | T43: =Full_dataset!Y79 -> 0 | U43: =Full_dataset!Z79 -> 0 | V43: =Full_dataset!AA79 -> 0 | Y43: =F43/$E43 -> 1 | Z43: =G43/$E43 -> 0.31818182 | AA43: =J43/$E43 -> 1 | AB43: =H43/$E43 -> 0 | AC43: =K43/$E43 -> 0.77272727 | AD43: =I43/$E43 -> 0.90909091 | AE43: =M43/$E43 -> 0 | AF43: =($E43-Q43)/$E43 -> 1 | AH43: =L43/$E43 -> 1 | AI43: =$AH43+R43/$E43 -> 1 | AJ43: =$AH43+U43/$E43 -> 1 | AK43: =$AH43+S43/$E43 -> 1 | AL43: =$AH43+V43/$E43 -> 1 | AM43: =$AH43+T43/$E43 -> 1 | AN43: =AE43 -> 0 | AO43: =AF43 -> 1
A44: Ernst 2011d CAM sex | B44: 6 | C44: Medline, Embase, Amed, DARE, CINAHL, Cochrane | D44: Ja | E44: 4 | F44: =Full_dataset!K29 -> 4 | G44: =Full_dataset!L29 -> 0 | H44: =Full_dataset!M29 -> 0 | I44: =Full_dataset!N29 -> 4 | J44: =Full_dataset!O29 -> 4 | K44: =Full_dataset!P29 -> 3 | L44: =Full_dataset!Q29 -> 4 | M44: =L44-F44 -> 0 | N44: =E44-F44 -> 0 | O44: =E44-L44 -> 0 | P44: =Full_dataset!U29 -> 0 | Q44: =E44-(L44+P44) -> 0 | R44: =Full_dataset!W29 -> 0 | S44: =Full_dataset!X29 -> 0 | T44: =Full_dataset!Y29 -> 0 | U44: =Full_dataset!Z29 -> 0 | V44: =Full_dataset!AA29 -> 0 | Y44: =F44/$E44 -> 1 | Z44: =G44/$E44 -> 0 | AA44: =J44/$E44 -> 1 | AB44: =H44/$E44 -> 0 | AC44: =K44/$E44 -> 0.75 | AD44: =I44/$E44 -> 1 | AE44: =M44/$E44 -> 0 | AF44: =($E44-Q44)/$E44 -> 1 | AH44: =L44/$E44 -> 1 | AI44: =$AH44+R44/$E44 -> 1 | AJ44: =$AH44+U44/$E44 -> 1 | AK44: =$AH44+S44/$E44 -> 1 | AL44: =$AH44+V44/$E44 -> 1 | AM44: =$AH44+T44/$E44 -> 1 | AN44: =AE44 -> 0 | AO44: =AF44 -> 1
A45: Gibson 2011 | B45: 6 | C45: CRD Wider Public Health database, Cochrane (SR), Criminal Justice Abstracts database, DARE, Campbell Collaboration Database , Evidence for Policy and Practice Information and Coordinating Centre database | D45: Ja | E45: 5 | F45: =Full_dataset!K31 -> 4 | G45: =Full_dataset!L31 -> 3 | H45: =Full_dataset!M31 -> 2 | I45: =Full_dataset!N31 -> 5 | J45: =Full_dataset!O31 -> 4 | K45: =Full_dataset!P31 -> 3 | L45: =Full_dataset!Q31 -> 4 | M45: =L45-F45 -> 0 | N45: =E45-F45 -> 1 | O45: =E45-L45 -> 1 | P45: =Full_dataset!U31 -> 1 | Q45: =E45-(L45+P45) -> 0 | R45: =Full_dataset!W31 -> 0 | S45: =Full_dataset!X31 -> 0 | T45: =Full_dataset!Y31 -> 1 | U45: =Full_dataset!Z31 -> 0 | V45: =Full_dataset!AA31 -> 0 | Y45: =F45/$E45 -> 0.8 | Z45: =G45/$E45 -> 0.6 | AA45: =J45/$E45 -> 0.8 | AB45: =H45/$E45 -> 0.4 | AC45: =K45/$E45 -> 0.6 | AD45: =I45/$E45 -> 1 | AE45: =M45/$E45 -> 0 | AF45: =($E45-Q45)/$E45 -> 1 | AH45: =L45/$E45 -> 0.8 | AI45: =$AH45+R45/$E45 -> 0.8 | AJ45: =$AH45+U45/$E45 -> 0.8 | AK45: =$AH45+S45/$E45 -> 0.8 | AL45: =$AH45+V45/$E45 -> 0.8 | AM45: =$AH45+T45/$E45 -> 1 | AN45: =AE45 -> 0 | AO45: =AF45 -> 1
A46: IQWIG 2011a HTA | B46: 6 | C46: Medline, Embase, Cochrane (Trials, SR), DARE, HTA, | D46: Ja | E46: 2 | F46: =Full_dataset!K39 -> 2 | G46: =Full_dataset!L39 -> 0 | H46: =Full_dataset!M39 -> 0 | I46: =Full_dataset!N39 -> 2 | J46: =Full_dataset!O39 -> 1 | K46: =Full_dataset!P39 -> 2 | L46: =Full_dataset!Q39 -> 2 | M46: =L46-F46 -> 0 | N46: =E46-F46 -> 0 | O46: =E46-L46 -> 0 | P46: =Full_dataset!U39 -> 0 | Q46: =E46-(L46+P46) -> 0 | R46: =Full_dataset!W39 -> 0 | S46: =Full_dataset!X39 -> 0 | T46: =Full_dataset!Y39 -> 0 | U46: =Full_dataset!Z39 -> 0 | V46: =Full_dataset!AA39 -> 0 | Y46: =F46/$E46 -> 1 | Z46: =G46/$E46 -> 0 | AA46: =J46/$E46 -> 0.5 | AB46: =H46/$E46 -> 0 | AC46: =K46/$E46 -> 1 | AD46: =I46/$E46 -> 1 | AE46: =M46/$E46 -> 0 | AF46: =($E46-Q46)/$E46 -> 1 | AH46: =L46/$E46 -> 1 | AI46: =$AH46+R46/$E46 -> 1 | AJ46: =$AH46+U46/$E46 -> 1 | AK46: =$AH46+S46/$E46 -> 1 | AL46: =$AH46+V46/$E46 -> 1 | AM46: =$AH46+T46/$E46 -> 1 | AN46: =AE46 -> 0 | AO46: =AF46 -> 1
A47: IQWIG 2011b neck cancer HTA | B47: 6 | C47: Medline, Embase, Cochrane (Trials, SR), DARE, HTA, | D47: Ja | E47: 2 | F47: =Full_dataset!K40 -> 2 | G47: =Full_dataset!L40 -> 0 | H47: =Full_dataset!M40 -> 0 | I47: =Full_dataset!N40 -> 2 | J47: =Full_dataset!O40 -> 1 | K47: =Full_dataset!P40 -> 2 | L47: =Full_dataset!Q40 -> 2 | M47: =L47-F47 -> 0 | N47: =E47-F47 -> 0 | O47: =E47-L47 -> 0 | P47: =Full_dataset!U40 -> 0 | Q47: =E47-(L47+P47) -> 0 | R47: =Full_dataset!W40 -> 0 | S47: =Full_dataset!X40 -> 0 | T47: =Full_dataset!Y40 -> 0 | U47: =Full_dataset!Z40 -> 0 | V47: =Full_dataset!AA40 -> 0 | Y47: =F47/$E47 -> 1 | Z47: =G47/$E47 -> 0 | AA47: =J47/$E47 -> 0.5 | AB47: =H47/$E47 -> 0 | AC47: =K47/$E47 -> 1 | AD47: =I47/$E47 -> 1 | AE47: =M47/$E47 -> 0 | AF47: =($E47-Q47)/$E47 -> 1 | AH47: =L47/$E47 -> 1 | AI47: =$AH47+R47/$E47 -> 1 | AJ47: =$AH47+U47/$E47 -> 1 | AK47: =$AH47+S47/$E47 -> 1 | AL47: =$AH47+V47/$E47 -> 1 | AM47: =$AH47+T47/$E47 -> 1 | AN47: =AE47 -> 0 | AO47: =AF47 -> 1
A48: Kamioka 2010 | B48: 6 | C48: Cochrane (SR), PubMed, CINAHL, Web of Science, Jdream II, Ichushi-Web | D48: Nein | E48: 6 | F48: =Full_dataset!K42 -> 6 | G48: =Full_dataset!L42 -> 4 | H48: =Full_dataset!M42 -> 0 | I48: =Full_dataset!N42 -> 4 | J48: =Full_dataset!O42 -> 6 | K48: =Full_dataset!P42 -> 5 | L48: =Full_dataset!Q42 -> 6 | M48: =L48-F48 -> 0 | N48: =E48-F48 -> 0 | O48: =E48-L48 -> 0 | P48: =Full_dataset!U42 -> 0 | Q48: =E48-(L48+P48) -> 0 | R48: =Full_dataset!W42 -> 0 | S48: =Full_dataset!X42 -> 0 | T48: =Full_dataset!Y42 -> 0 | U48: =Full_dataset!Z42 -> 0 | V48: =Full_dataset!AA42 -> 0 | Y48: =F48/$E48 -> 1 | Z48: =G48/$E48 -> 0.66666667 | AA48: =J48/$E48 -> 1 | AB48: =H48/$E48 -> 0 | AC48: =K48/$E48 -> 0.83333333 | AD48: =I48/$E48 -> 0.66666667 | AE48: =M48/$E48 -> 0 | AF48: =($E48-Q48)/$E48 -> 1 | AH48: =L48/$E48 -> 1 | AI48: =$AH48+R48/$E48 -> 1 | AJ48: =$AH48+U48/$E48 -> 1 | AK48: =$AH48+S48/$E48 -> 1 | AL48: =$AH48+V48/$E48 -> 1 | AM48: =$AH48+T48/$E48 -> 1 | AN48: =AE48 -> 0 | AO48: =AF48 -> 1
A49: Kang 2011 | B49: 6 | C49: PubMed, Cochrane, Korean DBs (4) | D49: Ja | E49: 16 | F49: =Full_dataset!K43 -> 16 | G49: =Full_dataset!L43 -> 7 | H49: =Full_dataset!M43 -> 0 | I49: =Full_dataset!N43 -> 16 | J49: =Full_dataset!O43 -> 9 | K49: =Full_dataset!P43 -> 9 | L49: =Full_dataset!Q43 -> 16 | M49: =L49-F49 -> 0 | N49: =E49-F49 -> 0 | O49: =E49-L49 -> 0 | P49: =Full_dataset!U43 -> 0 | Q49: =E49-(L49+P49) -> 0 | R49: =Full_dataset!W43 -> 0 | S49: =Full_dataset!X43 -> 0 | T49: =Full_dataset!Y43 -> 0 | U49: =Full_dataset!Z43 -> 0 | V49: =Full_dataset!AA43 -> 0 | Y49: =F49/$E49 -> 1 | Z49: =G49/$E49 -> 0.4375 | AA49: =J49/$E49 -> 0.5625 | AB49: =H49/$E49 -> 0 | AC49: =K49/$E49 -> 0.5625 | AD49: =I49/$E49 -> 1 | AE49: =M49/$E49 -> 0 | AF49: =($E49-Q49)/$E49 -> 1 | AH49: =L49/$E49 -> 1 | AI49: =$AH49+R49/$E49 -> 1 | AJ49: =$AH49+U49/$E49 -> 1 | AK49: =$AH49+S49/$E49 -> 1 | AL49: =$AH49+V49/$E49 -> 1 | AM49: =$AH49+T49/$E49 -> 1 | AN49: =AE49 -> 0 | AO49: =AF49 -> 1
A50: Matheson 2010 | B50: 6 | C50: Medline, Embase, CINAHL, Current Contents, PsycINFO, Cochrane | D50: Ja | E50: 5 | F50: =Full_dataset!K54 -> 5 | G50: =Full_dataset!L54 -> 1 | H50: =Full_dataset!M54 -> 2 | I50: =Full_dataset!N54 -> 5 | J50: =Full_dataset!O54 -> 5 | K50: =Full_dataset!P54 -> 4 | L50: =Full_dataset!Q54 -> 5 | M50: =L50-F50 -> 0 | N50: =E50-F50 -> 0 | O50: =E50-L50 -> 0 | P50: =Full_dataset!U54 -> 0 | Q50: =E50-(L50+P50) -> 0 | R50: =Full_dataset!W54 -> 0 | S50: =Full_dataset!X54 -> 0 | T50: =Full_dataset!Y54 -> 0 | U50: =Full_dataset!Z54 -> 0 | V50: =Full_dataset!AA54 -> 0 | Y50: =F50/$E50 -> 1 | Z50: =G50/$E50 -> 0.2 | AA50: =J50/$E50 -> 1 | AB50: =H50/$E50 -> 0.4 | AC50: =K50/$E50 -> 0.8 | AD50: =I50/$E50 -> 1 | AE50: =M50/$E50 -> 0 | AF50: =($E50-Q50)/$E50 -> 1 | AH50: =L50/$E50 -> 1 | AI50: =$AH50+R50/$E50 -> 1 | AJ50: =$AH50+U50/$E50 -> 1 | AK50: =$AH50+S50/$E50 -> 1 | AL50: =$AH50+V50/$E50 -> 1 | AM50: =$AH50+T50/$E50 -> 1 | AN50: =AE50 -> 0 | AO50: =AF50 -> 1
A51: Oestergaard 2011 | B51: 6 | C51: PubMed, Embase, International Pharmaceutical Abstracts, Web of Science, PsycINFO, Cochrane | D51: Ja | E51: 19 | F51: =Full_dataset!K64 -> 18 | G51: =Full_dataset!L64 -> 5 | H51: =Full_dataset!M64 -> 12 | I51: =Full_dataset!N64 -> 11 | J51: =Full_dataset!O64 -> 15 | K51: =Full_dataset!P64 -> 9 | L51: =Full_dataset!Q64 -> 19 | M51: =L51-F51 -> 1 | N51: =E51-F51 -> 1 | O51: =E51-L51 -> 0 | P51: =Full_dataset!U64 -> 0 | Q51: =E51-(L51+P51) -> 0 | R51: =Full_dataset!W64 -> 0 | S51: =Full_dataset!X64 -> 0 | T51: =Full_dataset!Y64 -> 0 | U51: =Full_dataset!Z64 -> 0 | V51: =Full_dataset!AA64 -> 0 | Y51: =F51/$E51 -> 0.94736842 | Z51: =G51/$E51 -> 0.26315789 | AA51: =J51/$E51 -> 0.78947368 | AB51: =H51/$E51 -> 0.63157895 | AC51: =K51/$E51 -> 0.47368421 | AD51: =I51/$E51 -> 0.57894737 | AE51: =M51/$E51 -> 0.052631579 | AF51: =($E51-Q51)/$E51 -> 1 | AH51: =L51/$E51 -> 1 | AI51: =$AH51+R51/$E51 -> 1 | AJ51: =$AH51+U51/$E51 -> 1 | AK51: =$AH51+S51/$E51 -> 1 | AL51: =$AH51+V51/$E51 -> 1 | AM51: =$AH51+T51/$E51 -> 1 | AN51: =AE51 -> 0.052631579 | AO51: =AF51 -> 1
A52: Palmateer 2010 | B52: 6 | C52: CINAHL, Cochrane, Embase, IBSS, Medline, PsychINFO | D52: Ja | E52: 5 | F52: =Full_dataset!K67 -> 3 | G52: =Full_dataset!L67 -> 0 | H52: =Full_dataset!M67 -> 2 | I52: =Full_dataset!N67 -> 3 | J52: =Full_dataset!O67 -> 3 | K52: =Full_dataset!P67 -> 2 | L52: =Full_dataset!Q67 -> 3 | M52: =L52-F52 -> 0 | N52: =E52-F52 -> 2 | O52: =E52-L52 -> 2 | P52: =Full_dataset!U67 -> 2 | Q52: =E52-(L52+P52) -> 0 | R52: =Full_dataset!W67 -> 0 | S52: =Full_dataset!X67 -> 0 | T52: =Full_dataset!Y67 -> 2 | U52: =Full_dataset!Z67 -> 0 | V52: =Full_dataset!AA67 -> 0 | Y52: =F52/$E52 -> 0.6 | Z52: =G52/$E52 -> 0 | AA52: =J52/$E52 -> 0.6 | AB52: =H52/$E52 -> 0.4 | AC52: =K52/$E52 -> 0.4 | AD52: =I52/$E52 -> 0.6 | AE52: =M52/$E52 -> 0 | AF52: =($E52-Q52)/$E52 -> 1 | AH52: =L52/$E52 -> 0.6 | AI52: =$AH52+R52/$E52 -> 0.6 | AJ52: =$AH52+U52/$E52 -> 0.6 | AK52: =$AH52+S52/$E52 -> 0.6 | AL52: =$AH52+V52/$E52 -> 0.6 | AM52: =$AH52+T52/$E52 -> 1 | AN52: =AE52 -> 0 | AO52: =AF52 -> 1
A53: Posadzki 2011b headache | B53: 6 | C53: Medline, Embase, Cochrane, Amed, CINAHL, PsychINFO | D53: Ja | E53: 6 | F53: =Full_dataset!K70 -> 6 | G53: =Full_dataset!L70 -> 4 | H53: =Full_dataset!M70 -> 0 | I53: =Full_dataset!N70 -> 6 | J53: =Full_dataset!O70 -> 5 | K53: =Full_dataset!P70 -> 5 | L53: =Full_dataset!Q70 -> 6 | M53: =L53-F53 -> 0 | N53: =E53-F53 -> 0 | O53: =E53-L53 -> 0 | P53: =Full_dataset!U70 -> 0 | Q53: =E53-(L53+P53) -> 0 | R53: =Full_dataset!W70 -> 0 | S53: =Full_dataset!X70 -> 0 | T53: =Full_dataset!Y70 -> 0 | U53: =Full_dataset!Z70 -> 0 | V53: =Full_dataset!AA70 -> 0 | Y53: =F53/$E53 -> 1 | Z53: =G53/$E53 -> 0.66666667 | AA53: =J53/$E53 -> 0.83333333 | AB53: =H53/$E53 -> 0 | AC53: =K53/$E53 -> 0.83333333 | AD53: =I53/$E53 -> 1 | AE53: =M53/$E53 -> 0 | AF53: =($E53-Q53)/$E53 -> 1 | AH53: =L53/$E53 -> 1 | AI53: =$AH53+R53/$E53 -> 1 | AJ53: =$AH53+U53/$E53 -> 1 | AK53: =$AH53+S53/$E53 -> 1 | AL53: =$AH53+V53/$E53 -> 1 | AM53: =$AH53+T53/$E53 -> 1 | AN53: =AE53 -> 0 | AO53: =AF53 -> 1
A54: Maniglio 2009 | B54: 7 | C54: Amed, Cochrane (SR), EBSCO, Education Resources Information Center, Medline, PsychINFO, Science Direct | D54: Ja | E54: 14 | F54: =Full_dataset!K52 -> 12 | G54: =Full_dataset!L52 -> 4 | H54: =Full_dataset!M52 -> 12 | I54: =Full_dataset!N52 -> 10 | J54: =Full_dataset!O52 -> 12 | K54: =Full_dataset!P52 -> 2 | L54: =Full_dataset!Q52 -> 14 | M54: =L54-F54 -> 2 | N54: =E54-F54 -> 2 | O54: =E54-L54 -> 0 | P54: =Full_dataset!U52 -> 0 | Q54: =E54-(L54+P54) -> 0 | R54: =Full_dataset!W52 -> 0 | S54: =Full_dataset!X52 -> 0 | T54: =Full_dataset!Y52 -> 0 | U54: =Full_dataset!Z52 -> 0 | V54: =Full_dataset!AA52 -> 0 | Y54: =F54/$E54 -> 0.85714286 | Z54: =G54/$E54 -> 0.28571429 | AA54: =J54/$E54 -> 0.85714286 | AB54: =H54/$E54 -> 0.85714286 | AC54: =K54/$E54 -> 0.14285714 | AD54: =I54/$E54 -> 0.71428571 | AE54: =M54/$E54 -> 0.14285714 | AF54: =($E54-Q54)/$E54 -> 1 | AH54: =L54/$E54 -> 1 | AI54: =$AH54+R54/$E54 -> 1 | AJ54: =$AH54+U54/$E54 -> 1 | AK54: =$AH54+S54/$E54 -> 1 | AL54: =$AH54+V54/$E54 -> 1 | AM54: =$AH54+T54/$E54 -> 1 | AN54: =AE54 -> 0.14285714 | AO54: =AF54 -> 1
A55: Maniglio 2010 | B55: 7 | C55: Amed, Cochrane (SR), EBSCO, Education Resources Information Center, Medline, PsychINFO, Science Direct | D55: Ja | E55: 4 | F55: =Full_dataset!K53 -> 3 | G55: =Full_dataset!L53 -> 1 | H55: =Full_dataset!M53 -> 3 | I55: =Full_dataset!N53 -> 2 | J55: =Full_dataset!O53 -> 3 | K55: =Full_dataset!P53 -> 0 | L55: =Full_dataset!Q53 -> 4 | M55: =L55-F55 -> 1 | N55: =E55-F55 -> 1 | O55: =E55-L55 -> 0 | P55: =Full_dataset!U53 -> 0 | Q55: =E55-(L55+P55) -> 0 | R55: =Full_dataset!W53 -> 0 | S55: =Full_dataset!X53 -> 0 | T55: =Full_dataset!Y53 -> 0 | U55: =Full_dataset!Z53 -> 0 | V55: =Full_dataset!AA53 -> 0 | Y55: =F55/$E55 -> 0.75 | Z55: =G55/$E55 -> 0.25 | AA55: =J55/$E55 -> 0.75 | AB55: =H55/$E55 -> 0.75 | AC55: =K55/$E55 -> 0 | AD55: =I55/$E55 -> 0.5 | AE55: =M55/$E55 -> 0.25 | AF55: =($E55-Q55)/$E55 -> 1 | AH55: =L55/$E55 -> 1 | AI55: =$AH55+R55/$E55 -> 1 | AJ55: =$AH55+U55/$E55 -> 1 | AK55: =$AH55+S55/$E55 -> 1 | AL55: =$AH55+V55/$E55 -> 1 | AM55: =$AH55+T55/$E55 -> 1 | AN55: =AE55 -> 0.25 | AO55: =AF55 -> 1
A56: Moe 2009 | B56: 7 | C56: Cochrane (SR), DARE, Medline, Embase, PEDro, PsychINFO, CINAHL | D56: Ja | E56: 4 | F56: =Full_dataset!K60 -> 4 | G56: =Full_dataset!L60 -> 1 | H56: =Full_dataset!M60 -> 4 | I56: =Full_dataset!N60 -> 4 | J56: =Full_dataset!O60 -> 4 | K56: =Full_dataset!P60 -> 4 | L56: =Full_dataset!Q60 -> 4 | M56: =L56-F56 -> 0 | N56: =E56-F56 -> 0 | O56: =E56-L56 -> 0 | P56: =Full_dataset!U60 -> 0 | Q56: =E56-(L56+P56) -> 0 | R56: =Full_dataset!W60 -> 0 | S56: =Full_dataset!X60 -> 0 | T56: =Full_dataset!Y60 -> 0 | U56: =Full_dataset!Z60 -> 0 | V56: =Full_dataset!AA60 -> 0 | Y56: =F56/$E56 -> 1 | Z56: =G56/$E56 -> 0.25 | AA56: =J56/$E56 -> 1 | AB56: =H56/$E56 -> 1 | AC56: =K56/$E56 -> 1 | AD56: =I56/$E56 -> 1 | AE56: =M56/$E56 -> 0 | AF56: =($E56-Q56)/$E56 -> 1 | AH56: =L56/$E56 -> 1 | AI56: =$AH56+R56/$E56 -> 1 | AJ56: =$AH56+U56/$E56 -> 1 | AK56: =$AH56+S56/$E56 -> 1 | AL56: =$AH56+V56/$E56 -> 1 | AM56: =$AH56+T56/$E56 -> 1 | AN56: =AE56 -> 0 | AO56: =AF56 -> 1
A57: Monasta 2010 | B57: 7 | C57: Medline, Embase, Web of Science, Cochrane (Trials), DARE, CINAHL, PsychINFO | D57: Nein | E57: 22 | F57: =Full_dataset!K61 -> 21 | G57: =Full_dataset!L61 -> 10 | H57: =Full_dataset!M61 -> 0 | I57: =Full_dataset!N61 -> 11 | J57: =Full_dataset!O61 -> 19 | K57: =Full_dataset!P61 -> 3 | L57: =Full_dataset!Q61 -> 21 | M57: =L57-F57 -> 0 | N57: =E57-F57 -> 1 | O57: =E57-L57 -> 1 | P57: =Full_dataset!U61 -> 0 | Q57: =E57-(L57+P57) -> 1 | R57: =Full_dataset!W61 -> 0 | S57: =Full_dataset!X61 -> 0 | T57: =Full_dataset!Y61 -> 0 | U57: =Full_dataset!Z61 -> 0 | V57: =Full_dataset!AA61 -> 0 | Y57: =F57/$E57 -> 0.95454545 | Z57: =G57/$E57 -> 0.45454545 | AA57: =J57/$E57 -> 0.86363636 | AB57: =H57/$E57 -> 0 | AC57: =K57/$E57 -> 0.13636364 | AD57: =I57/$E57 -> 0.5 | AE57: =M57/$E57 -> 0 | AF57: =($E57-Q57)/$E57 -> 0.95454545 | AH57: =L57/$E57 -> 0.95454545 | AI57: =$AH57+R57/$E57 -> 0.95454545 | AJ57: =$AH57+U57/$E57 -> 0.95454545 | AK57: =$AH57+S57/$E57 -> 0.95454545 | AL57: =$AH57+V57/$E57 -> 0.95454545 | AM57: =$AH57+T57/$E57 -> 0.95454545 | AN57: =AE57 -> 0 | AO57: =AF57 -> 0.95454545
A58: Safron 2011a environ | B58: 7 | C58: PsycINFO, PsychArticles, Health Source: Nursing/Academic Edition, Medline, Cochrane (SR), ScienceDirect, Ovid databases | D58: Ja | E58: 8 | F58: =Full_dataset!K72 -> 8 | G58: =Full_dataset!L72 -> 5 | H58: =Full_dataset!M72 -> 1 | I58: =Full_dataset!N72 -> 8 | J58: =Full_dataset!O72 -> 7 | K58: =Full_dataset!P72 -> 1 | L58: =Full_dataset!Q72 -> 8 | M58: =L58-F58 -> 0 | N58: =E58-F58 -> 0 | O58: =E58-L58 -> 0 | P58: =Full_dataset!U72 -> 0 | Q58: =E58-(L58+P58) -> 0 | R58: =Full_dataset!W72 -> 0 | S58: =Full_dataset!X72 -> 0 | T58: =Full_dataset!Y72 -> 0 | U58: =Full_dataset!Z72 -> 0 | V58: =Full_dataset!AA72 -> 0 | Y58: =F58/$E58 -> 1 | Z58: =G58/$E58 -> 0.625 | AA58: =J58/$E58 -> 0.875 | AB58: =H58/$E58 -> 0.125 | AC58: =K58/$E58 -> 0.125 | AD58: =I58/$E58 -> 1 | AE58: =M58/$E58 -> 0 | AF58: =($E58-Q58)/$E58 -> 1 | AH58: =L58/$E58 -> 1 | AI58: =$AH58+R58/$E58 -> 1 | AJ58: =$AH58+U58/$E58 -> 1 | AK58: =$AH58+S58/$E58 -> 1 | AL58: =$AH58+V58/$E58 -> 1 | AM58: =$AH58+T58/$E58 -> 1 | AN58: =AE58 -> 0 | AO58: =AF58 -> 1
A59: Safron 2011b obesity | B59: 7 | C59: PsycINFO, PsychArticles, Health Source: Nursing/Academic Edition, Medline, Cochrane (SR), ScienceDirect, Ovid databases | D59: Ja | E59: 17 | F59: =Full_dataset!K73 -> 15 | G59: =Full_dataset!L73 -> 6 | H59: =Full_dataset!M73 -> 8 | I59: =Full_dataset!N73 -> 17 | J59: =Full_dataset!O73 -> 15 | K59: =Full_dataset!P73 -> 10 | L59: =Full_dataset!Q73 -> 15 | M59: =L59-F59 -> 0 | N59: =E59-F59 -> 2 | O59: =E59-L59 -> 2 | P59: =Full_dataset!U73 -> 2 | Q59: =E59-(L59+P59) -> 0 | R59: =Full_dataset!W73 -> 0 | S59: =Full_dataset!X73 -> 1 | T59: =Full_dataset!Y73 -> 2 | U59: =Full_dataset!Z73 -> 0 | V59: =Full_dataset!AA73 -> 1 | Y59: =F59/$E59 -> 0.88235294 | Z59: =G59/$E59 -> 0.35294118 | AA59: =J59/$E59 -> 0.88235294 | AB59: =H59/$E59 -> 0.47058824 | AC59: =K59/$E59 -> 0.58823529 | AD59: =I59/$E59 -> 1 | AE59: =M59/$E59 -> 0 | AF59: =($E59-Q59)/$E59 -> 1 | AH59: =L59/$E59 -> 0.88235294 | AI59: =$AH59+R59/$E59 -> 0.88235294 | AJ59: =$AH59+U59/$E59 -> 0.88235294 | AK59: =$AH59+S59/$E59 -> 0.94117647 | AL59: =$AH59+V59/$E59 -> 0.94117647 | AM59: =$AH59+T59/$E59 -> 1 | AN59: =AE59 -> 0 | AO59: =AF59 -> 1
A60: Terry 2012 | B60: 7 | C60: Medline, PsychINFO, Embase, CINAHL, BNI, Amed, Cochrane (Trials) | D60: Ja | E60: 5 | F60: =Full_dataset!K84 -> 5 | G60: =Full_dataset!L84 -> 0 | H60: =Full_dataset!M84 -> 0 | I60: =Full_dataset!N84 -> 5 | J60: =Full_dataset!O84 -> 4 | K60: =Full_dataset!P84 -> 2 | L60: =Full_dataset!Q84 -> 5 | M60: =L60-F60 -> 0 | N60: =E60-F60 -> 0 | O60: =E60-L60 -> 0 | P60: =Full_dataset!U84 -> 0 | Q60: =E60-(L60+P60) -> 0 | R60: =Full_dataset!W84 -> 0 | S60: =Full_dataset!X84 -> 0 | T60: =Full_dataset!Y84 -> 0 | U60: =Full_dataset!Z84 -> 0 | V60: =Full_dataset!AA84 -> 0 | Y60: =F60/$E60 -> 1 | Z60: =G60/$E60 -> 0 | AA60: =J60/$E60 -> 0.8 | AB60: =H60/$E60 -> 0 | AC60: =K60/$E60 -> 0.4 | AD60: =I60/$E60 -> 1 | AE60: =M60/$E60 -> 0 | AF60: =($E60-Q60)/$E60 -> 1 | AH60: =L60/$E60 -> 1 | AI60: =$AH60+R60/$E60 -> 1 | AJ60: =$AH60+U60/$E60 -> 1 | AK60: =$AH60+S60/$E60 -> 1 | AL60: =$AH60+V60/$E60 -> 1 | AM60: =$AH60+T60/$E60 -> 1 | AN60: =AE60 -> 0 | AO60: =AF60 -> 1
A61: Australia MSAC 2009a lymphoma HTA | B61: 8 | C61: Embase, Medline, Cochrane (SR, Trials), DARE, NHS EED, HTA, Cochrane Methodology Register | D61: Ja | E61: 6 | F61: =Full_dataset!K4 -> 5 | G61: =Full_dataset!L4 -> 1 | H61: =Full_dataset!M4 -> 0 | I61: =Full_dataset!N4 -> 5 | J61: =Full_dataset!O4 -> 3 | K61: =Full_dataset!P4 -> 5 | L61: =Full_dataset!Q4 -> 6 | M61: =L61-F61 -> 1 | N61: =E61-F61 -> 1 | O61: =E61-L61 -> 0 | P61: =Full_dataset!U4 -> 0 | Q61: =E61-(L61+P61) -> 0 | R61: =Full_dataset!W4 -> 0 | S61: =Full_dataset!X4 -> 0 | T61: =Full_dataset!Y4 -> 0 | U61: =Full_dataset!Z4 -> 0 | V61: =Full_dataset!AA4 -> 0 | Y61: =F61/$E61 -> 0.83333333 | Z61: =G61/$E61 -> 0.16666667 | AA61: =J61/$E61 -> 0.5 | AB61: =H61/$E61 -> 0 | AC61: =K61/$E61 -> 0.83333333 | AD61: =I61/$E61 -> 0.83333333 | AE61: =M61/$E61 -> 0.16666667 | AF61: =($E61-Q61)/$E61 -> 1 | AH61: =L61/$E61 -> 1 | AI61: =$AH61+R61/$E61 -> 1 | AJ61: =$AH61+U61/$E61 -> 1 | AK61: =$AH61+S61/$E61 -> 1 | AL61: =$AH61+V61/$E61 -> 1 | AM61: =$AH61+T61/$E61 -> 1 | AN61: =AE61 -> 0.16666667 | AO61: =AF61 -> 1
A62: Australia MSAC 2009b HPV HTA | B62: 8 | C62: INAHATA, EED, DARE, HTA, Cochrane (SR, Trials), Embase, Medline | D62: Ja | E62: 4 | F62: =Full_dataset!K5 -> 2 | G62: =Full_dataset!L5 -> 1 | H62: =Full_dataset!M5 -> 0 | I62: =Full_dataset!N5 -> 3 | J62: =Full_dataset!O5 -> 2 | K62: =Full_dataset!P5 -> 2 | L62: =Full_dataset!Q5 -> 2 | M62: =L62-F62 -> 0 | N62: =E62-F62 -> 2 | O62: =E62-L62 -> 2 | P62: =Full_dataset!U5 -> 2 | Q62: =E62-(L62+P62) -> 0 | R62: =Full_dataset!W5 -> 0 | S62: =Full_dataset!X5 -> 0 | T62: =Full_dataset!Y5 -> 2 | U62: =Full_dataset!Z5 -> 0 | V62: =Full_dataset!AA5 -> 1 | Y62: =F62/$E62 -> 0.5 | Z62: =G62/$E62 -> 0.25 | AA62: =J62/$E62 -> 0.5 | AB62: =H62/$E62 -> 0 | AC62: =K62/$E62 -> 0.5 | AD62: =I62/$E62 -> 0.75 | AE62: =M62/$E62 -> 0 | AF62: =($E62-Q62)/$E62 -> 1 | AH62: =L62/$E62 -> 0.5 | AI62: =$AH62+R62/$E62 -> 0.5 | AJ62: =$AH62+U62/$E62 -> 0.5 | AK62: =$AH62+S62/$E62 -> 0.5 | AL62: =$AH62+V62/$E62 -> 0.75 | AM62: =$AH62+T62/$E62 -> 1 | AN62: =AE62 -> 0 | AO62: =AF62 -> 1
A63: Australia MSAC 2010a cervical cancer HTA | B63: 8 | C63: Embase, Medline, Cochrane (SR, Trials), DARE, NHS EED, HTA, Cochrane Methodology Register | D63: Ja | E63: 4 | F63: =Full_dataset!K6 -> 3 | G63: =Full_dataset!L6 -> 0 | H63: =Full_dataset!M6 -> 0 | I63: =Full_dataset!N6 -> 4 | J63: =Full_dataset!O6 -> 2 | K63: =Full_dataset!P6 -> 4 | L63: =Full_dataset!Q6 -> 3 | M63: =L63-F63 -> 0 | N63: =E63-F63 -> 1 | O63: =E63-L63 -> 1 | P63: =Full_dataset!U6 -> 1 | Q63: =E63-(L63+P63) -> 0 | R63: =Full_dataset!W6 -> 0 | S63: =Full_dataset!X6 -> 0 | T63: =Full_dataset!Y6 -> 1 | U63: =Full_dataset!Z6 -> 0 | V63: =Full_dataset!AA6 -> 1 | Y63: =F63/$E63 -> 0.75 | Z63: =G63/$E63 -> 0 | AA63: =J63/$E63 -> 0.5 | AB63: =H63/$E63 -> 0 | AC63: =K63/$E63 -> 1 | AD63: =I63/$E63 -> 1 | AE63: =M63/$E63 -> 0 | AF63: =($E63-Q63)/$E63 -> 1 | AH63: =L63/$E63 -> 0.75 | AI63: =$AH63+R63/$E63 -> 0.75 | AJ63: =$AH63+U63/$E63 -> 0.75 | AK63: =$AH63+S63/$E63 -> 0.75 | AL63: =$AH63+V63/$E63 -> 1 | AM63: =$AH63+T63/$E63 -> 1 | AN63: =AE63 -> 0 | AO63: =AF63 -> 1
A64: Australia MSAC 2010b PET glioma HTA | B64: 8 | C64: Embase, Medline, Cochrane (SR, Trials), DARE, NHS EED, HTA, Cochrane Methodology Register | D64: Ja | E64: 3 | F64: =Full_dataset!K7 -> 2 | G64: =Full_dataset!L7 -> 0 | H64: =Full_dataset!M7 -> 0 | I64: =Full_dataset!N7 -> 3 | J64: =Full_dataset!O7 -> 0 | K64: =Full_dataset!P7 -> 3 | L64: =Full_dataset!Q7 -> 2 | M64: =L64-F64 -> 0 | N64: =E64-F64 -> 1 | O64: =E64-L64 -> 1 | P64: =Full_dataset!U7 -> 1 | Q64: =E64-(L64+P64) -> 0 | R64: =Full_dataset!W7 -> 0 | S64: =Full_dataset!X7 -> 0 | T64: =Full_dataset!Y7 -> 1 | U64: =Full_dataset!Z7 -> 0 | V64: =Full_dataset!AA7 -> 1 | Y64: =F64/$E64 -> 0.66666667 | Z64: =G64/$E64 -> 0 | AA64: =J64/$E64 -> 0 | AB64: =H64/$E64 -> 0 | AC64: =K64/$E64 -> 1 | AD64: =I64/$E64 -> 1 | AE64: =M64/$E64 -> 0 | AF64: =($E64-Q64)/$E64 -> 1 | AH64: =L64/$E64 -> 0.66666667 | AI64: =$AH64+R64/$E64 -> 0.66666667 | AJ64: =$AH64+U64/$E64 -> 0.66666667 | AK64: =$AH64+S64/$E64 -> 0.66666667 | AL64: =$AH64+V64/$E64 -> 1 | AM64: =$AH64+T64/$E64 -> 1 | AN64: =AE64 -> 0 | AO64: =AF64 -> 1
A65: Australia MSAC 2010c myocardial HTA | B65: 8 | C65: Embase, Medline, Cochrane (SR, Trials), DARE, NHS EED, HTA, Cochrane Methodology Register | D65: Ja | E65: 6 | F65: =Full_dataset!K8 -> 3 | G65: =Full_dataset!L8 -> 0 | H65: =Full_dataset!M8 -> 0 | I65: =Full_dataset!N8 -> 4 | J65: =Full_dataset!O8 -> 2 | K65: =Full_dataset!P8 -> 3 | L65: =Full_dataset!Q8 -> 3 | M65: =L65-F65 -> 0 | N65: =E65-F65 -> 3 | O65: =E65-L65 -> 3 | P65: =Full_dataset!U8 -> 3 | Q65: =E65-(L65+P65) -> 0 | R65: =Full_dataset!W8 -> 0 | S65: =Full_dataset!X8 -> 0 | T65: =Full_dataset!Y8 -> 3 | U65: =Full_dataset!Z8 -> 0 | V65: =Full_dataset!AA8 -> 3 | Y65: =F65/$E65 -> 0.5 | Z65: =G65/$E65 -> 0 | AA65: =J65/$E65 -> 0.33333333 | AB65: =H65/$E65 -> 0 | AC65: =K65/$E65 -> 0.5 | AD65: =I65/$E65 -> 0.66666667 | AE65: =M65/$E65 -> 0 | AF65: =($E65-Q65)/$E65 -> 1 | AH65: =L65/$E65 -> 0.5 | AI65: =$AH65+R65/$E65 -> 0.5 | AJ65: =$AH65+U65/$E65 -> 0.5 | AK65: =$AH65+S65/$E65 -> 0.5 | AL65: =$AH65+V65/$E65 -> 1 | AM65: =$AH65+T65/$E65 -> 1 | AN65: =AE65 -> 0 | AO65: =AF65 -> 1
A66: Jepson 2010 | B66: 8 | C66: CDSR, DARE, AMED, ERIC, Cinahl, EmBase, Medline, PsycINFO | D66: Nein | E66: 103 | F66: =Full_dataset!K41 -> 89 | G66: =Full_dataset!L41 -> 55 | H66: =Full_dataset!M41 -> 31 | I66: =Full_dataset!N41 -> 94 | J66: =Full_dataset!O41 -> 88 | K66: =Full_dataset!P41 -> 90 | L66: =Full_dataset!Q41 -> 93 | M66: =L66-F66 -> 4 | N66: =E66-F66 -> 14 | O66: =E66-L66 -> 10 | P66: =Full_dataset!U41 -> 9 | Q66: =E66-(L66+P66) -> 1 | R66: =Full_dataset!W41 -> 1 | S66: =Full_dataset!X41 -> 3 | T66: =Full_dataset!Y41 -> 9 | U66: =Full_dataset!Z41 -> 1 | V66: =Full_dataset!AA41 -> 6 | Y66: =F66/$E66 -> 0.86407767 | Z66: =G66/$E66 -> 0.53398058 | AA66: =J66/$E66 -> 0.85436893 | AB66: =H66/$E66 -> 0.30097087 | AC66: =K66/$E66 -> 0.87378641 | AD66: =I66/$E66 -> 0.91262136 | AE66: =M66/$E66 -> 0.038834951 | AF66: =($E66-Q66)/$E66 -> 0.99029126 | AH66: =L66/$E66 -> 0.90291262 | AI66: =$AH66+R66/$E66 -> 0.91262136 | AJ66: =$AH66+U66/$E66 -> 0.91262136 | AK66: =$AH66+S66/$E66 -> 0.93203883 | AL66: =$AH66+V66/$E66 -> 0.96116505 | AM66: =$AH66+T66/$E66 -> 0.99029126 | AN66: =AE66 -> 0.038834951 | AO66: =AF66 -> 0.99029126
A67: Swinkels 2009 | B67: 8 | C67: SPORTDiscus, Amed, Medline, Embase, CINAHL, DARE, PEDro, Chochrane (SR) | D67: Ja | E67: 4 | F67: =Full_dataset!K82 -> 3 | G67: =Full_dataset!L82 -> 4 | H67: =Full_dataset!M82 -> 0 | I67: =Full_dataset!N82 -> 4 | J67: =Full_dataset!O82 -> 2 | K67: =Full_dataset!P82 -> 1 | L67: =Full_dataset!Q82 -> 3 | M67: =L67-F67 -> 0 | N67: =E67-F67 -> 1 | O67: =E67-L67 -> 1 | P67: =Full_dataset!U82 -> 1 | Q67: =E67-(L67+P67) -> 0 | R67: =Full_dataset!W82 -> 1 | S67: =Full_dataset!X82 -> 0 | T67: =Full_dataset!Y82 -> 1 | U67: =Full_dataset!Z82 -> 0 | V67: =Full_dataset!AA82 -> 0 | Y67: =F67/$E67 -> 0.75 | Z67: =G67/$E67 -> 1 | AA67: =J67/$E67 -> 0.5 | AB67: =H67/$E67 -> 0 | AC67: =K67/$E67 -> 0.25 | AD67: =I67/$E67 -> 1 | AE67: =M67/$E67 -> 0 | AF67: =($E67-Q67)/$E67 -> 1 | AH67: =L67/$E67 -> 0.75 | AI67: =$AH67+R67/$E67 -> 1 | AJ67: =$AH67+U67/$E67 -> 0.75 | AK67: =$AH67+S67/$E67 -> 0.75 | AL67: =$AH67+V67/$E67 -> 0.75 | AM67: =$AH67+T67/$E67 -> 1 | AN67: =AE67 -> 0 | AO67: =AF67 -> 1
A68: Beattie 2011 | B68: 9 | C68: Medline, CINAHL, BNI & Archive, Embase, Dare, Cochrane (SR, Trials), MRCT, FADE | D68: Ja | E68: 5 | F68: =Full_dataset!K9 -> 5 | G68: =Full_dataset!L9 -> 3 | H68: =Full_dataset!M9 -> 0 | I68: =Full_dataset!N9 -> 4 | J68: =Full_dataset!O9 -> 4 | K68: =Full_dataset!P9 -> 4 | L68: =Full_dataset!Q9 -> 5 | M68: =L68-F68 -> 0 | N68: =E68-F68 -> 0 | O68: =E68-L68 -> 0 | P68: =Full_dataset!U9 -> 0 | Q68: =E68-(L68+P68) -> 0 | R68: =Full_dataset!W9 -> 0 | S68: =Full_dataset!X9 -> 0 | T68: =Full_dataset!Y9 -> 0 | U68: =Full_dataset!Z9 -> 0 | V68: =Full_dataset!AA9 -> 0 | Y68: =F68/$E68 -> 1 | Z68: =G68/$E68 -> 0.6 | AA68: =J68/$E68 -> 0.8 | AB68: =H68/$E68 -> 0 | AC68: =K68/$E68 -> 0.8 | AD68: =I68/$E68 -> 0.8 | AE68: =M68/$E68 -> 0 | AF68: =($E68-Q68)/$E68 -> 1 | AH68: =L68/$E68 -> 1 | AI68: =$AH68+R68/$E68 -> 1 | AJ68: =$AH68+U68/$E68 -> 1 | AK68: =$AH68+S68/$E68 -> 1 | AL68: =$AH68+V68/$E68 -> 1 | AM68: =$AH68+T68/$E68 -> 1 | AN68: =AE68 -> 0 | AO68: =AF68 -> 1
A69: Spearing 2011 | B69: 10 | C69: PubMED, CINAHL, Embase, PEDro, PsycINFO, EconLit, Lexis, ABI/INFORM, Cochrane, AHRQ EPC | D69: Ja | E69: 11 | F69: =Full_dataset!K81 -> 11 | G69: =Full_dataset!L81 -> 6 | H69: =Full_dataset!M81 -> 1 | I69: =Full_dataset!N81 -> 10 | J69: =Full_dataset!O81 -> 11 | K69: =Full_dataset!P81 -> 2 | L69: =Full_dataset!Q81 -> 11 | M69: =L69-F69 -> 0 | N69: =E69-F69 -> 0 | O69: =E69-L69 -> 0 | P69: =Full_dataset!U81 -> 0 | Q69: =E69-(L69+P69) -> 0 | R69: =Full_dataset!W81 -> 0 | S69: =Full_dataset!X81 -> 0 | T69: =Full_dataset!Y81 -> 0 | U69: =Full_dataset!Z81 -> 0 | V69: =Full_dataset!AA81 -> 0 | Y69: =F69/$E69 -> 1 | Z69: =G69/$E69 -> 0.54545455 | AA69: =J69/$E69 -> 1 | AB69: =H69/$E69 -> 0.090909091 | AC69: =K69/$E69 -> 0.18181818 | AD69: =I69/$E69 -> 0.90909091 | AE69: =M69/$E69 -> 0 | AF69: =($E69-Q69)/$E69 -> 1 | AH69: =L69/$E69 -> 1 | AI69: =$AH69+R69/$E69 -> 1 | AJ69: =$AH69+U69/$E69 -> 1 | AK69: =$AH69+S69/$E69 -> 1 | AL69: =$AH69+V69/$E69 -> 1 | AM69: =$AH69+T69/$E69 -> 1 | AN69: =AE69 -> 0 | AO69: =AF69 -> 1
A70: Zwicker 2010 | B70: 10 | C70: Amed, Cochrane (SR), CINAHL, DARE, Embase, ERIC, Medline. PEDro, PsychINFO, SPORTDiscus | D70: Nein | E70: 5 | F70: =Full_dataset!K88 -> 4 | G70: =Full_dataset!L88 -> 5 | H70: =Full_dataset!M88 -> 1 | I70: =Full_dataset!N88 -> 5 | J70: =Full_dataset!O88 -> 4 | K70: =Full_dataset!P88 -> 3 | L70: =Full_dataset!Q88 -> 5 | M70: =L70-F70 -> 1 | N70: =E70-F70 -> 1 | O70: =E70-L70 -> 0 | P70: =Full_dataset!U88 -> 0 | Q70: =E70-(L70+P70) -> 0 | R70: =Full_dataset!W88 -> 0 | S70: =Full_dataset!X88 -> 0 | T70: =Full_dataset!Y88 -> 0 | U70: =Full_dataset!Z88 -> 0 | V70: =Full_dataset!AA88 -> 0 | Y70: =F70/$E70 -> 0.8 | Z70: =G70/$E70 -> 1 | AA70: =J70/$E70 -> 0.8 | AB70: =H70/$E70 -> 0.2 | AC70: =K70/$E70 -> 0.6 | AD70: =I70/$E70 -> 1 | AE70: =M70/$E70 -> 0.2 | AF70: =($E70-Q70)/$E70 -> 1 | AH70: =L70/$E70 -> 1 | AI70: =$AH70+R70/$E70 -> 1 | AJ70: =$AH70+U70/$E70 -> 1 | AK70: =$AH70+S70/$E70 -> 1 | AL70: =$AH70+V70/$E70 -> 1 | AM70: =$AH70+T70/$E70 -> 1 | AN70: =AE70 -> 0.2 | AO70: =AF70 -> 1
A71: Ernst 2010b acupressure | B71: 11 | C71: Medline, Embase, CINAHL, Cochrane, Amed, Korean+Chinese DBs (6) | D71: Nein | E71: 7 | F71: =Full_dataset!K23 -> 6 | G71: =Full_dataset!L23 -> 5 | H71: =Full_dataset!M23 -> 0 | I71: =Full_dataset!N23 -> 7 | J71: =Full_dataset!O23 -> 7 | K71: =Full_dataset!P23 -> 2 | L71: =Full_dataset!Q23 -> 6 | M71: =L71-F71 -> 0 | N71: =E71-F71 -> 1 | O71: =E71-L71 -> 1 | P71: =Full_dataset!U23 -> 1 | Q71: =E71-(L71+P71) -> 0 | R71: =Full_dataset!W23 -> 1 | S71: =Full_dataset!X23 -> 0 | T71: =Full_dataset!Y23 -> 1 | U71: =Full_dataset!Z23 -> 1 | V71: =Full_dataset!AA23 -> 1 | Y71: =F71/$E71 -> 0.85714286 | Z71: =G71/$E71 -> 0.71428571 | AA71: =J71/$E71 -> 1 | AB71: =H71/$E71 -> 0 | AC71: =K71/$E71 -> 0.28571429 | AD71: =I71/$E71 -> 1 | AE71: =M71/$E71 -> 0 | AF71: =($E71-Q71)/$E71 -> 1 | AH71: =L71/$E71 -> 0.85714286 | AI71: =$AH71+R71/$E71 -> 1 | AJ71: =$AH71+U71/$E71 -> 1 | AK71: =$AH71+S71/$E71 -> 0.85714286 | AL71: =$AH71+V71/$E71 -> 1 | AM71: =$AH71+T71/$E71 -> 1 | AN71: =AE71 -> 0 | AO71: =AF71 -> 1
A72: Flodgren 2011 | B72: 11 | C72: Cochrane (SR) , DARE, TRIP, Medline, Embase, Science Citation Index, Social Science Citation Index, NHS EED, HEED, EconLit, Program in Policy Decision-Making | D72: Ja | E72: 4 | F72: =Full_dataset!K30 -> 4 | G72: =Full_dataset!L30 -> 3 | H72: =Full_dataset!M30 -> 0 | I72: =Full_dataset!N30 -> 3 | J72: =Full_dataset!O30 -> 3 | K72: =Full_dataset!P30 -> 3 | L72: =Full_dataset!Q30 -> 4 | M72: =L72-F72 -> 0 | N72: =E72-F72 -> 0 | O72: =E72-L72 -> 0 | P72: =Full_dataset!U30 -> 0 | Q72: =E72-(L72+P72) -> 0 | R72: =Full_dataset!W30 -> 0 | S72: =Full_dataset!X30 -> 0 | T72: =Full_dataset!Y30 -> 0 | U72: =Full_dataset!Z30 -> 0 | V72: =Full_dataset!AA30 -> 0 | Y72: =F72/$E72 -> 1 | Z72: =G72/$E72 -> 0.75 | AA72: =J72/$E72 -> 0.75 | AB72: =H72/$E72 -> 0 | AC72: =K72/$E72 -> 0.75 | AD72: =I72/$E72 -> 0.75 | AE72: =M72/$E72 -> 0 | AF72: =($E72-Q72)/$E72 -> 1 | AH72: =L72/$E72 -> 1 | AI72: =$AH72+R72/$E72 -> 1 | AJ72: =$AH72+U72/$E72 -> 1 | AK72: =$AH72+S72/$E72 -> 1 | AL72: =$AH72+V72/$E72 -> 1 | AM72: =$AH72+T72/$E72 -> 1 | AN72: =AE72 -> 0 | AO72: =AF72 -> 1
A73: Savard 2011 | B73: 11 | C73: Medline, Embase, Cochrane (SR), DARE, NHS EED, NHS HTA, Ageline, Amed, SCOPUS, Web of Science, CINAHL | D73: Ja | E73: 15 | F73: =Full_dataset!K75 -> 15 | G73: =Full_dataset!L75 -> 7 | H73: =Full_dataset!M75 -> 1 | I73: =Full_dataset!N75 -> 15 | J73: =Full_dataset!O75 -> 14 | K73: =Full_dataset!P75 -> 13 | L73: =Full_dataset!Q75 -> 15 | M73: =L73-F73 -> 0 | N73: =E73-F73 -> 0 | O73: =E73-L73 -> 0 | P73: =Full_dataset!U75 -> 0 | Q73: =E73-(L73+P73) -> 0 | R73: =Full_dataset!W75 -> 0 | S73: =Full_dataset!X75 -> 0 | T73: =Full_dataset!Y75 -> 0 | U73: =Full_dataset!Z75 -> 0 | V73: =Full_dataset!AA75 -> 0 | Y73: =F73/$E73 -> 1 | Z73: =G73/$E73 -> 0.46666667 | AA73: =J73/$E73 -> 0.93333333 | AB73: =H73/$E73 -> 0.066666667 | AC73: =K73/$E73 -> 0.86666667 | AD73: =I73/$E73 -> 1 | AE73: =M73/$E73 -> 0 | AF73: =($E73-Q73)/$E73 -> 1 | AH73: =L73/$E73 -> 1 | AI73: =$AH73+R73/$E73 -> 1 | AJ73: =$AH73+U73/$E73 -> 1 | AK73: =$AH73+S73/$E73 -> 1 | AL73: =$AH73+V73/$E73 -> 1 | AM73: =$AH73+T73/$E73 -> 1 | AN73: =AE73 -> 0 | AO73: =AF73 -> 1
A74: Ernst 2010a ayurvedic | B74: 12 | C74: Medline, Embase, Amed, CINAHL, Cochrane, Korean + Chinese DBs (7) | D74: Ja | E74: 5 | F74: =Full_dataset!K22 -> 5 | G74: =Full_dataset!L22 -> 4 | H74: =Full_dataset!M22 -> 1 | I74: =Full_dataset!N22 -> 5 | J74: =Full_dataset!O22 -> 5 | K74: =Full_dataset!P22 -> 5 | L74: =Full_dataset!Q22 -> 5 | M74: =L74-F74 -> 0 | N74: =E74-F74 -> 0 | O74: =E74-L74 -> 0 | P74: =Full_dataset!U22 -> 0 | Q74: =E74-(L74+P74) -> 0 | R74: =Full_dataset!W22 -> 0 | S74: =Full_dataset!X22 -> 0 | T74: =Full_dataset!Y22 -> 0 | U74: =Full_dataset!Z22 -> 0 | V74: =Full_dataset!AA22 -> 0 | Y74: =F74/$E74 -> 1 | Z74: =G74/$E74 -> 0.8 | AA74: =J74/$E74 -> 1 | AB74: =H74/$E74 -> 0.2 | AC74: =K74/$E74 -> 1 | AD74: =I74/$E74 -> 1 | AE74: =M74/$E74 -> 0 | AF74: =($E74-Q74)/$E74 -> 1 | AH74: =L74/$E74 -> 1 | AI74: =$AH74+R74/$E74 -> 1 | AJ74: =$AH74+U74/$E74 -> 1 | AK74: =$AH74+S74/$E74 -> 1 | AL74: =$AH74+V74/$E74 -> 1 | AM74: =$AH74+T74/$E74 -> 1 | AN74: =AE74 -> 0 | AO74: =AF74 -> 1
A75: Ernst 2010d yoga | B75: 12 | C75: Medline, Embase, Amed, CINAHL, Cochrane, Korean + Chinese DBs (7) | D75: Ja | E75: 18 | F75: =Full_dataset!K25 -> 16 | G75: =Full_dataset!L25 -> 9 | H75: =Full_dataset!M25 -> 6 | I75: =Full_dataset!N25 -> 11 | J75: =Full_dataset!O25 -> 16 | K75: =Full_dataset!P25 -> 7 | L75: =Full_dataset!Q25 -> 16 | M75: =L75-F75 -> 0 | N75: =E75-F75 -> 2 | O75: =E75-L75 -> 2 | P75: =Full_dataset!U25 -> 1 | Q75: =E75-(L75+P75) -> 1 | R75: =Full_dataset!W25 -> 0 | S75: =Full_dataset!X25 -> 1 | T75: =Full_dataset!Y25 -> 0 | U75: =Full_dataset!Z25 -> 1 | V75: =Full_dataset!AA25 -> 0 | Y75: =F75/$E75 -> 0.88888889 | Z75: =G75/$E75 -> 0.5 | AA75: =J75/$E75 -> 0.88888889 | AB75: =H75/$E75 -> 0.33333333 | AC75: =K75/$E75 -> 0.38888889 | AD75: =I75/$E75 -> 0.61111111 | AE75: =M75/$E75 -> 0 | AF75: =($E75-Q75)/$E75 -> 0.94444444 | AH75: =L75/$E75 -> 0.88888889 | AI75: =$AH75+R75/$E75 -> 0.88888889 | AJ75: =$AH75+U75/$E75 -> 0.94444444 | AK75: =$AH75+S75/$E75 -> 0.94444444 | AL75: =$AH75+V75/$E75 -> 0.88888889 | AM75: =$AH75+T75/$E75 -> 0.88888889 | AN75: =AE75 -> 0 | AO75: =AF75 -> 0.94444444
A76: IQWIG 2009b PET-CT HTA | B76: 12 | C76: Embase, Medline, Cochrane (Trials, SR), DARE, SciSearch, HTA, NHS EED, IHTA, HSTAT, TRIP, DAHTA | D76: Ja | E76: 11 | F76: =Full_dataset!K38 -> 5 | G76: =Full_dataset!L38 -> 1 | H76: =Full_dataset!M38 -> 0 | I76: =Full_dataset!N38 -> 9 | J76: =Full_dataset!O38 -> 3 | K76: =Full_dataset!P38 -> 10 | L76: =Full_dataset!Q38 -> 9 | M76: =L76-F76 -> 4 | N76: =E76-F76 -> 6 | O76: =E76-L76 -> 2 | P76: =Full_dataset!U38 -> 2 | Q76: =E76-(L76+P76) -> 0 | R76: =Full_dataset!W38 -> 0 | S76: =Full_dataset!X38 -> 0 | T76: =Full_dataset!Y38 -> 2 | U76: =Full_dataset!Z38 -> 0 | V76: =Full_dataset!AA38 -> 2 | Y76: =F76/$E76 -> 0.45454545 | Z76: =G76/$E76 -> 0.090909091 | AA76: =J76/$E76 -> 0.27272727 | AB76: =H76/$E76 -> 0 | AC76: =K76/$E76 -> 0.90909091 | AD76: =I76/$E76 -> 0.81818182 | AE76: =M76/$E76 -> 0.36363636 | AF76: =($E76-Q76)/$E76 -> 1 | AH76: =L76/$E76 -> 0.81818182 | AI76: =$AH76+R76/$E76 -> 0.81818182 | AJ76: =$AH76+U76/$E76 -> 0.81818182 | AK76: =$AH76+S76/$E76 -> 0.81818182 | AL76: =$AH76+V76/$E76 -> 1 | AM76: =$AH76+T76/$E76 -> 1 | AN76: =AE76 -> 0.36363636 | AO76: =AF76 -> 1
A77: Ernst 2011a acupuncture depression | B77: 13 | C77: Medline, Embase, Amed, CINAHL, Health Technology Assessments, DARE, Cochrane, 5 Korean medical DBs, 1 Chinese DB (CNKI) | D77: Ja | E77: 9 | F77: =Full_dataset!K26 -> 6 | G77: =Full_dataset!L26 -> 2 | H77: =Full_dataset!M26 -> 4 | I77: =Full_dataset!N26 -> 9 | J77: =Full_dataset!O26 -> 8 | K77: =Full_dataset!P26 -> 3 | L77: =Full_dataset!Q26 -> 6 | M77: =L77-F77 -> 0 | N77: =E77-F77 -> 3 | O77: =E77-L77 -> 3 | P77: =Full_dataset!U26 -> 3 | Q77: =E77-(L77+P77) -> 0 | R77: =Full_dataset!W26 -> 0 | S77: =Full_dataset!X26 -> 1 | T77: =Full_dataset!Y26 -> 3 | U77: =Full_dataset!Z26 -> 2 | V77: =Full_dataset!AA26 -> 0 | Y77: =F77/$E77 -> 0.66666667 | Z77: =G77/$E77 -> 0.22222222 | AA77: =J77/$E77 -> 0.88888889 | AB77: =H77/$E77 -> 0.44444444 | AC77: =K77/$E77 -> 0.33333333 | AD77: =I77/$E77 -> 1 | AE77: =M77/$E77 -> 0 | AF77: =($E77-Q77)/$E77 -> 1 | AH77: =L77/$E77 -> 0.66666667 | AI77: =$AH77+R77/$E77 -> 0.66666667 | AJ77: =$AH77+U77/$E77 -> 0.88888889 | AK77: =$AH77+S77/$E77 -> 0.77777778 | AL77: =$AH77+V77/$E77 -> 0.66666667 | AM77: =$AH77+T77/$E77 -> 1 | AN77: =AE77 -> 0 | AO77: =AF77 -> 1
A78: Ernst 2011b acu insomnia | B78: 13 | C78: Medline, Embase, Amed, CINAHL, HTA Database, DARE, Cochrane, Korean+Chinese DBs (6) | D78: Ja | E78: 8 | F78: =Full_dataset!K27 -> 8 | G78: =Full_dataset!L27 -> 5 | H78: =Full_dataset!M27 -> 3 | I78: =Full_dataset!N27 -> 8 | J78: =Full_dataset!O27 -> 5 | K78: =Full_dataset!P27 -> 8 | L78: =Full_dataset!Q27 -> 8 | M78: =L78-F78 -> 0 | N78: =E78-F78 -> 0 | O78: =E78-L78 -> 0 | P78: =Full_dataset!U27 -> 0 | Q78: =E78-(L78+P78) -> 0 | R78: =Full_dataset!W27 -> 0 | S78: =Full_dataset!X27 -> 0 | T78: =Full_dataset!Y27 -> 0 | U78: =Full_dataset!Z27 -> 0 | V78: =Full_dataset!AA27 -> 0 | Y78: =F78/$E78 -> 1 | Z78: =G78/$E78 -> 0.625 | AA78: =J78/$E78 -> 0.625 | AB78: =H78/$E78 -> 0.375 | AC78: =K78/$E78 -> 1 | AD78: =I78/$E78 -> 1 | AE78: =M78/$E78 -> 0 | AF78: =($E78-Q78)/$E78 -> 1 | AH78: =L78/$E78 -> 1 | AI78: =$AH78+R78/$E78 -> 1 | AJ78: =$AH78+U78/$E78 -> 1 | AK78: =$AH78+S78/$E78 -> 1 | AL78: =$AH78+V78/$E78 -> 1 | AM78: =$AH78+T78/$E78 -> 1 | AN78: =AE78 -> 0 | AO78: =AF78 -> 1
A79: Lee 2011 | B79: 13 | C79: Medline, Embase, Amed, CINAHL, Cochrane, Korean DBs (6), Chinese DBs (2) | D79: Ja | E79: 5 | F79: =Full_dataset!K49 -> 4 | G79: =Full_dataset!L49 -> 1 | H79: =Full_dataset!M49 -> 1 | I79: =Full_dataset!N49 -> 4 | J79: =Full_dataset!O49 -> 4 | K79: =Full_dataset!P49 -> 1 | L79: =Full_dataset!Q49 -> 5 | M79: =L79-F79 -> 1 | N79: =E79-F79 -> 1 | O79: =E79-L79 -> 0 | P79: =Full_dataset!U49 -> 0 | Q79: =E79-(L79+P79) -> 0 | R79: =Full_dataset!W49 -> 0 | S79: =Full_dataset!X49 -> 0 | T79: =Full_dataset!Y49 -> 0 | U79: =Full_dataset!Z49 -> 0 | V79: =Full_dataset!AA49 -> 0 | Y79: =F79/$E79 -> 0.8 | Z79: =G79/$E79 -> 0.2 | AA79: =J79/$E79 -> 0.8 | AB79: =H79/$E79 -> 0.2 | AC79: =K79/$E79 -> 0.2 | AD79: =I79/$E79 -> 0.8 | AE79: =M79/$E79 -> 0.2 | AF79: =($E79-Q79)/$E79 -> 1 | AH79: =L79/$E79 -> 1 | AI79: =$AH79+R79/$E79 -> 1 | AJ79: =$AH79+U79/$E79 -> 1 | AK79: =$AH79+S79/$E79 -> 1 | AL79: =$AH79+V79/$E79 -> 1 | AM79: =$AH79+T79/$E79 -> 1 | AN79: =AE79 -> 0.2 | AO79: =AF79 -> 1
A80: Ekeland 2010 | B80: 14 | C80: ACM Digital Library, British Nursing Index, Cochrane, DARE, HTA Database, CSA, Ovid Medline, Embase, HSTAT, INAHATA, PsychINFO, PubMed, TIE, Web of Science | D80: Nein | E80: 78 | F80: =Full_dataset!K21 -> 66 | G80: =Full_dataset!L21 -> 30 | H80: =Full_dataset!M21 -> 33 | I80: =Full_dataset!N21 -> 77 | J80: =Full_dataset!O21 -> 63 | K80: =Full_dataset!P21 -> 38 | L80: =Full_dataset!Q21 -> 71 | M80: =L80-F80 -> 5 | N80: =E80-F80 -> 12 | O80: =E80-L80 -> 7 | P80: =Full_dataset!U21 -> 7 | Q80: =E80-(L80+P80) -> 0 | R80: =Full_dataset!W21 -> 2 | S80: =Full_dataset!X21 -> 2 | T80: =Full_dataset!Y21 -> 7 | U80: =Full_dataset!Z21 -> 1 | V80: =Full_dataset!AA21 -> 4 | Y80: =F80/$E80 -> 0.84615385 | Z80: =G80/$E80 -> 0.38461538 | AA80: =J80/$E80 -> 0.80769231 | AB80: =H80/$E80 -> 0.42307692 | AC80: =K80/$E80 -> 0.48717949 | AD80: =I80/$E80 -> 0.98717949 | AE80: =M80/$E80 -> 0.064102564 | AF80: =($E80-Q80)/$E80 -> 1 | AH80: =L80/$E80 -> 0.91025641 | AI80: =$AH80+R80/$E80 -> 0.93589744 | AJ80: =$AH80+U80/$E80 -> 0.92307692 | AK80: =$AH80+S80/$E80 -> 0.93589744 | AL80: =$AH80+V80/$E80 -> 0.96153846 | AM80: =$AH80+T80/$E80 -> 1 | AN80: =AE80 -> 0.064102564 | AO80: =AF80 -> 1
A81: Mikton 2009 | B81: 14 | C81: Medline, PsychINFO, Embase, CINAHL, Social Sciences Citation Index, Science Citation Index, LILACS, ERIC, NCJRS, Campbell Library, Cochrane Library, WorldWideScience, KoreaMed, IndMED | D81: Ja | E81: 14 | F81: =Full_dataset!K58 -> 8 | G81: =Full_dataset!L58 -> 4 | H81: =Full_dataset!M58 -> 7 | I81: =Full_dataset!N58 -> 14 | J81: =Full_dataset!O58 -> 8 | K81: =Full_dataset!P58 -> 3 | L81: =Full_dataset!Q58 -> 9 | M81: =L81-F81 -> 1 | N81: =E81-F81 -> 6 | O81: =E81-L81 -> 5 | P81: =Full_dataset!U58 -> 5 | Q81: =E81-(L81+P81) -> 0 | R81: =Full_dataset!W58 -> 1 | S81: =Full_dataset!X58 -> 2 | T81: =Full_dataset!Y58 -> 5 | U81: =Full_dataset!Z58 -> 0 | V81: =Full_dataset!AA58 -> 0 | Y81: =F81/$E81 -> 0.57142857 | Z81: =G81/$E81 -> 0.28571429 | AA81: =J81/$E81 -> 0.57142857 | AB81: =H81/$E81 -> 0.5 | AC81: =K81/$E81 -> 0.21428571 | AD81: =I81/$E81 -> 1 | AE81: =M81/$E81 -> 0.071428571 | AF81: =($E81-Q81)/$E81 -> 1 | AH81: =L81/$E81 -> 0.64285714 | AI81: =$AH81+R81/$E81 -> 0.71428571 | AJ81: =$AH81+U81/$E81 -> 0.64285714 | AK81: =$AH81+S81/$E81 -> 0.78571429 | AL81: =$AH81+V81/$E81 -> 0.64285714 | AM81: =$AH81+T81/$E81 -> 1 | AN81: =AE81 -> 0.071428571 | AO81: =AF81 -> 1
A82: Ernst 2010c acupuncture rheuma | B82: 15 | C82: Medline, Embase, Amed, CINAHL, HTA Database, DARE, Cochrane, Korean DBs (6), Chinese DBs (2) | D82: Ja | E82: 25 | F82: =Full_dataset!K24 -> 24 | G82: =Full_dataset!L24 -> 14 | H82: =Full_dataset!M24 -> 1 | I82: =Full_dataset!N24 -> 24 | J82: =Full_dataset!O24 -> 23 | K82: =Full_dataset!P24 -> 16 | L82: =Full_dataset!Q24 -> 24 | M82: =L82-F82 -> 0 | N82: =E82-F82 -> 1 | O82: =E82-L82 -> 1 | P82: =Full_dataset!U24 -> 1 | Q82: =E82-(L82+P82) -> 0 | R82: =Full_dataset!W24 -> 0 | S82: =Full_dataset!X24 -> 0 | T82: =Full_dataset!Y24 -> 1 | U82: =Full_dataset!Z24 -> 0 | V82: =Full_dataset!AA24 -> 0 | Y82: =F82/$E82 -> 0.96 | Z82: =G82/$E82 -> 0.56 | AA82: =J82/$E82 -> 0.92 | AB82: =H82/$E82 -> 0.04 | AC82: =K82/$E82 -> 0.64 | AD82: =I82/$E82 -> 0.96 | AE82: =M82/$E82 -> 0 | AF82: =($E82-Q82)/$E82 -> 1 | AH82: =L82/$E82 -> 0.96 | AI82: =$AH82+R82/$E82 -> 0.96 | AJ82: =$AH82+U82/$E82 -> 0.96 | AK82: =$AH82+S82/$E82 -> 0.96 | AL82: =$AH82+V82/$E82 -> 0.96 | AM82: =$AH82+T82/$E82 -> 1 | AN82: =AE82 -> 0 | AO82: =AF82 -> 1
A83: Tamayo-Velazquez 2010 | B83: 16 | C83: Cochrane Library (SR, Trials), DARE, NHSEED, HTA Database, Medline, TRIP, CINAHL, PsychINFO; Embase, Social Sciences Citation Index, Science Citation Index, ERIC, LILACS, CSIC Database, SCOPUS | D83: Ja | E83: 7 | F83: =Full_dataset!K83 -> 6 | G83: =Full_dataset!L83 -> 5 | H83: =Full_dataset!M83 -> 2 | I83: =Full_dataset!N83 -> 7 | J83: =Full_dataset!O83 -> 6 | K83: =Full_dataset!P83 -> 4 | L83: =Full_dataset!Q83 -> 6 | M83: =L83-F83 -> 0 | N83: =E83-F83 -> 1 | O83: =E83-L83 -> 1 | P83: =Full_dataset!U83 -> 1 | Q83: =E83-(L83+P83) -> 0 | R83: =Full_dataset!W83 -> 0 | S83: =Full_dataset!X83 -> 0 | T83: =Full_dataset!Y83 -> 1 | U83: =Full_dataset!Z83 -> 0 | V83: =Full_dataset!AA83 -> 1 | Y83: =F83/$E83 -> 0.85714286 | Z83: =G83/$E83 -> 0.71428571 | AA83: =J83/$E83 -> 0.85714286 | AB83: =H83/$E83 -> 0.28571429 | AC83: =K83/$E83 -> 0.57142857 | AD83: =I83/$E83 -> 1 | AE83: =M83/$E83 -> 0 | AF83: =($E83-Q83)/$E83 -> 1 | AH83: =L83/$E83 -> 0.85714286 | AI83: =$AH83+R83/$E83 -> 0.85714286 | AJ83: =$AH83+U83/$E83 -> 0.85714286 | AK83: =$AH83+S83/$E83 -> 0.85714286 | AL83: =$AH83+V83/$E83 -> 1 | AM83: =$AH83+T83/$E83 -> 1 | AN83: =AE83 -> 0 | AO83: =AF83 -> 1
A84: Hillberg 2011 | B84: 17 | C84: Campbell Collaboration Database, CRD Wider Public Health database, Cochrane, CINAHL, Cambridge Scientific Abstracts, Applied Social Science Index and Abstracts, Education Resources Information Center, Social Services Abstracts , Sociological Abstracts, Embase, Ovid Medline, Sience Direct, Social Service Information Gateway, Swetswise, PsychINFO, Zetoc, Web of Science | D84: Nein | E84: 7 | F84: =Full_dataset!K34 -> 5 | G84: =Full_dataset!L34 -> 2 | H84: =Full_dataset!M34 -> 5 | I84: =Full_dataset!N34 -> 4 | J84: =Full_dataset!O34 -> 6 | K84: =Full_dataset!P34 -> 0 | L84: =Full_dataset!Q34 -> 7 | M84: =L84-F84 -> 2 | N84: =E84-F84 -> 2 | O84: =E84-L84 -> 0 | P84: =Full_dataset!U34 -> 0 | Q84: =E84-(L84+P84) -> 0 | R84: =Full_dataset!W34 -> 0 | S84: =Full_dataset!X34 -> 0 | T84: =Full_dataset!Y34 -> 0 | U84: =Full_dataset!Z34 -> 0 | V84: =Full_dataset!AA34 -> 0 | Y84: =F84/$E84 -> 0.71428571 | Z84: =G84/$E84 -> 0.28571429 | AA84: =J84/$E84 -> 0.85714286 | AB84: =H84/$E84 -> 0.71428571 | AC84: =K84/$E84 -> 0 | AD84: =I84/$E84 -> 0.57142857 | AE84: =M84/$E84 -> 0.28571429 | AF84: =($E84-Q84)/$E84 -> 1 | AH84: =L84/$E84 -> 1 | AI84: =$AH84+R84/$E84 -> 1 | AJ84: =$AH84+U84/$E84 -> 1 | AK84: =$AH84+S84/$E84 -> 1 | AL84: =$AH84+V84/$E84 -> 1 | AM84: =$AH84+T84/$E84 -> 1 | AN84: =AE84 -> 0.28571429 | AO84: =AF84 -> 1
A85: DIMDI 2010 rhinitis HTA | B85: 21 | C85: Medline, Embase, SciSearch, Social SciSearch, Amed, BIOSIS, CAB Abstracts, CCMed, Derwent Drug File, GLOBAL Health, GMS, ISTPB+ISTP/ISSHP, MEDIKAT, ETHMED, INAHTA, DAHTA, DARE, NHS-EED, SOMED, Cochrane (Trials, SR) | D85: Ja | E85: 4 | F85: =Full_dataset!K18 -> 3 | G85: =Full_dataset!L18 -> 3 | H85: =Full_dataset!M18 -> 0 | I85: =Full_dataset!N18 -> 3 | J85: =Full_dataset!O18 -> 4 | K85: =Full_dataset!P18 -> 2 | L85: =Full_dataset!Q18 -> 3 | M85: =L85-F85 -> 0 | N85: =E85-F85 -> 1 | O85: =E85-L85 -> 1 | P85: =Full_dataset!U18 -> 1 | Q85: =E85-(L85+P85) -> 0 | R85: =Full_dataset!W18 -> 1 | S85: =Full_dataset!X18 -> 0 | T85: =Full_dataset!Y18 -> 0 | U85: =Full_dataset!Z18 -> 1 | V85: =Full_dataset!AA18 -> 0 | Y85: =F85/$E85 -> 0.75 | Z85: =G85/$E85 -> 0.75 | AA85: =J85/$E85 -> 1 | AB85: =H85/$E85 -> 0 | AC85: =K85/$E85 -> 0.5 | AD85: =I85/$E85 -> 0.75 | AE85: =M85/$E85 -> 0 | AF85: =($E85-Q85)/$E85 -> 1 | AH85: =L85/$E85 -> 0.75 | AI85: =$AH85+R85/$E85 -> 1 | AJ85: =$AH85+U85/$E85 -> 1 | AK85: =$AH85+S85/$E85 -> 0.75 | AL85: =$AH85+V85/$E85 -> 0.75 | AM85: =$AH85+T85/$E85 -> 0.75 | AN85: =AE85 -> 0 | AO85: =AF85 -> 1
A86: DIMDI 2011a angina pectoris HTA | B86: 23 | C86: CCMed, Cochrane (SR, Trials), DAHTA, GMS, GMS Meetings, DARE, INAHTA, SOMED, Medline, MEDIKAT, ETHMED, HECLINET, CAB Abstracts, Amed, NHS-EED, IPA, BIOSIS, Embase, Derwent Drug Backlife, Derwent Drug File, ISTPB+ISTP/ISSHP, SciSearch | D86: Ja | E86: 7 | F86: =Full_dataset!K19 -> 7 | G86: =Full_dataset!L19 -> 5 | H86: =Full_dataset!M19 -> 0 | I86: =Full_dataset!N19 -> 7 | J86: =Full_dataset!O19 -> 6 | K86: =Full_dataset!P19 -> 7 | L86: =Full_dataset!Q19 -> 7 | M86: =L86-F86 -> 0 | N86: =E86-F86 -> 0 | O86: =E86-L86 -> 0 | P86: =Full_dataset!U19 -> 0 | Q86: =E86-(L86+P86) -> 0 | R86: =Full_dataset!W19 -> 0 | S86: =Full_dataset!X19 -> 0 | T86: =Full_dataset!Y19 -> 0 | U86: =Full_dataset!Z19 -> 0 | V86: =Full_dataset!AA19 -> 0 | Y86: =F86/$E86 -> 1 | Z86: =G86/$E86 -> 0.71428571 | AA86: =J86/$E86 -> 0.85714286 | AB86: =H86/$E86 -> 0 | AC86: =K86/$E86 -> 1 | AD86: =I86/$E86 -> 1 | AE86: =M86/$E86 -> 0 | AF86: =($E86-Q86)/$E86 -> 1 | AH86: =L86/$E86 -> 1 | AI86: =$AH86+R86/$E86 -> 1 | AJ86: =$AH86+U86/$E86 -> 1 | AK86: =$AH86+S86/$E86 -> 1 | AL86: =$AH86+V86/$E86 -> 1 | AM86: =$AH86+T86/$E86 -> 1 | AN86: =AE86 -> 0 | AO86: =AF86 -> 1
A87: DIMDI 2011b IGEL HTA | B87: 23 | C87: CCMed, Cochrane (SR, Trials), DAHTA, GMS, GMS Meetings, DARE, INAHTA, SOMED, Medline, MEDIKAT, ETHMED, HECLINET, CAB Abstracts, Amed, NHS-EED, IPA, BIOSIS, Embase, Derwent Drug File, ISTPB+ISTP/ISSHP, SciSearch, Social SciSearch | D87: Ja | E87: 13 | F87: =Full_dataset!K20 -> 11 | G87: =Full_dataset!L20 -> 3 | H87: =Full_dataset!M20 -> 0 | I87: =Full_dataset!N20 -> 9 | J87: =Full_dataset!O20 -> 7 | K87: =Full_dataset!P20 -> 8 | L87: =Full_dataset!Q20 -> 11 | M87: =L87-F87 -> 0 | N87: =E87-F87 -> 2 | O87: =E87-L87 -> 2 | P87: =Full_dataset!U20 -> 1 | Q87: =E87-(L87+P87) -> 1 | R87: =Full_dataset!W20 -> 0 | S87: =Full_dataset!X20 -> 0 | T87: =Full_dataset!Y20 -> 1 | U87: =Full_dataset!Z20 -> 0 | V87: =Full_dataset!AA20 -> 1 | Y87: =F87/$E87 -> 0.84615385 | Z87: =G87/$E87 -> 0.23076923 | AA87: =J87/$E87 -> 0.53846154 | AB87: =H87/$E87 -> 0 | AC87: =K87/$E87 -> 0.61538462 | AD87: =I87/$E87 -> 0.69230769 | AE87: =M87/$E87 -> 0 | AF87: =($E87-Q87)/$E87 -> 0.92307692 | AH87: =L87/$E87 -> 0.84615385 | AI87: =$AH87+R87/$E87 -> 0.84615385 | AJ87: =$AH87+U87/$E87 -> 0.84615385 | AK87: =$AH87+S87/$E87 -> 0.84615385 | AL87: =$AH87+V87/$E87 -> 0.92307692 | AM87: =$AH87+T87/$E87 -> 0.92307692 | AN87: =AE87 -> 0 | AO87: =AF87 -> 0.92307692
A88: Seida 2009 | B88: 25 | C88: Academic Search Premier, Amed, BIOSIS, Child Development and Adolescent Studies, CINAHL, Cochrane (SR, Trials), DARE, Dissertation Abstracts, DOAJ–Directory of Open Access Journals, Embase, ERIC, HTA Database, LILACS, Linguistics and Language Behavior Abstracts, Medline, Medline (in Process and other non-indexed), NHS Economic Evaluation Database, NLM Gateway, OCLC Papers First and OCLC Proceedings, PsychARTICLES, Psychology and Behavioral Sciences Collection, PsychINFO, Social Sciences Abstracts, Web of Science | D88: Ja | E88: 12 | F88: =Full_dataset!K77 -> 8 | G88: =Full_dataset!L77 -> 3 | H88: =Full_dataset!M77 -> 5 | I88: =Full_dataset!N77 -> 11 | J88: =Full_dataset!O77 -> 8 | K88: =Full_dataset!P77 -> 6 | L88: =Full_dataset!Q77 -> 10 | M88: =L88-F88 -> 2 | N88: =E88-F88 -> 4 | O88: =E88-L88 -> 2 | P88: =Full_dataset!U77 -> 2 | Q88: =E88-(L88+P88) -> 0 | R88: =Full_dataset!W77 -> 0 | S88: =Full_dataset!X77 -> 1 | T88: =Full_dataset!Y77 -> 2 | U88: =Full_dataset!Z77 -> 0 | V88: =Full_dataset!AA77 -> 1 | Y88: =F88/$E88 -> 0.66666667 | Z88: =G88/$E88 -> 0.25 | AA88: =J88/$E88 -> 0.66666667 | AB88: =H88/$E88 -> 0.41666667 | AC88: =K88/$E88 -> 0.5 | AD88: =I88/$E88 -> 0.91666667 | AE88: =M88/$E88 -> 0.16666667 | AF88: =($E88-Q88)/$E88 -> 1 | AH88: =L88/$E88 -> 0.83333333 | AI88: =$AH88+R88/$E88 -> 0.83333333 | AJ88: =$AH88+U88/$E88 -> 0.83333333 | AK88: =$AH88+S88/$E88 -> 0.91666667 | AL88: =$AH88+V88/$E88 -> 0.91666667 | AM88: =$AH88+T88/$E88 -> 1 | AN88: =AE88 -> 0.16666667 | AO88: =AF88 -> 1
E89: =SUM(E3:E88) -> 1219 | F89: =SUM(F3:F88) -> 1093 | G89: =SUM(G3:G88) -> 545 | H89: =SUM(H3:H88) -> 299 | I89: =SUM(I3:I88) -> 1044 | J89: =SUM(J3:J88) -> 1020 | K89: =SUM(K3:K88) -> 641 | L89: =SUM(L3:L88) -> 1142 | M89: =L89-F89 -> 49 | N89: =E89-F89 -> 126 | O89: =SUM(O3:O88) -> 77 | P89: =SUM(P3:P88) -> 71 | Q89: =SUM(Q3:Q88) -> 6 | R89: =SUM(R3:R88) -> 11 | S89: =SUM(S3:S88) -> 17 | T89: =SUM(T3:T88) -> 67 | U89: =SUM(U3:U88) -> 14 | V89: =SUM(V3:V88) -> 32 | Y89: =F89/$E89 -> 0.89663659 | Z89: =G89/$E89 -> 0.44708778 | AA89: =J89/$E89 -> 0.83675144 | AB89: =H89/$E89 -> 0.24528302 | AC89: =K89/$E89 -> 0.52584085 | AD89: =I89/$E89 -> 0.8564397 | AE89: =M89/$E89 -> 0.040196883 | AF89: =($E89-Q89)/$E89 -> 0.99507793 | AH89: =L89/$E89 -> 0.93683347 | AI89: =$AH89+R89/$E89 -> 0.94585726 | AJ89: =$AH89+U89/$E89 -> 0.94831829 | AK89: =$AH89+S89/$E89 -> 0.95077933 | AL89: =$AH89+V89/$E89 -> 0.9630845 | AM89: =$AH89+T89/$E89 -> 0.99179655 | AN89: =AE89 -> 0.040196883 | AO89: =AF89 -> 0.99507793
X90: 1-3 DBs searched
T91: =AVERAGE(T3:T88) -> 0.77906977 | X91: weighted mean | Y91: =SUMPRODUCT($E3:$E21,Y3:Y21)/SUM($E3:$E21) -> 0.90273556 | Z91: =SUMPRODUCT($E3:$E21,Z3:Z21)/SUM($E3:$E21) -> 0.46808511 | AA91: =SUMPRODUCT($E3:$E21,AA3:AA21)/SUM($E3:$E21) -> 0.85410334 | AB91: =SUMPRODUCT($E3:$E21,AB3:AB21)/SUM($E3:$E21) -> 0.22492401 | AC91: =SUMPRODUCT($E3:$E21,AC3:AC21)/SUM($E3:$E21) -> 0.48632219 | AD91: =SUMPRODUCT($E3:$E21,AD3:AD21)/SUM($E3:$E21) -> 0.8449848 | AE91: =SUMPRODUCT($E3:$E21,AE3:AE21)/SUM($E3:$E21) -> 0.042553191 | AF91: =SUMPRODUCT($E3:$E21,AF3:AF21)/SUM($E3:$E21) -> 0.99392097 | AH91: =SUMPRODUCT($E3:$E21,AH3:AH21)/SUM($E3:$E21) -> 0.94528875 | AI91: =SUMPRODUCT($E3:$E21,AI3:AI21)/SUM($E3:$E21) -> 0.95136778 | AJ91: =SUMPRODUCT($E3:$E21,AJ3:AJ21)/SUM($E3:$E21) -> 0.95744681 | AK91: =SUMPRODUCT($E3:$E21,AK3:AK21)/SUM($E3:$E21) -> 0.95744681 | AL91: =SUMPRODUCT($E3:$E21,AL3:AL21)/SUM($E3:$E21) -> 0.96048632 | AM91: =SUMPRODUCT($E3:$E21,AM3:AM21)/SUM($E3:$E21) -> 0.98784195 | AN91: =SUMPRODUCT($E3:$E21,AN3:AN21)/SUM($E3:$E21) -> 0.042553191 | AO91: =SUMPRODUCT($E3:$E21,AO3:AO21)/SUM($E3:$E21) -> 0.99392097
X92: weighted SD | Y92: =SQRT(SUMPRODUCT($E3:$E21,(Y3:Y21)^2)/SUM($E3:$E21)-(SUMPRODUCT($E3:$E21,Y3:Y21)/SUM($E3:$E21))^2) -> 0.11643156 | Z92: =SQRT(SUMPRODUCT($E3:$E21,(Z3:Z21)^2)/SUM($E3:$E21)-(SUMPRODUCT($E3:$E21,Z3:Z21)/SUM($E3:$E21))^2) -> 0.1681533 | AA92: =SQRT(SUMPRODUCT($E3:$E21,(AA3:AA21)^2)/SUM($E3:$E21)-(SUMPRODUCT($E3:$E21,AA3:AA21)/SUM($E3:$E21))^2) -> 0.10460188 | AB92: =SQRT(SUMPRODUCT($E3:$E21,(AB3:AB21)^2)/SUM($E3:$E21)-(SUMPRODUCT($E3:$E21,AB3:AB21)/SUM($E3:$E21))^2) -> 0.27865278 | AC92: =SQRT(SUMPRODUCT($E3:$E21,(AC3:AC21)^2)/SUM($E3:$E21)-(SUMPRODUCT($E3:$E21,AC3:AC21)/SUM($E3:$E21))^2) -> 0.26792809 | AD92: =SQRT(SUMPRODUCT($E3:$E21,(AD3:AD21)^2)/SUM($E3:$E21)-(SUMPRODUCT($E3:$E21,AD3:AD21)/SUM($E3:$E21))^2) -> 0.15314365 | AE92: =SQRT(SUMPRODUCT($E3:$E21,(AE3:AE21)^2)/SUM($E3:$E21)-(SUMPRODUCT($E3:$E21,AE3:AE21)/SUM($E3:$E21))^2) -> 0.067633791 | AF92: =SQRT(SUMPRODUCT($E3:$E21,(AF3:AF21)^2)/SUM($E3:$E21)-(SUMPRODUCT($E3:$E21,AF3:AF21)/SUM($E3:$E21))^2) -> 0.032149121 | AH92: =SQRT(SUMPRODUCT($E3:$E21,(AH3:AH21)^2)/SUM($E3:$E21)-(SUMPRODUCT($E3:$E21,AH3:AH21)/SUM($E3:$E21))^2) -> 0.063169025 | AI92: =SQRT(SUMPRODUCT($E3:$E21,(AI3:AI21)^2)/SUM($E3:$E21)-(SUMPRODUCT($E3:$E21,AI3:AI21)/SUM($E3:$E21))^2) -> 0.057377872 | AJ92: =SQRT(SUMPRODUCT($E3:$E21,(AJ3:AJ21)^2)/SUM($E3:$E21)-(SUMPRODUCT($E3:$E21,AJ3:AJ21)/SUM($E3:$E21))^2) -> 0.058645656 | AK92: =SQRT(SUMPRODUCT($E3:$E21,(AK3:AK21)^2)/SUM($E3:$E21)-(SUMPRODUCT($E3:$E21,AK3:AK21)/SUM($E3:$E21))^2) -> 0.052137524 | AL92: =SQRT(SUMPRODUCT($E3:$E21,(AL3:AL21)^2)/SUM($E3:$E21)-(SUMPRODUCT($E3:$E21,AL3:AL21)/SUM($E3:$E21))^2) -> 0.058069791 | AM92: =SQRT(SUMPRODUCT($E3:$E21,(AM3:AM21)^2)/SUM($E3:$E21)-(SUMPRODUCT($E3:$E21,AM3:AM21)/SUM($E3:$E21))^2) -> 0.033911857 | AN92: =SQRT(SUMPRODUCT($E3:$E21,(AN3:AN21)^2)/SUM($E3:$E21)-(SUMPRODUCT($E3:$E21,AN3:AN21)/SUM($E3:$E21))^2) -> 0.067633791 | AO92: =SQRT(SUMPRODUCT($E3:$E21,(AO3:AO21)^2)/SUM($E3:$E21)-(SUMPRODUCT($E3:$E21,AO3:AO21)/SUM($E3:$E21))^2) -> 0.032149121
D93: MW: | E93: =AVERAGE(E3:E88) -> 14.174419 | F93: =AVERAGE(F3:F88) -> 12.709302 | M93: =AVERAGE(M3:M88) -> 0.56976744 | N93: =AVERAGE(N3:N88) -> 1.4651163 | O93: =AVERAGE(O3:O88) -> 0.89534884 | Q93: =AVERAGE(Q3:Q88) -> 0.069767442 | R93: =AVERAGE(R3:R88) -> 0.12790698 | S93: =AVERAGE(S3:S88) -> 0.19767442 | U93: =AVERAGE(U3:U88) -> 0.1627907 | V93: =AVERAGE(V3:V88) -> 0.37209302 | X93: weighted 95%CI lower | Y93: =Y91-CONFIDENCE(0.05,Y92,SUM($E3:$E21)) -> 0.8901544 | Z93: =Z91-CONFIDENCE(0.05,Z92,SUM($E3:$E21)) -> 0.44991508 | AA93: =AA91-CONFIDENCE(0.05,AA92,SUM($E3:$E21)) -> 0.84280045 | AB93: =AB91-CONFIDENCE(0.05,AB92,SUM($E3:$E21)) -> 0.19481382 | AC93: =AC91-CONFIDENCE(0.05,AC92,SUM($E3:$E21)) -> 0.45737087 | AD93: =AD91-CONFIDENCE(0.05,AD92,SUM($E3:$E21)) -> 0.82843666 | AE93: =AE91-CONFIDENCE(0.05,AE92,SUM($E3:$E21)) -> 0.035244933 | AF93: =AF91-CONFIDENCE(0.05,AF92,SUM($E3:$E21)) -> 0.99044706 | AH93: =AH91-CONFIDENCE(0.05,AH92,SUM($E3:$E21)) -> 0.93846294 | AI93: =AI91-CONFIDENCE(0.05,AI92,SUM($E3:$E21)) -> 0.94516774 | AJ93: =AJ91-CONFIDENCE(0.05,AJ92,SUM($E3:$E21)) -> 0.95110978 | AK93: =AK91-CONFIDENCE(0.05,AK92,SUM($E3:$E21)) -> 0.95181302 | AL93: =AL91-CONFIDENCE(0.05,AL92,SUM($E3:$E21)) -> 0.95421151 | AM93: =AM91-CONFIDENCE(0.05,AM92,SUM($E3:$E21)) -> 0.98417756 | AN93: =AN91-CONFIDENCE(0.05,AN92,SUM($E3:$E21)) -> 0.035244933 | AO93: =AO91-CONFIDENCE(0.05,AO92,SUM($E3:$E21)) -> 0.99044706
D94: von der Gesamtzahl: | F94: =F89/$E$89 -> 0.89663659 | G94: =G89/$E$89 -> 0.44708778 | H94: =H89/$E$89 -> 0.24528302 | I94: =I89/$E$89 -> 0.8564397 | J94: =J89/$E$89 -> 0.83675144 | K94: =K89/$E$89 -> 0.52584085 | L94: =L89/$E$89 -> 0.93683347 | M94: =M89/$E$89 -> 0.040196883 | ... Q94: =Q89/$E$89 -> 0.0049220673 | X94: weighted 95% CI upper | Y94: =Y91+CONFIDENCE(0.05,Y92,SUM($E3:$E21)) -> 0.91531673 | Z94: =Z91+CONFIDENCE(0.05,Z92,SUM($E3:$E21)) -> 0.48625513 | AA94: =AA91+CONFIDENCE(0.05,AA92,SUM($E3:$E21)) -> 0.86540624 | AB94: =AB91+CONFIDENCE(0.05,AB92,SUM($E3:$E21)) -> 0.2550342 | AC94: =AC91+CONFIDENCE(0.05,AC92,SUM($E3:$E21)) -> 0.51527351 | AD94: =AD91+CONFIDENCE(0.05,AD92,SUM($E3:$E21)) -> 0.86153294 | AE94: =AE91+CONFIDENCE(0.05,AE92,SUM($E3:$E21)) -> 0.04986145 | AF94: =AF91+CONFIDENCE(0.05,AF92,SUM($E3:$E21)) -> 0.99739489 | AH94: =AH91+CONFIDENCE(0.05,AH92,SUM($E3:$E21)) -> 0.95211457 | AI94: =AI91+CONFIDENCE(0.05,AI92,SUM($E3:$E21)) -> 0.95756782 | AJ94: =AJ91+CONFIDENCE(0.05,AJ92,SUM($E3:$E21)) -> 0.96378384 | AK94: =AK91+CONFIDENCE(0.05,AK92,SUM($E3:$E21)) -> 0.9630806 | AL94: =AL91+CONFIDENCE(0.05,AL92,SUM($E3:$E21)) -> 0.96676113 | AM94: =AM91+CONFIDENCE(0.05,AM92,SUM($E3:$E21)) -> 0.99150634 | AN94: =AN91+CONFIDENCE(0.05,AN92,SUM($E3:$E21)) -> 0.04986145 | AO94: =AO91+CONFIDENCE(0.05,AO92,SUM($E3:$E21)) -> 0.99739489
D95: von den in Medline fehlenden: | M95: =M89/N89 -> 0.38888889 | O95: =O89/N89 -> 0.61111111
X96: Konfidenz | Y96: =CONFIDENCE(0.05,Y92,SUM($E3:$E21)) -> 0.012581165 | Z96: =CONFIDENCE(0.05,Z92,SUM($E3:$E21)) -> 0.018170025 | AA96: =CONFIDENCE(0.05,AA92,SUM($E3:$E21)) -> 0.011302893 | AB96: =CONFIDENCE(0.05,AB92,SUM($E3:$E21)) -> 0.030110192 | AC96: =CONFIDENCE(0.05,AC92,SUM($E3:$E21)) -> 0.028951321 | AD96: =CONFIDENCE(0.05,AD92,SUM($E3:$E21)) -> 0.016548138 | AE96: =CONFIDENCE(0.05,AE92,SUM($E3:$E21)) -> 0.0073082581 | AF96: =CONFIDENCE(0.05,AF92,SUM($E3:$E21)) -> 0.0034739154 | AH96: =CONFIDENCE(0.05,AH92,SUM($E3:$E21)) -> 0.0068258119 | AI96: =CONFIDENCE(0.05,AI92,SUM($E3:$E21)) -> 0.0062000413 | AJ96: =CONFIDENCE(0.05,AJ92,SUM($E3:$E21)) -> 0.0063370333 | AK96: =CONFIDENCE(0.05,AK92,SUM($E3:$E21)) -> 0.0056337886 | AL96: =CONFIDENCE(0.05,AL92,SUM($E3:$E21)) -> 0.0062748075 | AM96: =CONFIDENCE(0.05,AM92,SUM($E3:$E21)) -> 0.0036643903 | AN96: =CONFIDENCE(0.05,AN92,SUM($E3:$E21)) -> 0.0073082581 | AO96: =CONFIDENCE(0.05,AO92,SUM($E3:$E21)) -> 0.0034739154
X97: ≥4 DBs searched
X98: weighted mean | Y98: =SUMPRODUCT($E22:$E88,Y22:Y88)/SUM($E22:$E88) -> 0.89438202 | Z98: =SUMPRODUCT($E22:$E88,Z22:Z88)/SUM($E22:$E88) -> 0.43932584 | AA98: =SUMPRODUCT($E22:$E88,AA22:AA88)/SUM($E22:$E88) -> 0.83033708 | AB98: =SUMPRODUCT($E22:$E88,AB22:AB88)/SUM($E22:$E88) -> 0.25280899 | AC98: =SUMPRODUCT($E22:$E88,AC22:AC88)/SUM($E22:$E88) -> 0.54044944 | AD98: =SUMPRODUCT($E22:$E88,AD22:AD88)/SUM($E22:$E88) -> 0.86067416 | AE98: =SUMPRODUCT($E22:$E88,AE22:AE88)/SUM($E22:$E88) -> 0.039325843 | AF98: =SUMPRODUCT($E22:$E88,AF22:AF88)/SUM($E22:$E88) -> 0.99550562 | AH98: =SUMPRODUCT($E22:$E88,AH22:AH88)/SUM($E22:$E88) -> 0.93370787 | AI98: =SUMPRODUCT($E22:$E88,AI22:AI88)/SUM($E22:$E88) -> 0.94382022 | AJ98: =SUMPRODUCT($E22:$E88,AJ22:AJ88)/SUM($E22:$E88) -> 0.94494382 | AK98: =SUMPRODUCT($E22:$E88,AK22:AK88)/SUM($E22:$E88) -> 0.94831461 | AL98: =SUMPRODUCT($E22:$E88,AL22:AL88)/SUM($E22:$E88) -> 0.96404494 | AM98: =SUMPRODUCT($E22:$E88,AM22:AM88)/SUM($E22:$E88) -> 0.99325843 | AN98: =SUMPRODUCT($E22:$E88,AN22:AN88)/SUM($E22:$E88) -> 0.039325843 | AO98: =SUMPRODUCT($E22:$E88,AO22:AO88)/SUM($E22:$E88) -> 0.99550562
X99: weighted SD | Y99: =SQRT(SUMPRODUCT($E22:$E88,(Y22:Y88)^2)/SUM($E22:$E88)-(SUMPRODUCT($E22:$E88,Y22:Y88)/SUM($E22:$E88))^2) -> 0.11492141 | Z99: =SQRT(SUMPRODUCT($E22:$E88,(Z22:Z88)^2)/SUM($E22:$E88)-(SUMPRODUCT($E22:$E88,Z22:Z88)/SUM($E22:$E88))^2) -> 0.18372473 | AA99: =SQRT(SUMPRODUCT($E22:$E88,(AA22:AA88)^2)/SUM($E22:$E88)-(SUMPRODUCT($E22:$E88,AA22:AA88)/SUM($E22:$E88))^2) -> 0.15732674 | AB99: =SQRT(SUMPRODUCT($E22:$E88,(AB22:AB88)^2)/SUM($E22:$E88)-(SUMPRODUCT($E22:$E88,AB22:AB88)/SUM($E22:$E88))^2) -> 0.24494756 | AC99: =SQRT(SUMPRODUCT($E22:$E88,(AC22:AC88)^2)/SUM($E22:$E88)-(SUMPRODUCT($E22:$E88,AC22:AC88)/SUM($E22:$E88))^2) -> 0.2763323 | AD99: =SQRT(SUMPRODUCT($E22:$E88,(AD22:AD88)^2)/SUM($E22:$E88)-(SUMPRODUCT($E22:$E88,AD22:AD88)/SUM($E22:$E88))^2) -> 0.16261672 | AE99: =SQRT(SUMPRODUCT($E22:$E88,(AE22:AE88)^2)/SUM($E22:$E88)-(SUMPRODUCT($E22:$E88,AE22:AE88)/SUM($E22:$E88))^2) -> 0.065588296 | AF99: =SQRT(SUMPRODUCT($E22:$E88,(AF22:AF88)^2)/SUM($E22:$E88)-(SUMPRODUCT($E22:$E88,AF22:AF88)/SUM($E22:$E88))^2) -> 0.013807032 | AH99: =SQRT(SUMPRODUCT($E22:$E88,(AH22:AH88)^2)/SUM($E22:$E88)-(SUMPRODUCT($E22:$E88,AH22:AH88)/SUM($E22:$E88))^2) -> 0.091156267 | AI99: =SQRT(SUMPRODUCT($E22:$E88,(AI22:AI88)^2)/SUM($E22:$E88)-(SUMPRODUCT($E22:$E88,AI22:AI88)/SUM($E22:$E88))^2) -> 0.085907471 | AJ99: =SQRT(SUMPRODUCT($E22:$E88,(AJ22:AJ88)^2)/SUM($E22:$E88)-(SUMPRODUCT($E22:$E88,AJ22:AJ88)/SUM($E22:$E88))^2) -> 0.086478101 | AK99: =SQRT(SUMPRODUCT($E22:$E88,(AK22:AK88)^2)/SUM($E22:$E88)-(SUMPRODUCT($E22:$E88,AK22:AK88)/SUM($E22:$E88))^2) -> 0.079845564 | AL99: =SQRT(SUMPRODUCT($E22:$E88,(AL22:AL88)^2)/SUM($E22:$E88)-(SUMPRODUCT($E22:$E88,AL22:AL88)/SUM($E22:$E88))^2) -> 0.069786041 | AM99: =SQRT(SUMPRODUCT($E22:$E88,(AM22:AM88)^2)/SUM($E22:$E88)-(SUMPRODUCT($E22:$E88,AM22:AM88)/SUM($E22:$E88))^2) -> 0.025170411 | AN99: =SQRT(SUMPRODUCT($E22:$E88,(AN22:AN88)^2)/SUM($E22:$E88)-(SUMPRODUCT($E22:$E88,AN22:AN88)/SUM($E22:$E88))^2) -> 0.065588296 | AO99: =SQRT(SUMPRODUCT($E22:$E88,(AO22:AO88)^2)/SUM($E22:$E88)-(SUMPRODUCT($E22:$E88,AO22:AO88)/SUM($E22:$E88))^2) -> 0.013807032
X100: weighted 95%CI lower | Y100: =Y98-CONFIDENCE(0.05,Y99,SUM($E22:$E88)) -> 0.8868319 | Z100: =Z98-CONFIDENCE(0.05,Z99,SUM($E22:$E88)) -> 0.42725547 | AA100: =AA98-CONFIDENCE(0.05,AA99,SUM($E22:$E88)) -> 0.820001 | AB100: =AB98-CONFIDENCE(0.05,AB99,SUM($E22:$E88)) -> 0.23671639 | AC100: =AC98-CONFIDENCE(0.05,AC99,SUM($E22:$E88)) -> 0.52229492 | AD100: =AD98-CONFIDENCE(0.05,AD99,SUM($E22:$E88)) -> 0.84999054 | AE100: =AE98-CONFIDENCE(0.05,AE99,SUM($E22:$E88)) -> 0.035016813 | AF100: =AF98-CONFIDENCE(0.05,AF99,SUM($E22:$E88)) -> 0.99459852 | AH100: =AH98-CONFIDENCE(0.05,AH99,SUM($E22:$E88)) -> 0.92771907 | AI100: =AI98-CONFIDENCE(0.05,AI99,SUM($E22:$E88)) -> 0.93817626 | AJ100: =AJ98-CONFIDENCE(0.05,AJ99,SUM($E22:$E88)) -> 0.93926237 | AK100: =AK98-CONFIDENCE(0.05,AK99,SUM($E22:$E88)) -> 0.9430689 | AL100: =AL98-CONFIDENCE(0.05,AL99,SUM($E22:$E88)) -> 0.95946013 | AM100: =AM98-CONFIDENCE(0.05,AM99,SUM($E22:$E88)) -> 0.99160478 | AN100: =AN98-CONFIDENCE(0.05,AN99,SUM($E22:$E88)) -> 0.035016813 | AO100: =AO98-CONFIDENCE(0.05,AO99,SUM($E22:$E88)) -> 0.99459852
...

Sheet By other sources
B1: Infos from the publication | F1: Analysis 1: SRs included in databases | M1: Calculations | R1: Analysis 2: DB-included SR, not included in MEDL+Refs | X1: Results: | Y1: Inclusion rates
A2: Overview | B2: N DBs searched | C2: DBs searched | D2: addl. methods* | E2: N SR included | F2: N included in DB1: MEDL | G2: N included in DB2: CINAHL | H2: N included in DB3: PsycInfo | I2: N included in DB4: Epistemonikos | J2: N included in DB6: EMBASE | K2: N included in DB7: TRIP | L2: N included in DB1 + refs | M2: N by ref-checking | N2: N not included in DB1 | O2: N not included in DB1 + ref-checking | P2: of which included in DB | Q2: N SRs not included in 6 DBs + refs | R2: N in DB 2 | S2: N in DB 3 | T2: N in DB 4 | U2: N in DB 6 | V2: N in DB 7 | Y2: MEDL | Z2: CIN | AA2: EMB | AB2: PSI | AC2: TRIP | AD2: EPIS | AE2: Refs | AF2: all DB + Refs | AH2: ME + Refs | AI2: ME + Refs + CIN | AJ2: ME + Refs + EMB | AK2: ME + Refs + PSI | AL2: ME + Refs + TRIP | AM2: ME + Refs + EPIS | AN2: Refs | AO2: all DB + Refs
A3: Andersen 2011 | B3: 4 | C3: PubMed, Embase, CINAHL, Web of Science | D3: Ja | E3: 17 | F3: =Full_dataset!K3 -> 15 | G3: =Full_dataset!L3 -> 11 | H3: =Full_dataset!M3 -> 5 | I3: =Full_dataset!N3 -> 17 | J3: =Full_dataset!O3 -> 14 | K3: =Full_dataset!P3 -> 3 | L3: =Full_dataset!Q3 -> 16 | M3: =L3-F3 -> 1 | N3: =E3-F3 -> 2 | O3: =E3-L3 -> 1 | P3: =Full_dataset!U3 -> 1 | Q3: =E3-(L3+P3) -> 0 | R3: =Full_dataset!W3 -> 0 | S3: =Full_dataset!X3 -> 0 | T3: =Full_dataset!Y3 -> 1 | U3: =Full_dataset!Z3 -> 0 | V3: =Full_dataset!AA3 -> 0 | Y3: =F3/$E3 -> 0.88235294 | Z3: =G3/$E3 -> 0.64705882 | AA3: =J3/$E3 -> 0.82352941 | AB3: =H3/$E3 -> 0.29411765 | AC3: =K3/$E3 -> 0.17647059 | AD3: =I3/$E3 -> 1 | AE3: =M3/$E3 -> 0.058823529 | AF3: =($E3-Q3)/$E3 -> 1 | AH3: =L3/$E3 -> 0.94117647 | AI3: =$AH3+R3/$E3 -> 0.94117647 | AJ3: =$AH3+U3/$E3 -> 0.94117647 | AK3: =$AH3+S3/$E3 -> 0.94117647 | AL3: =$AH3+V3/$E3 -> 0.94117647 | AM3: =$AH3+T3/$E3 -> 1 | AN3: =AE3 -> 0.058823529 | AO3: =AF3 -> 1
A4: Australia MSAC 2009a lymphoma HTA | B4: 8 | C4: Embase, Medline, Cochrane (SR, Trials), DARE, NHS EED, HTA, Cochrane Methodology Register | D4: Ja | E4: 6 | F4: =Full_dataset!K4 -> 5 | G4: =Full_dataset!L4 -> 1 | H4: =Full_dataset!M4 -> 0 | I4: =Full_dataset!N4 -> 5 | J4: =Full_dataset!O4 -> 3 | K4: =Full_dataset!P4 -> 5 | L4: =Full_dataset!Q4 -> 6 | M4: =L4-F4 -> 1 | N4: =E4-F4 -> 1 | O4: =E4-L4 -> 0 | P4: =Full_dataset!U4 -> 0 | Q4: =E4-(L4+P4) -> 0 | R4: =Full_dataset!W4 -> 0 | S4: =Full_dataset!X4 -> 0 | T4: =Full_dataset!Y4 -> 0 | U4: =Full_dataset!Z4 -> 0 | V4: =Full_dataset!AA4 -> 0 | Y4: =F4/$E4 -> 0.83333333 | Z4: =G4/$E4 -> 0.16666667 | AA4: =J4/$E4 -> 0.5 | AB4: =H4/$E4 -> 0 | AC4: =K4/$E4 -> 0.83333333 | AD4: =I4/$E4 -> 0.83333333 | AE4: =M4/$E4 -> 0.16666667 | AF4: =($E4-Q4)/$E4 -> 1 | AH4: =L4/$E4 -> 1 | AI4: =$AH4+R4/$E4 -> 1 | AJ4: =$AH4+U4/$E4 -> 1 | AK4: =$AH4+S4/$E4 -> 1 | AL4: =$AH4+V4/$E4 -> 1 | AM4: =$AH4+T4/$E4 -> 1 | AN4: =AE4 -> 0.16666667 | AO4: =AF4 -> 1
A5: Australia MSAC 2009b HPV HTA | B5: 8 | C5: INAHATA, EED, DARE, HTA, Cochrane (SR, Trials), Embase, Medline | D5: Ja | E5: 4 | F5: =Full_dataset!K5 -> 2 | G5: =Full_dataset!L5 -> 1 | H5: =Full_dataset!M5 -> 0 | I5: =Full_dataset!N5 -> 3 | J5: =Full_dataset!O5 -> 2 | K5: =Full_dataset!P5 -> 2 | L5: =Full_dataset!Q5 -> 2 | M5: =L5-F5 -> 0 | N5: =E5-F5 -> 2 | O5: =E5-L5 -> 2 | P5: =Full_dataset!U5 -> 2 | Q5: =E5-(L5+P5) -> 0 | R5: =Full_dataset!W5 -> 0 | S5: =Full_dataset!X5 -> 0 | T5: =Full_dataset!Y5 -> 2 | U5: =Full_dataset!Z5 -> 0 | V5: =Full_dataset!AA5 -> 1 | Y5: =F5/$E5 -> 0.5 | Z5: =G5/$E5 -> 0.25 | AA5: =J5/$E5 -> 0.5 | AB5: =H5/$E5 -> 0 | AC5: =K5/$E5 -> 0.5 | AD5: =I5/$E5 -> 0.75 | AE5: =M5/$E5 -> 0 | AF5: =($E5-Q5)/$E5 -> 1 | AH5: =L5/$E5 -> 0.5 | AI5: =$AH5+R5/$E5 -> 0.5 | AJ5: =$AH5+U5/$E5 -> 0.5 | AK5: =$AH5+S5/$E5 -> 0.5 | AL5: =$AH5+V5/$E5 -> 0.75 | AM5: =$AH5+T5/$E5 -> 1 | AN5: =AE5 -> 0 | AO5: =AF5 -> 1
A6: Australia MSAC 2010a cervical cancer HTA | B6: 8 | C6: Embase, Medline, Cochrane (SR, Trials), DARE, NHS EED, HTA, Cochrane Methodology Register | D6: Ja | E6: 4 | F6: =Full_dataset!K6 -> 3 | G6: =Full_dataset!L6 -> 0 | H6: =Full_dataset!M6 -> 0 | I6: =Full_dataset!N6 -> 4 | J6: =Full_dataset!O6 -> 2 | K6: =Full_dataset!P6 -> 4 | L6: =Full_dataset!Q6 -> 3 | M6: =L6-F6 -> 0 | N6: =E6-F6 -> 1 | O6: =E6-L6 -> 1 | P6: =Full_dataset!U6 -> 1 | Q6: =E6-(L6+P6) -> 0 | R6: =Full_dataset!W6 -> 0 | S6: =Full_dataset!X6 -> 0 | T6: =Full_dataset!Y6 -> 1 | U6: =Full_dataset!Z6 -> 0 | V6: =Full_dataset!AA6 -> 1 | Y6: =F6/$E6 -> 0.75 | Z6: =G6/$E6 -> 0 | AA6: =J6/$E6 -> 0.5 | AB6: =H6/$E6 -> 0 | AC6: =K6/$E6 -> 1 | AD6: =I6/$E6 -> 1 | AE6: =M6/$E6 -> 0 | AF6: =($E6-Q6)/$E6 -> 1 | AH6: =L6/$E6 -> 0.75 | AI6: =$AH6+R6/$E6 -> 0.75 | AJ6: =$AH6+U6/$E6 -> 0.75 | AK6: =$AH6+S6/$E6 -> 0.75 | AL6: =$AH6+V6/$E6 -> 1 | AM6: =$AH6+T6/$E6 -> 1 | AN6: =AE6 -> 0 | AO6: =AF6 -> 1
A7: Australia MSAC 2010b PET glioma HTA | B7: 8 | C7: Embase, Medline, Cochrane (SR, Trials), DARE, NHS EED, HTA, Cochrane Methodology Register | D7: Ja | E7: 3 | F7: =Full_dataset!K7 -> 2 | G7: =Full_dataset!L7 -> 0 | H7: =Full_dataset!M7 -> 0 | I7: =Full_dataset!N7 -> 3 | J7: =Full_dataset!O7 -> 0 | K7: =Full_dataset!P7 -> 3 | L7: =Full_dataset!Q7 -> 2 | M7: =L7-F7 -> 0 | N7: =E7-F7 -> 1 | O7: =E7-L7 -> 1 | P7: =Full_dataset!U7 -> 1 | Q7: =E7-(L7+P7) -> 0 | R7: =Full_dataset!W7 -> 0 | S7: =Full_dataset!X7 -> 0 | T7: =Full_dataset!Y7 -> 1 | U7: =Full_dataset!Z7 -> 0 | V7: =Full_dataset!AA7 -> 1 | Y7: =F7/$E7 -> 0.66666667 | Z7: =G7/$E7 -> 0 | AA7: =J7/$E7 -> 0 | AB7: =H7/$E7 -> 0 | AC7: =K7/$E7 -> 1 | AD7: =I7/$E7 -> 1 | AE7: =M7/$E7 -> 0 | AF7: =($E7-Q7)/$E7 -> 1 | AH7: =L7/$E7 -> 0.66666667 | AI7: =$AH7+R7/$E7 -> 0.66666667 | AJ7: =$AH7+U7/$E7 -> 0.66666667 | AK7: =$AH7+S7/$E7 -> 0.66666667 | AL7: =$AH7+V7/$E7 -> 1 | AM7: =$AH7+T7/$E7 -> 1 | AN7: =AE7 -> 0 | AO7: =AF7 -> 1
A8: Australia MSAC 2010c myocardial HTA | B8: 8 | C8: Embase, Medline, Cochrane (SR, Trials), DARE, NHS EED, HTA, Cochrane Methodology Register | D8: Ja | E8: 6 | F8: =Full_dataset!K8 -> 3 | G8: =Full_dataset!L8 -> 0 | H8: =Full_dataset!M8 -> 0 | I8: =Full_dataset!N8 -> 4 | J8: =Full_dataset!O8 -> 2 | K8: =Full_dataset!P8 -> 3 | L8: =Full_dataset!Q8 -> 3 | M8: =L8-F8 -> 0 | N8: =E8-F8 -> 3 | O8: =E8-L8 -> 3 | P8: =Full_dataset!U8 -> 3 | Q8: =E8-(L8+P8) -> 0 | R8: =Full_dataset!W8 -> 0 | S8: =Full_dataset!X8 -> 0 | T8: =Full_dataset!Y8 -> 3 | U8: =Full_dataset!Z8 -> 0 | V8: =Full_dataset!AA8 -> 3 | Y8: =F8/$E8 -> 0.5 | Z8: =G8/$E8 -> 0 | AA8: =J8/$E8 -> 0.33333333 | AB8: =H8/$E8 -> 0 | AC8: =K8/$E8 -> 0.5 | AD8: =I8/$E8 -> 0.66666667 | AE8: =M8/$E8 -> 0 | AF8: =($E8-Q8)/$E8 -> 1 | AH8: =L8/$E8 -> 0.5 | AI8: =$AH8+R8/$E8 -> 0.5 | AJ8: =$AH8+U8/$E8 -> 0.5 | AK8: =$AH8+S8/$E8 -> 0.5 | AL8: =$AH8+V8/$E8 -> 1 | AM8: =$AH8+T8/$E8 -> 1 | AN8: =AE8 -> 0 | AO8: =AF8 -> 1
A9: Beattie 2011 | B9: 9 | C9: Medline, CINAHL, BNI & Archive, Embase, Dare, Cochrane (SR, Trials), MRCT, FADE | D9: Ja | E9: 5 | F9: =Full_dataset!K9 -> 5 | G9: =Full_dataset!L9 -> 3 | H9: =Full_dataset!M9 -> 0 | I9: =Full_dataset!N9 -> 4 | J9: =Full_dataset!O9 -> 4 | K9: =Full_dataset!P9 -> 4 | L9: =Full_dataset!Q9 -> 5 | M9: =L9-F9 -> 0 | N9: =E9-F9 -> 0 | O9: =E9-L9 -> 0 | P9: =Full_dataset!U9 -> 0 | Q9: =E9-(L9+P9) -> 0 | R9: =Full_dataset!W9 -> 0 | S9: =Full_dataset!X9 -> 0 | T9: =Full_dataset!Y9 -> 0 | U9: =Full_dataset!Z9 -> 0 | V9: =Full_dataset!AA9 -> 0 | Y9: =F9/$E9 -> 1 | Z9: =G9/$E9 -> 0.6 | AA9: =J9/$E9 -> 0.8 | AB9: =H9/$E9 -> 0 | AC9: =K9/$E9 -> 0.8 | AD9: =I9/$E9 -> 0.8 | AE9: =M9/$E9 -> 0 | AF9: =($E9-Q9)/$E9 -> 1 | AH9: =L9/$E9 -> 1 | AI9: =$AH9+R9/$E9 -> 1 | AJ9: =$AH9+U9/$E9 -> 1 | AK9: =$AH9+S9/$E9 -> 1 | AL9: =$AH9+V9/$E9 -> 1 | AM9: =$AH9+T9/$E9 -> 1 | AN9: =AE9 -> 0 | AO9: =AF9 -> 1
A10: Black 2011 | B10: 3 | C10: PubMed,Embase, Cochrane | D10: Ja | E10: 53 | F10: =Full_dataset!K11 -> 46 | G10: =Full_dataset!L11 -> 22 | H10: =Full_dataset!M11 -> 7 | I10: =Full_dataset!N11 -> 51 | J10: =Full_dataset!O11 -> 44 | K10: =Full_dataset!P11 -> 29 | L10: =Full_dataset!Q11 -> 47 | M10: =L10-F10 -> 1 | N10: =E10-F10 -> 7 | O10: =E10-L10 -> 6 | P10: =Full_dataset!U11 -> 5 | Q10: =E10-(L10+P10) -> 1 | R10: =Full_dataset!W11 -> 0 | S10: =Full_dataset!X11 -> 1 | T10: =Full_dataset!Y11 -> 4 | U10: =Full_dataset!Z11 -> 2 | V10: =Full_dataset!AA11 -> 2 | Y10: =F10/$E10 -> 0.86792453 | Z10: =G10/$E10 -> 0.41509434 | AA10: =J10/$E10 -> 0.83018868 | AB10: =H10/$E10 -> 0.13207547 | AC10: =K10/$E10 -> 0.54716981 | AD10: =I10/$E10 -> 0.96226415 | AE10: =M10/$E10 -> 0.018867925 | AF10: =($E10-Q10)/$E10 -> 0.98113208 | AH10: =L10/$E10 -> 0.88679245 | AI10: =$AH10+R10/$E10 -> 0.88679245 | AJ10: =$AH10+U10/$E10 -> 0.9245283 | AK10: =$AH10+S10/$E10 -> 0.90566038 | AL10: =$AH10+V10/$E10 -> 0.9245283 | AM10: =$AH10+T10/$E10 -> 0.96226415 | AN10: =AE10 -> 0.018867925 | AO10: =AF10 -> 0.98113208
A11: Clar 2010 HTA | B11: 5 | C11: Cochrane, Medline, Embase, PsychINFO, Web of Science | D11: Ja | E11: 12 | F11: =Full_dataset!K13 -> 10 | G11: =Full_dataset!L13 -> 7 | H11: =Full_dataset!M13 -> 0 | I11: =Full_dataset!N13 -> 11 | J11: =Full_dataset!O13 -> 8 | K11: =Full_dataset!P13 -> 9 | L11: =Full_dataset!Q13 -> 11 | M11: =L11-F11 -> 1 | N11: =E11-F11 -> 2 | O11: =E11-L11 -> 1 | P11: =Full_dataset!U13 -> 1 | Q11: =E11-(L11+P11) -> 0 | R11: =Full_dataset!W13 -> 1 | S11: =Full_dataset!X13 -> 0 | T11: =Full_dataset!Y13 -> 1 | U11: =Full_dataset!Z13 -> 1 | V11: =Full_dataset!AA13 -> 1 | Y11: =F11/$E11 -> 0.83333333 | Z11: =G11/$E11 -> 0.58333333 | AA11: =J11/$E11 -> 0.66666667 | AB11: =H11/$E11 -> 0 | AC11: =K11/$E11 -> 0.75 | AD11: =I11/$E11 -> 0.91666667 | AE11: =M11/$E11 -> 0.083333333 | AF11: =($E11-Q11)/$E11 -> 1 | AH11: =L11/$E11 -> 0.91666667 | AI11: =$AH11+R11/$E11 -> 1 | AJ11: =$AH11+U11/$E11 -> 1 | AK11: =$AH11+S11/$E11 -> 0.91666667 | AL11: =$AH11+V11/$E11 -> 1 | AM11: =$AH11+T11/$E11 -> 1 | AN11: =AE11 -> 0.083333333 | AO11: =AF11 -> 1
A12: Damen 2011 | B12: 4 | C12: Medline Ovid, Embase, ERIC, RDRB Databases | D12: Ja | E12: 31 | F12: =Full_dataset!K14 -> 31 | G12: =Full_dataset!L14 -> 11 | H12: =Full_dataset!M14 -> 0 | I12: =Full_dataset!N14 -> 21 | J12: =Full_dataset!O14 -> 30 | K12: =Full_dataset!P14 -> 3 | L12: =Full_dataset!Q14 -> 31 | M12: =L12-F12 -> 0 | N12: =E12-F12 -> 0 | O12: =E12-L12 -> 0 | P12: =Full_dataset!U14 -> 0 | Q12: =E12-(L12+P12) -> 0 | R12: =Full_dataset!W14 -> 0 | S12: =Full_dataset!X14 -> 0 | T12: =Full_dataset!Y14 -> 0 | U12: =Full_dataset!Z14 -> 0 | V12: =Full_dataset!AA14 -> 0 | Y12: =F12/$E12 -> 1 | Z12: =G12/$E12 -> 0.35483871 | AA12: =J12/$E12 -> 0.96774194 | AB12: =H12/$E12 -> 0 | AC12: =K12/$E12 -> 0.096774194 | AD12: =I12/$E12 -> 0.67741935 | AE12: =M12/$E12 -> 0 | AF12: =($E12-Q12)/$E12 -> 1 | AH12: =L12/$E12 -> 1 | AI12: =$AH12+R12/$E12 -> 1 | AJ12: =$AH12+U12/$E12 -> 1 | AK12: =$AH12+S12/$E12 -> 1 | AL12: =$AH12+V12/$E12 -> 1 | AM12: =$AH12+T12/$E12 -> 1 | AN12: =AE12 -> 0 | AO12: =AF12 -> 1
