Workbook

Sheet Supp Table 1
B2: Supplementary Table 1 - Revenue and Profits by Year and Region (in millions USD)
B4: Year | C4: 0 | D4: 1 | E4: 2 | F4: 3 | G4: 4 | H4: 5 | I4: 6 | J4: 7 | K4: 8 | L4: 9 | M4: 10 | N4: 11 | O4: 12 | P4: 13 | Q4: 14
B5: US
B6: Sales | C6: ='CV drug'!F12 -> 0 | D6: ='CV drug'!G12 -> 101.45175 | E6: ='CV drug'!H12 -> 189.92314 | F6: ='CV drug'!I12 -> 315.96926 | G6: ='CV drug'!J12 -> 436.20837 | H6: ='CV drug'!K12 -> 584.79932 | I6: ='CV drug'!L12 -> 804.09906 | J6: ='CV drug'!M12 -> 1023.0572 | ... Q6: ='CV drug'!T12 -> 1432.8628
B7: Gross Profit | C7: ='CV drug'!F17 -> 0 | D7: ='CV drug'!G17 -> 96.379163 | E7: ='CV drug'!H17 -> 180.42699 | F7: ='CV drug'!I17 -> 300.17079 | G7: ='CV drug'!J17 -> 414.39795 | H7: ='CV drug'!K17 -> 555.55935 | I7: ='CV drug'!L17 -> 763.89411 | J7: ='CV drug'!M17 -> 971.90436 | ... Q7: ='CV drug'!T17 -> 1361.2196
B8: EBIT | C8: ='CV drug'!F24 -> 0 | D8: ='CV drug'!G24 -> -128.62084 | E8: ='CV drug'!H24 -> -62.073015 | F8: ='CV drug'!I24 -> 38.420794 | G8: ='CV drug'!J24 -> 161.47295 | H8: ='CV drug'!K24 -> 289.34185 | I8: ='CV drug'!L24 -> 472.05486 | J8: ='CV drug'!M24 -> 651.88118 | ... Q8: ='CV drug'!T24 -> 993.00393
B9: Discounted Profit | C9: ='CV drug'!F29 -> 0 | D9: ='CV drug'!G29 -> -102.89667 | E9: ='CV drug'!H29 -> -44.737308 | F9: ='CV drug'!I29 -> 24.946543 | G9: ='CV drug'!J29 -> 94.454104 | H9: ='CV drug'!K29 -> 152.47875 | I9: ='CV drug'!L29 -> 224.11327 | J9: ='CV drug'!M29 -> 278.81784 | ... Q9: ='CV drug'!T29 -> 204.57013
B10: Ex-US
B11: Sales | C11: ='CV drug'!F34 -> 0 | D11: ='CV drug'!G34 -> 0 | E11: ='CV drug'!H34 -> 5.5021834 | F11: ='CV drug'!I34 -> 44.541485 | G11: ='CV drug'!J34 -> 55.021834 | H11: ='CV drug'!K34 -> 123.66812 | I11: ='CV drug'!L34 -> 209.869 | J11: ='CV drug'!M34 -> 319.65066 | ... Q11: ='CV drug'!T34 -> 695.56444
B12: Gross Profit | C12: ='CV drug'!E39 -> 0 | D12: ='CV drug'!F39 -> 0 | E12: ='CV drug'!G39 -> 0 | F12: ='CV drug'!H39 -> 4.9519651 | G12: ='CV drug'!I39 -> 40.087336 | H12: ='CV drug'!J39 -> 49.519651 | I12: ='CV drug'!K39 -> 111.30131 | J12: ='CV drug'!L39 -> 188.8821 | ... Q12: ='CV drug'!S39 -> 607.77476
B13: EBIT | C13: ='CV drug'!E46 -> 0 | D13: ='CV drug'!F46 -> 0 | E13: ='CV drug'!G46 -> 0 | F13: ='CV drug'!H46 -> -125.04803 | G13: ='CV drug'!I46 -> -99.912664 | H13: ='CV drug'!J46 -> -101.48035 | I13: ='CV drug'!K46 -> -30.74869 | J13: ='CV drug'!L46 -> 40.479596 | ... Q13: ='CV drug'!S46 -> 356.41791
B14: Discounted Profit | C14: ='CV drug'!E51 -> 0 | D14: ='CV drug'!F51 -> 0 | E14: ='CV drug'!G51 -> 0 | F14: ='CV drug'!H51 -> -96.884063 | G14: ='CV drug'!I51 -> -69.738569 | H14: ='CV drug'!J51 -> -63.813339 | I14: ='CV drug'!K51 -> -17.419398 | J14: ='CV drug'!L51 -> 20.659496 | ... Q14: ='CV drug'!S51 -> 87.615758
B16: Notes:
B17: Gross profit is calculated as the product of sales revenue and gross margin
B18: EBIT is calculated as gross profit minus selling, general, and administrative expenses, and the R&D spending.
B19: A discount rate of 11% was used to calculate the present value of future profits at year 0 (time of approval)

Sheet Supp Table 2
B2: Supplementary Table 2 - Sensitivity Analysis - Reduction in Profit due to IRA (range 50% to 100% profit drop)
B4: Scenario | C4: Pre-IRA | E4: Post IRA
B5: Profit Erosion Assumption | E5: Base (100%) | G5: 0.9 | I5: 0.8 | K5: 0.7 | M5: 0.6 | O5: 0.5
B6: Outcome | C6: NPV | D6: Decision | E6: NPV | F6: Decision | G6: NPV | H6: Decision | I6: NPV | J6: Decision | K6: NPV | L6: Decision | M6: NPV | N6: Decision | O6: NPV | P6: Decision
B7: Market (approved) | C7: ='By phase'!C69 -> 2976.0218 | D7: =IF(C7>0, "Yes", "No") -> Yes | E7: ='By phase'!D69 -> 1782.2542 | F7: =IF(E7>0, "Yes", "No") -> Yes | G7: ='By phase'!G69 -> 1901.631 | H7: =IF(G7>0, "Yes", "No") -> Yes | I7: ='By phase'!H69 -> 2021.0077 | J7: Yes | K7: ='By phase'!I69 -> 2140.3845 | L7: Yes | M7: ='By phase'!J69 -> 2259.7612 | N7: Yes | O7: ='By phase'!K69 -> 2379.138 | P7: Yes
B8: File | C8: ='By phase'!C70 -> 2261.7766 | D8: =IF(C8>0, "Yes", "No") -> Yes | E8: ='By phase'!D70 -> 1354.5132 | F8: =IF(E8>0, "Yes", "No") -> Yes | G8: ='By phase'!G70 -> 1445.2395 | H8: =IF(G8>0, "Yes", "No") -> Yes | I8: ='By phase'!H70 -> 1535.9659 | J8: Yes | K8: ='By phase'!I70 -> 1626.6922 | L8: Yes | M8: ='By phase'!J70 -> 1717.4185 | N8: Yes | O8: ='By phase'!K70 -> 1808.1449 | P8: Yes
B9: Phase 3 | C9: ='By phase'!C71 -> 1104.5232 | D9: =IF(C9>0, "Yes", "No") -> Yes | E9: ='By phase'!D71 -> 618.48921 | F9: =IF(E9>0, "Yes", "No") -> Yes | G9: ='By phase'!G71 -> 667.09261 | H9: =IF(G9>0, "Yes", "No") -> Yes | I9: ='By phase'!H71 -> 715.696 | J9: Yes | K9: ='By phase'!I71 -> 764.29939 | L9: Yes | M9: ='By phase'!J71 -> 812.90279 | N9: Yes | O9: ='By phase'!K71 -> 861.50618 | P9: Yes
B10: Phase 2 | C10: ='By phase'!C72 -> 271.76429 | D10: =IF(C10>0, "Yes", "No") -> Yes | E10: ='By phase'!D72 -> 133.38455 | F10: =IF(E10>0, "Yes", "No") -> Yes | G10: ='By phase'!G72 -> 147.22252 | H10: =IF(G10>0, "Yes", "No") -> Yes | I10: ='By phase'!H72 -> 161.0605 | J10: Yes | K10: ='By phase'!I72 -> 174.89847 | L10: Yes | M10: ='By phase'!J72 -> 188.73644 | N10: Yes | O10: ='By phase'!K72 -> 202.57442 | P10: Yes
B11: Phase 1 | C11: ='By phase'!C73 -> 82.157665 | D11: =IF(C11>0, "Yes", "No") -> Yes | E11: ='By phase'!D73 -> 15.968374 | F11: =IF(E11>0, "Yes", "No") -> Yes | G11: ='By phase'!G73 -> 22.587303 | H11: =IF(G11>0, "Yes", "No") -> Yes | I11: ='By phase'!H73 -> 29.206232 | J11: No | K11: ='By phase'!I73 -> 35.825161 | L11: No | M11: ='By phase'!J73 -> 42.44409 | N11: No | O11: ='By phase'!K73 -> 49.063019 | P11: No
B12: PreClinical | C12: ='By phase'!C74 -> 32.157665 | D12: =IF(C12>0, "Yes", "No") -> Yes | E12: ='By phase'!D74 -> -34.031626 | F12: =IF(E12>0, "Yes", "No") -> No | G12: ='By phase'!G74 -> -27.412697 | H12: =IF(G12>0, "Yes", "No") -> No | I12: ='By phase'!H74 -> -20.793768 | J12: No | K12: ='By phase'!I74 -> -14.174839 | L12: No | M12: ='By phase'!J74 -> -7.5559098 | N12: No | O12: ='By phase'!K74 -> -0.93698066 | P12: No
B13: Seeding | C13: ='By phase'!C75 -> 7.1576649 | D13: =IF(C13>0, "Yes", "No") -> Yes | E13: ='By phase'!D75 -> -59.031626 | F13: =IF(E13>0, "Yes", "No") -> No | G13: ='By phase'!G75 -> -52.412697 | H13: =IF(G13>0, "Yes", "No") -> No | I13: ='By phase'!H75 -> -45.793768 | J13: No | K13: ='By phase'!I75 -> -39.174839 | L13: No | M13: ='By phase'!J75 -> -32.55591 | N13: No | O13: ='By phase'!K75 -> -25.936981 | P13: No
B15: Notes:
B16: Seeding refers to the decision point of whether to fund preclinical research.

Sheet Supp 3 - Underlying Model ---->

Sheet CV drug
B2: P&L for CV small molecule (pre-IRA) | H2: User Notes
C4: Peak US sales | D4: 1200 | H4: Blue text indicates hard-coded values (by assumptions or based on historical data)
C5: WW multiplier | D5: 1.5
C6: Price in ex-US vs. US | D6: 0.5
C7: % US | D7: =1/D5 -> 0.66666667
E9: Time | F9: 0 | G9: =+F9+1 -> 1 | H9: =+G9+1 -> 2 | I9: =+H9+1 -> 3 | J9: =+I9+1 -> 4 | K9: =+J9+1 -> 5 | L9: =+K9+1 -> 6 | M9: =+L9+1 -> 7 | N9: =+M9+1 -> 8 | ... Y9: =+X9+1 -> 19
C11: US P&L | F11: 2023 | G11: =+F11+1 -> 2024 | H11: =+G11+1 -> 2025 | I11: =+H11+1 -> 2026 | J11: =+I11+1 -> 2027 | K11: =+J11+1 -> 2028 | L11: =+K11+1 -> 2029 | M11: =+L11+1 -> 2030 | N11: =+M11+1 -> 2031 | ... W11: =+V11+1 -> 2040 | X11: TV | Y11: Notes
C12: US Sales | F12: 0 | G12: =$N$12*G$13 -> 101.45175 | H12: =$N$12*H$13 -> 189.92314 | I12: =$N$12*I$13 -> 315.96926 | J12: =$N$12*J$13 -> 436.20837 | K12: =$N$12*K$13 -> 584.79932 | L12: =$N$12*L$13 -> 804.09906 | M12: =$N$12*M$13 -> 1023.0572 | N12: =$D$4 -> 1200 | O12: =+N12*(1+O14) -> 1236 | P12: =+O12*(1+P14) -> 1273.08 | Q12: =+P12*(1+Q14) -> 1311.2724 | R12: =+Q12*(1+R14) -> 1350.6106 | S12: =+R12*(1+S14) -> 1391.1289 | T12: =+S12*(1+T14) -> 1432.8628 | U12: =+T12*(1+U14) -> 71.643138 | V12: =+U12*(1+V14) -> 3.5821569 | W12: =+V12*(1+W14) -> 0.17910784 | Y12: xx
C13: Ramp | G13: 0.084543126 | H13: 0.15826929 | I13: 0.26330771 | J13: 0.36350697 | K13: 0.48733276 | L13: 0.67008255 | M13: 0.85254768 | N13: 1
C14: Growth | H14: =H12/G12-1 -> 0.87205387 | I14: =I12/H12-1 -> 0.66366906 | J14: =J12/I12-1 -> 0.38054054 | K14: =K12/J12-1 -> 0.34064213 | L14: =L12/K12-1 -> 0.375 | M14: 0.1 | N14: 0.075 | O14: 0.03 | P14: 0.03 | Q14: 0.03 | R14: 0.03 | S14: 0.03 | T14: 0.03 | U14: -0.95 | V14: -0.95 | W14: -0.95
C16: Gross Margin | E16: 0.95 | F16: =E16 -> 0.95 | G16: =E16 -> 0.95 | H16: =F16 -> 0.95 | I16: =G16 -> 0.95 | J16: =H16 -> 0.95 | K16: =I16 -> 0.95 | L16: =J16 -> 0.95 | M16: =K16 -> 0.95 | N16: =L16 -> 0.95 | ... W16: =U16 -> 0.95
C17: Gross Profit | E17: =+E16*E12 -> 0 | F17: =+F16*F12 -> 0 | G17: =+G16*G12 -> 96.379163 | H17: =+H16*H12 -> 180.42699 | I17: =+I16*I12 -> 300.17079 | J17: =+J16*J12 -> 414.39795 | K17: =+K16*K12 -> 555.55935 | L17: =+L16*L12 -> 763.89411 | ... W17: =+W16*W12 -> 0.17015245
C19: SG&A | G19: =250*0.3+100 -> 175 | H19: =G19*1.1 -> 192.5 | I19: =H19*1.1 -> 211.75 | J19: =I19*1.1 -> 232.925 | K19: =J19*1.1 -> 256.2175 | L19: =K19*1.1 -> 281.83925 | M19: =L19*1.1 -> 310.02318 | N19: =M19*1.1 -> 341.02549 | O19: =O12*O20 -> 309 | P19: =P12*P20 -> 318.27 | Q19: =Q12*Q20 -> 327.8181 | R19: =R12*R20 -> 337.65264 | S19: =S12*S20 -> 347.78222 | T19: =T12*T20 -> 358.21569 | U19: =U12*U20 -> 17.910784 | V19: =V12*V20 -> 0.89553922 | W19: =W12*W20 -> 0.044776961
C20: % of Sales | G20: =G19/G12 -> 1.7249579 | H20: =H19/H12 -> 1.0135679 | I20: =I19/I12 -> 0.67016014 | J20: =J19/J12 -> 0.53397646 | K20: =K19/K12 -> 0.43812893 | L20: =L19/L12 -> 0.35050315 | M20: =M19/M12 -> 0.30303601 | N20: =N19/N12 -> 0.28418791 | O20: 0.25 | P20: 0.25 | Q20: 0.25 | R20: 0.25 | S20: 0.25 | T20: 0.25 | U20: 0.25 | V20: 0.25 | W20: 0.25
C22: R&D (required) | E22: 0 | F22: 0 | G22: =40*0.25+40 -> 50 | H22: =40*0.25+40 -> 50 | I22: =40*0.25+40 -> 50 | J22: 20 | K22: 10 | L22: 10 | M22: 10 | N22: 10 | O22: 10 | P22: 10 | Q22: 10 | R22: 10 | S22: 10 | T22: 10 | U22: =T22*(1+U14) -> 0.5 | V22: =U22*(1+V14) -> 0.025 | W22: =V22*(1+W14) -> 0.00125
C24: EBIT | E24: =+E17-E19-E22 -> 0 | F24: =+F17-F19-F22 -> 0 | G24: =+G17-G19-G22 -> -128.62084 | H24: =+H17-H19-H22 -> -62.073015 | I24: =+I17-I19-I22 -> 38.420794 | J24: =+J17-J19-J22 -> 161.47295 | K24: =+K17-K19-K22 -> 289.34185 | L24: =+L17-L19-L22 -> 472.05486 | ... W24: =+W17-W19-W22 -> 0.12412549
C25: CM | G25: =G24/G12 -> -1.267803 | H25: =H24/H12 -> -0.32683228 | I25: =I24/I12 -> 0.12159662 | J25: =J24/J12 -> 0.37017389 | K25: =K24/K12 -> 0.49477119 | L25: =L24/L12 -> 0.58706058 | M25: =M24/M12 -> 0.63718937 | N25: =N24/N12 -> 0.65747876 | ... W25: =W24/W12 -> 0.69302096
C27: Taxed | D27: 0.2 | F27: =F24*(1-$D27) -> 0 | G27: =G24*(1-$D27) -> -102.89667 | H27: =H24*(1-$D27) -> -49.658412 | I27: =I24*(1-$D27) -> 30.736635 | J27: =J24*(1-$D27) -> 129.17836 | K27: =K24*(1-$D27) -> 231.47348 | L27: =L24*(1-$D27) -> 377.64389 | M27: =M24*(1-$D27) -> 521.50494 | ... W27: =W24*(1-$D27) -> 0.099300393 | X27: =+W27*(1+Y27)/(D28-Y27) -> 0 | Y27: -1
C28: Discount | D28: 0.11 | G28: =1/(1+$D28)^F$9 -> 1 | H28: =1/(1+$D28)^G$9 -> 0.9009009 | I28: =1/(1+$D28)^H$9 -> 0.81162243 | J28: =1/(1+$D28)^I$9 -> 0.73119138 | K28: =1/(1+$D28)^J$9 -> 0.65873097 | L28: =1/(1+$D28)^K$9 -> 0.59345133 | M28: =1/(1+$D28)^L$9 -> 0.53464084 | N28: =1/(1+$D28)^M$9 -> 0.48165841 | ... T28: =1/(1+$D28)^S$9 -> 0.25751426 | U28: =1/(1+$D28)^R$9 -> 0.28584082 | V28: =1/(1+$D28)^S$9 -> 0.25751426 | W28: =1/(1+$D28)^T$9 -> 0.23199482
C29: DCF | G29: =+G27*G28 -> -102.89667 | H29: =+H27*H28 -> -44.737308 | I29: =+I27*I28 -> 24.946543 | J29: =+J27*J28 -> 94.454104 | K29: =+K27*K28 -> 152.47875 | L29: =+L27*L28 -> 224.11327 | M29: =+M27*M28 -> 278.81784 | N29: =+N27*N28 -> 304.01297 | ... W29: =+W27*W28 -> 0.023037177 | X29: =+W28*X27 -> 0
C31: NPV | D31: =+SUM(G29:W29) -> 2433.7203 | G31: EV/Sales | H31: =$D31/H12 -> 12.814238 | I31: =$D31/I12 -> 7.702396 | J31: =$D31/J12 -> 5.579261 | K31: =$D31/K12 -> 4.1616333 | L31: =$D31/L12 -> 3.0266424 | M31: =$D31/M12 -> 2.3788702 | N31: =$D31/N12 -> 2.0281003 | O31: =$D31/O12 -> 1.9690294 | ... Q31: =$D31/Q12 -> 1.8559991
C33: Ex-US P&L | F33: 2023 | G33: =+F33+1 -> 2024 | H33: =+G33+1 -> 2025 | I33: =+H33+1 -> 2026 | J33: =+I33+1 -> 2027 | K33: =+J33+1 -> 2028 | L33: =+K33+1 -> 2029 | M33: =+L33+1 -> 2030 | N33: =+M33+1 -> 2031 | ... W33: =+V33+1 -> 2040 | X33: TV | Y33: Notes
C34: Ex-US Sales | F34: 0 | G34: =$O$34*G35 -> 0 | H34: =$O$34*H35 -> 5.5021834 | I34: =$O$34*I35 -> 44.541485 | J34: =$O$34*J35 -> 55.021834 | K34: =$O$34*K35 -> 123.66812 | L34: =$O$34*L35 -> 209.869 | M34: =$O$34*M35 -> 319.65066 | N34: =$O$34*N35 -> 481.04803 | O34: =N12*(D5-1) -> 600 | P34: =+O34*(1+P36) -> 618 | Q34: =+P34*(1+Q36) -> 636.54 | R34: =+Q34*(1+R36) -> 655.6362 | S34: =+R34*(1+S36) -> 675.30529 | T34: =+S34*(1+T36) -> 695.56444 | U34: =+T34*(1+U36) -> 34.778222 | V34: =+U34*(1+V36) -> 1.7389111 | W34: =+V34*(1+W36) -> 0.086945556 | Y34: xx
C35: Ramp | G35: 0 | H35: 0.0091703057 | I35: 0.074235808 | J35: 0.091703057 | K35: 0.20611354 | L35: 0.34978166 | M35: 0.53275109 | N35: 0.80174672 | O35: 1
C36: Growth | I36: =I34/H34-1 -> 7.0952381 | J36: =J34/I34-1 -> 0.23529412 | K36: =K34/J34-1 -> 1.247619 | L36: =L34/K34-1 -> 0.6970339 | M36: =M34/L34-1 -> 0.52309613 | N36: =N34/M34-1 -> 0.50491803 | O36: 0.03 | P36: 0.03 | Q36: 0.03 | R36: 0.03 | S36: 0.03 | T36: 0.03 | U36: -0.95 | V36: -0.95 | W36: -0.95
C38: Gross Margin | E38: =1-(1-E16)/D6 -> 0.9 | F38: =E38 -> 0.9 | G38: =E38 -> 0.9 | H38: =F38 -> 0.9 | I38: =G38 -> 0.9 | J38: =H38 -> 0.9 | K38: =I38 -> 0.9 | L38: =J38 -> 0.9 | M38: =K38 -> 0.9 | N38: =L38 -> 0.9 | ... W38: =U38 -> 0.9
C39: Gross Profit | E39: =+E38*E34 -> 0 | F39: =+F38*F34 -> 0 | G39: =+G38*G34 -> 0 | H39: =+H38*H34 -> 4.9519651 | I39: =+I38*I34 -> 40.087336 | J39: =+J38*J34 -> 49.519651 | K39: =+K38*K34 -> 111.30131 | L39: =+L38*L34 -> 188.8821 | ... W39: =+W38*W34 -> 0.078251
C41: SG&A | H41: 100 | I41: =H41*1.1 -> 110 | J41: =I41*1.1 -> 121 | K41: =J41*1.05 -> 127.05 | L41: =K41*1.05 -> 133.4025 | M41: =L41*1.05 -> 140.07263 | N41: =M41*1.05 -> 147.07626 | O41: =O34*O42 -> 210 | P41: =P34*P42 -> 216.3 | Q41: =Q34*Q42 -> 222.789 | R41: =R34*R42 -> 229.47267 | S41: =S34*S42 -> 236.35685 | T41: =T34*T42 -> 243.44756 | U41: =U34*U42 -> 12.172378 | V41: =V34*V42 -> 0.60861889 | W41: =W34*W42 -> 0.030430944
C42: % of Sales | H42: =H41/H34 -> 18.174603 | I42: =I41/I34 -> 2.4696078 | J42: =J41/J34 -> 2.199127 | K42: =K41/K34 -> 1.0273464 | L42: =L41/L34 -> 0.63564654 | M42: =M41/M34 -> 0.43820534 | N42: 0.35 | O42: =N42 -> 0.35 | P42: =O42 -> 0.35 | Q42: =P42 -> 0.35 | R42: =Q42 -> 0.35 | S42: =R42 -> 0.35 | T42: =S42 -> 0.35 | U42: =T42 -> 0.35 | V42: =U42 -> 0.35 | W42: =V42 -> 0.35
C44: R&D (required) | E44: 0 | F44: 0 | G44: 0 | H44: 30 | I44: 30 | J44: 30 | K44: 15 | L44: 15 | M44: 15 | N44: 15 | O44: 15 | P44: 15 | Q44: 15 | R44: 15 | S44: 15 | T44: 15 | U44: =T44*(1+U36) -> 0.75 | V44: =U44*(1+V36) -> 0.0375 | W44: =V44*(1+W36) -> 0.001875
C46: EBIT | E46: =+E39-E41-E44 -> 0 | F46: =+F39-F41-F44 -> 0 | G46: =+G39-G41-G44 -> 0 | H46: =+H39-H41-H44 -> -125.04803 | I46: =+I39-I41-I44 -> -99.912664 | J46: =+J39-J41-J44 -> -101.48035 | K46: =+K39-K41-K44 -> -30.74869 | L46: =+L39-L41-L44 -> 40.479596 | ... W46: =+W39-W41-W44 -> 0.045945056
C47: CM | G47: =G46/G34 -> #DIV/0! | H47: =H46/H34 -> -22.726984 | I47: =I46/I34 -> -2.2431373 | J47: =J46/J34 -> -1.8443651 | K47: =K46/K34 -> -0.24863877 | L47: =L46/L34 -> 0.19288031 | M47: =M46/M34 -> 0.41486843 | N47: =N46/N34 -> 0.56307677 | ... W47: =W46/W34 -> 0.52843478
C49: Taxed | D49: 0.14 | F49: =F46*(1-$D49) -> 0 | G49: =G46*(1-$D49) -> 0 | H49: =H46*(1-$D49) -> -107.54131 | I49: =I46*(1-$D49) -> -85.924891 | J49: =J46*(1-$D49) -> -87.2731 | K49: =K46*(1-$D49) -> -26.443873 | L49: =L46*(1-$D49) -> 34.812453 | M49: =M46*(1-$D49) -> 114.04715 | ... W49: =W46*(1-$D49) -> 0.039512748 | X49: =+W49*(1+Y49)/(D50-Y49) -> 0 | Y49: -1
C50: Discount | D50: 0.11 | G50: =1/(1+$D50)^F$9 -> 1 | H50: =1/(1+$D50)^G$9 -> 0.9009009 | I50: =1/(1+$D50)^H$9 -> 0.81162243 | J50: =1/(1+$D50)^I$9 -> 0.73119138 | K50: =1/(1+$D50)^J$9 -> 0.65873097 | L50: =1/(1+$D50)^K$9 -> 0.59345133 | M50: =1/(1+$D50)^L$9 -> 0.53464084 | N50: =1/(1+$D50)^M$9 -> 0.48165841 | ... T50: =1/(1+$D50)^S$9 -> 0.25751426 | U50: =1/(1+$D50)^R$9 -> 0.28584082 | V50: =1/(1+$D50)^S$9 -> 0.25751426 | W50: =1/(1+$D50)^T$9 -> 0.23199482
C51: DCF | G51: =+G49*G50 -> 0 | H51: =+H49*H50 -> -96.884063 | I51: =+I49*I50 -> -69.738569 | J51: =+J49*J50 -> -63.813339 | K51: =+K49*K50 -> -17.419398 | L51: =+L49*L50 -> 20.659496 | M51: =+M49*M50 -> 60.974263 | N51: =+N49*N50 -> 112.20021 | ... W51: =+W49*W50 -> 0.009166753 | X51: =+W50*X49 -> 0
C53: NPV | D53: =+SUM(G51:W51) -> 542.30146 | G53: EV/Sales | H53: =$D53/H34 -> 98.561137 | I53: =$D53/I34 -> 12.175199 | J53: =$D53/J34 -> 9.8561137 | K53: =$D53/K34 -> 4.3851354 | L53: =$D53/L34 -> 2.5839999 | M53: =$D53/M34 -> 1.6965442 | N53: =$D53/N34 -> 1.1273333 | O53: =$D53/O34 -> 0.90383576 | ... Q53: =$D53/Q34 -> 0.85195189
D55: NPV | E55: % NPV
C56: US | D56: =D31 -> 2433.7203 | E56: =D56/$D$58 -> 0.81777638
C57: Ex-US | D57: =D53 -> 542.30146 | E57: =D57/$D$58 -> 0.18222362
C58: Total | D58: =SUM(D56:D57) -> 2976.0218 | E58: =D58/$D$58 -> 1
...

Sheet By phase
B2: Investor target return | C2: 0.12
C4: Pre-IRA | D4: Post-IRA - base case | E4: Notes | G4: Post-IRA - sensitivity analyses
B6: Profit Erosion Assumption | D6: 1 | G6: 0.9 | H6: 0.8 | I6: 0.7 | J6: 0.6 | K6: 0.5
B8: Value at approval | C8: ='CV drug'!D58 -> 2976.0218 | D8: =$C$8*(1-'CV drug'!$E$72/'By phase'!$C$8*D6) -> 1782.2542 | G8: =$C$8*(1-'CV drug'!$E$72/'By phase'!$C$8*G6) -> 1901.631 | H8: =$C$8*(1-'CV drug'!$E$72/'By phase'!$C$8*H6) -> 2021.0077 | I8: =$C$8*(1-'CV drug'!$E$72/'By phase'!$C$8*I6) -> 2140.3845 | J8: =$C$8*(1-'CV drug'!$E$72/'By phase'!$C$8*J6) -> 2259.7612 | K8: =$C$8*(1-'CV drug'!$E$72/'By phase'!$C$8*K6) -> 2379.138
B10: POS of file --> approval | C10: 0.95 | D10: 0.95 | G10: 0.95 | H10: 0.95 | I10: 0.95 | J10: 0.95 | K10: 0.95
B11: Duration (years) | C11: 1 | D11: 1 | G11: 1 | H11: 1 | I11: 1 | J11: 1 | K11: 1
B12: FV at Ph3 (before dilution) | C12: =C8*C10 -> 2827.2207 | D12: =D8*D10 -> 1693.1415 | G12: =G8*G10 -> 1806.5494 | H12: =H8*H10 -> 1919.9573 | I12: =I8*I10 -> 2033.3653 | J12: =J8*J10 -> 2146.7732 | K12: =K8*K10 -> 2260.1811
B13: Post-money | C13: =C12*(1-C15) -> 2261.7766 | D13: =D12*(1-D15) -> 1354.5132 | G13: =G12*(1-G15) -> 1445.2395 | H13: =H12*(1-H15) -> 1535.9659 | I13: =I12*(1-I15) -> 1626.6922 | J13: =J12*(1-J15) -> 1717.4185 | K13: =K12*(1-K15) -> 1808.1449
B14: Amount to raise | C14: 200 | D14: =C14 -> 200 | G14: =$C$14 -> 200 | H14: =$C$14 -> 200 | I14: =$C$14 -> 200 | J14: =$C$14 -> 200 | K14: =$C$14 -> 200
B15: Discount to FV required to entice investors to participate | C15: 0.2 | D15: 0.2 | E15: << plug for file to approval but calculated for all other stages | G15: 0.2 | H15: 0.2 | I15: 0.2 | J15: 0.2 | K15: 0.2
B16: Pre-money | C16: =C13-C14 -> 2061.7766 | D16: =D13-D14 -> 1154.5132 | G16: =G13-G14 -> 1245.2395 | H16: =H13-H14 -> 1335.9659 | I16: =I13-I14 -> 1426.6922 | J16: =J13-J14 -> 1517.4185 | K16: =K13-K14 -> 1608.1449
B17: Dilution | C17: =C14/SUM(C16,C14) -> 0.088426065 | D17: =D14/SUM(D16,D14) -> 0.14765452 | G17: =G14/SUM(G16,G14) -> 0.13838536 | H17: =H14/SUM(H16,H14) -> 0.13021123 | I17: =I14/SUM(I16,I14) -> 0.12294889 | J17: =J14/SUM(J16,J14) -> 0.11645385 | K17: =K14/SUM(K16,K14) -> 0.11061061
B18: FV at Ph3 (after dilution) | C18: =C12*(1-C17) -> 2577.2207 | D18: =D12*(1-D17) -> 1443.1415 | G18: =G12*(1-G17) -> 1556.5494 | H18: =H12*(1-H17) -> 1669.9573 | I18: =I12*(1-I17) -> 1783.3653 | J18: =J12*(1-J17) -> 1896.7732 | K18: =K12*(1-K17) -> 2010.1811
B19: POS-adj step-up required vs prior round | C19: =(1+$C$2)^C11/C21 -> 1.8666667 | D19: =(1+$C$2)^D11/D21 -> 1.8666667 | G19: =(1+$C$2)^G11/G21 -> 1.8666667 | H19: =(1+$C$2)^H11/H21 -> 1.8666667 | I19: =(1+$C$2)^I11/I21 -> 1.8666667 | J19: =(1+$C$2)^J11/J21 -> 1.8666667 | K19: =(1+$C$2)^K11/K21 -> 1.8666667
B21: POS of Ph3 --> file | C21: 0.6 | D21: 0.6 | G21: 0.6 | H21: 0.6 | I21: 0.6 | J21: 0.6 | K21: 0.6
B22: Duration (years) | C22: 3 | D22: 3 | G22: 3 | H22: 3 | I22: 3 | J22: 3 | K22: 3
B23: FV at Ph2 (before dilution) | C23: =C18*C21 -> 1546.3324 | D23: =D18*D21 -> 865.8849 | G23: =G18*G21 -> 933.92965 | H23: =H18*H21 -> 1001.9744 | I23: =I18*I21 -> 1070.0192 | J23: =J18*J21 -> 1138.0639 | K23: =K18*K21 -> 1206.1087
B24: Post-money | C24: =C16/C19 -> 1104.5232 | D24: =D16/D19 -> 618.48921 | G24: =G16/G19 -> 667.09261 | H24: =H16/H19 -> 715.696 | I24: =I16/I19 -> 764.29939 | J24: =J16/J19 -> 812.90279 | K24: =K16/K19 -> 861.50618
B25: Amount to raise | C25: 150 | D25: =C25 -> 150 | G25: =$C$25 -> 150 | H25: =$C$25 -> 150 | I25: =$C$25 -> 150 | J25: =$C$25 -> 150 | K25: =$C$25 -> 150
B26: Discount to FV required to entice investors to participate | C26: =1-C24/C23 -> 0.28571429 | D26: =1-D24/D23 -> 0.28571429 | G26: =1-G24/G23 -> 0.28571429 | H26: =1-H24/H23 -> 0.28571429 | I26: =1-I24/I23 -> 0.28571429 | J26: =1-J24/J23 -> 0.28571429 | K26: =1-K24/K23 -> 0.28571429
B27: Pre-money | C27: =C24-C25 -> 954.52316 | D27: =D24-D25 -> 468.48921 | G27: =G24-G25 -> 517.09261 | H27: =H24-H25 -> 565.696 | I27: =I24-I25 -> 614.29939 | J27: =J24-J25 -> 662.90279 | K27: =K24-K25 -> 711.50618
B28: Dilution | C28: =C25/SUM(C27,C25) -> 0.13580521 | D28: =D25/SUM(D27,D25) -> 0.24252646 | G28: =G25/SUM(G27,G25) -> 0.22485634 | H28: =H25/SUM(H27,H25) -> 0.20958619 | I28: =I25/SUM(I27,I25) -> 0.19625817 | J28: =J25/SUM(J27,J25) -> 0.18452391 | K28: =K25/SUM(K27,K25) -> 0.17411367
B29: FV at Ph2 (after dilution) | C29: =C23*(1-C28) -> 1336.3324 | D29: =D23*(1-D28) -> 655.8849 | G29: =G23*(1-G28) -> 723.92965 | H29: =H23*(1-H28) -> 791.9744 | I29: =I23*(1-I28) -> 860.01915 | J29: =J23*(1-J28) -> 928.0639 | K29: =K23*(1-K28) -> 996.10866
B30: POS-adj step-up required vs prior round | C30: =(1+$C$2)^C22/C32 -> 3.51232 | D30: =(1+$C$2)^D22/D32 -> 3.51232 | G30: =(1+$C$2)^G22/G32 -> 3.51232 | H30: =(1+$C$2)^H22/H32 -> 3.51232 | I30: =(1+$C$2)^I22/I32 -> 3.51232 | J30: =(1+$C$2)^J22/J32 -> 3.51232 | K30: =(1+$C$2)^K22/K32 -> 3.51232
B32: POS of Ph2 --> Ph3 | C32: 0.4 | D32: 0.4 | G32: 0.4 | H32: 0.4 | I32: 0.4 | J32: 0.4 | K32: 0.4
B33: Duration (years) | C33: 2 | D33: 2 | G33: 2 | H33: 2 | I33: 2 | J33: 2 | K33: 2
B34: FV at Ph1 (before dilution) | C34: =C29*C32 -> 534.53297 | D34: =D29*D32 -> 262.35396 | G34: =G29*G32 -> 289.57186 | H34: =H29*H32 -> 316.78976 | I34: =I29*I32 -> 344.00766 | J34: =J29*J32 -> 371.22556 | K34: =K29*K32 -> 398.44346
B35: Post-money | C35: =C27/C30 -> 271.76429 | D35: =D27/D30 -> 133.38455 | G35: =G27/G30 -> 147.22252 | H35: =H27/H30 -> 161.0605 | I35: =I27/I30 -> 174.89847 | J35: =J27/J30 -> 188.73644 | K35: =K27/K30 -> 202.57442
B36: Amount to raise | C36: 100 | D36: =C36 -> 100 | G36: =$C$36 -> 100 | H36: =$C$36 -> 100 | I36: =$C$36 -> 100 | J36: =$C$36 -> 100 | K36: =$C$36 -> 100
B37: Discount to FV required to entice investors to participate | C37: =1-C35/C34 -> 0.49158554 | D37: =1-D35/D34 -> 0.49158554 | G37: =1-G35/G34 -> 0.49158554 | H37: =1-H35/H34 -> 0.49158554 | I37: =1-I35/I34 -> 0.49158554 | J37: =1-J35/J34 -> 0.49158554 | K37: =1-K35/K34 -> 0.49158554
B38: Pre-money | C38: =C35-C36 -> 171.76429 | D38: =D35-D36 -> 33.384547 | G38: =G35-G36 -> 47.222521 | H38: =H35-H36 -> 61.060496 | I38: =I35-I36 -> 74.89847 | J38: =J35-J36 -> 88.736445 | K38: =K35-K36 -> 102.57442
B39: Dilution | C39: =C36/SUM(C38,C36) -> 0.36796593 | D39: =D36/SUM(D38,D36) -> 0.74971203 | G39: =G36/SUM(G38,G36) -> 0.6792439 | H39: =H36/SUM(H38,H36) -> 0.62088472 | I39: =I36/SUM(I38,I36) -> 0.57176029 | J39: =J36/SUM(J38,J36) -> 0.52983938 | K39: =K36/SUM(K38,K36) -> 0.49364574
B40: FV at Ph1 (after dilution) | C40: =C34*(1-C39) -> 337.84305 | D40: =D34*(1-D39) -> 65.664038 | G40: =G34*(1-G39) -> 92.881939 | H40: =H34*(1-H39) -> 120.09984 | I40: =I34*(1-I39) -> 147.31774 | J40: =J34*(1-J39) -> 174.53564 | K40: =K34*(1-K39) -> 201.75354
B41: POS-adj step-up required vs prior round | C41: =(1+$C$2)^C33/C43 -> 2.0906667 | D41: =(1+$C$2)^D33/D43 -> 2.0906667 | G41: =(1+$C$2)^G33/G43 -> 2.0906667 | H41: =(1+$C$2)^H33/H43 -> 2.0906667 | I41: =(1+$C$2)^I33/I43 -> 2.0906667 | J41: =(1+$C$2)^J33/J43 -> 2.0906667 | K41: =(1+$C$2)^K33/K43 -> 2.0906667
B43: POS of Ph1 --> Ph2 | C43: 0.6 | D43: 0.6 | G43: 0.6 | H43: 0.6 | I43: 0.6 | J43: 0.6 | K43: 0.6
B44: Duration (years) | C44: 1 | D44: 1 | G44: 1 | H44: 1 | I44: 1 | J44: 1 | K44: 1
B45: FV at PC (before dilution) | C45: =C40*C43 -> 202.70583 | D45: =D40*D43 -> 39.398423 | G45: =G40*G43 -> 55.729164 | H45: =H40*H43 -> 72.059904 | I45: =I40*I43 -> 88.390645 | J45: =J40*J43 -> 104.72139 | K45: =K40*K43 -> 121.05213
B46: Post-money | C46: =C38/C41 -> 82.157665 | D46: =D38/D41 -> 15.968374 | G46: =G38/G41 -> 22.587303 | H46: =H38/H41 -> 29.206232 | I46: =I38/I41 -> 35.825161 | J46: =J38/J41 -> 42.44409 | K46: =K38/K41 -> 49.063019
B47: Amount to raise | C47: 50 | D47: =C47 -> 50 | G47: =$C$47 -> 50 | H47: =$C$47 -> 50 | I47: =$C$47 -> 50 | J47: =$C$47 -> 50 | K47: =$C$47 -> 50
B48: Discount required to entice investors to participate | C48: =1-C46/C45 -> 0.5946951 | D48: =1-D46/D45 -> 0.5946951 | G48: =1-G46/G45 -> 0.5946951 | H48: =1-H46/H45 -> 0.5946951 | I48: =1-I46/I45 -> 0.5946951 | J48: =1-J46/J45 -> 0.5946951 | K48: =1-K46/K45 -> 0.5946951
...
