Workbook

Sheet C12
A1: # | B1: Scenario code | C1: Scenario name | D1: Calculation Model | E1: Lifecycle stage | F1: Tonnage | G1: Fraction of tonnage to region | H1: ERC | I1: STP | J1: spERC Industry sector | K1: spERC | L1: Daily amount used at site [kg/day] | M1: Clocaleff (default degradation rates) | N1: Clocaleff (mg/L) (AS specific degradation rates) | O1: RCR STP (default degradation rates | P1: RCR STP (AS degradation rates
A2: 1 | B2: Manufacturing | C2: Manufacturing | D2: EU TGD/EUSES | E2: Manufacturing | F2: 128253 | G2: 1 | H2: ERC1 Manufacture of substances | I2: x | J2: User-Defined | K2: AS-Manufacturing ERASM | L2: (Default: 79,318.18) | M2: =O2*$W$289 -> 11.34 | N2: =P2*$W$289 -> 1.5255 | O2: 8.4 | P2: 1.13
A3: 2 | B3: AISE_F_001_v1High Low Viscosity (medium scale) | C3: Formulation into mixture; Washing, cleaning, maintenance and disinfecting products | D3: EU TGD/EUSES | E3: Formulation | F3: 4137.2 | G3: 1 | H3: ERC2 Formulation of preparations | I3: x | J3: AISE | K3: AISE SPERC 2.1.k.v2 AISE Formulation of liquid Detergents/Maintenance Products: High Low Viscosity (medium scale) | L3: (Default: 4,500) | M3: =O3*$W$289 -> 0.351 | N3: =P3*$W$289 -> 0.0405 | O3: 0.26 | P3: 0.03
A4: 3 | B4: AISE_F_001_v1High Viscosity (large scale) | C4: Formulation into mixture; Washing, cleaning, maintenance and disinfecting products | D4: EU TGD/EUSES | E4: Formulation | F4: 8274.4 | G4: 1 | H4: ERC2 Formulation of preparations | I4: x | J4: AISE | K4: AISE SPERC 2.1.j.v2 AISE Formulation of liquid Detergents/Maintenance Products: High Viscosity (large scale) | L4: (Default: 16,700) | M4: =O4*$W$289 -> 0.648 | N4: =P4*$W$289 -> 0.081 | O4: 0.48 | P4: 0.06
A5: 4 | B5: AISE_F_001_v1High Viscosity (small scale) | C5: Formulation into mixture; Washing, cleaning, maintenance and disinfecting products | D5: EU TGD/EUSES | E5: Formulation | F5: 1379.03 | G5: 1 | H5: ERC2 Formulation of preparations | I5: x | J5: AISE | K5: AISE SPERC 2.1.l.v2 AISE Formulation of liquid Detergents/Maintenance Products: High Viscosity (small scale) | L5: (Default: 450) | M5: =O5*$W$289 -> 0.0675 | N5: =P5*$W$289 -> 0.00945 | O5: 0.05 | P5: 0.007
A6: 5 | B6: AISE_F_001_v1Low Viscosity (large scale) | C6: Formulation into mixture; Washing, cleaning, maintenance and disinfecting products | D6: EU TGD/EUSES | E6: Formulation | F6: 8274.4 | G6: 1 | H6: ERC2 Formulation of preparations | I6: x | J6: AISE | K6: AISE SPERC 2.1.g.v2 AISE Formulation of liquid Detergents/Maintenance Products: Low Viscosity (large scale) | L6: (Default: 16,700) | M6: =O6*$W$289 -> 0.0675 | N6: =P6*$W$289 -> 0.008775 | O6: 0.05 | P6: 0.0065
A7: 6 | B7: AISE_F_001_v1Low Viscosity (medium scale) | C7: Formulation into mixture; Washing, cleaning, maintenance and disinfecting products | D7: EU TGD/EUSES | E7: Formulation | F7: 4137.2 | G7: 1 | H7: ERC2 Formulation of preparations | I7: x | J7: AISE | K7: AISE SPERC 2.1.h.v2 AISE Formulation of liquid Detergents/Maintenance Products: Low Viscosity (medium scale) | L7: (Default: 4,500) | M7: =O7*$W$289 -> 0.1755 | N7: =P7*$W$289 -> 0.027 | O7: 0.13 | P7: 0.02
A8: 7 | B8: AISE_F_001_v1Low Viscosity (small scale) | C8: Formulation into mixture; Washing, cleaning, maintenance and disinfecting products | D8: EU TGD/EUSES | E8: Formulation | F8: 1379.03 | G8: 1 | H8: ERC2 Formulation of preparations | I8: x | J8: AISE | K8: AISE SPERC 2.1.i.v2 AISE Formulation of liquid Detergents/Maintenance Products: Low Viscosity (small scale) | L8: (Default: 450) | M8: =O8*$W$289 -> 0.0405 | N8: =P8*$W$289 -> 0.004725 | O8: 0.03 | P8: 0.0035
A9: 8 | B9: AISE_F_001_v1Regular & Compact (large scale) | C9: Formulation into mixture; Washing, cleaning, maintenance and disinfecting products | D9: EU TGD/EUSES | E9: Formulation | F9: 8274.4 | G9: 1 | H9: ERC2 Formulation of preparations | I9: x | J9: AISE | K9: AISE SPERC 2.1.a.v2 AISE Formulation of Granular Detergents/Maintenance Products -Regular & Compact (large scale) | L9: (Default: 16,700) | M9: =O9*$W$289 -> 0.0675 | N9: =P9*$W$289 -> 0.008775 | O9: 0.05 | P9: 0.0065
A10: 9 | B10: AISE_F_001_v1Regular & Compact (medium scale) | C10: Formulation into mixture; Washing, cleaning, maintenance and disinfecting products | D10: EU TGD/EUSES | E10: Formulation | F10: 4137.2 | G10: 1 | H10: ERC2 Formulation of preparations | I10: x | J10: AISE | K10: AISE SPERC 2.1.b.v2 AISE Formulation of Grnaular Detergents/Maintenance Products-Regular & Compact (medium scale) | L10: (Default: 4,500) | M10: =O10*$W$289 -> 0.1755 | N10: =P10*$W$289 -> 0.027 | O10: 0.13 | P10: 0.02
A11: 10 | B11: AISE_F_001_v1Regular & Compact (small scale) | C11: Formulation into mixture; Washing, cleaning, maintenance and disinfecting products | D11: EU TGD/EUSES | E11: Formulation | F11: 1379.03 | G11: 1 | H11: ERC2 Formulation of preparations | I11: x | J11: AISE | K11: AISE SPERC 2.1.c.v2 AISE Formulation of Granular Detergents/Maintenance Products-Regular & Compact (small scale) | L11: (Default: 450) | M11: =O11*$W$289 -> 0.0405 | N11: =P11*$W$289 -> 0.004725 | O11: 0.03 | P11: 0.0035
A12: 11 | B12: ATIEL-ATC Group A [i] | C12: Industrial formulation of lubricant additives, lubricants and greases. Includes material transfers, mixing, large and small packing, sampling, maintenance and associated laboratory activities | D12: EU TGD/EUSES | E12: Formulation | F12: 1034.5 | G12: 1 | H12: ERC2 Formulation of preparations | I12: x | J12: User-Defined | K12: ATC-ATIEL A(i) | L12: (Default: 3,448.33) | M12: =O12*$W$289 -> 2.7e-09 | N12: =P12*$W$289 -> 3.645e-10 | O12: 2e-09 | P12: 2.7e-10
A13: 12 | B13: ATIEL-ATC Group E [i] | C13: (Industrial) Handling and dilution of metalworking fluid concentrates | D13: EU TGD/EUSES | E13: Formulation | F13: 1034.5 | G13: 1 | H13: ERC2 Formulation of preparations | I13: x | J13: User-Defined | K13: ATC/ATIEL E(i) | L13: (Default: 3,448.33) | M13: =O13*$W$289 -> 2.7e-09 | N13: =P13*$W$289 -> 3.645e-10 | O13: 2e-09 | P13: 2.7e-10
... A46: 45 | B46: sector_F_001_v1 solid cosmetic and home care products (small scale) | C46: Manufacture of cosmetic products | D46: EU TGD/EUSES | E46: Formulation | F46: 413.72 | G46: 1 | H46: ERC2 Formulation of preparations | I46: x | J46: User-Defined | K46: Cosmetics Europe/Aise 2.3c.v2 (small scale) | L46: (Default: 1,654.88) | M46: =O46*$W$289 -> 0.135 | N46: =P46*$W$289 -> 0.0135 | O46: 0.1 | P46: 0.01
A47: 46 | B47: TEGEWA-F1.1 | C47: TEGEWA-F1.1 Formulation of preparations | D47: EU TGD/EUSES | E47: Formulation | F47: 41.4 | G47: 1 | H47: ERC2 Formulation of preparations | I47: x | J47: TEGEWA | L47: (Default: 4,140) | M47: =O47*$W$289 -> 3.2211 | N47: =P47*$W$289 -> 0.432 | O47: 2.386 | P47: 0.32
A48: 47 | B48: TEGEWA-F2.1 | C48: TEGEWA-F2.1 Blending | D48: EU TGD/EUSES | E48: Formulation | F48: 41.4 | G48: 1 | H48: ERC2 Formulation of preparations | I48: x | J48: TEGEWA | L48: (Default: 4,140) | M48: =O48*$W$289 -> 3.2211 | N48: =P48*$W$289 -> 0.432 | O48: 2.386 | P48: 0.32
A49: 48 | B49: TEGEWA-L1.1 | C49: TEGEWA-L1.1 Blending | D49: EU TGD/EUSES | E49: Formulation | F49: 41.4 | G49: 1 | H49: ERC2 Formulation of preparations | I49: x | J49: TEGEWA | L49: (Default: 4,140) | M49: =O49*$W$289 -> 3.2211 | N49: =P49*$W$289 -> 0.432 | O49: 2.386 | P49: 0.32
A50: 49 | B50: TEGEWA-T1. | C50: TEGEWA-T1. Blending | D50: EU TGD/EUSES | E50: Formulation | F50: 41.4 | G50: 1 | H50: ERC2 Formulation of preparations | I50: x | J50: TEGEWA | L50: (Default: 4,140) | M50: =O50*$W$289 -> 3.2211 | N50: =P50*$W$289 -> 0.432 | O50: 2.386 | P50: 0.32
A51: 50 | B51: Fertilizers Europe_F_002_v1 | C51: Formulation by incorporating fertilizers onto or into a matrix. | D51: EU TGD/EUSES | E51: Formulation | F51: 5171.5 | G51: 1 | H51: ERC3 Formulation in materials | I51: x | J51: User-Defined | L51: (Default: 17,238.33) | M51: =O51*$W$289 -> 1.3365 | N51: =P51*$W$289 -> 0.1755 | O51: 0.99 | P51: 0.13
A52: 51 | B52: GRG | C52: General Rubber Goods | D52: EU TGD/EUSES | E52: Formulation | F52: 103.5 | G52: 1 | H52: ERC3 Formulation in materials | I52: x | J52: ETRMA | K52: ETRMA SPERC 3/6d.2a v.2 Manufacture of Rubber Products: Industrial (SU3, SU11) GRG use of vulcanization agents, anti-ageing agents / antidegradants | L52: (Default: 100) | M52: =O52*$W$289 -> 0.0003105 | N52: =P52*$W$289 -> 4.185e-05 | O52: 0.00023 | P52: 3.1e-05
A53: 52 | B53: TEGEWA-T2.1 | C53: TEGEWA-T2.1 blending (Bound in Product) | D53: EU TGD/EUSES | E53: Formulation | F53: 41.4 | G53: 1 | H53: ERC3 Formulation in materials | I53: x | J53: TEGEWA | L53: (Default: 4,140) | M53: =O53*$W$289 -> 0.324 | N53: =P53*$W$289 -> 0.0405 | O53: 0.24 | P53: 0.03
A54: 53 | B54: Tyres | C54: Tyres | D54: EU TGD/EUSES | E54: Formulation | F54: 103.5 | G54: 1 | H54: ERC3 Formulation in materials | I54: x | J54: ETRMA | K54: ETRMA SPERC 3/6d.2a v.2 Manufacture of Rubber Products: Industrial (SU3, SU11) GRG use of vulcanization agents, anti-ageing agents / antidegradants | L54: (Default: 100) | M54: =O54*$W$289 -> 0.0003105 | N54: =P54*$W$289 -> 4.185e-05 | O54: 0.00023 | P54: 3.1e-05
A55: 54 | B55: AISE_IS_001_v1 | C55: Industrial uses; Washing, cleaning and disinfecting products | D55: EU TGD/EUSES | E55: Processing / End use | F55: 4596.87 | G55: 1 | H55: ERC4 Industrial use of processing aids in processes and products, not becoming part of articles | I55: x | J55: AISE | K55: AISE SPERC 4.1.v2 AISE Industrial Use of Water Borne Processing Aids no RMM | L55: (Default: 50) | M55: =O55*$W$289 -> 1.94535 | N55: =P55*$W$289 -> 0.2565 | O55: 1.441 | P55: 0.19
A56: 55 | B56: ATIEL-ATC Group B [i] | C56: General industrial use of lubricants and greases in vehicles or machinery. Includes filling and draining of containers and enclosed machinery (including engines) | D56: EU TGD/EUSES | E56: Processing / End use | F56: 208.86 | G56: 1 | H56: ERC4 Industrial use of processing aids in processes and products, not becoming part of articles | I56: x | J56: User-Defined | K56: ATC/ATIEL B(i) | L56: (Default: 696.2) | M56: =O56*$W$289 -> 5.4e-10 | N56: =P56*$W$289 -> 7.29e-11 | O56: 4e-10 | P56: 5.4e-11
A57: 56 | B57: ATIEL-ATC Group C [i] | C57: (Industrial) Use in open system. Application of lubricant to work pieces or equipment by dipping, brushing or spraying (without exposure to heat), e.g. mould releases, corrosion protection, slideways | D57: EU TGD/EUSES | E57: Processing / End use | F57: 208.86 | G57: 1 | H57: ERC4 Industrial use of processing aids in processes and products, not becoming part of articles | I57: x | J57: User-Defined | K57: ATC/ATIEL C(i) | L57: (Default: 696.2) | M57: =O57*$W$289 -> 5.4e-10 | N57: =P57*$W$289 -> 7.29e-11 | O57: 4e-10 | P57: 5.4e-11
A58: 57 | B58: ATIEL-ATC Group D [i] | C58: (Industrial) Use of lubricants in open high temperature processes, e.g. quenching fluids, glass release agents | D58: EU TGD/EUSES | E58: Processing / End use | F58: 208.86 | G58: 1 | H58: ERC4 Industrial use of processing aids in processes and products, not becoming part of articles | I58: x | J58: User-Defined | K58: ATC/ATIEL D(i) | L58: (Default: 696.2) | M58: =O58*$W$289 -> 5.4e-10 | N58: =P58*$W$289 -> 7.29e-11 | O58: 4e-10 | P58: 5.4e-11
A59: 58 | B59: ATIEL-ATC Group F [i] | C59: (Industrial) Use of lubricants in high energy open processes, e.g. in high speed machinery such as metal rolling / forming or metalworking fluids for machining and grinding | D59: EU TGD/EUSES | E59: Processing / End use | F59: 208.86 | G59: 1 | H59: ERC4 Industrial use of processing aids in processes and products, not becoming part of articles | I59: x | J59: User-Defined | K59: ATC/ATIEL F(i) | L59: (Default: 696.2) | M59: =O59*$W$289 -> 5.4e-10 | N59: =P59*$W$289 -> 7.29e-11 | O59: 4e-10 | P59: 5.4e-11
A60: 59 | B60: CEPE | C60: Industrial application of coatings or inks | D60: EU TGD/EUSES | E60: Processing / End use | F60: 62.06 | G60: 1 | H60: ERC4 Industrial use of processing aids in processes and products, not becoming part of articles | I60: x | J60: CEPE | K60: CEPE SPERC 4.1a.v1 application industrial spraying indoor use incineration – volatiles | L60: (Default: 275.82) | M60: =O60*$W$289 -> 0.216 | N60: =P60*$W$289 -> 0.027 | O60: 0.16 | P60: 0.02
A61: 60 | B61: EPDLA-RMH1.2 | C61: EPDLA Manufacture of aqueous polymer dispersions and dispersion powders Use of Processing Aids | D61: EU TGD/EUSES | E61: Processing / End use | F61: 5171.48 | G61: 1 | H61: ERC4 Industrial use of processing aids in processes and products, not becoming part of articles | I61: x | J61: User-Defined | K61: EPDLA ERC4 | L61: (Default: 15,210.24) | M61: =O61*$W$289 -> 0.001188 | N61: =P61*$W$289 -> 0.000162 | O61: 0.00088 | P61: 0.00012
A62: 61 | B62: ESVOC | C62: Use of the substance in extraction processes at mining operations, including material transfers, winning and separation activities, and substance recovery and disposal. | D62: EU TGD/EUSES | E62: Processing / End use | F62: 7.76 | G62: 1 | H62: ERC4 Industrial use of processing aids in processes and products, not becoming part of articles | I62: x | J62: ESVOC | K62: ESVOC SpERC 4.23.v1 Mining Chemicals: Industrial (SU10) | L62: (Default: 388) | M62: =O62*$W$289 -> 7.54515 | N62: =P62*$W$289 -> 1.0125 | O62: 5.589 | P62: 0.75
A63: 62 | B63: ESVOC | C63: Use of substances within Laboratory settings, within enclosed or contained systems, including incidental exposures during material transfers and equipment cleaning | D63: EU TGD/EUSES | E63: Processing / End use | F63: 7.76 | G63: 1 | H63: ERC4 Industrial use of processing aids in processes and products, not becoming part of articles | I63: x | J63: ESVOC | K63: ESVOC SPERC 4.24.v1 Laboratory reagents: Industrial (SU3) | L63: (Default: 100) | M63: =O63*$W$289 -> 0.081 | N63: =P63*$W$289 -> 0.01053 | O63: 0.06 | P63: 0.0078
A64: 63 | B64: ESVOC | C64: Use in coatings (paints, inks, adhesives, etc) | D64: EU TGD/EUSES | E64: Processing / End use | F64: 7.76 | G64: 1 | H64: ERC4 Industrial use of processing aids in processes and products, not becoming part of articles | I64: x | J64: ESVOC | K64: ESVOC SpERC 4.3a.v1 Uses in Coatings: Industrial (SU3) | L64: (Default: 25.87) | M64: =O64*$W$289 -> 0.0135 | N64: =P64*$W$289 -> 0.0027 | O64: 0.01 | P64: 0.002
A65: 64 | B65: ESVOC | C65: Use as a component of cleaning products for industrial use including transfer from storage; pouring/unloading from drums or containers; exposures during cleaning activities (automated and by hand); and related maintenance | D65: EU TGD/EUSES | E65: Processing / End use | F65: 7.76 | G65: 1 | H65: ERC4 Industrial use of processing aids in processes and products, not becoming part of articles | I65: x | J65: ESVOC | K65: ESVOC SpERC 4.4a.v1 Use in Cleaning Agents: Industrial (SU3) | L65: (Default: 388) | M65: =O65*$W$289 -> 0.001485 | N65: =P65*$W$289 -> 0.0002025 | O65: 0.0011 | P65: 0.00015
... A141: 140 | B141: Fertilizers Europe_IS_001_v1 | C141: Use of a substance as an intermediate. | D141: EU TGD/EUSES | E141: Processing / End use | F141: 2068.59 | G141: 1 | H141: ERC6a Industrial use resulting in manufacture of another substance (use of intermediates) | I141: x | J141: User-Defined | K141: Processing Industrial (use as Intermediate) | L141: (Default: 5,910.26) | M141: =O141*$W$289 -> 0.054 | N141: =P141*$W$289 -> 0.00648 | O141: 0.04 | P141: 0.0048
A142: 141 | B142: PPRM | C142: Industrial manufacture of resins (Polyester Powder Resin Manufacturers Sector Group (PPRM)) | D142: EU TGD/EUSES | E142: Processing / End use | F142: 68.95 | G142: 1 | H142: ERC6a Industrial use resulting in manufacture of another substance (use of intermediates) | I142: x | J142: Eurometaux | L142: (Default: 3,447.5) | M142: =O142*$W$289 -> 2.68245 | N142: =P142*$W$289 -> 0.3645 | O142: 1.987 | P142: 0.27
A143: 142 | B143: Fertilizers Europe_IS_002_v1 | C143: Use of a reactive processing aid during formulation of fertilizers or during manufacturing new fertilizer substances. | D143: EU TGD/EUSES | E143: Processing / End use | F143: 2068.59 | G143: 1 | H143: ERC6b Industrial use of reactive processing aids | I143: x | J143: User-Defined | K143: Fertilizers Europe SPERC 6b.v1 | L143: (Default: 11.33) | M143: =O143*$W$289 -> 0.004455 | N143: =P143*$W$289 -> 0.000594 | O143: 0.0033 | P143: 0.00044
A144: 143 | B144: TEGEWA-L4.1 | C144: TEGEWA-L4.1 handling (Reactive Processing Aids) | D144: EU TGD/EUSES | E144: Processing / End use | F144: 5.05 | G144: 1 | H144: ERC6b Industrial use of reactive processing aids | I144: x | J144: TEGEWA | K144: TEGEWA SPERC 6b.1.v1 TEGEWA Use of reactive processing aid in textile processing | L144: (Default: 22.95) | M144: =O144*$W$289 -> 0.0135 | N144: =P144*$W$289 -> 0.00243 | O144: 0.01 | P144: 0.0018
A145: 144 | B145: TEGEWA-L4.1 | C145: TEGEWA-L4.1 handling (Reactive Processing Aids) | D145: EU TGD/EUSES | E145: Processing / End use | F145: 5.05 | G145: 1 | H145: ERC6b Industrial use of reactive processing aids | I145: x | J145: TEGEWA | K145: TEGEWA SPERC 6b.1.v1 TEGEWA Use of reactive processing aid in textile processing | L145: (Default: 22.95) | M145: =O145*$W$289 -> 0.0135 | N145: =P145*$W$289 -> 0.00243 | O145: 0.01 | P145: 0.0018
A146: 145 | B146: TEGEWA-L7.1 | C146: TEGEWA-L7.1 use in wet end (Reactive) | D146: EU TGD/EUSES | E146: Processing / End use | F146: 5.05 | G146: 1 | H146: ERC6b Industrial use of reactive processing aids | I146: x | J146: TEGEWA | K146: TEGEWA SPERC 6b.1.v1 TEGEWA Use of reactive processing aid in textile processing | L146: (Default: 22.95) | M146: =O146*$W$289 -> 0.0135 | N146: =P146*$W$289 -> 0.00243 | O146: 0.01 | P146: 0.0018
A147: 146 | B147: TEGEWA-T12.1 | C147: TEGEWA-T12.1 Textile Coating (Reactive Processing Aids) | D147: EU TGD/EUSES | E147: Processing / End use | F147: 5.05 | G147: 1 | H147: ERC6b Industrial use of reactive processing aids | I147: x | J147: TEGEWA | K147: TEGEWA SPERC 6b.1.v1 TEGEWA Use of reactive processing aid in textile processing | L147: (Default: 22.95) | M147: =O147*$W$289 -> 0.0135 | N147: =P147*$W$289 -> 0.00243 | O147: 0.01 | P147: 0.0018
...

Sheet C14
A1: # | B1: Scenario code | C1: Scenario name | D1: Calculation Model | E1: Lifecycle stage | F1: Tonnage | G1: Fraction of tonnage to region | H1: ERC | I1: STP | J1: spERC Industry sector | K1: spERC | L1: Daily amount used at site [kg/day] | M1: Clocaleff (default degradation rates) | N1: Clocaleff (mg/L) (AS specific degradation rates) | O1: RCR STP (default degradation rates | P1: RCR STP (AS degradation rates
A2: 1 | B2: Manufacturing | C2: Manufacturing | D2: EU TGD/EUSES | E2: Manufacturing | F2: 44482 | G2: 1 | H2: ERC1 Manufacture of substances | I2: x | J2: User-Defined | K2: AS-Manufacturing ERASM | L2: (Default: 79,318.18) | M2: =O2*$W$290 -> 3.623 | N2: =P2*$W$290 -> 0.49 | O2: 3.623 | P2: 0.49
A3: 2 | B3: AISE_F_001_v1High Low Viscosity (medium scale) | C3: Formulation into mixture; Washing, cleaning, maintenance and disinfecting products | D3: EU TGD/EUSES | E3: Formulation | F3: 1434.9 | G3: 1 | H3: ERC2 Formulation of preparations | I3: x | J3: AISE | K3: AISE SPERC 2.1.k.v2 AISE Formulation of liquid Detergents/Maintenance Products: High Low Viscosity (medium scale) | L3: (Default: 4,500) | M3: =O3*$W$290 -> 0.32 | N3: =P3*$W$290 -> 0.04 | O3: 0.32 | P3: 0.04
A4: 3 | B4: AISE_F_001_v1High Viscosity (large scale) | C4: Formulation into mixture; Washing, cleaning, maintenance and disinfecting products | D4: EU TGD/EUSES | E4: Formulation | F4: 2869.8 | G4: 1 | H4: ERC2 Formulation of preparations | I4: x | J4: AISE | K4: AISE SPERC 2.1.j.v2 AISE Formulation of liquid Detergents/Maintenance Products: High Viscosity (large scale) | L4: (Default: 11,479.2) | M4: =O4*$W$290 -> 0.41 | N4: =P4*$W$290 -> 0.06 | O4: 0.41 | P4: 0.06
A5: 4 | B5: AISE_F_001_v1High Viscosity (small scale) | C5: Formulation into mixture; Washing, cleaning, maintenance and disinfecting products | D5: EU TGD/EUSES | E5: Formulation | F5: 478.3 | G5: 1 | H5: ERC2 Formulation of preparations | I5: x | J5: AISE | K5: AISE SPERC 2.1.l.v2 AISE Formulation of liquid Detergents/Maintenance Products: High Viscosity (small scale) | L5: (Default: 450) | M5: =O5*$W$290 -> 0.06 | N5: =P5*$W$290 -> 0.0087 | O5: 0.06 | P5: 0.0087
A6: 5 | B6: AISE_F_001_v1Low Viscosity (large scale) | C6: Formulation into mixture; Washing, cleaning, maintenance and disinfecting products | D6: EU TGD/EUSES | E6: Formulation | F6: 2869.8 | G6: 1 | H6: ERC2 Formulation of preparations | I6: x | J6: AISE | K6: AISE SPERC 2.1.g.v2 AISE Formulation of liquid Detergents/Maintenance Products: Low Viscosity (large scale) | L6: (Default: 11,479.2) | M6: =O6*$W$290 -> 0.04 | N6: =P6*$W$290 -> 0.0056 | O6: 0.04 | P6: 0.0056
A7: 6 | B7: AISE_F_001_v1Low Viscosity (medium scale) | C7: Formulation into mixture; Washing, cleaning, maintenance and disinfecting products | D7: EU TGD/EUSES | E7: Formulation | F7: 1434.9 | G7: 1 | H7: ERC2 Formulation of preparations | I7: x | J7: AISE | K7: AISE SPERC 2.1.h.v2 AISE Formulation of liquid Detergents/Maintenance Products: Low Viscosity (medium scale) | L7: (Default: 4,500) | M7: =O7*$W$290 -> 0.16 | N7: =P7*$W$290 -> 0.02 | O7: 0.16 | P7: 0.02
A8: 7 | B8: AISE_F_001_v1Low Viscosity (small scale) | C8: Formulation into mixture; Washing, cleaning, maintenance and disinfecting products | D8: EU TGD/EUSES | E8: Formulation | F8: 478.3 | G8: 1 | H8: ERC2 Formulation of preparations | I8: x | J8: AISE | K8: AISE SPERC 2.1.i.v2 AISE Formulation of liquid Detergents/Maintenance Products: Low Viscosity (small scale) | L8: (Default: 450) | M8: =O8*$W$290 -> 0.03 | N8: =P8*$W$290 -> 0.0044 | O8: 0.03 | P8: 0.0044
A9: 8 | B9: AISE_F_001_v1Regular & Compact (large scale) | C9: Formulation into mixture; Washing, cleaning, maintenance and disinfecting products | D9: EU TGD/EUSES | E9: Formulation | F9: 2869.8 | G9: 1 | H9: ERC2 Formulation of preparations | I9: x | J9: AISE | K9: AISE SPERC 2.1.a.v2 AISE Formulation of Granular Detergents/Maintenance Products -Regular & Compact (large scale) | L9: (Default: 11,479.2) | M9: =O9*$W$290 -> 0.04 | N9: =P9*$W$290 -> 0.0056 | O9: 0.04 | P9: 0.0056
A10: 9 | B10: AISE_F_001_v1Regular & Compact (medium scale) | C10: Formulation into mixture; Washing, cleaning, maintenance and disinfecting products | D10: EU TGD/EUSES | E10: Formulation | F10: 1434.9 | G10: 1 | H10: ERC2 Formulation of preparations | I10: x | J10: AISE | K10: AISE SPERC 2.1.b.v2 AISE Formulation of Grnaular Detergents/Maintenance Products-Regular & Compact (medium scale) | L10: (Default: 4,500) | M10: =O10*$W$290 -> 0.16 | N10: =P10*$W$290 -> 0.02 | O10: 0.16 | P10: 0.02
A11: 10 | B11: AISE_F_001_v1Regular & Compact (small scale) | C11: Formulation into mixture; Washing, cleaning, maintenance and disinfecting products | D11: EU TGD/EUSES | E11: Formulation | F11: 478.3 | G11: 1 | H11: ERC2 Formulation of preparations | I11: x | J11: AISE | K11: AISE SPERC 2.1.c.v2 AISE Formulation of Granular Detergents/Maintenance Products-Regular & Compact (small scale) | L11: (Default: 450) | M11: =O11*$W$290 -> 0.03 | N11: =P11*$W$290 -> 0.0044 | O11: 0.03 | P11: 0.0044
A12: 11 | B12: ATIEL-ATC Group A [i] | C12: Industrial formulation of lubricant additives, lubricants and greases. Includes material transfers, mixing, large and small packing, sampling, maintenance and associated laboratory activities | D12: EU TGD/EUSES | E12: Formulation | F12: 358.5 | G12: 1 | H12: ERC2 Formulation of preparations | I12: x | J12: User-Defined | K12: ATC-ATIEL A(i) | L12: (Default: 1,195) | M12: =O12*$W$290 -> 8.6e-10 | N12: =P12*$W$290 -> 1.2e-10 | O12: 8.6e-10 | P12: 1.2e-10
A13: 12 | B13: ATIEL-ATC Group E [i] | C13: (Industrial) Handling and dilution of metalworking fluid concentrates | D13: EU TGD/EUSES | E13: Formulation | F13: 358.5 | G13: 1 | H13: ERC2 Formulation of preparations | I13: x | J13: User-Defined | K13: ATC/ATIEL E(i) | L13: (Default: 1,195) | M13: =O13*$W$290 -> 8.6e-10 | N13: =P13*$W$290 -> 1.2e-10 | O13: 8.6e-10 | P13: 1.2e-10
... A46: 45 | B46: sector_F_001_v1 solid cosmetic and home care products (small scale) | C46: Manufacture of cosmetic products | D46: EU TGD/EUSES | E46: Formulation | F46: 143.48 | G46: 1 | H46: ERC2 Formulation of preparations | I46: x | J46: User-Defined | K46: Cosmetics Europe/Aise 2.3c.v2 (small scale) | L46: (Default: 573.92) | M46: =O46*$W$290 -> 0.04 | N46: =P46*$W$290 -> 0.0056 | O46: 0.04 | P46: 0.0056
A47: 46 | B47: TEGEWA-F1.1 | C47: TEGEWA-F1.1 Formulation of preparations | D47: EU TGD/EUSES | E47: Formulation | F47: 14.4 | G47: 1 | H47: ERC2 Formulation of preparations | I47: x | J47: TEGEWA | L47: (Default: 1,440) | M47: =O47*$W$290 -> 1.032 | N47: =P47*$W$290 -> 0.14 | O47: 1.032 | P47: 0.14
A48: 47 | B48: TEGEWA-F2.1 | C48: TEGEWA-F2.1 Blending | D48: EU TGD/EUSES | E48: Formulation | F48: 14.4 | G48: 1 | H48: ERC2 Formulation of preparations | I48: x | J48: TEGEWA | L48: (Default: 1,440) | M48: =O48*$W$290 -> 1.032 | N48: =P48*$W$290 -> 0.14 | O48: 1.032 | P48: 0.14
A49: 48 | B49: TEGEWA-L1.1 | C49: TEGEWA-L1.1 Blending | D49: EU TGD/EUSES | E49: Formulation | F49: 14.4 | G49: 1 | H49: ERC2 Formulation of preparations | I49: x | J49: TEGEWA | L49: (Default: 1,440) | M49: =O49*$W$290 -> 1.032 | N49: =P49*$W$290 -> 0.14 | O49: 1.032 | P49: 0.14
A50: 49 | B50: TEGEWA-T1. | C50: TEGEWA-T1. Blending | D50: EU TGD/EUSES | E50: Formulation | F50: 14.4 | G50: 1 | H50: ERC2 Formulation of preparations | I50: x | J50: TEGEWA | L50: (Default: 1,440) | M50: =O50*$W$290 -> 1.032 | N50: =P50*$W$290 -> 0.14 | O50: 1.032 | P50: 0.14
A51: 50 | B51: Fertilizers Europe_F_002_v1 | C51: Formulation by incorporating fertilizers onto or into a matrix. | D51: EU TGD/EUSES | E51: Formulation | F51: 1793.5 | G51: 1 | H51: ERC3 Formulation in materials | I51: x | J51: User-Defined | L51: (Default: 17,935) | M51: =O51*$W$290 -> 1.285 | N51: =P51*$W$290 -> 0.17 | O51: 1.285 | P51: 0.17
A52: 51 | B52: GRG | C52: General Rubber Goods | D52: EU TGD/EUSES | E52: Formulation | F52: 36 | G52: 1 | H52: ERC3 Formulation in materials | I52: x | J52: ETRMA | K52: ETRMA SPERC 3/6d.2a v.2 Manufacture of Rubber Products: Industrial (SU3, SU11) GRG use of vulcanization agents, anti-ageing agents / antidegradants | L52: (Default: 100) | M52: =O52*$W$290 -> 0.00029 | N52: =P52*$W$290 -> 3.9e-05 | O52: 0.00029 | P52: 3.9e-05
A53: 52 | B53: TEGEWA-T2.1 | C53: TEGEWA-T2.1 blending (Bound in Product) | D53: EU TGD/EUSES | E53: Formulation | F53: 14.4 | G53: 1 | H53: ERC3 Formulation in materials | I53: x | J53: TEGEWA | L53: (Default: 1,440) | M53: =O53*$W$290 -> 0.1 | N53: =P53*$W$290 -> 0.01 | O53: 0.1 | P53: 0.01
A54: 53 | B54: Tyres | C54: Tyres | D54: EU TGD/EUSES | E54: Formulation | F54: 36 | G54: 1 | H54: ERC3 Formulation in materials | I54: x | J54: ETRMA | K54: ETRMA SPERC 3/6d.2a v.2 Manufacture of Rubber Products: Industrial (SU3, SU11) GRG use of vulcanization agents, anti-ageing agents / antidegradants | L54: (Default: 100) | M54: =O54*$W$290 -> 0.00029 | N54: =P54*$W$290 -> 3.9e-05 | O54: 0.00029 | P54: 3.9e-05
A55: 54 | B55: AISE_IS_001_v1 | C55: Industrial uses; Washing, cleaning and disinfecting products | D55: EU TGD/EUSES | E55: Processing / End use | F55: 1594.33 | G55: 1 | H55: ERC4 Industrial use of processing aids in processes and products, not becoming part of articles | I55: x | J55: AISE | K55: AISE SPERC 4.1.v2 AISE Industrial Use of Water Borne Processing Aids no RMM | L55: (Default: 50) | M55: =O55*$W$290 -> 1.792 | N55: =P55*$W$290 -> 0.24 | O55: 1.792 | P55: 0.24
A56: 55 | B56: ATIEL-ATC Group B [i] | C56: General industrial use of lubricants and greases in vehicles or machinery. Includes filling and draining of containers and enclosed machinery (including engines) | D56: EU TGD/EUSES | E56: Processing / End use | F56: 71.74 | G56: 1 | H56: ERC4 Industrial use of processing aids in processes and products, not becoming part of articles | I56: x | J56: User-Defined | K56: ATC/ATIEL B(i) | L56: (Default: 239.13) | M56: =O56*$W$290 -> 1.7e-10 | N56: =P56*$W$290 -> 2.3e-11 | O56: 1.7e-10 | P56: 2.3e-11
A57: 56 | B57: ATIEL-ATC Group C [i] | C57: (Industrial) Use in open system. Application of lubricant to work pieces or equipment by dipping, brushing or spraying (without exposure to heat), e.g. mould releases, corrosion protection, slideways | D57: EU TGD/EUSES | E57: Processing / End use | F57: 71.74 | G57: 1 | H57: ERC4 Industrial use of processing aids in processes and products, not becoming part of articles | I57: x | J57: User-Defined | K57: ATC/ATIEL C(i) | L57: (Default: 239.13) | M57: =O57*$W$290 -> 1.7e-10 | N57: =P57*$W$290 -> 2.3e-11 | O57: 1.7e-10 | P57: 2.3e-11
A58: 57 | B58: ATIEL-ATC Group D [i] | C58: (Industrial) Use of lubricants in open high temperature processes, e.g. quenching fluids, glass release agents | D58: EU TGD/EUSES | E58: Processing / End use | F58: 71.74 | G58: 1 | H58: ERC4 Industrial use of processing aids in processes and products, not becoming part of articles | I58: x | J58: User-Defined | K58: ATC/ATIEL D(i) | L58: (Default: 239.13) | M58: =O58*$W$290 -> 1.7e-10 | N58: =P58*$W$290 -> 2.3e-11 | O58: 1.7e-10 | P58: 2.3e-11
A59: 58 | B59: ATIEL-ATC Group F [i] | C59: (Industrial) Use of lubricants in high energy open processes, e.g. in high speed machinery such as metal rolling / forming or metalworking fluids for machining and grinding | D59: EU TGD/EUSES | E59: Processing / End use | F59: 71.74 | G59: 1 | H59: ERC4 Industrial use of processing aids in processes and products, not becoming part of articles | I59: x | J59: User-Defined | K59: ATC/ATIEL F(i) | L59: (Default: 239.13) | M59: =O59*$W$290 -> 1.7e-10 | N59: =P59*$W$290 -> 2.3e-11 | O59: 1.7e-10 | P59: 2.3e-11
A60: 59 | B60: CEPE | C60: Industrial application of coatings or inks | D60: EU TGD/EUSES | E60: Processing / End use | F60: 21.52 | G60: 1 | H60: ERC4 Industrial use of processing aids in processes and products, not becoming part of articles | I60: x | J60: CEPE | K60: CEPE SPERC 4.1a.v1 application industrial spraying indoor use incineration – volatiles | L60: (Default: 95.64) | M60: =O60*$W$290 -> 0.07 | N60: =P60*$W$290 -> 0.0093 | O60: 0.07 | P60: 0.0093
A61: 60 | B61: EPDLA-RMH1.2 | C61: EPDLA Manufacture of aqueous polymer dispersions and dispersion powders Use of Processing Aids | D61: EU TGD/EUSES | E61: Processing / End use | F61: 1793.62 | G61: 1 | H61: ERC4 Industrial use of processing aids in processes and products, not becoming part of articles | I61: x | J61: User-Defined | K61: EPDLA ERC4 | L61: (Default: 5,275.35) | M61: =O61*$W$290 -> 0.00038 | N61: =P61*$W$290 -> 5.1e-05 | O61: 0.00038 | P61: 5.1e-05
A62: 61 | B62: ESVOC | C62: Use of the substance in extraction processes at mining operations, including material transfers, winning and separation activities, and substance recovery and disposal. | D62: EU TGD/EUSES | E62: Processing / End use | F62: 2.69 | G62: 1 | H62: ERC4 Industrial use of processing aids in processes and products, not becoming part of articles | I62: x | J62: ESVOC | K62: ESVOC SpERC 4.23.v1 Mining Chemicals: Industrial (SU10) | L62: (Default: 134.5) | M62: =O62*$W$290 -> 2.41 | N62: =P62*$W$290 -> 0.33 | O62: 2.41 | P62: 0.33
A63: 62 | B63: ESVOC | C63: Use of substances within Laboratory settings, within enclosed or contained systems, including incidental exposures during material transfers and equipment cleaning | D63: EU TGD/EUSES | E63: Processing / End use | F63: 2.69 | G63: 1 | H63: ERC4 Industrial use of processing aids in processes and products, not becoming part of articles | I63: x | J63: ESVOC | K63: ESVOC SPERC 4.24.v1 Laboratory reagents: Industrial (SU3) | L63: (Default: 100) | M63: =O63*$W$290 -> 0.07 | N63: =P63*$W$290 -> 0.0097 | O63: 0.07 | P63: 0.0097
A64: 63 | B64: ESVOC | C64: Use in coatings (paints, inks, adhesives, etc) | D64: EU TGD/EUSES | E64: Processing / End use | F64: 2.69 | G64: 1 | H64: ERC4 Industrial use of processing aids in processes and products, not becoming part of articles | I64: x | J64: ESVOC | K64: ESVOC SpERC 4.3a.v1 Uses in Coatings: Industrial (SU3) | L64: (Default: 8.97) | M64: =O64*$W$290 -> 0.0064 | N64: =P64*$W$290 -> 0.00087 | O64: 0.0064 | P64: 0.00087
A65: 64 | B65: ESVOC | C65: Use as a component of cleaning products for industrial use including transfer from storage; pouring/unloading from drums or containers; exposures during cleaning activities (automated and by hand); and related maintenance | D65: EU TGD/EUSES | E65: Processing / End use | F65: 2.69 | G65: 1 | H65: ERC4 Industrial use of processing aids in processes and products, not becoming part of articles | I65: x | J65: ESVOC | K65: ESVOC SpERC 4.4a.v1 Use in Cleaning Agents: Industrial (SU3) | L65: (Default: 134.5) | M65: =O65*$W$290 -> 0.00048 | N65: =P65*$W$290 -> 6.5e-05 | O65: 0.00048 | P65: 6.5e-05
... A141: 140 | B141: Fertilizers Europe_IS_001_v1 | C141: Use of a substance as an intermediate. | D141: EU TGD/EUSES | E141: Processing / End use | F141: 717.45 | G141: 1 | H141: ERC6a Industrial use resulting in manufacture of another substance (use of intermediates) | I141: x | J141: User-Defined | K141: Processing Industrial (use as Intermediate) | L141: (Default: 2,049.86) | M141: =O141*$W$290 -> 0.02 | N141: =P141*$W$290 -> 0.0021 | O141: 0.02 | P141: 0.0021
A142: 141 | B142: PPRM | C142: Industrial manufacture of resins (Polyester Powder Resin Manufacturers Sector Group (PPRM)) | D142: EU TGD/EUSES | E142: Processing / End use | F142: 23.91 | G142: 1 | H142: ERC6a Industrial use resulting in manufacture of another substance (use of intermediates) | I142: x | J142: Eurometaux | L142: (Default: 1,195.5) | M142: =O142*$W$290 -> 0.86 | N142: =P142*$W$290 -> 0.12 | O142: 0.86 | P142: 0.12
A143: 142 | B143: Fertilizers Europe_IS_002_v1 | C143: Use of a reactive processing aid during formulation of fertilizers or during manufacturing new fertilizer substances. | D143: EU TGD/EUSES | E143: Processing / End use | F143: 717.45 | G143: 1 | H143: ERC6b Industrial use of reactive processing aids | I143: x | J143: User-Defined | K143: Fertilizers Europe SPERC 6b.v1 | L143: (Default: 3.93) | M143: =O143*$W$290 -> 0.0014 | N143: =P143*$W$290 -> 0.00019 | O143: 0.0014 | P143: 0.00019
A144: 143 | B144: TEGEWA-L4.1 | C144: TEGEWA-L4.1 handling (Reactive Processing Aids) | D144: EU TGD/EUSES | E144: Processing / End use | F144: 1.75 | G144: 1 | H144: ERC6b Industrial use of reactive processing aids | I144: x | J144: TEGEWA | K144: TEGEWA SPERC 6b.1.v1 TEGEWA Use of reactive processing aid in textile processing | L144: (Default: 7.95) | M144: =O144*$W$290 -> 0.0057 | N144: =P144*$W$290 -> 0.00077 | O144: 0.0057 | P144: 0.00077
A145: 144 | B145: TEGEWA-L4.1 | C145: TEGEWA-L4.1 handling (Reactive Processing Aids) | D145: EU TGD/EUSES | E145: Processing / End use | F145: 1.75 | G145: 1 | H145: ERC6b Industrial use of reactive processing aids | I145: x | J145: TEGEWA | K145: TEGEWA SPERC 6b.1.v1 TEGEWA Use of reactive processing aid in textile processing | L145: (Default: 7.95) | M145: =O145*$W$290 -> 0.0057 | N145: =P145*$W$290 -> 0.00077 | O145: 0.0057 | P145: 0.00077
A146: 145 | B146: TEGEWA-L7.1 | C146: TEGEWA-L7.1 use in wet end (Reactive) | D146: EU TGD/EUSES | E146: Processing / End use | F146: 1.75 | G146: 1 | H146: ERC6b Industrial use of reactive processing aids | I146: x | J146: TEGEWA | K146: TEGEWA SPERC 6b.1.v1 TEGEWA Use of reactive processing aid in textile processing | L146: (Default: 7.95) | M146: =O146*$W$290 -> 0.0057 | N146: =P146*$W$290 -> 0.00077 | O146: 0.0057 | P146: 0.00077
A147: 146 | B147: TEGEWA-T12.1 | C147: TEGEWA-T12.1 Textile Coating (Reactive Processing Aids) | D147: EU TGD/EUSES | E147: Processing / End use | F147: 1.75 | G147: 1 | H147: ERC6b Industrial use of reactive processing aids | I147: x | J147: TEGEWA | K147: TEGEWA SPERC 6b.1.v1 TEGEWA Use of reactive processing aid in textile processing | L147: (Default: 7.95) | M147: =O147*$W$290 -> 0.0057 | N147: =P147*$W$290 -> 0.00077 | O147: 0.0057 | P147: 0.00077
...

Sheet C16
A1: # | B1: Scenario code | C1: Scenario name | D1: Calculation Model | E1: Lifecycle stage | F1: Tonnage | G1: Fraction of tonnage to region | H1: ERC | I1: STP | J1: spERC Industry sector | K1: spERC | L1: Daily amount used at site [kg/day] | M1: Clocaleff (default degradation rates) | N1: Clocaleff (mg/L) (AS specific degradation rates) | O1: RCR STP (default degradation rates | P1: RCR STP (AS degradation rates
A2: 1 | B2: Manufacturing | C2: Manufacturing | D2: EU TGD/EUSES | E2: Manufacturing | F2: 5696 | G2: 1 | H2: ERC1 Manufacture of substances | I2: x | J2: User-Defined | K2: AS-Manufacturing ERASM | L2: (Default: 25,890.91) | M2: =O2*$W$289 -> 0.402 | N2: =P2*$W$289 -> 0.054 | O2: 0.67 | P2: 0.09 | Q2: 0.14 | R2: 1.859 | S2: 3.074 | T2: 0.14 | U2: 1.851
A3: 2 | B3: AISE_F_001_v1High Low Viscosity (medium scale) | C3: Formulation into mixture; Washing, cleaning, maintenance and disinfecting products | D3: EU TGD/EUSES | E3: Formulation | F3: 183.7 | G3: 1 | H3: ERC2 Formulation of preparations | I3: x | J3: AISE | K3: AISE SPERC 2.1.k.v2 AISE Formulation of liquid Detergents/Maintenance Products: High Low Viscosity (medium scale) | L3: (Default: 734.8) | M3: =O3*$W$289 -> 0.048 | N3: =P3*$W$289 -> 0.006 | O3: 0.08 | P3: 0.01 | Q3: 0.02 | R3: 0.25 | S3: 0.35 | T3: 0.02 | U3: 0.24
A4: 3 | B4: AISE_F_001_v1High Viscosity (large scale) | C4: Formulation into mixture; Washing, cleaning, maintenance and disinfecting products | D4: EU TGD/EUSES | E4: Formulation | F4: 367.4 | G4: 1 | H4: ERC2 Formulation of preparations | I4: x | J4: AISE | K4: AISE SPERC 2.1.j.v2 AISE Formulation of liquid Detergents/Maintenance Products: High Viscosity (large scale) | L4: (Default: 1,469.6) | M4: =O4*$W$289 -> 0.048 | N4: =P4*$W$289 -> 0.006 | O4: 0.08 | P4: 0.01 | Q4: 0.02 | R4: 0.25 | S4: 0.35 | T4: 0.02 | U4: 0.24
A5: 4 | B5: AISE_F_001_v1High Viscosity (small scale) | C5: Formulation into mixture; Washing, cleaning, maintenance and disinfecting products | D5: EU TGD/EUSES | E5: Formulation | F5: 61.2 | G5: 1 | H5: ERC2 Formulation of preparations | I5: x | J5: AISE | K5: AISE SPERC 2.1.l.v2 AISE Formulation of liquid Detergents/Maintenance Products: High Viscosity (small scale) | L5: (Default: 244.8) | M5: =O5*$W$289 -> 0.03 | N5: =P5*$W$289 -> 0.0042 | O5: 0.05 | P5: 0.007 | Q5: 0.01 | R5: 0.18 | S5: 0.23 | T5: 0.01 | U5: 0.17
A6: 5 | B6: AISE_F_001_v1Low Viscosity (large scale) | C6: Formulation into mixture; Washing, cleaning, maintenance and disinfecting products | D6: EU TGD/EUSES | E6: Formulation | F6: 367.4 | G6: 1 | H6: ERC2 Formulation of preparations | I6: x | J6: AISE | K6: AISE SPERC 2.1.g.v2 AISE Formulation of liquid Detergents/Maintenance Products: Low Viscosity (large scale) | L6: (Default: 1,469.6) | M6: =O6*$W$289 -> 0.00456 | N6: =P6*$W$289 -> 0.0006 | O6: 0.0076 | P6: 0.001 | Q6: 0.0046 | R6: 0.06 | S6: 0.04 | T6: 0.0041 | U6: 0.06
A7: 6 | B7: AISE_F_001_v1Low Viscosity (medium scale) | C7: Formulation into mixture; Washing, cleaning, maintenance and disinfecting products | D7: EU TGD/EUSES | E7: Formulation | F7: 183.7 | G7: 1 | H7: ERC2 Formulation of preparations | I7: x | J7: AISE | K7: AISE SPERC 2.1.h.v2 AISE Formulation of liquid Detergents/Maintenance Products: Low Viscosity (medium scale) | L7: (Default: 734.8) | M7: =O7*$W$289 -> 0.024 | N7: =P7*$W$289 -> 0.00312 | O7: 0.04 | P7: 0.0052 | Q7: 0.01 | R7: 0.15 | S7: 0.17 | T7: 0.01 | U7: 0.14
A8: 7 | B8: AISE_F_001_v1Low Viscosity (small scale) | C8: Formulation into mixture; Washing, cleaning, maintenance and disinfecting products | D8: EU TGD/EUSES | E8: Formulation | F8: 61.2 | G8: 1 | H8: ERC2 Formulation of preparations | I8: x | J8: AISE | K8: AISE SPERC 2.1.i.v2 AISE Formulation of liquid Detergents/Maintenance Products: Low Viscosity (small scale) | L8: (Default: 244.8) | M8: =O8*$W$289 -> 0.018 | N8: =P8*$W$289 -> 0.0021 | O8: 0.03 | P8: 0.0035 | Q8: 0.0082 | R8: 0.11 | S8: 0.12 | T8: 0.0076 | U8: 0.1
A9: 8 | B9: AISE_F_001_v1Regular & Compact (large scale) | C9: Formulation into mixture; Washing, cleaning, maintenance and disinfecting products | D9: EU TGD/EUSES | E9: Formulation | F9: 367.4 | G9: 1 | H9: ERC2 Formulation of preparations | I9: x | J9: AISE | K9: AISE SPERC 2.1.a.v2 AISE Formulation of Granular Detergents/Maintenance Products -Regular & Compact (large scale) | L9: (Default: 1,469.6) | M9: =O9*$W$289 -> 0.00456 | N9: =P9*$W$289 -> 0.0006 | O9: 0.0076 | P9: 0.001 | Q9: 0.0046 | R9: 0.06 | S9: 0.04 | T9: 0.0041 | U9: 0.06
A10: 9 | B10: AISE_F_001_v1Regular & Compact (medium scale) | C10: Formulation into mixture; Washing, cleaning, maintenance and disinfecting products | D10: EU TGD/EUSES | E10: Formulation | F10: 183.7 | G10: 1 | H10: ERC2 Formulation of preparations | I10: x | J10: AISE | K10: AISE SPERC 2.1.b.v2 AISE Formulation of Grnaular Detergents/Maintenance Products-Regular & Compact (medium scale) | L10: (Default: 734.8) | M10: =O10*$W$289 -> 0.024 | N10: =P10*$W$289 -> 0.00312 | O10: 0.04 | P10: 0.0052 | Q10: 0.01 | R10: 0.15 | S10: 0.17 | T10: 0.01 | U10: 0.14
A11: 10 | B11: AISE_F_001_v1Regular & Compact (small scale) | C11: Formulation into mixture; Washing, cleaning, maintenance and disinfecting products | D11: EU TGD/EUSES | E11: Formulation | F11: 61.2 | G11: 1 | H11: ERC2 Formulation of preparations | I11: x | J11: AISE | K11: AISE SPERC 2.1.c.v2 AISE Formulation of Granular Detergents/Maintenance Products-Regular & Compact (small scale) | L11: (Default: 244.8) | M11: =O11*$W$289 -> 0.018 | N11: =P11*$W$289 -> 0.0021 | O11: 0.03 | P11: 0.0035 | Q11: 0.0082 | R11: 0.11 | S11: 0.12 | T11: 0.0076 | U11: 0.1
A12: 11 | B12: ATIEL-ATC Group A [i] | C12: Industrial formulation of lubricant additives, lubricants and greases. Includes material transfers, mixing, large and small packing, sampling, maintenance and associated laboratory activities | D12: EU TGD/EUSES | E12: Formulation | F12: 46 | G12: 1 | H12: ERC2 Formulation of preparations | I12: x | J12: User-Defined | K12: ATC-ATIEL A(i) | L12: (Default: 153.33) | M12: =O12*$W$289 -> 9.6e-11 | N12: =P12*$W$289 -> 1.32e-11 | O12: 1.6e-10 | P12: 2.2e-11 | Q12: 0.0031 | R12: 0.04 | S12: 0.00016 | T12: 0.0025 | U12: 0.03
A13: 12 | B13: ATIEL-ATC Group E [i] | C13: (Industrial) Handling and dilution of metalworking fluid concentrates | D13: EU TGD/EUSES | E13: Formulation | F13: 46 | G13: 1 | H13: ERC2 Formulation of preparations | I13: x | J13: User-Defined | K13: ATC/ATIEL E(i) | L13: (Default: 153.33) | M13: =O13*$W$289 -> 9.6e-11 | N13: =P13*$W$289 -> 1.32e-11 | O13: 1.6e-10 | P13: 2.2e-11 | Q13: 0.0031 | R13: 0.04 | S13: 0.00016 | T13: 0.0025 | U13: 0.03
... A46: 45 | B46: sector_F_001_v1 solid cosmetic and home care products (small scale) | C46: Manufacture of cosmetic products | D46: EU TGD/EUSES | E46: Formulation | F46: 18.38 | G46: 1 | H46: ERC2 Formulation of preparations | I46: x | J46: User-Defined | K46: Cosmetics Europe/Aise 2.3c.v2 (small scale) | L46: (Default: 73.52) | M46: =O46*$W$289 -> 0.00456 | N46: =P46*$W$289 -> 0.0006 | O46: 0.0076 | P46: 0.001 | Q46: 0.0046 | R46: 0.06 | S46: 0.04 | T46: 0.0041 | U46: 0.06
A47: 46 | B47: TEGEWA-F1.1 | C47: TEGEWA-F1.1 Formulation of preparations | D47: EU TGD/EUSES | E47: Formulation | F47: 1.8 | G47: 1 | H47: ERC2 Formulation of preparations | I47: x | J47: TEGEWA | L47: (Default: 180) | M47: =O47*$W$289 -> 0.114 | N47: =P47*$W$289 -> 0.018 | O47: 0.19 | P47: 0.03 | Q47: 0.04 | R47: 0.55 | S47: 0.85 | T47: 0.04 | U47: 0.54
A48: 47 | B48: TEGEWA-F2.1 | C48: TEGEWA-F2.1 Blending | D48: EU TGD/EUSES | E48: Formulation | F48: 1.8 | G48: 1 | H48: ERC2 Formulation of preparations | I48: x | J48: TEGEWA | L48: (Default: 180) | M48: =O48*$W$289 -> 0.114 | N48: =P48*$W$289 -> 0.018 | O48: 0.19 | P48: 0.03 | Q48: 0.04 | R48: 0.55 | S48: 0.85 | T48: 0.04 | U48: 0.54
A49: 48 | B49: TEGEWA-L1.1 | C49: TEGEWA-L1.1 Blending | D49: EU TGD/EUSES | E49: Formulation | F49: 1.8 | G49: 1 | H49: ERC2 Formulation of preparations | I49: x | J49: TEGEWA | L49: (Default: 180) | M49: =O49*$W$289 -> 0.114 | N49: =P49*$W$289 -> 0.018 | O49: 0.19 | P49: 0.03 | Q49: 0.04 | R49: 0.55 | S49: 0.85 | T49: 0.04 | U49: 0.54
A50: 49 | B50: TEGEWA-T1. | C50: TEGEWA-T1. Blending | D50: EU TGD/EUSES | E50: Formulation | F50: 1.8 | G50: 1 | H50: ERC2 Formulation of preparations | I50: x | J50: TEGEWA | L50: (Default: 180) | M50: =O50*$W$289 -> 0.114 | N50: =P50*$W$289 -> 0.018 | O50: 0.19 | P50: 0.03 | Q50: 0.04 | R50: 0.55 | S50: 0.85 | T50: 0.04 | U50: 0.54
A51: 50 | B51: Fertilizers Europe_F_002_v1 | C51: Formulation by incorporating fertilizers onto or into a matrix. | D51: EU TGD/EUSES | E51: Formulation | F51: 229.5 | G51: 1 | H51: ERC3 Formulation in materials | I51: x | J51: User-Defined | L51: (Default: 2,295) | M51: =O51*$W$289 -> 0.144 | N51: =P51*$W$289 -> 0.018 | O51: 0.24 | P51: 0.03 | Q51: 0.05 | R51: 0.69 | S51: 1.094 | T51: 0.05 | U51: 0.68
A52: 51 | B52: GRG | C52: General Rubber Goods | D52: EU TGD/EUSES | E52: Formulation | F52: 4.5 | G52: 1 | H52: ERC3 Formulation in materials | I52: x | J52: ETRMA | K52: ETRMA SPERC 3/6d.2a v.2 Manufacture of Rubber Products: Industrial (SU3, SU11) GRG use of vulcanization agents, anti-ageing agents / antidegradants | L52: (Default: 20.45) | M52: =O52*$W$289 -> 5.1e-05 | N52: =P52*$W$289 -> 7.2e-06 | O52: 8.5e-05 | P52: 1.2e-05 | Q52: 0.0031 | R52: 0.04 | S52: 0.00055 | T52: 0.0026 | U52: 0.03
A53: 52 | B53: TEGEWA-T2.1 | C53: TEGEWA-T2.1 blending (Bound in Product) | D53: EU TGD/EUSES | E53: Formulation | F53: 1.8 | G53: 1 | H53: ERC3 Formulation in materials | I53: x | J53: TEGEWA | L53: (Default: 180) | M53: =O53*$W$289 -> 0.012 | N53: =P53*$W$289 -> 0.00156 | O53: 0.02 | P53: 0.0026 | Q53: 0.0068 | R53: 0.09 | S53: 0.09 | T53: 0.0063 | U53: 0.08
A54: 53 | B54: Tyres | C54: Tyres | D54: EU TGD/EUSES | E54: Formulation | F54: 4.5 | G54: 1 | H54: ERC3 Formulation in materials | I54: x | J54: ETRMA | K54: ETRMA SPERC 3/6d.2a v.2 Manufacture of Rubber Products: Industrial (SU3, SU11) GRG use of vulcanization agents, anti-ageing agents / antidegradants | L54: (Default: 20.45) | M54: =O54*$W$289 -> 5.1e-05 | N54: =P54*$W$289 -> 7.2e-06 | O54: 8.5e-05 | P54: 1.2e-05 | Q54: 0.0031 | R54: 0.04 | S54: 0.00055 | T54: 0.0026 | U54: 0.03
A55: 54 | B55: AISE_IS_001_v1 | C55: Industrial uses; Washing, cleaning and disinfecting products | D55: EU TGD/EUSES | E55: Processing / End use | F55: 204.16 | G55: 1 | H55: ERC4 Industrial use of processing aids in processes and products, not becoming part of articles | I55: x | J55: AISE | K55: AISE SPERC 4.1.v2 AISE Industrial Use of Water Borne Processing Aids no RMM | L55: (Default: 50) | M55: =O55*$W$289 -> 1.5522 | N55: =P55*$W$289 -> 0.216 | O55: 2.587 | P55: 0.36 | Q55: 0.52 | R55: 7.057 | S55: 11.869 | T55: 0.52 | U55: 7.049
A56: 55 | B56: ATIEL-ATC Group B [i] | C56: General industrial use of lubricants and greases in vehicles or machinery. Includes filling and draining of containers and enclosed machinery (including engines) | D56: EU TGD/EUSES | E56: Processing / End use | F56: 9.19 | G56: 1 | H56: ERC4 Industrial use of processing aids in processes and products, not becoming part of articles | I56: x | J56: User-Defined | K56: ATC/ATIEL B(i) | L56: (Default: 30.63) | M56: =O56*$W$289 -> 1.92e-11 | N56: =P56*$W$289 -> 2.58e-12 | O56: 3.2e-11 | P56: 4.3e-12 | Q56: 0.0031 | R56: 0.04 | S56: 0.00016 | T56: 0.0025 | U56: 0.03
A57: 56 | B57: ATIEL-ATC Group C [i] | C57: (Industrial) Use in open system. Application of lubricant to work pieces or equipment by dipping, brushing or spraying (without exposure to heat), e.g. mould releases, corrosion protection, slideways | D57: EU TGD/EUSES | E57: Processing / End use | F57: 9.19 | G57: 1 | H57: ERC4 Industrial use of processing aids in processes and products, not becoming part of articles | I57: x | J57: User-Defined | K57: ATC/ATIEL C(i) | L57: (Default: 30.63) | M57: =O57*$W$289 -> 1.92e-11 | N57: =P57*$W$289 -> 2.58e-12 | O57: 3.2e-11 | P57: 4.3e-12 | Q57: 0.0031 | R57: 0.04 | S57: 0.00016 | T57: 0.0025 | U57: 0.03
A58: 57 | B58: ATIEL-ATC Group D [i] | C58: (Industrial) Use of lubricants in open high temperature processes, e.g. quenching fluids, glass release agents | D58: EU TGD/EUSES | E58: Processing / End use | F58: 9.19 | G58: 1 | H58: ERC4 Industrial use of processing aids in processes and products, not becoming part of articles | I58: x | J58: User-Defined | K58: ATC/ATIEL D(i) | L58: (Default: 30.63) | M58: =O58*$W$289 -> 1.92e-11 | N58: =P58*$W$289 -> 2.58e-12 | O58: 3.2e-11 | P58: 4.3e-12 | Q58: 0.0031 | R58: 0.04 | S58: 0.00016 | T58: 0.0025 | U58: 0.03
A59: 58 | B59: ATIEL-ATC Group F [i] | C59: (Industrial) Use of lubricants in high energy open processes, e.g. in high speed machinery such as metal rolling / forming or metalworking fluids for machining and grinding | D59: EU TGD/EUSES | E59: Processing / End use | F59: 9.19 | G59: 1 | H59: ERC4 Industrial use of processing aids in processes and products, not becoming part of articles | I59: x | J59: User-Defined | K59: ATC/ATIEL F(i) | L59: (Default: 30.63) | M59: =O59*$W$289 -> 1.92e-11 | N59: =P59*$W$289 -> 2.58e-12 | O59: 3.2e-11 | P59: 4.3e-12 | Q59: 0.0031 | R59: 0.04 | S59: 0.00016 | T59: 0.0025 | U59: 0.03
A60: 59 | B60: CEPE | C60: Industrial application of coatings or inks | D60: EU TGD/EUSES | E60: Processing / End use | F60: 2.76 | G60: 1 | H60: ERC4 Industrial use of processing aids in processes and products, not becoming part of articles | I60: x | J60: CEPE | K60: CEPE SPERC 4.1a.v1 application industrial spraying indoor use incineration – volatiles | L60: (Default: 12.27) | M60: =O60*$W$289 -> 0.006 | N60: =P60*$W$289 -> 0.00102 | O60: 0.01 | P60: 0.0017 | Q60: 0.0057 | R60: 0.08 | S60: 0.06 | T60: 0.0051 | U60: 0.07
A61: 60 | B61: EPDLA-RMH1.2 | C61: EPDLA Manufacture of aqueous polymer dispersions and dispersion powders Use of Processing Aids | D61: EU TGD/EUSES | E61: Processing / End use | F61: 229.68 | G61: 1 | H61: ERC4 Industrial use of processing aids in processes and products, not becoming part of articles | I61: x | J61: User-Defined | K61: EPDLA ERC4 | L61: (Default: 675.53) | M61: =O61*$W$289 -> 4.2e-05 | N61: =P61*$W$289 -> 5.76e-06 | O61: 7e-05 | P61: 9.6e-06 | Q61: 0.0031 | R61: 0.04 | S61: 0.00085 | T61: 0.0026 | U61: 0.03
A62: 61 | B62: ESVOC | C62: Use of the substance in extraction processes at mining operations, including material transfers, winning and separation activities, and substance recovery and disposal. | D62: EU TGD/EUSES | E62: Processing / End use | F62: 0.34 | G62: 1 | H62: ERC4 Industrial use of processing aids in processes and products, not becoming part of articles | I62: x | J62: ESVOC | K62: ESVOC SpERC 4.23.v1 Mining Chemicals: Industrial (SU10) | L62: (Default: 17) | M62: =O62*$W$289 -> 0.264 | N62: =P62*$W$289 -> 0.036 | O62: 0.44 | P62: 0.06 | Q62: 0.09 | R62: 1.235 | S62: 2.018 | T62: 0.09 | U62: 1.227
A63: 62 | B63: ESVOC | C63: Use of substances within Laboratory settings, within enclosed or contained systems, including incidental exposures during material transfers and equipment cleaning | D63: EU TGD/EUSES | E63: Processing / End use | F63: 0.34 | G63: 1 | H63: ERC4 Industrial use of processing aids in processes and products, not becoming part of articles | I63: x | J63: ESVOC | K63: ESVOC SPERC 4.24.v1 Laboratory reagents: Industrial (SU3) | L63: (Default: 17) | M63: =O63*$W$289 -> 0.012 | N63: =P63*$W$289 -> 0.00144 | O63: 0.02 | P63: 0.0024 | Q63: 0.0066 | R63: 0.09 | S63: 0.08 | T63: 0.0061 | U63: 0.08
A64: 63 | B64: ESVOC | C64: Use in coatings (paints, inks, adhesives, etc) | D64: EU TGD/EUSES | E64: Processing / End use | F64: 0.34 | G64: 1 | H64: ERC4 Industrial use of processing aids in processes and products, not becoming part of articles | I64: x | J64: ESVOC | K64: ESVOC SpERC 4.3a.v1 Uses in Coatings: Industrial (SU3) | L64: (Default: 1.13) | M64: =O64*$W$289 -> 0.00072 | N64: =P64*$W$289 -> 9.6e-05 | O64: 0.0012 | P64: 0.00016 | Q64: 0.0034 | R64: 0.05 | S64: 0.0056 | T64: 0.0028 | U64: 0.04
A65: 64 | B65: ESVOC | C65: Use as a component of cleaning products for industrial use including transfer from storage; pouring/unloading from drums or containers; exposures during cleaning activities (automated and by hand); and related maintenance | D65: EU TGD/EUSES | E65: Processing / End use | F65: 0.34 | G65: 1 | H65: ERC4 Industrial use of processing aids in processes and products, not becoming part of articles | I65: x | J65: ESVOC | K65: ESVOC SpERC 4.4a.v1 Use in Cleaning Agents: Industrial (SU3) | L65: (Default: 17) | M65: =O65*$W$289 -> 5.28e-05 | N65: =P65*$W$289 -> 7.2e-06 | O65: 8.8e-05 | P65: 1.2e-05 | Q65: 0.0031 | R65: 0.04 | S65: 0.00057 | T65: 0.0026 | U65: 0.03
... A141: 140 | B141: Fertilizers Europe_IS_001_v1 | C141: Use of a substance as an intermediate. | D141: EU TGD/EUSES | E141: Processing / End use | F141: 91.87 | G141: 1 | H141: ERC6a Industrial use resulting in manufacture of another substance (use of intermediates) | I141: x | J141: User-Defined | K141: Processing Industrial (use as Intermediate) | L141: (Default: 262.49) | M141: =O141*$W$289 -> 0.00174 | N141: =P141*$W$289 -> 0.000234 | O141: 0.0029 | P141: 0.00039 | Q141: 0.0037 | R141: 0.05 | S141: 0.01 | T141: 0.0031 | U141: 0.04
A142: 141 | B142: PPRM | C142: Industrial manufacture of resins (Polyester Powder Resin Manufacturers Sector Group (PPRM)) | D142: EU TGD/EUSES | E142: Processing / End use | F142: 3.06 | G142: 1 | H142: ERC6a Industrial use resulting in manufacture of another substance (use of intermediates) | I142: x | J142: Eurometaux | L142: (Default: 153) | M142: =O142*$W$289 -> 0.096 | N142: =P142*$W$289 -> 0.012 | O142: 0.16 | P142: 0.02 | Q142: 0.03 | R142: 0.47 | S142: 0.73 | T142: 0.03 | U142: 0.46
A143: 142 | B143: Fertilizers Europe_IS_002_v1 | C143: Use of a reactive processing aid during formulation of fertilizers or during manufacturing new fertilizer substances. | D143: EU TGD/EUSES | E143: Processing / End use | F143: 91.87 | G143: 1 | H143: ERC6b Industrial use of reactive processing aids | I143: x | J143: User-Defined | K143: Fertilizers Europe SPERC 6b.v1 | L143: (Default: 0.5) | M143: =O143*$W$289 -> 0.000156 | N143: =P143*$W$289 -> 2.16e-05 | O143: 0.00026 | P143: 3.6e-05 | Q143: 0.0032 | R143: 0.04 | S143: 0.0014 | T143: 0.0026 | U143: 0.04
A144: 143 | B144: TEGEWA-L4.1 | C144: TEGEWA-L4.1 handling (Reactive Processing Aids) | D144: EU TGD/EUSES | E144: Processing / End use | F144: 0.22 | G144: 1 | H144: ERC6b Industrial use of reactive processing aids | I144: x | J144: TEGEWA | K144: TEGEWA SPERC 6b.1.v1 TEGEWA Use of reactive processing aid in textile processing | L144: (Default: 1) | M144: =O144*$W$289 -> 0.0006 | N144: =P144*$W$289 -> 8.4e-05 | O144: 0.001 | P144: 0.00014 | Q144: 0.0033 | R144: 0.05 | S144: 0.0049 | T144: 0.0027 | U144: 0.04
A145: 144 | B145: TEGEWA-L4.1 | C145: TEGEWA-L4.1 handling (Reactive Processing Aids) | D145: EU TGD/EUSES | E145: Processing / End use | F145: 0.22 | G145: 1 | H145: ERC6b Industrial use of reactive processing aids | I145: x | J145: TEGEWA | K145: TEGEWA SPERC 6b.1.v1 TEGEWA Use of reactive processing aid in textile processing | L145: (Default: 1) | M145: =O145*$W$289 -> 0.0006 | N145: =P145*$W$289 -> 8.4e-05 | O145: 0.001 | P145: 0.00014 | Q145: 0.0033 | R145: 0.05 | S145: 0.0049 | T145: 0.0027 | U145: 0.04
A146: 145 | B146: TEGEWA-L7.1 | C146: TEGEWA-L7.1 use in wet end (Reactive) | D146: EU TGD/EUSES | E146: Processing / End use | F146: 0.22 | G146: 1 | H146: ERC6b Industrial use of reactive processing aids | I146: x | J146: TEGEWA | K146: TEGEWA SPERC 6b.1.v1 TEGEWA Use of reactive processing aid in textile processing | L146: (Default: 1) | M146: =O146*$W$289 -> 0.0006 | N146: =P146*$W$289 -> 8.4e-05 | O146: 0.001 | P146: 0.00014 | Q146: 0.0033 | R146: 0.05 | S146: 0.0049 | T146: 0.0027 | U146: 0.04
A147: 146 | B147: TEGEWA-T12.1 | C147: TEGEWA-T12.1 Textile Coating (Reactive Processing Aids) | D147: EU TGD/EUSES | E147: Processing / End use | F147: 0.22 | G147: 1 | H147: ERC6b Industrial use of reactive processing aids | I147: x | J147: TEGEWA | K147: TEGEWA SPERC 6b.1.v1 TEGEWA Use of reactive processing aid in textile processing | L147: (Default: 1) | M147: =O147*$W$289 -> 0.0006 | N147: =P147*$W$289 -> 8.4e-05 | O147: 0.001 | P147: 0.00014 | Q147: 0.0033 | R147: 0.05 | S147: 0.0049 | T147: 0.0027 | U147: 0.04
...

Sheet Tabelle4
C3: total WDU: | D3: STP connection | E3: Cloclal eff
B4: C12 | C4: =SUM('C12'!F164:F286) -> 84724.87 | D4: ='C12'!F289 -> 70361.12 | E4: ='C12'!N291 -> 0.033024956
B5: C14 | C5: =SUM('C14'!F165:F287) -> 29424.87 | D5: ='C14'!F289 -> 24402.73 | E5: ='C14'!N291 -> 0.010431434
B6: C16 | C6: =SUM('C16'!F165:F287) -> 3767.99 | D6: ='C16'!F289 -> 3124.86 | E6: ='C16'!N291 -> 0.0011855792
C7: =SUM(C4:C6) -> 117917.73 | D7: =SUM(D4:D6) -> 97888.71 | E7: =SUM(E4:E6) -> 0.044641969
