Workbook

Sheet C12
A1: # | B1: Scenario code | C1: Scenario name | D1: Calculation Model | E1: Lifecycle stage | F1: Tonnage | G1: Fraction of tonnage to region | H1: ERC | I1: STP | J1: spERC Industry sector | K1: spERC | L1: Daily amount used at site [kg/day] | M1: Clocaleff (default degradation rates) | N1: Clocaleff (mg/L) (AS specific degradation rates) | O1: RCR STP (default degradation rates | P1: RCR STP (AS degradation rates
A2: 1 | B2: Manufacturing | C2: Manufacturing | D2: EU TGD/EUSES | E2: Manufacturing | F2: 128253 | G2: 1 | H2: ERC1 Manufacture of substances | I2: x | J2: User-Defined | K2: AS-Manufacturing ERASM | L2: (Default: 79,318.18) | M2: =O2*$W$289 -> 11.34 | N2: =P2*$W$289 -> 1.5255 | O2: 8.4 | P2: 1.13
A3: 2 | B3: AISE_F_001_v1High Low Viscosity (medium scale) | C3: Formulation into mixture; Washing, cleaning, maintenance and disinfecting products | D3: EU TGD/EUSES | E3: Formulation | F3: 4137.2 | G3: 1 | H3: ERC2 Formulation of preparations | I3: x | J3: AISE | K3: AISE SPERC 2.1.k.v2 AISE Formulation of liquid Detergents/Maintenance Products: High Low Viscosity (medium scale) | L3: (Default: 4,500) | M3: =O3*$W$289 -> 0.351 | N3: =P3*$W$289 -> 0.0405 | O3: 0.26 | P3: 0.03
A4: 3 | B4: AISE_F_001_v1High Viscosity (large scale) | C4: Formulation into mixture; Washing, cleaning, maintenance and disinfecting products | D4: EU TGD/EUSES | E4: Formulation | F4: 8274.4 | G4: 1 | H4: ERC2 Formulation of preparations | I4: x | J4: AISE | K4: AISE SPERC 2.1.j.v2 AISE Formulation of liquid Detergents/Maintenance Products: High Viscosity (large scale) | L4: (Default: 16,700) | M4: =O4*$W$289 -> 0.648 | N4: =P4*$W$289 -> 0.081 | O4: 0.48 | P4: 0.06
A5: 4 | B5: AISE_F_001_v1High Viscosity (small scale) | C5: Formulation into mixture; Washing, cleaning, maintenance and disinfecting products | D5: EU TGD/EUSES | E5: Formulation | F5: 1379.03 | G5: 1 | H5: ERC2 Formulation of preparations | I5: x | J5: AISE | K5: AISE SPERC 2.1.l.v2 AISE Formulation of liquid Detergents/Maintenance Products: High Viscosity (small scale) | L5: (Default: 450) | M5: =O5*$W$289 -> 0.0675 | N5: =P5*$W$289 -> 0.00945 | O5: 0.05 | P5: 0.007
A6: 5 | B6: AISE_F_001_v1Low Viscosity (large scale) | C6: Formulation into mixture; Washing, cleaning, maintenance and disinfecting products | D6: EU TGD/EUSES | E6: Formulation | F6: 8274.4 | G6: 1 | H6: ERC2 Formulation of preparations | I6: x | J6: AISE | K6: AISE SPERC 2.1.g.v2 AISE Formulation of liquid Detergents/Maintenance Products: Low Viscosity (large scale) | L6: (Default: 16,700) | M6: =O6*$W$289 -> 0.0675 | N6: =P6*$W$289 -> 0.008775 | O6: 0.05 | P6: 0.0065
A7: 6 | B7: AISE_F_001_v1Low Viscosity (medium scale) | C7: Formulation into mixture; Washing, cleaning, maintenance and disinfecting products | D7: EU TGD/EUSES | E7: Formulation | F7: 4137.2 | G7: 1 | H7: ERC2 Formulation of preparations | I7: x | J7: AISE | K7: AISE SPERC 2.1.h.v2 AISE Formulation of liquid Detergents/Maintenance Products: Low Viscosity (medium scale) | L7: (Default: 4,500) | M7: =O7*$W$289 -> 0.1755 | N7: =P7*$W$289 -> 0.027 | O7: 0.13 | P7: 0.02
A8: 7 | B8: AISE_F_001_v1Low Viscosity (small scale) | C8: Formulation into mixture; Washing, cleaning, maintenance and disinfecting products | D8: EU TGD/EUSES | E8: Formulation | F8: 1379.03 | G8: 1 | H8: ERC2 Formulation of preparations | I8: x | J8: AISE | K8: AISE SPERC 2.1.i.v2 AISE Formulation of liquid Detergents/Maintenance Products: Low Viscosity (small scale) | L8: (Default: 450) | M8: =O8*$W$289 -> 0.0405 | N8: =P8*$W$289 -> 0.004725 | O8: 0.03 | P8: 0.0035
A9: 8 | B9: AISE_F_001_v1Regular & Compact (large scale) | C9: Formulation into mixture; Washing, cleaning, maintenance and disinfecting products | D9: EU TGD/EUSES | E9: Formulation | F9: 8274.4 | G9: 1 | H9: ERC2 Formulation of preparations | I9: x | J9: AISE | K9: AISE SPERC 2.1.a.v2 AISE Formulation of Granular Detergents/Maintenance Products -Regular & Compact (large scale) | L9: (Default: 16,700) | M9: =O9*$W$289 -> 0.0675 | N9: =P9*$W$289 -> 0.008775 | O9: 0.05 | P9: 0.0065
A10: 9 | B10: AISE_F_001_v1Regular & Compact (medium scale) | C10: Formulation into mixture; Washing, cleaning, maintenance and disinfecting products | D10: EU TGD/EUSES | E10: Formulation | F10: 4137.2 | G10: 1 | H10: ERC2 Formulation of preparations | I10: x | J10: AISE | K10: AISE SPERC 2.1.b.v2 AISE Formulation of Grnaular Detergents/Maintenance Products-Regular & Compact (medium scale) | L10: (Default: 4,500) | M10: =O10*$W$289 -> 0.1755 | N10: =P10*$W$289 -> 0.027 | O10: 0.13 | P10: 0.02
A11: 10 | B11: AISE_F_001_v1Regular & Compact (small scale) | C11: Formulation into mixture; Washing, cleaning, maintenance and disinfecting products | D11: EU TGD/EUSES | E11: Formulation | F11: 1379.03 | G11: 1 | H11: ERC2 Formulation of preparations | I11: x | J11: AISE | K11: AISE SPERC 2.1.c.v2 AISE Formulation of Granular Detergents/Maintenance Products-Regular & Compact (small scale) | L11: (Default: 450) | M11: =O11*$W$289 -> 0.0405 | N11: =P11*$W$289 -> 0.004725 | O11: 0.03 | P11: 0.0035
A12: 11 | B12: ATIEL-ATC Group A [i] | C12: Industrial formulation of lubricant additives, lubricants and greases. Includes material transfers, mixing, large and small packing, sampling, maintenance and associated laboratory activities | D12: EU TGD/EUSES | E12: Formulation | F12: 1034.5 | G12: 1 | H12: ERC2 Formulation of preparations | I12: x | J12: User-Defined | K12: ATC-ATIEL A(i) | L12: (Default: 3,448.33) | M12: =O12*$W$289 -> 2.7e-09 | N12: =P12*$W$289 -> 3.645e-10 | O12: 2e-09 | P12: 2.7e-10
A13: 12 | B13: ATIEL-ATC Group E [i] | C13: (Industrial) Handling and dilution of metalworking fluid concentrates | D13: EU TGD/EUSES | E13: Formulation | F13: 1034.5 | G13: 1 | H13: ERC2 Formulation of preparations | I13: x | J13: User-Defined | K13: ATC/ATIEL E(i) | L13: (Default: 3,448.33) | M13: =O13*$W$289 -> 2.7e-09 | N13: =P13*$W$289 -> 3.645e-10 | O13: 2e-09 | P13: 2.7e-10
... A46: 45 | B46: sector_F_001_v1 solid cosmetic and home care products (small scale) | C46: Manufacture of cosmetic products | D46: EU TGD/EUSES | E46: Formulation | F46: 413.72 | G46: 1 | H46: ERC2 Formulation of preparations | I46: x | J46: User-Defined | K46: Cosmetics Europe/Aise 2.3c.v2 (small scale) | L46: (Default: 1,654.88) | M46: =O46*$W$289 -> 0.135 | N46: =P46*$W$289 -> 0.0135 | O46: 0.1 | P46: 0.01
A47: 46 | B47: TEGEWA-F1.1 | C47: TEGEWA-F1.1 Formulation of preparations | D47: EU TGD/EUSES | E47: Formulation | F47: 41.4 | G47: 1 | H47: ERC2 Formulation of preparations | I47: x | J47: TEGEWA | L47: (Default: 4,140) | M47: =O47*$W$289 -> 3.2211 | N47: =P47*$W$289 -> 0.432 | O47: 2.386 | P47: 0.32
A48: 47 | B48: TEGEWA-F2.1 | C48: TEGEWA-F2.1 Blending | D48: EU TGD/EUSES | E48: Formulation | F48: 41.4 | G48: 1 | H48: ERC2 Formulation of preparations | I48: x | J48: TEGEWA | L48: (Default: 4,140) | M48: =O48*$W$289 -> 3.2211 | N48: =P48*$W$289 -> 0.432 | O48: 2.386 | P48: 0.32
A49: 48 | B49: TEGEWA-L1.1 | C49: TEGEWA-L1.1 Blending | D49: EU TGD/EUSES | E49: Formulation | F49: 41.4 | G49: 1 | H49: ERC2 Formulation of preparations | I49: x | J49: TEGEWA | L49: (Default: 4,140) | M49: =O49*$W$289 -> 3.2211 | N49: =P49*$W$289 -> 0.432 | O49: 2.386 | P49: 0.32
A50: 49 | B50: TEGEWA-T1. | C50: TEGEWA-T1. Blending | D50: EU TGD/EUSES | E50: Formulation | F50: 41.4 | G50: 1 | H50: ERC2 Formulation of preparations | I50: x | J50: TEGEWA | L50: (Default: 4,140) | M50: =O50*$W$289 -> 3.2211 | N50: =P50*$W$289 -> 0.432 | O50: 2.386 | P50: 0.32
A51: 50 | B51: Fertilizers Europe_F_002_v1 | C51: Formulation by incorporating fertilizers onto or into a matrix. | D51: EU TGD/EUSES | E51: Formulation | F51: 5171.5 | G51: 1 | H51: ERC3 Formulation in materials | I51: x | J51: User-Defined | L51: (Default: 17,238.33) | M51: =O51*$W$289 -> 1.3365 | N51: =P51*$W$289 -> 0.1755 | O51: 0.99 | P51: 0.13
A52: 51 | B52: GRG | C52: General Rubber Goods | D52: EU TGD/EUSES | E52: Formulation | F52: 103.5 | G52: 1 | H52: ERC3 Formulation in materials | I52: x | J52: ETRMA | K52: ETRMA SPERC 3/6d.2a v.2 Manufacture of Rubber Products: Industrial (SU3, SU11) GRG use of vulcanization agents, anti-ageing agents / antidegradants | L52: (Default: 100) | M52: =O52*$W$289 -> 0.0003105 | N52: =P52*$W$289 -> 4.185e-05 | O52: 0.00023 | P52: 3.1e-05
A53: 52 | B53: TEGEWA-T2.1 | C53: TEGEWA-T2.1 blending (Bound in Product) | D53: EU TGD/EUSES | E53: Formulation | F53: 41.4 | G53: 1 | H53: ERC3 Formulation in materials | I53: x | J53: TEGEWA | L53: (Default: 4,140) | M53: =O53*$W$289 -> 0.324 | N53: =P53*$W$289 -> 0.0405 | O53: 0.24 | P53: 0.03
A54: 53 | B54: Tyres | C54: Tyres | D54: EU TGD/EUSES | E54: Formulation | F54: 103.5 | G54: 1 | H54: ERC3 Formulation in materials | I54: x | J54: ETRMA | K54: ETRMA SPERC 3/6d.2a v.2 Manufacture of Rubber Products: Industrial (SU3, SU11) GRG use of vulcanization agents, anti-ageing agents / antidegradants | L54: (Default: 100) | M54: =O54*$W$289 -> 0.0003105 | N54: =P54*$W$289 -> 4.185e-05 | O54: 0.00023 | P54: 3.1e-05
A55: 54 | B55: AISE_IS_001_v1 | C55: Industrial uses; Washing, cleaning and disinfecting products | D55: EU TGD/EUSES | E55: Processing / End use | F55: 4596.87 | G55: 1 | H55: ERC4 Industrial use of processing aids in processes and products, not becoming part of articles | I55: x | J55: AISE | K55: AISE SPERC 4.1.v2 AISE Industrial Use of Water Borne Processing Aids no RMM | L55: (Default: 50) | M55: =O55*$W$289 -> 1.94535 | N55: =P55*$W$289 -> 0.2565 | O55: 1.441 | P55: 0.19
A56: 55 | B56: ATIEL-ATC Group B [i] | C56: General industrial use of lubricants and greases in vehicles or machinery. Includes filling and draining of containers and enclosed machinery (including engines) | D56: EU TGD/EUSES | E56: Processing / End use | F56: 208.86 | G56: 1 | H56: ERC4 Industrial use of processing aids in processes and products, not becoming part of articles | I56: x | J56: User-Defined | K56: ATC/ATIEL B(i) | L56: (Default: 696.2) | M56: =O56*$W$289 -> 5.4e-10 | N56: =P56*$W$289 -> 7.29e-11 | O56: 4e-10 | P56: 5.4e-11
A57: 56 | B57: ATIEL-ATC Group C [i] | C57: (Industrial) Use in open system. Application of lubricant to work pieces or equipment by dipping, brushing or spraying (without exposure to heat), e.g. mould releases, corrosion protection, slideways | D57: EU TGD/EUSES | E57: Processing / End use | F57: 208.86 | G57: 1 | H57: ERC4 Industrial use of processing aids in processes and products, not becoming part of articles | I57: x | J57: User-Defined | K57: ATC/ATIEL C(i) | L57: (Default: 696.2) | M57: =O57*$W$289 -> 5.4e-10 | N57: =P57*$W$289 -> 7.29e-11 | O57: 4e-10 | P57: 5.4e-11
A58: 57 | B58: ATIEL-ATC Group D [i] | C58: (Industrial) Use of lubricants in open high temperature processes, e.g. quenching fluids, glass release agents | D58: EU TGD/EUSES | E58: Processing / End use | F58: 208.86 | G58: 1 | H58: ERC4 Industrial use of processing aids in processes and products, not becoming part of articles | I58: x | J58: User-Defined | K58: ATC/ATIEL D(i) | L58: (Default: 696.2) | M58: =O58*$W$289 -> 5.4e-10 | N58: =P58*$W$289 -> 7.29e-11 | O58: 4e-10 | P58: 5.4e-11
A59: 58 | B59: ATIEL-ATC Group F [i] | C59: (Industrial) Use of lubricants in high energy open processes, e.g. in high speed machinery such as metal rolling / forming or metalworking fluids for machining and grinding | D59: EU TGD/EUSES | E59: Processing / End use | F59: 208.86 | G59: 1 | H59: ERC4 Industrial use of processing aids in processes and products, not becoming part of articles | I59: x | J59: User-Defined | K59: ATC/ATIEL F(i) | L59: (Default: 696.2) | M59: =O59*$W$289 -> 5.4e-10 | N59: =P59*$W$289 -> 7.29e-11 | O59: 4e-10 | P59: 5.4e-11
A60: 59 | B60: CEPE | C60: Industrial application of coatings or inks | D60: EU TGD/EUSES | E60: Processing / End use | F60: 62.06 | G60: 1 | H60: ERC4 Industrial use of processing aids in processes and products, not becoming part of articles | I60: x | J60: CEPE | K60: CEPE SPERC 4.1a.v1 application industrial spraying indoor use incineration – volatiles | L60: (Default: 275.82) | M60: =O60*$W$289 -> 0.216 | N60: =P60*$W$289 -> 0.027 | O60: 0.16 | P60: 0.02
A61: 60 | B61: EPDLA-RMH1.2 | C61: EPDLA Manufacture of aqueous polymer dispersions and dispersion powders Use of Processing Aids | D61: EU TGD/EUSES | E61: Processing / End use | F61: 5171.48 | G61: 1 | H61: ERC4 Industrial use of processing aids in processes and products, not becoming part of articles | I61: x | J61: User-Defined | K61: EPDLA ERC4 | L61: (Default: 15,210.24) | M61: =O61*$W$289 -> 0.001188 | N61: =P61*$W$289 -> 0.000162 | O61: 0.00088 | P61: 0.00012
A62: 61 | B62: ESVOC | C62: Use of the substance in extraction processes at mining operations, including material transfers, winning and separation activities, and substance recovery and disposal. | D62: EU TGD/EUSES | E62: Processing / End use | F62: 7.76 | G62: 1 | H62: ERC4 Industrial use of processing aids in processes and products, not becoming part of articles | I62: x | J62: ESVOC | K62: ESVOC SpERC 4.23.v1 Mining Chemicals: Industrial (SU10) | L62: (Default: 388) | M62: =O62*$W$289 -> 7.54515 | N62: =P62*$W$289 -> 1.0125 | O62: 5.589 | P62: 0.75
A63: 62 | B63: ESVOC | C63: Use of substances within Laboratory settings, within enclosed or contained systems, including incidental exposures during material transfers and equipment cleaning | D63: EU TGD/EUSES | E63: Processing / End use | F63: 7.76 | G63: 1 | H63: ERC4 Industrial use of processing aids in processes and products, not becoming part of articles | I63: x | J63: ESVOC | K63: ESVOC SPERC 4.24.v1 Laboratory reagents: Industrial (SU3) | L63: (Default: 100) | M63: =O63*$W$289 -> 0.081 | N63: =P63*$W$289 -> 0.01053 | O63: 0.06 | P63: 0.0078
A64: 63 | B64: ESVOC | C64: Use in coatings (paints, inks, adhesives, etc) | D64: EU TGD/EUSES | E64: Processing / End use | F64: 7.76 | G64: 1 | H64: ERC4 Industrial use of processing aids in processes and products, not becoming part of articles | I64: x | J64: ESVOC | K64: ESVOC SpERC 4.3a.v1 Uses in Coatings: Industrial (SU3) | L64: (Default: 25.87) | M64: =O64*$W$289 -> 0.0135 | N64: =P64*$W$289 -> 0.0027 | O64: 0.01 | P64: 0.002
A65: 64 | B65: ESVOC | C65: Use as a component of cleaning products for industrial use including transfer from storage; pouring/unloading from drums or containers; exposures during cleaning activities (automated and by hand); and related maintenance | D65: EU TGD/EUSES | E65: Processing / End use | F65: 7.76 | G65: 1 | H65: ERC4 Industrial use of processing aids in processes and products, not becoming part of articles | I65: x | J65: ESVOC | K65: ESVOC SpERC 4.4a.v1 Use in Cleaning Agents: Industrial (SU3) | L65: (Default: 388) | M65: =O65*$W$289 -> 0.001485 | N65: =P65*$W$289 -> 0.0002025 | O65: 0.0011 | P65: 0.00015
... A141: 140 | B141: Fertilizers Europe_IS_001_v1 | C141: Use of a substance as an intermediate. | D141: EU TGD/EUSES | E141: Processing / End use | F141: 2068.59 | G141: 1 | H141: ERC6a Industrial use resulting in manufacture of another substance (use of intermediates) | I141: x | J141: User-Defined | K141: Processing Industrial (use as Intermediate) | L141: (Default: 5,910.26) | M141: =O141*$W$289 -> 0.054 | N141: =P141*$W$289 -> 0.00648 | O141: 0.04 | P141: 0.0048
A142: 141 | B142: PPRM | C142: Industrial manufacture of resins (Polyester Powder Resin Manufacturers Sector Group (PPRM)) | D142: EU TGD/EUSES | E142: Processing / End use | F142: 68.95 | G142: 1 | H142: ERC6a Industrial use resulting in manufacture of another substance (use of intermediates) | I142: x | J142: Eurometaux | L142: (Default: 3,447.5) | M142: =O142*$W$289 -> 2.68245 | N142: =P142*$W$289 -> 0.3645 | O142: 1.987 | P142: 0.27
A143: 142 | B143: Fertilizers Europe_IS_002_v1 | C143: Use of a reactive processing aid during formulation of fertilizers or during manufacturing new fertilizer substances. | D143: EU TGD/EUSES | E143: Processing / End use | F143: 2068.59 | G143: 1 | H143: ERC6b Industrial use of reactive processing aids | I143: x | J143: User-Defined | K143: Fertilizers Europe SPERC 6b.v1 | L143: (Default: 11.33) | M143: =O143*$W$289 -> 0.004455 | N143: =P143*$W$289 -> 0.000594 | O143: 0.0033 | P143: 0.00044
A144: 143 | B144: TEGEWA-L4.1 | C144: TEGEWA-L4.1 handling (Reactive Processing Aids) | D144: EU TGD/EUSES | E144: Processing / End use | F144: 5.05 | G144: 1 | H144: ERC6b Industrial use of reactive processing aids | I144: x | J144: TEGEWA | K144: TEGEWA SPERC 6b.1.v1 TEGEWA Use of reactive processing aid in textile processing | L144: (Default: 22.95) | M144: =O144*$W$289 -> 0.0135 | N144: =P144*$W$289 -> 0.00243 | O144: 0.01 | P144: 0.0018
A145: 144 | B145: TEGEWA-L4.1 | C145: TEGEWA-L4.1 handling (Reactive Processing Aids) | D145: EU TGD/EUSES | E145: Processing / End use | F145: 5.05 | G145: 1 | H145: ERC6b Industrial use of reactive processing aids | I145: x | J145: TEGEWA | K145: TEGEWA SPERC 6b.1.v1 TEGEWA Use of reactive processing aid in textile processing | L145: (Default: 22.95) | M145: =O145*$W$289 -> 0.0135 | N145: =P145*$W$289 -> 0.00243 | O145: 0.01 | P145: 0.0018
A146: 145 | B146: TEGEWA-L7.1 | C146: TEGEWA-L7.1 use in wet end (Reactive) | D146: EU TGD/EUSES | E146: Processing / End use | F146: 5.05 | G146: 1 | H146: ERC6b Industrial use of reactive processing aids | I146: x | J146: TEGEWA | K146: TEGEWA SPERC 6b.1.v1 TEGEWA Use of reactive processing aid in textile processing | L146: (Default: 22.95) | M146: =O146*$W$289 -> 0.0135 | N146: =P146*$W$289 -> 0.00243 | O146: 0.01 | P146: 0.0018
A147: 146 | B147: TEGEWA-T12.1 | C147: TEGEWA-T12.1 Textile Coating (Reactive Processing Aids) | D147: EU TGD/EUSES | E147: Processing / End use | F147: 5.05 | G147: 1 | H147: ERC6b Industrial use of reactive processing aids | I147: x | J147: TEGEWA | K147: TEGEWA SPERC 6b.1.v1 TEGEWA Use of reactive processing aid in textile processing | L147: (Default: 22.95) | M147: =O147*$W$289 -> 0.0135 | N147: =P147*$W$289 -> 0.00243 | O147: 0.01 | P147: 0.0018
A148: 147 | B148: TEGEWA-T5.1 | C148: TEGEWA-T5.1 handling (Reactive Processing Aids) | D148: EU TGD/EUSES | E148: Processing / End use | F148: 5.05 | G148: 1 | H148: ERC6b Industrial use of reactive processing aids | I148: x | J148: TEGEWA | K148: TEGEWA SPERC 6b.1.v1 TEGEWA Use of reactive processing aid in textile processing | L148: (Default: 22.95) | M148: =O148*$W$289 -> 0.0135 | N148: =P148*$W$289 -> 0.00243 | O148: 0.01 | P148: 0.0018
A149: 148 | B149: TEGEWA-T9.1 | C149: TEGEWA-T9.1 Textile application: dipping and pouring (Reactive Processing Aids) | D149: EU TGD/EUSES | E149: Processing / End use | F149: 5.05 | G149: 1 | H149: ERC6b Industrial use of reactive processing aids | I149: x | J149: TEGEWA | K149: TEGEWA SPERC 6b.1.v1 TEGEWA Use of reactive processing aid in textile processing | L149: (Default: 22.95) | M149: =O149*$W$289 -> 0.0135 | N149: =P149*$W$289 -> 0.00243 | O149: 0.01 | P149: 0.0018
A150: 149 | B150: EPDLA-RMH1.4 | C150: EPDLA Manufacture of aqueous polymer dispersions and dispersion powders Use of Monomers | D150: EU TGD/EUSES | E150: Processing / End use | F150: 5171.48 | G150: 1 | H150: ERC6c Industrial use of monomers for manufacture of thermo-plastics | I150: x | J150: User-Defined | K150: EPDLA ERC6c | L150: (Default: 15,210.24) | M150: =O150*$W$289 -> 0.001188 | N150: =P150*$W$289 -> 0.000162 | O150: 0.00088 | P150: 0.00012
A151: 150 | B151: Fertilizers Europe_IS_003_v1 | C151: Use of monomers in polymer coating of fertilizers. | D151: EU TGD/EUSES | E151: Processing / End use | F151: 2068.59 | G151: 1 | H151: ERC6c Industrial use of monomers for manufacture of thermo-plastics | I151: x | J151: User-Defined | K151: Fertilizers Europe SPERC 6c.v1 | L151: (Default: 11.33) | M151: =O151*$W$289 -> 0.004455 | N151: =P151*$W$289 -> 0.000594 | O151: 0.0033 | P151: 0.00044
A152: 151 | B152: TEGEWA-L10.1 | C152: TEGEWA-L10.1 use for leather finishing (Monomers) | D152: EU TGD/EUSES | E152: Processing / End use | F152: 5.05 | G152: 1 | H152: ERC6c Industrial use of monomers for manufacture of thermo-plastics | I152: x | J152: TEGEWA | L152: (Default: 252.5) | M152: =O152*$W$289 -> 0.486 | N152: =P152*$W$289 -> 0.0675 | O152: 0.36 | P152: 0.05
A153: 152 | B153: TEGEWA-L10.1 | C153: TEGEWA-L10.1 use for leather finishing (Monomers) | D153: EU TGD/EUSES | E153: Processing / End use | F153: 5.05 | G153: 1 | H153: ERC6c Industrial use of monomers for manufacture of thermo-plastics | I153: x | J153: TEGEWA | L153: (Default: 252.5) | M153: =O153*$W$289 -> 0.486 | N153: =P153*$W$289 -> 0.0675 | O153: 0.36 | P153: 0.05
A154: 153 | B154: TEGEWA-L10.2 | C154: TEGEWA-L10.2 use for leather finishing (Monomers) | D154: EU TGD/EUSES | E154: Processing / End use | F154: 5.05 | G154: 1 | H154: ERC6c Industrial use of monomers for manufacture of thermo-plastics | I154: x | J154: TEGEWA | L154: (Default: 252.5) | M154: =O154*$W$289 -> 0.486 | N154: =P154*$W$289 -> 0.0675 | O154: 0.36 | P154: 0.05
A155: 154 | B155: EPDLA-RMH1.5 | C155: EPDLA Manufacture of aqueous polymer dispersions and dispersion powders Use of Process Regulators for Polymerisation | D155: EU TGD/EUSES | E155: Processing / End use | F155: 5171.48 | G155: 1 | H155: ERC6d Industrial use of process regulators for polymerisation processes in production of resins, rubbers, polymers | I155: x | J155: User-Defined | L155: (Default: 17,238.27) | M155: =O155*$W$289 -> 0.027 | N155: =P155*$W$289 -> 0.004455 | O155: 0.02 | P155: 0.0033
A156: 155 | B156: GRG | C156: General Rubber Goods | D156: EU TGD/EUSES | E156: Processing / End use | F156: 51.71 | G156: 1 | H156: ERC6d Industrial use of process regulators for polymerisation processes in production of resins, rubbers, polymers | I156: x | J156: ETRMA | K156: ETRMA SPERC 3/6d.2a v.2 Manufacture of Rubber Products: Industrial (SU3, SU11) GRG use of vulcanization agents, anti-ageing agents / antidegradants | L156: (Default: 100) | M156: =O156*$W$289 -> 0.0003105 | N156: =P156*$W$289 -> 4.185e-05 | O156: 0.00023 | P156: 3.1e-05
A157: 156 | B157: PPRM | C157: Industrial manufacture of resins (Polyester Powder Resin Manufacturers Sector Group (PPRM)) | D157: EU TGD/EUSES | E157: Processing / End use | F157: 68.95 | G157: 1 | H157: ERC6d Industrial use of process regulators for polymerisation processes in production of resins, rubbers, polymers | I157: x | J157: Eurometaux | L157: (Default: 3,447.5) | M157: =O157*$W$289 -> 0.00675 | N157: =P157*$W$289 -> 0.0009045 | O157: 0.005 | P157: 0.00067
A158: 157 | B158: TEGEWA-T15.1 | C158: TEGEWA-T15.1 Mixing | D158: EU TGD/EUSES | E158: Processing / End use | F158: 5.05 | G158: 1 | H158: ERC6d Industrial use of process regulators for polymerisation processes in production of resins, rubbers, polymers | I158: x | J158: TEGEWA | L158: (Default: 252.5) | M158: =O158*$W$289 -> 0.000486 | N158: =P158*$W$289 -> 6.615e-05 | O158: 0.00036 | P158: 4.9e-05
A159: 158 | B159: TEGEWA-T16.1 | C159: TEGEWA-T16.1 Coating | D159: EU TGD/EUSES | E159: Processing / End use | F159: 5.05 | G159: 1 | H159: ERC6d Industrial use of process regulators for polymerisation processes in production of resins, rubbers, polymers | I159: x | J159: TEGEWA | L159: (Default: 252.5) | M159: =O159*$W$289 -> 0.000486 | N159: =P159*$W$289 -> 6.615e-05 | O159: 0.00036 | P159: 4.9e-05
A160: 159 | B160: TEGEWA-T18.1 | C160: TEGEWA-T18.1 extrusion (Reactive) | D160: EU TGD/EUSES | E160: Processing / End use | F160: 5.05 | G160: 1 | H160: ERC6d Industrial use of process regulators for polymerisation processes in production of resins, rubbers, polymers | I160: x | J160: TEGEWA | L160: (Default: 252.5) | M160: =O160*$W$289 -> 0.000486 | N160: =P160*$W$289 -> 6.615e-05 | O160: 0.00036 | P160: 4.9e-05
A161: 160 | B161: Tyres | C161: Tyres | D161: EU TGD/EUSES | E161: Processing / End use | F161: 51.71 | G161: 1 | H161: ERC6d Industrial use of process regulators for polymerisation processes in production of resins, rubbers, polymers | I161: x | J161: ETRMA | K161: ETRMA SPERC 3/6d.2a v.2 Manufacture of Rubber Products: Industrial (SU3, SU11) GRG use of vulcanization agents, anti-ageing agents / antidegradants | L161: (Default: 100) | M161: =O161*$W$289 -> 0.0003105 | N161: =P161*$W$289 -> 4.185e-05 | O161: 0.00023 | P161: 3.1e-05
A162: 161 | B162: ATIEL-ATC Group B [i] | C162: General industrial use of lubricants and greases in vehicles or machinery. Includes filling and draining of containers and enclosed machinery (including engines) | D162: EU TGD/EUSES | E162: Processing / End use | F162: 208.86 | G162: 1 | H162: ERC7 Industrial use of substances in closed systems | I162: x | J162: User-Defined | K162: ATC/ATIEL B(i) | L162: (Default: 696.2) | M162: =O162*$W$289 -> 5.4e-10 | N162: =P162*$W$289 -> 7.29e-11 | O162: 4e-10 | P162: 5.4e-11
A163: 162 | B163: ESVOC | C163: Use as a fuel including incineration of wastes and use as a solvent in fuel additives, covers refueling and evaporative losses | D163: EU TGD/EUSES | E163: Processing / End use | F163: 7.76 | G163: 1 | H163: ERC7 Industrial use of substances in closed systems | I163: x | J163: ESVOC | K163: ESVOC SpERC 7.12a.v1 Use as a fuel: Industrial (SU3) | L163: (Default: 25.87) | M163: =O163*$W$289 -> 1.0125e-05 | N163: =P163*$W$289 -> 1.35e-06 | O163: 7.5e-06 | P163: 1e-06
A164: 163 | B164: ESVOC | C164: Use as functional fluids e.g. cable oils, transfer oils, insulators, hydraulic fluids in industrial equipment including maintenance and related material transfers | D164: EU TGD/EUSES | E164: Processing / End use | F164: 7.76 | G164: 1 | H164: ERC7 Industrial use of substances in closed systems | I164: x | J164: ESVOC | K164: ESVOC SpERC 7.13a.v1 Functional Fluids: Industrial (SU3) | L164: (Default: 388) | M164: =O164*$W$289 -> 0.0135 | N164: =P164*$W$289 -> 0.002025 | O164: 0.01 | P164: 0.0015
A165: 164 | B165: AISE_C_001_v1Non-Propellants | C165: Consumer uses; air care products | D165: EU TGD/EUSES | E165: Processing / End use | F165: 1970.09 | G165: spERC: 4 % | H165: ERC8a Wide dispersive indoor use of processing aids in open systems | I165: x | J165: AISE | K165: AISE SPERC 8a.1.b.v2 AISE Wide Dispersive Use in Aerosol products for cleaning and maintenance products (Non-Propellants) (Consumers and Professionals) Fraction of EU tonnage to region: 0.04 (default: 0.1) | L165: (Default: 0.16) | M165: =O165*$W$289 -> 0.006345 | N165: =P165*$W$289 -> 0.0008505 | O165: 0.0047 | P165: 0.00063
A166: 165 | B166: AISE_C_001_v1Propellants | C166: Consumer uses; air care products | D166: EU TGD/EUSES | E166: Processing / End use | F166: 1970.09 | G166: spERC: 4 % | H166: ERC8a Wide dispersive indoor use of processing aids in open systems | I166: x | J166: AISE | K166: AISE SPERC 8a.1.c.v2 AISE Wide Dispersive Use in Aerosol products for cleaning and maintenance products (Propellants) (Consumers and Professionals) Fraction of EU tonnage to region: 0.04 (default: 0.1) | L166: (Default: 0.16) | M166: =O166*$W$289 -> 0 | N166: =P166*$W$289 -> 0 | O166: 0 | P166: 0
A167: 166 | B167: AISE_C_002_v1'Down the Drain' cleaning and maintenance products | C167: Consumer uses; washing and cleaning products | D167: EU TGD/EUSES | E167: Processing / End use | F167: 1970.09 | G167: spERC: 4 % | H167: ERC8a Wide dispersive indoor use of processing aids in open systems | I167: x | J167: AISE | K167: AISE SPERC 8a.1.a.v2 AISE Wide Dispersive Use in 'Down the Drain' cleaning and maintenance products (Consumers and Professionals) Fraction of EU tonnage to region: 0.04 (default: 0.1) | L167: (Default: 0.16) | M167: =O167*$W$289 -> 0.006345 | N167: =P167*$W$289 -> 0.0008505 | O167: 0.0047 | P167: 0.00063
A168: 167 | B168: AISE_C_002_v1Non-Propellants | C168: Consumer uses; washing and cleaning products | D168: EU TGD/EUSES | E168: Processing / End use | F168: 1970.09 | G168: spERC: 4 % | H168: ERC8a Wide dispersive indoor use of processing aids in open systems | I168: x | J168: AISE | K168: AISE SPERC 8a.1.b.v2 AISE Wide Dispersive Use in Aerosol products for cleaning and maintenance products (Non-Propellants) (Consumers and Professionals) Fraction of EU tonnage to region: 0.04 (default: 0.1) | L168: (Default: 0.16) | M168: =O168*$W$289 -> 0.006345 | N168: =P168*$W$289 -> 0.0008505 | O168: 0.0047 | P168: 0.00063
A169: 168 | B169: AISE_C_002_v1Propellants | C169: Consumer uses; washing and cleaning products | D169: EU TGD/EUSES | E169: Processing / End use | F169: 1970.09 | G169: spERC: 4 % | H169: ERC8a Wide dispersive indoor use of processing aids in open systems | I169: x | J169: AISE | K169: AISE SPERC 8a.1.c.v2 AISE Wide Dispersive Use in Aerosol products for cleaning and maintenance products (Propellants) (Consumers and Professionals) Fraction of EU tonnage to region: 0.04 (default: 0.1) | L169: (Default: 0.16) | M169: =O169*$W$289 -> 0 | N169: =P169*$W$289 -> 0 | O169: 0 | P169: 0
A170: 169 | B170: AISE_C_003_v1 | C170: Consumer uses; polishes and wax blends | D170: EU TGD/EUSES | E170: Processing / End use | F170: 1970.09 | G170: 0.1 | H170: ERC8a Wide dispersive indoor use of processing aids in open systems | I170: x | J170: AISE | L170: (Default: 1.08) | M170: =O170*$W$289 -> 0.0405 | N170: =P170*$W$289 -> 0.00567 | O170: 0.03 | P170: 0.0042
A171: 170 | B171: AISE_C_004_v1 | C171: Consumer uses; biocidal products | D171: EU TGD/EUSES | E171: Processing / End use | F171: 1970.09 | G171: 0.1 | H171: ERC8a Wide dispersive indoor use of processing aids in open systems | I171: x | J171: AISE | L171: (Default: 1.08) | M171: =O171*$W$289 -> 0.0405 | N171: =P171*$W$289 -> 0.00567 | O171: 0.03 | P171: 0.0042
A172: 171 | B172: AISE_PW_001_v1 | C172: Professional uses; Washing, cleaning and disinfecting products | D172: EU TGD/EUSES | E172: Processing / End use | F172: 6895.3 | G172: spERC: 4 % | H172: ERC8a Wide dispersive indoor use of processing aids in open systems | I172: x | J172: AISE | K172: AISE SPERC 8a.1.a.v2 AISE Wide Dispersive Use in 'Down the Drain' cleaning and maintenance products (Consumers and Professionals) Fraction of EU tonnage to region: 0.04 (default: 0.1) | L172: (Default: 0.57) | M172: =O172*$W$289 -> 0.027 | N172: =P172*$W$289 -> 0.00297 | O172: 0.02 | P172: 0.0022
A173: 172 | B173: AISE_PW_002_v1 | C173: Professional uses; Polishes and wax blends | D173: EU TGD/EUSES | E173: Processing / End use | F173: 6895.3 | G173: spERC: 4 % | H173: ERC8a Wide dispersive indoor use of processing aids in open systems | I173: x | J173: AISE | K173: AISE SPERC 8a.1.a.v2 AISE Wide Dispersive Use in 'Down the Drain' cleaning and maintenance products (Consumers and Professionals) Fraction of EU tonnage to region: 0.04 (default: 0.1) | L173: (Default: 0.57) | M173: =O173*$W$289 -> 0.027 | N173: =P173*$W$289 -> 0.00297 | O173: 0.02 | P173: 0.0022
A174: 173 | B174: ATIEL-ATC Group C [c] | C174: (Consumer) Use in open system. Application of lubricant to work pieces or equipment by dipping, brushing or spraying (without exposure to heat), e.g. mould releases, corrosion protection, slideways | D174: EU TGD/EUSES | E174: Processing / End use | F174: 51.71 | G174: 0.1 | H174: ERC8a Wide dispersive indoor use of processing aids in open systems | I174: x | J174: ATIEL-ATC | K174: ATIEL-ATC SPERC 8.Cc.v1 Covers consumer use of lubricants and greases in open systems, including application of lubricant to work pieces or equipment by dipping, brushing or spraying (without exposure to heat), e.g. mould releases, corrosion protection, | L174: (Default: 0.01) | M174: =O174*$W$289 -> 1.35e-07 | N174: =P174*$W$289 -> 1.89e-08 | O174: 1e-07 | P174: 1.4e-08
A175: 174 | B175: ATIEL-ATC Group C [p] | C175: (Professional) Use in open system. Application of lubricant to work pieces or equipment by dipping, brushing or spraying (without exposure to heat), e.g. mould releases, corrosion protection, slideways | D175: EU TGD/EUSES | E175: Processing / End use | F175: 124.12 | G175: 0.1 | H175: ERC8a Wide dispersive indoor use of processing aids in open systems | I175: x | J175: User-Defined | K175: ATC/ATIEL C(p) | L175: (Default: 3.4) | M175: =O175*$W$289 -> 6.615e-05 | N175: =P175*$W$289 -> 8.91e-06 | O175: 4.9e-05 | P175: 6.6e-06
A176: 175 | B176: ATIEL-ATC Group F [p] | C176: (Professional) Use of lubricants in high energy open processes, e.g. in high speed machinery such as metal rolling / forming or metalworking fluids for machining and grinding | D176: EU TGD/EUSES | E176: Processing / End use | F176: 124.12 | G176: 0.1 | H176: ERC8a Wide dispersive indoor use of processing aids in open systems | I176: x | J176: User-Defined | K176: ATC/ATIEL F(p) | L176: (Default: 3.4) | M176: =O176*$W$289 -> 0.0001323 | N176: =P176*$W$289 -> 1.755e-05 | O176: 9.8e-05 | P176: 1.3e-05
A177: 176 | B177: CEPE | C177: Professional application of coatings or inks | D177: EU TGD/EUSES | E177: Processing / End use | F177: 8.87 | G177: 0.1 | H177: ERC8a Wide dispersive indoor use of processing aids in open systems | I177: x | J177: CEPE | K177: CEPE SPERC 8a.2a.v1 application professional bush/roller indoor use – volatiles | L177: (Default: 0.01) | M177: =O177*$W$289 -> 3.105e-06 | N177: =P177*$W$289 -> 4.185e-07 | O177: 2.3e-06 | P177: 3.1e-07
A178: 177 | B178: CEPE | C178: Ancilliary activities in industrial, professional or consumer application of coatings and inks | D178: EU TGD/EUSES | E178: Processing / End use | F178: 8.87 | G178: 0.1 | H178: ERC8a Wide dispersive indoor use of processing aids in open systems | I178: x | J178: CEPE | L178: (Default: 0) | M178: =O178*$W$289 -> 0.000189 | N178: =P178*$W$289 -> 2.565e-05 | O178: 0.00014 | P178: 1.9e-05
A179: 178 | B179: CEPE | C179: Consumer application of coatings | D179: EU TGD/EUSES | E179: Processing / End use | F179: 4.14 | G179: 0.1 | H179: ERC8a Wide dispersive indoor use of processing aids in open systems | I179: x | J179: CEPE | K179: CEPE SPERC 8a.1a.v1 application consumer bush/roller indoor use – volatiles | L179: (Default: 0) | M179: =O179*$W$289 -> 8.775e-07 | N179: =P179*$W$289 -> 1.188e-07 | O179: 6.5e-07 | P179: 8.8e-08
A180: 179 | B180: CEPE | C180: Consumer application of coatings | D180: EU TGD/EUSES | E180: Processing / End use | F180: 4.14 | G180: 0.1 | H180: ERC8a Wide dispersive indoor use of processing aids in open systems | I180: x | J180: CEPE | K180: CEPE SPERC 8a.1a.v1 application consumer bush/roller indoor use – volatiles | L180: (Default: 0) | M180: =O180*$W$289 -> 8.775e-07 | N180: =P180*$W$289 -> 1.188e-07 | O180: 6.5e-07 | P180: 8.8e-08
A181: 180 | B181: EFCC_PW_11-i_v2 | C181: use of construction chemical products by spray application (high energy), indoor | D181: EU TGD/EUSES | E181: Processing / End use | F181: 1723.83 | G181: 0.1 | H181: ERC8a Wide dispersive indoor use of processing aids in open systems | I181: x | J181: User-Defined | K181: EFCC SPERC 8a.1a.v2 | L181: (Default: 0.94) | M181: =O181*$W$289 -> 0.0005535 | N181: =P181*$W$289 -> 7.425e-05 | O181: 0.00041 | P181: 5.5e-05
A182: 181 | B182: EFCC_PW_L-10-i_v2 | C182: large-scale use of construction chemical products by roller or brushing application, indoor | D182: EU TGD/EUSES | E182: Processing / End use | F182: 1206.8 | G182: 0.1 | H182: ERC8a Wide dispersive indoor use of processing aids in open systems | I182: x | J182: User-Defined | K182: EFCC SPERC 8a.1a.v2 | L182: (Default: 0.66) | M182: =O182*$W$289 -> 0.0003915 | N182: =P182*$W$289 -> 5.13e-05 | O182: 0.00029 | P182: 3.8e-05
A183: 182 | B183: EFCC_PW_L-13-i_v2 | C183: large-scale use of construction chemical products by pouring application, indoor | D183: EU TGD/EUSES | E183: Processing / End use | F183: 1206.8 | G183: 0.1 | H183: ERC8a Wide dispersive indoor use of processing aids in open systems | I183: x | J183: User-Defined | K183: EFCC SPERC 8a.1a.v2 | L183: (Default: 0.66) | M183: =O183*$W$289 -> 0.0003915 | N183: =P183*$W$289 -> 5.13e-05 | O183: 0.00029 | P183: 3.8e-05
A184: 183 | B184: EFCC_PW_S-10-i_v2 | C184: small-scale use of construction chemical products by roller or brushing application, indoor | D184: EU TGD/EUSES | E184: Processing / End use | F184: 517.2 | G184: 0.1 | H184: ERC8a Wide dispersive indoor use of processing aids in open systems | I184: x | J184: User-Defined | K184: EFCC SPERC 8a.1a.v2 | L184: (Default: 0.28) | M184: =O184*$W$289 -> 0.000162 | N184: =P184*$W$289 -> 2.16e-05 | O184: 0.00012 | P184: 1.6e-05
A185: 184 | B185: EFCC_PW_S-13-i_v2 | C185: small-scale use of construction chemical products by pouring application, indoor | D185: EU TGD/EUSES | E185: Processing / End use | F185: 517.2 | G185: 0.1 | H185: ERC8a Wide dispersive indoor use of processing aids in open systems | I185: x | J185: User-Defined | K185: EFCC SPERC 8a.1a.v2 | L185: (Default: 0.28) | M185: =O185*$W$289 -> 0.000162 | N185: =P185*$W$289 -> 2.16e-05 | O185: 0.00012 | P185: 1.6e-05
A186: 185 | B186: ESVOC | C186: Use of small quantities within laboratory settings | D186: EU TGD/EUSES | E186: Processing / End use | F186: 3.45 | G186: 0.1 | H186: ERC8a Wide dispersive indoor use of processing aids in open systems | I186: x | J186: ESVOC | K186: ESVOC SpERC 8.17.v1 Laboratory reagents: Professional (SU22) | L186: (Default: 0) | M186: =O186*$W$289 -> 9.18e-06 | N186: =P186*$W$289 -> 1.242e-06 | O186: 6.8e-06 | P186: 9.2e-07
A187: 186 | B187: ESVOC | C187: General exposures to consumers arising from the use household products sold as washing and cleaning products, aerosols, coatings, de-icers, lubricants and air care products | D187: EU TGD/EUSES | E187: Processing / End use | F187: 3.45 | G187: 0.1 | H187: ERC8a Wide dispersive indoor use of processing aids in open systems | I187: x | J187: ESVOC | K187: ESVOC SpERC 8.4c.v1 Use in Cleaning Agents: Consumer (SU21) | L187: (Default: 0) | M187: =O187*$W$289 -> 9.18e-07 | N187: =P187*$W$289 -> 1.242e-07 | O187: 6.8e-07 | P187: 9.2e-08
A188: 187 | B188: ESVOC | C188: Consumer use of formulated lubricants in open systems including transfer operations, application, operation of engines and similar articles, recycling and disposal of waste oil. | D188: EU TGD/EUSES | E188: Processing / End use | F188: 3.45 | G188: 0.1 | H188: ERC8a Wide dispersive indoor use of processing aids in open systems | I188: x | J188: ESVOC | K188: ESVOC SpERC 8.6e.v1 Lubricants: Consumer (SU21) high environmental release | L188: (Default: 0) | M188: =O188*$W$289 -> 1.89e-06 | N188: =P188*$W$289 -> 2.43e-07 | O188: 1.4e-06 | P188: 1.8e-07
A189: 188 | B189: ESVOC | C189: Other Consumer Uses: Consumer | D189: EU TGD/EUSES | E189: Processing / End use | F189: 3.45 | G189: 0.1 | H189: ERC8a Wide dispersive indoor use of processing aids in open systems | I189: x | J189: ESVOC | K189: ESVOC SpERC 8.16.v1 Other Consumer Uses: Consumer (SU21) | L189: (Default: 0) | M189: =O189*$W$289 -> 4.59e-07 | N189: =P189*$W$289 -> 6.21e-08 | O189: 3.4e-07 | P189: 4.6e-08
A190: 189 | B190: ESVOC | C190: Use in coatings (paints, inks, adhesives, etc) | D190: EU TGD/EUSES | E190: Processing / End use | F190: 3.45 | G190: 0.1 | H190: ERC8a Wide dispersive indoor use of processing aids in open systems | I190: x | J190: ESVOC | K190: ESVOC SpERC 8.3b.v1 Uses in Coatings: Professional (SU22) | L190: (Default: 0) | M190: =O190*$W$289 -> 1.89e-07 | N190: =P190*$W$289 -> 2.43e-08 | O190: 1.4e-07 | P190: 1.8e-08
... A204: 203 | B204: FEICA_PW_007 | C204: Professional application of reactive sealants | D204: EU TGD/EUSES | E204: Processing / End use | F204: 14.1 | G204: 0.1 | H204: ERC8a Wide dispersive indoor use of processing aids in open systems | I204: x | J204: FEICA | K204: FEICA SPERC 8a.3.v2 Wide dispersive Use of Solvents in Adhesives and Sealants | L204: (Default: 0.01) | M204: =O204*$W$289 -> 4.455e-06 | N204: =P204*$W$289 -> 6.075e-07 | O204: 3.3e-06 | P204: 4.5e-07
A205: 204 | B205: Fertilizers Europe_C_001_v1 | C205: Consumer use of fertilizer products. | D205: EU TGD/EUSES | E205: Processing / End use | F205: 172.38 | G205: 0.1 | H205: ERC8a Wide dispersive indoor use of processing aids in open systems | J205: User-Defined | L205: (Default: 0.09) | M205: =O205*$W$289 -> 0
A206: 205 | B206: Fertilizers Europe_PW_001_v1 | C206: Professional use of fertilizers. | D206: EU TGD/EUSES | E206: Processing / End use | F206: 443.27 | G206: 0.1 | H206: ERC8a Wide dispersive indoor use of processing aids in open systems | J206: User-Defined | K206: Fertilizers Europe | L206: (Default: 0.24) | M206: =O206*$W$289 -> 0
A207: 206 | B207: sector_C_001_v1hair and skin care products (Consumers and Professionals) | C207: End use of cosmetic products | D207: EU TGD/EUSES | E207: Processing / End use | F207: 3447.65 | G207: spERC: 5.3 % | H207: ERC8a Wide dispersive indoor use of processing aids in open systems | I207: x | J207: User-Defined | K207: Cosmetics Europe 8a.1a.v2 | L207: (Default: 0.38) | M207: =O207*$W$289 -> 0.0135 | N207: =P207*$W$289 -> 0.002025 | O207: 0.01 | P207: 0.0015
A208: 207 | B208: sector_C_001_v1Use in Aerosol products for hair and skin care (Propellants) | C208: End use of cosmetic products | D208: EU TGD/EUSES | E208: Processing / End use | F208: 3447.65 | G208: spERC: 5.3 % | H208: ERC8a Wide dispersive indoor use of processing aids in open systems | I208: x | J208: User-Defined | K208: Cosmetics Europe 8a.1b.v2 | L208: (Default: 0.38) | M208: =O208*$W$289 -> 0.0135 | N208: =P208*$W$289 -> 0.002025 | O208: 0.01 | P208: 0.0015
A209: 208 | B209: sector_C_001_v1Use of Aerosol products for hair and skin care (Non-Propellants) | C209: End use of cosmetic products | D209: EU TGD/EUSES | E209: Processing / End use | F209: 3447.65 | G209: spERC: 5.3 % | H209: ERC8a Wide dispersive indoor use of processing aids in open systems | I209: x | J209: User-Defined | K209: Cosmetics Europe 8a.1c.v2 | L209: (Default: 0.38) | M209: =O209*$W$289 -> 0.0135 | N209: =P209*$W$289 -> 0.002025 | O209: 0.01 | P209: 0.0015
A210: 209 | B210: sector_PW_001_v1hair and skin care products (Consumers and Professionals) | C210: Hairdressing services | D210: EU TGD/EUSES | E210: Processing / End use | F210: 3447.65 | G210: spERC: 5.3 % | H210: ERC8a Wide dispersive indoor use of processing aids in open systems | I210: x | J210: User-Defined | K210: Cosmetics Europe 8a.1a.v2 | L210: (Default: 0.38) | M210: =O210*$W$289 -> 0.0135 | N210: =P210*$W$289 -> 0.002025 | O210: 0.01 | P210: 0.0015
A211: 210 | B211: sector_PW_001_v1Use in Aerosol products for hair and skin care (Propellants) | C211: Hairdressing services | D211: EU TGD/EUSES | E211: Processing / End use | F211: 3447.65 | G211: spERC: 5.3 % | H211: ERC8a Wide dispersive indoor use of processing aids in open systems | I211: x | J211: User-Defined | K211: Cosmetics Europe 8a.1b.v2 | L211: (Default: 0.38) | M211: =O211*$W$289 -> 0.0135 | N211: =P211*$W$289 -> 0.002025 | O211: 0.01 | P211: 0.0015
A212: 211 | B212: sector_PW_001_v1Use of Aerosol products for hair and skin care (Non-Propellants) | C212: Hairdressing services | D212: EU TGD/EUSES | E212: Processing / End use | F212: 3447.65 | G212: spERC: 5.3 % | H212: ERC8a Wide dispersive indoor use of processing aids in open systems | I212: x | J212: User-Defined | K212: Cosmetics Europe 8a.1c.v2 | L212: (Default: 0.38) | M212: =O212*$W$289 -> 0.0135 | N212: =P212*$W$289 -> 0.002025 | O212: 0.01 | P212: 0.0015
A213: 212 | B213: Fertilizers Europe_C_001_v1 | C213: Consumer use of fertilizer products. | D213: EU TGD/EUSES | E213: Processing / End use | F213: 172.38 | G213: 0.1 | H213: ERC8b Wide dispersive indoor use of reactive substances in open systems | J213: User-Defined | L213: (Default: 0.09) | M213: =O213*$W$289 -> 0
A214: 213 | B214: Fertilizers Europe_PW_001_v1 | C214: Professional use of fertilizers. | D214: EU TGD/EUSES | E214: Processing / End use | F214: 443.27 | G214: 0.1 | H214: ERC8b Wide dispersive indoor use of reactive substances in open systems | J214: User-Defined | K214: Fertilizers Europe | L214: (Default: 0.24) | M214: =O214*$W$289 -> 0
A215: 214 | B215: CEPE | C215: Professional application of coatings or inks | D215: EU TGD/EUSES | E215: Processing / End use | F215: 8.87 | G215: 0.1 | H215: ERC8c Wide dispersive indoor use resulting in inclusion into or onto a matrix | I215: x | J215: CEPE | K215: CEPE SPERC 8c.2a.v1 application professional bush/roller indoor use – solids | L215: (Default: 0.01) | M215: =O215*$W$289 -> 3.105e-06 | N215: =P215*$W$289 -> 4.185e-07 | O215: 2.3e-06 | P215: 3.1e-07
A216: 215 | B216: CEPE | C216: Ancilliary activities in industrial, professional or consumer application of coatings and inks | D216: EU TGD/EUSES | E216: Processing / End use | F216: 8.87 | G216: 0.1 | H216: ERC8c Wide dispersive indoor use resulting in inclusion into or onto a matrix | I216: x | J216: CEPE | L216: (Default: 0) | M216: =O216*$W$289 -> 1.89e-06 | N216: =P216*$W$289 -> 2.565e-07 | O216: 1.4e-06 | P216: 1.9e-07
A217: 216 | B217: CEPE | C217: Consumer application of coatings | D217: EU TGD/EUSES | E217: Processing / End use | F217: 4.14 | G217: 0.1 | H217: ERC8c Wide dispersive indoor use resulting in inclusion into or onto a matrix | I217: x | J217: CEPE | K217: CEPE SPERC 8c.1a.v1 application consumer bush/roller indoor use – solids | L217: (Default: 0) | M217: =O217*$W$289 -> 8.775e-07 | N217: =P217*$W$289 -> 1.188e-07 | O217: 6.5e-07 | P217: 8.8e-08
A218: 217 | B218: EFCC_PW_11-i_v2 | C218: use of construction chemical products by spray application (high energy), indoor | D218: EU TGD/EUSES | E218: Processing / End use | F218: 1723.83 | G218: 0.1 | H218: ERC8c Wide dispersive indoor use resulting in inclusion into or onto a matrix | I218: x | J218: User-Defined | K218: EFCC SPERC 8c.1a.v2 | L218: (Default: 0.94) | M218: =O218*$W$289 -> 0.0005535 | N218: =P218*$W$289 -> 7.425e-05 | O218: 0.00041 | P218: 5.5e-05
A219: 218 | B219: EFCC_PW_L-10-i_v2 | C219: large-scale use of construction chemical products by roller or brushing application, indoor | D219: EU TGD/EUSES | E219: Processing / End use | F219: 1206.8 | G219: 0.1 | H219: ERC8c Wide dispersive indoor use resulting in inclusion into or onto a matrix | I219: x | J219: User-Defined | K219: EFCC SPERC 8c.1a.v2 | L219: (Default: 0.66) | M219: =O219*$W$289 -> 0.0003915 | N219: =P219*$W$289 -> 5.13e-05 | O219: 0.00029 | P219: 3.8e-05
A220: 219 | B220: EFCC_PW_L-13-i_v2 | C220: large-scale use of construction chemical products by pouring application, indoor | D220: EU TGD/EUSES | E220: Processing / End use | F220: 1206.8 | G220: 0.1 | H220: ERC8c Wide dispersive indoor use resulting in inclusion into or onto a matrix | I220: x | J220: User-Defined | K220: EFCC SPERC 8c.1a.v2 | L220: (Default: 0.66) | M220: =O220*$W$289 -> 0.0003915 | N220: =P220*$W$289 -> 5.13e-05 | O220: 0.00029 | P220: 3.8e-05
...

Sheet C14
A1: # | B1: Scenario code | C1: Scenario name | D1: Calculation Model | E1: Lifecycle stage | F1: Tonnage | G1: Fraction of tonnage to region | H1: ERC | I1: STP | J1: spERC Industry sector | K1: spERC | L1: Daily amount used at site [kg/day] | M1: Clocaleff (default degradation rates) | N1: Clocaleff (mg/L) (AS specific degradation rates) | O1: RCR STP (default degradation rates | P1: RCR STP (AS degradation rates
A2: 1 | B2: Manufacturing | C2: Manufacturing | D2: EU TGD/EUSES | E2: Manufacturing | F2: 44482 | G2: 1 | H2: ERC1 Manufacture of substances | I2: x | J2: User-Defined | K2: AS-Manufacturing ERASM | L2: (Default: 79,318.18) | M2: =O2*$W$290 -> 3.623 | N2: =P2*$W$290 -> 0.49 | O2: 3.623 | P2: 0.49
A3: 2 | B3: AISE_F_001_v1High Low Viscosity (medium scale) | C3: Formulation into mixture; Washing, cleaning, maintenance and disinfecting products | D3: EU TGD/EUSES | E3: Formulation | F3: 1434.9 | G3: 1 | H3: ERC2 Formulation of preparations | I3: x | J3: AISE | K3: AISE SPERC 2.1.k.v2 AISE Formulation of liquid Detergents/Maintenance Products: High Low Viscosity (medium scale) | L3: (Default: 4,500) | M3: =O3*$W$290 -> 0.32 | N3: =P3*$W$290 -> 0.04 | O3: 0.32 | P3: 0.04
A4: 3 | B4: AISE_F_001_v1High Viscosity (large scale) | C4: Formulation into mixture; Washing, cleaning, maintenance and disinfecting products | D4: EU TGD/EUSES | E4: Formulation | F4: 2869.8 | G4: 1 | H4: ERC2 Formulation of preparations | I4: x | J4: AISE | K4: AISE SPERC 2.1.j.v2 AISE Formulation of liquid Detergents/Maintenance Products: High Viscosity (large scale) | L4: (Default: 11,479.2) | M4: =O4*$W$290 -> 0.41 | N4: =P4*$W$290 -> 0.06 | O4: 0.41 | P4: 0.06
A5: 4 | B5: AISE_F_001_v1High Viscosity (small scale) | C5: Formulation into mixture; Washing, cleaning, maintenance and disinfecting products | D5: EU TGD/EUSES | E5: Formulation | F5: 478.3 | G5: 1 | H5: ERC2 Formulation of preparations | I5: x | J5: AISE | K5: AISE SPERC 2.1.l.v2 AISE Formulation of liquid Detergents/Maintenance Products: High Viscosity (small scale) | L5: (Default: 450) | M5: =O5*$W$290 -> 0.06 | N5: =P5*$W$290 -> 0.0087 | O5: 0.06 | P5: 0.0087
A6: 5 | B6: AISE_F_001_v1Low Viscosity (large scale) | C6: Formulation into mixture; Washing, cleaning, maintenance and disinfecting products | D6: EU TGD/EUSES | E6: Formulation | F6: 2869.8 | G6: 1 | H6: ERC2 Formulation of preparations | I6: x | J6: AISE | K6: AISE SPERC 2.1.g.v2 AISE Formulation of liquid Detergents/Maintenance Products: Low Viscosity (large scale) | L6: (Default: 11,479.2) | M6: =O6*$W$290 -> 0.04 | N6: =P6*$W$290 -> 0.0056 | O6: 0.04 | P6: 0.0056
A7: 6 | B7: AISE_F_001_v1Low Viscosity (medium scale) | C7: Formulation into mixture; Washing, cleaning, maintenance and disinfecting products | D7: EU TGD/EUSES | E7: Formulation | F7: 1434.9 | G7: 1 | H7: ERC2 Formulation of preparations | I7: x | J7: AISE | K7: AISE SPERC 2.1.h.v2 AISE Formulation of liquid Detergents/Maintenance Products: Low Viscosity (medium scale) | L7: (Default: 4,500) | M7: =O7*$W$290 -> 0.16 | N7: =P7*$W$290 -> 0.02 | O7: 0.16 | P7: 0.02
A8: 7 | B8: AISE_F_001_v1Low Viscosity (small scale) | C8: Formulation into mixture; Washing, cleaning, maintenance and disinfecting products | D8: EU TGD/EUSES | E8: Formulation | F8: 478.3 | G8: 1 | H8: ERC2 Formulation of preparations | I8: x | J8: AISE | K8: AISE SPERC 2.1.i.v2 AISE Formulation of liquid Detergents/Maintenance Products: Low Viscosity (small scale) | L8: (Default: 450) | M8: =O8*$W$290 -> 0.03 | N8: =P8*$W$290 -> 0.0044 | O8: 0.03 | P8: 0.0044
A9: 8 | B9: AISE_F_001_v1Regular & Compact (large scale) | C9: Formulation into mixture; Washing, cleaning, maintenance and disinfecting products | D9: EU TGD/EUSES | E9: Formulation | F9: 2869.8 | G9: 1 | H9: ERC2 Formulation of preparations | I9: x | J9: AISE | K9: AISE SPERC 2.1.a.v2 AISE Formulation of Granular Detergents/Maintenance Products -Regular & Compact (large scale) | L9: (Default: 11,479.2) | M9: =O9*$W$290 -> 0.04 | N9: =P9*$W$290 -> 0.0056 | O9: 0.04 | P9: 0.0056
A10: 9 | B10: AISE_F_001_v1Regular & Compact (medium scale) | C10: Formulation into mixture; Washing, cleaning, maintenance and disinfecting products | D10: EU TGD/EUSES | E10: Formulation | F10: 1434.9 | G10: 1 | H10: ERC2 Formulation of preparations | I10: x | J10: AISE | K10: AISE SPERC 2.1.b.v2 AISE Formulation of Grnaular Detergents/Maintenance Products-Regular & Compact (medium scale) | L10: (Default: 4,500) | M10: =O10*$W$290 -> 0.16 | N10: =P10*$W$290 -> 0.02 | O10: 0.16 | P10: 0.02
A11: 10 | B11: AISE_F_001_v1Regular & Compact (small scale) | C11: Formulation into mixture; Washing, cleaning, maintenance and disinfecting products | D11: EU TGD/EUSES | E11: Formulation | F11: 478.3 | G11: 1 | H11: ERC2 Formulation of preparations | I11: x | J11: AISE | K11: AISE SPERC 2.1.c.v2 AISE Formulation of Granular Detergents/Maintenance Products-Regular & Compact (small scale) | L11: (Default: 450) | M11: =O11*$W$290 -> 0.03 | N11: =P11*$W$290 -> 0.0044 | O11: 0.03 | P11: 0.0044
A12: 11 | B12: ATIEL-ATC Group A [i] | C12: Industrial formulation of lubricant additives, lubricants and greases. Includes material transfers, mixing, large and small packing, sampling, maintenance and associated laboratory activities | D12: EU TGD/EUSES | E12: Formulation | F12: 358.5 | G12: 1 | H12: ERC2 Formulation of preparations | I12: x | J12: User-Defined | K12: ATC-ATIEL A(i) | L12: (Default: 1,195) | M12: =O12*$W$290 -> 8.6e-10 | N12: =P12*$W$290 -> 1.2e-10 | O12: 8.6e-10 | P12: 1.2e-10
A13: 12 | B13: ATIEL-ATC Group E [i] | C13: (Industrial) Handling and dilution of metalworking fluid concentrates | D13: EU TGD/EUSES | E13: Formulation | F13: 358.5 | G13: 1 | H13: ERC2 Formulation of preparations | I13: x | J13: User-Defined | K13: ATC/ATIEL E(i) | L13: (Default: 1,195) | M13: =O13*$W$290 -> 8.6e-10 | N13: =P13*$W$290 -> 1.2e-10 | O13: 8.6e-10 | P13: 1.2e-10
... A46: 45 | B46: sector_F_001_v1 solid cosmetic and home care products (small scale) | C46: Manufacture of cosmetic products | D46: EU TGD/EUSES | E46: Formulation | F46: 143.48 | G46: 1 | H46: ERC2 Formulation of preparations | I46: x | J46: User-Defined | K46: Cosmetics Europe/Aise 2.3c.v2 (small scale) | L46: (Default: 573.92) | M46: =O46*$W$290 -> 0.04 | N46: =P46*$W$290 -> 0.0056 | O46: 0.04 | P46: 0.0056
A47: 46 | B47: TEGEWA-F1.1 | C47: TEGEWA-F1.1 Formulation of preparations | D47: EU TGD/EUSES | E47: Formulation | F47: 14.4 | G47: 1 | H47: ERC2 Formulation of preparations | I47: x | J47: TEGEWA | L47: (Default: 1,440) | M47: =O47*$W$290 -> 1.032 | N47: =P47*$W$290 -> 0.14 | O47: 1.032 | P47: 0.14
A48: 47 | B48: TEGEWA-F2.1 | C48: TEGEWA-F2.1 Blending | D48: EU TGD/EUSES | E48: Formulation | F48: 14.4 | G48: 1 | H48: ERC2 Formulation of preparations | I48: x | J48: TEGEWA | L48: (Default: 1,440) | M48: =O48*$W$290 -> 1.032 | N48: =P48*$W$290 -> 0.14 | O48: 1.032 | P48: 0.14
A49: 48 | B49: TEGEWA-L1.1 | C49: TEGEWA-L1.1 Blending | D49: EU TGD/EUSES | E49: Formulation | F49: 14.4 | G49: 1 | H49: ERC2 Formulation of preparations | I49: x | J49: TEGEWA | L49: (Default: 1,440) | M49: =O49*$W$290 -> 1.032 | N49: =P49*$W$290 -> 0.14 | O49: 1.032 | P49: 0.14
A50: 49 | B50: TEGEWA-T1. | C50: TEGEWA-T1. Blending | D50: EU TGD/EUSES | E50: Formulation | F50: 14.4 | G50: 1 | H50: ERC2 Formulation of preparations | I50: x | J50: TEGEWA | L50: (Default: 1,440) | M50: =O50*$W$290 -> 1.032 | N50: =P50*$W$290 -> 0.14 | O50: 1.032 | P50: 0.14
A51: 50 | B51: Fertilizers Europe_F_002_v1 | C51: Formulation by incorporating fertilizers onto or into a matrix. | D51: EU TGD/EUSES | E51: Formulation | F51: 1793.5 | G51: 1 | H51: ERC3 Formulation in materials | I51: x | J51: User-Defined | L51: (Default: 17,935) | M51: =O51*$W$290 -> 1.285 | N51: =P51*$W$290 -> 0.17 | O51: 1.285 | P51: 0.17
A52: 51 | B52: GRG | C52: General Rubber Goods | D52: EU TGD/EUSES | E52: Formulation | F52: 36 | G52: 1 | H52: ERC3 Formulation in materials | I52: x | J52: ETRMA | K52: ETRMA SPERC 3/6d.2a v.2 Manufacture of Rubber Products: Industrial (SU3, SU11) GRG use of vulcanization agents, anti-ageing agents / antidegradants | L52: (Default: 100) | M52: =O52*$W$290 -> 0.00029 | N52: =P52*$W$290 -> 3.9e-05 | O52: 0.00029 | P52: 3.9e-05
A53: 52 | B53: TEGEWA-T2.1 | C53: TEGEWA-T2.1 blending (Bound in Product) | D53: EU TGD/EUSES | E53: Formulation | F53: 14.4 | G53: 1 | H53: ERC3 Formulation in materials | I53: x | J53: TEGEWA | L53: (Default: 1,440) | M53: =O53*$W$290 -> 0.1 | N53: =P53*$W$290 -> 0.01 | O53: 0.1 | P53: 0.01
A54: 53 | B54: Tyres | C54: Tyres | D54: EU TGD/EUSES | E54: Formulation | F54: 36 | G54: 1 | H54: ERC3 Formulation in materials | I54: x | J54: ETRMA | K54: ETRMA SPERC 3/6d.2a v.2 Manufacture of Rubber Products: Industrial (SU3, SU11) GRG use of vulcanization agents, anti-ageing agents / antidegradants | L54: (Default: 100) | M54: =O54*$W$290 -> 0.00029 | N54: =P54*$W$290 -> 3.9e-05 | O54: 0.00029 | P54: 3.9e-05
A55: 54 | B55: AISE_IS_001_v1 | C55: Industrial uses; Washing, cleaning and disinfecting products | D55: EU TGD/EUSES | E55: Processing / End use | F55: 1594.33 | G55: 1 | H55: ERC4 Industrial use of processing aids in processes and products, not becoming part of articles | I55: x | J55: AISE | K55: AISE SPERC 4.1.v2 AISE Industrial Use of Water Borne Processing Aids no RMM | L55: (Default: 50) | M55: =O55*$W$290 -> 1.792 | N55: =P55*$W$290 -> 0.24 | O55: 1.792 | P55: 0.24
A56: 55 | B56: ATIEL-ATC Group B [i] | C56: General industrial use of lubricants and greases in vehicles or machinery. Includes filling and draining of containers and enclosed machinery (including engines) | D56: EU TGD/EUSES | E56: Processing / End use | F56: 71.74 | G56: 1 | H56: ERC4 Industrial use of processing aids in processes and products, not becoming part of articles | I56: x | J56: User-Defined | K56: ATC/ATIEL B(i) | L56: (Default: 239.13) | M56: =O56*$W$290 -> 1.7e-10 | N56: =P56*$W$290 -> 2.3e-11 | O56: 1.7e-10 | P56: 2.3e-11
A57: 56 | B57: ATIEL-ATC Group C [i] | C57: (Industrial) Use in open system. Application of lubricant to work pieces or equipment by dipping, brushing or spraying (without exposure to heat), e.g. mould releases, corrosion protection, slideways | D57: EU TGD/EUSES | E57: Processing / End use | F57: 71.74 | G57: 1 | H57: ERC4 Industrial use of processing aids in processes and products, not becoming part of articles | I57: x | J57: User-Defined | K57: ATC/ATIEL C(i) | L57: (Default: 239.13) | M57: =O57*$W$290 -> 1.7e-10 | N57: =P57*$W$290 -> 2.3e-11 | O57: 1.7e-10 | P57: 2.3e-11
A58: 57 | B58: ATIEL-ATC Group D [i] | C58: (Industrial) Use of lubricants in open high temperature processes, e.g. quenching fluids, glass release agents | D58: EU TGD/EUSES | E58: Processing / End use | F58: 71.74 | G58: 1 | H58: ERC4 Industrial use of processing aids in processes and products, not becoming part of articles | I58: x | J58: User-Defined | K58: ATC/ATIEL D(i) | L58: (Default: 239.13) | M58: =O58*$W$290 -> 1.7e-10 | N58: =P58*$W$290 -> 2.3e-11 | O58: 1.7e-10 | P58: 2.3e-11
A59: 58 | B59: ATIEL-ATC Group F [i] | C59: (Industrial) Use of lubricants in high energy open processes, e.g. in high speed machinery such as metal rolling / forming or metalworking fluids for machining and grinding | D59: EU TGD/EUSES | E59: Processing / End use | F59: 71.74 | G59: 1 | H59: ERC4 Industrial use of processing aids in processes and products, not becoming part of articles | I59: x | J59: User-Defined | K59: ATC/ATIEL F(i) | L59: (Default: 239.13) | M59: =O59*$W$290 -> 1.7e-10 | N59: =P59*$W$290 -> 2.3e-11 | O59: 1.7e-10 | P59: 2.3e-11
A60: 59 | B60: CEPE | C60: Industrial application of coatings or inks | D60: EU TGD/EUSES | E60: Processing / End use | F60: 21.52 | G60: 1 | H60: ERC4 Industrial use of processing aids in processes and products, not becoming part of articles | I60: x | J60: CEPE | K60: CEPE SPERC 4.1a.v1 application industrial spraying indoor use incineration – volatiles | L60: (Default: 95.64) | M60: =O60*$W$290 -> 0.07 | N60: =P60*$W$290 -> 0.0093 | O60: 0.07 | P60: 0.0093
A61: 60 | B61: EPDLA-RMH1.2 | C61: EPDLA Manufacture of aqueous polymer dispersions and dispersion powders Use of Processing Aids | D61: EU TGD/EUSES | E61: Processing / End use | F61: 1793.62 | G61: 1 | H61: ERC4 Industrial use of processing aids in processes and products, not becoming part of articles | I61: x | J61: User-Defined | K61: EPDLA ERC4 | L61: (Default: 5,275.35) | M61: =O61*$W$290 -> 0.00038 | N61: =P61*$W$290 -> 5.1e-05 | O61: 0.00038 | P61: 5.1e-05
A62: 61 | B62: ESVOC | C62: Use of the substance in extraction processes at mining operations, including material transfers, winning and separation activities, and substance recovery and disposal. | D62: EU TGD/EUSES | E62: Processing / End use | F62: 2.69 | G62: 1 | H62: ERC4 Industrial use of processing aids in processes and products, not becoming part of articles | I62: x | J62: ESVOC | K62: ESVOC SpERC 4.23.v1 Mining Chemicals: Industrial (SU10) | L62: (Default: 134.5) | M62: =O62*$W$290 -> 2.41 | N62: =P62*$W$290 -> 0.33 | O62: 2.41 | P62: 0.33
A63: 62 | B63: ESVOC | C63: Use of substances within Laboratory settings, within enclosed or contained systems, including incidental exposures during material transfers and equipment cleaning | D63: EU TGD/EUSES | E63: Processing / End use | F63: 2.69 | G63: 1 | H63: ERC4 Industrial use of processing aids in processes and products, not becoming part of articles | I63: x | J63: ESVOC | K63: ESVOC SPERC 4.24.v1 Laboratory reagents: Industrial (SU3) | L63: (Default: 100) | M63: =O63*$W$290 -> 0.07 | N63: =P63*$W$290 -> 0.0097 | O63: 0.07 | P63: 0.0097
A64: 63 | B64: ESVOC | C64: Use in coatings (paints, inks, adhesives, etc) | D64: EU TGD/EUSES | E64: Processing / End use | F64: 2.69 | G64: 1 | H64: ERC4 Industrial use of processing aids in processes and products, not becoming part of articles | I64: x | J64: ESVOC | K64: ESVOC SpERC 4.3a.v1 Uses in Coatings: Industrial (SU3) | L64: (Default: 8.97) | M64: =O64*$W$290 -> 0.0064 | N64: =P64*$W$290 -> 0.00087 | O64: 0.0064 | P64: 0.00087
A65: 64 | B65: ESVOC | C65: Use as a component of cleaning products for industrial use including transfer from storage; pouring/unloading from drums or containers; exposures during cleaning activities (automated and by hand); and related maintenance | D65: EU TGD/EUSES | E65: Processing / End use | F65: 2.69 | G65: 1 | H65: ERC4 Industrial use of processing aids in processes and products, not becoming part of articles | I65: x | J65: ESVOC | K65: ESVOC SpERC 4.4a.v1 Use in Cleaning Agents: Industrial (SU3) | L65: (Default: 134.5) | M65: =O65*$W$290 -> 0.00048 | N65: =P65*$W$290 -> 6.5e-05 | O65: 0.00048 | P65: 6.5e-05
... A141: 140 | B141: Fertilizers Europe_IS_001_v1 | C141: Use of a substance as an intermediate. | D141: EU TGD/EUSES | E141: Processing / End use | F141: 717.45 | G141: 1 | H141: ERC6a Industrial use resulting in manufacture of another substance (use of intermediates) | I141: x | J141: User-Defined | K141: Processing Industrial (use as Intermediate) | L141: (Default: 2,049.86) | M141: =O141*$W$290 -> 0.02 | N141: =P141*$W$290 -> 0.0021 | O141: 0.02 | P141: 0.0021
A142: 141 | B142: PPRM | C142: Industrial manufacture of resins (Polyester Powder Resin Manufacturers Sector Group (PPRM)) | D142: EU TGD/EUSES | E142: Processing / End use | F142: 23.91 | G142: 1 | H142: ERC6a Industrial use resulting in manufacture of another substance (use of intermediates) | I142: x | J142: Eurometaux | L142: (Default: 1,195.5) | M142: =O142*$W$290 -> 0.86 | N142: =P142*$W$290 -> 0.12 | O142: 0.86 | P142: 0.12
A143: 142 | B143: Fertilizers Europe_IS_002_v1 | C143: Use of a reactive processing aid during formulation of fertilizers or during manufacturing new fertilizer substances. | D143: EU TGD/EUSES | E143: Processing / End use | F143: 717.45 | G143: 1 | H143: ERC6b Industrial use of reactive processing aids | I143: x | J143: User-Defined | K143: Fertilizers Europe SPERC 6b.v1 | L143: (Default: 3.93) | M143: =O143*$W$290 -> 0.0014 | N143: =P143*$W$290 -> 0.00019 | O143: 0.0014 | P143: 0.00019
A144: 143 | B144: TEGEWA-L4.1 | C144: TEGEWA-L4.1 handling (Reactive Processing Aids) | D144: EU TGD/EUSES | E144: Processing / End use | F144: 1.75 | G144: 1 | H144: ERC6b Industrial use of reactive processing aids | I144: x | J144: TEGEWA | K144: TEGEWA SPERC 6b.1.v1 TEGEWA Use of reactive processing aid in textile processing | L144: (Default: 7.95) | M144: =O144*$W$290 -> 0.0057 | N144: =P144*$W$290 -> 0.00077 | O144: 0.0057 | P144: 0.00077
A145: 144 | B145: TEGEWA-L4.1 | C145: TEGEWA-L4.1 handling (Reactive Processing Aids) | D145: EU TGD/EUSES | E145: Processing / End use | F145: 1.75 | G145: 1 | H145: ERC6b Industrial use of reactive processing aids | I145: x | J145: TEGEWA | K145: TEGEWA SPERC 6b.1.v1 TEGEWA Use of reactive processing aid in textile processing | L145: (Default: 7.95) | M145: =O145*$W$290 -> 0.0057 | N145: =P145*$W$290 -> 0.00077 | O145: 0.0057 | P145: 0.00077
A146: 145 | B146: TEGEWA-L7.1 | C146: TEGEWA-L7.1 use in wet end (Reactive) | D146: EU TGD/EUSES | E146: Processing / End use | F146: 1.75 | G146: 1 | H146: ERC6b Industrial use of reactive processing aids | I146: x | J146: TEGEWA | K146: TEGEWA SPERC 6b.1.v1 TEGEWA Use of reactive processing aid in textile processing | L146: (Default: 7.95) | M146: =O146*$W$290 -> 0.0057 | N146: =P146*$W$290 -> 0.00077 | O146: 0.0057 | P146: 0.00077
A147: 146 | B147: TEGEWA-T12.1 | C147: TEGEWA-T12.1 Textile Coating (Reactive Processing Aids) | D147: EU TGD/EUSES | E147: Processing / End use | F147: 1.75 | G147: 1 | H147: ERC6b Industrial use of reactive processing aids | I147: x | J147: TEGEWA | K147: TEGEWA SPERC 6b.1.v1 TEGEWA Use of reactive processing aid in textile processing | L147: (Default: 7.95) | M147: =O147*$W$290 -> 0.0057 | N147: =P147*$W$290 -> 0.00077 | O147: 0.0057 | P147: 0.00077
A148: 147 | B148: TEGEWA-T5.1 | C148: TEGEWA-T5.1 handling (Reactive Processing Aids) | D148: EU TGD/EUSES | E148: Processing / End use | F148: 1.75 | G148: 1 | H148: ERC6b Industrial use of reactive processing aids | I148: x | J148: TEGEWA | K148: TEGEWA SPERC 6b.1.v1 TEGEWA Use of reactive processing aid in textile processing | L148: (Default: 7.95) | M148: =O148*$W$290 -> 0.0057 | N148: =P148*$W$290 -> 0.00077 | O148: 0.0057 | P148: 0.00077
A149: 148 | B149: TEGEWA-T9.1 | C149: TEGEWA-T9.1 Textile application: dipping and pouring (Reactive Processing Aids) | D149: EU TGD/EUSES | E149: Processing / End use | F149: 1.75 | G149: 1 | H149: ERC6b Industrial use of reactive processing aids | I149: x | J149: TEGEWA | K149: TEGEWA SPERC 6b.1.v1 TEGEWA Use of reactive processing aid in textile processing | L149: (Default: 7.95) | M149: =O149*$W$290 -> 0.0057 | N149: =P149*$W$290 -> 0.00077 | O149: 0.0057 | P149: 0.00077
A150: 149 | B150: EPDLA-RMH1.4 | C150: EPDLA Manufacture of aqueous polymer dispersions and dispersion powders Use of Monomers | D150: EU TGD/EUSES | E150: Processing / End use | F150: 1793.62 | G150: 1 | H150: ERC6c Industrial use of monomers for manufacture of thermo-plastics | I150: x | J150: User-Defined | K150: EPDLA ERC6c | L150: (Default: 5,275.35) | M150: =O150*$W$290 -> 0.00038 | N150: =P150*$W$290 -> 5.1e-05 | O150: 0.00038 | P150: 5.1e-05
A151: 150 | B151: Fertilizers Europe_IS_003_v1 | C151: Use of monomers in polymer coating of fertilizers. | D151: EU TGD/EUSES | E151: Processing / End use | F151: 717.45 | G151: 1 | H151: ERC6c Industrial use of monomers for manufacture of thermo-plastics | I151: x | J151: User-Defined | K151: Fertilizers Europe SPERC 6c.v1 | L151: (Default: 3.93) | M151: =O151*$W$290 -> 0.0014 | N151: =P151*$W$290 -> 0.00019 | O151: 0.0014 | P151: 0.00019
A152: 151 | B152: TEGEWA-L10.1 | C152: TEGEWA-L10.1 use for leather finishing (Monomers) | D152: EU TGD/EUSES | E152: Processing / End use | F152: 1.75 | G152: 1 | H152: ERC6c Industrial use of monomers for manufacture of thermo-plastics | I152: x | J152: TEGEWA | L152: (Default: 87.5) | M152: =O152*$W$290 -> 0.16 | N152: =P152*$W$290 -> 0.02 | O152: 0.16 | P152: 0.02
A153: 152 | B153: TEGEWA-L10.1 | C153: TEGEWA-L10.1 use for leather finishing (Monomers) | D153: EU TGD/EUSES | E153: Processing / End use | F153: 1.75 | G153: 1 | H153: ERC6c Industrial use of monomers for manufacture of thermo-plastics | I153: x | J153: TEGEWA | L153: (Default: 87.5) | M153: =O153*$W$290 -> 0.16 | N153: =P153*$W$290 -> 0.02 | O153: 0.16 | P153: 0.02
A154: 153 | B154: TEGEWA-L10.2 | C154: TEGEWA-L10.2 use for leather finishing (Monomers) | D154: EU TGD/EUSES | E154: Processing / End use | F154: 1.75 | G154: 1 | H154: ERC6c Industrial use of monomers for manufacture of thermo-plastics | I154: x | J154: TEGEWA | L154: (Default: 87.5) | M154: =O154*$W$290 -> 0.16 | N154: =P154*$W$290 -> 0.02 | O154: 0.16 | P154: 0.02
A155: 154 | B155: EPDLA-RMH1.5 | C155: EPDLA Manufacture of aqueous polymer dispersions and dispersion powders Use of Process Regulators for Polymerisation | D155: EU TGD/EUSES | E155: Processing / End use | F155: 1793.62 | G155: 1 | H155: ERC6d Industrial use of process regulators for polymerisation processes in production of resins, rubbers, polymers | I155: x | J155: User-Defined | L155: (Default: 17,936.2) | M155: =O155*$W$290 -> 0.03 | N155: =P155*$W$290 -> 0.0043 | O155: 0.03 | P155: 0.0043
A156: 155 | B156: GRG | C156: General Rubber Goods | D156: EU TGD/EUSES | E156: Processing / End use | F156: 17.94 | G156: 1 | H156: ERC6d Industrial use of process regulators for polymerisation processes in production of resins, rubbers, polymers | I156: x | J156: ETRMA | K156: ETRMA SPERC 3/6d.2a v.2 Manufacture of Rubber Products: Industrial (SU3, SU11) GRG use of vulcanization agents, anti-ageing agents / antidegradants | L156: (Default: 81.55) | M156: =O156*$W$290 -> 0.00023 | N156: =P156*$W$290 -> 3.2e-05 | O156: 0.00023 | P156: 3.2e-05
A157: 156 | B157: PPRM | C157: Industrial manufacture of resins (Polyester Powder Resin Manufacturers Sector Group (PPRM)) | D157: EU TGD/EUSES | E157: Processing / End use | F157: 23.91 | G157: 1 | H157: ERC6d Industrial use of process regulators for polymerisation processes in production of resins, rubbers, polymers | I157: x | J157: Eurometaux | L157: (Default: 1,195.5) | M157: =O157*$W$290 -> 0.0021 | N157: =P157*$W$290 -> 0.00029 | O157: 0.0021 | P157: 0.00029
A158: 157 | B158: TEGEWA-T15.1 | C158: TEGEWA-T15.1 Mixing | D158: EU TGD/EUSES | E158: Processing / End use | F158: 1.75 | G158: 1 | H158: ERC6d Industrial use of process regulators for polymerisation processes in production of resins, rubbers, polymers | I158: x | J158: TEGEWA | L158: (Default: 87.5) | M158: =O158*$W$290 -> 0.00016 | N158: =P158*$W$290 -> 2.1e-05 | O158: 0.00016 | P158: 2.1e-05
A159: 158 | B159: TEGEWA-T16.1 | C159: TEGEWA-T16.1 Coating | D159: EU TGD/EUSES | E159: Processing / End use | F159: 1.75 | G159: 1 | H159: ERC6d Industrial use of process regulators for polymerisation processes in production of resins, rubbers, polymers | I159: x | J159: TEGEWA | L159: (Default: 87.5) | M159: =O159*$W$290 -> 0.00016 | N159: =P159*$W$290 -> 2.1e-05 | O159: 0.00016 | P159: 2.1e-05
A160: 159 | B160: TEGEWA-T18.1 | C160: TEGEWA-T18.1 extrusion (Reactive) | D160: EU TGD/EUSES | E160: Processing / End use | F160: 1.75 | G160: 1 | H160: ERC6d Industrial use of process regulators for polymerisation processes in production of resins, rubbers, polymers | I160: x | J160: TEGEWA | L160: (Default: 87.5) | M160: =O160*$W$290 -> 0.00016 | N160: =P160*$W$290 -> 2.1e-05 | O160: 0.00016 | P160: 2.1e-05
A161: 160 | B161: Tyres | C161: Tyres | D161: EU TGD/EUSES | E161: Processing / End use | F161: 17.94 | G161: 1 | H161: ERC6d Industrial use of process regulators for polymerisation processes in production of resins, rubbers, polymers | I161: x | J161: ETRMA | K161: ETRMA SPERC 3/6d.2a v.2 Manufacture of Rubber Products: Industrial (SU3, SU11) GRG use of vulcanization agents, anti-ageing agents / antidegradants | L161: (Default: 81.55) | M161: =O161*$W$290 -> 0.00023 | N161: =P161*$W$290 -> 3.2e-05 | O161: 0.00023 | P161: 3.2e-05
A162: 161 | B162: ATIEL-ATC Group B [i] | C162: General industrial use of lubricants and greases in vehicles or machinery. Includes filling and draining of containers and enclosed machinery (including engines) | D162: EU TGD/EUSES | E162: Processing / End use | F162: 71.74 | G162: 1 | H162: ERC7 Industrial use of substances in closed systems | I162: x | J162: User-Defined | K162: ATC/ATIEL B(i) | L162: (Default: 239.13) | M162: =O162*$W$290 -> 1.7e-10 | N162: =P162*$W$290 -> 2.3e-11 | O162: 1.7e-10 | P162: 2.3e-11
A163: 162 | B163: ESVOC | C163: Use as a fuel including incineration of wastes and use as a solvent in fuel additives, covers refueling and evaporative losses | D163: EU TGD/EUSES | E163: Processing / End use | F163: 2.69 | G163: 1 | H163: ERC7 Industrial use of substances in closed systems | I163: x | J163: ESVOC | K163: ESVOC SpERC 7.12a.v1 Use as a fuel: Industrial (SU3) | L163: (Default: 8.97) | M163: =O163*$W$290 -> 3.2e-06 | N163: =P163*$W$290 -> 4.3e-07 | O163: 3.2e-06 | P163: 4.3e-07
A164: 163 | B164: ESVOC | C164: Use as functional fluids e.g. cable oils, transfer oils, insulators, hydraulic fluids in industrial equipment including maintenance and related material transfers | D164: EU TGD/EUSES | E164: Processing / End use | F164: 2.69 | G164: 1 | H164: ERC7 Industrial use of substances in closed systems | I164: x | J164: ESVOC | K164: ESVOC SpERC 7.13a.v1 Functional Fluids: Industrial (SU3) | L164: (Default: 134.5) | M164: =O164*$W$290 -> 0.0048 | N164: =P164*$W$290 -> 0.00065 | O164: 0.0048 | P164: 0.00065
A165: 164 | B165: AISE_C_001_v1Non-Propellants | C165: Consumer uses; air care products | D165: EU TGD/EUSES | E165: Processing / End use | F165: 683.28 | G165: spERC: 4 % | H165: ERC8a Wide dispersive indoor use of processing aids in open systems | I165: x | J165: AISE | K165: AISE SPERC 8a.1.b.v2 AISE Wide Dispersive Use in Aerosol products for cleaning and maintenance products (Non-Propellants) (Consumers and Professionals) Fraction of EU tonnage to region: 0.04 (default: 0.1) | L165: (Default: 0.06) | M165: =O165*$W$290 -> 0.002 | N165: =P165*$W$290 -> 0.00027 | O165: 0.002 | P165: 0.00027
A166: 165 | B166: AISE_C_001_v1Propellants | C166: Consumer uses; air care products | D166: EU TGD/EUSES | E166: Processing / End use | F166: 683.28 | G166: spERC: 4 % | H166: ERC8a Wide dispersive indoor use of processing aids in open systems | I166: x | J166: AISE | K166: AISE SPERC 8a.1.c.v2 AISE Wide Dispersive Use in Aerosol products for cleaning and maintenance products (Propellants) (Consumers and Professionals) Fraction of EU tonnage to region: 0.04 (default: 0.1) | L166: (Default: 0.06) | M166: =O166*$W$290 -> 0 | N166: =P166*$W$290 -> 0 | O166: 0 | P166: 0
A167: 166 | B167: AISE_C_002_v1'Down the Drain' cleaning and maintenance products | C167: Consumer uses; washing and cleaning products | D167: EU TGD/EUSES | E167: Processing / End use | F167: 683.28 | G167: spERC: 4 % | H167: ERC8a Wide dispersive indoor use of processing aids in open systems | I167: x | J167: AISE | K167: AISE SPERC 8a.1.a.v2 AISE Wide Dispersive Use in 'Down the Drain' cleaning and maintenance products (Consumers and Professionals) Fraction of EU tonnage to region: 0.04 (default: 0.1) | L167: (Default: 0.06) | M167: =O167*$W$290 -> 0.002 | N167: =P167*$W$290 -> 0.00027 | O167: 0.002 | P167: 0.00027
A168: 167 | B168: AISE_C_002_v1Non-Propellants | C168: Consumer uses; washing and cleaning products | D168: EU TGD/EUSES | E168: Processing / End use | F168: 683.28 | G168: spERC: 4 % | H168: ERC8a Wide dispersive indoor use of processing aids in open systems | I168: x | J168: AISE | K168: AISE SPERC 8a.1.b.v2 AISE Wide Dispersive Use in Aerosol products for cleaning and maintenance products (Non-Propellants) (Consumers and Professionals) Fraction of EU tonnage to region: 0.04 (default: 0.1) | L168: (Default: 0.06) | M168: =O168*$W$290 -> 0.002 | N168: =P168*$W$290 -> 0.00027 | O168: 0.002 | P168: 0.00027
A169: 168 | B169: AISE_C_002_v1Propellants | C169: Consumer uses; washing and cleaning products | D169: EU TGD/EUSES | E169: Processing / End use | F169: 683.28 | G169: spERC: 4 % | H169: ERC8a Wide dispersive indoor use of processing aids in open systems | I169: x | J169: AISE | K169: AISE SPERC 8a.1.c.v2 AISE Wide Dispersive Use in Aerosol products for cleaning and maintenance products (Propellants) (Consumers and Professionals) Fraction of EU tonnage to region: 0.04 (default: 0.1) | L169: (Default: 0.06) | M169: =O169*$W$290 -> 0 | N169: =P169*$W$290 -> 0 | O169: 0 | P169: 0
A170: 169 | B170: AISE_C_003_v1 | C170: Consumer uses; polishes and wax blends | D170: EU TGD/EUSES | E170: Processing / End use | F170: 683.28 | G170: 0.1 | H170: ERC8a Wide dispersive indoor use of processing aids in open systems | I170: x | J170: AISE | L170: (Default: 0.37) | M170: =O170*$W$290 -> 0.01 | N170: =P170*$W$290 -> 0.0018 | O170: 0.01 | P170: 0.0018
A171: 170 | B171: AISE_C_004_v1 | C171: Consumer uses; biocidal products | D171: EU TGD/EUSES | E171: Processing / End use | F171: 683.28 | G171: 0.1 | H171: ERC8a Wide dispersive indoor use of processing aids in open systems | I171: x | J171: AISE | L171: (Default: 0.37) | M171: =O171*$W$290 -> 0.01 | N171: =P171*$W$290 -> 0.0018 | O171: 0.01 | P171: 0.0018
A172: 171 | B172: AISE_PW_001_v1 | C172: Professional uses; Washing, cleaning and disinfecting products | D172: EU TGD/EUSES | E172: Processing / End use | F172: 2391.49 | G172: spERC: 4 % | H172: ERC8a Wide dispersive indoor use of processing aids in open systems | I172: x | J172: AISE | K172: AISE SPERC 8a.1.a.v2 AISE Wide Dispersive Use in 'Down the Drain' cleaning and maintenance products (Consumers and Professionals) Fraction of EU tonnage to region: 0.04 (default: 0.1) | L172: (Default: 0.2) | M172: =O172*$W$290 -> 0.007 | N172: =P172*$W$290 -> 0.00095 | O172: 0.007 | P172: 0.00095
A173: 172 | B173: AISE_PW_002_v1 | C173: Professional uses; Polishes and wax blends | D173: EU TGD/EUSES | E173: Processing / End use | F173: 2391.49 | G173: spERC: 4 % | H173: ERC8a Wide dispersive indoor use of processing aids in open systems | I173: x | J173: AISE | K173: AISE SPERC 8a.1.a.v2 AISE Wide Dispersive Use in 'Down the Drain' cleaning and maintenance products (Consumers and Professionals) Fraction of EU tonnage to region: 0.04 (default: 0.1) | L173: (Default: 0.2) | M173: =O173*$W$290 -> 0.007 | N173: =P173*$W$290 -> 0.00095 | O173: 0.007 | P173: 0.00095
A174: 173 | B174: ATIEL-ATC Group C [c] | C174: (Consumer) Use in open system. Application of lubricant to work pieces or equipment by dipping, brushing or spraying (without exposure to heat), e.g. mould releases, corrosion protection, slideways | D174: EU TGD/EUSES | E174: Processing / End use | F174: 17.94 | G174: 0.1 | H174: ERC8a Wide dispersive indoor use of processing aids in open systems | I174: x | J174: ATIEL-ATC | K174: ATIEL-ATC SPERC 8.Cc.v1 Covers consumer use of lubricants and greases in open systems, including application of lubricant to work pieces or equipment by dipping, brushing or spraying (without exposure to heat), e.g. mould releases, corrosion protection, | L174: (Default: 0) | M174: =O174*$W$290 -> 4.4e-08 | N174: =P174*$W$290 -> 6e-09 | O174: 4.4e-08 | P174: 6e-09
A175: 174 | B175: ATIEL-ATC Group C [p] | C175: (Professional) Use in open system. Application of lubricant to work pieces or equipment by dipping, brushing or spraying (without exposure to heat), e.g. mould releases, corrosion protection, slideways | D175: EU TGD/EUSES | E175: Processing / End use | F175: 43.05 | G175: 0.1 | H175: ERC8a Wide dispersive indoor use of processing aids in open systems | I175: x | J175: User-Defined | K175: ATC/ATIEL C(p) | L175: (Default: 1.18) | M175: =O175*$W$290 -> 2.1e-05 | N175: =P175*$W$290 -> 2.9e-06 | O175: 2.1e-05 | P175: 2.9e-06
A176: 175 | B176: ATIEL-ATC Group F [p] | C176: (Professional) Use of lubricants in high energy open processes, e.g. in high speed machinery such as metal rolling / forming or metalworking fluids for machining and grinding | D176: EU TGD/EUSES | E176: Processing / End use | F176: 43.05 | G176: 0.1 | H176: ERC8a Wide dispersive indoor use of processing aids in open systems | I176: x | J176: User-Defined | K176: ATC/ATIEL F(p) | L176: (Default: 1.18) | M176: =O176*$W$290 -> 4.2e-05 | N176: =P176*$W$290 -> 5.7e-06 | O176: 4.2e-05 | P176: 5.7e-06
A177: 176 | B177: CEPE | C177: Professional application of coatings or inks | D177: EU TGD/EUSES | E177: Processing / End use | F177: 3.07 | G177: 0.1 | H177: ERC8a Wide dispersive indoor use of processing aids in open systems | I177: x | J177: CEPE | K177: CEPE SPERC 8a.2a.v1 application professional bush/roller indoor use – volatiles | L177: (Default: 0) | M177: =O177*$W$290 -> 9.8e-07 | N177: =P177*$W$290 -> 1.3e-07 | O177: 9.8e-07 | P177: 1.3e-07
A178: 177 | B178: CEPE | C178: Ancilliary activities in industrial, professional or consumer application of coatings and inks | D178: EU TGD/EUSES | E178: Processing / End use | F178: 3.07 | G178: 0.1 | H178: ERC8a Wide dispersive indoor use of processing aids in open systems | I178: x | J178: CEPE | L178: (Default: 0) | M178: =O178*$W$290 -> 6e-05 | N178: =P178*$W$290 -> 8.2e-06 | O178: 6e-05 | P178: 8.2e-06
A179: 178 | B179: CEPE | C179: Consumer application of coatings | D179: EU TGD/EUSES | E179: Processing / End use | F179: 1.43 | G179: 0.1 | H179: ERC8a Wide dispersive indoor use of processing aids in open systems | I179: x | J179: CEPE | K179: CEPE SPERC 8a.1a.v1 application consumer bush/roller indoor use – volatiles | L179: (Default: 0) | M179: =O179*$W$290 -> 2.8e-07 | N179: =P179*$W$290 -> 3.8e-08 | O179: 2.8e-07 | P179: 3.8e-08
A180: 179 | B180: CEPE | C180: Consumer application of coatings | D180: EU TGD/EUSES | E180: Processing / End use | F180: 1.43 | G180: 0.1 | H180: ERC8a Wide dispersive indoor use of processing aids in open systems | I180: x | J180: CEPE | K180: CEPE SPERC 8a.1a.v1 application consumer bush/roller indoor use – volatiles | L180: (Default: 0) | M180: =O180*$W$290 -> 2.8e-07 | N180: =P180*$W$290 -> 3.8e-08 | O180: 2.8e-07 | P180: 3.8e-08
A181: 180 | B181: EFCC_PW_11-i_v2 | C181: use of construction chemical products by spray application (high energy), indoor | D181: EU TGD/EUSES | E181: Processing / End use | F181: 597.87 | G181: 0.1 | H181: ERC8a Wide dispersive indoor use of processing aids in open systems | I181: x | J181: User-Defined | K181: EFCC SPERC 8a.1a.v2 | L181: (Default: 0.33) | M181: =O181*$W$290 -> 0.00018 | N181: =P181*$W$290 -> 2.4e-05 | O181: 0.00018 | P181: 2.4e-05
A182: 181 | B182: EFCC_PW_L-10-i_v2 | C182: large-scale use of construction chemical products by roller or brushing application, indoor | D182: EU TGD/EUSES | E182: Processing / End use | F182: 418.51 | G182: 0.1 | H182: ERC8a Wide dispersive indoor use of processing aids in open systems | I182: x | J182: User-Defined | K182: EFCC SPERC 8a.1a.v2 | L182: (Default: 0.23) | M182: =O182*$W$290 -> 0.00012 | N182: =P182*$W$290 -> 1.7e-05 | O182: 0.00012 | P182: 1.7e-05
A183: 182 | B183: EFCC_PW_L-13-i_v2 | C183: large-scale use of construction chemical products by pouring application, indoor | D183: EU TGD/EUSES | E183: Processing / End use | F183: 418.51 | G183: 0.1 | H183: ERC8a Wide dispersive indoor use of processing aids in open systems | I183: x | J183: User-Defined | K183: EFCC SPERC 8a.1a.v2 | L183: (Default: 0.23) | M183: =O183*$W$290 -> 0.00012 | N183: =P183*$W$290 -> 1.7e-05 | O183: 0.00012 | P183: 1.7e-05
A184: 183 | B184: EFCC_PW_S-10-i_v2 | C184: small-scale use of construction chemical products by roller or brushing application, indoor | D184: EU TGD/EUSES | E184: Processing / End use | F184: 179.36 | G184: 0.1 | H184: ERC8a Wide dispersive indoor use of processing aids in open systems | I184: x | J184: User-Defined | K184: EFCC SPERC 8a.1a.v2 | L184: (Default: 0.1) | M184: =O184*$W$290 -> 5.3e-05 | N184: =P184*$W$290 -> 7.1e-06 | O184: 5.3e-05 | P184: 7.1e-06
A185: 184 | B185: EFCC_PW_S-13-i_v2 | C185: small-scale use of construction chemical products by pouring application, indoor | D185: EU TGD/EUSES | E185: Processing / End use | F185: 179.36 | G185: 0.1 | H185: ERC8a Wide dispersive indoor use of processing aids in open systems | I185: x | J185: User-Defined | K185: EFCC SPERC 8a.1a.v2 | L185: (Default: 0.1) | M185: =O185*$W$290 -> 5.3e-05 | N185: =P185*$W$290 -> 7.1e-06 | O185: 5.3e-05 | P185: 7.1e-06
A186: 185 | B186: ESVOC | C186: Use of small quantities within laboratory settings | D186: EU TGD/EUSES | E186: Processing / End use | F186: 1.2 | G186: 0.1 | H186: ERC8a Wide dispersive indoor use of processing aids in open systems | I186: x | J186: ESVOC | K186: ESVOC SpERC 8.17.v1 Laboratory reagents: Professional (SU22) | L186: (Default: 0) | M186: =O186*$W$290 -> 2.9e-06 | N186: =P186*$W$290 -> 4e-07 | O186: 2.9e-06 | P186: 4e-07
A187: 186 | B187: ESVOC | C187: General exposures to consumers arising from the use household products sold as washing and cleaning products, aerosols, coatings, de-icers, lubricants and air care products | D187: EU TGD/EUSES | E187: Processing / End use | F187: 1.2 | G187: 0.1 | H187: ERC8a Wide dispersive indoor use of processing aids in open systems | I187: x | J187: ESVOC | K187: ESVOC SpERC 8.4c.v1 Use in Cleaning Agents: Consumer (SU21) | L187: (Default: 0) | M187: =O187*$W$290 -> 2.9e-07 | N187: =P187*$W$290 -> 4e-08 | O187: 2.9e-07 | P187: 4e-08
A188: 187 | B188: ESVOC | C188: Consumer use of formulated lubricants in open systems including transfer operations, application, operation of engines and similar articles, recycling and disposal of waste oil. | D188: EU TGD/EUSES | E188: Processing / End use | F188: 1.2 | G188: 0.1 | H188: ERC8a Wide dispersive indoor use of processing aids in open systems | I188: x | J188: ESVOC | K188: ESVOC SpERC 8.6e.v1 Lubricants: Consumer (SU21) high environmental release | L188: (Default: 0) | M188: =O188*$W$290 -> 5.9e-07 | N188: =P188*$W$290 -> 8e-08 | O188: 5.9e-07 | P188: 8e-08
A189: 188 | B189: ESVOC | C189: Other Consumer Uses: Consumer | D189: EU TGD/EUSES | E189: Processing / End use | F189: 1.2 | G189: 0.1 | H189: ERC8a Wide dispersive indoor use of processing aids in open systems | I189: x | J189: ESVOC | K189: ESVOC SpERC 8.16.v1 Other Consumer Uses: Consumer (SU21) | L189: (Default: 0) | M189: =O189*$W$290 -> 1.5e-07 | N189: =P189*$W$290 -> 2e-08 | O189: 1.5e-07 | P189: 2e-08
A190: 189 | B190: ESVOC | C190: Use in coatings (paints, inks, adhesives, etc) | D190: EU TGD/EUSES | E190: Processing / End use | F190: 1.2 | G190: 0.1 | H190: ERC8a Wide dispersive indoor use of processing aids in open systems | I190: x | J190: ESVOC | K190: ESVOC SpERC 8.3b.v1 Uses in Coatings: Professional (SU22) | L190: (Default: 0) | M190: =O190*$W$290 -> 5.9e-08 | N190: =P190*$W$290 -> 8e-09 | O190: 5.9e-08 | P190: 8e-09
... A204: 203 | B204: FEICA_PW_007 | C204: Professional application of reactive sealants | D204: EU TGD/EUSES | E204: Processing / End use | F204: 4.89 | G204: 0.1 | H204: ERC8a Wide dispersive indoor use of processing aids in open systems | I204: x | J204: FEICA | K204: FEICA SPERC 8a.3.v2 Wide dispersive Use of Solvents in Adhesives and Sealants | L204: (Default: 0) | M204: =O204*$W$290 -> 1.4e-06 | N204: =P204*$W$290 -> 1.9e-07 | O204: 1.4e-06 | P204: 1.9e-07
A205: 204 | B205: Fertilizers Europe_C_001_v1 | C205: Consumer use of fertilizer products. | D205: EU TGD/EUSES | E205: Processing / End use | F205: 59.79 | G205: 0.1 | H205: ERC8a Wide dispersive indoor use of processing aids in open systems | J205: User-Defined | L205: (Default: 0.03) | M205: =O205*$W$290 -> 0
A206: 205 | B206: Fertilizers Europe_PW_001_v1 | C206: Professional use of fertilizers. | D206: EU TGD/EUSES | E206: Processing / End use | F206: 153.74 | G206: 0.1 | H206: ERC8a Wide dispersive indoor use of processing aids in open systems | J206: User-Defined | K206: Fertilizers Europe | L206: (Default: 0.08) | M206: =O206*$W$290 -> 0
A207: 206 | B207: sector_C_001_v1hair and skin care products (Consumers and Professionals) | C207: End use of cosmetic products | D207: EU TGD/EUSES | E207: Processing / End use | F207: 1195.74 | G207: spERC: 5.3 % | H207: ERC8a Wide dispersive indoor use of processing aids in open systems | I207: x | J207: User-Defined | K207: Cosmetics Europe 8a.1a.v2 | L207: (Default: 0.13) | M207: =O207*$W$290 -> 0.0047 | N207: =P207*$W$290 -> 0.00063 | O207: 0.0047 | P207: 0.00063
A208: 207 | B208: sector_C_001_v1Use in Aerosol products for hair and skin care (Propellants) | C208: End use of cosmetic products | D208: EU TGD/EUSES | E208: Processing / End use | F208: 1195.74 | G208: spERC: 5.3 % | H208: ERC8a Wide dispersive indoor use of processing aids in open systems | I208: x | J208: User-Defined | K208: Cosmetics Europe 8a.1b.v2 | L208: (Default: 0.13) | M208: =O208*$W$290 -> 0.0047 | N208: =P208*$W$290 -> 0.00063 | O208: 0.0047 | P208: 0.00063
A209: 208 | B209: sector_C_001_v1Use of Aerosol products for hair and skin care (Non-Propellants) | C209: End use of cosmetic products | D209: EU TGD/EUSES | E209: Processing / End use | F209: 1195.74 | G209: spERC: 5.3 % | H209: ERC8a Wide dispersive indoor use of processing aids in open systems | I209: x | J209: User-Defined | K209: Cosmetics Europe 8a.1c.v2 | L209: (Default: 0.13) | M209: =O209*$W$290 -> 0.0047 | N209: =P209*$W$290 -> 0.00063 | O209: 0.0047 | P209: 0.00063
A210: 209 | B210: sector_PW_001_v1hair and skin care products (Consumers and Professionals) | C210: Hairdressing services | D210: EU TGD/EUSES | E210: Processing / End use | F210: 1195.74 | G210: spERC: 5.3 % | H210: ERC8a Wide dispersive indoor use of processing aids in open systems | I210: x | J210: User-Defined | K210: Cosmetics Europe 8a.1a.v2 | L210: (Default: 0.13) | M210: =O210*$W$290 -> 0.0047 | N210: =P210*$W$290 -> 0.00063 | O210: 0.0047 | P210: 0.00063
A211: 210 | B211: sector_PW_001_v1Use in Aerosol products for hair and skin care (Propellants) | C211: Hairdressing services | D211: EU TGD/EUSES | E211: Processing / End use | F211: 1195.74 | G211: spERC: 5.3 % | H211: ERC8a Wide dispersive indoor use of processing aids in open systems | I211: x | J211: User-Defined | K211: Cosmetics Europe 8a.1b.v2 | L211: (Default: 0.13) | M211: =O211*$W$290 -> 0.0047 | N211: =P211*$W$290 -> 0.00063 | O211: 0.0047 | P211: 0.00063
A212: 211 | B212: sector_PW_001_v1Use of Aerosol products for hair and skin care (Non-Propellants) | C212: Hairdressing services | D212: EU TGD/EUSES | E212: Processing / End use | F212: 1195.74 | G212: spERC: 5.3 % | H212: ERC8a Wide dispersive indoor use of processing aids in open systems | I212: x | J212: User-Defined | K212: Cosmetics Europe 8a.1c.v2 | L212: (Default: 0.13) | M212: =O212*$W$290 -> 0.0047 | N212: =P212*$W$290 -> 0.00063 | O212: 0.0047 | P212: 0.00063
A213: 212 | B213: Fertilizers Europe_C_001_v1 | C213: Consumer use of fertilizer products. | D213: EU TGD/EUSES | E213: Processing / End use | F213: 59.79 | G213: 0.1 | H213: ERC8b Wide dispersive indoor use of reactive substances in open systems | J213: User-Defined | L213: (Default: 0.03) | M213: =O213*$W$290 -> 0
A214: 213 | B214: Fertilizers Europe_PW_001_v1 | C214: Professional use of fertilizers. | D214: EU TGD/EUSES | E214: Processing / End use | F214: 153.74 | G214: 0.1 | H214: ERC8b Wide dispersive indoor use of reactive substances in open systems | J214: User-Defined | K214: Fertilizers Europe | L214: (Default: 0.08) | M214: =O214*$W$290 -> 0
A215: 214 | B215: CEPE | C215: Professional application of coatings or inks | D215: EU TGD/EUSES | E215: Processing / End use | F215: 3.07 | G215: 0.1 | H215: ERC8c Wide dispersive indoor use resulting in inclusion into or onto a matrix | I215: x | J215: CEPE | K215: CEPE SPERC 8c.2a.v1 application professional bush/roller indoor use – solids | L215: (Default: 0) | M215: =O215*$W$290 -> 9.8e-07 | N215: =P215*$W$290 -> 1.3e-07 | O215: 9.8e-07 | P215: 1.3e-07
A216: 215 | B216: CEPE | C216: Ancilliary activities in industrial, professional or consumer application of coatings and inks | D216: EU TGD/EUSES | E216: Processing / End use | F216: 3.07 | G216: 0.1 | H216: ERC8c Wide dispersive indoor use resulting in inclusion into or onto a matrix | I216: x | J216: CEPE | L216: (Default: 0) | M216: =O216*$W$290 -> 6e-07 | N216: =P216*$W$290 -> 8.2e-08 | O216: 6e-07 | P216: 8.2e-08
A217: 216 | B217: CEPE | C217: Consumer application of coatings | D217: EU TGD/EUSES | E217: Processing / End use | F217: 1.43 | G217: 0.1 | H217: ERC8c Wide dispersive indoor use resulting in inclusion into or onto a matrix | I217: x | J217: CEPE | K217: CEPE SPERC 8c.1a.v1 application consumer bush/roller indoor use – solids | L217: (Default: 0) | M217: =O217*$W$290 -> 2.8e-07 | N217: =P217*$W$290 -> 3.8e-08 | O217: 2.8e-07 | P217: 3.8e-08
A218: 217 | B218: EFCC_PW_11-i_v2 | C218: use of construction chemical products by spray application (high energy), indoor | D218: EU TGD/EUSES | E218: Processing / End use | F218: 597.87 | G218: 0.1 | H218: ERC8c Wide dispersive indoor use resulting in inclusion into or onto a matrix | I218: x | J218: User-Defined | K218: EFCC SPERC 8c.1a.v2 | L218: (Default: 0.33) | M218: =O218*$W$290 -> 0.00018 | N218: =P218*$W$290 -> 2.4e-05 | O218: 0.00018 | P218: 2.4e-05
A219: 218 | B219: EFCC_PW_L-10-i_v2 | C219: large-scale use of construction chemical products by roller or brushing application, indoor | D219: EU TGD/EUSES | E219: Processing / End use | F219: 418.51 | G219: 0.1 | H219: ERC8c Wide dispersive indoor use resulting in inclusion into or onto a matrix | I219: x | J219: User-Defined | K219: EFCC SPERC 8c.1a.v2 | L219: (Default: 0.23) | M219: =O219*$W$290 -> 0.00012 | N219: =P219*$W$290 -> 1.7e-05 | O219: 0.00012 | P219: 1.7e-05
A220: 219 | B220: EFCC_PW_L-13-i_v2 | C220: large-scale use of construction chemical products by pouring application, indoor | D220: EU TGD/EUSES | E220: Processing / End use | F220: 418.51 | G220: 0.1 | H220: ERC8c Wide dispersive indoor use resulting in inclusion into or onto a matrix | I220: x | J220: User-Defined | K220: EFCC SPERC 8c.1a.v2 | L220: (Default: 0.23) | M220: =O220*$W$290 -> 0.00012 | N220: =P220*$W$290 -> 1.7e-05 | O220: 0.00012 | P220: 1.7e-05
...

Sheet C16
A1: # | B1: Scenario code | C1: Scenario name | D1: Calculation Model | E1: Lifecycle stage | F1: Tonnage | G1: Fraction of tonnage to region | H1: ERC | I1: STP | J1: spERC Industry sector | K1: spERC | L1: Daily amount used at site [kg/day] | M1: Clocaleff (default degradation rates) | N1: Clocaleff (mg/L) (AS specific degradation rates) | O1: RCR STP (default degradation rates | P1: RCR STP (AS degradation rates
A2: 1 | B2: Manufacturing | C2: Manufacturing | D2: EU TGD/EUSES | E2: Manufacturing | F2: 5696 | G2: 1 | H2: ERC1 Manufacture of substances | I2: x | J2: User-Defined | K2: AS-Manufacturing ERASM | L2: (Default: 25,890.91) | M2: =O2*$W$289 -> 0.402 | N2: =P2*$W$289 -> 0.054 | O2: 0.67 | P2: 0.09 | Q2: 0.14 | R2: 1.859 | S2: 3.074 | T2: 0.14 | U2: 1.851
A3: 2 | B3: AISE_F_001_v1High Low Viscosity (medium scale) | C3: Formulation into mixture; Washing, cleaning, maintenance and disinfecting products | D3: EU TGD/EUSES | E3: Formulation | F3: 183.7 | G3: 1 | H3: ERC2 Formulation of preparations | I3: x | J3: AISE | K3: AISE SPERC 2.1.k.v2 AISE Formulation of liquid Detergents/Maintenance Products: High Low Viscosity (medium scale) | L3: (Default: 734.8) | M3: =O3*$W$289 -> 0.048 | N3: =P3*$W$289 -> 0.006 | O3: 0.08 | P3: 0.01 | Q3: 0.02 | R3: 0.25 | S3: 0.35 | T3: 0.02 | U3: 0.24
A4: 3 | B4: AISE_F_001_v1High Viscosity (large scale) | C4: Formulation into mixture; Washing, cleaning, maintenance and disinfecting products | D4: EU TGD/EUSES | E4: Formulation | F4: 367.4 | G4: 1 | H4: ERC2 Formulation of preparations | I4: x | J4: AISE | K4: AISE SPERC 2.1.j.v2 AISE Formulation of liquid Detergents/Maintenance Products: High Viscosity (large scale) | L4: (Default: 1,469.6) | M4: =O4*$W$289 -> 0.048 | N4: =P4*$W$289 -> 0.006 | O4: 0.08 | P4: 0.01 | Q4: 0.02 | R4: 0.25 | S4: 0.35 | T4: 0.02 | U4: 0.24
A5: 4 | B5: AISE_F_001_v1High Viscosity (small scale) | C5: Formulation into mixture; Washing, cleaning, maintenance and disinfecting products | D5: EU TGD/EUSES | E5: Formulation | F5: 61.2 | G5: 1 | H5: ERC2 Formulation of preparations | I5: x | J5: AISE | K5: AISE SPERC 2.1.l.v2 AISE Formulation of liquid Detergents/Maintenance Products: High Viscosity (small scale) | L5: (Default: 244.8) | M5: =O5*$W$289 -> 0.03 | N5: =P5*$W$289 -> 0.0042 | O5: 0.05 | P5: 0.007 | Q5: 0.01 | R5: 0.18 | S5: 0.23 | T5: 0.01 | U5: 0.17
A6: 5 | B6: AISE_F_001_v1Low Viscosity (large scale) | C6: Formulation into mixture; Washing, cleaning, maintenance and disinfecting products | D6: EU TGD/EUSES | E6: Formulation | F6: 367.4 | G6: 1 | H6: ERC2 Formulation of preparations | I6: x | J6: AISE | K6: AISE SPERC 2.1.g.v2 AISE Formulation of liquid Detergents/Maintenance Products: Low Viscosity (large scale) | L6: (Default: 1,469.6) | M6: =O6*$W$289 -> 0.00456 | N6: =P6*$W$289 -> 0.0006 | O6: 0.0076 | P6: 0.001 | Q6: 0.0046 | R6: 0.06 | S6: 0.04 | T6: 0.0041 | U6: 0.06
A7: 6 | B7: AISE_F_001_v1Low Viscosity (medium scale) | C7: Formulation into mixture; Washing, cleaning, maintenance and disinfecting products | D7: EU TGD/EUSES | E7: Formulation | F7: 183.7 | G7: 1 | H7: ERC2 Formulation of preparations | I7: x | J7: AISE | K7: AISE SPERC 2.1.h.v2 AISE Formulation of liquid Detergents/Maintenance Products: Low Viscosity (medium scale) | L7: (Default: 734.8) | M7: =O7*$W$289 -> 0.024 | N7: =P7*$W$289 -> 0.00312 | O7: 0.04 | P7: 0.0052 | Q7: 0.01 | R7: 0.15 | S7: 0.17 | T7: 0.01 | U7: 0.14
A8: 7 | B8: AISE_F_001_v1Low Viscosity (small scale) | C8: Formulation into mixture; Washing, cleaning, maintenance and disinfecting products | D8: EU TGD/EUSES | E8: Formulation | F8: 61.2 | G8: 1 | H8: ERC2 Formulation of preparations | I8: x | J8: AISE | K8: AISE SPERC 2.1.i.v2 AISE Formulation of liquid Detergents/Maintenance Products: Low Viscosity (small scale) | L8: (Default: 244.8) | M8: =O8*$W$289 -> 0.018 | N8: =P8*$W$289 -> 0.0021 | O8: 0.03 | P8: 0.0035 | Q8: 0.0082 | R8: 0.11 | S8: 0.12 | T8: 0.0076 | U8: 0.1
A9: 8 | B9: AISE_F_001_v1Regular & Compact (large scale) | C9: Formulation into mixture; Washing, cleaning, maintenance and disinfecting products | D9: EU TGD/EUSES | E9: Formulation | F9: 367.4 | G9: 1 | H9: ERC2 Formulation of preparations | I9: x | J9: AISE | K9: AISE SPERC 2.1.a.v2 AISE Formulation of Granular Detergents/Maintenance Products -Regular & Compact (large scale) | L9: (Default: 1,469.6) | M9: =O9*$W$289 -> 0.00456 | N9: =P9*$W$289 -> 0.0006 | O9: 0.0076 | P9: 0.001 | Q9: 0.0046 | R9: 0.06 | S9: 0.04 | T9: 0.0041 | U9: 0.06
A10: 9 | B10: AISE_F_001_v1Regular & Compact (medium scale) | C10: Formulation into mixture; Washing, cleaning, maintenance and disinfecting products | D10: EU TGD/EUSES | E10: Formulation | F10: 183.7 | G10: 1 | H10: ERC2 Formulation of preparations | I10: x | J10: AISE | K10: AISE SPERC 2.1.b.v2 AISE Formulation of Grnaular Detergents/Maintenance Products-Regular & Compact (medium scale) | L10: (Default: 734.8) | M10: =O10*$W$289 -> 0.024 | N10: =P10*$W$289 -> 0.00312 | O10: 0.04 | P10: 0.0052 | Q10: 0.01 | R10: 0.15 | S10: 0.17 | T10: 0.01 | U10: 0.14
A11: 10 | B11: AISE_F_001_v1Regular & Compact (small scale) | C11: Formulation into mixture; Washing, cleaning, maintenance and disinfecting products | D11: EU TGD/EUSES | E11: Formulation | F11: 61.2 | G11: 1 | H11: ERC2 Formulation of preparations | I11: x | J11: AISE | K11: AISE SPERC 2.1.c.v2 AISE Formulation of Granular Detergents/Maintenance Products-Regular & Compact (small scale) | L11: (Default: 244.8) | M11: =O11*$W$289 -> 0.018 | N11: =P11*$W$289 -> 0.0021 | O11: 0.03 | P11: 0.0035 | Q11: 0.0082 | R11: 0.11 | S11: 0.12 | T11: 0.0076 | U11: 0.1
A12: 11 | B12: ATIEL-ATC Group A [i] | C12: Industrial formulation of lubricant additives, lubricants and greases. Includes material transfers, mixing, large and small packing, sampling, maintenance and associated laboratory activities | D12: EU TGD/EUSES | E12: Formulation | F12: 46 | G12: 1 | H12: ERC2 Formulation of preparations | I12: x | J12: User-Defined | K12: ATC-ATIEL A(i) | L12: (Default: 153.33) | M12: =O12*$W$289 -> 9.6e-11 | N12: =P12*$W$289 -> 1.32e-11 | O12: 1.6e-10 | P12: 2.2e-11 | Q12: 0.0031 | R12: 0.04 | S12: 0.00016 | T12: 0.0025 | U12: 0.03
A13: 12 | B13: ATIEL-ATC Group E [i] | C13: (Industrial) Handling and dilution of metalworking fluid concentrates | D13: EU TGD/EUSES | E13: Formulation | F13: 46 | G13: 1 | H13: ERC2 Formulation of preparations | I13: x | J13: User-Defined | K13: ATC/ATIEL E(i) | L13: (Default: 153.33) | M13: =O13*$W$289 -> 9.6e-11 | N13: =P13*$W$289 -> 1.32e-11 | O13: 1.6e-10 | P13: 2.2e-11 | Q13: 0.0031 | R13: 0.04 | S13: 0.00016 | T13: 0.0025 | U13: 0.03
... A46: 45 | B46: sector_F_001_v1 solid cosmetic and home care products (small scale) | C46: Manufacture of cosmetic products | D46: EU TGD/EUSES | E46: Formulation | F46: 18.38 | G46: 1 | H46: ERC2 Formulation of preparations | I46: x | J46: User-Defined | K46: Cosmetics Europe/Aise 2.3c.v2 (small scale) | L46: (Default: 73.52) | M46: =O46*$W$289 -> 0.00456 | N46: =P46*$W$289 -> 0.0006 | O46: 0.0076 | P46: 0.001 | Q46: 0.0046 | R46: 0.06 | S46: 0.04 | T46: 0.0041 | U46: 0.06
A47: 46 | B47: TEGEWA-F1.1 | C47: TEGEWA-F1.1 Formulation of preparations | D47: EU TGD/EUSES | E47: Formulation | F47: 1.8 | G47: 1 | H47: ERC2 Formulation of preparations | I47: x | J47: TEGEWA | L47: (Default: 180) | M47: =O47*$W$289 -> 0.114 | N47: =P47*$W$289 -> 0.018 | O47: 0.19 | P47: 0.03 | Q47: 0.04 | R47: 0.55 | S47: 0.85 | T47: 0.04 | U47: 0.54
A48: 47 | B48: TEGEWA-F2.1 | C48: TEGEWA-F2.1 Blending | D48: EU TGD/EUSES | E48: Formulation | F48: 1.8 | G48: 1 | H48: ERC2 Formulation of preparations | I48: x | J48: TEGEWA | L48: (Default: 180) | M48: =O48*$W$289 -> 0.114 | N48: =P48*$W$289 -> 0.018 | O48: 0.19 | P48: 0.03 | Q48: 0.04 | R48: 0.55 | S48: 0.85 | T48: 0.04 | U48: 0.54
A49: 48 | B49: TEGEWA-L1.1 | C49: TEGEWA-L1.1 Blending | D49: EU TGD/EUSES | E49: Formulation | F49: 1.8 | G49: 1 | H49: ERC2 Formulation of preparations | I49: x | J49: TEGEWA | L49: (Default: 180) | M49: =O49*$W$289 -> 0.114 | N49: =P49*$W$289 -> 0.018 | O49: 0.19 | P49: 0.03 | Q49: 0.04 | R49: 0.55 | S49: 0.85 | T49: 0.04 | U49: 0.54
A50: 49 | B50: TEGEWA-T1. | C50: TEGEWA-T1. Blending | D50: EU TGD/EUSES | E50: Formulation | F50: 1.8 | G50: 1 | H50: ERC2 Formulation of preparations | I50: x | J50: TEGEWA | L50: (Default: 180) | M50: =O50*$W$289 -> 0.114 | N50: =P50*$W$289 -> 0.018 | O50: 0.19 | P50: 0.03 | Q50: 0.04 | R50: 0.55 | S50: 0.85 | T50: 0.04 | U50: 0.54
A51: 50 | B51: Fertilizers Europe_F_002_v1 | C51: Formulation by incorporating fertilizers onto or into a matrix. | D51: EU TGD/EUSES | E51: Formulation | F51: 229.5 | G51: 1 | H51: ERC3 Formulation in materials | I51: x | J51: User-Defined | L51: (Default: 2,295) | M51: =O51*$W$289 -> 0.144 | N51: =P51*$W$289 -> 0.018 | O51: 0.24 | P51: 0.03 | Q51: 0.05 | R51: 0.69 | S51: 1.094 | T51: 0.05 | U51: 0.68
A52: 51 | B52: GRG | C52: General Rubber Goods | D52: EU TGD/EUSES | E52: Formulation | F52: 4.5 | G52: 1 | H52: ERC3 Formulation in materials | I52: x | J52: ETRMA | K52: ETRMA SPERC 3/6d.2a v.2 Manufacture of Rubber Products: Industrial (SU3, SU11) GRG use of vulcanization agents, anti-ageing agents / antidegradants | L52: (Default: 20.45) | M52: =O52*$W$289 -> 5.1e-05 | N52: =P52*$W$289 -> 7.2e-06 | O52: 8.5e-05 | P52: 1.2e-05 | Q52: 0.0031 | R52: 0.04 | S52: 0.00055 | T52: 0.0026 | U52: 0.03
A53: 52 | B53: TEGEWA-T2.1 | C53: TEGEWA-T2.1 blending (Bound in Product) | D53: EU TGD/EUSES | E53: Formulation | F53: 1.8 | G53: 1 | H53: ERC3 Formulation in materials | I53: x | J53: TEGEWA | L53: (Default: 180) | M53: =O53*$W$289 -> 0.012 | N53: =P53*$W$289 -> 0.00156 | O53: 0.02 | P53: 0.0026 | Q53: 0.0068 | R53: 0.09 | S53: 0.09 | T53: 0.0063 | U53: 0.08
A54: 53 | B54: Tyres | C54: Tyres | D54: EU TGD/EUSES | E54: Formulation | F54: 4.5 | G54: 1 | H54: ERC3 Formulation in materials | I54: x | J54: ETRMA | K54: ETRMA SPERC 3/6d.2a v.2 Manufacture of Rubber Products: Industrial (SU3, SU11) GRG use of vulcanization agents, anti-ageing agents / antidegradants | L54: (Default: 20.45) | M54: =O54*$W$289 -> 5.1e-05 | N54: =P54*$W$289 -> 7.2e-06 | O54: 8.5e-05 | P54: 1.2e-05 | Q54: 0.0031 | R54: 0.04 | S54: 0.00055 | T54: 0.0026 | U54: 0.03
A55: 54 | B55: AISE_IS_001_v1 | C55: Industrial uses; Washing, cleaning and disinfecting products | D55: EU TGD/EUSES | E55: Processing / End use | F55: 204.16 | G55: 1 | H55: ERC4 Industrial use of processing aids in processes and products, not becoming part of articles | I55: x | J55: AISE | K55: AISE SPERC 4.1.v2 AISE Industrial Use of Water Borne Processing Aids no RMM | L55: (Default: 50) | M55: =O55*$W$289 -> 1.5522 | N55: =P55*$W$289 -> 0.216 | O55: 2.587 | P55: 0.36 | Q55: 0.52 | R55: 7.057 | S55: 11.869 | T55: 0.52 | U55: 7.049
A56: 55 | B56: ATIEL-ATC Group B [i] | C56: General industrial use of lubricants and greases in vehicles or machinery. Includes filling and draining of containers and enclosed machinery (including engines) | D56: EU TGD/EUSES | E56: Processing / End use | F56: 9.19 | G56: 1 | H56: ERC4 Industrial use of processing aids in processes and products, not becoming part of articles | I56: x | J56: User-Defined | K56: ATC/ATIEL B(i) | L56: (Default: 30.63) | M56: =O56*$W$289 -> 1.92e-11 | N56: =P56*$W$289 -> 2.58e-12 | O56: 3.2e-11 | P56: 4.3e-12 | Q56: 0.0031 | R56: 0.04 | S56: 0.00016 | T56: 0.0025 | U56: 0.03
A57: 56 | B57: ATIEL-ATC Group C [i] | C57: (Industrial) Use in open system. Application of lubricant to work pieces or equipment by dipping, brushing or spraying (without exposure to heat), e.g. mould releases, corrosion protection, slideways | D57: EU TGD/EUSES | E57: Processing / End use | F57: 9.19 | G57: 1 | H57: ERC4 Industrial use of processing aids in processes and products, not becoming part of articles | I57: x | J57: User-Defined | K57: ATC/ATIEL C(i) | L57: (Default: 30.63) | M57: =O57*$W$289 -> 1.92e-11 | N57: =P57*$W$289 -> 2.58e-12 | O57: 3.2e-11 | P57: 4.3e-12 | Q57: 0.0031 | R57: 0.04 | S57: 0.00016 | T57: 0.0025 | U57: 0.03
A58: 57 | B58: ATIEL-ATC Group D [i] | C58: (Industrial) Use of lubricants in open high temperature processes, e.g. quenching fluids, glass release agents | D58: EU TGD/EUSES | E58: Processing / End use | F58: 9.19 | G58: 1 | H58: ERC4 Industrial use of processing aids in processes and products, not becoming part of articles | I58: x | J58: User-Defined | K58: ATC/ATIEL D(i) | L58: (Default: 30.63) | M58: =O58*$W$289 -> 1.92e-11 | N58: =P58*$W$289 -> 2.58e-12 | O58: 3.2e-11 | P58: 4.3e-12 | Q58: 0.0031 | R58: 0.04 | S58: 0.00016 | T58: 0.0025 | U58: 0.03
A59: 58 | B59: ATIEL-ATC Group F [i] | C59: (Industrial) Use of lubricants in high energy open processes, e.g. in high speed machinery such as metal rolling / forming or metalworking fluids for machining and grinding | D59: EU TGD/EUSES | E59: Processing / End use | F59: 9.19 | G59: 1 | H59: ERC4 Industrial use of processing aids in processes and products, not becoming part of articles | I59: x | J59: User-Defined | K59: ATC/ATIEL F(i) | L59: (Default: 30.63) | M59: =O59*$W$289 -> 1.92e-11 | N59: =P59*$W$289 -> 2.58e-12 | O59: 3.2e-11 | P59: 4.3e-12 | Q59: 0.0031 | R59: 0.04 | S59: 0.00016 | T59: 0.0025 | U59: 0.03
A60: 59 | B60: CEPE | C60: Industrial application of coatings or inks | D60: EU TGD/EUSES | E60: Processing / End use | F60: 2.76 | G60: 1 | H60: ERC4 Industrial use of processing aids in processes and products, not becoming part of articles | I60: x | J60: CEPE | K60: CEPE SPERC 4.1a.v1 application industrial spraying indoor use incineration – volatiles | L60: (Default: 12.27) | M60: =O60*$W$289 -> 0.006 | N60: =P60*$W$289 -> 0.00102 | O60: 0.01 | P60: 0.0017 | Q60: 0.0057 | R60: 0.08 | S60: 0.06 | T60: 0.0051 | U60: 0.07
A61: 60 | B61: EPDLA-RMH1.2 | C61: EPDLA Manufacture of aqueous polymer dispersions and dispersion powders Use of Processing Aids | D61: EU TGD/EUSES | E61: Processing / End use | F61: 229.68 | G61: 1 | H61: ERC4 Industrial use of processing aids in processes and products, not becoming part of articles | I61: x | J61: User-Defined | K61: EPDLA ERC4 | L61: (Default: 675.53) | M61: =O61*$W$289 -> 4.2e-05 | N61: =P61*$W$289 -> 5.76e-06 | O61: 7e-05 | P61: 9.6e-06 | Q61: 0.0031 | R61: 0.04 | S61: 0.00085 | T61: 0.0026 | U61: 0.03
A62: 61 | B62: ESVOC | C62: Use of the substance in extraction processes at mining operations, including material transfers, winning and separation activities, and substance recovery and disposal. | D62: EU TGD/EUSES | E62: Processing / End use | F62: 0.34 | G62: 1 | H62: ERC4 Industrial use of processing aids in processes and products, not becoming part of articles | I62: x | J62: ESVOC | K62: ESVOC SpERC 4.23.v1 Mining Chemicals: Industrial (SU10) | L62: (Default: 17) | M62: =O62*$W$289 -> 0.264 | N62: =P62*$W$289 -> 0.036 | O62: 0.44 | P62: 0.06 | Q62: 0.09 | R62: 1.235 | S62: 2.018 | T62: 0.09 | U62: 1.227
A63: 62 | B63: ESVOC | C63: Use of substances within Laboratory settings, within enclosed or contained systems, including incidental exposures during material transfers and equipment cleaning | D63: EU TGD/EUSES | E63: Processing / End use | F63: 0.34 | G63: 1 | H63: ERC4 Industrial use of processing aids in processes and products, not becoming part of articles | I63: x | J63: ESVOC | K63: ESVOC SPERC 4.24.v1 Laboratory reagents: Industrial (SU3) | L63: (Default: 17) | M63: =O63*$W$289 -> 0.012 | N63: =P63*$W$289 -> 0.00144 | O63: 0.02 | P63: 0.0024 | Q63: 0.0066 | R63: 0.09 | S63: 0.08 | T63: 0.0061 | U63: 0.08
A64: 63 | B64: ESVOC | C64: Use in coatings (paints, inks, adhesives, etc) | D64: EU TGD/EUSES | E64: Processing / End use | F64: 0.34 | G64: 1 | H64: ERC4 Industrial use of processing aids in processes and products, not becoming part of articles | I64: x | J64: ESVOC | K64: ESVOC SpERC 4.3a.v1 Uses in Coatings: Industrial (SU3) | L64: (Default: 1.13) | M64: =O64*$W$289 -> 0.00072 | N64: =P64*$W$289 -> 9.6e-05 | O64: 0.0012 | P64: 0.00016 | Q64: 0.0034 | R64: 0.05 | S64: 0.0056 | T64: 0.0028 | U64: 0.04
A65: 64 | B65: ESVOC | C65: Use as a component of cleaning products for industrial use including transfer from storage; pouring/unloading from drums or containers; exposures during cleaning activities (automated and by hand); and related maintenance | D65: EU TGD/EUSES | E65: Processing / End use | F65: 0.34 | G65: 1 | H65: ERC4 Industrial use of processing aids in processes and products, not becoming part of articles | I65: x | J65: ESVOC | K65: ESVOC SpERC 4.4a.v1 Use in Cleaning Agents: Industrial (SU3) | L65: (Default: 17) | M65: =O65*$W$289 -> 5.28e-05 | N65: =P65*$W$289 -> 7.2e-06 | O65: 8.8e-05 | P65: 1.2e-05 | Q65: 0.0031 | R65: 0.04 | S65: 0.00057 | T65: 0.0026 | U65: 0.03
... A141: 140 | B141: Fertilizers Europe_IS_001_v1 | C141: Use of a substance as an intermediate. | D141: EU TGD/EUSES | E141: Processing / End use | F141: 91.87 | G141: 1 | H141: ERC6a Industrial use resulting in manufacture of another substance (use of intermediates) | I141: x | J141: User-Defined | K141: Processing Industrial (use as Intermediate) | L141: (Default: 262.49) | M141: =O141*$W$289 -> 0.00174 | N141: =P141*$W$289 -> 0.000234 | O141: 0.0029 | P141: 0.00039 | Q141: 0.0037 | R141: 0.05 | S141: 0.01 | T141: 0.0031 | U141: 0.04
A142: 141 | B142: PPRM | C142: Industrial manufacture of resins (Polyester Powder Resin Manufacturers Sector Group (PPRM)) | D142: EU TGD/EUSES | E142: Processing / End use | F142: 3.06 | G142: 1 | H142: ERC6a Industrial use resulting in manufacture of another substance (use of intermediates) | I142: x | J142: Eurometaux | L142: (Default: 153) | M142: =O142*$W$289 -> 0.096 | N142: =P142*$W$289 -> 0.012 | O142: 0.16 | P142: 0.02 | Q142: 0.03 | R142: 0.47 | S142: 0.73 | T142: 0.03 | U142: 0.46
A143: 142 | B143: Fertilizers Europe_IS_002_v1 | C143: Use of a reactive processing aid during formulation of fertilizers or during manufacturing new fertilizer substances. | D143: EU TGD/EUSES | E143: Processing / End use | F143: 91.87 | G143: 1 | H143: ERC6b Industrial use of reactive processing aids | I143: x | J143: User-Defined | K143: Fertilizers Europe SPERC 6b.v1 | L143: (Default: 0.5) | M143: =O143*$W$289 -> 0.000156 | N143: =P143*$W$289 -> 2.16e-05 | O143: 0.00026 | P143: 3.6e-05 | Q143: 0.0032 | R143: 0.04 | S143: 0.0014 | T143: 0.0026 | U143: 0.04
A144: 143 | B144: TEGEWA-L4.1 | C144: TEGEWA-L4.1 handling (Reactive Processing Aids) | D144: EU TGD/EUSES | E144: Processing / End use | F144: 0.22 | G144: 1 | H144: ERC6b Industrial use of reactive processing aids | I144: x | J144: TEGEWA | K144: TEGEWA SPERC 6b.1.v1 TEGEWA Use of reactive processing aid in textile processing | L144: (Default: 1) | M144: =O144*$W$289 -> 0.0006 | N144: =P144*$W$289 -> 8.4e-05 | O144: 0.001 | P144: 0.00014 | Q144: 0.0033 | R144: 0.05 | S144: 0.0049 | T144: 0.0027 | U144: 0.04
A145: 144 | B145: TEGEWA-L4.1 | C145: TEGEWA-L4.1 handling (Reactive Processing Aids) | D145: EU TGD/EUSES | E145: Processing / End use | F145: 0.22 | G145: 1 | H145: ERC6b Industrial use of reactive processing aids | I145: x | J145: TEGEWA | K145: TEGEWA SPERC 6b.1.v1 TEGEWA Use of reactive processing aid in textile processing | L145: (Default: 1) | M145: =O145*$W$289 -> 0.0006 | N145: =P145*$W$289 -> 8.4e-05 | O145: 0.001 | P145: 0.00014 | Q145: 0.0033 | R145: 0.05 | S145: 0.0049 | T145: 0.0027 | U145: 0.04
A146: 145 | B146: TEGEWA-L7.1 | C146: TEGEWA-L7.1 use in wet end (Reactive) | D146: EU TGD/EUSES | E146: Processing / End use | F146: 0.22 | G146: 1 | H146: ERC6b Industrial use of reactive processing aids | I146: x | J146: TEGEWA | K146: TEGEWA SPERC 6b.1.v1 TEGEWA Use of reactive processing aid in textile processing | L146: (Default: 1) | M146: =O146*$W$289 -> 0.0006 | N146: =P146*$W$289 -> 8.4e-05 | O146: 0.001 | P146: 0.00014 | Q146: 0.0033 | R146: 0.05 | S146: 0.0049 | T146: 0.0027 | U146: 0.04
A147: 146 | B147: TEGEWA-T12.1 | C147: TEGEWA-T12.1 Textile Coating (Reactive Processing Aids) | D147: EU TGD/EUSES | E147: Processing / End use | F147: 0.22 | G147: 1 | H147: ERC6b Industrial use of reactive processing aids | I147: x | J147: TEGEWA | K147: TEGEWA SPERC 6b.1.v1 TEGEWA Use of reactive processing aid in textile processing | L147: (Default: 1) | M147: =O147*$W$289 -> 0.0006 | N147: =P147*$W$289 -> 8.4e-05 | O147: 0.001 | P147: 0.00014 | Q147: 0.0033 | R147: 0.05 | S147: 0.0049 | T147: 0.0027 | U147: 0.04
A148: 147 | B148: TEGEWA-T5.1 | C148: TEGEWA-T5.1 handling (Reactive Processing Aids) | D148: EU TGD/EUSES | E148: Processing / End use | F148: 0.22 | G148: 1 | H148: ERC6b Industrial use of reactive processing aids | I148: x | J148: TEGEWA | K148: TEGEWA SPERC 6b.1.v1 TEGEWA Use of reactive processing aid in textile processing | L148: (Default: 1) | M148: =O148*$W$289 -> 0.0006 | N148: =P148*$W$289 -> 8.4e-05 | O148: 0.001 | P148: 0.00014 | Q148: 0.0033 | R148: 0.05 | S148: 0.0049 | T148: 0.0027 | U148: 0.04
A149: 148 | B149: TEGEWA-T9.1 | C149: TEGEWA-T9.1 Textile application: dipping and pouring (Reactive Processing Aids) | D149: EU TGD/EUSES | E149: Processing / End use | F149: 0.22 | G149: 1 | H149: ERC6b Industrial use of reactive processing aids | I149: x | J149: TEGEWA | K149: TEGEWA SPERC 6b.1.v1 TEGEWA Use of reactive processing aid in textile processing | L149: (Default: 1) | M149: =O149*$W$289 -> 0.0006 | N149: =P149*$W$289 -> 8.4e-05 | O149: 0.001 | P149: 0.00014 | Q149: 0.0033 | R149: 0.05 | S149: 0.0049 | T149: 0.0027 | U149: 0.04
A150: 149 | B150: EPDLA-RMH1.4 | C150: EPDLA Manufacture of aqueous polymer dispersions and dispersion powders Use of Monomers | D150: EU TGD/EUSES | E150: Processing / End use | F150: 229.68 | G150: 1 | H150: ERC6c Industrial use of monomers for manufacture of thermo-plastics | I150: x | J150: User-Defined | K150: EPDLA ERC6c | L150: (Default: 675.53) | M150: =O150*$W$289 -> 4.2e-05 | N150: =P150*$W$289 -> 5.76e-06 | O150: 7e-05 | P150: 9.6e-06 | Q150: 0.0031 | R150: 0.04 | S150: 0.00085 | T150: 0.0026 | U150: 0.03
A151: 150 | B151: Fertilizers Europe_IS_003_v1 | C151: Use of monomers in polymer coating of fertilizers. | D151: EU TGD/EUSES | E151: Processing / End use | F151: 91.87 | G151: 1 | H151: ERC6c Industrial use of monomers for manufacture of thermo-plastics | I151: x | J151: User-Defined | K151: Fertilizers Europe SPERC 6c.v1 | L151: (Default: 0.5) | M151: =O151*$W$289 -> 0.000156 | N151: =P151*$W$289 -> 2.16e-05 | O151: 0.00026 | P151: 3.6e-05 | Q151: 0.0032 | R151: 0.04 | S151: 0.0014 | T151: 0.0026 | U151: 0.04
A152: 151 | B152: TEGEWA-L10.1 | C152: TEGEWA-L10.1 use for leather finishing (Monomers) | D152: EU TGD/EUSES | E152: Processing / End use | F152: 0.22 | G152: 1 | H152: ERC6c Industrial use of monomers for manufacture of thermo-plastics | I152: x | J152: TEGEWA | L152: (Default: 11) | M152: =O152*$W$289 -> 0.018 | N152: =P152*$W$289 -> 0.00234 | O152: 0.03 | P152: 0.0039 | Q152: 0.0088 | R152: 0.12 | S152: 0.13 | T152: 0.0082 | U152: 0.11
A153: 152 | B153: TEGEWA-L10.1 | C153: TEGEWA-L10.1 use for leather finishing (Monomers) | D153: EU TGD/EUSES | E153: Processing / End use | F153: 0.22 | G153: 1 | H153: ERC6c Industrial use of monomers for manufacture of thermo-plastics | I153: x | J153: TEGEWA | L153: (Default: 11) | M153: =O153*$W$289 -> 0.018 | N153: =P153*$W$289 -> 0.00234 | O153: 0.03 | P153: 0.0039 | Q153: 0.0088 | R153: 0.12 | S153: 0.13 | T153: 0.0082 | U153: 0.11
A154: 153 | B154: TEGEWA-L10.2 | C154: TEGEWA-L10.2 use for leather finishing (Monomers) | D154: EU TGD/EUSES | E154: Processing / End use | F154: 0.22 | G154: 1 | H154: ERC6c Industrial use of monomers for manufacture of thermo-plastics | I154: x | J154: TEGEWA | L154: (Default: 11) | M154: =O154*$W$289 -> 0.018 | N154: =P154*$W$289 -> 0.00234 | O154: 0.03 | P154: 0.0039 | Q154: 0.0088 | R154: 0.12 | S154: 0.13 | T154: 0.0082 | U154: 0.11
A155: 154 | B155: EPDLA-RMH1.5 | C155: EPDLA Manufacture of aqueous polymer dispersions and dispersion powders Use of Process Regulators for Polymerisation | D155: EU TGD/EUSES | E155: Processing / End use | F155: 229.68 | G155: 1 | H155: ERC6d Industrial use of process regulators for polymerisation processes in production of resins, rubbers, polymers | I155: x | J155: User-Defined | L155: (Default: 11,484) | M155: =O155*$W$289 -> 0.018 | N155: =P155*$W$289 -> 0.00246 | O155: 0.03 | P155: 0.0041 | Q155: 0.0091 | R155: 0.12 | S155: 0.14 | T155: 0.0085 | U155: 0.12
A156: 155 | B156: GRG | C156: General Rubber Goods | D156: EU TGD/EUSES | E156: Processing / End use | F156: 2.3 | G156: 1 | H156: ERC6d Industrial use of process regulators for polymerisation processes in production of resins, rubbers, polymers | I156: x | J156: ETRMA | K156: ETRMA SPERC 3/6d.2a v.2 Manufacture of Rubber Products: Industrial (SU3, SU11) GRG use of vulcanization agents, anti-ageing agents / antidegradants | L156: (Default: 10.45) | M156: =O156*$W$289 -> 2.58e-05 | N156: =P156*$W$289 -> 3.54e-06 | O156: 4.3e-05 | P156: 5.9e-06 | Q156: 0.0031 | R156: 0.04 | S156: 0.00036 | T156: 0.0025 | U156: 0.03
A157: 156 | B157: PPRM | C157: Industrial manufacture of resins (Polyester Powder Resin Manufacturers Sector Group (PPRM)) | D157: EU TGD/EUSES | E157: Processing / End use | F157: 3.06 | G157: 1 | H157: ERC6d Industrial use of process regulators for polymerisation processes in production of resins, rubbers, polymers | I157: x | J157: Eurometaux | L157: (Default: 153) | M157: =O157*$W$289 -> 0.00024 | N157: =P157*$W$289 -> 3.24e-05 | O157: 0.0004 | P157: 5.4e-05 | Q157: 0.0032 | R157: 0.04 | S157: 0.002 | T157: 0.0026 | U157: 0.04
A158: 157 | B158: TEGEWA-T15.1 | C158: TEGEWA-T15.1 Mixing | D158: EU TGD/EUSES | E158: Processing / End use | F158: 0.22 | G158: 1 | H158: ERC6d Industrial use of process regulators for polymerisation processes in production of resins, rubbers, polymers | I158: x | J158: TEGEWA | L158: (Default: 11) | M158: =O158*$W$289 -> 1.68e-05 | N158: =P158*$W$289 -> 2.34e-06 | O158: 2.8e-05 | P158: 3.9e-06 | Q158: 0.0031 | R158: 0.04 | S158: 0.00029 | T158: 0.0025 | U158: 0.03
A159: 158 | B159: TEGEWA-T16.1 | C159: TEGEWA-T16.1 Coating | D159: EU TGD/EUSES | E159: Processing / End use | F159: 0.22 | G159: 1 | H159: ERC6d Industrial use of process regulators for polymerisation processes in production of resins, rubbers, polymers | I159: x | J159: TEGEWA | L159: (Default: 11) | M159: =O159*$W$289 -> 1.68e-05 | N159: =P159*$W$289 -> 2.34e-06 | O159: 2.8e-05 | P159: 3.9e-06 | Q159: 0.0031 | R159: 0.04 | S159: 0.00029 | T159: 0.0025 | U159: 0.03
A160: 159 | B160: TEGEWA-T18.1 | C160: TEGEWA-T18.1 extrusion (Reactive) | D160: EU TGD/EUSES | E160: Processing / End use | F160: 0.22 | G160: 1 | H160: ERC6d Industrial use of process regulators for polymerisation processes in production of resins, rubbers, polymers | I160: x | J160: TEGEWA | L160: (Default: 11) | M160: =O160*$W$289 -> 1.68e-05 | N160: =P160*$W$289 -> 2.34e-06 | O160: 2.8e-05 | P160: 3.9e-06 | Q160: 0.0031 | R160: 0.04 | S160: 0.00029 | T160: 0.0025 | U160: 0.03
A161: 160 | B161: Tyres | C161: Tyres | D161: EU TGD/EUSES | E161: Processing / End use | F161: 2.3 | G161: 1 | H161: ERC6d Industrial use of process regulators for polymerisation processes in production of resins, rubbers, polymers | I161: x | J161: ETRMA | K161: ETRMA SPERC 3/6d.2a v.2 Manufacture of Rubber Products: Industrial (SU3, SU11) GRG use of vulcanization agents, anti-ageing agents / antidegradants | L161: (Default: 10.45) | M161: =O161*$W$289 -> 2.58e-05 | N161: =P161*$W$289 -> 3.54e-06 | O161: 4.3e-05 | P161: 5.9e-06 | Q161: 0.0031 | R161: 0.04 | S161: 0.00036 | T161: 0.0025 | U161: 0.03
A162: 161 | B162: ATIEL-ATC Group B [i] | C162: General industrial use of lubricants and greases in vehicles or machinery. Includes filling and draining of containers and enclosed machinery (including engines) | D162: EU TGD/EUSES | E162: Processing / End use | F162: 9.19 | G162: 1 | H162: ERC7 Industrial use of substances in closed systems | I162: x | J162: User-Defined | K162: ATC/ATIEL B(i) | L162: (Default: 30.63) | M162: =O162*$W$289 -> 1.92e-11 | N162: =P162*$W$289 -> 2.58e-12 | O162: 3.2e-11 | P162: 4.3e-12 | Q162: 0.0031 | R162: 0.04 | S162: 0.00016 | T162: 0.0025 | U162: 0.03
A163: 162 | B163: ESVOC | C163: Use as a fuel including incineration of wastes and use as a solvent in fuel additives, covers refueling and evaporative losses | D163: EU TGD/EUSES | E163: Processing / End use | F163: 0.34 | G163: 1 | H163: ERC7 Industrial use of substances in closed systems | I163: x | J163: ESVOC | K163: ESVOC SpERC 7.12a.v1 Use as a fuel: Industrial (SU3) | L163: (Default: 1.13) | M163: =O163*$W$289 -> 3.54e-07 | N163: =P163*$W$289 -> 4.8e-08 | O163: 5.9e-07 | P163: 8e-08 | Q163: 0.0031 | R163: 0.04 | S163: 0.00016 | T163: 0.0025 | U163: 0.03
A164: 163 | B164: ESVOC | C164: Use as functional fluids e.g. cable oils, transfer oils, insulators, hydraulic fluids in industrial equipment including maintenance and related material transfers | D164: EU TGD/EUSES | E164: Processing / End use | F164: 0.34 | G164: 1 | H164: ERC7 Industrial use of substances in closed systems | I164: x | J164: ESVOC | K164: ESVOC SpERC 7.13a.v1 Functional Fluids: Industrial (SU3) | L164: (Default: 17) | M164: =O164*$W$289 -> 0.000528 | N164: =P164*$W$289 -> 7.2e-05 | O164: 0.00088 | P164: 0.00012 | Q164: 0.0033 | R164: 0.04 | S164: 0.0042 | T164: 0.0027 | U164: 0.04
A165: 164 | B165: AISE_C_001_v1Non-Propellants | C165: Consumer uses; air care products | D165: EU TGD/EUSES | E165: Processing / End use | F165: 87.5 | G165: spERC: 4 % | H165: ERC8a Wide dispersive indoor use of processing aids in open systems | I165: x | J165: AISE | K165: AISE SPERC 8a.1.b.v2 AISE Wide Dispersive Use in Aerosol products for cleaning and maintenance products (Non-Propellants) (Consumers and Professionals) Fraction of EU tonnage to region: 0.04 (default: 0.1) | L165: (Default: 0.01) | M165: =O165*$W$289 -> 0.000222 | N165: =P165*$W$289 -> 3.06e-05 | O165: 0.00037 | P165: 5.1e-05
A166: 165 | B166: AISE_C_001_v1Propellants | C166: Consumer uses; air care products | D166: EU TGD/EUSES | E166: Processing / End use | F166: 87.5 | G166: spERC: 4 % | H166: ERC8a Wide dispersive indoor use of processing aids in open systems | I166: x | J166: AISE | K166: AISE SPERC 8a.1.c.v2 AISE Wide Dispersive Use in Aerosol products for cleaning and maintenance products (Propellants) (Consumers and Professionals) Fraction of EU tonnage to region: 0.04 (default: 0.1) | L166: (Default: 0.01) | M166: =O166*$W$289 -> 0 | N166: =P166*$W$289 -> 0 | O166: 0 | P166: 0
A167: 166 | B167: AISE_C_002_v1'Down the Drain' cleaning and maintenance products | C167: Consumer uses; washing and cleaning products | D167: EU TGD/EUSES | E167: Processing / End use | F167: 87.5 | G167: spERC: 4 % | H167: ERC8a Wide dispersive indoor use of processing aids in open systems | I167: x | J167: AISE | K167: AISE SPERC 8a.1.a.v2 AISE Wide Dispersive Use in 'Down the Drain' cleaning and maintenance products (Consumers and Professionals) Fraction of EU tonnage to region: 0.04 (default: 0.1) | L167: (Default: 0.01) | M167: =O167*$W$289 -> 0.000222 | N167: =P167*$W$289 -> 3.06e-05 | O167: 0.00037 | P167: 5.1e-05
A168: 167 | B168: AISE_C_002_v1Non-Propellants | C168: Consumer uses; washing and cleaning products | D168: EU TGD/EUSES | E168: Processing / End use | F168: 87.5 | G168: spERC: 4 % | H168: ERC8a Wide dispersive indoor use of processing aids in open systems | I168: x | J168: AISE | K168: AISE SPERC 8a.1.b.v2 AISE Wide Dispersive Use in Aerosol products for cleaning and maintenance products (Non-Propellants) (Consumers and Professionals) Fraction of EU tonnage to region: 0.04 (default: 0.1) | L168: (Default: 0.01) | M168: =O168*$W$289 -> 0.000222 | N168: =P168*$W$289 -> 3.06e-05 | O168: 0.00037 | P168: 5.1e-05
A169: 168 | B169: AISE_C_002_v1Propellants | C169: Consumer uses; washing and cleaning products | D169: EU TGD/EUSES | E169: Processing / End use | F169: 87.5 | G169: spERC: 4 % | H169: ERC8a Wide dispersive indoor use of processing aids in open systems | I169: x | J169: AISE | K169: AISE SPERC 8a.1.c.v2 AISE Wide Dispersive Use in Aerosol products for cleaning and maintenance products (Propellants) (Consumers and Professionals) Fraction of EU tonnage to region: 0.04 (default: 0.1) | L169: (Default: 0.01) | M169: =O169*$W$289 -> 0 | N169: =P169*$W$289 -> 0 | O169: 0 | P169: 0
A170: 169 | B170: AISE_C_003_v1 | C170: Consumer uses; polishes and wax blends | D170: EU TGD/EUSES | E170: Processing / End use | F170: 87.5 | G170: 0.1 | H170: ERC8a Wide dispersive indoor use of processing aids in open systems | I170: x | J170: AISE | L170: (Default: 0.05) | M170: =O170*$W$289 -> 0.0015 | N170: =P170*$W$289 -> 0.000204 | O170: 0.0025 | P170: 0.00034
A171: 170 | B171: AISE_C_004_v1 | C171: Consumer uses; biocidal products | D171: EU TGD/EUSES | E171: Processing / End use | F171: 87.5 | G171: 0.1 | H171: ERC8a Wide dispersive indoor use of processing aids in open systems | I171: x | J171: AISE | L171: (Default: 0.05) | M171: =O171*$W$289 -> 0.0015 | N171: =P171*$W$289 -> 0.000204 | O171: 0.0025 | P171: 0.00034
A172: 171 | B172: AISE_PW_001_v1 | C172: Professional uses; Washing, cleaning and disinfecting products | D172: EU TGD/EUSES | E172: Processing / End use | F172: 306.24 | G172: spERC: 4 % | H172: ERC8a Wide dispersive indoor use of processing aids in open systems | I172: x | J172: AISE | K172: AISE SPERC 8a.1.a.v2 AISE Wide Dispersive Use in 'Down the Drain' cleaning and maintenance products (Consumers and Professionals) Fraction of EU tonnage to region: 0.04 (default: 0.1) | L172: (Default: 0.03) | M172: =O172*$W$289 -> 0.00078 | N172: =P172*$W$289 -> 0.000108 | O172: 0.0013 | P172: 0.00018
A173: 172 | B173: AISE_PW_002_v1 | C173: Professional uses; Polishes and wax blends | D173: EU TGD/EUSES | E173: Processing / End use | F173: 306.24 | G173: spERC: 4 % | H173: ERC8a Wide dispersive indoor use of processing aids in open systems | I173: x | J173: AISE | K173: AISE SPERC 8a.1.a.v2 AISE Wide Dispersive Use in 'Down the Drain' cleaning and maintenance products (Consumers and Professionals) Fraction of EU tonnage to region: 0.04 (default: 0.1) | L173: (Default: 0.03) | M173: =O173*$W$289 -> 0.00078 | N173: =P173*$W$289 -> 0.000108 | O173: 0.0013 | P173: 0.00018
A174: 173 | B174: ATIEL-ATC Group C [c] | C174: (Consumer) Use in open system. Application of lubricant to work pieces or equipment by dipping, brushing or spraying (without exposure to heat), e.g. mould releases, corrosion protection, slideways | D174: EU TGD/EUSES | E174: Processing / End use | F174: 2.3 | G174: 0.1 | H174: ERC8a Wide dispersive indoor use of processing aids in open systems | I174: x | J174: ATIEL-ATC | K174: ATIEL-ATC SPERC 8.Cc.v1 Covers consumer use of lubricants and greases in open systems, including application of lubricant to work pieces or equipment by dipping, brushing or spraying (without exposure to heat), e.g. mould releases, corrosion protection, | L174: (Default: 0) | M174: =O174*$W$289 -> 4.92e-09 | N174: =P174*$W$289 -> 6.6e-10 | O174: 8.2e-09 | P174: 1.1e-09
A175: 174 | B175: ATIEL-ATC Group C [p] | C175: (Professional) Use in open system. Application of lubricant to work pieces or equipment by dipping, brushing or spraying (without exposure to heat), e.g. mould releases, corrosion protection, slideways | D175: EU TGD/EUSES | E175: Processing / End use | F175: 5.51 | G175: 0.1 | H175: ERC8a Wide dispersive indoor use of processing aids in open systems | I175: x | J175: User-Defined | K175: ATC/ATIEL C(p) | L175: (Default: 0.15) | M175: =O175*$W$289 -> 2.34e-06 | N175: =P175*$W$289 -> 3.24e-07 | O175: 3.9e-06 | P175: 5.4e-07
A176: 175 | B176: ATIEL-ATC Group F [p] | C176: (Professional) Use of lubricants in high energy open processes, e.g. in high speed machinery such as metal rolling / forming or metalworking fluids for machining and grinding | D176: EU TGD/EUSES | E176: Processing / End use | F176: 5.51 | G176: 0.1 | H176: ERC8a Wide dispersive indoor use of processing aids in open systems | I176: x | J176: User-Defined | K176: ATC/ATIEL F(p) | L176: (Default: 0.15) | M176: =O176*$W$289 -> 4.68e-06 | N176: =P176*$W$289 -> 6.6e-07 | O176: 7.8e-06 | P176: 1.1e-06
A177: 176 | B177: CEPE | C177: Professional application of coatings or inks | D177: EU TGD/EUSES | E177: Processing / End use | F177: 0.39 | G177: 0.1 | H177: ERC8a Wide dispersive indoor use of processing aids in open systems | I177: x | J177: CEPE | K177: CEPE SPERC 8a.2a.v1 application professional bush/roller indoor use – volatiles | L177: (Default: 0) | M177: =O177*$W$289 -> 1.08e-07 | N177: =P177*$W$289 -> 1.5e-08 | O177: 1.8e-07 | P177: 2.5e-08
A178: 177 | B178: CEPE | C178: Ancilliary activities in industrial, professional or consumer application of coatings and inks | D178: EU TGD/EUSES | E178: Processing / End use | F178: 0.39 | G178: 0.1 | H178: ERC8a Wide dispersive indoor use of processing aids in open systems | I178: x | J178: CEPE | L178: (Default: 0) | M178: =O178*$W$289 -> 6.6e-06 | N178: =P178*$W$289 -> 9e-07 | O178: 1.1e-05 | P178: 1.5e-06
A179: 178 | B179: CEPE | C179: Consumer application of coatings | D179: EU TGD/EUSES | E179: Processing / End use | F179: 0.18 | G179: 0.1 | H179: ERC8a Wide dispersive indoor use of processing aids in open systems | I179: x | J179: CEPE | K179: CEPE SPERC 8a.1a.v1 application consumer bush/roller indoor use – volatiles | L179: (Default: 0) | M179: =O179*$W$289 -> 3.06e-08 | N179: =P179*$W$289 -> 4.2e-09 | O179: 5.1e-08 | P179: 7e-09
A180: 179 | B180: CEPE | C180: Consumer application of coatings | D180: EU TGD/EUSES | E180: Processing / End use | F180: 0.18 | G180: 0.1 | H180: ERC8a Wide dispersive indoor use of processing aids in open systems | I180: x | J180: CEPE | K180: CEPE SPERC 8a.1a.v1 application consumer bush/roller indoor use – volatiles | L180: (Default: 0) | M180: =O180*$W$289 -> 3.06e-08 | N180: =P180*$W$289 -> 4.2e-09 | O180: 5.1e-08 | P180: 7e-09
A181: 180 | B181: EFCC_PW_11-i_v2 | C181: use of construction chemical products by spray application (high energy), indoor | D181: EU TGD/EUSES | E181: Processing / End use | F181: 76.56 | G181: 0.1 | H181: ERC8a Wide dispersive indoor use of processing aids in open systems | I181: x | J181: User-Defined | K181: EFCC SPERC 8a.1a.v2 | L181: (Default: 0.04) | M181: =O181*$W$289 -> 1.98e-05 | N181: =P181*$W$289 -> 2.7e-06 | O181: 3.3e-05 | P181: 4.5e-06
A182: 181 | B182: EFCC_PW_L-10-i_v2 | C182: large-scale use of construction chemical products by roller or brushing application, indoor | D182: EU TGD/EUSES | E182: Processing / End use | F182: 53.59 | G182: 0.1 | H182: ERC8a Wide dispersive indoor use of processing aids in open systems | I182: x | J182: User-Defined | K182: EFCC SPERC 8a.1a.v2 | L182: (Default: 0.03) | M182: =O182*$W$289 -> 1.38e-05 | N182: =P182*$W$289 -> 1.86e-06 | O182: 2.3e-05 | P182: 3.1e-06
A183: 182 | B183: EFCC_PW_L-13-i_v2 | C183: large-scale use of construction chemical products by pouring application, indoor | D183: EU TGD/EUSES | E183: Processing / End use | F183: 53.59 | G183: 0.1 | H183: ERC8a Wide dispersive indoor use of processing aids in open systems | I183: x | J183: User-Defined | K183: EFCC SPERC 8a.1a.v2 | L183: (Default: 0.03) | M183: =O183*$W$289 -> 1.38e-05 | N183: =P183*$W$289 -> 1.86e-06 | O183: 2.3e-05 | P183: 3.1e-06
A184: 183 | B184: EFCC_PW_S-10-i_v2 | C184: small-scale use of construction chemical products by roller or brushing application, indoor | D184: EU TGD/EUSES | E184: Processing / End use | F184: 22.97 | G184: 0.1 | H184: ERC8a Wide dispersive indoor use of processing aids in open systems | I184: x | J184: User-Defined | K184: EFCC SPERC 8a.1a.v2 | L184: (Default: 0.01) | M184: =O184*$W$289 -> 5.88e-06 | N184: =P184*$W$289 -> 7.8e-07 | O184: 9.8e-06 | P184: 1.3e-06
A185: 184 | B185: EFCC_PW_S-13-i_v2 | C185: small-scale use of construction chemical products by pouring application, indoor | D185: EU TGD/EUSES | E185: Processing / End use | F185: 22.97 | G185: 0.1 | H185: ERC8a Wide dispersive indoor use of processing aids in open systems | I185: x | J185: User-Defined | K185: EFCC SPERC 8a.1a.v2 | L185: (Default: 0.01) | M185: =O185*$W$289 -> 5.88e-06 | N185: =P185*$W$289 -> 7.8e-07 | O185: 9.8e-06 | P185: 1.3e-06
A186: 185 | B186: ESVOC | C186: Use of small quantities within laboratory settings | D186: EU TGD/EUSES | E186: Processing / End use | F186: 0.15 | G186: 0.1 | H186: ERC8a Wide dispersive indoor use of processing aids in open systems | I186: x | J186: ESVOC | K186: ESVOC SpERC 8.17.v1 Laboratory reagents: Professional (SU22) | L186: (Default: 0) | M186: =O186*$W$289 -> 3.18e-07 | N186: =P186*$W$289 -> 4.38e-08 | O186: 5.3e-07 | P186: 7.3e-08
A187: 186 | B187: ESVOC | C187: General exposures to consumers arising from the use household products sold as washing and cleaning products, aerosols, coatings, de-icers, lubricants and air care products | D187: EU TGD/EUSES | E187: Processing / End use | F187: 0.15 | G187: 0.1 | H187: ERC8a Wide dispersive indoor use of processing aids in open systems | I187: x | J187: ESVOC | K187: ESVOC SpERC 8.4c.v1 Use in Cleaning Agents: Consumer (SU21) | L187: (Default: 0) | M187: =O187*$W$289 -> 3.18e-08 | N187: =P187*$W$289 -> 4.38e-09 | O187: 5.3e-08 | P187: 7.3e-09
A188: 187 | B188: ESVOC | C188: Consumer use of formulated lubricants in open systems including transfer operations, application, operation of engines and similar articles, recycling and disposal of waste oil. | D188: EU TGD/EUSES | E188: Processing / End use | F188: 0.15 | G188: 0.1 | H188: ERC8a Wide dispersive indoor use of processing aids in open systems | I188: x | J188: ESVOC | K188: ESVOC SpERC 8.6e.v1 Lubricants: Consumer (SU21) high environmental release | L188: (Default: 0) | M188: =O188*$W$289 -> 6.6e-08 | N188: =P188*$W$289 -> 9e-09 | O188: 1.1e-07 | P188: 1.5e-08
A189: 188 | B189: ESVOC | C189: Other Consumer Uses: Consumer | D189: EU TGD/EUSES | E189: Processing / End use | F189: 0.15 | G189: 0.1 | H189: ERC8a Wide dispersive indoor use of processing aids in open systems | I189: x | J189: ESVOC | K189: ESVOC SpERC 8.16.v1 Other Consumer Uses: Consumer (SU21) | L189: (Default: 0) | M189: =O189*$W$289 -> 1.62e-08 | N189: =P189*$W$289 -> 2.16e-09 | O189: 2.7e-08 | P189: 3.6e-09
A190: 189 | B190: ESVOC | C190: Use in coatings (paints, inks, adhesives, etc) | D190: EU TGD/EUSES | E190: Processing / End use | F190: 0.15 | G190: 0.1 | H190: ERC8a Wide dispersive indoor use of processing aids in open systems | I190: x | J190: ESVOC | K190: ESVOC SpERC 8.3b.v1 Uses in Coatings: Professional (SU22) | L190: (Default: 0) | M190: =O190*$W$289 -> 6.6e-09 | N190: =P190*$W$289 -> 9e-10 | O190: 1.1e-08 | P190: 1.5e-09
... A204: 203 | B204: FEICA_PW_007 | C204: Professional application of reactive sealants | D204: EU TGD/EUSES | E204: Processing / End use | F204: 0.63 | G204: 0.1 | H204: ERC8a Wide dispersive indoor use of processing aids in open systems | I204: x | J204: FEICA | K204: FEICA SPERC 8a.3.v2 Wide dispersive Use of Solvents in Adhesives and Sealants | L204: (Default: 0) | M204: =O204*$W$289 -> 1.62e-07 | N204: =P204*$W$289 -> 2.22e-08 | O204: 2.7e-07 | P204: 3.7e-08
A205: 204 | B205: Fertilizers Europe_C_001_v1 | C205: Consumer use of fertilizer products. | D205: EU TGD/EUSES | E205: Processing / End use | F205: 7.66 | G205: 0.1 | H205: ERC8a Wide dispersive indoor use of processing aids in open systems | J205: User-Defined | L205: (Default: 0) | M205: =O205*$W$289 -> 0 | Q205: 0.0082 | R205: 0.11 | S205: 0.00016 | T205: 0.0076 | U205: 0.1
A206: 205 | B206: Fertilizers Europe_PW_001_v1 | C206: Professional use of fertilizers. | D206: EU TGD/EUSES | E206: Processing / End use | F206: 19.69 | G206: 0.1 | H206: ERC8a Wide dispersive indoor use of processing aids in open systems | J206: User-Defined | K206: Fertilizers Europe | L206: (Default: 0.01) | M206: =O206*$W$289 -> 0 | Q206: 0.0031 | R206: 0.04 | S206: 0.00016 | T206: 0.0025 | U206: 0.03
A207: 206 | B207: sector_C_001_v1hair and skin care products (Consumers and Professionals) | C207: End use of cosmetic products | D207: EU TGD/EUSES | E207: Processing / End use | F207: 153.12 | G207: spERC: 5.3 % | H207: ERC8a Wide dispersive indoor use of processing aids in open systems | I207: x | J207: User-Defined | K207: Cosmetics Europe 8a.1a.v2 | L207: (Default: 0.02) | M207: =O207*$W$289 -> 0.000516 | N207: =P207*$W$289 -> 7.2e-05 | O207: 0.00086 | P207: 0.00012
A208: 207 | B208: sector_C_001_v1Use in Aerosol products for hair and skin care (Propellants) | C208: End use of cosmetic products | D208: EU TGD/EUSES | E208: Processing / End use | F208: 153.12 | G208: spERC: 5.3 % | H208: ERC8a Wide dispersive indoor use of processing aids in open systems | I208: x | J208: User-Defined | K208: Cosmetics Europe 8a.1b.v2 | L208: (Default: 0.02) | M208: =O208*$W$289 -> 0.000516 | N208: =P208*$W$289 -> 7.2e-05 | O208: 0.00086 | P208: 0.00012
A209: 208 | B209: sector_C_001_v1Use of Aerosol products for hair and skin care (Non-Propellants) | C209: End use of cosmetic products | D209: EU TGD/EUSES | E209: Processing / End use | F209: 153.12 | G209: spERC: 5.3 % | H209: ERC8a Wide dispersive indoor use of processing aids in open systems | I209: x | J209: User-Defined | K209: Cosmetics Europe 8a.1c.v2 | L209: (Default: 0.02) | M209: =O209*$W$289 -> 0.000516 | N209: =P209*$W$289 -> 7.2e-05 | O209: 0.00086 | P209: 0.00012
A210: 209 | B210: sector_PW_001_v1hair and skin care products (Consumers and Professionals) | C210: Hairdressing services | D210: EU TGD/EUSES | E210: Processing / End use | F210: 153.12 | G210: spERC: 5.3 % | H210: ERC8a Wide dispersive indoor use of processing aids in open systems | I210: x | J210: User-Defined | K210: Cosmetics Europe 8a.1a.v2 | L210: (Default: 0.02) | M210: =O210*$W$289 -> 0.000516 | N210: =P210*$W$289 -> 7.2e-05 | O210: 0.00086 | P210: 0.00012
A211: 210 | B211: sector_PW_001_v1Use in Aerosol products for hair and skin care (Propellants) | C211: Hairdressing services | D211: EU TGD/EUSES | E211: Processing / End use | F211: 153.12 | G211: spERC: 5.3 % | H211: ERC8a Wide dispersive indoor use of processing aids in open systems | I211: x | J211: User-Defined | K211: Cosmetics Europe 8a.1b.v2 | L211: (Default: 0.02) | M211: =O211*$W$289 -> 0.000516 | N211: =P211*$W$289 -> 7.2e-05 | O211: 0.00086 | P211: 0.00012
A212: 211 | B212: sector_PW_001_v1Use of Aerosol products for hair and skin care (Non-Propellants) | C212: Hairdressing services | D212: EU TGD/EUSES | E212: Processing / End use | F212: 153.12 | G212: spERC: 5.3 % | H212: ERC8a Wide dispersive indoor use of processing aids in open systems | I212: x | J212: User-Defined | K212: Cosmetics Europe 8a.1c.v2 | L212: (Default: 0.02) | M212: =O212*$W$289 -> 0.000516 | N212: =P212*$W$289 -> 7.2e-05 | O212: 0.00086 | P212: 0.00012
A213: 212 | B213: Fertilizers Europe_C_001_v1 | C213: Consumer use of fertilizer products. | D213: EU TGD/EUSES | E213: Processing / End use | F213: 7.66 | G213: 0.1 | H213: ERC8b Wide dispersive indoor use of reactive substances in open systems | J213: User-Defined | L213: (Default: 0) | M213: =O213*$W$289 -> 0 | Q213: 0.0032 | R213: 0.04 | S213: 0.00016 | T213: 0.0026 | U213: 0.04
A214: 213 | B214: Fertilizers Europe_PW_001_v1 | C214: Professional use of fertilizers. | D214: EU TGD/EUSES | E214: Processing / End use | F214: 19.69 | G214: 0.1 | H214: ERC8b Wide dispersive indoor use of reactive substances in open systems | J214: User-Defined | K214: Fertilizers Europe | L214: (Default: 0.01) | M214: =O214*$W$289 -> 0 | Q214: 0.0031 | R214: 0.04 | S214: 0.00016 | T214: 0.0025 | U214: 0.03
A215: 214 | B215: CEPE | C215: Professional application of coatings or inks | D215: EU TGD/EUSES | E215: Processing / End use | F215: 0.39 | G215: 0.1 | H215: ERC8c Wide dispersive indoor use resulting in inclusion into or onto a matrix | I215: x | J215: CEPE | K215: CEPE SPERC 8c.2a.v1 application professional bush/roller indoor use – solids | L215: (Default: 0) | M215: =O215*$W$289 -> 1.08e-07 | N215: =P215*$W$289 -> 1.5e-08 | O215: 1.8e-07 | P215: 2.5e-08
A216: 215 | B216: CEPE | C216: Ancilliary activities in industrial, professional or consumer application of coatings and inks | D216: EU TGD/EUSES | E216: Processing / End use | F216: 0.39 | G216: 0.1 | H216: ERC8c Wide dispersive indoor use resulting in inclusion into or onto a matrix | I216: x | J216: CEPE | L216: (Default: 0) | M216: =O216*$W$289 -> 6.6e-08 | N216: =P216*$W$289 -> 9e-09 | O216: 1.1e-07 | P216: 1.5e-08
A217: 216 | B217: CEPE | C217: Consumer application of coatings | D217: EU TGD/EUSES | E217: Processing / End use | F217: 0.18 | G217: 0.1 | H217: ERC8c Wide dispersive indoor use resulting in inclusion into or onto a matrix | I217: x | J217: CEPE | K217: CEPE SPERC 8c.1a.v1 application consumer bush/roller indoor use – solids | L217: (Default: 0) | M217: =O217*$W$289 -> 3.06e-08 | N217: =P217*$W$289 -> 4.2e-09 | O217: 5.1e-08 | P217: 7e-09
A218: 217 | B218: EFCC_PW_11-i_v2 | C218: use of construction chemical products by spray application (high energy), indoor | D218: EU TGD/EUSES | E218: Processing / End use | F218: 76.56 | G218: 0.1 | H218: ERC8c Wide dispersive indoor use resulting in inclusion into or onto a matrix | I218: x | J218: User-Defined | K218: EFCC SPERC 8c.1a.v2 | L218: (Default: 0.04) | M218: =O218*$W$289 -> 1.98e-05 | N218: =P218*$W$289 -> 2.7e-06 | O218: 3.3e-05 | P218: 4.5e-06
A219: 218 | B219: EFCC_PW_L-10-i_v2 | C219: large-scale use of construction chemical products by roller or brushing application, indoor | D219: EU TGD/EUSES | E219: Processing / End use | F219: 53.59 | G219: 0.1 | H219: ERC8c Wide dispersive indoor use resulting in inclusion into or onto a matrix | I219: x | J219: User-Defined | K219: EFCC SPERC 8c.1a.v2 | L219: (Default: 0.03) | M219: =O219*$W$289 -> 1.38e-05 | N219: =P219*$W$289 -> 1.86e-06 | O219: 2.3e-05 | P219: 3.1e-06
A220: 219 | B220: EFCC_PW_L-13-i_v2 | C220: large-scale use of construction chemical products by pouring application, indoor | D220: EU TGD/EUSES | E220: Processing / End use | F220: 53.59 | G220: 0.1 | H220: ERC8c Wide dispersive indoor use resulting in inclusion into or onto a matrix | I220: x | J220: User-Defined | K220: EFCC SPERC 8c.1a.v2 | L220: (Default: 0.03) | M220: =O220*$W$289 -> 1.38e-05 | N220: =P220*$W$289 -> 1.86e-06 | O220: 2.3e-05 | P220: 3.1e-06
...

Sheet Tabelle4
C3: total WDU: | D3: STP connection | E3: Cloclal eff
B4: C12 | C4: =SUM('C12'!F164:F286) -> 84724.87 | D4: ='C12'!F289 -> 70361.12 | E4: ='C12'!N291 -> 0.033024956
B5: C14 | C5: =SUM('C14'!F165:F287) -> 29424.87 | D5: ='C14'!F289 -> 24402.73 | E5: ='C14'!N291 -> 0.010431434
B6: C16 | C6: =SUM('C16'!F165:F287) -> 3767.99 | D6: ='C16'!F289 -> 3124.86 | E6: ='C16'!N291 -> 0.0011855792
C7: =SUM(C4:C6) -> 117917.73 | D7: =SUM(D4:D6) -> 97888.71 | E7: =SUM(E4:E6) -> 0.044641969
