Workbook

Sheet Leachate chemistry
A2: Cell A | B2: Filter vol (mL) | C2: Ag | D2: Al | E2: As | F2: Au | G2: B | H2: Ba | I2: Be | J2: Bi | K2: Br | L2: Ca | M2: Cd | N2: Ce | O2: Co | P2: Cr | Q2: Cs | R2: Cu | S2: Dy | T2: Er | U2: Eu | V2: Fe | W2: Ga | X2: Gd | Y2: Ge | Z2: Hf | AA2: Hg | AB2: Ho | AC2: I | AD2: Ir | AE2: K | AF2: La | AG2: Li | AH2: Lu | AI2: Mg | AJ2: Mn | AK2: Mo | AL2: Na | AM2: Nb | AN2: Nd | AO2: Ni | AP2: Os | AQ2: P | AR2: Pb | AS2: Pd | AT2: Pr | AU2: Pt | AV2: Rb | AW2: Re | AX2: Rh | AY2: Ru | AZ2: S | BA2: Sb | BB2: Sc | BC2: Se | BD2: Si | BE2: Sm | BF2: Sn | BG2: Sr | BH2: Ta | BI2: Tb | BJ2: Te | BK2: Th | BL2: Ti | BM2: Tl | BN2: Tm | BO2: U | BP2: V | BQ2: W | BR2: Y | BS2: Yb | BT2: Zn | BU2: Zr
C3: µg/L | D3: µg/L | E3: µg/L | F3: µg/L | G3: µg/L | H3: µg/L | I3: µg/L | J3: µg/L | K3: µg/L | L3: µg/L | M3: µg/L | N3: µg/L | O3: µg/L | P3: µg/L | Q3: µg/L | R3: µg/L | S3: µg/L | T3: µg/L | U3: µg/L | V3: µg/L | W3: µg/L | X3: µg/L | Y3: µg/L | Z3: µg/L | AA3: µg/L | AB3: µg/L | AC3: µg/L | AD3: µg/L | AE3: µg/L | AF3: µg/L | AG3: µg/L | AH3: µg/L | AI3: µg/L | AJ3: µg/L | AK3: µg/L | AL3: µg/L | AM3: µg/L | AN3: µg/L | AO3: µg/L | AP3: µg/L | AQ3: µg/L | AR3: µg/L | AS3: µg/L | AT3: µg/L | AU3: µg/L | AV3: µg/L | AW3: µg/L | AX3: µg/L | AY3: µg/L | AZ3: µg/L | BA3: µg/L | BB3: µg/L | BC3: µg/L | BD3: µg/L | BE3: µg/L | BF3: µg/L | BG3: µg/L | BH3: µg/L | BI3: µg/L | BJ3: µg/L | BK3: µg/L | BL3: µg/L | BM3: µg/L | BN3: µg/L | BO3: µg/L | BP3: µg/L | BQ3: µg/L | BR3: µg/L | BS3: µg/L | BT3: µg/L | BU3: µg/L
A4: Leaching cycle | C4: 0.01 | D4: 1 | E4: 0.025 | F4: 0.005 | G4: 5 | H4: 0.025 | I4: 0.01 | J4: 0.005 | K4: 10 | L4: 1 | M4: 0.01 | N4: 0.005 | O4: 0.025 | P4: 0.025 | Q4: 0.005 | R4: 0.025 | S4: 0.005 | T4: 0.005 | U4: 0.005 | V4: 0.25 | W4: 0.01 | X4: 0.005 | Y4: 0.05 | Z4: 0.005 | AA4: 0.01 | AB4: 0.005 | AC4: 2.5 | AD4: 0.005 | AE4: 1 | AF4: 0.005 | AG4: 0.1 | AH4: 0.005 | AI4: 0.5 | AJ4: 0.01 | AK4: 0.005 | AL4: 10 | AM4: 0.005 | AN4: 0.005 | AO4: 0.1 | AP4: 0.005 | AQ4: 1 | AR4: 0.01 | AS4: 0.005 | AT4: 0.005 | AU4: 0.005 | AV4: 0.025 | AW4: 0.0005 | AX4: 0.02 | AY4: 0.005 | AZ4: 25 | BA4: 0.01 | BB4: 0.01 | BC4: 0.1 | BD4: 50 | BE4: 0.005 | BF4: 0.05 | BG4: 0.025 | BH4: 0.005 | BI4: 0.005 | BJ4: 0.01 | BK4: 0.005 | BL4: 0.05 | BM4: 0.005 | BN4: 0.005 | BO4: 0.005 | BP4: 0.01 | BQ4: 0.01 | BR4: 0.005 | BS4: 0.005 | BT4: 0.1 | BU4: 0.005
A5: 0 | B5: 250 | C5: 0.001 | D5: 4 | E5: 0.23 | F5: 0.2 | G5: 17 | H5: 5.5 | I5: 0.091 | J5: 0.00055 | K5: <5 | L5: 4600 | M5: 0.011 | N5: 0.026 | O5: 2.5 | P5: <0.05 | Q5: 0.32 | R5: 0.25 | S5: 0.0022 | T5: 0.0026 | U5: 0.0013 | V5: 0.79 | W5: 0.0014 | X5: 0.0021 | Y5: <0.1 | Z5: 9.5e-05 | AA5: 0.0073 | AB5: 0.00044 | AC5: 0.3 | AD5: 0.00073 | AE5: 3100 | AF5: 0.014 | AG5: 0.97 | AH5: 0.00046 | AI5: 1900 | AJ5: 42 | AK5: 0.039 | AL5: 1000 | AM5: 3.9e-05 | AN5: 0.013 | AO5: 0.59 | AP5: 0 | AQ5: 1.9 | AR5: 0.02 | AS5: 0.00072 | AT5: 0.0033 | AU5: 0.0051 | AV5: 3.8 | AW5: 0.001 | AX5: 0 | AY5: 0 | AZ5: 7700 | BA5: 0.82 | BB5: 0.004 | BC5: 0.25 | BD5: 4100 | BE5: 0.00094 | BF5: 0.13 | BG5: 19 | BH5: 3e-05 | BI5: 1.2e-05 | BJ5: 1.2 | BK5: 0.00048 | BL5: 0.023 | BM5: 0.11 | BN5: 0.00092 | BO5: 0.019 | BP5: 0.31 | BQ5: <0.1 | BR5: 0.013 | BS5: 0.0013 | BT5: 5.9 | BU5: 0.0081
A6: 1 | B6: 250 | C6: 0.0064 | D6: 24 | E6: 0.17 | F6: 0.01 | G6: 4.4 | H6: 2.4 | I6: 0.14 | J6: 0.00039 | K6: 1 | L6: 1800 | M6: 0.0091 | N6: 0.054 | O6: 1.7 | P6: 0.15 | Q6: 0.12 | R6: 1.5 | S6: 0.0069 | T6: 0.0022 | U6: 0.0026 | V6: 7 | W6: 0 | X6: 0.0015 | Y6: 0 | Z6: 5.5e-05 | AA6: 0.0096 | AB6: 0.0015 | AC6: 1.8 | AD6: 0 | AE6: 1200 | AF6: 0.026 | AG6: 0.77 | AH6: 0.0008 | AI6: 760 | AJ6: 20 | AK6: 0.0028 | AL6: 340 | AM6: 0 | AN6: 0.035 | AO6: 0.53 | AP6: 0 | AQ6: 5.4 | AR6: 0.083 | AS6: 0.0014 | AT6: 0.0077 | AU6: 0.0022 | AV6: 1.8 | AW6: 0.00016 | AX6: 0.018 | AY6: 0.0017 | AZ6: 4500 | BA6: 0.3 | BB6: 0.019 | BC6: 0.058 | BD6: 3200 | BE6: 0.0057 | BF6: 0.06 | BG6: 7.5 | BH6: 0.0055 | BI6: 0.0015 | BJ6: 1.6 | BK6: 0.0015 | BL6: 0 | BM6: 0.048 | BN6: 0.00077 | BO6: 0.048 | BP6: 0.13 | BQ6: 0.017 | BR6: 0.025 | BS6: 0.0021 | BT6: 5 | BU6: 0.016
A7: 2 | B7: 250 | C7: 0.0063 | D7: 10 | E7: 0.25 | F7: 0.0032 | G7: 4.4 | H7: 2.5 | I7: 0.14 | J7: 0.00025 | K7: 0.33 | L7: 1200 | M7: 0.048 | N7: 0.021 | O7: 1.4 | P7: 0.03 | Q7: 0.096 | R7: 2.3 | S7: 0.0017 | T7: 0.0022 | U7: 0.0021 | V7: 4.2 | W7: 0 | X7: 0.003 | Y7: 0 | Z7: 0.0014 | AA7: 0.0077 | AB7: 0.00014 | AC7: 2.9 | AD7: 0 | AE7: 880 | AF7: 0.011 | AG7: 0.63 | AH7: 0.00012 | AI7: 450 | AJ7: 18 | AK7: 0.0027 | AL7: 100 | AM7: 0.00021 | AN7: 0.011 | AO7: 0.7 | AP7: 0 | AQ7: 6.1 | AR7: 0.033 | AS7: 0.0049 | AT7: 0.0016 | AU7: 0.011 | AV7: 1.5 | AW7: 0.00013 | AX7: 0.0067 | AY7: 0 | AZ7: 2600 | BA7: 0.28 | BB7: 0.0013 | BC7: 0.17 | BD7: 3200 | BE7: 0.004 | BF7: 0.051 | BG7: 5.3 | BH7: 0.00204 | BI7: 0.0011 | BJ7: 2.3 | BK7: 0.00025 | BL7: 0.039 | BM7: 0.042 | BN7: 0.00026 | BO7: 0.041 | BP7: 0.17 | BQ7: 7e-05 | BR7: 0.0058 | BS7: 4.5e-06 | BT7: 5.4 | BU7: 0.0055
A8: 3 | B8: 250 | C8: 8.1e-05 | D8: 8.3 | E8: 0.076 | F8: 0.0032 | G8: 4.9 | H8: 2.1 | I8: 0.16 | J8: 0.00061 | K8: <5 | L8: 1500 | M8: 0.0092 | N8: 0.0083 | O8: 1.8 | P8: <0.05 | Q8: 0.095 | R8: 0.47 | S8: 0.00034 | T8: 0 | U8: 0.00062 | V8: 2.9 | W8: 0 | X8: 0.00062 | Y8: <0.1 | Z8: 0.00017 | AA8: 0.0071 | AB8: 0.00026 | AC8: 0.24 | AD8: 0 | AE8: 920 | AF8: 0.0042 | AG8: 0.73 | AH8: 0.00032 | AI8: 660 | AJ8: 20 | AK8: 0.0041 | AL8: 110 | AM8: 0.00026 | AN8: 0.0046 | AO8: 0.39 | AP8: 0.00038 | AQ8: 1.3 | AR8: 0.019 | AS8: 0.00051 | AT8: 0.0011 | AU8: 0.00097 | AV8: 1.5 | AW8: 0.00014 | AX8: 0.00072 | AY8: 0.00015 | AZ8: 2500 | BA8: 0.23 | BB8: 0.0027 | BC8: 0.13 | BD8: 3900 | BE8: 0 | BF8: 0.058 | BG8: 5.8 | BH8: 0 | BI8: 0 | BJ8: 2.4 | BK8: 0.00068 | BL8: 0.0064 | BM8: 0.053 | BN8: 0.00094 | BO8: 0.076 | BP8: 0.13 | BQ8: <0.1 | BR8: 0.0058 | BS8: 0.00025 | BT8: 3.2 | BU8: 0.0044
A9: 4 | B9: 250 | C9: 0.0015 | D9: 6.7 | E9: 0.19 | F9: 0.0014 | G9: 4.5 | H9: 1.5 | I9: 0.14 | J9: 0.00034 | K9: 0.82 | L9: 1000 | M9: 0.021 | N9: 0.0096 | O9: 1.4 | P9: 0 | Q9: 0.075 | R9: 0.54 | S9: 0.00068 | T9: 0.00084 | U9: 0.0018 | V9: 4.2 | W9: 0 | X9: 0.0011 | Y9: 0.022 | Z9: 0.00075 | AA9: 0.016 | AB9: 4.7e-05 | AC9: 2.2 | AD9: 0 | AE9: 640 | AF9: 0.0083 | AG9: 0.56 | AH9: 0.001 | AI9: 410 | AJ9: 15 | AK9: 0.0038 | AL9: 90 | AM9: 0 | AN9: 0.011 | AO9: 0.36 | AP9: 4.5e-06 | AQ9: 2 | AR9: 0.018 | AS9: 0.0053 | AT9: 0.00098 | AU9: 0.013 | AV9: 1.3 | AW9: 0 | AX9: 0.0045 | AY9: 0.0016 | AZ9: 1800 | BA9: 0.19 | BB9: 0.0068 | BC9: 0.054 | BD9: 3300 | BE9: 0.0015 | BF9: 0.028 | BG9: 4.3 | BH9: 0.000148 | BI9: 0.0011 | BJ9: 2.6 | BK9: 0.00085 | BL9: 0 | BM9: 0.035 | BN9: 0.00014 | BO9: 0.058 | BP9: 0.11 | BQ9: 0.00042 | BR9: 0.0025 | BS9: 0 | BT9: 3.3 | BU9: 0.0076
A10: 5 | B10: 250 | C10: 0.0018 | D10: 7.7 | E10: 0.052 | F10: 0.003 | G10: 0 | H10: 2.1 | I10: 0.15 | J10: 0.0012 | K10: <5 | L10: 1400 | M10: 0.015 | N10: 0.03 | O10: 1.8 | P10: <0.05 | Q10: 0.073 | R10: 2.5 | S10: 0.0022 | T10: 0.0018 | U10: 0.0014 | V10: 1.9 | W10: 0 | X10: 0.0029 | Y10: <0.1 | Z10: 1.6e-05 | AA10: 0.0086 | AB10: 0.00049 | AC10: 0.23 | AD10: 0 | AE10: 630 | AF10: 0.015 | AG10: 0.56 | AH10: 0.00023 | AI10: 600 | AJ10: 19 | AK10: 0.0032 | AL10: 60 | AM10: 0.0006 | AN10: 0.016 | AO10: 0.38 | AP10: 0 | AQ10: 0.89 | AR10: 0.077 | AS10: 0.00028 | AT10: 0.0033 | AU10: 0.00038 | AV10: 1.2 | AW10: 6.7e-05 | AX10: 0.00045 | AY10: 0 | AZ10: 2500 | BA10: 0.11 | BB10: 0.0036 | BC10: 0.078 | BD10: 2100 | BE10: 0.0026 | BF10: 0.02 | BG10: 5.3 | BH10: 0.00016 | BI10: 0.00025 | BJ10: 1.9 | BK10: 0.0011 | BL10: 0 | BM10: 0.045 | BN10: 0.00073 | BO10: 0.047 | BP10: 0.069 | BQ10: <0.1 | BR10: 0.014 | BS10: 0.00015 | BT10: 4.1 | BU10: 0.0054
A11: 6 | B11: 250 | C11: 0.00081 | D11: 9.5 | E11: 0.042 | F11: 0.0025 | G11: 3.7 | H11: 2.3 | I11: 0.24 | J11: 0.00081 | K11: 0.31 | L11: 1600 | M11: 0.022 | N11: 0.027 | O11: 2.5 | P11: 0.18 | Q11: 0.084 | R11: 1.1 | S11: 0.0029 | T11: 0.0022 | U11: 0.0049 | V11: 4.7 | W11: 0 | X11: 0.0033 | Y11: 0 | Z11: 0 | AA11: 0.0064 | AB11: 0.00051 | AC11: 1.7 | AD11: 0 | AE11: 590 | AF11: 0.017 | AG11: 0.65 | AH11: 0.0025 | AI11: 650 | AJ11: 24 | AK11: 0 | AL11: 57 | AM11: 0 | AN11: 0.0058 | AO11: 0.6 | AP11: 0 | AQ11: 1.8 | AR11: 0.019 | AS11: 0.0055 | AT11: 0.0042 | AU11: 0.0056 | AV11: 1.5 | AW11: 0 | AX11: 0.0031 | AY11: 0 | AZ11: 3500 | BA11: 0.12 | BB11: 0.016 | BC11: 0.4 | BD11: 2200 | BE11: 0.0016 | BF11: 0.035 | BG11: 7.1 | BH11: 0.000176 | BI11: 0.00083 | BJ11: 2.9 | BK11: 0.00027 | BL11: 0.049 | BM11: 0.04 | BN11: 6.2e-05 | BO11: 0.06 | BP11: 0.065 | BQ11: 0.0049 | BR11: 0.013 | BS11: 0 | BT11: 5 | BU11: 0.0094
A12: 7 | B12: 250 | C12: 0 | D12: 19 | E12: 0.031 | F12: 0.001 | G12: 1.1 | H12: 3.2 | I12: 0.38 | J12: 0.00093 | K12: 0 | L12: 2200 | M12: 0.033 | N12: 0.095 | O12: 3.7 | P12: 0.03 | Q12: 0.097 | R12: 1.4 | S12: 0.0084 | T12: 0.0036 | U12: 0.00077 | V12: 4.1 | W12: 0 | X12: 0.0067 | Y12: 0 | Z12: 0.00064 | AA12: 0.011 | AB12: 0.0016 | AC12: 1.1 | AD12: 0 | AE12: 600 | AF12: 0.055 | AG12: 0.85 | AH12: 0.00061 | AI12: 950 | AJ12: 35 | AK12: 0.002 | AL12: 43 | AM12: 0 | AN12: 0.057 | AO12: 0.89 | AP12: 0.001 | AQ12: 1.6 | AR12: 0.029 | AS12: 0.0015 | AT12: 0.0094 | AU12: 0.0035 | AV12: 1.7 | AW12: 0.00019 | AX12: 0.0022 | AY12: 0 | AZ12: 5000 | BA12: 0.13 | BB12: 0.023 | BC12: 0.24 | BD12: 2600 | BE12: 0.007 | BF12: 0.029 | BG12: 9.4 | BH12: 0.0003 | BI12: 0.00057 | BJ12: 4.1 | BK12: 0.0027 | BL12: 0 | BM12: 0.051 | BN12: 0.00031 | BO12: 0.077 | BP12: 0.09 | BQ12: 0 | BR12: 0.033 | BS12: 0.0012 | BT12: 10 | BU12: 0.0089
A13: 8 | B13: 250 | C13: 0.00415 | D13: 23.5 | E13: 0.0898 | F13: 0.00128 | G13: 16 | H13: 3.5 | I13: 0.825 | J13: 0.00077 | K13: 0.0495 | L13: 2550 | M13: 0.021 | N13: 0.115 | O13: 4.35 | P13: 0.04305 | Q13: 0.33 | R13: 2.3 | S13: 0.0061 | T13: 0.00325 | U13: 0.0027 | V13: 11.5 | W13: 0 | X13: 0.00775 | Y13: 0 | Z13: 2.2e-05 | AA13: 0.00255 | AB13: 0.000915 | AC13: 3.85 | AD13: 0 | AE13: 880 | AF13: 0.054 | AG13: 1.6 | AH13: 0.000115 | AI13: 1000 | AJ13: 38.5 | AK13: 0.0005 | AL13: 47.5 | AM13: 0.00016 | AN13: 0.0505 | AO13: 0.7805 | AP13: 0.000155 | AQ13: 6.95 | AR13: 0.0165 | AS13: 0.00075 | AT13: 0.0135 | AU13: 0.00042 | AV13: 3.6 | AW13: 0.000155 | AX13: 0.00014 | AY13: 0.00166 | AZ13: 5650 | BA13: 0.125 | BB13: 0.02725 | BC13: 0.255 | BD13: 2050 | BE13: 0.01175 | BF13: 0.0145 | BG13: 9.35 | BH13: 0.00013 | BI13: 0.001015 | BJ13: 2.75 | BK13: 0.00405 | BL13: 0 | BM13: 0.0725 | BN13: 0.000235 | BO13: 0.0635 | BP13: 0.125 | BQ13: 0.0023 | BR13: 0.04 | BS13: 0.001215 | BT13: 9 | BU13: 0.0101
A14: 9 | B14: 250 | C14: 0.0025 | D14: 55 | E14: 0.0865 | F14: 0.00133 | G14: 18 | H14: 5.75 | I14: 1.35 | J14: 0.0015 | K14: 0.21 | L14: 3900 | M14: 0.02655 | N14: 0.45 | O14: 7.5 | P14: 0.0422 | Q14: 0.36 | R14: 4.45 | S14: 0.0225 | T14: 0.00945 | U14: 0.0115 | V14: 29.5 | W14: 0 | X14: 0.029 | Y14: 0.00225 | Z14: 0.0001705 | AA14: 0.0125 | AB14: 0.00395 | AC14: 2 | AD14: 5.2e-05 | AE14: 790 | AF14: 0.2 | AG14: 1.55 | AH14: 0.000735 | AI14: 1600 | AJ14: 62.5 | AK14: 0 | AL14: 40 | AM14: 0.0001315 | AN14: 0.23 | AO14: 1.4 | AP14: 0.00016 | AQ14: 4.6 | AR14: 0.076 | AS14: 0.000225 | AT14: 0.052 | AU14: 0 | AV14: 3.85 | AW14: 0 | AX14: 0.00011 | AY14: 0.000535 | AZ14: 8150 | BA14: 0.0805 | BB14: 0.03065 | BC14: 0.285 | BD14: 2100 | BE14: 0.0515 | BF14: 0.098 | BG14: 15 | BH14: 0.00013333333 | BI14: 0.0045 | BJ14: 3.3 | BK14: 0.0017 | BL14: 0 | BM14: 0.0825 | BN14: 0.0013 | BO14: 0.23 | BP14: 0.12 | BQ14: 0.00054 | BR14: 0.145 | BS14: 0.0055 | BT14: 21 | BU14: 0.00122
A15: 10 | B15: 250 | C15: 0.00085 | D15: 105 | E15: 0.047 | F15: 0.00055 | G15: 18.5 | H15: 20.5 | I15: 1.95 | J15: 0.001 | K15: 0 | L15: 5700 | M15: 0.063 | N15: 0.9 | O15: 11.5 | P15: 0.0895 | Q15: 0.205 | R15: 11 | S15: 0.0465 | T15: 0.0195 | U15: 0.019 | V15: 47.5 | W15: 0 | X15: 0.0635 | Y15: 0 | Z15: 0.000435 | AA15: 0.007 | AB15: 0.00705 | AC15: 1.3 | AD15: 0 | AE15: 725 | AF15: 0.43 | AG15: 1.65 | AH15: 0.001045 | AI15: 2350 | AJ15: 92.5 | AK15: 0 | AL15: 50.5 | AM15: 0.000185 | AN15: 0.45 | AO15: 2.1 | AP15: 0.00012 | AQ15: 5.1 | AR15: 0.08 | AS15: 0.001 | AT15: 0.11 | AU15: 0 | AV15: 3.15 | AW15: 4.45e-05 | AX15: 0 | AY15: 0.000375 | AZ15: 10500 | BA15: 0.0655 | BB15: 0.0107 | BC15: 0.285 | BD15: 2500 | BE15: 0.093 | BF15: 0.0995 | BG15: 22.5 | BH15: 0.00013166667 | BI15: 0.01045 | BJ15: 3.6 | BK15: 0.00147 | BL15: 0.00265 | BM15: 0.065 | BN15: 0.0028 | BO15: 0.365 | BP15: 0.0685 | BQ15: 0.000475 | BR15: 0.295 | BS15: 0.0115 | BT15: 45 | BU15: 0.015
A16: 11 | B16: 215 | C16: 0.012 | D16: 99 | E16: 0.09 | F16: 0.001 | G16: 16 | H16: 61 | I16: 1.5 | J16: 0.0013 | K16: 0.58 | L16: 3700 | M16: 0.11 | N16: 0.53 | O16: 6.6 | P16: 0.039 | Q16: 0.15 | R16: 5.2 | S16: 0.026 | T16: 0.011 | U16: 0.005 | V16: 35 | W16: 0.0049 | X16: 0.03 | Y16: 0 | Z16: 0.00029 | AA16: 0 | AB16: 0.0052 | AC16: 2.9 | AD16: 0 | AE16: 390 | AF16: 0.28 | AG16: 0.88 | AH16: 0.0011 | AI16: 1400 | AJ16: 54 | AK16: 0.0017 | AL16: 890 | AM16: 0.0011 | AN16: 0.35 | AO16: 1.4 | AP16: 0.0016 | AQ16: 5 | AR16: 0.11 | AS16: 0.00056 | AT16: 0.082 | AU16: 0.0019 | AV16: 2 | AW16: 8.5e-05 | AX16: 0.0018 | AY16: 0.00069 | AZ16: 8100 | BA16: 0.081 | BB16: 0.0041 | BC16: 0.27 | BD16: 1800 | BE16: 0.12 | BF16: 0.038 | BG16: 16 | BH16: 0.00112 | BI16: 0.0042 | BJ16: 3.8 | BK16: 0.006 | BL16: 0.14 | BM16: 0.072 | BN16: 0.001 | BO16: 0.51 | BP16: 0.064 | BQ16: 0.0012 | BR16: 0.15 | BS16: 0.0057 | BT16: 53 | BU16: 0.048
A17: 12 | B17: 215 | C17: 0.016 | D17: 120 | E17: 0.095 | F17: 4.1 | G17: 22 | H17: 60 | I17: 1.7 | J17: 0.0012 | K17: 1.6 | L17: 3600 | M17: 0.11 | N17: 0.63 | O17: 7.4 | P17: 0.056 | Q17: 0.14 | R17: 7.6 | S17: 0.033 | T17: 0.015 | U17: 0.02 | V17: 49 | W17: 0.004 | X17: 0.044 | Y17: 0.014 | Z17: 0.002 | AA17: 0.0051 | AB17: 0.0062 | AC17: 3.3 | AD17: 0 | AE17: 340 | AF17: 0.32 | AG17: 1 | AH17: 0.0018 | AI17: 1500 | AJ17: 56 | AK17: 0.013 | AL17: 58 | AM17: 0 | AN17: 0.3 | AO17: 2.1 | AP17: 0.001 | AQ17: 4.2 | AR17: 0.12 | AS17: 0.00145 | AT17: 0.082 | AU17: 0.0078 | AV17: 1.8 | AW17: 0.00013 | AX17: 0.0116 | AY17: 0.0037 | AZ17: 7900 | BA17: 0.12 | BB17: 0.0014 | BC17: 0.3 | BD17: 2000 | BE17: 0.071 | BF17: 0.084 | BG17: 17 | BH17: 0.000392 | BI17: 0.0058 | BJ17: 4 | BK17: 0.005 | BL17: 0.071 | BM17: 0.069 | BN17: 0.0016 | BO17: 0.62 | BP17: 0.13 | BQ17: 0.0031 | BR17: 0.17 | BS17: 0.0072 | BT17: 50 | BU17: 0.075
A18: 13 | B18: 210 | C18: 0.0155 | D18: 100 | E18: 0.04545 | F18: 0.00295 | G18: 7.15 | H18: 7.25 | I18: 2 | J18: 0.0061 | K18: 2.95 | L18: 3450 | M18: 0.315 | N18: 0.695 | O18: 7.3 | P18: 0.0255 | Q18: 0.16 | R18: 8.9 | S18: 0.0285 | T18: 0.015 | U18: 0.025 | V18: 61 | W18: 0 | X18: 0.036 | Y18: 0 | Z18: 9.42e-05 | AA18: 0.0155 | AB18: 0.00575 | AC18: 1.35 | AD18: 0.00011 | AE18: 285 | AF18: 0.36 | AG18: 1.1 | AH18: 0.0016 | AI18: 1400 | AJ18: 53.5 | AK18: 0.115 | AL18: 24.5 | AM18: 5.5e-05 | AN18: 0.41 | AO18: 2.55 | AP18: 0.000185 | AQ18: 32.5 | AR18: 0.13 | AS18: 0 | AT18: 0.097 | AU18: 0.00185 | AV18: 1.85 | AW18: 0.00024 | AX18: 0.00335 | AY18: 0.00138 | AZ18: 8200 | BA18: 0.125 | BB18: 0.0265 | BC18: 0.32 | BD18: 2000 | BE18: 0.115 | BF18: 0.091 | BG18: 17 | BH18: 0.00205 | BI18: 0.00715 | BJ18: 5.2 | BK18: 0.0475 | BL18: 0.035 | BM18: 0.0735 | BN18: 0.0017 | BO18: 0.79 | BP18: 0.0485 | BQ18: 0.009 | BR18: 0.175 | BS18: 0.00665 | BT18: 25.5 | BU18: 0.0025
A19: 14 | B19: 200 | C19: 0.028 | D19: 140 | E19: 0.083 | F19: 0.00091 | G19: 6.3 | H19: 7.5 | I19: 1.4 | J19: 0.0013 | K19: 1.3 | L19: 3800 | M19: 0.033 | N19: 0.8 | O19: 7.9 | P19: 0.053 | Q19: 0.13 | R19: 8.9 | S19: 0.046 | T19: 0.02 | U19: 0.013 | V19: 81 | W19: 0.0056 | X19: 0.052 | Y19: 0.0091 | Z19: 0.00065 | AA19: 0.02 | AB19: 0.0072 | AC19: 1.5 | AD19: -8.4e-05 | AE19: 270 | AF19: 0.42 | AG19: 0.8 | AH19: -0.00036 | AI19: 1400 | AJ19: 59 | AK19: 0.001 | AL19: 31.536229 | AM19: 0.00079 | AN19: 0.4 | AO19: 1.3 | AP19: 0.00054 | AQ19: 2.5 | AR19: 0.1 | AS19: 0.0094 | AT19: 0.098 | AU19: 0.0007 | AV19: 1.6 | AW19: 0.00048 | AX19: -0.0068 | AY19: -0.0012 | AZ19: 6400 | BA19: 0.062 | BB19: 0.026 | BC19: 0.2 | BD19: 1800 | BE19: 0.073 | BF19: 0.036 | BG19: 16 | BH19: 2e-05 | BI19: 0.0073 | BJ19: 4 | BK19: 0.0098 | BL19: 0.029 | BM19: 0.064 | BN19: 0.0016 | BO19: 0.8 | BP19: 0.045 | BQ19: 0.0014 | BR19: 0.2 | BS19: 0.0084 | BT19: 21 | BU19: 0.0079
A20: 15 | B20: 156.5 | C20: 0.0094674856 | D20: 114.68733 | E20: 0.034193308 | F20: 0.00394 | G20: 4.663316 | H20: 5.9378807 | I20: 1.554678 | J20: 0.0025611902 | K20: 1.2 | L20: 3009.6625 | M20: 0.070626424 | N20: 1.1025772 | O20: 7.0663291 | P20: 0.0090054239 | Q20: 0.089789973 | R20: 8.1682542 | S20: 0.06291186 | T20: 0.022184989 | U20: 0.019664964 | V20: 94.358404 | W20: 0.41508513 | X20: 0.072983975 | Y20: 0.031680173 | Z20: 0.00019420186 | AA20: 0.004471274 | AB20: 0.0093037446 | AC20: 0.46656907 | AD20: -0.00013368797 | AE20: 199.54076 | AF20: 0.54720552 | AG20: 0.80435876 | AH20: 0.00093796588 | AI20: 1182.8067 | AJ20: 51.728548 | AK20: 0.0046846888 | AL20: 83.05804 | AM20: -0.00033210922 | AN20: 0.55309987 | AO20: 1.4183567 | AP20: 0.0006243641 | AQ20: 8.2023686 | AR20: 0.15881077 | AS20: 0.0057968036 | AT20: 0.14141214 | AU20: 0.00019406196 | AV20: 1.2528473 | AW20: -5.0923739e-05 | AX20: 0.0039350117 | AY20: -0.00044448176 | AZ20: 6899.0296 | BA20: 0.088605724 | BB20: 0.016738584 | BC20: 0.18451364 | BD20: 1745.1479 | BE20: 0.099694684 | BF20: 0.18914109 | BG20: 14.276884 | BH20: 0.00049691689 | BI20: 0.010898082 | BJ20: 5.6584962 | BK20: 0.014019299 | BL20: 0.0024579724 | BM20: 0.055 | BN20: 0.0014970667 | BO20: 0.93613362 | BP20: 0.075170342 | BQ20: -0.00049930863 | BR20: 0.23927646 | BS20: 0.0067726247 | BT20: 35.693664 | BU20: 0.0049964294
A21: 16 | B21: 157.5 | C21: 0.0061071034 | D21: 113.17184 | E21: 0.057528447 | F21: 0.00074936103 | G21: 4.0527288 | H21: 4.8879368 | I21: 1.2602389 | J21: 0.0027187656 | K21: 0.9351159 | L21: 2940.8092 | M21: 0.027070874 | N21: 0.68651077 | O21: 6.0684111 | P21: 0.033144849 | Q21: 0.030162716 | R21: 7.4468928 | S21: 0.039994796 | T21: 0.011232019 | U21: 0.014224678 | V21: 101.66038 | W21: 0 | X21: 0.049624092 | Y21: 0.023966958 | Z21: -0.00011834105 | AA21: 0.01037227 | AB21: 0.0050864754 | AC21: 0.15641446 | AD21: 0.0015234419 | AE21: 195.85429 | AF21: 0.34496917 | AG21: 1.6279559 | AH21: 0.0011949754 | AI21: 1091.793 | AJ21: 42.709667 | AK21: 0.01031655 | AL21: 127.25636 | AM21: 0.00064367896 | AN21: 0.36270739 | AO21: 1.147785 | AP21: -0.00012125003 | AQ21: 6.6156612 | AR21: 0.10825227 | AS21: 0.010075143 | AT21: 0.082834247 | AU21: 0.00070649124 | AV21: 0.61274079 | AW21: 0.00011577054 | AX21: 0.0062287464 | AY21: 0.0012259919 | AZ21: 4656.1288 | BA21: 0.12413251 | BB21: 0.023687245 | BC21: 0.043867309 | BD21: 1701.9382 | BE21: 0.060922092 | BF21: 0.0017393901 | BG21: 12.377298 | BH21: 0.00019625353 | BI21: 0.0059854916 | BJ21: 3.9499143 | BK21: 0.0085640857 | BL21: 0.049302633 | BM21: 0.020112315 | BN21: 0.0015521502 | BO21: 0.80219185 | BP21: 0.076010553 | BQ21: 0.0037200359 | BR21: 0.16322368 | BS21: 0.0064757988 | BT21: 18.733969 | BU21: 0.0055060418
A22: 17 | B22: 235 | C22: 0.00025 | D22: 150 | E22: 0.0995 | F22: 0.00065 | G22: 5.4 | H22: 5.7 | I22: 1.5 | J22: 0.0016 | K22: 0.21 | L22: 3700 | M22: 0.032 | N22: 1.1 | O22: 8.2 | P22: 0.023 | Q22: 0.0235 | R22: 9.95 | S22: 0.0605 | T22: 0.0195 | U22: 0.01975 | V22: 160 | W22: 0.0023 | X22: 0.0855 | Y22: 0 | Z22: 0.0003635 | AA22: 0.0012 | AB22: 0.00995 | AC22: 0.575 | AD22: 0.000138 | AE22: 285 | AF22: 0.535 | AG22: 0.445 | AH22: 0.0012 | AI22: 1400 | AJ22: 59 | AK22: 0.00115 | AL22: 69 | AM22: 0 | AN22: 0.575 | AO22: 1.55 | AP22: 0 | AQ22: 11 | AR22: 0.08 | AS22: 0 | AT22: 0.14 | AU22: 0.0015 | AV22: 0.625 | AW22: 2.3e-05 | AX22: 0.002 | AY22: 0.00106 | AZ22: 5650 | BA22: 0.0575 | BB22: 0.0335 | BC22: 0.0365 | BD22: 1800 | BE22: 0.115 | BF22: 0.125 | BG22: 16.5 | BH22: 0.000625 | BI22: 0.0115 | BJ22: 4 | BK22: 0.0125 | BL22: 0.047 | BM22: 0.0135 | BN22: 0.00255 | BO22: 0.98 | BP22: 0.085 | BQ22: 0.00565 | BR22: 0.275 | BS22: 0.0113 | BT22: 22 | BU22: 0.0059
... A28: 23 | B28: 235 | C28: 0.00023098592 | D28: 395.92571 | E28: 0.1077141 | F28: 0.002764934 | G28: 6.4858003 | H28: 13.905982 | I28: 3.6947842 | J28: 0.002187037 | K28: 0.25052321 | L28: 6326.2716 | M28: 0.079031358 | N28: 6.7766927 | O28: 15.530519 | P28: 0.15168761 | Q28: 0.03428735 | R28: 26.689028 | S28: 0.37569452 | T28: 0.13706083 | U28: 0.13742512 | V28: 646.98216 | W28: 0.0026370073 | X28: 0.60711713 | Y28: 0.012331042 | Z28: 0.0035616338 | AA28: 0.015373012 | AB28: 0.061268635 | AC28: 0.30447129 | AD28: 0.00020390045 | AE28: 270.84073 | AF28: 3.2517052 | AG28: 1.0831775 | AH28: 0.0054663455 | AI28: 2430.427 | AJ28: 108.31452 | AK28: 0.0016940459 | AL28: 124.27509 | AM28: 0.0003803444 | AN28: 3.5807517 | AO28: 2.573788 | AP28: 0.00073504902 | AQ28: 3.6332169 | AR28: 0.24470608 | AS28: -0.000115 | AT28: 0.84420941 | AU28: 0.0014515473 | AV28: 0.74879845 | AW28: 0.00059215377 | AX28: 0.0049530719 | AY28: 0.0066389082 | AZ28: 14094.334 | BA28: 0.056211464 | BB28: 0.15568002 | BC28: 0.46388548 | BD28: 2396.1451 | BE28: 0.75436925 | BF28: 0.11985206 | BG28: 32.101647 | BH28: 0.00060448776 | BI28: 0.072876654 | BJ28: 4.1982608 | BK28: 0.027326342 | BL28: 0.18503676 | BM28: 0.019814847 | BN28: 0.012580871 | BO28: 3.5340447 | BP28: 0.086614239 | BQ28: 0.0018898143 | BR28: 1.3793069 | BS28: 0.055312676 | BT28: 49.737994 | BU28: 0.0097806765
A30: Cell B | B30: Filter vol (mL) | C30: Ag | D30: Al | E30: As | F30: Au | G30: B | H30: Ba | I30: Be | J30: Bi | K30: Br | L30: Ca | M30: Cd | N30: Ce | O30: Co | P30: Cr | Q30: Cs | R30: Cu | S30: Dy | T30: Er | U30: Eu | V30: Fe | W30: Ga | X30: Gd | Y30: Ge | Z30: Hf | AA30: Hg | AB30: Ho | AC30: I | AD30: Ir | AE30: K | AF30: La | AG30: Li | AH30: Lu | AI30: Mg | AJ30: Mn | AK30: Mo | AL30: Na | AM30: Nb | AN30: Nd | AO30: Ni | AP30: Os | AQ30: P | AR30: Pb | AS30: Pd | AT30: Pr | AU30: Pt | AV30: Rb | AW30: Re | AX30: Rh | AY30: Ru | AZ30: S | BA30: Sb | BB30: Sc | BC30: Se | BD30: Si | BE30: Sm | BF30: Sn | BG30: Sr | BH30: Ta | BI30: Tb | BJ30: Te | BK30: Th | BL30: Ti | BM30: Tl | BN30: Tm | BO30: U | BP30: V | BQ30: W | BR30: Y | BS30: Yb | BT30: Zn | BU30: Zr
C31: µg/L | D31: µg/L | E31: µg/L | F31: µg/L | G31: µg/L | H31: µg/L | I31: µg/L | J31: µg/L | K31: µg/L | L31: µg/L | M31: µg/L | N31: µg/L | O31: µg/L | P31: µg/L | Q31: µg/L | R31: µg/L | S31: µg/L | T31: µg/L | U31: µg/L | V31: µg/L | W31: µg/L | X31: µg/L | Y31: µg/L | Z31: µg/L | AA31: µg/L | AB31: µg/L | AC31: µg/L | AD31: µg/L | AE31: µg/L | AF31: µg/L | AG31: µg/L | AH31: µg/L | AI31: µg/L | AJ31: µg/L | AK31: µg/L | AL31: µg/L | AM31: µg/L | AN31: µg/L | AO31: µg/L | AP31: µg/L | AQ31: µg/L | AR31: µg/L | AS31: µg/L | AT31: µg/L | AU31: µg/L | AV31: µg/L | AW31: µg/L | AX31: µg/L | AY31: µg/L | AZ31: µg/L | BA31: µg/L | BB31: µg/L | BC31: µg/L | BD31: µg/L | BE31: µg/L | BF31: µg/L | BG31: µg/L | BH31: µg/L | BI31: µg/L | BJ31: µg/L | BK31: µg/L | BL31: µg/L | BM31: µg/L | BN31: µg/L | BO31: µg/L | BP31: µg/L | BQ31: µg/L | BR31: µg/L | BS31: µg/L | BT31: µg/L | BU31: µg/L
A32: Leaching cycle | C32: 0.01 | D32: 1 | E32: 0.025 | F32: 0.005 | G32: 5 | H32: 0.025 | I32: 0.01 | J32: 0.005 | K32: 10 | L32: 1 | M32: 0.01 | N32: 0.005 | O32: 0.025 | P32: 0.025 | Q32: 0.005 | R32: 0.025 | S32: 0.005 | T32: 0.005 | U32: 0.005 | V32: 0.25 | W32: 0.01 | X32: 0.005 | Y32: 0.05 | Z32: 0.005 | AA32: 0.01 | AB32: 0.005 | AC32: 2.5 | AD32: 0.005 | AE32: 1 | AF32: 0.005 | AG32: 0.1 | AH32: 0.005 | AI32: 0.5 | AJ32: 0.01 | AK32: 0.005 | AL32: 10 | AM32: 0.005 | AN32: 0.005 | AO32: 0.1 | AP32: 0.005 | AQ32: 1 | AR32: 0.01 | AS32: 0.005 | AT32: 0.005 | AU32: 0.005 | AV32: 0.025 | AW32: 0.0005 | AX32: 0.02 | AY32: 0.005 | AZ32: 25 | BA32: 0.01 | BB32: 0.01 | BC32: 0.1 | BD32: 50 | BE32: 0.005 | BF32: 0.05 | BG32: 0.025 | BH32: 0.005 | BI32: 0.005 | BJ32: 0.01 | BK32: 0.005 | BL32: 0.05 | BM32: 0.005 | BN32: 0.005 | BO32: 0.005 | BP32: 0.01 | BQ32: 0.01 | BR32: 0.005 | BS32: 0.005 | BT32: 0.1 | BU32: 0.005
A33: 0 | B33: 250 | C33: 0.0028 | D33: 1.9 | E33: 0.29 | F33: 0.44 | G33: 13 | H33: 1.3 | I33: 0.012 | J33: 0.00044 | K33: <5 | L33: 3300 | M33: 0.0058 | N33: 0.0025 | O33: 0.39 | P33: <0.05 | Q33: 0.13 | R33: 0.053 | S33: 0.00085 | T33: 0.00043 | U33: 0.00076 | V33: 2.3 | W33: 0.0099 | X33: 0.002 | Y33: <0.1 | Z33: 0.00029 | AA33: 0.0055 | AB33: 0.00019 | AC33: 0.27 | AD33: 0.00017 | AE33: 1800 | AF33: 0.0019 | AG33: 0.29 | AH33: 0.00018 | AI33: 1500 | AJ33: 27 | AK33: 0.063 | AL33: 840 | AM33: 0.00023 | AN33: 0.00086 | AO33: 0.082 | AP33: 0 | AQ33: 1.9 | AR33: 0.0073 | AS33: 0.0011 | AT33: 0.00022 | AU33: 0.0013 | AV33: 2.1 | AW33: 0.00096 | AX33: 0.00059 | AY33: 0 | AZ33: 5900 | BA33: 1.2 | BB33: 0.0021 | BC33: 0.2 | BD33: 4000 | BE33: 0 | BF33: 0.13 | BG33: 14 | BH33: 0.00013 | BI33: 0 | BJ33: 0.53 | BK33: 0.00067 | BL33: 0.018 | BM33: 0.12 | BN33: 0.00078 | BO33: 0.0066 | BP33: 0.16 | BQ33: <0.1 | BR33: 0.0044 | BS33: 0.00046 | BT33: 1.6 | BU33: 0.0025
A34: 1 | B34: 250 | C34: 0.013 | D34: 21 | E34: 0.3 | F34: 0.005 | G34: 3.5 | H34: 0.73 | I34: 0.03 | J34: 0.001 | K34: 3 | L34: 1700 | M34: 0.0076 | N34: 0.0093 | O34: 0.43 | P34: 0 | Q34: 0.052 | R34: 0.13 | S34: 0.00044 | T34: 0.00011 | U34: 0.00015 | V34: 1.3 | W34: 0 | X34: 0 | Y34: 0 | Z34: 0 | AA34: 0.0071 | AB34: 7.7e-07 | AC34: 1.9 | AD34: 0 | AE34: 760 | AF34: 0.0061 | AG34: 0.36 | AH34: 0.00064 | AI34: 700 | AJ34: 17 | AK34: 0.0021 | AL34: 280 | AM34: 0 | AN34: 0.0062 | AO34: 0.31 | AP34: 0 | AQ34: 3.4 | AR34: 0.027 | AS34: 0.00019 | AT34: 0.0019 | AU34: 0.0023 | AV34: 1 | AW34: 0.00025 | AX34: 0.021 | AY34: 0.0023 | AZ34: 3300 | BA34: 0.36 | BB34: 0.0042 | BC34: 0.035 | BD34: 2900 | BE34: 0.0014 | BF34: 0.028 | BG34: 7.2 | BH34: 0.0025 | BI34: 0.0011 | BJ34: 0.7 | BK34: 0.00059 | BL34: 0.00016 | BM34: 0.062 | BN34: 0.00036 | BO34: 0.034 | BP34: 0.051 | BQ34: 0.0052 | BR34: 0.0081 | BS34: 0.00046 | BT34: 0.28 | BU34: 0.0013
A35: 2 | B35: 250 | C35: 8.5e-05 | D35: 2.7 | E35: 0.32 | F35: 0.0019 | G35: 3.6 | H35: 0.93 | I35: 0.015 | J35: 0.00029 | K35: 0.11 | L35: 1200 | M35: 0.024 | N35: 0.0011 | O35: 0.48 | P35: 0 | Q35: 0.038 | R35: 0.26 | S35: 0.00035 | T35: 0.0025 | U35: 0.0032 | V35: 4.4 | W35: 0 | X35: 0.0044 | Y35: 0 | Z35: 0 | AA35: 0.004 | AB35: 0.00028 | AC35: 2.4 | AD35: 0.00026 | AE35: 610 | AF35: 0.0016 | AG35: 0.29 | AH35: 0.00022 | AI35: 480 | AJ35: 16 | AK35: 8.6e-05 | AL35: 110 | AM35: 0 | AN35: 0.0021 | AO35: 0.2 | AP35: 0.00064 | AQ35: 0.59 | AR35: 0.023 | AS35: 0.00468 | AT35: 0.00014 | AU35: 0.012 | AV35: 0.85 | AW35: 9.2e-06 | AX35: 0.005 | AY35: 0.0014 | AZ35: 1700 | BA35: 0.36 | BB35: 0.0019 | BC35: 0.2 | BD35: 3100 | BE35: 0.00092 | BF35: 0.035 | BG35: 6 | BH35: 0.00116 | BI35: 0.00034 | BJ35: 1 | BK35: 0 | BL35: 0.025 | BM35: 0.041 | BN35: 0.00027 | BO35: 0.026 | BP35: 0.065 | BQ35: 0.0051 | BR35: 0.003 | BS35: 7.4e-05 | BT35: 2.1 | BU35: 0.0048
A36: 3 | B36: 250 | C36: 0.00072 | D36: 1.5 | E36: 0.21 | F36: 0.0037 | G36: 0.68 | H36: 0.91 | I36: 0.014 | J36: 0.00047 | K36: <5 | L36: 1800 | M36: 0.0075 | N36: 0.0061 | O36: 0.65 | P36: <0.05 | Q36: 0.032 | R36: 0.76 | S36: 0.00066 | T36: 0 | U36: 0.001 | V36: 1.2 | W36: 0.0046 | X36: 0 | Y36: <0.1 | Z36: 0 | AA36: 0.011 | AB36: 3.8e-05 | AC36: 0.23 | AD36: 6.6e-05 | AE36: 650 | AF36: 0.0037 | AG36: 0.23 | AH36: 0.00011 | AI36: 770 | AJ36: 23 | AK36: 0.0067 | AL36: 100 | AM36: 0.00035 | AN36: 0.0035 | AO36: 0.14 | AP36: 0.00021 | AQ36: 0.68 | AR36: 0.012 | AS36: 0 | AT36: 0.0006 | AU36: 0.001 | AV36: 0.8 | AW36: 0.00019 | AX36: 0.00063 | AY36: 0 | AZ36: 1500 | BA36: 0.38 | BB36: 0.0029 | BC36: 0.032 | BD36: 3700 | BE36: 0.00043 | BF36: 0.071 | BG36: 7.7 | BH36: 3.2e-05 | BI36: 0 | BJ36: 1.3 | BK36: 0.00024 | BL36: 0.0073 | BM36: 0.051 | BN36: 0.0011 | BO36: 0.054 | BP36: 0.052 | BQ36: <0.1 | BR36: 0.0045 | BS36: 0.0001 | BT36: 1.9 | BU36: 0.0031
A37: 4 | B37: 250 | C37: 0 | D37: 2.5 | E37: 0.3 | F37: 0.003 | G37: 4.5 | H37: 0.83 | I37: 0.012 | J37: 0.00021 | K37: 0.24 | L37: 1300 | M37: 0.022 | N37: 0.0018 | O37: 0.55 | P37: 0.0048 | Q37: 0.028 | R37: 0.27 | S37: 0.0012 | T37: 0 | U37: 0.0019 | V37: 4.3 | W37: 0 | X37: 0.0032 | Y37: 0 | Z37: 0 | AA37: 0.011 | AB37: 0.00016 | AC37: 1.8 | AD37: 0 | AE37: 530 | AF37: 0.0027 | AG37: 0.26 | AH37: 0.0023 | AI37: 520 | AJ37: 18 | AK37: 0.0052 | AL37: 91 | AM37: 0.00014 | AN37: 0.0023 | AO37: 0.21 | AP37: 0.00052 | AQ37: 1.9 | AR37: 0.0055 | AS37: 0.0057 | AT37: 0.00057 | AU37: 0.016 | AV37: 0.72 | AW37: 0 | AX37: 0.0039 | AY37: 0 | AZ37: 1200 | BA37: 0.33 | BB37: 0.0023 | BC37: 0.011 | BD37: 3300 | BE37: 0.00045 | BF37: 0.033 | BG37: 6.3 | BH37: 0.00044 | BI37: 0.00084 | BJ37: 1.5 | BK37: 0 | BL37: 0.03 | BM37: 0.04 | BN37: 0.00019 | BO37: 0.037 | BP37: 0.05 | BQ37: 0 | BR37: 0.0026 | BS37: 0 | BT37: 1.3 | BU37: 0.0079
A38: 5 | B38: 250 | C38: 0.0029 | D38: 1.1 | E38: 0.089 | F38: 0.003 | G38: 2.9 | H38: 1.2 | I38: 0.016 | J38: 0.0015 | K38: <5 | L38: 1400 | M38: 0.011 | N38: 0.0076 | O38: 0.57 | P38: <0.05 | Q38: 0.026 | R38: 1.3 | S38: 0.0012 | T38: 0.00037 | U38: 0.0008 | V38: 1.8 | W38: 0.0014 | X38: 0.00081 | Y38: <0.1 | Z38: 0 | AA38: 0.013 | AB38: 0.00017 | AC38: 0.21 | AD38: 0.00016 | AE38: 490 | AF38: 0.0035 | AG38: 0.21 | AH38: 0.00019 | AI38: 550 | AJ38: 18 | AK38: 0 | AL38: 20 | AM38: 0.0003 | AN38: 0.0037 | AO38: 0.12 | AP38: 0.00014 | AQ38: 0.9 | AR38: 0.028 | AS38: 0.00018 | AT38: 0.0012 | AU38: 0.00097 | AV38: 0.61 | AW38: 2.9e-05 | AX38: 0.00078 | AY38: 0 | AZ38: 1500 | BA38: 0.19 | BB38: 0.0039 | BC38: 0.073 | BD38: 2200 | BE38: 0.0011 | BF38: 0.025 | BG38: 5.9 | BH38: 8.3e-05 | BI38: 0 | BJ38: 1.1 | BK38: 0.00037 | BL38: 0 | BM38: 0.039 | BN38: 0.0013 | BO38: 0.033 | BP38: 0.025 | BQ38: <0.1 | BR38: 0.0049 | BS38: 0 | BT38: 6.9 | BU38: 0.0052
A39: 6 | B39: 250 | C39: 0.011 | D39: 2 | E39: 0.14 | F39: 0.003 | G39: 1.4 | H39: 0.99 | I39: 0.016 | J39: 0.0059 | K39: 0 | L39: 1200 | M39: 0.024 | N39: 0.013 | O39: 0.73 | P39: 0.074 | Q39: 0.036 | R39: 0.55 | S39: 0.0018 | T39: 0.0018 | U39: 0.002 | V39: 4.5 | W39: 0 | X39: 0.0012 | Y39: 0.042 | Z39: 0 | AA39: 0.0058 | AB39: 4.9e-05 | AC39: 1.9 | AD39: 0 | AE39: 390 | AF39: 0.0072 | AG39: 0.27 | AH39: 0.00012 | AI39: 510 | AJ39: 21 | AK39: 0.0042 | AL39: 43 | AM39: 0 | AN39: 0.01 | AO39: 0.21 | AP39: 0.0013 | AQ39: 1.2 | AR39: 0.026 | AS39: 0.0052 | AT39: 0.0022 | AU39: 0.0048 | AV39: 0.76 | AW39: 0.00014 | AX39: 0.0038 | AY39: 0.00037 | AZ39: 2000 | BA39: 0.18 | BB39: 0 | BC39: 0.087 | BD39: 2100 | BE39: 0.0012 | BF39: 0.018 | BG39: 6.5 | BH39: 0.00048 | BI39: 0.0011 | BJ39: 1.4 | BK39: 0.0013 | BL39: 0.02 | BM39: 0.046 | BN39: 9.3e-05 | BO39: 0.04 | BP39: 0.04 | BQ39: 0.0025 | BR39: 0.0052 | BS39: 0 | BT39: 1.5 | BU39: 0.0077
A40: 7 | B40: 215 | C40: 0.011 | D40: 4.9 | E40: 0.18 | F40: 0.0003 | G40: 1.8 | H40: 1.2 | I40: 0.026 | J40: 0.0045 | K40: 0.43 | L40: 1700 | M40: 0.031 | N40: 0.027 | O40: 0.91 | P40: 0.016 | Q40: 0.047 | R40: 0.72 | S40: 0.0029 | T40: 0.0017 | U40: 0.002 | V40: 7.1 | W40: 0 | X40: 0.0018 | Y40: 0 | Z40: 0.00081 | AA40: 0.006 | AB40: 0.00045 | AC40: 2.3 | AD40: 0 | AE40: 570 | AF40: 0.016 | AG40: 0.4 | AH40: 0.002 | AI40: 700 | AJ40: 28 | AK40: 0.0073 | AL40: 54 | AM40: 0.00034 | AN40: 0.017 | AO40: 0.29 | AP40: 0.0014 | AQ40: 3 | AR40: 0.03 | AS40: 0.0061 | AT40: 0.0031 | AU40: 0.005 | AV40: 0.97 | AW40: 1e-05 | AX40: 0.0035 | AY40: 0.00066 | AZ40: 2300 | BA40: 0.36 | BB40: 0.0078 | BC40: 0.45 | BD40: 2900 | BE40: 0.0014 | BF40: 0.13 | BG40: 8.7 | BH40: 0.000332 | BI40: 0.001 | BJ40: 1.8 | BK40: 0.0014 | BL40: 0 | BM40: 0.059 | BN40: 0.0009 | BO40: 0.073 | BP40: 0.04 | BQ40: 0.0032 | BR40: 0.013 | BS40: 0 | BT40: 11 | BU40: 0.018
A41: 8 | B41: 215 | C41: 0.0081 | D41: 2.5 | E41: 0.13 | F41: 0.0004 | G41: 12 | H41: 1.3 | I41: 0.067 | J41: 0.0051 | K41: 0 | L41: 2000 | M41: 0.015 | N41: 0.038 | O41: 1.1 | P41: 0.0077 | Q41: 0.23 | R41: 0.18 | S41: 0.0036 | T41: 0.00034 | U41: 0.0013 | V41: 3.8 | W41: 0 | X41: 0.0031 | Y41: 0.015 | Z41: 0.00024 | AA41: 0.0087 | AB41: 0.00058 | AC41: 1 | AD41: 0.00044 | AE41: 780 | AF41: 0.024 | AG41: 0.62 | AH41: 9e-05 | AI41: 850 | AJ41: 34 | AK41: 0.00049 | AL41: 41 | AM41: 0.00033 | AN41: 0.023 | AO41: 0.3 | AP41: 0 | AQ41: 7.9 | AR41: 0.008 | AS41: 0.0005 | AT41: 0.004 | AU41: 0.00035 | AV41: 2.4 | AW41: 2.9e-05 | AX41: 0 | AY41: 0.0013 | AZ41: 4000 | BA41: 0.24 | BB41: 0.024 | BC41: 0.09 | BD41: 2100 | BE41: 0.0035 | BF41: 0.046 | BG41: 8.7 | BH41: 0.001 | BI41: 0.00042 | BJ41: 1.1 | BK41: 0.0012 | BL41: 0.43 | BM41: 0.1 | BN41: 6.8e-05 | BO41: 0.068 | BP41: 0.046 | BQ41: 0.0044 | BR41: 0.021 | BS41: 0.0014 | BT41: 1 | BU41: 0.0076
A42: 9 | B42: 215 | C42: 0.0064 | D42: 11 | E42: 0.15 | F42: 0.001 | G42: 22 | H42: 3.1 | I42: 0.12 | J42: 0.0033 | K42: 0 | L42: 4100 | M42: 0.029 | N42: 0.12 | O42: 2.7 | P42: 0.052 | Q42: 0.31 | R42: 0.71 | S42: 0.0084 | T42: 0.0046 | U42: 0.0026 | V42: 14 | W42: 0.00087 | X42: 0.0092 | Y42: 0 | Z42: 0.00026 | AA42: 0.014 | AB42: 0.0019 | AC42: 2.8 | AD42: 0.00013 | AE42: 840 | AF42: 0.085 | AG42: 1.1 | AH42: 0.00029 | AI42: 1700 | AJ42: 73 | AK42: 0.0066 | AL42: 54 | AM42: 0.00039 | AN42: 0.049 | AO42: 0.42 | AP42: 0.00013 | AQ42: 19 | AR42: 0.063 | AS42: 0.00091 | AT42: 0.012 | AU42: 0 | AV42: 3.2 | AW42: 9.3e-05 | AX42: 0 | AY42: 0.00082 | AZ42: 7500 | BA42: 0.14 | BB42: 0.028 | BC42: 0.1 | BD42: 2500 | BE42: 0.0063 | BF42: 0.2 | BG42: 19 | BH42: 9.6666667e-05 | BI42: 0.0012 | BJ42: 1.6 | BK42: 0.00062 | BL42: 0 | BM42: 0.14 | BN42: 0.0006 | BO42: 0.097 | BP42: 0.037 | BQ42: 0.006 | BR42: 0.077 | BS42: 0.0017 | BT42: 3.8 | BU42: 0.0076
A43: 10 | B43: 215 | C43: 0.0019 | D43: 28 | E43: 0.031 | F43: 0.0007 | G43: 46 | H43: 31 | I43: 0.17 | J43: 0.003 | K43: 0 | L43: 5900 | M43: 0.053 | N43: 0.21 | O43: 4.8 | P43: 0.0051 | Q43: 0.14 | R43: 1.4 | S43: 0.014 | T43: 0.0078 | U43: 0.0047 | V43: 19 | W43: 0.00086 | X43: 0.014 | Y43: 0 | Z43: 0.0017 | AA43: 0.012 | AB43: 0.0023 | AC43: 0.7 | AD43: 6.1e-05 | AE43: 820 | AF43: 0.14 | AG43: 0.98 | AH43: 0.00034 | AI43: 2600 | AJ43: 120 | AK43: 0.035 | AL43: 84 | AM43: 0.00032 | AN43: 0.071 | AO43: 0.97 | AP43: 0.0005 | AQ43: 5.3 | AR43: 0.056 | AS43: 0.0048 | AT43: 0.021 | AU43: 0.00011 | AV43: 2.4 | AW43: 0 | AX43: 0 | AY43: 0 | AZ43: 11000 | BA43: 0.08 | BB43: 0.0087 | BC43: 0.26 | BD43: 3400 | BE43: 0.015 | BF43: 0.02 | BG43: 27 | BH43: 0.001 | BI43: 0.0026 | BJ43: 1.7 | BK43: 0.00058 | BL43: 0.02 | BM43: 0.099 | BN43: 0.0011 | BO43: 0.093 | BP43: 0.023 | BQ43: 0.0036 | BR43: 0.16 | BS43: 0.0032 | BT43: 38 | BU43: 0.11
A44: 11 | B44: 105 | C44: 2.3 | D44: 3300 | E44: 3.9 | F44: 0.76 | G44: 34 | H44: 410 | I44: 3.7 | J44: 1.7 | K44: 0 | L44: 45000 | M44: 1.4 | N44: 110 | O44: 99 | P44: 9.2 | Q44: 0.44 | R44: 860 | S44: 13 | T44: 7.2 | U44: 3.2 | V44: 60000 | W44: 0.24 | X44: 14 | Y44: 0.74 | Z44: 0.4 | AA44: 0.53 | AB44: 2.7 | AC44: 6.8 | AD44: 0.0002 | AE44: 1200 | AF44: 68 | AG44: 0.94 | AH44: 0.47 | AI44: 11000 | AJ44: 320 | AK44: 84 | AL44: 1300000 | AM44: 0.7 | AN44: 73 | AO44: 15 | AP44: 0.0039 | AQ44: 1600 | AR44: 24 | AS44: <0.2 | AT44: 16 | AU44: 0.013 | AV44: 2.8 | AW44: 0.17 | AX44: 0.01 | AY44: 0.001 | AZ44: 300000 | BA44: 1.2 | BB44: 5.5 | BC44: 13 | BD44: 790000 | BE44: 14 | BF44: 0.13 | BG44: 200 | BH44: 0.00076 | BI44: 2 | BJ44: 170 | BK44: 1.7 | BL44: 120 | BM44: 0.49 | BN44: 0.8 | BO44: 22 | BP44: 39 | BQ44: 11 | BR44: 85 | BS44: 4 | BT44: 150 | BU44: 15
A45: 12 | B45: 105 | C45: 2 | D45: 1100 | E45: 12 | F45: 0.08 | G45: 44 | H45: 300 | I45: 0.42 | J45: 0.83 | K45: 4 | L45: 11000 | M45: 0.36 | N45: 13 | O45: 11 | P45: 7.3 | Q45: 0.26 | R45: 100 | S45: 1.6 | T45: 0.88 | U45: 0.33 | V45: 7100 | W45: 0.23 | X45: 1.7 | Y45: 1.4 | Z45: 0.52 | AA45: 0.51 | AB45: 0.33 | AC45: 5.5 | AD45: 0.0006 | AE45: 1800 | AF45: 9.2 | AG45: 1.6 | AH45: 0.077 | AI45: 2100 | AJ45: 43 | AK45: 14 | AL45: 3900000 | AM45: 0.46 | AN45: 8.8 | AO45: 7.2 | AP45: 0.025 | AQ45: 950 | AR45: 3.6 | AS45: 0.2 | AT45: 2 | AU45: 0.0089 | AV45: 2.7 | AW45: 0.019 | AX45: 0.0087 | AY45: 0.003 | AZ45: 47000 | BA45: 1.8 | BB45: 0.93 | BC45: 2.1 | BD45: 3000000 | BE45: 1.6 | BF45: 0.12 | BG45: 45 | BH45: 0.014 | BI45: 0.25 | BJ45: 90 | BK45: 0.61 | BL45: 140 | BM45: 0.045 | BN45: 0.1 | BO45: 2.4 | BP45: 19 | BQ45: 9.3 | BR45: 11 | BS45: 0.57 | BT45: 51 | BU45: 16
A46: 13 | B46: 105 | C46: 0.0057 | D46: 950 | E46: 6.1 | F46: 0.0033 | G46: 14 | H46: 22 | I46: 0.19 | J46: 0.37 | K46: 3.6 | L46: 5500 | M46: 0.94 | N46: 5.8 | O46: 3.2 | P46: 6.8 | Q46: 0.44 | R46: 25 | S46: 0.59 | T46: 0.38 | U46: 0.14 | V46: 2100 | W46: 0.24 | X46: 0.57 | Y46: 0 | Z46: 0.58 | AA46: 0.013 | AB46: 0.12 | AC46: 6.6 | AD46: 0.0002 | AE46: 1700 | AF46: 4.1 | AG46: 3.2 | AH46: 0.042 | AI46: 550 | AJ46: 12 | AK46: 4.1 | AL46: 3800000 | AM46: 0.69 | AN46: 4.3 | AO46: 5.9 | AP46: 0.012 | AQ46: 430 | AR46: 1.6 | AS46: 0.06 | AT46: 1 | AU46: 0.003 | AV46: 2.9 | AW46: 0.005 | AX46: 0.0045 | AY46: 0 | AZ46: 17000 | BA46: 1.8 | BB46: 0.39 | BC46: 1.6 | BD46: 3200000 | BE46: 1.3 | BF46: 0.15 | BG46: 27 | BH46: 0.0051 | BI46: 0.088 | BJ46: 93 | BK46: 0.49 | BL46: 180 | BM46: 0.0082 | BN46: 0.048 | BO46: 1.9 | BP46: 7.3 | BQ46: 3.1 | BR46: 4.1 | BS46: 0.29 | BT46: 9.8 | BU46: 15
A47: 14 | B47: 168 | C47: 0.42 | D47: 36 | E47: 1.1 | F47: 0.072 | G47: 6.9 | H47: 1.5 | I47: 0.013 | J47: 0.064 | K47: 0.29 | L47: 360 | M47: 0.0066 | N47: 1 | O47: 0.73 | P47: 0.64 | Q47: 0.037 | R47: 3.9 | S47: 0.11 | T47: 0.064 | U47: 0.026 | V47: 280 | W47: 0.022 | X47: 0.12 | Y47: 0.2 | Z47: 0.07 | AA47: 0.09 | AB47: 0.022 | AC47: 2.1 | AD47: -8.1e-06 | AE47: 210 | AF47: 0.57 | AG47: 0.88 | AH47: 0.0044 | AI47: 93 | AJ47: 2.5 | AK47: 0.6 | AL47: 320000 | AM47: 0.22 | AN47: 0.62 | AO47: 0.36 | AP47: 0.0001 | AQ47: 100 | AR47: 0.12 | AS47: -0.00011 | AT47: 0.14 | AU47: 0.0012 | AV47: 0.37 | AW47: 6.7e-05 | AX47: -0.0069 | AY47: 0.00015 | AZ47: 2700 | BA47: 0.36 | BB47: 0.056 | BC47: 0.11 | BD47: 150000 | BE47: 0.12 | BF47: 0.015 | BG47: 1.8 | BH47: 0.0079 | BI47: 0.016 | BJ47: 32 | BK47: 0.066 | BL47: 22 | BM47: 0.0031 | BN47: 0.0072 | BO47: 0.52 | BP47: 1.3 | BQ47: 0.47 | BR47: 0.69 | BS47: 0.036 | BT47: 2.2 | BU47: 2.2
A48: 15 | B48: 155 | C48: 0.58541867 | D48: 43.491924 | E48: 2.7188659 | F48: 0.13729364 | G48: 5.5859337 | H48: 1.1238605 | I48: 0.03279428 | J48: 0.11412381 | K48: 0.21 | L48: 203.59328 | M48: 0.068497235 | N48: 1.8999198 | O48: 0.86685379 | P48: 0.65787989 | Q48: 0.017728679 | R48: 6.855263 | S48: 0.25537328 | T48: 0.12594138 | U48: 0.064065963 | V48: 455.77239 | W48: 0.40846151 | X48: 0.27800287 | Y48: 1.0750802 | Z48: 0.11924137 | AA48: 0.20113582 | AB48: 0.053082271 | AC48: 0.68557417 | AD48: -0.000355 | AE48: 99.135576 | AF48: 1.1468002 | AG48: 0.4340134 | AH48: 0.0088822377 | AI48: 203.09601 | AJ48: 5.3359506 | AK48: 0.78309291 | AL48: 125011.73 | AM48: 0.23063714 | AN48: 1.4182004 | AO48: 0.70872847 | AP48: 0.00054578211 | AQ48: 322.72205 | AR48: 0.25361425 | AS48: 0.0052319451 | AT48: 0.29616486 | AU48: 0.0087330795 | AV48: 0.16918469 | AW48: 0.00077726437 | AX48: 0.0013902517 | AY48: 0.0010595777 | AZ48: 4986.5785 | BA48: 1.2952653 | BB48: 0.092010341 | BC48: 0.26753406 | BD48: 87737.98 | BE48: 0.27331239 | BF48: 0.05607419 | BG48: 1.0975235 | BH48: 0.0019145142 | BI48: 0.040802216 | BJ48: 45.318751 | BK48: 0.11646458 | BL48: 19.54275 | BM48: 0.0029 | BN48: 0.014432752 | BO48: 0.69750524 | BP48: 1.7439107 | BQ48: 0.77956739 | BR48: 1.430583 | BS48: 0.073295448 | BT48: 5.172223 | BU48: 3.5026053
A49: 16 | B49: 157 | C49: 0.23563915 | D49: 46.345581 | E49: 1.4787205 | F49: 0.030062847 | G49: 4.6886244 | H49: 0.66193518 | I49: 0.01571699 | J49: 0.076408294 | K49: 0.17605739 | L49: 147.84884 | M49: 0.019269086 | N49: 1.0708116 | O49: 0.66697158 | P49: 0.32458849 | Q49: 0.0044099355 | R49: 6.5416816 | S49: 0.15469954 | T49: 0.084948093 | U49: 0.043811693 | V49: 399.20218 | W49: 0.031821593 | X49: 0.19204257 | Y49: 0.18804808 | Z49: 0.071938434 | AA49: 0.043369763 | AB49: 0.029008328 | AC49: 0.18826334 | AD49: 0.0013181021 | AE49: 38.024278 | AF49: 0.65758386 | AG49: 1.4511837 | AH49: 0.0044739455 | AI49: 124.23533 | AJ49: 3.3601784 | AK49: 0.27259172 | AL49: 31343.729 | AM49: 0.070744701 | AN49: 0.83111748 | AO49: 0.16880712 | AP49: 6.0576336e-05 | AQ49: 146.7151 | AR49: 0.17995947 | AS49: 0.00488 | AT49: 0.17360969 | AU49: 0.000921 | AV49: 0.051104304 | AW49: 0.00031976892 | AX49: 0.0068252747 | AY49: 0.0011136182 | AZ49: 2436.7642 | BA49: 0.67710172 | BB49: 0.090848627 | BC49: 0.15695177 | BD49: 33881.108 | BE49: 0.16490632 | BF49: -0.013739666 | BG49: 0.36717097 | BH49: 0.0027707133 | BI49: 0.024350382 | BJ49: 10.221802 | BK49: 0.061082434 | BL49: 9.7993423 | BM49: 0.0019082109 | BN49: 0.0089980817 | BO49: 0.25951394 | BP49: 0.73161861 | BQ49: 0.42296336 | BR49: 0.93577117 | BS49: 0.048077545 | BT49: 1.9179015 | BU49: 2.2370289
A50: 17 | B50: 215 | C50: 0.18 | D50: 140 | E50: 1.4 | F50: 0.027 | G50: 5.2 | H50: 1.8 | I50: 0.012 | J50: 0.23 | K50: 0.138 | L50: 220 | M50: 0.016 | N50: 2.2 | O50: 0.95 | P50: 0.26 | Q50: 0.014 | R50: 11 | S50: 0.26 | T50: 0.12 | U50: 0.06 | V50: 1200 | W50: 0.001 | X50: 0.29 | Y50: 0.15 | Z50: 0.061 | AA50: 0.037 | AB50: 0.046 | AC50: 0.54 | AD50: 0 | AE50: 79 | AF50: 1.2 | AG50: 0.41 | AH50: 0.0069 | AI50: 120 | AJ50: 5.4 | AK50: 0.23 | AL50: 28000 | AM50: 0.045 | AN50: 1.5 | AO50: 0.25 | AP50: 0 | AQ50: 150 | AR50: 0.55 | AS50: 0.02 | AT50: 0.3 | AU50: 0.0069 | AV50: 0.11 | AW50: 9.6e-05 | AX50: 0.00011 | AY50: 0 | AZ50: 3400 | BA50: 0.68 | BB50: 0.16 | BC50: 0 | BD50: 29000 | BE50: 0.28 | BF50: 0.08 | BG50: 1.4 | BH50: 0.0039 | BI50: 0.036 | BJ50: 5.9 | BK50: 0.079 | BL50: 19 | BM50: 0.002 | BN50: 0.013 | BO50: 0.24 | BP50: 0.71 | BQ50: 0.57 | BR50: 1.4 | BS50: 0.063 | BT50: 1.4 | BU50: 2.3
A51: 18 | B51: 215 | C51: 0.145 | D51: 100.5 | E51: 1.2 | F51: 0.022 | G51: 8.1 | H51: 1.09 | I51: 0.011 | J51: 0.195 | K51: 0.254 | L51: 225 | M51: 0.014 | N51: 1.85 | O51: 0.845 | P51: 0.22 | Q51: 0.01 | R51: 9.35 | S51: 0.215 | T51: 0.1025 | U51: 0.055 | V51: 895 | W51: 0.008 | X51: 0.26 | Y51: 0.14 | Z51: 0.066 | AA51: 0.042 | AB51: 0.039 | AC51: 0.525 | AD51: 8.5e-05 | AE51: 64 | AF51: 0.97 | AG51: 0.545 | AH51: 0.006 | AI51: 106.5 | AJ51: 3.6 | AK51: 0.38 | AL51: 30500 | AM51: 0.034 | AN51: 1.3 | AO51: 0.23 | AP51: 8e-05 | AQ51: 98.5 | AR51: 0.42 | AS51: 0.021 | AT51: 0.26 | AU51: 0.00575 | AV51: 0.0825 | AW51: 0.000263 | AX51: 0.00019 | AY51: 0 | AZ51: 7700 | BA51: 1.04 | BB51: 0.122 | BC51: 0.05 | BD51: 31500 | BE51: 0.245 | BF51: 0.09 | BG51: 1.35 | BH51: 0.00365 | BI51: 0.0325 | BJ51: 4.75 | BK51: 0.0785 | BL51: 13.8 | BM51: 0.00235 | BN51: 0.011 | BO51: 0.225 | BP51: 0.555 | BQ51: 1.085 | BR51: 1.2 | BS51: 0.054 | BT51: 2 | BU51: 2.35
A52: 19 | B52: 200 | C52: 0.11 | D52: 61 | E52: 1 | F52: 0.017 | G52: 11 | H52: 0.38 | I52: 0.01 | J52: 0.16 | K52: 0.37 | L52: 230 | M52: 0.012 | N52: 1.5 | O52: 0.74 | P52: 0.18 | Q52: 0.006 | R52: 7.7 | S52: 0.17 | T52: 0.085 | U52: 0.05 | V52: 590 | W52: 0.015 | X52: 0.23 | Y52: 0.13 | Z52: 0.071 | AA52: 0.047 | AB52: 0.032 | AC52: 0.51 | AD52: 0.00017 | AE52: 49 | AF52: 0.74 | AG52: 0.68 | AH52: 0.0051 | AI52: 93 | AJ52: 1.8 | AK52: 0.53 | AL52: 33000 | AM52: 0.023 | AN52: 1.1 | AO52: 0.21 | AP52: 0.00016 | AQ52: 47 | AR52: 0.29 | AS52: 0.022 | AT52: 0.22 | AU52: 0.0046 | AV52: 0.055 | AW52: 0.00043 | AX52: 0.00027 | AY52: 0 | AZ52: 12000 | BA52: 1.4 | BB52: 0.084 | BC52: 0.1 | BD52: 34000 | BE52: 0.21 | BF52: 0.1 | BG52: 1.3 | BH52: 0.0034 | BI52: 0.029 | BJ52: 3.6 | BK52: 0.078 | BL52: 8.6 | BM52: 0.0027 | BN52: 0.009 | BO52: 0.21 | BP52: 0.4 | BQ52: 1.6 | BR52: 1 | BS52: 0.045 | BT52: 2.6 | BU52: 2.4
A53: 20 | B53: 215 | C53: 0.11953918 | D53: 49.051949 | E53: 0.66734888 | F53: 0.013498135 | G53: 11.223984 | H53: 0.32862659 | I53: 0.0084499043 | J53: 0.15323771 | K53: 3.9607897 | L53: 177.12746 | M53: 0.0092057668 | N53: 1.2284143 | O53: 0.5525613 | P53: 0.14587136 | Q53: 0.0050820613 | R53: 6.4098629 | S53: 0.13691881 | T53: 0.068871593 | U53: 0.041100082 | V53: 469.49647 | W53: 0.010366544 | X53: 0.18217527 | Y53: 0.10083696 | Z53: 0.059137452 | AA53: 0.049282074 | AB53: 0.027323681 | AC53: 0.75297624 | AD53: 0.00040924197 | AE53: 40.16246 | AF53: 0.56698115 | AG53: 0.75662929 | AH53: 0.003991034 | AI53: 71.469264 | AJ53: 1.4816236 | AK53: 0.4268055 | AL53: 28148.854 | AM53: 0.016763683 | AN53: 0.83726526 | AO53: 0.18225111 | AP53: 0.00034313055 | AQ53: 34.987755 | AR53: 0.28777346 | AS53: 0.016929875 | AT53: 0.17065815 | AU53: 0.0030742682 | AV53: 0.04812049 | AW53: 0.00036195959 | AX53: 0.0008960292 | AY53: 0.00033625035 | AZ53: 12055.743 | BA53: 1.2450526 | BB53: 0.071112194 | BC53: 0.11797733 | BD53: 29120.008 | BE53: 0.1673691 | BF53: 0.091065269 | BG53: 1.0789993 | BH53: 0.0030532131 | BI53: 0.024647944 | BJ53: 3.4011674 | BK53: 0.07028827 | BL53: 6.7688586 | BM53: 0.015640219 | BN53: 0.0069465214 | BO53: 0.16558138 | BP53: 0.28880495 | BQ53: 1.6131408 | BR53: 0.74885768 | BS53: 0.03628872 | BT53: 2.0394125 | BU53: 1.8572886
A54: 21 | B54: 245 | C54: 0.12907837 | D54: 37.103898 | E54: 0.33469776 | F54: 0.0099962692 | G54: 11.447968 | H54: 0.27725318 | I54: 0.0068998086 | J54: 0.14647543 | K54: 7.5515793 | L54: 124.25492 | M54: 0.0064115336 | N54: 0.95682859 | O54: 0.36512259 | P54: 0.11174273 | Q54: 0.0041641227 | R54: 5.1197258 | S54: 0.10383762 | T54: 0.052743186 | U54: 0.032200163 | V54: 348.99293 | W54: 0.0057330887 | X54: 0.13435055 | Y54: 0.071673928 | Z54: 0.047274903 | AA54: 0.051564147 | AB54: 0.022647362 | AC54: 0.99595249 | AD54: 0.00064848394 | AE54: 31.32492 | AF54: 0.3939623 | AG54: 0.83325858 | AH54: 0.002882068 | AI54: 49.938527 | AJ54: 1.1632473 | AK54: 0.323611 | AL54: 23297.707 | AM54: 0.010527366 | AN54: 0.57453052 | AO54: 0.15450222 | AP54: 0.00052626111 | AQ54: 22.97551 | AR54: 0.28554691 | AS54: 0.011859749 | AT54: 0.1213163 | AU54: 0.0015485365 | AV54: 0.041240981 | AW54: 0.00029391917 | AX54: 0.0015220584 | AY54: 0.00067250069 | AZ54: 12111.485 | BA54: 1.0901051 | BB54: 0.058224387 | BC54: 0.13595466 | BD54: 24240.015 | BE54: 0.12473819 | BF54: 0.082130539 | BG54: 0.8579987 | BH54: 0.0027064261 | BI54: 0.020295888 | BJ54: 3.2023348 | BK54: 0.06257654 | BL54: 4.9377172 | BM54: 0.028580437 | BN54: 0.0048930428 | BO54: 0.12116276 | BP54: 0.1776099 | BQ54: 1.6262817 | BR54: 0.49771535 | BS54: 0.02757744 | BT54: 1.478825 | BU54: 1.3145771
A55: 22 | B55: 230 | C55: 0.087668739 | D55: 27.407664 | E55: 0.22627926 | F55: 0.0098988867 | G55: 10.392046 | H55: 0.22434836 | I55: 0.030644705 | J55: 0.090037697 | K55: 3.702399 | L55: 90.015273 | M55: 0.012387015 | N55: 0.5564802 | O55: 0.24780408 | P55: 0.11144281 | Q55: 0.0037630551 | R55: 3.1809588 | S55: 0.058695307 | T55: 0.03010721 | U55: 0.019500166 | V55: 212.06978 | W55: 0.0074431311 | X55: 0.077470085 | Y55: 0.046156889 | Z55: 0.027772553 | AA55: 0.044723165 | AB55: 0.012732252 | AC55: 0.62096757 | AD55: 0.0007792996 | AE55: 32.580404 | AF55: 0.23480491 | AG55: 0.90400396 | AH55: 0.0017030221 | AI55: 32.20119 | AJ55: 0.9713104 | AK55: 0.2179311 | AL55: 19809.846 | AM55: 0.0057979949 | AN55: 0.33711119 | AO55: 0.19925466 | AP55: 0.00055822409 | AQ55: 23.040282 | AR55: 0.17402156 | AS55: 0.0074478718 | AT55: 0.070670831 | AU55: 0.0022356154 | AV55: 0.048073739 | AW55: 0.00064564321 | AX55: 0.0028334315 | AY55: 0.003194114 | AZ55: 10902.777 | BA55: 0.704177 | BB55: 0.052033476 | BC55: 0.14537745 | BD55: 18090.484 | BE55: 0.0771489 | BF55: 0.06593751 | BG55: 0.63735281 | BH55: 0.0017518613 | BI55: 0.011727238 | BJ55: 2.1748904 | BK55: 0.036619162 | BL55: 2.8604423 | BM55: 0.01528285 | BN55: 0.002884098 | BO55: 0.076658534 | BP55: 0.12836984 | BQ55: 1.0144721 | BR55: 0.2861165 | BS55: 0.015056765 | BT55: 1.1532309 | BU55: 0.76647562
A56: 23 | B56: 215 | C56: 0.04625911 | D56: 17.711431 | E56: 0.11786075 | F56: 0.0098015043 | G56: 9.3361243 | H56: 0.17144353 | I56: 0.054389602 | J56: 0.033599968 | K56: -0.1467814 | L56: 55.775623 | M56: 0.018362497 | N56: 0.1561318 | O56: 0.13048556 | P56: 0.11114289 | Q56: 0.0033619876 | R56: 1.2421918 | S56: 0.013552996 | T56: 0.007471235 | U56: 0.0068001682 | V56: 75.146632 | W56: 0.0091531736 | X56: 0.020589622 | Y56: 0.02063985 | Z56: 0.0082702027 | AA56: 0.037882183 | AB56: 0.0028171417 | AC56: 0.24598265 | AD56: 0.00091011525 | AE56: 33.835889 | AF56: 0.075647515 | AG56: 0.97474935 | AH56: 0.00052397613 | AI56: 14.463853 | AJ56: 0.77937356 | AK56: 0.11225121 | AL56: 16321.985 | AM56: 0.0010686239 | AN56: 0.099691865 | AO56: 0.24400711 | AP56: 0.00059018706 | AQ56: 23.105054 | AR56: 0.062496209 | AS56: 0.0030359941 | AT56: 0.020025361 | AU56: 0.0029226943 | AV56: 0.054906496 | AW56: 0.00099736724 | AX56: 0.0041448046 | AY56: 0.0057157273 | AZ56: 9694.0682 | BA56: 0.31824886 | BB56: 0.045842565 | BC56: 0.15480023 | BD56: 11940.954 | BE56: 0.029559607 | BF56: 0.049744481 | BG56: 0.41670693 | BH56: 0.00079729645 | BI56: 0.0031585888 | BJ56: 1.147446 | BK56: 0.010661784 | BL56: 0.78316745 | BM56: 0.001985263 | BN56: 0.00087515324 | BO56: 0.032154307 | BP56: 0.079129788 | BQ56: 0.40266259 | BR56: 0.074517652 | BS56: 0.0025360905 | BT56: 0.82763671 | BU56: 0.2183741
A58: Cell C | B58: Filter vol (mL) | C58: Ag | D58: Al | E58: As | F58: Au | G58: B | H58: Ba | I58: Be | J58: Bi | K58: Br | L58: Ca | M58: Cd | N58: Ce | O58: Co | P58: Cr | Q58: Cs | R58: Cu | S58: Dy | T58: Er | U58: Eu | V58: Fe | W58: Ga | X58: Gd | Y58: Ge | Z58: Hf | AA58: Hg | AB58: Ho | AC58: I | AD58: Ir | AE58: K | AF58: La | AG58: Li | AH58: Lu | AI58: Mg | AJ58: Mn | AK58: Mo | AL58: Na | AM58: Nb | AN58: Nd | AO58: Ni | AP58: Os | AQ58: P | AR58: Pb | AS58: Pd | AT58: Pr | AU58: Pt | AV58: Rb | AW58: Re | AX58: Rh | AY58: Ru | AZ58: S | BA58: Sb | BB58: Sc | BC58: Se | BD58: Si | BE58: Sm | BF58: Sn | BG58: Sr | BH58: Ta | BI58: Tb | BJ58: Te | BK58: Th | BL58: Ti | BM58: Tl | BN58: Tm | BO58: U | BP58: V | BQ58: W | BR58: Y | BS58: Yb | BT58: Zn | BU58: Zr
C59: µg/L | D59: µg/L | E59: µg/L | F59: µg/L | G59: µg/L | H59: µg/L | I59: µg/L | J59: µg/L | K59: µg/L | L59: µg/L | M59: µg/L | N59: µg/L | O59: µg/L | P59: µg/L | Q59: µg/L | R59: µg/L | S59: µg/L | T59: µg/L | U59: µg/L | V59: µg/L | W59: µg/L | X59: µg/L | Y59: µg/L | Z59: µg/L | AA59: µg/L | AB59: µg/L | AC59: µg/L | AD59: µg/L | AE59: µg/L | AF59: µg/L | AG59: µg/L | AH59: µg/L | AI59: µg/L | AJ59: µg/L | AK59: µg/L | AL59: µg/L | AM59: µg/L | AN59: µg/L | AO59: µg/L | AP59: µg/L | AQ59: µg/L | AR59: µg/L | AS59: µg/L | AT59: µg/L | AU59: µg/L | AV59: µg/L | AW59: µg/L | AX59: µg/L | AY59: µg/L | AZ59: µg/L | BA59: µg/L | BB59: µg/L | BC59: µg/L | BD59: µg/L | BE59: µg/L | BF59: µg/L | BG59: µg/L | BH59: µg/L | BI59: µg/L | BJ59: µg/L | BK59: µg/L | BL59: µg/L | BM59: µg/L | BN59: µg/L | BO59: µg/L | BP59: µg/L | BQ59: µg/L | BR59: µg/L | BS59: µg/L | BT59: µg/L | BU59: µg/L
A60: Leaching cycle | C60: 0.01 | D60: 1 | E60: 0.025 | F60: 0.005 | G60: 5 | H60: 0.025 | I60: 0.01 | J60: 0.005 | K60: 10 | L60: 1 | M60: 0.01 | N60: 0.005 | O60: 0.025 | P60: 0.025 | Q60: 0.005 | R60: 0.025 | S60: 0.005 | T60: 0.005 | U60: 0.005 | V60: 0.25 | W60: 0.01 | X60: 0.005 | Y60: 0.05 | Z60: 0.005 | AA60: 0.01 | AB60: 0.005 | AC60: 2.5 | AD60: 0.005 | AE60: 1 | AF60: 0.005 | AG60: 0.1 | AH60: 0.005 | AI60: 0.5 | AJ60: 0.01 | AK60: 0.005 | AL60: 10 | AM60: 0.005 | AN60: 0.005 | AO60: 0.1 | AP60: 0.005 | AQ60: 1 | AR60: 0.01 | AS60: 0.005 | AT60: 0.005 | AU60: 0.005 | AV60: 0.025 | AW60: 0.0005 | AX60: 0.02 | AY60: 0.005 | AZ60: 25 | BA60: 0.01 | BB60: 0.01 | BC60: 0.1 | BD60: 50 | BE60: 0.005 | BF60: 0.05 | BG60: 0.025 | BH60: 0.005 | BI60: 0.005 | BJ60: 0.01 | BK60: 0.005 | BL60: 0.05 | BM60: 0.005 | BN60: 0.005 | BO60: 0.005 | BP60: 0.01 | BQ60: 0.01 | BR60: 0.005 | BS60: 0.005 | BT60: 0.1 | BU60: 0.005
A61: 0 | B61: 250 | C61: 0.0059 | D61: 1 | E61: 0.31 | F61: 0.35 | G61: 13 | H61: 1.5 | I61: 0.0083 | J61: 0.00064 | K61: <5 | L61: 3600 | M61: 0.013 | N61: 0.0036 | O61: 0.45 | P61: <0.05 | Q61: 0.14 | R61: 0.047 | S61: 0.00096 | T61: 0.00052 | U61: 0.00015 | V61: 0.02 | W61: 0.0072 | X61: 0.0013 | Y61: <0.1 | Z61: 0 | AA61: 0.0051 | AB61: 4.8e-05 | AC61: 0.23 | AD61: 4.7e-06 | AE61: 1900 | AF61: 0.002 | AG61: 0.33 | AH61: 0.00019 | AI61: 1600 | AJ61: 29 | AK61: 0.17 | AL61: 910 | AM61: 0.00017 | AN61: 0.0019 | AO61: 0.1 | AP61: 0.00011 | AQ61: 0.98 | AR61: 0.0052 | AS61: 0.0014 | AT61: 0.00058 | AU61: 0.0016 | AV61: 2.2 | AW61: 0.00072 | AX61: 0.00012 | AY61: 0.00025 | AZ61: 5900 | BA61: 1.2 | BB61: 0.00086 | BC61: 0 | BD61: 4000 | BE61: 0.00025 | BF61: 0.086 | BG61: 16 | BH61: 0 | BI61: 0 | BJ61: 0.42 | BK61: 0.00011 | BL61: 0 | BM61: 0.12 | BN61: 0.00095 | BO61: 0.013 | BP61: 0.15 | BQ61: <0.1 | BR61: 0.0042 | BS61: 0.00026 | BT61: 1.9 | BU61: 0.0029
A62: 1 | B62: 250 | C62: 0.0021 | D62: 13 | E62: 0.26 | F62: 0.0024 | G62: 3.1 | H62: 0.81 | I62: 0.015 | J62: 0.0012 | K62: 2.1 | L62: 1400 | M62: 0.0058 | N62: 0.018 | O62: 0.37 | P62: 0 | Q62: 0.048 | R62: 0.52 | S62: 0.0028 | T62: 0.0016 | U62: 0.00025 | V62: 1.3 | W62: 0 | X62: 0.0027 | Y62: 0 | Z62: 0.0005 | AA62: 0.0089 | AB62: 0.00052 | AC62: 1.3 | AD62: 0 | AE62: 700 | AF62: 0.01 | AG62: 0.34 | AH62: 5.8e-05 | AI62: 600 | AJ62: 15 | AK62: 0.017 | AL62: 240 | AM62: 0 | AN62: 0.0096 | AO62: 0.31 | AP62: 0.0005 | AQ62: 1.6 | AR62: 0.029 | AS62: 0 | AT62: 0.0022 | AU62: 0.0019 | AV62: 0.95 | AW62: 4.4e-05 | AX62: 0.014 | AY62: 0.0027 | AZ62: 3000 | BA62: 0.29 | BB62: 0.0039 | BC62: 0.062 | BD62: 2400 | BE62: 0.0015 | BF62: 0.014 | BG62: 6.3 | BH62: 0.00175 | BI62: 0.0017 | BJ62: 0.67 | BK62: 0.001 | BL62: 0.1 | BM62: 0.053 | BN62: 4.1e-05 | BO62: 0.026 | BP62: 0.06 | BQ62: 0.0056 | BR62: 0.012 | BS62: 0.0012 | BT62: 0.61 | BU62: 0.0039
A63: 2 | B63: 250 | C63: 0.0085 | D63: 4.8 | E63: 0.21 | F63: 0.00196 | G63: 3.3 | H63: 1.2 | I63: 0.023 | J63: 0.00043 | K63: 0 | L63: 1500 | M63: 0.022 | N63: 0.012 | O63: 0.68 | P63: 0 | Q63: 0.044 | R63: 0.18 | S63: 0.0015 | T63: 0.00063 | U63: 0.0018 | V63: 6.2 | W63: 0 | X63: 0.0011 | Y63: 0 | Z63: 0.00026 | AA63: 0.011 | AB63: 0.00027 | AC63: 3 | AD63: 0 | AE63: 650 | AF63: 0.0075 | AG63: 0.31 | AH63: 0.0014 | AI63: 600 | AJ63: 20 | AK63: 0.019 | AL63: 120 | AM63: 0 | AN63: 0.0073 | AO63: 0.21 | AP63: 0.00022 | AQ63: 0.7 | AR63: 0.049 | AS63: 0.0053 | AT63: 0.0011 | AU63: 0.01 | AV63: 0.95 | AW63: 5.2e-05 | AX63: 0.0049 | AY63: 0.0012 | AZ63: 2000 | BA63: 0.32 | BB63: 0.00016 | BC63: 0.32 | BD63: 3100 | BE63: 0.001 | BF63: 0.044 | BG63: 7.4 | BH63: 5.2e-05 | BI63: 0.00075 | BJ63: 1.5 | BK63: 3.2e-05 | BL63: 0.095 | BM63: 0.052 | BN63: 4.8e-05 | BO63: 0.051 | BP63: 0.074 | BQ63: 0 | BR63: 0.0091 | BS63: 0.00099 | BT63: 3.8 | BU63: 0.0046
A64: 3 | B64: 250 | C64: 0.00074 | D64: 5 | E64: 0.14 | F64: 0.0018 | G64: 0.57 | H64: 1.4 | I64: 0.018 | J64: 0.0016 | K64: <5 | L64: 2400 | M64: 0.012 | N64: 0.025 | O64: 0.93 | P64: 0.1 | Q64: 0.056 | R64: 0.57 | S64: 0.0029 | T64: 0.0017 | U64: 0.0005 | V64: 9.3 | W64: 0 | X64: 0.0023 | Y64: <0.1 | Z64: 0.00015 | AA64: 0.0023 | AB64: 0.0004 | AC64: 0.25 | AD64: 0.00038 | AE64: 790 | AF64: 0.015 | AG64: 0.28 | AH64: 0.00046 | AI64: 1000 | AJ64: 32 | AK64: 0.04 | AL64: 110 | AM64: 6.1e-05 | AN64: 0.014 | AO64: 0.25 | AP64: 0.00039 | AQ64: 1 | AR64: 0.041 | AS64: 0.00096 | AT64: 0.0034 | AU64: 0 | AV64: 1.1 | AW64: 0.00017 | AX64: 0.0007 | AY64: 0 | AZ64: 2400 | BA64: 0.32 | BB64: 0.003 | BC64: 0.032 | BD64: 3900 | BE64: 0.0029 | BF64: 0.038 | BG64: 11 | BH64: 0.00017 | BI64: 0.00019 | BJ64: 1.7 | BK64: 0.00033 | BL64: 0 | BM64: 0.077 | BN64: 0.001 | BO64: 0.097 | BP64: 0.038 | BQ64: <0.1 | BR64: 0.02 | BS64: 0.001 | BT64: 2.3 | BU64: 0.0062
A65: 4 | B65: 250 | C65: 0 | D65: 5.1 | E65: 0.32 | F65: 0.0015 | G65: 3.1 | H65: 1.9 | I65: 0.032 | J65: 0.0014 | K65: 0 | L65: 1900 | M65: 0.02 | N65: 0.04 | O65: 1 | P65: 0 | Q65: 0.067 | R65: 0.51 | S65: 0.0062 | T65: 0.002 | U65: 0.011 | V65: 13 | W65: 0 | X65: 0.013 | Y65: 0.024 | Z65: 0.00083 | AA65: 0.0085 | AB65: 0.003 | AC65: 1.6 | AD65: 0 | AE65: 590 | AF65: 0.038 | AG65: 0.32 | AH65: 0.00057 | AI65: 770 | AJ65: 29 | AK65: 0.023 | AL65: 83 | AM65: 0 | AN65: 0.029 | AO65: 0.28 | AP65: 0 | AQ65: 0.84 | AR65: 0.038 | AS65: 0.0045 | AT65: 0.021 | AU65: 0.011 | AV65: 1 | AW65: 0.00064 | AX65: 0.0037 | AY65: 0 | AZ65: 1600 | BA65: 0.27 | BB65: 0.0031 | BC65: 0.14 | BD65: 3500 | BE65: 0.011 | BF65: 0.49 | BG65: 9.4 | BH65: 0.000112 | BI65: 0.0041 | BJ65: 2.2 | BK65: 0 | BL65: 0 | BM65: 0.06 | BN65: 0.0023 | BO65: 0.077 | BP65: 0.038 | BQ65: 0.0032 | BR65: 0.015 | BS65: 0.0021 | BT65: 6.7 | BU65: 0.0072
A66: 5 | B66: 250 | C66: 0.0022 | D66: 2.5 | E66: 0.053 | F66: 0.0032 | G66: 0 | H66: 1 | I66: 0.015 | J66: 0.0011 | K66: <5 | L66: 1500 | M66: 0.0094 | N66: 0.015 | O66: 0.73 | P66: <0.05 | Q66: 0.04 | R66: 1.1 | S66: 0.00092 | T66: 0.00069 | U66: 0.00097 | V66: 2.9 | W66: 0 | X66: 0.0027 | Y66: <0.1 | Z66: 0 | AA66: 0.0019 | AB66: 0.00021 | AC66: 0.26 | AD66: 0 | AE66: 510 | AF66: 0.008 | AG66: 0.25 | AH66: 0.00038 | AI66: 660 | AJ66: 22 | AK66: 0.019 | AL66: 20 | AM66: 0.0004 | AN66: 0.0062 | AO66: 0.13 | AP66: 0.00025 | AQ66: 0.36 | AR66: 0.048 | AS66: 0.00019 | AT66: 0.002 | AU66: 0 | AV66: 0.81 | AW66: 0.00013 | AX66: 0.0005 | AY66: 0 | AZ66: 2100 | BA66: 0.16 | BB66: 0.002 | BC66: 0.074 | BD66: 2100 | BE66: 0.001 | BF66: 0.012 | BG66: 7 | BH66: 0 | BI66: 1.1e-05 | BJ66: 1.4 | BK66: 0.00052 | BL66: 0 | BM66: 0.06 | BN66: 0 | BO66: 0.042 | BP66: 0.033 | BQ66: <0.1 | BR66: 0.01 | BS66: 0.00025 | BT66: 0.96 | BU66: 0.0053
A67: 6 | B67: 250 | C67: 7.8e-05 | D67: 3.3 | E67: 0.11 | F67: 0.003 | G67: 6.7 | H67: 1.1 | I67: 0.028 | J67: 0.00081 | K67: 0.14 | L67: 1600 | M67: 0.029 | N67: 0.0086 | O67: 0.93 | P67: 0 | Q67: 0.047 | R67: 0.21 | S67: 0.0018 | T67: 0.0025 | U67: 0.0054 | V67: 6.2 | W67: 0 | X67: 0.0018 | Y67: 0 | Z67: 0 | AA67: 0 | AB67: 0.00023 | AC67: 2.2 | AD67: 0 | AE67: 480 | AF67: 0.0041 | AG67: 0.38 | AH67: 0.0034 | AI67: 600 | AJ67: 25 | AK67: 0.031 | AL67: 72 | AM67: 0 | AN67: 0.0043 | AO67: 0.28 | AP67: 0.00058 | AQ67: 1.6 | AR67: 0.018 | AS67: 0.003 | AT67: 0.0011 | AU67: 0.0091 | AV67: 0.85 | AW67: 1.5e-07 | AX67: 0.0037 | AY67: 0 | AZ67: 2800 | BA67: 0.19 | BB67: 0.0031 | BC67: 0.0015 | BD67: 2300 | BE67: 0.00042 | BF67: 0.019 | BG67: 8.1 | BH67: 0.00044 | BI67: 0.0018 | BJ67: 1.9 | BK67: 0 | BL67: 0.11 | BM67: 0.052 | BN67: 0.00023 | BO67: 0.045 | BP67: 0.034 | BQ67: 0.0072 | BR67: 0.0099 | BS67: 0 | BT67: 1.5 | BU67: 0.0044
A68: 7 | B68: 215 | C68: 0.0052 | D68: 5.6 | E68: 0.073 | F68: 0.001 | G68: 1.9 | H68: 1.4 | I68: 0.035 | J68: 0.0011 | K68: 0.15 | L68: 2500 | M68: 0.022 | N68: 0.039 | O68: 1.4 | P68: 0 | Q68: 0.057 | R68: 0.27 | S68: 0.0037 | T68: 0.0022 | U68: 0.00055 | V68: 4.2 | W68: 0 | X68: 0.0067 | Y68: 0 | Z68: 0 | AA68: 0.0022 | AB68: 0.00091 | AC68: 1.1 | AD68: 0 | AE68: 620 | AF68: 0.031 | AG68: 0.4 | AH68: 0.00028 | AI68: 1000 | AJ68: 42 | AK68: 0.016 | AL68: 58 | AM68: 0 | AN68: 0.017 | AO68: 0.26 | AP68: 0.002 | AQ68: 1.1 | AR68: 0.029 | AS68: 0.0047 | AT68: 0.0036 | AU68: 0.0049 | AV68: 1.1 | AW68: 0 | AX68: 0.0021 | AY68: 8.9e-05 | AZ68: 4500 | BA68: 0.24 | BB68: 0 | BC68: 0.3 | BD68: 3100 | BE68: 0.00064 | BF68: 0.045 | BG68: 12 | BH68: 0.00044 | BI68: 0.0018 | BJ68: 2 | BK68: 0.0012 | BL68: 0.034 | BM68: 0.068 | BN68: 0.00032 | BO68: 0.06 | BP68: 0.023 | BQ68: 0.00059 | BR68: 0.029 | BS68: 0 | BT68: 6.7 | BU68: 0.0091
A69: 8 | B69: 215 | C69: 0.0024 | D69: 3.5 | E69: 0.14 | F69: 0.0021 | G69: 17 | H69: 1.4 | I69: 0.091 | J69: 0.002 | K69: 0 | L69: 2400 | M69: 0.024 | N69: 0.035 | O69: 1.4 | P69: 0.022 | Q69: 0.24 | R69: 0.21 | S69: 0.0034 | T69: 0.002 | U69: 0.0014 | V69: 5.8 | W69: 0 | X69: 0.0037 | Y69: 0 | Z69: 0 | AA69: 0.012 | AB69: 0.0002 | AC69: 4.9 | AD69: 6.7e-06 | AE69: 820 | AF69: 0.022 | AG69: 0.77 | AH69: 7.8e-05 | AI69: 990 | AJ69: 41 | AK69: 0.012 | AL69: 53 | AM69: 0.00061 | AN69: 0.015 | AO69: 0.31 | AP69: 0.00036 | AQ69: 2.9 | AR69: 0.012 | AS69: 0.00059 | AT69: 0.0047 | AU69: 0.00071 | AV69: 2.5 | AW69: 0 | AX69: 0.00078 | AY69: 0.00096 | AZ69: 5100 | BA69: 0.19 | BB69: 0.017 | BC69: 0.21 | BD69: 2300 | BE69: 0.0044 | BF69: 0.04 | BG69: 11 | BH69: 0.00012 | BI69: 0.00059 | BJ69: 1.1 | BK69: 0.0011 | BL69: 0 | BM69: 0.11 | BN69: 0.00035 | BO69: 0.04 | BP69: 0.045 | BQ69: 0.0028 | BR69: 0.024 | BS69: 0.00047 | BT69: 5 | BU69: 0.0055
A70: 9 | B70: 215 | C70: 6.2e-05 | D70: 11 | E70: 0.01 | F70: 0 | G70: 22 | H70: 2.8 | I70: 0.14 | J70: 0.0015 | K70: 0 | L70: 4000 | M70: 0.032 | N70: 0.13 | O70: 3.1 | P70: 0.0041 | Q70: 0.33 | R70: 0.53 | S70: 0.0082 | T70: 0.0052 | U70: 0.0029 | V70: 13 | W70: 0 | X70: 0.0092 | Y70: 0 | Z70: 0.00014 | AA70: 0.0039 | AB70: 0.0012 | AC70: 2.2 | AD70: 0 | AE70: 880 | AF70: 0.08 | AG70: 1 | AH70: 0.00017 | AI70: 1700 | AJ70: 74 | AK70: 0.0069 | AL70: 64 | AM70: 0 | AN70: 0.054 | AO70: 0.57 | AP70: 0.00078 | AQ70: 4.9 | AR70: 0.051 | AS70: 0.0021 | AT70: 0.013 | AU70: 0 | AV70: 3.3 | AW70: 7.1e-05 | AX70: 0 | AY70: 8.7e-05 | AZ70: 8300 | BA70: 0.13 | BB70: 0.018 | BC70: 0.13 | BD70: 2900 | BE70: 0.0096 | BF70: 0.019 | BG70: 19 | BH70: 6.3333333e-05 | BI70: 0.0017 | BJ70: 1.5 | BK70: 0.00097 | BL70: 0 | BM70: 0.16 | BN70: 0.00072 | BO70: 0.12 | BP70: 0.039 | BQ70: 0.0014 | BR70: 0.09 | BS70: 0.0024 | BT70: 8.1 | BU70: 0.0048
A71: 10 | B71: 215 | C71: 0.00022 | D71: 21 | E71: 0.025 | F71: 0 | G71: 40 | H71: 31 | I71: 0.21 | J71: 0.00061 | K71: 0 | L71: 6400 | M71: 0.051 | N71: 0.25 | O71: 5 | P71: 0.026 | Q71: 0.16 | R71: 2.5 | S71: 0.018 | T71: 0.01 | U71: 0.0035 | V71: 17 | W71: 0 | X71: 0.019 | Y71: 0 | Z71: 0.00057 | AA71: 0.0088 | AB71: 0.0042 | AC71: 0 | AD71: 4.7e-05 | AE71: 780 | AF71: 0.15 | AG71: 1.1 | AH71: 0.00049 | AI71: 2500 | AJ71: 120 | AK71: 0.0045 | AL71: 83 | AM71: 0.0004 | AN71: 0.11 | AO71: 0.9 | AP71: 0.00014 | AQ71: 1.8 | AR71: 0.05 | AS71: 0.0048 | AT71: 0.024 | AU71: 0 | AV71: 2.6 | AW71: 0.00013 | AX71: 0 | AY71: 0.00066 | AZ71: 12000 | BA71: 0.077 | BB71: 0.025 | BC71: 0.19 | BD71: 3400 | BE71: 0.025 | BF71: 0 | BG71: 27 | BH71: 9.3333333e-05 | BI71: 0.0033 | BJ71: 1.5 | BK71: 0.00061 | BL71: 0 | BM71: 0.1 | BN71: 0.002 | BO71: 0.084 | BP71: 0.028 | BQ71: 0 | BR71: 0.17 | BS71: 0.0049 | BT71: 30 | BU71: 0.035
A72: 11 | B72: 105 | C72: 1 | D72: 900 | E72: 17 | F72: 1.1 | G72: 25 | H72: 150 | I72: 0.12 | J72: 0.8 | K72: 0.4 | L72: 19000 | M72: 0.24 | N72: 1.5 | O72: 2.2 | P72: 1.4 | Q72: 0.29 | R72: 40 | S72: 0.15 | T72: 0.095 | U72: 0.01 | V72: 290 | W72: 0.46 | X72: 0.13 | Y72: 0.32 | Z72: 0.11 | AA72: 0.14 | AB72: 0.033 | AC72: 5.5 | AD72: 0 | AE72: 2000 | AF72: 0.92 | AG72: 0.84 | AH72: 0.013 | AI72: 550 | AJ72: 11 | AK72: 4 | AL72: 4400000 | AM72: 0.17 | AN72: 1.1 | AO72: 1.3 | AP72: 0.0069 | AQ72: 490 | AR72: 2.8 | AS72: 0.04 | AT72: 0.22 | AU72: 0.034 | AV72: 2.9 | AW72: 0.00082 | AX72: 0.0019 | AY72: 0.0051 | AZ72: 75000 | BA72: 3.4 | BB72: 0.31 | BC72: 2.5 | BD72: 2400000 | BE72: 0.27 | BF72: 0.13 | BG72: 100 | BH72: 0.00048 | BI72: 0.022 | BJ72: 290 | BK72: 0.11 | BL72: 42 | BM72: 0.021 | BN72: 0.015 | BO72: 2.2 | BP72: 30 | BQ72: 20 | BR72: 1.2 | BS72: 0.081 | BT72: 25 | BU72: 2.7
A73: 12 | B73: 115 | C73: 0.525 | D73: 1300 | E73: 7.5 | F73: 0.665 | G73: 23.5 | H73: 115 | I73: 0.18 | J73: 1 | K73: 1.7 | L73: 15000 | M73: 0.725 | N73: 4 | O73: 1.5 | P73: 5.1 | Q73: 0.42 | R73: 16.5 | S73: 0.275 | T73: 0.195 | U73: 0.037 | V73: 790 | W73: 0.42 | X73: 0.225 | Y73: 0.675 | Z73: 0.485 | AA73: 0.0785 | AB73: 0.0625 | AC73: 7.4 | AD73: 0.00045 | AE73: 2100 | AF73: 2.25 | AG73: 3.65 | AH73: 0.0285 | AI73: 310 | AJ73: 12.5 | AK73: 3.85 | AL73: 4950000 | AM73: 0.585 | AN73: 2.15 | AO73: 3.35 | AP73: 0.0275 | AQ73: 210 | AR73: 3.1 | AS73: 0.045 | AT73: 0.505 | AU73: 0.006 | AV73: 3.4 | AW73: 0.00135 | AX73: 0.00184 | AY73: 0.00295 | AZ73: 26500 | BA73: 2.1 | BB73: 0.355 | BC73: 0.9 | BD73: 3450000 | BE73: 0.585 | BF73: 0.135 | BG73: 98.5 | BH73: 0.0012 | BI73: 0.041 | BJ73: 200 | BK73: 0.465 | BL73: 215 | BM73: 0.0135 | BN73: 0.0285 | BO73: 2.3 | BP73: 13 | BQ73: 5.05 | BR73: 2 | BS73: 0.18 | BT73: 12 | BU73: 13
A74: 13 | B74: 125.5 | C74: 0.0084 | D74: 1200 | E74: 5.4 | F74: 0.0039 | G74: 16 | H74: 42 | I74: 0.19 | J74: 1 | K74: 3.7 | L74: 9400 | M74: 1.7 | N74: 4.7 | O74: 1.1 | P74: 6.5 | Q74: 0.57 | R74: 7.3 | S74: 0.31 | T74: 0.22 | U74: 0.052 | V74: 800 | W74: 0.44 | X74: 0.21 | Y74: 0 | Z74: 0.61 | AA74: 0.0034 | AB74: 0.064 | AC74: 11 | AD74: 0 | AE74: 1900 | AF74: 2.8 | AG74: 5.9 | AH74: 0.033 | AI74: 160 | AJ74: 8.6 | AK74: 3.9 | AL74: 4000000 | AM74: 0.85 | AN74: 3.8 | AO74: 2.9 | AP74: 0.0068 | AQ74: 100 | AR74: 3.2 | AS74: 0.03 | AT74: 0.82 | AU74: 0.003 | AV74: 3.1 | AW74: 0.0012 | AX74: 0 | AY74: 0 | AZ74: 11000 | BA74: 1.9 | BB74: 0.33 | BC74: 0.62 | BD74: 3300000 | BE74: 1.5 | BF74: 0.15 | BG74: 76 | BH74: 0.0024 | BI74: 0.042 | BJ74: 180 | BK74: 0.49 | BL74: 220 | BM74: 0 | BN74: 0.032 | BO74: 2.4 | BP74: 6 | BQ74: 1.8 | BR74: 2.3 | BS74: 0.21 | BT74: 12 | BU74: 16
A75: 14 | B75: 147.5 | C75: 0.059 | D75: 130 | E75: 1.8 | F75: 0.088 | G75: 9.4 | H75: 3.6 | I75: 0.033 | J75: 0.25 | K75: 1 | L75: 1500 | M75: 0.0039 | N75: 2.3 | O75: 0.62 | P75: 1.1 | Q75: 0.048 | R75: 1.1 | S75: 0.21 | T75: 0.12 | U75: 0.049 | V75: 250 | W75: 0.035 | X75: 0.26 | Y75: 1 | Z75: 0.14 | AA75: 0.011 | AB75: 0.041 | AC75: 1.7 | AD75: -0.00056 | AE75: 310 | AF75: 1.3 | AG75: 2 | AH75: 0.0076 | AI75: 230 | AJ75: 6.7 | AK75: 0.87 | AL75: 440000 | AM75: 0.33 | AN75: 1.6 | AO75: 0.43 | AP75: 0.00019 | AQ75: 54 | AR75: 0.49 | AS75: 0.013 | AT75: 0.32 | AU75: 0.0032 | AV75: 0.52 | AW75: 0.00071 | AX75: -0.008 | AY75: -0.00044 | AZ75: 2400 | BA75: 0.5 | BB75: 0.19 | BC75: 0.14 | BD75: 220000 | BE75: 0.26 | BF75: 0.035 | BG75: 6.4 | BH75: 0.017 | BI75: 0.033 | BJ75: 33 | BK75: 0.12 | BL75: 48 | BM75: 0.0035 | BN75: 0.013 | BO75: 0.91 | BP75: 2.6 | BQ75: 0.56 | BR75: 1.4 | BS75: 0.076 | BT75: 3.3 | BU75: 3.9
A76: 15 | B76: 154.4 | C76: 0.23036095 | D76: 98.267729 | E76: 3.8152952 | F76: 0.14182056 | G76: 6.2843796 | H76: 2.0403724 | I76: 0.079095316 | J76: 0.28649605 | K76: 0.9 | L76: 437.12391 | M76: 0.071633133 | N76: 4.4781584 | O76: 1.0394567 | P76: 0.78495378 | Q76: 0.022369022 | R76: 1.791424 | S76: 0.4176165 | T76: 0.23495366 | U76: 0.11890565 | V76: 358.74221 | W76: 0.31684341 | X76: 0.53565486 | Y76: 1.4033212 | Z76: 0.18619798 | AA76: 0.062659113 | AB76: 0.088953054 | AC76: 0.98247826 | AD76: -0.000194 | AE76: 145.32202 | AF76: 2.5452308 | AG76: 0.81129869 | AH76: 0.016351335 | AI76: 348.16909 | AJ76: 12.077517 | AK76: 2.4241639 | AL76: 176914.3 | AM76: 0.33811028 | AN76: 3.0145389 | AO76: 0.73379105 | AP76: -0.00064 | AQ76: 67.237861 | AR76: 0.60512846 | AS76: -0.0116 | AT76: 0.67292017 | AU76: 0.0022568281 | AV76: 0.22887182 | AW76: 0.00068470978 | AX76: -0.0016087194 | AY76: 7.9830503e-05 | AZ76: 7332.4574 | BA76: 1.6211113 | BB76: 0.23501445 | BC76: 0.2545119 | BD76: 137694.41 | BE76: 0.46105858 | BF76: 0.070735209 | BG76: 2.2854279 | BH76: 0.026397811 | BI76: 0.06666564 | BJ76: 56.187812 | BK76: 0.21603896 | BL76: 43.68618 | BM76: 0.0037 | BN76: 0.023700606 | BO76: 1.1275148 | BP76: 3.1353 | BQ76: 0.92844765 | BR76: 2.5554284 | BS76: 0.11355768 | BT76: 14.801783 | BU76: 4.8203205
A77: 16 | B77: 157.5 | C77: 0.24333471 | D77: 65.139515 | E77: 2.1610692 | F77: 0.080325679 | G77: 5.5953883 | H77: 0.89250533 | I77: 0.028424634 | J77: 0.14534956 | K77: 0.42106345 | L77: 213.81392 | M77: 0.015117042 | N77: 2.78362 | O77: 0.63951841 | P77: 0.55387428 | Q77: 0.0061063725 | R77: 1.0763306 | S77: 0.2505085 | T77: 0.13108268 | U77: 0.077170372 | V77: 235.21269 | W77: 0.040400922 | X77: 0.32217262 | Y77: 0.80161195 | Z77: 0.11612728 | AA77: 0.042265322 | AB77: 0.051228596 | AC77: 0.34882729 | AD77: 0.00020709643 | AE77: 50.215427 | AF77: 1.3961102 | AG77: 1.9307323 | AH77: 0.0090120616 | AI77: 172.16452 | AJ77: 8.4046297 | AK77: 1.3675431 | AL77: 49582.664 | AM77: 0.21095801 | AN77: 1.8007274 | AO77: 0.42655467 | AP77: 3.12e-05 | AQ77: 11.243592 | AR77: 0.28272497 | AS77: 0.0152 | AT77: 0.37933319 | AU77: 0.00169 | AV77: 0.076428343 | AW77: 2.43e-05 | AX77: 0.0061041447 | AY77: 0.00060729208 | AZ77: 2283.769 | BA77: 1.275024 | BB77: 0.20007602 | BC77: 0.25226769 | BD77: 49862.77 | BE77: 0.31505847 | BF77: 0.024795751 | BG77: 0.53413131 | BH77: 0.0091860216 | BI77: 0.041070488 | BJ77: 16.032168 | BK77: 0.13271896 | BL77: 29.392122 | BM77: 0.0020910084 | BN77: 0.012748956 | BO77: 0.78701055 | BP77: 2.2758694 | BQ77: 0.68986763 | BR77: 1.5346476 | BS77: 0.060371386 | BT77: 7.5544392 | BU77: 3.8556188
A78: 17 | B78: 150 | C78: 0.27 | D78: 45 | E78: 0.93 | F78: 0.051 | G78: 5.8 | H78: 0.18 | I78: 0 | J78: 0.11 | K78: 0.216 | L78: 110 | M78: 0.00088 | N78: 1.1 | O78: 0.26 | P78: 0.33 | Q78: 0.0046 | R78: 0.73 | S78: 0.091 | T78: 0.043 | U78: 0.027 | V78: 120 | W78: 0.028 | X78: 0.11 | Y78: 0.085 | Z78: 0.044 | AA78: 0.014 | AB78: 0.015 | AC78: 0.54 | AD78: 0 | AE78: 38 | AF78: 0.54 | AG78: 0.58 | AH78: 0.0028 | AI78: 37 | AJ78: 1.8 | AK78: 1.3 | AL78: 25000 | AM78: 0.072 | AN78: 0.71 | AO78: 0.26 | AP78: 0.00064 | AQ78: 2.9 | AR78: 0.21 | AS78: 0.011 | AT78: 0.14 | AU78: 0.00029 | AV78: 0.065 | AW78: 2e-05 | AX78: 0 | AY78: 0 | AZ78: 3300 | BA78: 1 | BB78: 0.084 | BC78: 0 | BD78: 22000 | BE78: 0.11 | BF78: 0.063 | BG78: 0.2 | BH78: 0.0045 | BI78: 0.016 | BJ78: 4 | BK78: 0.077 | BL78: 17 | BM78: 0 | BN78: 0.0046 | BO78: 0.3 | BP78: 1.7 | BQ78: 0.73 | BR78: 0.53 | BS78: 0.02 | BT78: 1.7 | BU78: 1.6
... A84: 23 | B84: 200 | C84: 0.0038821799 | D84: 1.2226268 | E84: 0.16530776 | F84: 0.0056867041 | G84: 12.697709 | H84: 0.081059254 | I84: 0.022671088 | J84: 0.0063996486 | K84: 1.122235 | L84: 76.085191 | M84: 0.013591304 | N84: 0.060151276 | O84: 0.071423682 | P84: 0.10698376 | Q84: 0.0063932142 | R84: 0.18036849 | S84: 0.0049191334 | T84: 0.0031819309 | U84: 0.0055499225 | V84: 2.5766858 | W84: 0.0093547543 | X84: 0.0064793855 | Y84: 0.085757411 | Z84: 0.0034366735 | AA84: 0.0022444495 | AB84: 0.0010010255 | AC84: 0.27867886 | AD84: 0.00077051521 | AE84: 24.008241 | AF84: 0.024493013 | AG84: 1.014873 | AH84: 0.0003539234 | AI84: 7.3376318 | AJ84: 0.26601504 | AK84: 1.3732006 | AL84: 20347.208 | AM84: 0.00081904907 | AN84: 0.045361963 | AO84: 0.059270236 | AP84: 0.00074290604 | AQ84: 16.574806 | AR84: 0.01322749 | AS84: 0.0033397401 | AT84: 0.0090225673 | AU84: 0.0020996451 | AV84: 0.069762741 | AW84: 0.00022720099 | AX84: 0.0035002677 | AY84: 0.0046252088 | AZ84: 12893.731 | BA84: 0.44335764 | BB84: 0.0077327276 | BC84: 0.13944894 | BD84: 7149.5755 | BE84: 0.014714398 | BF84: 0.025211609 | BG84: 0.14630898 | BH84: 0.00094346408 | BI84: 0.0011699136 | BJ84: 1.0821962 | BK84: 0.0040373532 | BL84: 0.24418241 | BM84: 0.0024578725 | BN84: 0.00074070128 | BO84: 0.037086763 | BP84: 0.19055386 | BQ84: 0.41186775 | BR84: 0.017414609 | BS84: 0.0013116901 | BT84: 16.002522 | BU84: 0.06190093
A86: Cell D | B86: Filter vol (mL) | C86: Ag | D86: Al | E86: As | F86: Au | G86: B | H86: Ba | I86: Be | J86: Bi | K86: Br | L86: Ca | M86: Cd | N86: Ce | O86: Co | P86: Cr | Q86: Cs | R86: Cu | S86: Dy | T86: Er | U86: Eu | V86: Fe | W86: Ga | X86: Gd | Y86: Ge | Z86: Hf | AA86: Hg | AB86: Ho | AC86: I | AD86: Ir | AE86: K | AF86: La | AG86: Li | AH86: Lu | AI86: Mg | AJ86: Mn | AK86: Mo | AL86: Na | AM86: Nb | AN86: Nd | AO86: Ni | AP86: Os | AQ86: P | AR86: Pb | AS86: Pd | AT86: Pr | AU86: Pt | AV86: Rb | AW86: Re | AX86: Rh | AY86: Ru | AZ86: S | BA86: Sb | BB86: Sc | BC86: Se | BD86: Si | BE86: Sm | BF86: Sn | BG86: Sr | BH86: Ta | BI86: Tb | BJ86: Te | BK86: Th | BL86: Ti | BM86: Tl | BN86: Tm | BO86: U | BP86: V | BQ86: W | BR86: Y | BS86: Yb | BT86: Zn | BU86: Zr
C87: µg/L | D87: µg/L | E87: µg/L | F87: µg/L | G87: µg/L | H87: µg/L | I87: µg/L | J87: µg/L | K87: µg/L | L87: µg/L | M87: µg/L | N87: µg/L | O87: µg/L | P87: µg/L | Q87: µg/L | R87: µg/L | S87: µg/L | T87: µg/L | U87: µg/L | V87: µg/L | W87: µg/L | X87: µg/L | Y87: µg/L | Z87: µg/L | AA87: µg/L | AB87: µg/L | AC87: µg/L | AD87: µg/L | AE87: µg/L | AF87: µg/L | AG87: µg/L | AH87: µg/L | AI87: µg/L | AJ87: µg/L | AK87: µg/L | AL87: µg/L | AM87: µg/L | AN87: µg/L | AO87: µg/L | AP87: µg/L | AQ87: µg/L | AR87: µg/L | AS87: µg/L | AT87: µg/L | AU87: µg/L | AV87: µg/L | AW87: µg/L | AX87: µg/L | AY87: µg/L | AZ87: µg/L | BA87: µg/L | BB87: µg/L | BC87: µg/L | BD87: µg/L | BE87: µg/L | BF87: µg/L | BG87: µg/L | BH87: µg/L | BI87: µg/L | BJ87: µg/L | BK87: µg/L | BL87: µg/L | BM87: µg/L | BN87: µg/L | BO87: µg/L | BP87: µg/L | BQ87: µg/L | BR87: µg/L | BS87: µg/L | BT87: µg/L | BU87: µg/L
A88: Leaching cycle | C88: 0.01 | D88: 1 | E88: 0.025 | F88: 0.005 | G88: 5 | H88: 0.025 | I88: 0.01 | J88: 0.005 | K88: 10 | L88: 1 | M88: 0.01 | N88: 0.005 | O88: 0.025 | P88: 0.025 | Q88: 0.005 | R88: 0.025 | S88: 0.005 | T88: 0.005 | U88: 0.005 | V88: 0.25 | W88: 0.01 | X88: 0.005 | Y88: 0.05 | Z88: 0.005 | AA88: 0.01 | AB88: 0.005 | AC88: 2.5 | AD88: 0.005 | AE88: 1 | AF88: 0.005 | AG88: 0.1 | AH88: 0.005 | AI88: 0.5 | AJ88: 0.01 | AK88: 0.005 | AL88: 10 | AM88: 0.005 | AN88: 0.005 | AO88: 0.1 | AP88: 0.005 | AQ88: 1 | AR88: 0.01 | AS88: 0.005 | AT88: 0.005 | AU88: 0.005 | AV88: 0.025 | AW88: 0.0005 | AX88: 0.02 | AY88: 0.005 | AZ88: 25 | BA88: 0.01 | BB88: 0.01 | BC88: 0.1 | BD88: 50 | BE88: 0.005 | BF88: 0.05 | BG88: 0.025 | BH88: 0.005 | BI88: 0.005 | BJ88: 0.01 | BK88: 0.005 | BL88: 0.05 | BM88: 0.005 | BN88: 0.005 | BO88: 0.005 | BP88: 0.01 | BQ88: 0.01 | BR88: 0.005 | BS88: 0.005 | BT88: 0.1 | BU88: 0.005
A89: 0 | B89: 250 | C89: 0.012 | D89: 2 | E89: 0.39 | F89: 0.2 | G89: 22 | H89: 1.8 | I89: 0.014 | J89: 0.00043 | K89: <5 | L89: 3600 | M89: 0.0053 | N89: 0.0048 | O89: 0.62 | P89: <0.05 | Q89: 0.17 | R89: 0.042 | S89: 0.00095 | T89: 0.00081 | U89: 0.00083 | V89: 0.77 | W89: 0.0029 | X89: 0.0032 | Y89: <0.1 | Z89: 0 | AA89: 0.012 | AB89: 0.00017 | AC89: 0.29 | AD89: 0 | AE89: 2300 | AF89: 0.0019 | AG89: 0.39 | AH89: 0.00015 | AI89: 1600 | AJ89: 28 | AK89: 0.067 | AL89: 990 | AM89: 0.00035 | AN89: 0.0038 | AO89: 0.2 | AP89: 0 | AQ89: 1 | AR89: 0.013 | AS89: 0.00012 | AT89: 0.0007 | AU89: 0.0029 | AV89: 2.5 | AW89: 0.00067 | AX89: 0.00026 | AY89: 0 | AZ89: 7000 | BA89: 0.74 | BB89: 0.0019 | BC89: 0.12 | BD89: 4400 | BE89: 0.00098 | BF89: 0.3 | BG89: 15 | BH89: 7.2e-05 | BI89: 8.7e-05 | BJ89: 0.4 | BK89: 0.00025 | BL89: 0.083 | BM89: 0.11 | BN89: 0.00075 | BO89: 0.012 | BP89: 0.25 | BQ89: <0.1 | BR89: 0.0065 | BS89: 0.00071 | BT89: 2.4 | BU89: 0.0027
A90: 1 | B90: 250 | C90: 0.0023 | D90: 11 | E90: 0.18 | F90: 0.005 | G90: 2.9 | H90: 1.2 | I90: 0.028 | J90: 0.00037 | K90: 2.7 | L90: 1600 | M90: 0.0065 | N90: 0.017 | O90: 0.58 | P90: 0.071 | Q90: 0.058 | R90: 0.33 | S90: 0.0024 | T90: 0.0015 | U90: 0 | V90: 3.1 | W90: 0 | X90: 0.0016 | Y90: 0 | Z90: 0.00044 | AA90: 0.0074 | AB90: 0.00037 | AC90: 1 | AD90: 0.00012 | AE90: 830 | AF90: 0.0097 | AG90: 0.43 | AH90: 0.00053 | AI90: 670 | AJ90: 18 | AK90: 0 | AL90: 250 | AM90: 0 | AN90: 0.0056 | AO90: 0.34 | AP90: 0 | AQ90: 3.5 | AR90: 0.017 | AS90: 0 | AT90: 0.0034 | AU90: 0.0018 | AV90: 1.2 | AW90: 0 | AX90: 0.011 | AY90: 0.00098 | AZ90: 3000 | BA90: 0.21 | BB90: 0.0067 | BC90: 0 | BD90: 2600 | BE90: 0.00046 | BF90: 0.29 | BG90: 6.9 | BH90: 0.002 | BI90: 0.0018 | BJ90: 0.67 | BK90: 0.0011 | BL90: 0 | BM90: 0.053 | BN90: 0.00012 | BO90: 0.024 | BP90: 0.096 | BQ90: 0.0038 | BR90: 0.0081 | BS90: 0.0011 | BT90: 0.74 | BU90: 0.0023
A91: 2 | B91: 250 | C91: 0.0024 | D91: 4 | E91: 0.2 | F91: 0.003 | G91: 2.9 | H91: 1.5 | I91: 0.046 | J91: 0.00017 | K91: 0.093 | L91: 1400 | M91: 0.016 | N91: 0.0033 | O91: 0.83 | P91: 0.0028 | Q91: 0.059 | R91: 0.032 | S91: 0.0013 | T91: 0.00019 | U91: 0.0035 | V91: 3.9 | W91: 0.0023 | X91: 0.0014 | Y91: 0 | Z91: 0 | AA91: 0.0064 | AB91: 0.00012 | AC91: 2.6 | AD91: 0 | AE91: 740 | AF91: 0.0035 | AG91: 0.37 | AH91: 0 | AI91: 570 | AJ91: 19 | AK91: 0.003 | AL91: 110 | AM91: 0.00035 | AN91: 0.0067 | AO91: 0.33 | AP91: 0.002 | AQ91: 0.4 | AR91: 0.037 | AS91: 0.0032 | AT91: 0.00061 | AU91: 0.0073 | AV91: 1.1 | AW91: 0 | AX91: 0.0051 | AY91: 0.00069 | AZ91: 2200 | BA91: 0.27 | BB91: 0 | BC91: 0.13 | BD91: 3300 | BE91: 0 | BF91: 0.97 | BG91: 6.4 | BH91: 0.00084 | BI91: 0.0002 | BJ91: 1.3 | BK91: 0.00034 | BL91: 0.15 | BM91: 0.048 | BN91: 3.9e-05 | BO91: 0.041 | BP91: 0.088 | BQ91: 0.0013 | BR91: 0.0048 | BS91: 0 | BT91: 2.5 | BU91: 0.0049
A92: 3 | B92: 250 | C92: 0.004 | D92: 3.6 | E92: 0.19 | F92: 0.003 | G92: 0 | H92: 1.8 | I92: 0.04 | J92: 0.00055 | K92: <5 | L92: 1900 | M92: 0.013 | N92: 0.012 | O92: 1 | P92: <0.05 | Q92: 0.058 | R92: 0.15 | S92: 0.00061 | T92: 0.00089 | U92: 0.00032 | V92: 4.6 | W92: 0 | X92: 0.0016 | Y92: <0.1 | Z92: 0.00024 | AA92: 0.0019 | AB92: 0.0001 | AC92: 0.22 | AD92: 0.00013 | AE92: 820 | AF92: 0.0057 | AG92: 0.33 | AH92: 0.00019 | AI92: 860 | AJ92: 26 | AK92: 0.0089 | AL92: 80 | AM92: 5.9e-05 | AN92: 0.006 | AO92: 0.24 | AP92: 0 | AQ92: 0.71 | AR92: 0.036 | AS92: 0 | AT92: 0.0012 | AU92: 0.0014 | AV92: 1.2 | AW92: 6.3e-05 | AX92: 0.00068 | AY92: 0 | AZ92: 2000 | BA92: 0.25 | BB92: 0.0012 | BC92: 0.083 | BD92: 4000 | BE92: 0.0019 | BF92: 7.2 | BG92: 8.4 | BH92: 0 | BI92: 4.5e-05 | BJ92: 1.5 | BK92: 0.00059 | BL92: 0.042 | BM92: 0.061 | BN92: 0.0011 | BO92: 0.094 | BP92: 0.074 | BQ92: <0.1 | BR92: 0.0093 | BS92: 0.00046 | BT92: 3 | BU92: 0.011
A93: 4 | B93: 250 | C93: 0.004 | D93: 3.6 | E93: 0.19 | F93: 0.003 | G93: 0 | H93: 1.8 | I93: 0.04 | J93: 0.00055 | K93: <5 | L93: 1900 | M93: 0.013 | N93: 0.012 | O93: 1 | P93: <0.05 | Q93: 0.058 | R93: 0.15 | S93: 0.00061 | T93: 0.00089 | U93: 0.00032 | V93: 4.6 | W93: 0 | X93: 0.0016 | Y93: <0.1 | Z93: 0.00024 | AA93: 0.0019 | AB93: 0.0001 | AC93: 0.22 | AD93: 0.00013 | AE93: 820 | AF93: 0.0057 | AG93: 0.33 | AH93: 0.00019 | AI93: 860 | AJ93: 26 | AK93: 0.0089 | AL93: 80 | AM93: 5.9e-05 | AN93: 0.006 | AO93: 0.24 | AP93: 0 | AQ93: 0.71 | AR93: 0.036 | AS93: 0 | AT93: 0.0012 | AU93: 0.0014 | AV93: 1.2 | AW93: 6.3e-05 | AX93: 0.00068 | AY93: 0 | AZ93: 2000 | BA93: 0.25 | BB93: 0.0012 | BC93: 0.083 | BD93: 4000 | BE93: 0.0019 | BF93: 7.2 | BG93: 8.4 | BH93: 0 | BI93: 4.5e-05 | BJ93: 1.5 | BK93: 0.00059 | BL93: 0.042 | BM93: 0.061 | BN93: 0.0011 | BO93: 0.094 | BP93: 0.074 | BQ93: <0.1 | BR93: 0.0093 | BS93: 0.00046 | BT93: 3 | BU93: 0.011
A94: 5 | B94: 250 | C94: 0.0017 | D94: 2.7 | E94: 0.077 | F94: 0.0024 | G94: 0 | H94: 1.6 | I94: 0.044 | J94: 0.0012 | K94: <5 | L94: 1500 | M94: 0.0082 | N94: 0.011 | O94: 1 | P94: <0.05 | Q94: 0.045 | R94: 0.48 | S94: 0.0017 | T94: 0.00028 | U94: 0.0025 | V94: 5.2 | W94: 0 | X94: 0.00099 | Y94: <0.1 | Z94: 0 | AA94: 0.0067 | AB94: 0.00017 | AC94: 0.25 | AD94: 0.00043 | AE94: 550 | AF94: 0.0063 | AG94: 0.29 | AH94: 0.00028 | AI94: 670 | AJ94: 23 | AK94: 0.0033 | AL94: 20 | AM94: 0.0003 | AN94: 0.0086 | AO94: 0.21 | AP94: 5.7e-05 | AQ94: 0.55 | AR94: 0.042 | AS94: 0 | AT94: 0.0012 | AU94: 0 | AV94: 0.9 | AW94: 0.00011 | AX94: 0.00013 | AY94: 0 | AZ94: 2100 | BA94: 0.14 | BB94: 0.0038 | BC94: 0.041 | BD94: 2300 | BE94: 0.0018 | BF94: 0.47 | BG94: 6.5 | BH94: 5.1e-06 | BI94: 7.8e-05 | BJ94: 1.4 | BK94: 0.00094 | BL94: 0.036 | BM94: 0.049 | BN94: 0.00083 | BO94: 0.056 | BP94: 0.048 | BQ94: <0.1 | BR94: 0.0086 | BS94: 0.00048 | BT94: 2 | BU94: 0.0055
A95: 6 | B95: 250 | C95: 0.0015 | D95: 5.9 | E95: 0.073 | F95: 0.0027 | G95: 2 | H95: 1.8 | I95: 0.061 | J95: 0.00078 | K95: 0 | L95: 1500 | M95: 0.047 | N95: 0.016 | O95: 1.3 | P95: 0.67 | Q95: 0.056 | R95: 0.54 | S95: 0.0021 | T95: 0.0018 | U95: 0.0041 | V95: 26 | W95: 0 | X95: 0.0022 | Y95: 0 | Z95: 0.00043 | AA95: 0.0053 | AB95: 0.00052 | AC95: 2.2 | AD95: 1.5e-05 | AE95: 580 | AF95: 0.013 | AG95: 0.36 | AH95: 0.001 | AI95: 640 | AJ95: 31 | AK95: 0.0042 | AL95: 43 | AM95: 0 | AN95: 0.0088 | AO95: 0.6 | AP95: 0.00031 | AQ95: 1.1 | AR95: 0.046 | AS95: 0.00373 | AT95: 0.0019 | AU95: 0.0032 | AV95: 1 | AW95: 7.3e-05 | AX95: 0.0053 | AY95: 0.0002 | AZ95: 2600 | BA95: 0.14 | BB95: 0.00022 | BC95: 0.18 | BD95: 2400 | BE95: 0.0037 | BF95: 0.29 | BG95: 7.7 | BH95: 0.000228 | BI95: 0.001 | BJ95: 2 | BK95: 0.00066 | BL95: 0.03 | BM95: 0.052 | BN95: 0.00037 | BO95: 0.066 | BP95: 0.047 | BQ95: 0 | BR95: 0.011 | BS95: 0 | BT95: 1.7 | BU95: 0.011
A96: 7 | B96: 250 | C96: 0.004 | D96: 8.35 | E96: 0.135 | F96: 0.00085 | G96: 2.05 | H96: 2.1 | I96: 0.092 | J96: 0.00145 | K96: 0.085 | L96: 1900 | M96: 0.021 | N96: 0.0345 | O96: 1.9 | P96: 0 | Q96: 0.069 | R96: 0.325 | S96: 0.0026 | T96: 0.00115 | U96: 0.00153 | V96: 6 | W96: 0 | X96: 0.00255 | Y96: 0.0105 | Z96: 0.000435 | AA96: 0.00125 | AB96: 0.00025 | AC96: 1.45 | AD96: 0 | AE96: 615 | AF96: 0.0208 | AG96: 0.53 | AH96: 0 | AI96: 855 | AJ96: 33.5 | AK96: 0.001095 | AL96: 48 | AM96: 0 | AN96: 0.014 | AO96: 0.461 | AP96: 0.00019 | AQ96: 2.5 | AR96: 0.0235 | AS96: 0.0049 | AT96: 0.00205 | AU96: 0.00355 | AV96: 1.25 | AW96: 0.000195 | AX96: 0.00305 | AY96: 0.00018 | AZ96: 3250 | BA96: 0.175 | BB96: 0.021 | BC96: 0.087 | BD96: 3000 | BE96: 0.00485 | BF96: 0.6 | BG96: 9.4 | BH96: 0.000212 | BI96: 0.0006 | BJ96: 2.25 | BK96: 0.00195 | BL96: 0.115 | BM96: 0.0565 | BN96: 0.00018 | BO96: 0.0765 | BP96: 0.063 | BQ96: 0 | BR96: 0.0155 | BS96: 0 | BT96: 2.61 | BU96: 0.011
A97: 8 | B97: 250 | C97: 0.005 | D97: 12 | E97: 0.11 | F97: 0.0038 | G97: 14 | H97: 3.2 | I97: 0.34 | J97: 0.001 | K97: 0 | L97: 3000 | M97: 0.019 | N97: 0.055 | O97: 2.7 | P97: 0 | Q97: 0.3 | R97: 0.67 | S97: 0.0043 | T97: 0.0035 | U97: 0.0027 | V97: 7.4 | W97: 0 | X97: 0.0065 | Y97: 0 | Z97: 0.00025 | AA97: 0.0066 | AB97: 0.00069 | AC97: 3.6 | AD97: 0.00039 | AE97: 960 | AF97: 0.032 | AG97: 1.2 | AH97: 3.2e-05 | AI97: 1300 | AJ97: 55 | AK97: 0 | AL97: 61 | AM97: 0 | AN97: 0.029 | AO97: 0.51 | AP97: 0.00023 | AQ97: 5.2 | AR97: 0.032 | AS97: 0 | AT97: 0.0079 | AU97: 0 | AV97: 3.7 | AW97: 9e-05 | AX97: 0 | AY97: 0 | AZ97: 6200 | BA97: 0.13 | BB97: 0.02 | BC97: 0.18 | BD97: 2600 | BE97: 0.0055 | BF97: 4.2 | BG97: 14 | BH97: 5.3333333e-05 | BI97: 0.00064 | BJ97: 1.7 | BK97: 0.0012 | BL97: 0.68 | BM97: 0.12 | BN97: 0.00035 | BO97: 0.066 | BP97: 0.083 | BQ97: 0.00099 | BR97: 0.035 | BS97: 0.00092 | BT97: 4.8 | BU97: 0.0039
A98: 9 | B98: 250 | C98: 0.004 | D98: 34 | E98: 0.02 | F98: 0.00096 | G98: 22 | H98: 5.8 | I98: 0.53 | J98: 0.00093 | K98: 0 | L98: 5100 | M98: 0.034 | N98: 0.21 | O98: 5.1 | P98: 0.0042 | Q98: 0.36 | R98: 1.9 | S98: 0.016 | T98: 0.0064 | U98: 0.0025 | V98: 24 | W98: 0 | X98: 0.016 | Y98: 0 | Z98: 0.00012 | AA98: 0.0067 | AB98: 0.0022 | AC98: 2.4 | AD98: 6.9e-05 | AE98: 1000 | AF98: 0.13 | AG98: 1.5 | AH98: 0.00036 | AI98: 2200 | AJ98: 95 | AK98: 0 | AL98: 68 | AM98: 0 | AN98: 0.091 | AO98: 0.87 | AP98: 0.00015 | AQ98: 4 | AR98: 0.059 | AS98: 0 | AT98: 0.024 | AU98: 0 | AV98: 3.9 | AW98: 2.9e-05 | AX98: 0 | AY98: 0 | AZ98: 9900 | BA98: 0.11 | BB98: 0.011 | BC98: 0.17 | BD98: 3300 | BE98: 0.021 | BF98: 14 | BG98: 21 | BH98: 5.6666667e-05 | BI98: 0.0024 | BJ98: 2.3 | BK98: 0.00054 | BL98: 0.04 | BM98: 0.15 | BN98: 0.00091 | BO98: 0.14 | BP98: 0.056 | BQ98: 0.001 | BR98: 0.13 | BS98: 0.0036 | BT98: 12 | BU98: 0.0071
A99: 10 | B99: 250 | C99: 0.0022 | D99: 64 | E99: 0.049 | F99: 0.0025 | G99: 32 | H99: 22 | I99: 0.6 | J99: 0.002 | K99: 0 | L99: 7100 | M99: 0.067 | N99: 0.64 | O99: 7.9 | P99: 0.017 | Q99: 0.23 | R99: 2.9 | S99: 0.038 | T99: 0.018 | U99: 0.012 | V99: 29 | W99: 0 | X99: 0.049 | Y99: 0 | Z99: 0.00011 | AA99: 0.0044 | AB99: 0.0075 | AC99: 0.47 | AD99: 3.9e-05 | AE99: 890 | AF99: 0.35 | AG99: 1.5 | AH99: 0.0011 | AI99: 3000 | AJ99: 140 | AK99: 0 | AL99: 77 | AM99: 3.8e-05 | AN99: 0.26 | AO99: 1.4 | AP99: 0 | AQ99: 4.8 | AR99: 0.08 | AS99: 0 | AT99: 0.071 | AU99: 0.00066 | AV99: 3.1 | AW99: 0.00019 | AX99: 0 | AY99: 0 | AZ99: 13000 | BA99: 0.074 | BB99: 0.0022 | BC99: 0.27 | BD99: 3700 | BE99: 0.054 | BF99: 10 | BG99: 31 | BH99: 0.00010666667 | BI99: 0.0067 | BJ99: 2.3 | BK99: 0.00069 | BL99: 0 | BM99: 0.12 | BN99: 0.0018 | BO99: 0.2 | BP99: 0.043 | BQ99: 0.0017 | BR99: 0.33 | BS99: 0.0093 | BT99: 37 | BU99: 0.012
A100: 11 | B100: 15 | C100: 0.61 | D100: 730 | E100: 41 | F100: 0.001 | G100: 25 | H100: 45 | I100: 0.81 | J100: 5 | K100: 4.7 | L100: 13000 | M100: 4.1 | N100: 60 | O100: 18 | P100: 4 | Q100: 1.2 | R100: 69 | S100: 3.3 | T100: 1.8 | U100: 0.86 | V100: 1200 | W100: 0.33 | X100: 3.2 | Y100: 0 | Z100: 0.24 | AA100: 0.13 | AB100: 0.67 | AC100: 24 | AD100: 0 | AE100: 3500 | AF100: 20 | AG100: 1.3 | AH100: 0.094 | AI100: 1900 | AJ100: 30 | AK100: 2.6 | AL100: 5300000 | AM100: 0.32 | AN100: 28 | AO100: 4.4 | AP100: 0.018 | AQ100: 1200 | AR100: 15 | AS100: 0.09 | AT100: 6.1 | AU100: 0.079 | AV100: 5.8 | AW100: 0.00091 | AX100: 0 | AY100: 0 | AZ100: 140000 | BA100: 6.6 | BB100: 1.3 | BC100: 5.8 | BD100: 2600000 | BE100: 6.7 | BF100: 11 | BG100: 140 | BH100: 0.0037 | BI100: 0.48 | BJ100: 580 | BK100: 1.2 | BL100: 94 | BM100: 0.068 | BN100: 0.19 | BO100: 13 | BP100: 78 | BQ100: 26 | BR100: 24 | BS100: 0.84 | BT100: 46 | BU100: 7.8
A101: 12 | B101: 134.5 | C101: 0.24 | D101: 190 | E101: 11 | F101: 0.435 | G101: 24.5 | H101: 9.45 | I101: 0.115 | J101: 1.1 | K101: 1.3 | L101: 4150 | M101: 0.027 | N101: 16 | O101: 7.75 | P101: 1.15 | Q101: 0.23 | R101: 30 | S101: 0.735 | T101: 0.455 | U101: 0.17 | V101: 355 | W101: 0.0955 | X101: 0.775 | Y101: 0.555 | Z101: 0.0625 | AA101: 0.048 | AB101: 0.15 | AC101: 5.6 | AD101: -0.00035 | AE101: 1500 | AF101: 3.15 | AG101: 0.835 | AH101: 0.028 | AI101: 530 | AJ101: 8.4 | AK101: 0.88 | AL101: 1650000 | AM101: 0.0775 | AN101: 4.45 | AO101: 1.3 | AP101: 0.00093 | AQ101: 350 | AR101: 2.5 | AS101: 0.086 | AT101: 0.95 | AU101: 0.036 | AV101: 2.1 | AW101: 0.00043 | AX101: -0.0072 | AY101: 0.00108 | AZ101: 18000 | BA101: 2.2 | BB101: 0.39 | BC101: 2.05 | BD101: 360000 | BE101: 0.815 | BF101: 5.7 | BG101: 37.5 | BH101: 0.00475 | BI101: 0.11 | BJ101: 210 | BK101: 0.31 | BL101: 24 | BM101: 0.02 | BN101: 0.05 | BO101: 4.75 | BP101: 32 | BQ101: 9.05 | BR101: 5.05 | BS101: 0.24 | BT101: 18.5 | BU101: 2.05
A102: 13 | B102: 154.4 | C102: 1.3856516 | D102: 74.106819 | E102: 7.2867271 | F102: 0.52785943 | G102: 15.377595 | H102: 2.3288855 | I102: 0.11225807 | J102: 0.33479781 | K102: 1.22 | L102: 1113.4968 | M102: 0.05759 | N102: 8.3701859 | O102: 3.1160577 | P102: 0.49331319 | Q102: 0.073904644 | R102: 23.16954 | S102: 0.35203273 | T102: 0.20754074 | U102: 0.10815398 | V102: 169.73269 | W102: 0.25102835 | X102: 0.43313776 | Y102: 0.24675552 | Z102: 0.073260704 | AA102: 0.38147463 | AB102: 0.07108247 | AC102: 1.3499933 | AD102: -8.123437e-05 | AE102: 406.29958 | AF102: 1.9586137 | AG102: 0.335766 | AH102: 0.015020276 | AI102: 278.88384 | AJ102: 5.4109725 | AK102: 0.35189247 | AL102: 540214.43 | AM102: 0.032129078 | AN102: 2.8180405 | AO102: 0.63234293 | AP102: -0.00054752311 | AQ102: 212.09366 | AR102: 0.70947445 | AS102: -0.0242 | AT102: 0.62688751 | AU102: 0.022479414 | AV102: 0.82066511 | AW102: 0.00080749854 | AX102: -0.0025988384 | AY102: 0.00012716653 | AZ102: 19833.858 | BA102: 1.9277306 | BB102: 0.25725833 | BC102: 1.0043878 | BD102: 171185.37 | BE102: 0.52199862 | BF102: 10.532715 | BG102: 8.9379498 | BH102: 0.0018456195 | BI102: 0.055392992 | BJ102: 165.72929 | BK102: 0.37330285 | BL102: 10.364298 | BM102: 0.02485 | BN102: 0.020685544 | BO102: 2.4393325 | BP102: 13.9415 | BQ102: 4.2077116 | BR102: 1.9878628 | BS102: 0.11480303 | BT102: 8.5550563 | BU102: 1.7539952
A103: 14 | B103: 155 | C103: 0.48649716 | D103: 33.086573 | E103: 1.8482958 | F103: 0.12710751 | G103: 8.2438549 | H103: 1.0401894 | I103: 0.025858619 | J103: 0.08956782 | K103: 0.46278845 | L103: 724.9298 | M103: 0.015456302 | N103: 4.7158287 | O103: 0.97300389 | P103: 0.24070386 | Q103: 0.018944886 | R103: 6.2223586 | S103: 0.20233833 | T103: 0.092790394 | U103: 0.089126902 | V103: 96.483669 | W103: 0.025365011 | X103: 0.34949772 | Y103: 0.25548838 | Z103: 0.06065955 | AA103: 0.07138209 | AB103: 0.036300272 | AC103: 0.41543591 | AD103: 0.001091299 | AE103: 126.87229 | AF103: 1.5260763 | AG103: 1.4049812 | AH103: 0.0070711012 | AI103: 230.22767 | AJ103: 7.0606526 | AK103: 0.078747771 | AL103: 204540.8 | AM103: 0.023748886 | AN103: 2.5242701 | AO103: 0.25454511 | AP103: 0.00012018588 | AQ103: 83.06719 | AR103: 0.17484997 | AS103: 0.00551 | AT103: 0.49564289 | AU103: 0.0071353837 | AV103: 0.19403373 | AW103: 0.00046021979 | AX103: 0.0041761625 | AY103: 0.00078348648 | AZ103: 2863.5889 | BA103: 0.89258421 | BB103: 0.24475256 | BC103: 0.28480425 | BD103: 97931.093 | BE103: 0.43295057 | BF103: 5.502268 | BG103: 2.5439778 | BH103: 0.0014993886 | BI103: 0.035807563 | BJ103: 52.809107 | BK103: 0.26804741 | BL103: 8.0643015 | BM103: 0.0024256013 | BN103: 0.008960401 | BO103: 0.37656695 | BP103: 4.3631944 | BQ103: 0.77059328 | BR103: 0.96876012 | BS103: 0.051966581 | BT103: 2.3889396 | BU103: 1.7326443
A104: 15 | B104: 130 | C104: 0.09 | D104: 15 | E104: 1.4 | F104: 0.032 | G104: 8.1 | H104: 0.14 | I104: 0.0096 | J104: 0.029 | K104: 0.27 | L104: 230 | M104: 0.0041 | N104: 2.3 | O104: 0.49 | P104: 0.12 | Q104: 0.0091 | R104: 1.3 | S104: 0.099 | T104: 0.045 | U104: 0.046 | V104: 59 | W104: 0 | X104: 0.17 | Y104: 0.028 | Z104: 0.052 | AA104: 0.02 | AB104: 0.017 | AC104: 0.55 | AD104: 0 | AE104: 93 | AF104: 0.73 | AG104: 0.37 | AH104: 0.003 | AI104: 85 | AJ104: 6.2 | AK104: 0.0076 | AL104: 58000 | AM104: 0.018 | AN104: 1.2 | AO104: 0.19 | AP104: 0.00021 | AQ104: 15 | AR104: 0.056 | AS104: 0.0012 | AT104: 0.24 | AU104: 0.012 | AV104: 0.13 | AW104: 0 | AX104: 0 | AY104: 0 | AZ104: 1400 | BA104: 0.53 | BB104: 0.16 | BC104: 0.013 | BD104: 59000 | BE104: 0.21 | BF104: 1.8 | BG104: 0.77 | BH104: 0.0009 | BI104: 0.019 | BJ104: 20 | BK104: 0.18 | BL104: 6.4 | BM104: 0 | BN104: 0.0035 | BO104: 0.13 | BP104: 2.6 | BQ104: 0.48 | BR104: 0.46 | BS104: 0.017 | BT104: 1.6 | BU104: 1.4
A105: 16 | B105: 200 | C105: 0.07675 | D105: 16.75 | E105: 1.1775 | F105: 0.0305 | G105: 9.8 | H105: 0.1575 | I105: 0.008975 | J105: 0.02875 | K105: 0.575 | L105: 302.5 | M105: 0.00415 | N105: 2.225 | O105: 0.415 | P105: 0.1275 | Q105: 0.007925 | R105: 0.99 | S105: 0.094 | T105: 0.0385 | U105: 0.0445 | V105: 57.25 | W105: 0.00295 | X105: 0.17 | Y105: 0.1265 | Z105: 0.05525 | AA105: 0.017 | AB105: 0.0155 | AC105: 0.6175 | AD105: 3e-06 | AE105: 82.25 | AF105: 0.64 | AG105: 0.3625 | AH105: 0.00225 | AI105: 72.25 | AJ105: 4.25 | AK105: 0.0243 | AL105: 54250 | AM105: 0.01575 | AN105: 1.125 | AO105: 0.14725 | AP105: 0.0001275 | AQ105: 12.75 | AR105: 0.04825 | AS105: 0.00135 | AT105: 0.2225 | AU105: 0.008675 | AV105: 0.1125 | AW105: 0.0001225 | AX105: 0 | AY105: 0 | AZ105: 3050 | BA105: 0.865 | BB105: 0.145 | BC105: 0.044 | BD105: 55000 | BE105: 0.22 | BF105: 3.675 | BG105: 0.935 | BH105: 0.0009075 | BI105: 0.01875 | BJ105: 17.25 | BK105: 0.2125 | BL105: 5.55 | BM105: 0.000875 | BN105: 0.0032 | BO105: 0.24 | BP105: 2.9 | BQ105: 1.165 | BR105: 0.4075 | BS105: 0.01525 | BT105: 2.525 | BU105: 1.025
A106: 17 | B106: 170 | C106: 0.0635 | D106: 18.5 | E106: 0.955 | F106: 0.029 | G106: 11.5 | H106: 0.175 | I106: 0.00835 | J106: 0.0285 | K106: 0.88 | L106: 375 | M106: 0.0042 | N106: 2.15 | O106: 0.34 | P106: 0.135 | Q106: 0.00675 | R106: 0.68 | S106: 0.089 | T106: 0.032 | U106: 0.043 | V106: 55.5 | W106: 0.0059 | X106: 0.17 | Y106: 0.225 | Z106: 0.0585 | AA106: 0.014 | AB106: 0.014 | AC106: 0.685 | AD106: 6e-06 | AE106: 71.5 | AF106: 0.55 | AG106: 0.355 | AH106: 0.0015 | AI106: 59.5 | AJ106: 2.3 | AK106: 0.041 | AL106: 50500 | AM106: 0.0135 | AN106: 1.05 | AO106: 0.1045 | AP106: 4.5e-05 | AQ106: 10.5 | AR106: 0.0405 | AS106: 0.0015 | AT106: 0.205 | AU106: 0.00535 | AV106: 0.095 | AW106: 0.000245 | AX106: 0 | AY106: 0 | AZ106: 4700 | BA106: 1.2 | BB106: 0.13 | BC106: 0.075 | BD106: 51000 | BE106: 0.23 | BF106: 5.55 | BG106: 1.1 | BH106: 0.000915 | BI106: 0.0185 | BJ106: 14.5 | BK106: 0.245 | BL106: 4.7 | BM106: 0.00175 | BN106: 0.0029 | BO106: 0.35 | BP106: 3.2 | BQ106: 1.85 | BR106: 0.355 | BS106: 0.0135 | BT106: 3.45 | BU106: 0.65
... A110: 21 | B110: 190 | C110: 0.020425049 | D110: 4.3833254 | E110: 0.67068365 | F110: 0.0077879646 | G110: 15.321534 | H110: 0.096839814 | I110: 0.021277852 | J110: 0.010795187 | K110: 0.73429952 | L110: 140.19361 | M110: 0.024935031 | N110: 0.17669145 | O110: 0.15963188 | P110: 0.17652691 | Q110: 0.018331937 | R110: 0.39083101 | S110: 0.0095062914 | T110: 0.0043874508 | U110: 0.0063964614 | V110: 6.8935255 | W110: 0.0069253129 | X110: 0.016895697 | Y110: 0.040235181 | Z110: 0.0022330936 | AA110: 0.010670214 | AB110: 0.0024208286 | AC110: 0.30663391 | AD110: 0.0011392823 | AE110: 34.039083 | AF110: 0.04821265 | AG110: 0.51417204 | AH110: 0.0008929684 | AI110: 11.307414 | AJ110: 0.52504797 | AK110: 0.029827914 | AL110: 17667.899 | AM110: 0.0029734295 | AN110: 0.10568345 | AO110: 0.032 | AP110: 6.725608e-05 | AQ110: 32.09484 | AR110: 0.034314878 | AS110: 0.00045790559 | AT110: 0.019264 | AU110: 0.0044519582 | AV110: 0.056831001 | AW110: 0.0016765052 | AX110: 0.0027870585 | AY110: 0.0037923638 | AZ110: 7874.6243 | BA110: 0.44143156 | BB110: 0.017665851 | BC110: 0.078425363 | BD110: 25993.191 | BE110: 0.021051636 | BF110: 2.361719 | BG110: 0.38920064 | BH110: 0.00095516432 | BI110: 0.0025131821 | BJ110: 9.4681131 | BK110: 0.021092014 | BL110: 0.52723928 | BM110: 0.002083032 | BN110: 0.0017078874 | BO110: 0.1062814 | BP110: 1.1740957 | BQ110: 0.75281264 | BR110: 0.037207691 | BS110: 0.0010356169 | BT110: 3.2716693 | BU110: 0.055653034

Sheet MinMaxMean values
C1: Cell A | L1: Cell B | U1: Cell C | AD1: Cell D | AM1: Blanks
C2: cycles 4-10 | F2: cycles 11-18 | I2: cycles 19-23 | L2: cycles 4-10 | O2: cycles 11-18 | R2: cycles 19-23 | U2: cycles 4-10 | X2: cycles 11-18 | AA2: cycles 19-23 | AD2: cycles 4-10 | AG2: cycles 11-18 | AJ2: cycles 19-21 | AM2: Blank 1 | AN2: Blank 2 | AO2: Si-solution
A3: Parameter | B3: Unit | C3: Min | D3: Max | E3: Mean | F3: Min | G3: Max | H3: Mean | I3: Min | J3: Max | K3: Mean | L3: Min | M3: Max | N3: Mean | O3: Min | P3: Max | Q3: Mean | R3: Min | S3: Max | T3: Mean | U3: Min | V3: Max | W3: Mean | X3: Min | Y3: Max | Z3: Mean | AA3: Min | AB3: Max | AC3: Mean | AD3: Min | AE3: Max | AF3: Mean | AG3: Min | AH3: Max | AI3: Mean | AJ3: Min | AK3: Max | AL3: Mean | AM3: DI | AN3: H2O2
A4: PH | B4: s.u. | C4: 4.846 | D4: 5.8325 | E4: 5.3268333 | F4: 4.592 | G4: 4.8036667 | H4: 4.667125 | I4: 4 | J4: 4.5266667 | K4: 4.356 | L4: 5.172 | M4: 6.0633333 | N4: 5.644619 | O4: 7.812 | P4: 10.935333 | Q4: 9.5172083 | R4: 7.1 | S4: 7.85 | T4: 7.5266667 | U4: 7.85 | V4: 7.5266667 | W4: pH | X4: 5.0413333 | Y4: 5.8233333 | Z4: 5.4921905 | AA4: 7.6796667 | AB4: 10.839 | AC4: 9.3780417 | AD4: 5.011 | AE4: 5.9633333 | AF4: 5.4131429 | AG4: 7.95 | AH4: 10.8 | AI4: 9.01225 | AJ4: 7.4 | AK4: 7.94 | AL4: 7.62 | AM4: 7 | AN4: 5.3 | AO4: 10.5
A5: EC | B5: µS/cm | C5: 20.115 | D5: 85.366667 | E5: 49.016429 | F5: 20.115 | G5: 85.366667 | H5: 49.016429 | I5: 96.4 | J5: 135.4 | K5: 121.242 | L5: 17.156667 | M5: 88.733333 | N5: 39.779048 | O5: 17.156667 | P5: 88.733333 | Q5: 39.779048 | R5: 74.2 | S5: 169 | T5: 126.98 | U5: 169 | V5: 126.98 | W5: EC | X5: 16.52 | Y5: 96.233333 | Z5: 42.320476 | AA5: 94.133333 | AB5: 11463.333 | AC5: 4436.1917 | AD5: 19.346667 | AE5: 1715.2 | AF5: 256.59333 | AG5: 178.83333 | AH5: 6520 | AI5: 1902.4458 | AJ5: 201.3 | AK5: 237 | AL5: 213.71667
A6: Al | B6: µg/L | C6: 6.7 | D6: 105 | E6: 32.34 | F6: 99 | G6: 245 | H6: 135.2 | I6: 340 | J6: 397.4 | K6: 379.7 | L6: 1.1 | M6: 28 | N6: 7.429 | O6: 36 | P6: 3300 | Q6: 714.5 | R6: 17.71 | S6: 61 | T6: 38.45 | U6: 61 | V6: 38.45 | W6: Al | X6: 2.5 | Y6: 21 | Z6: 2.5 | AA6: 34 | AB6: 1300 | AC6: 471.6 | AD6: 2.7 | AE6: 64 | AF6: 18.82 | AG6: 15 | AH6: 15 | AI6: 15 | AJ6: 4.383 | AK6: 13.8 | AL6: 9.093 | AM6: 5 | AN6: 7.95 | AO6: 685
A7: Fe | B7: µg/L | C7: 1.9 | D7: 47.5 | E7: 14.77 | F7: 35 | G7: 300 | H7: 110.3 | I7: 440 | J7: 647 | K7: 561 | L7: 1.8 | M7: 19 | N7: 7.786 | O7: 280 | P7: 60000 | Q7: 9054 | R7: 75.15 | S7: 590 | T7: 339.1 | U7: 590 | V7: 339.1 | W7: Fe | X7: 2.9 | Y7: 17 | Z7: 2.9 | AA7: 78 | AB7: 800 | AC7: 365.2 | AD7: 5.2 | AE7: 29 | AF7: 14.9 | AG7: 41.97 | AH7: 41.97 | AI7: 41.97 | AJ7: 6.894 | AK7: 28.45 | AL7: 17.67 | AM7: 0.215 | AN7: 0 | AO7: 605
A8: S | B8: µg/L | C8: 1800 | D8: 10500 | E8: 5300 | F8: 4656 | G8: 9325 | H8: 7141 | I8: 12658 | J8: 14094 | K8: 13191.58 | L8: 1200 | M8: 11000 | N8: 4214 | O8: 2437 | P8: 300000 | Q8: 48150 | R8: 9694 | S8: 12110 | T8: 11350 | U8: 12110 | V8: 11350 | W8: S | X8: 1600 | Y8: 12000 | Z8: 5200 | AA8: 2284 | AB8: 75000 | AC8: 16930 | AD8: 1600 | AE8: 13000 | AF8: 5521 | AG8: 1400 | AH8: 1400 | AI8: 1400 | AJ8: 7015 | AK8: 7875 | AL8: 7445 | AM8: 30 | AN8: 550 | AO8: 325
A9: Si | B9: µg/L | C9: 2050 | D9: 3300 | E9: 2407 | F9: 1702 | G9: 2850 | H9: 1962 | I9: 3163 | J9: 3900 | K9: 3531 | L9: 2100 | M9: 3400 | N9: 2643 | O9: 29000 | P9: 3200000 | Q9: 915300 | R9: 11940 | S9: 34000 | T9: 23480 | U9: 34000 | V9: 23480 | W9: Si | X9: 2100 | Y9: 3500 | Z9: 2800 | AA9: 21000 | AB9: 3450000 | AC9: 1200000 | AD9: 2300 | AE9: 3800 | AF9: 3014 | AG9: 45220 | AH9: 45220 | AI9: 45220 | AJ9: 25990 | AK9: 39430 | AL9: 32710 | AM9: 52 | AN9: 81 | AO9: 1900000
A10: Co | B10: µg/L | C10: 1.4 | D10: 11.5 | E10: 4.679 | F10: 6.068 | G10: 12.6 | H10: 7.892 | I10: 15.53 | J10: 17.21 | K10: 16.64 | L10: 0.55 | M10: 4.8 | N10: 1.623 | O10: 0.667 | P10: 99 | Q10: 14.66 | R10: 0.13 | S10: 0.74 | T10: 0.407 | U10: 0.74 | V10: 0.407 | W10: Co | X10: 0.73 | Y10: 5 | Z10: 1.937 | AA10: 0.19 | AB10: 2.2 | AC10: 0.944 | AD10: 0.94 | AE10: 7.9 | AF10: 2.977 | AG10: 0.242 | AH10: 0.242 | AI10: 0.242 | AJ10: 0.144 | AK10: 0.16 | AL10: 0.152 | AM10: 0 | AN10: 0.001 | AO10: 0.24
A11: Cu | B11: µg/L | C11: 0.54 | D11: 11 | E11: 3.327 | F11: 5.2 | G11: 15.48 | H11: 8.955 | I11: 21 | J11: 26.69 | K11: 24.35 | L11: 0.18 | M11: 1.4 | N11: 0.733 | O11: 3.9 | P11: 860 | Q11: 127.8 | R11: 1.242 | S11: 7.7 | T11: 4.731 | U11: 7.7 | V11: 4.731 | W11: Cu | X11: 0.21 | Y11: 2.5 | Z11: 0.761 | AA11: 0.575 | AB11: 40 | AC11: 8.634 | AD11: 0.087 | AE11: 2.9 | AF11: 0.986 | AG11: 0.605 | AH11: 0.605 | AI11: 0.605 | AJ11: 0.391 | AK11: 0.53 | AL11: 0.46 | AM11: 0.024 | AN11: 9.6 | AO11: 1.4
A12: Mn | B12: µg/L | C12: 15 | D12: 92.5 | E12: 40.93 | F12: 42.71 | G12: 94.5 | H12: 58.8 | I12: 108.3 | J12: 130 | K12: 122.2 | L12: 18 | M12: 120 | N12: 44.57 | O12: 2.5 | P12: 320 | Q12: 49.4 | R12: 0.779 | S12: 1.8 | T12: 1.239 | U12: 1.8 | V12: 1.239 | W12: Mn | X12: 22 | Y12: 120 | Z12: 50.43 | AA12: 1.22 | AB12: 12.5 | AC12: 7.788 | AD12: 23 | AE12: 140 | AF12: 57.5 | AG12: 1.472 | AH12: 1.472 | AI12: 1.472 | AJ12: 0.525 | AK12: 0.645 | AL12: 0.585 | AM12: 0.002 | AN12: 0.047 | AO12: 7.15
A13: Ni | B13: µg/L | C13: 0.36 | D13: 2.1 | E13: 0.93 | F13: 1.148 | G13: 2.55 | H13: 1.724 | I13: 2.574 | J13: 3.347 | K13: 3.041 | L13: 0.12 | M13: 0.97 | N13: 0.36 | O13: 0.169 | P13: 15 | Q13: 3.727 | R13: 0.155 | S13: 0.244 | T13: 0.198 | U13: 0.244 | V13: 0.198 | W13: Ni | X13: 0.13 | Y13: 0.9 | Z13: 0.39 | AA13: 0.171 | AB13: 3.35 | AC13: 1.196 | AD13: 0.21 | AE13: 1.4 | AF13: 0.613 | AG13: 0.082 | AH13: 0.082 | AI13: 0.082 | AJ13: -0.123 | AK13: 0.059 | AL13: -0.032 | AM13: 0.118 | AN13: 0.017 | AO13: 7.3

Sheet Weekly mass leached
A2: Cell 1 | B2: Ag | C2: Al | D2: As | E2: Au | F2: B | G2: Ba | H2: Be | I2: Bi | J2: Br | K2: Ca | L2: Cd | M2: Ce | N2: Co | O2: Cr | P2: Cs | Q2: Cu | R2: Dy | S2: Er | T2: Eu | U2: Fe | V2: Ga | W2: Gd | X2: Ge | Y2: Hf | Z2: Hg | AA2: Ho | AB2: I | AC2: Ir | AD2: K | AE2: La | AF2: Li | AG2: Lu | AH2: Mg | AI2: Mn | AJ2: Mo | AK2: Na | AL2: Nb | AM2: Nd | AN2: Ni | AO2: Os | AP2: P | AQ2: Pb | AR2: Pd | AS2: Pr | AT2: Pt | AU2: Rb | AV2: Re | AW2: Rh | AX2: Ru | AY2: S | AZ2: Sb | BA2: Sc | BB2: Se | BC2: Si | BD2: Sm | BE2: Sn | BF2: Sr | BG2: Ta | BH2: Tb | BI2: Te | BJ2: Th | BK2: Ti | BL2: Tl | BM2: Tm | BN2: U | BO2: V | BP2: W | BQ2: Y | BR2: Yb | BS2: Zn | BT2: Zr
A3: Leaching cycle | B3: mg | C3: mg | D3: mg | E3: mg | F3: mg | G3: mg | H3: mg | I3: mg | J3: mg | K3: mg | L3: mg | M3: mg | N3: mg | O3: mg | P3: mg | Q3: mg | R3: mg | S3: mg | T3: mg | U3: mg | V3: mg | W3: mg | X3: mg | Y3: mg | Z3: mg | AA3: mg | AB3: mg | AC3: mg | AD3: mg | AE3: mg | AF3: mg | AG3: mg | AH3: mg | AI3: mg | AJ3: mg | AK3: mg | AL3: mg | AM3: mg | AN3: mg | AO3: mg | AP3: mg | AQ3: mg | AR3: mg | AS3: mg | AT3: mg | AU3: mg | AV3: mg | AW3: mg | AX3: mg | AY3: mg | AZ3: mg | BA3: mg | BB3: mg | BC3: mg | BD3: mg | BE3: mg | BF3: mg | BG3: mg | BH3: mg | BI3: mg | BJ3: mg | BK3: mg | BL3: mg | BM3: mg | BN3: mg | BO3: mg | BP3: mg | BQ3: mg | BR3: mg | BS3: mg | BT3: mg
A4: 0 | B4: ='Leachate chemistry'!$B$5*'Leachate chemistry'!C5*0.000001 -> 2.5e-07 | C4: ='Leachate chemistry'!$B$5*'Leachate chemistry'!D5*0.000001 -> 0.001 | D4: ='Leachate chemistry'!$B$5*'Leachate chemistry'!E5*0.000001 -> 5.75e-05 | E4: ='Leachate chemistry'!$B$5*'Leachate chemistry'!F5*0.000001 -> 5e-05 | F4: ='Leachate chemistry'!$B$5*'Leachate chemistry'!G5*0.000001 -> 0.00425 | G4: ='Leachate chemistry'!$B$5*'Leachate chemistry'!H5*0.000001 -> 0.001375 | H4: ='Leachate chemistry'!$B$5*'Leachate chemistry'!I5*0.000001 -> 2.275e-05 | I4: ='Leachate chemistry'!$B$5*'Leachate chemistry'!J5*0.000001 -> 1.375e-07 | ... BT4: ='Leachate chemistry'!$B$5*'Leachate chemistry'!BU5*0.000001 -> 2.025e-06
A5: 1 | B5: ='Leachate chemistry'!$B$6*'Leachate chemistry'!C6*0.000001 -> 1.6e-06 | C5: ='Leachate chemistry'!$B$6*'Leachate chemistry'!D6*0.000001 -> 0.006 | D5: ='Leachate chemistry'!$B$6*'Leachate chemistry'!E6*0.000001 -> 4.25e-05 | E5: ='Leachate chemistry'!$B$6*'Leachate chemistry'!F6*0.000001 -> 2.5e-06 | F5: ='Leachate chemistry'!$B$6*'Leachate chemistry'!G6*0.000001 -> 0.0011 | G5: ='Leachate chemistry'!$B$6*'Leachate chemistry'!H6*0.000001 -> 0.0006 | H5: ='Leachate chemistry'!$B$6*'Leachate chemistry'!I6*0.000001 -> 3.5e-05 | I5: ='Leachate chemistry'!$B$6*'Leachate chemistry'!J6*0.000001 -> 9.75e-08 | ... BT5: ='Leachate chemistry'!$B$6*'Leachate chemistry'!BU6*0.000001 -> 4e-06
A6: 2 | B6: ='Leachate chemistry'!$B$7*'Leachate chemistry'!C7*0.000001 -> 1.575e-06 | C6: ='Leachate chemistry'!$B$7*'Leachate chemistry'!D7*0.000001 -> 0.0025 | D6: ='Leachate chemistry'!$B$7*'Leachate chemistry'!E7*0.000001 -> 6.25e-05 | E6: ='Leachate chemistry'!$B$7*'Leachate chemistry'!F7*0.000001 -> 8e-07 | F6: ='Leachate chemistry'!$B$7*'Leachate chemistry'!G7*0.000001 -> 0.0011 | G6: ='Leachate chemistry'!$B$7*'Leachate chemistry'!H7*0.000001 -> 0.000625 | H6: ='Leachate chemistry'!$B$7*'Leachate chemistry'!I7*0.000001 -> 3.5e-05 | I6: ='Leachate chemistry'!$B$7*'Leachate chemistry'!J7*0.000001 -> 6.25e-08 | ... BT6: ='Leachate chemistry'!$B$7*'Leachate chemistry'!BU7*0.000001 -> 1.375e-06
A7: 3 | B7: ='Leachate chemistry'!$B$8*'Leachate chemistry'!C8*0.000001 -> 2.025e-08 | C7: ='Leachate chemistry'!$B$8*'Leachate chemistry'!D8*0.000001 -> 0.002075 | D7: ='Leachate chemistry'!$B$8*'Leachate chemistry'!E8*0.000001 -> 1.9e-05 | E7: ='Leachate chemistry'!$B$8*'Leachate chemistry'!F8*0.000001 -> 8e-07 | F7: ='Leachate chemistry'!$B$8*'Leachate chemistry'!G8*0.000001 -> 0.001225 | G7: ='Leachate chemistry'!$B$8*'Leachate chemistry'!H8*0.000001 -> 0.000525 | H7: ='Leachate chemistry'!$B$8*'Leachate chemistry'!I8*0.000001 -> 4e-05 | I7: ='Leachate chemistry'!$B$8*'Leachate chemistry'!J8*0.000001 -> 1.525e-07 | ... BT7: ='Leachate chemistry'!$B$8*'Leachate chemistry'!BU8*0.000001 -> 1.1e-06
A8: 4 | B8: ='Leachate chemistry'!$B$9*'Leachate chemistry'!C9*0.000001 -> 3.75e-07 | C8: ='Leachate chemistry'!$B$9*'Leachate chemistry'!D9*0.000001 -> 0.001675 | D8: ='Leachate chemistry'!$B$9*'Leachate chemistry'!E9*0.000001 -> 4.75e-05 | E8: ='Leachate chemistry'!$B$9*'Leachate chemistry'!F9*0.000001 -> 3.5e-07 | F8: ='Leachate chemistry'!$B$9*'Leachate chemistry'!G9*0.000001 -> 0.001125 | G8: ='Leachate chemistry'!$B$9*'Leachate chemistry'!H9*0.000001 -> 0.000375 | H8: ='Leachate chemistry'!$B$9*'Leachate chemistry'!I9*0.000001 -> 3.5e-05 | I8: ='Leachate chemistry'!$B$9*'Leachate chemistry'!J9*0.000001 -> 8.5e-08 | ... BT8: ='Leachate chemistry'!$B$9*'Leachate chemistry'!BU9*0.000001 -> 1.9e-06
A9: 5 | B9: ='Leachate chemistry'!$B$10*'Leachate chemistry'!C10*0.000001 -> 4.5e-07 | C9: ='Leachate chemistry'!$B$10*'Leachate chemistry'!D10*0.000001 -> 0.001925 | D9: ='Leachate chemistry'!$B$10*'Leachate chemistry'!E10*0.000001 -> 1.3e-05 | E9: ='Leachate chemistry'!$B$10*'Leachate chemistry'!F10*0.000001 -> 7.5e-07 | F9: ='Leachate chemistry'!$B$10*'Leachate chemistry'!G10*0.000001 -> 0 | G9: ='Leachate chemistry'!$B$10*'Leachate chemistry'!H10*0.000001 -> 0.000525 | H9: ='Leachate chemistry'!$B$10*'Leachate chemistry'!I10*0.000001 -> 3.75e-05 | I9: ='Leachate chemistry'!$B$10*'Leachate chemistry'!J10*0.000001 -> 3e-07 | ... BT9: ='Leachate chemistry'!$B$10*'Leachate chemistry'!BU10*0.000001 -> 1.35e-06
A10: 6 | B10: ='Leachate chemistry'!$B$11*'Leachate chemistry'!C11*0.000001 -> 2.025e-07 | C10: ='Leachate chemistry'!$B$11*'Leachate chemistry'!D11*0.000001 -> 0.002375 | D10: ='Leachate chemistry'!$B$11*'Leachate chemistry'!E11*0.000001 -> 1.05e-05 | E10: ='Leachate chemistry'!$B$11*'Leachate chemistry'!F11*0.000001 -> 6.25e-07 | F10: ='Leachate chemistry'!$B$11*'Leachate chemistry'!G11*0.000001 -> 0.000925 | G10: ='Leachate chemistry'!$B$11*'Leachate chemistry'!H11*0.000001 -> 0.000575 | H10: ='Leachate chemistry'!$B$11*'Leachate chemistry'!I11*0.000001 -> 6e-05 | I10: ='Leachate chemistry'!$B$11*'Leachate chemistry'!J11*0.000001 -> 2.025e-07 | ... BT10: ='Leachate chemistry'!$B$11*'Leachate chemistry'!BU11*0.000001 -> 2.35e-06
A11: 7 | B11: ='Leachate chemistry'!$B$12*'Leachate chemistry'!C12*0.000001 -> 0 | C11: ='Leachate chemistry'!$B$12*'Leachate chemistry'!D12*0.000001 -> 0.00475 | D11: ='Leachate chemistry'!$B$12*'Leachate chemistry'!E12*0.000001 -> 7.75e-06 | E11: ='Leachate chemistry'!$B$12*'Leachate chemistry'!F12*0.000001 -> 2.5e-07 | F11: ='Leachate chemistry'!$B$12*'Leachate chemistry'!G12*0.000001 -> 0.000275 | G11: ='Leachate chemistry'!$B$12*'Leachate chemistry'!H12*0.000001 -> 0.0008 | H11: ='Leachate chemistry'!$B$12*'Leachate chemistry'!I12*0.000001 -> 9.5e-05 | I11: ='Leachate chemistry'!$B$12*'Leachate chemistry'!J12*0.000001 -> 2.325e-07 | ... BT11: ='Leachate chemistry'!$B$12*'Leachate chemistry'!BU12*0.000001 -> 2.225e-06
A12: 8 | B12: ='Leachate chemistry'!$B$13*'Leachate chemistry'!C13*0.000001 -> 1.0375e-06 | C12: ='Leachate chemistry'!$B$13*'Leachate chemistry'!D13*0.000001 -> 0.005875 | D12: ='Leachate chemistry'!$B$13*'Leachate chemistry'!E13*0.000001 -> 2.245e-05 | E12: ='Leachate chemistry'!$B$13*'Leachate chemistry'!F13*0.000001 -> 3.2e-07 | F12: ='Leachate chemistry'!$B$13*'Leachate chemistry'!G13*0.000001 -> 0.004 | G12: ='Leachate chemistry'!$B$13*'Leachate chemistry'!H13*0.000001 -> 0.000875 | H12: ='Leachate chemistry'!$B$13*'Leachate chemistry'!I13*0.000001 -> 0.00020625 | I12: ='Leachate chemistry'!$B$13*'Leachate chemistry'!J13*0.000001 -> 1.925e-07 | ... BT12: ='Leachate chemistry'!$B$13*'Leachate chemistry'!BU13*0.000001 -> 2.525e-06
A13: 9 | B13: ='Leachate chemistry'!$B$14*'Leachate chemistry'!C14*0.000001 -> 6.25e-07 | C13: ='Leachate chemistry'!$B$14*'Leachate chemistry'!D14*0.000001 -> 0.01375 | D13: ='Leachate chemistry'!$B$14*'Leachate chemistry'!E14*0.000001 -> 2.1625e-05 | E13: ='Leachate chemistry'!$B$14*'Leachate chemistry'!F14*0.000001 -> 3.325e-07 | F13: ='Leachate chemistry'!$B$14*'Leachate chemistry'!G14*0.000001 -> 0.0045 | G13: ='Leachate chemistry'!$B$14*'Leachate chemistry'!H14*0.000001 -> 0.0014375 | H13: ='Leachate chemistry'!$B$14*'Leachate chemistry'!I14*0.000001 -> 0.0003375 | I13: ='Leachate chemistry'!$B$14*'Leachate chemistry'!J14*0.000001 -> 3.75e-07 | ... BT13: ='Leachate chemistry'!$B$14*'Leachate chemistry'!BU14*0.000001 -> 3.05e-07
A14: 10 | B14: ='Leachate chemistry'!$B$15*'Leachate chemistry'!C15*0.000001 -> 2.125e-07 | C14: ='Leachate chemistry'!$B$15*'Leachate chemistry'!D15*0.000001 -> 0.02625 | D14: ='Leachate chemistry'!$B$15*'Leachate chemistry'!E15*0.000001 -> 1.175e-05 | E14: ='Leachate chemistry'!$B$15*'Leachate chemistry'!F15*0.000001 -> 1.375e-07 | F14: ='Leachate chemistry'!$B$15*'Leachate chemistry'!G15*0.000001 -> 0.004625 | G14: ='Leachate chemistry'!$B$15*'Leachate chemistry'!H15*0.000001 -> 0.005125 | H14: ='Leachate chemistry'!$B$15*'Leachate chemistry'!I15*0.000001 -> 0.0004875 | I14: ='Leachate chemistry'!$B$15*'Leachate chemistry'!J15*0.000001 -> 2.5e-07 | ... BT14: ='Leachate chemistry'!$B$15*'Leachate chemistry'!BU15*0.000001 -> 3.75e-06
A15: 11 | B15: ='Leachate chemistry'!$B$16*'Leachate chemistry'!C16*0.000001 -> 2.58e-06 | C15: ='Leachate chemistry'!$B$16*'Leachate chemistry'!D16*0.000001 -> 0.021285 | D15: ='Leachate chemistry'!$B$16*'Leachate chemistry'!E16*0.000001 -> 1.935e-05 | E15: ='Leachate chemistry'!$B$16*'Leachate chemistry'!F16*0.000001 -> 2.15e-07 | F15: ='Leachate chemistry'!$B$16*'Leachate chemistry'!G16*0.000001 -> 0.00344 | G15: ='Leachate chemistry'!$B$16*'Leachate chemistry'!H16*0.000001 -> 0.013115 | H15: ='Leachate chemistry'!$B$16*'Leachate chemistry'!I16*0.000001 -> 0.0003225 | I15: ='Leachate chemistry'!$B$16*'Leachate chemistry'!J16*0.000001 -> 2.795e-07 | ... BT15: ='Leachate chemistry'!$B$16*'Leachate chemistry'!BU16*0.000001 -> 1.032e-05
A16: 12 | B16: ='Leachate chemistry'!$B$17*'Leachate chemistry'!C17*0.000001 -> 3.44e-06 | C16: ='Leachate chemistry'!$B$17*'Leachate chemistry'!D17*0.000001 -> 0.0258 | D16: ='Leachate chemistry'!$B$17*'Leachate chemistry'!E17*0.000001 -> 2.0425e-05 | E16: ='Leachate chemistry'!$B$17*'Leachate chemistry'!F17*0.000001 -> 0.0008815 | F16: ='Leachate chemistry'!$B$17*'Leachate chemistry'!G17*0.000001 -> 0.00473 | G16: ='Leachate chemistry'!$B$17*'Leachate chemistry'!H17*0.000001 -> 0.0129 | H16: ='Leachate chemistry'!$B$17*'Leachate chemistry'!I17*0.000001 -> 0.0003655 | I16: ='Leachate chemistry'!$B$17*'Leachate chemistry'!J17*0.000001 -> 2.58e-07 | ... BT16: ='Leachate chemistry'!$B$17*'Leachate chemistry'!BU17*0.000001 -> 1.6125e-05
A17: 13 | B17: ='Leachate chemistry'!$B$18*'Leachate chemistry'!C18*0.000001 -> 3.255e-06 | C17: ='Leachate chemistry'!$B$18*'Leachate chemistry'!D18*0.000001 -> 0.021 | D17: ='Leachate chemistry'!$B$18*'Leachate chemistry'!E18*0.000001 -> 9.5445e-06 | E17: ='Leachate chemistry'!$B$18*'Leachate chemistry'!F18*0.000001 -> 6.195e-07 | F17: ='Leachate chemistry'!$B$18*'Leachate chemistry'!G18*0.000001 -> 0.0015015 | G17: ='Leachate chemistry'!$B$18*'Leachate chemistry'!H18*0.000001 -> 0.0015225 | H17: ='Leachate chemistry'!$B$18*'Leachate chemistry'!I18*0.000001 -> 0.00042 | I17: ='Leachate chemistry'!$B$18*'Leachate chemistry'!J18*0.000001 -> 1.281e-06 | ... BT17: ='Leachate chemistry'!$B$18*'Leachate chemistry'!BU18*0.000001 -> 5.25e-07
A18: 14 | B18: ='Leachate chemistry'!$B$19*'Leachate chemistry'!C19*0.000001 -> 5.6e-06 | C18: ='Leachate chemistry'!$B$19*'Leachate chemistry'!D19*0.000001 -> 0.028 | D18: ='Leachate chemistry'!$B$19*'Leachate chemistry'!E19*0.000001 -> 1.66e-05 | E18: ='Leachate chemistry'!$B$19*'Leachate chemistry'!F19*0.000001 -> 1.82e-07 | F18: ='Leachate chemistry'!$B$19*'Leachate chemistry'!G19*0.000001 -> 0.00126 | G18: ='Leachate chemistry'!$B$19*'Leachate chemistry'!H19*0.000001 -> 0.0015 | H18: ='Leachate chemistry'!$B$19*'Leachate chemistry'!I19*0.000001 -> 0.00028 | I18: ='Leachate chemistry'!$B$19*'Leachate chemistry'!J19*0.000001 -> 2.6e-07 | ... BT18: ='Leachate chemistry'!$B$19*'Leachate chemistry'!BU19*0.000001 -> 1.58e-06
A19: 15 | B19: ='Leachate chemistry'!$B$20*'Leachate chemistry'!C20*0.000001 -> 1.4816615e-06 | C19: ='Leachate chemistry'!$B$20*'Leachate chemistry'!D20*0.000001 -> 0.017948566 | D19: ='Leachate chemistry'!$B$20*'Leachate chemistry'!E20*0.000001 -> 5.3512526e-06 | E19: ='Leachate chemistry'!$B$20*'Leachate chemistry'!F20*0.000001 -> 6.1661e-07 | F19: ='Leachate chemistry'!$B$20*'Leachate chemistry'!G20*0.000001 -> 0.00072980896 | G19: ='Leachate chemistry'!$B$20*'Leachate chemistry'!H20*0.000001 -> 0.00092927833 | H19: ='Leachate chemistry'!$B$20*'Leachate chemistry'!I20*0.000001 -> 0.00024330711 | I19: ='Leachate chemistry'!$B$20*'Leachate chemistry'!J20*0.000001 -> 4.0082627e-07 | ... BT19: ='Leachate chemistry'!$B$20*'Leachate chemistry'!BU20*0.000001 -> 7.8194119e-07
A20: 16 | B20: ='Leachate chemistry'!$B$21*'Leachate chemistry'!C21*0.000001 -> 9.6186879e-07 | C20: ='Leachate chemistry'!$B$21*'Leachate chemistry'!D21*0.000001 -> 0.017824565 | D20: ='Leachate chemistry'!$B$21*'Leachate chemistry'!E21*0.000001 -> 9.0607305e-06 | E20: ='Leachate chemistry'!$B$21*'Leachate chemistry'!F21*0.000001 -> 1.1802436e-07 | F20: ='Leachate chemistry'!$B$21*'Leachate chemistry'!G21*0.000001 -> 0.00063830478 | G20: ='Leachate chemistry'!$B$21*'Leachate chemistry'!H21*0.000001 -> 0.00076985005 | H20: ='Leachate chemistry'!$B$21*'Leachate chemistry'!I21*0.000001 -> 0.00019848762 | I20: ='Leachate chemistry'!$B$21*'Leachate chemistry'!J21*0.000001 -> 4.2820558e-07 | ... BT20: ='Leachate chemistry'!$B$21*'Leachate chemistry'!BU21*0.000001 -> 8.6720158e-07
A21: 17 | B21: ='Leachate chemistry'!$B$22*'Leachate chemistry'!C22*0.000001 -> 5.875e-08 | C21: ='Leachate chemistry'!$B$22*'Leachate chemistry'!D22*0.000001 -> 0.03525 | D21: ='Leachate chemistry'!$B$22*'Leachate chemistry'!E22*0.000001 -> 2.33825e-05 | E21: ='Leachate chemistry'!$B$22*'Leachate chemistry'!F22*0.000001 -> 1.5275e-07 | F21: ='Leachate chemistry'!$B$22*'Leachate chemistry'!G22*0.000001 -> 0.001269 | G21: ='Leachate chemistry'!$B$22*'Leachate chemistry'!H22*0.000001 -> 0.0013395 | H21: ='Leachate chemistry'!$B$22*'Leachate chemistry'!I22*0.000001 -> 0.0003525 | I21: ='Leachate chemistry'!$B$22*'Leachate chemistry'!J22*0.000001 -> 3.76e-07 | ... BT21: ='Leachate chemistry'!$B$22*'Leachate chemistry'!BU22*0.000001 -> 1.3865e-06
A22: 18 | B22: ='Leachate chemistry'!$B$23*'Leachate chemistry'!C23*0.000001 -> 1.93875e-07 | C22: ='Leachate chemistry'!$B$23*'Leachate chemistry'!D23*0.000001 -> 0.057575 | D22: ='Leachate chemistry'!$B$23*'Leachate chemistry'!E23*0.000001 -> 1.733125e-05 | E22: ='Leachate chemistry'!$B$23*'Leachate chemistry'!F23*0.000001 -> 9.2825e-08 | F22: ='Leachate chemistry'!$B$23*'Leachate chemistry'!G23*0.000001 -> 0.0013865 | G22: ='Leachate chemistry'!$B$23*'Leachate chemistry'!H23*0.000001 -> 0.00219725 | H22: ='Leachate chemistry'!$B$23*'Leachate chemistry'!I23*0.000001 -> 0.00055225 | I22: ='Leachate chemistry'!$B$23*'Leachate chemistry'!J23*0.000001 -> 3.1725e-07 | ... BT22: ='Leachate chemistry'!$B$23*'Leachate chemistry'!BU23*0.000001 -> 1.034e-06
A23: 19 | B23: ='Leachate chemistry'!$B$24*'Leachate chemistry'!C24*0.000001 -> 3.43e-07 | C23: ='Leachate chemistry'!$B$24*'Leachate chemistry'!D24*0.000001 -> 0.0833 | D23: ='Leachate chemistry'!$B$24*'Leachate chemistry'!E24*0.000001 -> 1.176e-05 | E23: ='Leachate chemistry'!$B$24*'Leachate chemistry'!F24*0.000001 -> 3.43e-08 | F23: ='Leachate chemistry'!$B$24*'Leachate chemistry'!G24*0.000001 -> 0.001568 | G23: ='Leachate chemistry'!$B$24*'Leachate chemistry'!H24*0.000001 -> 0.003185 | H23: ='Leachate chemistry'!$B$24*'Leachate chemistry'!I24*0.000001 -> 0.000784 | I23: ='Leachate chemistry'!$B$24*'Leachate chemistry'!J24*0.000001 -> 2.695e-07 | ... BT23: ='Leachate chemistry'!$B$24*'Leachate chemistry'!BU24*0.000001 -> 7.105e-07
A24: 20 | B24: ='Leachate chemistry'!$B$25*'Leachate chemistry'!C25*0.000001 -> 3.7950483e-07 | C24: ='Leachate chemistry'!$B$25*'Leachate chemistry'!D25*0.000001 -> 0.086647022 | D24: ='Leachate chemistry'!$B$25*'Leachate chemistry'!E25*0.000001 -> 9.6555865e-06 | E24: ='Leachate chemistry'!$B$25*'Leachate chemistry'!F25*0.000001 -> 1.9574844e-07 | F24: ='Leachate chemistry'!$B$25*'Leachate chemistry'!G25*0.000001 -> 0.0014277467 | G24: ='Leachate chemistry'!$B$25*'Leachate chemistry'!H25*0.000001 -> 0.0035991906 | H24: ='Leachate chemistry'!$B$25*'Leachate chemistry'!I25*0.000001 -> 0.00079645696 | I24: ='Leachate chemistry'!$B$25*'Leachate chemistry'!J25*0.000001 -> 2.2960002e-06 | ... BT24: ='Leachate chemistry'!$B$25*'Leachate chemistry'!BU25*0.000001 -> 1.3921158e-06
A25: 21 | B25: ='Leachate chemistry'!$B$26*'Leachate chemistry'!C26*0.000001 -> 4.3000965e-07 | C25: ='Leachate chemistry'!$B$26*'Leachate chemistry'!D26*0.000001 -> 0.093394045 | D25: ='Leachate chemistry'!$B$26*'Leachate chemistry'!E26*0.000001 -> 8.031173e-06 | E25: ='Leachate chemistry'!$B$26*'Leachate chemistry'!F26*0.000001 -> 3.5859689e-07 | F25: ='Leachate chemistry'!$B$26*'Leachate chemistry'!G26*0.000001 -> 0.0013514933 | G25: ='Leachate chemistry'!$B$26*'Leachate chemistry'!H26*0.000001 -> 0.0041433812 | H25: ='Leachate chemistry'!$B$26*'Leachate chemistry'!I26*0.000001 -> 0.00084091391 | I25: ='Leachate chemistry'!$B$26*'Leachate chemistry'!J26*0.000001 -> 4.3335005e-06 | ... BT25: ='Leachate chemistry'!$B$26*'Leachate chemistry'!BU26*0.000001 -> 2.1027317e-06
A26: 22 | B26: ='Leachate chemistry'!$B$27*'Leachate chemistry'!C27*0.000001 -> 2.4214567e-07 | C26: ='Leachate chemistry'!$B$27*'Leachate chemistry'!D27*0.000001 -> 0.093218293 | D26: ='Leachate chemistry'!$B$27*'Leachate chemistry'!E27*0.000001 -> 1.6671993e-05 | E26: ='Leachate chemistry'!$B$27*'Leachate chemistry'!F27*0.000001 -> 5.0417819e-07 | F26: ='Leachate chemistry'!$B$27*'Leachate chemistry'!G27*0.000001 -> 0.0014378282 | G26: ='Leachate chemistry'!$B$27*'Leachate chemistry'!H27*0.000001 -> 0.0037056435 | H26: ='Leachate chemistry'!$B$27*'Leachate chemistry'!I27*0.000001 -> 0.0008545941 | I26: ='Leachate chemistry'!$B$27*'Leachate chemistry'!J27*0.000001 -> 2.4237271e-06 | ... BT26: ='Leachate chemistry'!$B$27*'Leachate chemistry'!BU27*0.000001 -> 2.2005953e-06
A27: 23 | B27: ='Leachate chemistry'!$B$28*'Leachate chemistry'!C28*0.000001 -> 5.4281691e-08 | C27: ='Leachate chemistry'!$B$28*'Leachate chemistry'!D28*0.000001 -> 0.093042541 | D27: ='Leachate chemistry'!$B$28*'Leachate chemistry'!E28*0.000001 -> 2.5312813e-05 | E27: ='Leachate chemistry'!$B$28*'Leachate chemistry'!F28*0.000001 -> 6.497595e-07 | F27: ='Leachate chemistry'!$B$28*'Leachate chemistry'!G28*0.000001 -> 0.0015241631 | G27: ='Leachate chemistry'!$B$28*'Leachate chemistry'!H28*0.000001 -> 0.0032679058 | H27: ='Leachate chemistry'!$B$28*'Leachate chemistry'!I28*0.000001 -> 0.00086827429 | I27: ='Leachate chemistry'!$B$28*'Leachate chemistry'!J28*0.000001 -> 5.1395368e-07 | ... BT27: ='Leachate chemistry'!$B$28*'Leachate chemistry'!BU28*0.000001 -> 2.298459e-06
A30: Cell 2 | B30: Ag | C30: Al | D30: As | E30: Au | F30: B | G30: Ba | H30: Be | I30: Bi | J30: Br | K30: Ca | L30: Cd | M30: Ce | N30: Co | O30: Cr | P30: Cs | Q30: Cu | R30: Dy | S30: Er | T30: Eu | U30: Fe | V30: Ga | W30: Gd | X30: Ge | Y30: Hf | Z30: Hg | AA30: Ho | AB30: I | AC30: Ir | AD30: K | AE30: La | AF30: Li | AG30: Lu | AH30: Mg | AI30: Mn | AJ30: Mo | AK30: Na | AL30: Nb | AM30: Nd | AN30: Ni | AO30: Os | AP30: P | AQ30: Pb | AR30: Pd | AS30: Pr | AT30: Pt | AU30: Rb | AV30: Re | AW30: Rh | AX30: Ru | AY30: S | AZ30: Sb | BA30: Sc | BB30: Se | BC30: Si | BD30: Sm | BE30: Sn | BF30: Sr | BG30: Ta | BH30: Tb | BI30: Te | BJ30: Th | BK30: Ti | BL30: Tl | BM30: Tm | BN30: U | BO30: V | BP30: W | BQ30: Y | BR30: Yb | BS30: Zn | BT30: Zr
A31: Leaching cycle | B31: mg | C31: mg | D31: mg | E31: mg | F31: mg | G31: mg | H31: mg | I31: mg | J31: mg | K31: mg | L31: mg | M31: mg | N31: mg | O31: mg | P31: mg | Q31: mg | R31: mg | S31: mg | T31: mg | U31: mg | V31: mg | W31: mg | X31: mg | Y31: mg | Z31: mg | AA31: mg | AB31: mg | AC31: mg | AD31: mg | AE31: mg | AF31: mg | AG31: mg | AH31: mg | AI31: mg | AJ31: mg | AK31: mg | AL31: mg | AM31: mg | AN31: mg | AO31: mg | AP31: mg | AQ31: mg | AR31: mg | AS31: mg | AT31: mg | AU31: mg | AV31: mg | AW31: mg | AX31: mg | AY31: mg | AZ31: mg | BA31: mg | BB31: mg | BC31: mg | BD31: mg | BE31: mg | BF31: mg | BG31: mg | BH31: mg | BI31: mg | BJ31: mg | BK31: mg | BL31: mg | BM31: mg | BN31: mg | BO31: mg | BP31: mg | BQ31: mg | BR31: mg | BS31: mg | BT31: mg
A32: 0 | B32: ='Leachate chemistry'!$B$33*'Leachate chemistry'!C33*0.000001 -> 7e-07 | C32: ='Leachate chemistry'!$B$33*'Leachate chemistry'!D33*0.000001 -> 0.000475 | D32: ='Leachate chemistry'!$B$33*'Leachate chemistry'!E33*0.000001 -> 7.25e-05 | E32: ='Leachate chemistry'!$B$33*'Leachate chemistry'!F33*0.000001 -> 0.00011 | F32: ='Leachate chemistry'!$B$33*'Leachate chemistry'!G33*0.000001 -> 0.00325 | G32: ='Leachate chemistry'!$B$33*'Leachate chemistry'!H33*0.000001 -> 0.000325 | H32: ='Leachate chemistry'!$B$33*'Leachate chemistry'!I33*0.000001 -> 3e-06 | I32: ='Leachate chemistry'!$B$33*'Leachate chemistry'!J33*0.000001 -> 1.1e-07 | ... BT32: ='Leachate chemistry'!$B$33*'Leachate chemistry'!BU33*0.000001 -> 6.25e-07
A33: 1 | B33: ='Leachate chemistry'!$B$34*'Leachate chemistry'!C34*0.000001 -> 3.25e-06 | C33: ='Leachate chemistry'!$B$34*'Leachate chemistry'!D34*0.000001 -> 0.00525 | D33: ='Leachate chemistry'!$B$34*'Leachate chemistry'!E34*0.000001 -> 7.5e-05 | E33: ='Leachate chemistry'!$B$34*'Leachate chemistry'!F34*0.000001 -> 1.25e-06 | F33: ='Leachate chemistry'!$B$34*'Leachate chemistry'!G34*0.000001 -> 0.000875 | G33: ='Leachate chemistry'!$B$34*'Leachate chemistry'!H34*0.000001 -> 0.0001825 | H33: ='Leachate chemistry'!$B$34*'Leachate chemistry'!I34*0.000001 -> 7.5e-06 | I33: ='Leachate chemistry'!$B$34*'Leachate chemistry'!J34*0.000001 -> 2.5e-07 | ... BT33: ='Leachate chemistry'!$B$34*'Leachate chemistry'!BU34*0.000001 -> 3.25e-07
A34: 2 | B34: ='Leachate chemistry'!$B$35*'Leachate chemistry'!C35*0.000001 -> 2.125e-08 | C34: ='Leachate chemistry'!$B$35*'Leachate chemistry'!D35*0.000001 -> 0.000675 | D34: ='Leachate chemistry'!$B$35*'Leachate chemistry'!E35*0.000001 -> 8e-05 | E34: ='Leachate chemistry'!$B$35*'Leachate chemistry'!F35*0.000001 -> 4.75e-07 | F34: ='Leachate chemistry'!$B$35*'Leachate chemistry'!G35*0.000001 -> 0.0009 | G34: ='Leachate chemistry'!$B$35*'Leachate chemistry'!H35*0.000001 -> 0.0002325 | H34: ='Leachate chemistry'!$B$35*'Leachate chemistry'!I35*0.000001 -> 3.75e-06 | I34: ='Leachate chemistry'!$B$35*'Leachate chemistry'!J35*0.000001 -> 7.25e-08 | ... BT34: ='Leachate chemistry'!$B$35*'Leachate chemistry'!BU35*0.000001 -> 1.2e-06
A35: 3 | B35: ='Leachate chemistry'!$B$36*'Leachate chemistry'!C36*0.000001 -> 1.8e-07 | C35: ='Leachate chemistry'!$B$36*'Leachate chemistry'!D36*0.000001 -> 0.000375 | D35: ='Leachate chemistry'!$B$36*'Leachate chemistry'!E36*0.000001 -> 5.25e-05 | E35: ='Leachate chemistry'!$B$36*'Leachate chemistry'!F36*0.000001 -> 9.25e-07 | F35: ='Leachate chemistry'!$B$36*'Leachate chemistry'!G36*0.000001 -> 0.00017 | G35: ='Leachate chemistry'!$B$36*'Leachate chemistry'!H36*0.000001 -> 0.0002275 | H35: ='Leachate chemistry'!$B$36*'Leachate chemistry'!I36*0.000001 -> 3.5e-06 | I35: ='Leachate chemistry'!$B$36*'Leachate chemistry'!J36*0.000001 -> 1.175e-07 | ... BT35: ='Leachate chemistry'!$B$36*'Leachate chemistry'!BU36*0.000001 -> 7.75e-07
A36: 4 | B36: ='Leachate chemistry'!$B$37*'Leachate chemistry'!C37*0.000001 -> 0 | C36: ='Leachate chemistry'!$B$37*'Leachate chemistry'!D37*0.000001 -> 0.000625 | D36: ='Leachate chemistry'!$B$37*'Leachate chemistry'!E37*0.000001 -> 7.5e-05 | E36: ='Leachate chemistry'!$B$37*'Leachate chemistry'!F37*0.000001 -> 7.5e-07 | F36: ='Leachate chemistry'!$B$37*'Leachate chemistry'!G37*0.000001 -> 0.001125 | G36: ='Leachate chemistry'!$B$37*'Leachate chemistry'!H37*0.000001 -> 0.0002075 | H36: ='Leachate chemistry'!$B$37*'Leachate chemistry'!I37*0.000001 -> 3e-06 | I36: ='Leachate chemistry'!$B$37*'Leachate chemistry'!J37*0.000001 -> 5.25e-08 | ... BT36: ='Leachate chemistry'!$B$37*'Leachate chemistry'!BU37*0.000001 -> 1.975e-06
A37: 5 | B37: ='Leachate chemistry'!$B$38*'Leachate chemistry'!C38*0.000001 -> 7.25e-07 | C37: ='Leachate chemistry'!$B$38*'Leachate chemistry'!D38*0.000001 -> 0.000275 | D37: ='Leachate chemistry'!$B$38*'Leachate chemistry'!E38*0.000001 -> 2.225e-05 | E37: ='Leachate chemistry'!$B$38*'Leachate chemistry'!F38*0.000001 -> 7.5e-07 | F37: ='Leachate chemistry'!$B$38*'Leachate chemistry'!G38*0.000001 -> 0.000725 | G37: ='Leachate chemistry'!$B$38*'Leachate chemistry'!H38*0.000001 -> 0.0003 | H37: ='Leachate chemistry'!$B$38*'Leachate chemistry'!I38*0.000001 -> 4e-06 | I37: ='Leachate chemistry'!$B$38*'Leachate chemistry'!J38*0.000001 -> 3.75e-07 | ... BT37: ='Leachate chemistry'!$B$38*'Leachate chemistry'!BU38*0.000001 -> 1.3e-06
A38: 6 | B38: ='Leachate chemistry'!$B$39*'Leachate chemistry'!C39*0.000001 -> 2.75e-06 | C38: ='Leachate chemistry'!$B$39*'Leachate chemistry'!D39*0.000001 -> 0.0005 | D38: ='Leachate chemistry'!$B$39*'Leachate chemistry'!E39*0.000001 -> 3.5e-05 | E38: ='Leachate chemistry'!$B$39*'Leachate chemistry'!F39*0.000001 -> 7.5e-07 | F38: ='Leachate chemistry'!$B$39*'Leachate chemistry'!G39*0.000001 -> 0.00035 | G38: ='Leachate chemistry'!$B$39*'Leachate chemistry'!H39*0.000001 -> 0.0002475 | H38: ='Leachate chemistry'!$B$39*'Leachate chemistry'!I39*0.000001 -> 4e-06 | I38: ='Leachate chemistry'!$B$39*'Leachate chemistry'!J39*0.000001 -> 1.475e-06 | ... BT38: ='Leachate chemistry'!$B$39*'Leachate chemistry'!BU39*0.000001 -> 1.925e-06
A39: 7 | B39: ='Leachate chemistry'!$B$40*'Leachate chemistry'!C40*0.000001 -> 2.365e-06 | C39: ='Leachate chemistry'!$B$40*'Leachate chemistry'!D40*0.000001 -> 0.0010535 | D39: ='Leachate chemistry'!$B$40*'Leachate chemistry'!E40*0.000001 -> 3.87e-05 | E39: ='Leachate chemistry'!$B$40*'Leachate chemistry'!F40*0.000001 -> 6.45e-08 | F39: ='Leachate chemistry'!$B$40*'Leachate chemistry'!G40*0.000001 -> 0.000387 | G39: ='Leachate chemistry'!$B$40*'Leachate chemistry'!H40*0.000001 -> 0.000258 | H39: ='Leachate chemistry'!$B$40*'Leachate chemistry'!I40*0.000001 -> 5.59e-06 | I39: ='Leachate chemistry'!$B$40*'Leachate chemistry'!J40*0.000001 -> 9.675e-07 | ... BT39: ='Leachate chemistry'!$B$40*'Leachate chemistry'!BU40*0.000001 -> 3.87e-06
A40: 8 | B40: ='Leachate chemistry'!$B$41*'Leachate chemistry'!C41*0.000001 -> 1.7415e-06 | C40: ='Leachate chemistry'!$B$41*'Leachate chemistry'!D41*0.000001 -> 0.0005375 | D40: ='Leachate chemistry'!$B$41*'Leachate chemistry'!E41*0.000001 -> 2.795e-05 | E40: ='Leachate chemistry'!$B$41*'Leachate chemistry'!F41*0.000001 -> 8.6e-08 | F40: ='Leachate chemistry'!$B$41*'Leachate chemistry'!G41*0.000001 -> 0.00258 | G40: ='Leachate chemistry'!$B$41*'Leachate chemistry'!H41*0.000001 -> 0.0002795 | H40: ='Leachate chemistry'!$B$41*'Leachate chemistry'!I41*0.000001 -> 1.4405e-05 | I40: ='Leachate chemistry'!$B$41*'Leachate chemistry'!J41*0.000001 -> 1.0965e-06 | ... BT40: ='Leachate chemistry'!$B$41*'Leachate chemistry'!BU41*0.000001 -> 1.634e-06
A41: 9 | B41: ='Leachate chemistry'!$B$42*'Leachate chemistry'!C42*0.000001 -> 1.376e-06 | C41: ='Leachate chemistry'!$B$42*'Leachate chemistry'!D42*0.000001 -> 0.002365 | D41: ='Leachate chemistry'!$B$42*'Leachate chemistry'!E42*0.000001 -> 3.225e-05 | E41: ='Leachate chemistry'!$B$42*'Leachate chemistry'!F42*0.000001 -> 2.15e-07 | F41: ='Leachate chemistry'!$B$42*'Leachate chemistry'!G42*0.000001 -> 0.00473 | G41: ='Leachate chemistry'!$B$42*'Leachate chemistry'!H42*0.000001 -> 0.0006665 | H41: ='Leachate chemistry'!$B$42*'Leachate chemistry'!I42*0.000001 -> 2.58e-05 | I41: ='Leachate chemistry'!$B$42*'Leachate chemistry'!J42*0.000001 -> 7.095e-07 | ... BT41: ='Leachate chemistry'!$B$42*'Leachate chemistry'!BU42*0.000001 -> 1.634e-06
A42: 10 | B42: ='Leachate chemistry'!$B$43*'Leachate chemistry'!C43*0.000001 -> 4.085e-07 | C42: ='Leachate chemistry'!$B$43*'Leachate chemistry'!D43*0.000001 -> 0.00602 | D42: ='Leachate chemistry'!$B$43*'Leachate chemistry'!E43*0.000001 -> 6.665e-06 | E42: ='Leachate chemistry'!$B$43*'Leachate chemistry'!F43*0.000001 -> 1.505e-07 | F42: ='Leachate chemistry'!$B$43*'Leachate chemistry'!G43*0.000001 -> 0.00989 | G42: ='Leachate chemistry'!$B$43*'Leachate chemistry'!H43*0.000001 -> 0.006665 | H42: ='Leachate chemistry'!$B$43*'Leachate chemistry'!I43*0.000001 -> 3.655e-05 | I42: ='Leachate chemistry'!$B$43*'Leachate chemistry'!J43*0.000001 -> 6.45e-07 | ... BT42: ='Leachate chemistry'!$B$43*'Leachate chemistry'!BU43*0.000001 -> 2.365e-05
A43: 11 | B43: ='Leachate chemistry'!$B$44*'Leachate chemistry'!C44*0.000001 -> 0.0002415 | C43: ='Leachate chemistry'!$B$44*'Leachate chemistry'!D44*0.000001 -> 0.3465 | D43: ='Leachate chemistry'!$B$44*'Leachate chemistry'!E44*0.000001 -> 0.0004095 | E43: ='Leachate chemistry'!$B$44*'Leachate chemistry'!F44*0.000001 -> 7.98e-05 | F43: ='Leachate chemistry'!$B$44*'Leachate chemistry'!G44*0.000001 -> 0.00357 | G43: ='Leachate chemistry'!$B$44*'Leachate chemistry'!H44*0.000001 -> 0.04305 | H43: ='Leachate chemistry'!$B$44*'Leachate chemistry'!I44*0.000001 -> 0.0003885 | I43: ='Leachate chemistry'!$B$44*'Leachate chemistry'!J44*0.000001 -> 0.0001785 | ... BT43: ='Leachate chemistry'!$B$44*'Leachate chemistry'!BU44*0.000001 -> 0.001575
A44: 12 | B44: ='Leachate chemistry'!$B$45*'Leachate chemistry'!C45*0.000001 -> 0.00021 | C44: ='Leachate chemistry'!$B$45*'Leachate chemistry'!D45*0.000001 -> 0.1155 | D44: ='Leachate chemistry'!$B$45*'Leachate chemistry'!E45*0.000001 -> 0.00126 | E44: ='Leachate chemistry'!$B$45*'Leachate chemistry'!F45*0.000001 -> 8.4e-06 | F44: ='Leachate chemistry'!$B$45*'Leachate chemistry'!G45*0.000001 -> 0.00462 | G44: ='Leachate chemistry'!$B$45*'Leachate chemistry'!H45*0.000001 -> 0.0315 | H44: ='Leachate chemistry'!$B$45*'Leachate chemistry'!I45*0.000001 -> 4.41e-05 | I44: ='Leachate chemistry'!$B$45*'Leachate chemistry'!J45*0.000001 -> 8.715e-05 | ... BT44: ='Leachate chemistry'!$B$45*'Leachate chemistry'!BU45*0.000001 -> 0.00168
A45: 13 | B45: ='Leachate chemistry'!$B$46*'Leachate chemistry'!C46*0.000001 -> 5.985e-07 | C45: ='Leachate chemistry'!$B$46*'Leachate chemistry'!D46*0.000001 -> 0.09975 | D45: ='Leachate chemistry'!$B$46*'Leachate chemistry'!E46*0.000001 -> 0.0006405 | E45: ='Leachate chemistry'!$B$46*'Leachate chemistry'!F46*0.000001 -> 3.465e-07 | F45: ='Leachate chemistry'!$B$46*'Leachate chemistry'!G46*0.000001 -> 0.00147 | G45: ='Leachate chemistry'!$B$46*'Leachate chemistry'!H46*0.000001 -> 0.00231 | H45: ='Leachate chemistry'!$B$46*'Leachate chemistry'!I46*0.000001 -> 1.995e-05 | I45: ='Leachate chemistry'!$B$46*'Leachate chemistry'!J46*0.000001 -> 3.885e-05 | ... BT45: ='Leachate chemistry'!$B$46*'Leachate chemistry'!BU46*0.000001 -> 0.001575
A46: 14 | B46: ='Leachate chemistry'!$B$47*'Leachate chemistry'!C47*0.000001 -> 7.056e-05 | C46: ='Leachate chemistry'!$B$47*'Leachate chemistry'!D47*0.000001 -> 0.006048 | D46: ='Leachate chemistry'!$B$47*'Leachate chemistry'!E47*0.000001 -> 0.0001848 | E46: ='Leachate chemistry'!$B$47*'Leachate chemistry'!F47*0.000001 -> 1.2096e-05 | F46: ='Leachate chemistry'!$B$47*'Leachate chemistry'!G47*0.000001 -> 0.0011592 | G46: ='Leachate chemistry'!$B$47*'Leachate chemistry'!H47*0.000001 -> 0.000252 | H46: ='Leachate chemistry'!$B$47*'Leachate chemistry'!I47*0.000001 -> 2.184e-06 | I46: ='Leachate chemistry'!$B$47*'Leachate chemistry'!J47*0.000001 -> 1.0752e-05 | ... BT46: ='Leachate chemistry'!$B$47*'Leachate chemistry'!BU47*0.000001 -> 0.0003696
A47: 15 | B47: ='Leachate chemistry'!$B$48*'Leachate chemistry'!C48*0.000001 -> 9.0739894e-05 | C47: ='Leachate chemistry'!$B$48*'Leachate chemistry'!D48*0.000001 -> 0.0067412481 | D47: ='Leachate chemistry'!$B$48*'Leachate chemistry'!E48*0.000001 -> 0.00042142421 | E47: ='Leachate chemistry'!$B$48*'Leachate chemistry'!F48*0.000001 -> 2.1280515e-05 | F47: ='Leachate chemistry'!$B$48*'Leachate chemistry'!G48*0.000001 -> 0.00086581973 | G47: ='Leachate chemistry'!$B$48*'Leachate chemistry'!H48*0.000001 -> 0.00017419837 | H47: ='Leachate chemistry'!$B$48*'Leachate chemistry'!I48*0.000001 -> 5.0831134e-06 | I47: ='Leachate chemistry'!$B$48*'Leachate chemistry'!J48*0.000001 -> 1.768919e-05 | ... BT47: ='Leachate chemistry'!$B$48*'Leachate chemistry'!BU48*0.000001 -> 0.00054290382
A48: 16 | B48: ='Leachate chemistry'!$B$49*'Leachate chemistry'!C49*0.000001 -> 3.6995346e-05 | C48: ='Leachate chemistry'!$B$49*'Leachate chemistry'!D49*0.000001 -> 0.0072762562 | D48: ='Leachate chemistry'!$B$49*'Leachate chemistry'!E49*0.000001 -> 0.00023215912 | E48: ='Leachate chemistry'!$B$49*'Leachate chemistry'!F49*0.000001 -> 4.7198669e-06 | F48: ='Leachate chemistry'!$B$49*'Leachate chemistry'!G49*0.000001 -> 0.00073611404 | G48: ='Leachate chemistry'!$B$49*'Leachate chemistry'!H49*0.000001 -> 0.00010392382 | H48: ='Leachate chemistry'!$B$49*'Leachate chemistry'!I49*0.000001 -> 2.4675674e-06 | I48: ='Leachate chemistry'!$B$49*'Leachate chemistry'!J49*0.000001 -> 1.1996102e-05 | ... BT48: ='Leachate chemistry'!$B$49*'Leachate chemistry'!BU49*0.000001 -> 0.00035121353
A49: 17 | B49: ='Leachate chemistry'!$B$50*'Leachate chemistry'!C50*0.000001 -> 3.87e-05 | C49: ='Leachate chemistry'!$B$50*'Leachate chemistry'!D50*0.000001 -> 0.0301 | D49: ='Leachate chemistry'!$B$50*'Leachate chemistry'!E50*0.000001 -> 0.000301 | E49: ='Leachate chemistry'!$B$50*'Leachate chemistry'!F50*0.000001 -> 5.805e-06 | F49: ='Leachate chemistry'!$B$50*'Leachate chemistry'!G50*0.000001 -> 0.001118 | G49: ='Leachate chemistry'!$B$50*'Leachate chemistry'!H50*0.000001 -> 0.000387 | H49: ='Leachate chemistry'!$B$50*'Leachate chemistry'!I50*0.000001 -> 2.58e-06 | I49: ='Leachate chemistry'!$B$50*'Leachate chemistry'!J50*0.000001 -> 4.945e-05 | ... BT49: ='Leachate chemistry'!$B$50*'Leachate chemistry'!BU50*0.000001 -> 0.0004945
A50: 18 | B50: ='Leachate chemistry'!$B$51*'Leachate chemistry'!C51*0.000001 -> 3.1175e-05 | C50: ='Leachate chemistry'!$B$51*'Leachate chemistry'!D51*0.000001 -> 0.0216075 | D50: ='Leachate chemistry'!$B$51*'Leachate chemistry'!E51*0.000001 -> 0.000258 | E50: ='Leachate chemistry'!$B$51*'Leachate chemistry'!F51*0.000001 -> 4.73e-06 | F50: ='Leachate chemistry'!$B$51*'Leachate chemistry'!G51*0.000001 -> 0.0017415 | G50: ='Leachate chemistry'!$B$51*'Leachate chemistry'!H51*0.000001 -> 0.00023435 | H50: ='Leachate chemistry'!$B$51*'Leachate chemistry'!I51*0.000001 -> 2.365e-06 | I50: ='Leachate chemistry'!$B$51*'Leachate chemistry'!J51*0.000001 -> 4.1925e-05 | ... BT50: ='Leachate chemistry'!$B$51*'Leachate chemistry'!BU51*0.000001 -> 0.00050525
A51: 19 | B51: ='Leachate chemistry'!$B$52*'Leachate chemistry'!C52*0.000001 -> 2.2e-05 | C51: ='Leachate chemistry'!$B$52*'Leachate chemistry'!D52*0.000001 -> 0.0122 | D51: ='Leachate chemistry'!$B$52*'Leachate chemistry'!E52*0.000001 -> 0.0002 | E51: ='Leachate chemistry'!$B$52*'Leachate chemistry'!F52*0.000001 -> 3.4e-06 | F51: ='Leachate chemistry'!$B$52*'Leachate chemistry'!G52*0.000001 -> 0.0022 | G51: ='Leachate chemistry'!$B$52*'Leachate chemistry'!H52*0.000001 -> 7.6e-05 | H51: ='Leachate chemistry'!$B$52*'Leachate chemistry'!I52*0.000001 -> 2e-06 | I51: ='Leachate chemistry'!$B$52*'Leachate chemistry'!J52*0.000001 -> 3.2e-05 | ... BT51: ='Leachate chemistry'!$B$52*'Leachate chemistry'!BU52*0.000001 -> 0.00048
A52: 20 | B52: ='Leachate chemistry'!$B$53*'Leachate chemistry'!C53*0.000001 -> 2.5700924e-05 | C52: ='Leachate chemistry'!$B$53*'Leachate chemistry'!D53*0.000001 -> 0.010546169 | D52: ='Leachate chemistry'!$B$53*'Leachate chemistry'!E53*0.000001 -> 0.00014348001 | E52: ='Leachate chemistry'!$B$53*'Leachate chemistry'!F53*0.000001 -> 2.9020989e-06 | F52: ='Leachate chemistry'!$B$53*'Leachate chemistry'!G53*0.000001 -> 0.0024131566 | G52: ='Leachate chemistry'!$B$53*'Leachate chemistry'!H53*0.000001 -> 7.0654717e-05 | H52: ='Leachate chemistry'!$B$53*'Leachate chemistry'!I53*0.000001 -> 1.8167294e-06 | I52: ='Leachate chemistry'!$B$53*'Leachate chemistry'!J53*0.000001 -> 3.2946108e-05 | ... BT52: ='Leachate chemistry'!$B$53*'Leachate chemistry'!BU53*0.000001 -> 0.00039931704
A53: 21 | B53: ='Leachate chemistry'!$B$54*'Leachate chemistry'!C54*0.000001 -> 3.16242e-05 | C53: ='Leachate chemistry'!$B$54*'Leachate chemistry'!D54*0.000001 -> 0.0090904549 | D53: ='Leachate chemistry'!$B$54*'Leachate chemistry'!E54*0.000001 -> 8.2000952e-05 | E53: ='Leachate chemistry'!$B$54*'Leachate chemistry'!F54*0.000001 -> 2.4490859e-06 | F53: ='Leachate chemistry'!$B$54*'Leachate chemistry'!G54*0.000001 -> 0.0028047523 | G53: ='Leachate chemistry'!$B$54*'Leachate chemistry'!H54*0.000001 -> 6.7927029e-05 | H53: ='Leachate chemistry'!$B$54*'Leachate chemistry'!I54*0.000001 -> 1.6904531e-06 | I53: ='Leachate chemistry'!$B$54*'Leachate chemistry'!J54*0.000001 -> 3.5886479e-05 | ... BT53: ='Leachate chemistry'!$B$54*'Leachate chemistry'!BU54*0.000001 -> 0.0003220714
A54: 22 | B54: ='Leachate chemistry'!$B$55*'Leachate chemistry'!C55*0.000001 -> 2.016381e-05 | C54: ='Leachate chemistry'!$B$55*'Leachate chemistry'!D55*0.000001 -> 0.0063037627 | D54: ='Leachate chemistry'!$B$55*'Leachate chemistry'!E55*0.000001 -> 5.2044229e-05 | E54: ='Leachate chemistry'!$B$55*'Leachate chemistry'!F55*0.000001 -> 2.276744e-06 | F54: ='Leachate chemistry'!$B$55*'Leachate chemistry'!G55*0.000001 -> 0.0023901707 | G54: ='Leachate chemistry'!$B$55*'Leachate chemistry'!H55*0.000001 -> 5.1600122e-05 | H54: ='Leachate chemistry'!$B$55*'Leachate chemistry'!I55*0.000001 -> 7.0482822e-06 | I54: ='Leachate chemistry'!$B$55*'Leachate chemistry'!J55*0.000001 -> 2.070867e-05 | ... BT54: ='Leachate chemistry'!$B$55*'Leachate chemistry'!BU55*0.000001 -> 0.00017628939
A55: 23 | B55: ='Leachate chemistry'!$B$56*'Leachate chemistry'!C56*0.000001 -> 9.9457086e-06 | C55: ='Leachate chemistry'!$B$56*'Leachate chemistry'!D56*0.000001 -> 0.0038079576 | D55: ='Leachate chemistry'!$B$56*'Leachate chemistry'!E56*0.000001 -> 2.5340061e-05 | E55: ='Leachate chemistry'!$B$56*'Leachate chemistry'!F56*0.000001 -> 2.1073234e-06 | F55: ='Leachate chemistry'!$B$56*'Leachate chemistry'!G56*0.000001 -> 0.0020072667 | G55: ='Leachate chemistry'!$B$56*'Leachate chemistry'!H56*0.000001 -> 3.6860359e-05 | H55: ='Leachate chemistry'!$B$56*'Leachate chemistry'!I56*0.000001 -> 1.1693764e-05 | I55: ='Leachate chemistry'!$B$56*'Leachate chemistry'!J56*0.000001 -> 7.223993e-06 | ... BT55: ='Leachate chemistry'!$B$56*'Leachate chemistry'!BU56*0.000001 -> 4.6950432e-05
A58: Cell 3 | B58: Ag | C58: Al | D58: As | E58: Au | F58: B | G58: Ba | H58: Be | I58: Bi | J58: Br | K58: Ca | L58: Cd | M58: Ce | N58: Co | O58: Cr | P58: Cs | Q58: Cu | R58: Dy | S58: Er | T58: Eu | U58: Fe | V58: Ga | W58: Gd | X58: Ge | Y58: Hf | Z58: Hg | AA58: Ho | AB58: I | AC58: Ir | AD58: K | AE58: La | AF58: Li | AG58: Lu | AH58: Mg | AI58: Mn | AJ58: Mo | AK58: Na | AL58: Nb | AM58: Nd | AN58: Ni | AO58: Os | AP58: P | AQ58: Pb | AR58: Pd | AS58: Pr | AT58: Pt | AU58: Rb | AV58: Re | AW58: Rh | AX58: Ru | AY58: S | AZ58: Sb | BA58: Sc | BB58: Se | BC58: Si | BD58: Sm | BE58: Sn | BF58: Sr | BG58: Ta | BH58: Tb | BI58: Te | BJ58: Th | BK58: Ti | BL58: Tl | BM58: Tm | BN58: U | BO58: V | BP58: W | BQ58: Y | BR58: Yb | BS58: Zn | BT58: Zr
A59: Leaching cycle | B59: mg | C59: mg | D59: mg | E59: mg | F59: mg | G59: mg | H59: mg | I59: mg | J59: mg | K59: mg | L59: mg | M59: mg | N59: mg | O59: mg | P59: mg | Q59: mg | R59: mg | S59: mg | T59: mg | U59: mg | V59: mg | W59: mg | X59: mg | Y59: mg | Z59: mg | AA59: mg | AB59: mg | AC59: mg | AD59: mg | AE59: mg | AF59: mg | AG59: mg | AH59: mg | AI59: mg | AJ59: mg | AK59: mg | AL59: mg | AM59: mg | AN59: mg | AO59: mg | AP59: mg | AQ59: mg | AR59: mg | AS59: mg | AT59: mg | AU59: mg | AV59: mg | AW59: mg | AX59: mg | AY59: mg | AZ59: mg | BA59: mg | BB59: mg | BC59: mg | BD59: mg | BE59: mg | BF59: mg | BG59: mg | BH59: mg | BI59: mg | BJ59: mg | BK59: mg | BL59: mg | BM59: mg | BN59: mg | BO59: mg | BP59: mg | BQ59: mg | BR59: mg | BS59: mg | BT59: mg
A60: 0 | B60: ='Leachate chemistry'!$B$61*'Leachate chemistry'!C61*0.000001 -> 1.475e-06 | C60: ='Leachate chemistry'!$B$61*'Leachate chemistry'!D61*0.000001 -> 0.00025 | D60: ='Leachate chemistry'!$B$61*'Leachate chemistry'!E61*0.000001 -> 7.75e-05 | E60: ='Leachate chemistry'!$B$61*'Leachate chemistry'!F61*0.000001 -> 8.75e-05 | F60: ='Leachate chemistry'!$B$61*'Leachate chemistry'!G61*0.000001 -> 0.00325 | G60: ='Leachate chemistry'!$B$61*'Leachate chemistry'!H61*0.000001 -> 0.000375 | H60: ='Leachate chemistry'!$B$61*'Leachate chemistry'!I61*0.000001 -> 2.075e-06 | I60: ='Leachate chemistry'!$B$61*'Leachate chemistry'!J61*0.000001 -> 1.6e-07 | ... BT60: ='Leachate chemistry'!$B$61*'Leachate chemistry'!BU61*0.000001 -> 7.25e-07
A61: 1 | B61: ='Leachate chemistry'!$B$62*'Leachate chemistry'!C62*0.000001 -> 5.25e-07 | C61: ='Leachate chemistry'!$B$62*'Leachate chemistry'!D62*0.000001 -> 0.00325 | D61: ='Leachate chemistry'!$B$62*'Leachate chemistry'!E62*0.000001 -> 6.5e-05 | E61: ='Leachate chemistry'!$B$62*'Leachate chemistry'!F62*0.000001 -> 6e-07 | F61: ='Leachate chemistry'!$B$62*'Leachate chemistry'!G62*0.000001 -> 0.000775 | G61: ='Leachate chemistry'!$B$62*'Leachate chemistry'!H62*0.000001 -> 0.0002025 | H61: ='Leachate chemistry'!$B$62*'Leachate chemistry'!I62*0.000001 -> 3.75e-06 | I61: ='Leachate chemistry'!$B$62*'Leachate chemistry'!J62*0.000001 -> 3e-07 | ... BT61: ='Leachate chemistry'!$B$62*'Leachate chemistry'!BU62*0.000001 -> 9.75e-07
A62: 2 | B62: ='Leachate chemistry'!$B$63*'Leachate chemistry'!C63*0.000001 -> 2.125e-06 | C62: ='Leachate chemistry'!$B$63*'Leachate chemistry'!D63*0.000001 -> 0.0012 | D62: ='Leachate chemistry'!$B$63*'Leachate chemistry'!E63*0.000001 -> 5.25e-05 | E62: ='Leachate chemistry'!$B$63*'Leachate chemistry'!F63*0.000001 -> 4.9e-07 | F62: ='Leachate chemistry'!$B$63*'Leachate chemistry'!G63*0.000001 -> 0.000825 | G62: ='Leachate chemistry'!$B$63*'Leachate chemistry'!H63*0.000001 -> 0.0003 | H62: ='Leachate chemistry'!$B$63*'Leachate chemistry'!I63*0.000001 -> 5.75e-06 | I62: ='Leachate chemistry'!$B$63*'Leachate chemistry'!J63*0.000001 -> 1.075e-07 | ... BT62: ='Leachate chemistry'!$B$63*'Leachate chemistry'!BU63*0.000001 -> 1.15e-06
A63: 3 | B63: ='Leachate chemistry'!$B$64*'Leachate chemistry'!C64*0.000001 -> 1.85e-07 | C63: ='Leachate chemistry'!$B$64*'Leachate chemistry'!D64*0.000001 -> 0.00125 | D63: ='Leachate chemistry'!$B$64*'Leachate chemistry'!E64*0.000001 -> 3.5e-05 | E63: ='Leachate chemistry'!$B$64*'Leachate chemistry'!F64*0.000001 -> 4.5e-07 | F63: ='Leachate chemistry'!$B$64*'Leachate chemistry'!G64*0.000001 -> 0.0001425 | G63: ='Leachate chemistry'!$B$64*'Leachate chemistry'!H64*0.000001 -> 0.00035 | H63: ='Leachate chemistry'!$B$64*'Leachate chemistry'!I64*0.000001 -> 4.5e-06 | I63: ='Leachate chemistry'!$B$64*'Leachate chemistry'!J64*0.000001 -> 4e-07 | ... BT63: ='Leachate chemistry'!$B$64*'Leachate chemistry'!BU64*0.000001 -> 1.55e-06
A64: 4 | B64: ='Leachate chemistry'!$B$65*'Leachate chemistry'!C65*0.000001 -> 0 | C64: ='Leachate chemistry'!$B$65*'Leachate chemistry'!D65*0.000001 -> 0.001275 | D64: ='Leachate chemistry'!$B$65*'Leachate chemistry'!E65*0.000001 -> 8e-05 | E64: ='Leachate chemistry'!$B$65*'Leachate chemistry'!F65*0.000001 -> 3.75e-07 | F64: ='Leachate chemistry'!$B$65*'Leachate chemistry'!G65*0.000001 -> 0.000775 | G64: ='Leachate chemistry'!$B$65*'Leachate chemistry'!H65*0.000001 -> 0.000475 | H64: ='Leachate chemistry'!$B$65*'Leachate chemistry'!I65*0.000001 -> 8e-06 | I64: ='Leachate chemistry'!$B$65*'Leachate chemistry'!J65*0.000001 -> 3.5e-07 | ... BT64: ='Leachate chemistry'!$B$65*'Leachate chemistry'!BU65*0.000001 -> 1.8e-06
A65: 5 | B65: ='Leachate chemistry'!$B$66*'Leachate chemistry'!C66*0.000001 -> 5.5e-07 | C65: ='Leachate chemistry'!$B$66*'Leachate chemistry'!D66*0.000001 -> 0.000625 | D65: ='Leachate chemistry'!$B$66*'Leachate chemistry'!E66*0.000001 -> 1.325e-05 | E65: ='Leachate chemistry'!$B$66*'Leachate chemistry'!F66*0.000001 -> 8e-07 | F65: ='Leachate chemistry'!$B$66*'Leachate chemistry'!G66*0.000001 -> 0 | G65: ='Leachate chemistry'!$B$66*'Leachate chemistry'!H66*0.000001 -> 0.00025 | H65: ='Leachate chemistry'!$B$66*'Leachate chemistry'!I66*0.000001 -> 3.75e-06 | I65: ='Leachate chemistry'!$B$66*'Leachate chemistry'!J66*0.000001 -> 2.75e-07 | ... BT65: ='Leachate chemistry'!$B$66*'Leachate chemistry'!BU66*0.000001 -> 1.325e-06
A66: 6 | B66: ='Leachate chemistry'!$B$67*'Leachate chemistry'!C67*0.000001 -> 1.95e-08 | C66: ='Leachate chemistry'!$B$67*'Leachate chemistry'!D67*0.000001 -> 0.000825 | D66: ='Leachate chemistry'!$B$67*'Leachate chemistry'!E67*0.000001 -> 2.75e-05 | E66: ='Leachate chemistry'!$B$67*'Leachate chemistry'!F67*0.000001 -> 7.5e-07 | F66: ='Leachate chemistry'!$B$67*'Leachate chemistry'!G67*0.000001 -> 0.001675 | G66: ='Leachate chemistry'!$B$67*'Leachate chemistry'!H67*0.000001 -> 0.000275 | H66: ='Leachate chemistry'!$B$67*'Leachate chemistry'!I67*0.000001 -> 7e-06 | I66: ='Leachate chemistry'!$B$67*'Leachate chemistry'!J67*0.000001 -> 2.025e-07 | ... BT66: ='Leachate chemistry'!$B$67*'Leachate chemistry'!BU67*0.000001 -> 1.1e-06
A67: 7 | B67: ='Leachate chemistry'!$B$68*'Leachate chemistry'!C68*0.000001 -> 1.118e-06 | C67: ='Leachate chemistry'!$B$68*'Leachate chemistry'!D68*0.000001 -> 0.001204 | D67: ='Leachate chemistry'!$B$68*'Leachate chemistry'!E68*0.000001 -> 1.5695e-05 | E67: ='Leachate chemistry'!$B$68*'Leachate chemistry'!F68*0.000001 -> 2.15e-07 | F67: ='Leachate chemistry'!$B$68*'Leachate chemistry'!G68*0.000001 -> 0.0004085 | G67: ='Leachate chemistry'!$B$68*'Leachate chemistry'!H68*0.000001 -> 0.000301 | H67: ='Leachate chemistry'!$B$68*'Leachate chemistry'!I68*0.000001 -> 7.525e-06 | I67: ='Leachate chemistry'!$B$68*'Leachate chemistry'!J68*0.000001 -> 2.365e-07 | ... BT67: ='Leachate chemistry'!$B$68*'Leachate chemistry'!BU68*0.000001 -> 1.9565e-06
A68: 8 | B68: ='Leachate chemistry'!$B$69*'Leachate chemistry'!C69*0.000001 -> 5.16e-07 | C68: ='Leachate chemistry'!$B$69*'Leachate chemistry'!D69*0.000001 -> 0.0007525 | D68: ='Leachate chemistry'!$B$69*'Leachate chemistry'!E69*0.000001 -> 3.01e-05 | E68: ='Leachate chemistry'!$B$69*'Leachate chemistry'!F69*0.000001 -> 4.515e-07 | F68: ='Leachate chemistry'!$B$69*'Leachate chemistry'!G69*0.000001 -> 0.003655 | G68: ='Leachate chemistry'!$B$69*'Leachate chemistry'!H69*0.000001 -> 0.000301 | H68: ='Leachate chemistry'!$B$69*'Leachate chemistry'!I69*0.000001 -> 1.9565e-05 | I68: ='Leachate chemistry'!$B$69*'Leachate chemistry'!J69*0.000001 -> 4.3e-07 | ... BT68: ='Leachate chemistry'!$B$69*'Leachate chemistry'!BU69*0.000001 -> 1.1825e-06
A69: 9 | B69: ='Leachate chemistry'!$B$70*'Leachate chemistry'!C70*0.000001 -> 1.333e-08 | C69: ='Leachate chemistry'!$B$70*'Leachate chemistry'!D70*0.000001 -> 0.002365 | D69: ='Leachate chemistry'!$B$70*'Leachate chemistry'!E70*0.000001 -> 2.15e-06 | E69: ='Leachate chemistry'!$B$70*'Leachate chemistry'!F70*0.000001 -> 0 | F69: ='Leachate chemistry'!$B$70*'Leachate chemistry'!G70*0.000001 -> 0.00473 | G69: ='Leachate chemistry'!$B$70*'Leachate chemistry'!H70*0.000001 -> 0.000602 | H69: ='Leachate chemistry'!$B$70*'Leachate chemistry'!I70*0.000001 -> 3.01e-05 | I69: ='Leachate chemistry'!$B$70*'Leachate chemistry'!J70*0.000001 -> 3.225e-07 | ... BT69: ='Leachate chemistry'!$B$70*'Leachate chemistry'!BU70*0.000001 -> 1.032e-06
A70: 10 | B70: ='Leachate chemistry'!$B$71*'Leachate chemistry'!C71*0.000001 -> 4.73e-08 | C70: ='Leachate chemistry'!$B$71*'Leachate chemistry'!D71*0.000001 -> 0.004515 | D70: ='Leachate chemistry'!$B$71*'Leachate chemistry'!E71*0.000001 -> 5.375e-06 | E70: ='Leachate chemistry'!$B$71*'Leachate chemistry'!F71*0.000001 -> 0 | F70: ='Leachate chemistry'!$B$71*'Leachate chemistry'!G71*0.000001 -> 0.0086 | G70: ='Leachate chemistry'!$B$71*'Leachate chemistry'!H71*0.000001 -> 0.006665 | H70: ='Leachate chemistry'!$B$71*'Leachate chemistry'!I71*0.000001 -> 4.515e-05 | I70: ='Leachate chemistry'!$B$71*'Leachate chemistry'!J71*0.000001 -> 1.3115e-07 | ... BT70: ='Leachate chemistry'!$B$71*'Leachate chemistry'!BU71*0.000001 -> 7.525e-06
A71: 11 | B71: ='Leachate chemistry'!$B$72*'Leachate chemistry'!C72*0.000001 -> 0.000105 | C71: ='Leachate chemistry'!$B$72*'Leachate chemistry'!D72*0.000001 -> 0.0945 | D71: ='Leachate chemistry'!$B$72*'Leachate chemistry'!E72*0.000001 -> 0.001785 | E71: ='Leachate chemistry'!$B$72*'Leachate chemistry'!F72*0.000001 -> 0.0001155 | F71: ='Leachate chemistry'!$B$72*'Leachate chemistry'!G72*0.000001 -> 0.002625 | G71: ='Leachate chemistry'!$B$72*'Leachate chemistry'!H72*0.000001 -> 0.01575 | H71: ='Leachate chemistry'!$B$72*'Leachate chemistry'!I72*0.000001 -> 1.26e-05 | I71: ='Leachate chemistry'!$B$72*'Leachate chemistry'!J72*0.000001 -> 8.4e-05 | ... BT71: ='Leachate chemistry'!$B$72*'Leachate chemistry'!BU72*0.000001 -> 0.0002835
A72: 12 | B72: ='Leachate chemistry'!$B$73*'Leachate chemistry'!C73*0.000001 -> 6.0375e-05 | C72: ='Leachate chemistry'!$B$73*'Leachate chemistry'!D73*0.000001 -> 0.1495 | D72: ='Leachate chemistry'!$B$73*'Leachate chemistry'!E73*0.000001 -> 0.0008625 | E72: ='Leachate chemistry'!$B$73*'Leachate chemistry'!F73*0.000001 -> 7.6475e-05 | F72: ='Leachate chemistry'!$B$73*'Leachate chemistry'!G73*0.000001 -> 0.0027025 | G72: ='Leachate chemistry'!$B$73*'Leachate chemistry'!H73*0.000001 -> 0.013225 | H72: ='Leachate chemistry'!$B$73*'Leachate chemistry'!I73*0.000001 -> 2.07e-05 | I72: ='Leachate chemistry'!$B$73*'Leachate chemistry'!J73*0.000001 -> 0.000115 | ... BT72: ='Leachate chemistry'!$B$73*'Leachate chemistry'!BU73*0.000001 -> 0.001495
A73: 13 | B73: ='Leachate chemistry'!$B$74*'Leachate chemistry'!C74*0.000001 -> 1.0542e-06 | C73: ='Leachate chemistry'!$B$74*'Leachate chemistry'!D74*0.000001 -> 0.1506 | D73: ='Leachate chemistry'!$B$74*'Leachate chemistry'!E74*0.000001 -> 0.0006777 | E73: ='Leachate chemistry'!$B$74*'Leachate chemistry'!F74*0.000001 -> 4.8945e-07 | F73: ='Leachate chemistry'!$B$74*'Leachate chemistry'!G74*0.000001 -> 0.002008 | G73: ='Leachate chemistry'!$B$74*'Leachate chemistry'!H74*0.000001 -> 0.005271 | H73: ='Leachate chemistry'!$B$74*'Leachate chemistry'!I74*0.000001 -> 2.3845e-05 | I73: ='Leachate chemistry'!$B$74*'Leachate chemistry'!J74*0.000001 -> 0.0001255 | ... BT73: ='Leachate chemistry'!$B$74*'Leachate chemistry'!BU74*0.000001 -> 0.002008
A74: 14 | B74: ='Leachate chemistry'!$B$75*'Leachate chemistry'!C75*0.000001 -> 8.7025e-06 | C74: ='Leachate chemistry'!$B$75*'Leachate chemistry'!D75*0.000001 -> 0.019175 | D74: ='Leachate chemistry'!$B$75*'Leachate chemistry'!E75*0.000001 -> 0.0002655 | E74: ='Leachate chemistry'!$B$75*'Leachate chemistry'!F75*0.000001 -> 1.298e-05 | F74: ='Leachate chemistry'!$B$75*'Leachate chemistry'!G75*0.000001 -> 0.0013865 | G74: ='Leachate chemistry'!$B$75*'Leachate chemistry'!H75*0.000001 -> 0.000531 | H74: ='Leachate chemistry'!$B$75*'Leachate chemistry'!I75*0.000001 -> 4.8675e-06 | I74: ='Leachate chemistry'!$B$75*'Leachate chemistry'!J75*0.000001 -> 3.6875e-05 | ... BT74: ='Leachate chemistry'!$B$75*'Leachate chemistry'!BU75*0.000001 -> 0.00057525
A75: 15 | B75: ='Leachate chemistry'!$B$76*'Leachate chemistry'!C76*0.000001 -> 3.5567731e-05 | C75: ='Leachate chemistry'!$B$76*'Leachate chemistry'!D76*0.000001 -> 0.015172537 | D75: ='Leachate chemistry'!$B$76*'Leachate chemistry'!E76*0.000001 -> 0.00058908157 | E75: ='Leachate chemistry'!$B$76*'Leachate chemistry'!F76*0.000001 -> 2.1897094e-05 | F75: ='Leachate chemistry'!$B$76*'Leachate chemistry'!G76*0.000001 -> 0.0009703082 | G75: ='Leachate chemistry'!$B$76*'Leachate chemistry'!H76*0.000001 -> 0.00031503349 | H75: ='Leachate chemistry'!$B$76*'Leachate chemistry'!I76*0.000001 -> 1.2212317e-05 | I75: ='Leachate chemistry'!$B$76*'Leachate chemistry'!J76*0.000001 -> 4.423499e-05 | ... BT75: ='Leachate chemistry'!$B$76*'Leachate chemistry'!BU76*0.000001 -> 0.00074425749
A76: 16 | B76: ='Leachate chemistry'!$B$77*'Leachate chemistry'!C77*0.000001 -> 3.8325217e-05 | C76: ='Leachate chemistry'!$B$77*'Leachate chemistry'!D77*0.000001 -> 0.010259474 | D76: ='Leachate chemistry'!$B$77*'Leachate chemistry'!E77*0.000001 -> 0.0003403684 | E76: ='Leachate chemistry'!$B$77*'Leachate chemistry'!F77*0.000001 -> 1.2651295e-05 | F76: ='Leachate chemistry'!$B$77*'Leachate chemistry'!G77*0.000001 -> 0.00088127366 | G76: ='Leachate chemistry'!$B$77*'Leachate chemistry'!H77*0.000001 -> 0.00014056959 | H76: ='Leachate chemistry'!$B$77*'Leachate chemistry'!I77*0.000001 -> 4.4768798e-06 | I76: ='Leachate chemistry'!$B$77*'Leachate chemistry'!J77*0.000001 -> 2.2892556e-05 | ... BT76: ='Leachate chemistry'!$B$77*'Leachate chemistry'!BU77*0.000001 -> 0.00060725996
A77: 17 | B77: ='Leachate chemistry'!$B$78*'Leachate chemistry'!C78*0.000001 -> 4.05e-05 | C77: ='Leachate chemistry'!$B$78*'Leachate chemistry'!D78*0.000001 -> 0.00675 | D77: ='Leachate chemistry'!$B$78*'Leachate chemistry'!E78*0.000001 -> 0.0001395 | E77: ='Leachate chemistry'!$B$78*'Leachate chemistry'!F78*0.000001 -> 7.65e-06 | F77: ='Leachate chemistry'!$B$78*'Leachate chemistry'!G78*0.000001 -> 0.00087 | G77: ='Leachate chemistry'!$B$78*'Leachate chemistry'!H78*0.000001 -> 2.7e-05 | H77: ='Leachate chemistry'!$B$78*'Leachate chemistry'!I78*0.000001 -> 0 | I77: ='Leachate chemistry'!$B$78*'Leachate chemistry'!J78*0.000001 -> 1.65e-05 | ... BT77: ='Leachate chemistry'!$B$78*'Leachate chemistry'!BU78*0.000001 -> 0.00024
A78: 18 | B78: ='Leachate chemistry'!$B$79*'Leachate chemistry'!C79*0.000001 -> 4.7e-05 | C78: ='Leachate chemistry'!$B$79*'Leachate chemistry'!D79*0.000001 -> 0.0068 | D78: ='Leachate chemistry'!$B$79*'Leachate chemistry'!E79*0.000001 -> 0.000136 | E78: ='Leachate chemistry'!$B$79*'Leachate chemistry'!F79*0.000001 -> 9.3e-06 | F78: ='Leachate chemistry'!$B$79*'Leachate chemistry'!G79*0.000001 -> 0.00156 | G78: ='Leachate chemistry'!$B$79*'Leachate chemistry'!H79*0.000001 -> 3.1e-05 | H78: ='Leachate chemistry'!$B$79*'Leachate chemistry'!I79*0.000001 -> 2.3e-07 | I78: ='Leachate chemistry'!$B$79*'Leachate chemistry'!J79*0.000001 -> 1.75e-05 | ... BT78: ='Leachate chemistry'!$B$79*'Leachate chemistry'!BU79*0.000001 -> 0.00023
A79: 19 | B79: ='Leachate chemistry'!$B$80*'Leachate chemistry'!C80*0.000001 -> 4e-05 | C79: ='Leachate chemistry'!$B$80*'Leachate chemistry'!D80*0.000001 -> 0.0046 | D79: ='Leachate chemistry'!$B$80*'Leachate chemistry'!E80*0.000001 -> 8.6e-05 | E79: ='Leachate chemistry'!$B$80*'Leachate chemistry'!F80*0.000001 -> 8.4e-06 | F79: ='Leachate chemistry'!$B$80*'Leachate chemistry'!G80*0.000001 -> 0.00196 | G79: ='Leachate chemistry'!$B$80*'Leachate chemistry'!H80*0.000001 -> 2.6e-05 | H79: ='Leachate chemistry'!$B$80*'Leachate chemistry'!I80*0.000001 -> 4.6e-07 | I79: ='Leachate chemistry'!$B$80*'Leachate chemistry'!J80*0.000001 -> 1.3e-05 | ... BT79: ='Leachate chemistry'!$B$80*'Leachate chemistry'!BU80*0.000001 -> 0.00014
A80: 20 | B80: ='Leachate chemistry'!$B$81*'Leachate chemistry'!C81*0.000001 -> 2.6166096e-05 | C80: ='Leachate chemistry'!$B$81*'Leachate chemistry'!D81*0.000001 -> 0.0034759733 | D80: ='Leachate chemistry'!$B$81*'Leachate chemistry'!E81*0.000001 -> 7.6412404e-05 | E80: ='Leachate chemistry'!$B$81*'Leachate chemistry'!F81*0.000001 -> 6.6700968e-06 | F80: ='Leachate chemistry'!$B$81*'Leachate chemistry'!G81*0.000001 -> 0.0024477953 | G80: ='Leachate chemistry'!$B$81*'Leachate chemistry'!H81*0.000001 -> 2.6532241e-05 | H80: ='Leachate chemistry'!$B$81*'Leachate chemistry'!I81*0.000001 -> 5.4420678e-07 | I80: ='Leachate chemistry'!$B$81*'Leachate chemistry'!J81*0.000001 -> 1.033478e-05 | ... BT80: ='Leachate chemistry'!$B$81*'Leachate chemistry'!BU81*0.000001 -> 0.00010369485
A81: 21 | B81: ='Leachate chemistry'!$B$82*'Leachate chemistry'!C82*0.000001 -> 1.1098973e-05 | C81: ='Leachate chemistry'!$B$82*'Leachate chemistry'!D82*0.000001 -> 0.002116752 | D81: ='Leachate chemistry'!$B$82*'Leachate chemistry'!E82*0.000001 -> 6.0142327e-05 | E81: ='Leachate chemistry'!$B$82*'Leachate chemistry'!F82*0.000001 -> 4.4461743e-06 | F81: ='Leachate chemistry'!$B$82*'Leachate chemistry'!G82*0.000001 -> 0.0026420315 | G81: ='Leachate chemistry'!$B$82*'Leachate chemistry'!H82*0.000001 -> 2.4358034e-05 | H81: ='Leachate chemistry'!$B$82*'Leachate chemistry'!I82*0.000001 -> 5.655722e-07 | I81: ='Leachate chemistry'!$B$82*'Leachate chemistry'!J82*0.000001 -> 6.9026036e-06 | ... BT81: ='Leachate chemistry'!$B$82*'Leachate chemistry'!BU82*0.000001 -> 6.0650723e-05
A82: 22 | B82: ='Leachate chemistry'!$B$83*'Leachate chemistry'!C83*0.000001 -> 6.5543144e-06 | C82: ='Leachate chemistry'!$B$83*'Leachate chemistry'!D83*0.000001 -> 0.001298236 | D82: ='Leachate chemistry'!$B$83*'Leachate chemistry'!E83*0.000001 -> 4.994318e-05 | E82: ='Leachate chemistry'!$B$83*'Leachate chemistry'!F83*0.000001 -> 3.0387672e-06 | F82: ='Leachate chemistry'!$B$83*'Leachate chemistry'!G83*0.000001 -> 0.0027375662 | G82: ='Leachate chemistry'!$B$83*'Leachate chemistry'!H83*0.000001 -> 2.1638166e-05 | H82: ='Leachate chemistry'!$B$83*'Leachate chemistry'!I83*0.000001 -> 2.5813156e-06 | I82: ='Leachate chemistry'!$B$83*'Leachate chemistry'!J83*0.000001 -> 4.4747446e-06 | ... BT82: ='Leachate chemistry'!$B$83*'Leachate chemistry'!BU83*0.000001 -> 3.9884939e-05
A83: 23 | B83: ='Leachate chemistry'!$B$84*'Leachate chemistry'!C84*10^-6 -> 7.7643599e-07 | C83: ='Leachate chemistry'!$B$84*'Leachate chemistry'!D84*0.000001 -> 0.00024452536 | D83: ='Leachate chemistry'!$B$84*'Leachate chemistry'!E84*0.000001 -> 3.3061552e-05 | E83: ='Leachate chemistry'!$B$84*'Leachate chemistry'!F84*0.000001 -> 1.1373408e-06 | F83: ='Leachate chemistry'!$B$84*'Leachate chemistry'!G84*0.000001 -> 0.0025395417 | G83: ='Leachate chemistry'!$B$84*'Leachate chemistry'!H84*0.000001 -> 1.6211851e-05 | H83: ='Leachate chemistry'!$B$84*'Leachate chemistry'!I84*0.000001 -> 4.5342176e-06 | I83: ='Leachate chemistry'!$B$84*'Leachate chemistry'!J84*0.000001 -> 1.2799297e-06 | J83: ='Leachate chemistry'!$B$84*'Leachate chemistry'!K84*0.000001 -> 0.000224447 | ... BT83: ='Leachate chemistry'!$B$84*'Leachate chemistry'!BU84*0.000001 -> 1.2380186e-05
A87: Cell 4 | B87: Ag | C87: Al | D87: As | E87: Au | F87: B | G87: Ba | H87: Be | I87: Bi | J87: Br | K87: Ca | L87: Cd | M87: Ce | N87: Co | O87: Cr | P87: Cs | Q87: Cu | R87: Dy | S87: Er | T87: Eu | U87: Fe | V87: Ga | W87: Gd | X87: Ge | Y87: Hf | Z87: Hg | AA87: Ho | AB87: I | AC87: Ir | AD87: K | AE87: La | AF87: Li | AG87: Lu | AH87: Mg | AI87: Mn | AJ87: Mo | AK87: Na | AL87: Nb | AM87: Nd | AN87: Ni | AO87: Os | AP87: P | AQ87: Pb | AR87: Pd | AS87: Pr | AT87: Pt | AU87: Rb | AV87: Re | AW87: Rh | AX87: Ru | AY87: S | AZ87: Sb | BA87: Sc | BB87: Se | BC87: Si | BD87: Sm | BE87: Sn | BF87: Sr | BG87: Ta | BH87: Tb | BI87: Te | BJ87: Th | BK87: Ti | BL87: Tl | BM87: Tm | BN87: U | BO87: V | BP87: W | BQ87: Y | BR87: Yb | BS87: Zn | BT87: Zr
A88: Leaching cycle | B88: mg | C88: mg | D88: mg | E88: mg | F88: mg | G88: mg | H88: mg | I88: mg | J88: mg | K88: mg | L88: mg | M88: mg | N88: mg | O88: mg | P88: mg | Q88: mg | R88: mg | S88: mg | T88: mg | U88: mg | V88: mg | W88: mg | X88: mg | Y88: mg | Z88: mg | AA88: mg | AB88: mg | AC88: mg | AD88: mg | AE88: mg | AF88: mg | AG88: mg | AH88: mg | AI88: mg | AJ88: mg | AK88: mg | AL88: mg | AM88: mg | AN88: mg | AO88: mg | AP88: mg | AQ88: mg | AR88: mg | AS88: mg | AT88: mg | AU88: mg | AV88: mg | AW88: mg | AX88: mg | AY88: mg | AZ88: mg | BA88: mg | BB88: mg | BC88: mg | BD88: mg | BE88: mg | BF88: mg | BG88: mg | BH88: mg | BI88: mg | BJ88: mg | BK88: mg | BL88: mg | BM88: mg | BN88: mg | BO88: mg | BP88: mg | BQ88: mg | BR88: mg | BS88: mg | BT88: mg
A89: 0 | B89: ='Leachate chemistry'!$B$89*'Leachate chemistry'!C89*10^-6 -> 3e-06 | C89: ='Leachate chemistry'!$B$89*'Leachate chemistry'!D89*10^-6 -> 0.0005 | D89: ='Leachate chemistry'!$B$89*'Leachate chemistry'!E89*10^-6 -> 9.75e-05 | E89: ='Leachate chemistry'!$B$89*'Leachate chemistry'!F89*10^-6 -> 5e-05 | F89: ='Leachate chemistry'!$B$89*'Leachate chemistry'!G89*10^-6 -> 0.0055 | G89: ='Leachate chemistry'!$B$89*'Leachate chemistry'!H89*10^-6 -> 0.00045 | H89: ='Leachate chemistry'!$B$89*'Leachate chemistry'!I89*10^-6 -> 3.5e-06 | I89: ='Leachate chemistry'!$B$89*'Leachate chemistry'!J89*10^-6 -> 1.075e-07 | ... BT89: ='Leachate chemistry'!$B$89*'Leachate chemistry'!BU89*10^-6 -> 6.75e-07
A90: 1 | B90: ='Leachate chemistry'!$B$90*'Leachate chemistry'!C90*10^-6 -> 5.75e-07 | C90: ='Leachate chemistry'!$B$90*'Leachate chemistry'!D90*10^-6 -> 0.00275 | D90: ='Leachate chemistry'!$B$90*'Leachate chemistry'!E90*10^-6 -> 4.5e-05 | E90: ='Leachate chemistry'!$B$90*'Leachate chemistry'!F90*10^-6 -> 1.25e-06 | F90: ='Leachate chemistry'!$B$90*'Leachate chemistry'!G90*10^-6 -> 0.000725 | G90: ='Leachate chemistry'!$B$90*'Leachate chemistry'!H90*10^-6 -> 0.0003 | H90: ='Leachate chemistry'!$B$90*'Leachate chemistry'!I90*10^-6 -> 7e-06 | I90: ='Leachate chemistry'!$B$90*'Leachate chemistry'!J90*10^-6 -> 9.25e-08 | ... BT90: ='Leachate chemistry'!$B$90*'Leachate chemistry'!BU90*10^-6 -> 5.75e-07
A91: 2 | B91: ='Leachate chemistry'!$B$91*'Leachate chemistry'!C91*10^-6 -> 6e-07 | C91: ='Leachate chemistry'!$B$91*'Leachate chemistry'!D91*10^-6 -> 0.001 | D91: ='Leachate chemistry'!$B$91*'Leachate chemistry'!E91*10^-6 -> 5e-05 | E91: ='Leachate chemistry'!$B$91*'Leachate chemistry'!F91*10^-6 -> 7.5e-07 | F91: ='Leachate chemistry'!$B$91*'Leachate chemistry'!G91*10^-6 -> 0.000725 | G91: ='Leachate chemistry'!$B$91*'Leachate chemistry'!H91*10^-6 -> 0.000375 | H91: ='Leachate chemistry'!$B$91*'Leachate chemistry'!I91*10^-6 -> 1.15e-05 | I91: ='Leachate chemistry'!$B$91*'Leachate chemistry'!J91*10^-6 -> 4.25e-08 | ... BT91: ='Leachate chemistry'!$B$91*'Leachate chemistry'!BU91*10^-6 -> 1.225e-06
A92: 3 | B92: ='Leachate chemistry'!$B$92*'Leachate chemistry'!C92*10^-6 -> 1e-06 | C92: ='Leachate chemistry'!$B$92*'Leachate chemistry'!D92*10^-6 -> 0.0009 | D92: ='Leachate chemistry'!$B$92*'Leachate chemistry'!E92*10^-6 -> 4.75e-05 | E92: ='Leachate chemistry'!$B$92*'Leachate chemistry'!F92*10^-6 -> 7.5e-07 | F92: ='Leachate chemistry'!$B$92*'Leachate chemistry'!G92*10^-6 -> 0 | G92: ='Leachate chemistry'!$B$92*'Leachate chemistry'!H92*10^-6 -> 0.00045 | H92: ='Leachate chemistry'!$B$92*'Leachate chemistry'!I92*10^-6 -> 1e-05 | I92: ='Leachate chemistry'!$B$92*'Leachate chemistry'!J92*10^-6 -> 1.375e-07 | ... BT92: ='Leachate chemistry'!$B$92*'Leachate chemistry'!BU92*10^-6 -> 2.75e-06
A93: 4 | B93: ='Leachate chemistry'!$B$93*'Leachate chemistry'!C93*10^-6 -> 1e-06 | C93: ='Leachate chemistry'!$B$93*'Leachate chemistry'!D93*10^-6 -> 0.0009 | D93: ='Leachate chemistry'!$B$93*'Leachate chemistry'!E93*10^-6 -> 4.75e-05 | E93: ='Leachate chemistry'!$B$93*'Leachate chemistry'!F93*10^-6 -> 7.5e-07 | F93: ='Leachate chemistry'!$B$93*'Leachate chemistry'!G93*10^-6 -> 0 | G93: ='Leachate chemistry'!$B$93*'Leachate chemistry'!H93*10^-6 -> 0.00045 | H93: ='Leachate chemistry'!$B$93*'Leachate chemistry'!I93*10^-6 -> 1e-05 | I93: ='Leachate chemistry'!$B$93*'Leachate chemistry'!J93*10^-6 -> 1.375e-07 | ... BT93: ='Leachate chemistry'!$B$93*'Leachate chemistry'!BU93*10^-6 -> 2.75e-06
A94: 5 | B94: ='Leachate chemistry'!$B$94*'Leachate chemistry'!C94*10^-6 -> 4.25e-07 | C94: ='Leachate chemistry'!$B$94*'Leachate chemistry'!D94*10^-6 -> 0.000675 | D94: ='Leachate chemistry'!$B$94*'Leachate chemistry'!E94*10^-6 -> 1.925e-05 | E94: ='Leachate chemistry'!$B$94*'Leachate chemistry'!F94*10^-6 -> 6e-07 | F94: ='Leachate chemistry'!$B$94*'Leachate chemistry'!G94*10^-6 -> 0 | G94: ='Leachate chemistry'!$B$94*'Leachate chemistry'!H94*10^-6 -> 0.0004 | H94: ='Leachate chemistry'!$B$94*'Leachate chemistry'!I94*10^-6 -> 1.1e-05 | I94: ='Leachate chemistry'!$B$94*'Leachate chemistry'!J94*10^-6 -> 3e-07 | ... BT94: ='Leachate chemistry'!$B$94*'Leachate chemistry'!BU94*10^-6 -> 1.375e-06
A95: 6 | B95: ='Leachate chemistry'!$B$95*'Leachate chemistry'!C95*10^-6 -> 3.75e-07 | C95: ='Leachate chemistry'!$B$95*'Leachate chemistry'!D95*10^-6 -> 0.001475 | D95: ='Leachate chemistry'!$B$95*'Leachate chemistry'!E95*10^-6 -> 1.825e-05 | E95: ='Leachate chemistry'!$B$95*'Leachate chemistry'!F95*10^-6 -> 6.75e-07 | F95: ='Leachate chemistry'!$B$95*'Leachate chemistry'!G95*10^-6 -> 0.0005 | G95: ='Leachate chemistry'!$B$95*'Leachate chemistry'!H95*10^-6 -> 0.00045 | H95: ='Leachate chemistry'!$B$95*'Leachate chemistry'!I95*10^-6 -> 1.525e-05 | I95: ='Leachate chemistry'!$B$95*'Leachate chemistry'!J95*10^-6 -> 1.95e-07 | ... BT95: ='Leachate chemistry'!$B$95*'Leachate chemistry'!BU95*10^-6 -> 2.75e-06
A96: 7 | B96: ='Leachate chemistry'!$B$96*'Leachate chemistry'!C96*10^-6 -> 1e-06 | C96: ='Leachate chemistry'!$B$96*'Leachate chemistry'!D96*10^-6 -> 0.0020875 | D96: ='Leachate chemistry'!$B$96*'Leachate chemistry'!E96*10^-6 -> 3.375e-05 | E96: ='Leachate chemistry'!$B$96*'Leachate chemistry'!F96*10^-6 -> 2.125e-07 | F96: ='Leachate chemistry'!$B$96*'Leachate chemistry'!G96*10^-6 -> 0.0005125 | G96: ='Leachate chemistry'!$B$96*'Leachate chemistry'!H96*10^-6 -> 0.000525 | H96: ='Leachate chemistry'!$B$96*'Leachate chemistry'!I96*10^-6 -> 2.3e-05 | I96: ='Leachate chemistry'!$B$96*'Leachate chemistry'!J96*10^-6 -> 3.625e-07 | ... BT96: ='Leachate chemistry'!$B$96*'Leachate chemistry'!BU96*10^-6 -> 2.75e-06
A97: 8 | B97: ='Leachate chemistry'!$B$97*'Leachate chemistry'!C97*10^-6 -> 1.25e-06 | C97: ='Leachate chemistry'!$B$97*'Leachate chemistry'!D97*10^-6 -> 0.003 | D97: ='Leachate chemistry'!$B$97*'Leachate chemistry'!E97*10^-6 -> 2.75e-05 | E97: ='Leachate chemistry'!$B$97*'Leachate chemistry'!F97*10^-6 -> 9.5e-07 | F97: ='Leachate chemistry'!$B$97*'Leachate chemistry'!G97*10^-6 -> 0.0035 | G97: ='Leachate chemistry'!$B$97*'Leachate chemistry'!H97*10^-6 -> 0.0008 | H97: ='Leachate chemistry'!$B$97*'Leachate chemistry'!I97*10^-6 -> 8.5e-05 | I97: ='Leachate chemistry'!$B$97*'Leachate chemistry'!J97*10^-6 -> 2.5e-07 | ... BT97: ='Leachate chemistry'!$B$97*'Leachate chemistry'!BU97*10^-6 -> 9.75e-07
A98: 9 | B98: ='Leachate chemistry'!$B$98*'Leachate chemistry'!C98*10^-6 -> 1e-06 | C98: ='Leachate chemistry'!$B$98*'Leachate chemistry'!D98*10^-6 -> 0.0085 | D98: ='Leachate chemistry'!$B$98*'Leachate chemistry'!E98*10^-6 -> 5e-06 | E98: ='Leachate chemistry'!$B$98*'Leachate chemistry'!F98*10^-6 -> 2.4e-07 | F98: ='Leachate chemistry'!$B$98*'Leachate chemistry'!G98*10^-6 -> 0.0055 | G98: ='Leachate chemistry'!$B$98*'Leachate chemistry'!H98*10^-6 -> 0.00145 | H98: ='Leachate chemistry'!$B$98*'Leachate chemistry'!I98*10^-6 -> 0.0001325 | I98: ='Leachate chemistry'!$B$98*'Leachate chemistry'!J98*10^-6 -> 2.325e-07 | ... BT98: ='Leachate chemistry'!$B$98*'Leachate chemistry'!BU98*10^-6 -> 1.775e-06
A99: 10 | B99: ='Leachate chemistry'!$B$99*'Leachate chemistry'!C99*10^-6 -> 5.5e-07 | C99: ='Leachate chemistry'!$B$99*'Leachate chemistry'!D99*10^-6 -> 0.016 | D99: ='Leachate chemistry'!$B$99*'Leachate chemistry'!E99*10^-6 -> 1.225e-05 | E99: ='Leachate chemistry'!$B$99*'Leachate chemistry'!F99*10^-6 -> 6.25e-07 | F99: ='Leachate chemistry'!$B$99*'Leachate chemistry'!G99*10^-6 -> 0.008 | G99: ='Leachate chemistry'!$B$99*'Leachate chemistry'!H99*10^-6 -> 0.0055 | H99: ='Leachate chemistry'!$B$99*'Leachate chemistry'!I99*10^-6 -> 0.00015 | I99: ='Leachate chemistry'!$B$99*'Leachate chemistry'!J99*10^-6 -> 5e-07 | ... BT99: ='Leachate chemistry'!$B$99*'Leachate chemistry'!BU99*10^-6 -> 3e-06
A100: 11 | B100: ='Leachate chemistry'!$B$100*'Leachate chemistry'!C100*10^-6 -> 9.15e-06 | C100: ='Leachate chemistry'!$B$100*'Leachate chemistry'!D100*10^-6 -> 0.01095 | D100: ='Leachate chemistry'!$B$100*'Leachate chemistry'!E100*10^-6 -> 0.000615 | E100: ='Leachate chemistry'!$B$100*'Leachate chemistry'!F100*10^-6 -> 1.5e-08 | F100: ='Leachate chemistry'!$B$100*'Leachate chemistry'!G100*10^-6 -> 0.000375 | G100: ='Leachate chemistry'!$B$100*'Leachate chemistry'!H100*10^-6 -> 0.000675 | H100: ='Leachate chemistry'!$B$100*'Leachate chemistry'!I100*10^-6 -> 1.215e-05 | I100: ='Leachate chemistry'!$B$100*'Leachate chemistry'!J100*10^-6 -> 7.5e-05 | ... BT100: ='Leachate chemistry'!$B$100*'Leachate chemistry'!BU100*10^-6 -> 0.000117
A101: 12 | B101: ='Leachate chemistry'!$B$101*'Leachate chemistry'!C101*10^-6 -> 3.228e-05 | C101: ='Leachate chemistry'!$B$101*'Leachate chemistry'!D101*10^-6 -> 0.025555 | D101: ='Leachate chemistry'!$B$101*'Leachate chemistry'!E101*10^-6 -> 0.0014795 | E101: ='Leachate chemistry'!$B$101*'Leachate chemistry'!F101*10^-6 -> 5.85075e-05 | F101: ='Leachate chemistry'!$B$101*'Leachate chemistry'!G101*10^-6 -> 0.00329525 | G101: ='Leachate chemistry'!$B$101*'Leachate chemistry'!H101*10^-6 -> 0.001271025 | H101: ='Leachate chemistry'!$B$101*'Leachate chemistry'!I101*10^-6 -> 1.54675e-05 | I101: ='Leachate chemistry'!$B$101*'Leachate chemistry'!J101*10^-6 -> 0.00014795 | ... BT101: ='Leachate chemistry'!$B$101*'Leachate chemistry'!BU101*10^-6 -> 0.000275725
A102: 13 | B102: ='Leachate chemistry'!$B$102*'Leachate chemistry'!C102*10^-6 -> 0.0002139446 | C102: ='Leachate chemistry'!$B$102*'Leachate chemistry'!D102*10^-6 -> 0.011442093 | D102: ='Leachate chemistry'!$B$102*'Leachate chemistry'!E102*10^-6 -> 0.0011250707 | E102: ='Leachate chemistry'!$B$102*'Leachate chemistry'!F102*10^-6 -> 8.1501496e-05 | F102: ='Leachate chemistry'!$B$102*'Leachate chemistry'!G102*10^-6 -> 0.0023743007 | G102: ='Leachate chemistry'!$B$102*'Leachate chemistry'!H102*10^-6 -> 0.00035957992 | H102: ='Leachate chemistry'!$B$102*'Leachate chemistry'!I102*10^-6 -> 1.7332646e-05 | I102: ='Leachate chemistry'!$B$102*'Leachate chemistry'!J102*10^-6 -> 5.1692781e-05 | ... BT102: ='Leachate chemistry'!$B$102*'Leachate chemistry'!BU102*10^-6 -> 0.00027081686
A103: 14 | B103: ='Leachate chemistry'!$B$103*'Leachate chemistry'!C103*10^-6 -> 7.540706e-05 | C103: ='Leachate chemistry'!$B$103*'Leachate chemistry'!D103*10^-6 -> 0.0051284187 | D103: ='Leachate chemistry'!$B$103*'Leachate chemistry'!E103*10^-6 -> 0.00028648586 | E103: ='Leachate chemistry'!$B$103*'Leachate chemistry'!F103*10^-6 -> 1.9701664e-05 | F103: ='Leachate chemistry'!$B$103*'Leachate chemistry'!G103*10^-6 -> 0.0012777975 | G103: ='Leachate chemistry'!$B$103*'Leachate chemistry'!H103*10^-6 -> 0.00016122936 | H103: ='Leachate chemistry'!$B$103*'Leachate chemistry'!I103*10^-6 -> 4.008086e-06 | I103: ='Leachate chemistry'!$B$103*'Leachate chemistry'!J103*10^-6 -> 1.3883012e-05 | ... BT103: ='Leachate chemistry'!$B$103*'Leachate chemistry'!BU103*10^-6 -> 0.00026855987
A104: 15 | B104: ='Leachate chemistry'!$B$104*'Leachate chemistry'!C104*10^-6 -> 1.17e-05 | C104: ='Leachate chemistry'!$B$104*'Leachate chemistry'!D104*10^-6 -> 0.00195 | D104: ='Leachate chemistry'!$B$104*'Leachate chemistry'!E104*10^-6 -> 0.000182 | E104: ='Leachate chemistry'!$B$104*'Leachate chemistry'!F104*10^-6 -> 4.16e-06 | F104: ='Leachate chemistry'!$B$104*'Leachate chemistry'!G104*10^-6 -> 0.001053 | G104: ='Leachate chemistry'!$B$104*'Leachate chemistry'!H104*10^-6 -> 1.82e-05 | H104: ='Leachate chemistry'!$B$104*'Leachate chemistry'!I104*10^-6 -> 1.248e-06 | I104: ='Leachate chemistry'!$B$104*'Leachate chemistry'!J104*10^-6 -> 3.77e-06 | ... BT104: ='Leachate chemistry'!$B$104*'Leachate chemistry'!BU104*10^-6 -> 0.000182
A105: 16 | B105: ='Leachate chemistry'!$B$105*'Leachate chemistry'!C105*10^-6 -> 1.535e-05 | C105: ='Leachate chemistry'!$B$105*'Leachate chemistry'!D105*10^-6 -> 0.00335 | D105: ='Leachate chemistry'!$B$105*'Leachate chemistry'!E105*10^-6 -> 0.0002355 | E105: ='Leachate chemistry'!$B$105*'Leachate chemistry'!F105*10^-6 -> 6.1e-06 | F105: ='Leachate chemistry'!$B$105*'Leachate chemistry'!G105*10^-6 -> 0.00196 | G105: ='Leachate chemistry'!$B$105*'Leachate chemistry'!H105*10^-6 -> 3.15e-05 | H105: ='Leachate chemistry'!$B$105*'Leachate chemistry'!I105*10^-6 -> 1.795e-06 | I105: ='Leachate chemistry'!$B$105*'Leachate chemistry'!J105*10^-6 -> 5.75e-06 | ... BT105: ='Leachate chemistry'!$B$105*'Leachate chemistry'!BU105*10^-6 -> 0.000205
A106: 17 | B106: ='Leachate chemistry'!$B$106*'Leachate chemistry'!C106*10^-6 -> 1.0795e-05 | C106: ='Leachate chemistry'!$B$106*'Leachate chemistry'!D106*10^-6 -> 0.003145 | D106: ='Leachate chemistry'!$B$106*'Leachate chemistry'!E106*10^-6 -> 0.00016235 | E106: ='Leachate chemistry'!$B$106*'Leachate chemistry'!F106*10^-6 -> 4.93e-06 | F106: ='Leachate chemistry'!$B$106*'Leachate chemistry'!G106*10^-6 -> 0.001955 | G106: ='Leachate chemistry'!$B$106*'Leachate chemistry'!H106*10^-6 -> 2.975e-05 | H106: ='Leachate chemistry'!$B$106*'Leachate chemistry'!I106*10^-6 -> 1.4195e-06 | I106: ='Leachate chemistry'!$B$106*'Leachate chemistry'!J106*10^-6 -> 4.845e-06 | ... BT106: ='Leachate chemistry'!$B$106*'Leachate chemistry'!BU106*10^-6 -> 0.0001105
A107: 18 | B107: ='Leachate chemistry'!$B$107*'Leachate chemistry'!C107*10^-6 -> 1.1048053e-05 | C107: ='Leachate chemistry'!$B$107*'Leachate chemistry'!D107*10^-6 -> 0.0032302379 | D107: ='Leachate chemistry'!$B$107*'Leachate chemistry'!E107*10^-6 -> 0.00017336795 | E107: ='Leachate chemistry'!$B$107*'Leachate chemistry'!F107*10^-6 -> 4.6897536e-06 | F107: ='Leachate chemistry'!$B$107*'Leachate chemistry'!G107*10^-6 -> 0.0026722699 | G107: ='Leachate chemistry'!$B$107*'Leachate chemistry'!H107*10^-6 -> 3.6420258e-05 | H107: ='Leachate chemistry'!$B$107*'Leachate chemistry'!I107*10^-6 -> 1.231898e-06 | I107: ='Leachate chemistry'!$B$107*'Leachate chemistry'!J107*10^-6 -> 5.2966252e-06 | ... BT107: ='Leachate chemistry'!$B$107*'Leachate chemistry'!BU107*10^-6 -> 9.3382264e-05
A108: 19 | B108: ='Leachate chemistry'!$B$108*'Leachate chemistry'!C108*10^-6 -> 8.2215932e-06 | C108: ='Leachate chemistry'!$B$108*'Leachate chemistry'!D108*10^-6 -> 0.0024154164 | D108: ='Leachate chemistry'!$B$108*'Leachate chemistry'!E108*10^-6 -> 0.00013626891 | E108: ='Leachate chemistry'!$B$108*'Leachate chemistry'!F108*10^-6 -> 3.1320689e-06 | F108: ='Leachate chemistry'!$B$108*'Leachate chemistry'!G108*10^-6 -> 0.0026639722 | G108: ='Leachate chemistry'!$B$108*'Leachate chemistry'!H108*10^-6 -> 3.3110451e-05 | H108: ='Leachate chemistry'!$B$108*'Leachate chemistry'!I108*10^-6 -> 6.9457147e-07 | I108: ='Leachate chemistry'!$B$108*'Leachate chemistry'!J108*10^-6 -> 4.281594e-06 | ... BT108: ='Leachate chemistry'!$B$108*'Leachate chemistry'!BU108*10^-6 -> 4.9668961e-05
...

Sheet Main species 
B2: Cell A | E2: Cell B | H2: Cell C | K2: Cell D
A3: Cycle- | B3: 11 | C3: 13 | D3: 23 | E3: 11 | F3: 13 | G3: 23 | H3: 11 | I3: 13 | J3: 23 | K3: 11 | L3: 13 | M3: 21
A4: Al(OH)4- | B4: 97.928591 | C4: 96.681058 | D4: 98.432175 | E4: 100 | F4: 100 | G4: 99.375381 | H4: 99.977684 | I4: 99.977684 | J4: 99.49261 | K4: 99.072513 | L4: 100 | M4: 99.446154
A5: Al(OH)3 | B5: 1.592532 | C5: 2.2973556 | D5: 1.2699387 | E5: 0.011411093 | F5: 0.0062605753 | G5: 0.57236441 | H5: 0.0060946217 | I5: 0.0060946217 | J5: 0.47165233 | K5: 0.81028668 | L5: 0.0051614087 | M5: 0.48221538
A6: Al(OH)2+ | B6: 0.48133006 | C6: 1.0121425 | D6: 0.30865712 | E6: 3.5995106e-05 | F6: 1.3344614e-05 | G6: 0.061898233 | H6: 1.2809641e-05 | I6: 1.2809641e-05 | J6: 0.042289874 | K6: 0.12542159 | L6: 9.8716067e-06 | M6: 0.043975385
A7: Fe(OH)3 | B7: 75.714058 | C7: 69.102564 | D7: 78.731665 | E7: 21.569174 | F7: 13.23211 | G7: 84.843982 | H7: 12.938323 | I7: 12.938323 | J7: 85.027086 | K7: 12.56114 | L7: 11.210162 | M7: 85.020243
A8: Fe(OH)2+ | B8: 22.339237 | C8: 29.70696 | D8: 18.671268 | E8: 0.0663974 | F8: 0.027515184 | G8: 8.9524517 | H8: 0.026534997 | I8: 0.026534997 | J8: 7.4409534 | K8: 4.2615059 | L8: 0.020923788 | M8: 7.5676113
A9: Fe(OH)4- | B9: 1.9514919 | C9: 1.2188645 | D9: 2.5582399 | E9: 78.375116 | F9: 86.744125 | G9: 6.1738484 | H9: 87.040887 | I9: 87.040887 | J9: 7.5167931 | K9: 83.169651 | L9: 88.775982 | M9: 7.3497976
A10: SO4-2 | B10: 97.675522 | C10: 97.762418 | D10: 96.319018 | E10: 88.565953 | F10: 82.042649 | G10: 99.702676 | H10: 81.516464 | I10: 81.516464 | J10: 99.627422 | K10: 95.86105 | L10: 79.10143 | M10: 99.609661
A11: CaSO4 | B11: 1.362666 | C11: 1.2851453 | D11: 2.1601909 | E11: 1.0191632 | F11: 0.038641975 | G11: 0.02 | H11: 0.062409012 | I11: 0.062409012 | J11: 0.026318927 | K11: 1.7841833 | L11: 0.060149762 | M11: 0.049926811
A12: MgSO4 | B12: 0.91805028 | C12: 0.92888941 | D12: 1.4778459 | E12: 0.6087512 | F12: 0.010443322 | G12: 0.0092447968 | H12: 0 | I12: 0 | J12: 0.0045253353 | K12: 0.025587583 | L12: 0.024111641 | M12: 0.0071822396
A13: NaSO4- | B13: 0.01 | C13: 0 | D13: 0 | E13: 9.782817 | F13: 17.946128 | G13: 0.30208127 | H13: 18.379549 | I13: 18.379549 | J13: 0.37071535 | K13: 2.3702882 | L13: 20.742001 | M13: 0.32568919
A14: H4SiO4 | B14: 99.566088 | C14: 99.699609 | D14: 99.47342 | E14: 61.949924 | F14: 53.038777 | G14: 98.842476 | H14: 53.714079 | I14: 53.714079 | J14: 98.571429 | K14: 99.15557 | L14: 57.889908 | M14: 98.589921
... A17: pH | B17: 4.8 | C17: 4.7 | D17: 4 | E17: 9.83 | F17: 10.94 | G17: 7.1 | H17: 10.8 | I17: 10.83 | J17: 7.1 | K17: 10.8 | L17: 9.46 | M17: 7.4

Sheet Field parameters
A2: Leaching cycle | B2: Cell A | E2: Cell B | H2: Cell C | K2: Cell D
B3: pH | C3: EC | D3: Eh (mV) | E3: pH | F3: EC | G3: Eh (mV) | H3: pH | I3: EC | J3: Eh (mV) | K3: pH | L3: EC | M3: Eh (mV)
A4: 0 | B4: 6 | C4: 99.2 | D4: 282 | E4: 6.5 | F4: 51.7 | G4: 265.9 | H4: 6.5 | I4: 54.8 | J4: 255.1 | K4: 6.6 | L4: 99.2 | M4: 239
A5: 1 | B5: 5.74 | C5: 36.2 | D5: 278.6 | E5: 6.18 | F5: 21.11 | G5: 249.6 | H5: 6.12 | I5: 20.52 | J5: 274.6 | K5: 6.026 | L5: 23.9 | M5: 274.1
A6: 2 | B6: 5.89 | C6: 24.811111 | D6: 291.27 | E6: 6.16 | F6: 16.875 | G6: 226.55 | H6: 5.985 | I6: 20.11 | J6: 207.7 | K6: 6.09 | L6: 21.363333 | M6: 217.6
A7: 3 | B7: 5.7766667 | C7: 28.5 | D7: 245.4 | E7: 6.13 | F7: 20.573333 | G7: 224.3 | H7: 5.9166667 | I7: 29.033333 | J7: 194.8 | K7: 6.0166667 | L7: 25.833333 | M7: 199.7
A8: 4 | B8: 5.8325 | C8: 20.115 | D8: 262.63 | E8: 6.0633333 | F8: 17.156667 | G8: 219.5 | H8: 5.8233333 | I8: 25.233333 | J8: 196.24 | K8: 5.9633333 | L8: 22.4 | M8: 195.1
A9: 5 | B9: 5.49 | C9: 23.466667 | D9: 319.4 | E9: 5.7733333 | F9: 17.18 | G9: 262.3 | H9: 5.5933333 | I9: 20.823333 | J9: 251.7 | K9: 5.5933333 | L9: 21.033333 | M9: 255.9
A10: 6 | B10: 5.4666667 | C10: 27.866667 | D10: 298.27 | E10: 5.75 | F10: 18.983333 | G10: 252.37 | H10: 5.7 | I10: 22.4 | J10: 229.4 | K10: 5.5466667 | L10: 22.6 | M10: 241.33
A11: 7 | B11: 5.4806667 | C11: 32.166667 | D11: 259.57 | E11: 5.61 | F11: 22.4 | G11: 257.3 | H11: 5.567 | I11: 16.52 | J11: 231.8 | K11: 5.36 | L11: 19.346667 | M11: 258.65
A12: 8 | B12: 5.2566667 | C12: 72 | D12: 281.1 | E12: 5.601 | F12: 39.8 | G12: 283.8 | H12: 5.5316667 | I12: 45.4 | J12: 268.65 | K12: 5.379 | L12: 54.3 | M12: 267.95
A13: 9 | B13: 4.9153333 | C13: 82.133333 | D13: 295.2 | E13: 5.5426667 | F13: 74.2 | G13: 224.55 | H13: 5.0413333 | I13: 69.633333 | J13: 256.75 | K13: 5.011 | L13: 84.266667 | M13: 282.5
A14: 10 | B14: 4.846 | C14: 85.366667 | D14: 298.8 | E14: 5.172 | F14: 88.733333 | G14: 286.3 | H14: 5.1886667 | I14: 96.233333 | J14: 289.3 | K14: 5.0386667 | L14: 113.6 | M14: 289.65
A15: 11 | B15: 4.8036667 | C15: 68.466667 | D15: 274.73 | E15: 9.8303333 | F15: 4853.3333 | G15: 72.03 | H15: 10.796 | I15: 9280 | J15: 35.3 | K15: 10.8 | L15: 1715.2 | M15: #DIV/0!
A16: 12 | B16: 4.726 | C16: 60.2 | D16: 286.75 | E16: 10.858 | F16: 9906.6667 | G16: 28.8 | H16: 10.839 | I16: 11360 | J16: 24.8 | K16: 9.9793333 | L16: 3316.8 | M16: 58.9
A17: 13 | B17: 4.702 | C17: 74.566667 | D17: 278.6 | E17: 10.935333 | F17: 10566.667 | G17: 19.6 | H17: 10.825667 | I17: 11463.333 | J17: 13.5 | K17: 9.4606667 | L17: 1658.4 | M17: 116.75
A18: 14 | B18: 4.626 | C18: 77.633333 | D18: 269.4 | E18: 10.294 | F18: 2700 | G18: 64.55 | H18: 10.248667 | I18: 2780 | J18: 60.75 | K18: 8.5936667 | L18: 6520 | M18: 141.6
A19: 15 | B19: 4.6823333 | C19: 188.6 | D19: 284.8 | E19: 9.172 | F19: 321.33333 | G19: 142.7 | H19: 9.1923333 | I19: 286 | J19: 138.3 | K19: 8.6143333 | L19: 1213.3333 | M19: 179.4
A20: 16 | B20: 4.5983333 | C20: 45.066667 | D20: 260.85 | E20: 9.086 | F20: 134.56667 | G20: 126.8 | H20: 7.6863333 | I20: 119.56667 | J20: 146.25 | K20: 8.2533333 | L20: 386 | M20: #DIV/0!
A21: 17 | B21: 4.592 | C21: 56.8 | D21: 293.8 | E21: 7.812 | F21: 115.5 | G21: 206.15 | H21: 7.6796667 | I21: 106.5 | J21: 212.9 | K21: 8.4466667 | L21: 231 | M21: 139.9
A22: 18 | B22: 4.6066667 | C22: 57.733333 | D22: 298.8 | E22: 8.15 | F22: 113.66667 | G22: 190.05 | H22: 7.7566667 | I22: 94.133333 | J22: 190 | K22: 7.95 | L22: 178.83333 | M22: 94.4
A23: 19 | B23: 4.5266667 | C23: 134.7 | D23: 279.5 | E23: 7.85 | F23: 169 | G23: 178.8 | H23: 7.72 | I23: 150 | J23: 180.9 | K23: 7.94 | L23: 237 | M23: #DIV/0!
A24: 20 | B24: 4.4133333 | C24: 119.7 | D24: 253.6 | E24: 7.7333333 | F24: 156.1 | G24: 160.4 | H24: 7.6633333 | I24: 157.2 | J24: 185.3 | K24: 7.52 | L24: 202.85 | M24: #DIV/0!
A25: 21 | B25: 4.4 | C25: 120.01 | D25: 280.6 | E25: 7.71 | F25: 155.4 | G25: 198.3 | H25: 7.64 | I25: 158.1 | J25: 187.2 | K25: 7.4 | L25: 201.3
A26: 22 | B26: 4.44 | C26: =(C25+C27)/2 -> 108.205 | D26: 270 | E26: 7.24 | F26: =(F25+F27)/2 -> 114.8 | G26: 240 | H26: 7.23 | I26: =(I25+I27)/2 -> 132.5 | J26: 210
A27: 23 | B27: 4 | C27: 96.4 | D27: 298 | E27: 7.1 | F27: 74.2 | G27: 238.1 | H27: 7.1 | I27: 106.9 | J27: 237.5

Sheet Results LA-ICP-MS
C3: S analysis is really good. Compare 53.35 and 53.05 wt.% for KR1a and KR2a, respectively, with the stoichiometric concentration 53.45 wt.% S in pyrite. This suggests that the ablations were successful.
C5: Remarks regarding KR1a
C6: KR1a has 35 ppm Ti with good repeatability. Co is present between 154 and 302 ppm, with high variations in concetration. Ni is mostly sitting around 20 ppm, but with higher local concentrations.
C7: Cu can be found locally, but is not distributed evenly in any noticable extent. Se is found consistently close to 20 ppm. Te and Pb found together with local high conc of Cu, otherwise not present.
C8: As is found at single digit ppm level and can be found locally with higher concentration together with Mn, Te and possibly Hg.
C10: Si is not present in pyrite. Elements with concentrations below 1 ppm are not considered.
C12: Remarks regarding KR2a
C13: KR2a has 27 ppm Ti in the pyrite. Co is present between 134 and 308 ppm, with high local variations in concentration. Ni has a concentration in the range of 20 ppm, with somewhat high variation.
C14: The pyrite contains about 19 ppm Se with low local variations. As is consistently found in concentrations of single digit ppm. The pyrite can contain high local concentration of Cu, which can be associated
C15: with higher than usual concentrations of As and Ni as well as presence of Zn, Te, and Pb. Mo was found in one ablation, which was associated with Cu and Te as well as possibility of Hg and Pb.
C17: Si is not present in pyrite. Elements with concentrations below 1 ppm are not considered.
C19: Keep in mind QA/QC for sulfidic reference material:
C20: S | D20: OK, slightly underestimated (-14.3%)
C21: Ti | D21: Unknown! Available in FeS-B, but not MASS-1. Silicate glass reference materials showed poor analyses! Take Ti with a grain of salt.
C22: Mn | D22: OK
C23: Co | D23: OK
C24: Ni | D24: Underestimated (-25.6% of accepted conc)
C25: Cu | D25: OK
C26: Zn | D26: Overestimated (+43.3%, but very high conc in reference (21 wt.%), OK in glass)
C27: As | D27: OK, slightly underestimated (-15.4%)
C28: Se | D28: OK
C29: Mo | D29: OK
C30: Ag | D30: OK, slightly overestimated (15.1%)
C31: Te | D31: OK
... C33: Pb | D33: OK
C35: Below: average data, not refined
E37: S | F37: Ti | G37: Mn | H37: Co | I37: Ni | J37: Cu | K37: Zn | L37: As | M37: Se | N37: Mo | O37: Ag | P37: Sb | Q37: Te | R37: Pt | S37: Au | T37: Hg | U37: Pb
C38: KR1a | D38: Conc. [ppm] | E38: =AVERAGE(E46:E55) -> 533500 | F38: =AVERAGE(F46:F55) -> 35.1 | G38: =AVERAGE(G46:G55) -> 4.0179 | H38: =AVERAGE(H46:H55) -> 211.65 | I38: =AVERAGE(I46:I55) -> 28.09 | J38: =AVERAGE(J46:J55) -> 18.1623 | K38: =AVERAGE(K46:K55) -> -1.205 | L38: =AVERAGE(L46:L55) -> 43.625 | ... U38: =AVERAGE(U46:U55) -> 2.18263
D39: Std.dev [ppm] | E39: =_xlfn.STDEV.P(E46:E55) -> 14108.508 | F39: =_xlfn.STDEV.P(F46:F55) -> 2.6065303 | G39: =_xlfn.STDEV.P(G46:G55) -> 9.6342014 | H39: =_xlfn.STDEV.P(H46:H55) -> 47.394646 | I39: =_xlfn.STDEV.P(I46:I55) -> 9.3493797 | J39: =_xlfn.STDEV.P(J46:J55) -> 53.616006 | K39: =_xlfn.STDEV.P(K46:K55) -> 0.69729836 | L39: =_xlfn.STDEV.P(L46:L55) -> 88.190927 | ... U39: =_xlfn.STDEV.P(U46:U55) -> 6.1494887
C40: KR2a | D40: Conc. [ppm] | E40: =AVERAGE(E56:E65) -> 530500 | F40: =AVERAGE(F56:F65) -> 26.71 | G40: =AVERAGE(G56:G65) -> 1.3988 | H40: =AVERAGE(H56:H65) -> 240.79 | I40: =AVERAGE(I56:I65) -> 22.8 | J40: =AVERAGE(J56:J65) -> 25.7382 | K40: =AVERAGE(K56:K65) -> -0.21 | L40: =AVERAGE(L56:L65) -> 8.759 | ... U40: =AVERAGE(U56:U65) -> 0.74361
D41: Std.dev [ppm] | E41: =_xlfn.STDEV.P(E56:E65) -> 11868.024 | F41: =_xlfn.STDEV.P(F56:F65) -> 2.2893012 | G41: =_xlfn.STDEV.P(G56:G65) -> 2.1285921 | H41: =_xlfn.STDEV.P(H56:H65) -> 60.378613 | I41: =_xlfn.STDEV.P(I56:I65) -> 6.0794737 | J41: =_xlfn.STDEV.P(J56:J65) -> 60.425115 | K41: =_xlfn.STDEV.P(K56:K65) -> 2.2186798 | L41: =_xlfn.STDEV.P(L56:L65) -> 11.360444 | ... U41: =_xlfn.STDEV.P(U56:U65) -> 1.6755178
B44: ppm
B45: Sample | C45: Label | D45: Si | E45: S | F45: Ti | G45: Mn | H45: Co | I45: Ni | J45: Cu | K45: Zn | L45: As | M45: Se | N45: Mo | O45: Ag | P45: Sb | Q45: Te | R45: Pt | S45: Au | T45: Hg | U45: Pb
B46: KR1a | C46: KR1a | D46: -15 | E46: 535000 | F46: 29.5 | G46: 0.02 | H46: 302 | I46: 42.8 | J46: 0.071 | K46: -0.69 | L46: 5.48 | M46: 20.7 | N46: -0.0104 | O46: 0 | P46: 0.007 | Q46: 0.062 | R46: 0.0006 | S46: 0.0006 | T46: 0.074 | U46: -0.0058
B47: KR1a | C47: KR1a(1) | D47: 18 | E47: 524000 | F47: 31.3 | G47: 0.036 | H47: 173.5 | I47: 39.6 | J47: 0.027 | K47: -0.43 | L47: 1.76 | M47: 19.7 | N47: 0.014 | O47: 0.0015 | P47: 0.011 | Q47: 0.069 | R47: 0.044 | S47: -8e-05 | T47: 0.065 | U47: 0.006
B48: KR1a | C48: KR1a(2) | D48: 710 | E48: 535000 | F48: 34.9 | G48: 32 | H48: 153.8 | I48: 26.6 | J48: 2.1 | K48: -0.33 | L48: 286 | M48: 14 | N48: -0.01041 | O48: 0.55 | P48: 0.091 | Q48: 60 | R48: 0.0003 | S48: 0.0138 | T48: 3 | U48: 1.2
B49: KR1a | C49: KR1a(3) | D49: 50 | E49: 554000 | F49: 35.3 | G49: 0.012 | H49: 220 | I49: 43 | J49: 0.089 | K49: -1.45 | L49: 5.32 | M49: 21 | N49: -0.009 | O49: -0.0009 | P49: 0.001 | Q49: 0.056 | R49: -0.00379 | S49: -0.00027 | T49: 0.043 | U49: 0.0034
B50: KR1a | C50: KR1a(4) | D50: 63 | E50: 545000 | F50: 35.3 | G50: 0.011 | H50: 186.4 | I50: 19.5 | J50: 0.112 | K50: -1.08 | L50: 2.97 | M50: 19.5 | N50: -0.01045 | O50: 0.001 | P50: 0.0009 | Q50: 0.47 | R50: -0.0028 | S50: 0.00023 | T50: 0.013 | U50: 0.0182
B51: KR1a | C51: KR1a(5) | D51: 169 | E51: 518000 | F51: 37.4 | G51: 8.1 | H51: 265 | I51: 21.5 | J51: 179 | K51: -0.3 | L51: 122 | M51: 8.4 | N51: 0.026 | O51: 0.147 | P51: 0.89 | Q51: 30.6 | R51: -0.0005 | S51: 0.0064 | T51: 0.096 | U51: 20.6
B52: KR1a | C52: KR1a(6) | D52: 143 | E52: 529000 | F52: 35.9 | G52: -0.03 | H52: 179.7 | I52: 20.7 | J52: 0.07 | K52: -1.89 | L52: 1.91 | M52: 18.1 | N52: 0.005 | O52: -0.0026 | P52: -0.0171 | Q52: 0.03 | R52: 0.003 | S52: 0.00025 | T52: -0.029 | U52: -0.0045
B53: KR1a | C53: KR1a(7) | D53: 155 | E53: 538000 | F53: 37.3 | G53: 0.006 | H53: 155.1 | I53: 20.2 | J53: 0.029 | K53: -1.84 | L53: 6.2 | M53: 18 | N53: -0.0081 | O53: -0.0028 | P53: -0.0098 | Q53: 0.045 | R53: -0.00362 | S53: -0.00027 | T53: -0.024 | U53: -0.0061
B54: KR1a | C54: KR1a(8) | D54: 104 | E54: 551000 | F54: 38.4 | G54: 0.026 | H54: 235 | I54: 20 | J54: 0.029 | K54: -2.28 | L54: 3.86 | M54: 21.1 | N54: 0.011 | O54: -0.0046 | P54: 0.005 | Q54: -0.0134 | R54: -0.0031 | S54: -0.00069 | T54: -0.015 | U54: -0.0041
B55: KR1a | C55: KR1a(9) | D55: 130 | E55: 506000 | F55: 35.7 | G55: -0.002 | H55: 246 | I55: 27 | J55: 0.096 | K55: -1.76 | L55: 0.75 | M55: 18.7 | N55: -0.0004 | O55: -0.003 | P55: -0.0114 | Q55: 0.096 | R55: 0.0084 | S55: -0.00063 | T55: -0.003 | U55: 0.0192
B56: KR2a | C56: KR2a | D56: -74 | E56: 520000 | F56: 22 | G56: 0.033 | H56: 252 | I56: 21.8 | J56: 0.209 | K56: -0.28 | L56: 3.52 | M56: 20.7 | N56: -0.0079 | O56: 0.0007 | P56: 0 | Q56: 0.036 | R56: 0.0083 | S56: 0.0019 | T56: 0.066 | U56: 0.033
B57: KR2a | C57: KR2a(1) | D57: -62 | E57: 510000 | F57: 24 | G57: 0.002 | H57: 179.9 | I57: 16.1 | J57: 0.059 | K57: -0.86 | L57: 0.75 | M57: 19.8 | N57: -0.008 | O57: 0.0004 | P57: -0.008 | Q57: -0.0287 | R57: 0.0018 | S57: -0.00022 | T57: 0.059 | U57: 0.0011
... B65: KR2a | C65: KR2a(9) | D65: 237 | E65: 540000 | F65: 29.3 | G65: 3.9 | H65: 254 | I65: 19.8 | J65: 0.48 | K65: -1.15 | L65: 14.2 | M65: 19 | N65: 0.015 | O65: 0.007 | P65: 0.009 | Q65: 1.21 | R65: -0.0002 | S65: 0.00036 | T65: -0.039 | U65: 0.224
