Workbook

Sheet Leachate chemistry
A2: Cell A | B2: Filter vol (mL) | C2: Ag | D2: Al | E2: As | F2: Au | G2: B | H2: Ba | I2: Be | J2: Bi | K2: Br | L2: Ca | M2: Cd | N2: Ce | O2: Co | P2: Cr | Q2: Cs | R2: Cu | S2: Dy | T2: Er | U2: Eu | V2: Fe | W2: Ga | X2: Gd | Y2: Ge | Z2: Hf | AA2: Hg | AB2: Ho | AC2: I | AD2: Ir | AE2: K | AF2: La | AG2: Li | AH2: Lu | AI2: Mg | AJ2: Mn | AK2: Mo | AL2: Na | AM2: Nb | AN2: Nd | AO2: Ni | AP2: Os | AQ2: P | AR2: Pb | AS2: Pd | AT2: Pr | AU2: Pt | AV2: Rb | AW2: Re | AX2: Rh | AY2: Ru | AZ2: S | BA2: Sb | BB2: Sc | BC2: Se | BD2: Si | BE2: Sm | BF2: Sn | BG2: Sr | BH2: Ta | BI2: Tb | BJ2: Te | BK2: Th | BL2: Ti | BM2: Tl | BN2: Tm | BO2: U | BP2: V | BQ2: W | BR2: Y | BS2: Yb | BT2: Zn | BU2: Zr
C3: µg/L | D3: µg/L | E3: µg/L | F3: µg/L | G3: µg/L | H3: µg/L | I3: µg/L | J3: µg/L | K3: µg/L | L3: µg/L | M3: µg/L | N3: µg/L | O3: µg/L | P3: µg/L | Q3: µg/L | R3: µg/L | S3: µg/L | T3: µg/L | U3: µg/L | V3: µg/L | W3: µg/L | X3: µg/L | Y3: µg/L | Z3: µg/L | AA3: µg/L | AB3: µg/L | AC3: µg/L | AD3: µg/L | AE3: µg/L | AF3: µg/L | AG3: µg/L | AH3: µg/L | AI3: µg/L | AJ3: µg/L | AK3: µg/L | AL3: µg/L | AM3: µg/L | AN3: µg/L | AO3: µg/L | AP3: µg/L | AQ3: µg/L | AR3: µg/L | AS3: µg/L | AT3: µg/L | AU3: µg/L | AV3: µg/L | AW3: µg/L | AX3: µg/L | AY3: µg/L | AZ3: µg/L | BA3: µg/L | BB3: µg/L | BC3: µg/L | BD3: µg/L | BE3: µg/L | BF3: µg/L | BG3: µg/L | BH3: µg/L | BI3: µg/L | BJ3: µg/L | BK3: µg/L | BL3: µg/L | BM3: µg/L | BN3: µg/L | BO3: µg/L | BP3: µg/L | BQ3: µg/L | BR3: µg/L | BS3: µg/L | BT3: µg/L | BU3: µg/L
A4: Leaching cycle | C4: 0.01 | D4: 1 | E4: 0.025 | F4: 0.005 | G4: 5 | H4: 0.025 | I4: 0.01 | J4: 0.005 | K4: 10 | L4: 1 | M4: 0.01 | N4: 0.005 | O4: 0.025 | P4: 0.025 | Q4: 0.005 | R4: 0.025 | S4: 0.005 | T4: 0.005 | U4: 0.005 | V4: 0.25 | W4: 0.01 | X4: 0.005 | Y4: 0.05 | Z4: 0.005 | AA4: 0.01 | AB4: 0.005 | AC4: 2.5 | AD4: 0.005 | AE4: 1 | AF4: 0.005 | AG4: 0.1 | AH4: 0.005 | AI4: 0.5 | AJ4: 0.01 | AK4: 0.005 | AL4: 10 | AM4: 0.005 | AN4: 0.005 | AO4: 0.1 | AP4: 0.005 | AQ4: 1 | AR4: 0.01 | AS4: 0.005 | AT4: 0.005 | AU4: 0.005 | AV4: 0.025 | AW4: 0.0005 | AX4: 0.02 | AY4: 0.005 | AZ4: 25 | BA4: 0.01 | BB4: 0.01 | BC4: 0.1 | BD4: 50 | BE4: 0.005 | BF4: 0.05 | BG4: 0.025 | BH4: 0.005 | BI4: 0.005 | BJ4: 0.01 | BK4: 0.005 | BL4: 0.05 | BM4: 0.005 | BN4: 0.005 | BO4: 0.005 | BP4: 0.01 | BQ4: 0.01 | BR4: 0.005 | BS4: 0.005 | BT4: 0.1 | BU4: 0.005
A5: 0 | B5: 250 | C5: 0.001 | D5: 4 | E5: 0.23 | F5: 0.2 | G5: 17 | H5: 5.5 | I5: 0.091 | J5: 0.00055 | K5: <5 | L5: 4600 | M5: 0.011 | N5: 0.026 | O5: 2.5 | P5: <0.05 | Q5: 0.32 | R5: 0.25 | S5: 0.0022 | T5: 0.0026 | U5: 0.0013 | V5: 0.79 | W5: 0.0014 | X5: 0.0021 | Y5: <0.1 | Z5: 9.5e-05 | AA5: 0.0073 | AB5: 0.00044 | AC5: 0.3 | AD5: 0.00073 | AE5: 3100 | AF5: 0.014 | AG5: 0.97 | AH5: 0.00046 | AI5: 1900 | AJ5: 42 | AK5: 0.039 | AL5: 1000 | AM5: 3.9e-05 | AN5: 0.013 | AO5: 0.59 | AP5: 0 | AQ5: 1.9 | AR5: 0.02 | AS5: 0.00072 | AT5: 0.0033 | AU5: 0.0051 | AV5: 3.8 | AW5: 0.001 | AX5: 0 | AY5: 0 | AZ5: 7700 | BA5: 0.82 | BB5: 0.004 | BC5: 0.25 | BD5: 4100 | BE5: 0.00094 | BF5: 0.13 | BG5: 19 | BH5: 3e-05 | BI5: 1.2e-05 | BJ5: 1.2 | BK5: 0.00048 | BL5: 0.023 | BM5: 0.11 | BN5: 0.00092 | BO5: 0.019 | BP5: 0.31 | BQ5: <0.1 | BR5: 0.013 | BS5: 0.0013 | BT5: 5.9 | BU5: 0.0081
A6: 1 | B6: 250 | C6: 0.0064 | D6: 24 | E6: 0.17 | F6: 0.01 | G6: 4.4 | H6: 2.4 | I6: 0.14 | J6: 0.00039 | K6: 1 | L6: 1800 | M6: 0.0091 | N6: 0.054 | O6: 1.7 | P6: 0.15 | Q6: 0.12 | R6: 1.5 | S6: 0.0069 | T6: 0.0022 | U6: 0.0026 | V6: 7 | W6: 0 | X6: 0.0015 | Y6: 0 | Z6: 5.5e-05 | AA6: 0.0096 | AB6: 0.0015 | AC6: 1.8 | AD6: 0 | AE6: 1200 | AF6: 0.026 | AG6: 0.77 | AH6: 0.0008 | AI6: 760 | AJ6: 20 | AK6: 0.0028 | AL6: 340 | AM6: 0 | AN6: 0.035 | AO6: 0.53 | AP6: 0 | AQ6: 5.4 | AR6: 0.083 | AS6: 0.0014 | AT6: 0.0077 | AU6: 0.0022 | AV6: 1.8 | AW6: 0.00016 | AX6: 0.018 | AY6: 0.0017 | AZ6: 4500 | BA6: 0.3 | BB6: 0.019 | BC6: 0.058 | BD6: 3200 | BE6: 0.0057 | BF6: 0.06 | BG6: 7.5 | BH6: 0.0055 | BI6: 0.0015 | BJ6: 1.6 | BK6: 0.0015 | BL6: 0 | BM6: 0.048 | BN6: 0.00077 | BO6: 0.048 | BP6: 0.13 | BQ6: 0.017 | BR6: 0.025 | BS6: 0.0021 | BT6: 5 | BU6: 0.016
A7: 2 | B7: 250 | C7: 0.0063 | D7: 10 | E7: 0.25 | F7: 0.0032 | G7: 4.4 | H7: 2.5 | I7: 0.14 | J7: 0.00025 | K7: 0.33 | L7: 1200 | M7: 0.048 | N7: 0.021 | O7: 1.4 | P7: 0.03 | Q7: 0.096 | R7: 2.3 | S7: 0.0017 | T7: 0.0022 | U7: 0.0021 | V7: 4.2 | W7: 0 | X7: 0.003 | Y7: 0 | Z7: 0.0014 | AA7: 0.0077 | AB7: 0.00014 | AC7: 2.9 | AD7: 0 | AE7: 880 | AF7: 0.011 | AG7: 0.63 | AH7: 0.00012 | AI7: 450 | AJ7: 18 | AK7: 0.0027 | AL7: 100 | AM7: 0.00021 | AN7: 0.011 | AO7: 0.7 | AP7: 0 | AQ7: 6.1 | AR7: 0.033 | AS7: 0.0049 | AT7: 0.0016 | AU7: 0.011 | AV7: 1.5 | AW7: 0.00013 | AX7: 0.0067 | AY7: 0 | AZ7: 2600 | BA7: 0.28 | BB7: 0.0013 | BC7: 0.17 | BD7: 3200 | BE7: 0.004 | BF7: 0.051 | BG7: 5.3 | BH7: 0.00204 | BI7: 0.0011 | BJ7: 2.3 | BK7: 0.00025 | BL7: 0.039 | BM7: 0.042 | BN7: 0.00026 | BO7: 0.041 | BP7: 0.17 | BQ7: 7e-05 | BR7: 0.0058 | BS7: 4.5e-06 | BT7: 5.4 | BU7: 0.0055
A8: 3 | B8: 250 | C8: 8.1e-05 | D8: 8.3 | E8: 0.076 | F8: 0.0032 | G8: 4.9 | H8: 2.1 | I8: 0.16 | J8: 0.00061 | K8: <5 | L8: 1500 | M8: 0.0092 | N8: 0.0083 | O8: 1.8 | P8: <0.05 | Q8: 0.095 | R8: 0.47 | S8: 0.00034 | T8: 0 | U8: 0.00062 | V8: 2.9 | W8: 0 | X8: 0.00062 | Y8: <0.1 | Z8: 0.00017 | AA8: 0.0071 | AB8: 0.00026 | AC8: 0.24 | AD8: 0 | AE8: 920 | AF8: 0.0042 | AG8: 0.73 | AH8: 0.00032 | AI8: 660 | AJ8: 20 | AK8: 0.0041 | AL8: 110 | AM8: 0.00026 | AN8: 0.0046 | AO8: 0.39 | AP8: 0.00038 | AQ8: 1.3 | AR8: 0.019 | AS8: 0.00051 | AT8: 0.0011 | AU8: 0.00097 | AV8: 1.5 | AW8: 0.00014 | AX8: 0.00072 | AY8: 0.00015 | AZ8: 2500 | BA8: 0.23 | BB8: 0.0027 | BC8: 0.13 | BD8: 3900 | BE8: 0 | BF8: 0.058 | BG8: 5.8 | BH8: 0 | BI8: 0 | BJ8: 2.4 | BK8: 0.00068 | BL8: 0.0064 | BM8: 0.053 | BN8: 0.00094 | BO8: 0.076 | BP8: 0.13 | BQ8: <0.1 | BR8: 0.0058 | BS8: 0.00025 | BT8: 3.2 | BU8: 0.0044
A9: 4 | B9: 250 | C9: 0.0015 | D9: 6.7 | E9: 0.19 | F9: 0.0014 | G9: 4.5 | H9: 1.5 | I9: 0.14 | J9: 0.00034 | K9: 0.82 | L9: 1000 | M9: 0.021 | N9: 0.0096 | O9: 1.4 | P9: 0 | Q9: 0.075 | R9: 0.54 | S9: 0.00068 | T9: 0.00084 | U9: 0.0018 | V9: 4.2 | W9: 0 | X9: 0.0011 | Y9: 0.022 | Z9: 0.00075 | AA9: 0.016 | AB9: 4.7e-05 | AC9: 2.2 | AD9: 0 | AE9: 640 | AF9: 0.0083 | AG9: 0.56 | AH9: 0.001 | AI9: 410 | AJ9: 15 | AK9: 0.0038 | AL9: 90 | AM9: 0 | AN9: 0.011 | AO9: 0.36 | AP9: 4.5e-06 | AQ9: 2 | AR9: 0.018 | AS9: 0.0053 | AT9: 0.00098 | AU9: 0.013 | AV9: 1.3 | AW9: 0 | AX9: 0.0045 | AY9: 0.0016 | AZ9: 1800 | BA9: 0.19 | BB9: 0.0068 | BC9: 0.054 | BD9: 3300 | BE9: 0.0015 | BF9: 0.028 | BG9: 4.3 | BH9: 0.000148 | BI9: 0.0011 | BJ9: 2.6 | BK9: 0.00085 | BL9: 0 | BM9: 0.035 | BN9: 0.00014 | BO9: 0.058 | BP9: 0.11 | BQ9: 0.00042 | BR9: 0.0025 | BS9: 0 | BT9: 3.3 | BU9: 0.0076
A10: 5 | B10: 250 | C10: 0.0018 | D10: 7.7 | E10: 0.052 | F10: 0.003 | G10: 0 | H10: 2.1 | I10: 0.15 | J10: 0.0012 | K10: <5 | L10: 1400 | M10: 0.015 | N10: 0.03 | O10: 1.8 | P10: <0.05 | Q10: 0.073 | R10: 2.5 | S10: 0.0022 | T10: 0.0018 | U10: 0.0014 | V10: 1.9 | W10: 0 | X10: 0.0029 | Y10: <0.1 | Z10: 1.6e-05 | AA10: 0.0086 | AB10: 0.00049 | AC10: 0.23 | AD10: 0 | AE10: 630 | AF10: 0.015 | AG10: 0.56 | AH10: 0.00023 | AI10: 600 | AJ10: 19 | AK10: 0.0032 | AL10: 60 | AM10: 0.0006 | AN10: 0.016 | AO10: 0.38 | AP10: 0 | AQ10: 0.89 | AR10: 0.077 | AS10: 0.00028 | AT10: 0.0033 | AU10: 0.00038 | AV10: 1.2 | AW10: 6.7e-05 | AX10: 0.00045 | AY10: 0 | AZ10: 2500 | BA10: 0.11 | BB10: 0.0036 | BC10: 0.078 | BD10: 2100 | BE10: 0.0026 | BF10: 0.02 | BG10: 5.3 | BH10: 0.00016 | BI10: 0.00025 | BJ10: 1.9 | BK10: 0.0011 | BL10: 0 | BM10: 0.045 | BN10: 0.00073 | BO10: 0.047 | BP10: 0.069 | BQ10: <0.1 | BR10: 0.014 | BS10: 0.00015 | BT10: 4.1 | BU10: 0.0054
A11: 6 | B11: 250 | C11: 0.00081 | D11: 9.5 | E11: 0.042 | F11: 0.0025 | G11: 3.7 | H11: 2.3 | I11: 0.24 | J11: 0.00081 | K11: 0.31 | L11: 1600 | M11: 0.022 | N11: 0.027 | O11: 2.5 | P11: 0.18 | Q11: 0.084 | R11: 1.1 | S11: 0.0029 | T11: 0.0022 | U11: 0.0049 | V11: 4.7 | W11: 0 | X11: 0.0033 | Y11: 0 | Z11: 0 | AA11: 0.0064 | AB11: 0.00051 | AC11: 1.7 | AD11: 0 | AE11: 590 | AF11: 0.017 | AG11: 0.65 | AH11: 0.0025 | AI11: 650 | AJ11: 24 | AK11: 0 | AL11: 57 | AM11: 0 | AN11: 0.0058 | AO11: 0.6 | AP11: 0 | AQ11: 1.8 | AR11: 0.019 | AS11: 0.0055 | AT11: 0.0042 | AU11: 0.0056 | AV11: 1.5 | AW11: 0 | AX11: 0.0031 | AY11: 0 | AZ11: 3500 | BA11: 0.12 | BB11: 0.016 | BC11: 0.4 | BD11: 2200 | BE11: 0.0016 | BF11: 0.035 | BG11: 7.1 | BH11: 0.000176 | BI11: 0.00083 | BJ11: 2.9 | BK11: 0.00027 | BL11: 0.049 | BM11: 0.04 | BN11: 6.2e-05 | BO11: 0.06 | BP11: 0.065 | BQ11: 0.0049 | BR11: 0.013 | BS11: 0 | BT11: 5 | BU11: 0.0094
A12: 7 | B12: 250 | C12: 0 | D12: 19 | E12: 0.031 | F12: 0.001 | G12: 1.1 | H12: 3.2 | I12: 0.38 | J12: 0.00093 | K12: 0 | L12: 2200 | M12: 0.033 | N12: 0.095 | O12: 3.7 | P12: 0.03 | Q12: 0.097 | R12: 1.4 | S12: 0.0084 | T12: 0.0036 | U12: 0.00077 | V12: 4.1 | W12: 0 | X12: 0.0067 | Y12: 0 | Z12: 0.00064 | AA12: 0.011 | AB12: 0.0016 | AC12: 1.1 | AD12: 0 | AE12: 600 | AF12: 0.055 | AG12: 0.85 | AH12: 0.00061 | AI12: 950 | AJ12: 35 | AK12: 0.002 | AL12: 43 | AM12: 0 | AN12: 0.057 | AO12: 0.89 | AP12: 0.001 | AQ12: 1.6 | AR12: 0.029 | AS12: 0.0015 | AT12: 0.0094 | AU12: 0.0035 | AV12: 1.7 | AW12: 0.00019 | AX12: 0.0022 | AY12: 0 | AZ12: 5000 | BA12: 0.13 | BB12: 0.023 | BC12: 0.24 | BD12: 2600 | BE12: 0.007 | BF12: 0.029 | BG12: 9.4 | BH12: 0.0003 | BI12: 0.00057 | BJ12: 4.1 | BK12: 0.0027 | BL12: 0 | BM12: 0.051 | BN12: 0.00031 | BO12: 0.077 | BP12: 0.09 | BQ12: 0 | BR12: 0.033 | BS12: 0.0012 | BT12: 10 | BU12: 0.0089
A13: 8 | B13: 250 | C13: 0.00415 | D13: 23.5 | E13: 0.0898 | F13: 0.00128 | G13: 16 | H13: 3.5 | I13: 0.825 | J13: 0.00077 | K13: 0.0495 | L13: 2550 | M13: 0.021 | N13: 0.115 | O13: 4.35 | P13: 0.04305 | Q13: 0.33 | R13: 2.3 | S13: 0.0061 | T13: 0.00325 | U13: 0.0027 | V13: 11.5 | W13: 0 | X13: 0.00775 | Y13: 0 | Z13: 2.2e-05 | AA13: 0.00255 | AB13: 0.000915 | AC13: 3.85 | AD13: 0 | AE13: 880 | AF13: 0.054 | AG13: 1.6 | AH13: 0.000115 | AI13: 1000 | AJ13: 38.5 | AK13: 0.0005 | AL13: 47.5 | AM13: 0.00016 | AN13: 0.0505 | AO13: 0.7805 | AP13: 0.000155 | AQ13: 6.95 | AR13: 0.0165 | AS13: 0.00075 | AT13: 0.0135 | AU13: 0.00042 | AV13: 3.6 | AW13: 0.000155 | AX13: 0.00014 | AY13: 0.00166 | AZ13: 5650 | BA13: 0.125 | BB13: 0.02725 | BC13: 0.255 | BD13: 2050 | BE13: 0.01175 | BF13: 0.0145 | BG13: 9.35 | BH13: 0.00013 | BI13: 0.001015 | BJ13: 2.75 | BK13: 0.00405 | BL13: 0 | BM13: 0.0725 | BN13: 0.000235 | BO13: 0.0635 | BP13: 0.125 | BQ13: 0.0023 | BR13: 0.04 | BS13: 0.001215 | BT13: 9 | BU13: 0.0101
A14: 9 | B14: 250 | C14: 0.0025 | D14: 55 | E14: 0.0865 | F14: 0.00133 | G14: 18 | H14: 5.75 | I14: 1.35 | J14: 0.0015 | K14: 0.21 | L14: 3900 | M14: 0.02655 | N14: 0.45 | O14: 7.5 | P14: 0.0422 | Q14: 0.36 | R14: 4.45 | S14: 0.0225 | T14: 0.00945 | U14: 0.0115 | V14: 29.5 | W14: 0 | X14: 0.029 | Y14: 0.00225 | Z14: 0.0001705 | AA14: 0.0125 | AB14: 0.00395 | AC14: 2 | AD14: 5.2e-05 | AE14: 790 | AF14: 0.2 | AG14: 1.55 | AH14: 0.000735 | AI14: 1600 | AJ14: 62.5 | AK14: 0 | AL14: 40 | AM14: 0.0001315 | AN14: 0.23 | AO14: 1.4 | AP14: 0.00016 | AQ14: 4.6 | AR14: 0.076 | AS14: 0.000225 | AT14: 0.052 | AU14: 0 | AV14: 3.85 | AW14: 0 | AX14: 0.00011 | AY14: 0.000535 | AZ14: 8150 | BA14: 0.0805 | BB14: 0.03065 | BC14: 0.285 | BD14: 2100 | BE14: 0.0515 | BF14: 0.098 | BG14: 15 | BH14: 0.00013333333 | BI14: 0.0045 | BJ14: 3.3 | BK14: 0.0017 | BL14: 0 | BM14: 0.0825 | BN14: 0.0013 | BO14: 0.23 | BP14: 0.12 | BQ14: 0.00054 | BR14: 0.145 | BS14: 0.0055 | BT14: 21 | BU14: 0.00122
A15: 10 | B15: 250 | C15: 0.00085 | D15: 105 | E15: 0.047 | F15: 0.00055 | G15: 18.5 | H15: 20.5 | I15: 1.95 | J15: 0.001 | K15: 0 | L15: 5700 | M15: 0.063 | N15: 0.9 | O15: 11.5 | P15: 0.0895 | Q15: 0.205 | R15: 11 | S15: 0.0465 | T15: 0.0195 | U15: 0.019 | V15: 47.5 | W15: 0 | X15: 0.0635 | Y15: 0 | Z15: 0.000435 | AA15: 0.007 | AB15: 0.00705 | AC15: 1.3 | AD15: 0 | AE15: 725 | AF15: 0.43 | AG15: 1.65 | AH15: 0.001045 | AI15: 2350 | AJ15: 92.5 | AK15: 0 | AL15: 50.5 | AM15: 0.000185 | AN15: 0.45 | AO15: 2.1 | AP15: 0.00012 | AQ15: 5.1 | AR15: 0.08 | AS15: 0.001 | AT15: 0.11 | AU15: 0 | AV15: 3.15 | AW15: 4.45e-05 | AX15: 0 | AY15: 0.000375 | AZ15: 10500 | BA15: 0.0655 | BB15: 0.0107 | BC15: 0.285 | BD15: 2500 | BE15: 0.093 | BF15: 0.0995 | BG15: 22.5 | BH15: 0.00013166667 | BI15: 0.01045 | BJ15: 3.6 | BK15: 0.00147 | BL15: 0.00265 | BM15: 0.065 | BN15: 0.0028 | BO15: 0.365 | BP15: 0.0685 | BQ15: 0.000475 | BR15: 0.295 | BS15: 0.0115 | BT15: 45 | BU15: 0.015
A16: 11 | B16: 215 | C16: 0.012 | D16: 99 | E16: 0.09 | F16: 0.001 | G16: 16 | H16: 61 | I16: 1.5 | J16: 0.0013 | K16: 0.58 | L16: 3700 | M16: 0.11 | N16: 0.53 | O16: 6.6 | P16: 0.039 | Q16: 0.15 | R16: 5.2 | S16: 0.026 | T16: 0.011 | U16: 0.005 | V16: 35 | W16: 0.0049 | X16: 0.03 | Y16: 0 | Z16: 0.00029 | AA16: 0 | AB16: 0.0052 | AC16: 2.9 | AD16: 0 | AE16: 390 | AF16: 0.28 | AG16: 0.88 | AH16: 0.0011 | AI16: 1400 | AJ16: 54 | AK16: 0.0017 | AL16: 890 | AM16: 0.0011 | AN16: 0.35 | AO16: 1.4 | AP16: 0.0016 | AQ16: 5 | AR16: 0.11 | AS16: 0.00056 | AT16: 0.082 | AU16: 0.0019 | AV16: 2 | AW16: 8.5e-05 | AX16: 0.0018 | AY16: 0.00069 | AZ16: 8100 | BA16: 0.081 | BB16: 0.0041 | BC16: 0.27 | BD16: 1800 | BE16: 0.12 | BF16: 0.038 | BG16: 16 | BH16: 0.00112 | BI16: 0.0042 | BJ16: 3.8 | BK16: 0.006 | BL16: 0.14 | BM16: 0.072 | BN16: 0.001 | BO16: 0.51 | BP16: 0.064 | BQ16: 0.0012 | BR16: 0.15 | BS16: 0.0057 | BT16: 53 | BU16: 0.048
A17: 12 | B17: 215 | C17: 0.016 | D17: 120 | E17: 0.095 | F17: 4.1 | G17: 22 | H17: 60 | I17: 1.7 | J17: 0.0012 | K17: 1.6 | L17: 3600 | M17: 0.11 | N17: 0.63 | O17: 7.4 | P17: 0.056 | Q17: 0.14 | R17: 7.6 | S17: 0.033 | T17: 0.015 | U17: 0.02 | V17: 49 | W17: 0.004 | X17: 0.044 | Y17: 0.014 | Z17: 0.002 | AA17: 0.0051 | AB17: 0.0062 | AC17: 3.3 | AD17: 0 | AE17: 340 | AF17: 0.32 | AG17: 1 | AH17: 0.0018 | AI17: 1500 | AJ17: 56 | AK17: 0.013 | AL17: 58 | AM17: 0 | AN17: 0.3 | AO17: 2.1 | AP17: 0.001 | AQ17: 4.2 | AR17: 0.12 | AS17: 0.00145 | AT17: 0.082 | AU17: 0.0078 | AV17: 1.8 | AW17: 0.00013 | AX17: 0.0116 | AY17: 0.0037 | AZ17: 7900 | BA17: 0.12 | BB17: 0.0014 | BC17: 0.3 | BD17: 2000 | BE17: 0.071 | BF17: 0.084 | BG17: 17 | BH17: 0.000392 | BI17: 0.0058 | BJ17: 4 | BK17: 0.005 | BL17: 0.071 | BM17: 0.069 | BN17: 0.0016 | BO17: 0.62 | BP17: 0.13 | BQ17: 0.0031 | BR17: 0.17 | BS17: 0.0072 | BT17: 50 | BU17: 0.075
A18: 13 | B18: 210 | C18: 0.0155 | D18: 100 | E18: 0.04545 | F18: 0.00295 | G18: 7.15 | H18: 7.25 | I18: 2 | J18: 0.0061 | K18: 2.95 | L18: 3450 | M18: 0.315 | N18: 0.695 | O18: 7.3 | P18: 0.0255 | Q18: 0.16 | R18: 8.9 | S18: 0.0285 | T18: 0.015 | U18: 0.025 | V18: 61 | W18: 0 | X18: 0.036 | Y18: 0 | Z18: 9.42e-05 | AA18: 0.0155 | AB18: 0.00575 | AC18: 1.35 | AD18: 0.00011 | AE18: 285 | AF18: 0.36 | AG18: 1.1 | AH18: 0.0016 | AI18: 1400 | AJ18: 53.5 | AK18: 0.115 | AL18: 24.5 | AM18: 5.5e-05 | AN18: 0.41 | AO18: 2.55 | AP18: 0.000185 | AQ18: 32.5 | AR18: 0.13 | AS18: 0 | AT18: 0.097 | AU18: 0.00185 | AV18: 1.85 | AW18: 0.00024 | AX18: 0.00335 | AY18: 0.00138 | AZ18: 8200 | BA18: 0.125 | BB18: 0.0265 | BC18: 0.32 | BD18: 2000 | BE18: 0.115 | BF18: 0.091 | BG18: 17 | BH18: 0.00205 | BI18: 0.00715 | BJ18: 5.2 | BK18: 0.0475 | BL18: 0.035 | BM18: 0.0735 | BN18: 0.0017 | BO18: 0.79 | BP18: 0.0485 | BQ18: 0.009 | BR18: 0.175 | BS18: 0.00665 | BT18: 25.5 | BU18: 0.0025
A19: 14 | B19: 200 | C19: 0.028 | D19: 140 | E19: 0.083 | F19: 0.00091 | G19: 6.3 | H19: 7.5 | I19: 1.4 | J19: 0.0013 | K19: 1.3 | L19: 3800 | M19: 0.033 | N19: 0.8 | O19: 7.9 | P19: 0.053 | Q19: 0.13 | R19: 8.9 | S19: 0.046 | T19: 0.02 | U19: 0.013 | V19: 81 | W19: 0.0056 | X19: 0.052 | Y19: 0.0091 | Z19: 0.00065 | AA19: 0.02 | AB19: 0.0072 | AC19: 1.5 | AD19: -8.4e-05 | AE19: 270 | AF19: 0.42 | AG19: 0.8 | AH19: -0.00036 | AI19: 1400 | AJ19: 59 | AK19: 0.001 | AL19: 31.536229 | AM19: 0.00079 | AN19: 0.4 | AO19: 1.3 | AP19: 0.00054 | AQ19: 2.5 | AR19: 0.1 | AS19: 0.0094 | AT19: 0.098 | AU19: 0.0007 | AV19: 1.6 | AW19: 0.00048 | AX19: -0.0068 | AY19: -0.0012 | AZ19: 6400 | BA19: 0.062 | BB19: 0.026 | BC19: 0.2 | BD19: 1800 | BE19: 0.073 | BF19: 0.036 | BG19: 16 | BH19: 2e-05 | BI19: 0.0073 | BJ19: 4 | BK19: 0.0098 | BL19: 0.029 | BM19: 0.064 | BN19: 0.0016 | BO19: 0.8 | BP19: 0.045 | BQ19: 0.0014 | BR19: 0.2 | BS19: 0.0084 | BT19: 21 | BU19: 0.0079
A20: 15 | B20: 156.5 | C20: 0.0094674856 | D20: 114.68733 | E20: 0.034193308 | F20: 0.00394 | G20: 4.663316 | H20: 5.9378807 | I20: 1.554678 | J20: 0.0025611902 | K20: 1.2 | L20: 3009.6625 | M20: 0.070626424 | N20: 1.1025772 | O20: 7.0663291 | P20: 0.0090054239 | Q20: 0.089789973 | R20: 8.1682542 | S20: 0.06291186 | T20: 0.022184989 | U20: 0.019664964 | V20: 94.358404 | W20: 0.41508513 | X20: 0.072983975 | Y20: 0.031680173 | Z20: 0.00019420186 | AA20: 0.004471274 | AB20: 0.0093037446 | AC20: 0.46656907 | AD20: -0.00013368797 | AE20: 199.54076 | AF20: 0.54720552 | AG20: 0.80435876 | AH20: 0.00093796588 | AI20: 1182.8067 | AJ20: 51.728548 | AK20: 0.0046846888 | AL20: 83.05804 | AM20: -0.00033210922 | AN20: 0.55309987 | AO20: 1.4183567 | AP20: 0.0006243641 | AQ20: 8.2023686 | AR20: 0.15881077 | AS20: 0.0057968036 | AT20: 0.14141214 | AU20: 0.00019406196 | AV20: 1.2528473 | AW20: -5.0923739e-05 | AX20: 0.0039350117 | AY20: -0.00044448176 | AZ20: 6899.0296 | BA20: 0.088605724 | BB20: 0.016738584 | BC20: 0.18451364 | BD20: 1745.1479 | BE20: 0.099694684 | BF20: 0.18914109 | BG20: 14.276884 | BH20: 0.00049691689 | BI20: 0.010898082 | BJ20: 5.6584962 | BK20: 0.014019299 | BL20: 0.0024579724 | BM20: 0.055 | BN20: 0.0014970667 | BO20: 0.93613362 | BP20: 0.075170342 | BQ20: -0.00049930863 | BR20: 0.23927646 | BS20: 0.0067726247 | BT20: 35.693664 | BU20: 0.0049964294
A21: 16 | B21: 157.5 | C21: 0.0061071034 | D21: 113.17184 | E21: 0.057528447 | F21: 0.00074936103 | G21: 4.0527288 | H21: 4.8879368 | I21: 1.2602389 | J21: 0.0027187656 | K21: 0.9351159 | L21: 2940.8092 | M21: 0.027070874 | N21: 0.68651077 | O21: 6.0684111 | P21: 0.033144849 | Q21: 0.030162716 | R21: 7.4468928 | S21: 0.039994796 | T21: 0.011232019 | U21: 0.014224678 | V21: 101.66038 | W21: 0 | X21: 0.049624092 | Y21: 0.023966958 | Z21: -0.00011834105 | AA21: 0.01037227 | AB21: 0.0050864754 | AC21: 0.15641446 | AD21: 0.0015234419 | AE21: 195.85429 | AF21: 0.34496917 | AG21: 1.6279559 | AH21: 0.0011949754 | AI21: 1091.793 | AJ21: 42.709667 | AK21: 0.01031655 | AL21: 127.25636 | AM21: 0.00064367896 | AN21: 0.36270739 | AO21: 1.147785 | AP21: -0.00012125003 | AQ21: 6.6156612 | AR21: 0.10825227 | AS21: 0.010075143 | AT21: 0.082834247 | AU21: 0.00070649124 | AV21: 0.61274079 | AW21: 0.00011577054 | AX21: 0.0062287464 | AY21: 0.0012259919 | AZ21: 4656.1288 | BA21: 0.12413251 | BB21: 0.023687245 | BC21: 0.043867309 | BD21: 1701.9382 | BE21: 0.060922092 | BF21: 0.0017393901 | BG21: 12.377298 | BH21: 0.00019625353 | BI21: 0.0059854916 | BJ21: 3.9499143 | BK21: 0.0085640857 | BL21: 0.049302633 | BM21: 0.020112315 | BN21: 0.0015521502 | BO21: 0.80219185 | BP21: 0.076010553 | BQ21: 0.0037200359 | BR21: 0.16322368 | BS21: 0.0064757988 | BT21: 18.733969 | BU21: 0.0055060418
A22: 17 | B22: 235 | C22: 0.00025 | D22: 150 | E22: 0.0995 | F22: 0.00065 | G22: 5.4 | H22: 5.7 | I22: 1.5 | J22: 0.0016 | K22: 0.21 | L22: 3700 | M22: 0.032 | N22: 1.1 | O22: 8.2 | P22: 0.023 | Q22: 0.0235 | R22: 9.95 | S22: 0.0605 | T22: 0.0195 | U22: 0.01975 | V22: 160 | W22: 0.0023 | X22: 0.0855 | Y22: 0 | Z22: 0.0003635 | AA22: 0.0012 | AB22: 0.00995 | AC22: 0.575 | AD22: 0.000138 | AE22: 285 | AF22: 0.535 | AG22: 0.445 | AH22: 0.0012 | AI22: 1400 | AJ22: 59 | AK22: 0.00115 | AL22: 69 | AM22: 0 | AN22: 0.575 | AO22: 1.55 | AP22: 0 | AQ22: 11 | AR22: 0.08 | AS22: 0 | AT22: 0.14 | AU22: 0.0015 | AV22: 0.625 | AW22: 2.3e-05 | AX22: 0.002 | AY22: 0.00106 | AZ22: 5650 | BA22: 0.0575 | BB22: 0.0335 | BC22: 0.0365 | BD22: 1800 | BE22: 0.115 | BF22: 0.125 | BG22: 16.5 | BH22: 0.000625 | BI22: 0.0115 | BJ22: 4 | BK22: 0.0125 | BL22: 0.047 | BM22: 0.0135 | BN22: 0.00255 | BO22: 0.98 | BP22: 0.085 | BQ22: 0.00565 | BR22: 0.275 | BS22: 0.0113 | BT22: 22 | BU22: 0.0059
... A28: 23 | B28: 235 | C28: 0.00023098592 | D28: 395.92571 | E28: 0.1077141 | F28: 0.002764934 | G28: 6.4858003 | H28: 13.905982 | I28: 3.6947842 | J28: 0.002187037 | K28: 0.25052321 | L28: 6326.2716 | M28: 0.079031358 | N28: 6.7766927 | O28: 15.530519 | P28: 0.15168761 | Q28: 0.03428735 | R28: 26.689028 | S28: 0.37569452 | T28: 0.13706083 | U28: 0.13742512 | V28: 646.98216 | W28: 0.0026370073 | X28: 0.60711713 | Y28: 0.012331042 | Z28: 0.0035616338 | AA28: 0.015373012 | AB28: 0.061268635 | AC28: 0.30447129 | AD28: 0.00020390045 | AE28: 270.84073 | AF28: 3.2517052 | AG28: 1.0831775 | AH28: 0.0054663455 | AI28: 2430.427 | AJ28: 108.31452 | AK28: 0.0016940459 | AL28: 124.27509 | AM28: 0.0003803444 | AN28: 3.5807517 | AO28: 2.573788 | AP28: 0.00073504902 | AQ28: 3.6332169 | AR28: 0.24470608 | AS28: -0.000115 | AT28: 0.84420941 | AU28: 0.0014515473 | AV28: 0.74879845 | AW28: 0.00059215377 | AX28: 0.0049530719 | AY28: 0.0066389082 | AZ28: 14094.334 | BA28: 0.056211464 | BB28: 0.15568002 | BC28: 0.46388548 | BD28: 2396.1451 | BE28: 0.75436925 | BF28: 0.11985206 | BG28: 32.101647 | BH28: 0.00060448776 | BI28: 0.072876654 | BJ28: 4.1982608 | BK28: 0.027326342 | BL28: 0.18503676 | BM28: 0.019814847 | BN28: 0.012580871 | BO28: 3.5340447 | BP28: 0.086614239 | BQ28: 0.0018898143 | BR28: 1.3793069 | BS28: 0.055312676 | BT28: 49.737994 | BU28: 0.0097806765
A30: Cell B | B30: Filter vol (mL) | C30: Ag | D30: Al | E30: As | F30: Au | G30: B | H30: Ba | I30: Be | J30: Bi | K30: Br | L30: Ca | M30: Cd | N30: Ce | O30: Co | P30: Cr | Q30: Cs | R30: Cu | S30: Dy | T30: Er | U30: Eu | V30: Fe | W30: Ga | X30: Gd | Y30: Ge | Z30: Hf | AA30: Hg | AB30: Ho | AC30: I | AD30: Ir | AE30: K | AF30: La | AG30: Li | AH30: Lu | AI30: Mg | AJ30: Mn | AK30: Mo | AL30: Na | AM30: Nb | AN30: Nd | AO30: Ni | AP30: Os | AQ30: P | AR30: Pb | AS30: Pd | AT30: Pr | AU30: Pt | AV30: Rb | AW30: Re | AX30: Rh | AY30: Ru | AZ30: S | BA30: Sb | BB30: Sc | BC30: Se | BD30: Si | BE30: Sm | BF30: Sn | BG30: Sr | BH30: Ta | BI30: Tb | BJ30: Te | BK30: Th | BL30: Ti | BM30: Tl | BN30: Tm | BO30: U | BP30: V | BQ30: W | BR30: Y | BS30: Yb | BT30: Zn | BU30: Zr
C31: µg/L | D31: µg/L | E31: µg/L | F31: µg/L | G31: µg/L | H31: µg/L | I31: µg/L | J31: µg/L | K31: µg/L | L31: µg/L | M31: µg/L | N31: µg/L | O31: µg/L | P31: µg/L | Q31: µg/L | R31: µg/L | S31: µg/L | T31: µg/L | U31: µg/L | V31: µg/L | W31: µg/L | X31: µg/L | Y31: µg/L | Z31: µg/L | AA31: µg/L | AB31: µg/L | AC31: µg/L | AD31: µg/L | AE31: µg/L | AF31: µg/L | AG31: µg/L | AH31: µg/L | AI31: µg/L | AJ31: µg/L | AK31: µg/L | AL31: µg/L | AM31: µg/L | AN31: µg/L | AO31: µg/L | AP31: µg/L | AQ31: µg/L | AR31: µg/L | AS31: µg/L | AT31: µg/L | AU31: µg/L | AV31: µg/L | AW31: µg/L | AX31: µg/L | AY31: µg/L | AZ31: µg/L | BA31: µg/L | BB31: µg/L | BC31: µg/L | BD31: µg/L | BE31: µg/L | BF31: µg/L | BG31: µg/L | BH31: µg/L | BI31: µg/L | BJ31: µg/L | BK31: µg/L | BL31: µg/L | BM31: µg/L | BN31: µg/L | BO31: µg/L | BP31: µg/L | BQ31: µg/L | BR31: µg/L | BS31: µg/L | BT31: µg/L | BU31: µg/L
A32: Leaching cycle | C32: 0.01 | D32: 1 | E32: 0.025 | F32: 0.005 | G32: 5 | H32: 0.025 | I32: 0.01 | J32: 0.005 | K32: 10 | L32: 1 | M32: 0.01 | N32: 0.005 | O32: 0.025 | P32: 0.025 | Q32: 0.005 | R32: 0.025 | S32: 0.005 | T32: 0.005 | U32: 0.005 | V32: 0.25 | W32: 0.01 | X32: 0.005 | Y32: 0.05 | Z32: 0.005 | AA32: 0.01 | AB32: 0.005 | AC32: 2.5 | AD32: 0.005 | AE32: 1 | AF32: 0.005 | AG32: 0.1 | AH32: 0.005 | AI32: 0.5 | AJ32: 0.01 | AK32: 0.005 | AL32: 10 | AM32: 0.005 | AN32: 0.005 | AO32: 0.1 | AP32: 0.005 | AQ32: 1 | AR32: 0.01 | AS32: 0.005 | AT32: 0.005 | AU32: 0.005 | AV32: 0.025 | AW32: 0.0005 | AX32: 0.02 | AY32: 0.005 | AZ32: 25 | BA32: 0.01 | BB32: 0.01 | BC32: 0.1 | BD32: 50 | BE32: 0.005 | BF32: 0.05 | BG32: 0.025 | BH32: 0.005 | BI32: 0.005 | BJ32: 0.01 | BK32: 0.005 | BL32: 0.05 | BM32: 0.005 | BN32: 0.005 | BO32: 0.005 | BP32: 0.01 | BQ32: 0.01 | BR32: 0.005 | BS32: 0.005 | BT32: 0.1 | BU32: 0.005
A33: 0 | B33: 250 | C33: 0.0028 | D33: 1.9 | E33: 0.29 | F33: 0.44 | G33: 13 | H33: 1.3 | I33: 0.012 | J33: 0.00044 | K33: <5 | L33: 3300 | M33: 0.0058 | N33: 0.0025 | O33: 0.39 | P33: <0.05 | Q33: 0.13 | R33: 0.053 | S33: 0.00085 | T33: 0.00043 | U33: 0.00076 | V33: 2.3 | W33: 0.0099 | X33: 0.002 | Y33: <0.1 | Z33: 0.00029 | AA33: 0.0055 | AB33: 0.00019 | AC33: 0.27 | AD33: 0.00017 | AE33: 1800 | AF33: 0.0019 | AG33: 0.29 | AH33: 0.00018 | AI33: 1500 | AJ33: 27 | AK33: 0.063 | AL33: 840 | AM33: 0.00023 | AN33: 0.00086 | AO33: 0.082 | AP33: 0 | AQ33: 1.9 | AR33: 0.0073 | AS33: 0.0011 | AT33: 0.00022 | AU33: 0.0013 | AV33: 2.1 | AW33: 0.00096 | AX33: 0.00059 | AY33: 0 | AZ33: 5900 | BA33: 1.2 | BB33: 0.0021 | BC33: 0.2 | BD33: 4000 | BE33: 0 | BF33: 0.13 | BG33: 14 | BH33: 0.00013 | BI33: 0 | BJ33: 0.53 | BK33: 0.00067 | BL33: 0.018 | BM33: 0.12 | BN33: 0.00078 | BO33: 0.0066 | BP33: 0.16 | BQ33: <0.1 | BR33: 0.0044 | BS33: 0.00046 | BT33: 1.6 | BU33: 0.0025
A34: 1 | B34: 250 | C34: 0.013 | D34: 21 | E34: 0.3 | F34: 0.005 | G34: 3.5 | H34: 0.73 | I34: 0.03 | J34: 0.001 | K34: 3 | L34: 1700 | M34: 0.0076 | N34: 0.0093 | O34: 0.43 | P34: 0 | Q34: 0.052 | R34: 0.13 | S34: 0.00044 | T34: 0.00011 | U34: 0.00015 | V34: 1.3 | W34: 0 | X34: 0 | Y34: 0 | Z34: 0 | AA34: 0.0071 | AB34: 7.7e-07 | AC34: 1.9 | AD34: 0 | AE34: 760 | AF34: 0.0061 | AG34: 0.36 | AH34: 0.00064 | AI34: 700 | AJ34: 17 | AK34: 0.0021 | AL34: 280 | AM34: 0 | AN34: 0.0062 | AO34: 0.31 | AP34: 0 | AQ34: 3.4 | AR34: 0.027 | AS34: 0.00019 | AT34: 0.0019 | AU34: 0.0023 | AV34: 1 | AW34: 0.00025 | AX34: 0.021 | AY34: 0.0023 | AZ34: 3300 | BA34: 0.36 | BB34: 0.0042 | BC34: 0.035 | BD34: 2900 | BE34: 0.0014 | BF34: 0.028 | BG34: 7.2 | BH34: 0.0025 | BI34: 0.0011 | BJ34: 0.7 | BK34: 0.00059 | BL34: 0.00016 | BM34: 0.062 | BN34: 0.00036 | BO34: 0.034 | BP34: 0.051 | BQ34: 0.0052 | BR34: 0.0081 | BS34: 0.00046 | BT34: 0.28 | BU34: 0.0013
A35: 2 | B35: 250 | C35: 8.5e-05 | D35: 2.7 | E35: 0.32 | F35: 0.0019 | G35: 3.6 | H35: 0.93 | I35: 0.015 | J35: 0.00029 | K35: 0.11 | L35: 1200 | M35: 0.024 | N35: 0.0011 | O35: 0.48 | P35: 0 | Q35: 0.038 | R35: 0.26 | S35: 0.00035 | T35: 0.0025 | U35: 0.0032 | V35: 4.4 | W35: 0 | X35: 0.0044 | Y35: 0 | Z35: 0 | AA35: 0.004 | AB35: 0.00028 | AC35: 2.4 | AD35: 0.00026 | AE35: 610 | AF35: 0.0016 | AG35: 0.29 | AH35: 0.00022 | AI35: 480 | AJ35: 16 | AK35: 8.6e-05 | AL35: 110 | AM35: 0 | AN35: 0.0021 | AO35: 0.2 | AP35: 0.00064 | AQ35: 0.59 | AR35: 0.023 | AS35: 0.00468 | AT35: 0.00014 | AU35: 0.012 | AV35: 0.85 | AW35: 9.2e-06 | AX35: 0.005 | AY35: 0.0014 | AZ35: 1700 | BA35: 0.36 | BB35: 0.0019 | BC35: 0.2 | BD35: 3100 | BE35: 0.00092 | BF35: 0.035 | BG35: 6 | BH35: 0.00116 | BI35: 0.00034 | BJ35: 1 | BK35: 0 | BL35: 0.025 | BM35: 0.041 | BN35: 0.00027 | BO35: 0.026 | BP35: 0.065 | BQ35: 0.0051 | BR35: 0.003 | BS35: 7.4e-05 | BT35: 2.1 | BU35: 0.0048
A36: 3 | B36: 250 | C36: 0.00072 | D36: 1.5 | E36: 0.21 | F36: 0.0037 | G36: 0.68 | H36: 0.91 | I36: 0.014 | J36: 0.00047 | K36: <5 | L36: 1800 | M36: 0.0075 | N36: 0.0061 | O36: 0.65 | P36: <0.05 | Q36: 0.032 | R36: 0.76 | S36: 0.00066 | T36: 0 | U36: 0.001 | V36: 1.2 | W36: 0.0046 | X36: 0 | Y36: <0.1 | Z36: 0 | AA36: 0.011 | AB36: 3.8e-05 | AC36: 0.23 | AD36: 6.6e-05 | AE36: 650 | AF36: 0.0037 | AG36: 0.23 | AH36: 0.00011 | AI36: 770 | AJ36: 23 | AK36: 0.0067 | AL36: 100 | AM36: 0.00035 | AN36: 0.0035 | AO36: 0.14 | AP36: 0.00021 | AQ36: 0.68 | AR36: 0.012 | AS36: 0 | AT36: 0.0006 | AU36: 0.001 | AV36: 0.8 | AW36: 0.00019 | AX36: 0.00063 | AY36: 0 | AZ36: 1500 | BA36: 0.38 | BB36: 0.0029 | BC36: 0.032 | BD36: 3700 | BE36: 0.00043 | BF36: 0.071 | BG36: 7.7 | BH36: 3.2e-05 | BI36: 0 | BJ36: 1.3 | BK36: 0.00024 | BL36: 0.0073 | BM36: 0.051 | BN36: 0.0011 | BO36: 0.054 | BP36: 0.052 | BQ36: <0.1 | BR36: 0.0045 | BS36: 0.0001 | BT36: 1.9 | BU36: 0.0031
A37: 4 | B37: 250 | C37: 0 | D37: 2.5 | E37: 0.3 | F37: 0.003 | G37: 4.5 | H37: 0.83 | I37: 0.012 | J37: 0.00021 | K37: 0.24 | L37: 1300 | M37: 0.022 | N37: 0.0018 | O37: 0.55 | P37: 0.0048 | Q37: 0.028 | R37: 0.27 | S37: 0.0012 | T37: 0 | U37: 0.0019 | V37: 4.3 | W37: 0 | X37: 0.0032 | Y37: 0 | Z37: 0 | AA37: 0.011 | AB37: 0.00016 | AC37: 1.8 | AD37: 0 | AE37: 530 | AF37: 0.0027 | AG37: 0.26 | AH37: 0.0023 | AI37: 520 | AJ37: 18 | AK37: 0.0052 | AL37: 91 | AM37: 0.00014 | AN37: 0.0023 | AO37: 0.21 | AP37: 0.00052 | AQ37: 1.9 | AR37: 0.0055 | AS37: 0.0057 | AT37: 0.00057 | AU37: 0.016 | AV37: 0.72 | AW37: 0 | AX37: 0.0039 | AY37: 0 | AZ37: 1200 | BA37: 0.33 | BB37: 0.0023 | BC37: 0.011 | BD37: 3300 | BE37: 0.00045 | BF37: 0.033 | BG37: 6.3 | BH37: 0.00044 | BI37: 0.00084 | BJ37: 1.5 | BK37: 0 | BL37: 0.03 | BM37: 0.04 | BN37: 0.00019 | BO37: 0.037 | BP37: 0.05 | BQ37: 0 | BR37: 0.0026 | BS37: 0 | BT37: 1.3 | BU37: 0.0079
A38: 5 | B38: 250 | C38: 0.0029 | D38: 1.1 | E38: 0.089 | F38: 0.003 | G38: 2.9 | H38: 1.2 | I38: 0.016 | J38: 0.0015 | K38: <5 | L38: 1400 | M38: 0.011 | N38: 0.0076 | O38: 0.57 | P38: <0.05 | Q38: 0.026 | R38: 1.3 | S38: 0.0012 | T38: 0.00037 | U38: 0.0008 | V38: 1.8 | W38: 0.0014 | X38: 0.00081 | Y38: <0.1 | Z38: 0 | AA38: 0.013 | AB38: 0.00017 | AC38: 0.21 | AD38: 0.00016 | AE38: 490 | AF38: 0.0035 | AG38: 0.21 | AH38: 0.00019 | AI38: 550 | AJ38: 18 | AK38: 0 | AL38: 20 | AM38: 0.0003 | AN38: 0.0037 | AO38: 0.12 | AP38: 0.00014 | AQ38: 0.9 | AR38: 0.028 | AS38: 0.00018 | AT38: 0.0012 | AU38: 0.00097 | AV38: 0.61 | AW38: 2.9e-05 | AX38: 0.00078 | AY38: 0 | AZ38: 1500 | BA38: 0.19 | BB38: 0.0039 | BC38: 0.073 | BD38: 2200 | BE38: 0.0011 | BF38: 0.025 | BG38: 5.9 | BH38: 8.3e-05 | BI38: 0 | BJ38: 1.1 | BK38: 0.00037 | BL38: 0 | BM38: 0.039 | BN38: 0.0013 | BO38: 0.033 | BP38: 0.025 | BQ38: <0.1 | BR38: 0.0049 | BS38: 0 | BT38: 6.9 | BU38: 0.0052
A39: 6 | B39: 250 | C39: 0.011 | D39: 2 | E39: 0.14 | F39: 0.003 | G39: 1.4 | H39: 0.99 | I39: 0.016 | J39: 0.0059 | K39: 0 | L39: 1200 | M39: 0.024 | N39: 0.013 | O39: 0.73 | P39: 0.074 | Q39: 0.036 | R39: 0.55 | S39: 0.0018 | T39: 0.0018 | U39: 0.002 | V39: 4.5 | W39: 0 | X39: 0.0012 | Y39: 0.042 | Z39: 0 | AA39: 0.0058 | AB39: 4.9e-05 | AC39: 1.9 | AD39: 0 | AE39: 390 | AF39: 0.0072 | AG39: 0.27 | AH39: 0.00012 | AI39: 510 | AJ39: 21 | AK39: 0.0042 | AL39: 43 | AM39: 0 | AN39: 0.01 | AO39: 0.21 | AP39: 0.0013 | AQ39: 1.2 | AR39: 0.026 | AS39: 0.0052 | AT39: 0.0022 | AU39: 0.0048 | AV39: 0.76 | AW39: 0.00014 | AX39: 0.0038 | AY39: 0.00037 | AZ39: 2000 | BA39: 0.18 | BB39: 0 | BC39: 0.087 | BD39: 2100 | BE39: 0.0012 | BF39: 0.018 | BG39: 6.5 | BH39: 0.00048 | BI39: 0.0011 | BJ39: 1.4 | BK39: 0.0013 | BL39: 0.02 | BM39: 0.046 | BN39: 9.3e-05 | BO39: 0.04 | BP39: 0.04 | BQ39: 0.0025 | BR39: 0.0052 | BS39: 0 | BT39: 1.5 | BU39: 0.0077
A40: 7 | B40: 215 | C40: 0.011 | D40: 4.9 | E40: 0.18 | F40: 0.0003 | G40: 1.8 | H40: 1.2 | I40: 0.026 | J40: 0.0045 | K40: 0.43 | L40: 1700 | M40: 0.031 | N40: 0.027 | O40: 0.91 | P40: 0.016 | Q40: 0.047 | R40: 0.72 | S40: 0.0029 | T40: 0.0017 | U40: 0.002 | V40: 7.1 | W40: 0 | X40: 0.0018 | Y40: 0 | Z40: 0.00081 | AA40: 0.006 | AB40: 0.00045 | AC40: 2.3 | AD40: 0 | AE40: 570 | AF40: 0.016 | AG40: 0.4 | AH40: 0.002 | AI40: 700 | AJ40: 28 | AK40: 0.0073 | AL40: 54 | AM40: 0.00034 | AN40: 0.017 | AO40: 0.29 | AP40: 0.0014 | AQ40: 3 | AR40: 0.03 | AS40: 0.0061 | AT40: 0.0031 | AU40: 0.005 | AV40: 0.97 | AW40: 1e-05 | AX40: 0.0035 | AY40: 0.00066 | AZ40: 2300 | BA40: 0.36 | BB40: 0.0078 | BC40: 0.45 | BD40: 2900 | BE40: 0.0014 | BF40: 0.13 | BG40: 8.7 | BH40: 0.000332 | BI40: 0.001 | BJ40: 1.8 | BK40: 0.0014 | BL40: 0 | BM40: 0.059 | BN40: 0.0009 | BO40: 0.073 | BP40: 0.04 | BQ40: 0.0032 | BR40: 0.013 | BS40: 0 | BT40: 11 | BU40: 0.018
A41: 8 | B41: 215 | C41: 0.0081 | D41: 2.5 | E41: 0.13 | F41: 0.0004 | G41: 12 | H41: 1.3 | I41: 0.067 | J41: 0.0051 | K41: 0 | L41: 2000 | M41: 0.015 | N41: 0.038 | O41: 1.1 | P41: 0.0077 | Q41: 0.23 | R41: 0.18 | S41: 0.0036 | T41: 0.00034 | U41: 0.0013 | V41: 3.8 | W41: 0 | X41: 0.0031 | Y41: 0.015 | Z41: 0.00024 | AA41: 0.0087 | AB41: 0.00058 | AC41: 1 | AD41: 0.00044 | AE41: 780 | AF41: 0.024 | AG41: 0.62 | AH41: 9e-05 | AI41: 850 | AJ41: 34 | AK41: 0.00049 | AL41: 41 | AM41: 0.00033 | AN41: 0.023 | AO41: 0.3 | AP41: 0 | AQ41: 7.9 | AR41: 0.008 | AS41: 0.0005 | AT41: 0.004 | AU41: 0.00035 | AV41: 2.4 | AW41: 2.9e-05 | AX41: 0 | AY41: 0.0013 | AZ41: 4000 | BA41: 0.24 | BB41: 0.024 | BC41: 0.09 | BD41: 2100 | BE41: 0.0035 | BF41: 0.046 | BG41: 8.7 | BH41: 0.001 | BI41: 0.00042 | BJ41: 1.1 | BK41: 0.0012 | BL41: 0.43 | BM41: 0.1 | BN41: 6.8e-05 | BO41: 0.068 | BP41: 0.046 | BQ41: 0.0044 | BR41: 0.021 | BS41: 0.0014 | BT41: 1 | BU41: 0.0076
A42: 9 | B42: 215 | C42: 0.0064 | D42: 11 | E42: 0.15 | F42: 0.001 | G42: 22 | H42: 3.1 | I42: 0.12 | J42: 0.0033 | K42: 0 | L42: 4100 | M42: 0.029 | N42: 0.12 | O42: 2.7 | P42: 0.052 | Q42: 0.31 | R42: 0.71 | S42: 0.0084 | T42: 0.0046 | U42: 0.0026 | V42: 14 | W42: 0.00087 | X42: 0.0092 | Y42: 0 | Z42: 0.00026 | AA42: 0.014 | AB42: 0.0019 | AC42: 2.8 | AD42: 0.00013 | AE42: 840 | AF42: 0.085 | AG42: 1.1 | AH42: 0.00029 | AI42: 1700 | AJ42: 73 | AK42: 0.0066 | AL42: 54 | AM42: 0.00039 | AN42: 0.049 | AO42: 0.42 | AP42: 0.00013 | AQ42: 19 | AR42: 0.063 | AS42: 0.00091 | AT42: 0.012 | AU42: 0 | AV42: 3.2 | AW42: 9.3e-05 | AX42: 0 | AY42: 0.00082 | AZ42: 7500 | BA42: 0.14 | BB42: 0.028 | BC42: 0.1 | BD42: 2500 | BE42: 0.0063 | BF42: 0.2 | BG42: 19 | BH42: 9.6666667e-05 | BI42: 0.0012 | BJ42: 1.6 | BK42: 0.00062 | BL42: 0 | BM42: 0.14 | BN42: 0.0006 | BO42: 0.097 | BP42: 0.037 | BQ42: 0.006 | BR42: 0.077 | BS42: 0.0017 | BT42: 3.8 | BU42: 0.0076
A43: 10 | B43: 215 | C43: 0.0019 | D43: 28 | E43: 0.031 | F43: 0.0007 | G43: 46 | H43: 31 | I43: 0.17 | J43: 0.003 | K43: 0 | L43: 5900 | M43: 0.053 | N43: 0.21 | O43: 4.8 | P43: 0.0051 | Q43: 0.14 | R43: 1.4 | S43: 0.014 | T43: 0.0078 | U43: 0.0047 | V43: 19 | W43: 0.00086 | X43: 0.014 | Y43: 0 | Z43: 0.0017 | AA43: 0.012 | AB43: 0.0023 | AC43: 0.7 | AD43: 6.1e-05 | AE43: 820 | AF43: 0.14 | AG43: 0.98 | AH43: 0.00034 | AI43: 2600 | AJ43: 120 | AK43: 0.035 | AL43: 84 | AM43: 0.00032 | AN43: 0.071 | AO43: 0.97 | AP43: 0.0005 | AQ43: 5.3 | AR43: 0.056 | AS43: 0.0048 | AT43: 0.021 | AU43: 0.00011 | AV43: 2.4 | AW43: 0 | AX43: 0 | AY43: 0 | AZ43: 11000 | BA43: 0.08 | BB43: 0.0087 | BC43: 0.26 | BD43: 3400 | BE43: 0.015 | BF43: 0.02 | BG43: 27 | BH43: 0.001 | BI43: 0.0026 | BJ43: 1.7 | BK43: 0.00058 | BL43: 0.02 | BM43: 0.099 | BN43: 0.0011 | BO43: 0.093 | BP43: 0.023 | BQ43: 0.0036 | BR43: 0.16 | BS43: 0.0032 | BT43: 38 | BU43: 0.11
A44: 11 | B44: 105 | C44: 2.3 | D44: 3300 | E44: 3.9 | F44: 0.76 | G44: 34 | H44: 410 | I44: 3.7 | J44: 1.7 | K44: 0 | L44: 45000 | M44: 1.4 | N44: 110 | O44: 99 | P44: 9.2 | Q44: 0.44 | R44: 860 | S44: 13 | T44: 7.2 | U44: 3.2 | V44: 60000 | W44: 0.24 | X44: 14 | Y44: 0.74 | Z44: 0.4 | AA44: 0.53 | AB44: 2.7 | AC44: 6.8 | AD44: 0.0002 | AE44: 1200 | AF44: 68 | AG44: 0.94 | AH44: 0.47 | AI44: 11000 | AJ44: 320 | AK44: 84 | AL44: 1300000 | AM44: 0.7 | AN44: 73 | AO44: 15 | AP44: 0.0039 | AQ44: 1600 | AR44: 24 | AS44: <0.2 | AT44: 16 | AU44: 0.013 | AV44: 2.8 | AW44: 0.17 | AX44: 0.01 | AY44: 0.001 | AZ44: 300000 | BA44: 1.2 | BB44: 5.5 | BC44: 13 | BD44: 790000 | BE44: 14 | BF44: 0.13 | BG44: 200 | BH44: 0.00076 | BI44: 2 | BJ44: 170 | BK44: 1.7 | BL44: 120 | BM44: 0.49 | BN44: 0.8 | BO44: 22 | BP44: 39 | BQ44: 11 | BR44: 85 | BS44: 4 | BT44: 150 | BU44: 15
A45: 12 | B45: 105 | C45: 2 | D45: 1100 | E45: 12 | F45: 0.08 | G45: 44 | H45: 300 | I45: 0.42 | J45: 0.83 | K45: 4 | L45: 11000 | M45: 0.36 | N45: 13 | O45: 11 | P45: 7.3 | Q45: 0.26 | R45: 100 | S45: 1.6 | T45: 0.88 | U45: 0.33 | V45: 7100 | W45: 0.23 | X45: 1.7 | Y45: 1.4 | Z45: 0.52 | AA45: 0.51 | AB45: 0.33 | AC45: 5.5 | AD45: 0.0006 | AE45: 1800 | AF45: 9.2 | AG45: 1.6 | AH45: 0.077 | AI45: 2100 | AJ45: 43 | AK45: 14 | AL45: 3900000 | AM45: 0.46 | AN45: 8.8 | AO45: 7.2 | AP45: 0.025 | AQ45: 950 | AR45: 3.6 | AS45: 0.2 | AT45: 2 | AU45: 0.0089 | AV45: 2.7 | AW45: 0.019 | AX45: 0.0087 | AY45: 0.003 | AZ45: 47000 | BA45: 1.8 | BB45: 0.93 | BC45: 2.1 | BD45: 3000000 | BE45: 1.6 | BF45: 0.12 | BG45: 45 | BH45: 0.014 | BI45: 0.25 | BJ45: 90 | BK45: 0.61 | BL45: 140 | BM45: 0.045 | BN45: 0.1 | BO45: 2.4 | BP45: 19 | BQ45: 9.3 | BR45: 11 | BS45: 0.57 | BT45: 51 | BU45: 16
A46: 13 | B46: 105 | C46: 0.0057 | D46: 950 | E46: 6.1 | F46: 0.0033 | G46: 14 | H46: 22 | I46: 0.19 | J46: 0.37 | K46: 3.6 | L46: 5500 | M46: 0.94 | N46: 5.8 | O46: 3.2 | P46: 6.8 | Q46: 0.44 | R46: 25 | S46: 0.59 | T46: 0.38 | U46: 0.14 | V46: 2100 | W46: 0.24 | X46: 0.57 | Y46: 0 | Z46: 0.58 | AA46: 0.013 | AB46: 0.12 | AC46: 6.6 | AD46: 0.0002 | AE46: 1700 | AF46: 4.1 | AG46: 3.2 | AH46: 0.042 | AI46: 550 | AJ46: 12 | AK46: 4.1 | AL46: 3800000 | AM46: 0.69 | AN46: 4.3 | AO46: 5.9 | AP46: 0.012 | AQ46: 430 | AR46: 1.6 | AS46: 0.06 | AT46: 1 | AU46: 0.003 | AV46: 2.9 | AW46: 0.005 | AX46: 0.0045 | AY46: 0 | AZ46: 17000 | BA46: 1.8 | BB46: 0.39 | BC46: 1.6 | BD46: 3200000 | BE46: 1.3 | BF46: 0.15 | BG46: 27 | BH46: 0.0051 | BI46: 0.088 | BJ46: 93 | BK46: 0.49 | BL46: 180 | BM46: 0.0082 | BN46: 0.048 | BO46: 1.9 | BP46: 7.3 | BQ46: 3.1 | BR46: 4.1 | BS46: 0.29 | BT46: 9.8 | BU46: 15
A47: 14 | B47: 168 | C47: 0.42 | D47: 36 | E47: 1.1 | F47: 0.072 | G47: 6.9 | H47: 1.5 | I47: 0.013 | J47: 0.064 | K47: 0.29 | L47: 360 | M47: 0.0066 | N47: 1 | O47: 0.73 | P47: 0.64 | Q47: 0.037 | R47: 3.9 | S47: 0.11 | T47: 0.064 | U47: 0.026 | V47: 280 | W47: 0.022 | X47: 0.12 | Y47: 0.2 | Z47: 0.07 | AA47: 0.09 | AB47: 0.022 | AC47: 2.1 | AD47: -8.1e-06 | AE47: 210 | AF47: 0.57 | AG47: 0.88 | AH47: 0.0044 | AI47: 93 | AJ47: 2.5 | AK47: 0.6 | AL47: 320000 | AM47: 0.22 | AN47: 0.62 | AO47: 0.36 | AP47: 0.0001 | AQ47: 100 | AR47: 0.12 | AS47: -0.00011 | AT47: 0.14 | AU47: 0.0012 | AV47: 0.37 | AW47: 6.7e-05 | AX47: -0.0069 | AY47: 0.00015 | AZ47: 2700 | BA47: 0.36 | BB47: 0.056 | BC47: 0.11 | BD47: 150000 | BE47: 0.12 | BF47: 0.015 | BG47: 1.8 | BH47: 0.0079 | BI47: 0.016 | BJ47: 32 | BK47: 0.066 | BL47: 22 | BM47: 0.0031 | BN47: 0.0072 | BO47: 0.52 | BP47: 1.3 | BQ47: 0.47 | BR47: 0.69 | BS47: 0.036 | BT47: 2.2 | BU47: 2.2
...

Sheet MinMaxMean values
C1: Cell A | L1: Cell B | U1: Cell C | AD1: Cell D | AM1: Blanks
C2: cycles 4-10 | F2: cycles 11-18 | I2: cycles 19-23 | L2: cycles 4-10 | O2: cycles 11-18 | R2: cycles 19-23 | U2: cycles 4-10 | X2: cycles 11-18 | AA2: cycles 19-23 | AD2: cycles 4-10 | AG2: cycles 11-18 | AJ2: cycles 19-21 | AM2: Blank 1 | AN2: Blank 2 | AO2: Si-solution
A3: Parameter | B3: Unit | C3: Min | D3: Max | E3: Mean | F3: Min | G3: Max | H3: Mean | I3: Min | J3: Max | K3: Mean | L3: Min | M3: Max | N3: Mean | O3: Min | P3: Max | Q3: Mean | R3: Min | S3: Max | T3: Mean | U3: Min | V3: Max | W3: Mean | X3: Min | Y3: Max | Z3: Mean | AA3: Min | AB3: Max | AC3: Mean | AD3: Min | AE3: Max | AF3: Mean | AG3: Min | AH3: Max | AI3: Mean | AJ3: Min | AK3: Max | AL3: Mean | AM3: DI | AN3: H2O2
A4: PH | B4: s.u. | C4: 4.846 | D4: 5.8325 | E4: 5.3268333 | F4: 4.592 | G4: 4.8036667 | H4: 4.667125 | I4: 4 | J4: 4.5266667 | K4: 4.356 | L4: 5.172 | M4: 6.0633333 | N4: 5.644619 | O4: 7.812 | P4: 10.935333 | Q4: 9.5172083 | R4: 7.1 | S4: 7.85 | T4: 7.5266667 | U4: 7.85 | V4: 7.5266667 | W4: pH | X4: 5.0413333 | Y4: 5.8233333 | Z4: 5.4921905 | AA4: 7.6796667 | AB4: 10.839 | AC4: 9.3780417 | AD4: 5.011 | AE4: 5.9633333 | AF4: 5.4131429 | AG4: 7.95 | AH4: 10.8 | AI4: 9.01225 | AJ4: 7.4 | AK4: 7.94 | AL4: 7.62 | AM4: 7 | AN4: 5.3 | AO4: 10.5
A5: EC | B5: µS/cm | C5: 20.115 | D5: 85.366667 | E5: 49.016429 | F5: 20.115 | G5: 85.366667 | H5: 49.016429 | I5: 96.4 | J5: 135.4 | K5: 121.242 | L5: 17.156667 | M5: 88.733333 | N5: 39.779048 | O5: 17.156667 | P5: 88.733333 | Q5: 39.779048 | R5: 74.2 | S5: 169 | T5: 126.98 | U5: 169 | V5: 126.98 | W5: EC | X5: 16.52 | Y5: 96.233333 | Z5: 42.320476 | AA5: 94.133333 | AB5: 11463.333 | AC5: 4436.1917 | AD5: 19.346667 | AE5: 1715.2 | AF5: 256.59333 | AG5: 178.83333 | AH5: 6520 | AI5: 1902.4458 | AJ5: 201.3 | AK5: 237 | AL5: 213.71667
A6: Al | B6: µg/L | C6: 6.7 | D6: 105 | E6: 32.34 | F6: 99 | G6: 245 | H6: 135.2 | I6: 340 | J6: 397.4 | K6: 379.7 | L6: 1.1 | M6: 28 | N6: 7.429 | O6: 36 | P6: 3300 | Q6: 714.5 | R6: 17.71 | S6: 61 | T6: 38.45 | U6: 61 | V6: 38.45 | W6: Al | X6: 2.5 | Y6: 21 | Z6: 2.5 | AA6: 34 | AB6: 1300 | AC6: 471.6 | AD6: 2.7 | AE6: 64 | AF6: 18.82 | AG6: 15 | AH6: 15 | AI6: 15 | AJ6: 4.383 | AK6: 13.8 | AL6: 9.093 | AM6: 5 | AN6: 7.95 | AO6: 685
A7: Fe | B7: µg/L | C7: 1.9 | D7: 47.5 | E7: 14.77 | F7: 35 | G7: 300 | H7: 110.3 | I7: 440 | J7: 647 | K7: 561 | L7: 1.8 | M7: 19 | N7: 7.786 | O7: 280 | P7: 60000 | Q7: 9054 | R7: 75.15 | S7: 590 | T7: 339.1 | U7: 590 | V7: 339.1 | W7: Fe | X7: 2.9 | Y7: 17 | Z7: 2.9 | AA7: 78 | AB7: 800 | AC7: 365.2 | AD7: 5.2 | AE7: 29 | AF7: 14.9 | AG7: 41.97 | AH7: 41.97 | AI7: 41.97 | AJ7: 6.894 | AK7: 28.45 | AL7: 17.67 | AM7: 0.215 | AN7: 0 | AO7: 605
A8: S | B8: µg/L | C8: 1800 | D8: 10500 | E8: 5300 | F8: 4656 | G8: 9325 | H8: 7141 | I8: 12658 | J8: 14094 | K8: 13191.58 | L8: 1200 | M8: 11000 | N8: 4214 | O8: 2437 | P8: 300000 | Q8: 48150 | R8: 9694 | S8: 12110 | T8: 11350 | U8: 12110 | V8: 11350 | W8: S | X8: 1600 | Y8: 12000 | Z8: 5200 | AA8: 2284 | AB8: 75000 | AC8: 16930 | AD8: 1600 | AE8: 13000 | AF8: 5521 | AG8: 1400 | AH8: 1400 | AI8: 1400 | AJ8: 7015 | AK8: 7875 | AL8: 7445 | AM8: 30 | AN8: 550 | AO8: 325
A9: Si | B9: µg/L | C9: 2050 | D9: 3300 | E9: 2407 | F9: 1702 | G9: 2850 | H9: 1962 | I9: 3163 | J9: 3900 | K9: 3531 | L9: 2100 | M9: 3400 | N9: 2643 | O9: 29000 | P9: 3200000 | Q9: 915300 | R9: 11940 | S9: 34000 | T9: 23480 | U9: 34000 | V9: 23480 | W9: Si | X9: 2100 | Y9: 3500 | Z9: 2800 | AA9: 21000 | AB9: 3450000 | AC9: 1200000 | AD9: 2300 | AE9: 3800 | AF9: 3014 | AG9: 45220 | AH9: 45220 | AI9: 45220 | AJ9: 25990 | AK9: 39430 | AL9: 32710 | AM9: 52 | AN9: 81 | AO9: 1900000
A10: Co | B10: µg/L | C10: 1.4 | D10: 11.5 | E10: 4.679 | F10: 6.068 | G10: 12.6 | H10: 7.892 | I10: 15.53 | J10: 17.21 | K10: 16.64 | L10: 0.55 | M10: 4.8 | N10: 1.623 | O10: 0.667 | P10: 99 | Q10: 14.66 | R10: 0.13 | S10: 0.74 | T10: 0.407 | U10: 0.74 | V10: 0.407 | W10: Co | X10: 0.73 | Y10: 5 | Z10: 1.937 | AA10: 0.19 | AB10: 2.2 | AC10: 0.944 | AD10: 0.94 | AE10: 7.9 | AF10: 2.977 | AG10: 0.242 | AH10: 0.242 | AI10: 0.242 | AJ10: 0.144 | AK10: 0.16 | AL10: 0.152 | AM10: 0 | AN10: 0.001 | AO10: 0.24
A11: Cu | B11: µg/L | C11: 0.54 | D11: 11 | E11: 3.327 | F11: 5.2 | G11: 15.48 | H11: 8.955 | I11: 21 | J11: 26.69 | K11: 24.35 | L11: 0.18 | M11: 1.4 | N11: 0.733 | O11: 3.9 | P11: 860 | Q11: 127.8 | R11: 1.242 | S11: 7.7 | T11: 4.731 | U11: 7.7 | V11: 4.731 | W11: Cu | X11: 0.21 | Y11: 2.5 | Z11: 0.761 | AA11: 0.575 | AB11: 40 | AC11: 8.634 | AD11: 0.087 | AE11: 2.9 | AF11: 0.986 | AG11: 0.605 | AH11: 0.605 | AI11: 0.605 | AJ11: 0.391 | AK11: 0.53 | AL11: 0.46 | AM11: 0.024 | AN11: 9.6 | AO11: 1.4
A12: Mn | B12: µg/L | C12: 15 | D12: 92.5 | E12: 40.93 | F12: 42.71 | G12: 94.5 | H12: 58.8 | I12: 108.3 | J12: 130 | K12: 122.2 | L12: 18 | M12: 120 | N12: 44.57 | O12: 2.5 | P12: 320 | Q12: 49.4 | R12: 0.779 | S12: 1.8 | T12: 1.239 | U12: 1.8 | V12: 1.239 | W12: Mn | X12: 22 | Y12: 120 | Z12: 50.43 | AA12: 1.22 | AB12: 12.5 | AC12: 7.788 | AD12: 23 | AE12: 140 | AF12: 57.5 | AG12: 1.472 | AH12: 1.472 | AI12: 1.472 | AJ12: 0.525 | AK12: 0.645 | AL12: 0.585 | AM12: 0.002 | AN12: 0.047 | AO12: 7.15
A13: Ni | B13: µg/L | C13: 0.36 | D13: 2.1 | E13: 0.93 | F13: 1.148 | G13: 2.55 | H13: 1.724 | I13: 2.574 | J13: 3.347 | K13: 3.041 | L13: 0.12 | M13: 0.97 | N13: 0.36 | O13: 0.169 | P13: 15 | Q13: 3.727 | R13: 0.155 | S13: 0.244 | T13: 0.198 | U13: 0.244 | V13: 0.198 | W13: Ni | X13: 0.13 | Y13: 0.9 | Z13: 0.39 | AA13: 0.171 | AB13: 3.35 | AC13: 1.196 | AD13: 0.21 | AE13: 1.4 | AF13: 0.613 | AG13: 0.082 | AH13: 0.082 | AI13: 0.082 | AJ13: -0.123 | AK13: 0.059 | AL13: -0.032 | AM13: 0.118 | AN13: 0.017 | AO13: 7.3

Sheet Weekly mass leached
A2: Cell 1 | B2: Ag | C2: Al | D2: As | E2: Au | F2: B | G2: Ba | H2: Be | I2: Bi | J2: Br | K2: Ca | L2: Cd | M2: Ce | N2: Co | O2: Cr | P2: Cs | Q2: Cu | R2: Dy | S2: Er | T2: Eu | U2: Fe | V2: Ga | W2: Gd | X2: Ge | Y2: Hf | Z2: Hg | AA2: Ho | AB2: I | AC2: Ir | AD2: K | AE2: La | AF2: Li | AG2: Lu | AH2: Mg | AI2: Mn | AJ2: Mo | AK2: Na | AL2: Nb | AM2: Nd | AN2: Ni | AO2: Os | AP2: P | AQ2: Pb | AR2: Pd | AS2: Pr | AT2: Pt | AU2: Rb | AV2: Re | AW2: Rh | AX2: Ru | AY2: S | AZ2: Sb | BA2: Sc | BB2: Se | BC2: Si | BD2: Sm | BE2: Sn | BF2: Sr | BG2: Ta | BH2: Tb | BI2: Te | BJ2: Th | BK2: Ti | BL2: Tl | BM2: Tm | BN2: U | BO2: V | BP2: W | BQ2: Y | BR2: Yb | BS2: Zn | BT2: Zr
A3: Leaching cycle | B3: mg | C3: mg | D3: mg | E3: mg | F3: mg | G3: mg | H3: mg | I3: mg | J3: mg | K3: mg | L3: mg | M3: mg | N3: mg | O3: mg | P3: mg | Q3: mg | R3: mg | S3: mg | T3: mg | U3: mg | V3: mg | W3: mg | X3: mg | Y3: mg | Z3: mg | AA3: mg | AB3: mg | AC3: mg | AD3: mg | AE3: mg | AF3: mg | AG3: mg | AH3: mg | AI3: mg | AJ3: mg | AK3: mg | AL3: mg | AM3: mg | AN3: mg | AO3: mg | AP3: mg | AQ3: mg | AR3: mg | AS3: mg | AT3: mg | AU3: mg | AV3: mg | AW3: mg | AX3: mg | AY3: mg | AZ3: mg | BA3: mg | BB3: mg | BC3: mg | BD3: mg | BE3: mg | BF3: mg | BG3: mg | BH3: mg | BI3: mg | BJ3: mg | BK3: mg | BL3: mg | BM3: mg | BN3: mg | BO3: mg | BP3: mg | BQ3: mg | BR3: mg | BS3: mg | BT3: mg
A4: 0 | B4: ='Leachate chemistry'!$B$5*'Leachate chemistry'!C5*0.000001 -> 2.5e-07 | C4: ='Leachate chemistry'!$B$5*'Leachate chemistry'!D5*0.000001 -> 0.001 | D4: ='Leachate chemistry'!$B$5*'Leachate chemistry'!E5*0.000001 -> 5.75e-05 | E4: ='Leachate chemistry'!$B$5*'Leachate chemistry'!F5*0.000001 -> 5e-05 | F4: ='Leachate chemistry'!$B$5*'Leachate chemistry'!G5*0.000001 -> 0.00425 | G4: ='Leachate chemistry'!$B$5*'Leachate chemistry'!H5*0.000001 -> 0.001375 | H4: ='Leachate chemistry'!$B$5*'Leachate chemistry'!I5*0.000001 -> 2.275e-05 | I4: ='Leachate chemistry'!$B$5*'Leachate chemistry'!J5*0.000001 -> 1.375e-07 | ... BT4: ='Leachate chemistry'!$B$5*'Leachate chemistry'!BU5*0.000001 -> 2.025e-06
A5: 1 | B5: ='Leachate chemistry'!$B$6*'Leachate chemistry'!C6*0.000001 -> 1.6e-06 | C5: ='Leachate chemistry'!$B$6*'Leachate chemistry'!D6*0.000001 -> 0.006 | D5: ='Leachate chemistry'!$B$6*'Leachate chemistry'!E6*0.000001 -> 4.25e-05 | E5: ='Leachate chemistry'!$B$6*'Leachate chemistry'!F6*0.000001 -> 2.5e-06 | F5: ='Leachate chemistry'!$B$6*'Leachate chemistry'!G6*0.000001 -> 0.0011 | G5: ='Leachate chemistry'!$B$6*'Leachate chemistry'!H6*0.000001 -> 0.0006 | H5: ='Leachate chemistry'!$B$6*'Leachate chemistry'!I6*0.000001 -> 3.5e-05 | I5: ='Leachate chemistry'!$B$6*'Leachate chemistry'!J6*0.000001 -> 9.75e-08 | ... BT5: ='Leachate chemistry'!$B$6*'Leachate chemistry'!BU6*0.000001 -> 4e-06
A6: 2 | B6: ='Leachate chemistry'!$B$7*'Leachate chemistry'!C7*0.000001 -> 1.575e-06 | C6: ='Leachate chemistry'!$B$7*'Leachate chemistry'!D7*0.000001 -> 0.0025 | D6: ='Leachate chemistry'!$B$7*'Leachate chemistry'!E7*0.000001 -> 6.25e-05 | E6: ='Leachate chemistry'!$B$7*'Leachate chemistry'!F7*0.000001 -> 8e-07 | F6: ='Leachate chemistry'!$B$7*'Leachate chemistry'!G7*0.000001 -> 0.0011 | G6: ='Leachate chemistry'!$B$7*'Leachate chemistry'!H7*0.000001 -> 0.000625 | H6: ='Leachate chemistry'!$B$7*'Leachate chemistry'!I7*0.000001 -> 3.5e-05 | I6: ='Leachate chemistry'!$B$7*'Leachate chemistry'!J7*0.000001 -> 6.25e-08 | ... BT6: ='Leachate chemistry'!$B$7*'Leachate chemistry'!BU7*0.000001 -> 1.375e-06
A7: 3 | B7: ='Leachate chemistry'!$B$8*'Leachate chemistry'!C8*0.000001 -> 2.025e-08 | C7: ='Leachate chemistry'!$B$8*'Leachate chemistry'!D8*0.000001 -> 0.002075 | D7: ='Leachate chemistry'!$B$8*'Leachate chemistry'!E8*0.000001 -> 1.9e-05 | E7: ='Leachate chemistry'!$B$8*'Leachate chemistry'!F8*0.000001 -> 8e-07 | F7: ='Leachate chemistry'!$B$8*'Leachate chemistry'!G8*0.000001 -> 0.001225 | G7: ='Leachate chemistry'!$B$8*'Leachate chemistry'!H8*0.000001 -> 0.000525 | H7: ='Leachate chemistry'!$B$8*'Leachate chemistry'!I8*0.000001 -> 4e-05 | I7: ='Leachate chemistry'!$B$8*'Leachate chemistry'!J8*0.000001 -> 1.525e-07 | ... BT7: ='Leachate chemistry'!$B$8*'Leachate chemistry'!BU8*0.000001 -> 1.1e-06
A8: 4 | B8: ='Leachate chemistry'!$B$9*'Leachate chemistry'!C9*0.000001 -> 3.75e-07 | C8: ='Leachate chemistry'!$B$9*'Leachate chemistry'!D9*0.000001 -> 0.001675 | D8: ='Leachate chemistry'!$B$9*'Leachate chemistry'!E9*0.000001 -> 4.75e-05 | E8: ='Leachate chemistry'!$B$9*'Leachate chemistry'!F9*0.000001 -> 3.5e-07 | F8: ='Leachate chemistry'!$B$9*'Leachate chemistry'!G9*0.000001 -> 0.001125 | G8: ='Leachate chemistry'!$B$9*'Leachate chemistry'!H9*0.000001 -> 0.000375 | H8: ='Leachate chemistry'!$B$9*'Leachate chemistry'!I9*0.000001 -> 3.5e-05 | I8: ='Leachate chemistry'!$B$9*'Leachate chemistry'!J9*0.000001 -> 8.5e-08 | ... BT8: ='Leachate chemistry'!$B$9*'Leachate chemistry'!BU9*0.000001 -> 1.9e-06
A9: 5 | B9: ='Leachate chemistry'!$B$10*'Leachate chemistry'!C10*0.000001 -> 4.5e-07 | C9: ='Leachate chemistry'!$B$10*'Leachate chemistry'!D10*0.000001 -> 0.001925 | D9: ='Leachate chemistry'!$B$10*'Leachate chemistry'!E10*0.000001 -> 1.3e-05 | E9: ='Leachate chemistry'!$B$10*'Leachate chemistry'!F10*0.000001 -> 7.5e-07 | F9: ='Leachate chemistry'!$B$10*'Leachate chemistry'!G10*0.000001 -> 0 | G9: ='Leachate chemistry'!$B$10*'Leachate chemistry'!H10*0.000001 -> 0.000525 | H9: ='Leachate chemistry'!$B$10*'Leachate chemistry'!I10*0.000001 -> 3.75e-05 | I9: ='Leachate chemistry'!$B$10*'Leachate chemistry'!J10*0.000001 -> 3e-07 | ... BT9: ='Leachate chemistry'!$B$10*'Leachate chemistry'!BU10*0.000001 -> 1.35e-06
A10: 6 | B10: ='Leachate chemistry'!$B$11*'Leachate chemistry'!C11*0.000001 -> 2.025e-07 | C10: ='Leachate chemistry'!$B$11*'Leachate chemistry'!D11*0.000001 -> 0.002375 | D10: ='Leachate chemistry'!$B$11*'Leachate chemistry'!E11*0.000001 -> 1.05e-05 | E10: ='Leachate chemistry'!$B$11*'Leachate chemistry'!F11*0.000001 -> 6.25e-07 | F10: ='Leachate chemistry'!$B$11*'Leachate chemistry'!G11*0.000001 -> 0.000925 | G10: ='Leachate chemistry'!$B$11*'Leachate chemistry'!H11*0.000001 -> 0.000575 | H10: ='Leachate chemistry'!$B$11*'Leachate chemistry'!I11*0.000001 -> 6e-05 | I10: ='Leachate chemistry'!$B$11*'Leachate chemistry'!J11*0.000001 -> 2.025e-07 | ... BT10: ='Leachate chemistry'!$B$11*'Leachate chemistry'!BU11*0.000001 -> 2.35e-06
A11: 7 | B11: ='Leachate chemistry'!$B$12*'Leachate chemistry'!C12*0.000001 -> 0 | C11: ='Leachate chemistry'!$B$12*'Leachate chemistry'!D12*0.000001 -> 0.00475 | D11: ='Leachate chemistry'!$B$12*'Leachate chemistry'!E12*0.000001 -> 7.75e-06 | E11: ='Leachate chemistry'!$B$12*'Leachate chemistry'!F12*0.000001 -> 2.5e-07 | F11: ='Leachate chemistry'!$B$12*'Leachate chemistry'!G12*0.000001 -> 0.000275 | G11: ='Leachate chemistry'!$B$12*'Leachate chemistry'!H12*0.000001 -> 0.0008 | H11: ='Leachate chemistry'!$B$12*'Leachate chemistry'!I12*0.000001 -> 9.5e-05 | I11: ='Leachate chemistry'!$B$12*'Leachate chemistry'!J12*0.000001 -> 2.325e-07 | ... BT11: ='Leachate chemistry'!$B$12*'Leachate chemistry'!BU12*0.000001 -> 2.225e-06
A12: 8 | B12: ='Leachate chemistry'!$B$13*'Leachate chemistry'!C13*0.000001 -> 1.0375e-06 | C12: ='Leachate chemistry'!$B$13*'Leachate chemistry'!D13*0.000001 -> 0.005875 | D12: ='Leachate chemistry'!$B$13*'Leachate chemistry'!E13*0.000001 -> 2.245e-05 | E12: ='Leachate chemistry'!$B$13*'Leachate chemistry'!F13*0.000001 -> 3.2e-07 | F12: ='Leachate chemistry'!$B$13*'Leachate chemistry'!G13*0.000001 -> 0.004 | G12: ='Leachate chemistry'!$B$13*'Leachate chemistry'!H13*0.000001 -> 0.000875 | H12: ='Leachate chemistry'!$B$13*'Leachate chemistry'!I13*0.000001 -> 0.00020625 | I12: ='Leachate chemistry'!$B$13*'Leachate chemistry'!J13*0.000001 -> 1.925e-07 | ... BT12: ='Leachate chemistry'!$B$13*'Leachate chemistry'!BU13*0.000001 -> 2.525e-06
A13: 9 | B13: ='Leachate chemistry'!$B$14*'Leachate chemistry'!C14*0.000001 -> 6.25e-07 | C13: ='Leachate chemistry'!$B$14*'Leachate chemistry'!D14*0.000001 -> 0.01375 | D13: ='Leachate chemistry'!$B$14*'Leachate chemistry'!E14*0.000001 -> 2.1625e-05 | E13: ='Leachate chemistry'!$B$14*'Leachate chemistry'!F14*0.000001 -> 3.325e-07 | F13: ='Leachate chemistry'!$B$14*'Leachate chemistry'!G14*0.000001 -> 0.0045 | G13: ='Leachate chemistry'!$B$14*'Leachate chemistry'!H14*0.000001 -> 0.0014375 | H13: ='Leachate chemistry'!$B$14*'Leachate chemistry'!I14*0.000001 -> 0.0003375 | I13: ='Leachate chemistry'!$B$14*'Leachate chemistry'!J14*0.000001 -> 3.75e-07 | ... BT13: ='Leachate chemistry'!$B$14*'Leachate chemistry'!BU14*0.000001 -> 3.05e-07
A14: 10 | B14: ='Leachate chemistry'!$B$15*'Leachate chemistry'!C15*0.000001 -> 2.125e-07 | C14: ='Leachate chemistry'!$B$15*'Leachate chemistry'!D15*0.000001 -> 0.02625 | D14: ='Leachate chemistry'!$B$15*'Leachate chemistry'!E15*0.000001 -> 1.175e-05 | E14: ='Leachate chemistry'!$B$15*'Leachate chemistry'!F15*0.000001 -> 1.375e-07 | F14: ='Leachate chemistry'!$B$15*'Leachate chemistry'!G15*0.000001 -> 0.004625 | G14: ='Leachate chemistry'!$B$15*'Leachate chemistry'!H15*0.000001 -> 0.005125 | H14: ='Leachate chemistry'!$B$15*'Leachate chemistry'!I15*0.000001 -> 0.0004875 | I14: ='Leachate chemistry'!$B$15*'Leachate chemistry'!J15*0.000001 -> 2.5e-07 | ... BT14: ='Leachate chemistry'!$B$15*'Leachate chemistry'!BU15*0.000001 -> 3.75e-06
A15: 11 | B15: ='Leachate chemistry'!$B$16*'Leachate chemistry'!C16*0.000001 -> 2.58e-06 | C15: ='Leachate chemistry'!$B$16*'Leachate chemistry'!D16*0.000001 -> 0.021285 | D15: ='Leachate chemistry'!$B$16*'Leachate chemistry'!E16*0.000001 -> 1.935e-05 | E15: ='Leachate chemistry'!$B$16*'Leachate chemistry'!F16*0.000001 -> 2.15e-07 | F15: ='Leachate chemistry'!$B$16*'Leachate chemistry'!G16*0.000001 -> 0.00344 | G15: ='Leachate chemistry'!$B$16*'Leachate chemistry'!H16*0.000001 -> 0.013115 | H15: ='Leachate chemistry'!$B$16*'Leachate chemistry'!I16*0.000001 -> 0.0003225 | I15: ='Leachate chemistry'!$B$16*'Leachate chemistry'!J16*0.000001 -> 2.795e-07 | ... BT15: ='Leachate chemistry'!$B$16*'Leachate chemistry'!BU16*0.000001 -> 1.032e-05
A16: 12 | B16: ='Leachate chemistry'!$B$17*'Leachate chemistry'!C17*0.000001 -> 3.44e-06 | C16: ='Leachate chemistry'!$B$17*'Leachate chemistry'!D17*0.000001 -> 0.0258 | D16: ='Leachate chemistry'!$B$17*'Leachate chemistry'!E17*0.000001 -> 2.0425e-05 | E16: ='Leachate chemistry'!$B$17*'Leachate chemistry'!F17*0.000001 -> 0.0008815 | F16: ='Leachate chemistry'!$B$17*'Leachate chemistry'!G17*0.000001 -> 0.00473 | G16: ='Leachate chemistry'!$B$17*'Leachate chemistry'!H17*0.000001 -> 0.0129 | H16: ='Leachate chemistry'!$B$17*'Leachate chemistry'!I17*0.000001 -> 0.0003655 | I16: ='Leachate chemistry'!$B$17*'Leachate chemistry'!J17*0.000001 -> 2.58e-07 | ... BT16: ='Leachate chemistry'!$B$17*'Leachate chemistry'!BU17*0.000001 -> 1.6125e-05
A17: 13 | B17: ='Leachate chemistry'!$B$18*'Leachate chemistry'!C18*0.000001 -> 3.255e-06 | C17: ='Leachate chemistry'!$B$18*'Leachate chemistry'!D18*0.000001 -> 0.021 | D17: ='Leachate chemistry'!$B$18*'Leachate chemistry'!E18*0.000001 -> 9.5445e-06 | E17: ='Leachate chemistry'!$B$18*'Leachate chemistry'!F18*0.000001 -> 6.195e-07 | F17: ='Leachate chemistry'!$B$18*'Leachate chemistry'!G18*0.000001 -> 0.0015015 | G17: ='Leachate chemistry'!$B$18*'Leachate chemistry'!H18*0.000001 -> 0.0015225 | H17: ='Leachate chemistry'!$B$18*'Leachate chemistry'!I18*0.000001 -> 0.00042 | I17: ='Leachate chemistry'!$B$18*'Leachate chemistry'!J18*0.000001 -> 1.281e-06 | ... BT17: ='Leachate chemistry'!$B$18*'Leachate chemistry'!BU18*0.000001 -> 5.25e-07
A18: 14 | B18: ='Leachate chemistry'!$B$19*'Leachate chemistry'!C19*0.000001 -> 5.6e-06 | C18: ='Leachate chemistry'!$B$19*'Leachate chemistry'!D19*0.000001 -> 0.028 | D18: ='Leachate chemistry'!$B$19*'Leachate chemistry'!E19*0.000001 -> 1.66e-05 | E18: ='Leachate chemistry'!$B$19*'Leachate chemistry'!F19*0.000001 -> 1.82e-07 | F18: ='Leachate chemistry'!$B$19*'Leachate chemistry'!G19*0.000001 -> 0.00126 | G18: ='Leachate chemistry'!$B$19*'Leachate chemistry'!H19*0.000001 -> 0.0015 | H18: ='Leachate chemistry'!$B$19*'Leachate chemistry'!I19*0.000001 -> 0.00028 | I18: ='Leachate chemistry'!$B$19*'Leachate chemistry'!J19*0.000001 -> 2.6e-07 | ... BT18: ='Leachate chemistry'!$B$19*'Leachate chemistry'!BU19*0.000001 -> 1.58e-06
A19: 15 | B19: ='Leachate chemistry'!$B$20*'Leachate chemistry'!C20*0.000001 -> 1.4816615e-06 | C19: ='Leachate chemistry'!$B$20*'Leachate chemistry'!D20*0.000001 -> 0.017948566 | D19: ='Leachate chemistry'!$B$20*'Leachate chemistry'!E20*0.000001 -> 5.3512526e-06 | E19: ='Leachate chemistry'!$B$20*'Leachate chemistry'!F20*0.000001 -> 6.1661e-07 | F19: ='Leachate chemistry'!$B$20*'Leachate chemistry'!G20*0.000001 -> 0.00072980896 | G19: ='Leachate chemistry'!$B$20*'Leachate chemistry'!H20*0.000001 -> 0.00092927833 | H19: ='Leachate chemistry'!$B$20*'Leachate chemistry'!I20*0.000001 -> 0.00024330711 | I19: ='Leachate chemistry'!$B$20*'Leachate chemistry'!J20*0.000001 -> 4.0082627e-07 | ... BT19: ='Leachate chemistry'!$B$20*'Leachate chemistry'!BU20*0.000001 -> 7.8194119e-07
A20: 16 | B20: ='Leachate chemistry'!$B$21*'Leachate chemistry'!C21*0.000001 -> 9.6186879e-07 | C20: ='Leachate chemistry'!$B$21*'Leachate chemistry'!D21*0.000001 -> 0.017824565 | D20: ='Leachate chemistry'!$B$21*'Leachate chemistry'!E21*0.000001 -> 9.0607305e-06 | E20: ='Leachate chemistry'!$B$21*'Leachate chemistry'!F21*0.000001 -> 1.1802436e-07 | F20: ='Leachate chemistry'!$B$21*'Leachate chemistry'!G21*0.000001 -> 0.00063830478 | G20: ='Leachate chemistry'!$B$21*'Leachate chemistry'!H21*0.000001 -> 0.00076985005 | H20: ='Leachate chemistry'!$B$21*'Leachate chemistry'!I21*0.000001 -> 0.00019848762 | I20: ='Leachate chemistry'!$B$21*'Leachate chemistry'!J21*0.000001 -> 4.2820558e-07 | ... BT20: ='Leachate chemistry'!$B$21*'Leachate chemistry'!BU21*0.000001 -> 8.6720158e-07
A21: 17 | B21: ='Leachate chemistry'!$B$22*'Leachate chemistry'!C22*0.000001 -> 5.875e-08 | C21: ='Leachate chemistry'!$B$22*'Leachate chemistry'!D22*0.000001 -> 0.03525 | D21: ='Leachate chemistry'!$B$22*'Leachate chemistry'!E22*0.000001 -> 2.33825e-05 | E21: ='Leachate chemistry'!$B$22*'Leachate chemistry'!F22*0.000001 -> 1.5275e-07 | F21: ='Leachate chemistry'!$B$22*'Leachate chemistry'!G22*0.000001 -> 0.001269 | G21: ='Leachate chemistry'!$B$22*'Leachate chemistry'!H22*0.000001 -> 0.0013395 | H21: ='Leachate chemistry'!$B$22*'Leachate chemistry'!I22*0.000001 -> 0.0003525 | I21: ='Leachate chemistry'!$B$22*'Leachate chemistry'!J22*0.000001 -> 3.76e-07 | ... BT21: ='Leachate chemistry'!$B$22*'Leachate chemistry'!BU22*0.000001 -> 1.3865e-06
A22: 18 | B22: ='Leachate chemistry'!$B$23*'Leachate chemistry'!C23*0.000001 -> 1.93875e-07 | C22: ='Leachate chemistry'!$B$23*'Leachate chemistry'!D23*0.000001 -> 0.057575 | D22: ='Leachate chemistry'!$B$23*'Leachate chemistry'!E23*0.000001 -> 1.733125e-05 | E22: ='Leachate chemistry'!$B$23*'Leachate chemistry'!F23*0.000001 -> 9.2825e-08 | F22: ='Leachate chemistry'!$B$23*'Leachate chemistry'!G23*0.000001 -> 0.0013865 | G22: ='Leachate chemistry'!$B$23*'Leachate chemistry'!H23*0.000001 -> 0.00219725 | H22: ='Leachate chemistry'!$B$23*'Leachate chemistry'!I23*0.000001 -> 0.00055225 | I22: ='Leachate chemistry'!$B$23*'Leachate chemistry'!J23*0.000001 -> 3.1725e-07 | ... BT22: ='Leachate chemistry'!$B$23*'Leachate chemistry'!BU23*0.000001 -> 1.034e-06
