Workbook

Sheet Sheet2
G2: Albania | H2: Armenia | I2: Brazil | J2: Chad | K2: Cabo Verde | L2: Cambodia | M2: Burkina Faso | N2: Congo (DRC) | O2: Ethiopia | P2: Fiji | Q2: Grenada | R2: Kenya | S2: Kiribati | T2: Kuwait | U2: Liberia | V2: Nepal | W2: *Saint Lucia | X2: Saint Vincent and the Grenadines | Y2: Sierra Leone | Z2: Sri Lanka | AA2: South Sudan | AB2: South Africa | AC2: Percentage
A3: Leadership and Governance | B3: =(2/19)*100 -> 10.526316 | C3: =IF(A3=F3,1,"") -> 1 | F3: Leadership and Governance | AC3: =(2/19)*100 -> 10.526316
A4: Health workforce | C4: =IF(A4=F4,1,"") | F4: Health workforce training and capacity building | AC4: =(6/19)*100 -> 31.578947
A5: Vulnerability, capacity and adaptation assessment | C5: =IF(A5=F5,1,"") | F5: Vulnerability, risk and adaptation assessment | AC5: =(9/19)*100 -> 47.368421
A6: Integrated risk monitoring and early warning | B6: =(9/19)*100 -> 47.368421 | C6: =IF(A6=F6,1,"") -> 1 | F6: Integrated risk monitoring and early warning | AC6: =(9/19)*100 -> 47.368421
A7: Health and climate research | C7: =IF(A7=F7,1,"") -> 1 | F7: Health and climate research | AC7: =(5/19)*100 -> 26.315789
A8: Climate resilient and sustainable technologies and infrastructure | C8: =IF(A8=F8,1,"") -> 1 | F8: Climate resilient and sustainable technologies and infrastructure
A9: Management of environmental (and animal) determinants of health | B9: =(6/19)*100 -> 31.578947 | C9: =IF(A9=F9,1,"") -> 1 | F9: Management of environmental (and animal) determinants of health | AC9: =(6/19)*100 -> 31.578947
A10: Climate-informed health programmes | C10: =IF(A10=F10,1,"") -> 1 | F10: Climate-informed health programmes
A11: Emergency preparedness and management | C11: =IF(A11=F11,1,"") -> 1 | F11: Emergency preparedness and management | AC11: =(5/19)*100 -> 26.315789
A12: Climate and health financing | C12: =IF(A12=F12,1,"") -> 1 | F12: Climate and health financing | AC12: =(1/19)*100 -> 5.2631579
F13: Risk Communication, and public awareness and education | AC13: =(5/19)*100 -> 26.315789
F14: HNAP | AC14: =(2/19)*100 -> 10.526316
F15: Regulatory framework
G18: Albania | H18: Armenia | I18: Brazil | J18: Chad | K18: Cape Verde | L18: Cambodia | M18: Burkina Faso | N18: Congo (DRC) | O18: Ethiopia | P18: Fiji | Q18: Grenada | R18: Kenya | S18: Kiribati | T18: Kuwait | U18: Liberia | V18: Nepal | W18: *Saint Lucia | X18: Saint Vincent and the Grenadines | Y18: Sierra Leone | AC18: Percentage
F19: Heat related illness, injuries | AC19: =(3/19)*100 -> 15.789474
F20: Health impacts broadly associated with exteme events | AC20: =(2/19)*100 -> 10.526316
F21: Water-borne disease | AC21: =(13/19)*100 -> 68.421053
F22: Vector-borne disease | AC22: =(12/19)*100 -> 63.157895
F23: Food insecurity, malnutrition | AC23: =(11/19)*100 -> 57.894737
F24: Mental health and psychological impacts | AC24: =(3/19)*100 -> 15.789474
F25: Zoonoses | AC25: =(4/19)*100 -> 21.052632
F26: Respiratory illess | AC26: =(5/19)*100 -> 26.315789
F27: Cardiovascular illness | AC27: =(1/19)*100 -> 5.2631579
F28: Maternal and child health | AC28: =(1/19)*100 -> 5.2631579

Sheet Cover page
A1: Operationalising health in global climate adaptation commitments: A qualitative synthesis of 37 National Adaptation Plans
A3: Ajay Adhikari, Email: ajay.adhikari@anu.edu.au
A4: Davoud Pourmarzi, Email: davoud.pourmarzi@anu.edu.au
A5: Paul Kowal, Email: paul.kowal@anu.edu.au
A6: Aparna Lal, Email: aparna.lal@anu.edu.au

Sheet Content analysis
A1: Operationalising health in global climate adaptation commitments: A qualitative synthesis of 37 National Adaptation Plans
A2: Country Name | B2: Published Year | C2: Planned Period | D2: Jurisdictional Level (national/state/provincial/local) (I think we don't need this variable. I believe every NAP covers national jurisdiction - excep that Sudan NAP is at state level) | E2: Key Health Impacts/Vulnerabilities Identified (I have also included vulnerabiliyt in terms of lack of health service, medicines, etc.) | F2: Animal-related Health Issues | G2: Adaptation Strategy for Health Sector - Health System Resilience (Prevention, what maintains a healthy population) (I assume that this variable is about institutional response [strategy/law/policy and organization] related to health risks) | H2: Adaptation Strategy for Health Sector - Health infrastructure (1. Data and information systems; 2. Health workforce and planning; 3. Public health organisations (I think we can put "organization" under previous variable which I believe is about institutions: strategy/law and organization) | I2: Additional adaptation options for health-related infrastructure (such as sanitary infrastructure) and service | J2: Adaption Strategy for Health Sector - Emergencies or disasters | K2: Situation-desriptions for Specific Target Groups (e.g. target groups, women, youth, rural, remote) (Y/N) | L2: Adaptation Actions for Specific Target Groups (e.g. target groups, women, youth, rural, remote) (Y/N) | M2: Improve public awareness (Y/N) | N2: Improve/increase Knowledge and research capacity | O2: Monitoring of health related indicators | P2: Description of Health related indicators | Q2: Full framework or specific evaluations plan (Y/N) | R2: Responsible Lead Agency / Ministry | S2: Comments | T2: Preparation Process | U2: What regulatory framework supports this NAP?/ Health plans of NAP supported by regulatory frameworks
A3: Albania | B3: 2021- Date posted on UNCC's website | C3: N | D3: National | E3: Heat wave, Vector increase (p2) “There has been increased heat- as well as cold-related mortality in some regions as a result of climate changes. Local changes in temperature and rainfall have altered the distribution of some waterborne illnesses and disease vectors.” (p15); "air quality related health problems (respiratory diseases) might be aggravated in the main cities of Albania and in particular in the capital of Albania." (p63) - The Albanian NAP started already with several process like steps taking also orientation from the NAP Technical Guidelines: Assessing climate vulnerabilities: Based on vulnerability assessments conducted for Albania’s National Communications to UNFCCC (First, Second and Third) and sector specific vulnerability studies for... health (2011) (p.46) | F3: N | G3: The country developed a specific ‘Health and climate change adaptation strategy’ and is trying to not only mainstream climate change adaptation into health policies but also implement the strategy in the Health Sector (p27). “Apply best approaches for vector control, public health measures and preparedness for extreme events (heat waves).” (p34) "Goal 1: Implementation for selected health measures of relevance to climate change impacts is enhance with special focus on vector control, public health measures and preparedness for extreme events (heat waves)." (p63); "Adapt health sector policies for health facility construction. (2015-2021)" (p63); "Adapt the existing surveillance systems on vector borne diseases. (2013-2021); Continuously assure the quality of the new surveillance and the feed-back reports related to it. (2014- 2021); Support Municipalities and Local Directories of Public health on sanitation continuously. (2013-2021)” (p64) | H3: Potentially, “Capacity development for health institutions” (p34) "Provide training sessions to selected health professionals.(2013- 2021)." (p63) Capacity development for multi-perpective health institutions. "Support with training and information Directories of Public Health and Municipalities. (2013-2021)" (p63) | I3: - Adapt health sector policies for health facility construction (2015-2021) (p.64) | J3: "The National Civil Emergency Plan draws together and clarifies the roles and responsibilities of all public and private stakeholders. This aims to channel the flow of relevant information, to strengthen decision making, and through coordination, to reinforce the capacity to respond through all phases of the disaster cycle." (p27); "Support Food Authority with training for food safety laboratories and risk assessment. (2013 – 2018)" (p64) | K3: N | L3: N | M3: Y - Potentially, “Public awareness + training” (p34); "Public Awareness of climate change impacts on health - Include health related impacts from climate change into awareness campaigns under Priority Action No. 6." (p63); "Inform communities timely and systematically about possible heat waves. (2012-2021)" (p63) | N3: Y - Potentially, “Capacity development for health institutions” (p34); "Improve the research and also livestock management, nutrition, and health under a changing climate" (p62); "Strengthen capacities at Institute of Public Health for entomological laboratory and entomological research. (2013-2021)" (p64) | O3: Y | P3: "Indicator 1.1: Climate related campaigns include health related climate impacts. o Indicator 1.2: Preparedness for extreme climate events is enhanced through early warning systems and primary health care facilities. o Indicator 1.3: Surveillance and prevention measures against communicable diseases caused by climate change are improved." (p63) | Q3: Y - The comprehensive M&E principles and steps are given, no specific one for the Health sector; it's worth noting that the country does well in checking, reporting, and updating (p111). | R3: MoH IPH IGJEUM National Food Authority (p34); Institute of Public Health (IPH) Ministry of Education and Science Faculty of Medicine IGEWE Environmental Agency Institute of food safety and veterinary research (ISUV), Food Authority (FA) Directories of Public Health (p64) | S3: - Total cost estimated for health sector 145 million ALL (~USD 1.3 million) - National budget 73 million ALL (~USD 0.7 million) - Other sectors related to health such as water resources has also estimated cost for NAP implementation (p.28)
A4: Argentina | B4: 2023 | C4: 2023-2030 | D4: National | E4: - Floods are also a cause of health risks for people, both because of the higher incidence of infections, the physical damage caused by these events, and their impact on the mental health of those affected (p.29) - the temperature, humidity and rainfall conditions that favor the reproduction of the Aedes aegyiptiy mosquito also generate a health risk due to an increase in cases of dengue fever (p.29) - Another risk to people's health and comfort occurs in urban centers in the region due to cuts in the supply of electricity during heat waves (p.30) - heat waves increase hospitalizations and deaths of the elderly, young children and people with chronic diseases (cardiovascular, renal, respiratory, hypertension, diabetes and obesity), people with disabilities and others in vulnerable situations: homeless people, indigenous peoples or other people living in precarious habitation (p.30) - The low level of health care coverage and accessibility (p.30) - many diseases due to climate change mentioned in health sub-section of the section "measures to address climate change" | G4: - National Health and Climate Change Strategy currently being developed - Line of action 3. Mainstreaming health in to national climate policy - Line of action 2. Strengthening the health system in the face of climate change - Strengthening of the National Program for the Reduction of Health Risks Associated with the Climate Change and the roundtable within the Ministry of Health. - Development of training for health teams on the links between climate change and health (including prevention,assessment,surveillance and treatment actions), taking into consideration the cross-cutting approaches of gender and diversity,lifecourses,integratedrisk management,justtransition and OneHealth. - Strengthening and updating of the Early Warning System for Extreme Temperatures (heat and cold). - Guidelines for the development of Early Warning Systems for Pluvial Floods - Strengthening of entomological and vector-borne disease surveillance systems | H4: - Line of action 1. Strengthening the governance of the health sector to face the challenges of climate change - Development of training for health teams on the links between climate change and health (including prevention,assessment,surveillance and treatment actions), taking into consideration the cross-cutting approaches of gender and diversity,lifecourses,integrated risk management,just transition and OneHealth. | K4: - Development of training for health teams on the links between climate change and health (including prevention,assessment,surveillance and treatment actions), taking into consideration the cross-cutting approaches of gender and diversity,lifecourses,integrated risk management,just transition and OneHealth. | L4: - Development of training for health teams on the links between climate change and health (including prevention,assessment,surveillance and treatment actions), taking into consideration the cross-cutting approaches of gender and diversity,lifecourses,integrated risk management,just transition and OneHealth. - Implementation, updating and maintenance of plans to prevent health risks associated with extreme temperature events (heatandcold), with emphasis on the most vulnerable populations | N4: - Development of a National Climate and Health Observatory for the integration and analysis of climate , social, economic and health data, and the generation of climate and health monitoring indicators - Modeling the risk of vector-borne diseases, rodents, venomous animals, among others, incorporating climate projections | O4: - Development of a National Climate and Health Observatory for the integration and analysis of climate , social, economic and health data, and the generation of climate and health monitoring indicators | P4: - Development of a National Climate and Health Observatory for the integration and analysis of climate , social, economic and health data, and the generation of climate and health monitoring indicators | R4: - the roundtable within the Ministry of Health. | T4: - Funding of the Green Climate Fund and the UNDP | U4: - Law No.27520-Law on Minimum Standards for Adaptation and Mitigation of Global Climate Change
A5: Armenia | B5: 2021 | C5: - 5 years (2021-2025) - It is anticipated that the adaptation measures presented in the NAP will be implemented or at least initiated during the 2021-2025 period (p.21) | D5: National | E5: - "High frequency and magnitude of hazardous hydrometeorological phenomena (HHP) are characteristic for Armenia, which trigger droughts, landslides, mudslides, forest fires etc." (p7) - One of the seven sectors identified with particular adaptation needs is 'human health' (p.12) | G5: - (rather than having detailed provision in NAP itself) the NAP states that the National Action Program of Adaptation to Climate Change serves as a roadmap for ensuring the mainstreaming of adaptation and implementation of the NAP in the sector policy (p.5) - The vision underlying the NAP process is that all government-policy sectors considered vulnerable to the impacts of CC, including health will incorporate climate change adaptation considerations (p.14) - Climate change adaptation considerations are to be integrated into the strategic development process of the healthcare sector by 2022, 2nd trimester (p.29) - Source of fund - AMD 30,000: Sources not prohibited by legislation (inter-national donor organizations) (p.29) - "Development of the draft RA Government Decree “On approval of the climate change adaptation plan for the healthcare sector” and submission to the office of the RA Prime Minister" (p29) | K5: - Rural low-income communities are particularly vulnerable to the impacts of climate change due to increased health risks (p.7) - "Poverty is exacerbated by an unemployment rate of 28.6%, and an unequal distribution of gendered poverty. Because of their financial and social situations, the population groups living below the poverty line are vulnerable to different aspects of CC, such as extreme temperatures (high and low), bad weather and more frequent natural disasters. Combined analysis of Armenia’s historical data on droughts, soil erosion and other natural disasters shows that rural low-income communities are particularly vulnerable to the impacts of CC due to heightened water insecurity, increased health risks, reduced agricultural productivity and increased incidences of HHP" (p7) | P5: - "CCA [climate change adaptation] considerations are integrated into the strategic development process of the healthcare sector" (p29) | Q5: - not particularly related to health | R5: - Ministry of Healthcare (performer) and Ministry of Environment (co-performer) (p.29) | S5: - While talking about climate change impact in general, health is also mentioned in NAP, but does not have dedicated plans for this - The NAP is not designed to replace existing planning processes, rather to complement them. It does not prescribe how sectors and marzes should or will conduct their policy and planning processes, but provides guidance on good practice (p.15) | T5: - Funding of the Green Climate Fund and support of the UNDP | U5: - Formulation of the NAP process has been directed by three Government Decrees (p.12) - Development of the draft RA Government Decree “On approval of the climate change adaptation plan for the healthcare sector” and submission to the office of the RA Prime Minister" (p29)
A6: Bangladesh | B6: 2022 | C6: 2023-2050 | D6: National | E6: - Cold waves can also have significant health impacts, contributing to acute respiratory infections (ARI), fever, pneumonia, asthma, coughs and skin diseases, especially among the elderly and children - Heat waves will affect human health adversely. As human bodies are not habituated to adjust to a sudden temperature rise, more heatstroke will occur. Vector-borne diseases will spread as well - Increased salinity leads to human health issues like premature childbirth or death, stroke, high blood pressure, etc | G6: - Develop climate-resilient health care and WASH facilities for improved human well-being and livability in cities - Improvement of surveillance, early warning systems and monitoring of psychosocial impacts and mental health risks from extreme weather events - The National Adaptation Plan for Health (H-NAP) is being developed (p. 105) | H6: - Develop climate-resilient health care and WASH facilities for improved human well-being and livability in cities | K6: - Cold waves can also have significant health impacts, contributing to acute respiratory infections (ARI), fever, pneumonia, asthma, coughs and skin diseases, especially among the elderly and children - Adverse health consequences due to climate change are quite prominent among women - Persons with disabilities face neglect and various health, mobility and other problems in day-to-day life, making them more vulnerable to hazards or disasters. | L6: - Climate Change Gender Action Plan (ccGAP) is being updated | N6: - Action research for innovation in climate-resilient infrastructure, improved health and WASH technologies | S6: Health related issues and adaptation plan are embedded in "urban area" theme
A7: Benin | B7: 2022 | D7: National | E7: - Malaria, acute respiratory infections and gastrointestinal disorders accounted for 60% of the reasons for consultations in 2017 (p.25) - Health infrastructure coverage is unevenly di - stributed throughout the national territory (p.25) - Low accessibility to basic social services, including health (p.25) - Precariousness of the mechanism for financing health expenditure (p.25) - Vulnerable to food spoilage/food poisoning, discontinuity in the provision of health services (p.27), cardiovascular illnesses, heat wave, vector-borne diseases particularly malaria in wet periods and meningitis in dry periods, malnutrition/foodborne diseases, diseases related to faecal peril (p.28) - Considering the dominant pathologies in Benin (malaria, acute respiratory infections and diarrheal diseases), it is clear that the vulnerability of the population's health will probably be above average to horizons 2030 and 2050 (p.38) - Lack of disease surveillance, information and research climate-sensitive and appropriate response (p.47) - High prevalence of climate-sensitive diseases (p.47) - Inadequate mechanism for financing related health interventions to climate change (p.47) - Weak adaptation of health infrastructure, equipment of the climate change products and services (p.47) | K7: - The health zones of the North, on the whole, excessive heat and violent winds recorded especially in the dry season mainly affect meningitis, while floods and heavy rains exert more influence on malaria (p.37) - In the health zones of the Centre, floods and floods affect malaria the most (p.37) - Granite crushers, fishermen, small ruminant breeders, transporters and pig breeders are the most socio-economically disadvantaged groups (p.37) - The elderly, carriers and children under 5 are the social group that uses the health center the least (p.37) - In the southern health zones, floods and heavy rains significantly affect malaria (p.37) - The elderly and farmers, traditional therapists, fishermen and market gardeners are the social groups with the lowest level of access to socio-sanitary services (p.37) - According to the TCN report, on the health level, the decline in acquired immunity in pregnant women, behavioral disorders in all subjects and growth regression in children (under 5 years), mortality very high childbirth are the consequences (p.38) | N7: - Lack of disease surveillance, information and research identified as a barrier (p.47) | R7: - Ministry of Health (p.59) | S7: - Cost estimated for implementation of NAP strategies (p.97) | T7: Supported by GIZ, GCF and UNDP | U7: - Legislative provisions related to climate change in Benin: Law No. 87-015 of September 21, 1987 on the Public Hygiene Code (59) - Regulatory provisions: Decree No. 2019-417 of September 25, 2019 on creation, powers, organization and operation of the Health Sector Regulatory Authority (ARSS), and Decree No. 2017-433 of August 10, 2017 on the powers, organization and operation of the Beninese Agency for Food Safety (ABSSA) (p.63)
A8: Bhutan | B8: 2023 | E8: - Risk of zoonosis events because of changing wildlife habitats and increasing intersection between wildlife, livestock, and human settlements - Heat waves, flash floods and landslides threaten human life, health, and wellbeing and affect health infrastructure - Vector-borne diseases (malaria, dengue and to a lesser extent chikungunya, Japanese encephalitis, kala-azar, and scrub typhus) and water-borne diseases (diarrhoea, dysentery, typhoid, cholera) are prevalent in Bhutan and are sensitive to climate change - Dengue in Bhutan was first reported in 2004 and under climate change can increase to about 3000 incidences per year by 2050 | G8: - Surveillance and control of climate-sensitive diseases - Cross-sectoral collaboration and coordination, since the determinants of health fall on other sectors and agencies, such as through Water, Sanitation and Hygiene (WASH) facilities, design of the living environment and disaster risk reduction and management - Collaborating partners/agencies identified - Cross-boarder collaboration emphasized | H8: - Research and capacity building of the health sector is needed since the topic of climate risk integration is a fairly new topic among health professionals and practitioners in Bhutan | I8: - Building resilience of critical public health infrastructure against extreme events and long-term climate risks. | J8: - Enhancing health emergency preparedness to respond to climate induced disaster | K8: - While vector borne diseases are endemic to the southern border with India, the spatial range is also expected to increase to other dzongkhags with higher elevations. | M8: - Stakeholders have identified the participation of senior citizens and retired professionals as partners to fill in gaps in specialised capacity and provide support in outreach and advocacy to vulnerable groups - Awareness raising for cross-border collaboration | N8: - Research and capacity building of the health sector is needed since the topic of climate risk integration is a fairly new topic among health professionals and practitioners in Bhutan | O8: - Activities (short- & medium-term) and their key performance indictors identified | R8: - Ministry of Health | S8: - Cost for actions under each strategic objective estimated - Various forms of funds availability mentioned for NAP implementation (related to UNFCCC, MDBs, bilaterals) - Cost for health and other related sectors estimated | T8: - Supported by UNDP
A9: Bosnia and Herzegovina | B9: 2021 | C9: short-term (2020-2023) medium-term (2023-2027) long-term (2025-2030) | D9: National | E9: - Blood pressure oscillations (p.52) - Cardiovascular and neurological problems (p.52) - Spread of water-borne diseases (p.52) - Food-borne, water-borne and vector-borne diseases (p.53) - An increase in the number of strokes by type of bleeding (p.53) | G9: - Development of legislation on work in extreme climatic conditions (p.67) - Priority interventions include better management of environmental determinants of health (such as water supply and sanitation) (p.54) | H9: - Establishing effective statistical monitoring of climate change-related pathologies (p.67) - Training to staff (p.67) - Building the capacity of public health institutes and emergency departments (p.67) | J9: - Building the capacity of public health institutes and emergency departments (p. 67) | K9: - Vulnerable groups identified (chronic patients, the elderly) (p.52) (children, pregnant women, the elderly, people prone to allergies) (p.53) - Underdeveloped and small local communities without adequate primary health care facilities (p.53) | M9: - Raising awareness and informing the population about the impact of climate change on human health (p.68) | N9: - NAP recommends that future studies should examine the link between climatic extremes and heart attack, chronic obstructive pulmonary disease, arrhythmias and respiratory diseases (p.53) - Making a study into new diseases caused by climate change (p.68) - Examining bioclimatic impacts on human health (p.68) - Examining the impact of allergens on human health (p.69) - Making a study into new diseases caused by climate change (p.68) supported by funding of 250 BAM | O9: - Establishing effective statistical monitoring of climate change-related pathologies (with prior training of staff) (p.67) - Monitoring of the quality of drinking water in rural areas (p.68) - Deaths related to flooding (p.91) - Mortality due to extreme temperatures (p.91) - Number of people requiring interventions against neglected tropical diseases (p.92) - Mortality rate attributed to cardiovascular disease, cancer, diabetes or chronic respiratory disease (p.92) - Vector-borne disease-prevalence: Ixodes ricinus ticks, aedes albopictus, west Nile virus infections, chikungunya transmission (p.93) - Time series of vibriosis infections (except cholera) (p.93) | P9: - Potential indicators in terms of climate impacts on health, recommended adaptation action, and expected adaptation results based on international experiences and practices have been listed (p.119) | R9: - Various government institutions (p.67-69) so we could say that collaboration would be there. - Public Health Institute of Republika Srpska, Ministry of Health and Social Welfare of Republika Srpska, Public Health Institute of Federation BiH (Public Health Institutes) and Ministry of Health of Federation BiH-for data related to health (p.99) | S9: - Health sector adaptation cost estimate 15.1 million BAM (~ USD 8.2 million) (p.67-69) - Other sector such as water has also cost estimated for adaptation: "monitoring of the quality of drinking water in rural areas" (p.68) | T9: - Prepared with a support from GCF and UNDP (p.7) | U9: - The current legislative framework in Bosnia and Herzegovina does not provide a sufficient basis to adequately address climate change impacts (p.12) '- Development of legislation on work in extreme climatic conditions (p.67)
A10: Brazil | B10: 2016 | C10: 2017-2040 | D10: National | E10: - Detailed assessment of vulnerabilities and impacts on health has been done in NAP (p.168-169) - People's exposure to disasters (Flooding and drought), air pollution, reduced capacity and quality of water resources, and climate-sensitive infectious diseases is considered (p.168-169) - Determinants of vulneraibility are considered as environmental conditioning agent and socioeconomic conditioning agent (p.168-173) - Effects on population and unified health system are identified (p.168-173) | G10: - Integrate climatic, environmental and socioeconomic risk analysis into SUS procedures for monitoring of publichealth emergencies (p.34) - "Establish a study, research, monitoring and communication network on climate and health, with a view to expanding technical-scientific knowledge and inputs for healthstatus analysis and for consolidated decision-making of the Unified Health System (SUS)" (p34) - Strengthening of the inter-sectoral and inter-institutional coordination (p.175,178) - Strengthen implementation of the national policy for sanitation and health (p.180) - Strengthen health surveillance for identification of humanhealth risks associated with climate change (p.180) - Establish a study, research, monitoring and communication network on climate and health, with a view to expanding technical scientific knowledge and inputs for healthstatus analysis and for consolidated decision-making of the Unified Health System (SUS) (p.182) | H10: - Improvement of the quality of information and processes for risk reporting to assist with SUS activities in public-health emergencies associated with climate change (p.177) - Promotion of capacity-building and actions to raise awareness of the population and of SUS professionals on the effects of climate change on human health (p.178) - Provision of data and information for knowledge production, technology transfers and actions (p.178) | I10: - Fostering of sustainable, resilient and secure infrastructure for public healthcare and supplementary health facilities - technology transfers and actions (p.178) | J10: - Improvement of the quality of information and processes for risk reporting to assist with SUS activities in public-health emergencies associated with climate change (p.177) - Identify etiological causes in health-emergency associated cases (p.180) | K10: - NAP states that "setting adaptive measures for health requires a multidisciplinary approach that takes into account vulnerabilities stemming from different economic sectors and from such characteristics as climate, geography, vegetation, economy, culture, social models and epidemiological profiles of each of Brazil’s regions that may pose health risks to humans" (p.175) - NAP illustrates the relationship between sectoral actions and reduction of socio-environmental vulnerabilities, and demonstrates the need for crosscutting approaches for improvement of public policies (p.177) | L10: - Formulation of specific policies to increase resilience of social groups with greater vulnerability to climate change in rural areas, wetlands, and among forest populations, indigenous peoples and the homeless (p.179) | M10: - Promotion of capacity-building and actions to raise awareness of the population and of SUS professionals on the effects of climate change on human health (p.178) | N10: - Promotion of studies and research on the effects of climate change on human health, considering traditional knowledge, regional characteristics and ecosystems when constructing knowledge (p.177) - Establish centres for studies and research on climate and health within the Unified Health System (p.182) | O10: - Expand the scope of the National Drinking Water Quality Surveillance Program (VIGIAGUA) to reach 85% of Brazilian municipalities, by 2019 (p.181) - Establish a study, research, monitoring and communication network on climate and health, with a view to expanding technical scientific knowledge and inputs for health status analysis and for consolidated decision making of the Unified Health System (SUS) (p.182) | P10: - Percentage of municipalities with information on registration, control and surveillance of drinking-water quality recorded on SISAGUA (p.181) - Network established and consolidated - Cooperation agreement drafted and implemented. - Network project drafted. - CITISAS project drafted. - Protocol for monitoring public-health emergencies integrated with analysis of climatic, environmental and socioeconomic risk drafted. - Panel for strategic information on climate and health established. - Integration Centre for Health, Environment and Sustainability Technologies established (p.182) | R10: - Ministry of Health’s Secretariat for Health Surveillance | T10: - Prepared by the Executive Group of the Inter-ministerial Committee on Climate Change (GEx-CIM) - Participation of federarl and state governments, civil society, private sectors | U10: - Health plan (alongwith other sectoral plans) for Mitigation of and Adaptation to Climate Change are contemplated by Law 12187, of 2009 and Decree 7390, of 2010 (footnote on p.20)
A11: Burkina Faso | B11: 2015 | C11: N | D11: National | E11: “Famine and its nutrition impacts: inability to maintain a proper diet throughout the year. Some farmers eat just one meal a day at critical times of the year and this impacts on the health and diet of the population.” (p40); “As far as vulnerability to climate change of the health sector is concerned, the main impact will be from climate-sensitive diseases following meteorological events.”; “Damage caused by excessive rainfall, especially floods, may pose a risk to public health due to the precarious condition of water works and a gradual deterioration in the quality of water, causing outbreaks of water-borne diseases such as cholera, dysentery and salmonella.” (p47); infection and diarrhoeal disease after flooding (p48); malaria due to rise in temperature; “high temperatures contribute directly to death from cardiovascular or respiratory diseases, especially among the elderly.”; “the presence of ozone and other pollutants in the air that exacerbate cardiovascular and respiratory diseases increase when the temperature rises.”; “Other factors, such as humidity and dust may encourage certain diseases. Cerebro-spinal meningitis epidemics occur during the dry season, which coincides with periods of low humidity and dusty conditions and disappear with the onset of the rainy season” (p48). “The impact of the vulnerability of water resources on the health sector takes the form of damage caused by excessive rainfall, especially floods, which may pose a risk to public health due to the precarious condition of water works and a gradual deterioration in the quality of water, causing outbreaks of water-borne diseases such as cholera, dysentery and salmonella. This risk of flooding might pose a risk to food security if harvests are destroyed, thereby also resulting in increased malnutrition, especially among children.” (p51); “a significant increase in maximum and minimum temperatures and alternating periods of drought and heavy rainfall over the next 30 to 50 years, leading inter alia to the increased vulnerability of populations due to a greater incidence of certain diseases such as meningitis and malaria” (p80). | F11: Y - "Maintain level of consumption of healthy animal products" (p63); "Protect the health of consumers of heat-perishable foodstuffs of animal origin" (p73) | G11: "Protect and improve public health; Ensure leadership and governance in terms of adapting to the impacts of climate change on the health sector" (p10); “Incorporate climate change issues into healthcare strategies; Strengthen collaboration between the climate change and healthcare sectors; Build capacities for forecasting and responding to climate-change-related phenomena” (p85); - Preserve water resources and improve access to sanitation (p.65) | H11: - "Increase human resources in the health sector skilled in adapting to the effects of climate change (p10)" "Strengthen human resources in the healthcare sector; Promote research in the healthcare sector" (p85); “Improve levels of knowledge among personnel in relation to climate-change-sensitive diseases” (p85) - "Improve detection and response rates for climate change-related phenomena"(p85) | I11: "Establish sanitary infrastructures which are adapted to climate change impacts" (p85). -"Adapt health infrastructure to the effects of climate change (p10)" | J11: "Improve detection and response rates for climate change-related phenomena"(p85) | K11: Y - “Famine and its nutrition impacts: inability to maintain a proper diet throughout the year. Some farmers eat just one meal a day at critical times of the year and this impacts on the health and diet of the population.” (p40); “high temperatures contribute directly to death from cardiovascular or respiratory diseases, especially among the elderly.” (p48); “Women are often forced to travel long distances and still may be unable to find drinking water, as numerous other constraints make this a difficult chore, such as salinisation, dry wells or contamination. Although the State has improved the technical potential with modern boreholes and wells, access to water for women is still a problem on the whole. This impacts on their health and on children's health in terms of the quality of the water and the physical effort required.” (p53) | L11: Y - Specific objectives: “Improve the nutritional status of the most vulnerable groups (women and children) through the availability of an adequate quantity of high-quality products.” (p95) | M11: Y - “Develop a communication strategy for climate change impact adaptations (p85)” | N11: “Promote research in the fields of healthcare and climate change” (p85) | O11: Y | P11: “National healthcare strategies incorporating climate change issues are available; A framework for collaboration is in operation; A training plan has been produced; Number of people trained; A communication strategy is available Awareness-raising resources are available; Forecasting and response tools are available; Sanitary infrastructures have been constructed to take account of climate-change-related risks; Number of research studies dealing with healthcare and climate change” (p85); “Rate of reduction in waterborne diseases” (p101) | Q11: Y, an impressive chapter re the framework of ME is given (p124-130), although no specific one for Health | R11: No responsible agency idientified; however, two names are listed in terms of "contact person responsible for data collection" (p145) | S11: I didn't include the Climate Change Adaptation Potential table (p82) here because I feel that could be explained as something other than actual actions, esp compared to the Summary of Adaptation Actions plan they pointed on p85. - Funding for various sectors including health is included (p.105)
A12: Cambodia | B12: 2013 | C12: 2014-2023 | D12: National | E12: Water-borne and vector-borne diseases (p15) | F12: "Promote animal production and protection of animal health in sustainable ways" (p15). | G12: "Promote renewable energy and energy efficiency to reduce GHG emissions and impacts on health"(p13). - mainstreaming climate change into the health strategic planning of MOH, and other sector planning."(p37) | H12: - "Improve ... capacity of health personnel to cope with vector-borne and water-borne diseases in the context of climate change" (p15); "Develop capacity on using proper technology that does not affect public health and develop capacity on using proper technology that does not [negatively] affect public health (animal production) (MAFF agriculture)"(p37). - "Provide relevant capacity development to village development committee members such as primary health care ..." (p38) | I12: - "Improve healthcare infrastructure to cope with vector-borne and water-borne diseases in the context of climate change" (p15) | J12: N | K12: N | L12: Y - "Provide capacity development to village development committee members on climate change adaptation and mitigation options, and use other scientific knowledge which can be adapted for use by local people (primary health care, water sanitation, research results dissemination and community development)" (p38). | M12: Y - "Provide capacity development to village development committee members on climate change adaptation and mitigation options, and use other scientific knowledge which can be adapted for use by local people (primary health care, water sanitation, research results dissemination and community development)" (p38). | N12: "Improve knowledge and research capacity on health impacts and vulnerability to climate change as an information base for mainstreaming climate change into the health strategic planning of MOH, and other sector planning."(p37) | O12: N | P12: No specific indicators are given. "Procedures and indicators for tracking climate change responses will be integrated in the National M&E System and will constitute the reference for tracking the effectiveness of climate change sectoral strategies and action plans at national and sub national levels." (p29) | Q12: Y - General Framework is planned (p27-32) with a possible health specific one to be developed | R12: Ministry of Health (MOH, p37); Ministry of Rural Development (MRD); Ministry of Agriculture, Fisheries, and Forestry (MAFF, p34)
A13: Cabo Verde | B13: 2021 | C13: 2020 - 2030 | D13: National | E13: "...the degradation of the air quality and vectorial diseases that can translate into stressful situations constituting risks to human health and well-being, with adverse effects on the physical and mental health of populations at all levels." (p65) - The main climate factors affecting the sector are drying trend, extreme temperatures, extreme rainfall, and heavy storms (p.65) | F13: N | G13: Sounds not like an action - “The country recognizes the importance of a greater number of well-equipped medical facilities, better risk communication strategies, more health professionals trained in crisis response, more and better disease surveillance, and need functioning early warning systems.” (p67) | H13: N | I13: N | J13: N | K13: Y - "The sector [fisheries and coastal zones] may be affected by variations in the temperature of the seawater column and its acidification. Those constitute risks for fish populations and their breeding as well as nurturing habitats, with considerable repercussions on fishing activity, economically affecting coastal communities health and well-being. It also affects the distribution of the various species, in depth and latitude, which can affect the abundance of local fish stocks." (p63). "floods caused by heavy rainfall, sea-level rise, and storms in the coastal and urban context with the loss of livelihoods, homes, human lives and energy facilities and the effects on human health associated with vector diseases and inequality of gender and the most vulnerable groups." (p73) | L13: N | M13: N | N13: N | O13: N | P13: N | Q13: Y - some steps of the framework are given, but it does not look like something can apply to the Health area (p129) | R13: N | S13: Beautiful design
A14: Chad | B14: 2022 - Date posted on UNCC's website | C14: N | D14: National | E14: - Low idex of health condition and access to health care presented in tables as baseline information (p.42-43) “The main health impacts would be in increased morbidity and mortality from vector- and non-vector-borne tropical diseases (e.g. malaria, cholera, bacillary dysentery and measles) and water-related diseases, which often occur after floods (e.g. diarrhoea and cholera)” “Increases in temperature and decreases in humidity resulting from climate change could lead to a significant increase in the number of meningitis cases and advance its seasonal onset.” “The significant impacts of climate change on food and water supplies will increase the risk of malnutrition and food insecurity (two major health problems).” “Chronic malnutrition” “Climate change is also likely to aggravate difficulties in accessing basic health services, high mortality rates (i.e. infant, child, maternal and senile mortality) and low life expectancy at birth.” “more heat-related deaths.” (p55-56) | F14: Y - “Emergency livelihood support: distribution of agricultural inputs and tools, distribution of animals, animal health support”; “Livelihood support: distribution of agricultural inputs and tools, distribution of animals, animal health support” (p82) | G14: Vision 2030: the Chad we want: implementing and monitoring national strategies for social protection and universal health care | H14: "Improved access to primary health care, water and sanitation services; the adoption of good feeding practices; and family hygiene" (p90) (this is considered for cross-sectoral collaboration) | I14: "1 health centre" (p77) this is not a plan, but previous project's output | J14: N | K14: N | L14: Y - "Improved access to basic services (health and education) [for refugees and host communities]" (p78); "Improve access to basic mobile services for livestock farmers: drinking water, health, education and information" (p86); "Test innovative human and animal health and education systems that are adapted and sustainable in pastoral environments" (p90); "Support for the medical and nutritional care of children under 5 years of age and for the maternal health of pregnant and breastfeeding women in N’Djamena and in the districts of N’Gouri and Isserom" (p96); "Reinforcement of the response to the humanitarian crisis through integrated, health and nutrition intervention in the Lake Chad Region";"Health, nutrition and protection assistance for displaced and indigenous people in the Lake Chad region" (p97); "Offer innovative services to the transhumant community (drinking water, animal and human health)" (p99) | M14: N | N14: N | O14: Vision 2030: the Chad we want: implementing and monitoring national strategies for social protection and universal health care (no details of monitoring) | P14: N | Q14: N - no any M&E framework/steps are given | R14: Ministry of Public Health (for different projects) (p78, p90); Ministry of Health (p25)
A15: Congo (DRC) | B15: 2021 | C15: 2022-2026 | D15: National | E15: Food insecurity, water-borne diseases, Increased mortality and morbidity rate in women and children from 0 to 5 (p41) | F15: N | G15: "Active management of the environmental dimension of health" (p25). Recommend to "Establish standard methodologies and carry out further vulnerability/risk assessments for key areas at the national level [including health]" (p43). (considered for vulnerability, collaboration criterion) | H15: "Public health services targeting populations at risk" (p41); "Improved access to health services by poor populations that are vulnerable to climate change" (p62) | I15: N | J15: N | K15: Y - "Increased mortality and morbidity rate in women and children from 0 to 5" (p41); "The women are not accepted by the Bantu women in accessing social infrastructure (maternity units, health centres) [are facing climate change-related risks]" (p54) | L15: Y - "Public health services targeting populations at risk" (p41); "Improved access to health services by poor populations that are vulnerable to climate change" (p62) | M15: N | N15: Y - "Establish standard methodologies and carry out further vulnerability/risk assessments for key areas at the national level [including health]" (p43). | O15: N | P15: This report suggested to have next step towards detailed NAP with guidelines. | Q15: N - the report suggests to have provincial and local functional coordination and monitoring bodies (considered for collaboration criterion) by integrating the main divisions representing ministries such as Health (p50) | R15: No responsible agency idientified | S15: - Estimated cost for improved access to health services by poor populations that are vulnerable to climate change USD 500 million (p.62) - Estimated cost for other sectors which affect health (p.62)
A16: Ethiopia | B16: 2019 | C16: N | D16: National | E16: vector and water borne disease; severe malnutrition; increase in flood incidence and displacement (p20); The report futher give detailed health impacts by regions on p53-55: Increased communicable disease, decrease of productive human power, malaria, malnutrition, Increased water borne diseases, death | F16: Y - "Reduced animal health, growth and reproduction" (p19) | G16: "Access to improved water, sanitation and health systems will be enhanced" (P26); "Improvement human health systems based on an integrated health and environmental surveillance protocol"; Prevention of climate sensitive disease prevention and management (p27) A special focus on water area - minimizing downstream flood risks to proect health (p27). | H16: Improving basic health services, esp the health extension system (p27) - % of health workers aware of climate change impacts (p58) (this is about being aware, but not trained) | I16: N | J16: Improving emergency medical service (p27) | K16: N | L16: N | M16: N | N16: N | O16: Y | P16: “Human health index reports (p57); % of target population covered by environment and health surveillance systems integrating climate change; % of health workers aware of climate change impacts (p58)” | Q16: Y - General Framework is planned. Although there is no health specific one, the report gives the column of Means of Verification that we can trace to check the progress. | R16: Ministry of Health; Institute of Public Health; Universities, and Research Centers (p58)
A17: Fiji | B17: 2018 | C17: - A list of the adaptation actions to be prioritised over the next 5 years (p.v). - Health adaptation strategies (some are ongoing, some are with 5 years timescale) (E13p.70-72) | D17: National | E17: - Dengue fever, typhoid fever, leptospirosis, and diarrhoeal disease (p24); Diffuse effects: Disorders of mental/psycho-social health Non-communicable diseases Health system deficiencies; Indirect effects: Water security & safety (including water-borne diseases) Food security & safety (including malnutrition & food-borne diseases) Vector-borne diseases Zoonoses Disorders of the eyes, ears, skin, and other body systems (p25); The report further indicate "extensive mental health impacts such as trauma and stress" (p69) - four main climate-sensitive diseases identified: dengue fever, typhoid fever, leptospirosis, and diarrhoeal disease - Indirect effects: water-borne diseases, malnutrition & food-borne diseases, vector-borne diseases, zoonoses, disorders of the eyes, ears, skin, and other body systems - Diffuse effects: disorders of mental/psycho-social health, non-communicable diseases, health system deficiencies - limited capacity to manage and adapt to the health risk due to climate change - health impacts are attributed to high temperature, extreme rainfall, flood, cyclone (nothing about any health risk associated with the sea level rise?) - rural population experience greater health care constraints, such as higher travel costs and longer waiting times - Constraints impact women more than men as they have additional reproductive, care giving, and subsistence responsibilities - Women often only use local services, rather than divisional hospitals, due to time constraints and transportation costs, increasing the risk of developing advanced dangerous health conditions | F17: - extensive death of fish and other marine life (p.27) | G17: - Identifying and protecting the health of low-income and otherwise disadvantaged groups should be a particular priority (p.70) - Health is an important sector within the National Development Plan of 20 years (p.70) - Existing health focused institutional arrangements: Climate Change and Health Steering Committee, Climate Change and Health Advisory Working Group (p.70) (cross-sector collaboration) - Strategy to establish and strengthen a formal link of above entities to the National Climate Change Coordinating Committee to support the incorporation of health agenda in national, regional and global platform; and ensuring effective coordination of risk management and resilience for communicable diseases, health emergencies, climate change and natural disasters and climate sensitive environmental health determinants (p.70) (cross-sector collaboration) - Strengthen and empower the Climate Change and Health Unit by increasing resources and personnel (p.71) - Identify and prioritise adaptation needs and associated health risk exposures of communities and populations most vulnerable (p.71) - ensure legislations, policies and designs are used for new health facilities to prevent vulnerability (p.71) - Develop policies that reflect health protection from climate risks and disaster risks (p.72) - Develop waste management standards for the transport industry to ensure waste is either reused or disposed/incinerated in a manner which is not harmful to human health or the health of the environment (p.83) (coordinated management) | H17: - piloting a web based reporting system that includes climate and climate sensitive diseases and emerging health concerns (exposure, adaptive capacity) through strengthened partnership and cooperation within the Ministry of Health and Medical Services, and between the relevant ministries and stakeholders particularly with Fiji Meteorology Services (p.70) - Enhance the resilience of the National Health System by developing the capacity of health workers on health and climate change adaptation and disaster risk reduction, and in the field of disaster medicine (p.71) - Preparation, translation, printing and distribution of information brochures combined with TV and radio shows about the impact of climate change and appropriate response on health and protection measures (p.72) | I17: - Retrofit the existing and installing innovative structures, energy and water supplies, and medicines and equipment efficiency (p.71) - Repair and reconstruct through the ‘build back better’ concept of health infrastructure affected by disasters (p.71) - Improve diagnostic and treatment capacities of health care infrastructure at all levels (p.71) | J17: - Enhance the resilience of the National Health System by developing the capacity of health workers on health and climate change adaptation and disaster risk reduction, and in the field of disaster medicine (p.71) | K17: - People living in rural areas experience greater health care constraints, such as higher travel costs and longer waiting times (p.69) - Impact women more than men as they have additional reproductive, care giving, and subsistence responsibilities (p.69) - Women often only use local services, rather than divisional hospitals, due to time constraints and transportation costs, increasing the risk of developing advanced dangerous health conditions (p.70) | L17: - Identifying and protecting the health of low-income and otherwise disadvantaged groups should be a particular priority as they will disproportionately experience climate change impacts on health (p.70) | M17: - Preparation, translation, printing and distribution of information brochures combined with TV and radio shows about the impact of climate change and appropriate response on health and protection measures (p.72) | O17: - Data collection should be conducted and shared by any entities which have implemented NAP actions. It is believed that much of ‘outputs’ data will come from Government Ministries who have either directly executed actions or have acted as implementers and overseen the execution of actions by others such as community-based or non-governmental organisations (p.90) - The monitoring and evaluation system should capture both processes and outcomes (p.90) | R17: - Ministry of Health and Medical Services is mentioned in Figure 23 (p.46), but nowhere is mentioned that this will be responsible for implementing NAP plans related to health. | T17: - Support from the NAP Global Network to prepare National Adaptation Plan - Participation of national and sub-national governments, civil society, private sectors and academics | U17: - The inclusion of health as a sector within the NAP is paramount due to Section 38 of the 2013 Constitution of the Republic of Fiji which requires the State to take ‘reasonable measures within its available resources to achieve the progressive realisation of the right of every person to health, and to the conditions and facilities necessary to good health, and to health care services, including reproductive health care’ (p.69) - '- application of relevant legislations, policies and other reviewed standard health building designs and ensure such legislations, policies and designs are used for new health facilities to prevent vulnerability to CC impacts (apply in phases for existing that were not affected by TC Winston – Phase 1 & Phase 11).” (p71);
