Workbook

Sheet Raw
D1: Oxalis | F1: Other Compositae | H1: Senecio | J1: Euphorbia | L1: Malva | N1: Chrysanthenum | P1: Lathyrus | R1: Other Compositae | T1: Other Compositae | V1: Fumaria | X1: Grasses | Z1: Grasses | AB1: Grasses | AD1: https://flora-on.pt/#/1gladiolus | AT1: Grasses | AV1: Other Compositae | BJ1: Other Compositae | BT1: Other Compositae | BV1: Polycarpon tetraphyllum | BX1: Solanum sp. | CF1: Grasses | CL1: Anagallis | CP1: Arisarum
D2: Oxalis | F2: Hypochaeris | H2: Senecio vulgaris | J2: Euphorbia | L2: Malva | N2: Chrysanthenum | P2: Lathyrus | R2: Crepis | T2: Picris | V2: Fumaria | X2: Erva | Z2: Poa (Grass B) | AB2: Vulpia | AD2: Gladiolus | AF2: Geranium sp | AH2: Sonchus sp. | AJ2: Erodium muscatum | AL2: Carlina | AN2: unknown | AP2: Sisymbrium | AR2: Echium sp | AT2: Bromus sp | AV2: Andryala sp | AX2: Centaura sp | AZ2: Conyza sp | BB2: Allium | BD2: Orobanche sp | BF2: Convulvus or Aristolochia | BH2: Urospermum sp | BJ2: Aetheorhiza sp | BL2: Medicago sp | BN2: outro FC 7 e 8 | BP2: Urtica sp | BR2: Stelaria | BT2: Forb A | BV2: Polycarpon | BX2: Solanum sp. | BZ2: Asparagaceae | CB2: Silene | CD2: Trifolium | CF2: relva | CH2: Papaver | CJ2: Sherardia | CL2: Anagallis | CN2: Calamintha | CP2: Arisarum | CR2: Dead grass
A3: Date | B3: Quadrat | C3: area (m2) | D3: Density | E3: Weight | F3: Density | G3: Weight | H3: Density | I3: Weight | J3: Density | K3: Weight | L3: Density | M3: Weight | N3: Density | O3: Weight | P3: Density | Q3: Weight | R3: Density | S3: Weight | T3: Density | U3: Weight | V3: Density | W3: Weight | X3: Density | Y3: Weight | Z3: Density | AA3: Weight | AB3: Density | AC3: Weight | AD3: Density | AE3: Weight | AF3: Density | AG3: Weight | AH3: Density | AI3: Weight | AJ3: Density | AK3: Weight | AL3: Density | AM3: Weight | AN3: Density | AO3: Weight | AP3: Density | AQ3: Weight | AR3: Density | AS3: Weight | AT3: Density | AU3: Weight | AV3: Density | AW3: Weight | AX3: Density | AY3: Weight | AZ3: Density | BA3: Weight | BB3: Density | BC3: Weight | BD3: Density | BE3: Weight | BF3: Density | BG3: Weight | BH3: Density | BI3: Weight | BJ3: Density | BK3: Weight | BL3: Density | BM3: Weight | BN3: Density | BO3: Weight | BP3: Density | BQ3: Weight | BR3: Density | BS3: Weight | BT3: Density | BU3: Weight | BV3: Density | BW3: Weight | BX3: Density | BY3: Weight | BZ3: Density | CA3: Weight | CB3: Density | CC3: Weight | CD3: Density | CE3: Weight | CF3: Density | CG3: Weight | CH3: Density | CI3: Weight | CJ3: Density | CK3: Weight | CL3: Density | CM3: Weight | CN3: Density | CO3: Weight | CP3: Density | CQ3: Weight | CR3: Density | CS3: Weight
A4: 44201 | B4: FA1 | C4: =0.4*0.4 -> 0.16 | D4: 113 | E4: 25.8 | F4: =1+28 -> 29 | G4: =29.14+0.85 -> 29.99 | H4: 0 | I4: 0 | J4: 0 | K4: 0 | L4: 0 | M4: 0 | N4: 0 | O4: 0 | P4: 0 | Q4: 0 | X4: 3 | Y4: 0.6 | Z4: 0 | AA4: 0 | AB4: 0 | AC4: 0 | AD4: 0 | AE4: 0 | AF4: 0 | AG4: 0 | AH4: 0 | AI4: 0 | AJ4: 0 | AK4: 0 | AL4: 0 | AM4: 0 | AN4: 0 | AO4: 0 | AP4: 0 | AQ4: 0 | AR4: 0 | AS4: 0 | AT4: 0 | AU4: 0 | AV4: 0 | AW4: 0 | AX4: 0 | AY4: 0 | AZ4: 0 | BA4: 0 | BB4: 0 | BC4: 0 | BD4: 0 | BE4: 0 | BF4: 0 | BG4: 0 | BH4: 0 | BI4: 0 | BJ4: 0 | BK4: 0 | BL4: 0 | BM4: 0 | BN4: 0 | BO4: 0 | BP4: 0 | BQ4: 0 | BR4: 0 | BS4: 0 | BT4: 0 | BU4: 0 | BV4: 0 | BW4: 0 | BX4: 0 | BY4: 0 | BZ4: 0 | CA4: 0 | CB4: 0 | CC4: 0 | CD4: 0 | CE4: 0 | CF4: 0 | CG4: 0 | CH4: 0 | CI4: 0 | CJ4: 0 | CK4: 0 | CL4: 0 | CM4: 0 | CN4: 0 | CO4: 0 | CP4: 0 | CQ4: 0 | CR4: 811 | CS4: =148.55+192.88 -> 341.43
A5: 44201 | B5: FA2 | C5: =0.4*0.4 -> 0.16 | D5: 64 | E5: =6.94+7.98 -> 14.92 | F5: =25+2 -> 27 | G5: =47.25+0.09 -> 47.34 | H5: 0 | I5: 0 | J5: 0 | K5: 0 | L5: 0 | M5: 0 | N5: 0 | O5: 0 | P5: 0 | Q5: 0 | X5: 0 | Y5: 0 | Z5: 0 | AA5: 0 | AB5: 0 | AC5: 0 | AD5: 0 | AE5: 0 | AF5: 0 | AG5: 0 | AH5: 0 | AI5: 0 | AJ5: 0 | AK5: 0 | AL5: 0 | AM5: 0 | AN5: 0 | AO5: 0 | AP5: 0 | AQ5: 0 | AR5: 0 | AS5: 0 | AT5: 0 | AU5: 0 | AV5: 0 | AW5: 0 | AX5: 0 | AY5: 0 | AZ5: 0 | BA5: 0 | BB5: 0 | BC5: 0 | BD5: 0 | BE5: 0 | BF5: 0 | BG5: 0 | BH5: 0 | BI5: 0 | BJ5: 0 | BK5: 0 | BL5: 0 | BM5: 0 | BN5: 0 | BO5: 0 | BP5: 0 | BQ5: 0 | BR5: 0 | BS5: 0 | BT5: 0 | BU5: 0 | BV5: 0 | BW5: 0 | BX5: 0 | BY5: 0 | BZ5: 0 | CA5: 0 | CB5: 0 | CC5: 0 | CD5: 0 | CE5: 0 | CF5: 0 | CG5: 0 | CH5: 0 | CI5: 0 | CJ5: 0 | CK5: 0 | CL5: 0 | CM5: 0 | CN5: 0 | CO5: 0 | CP5: 0 | CQ5: 0 | CR5: 811 | CS5: =CS$4 -> 341.43
A6: 44201 | B6: FA3 | C6: =0.4*0.4 -> 0.16 | D6: 119 | E6: 19 | F6: 5 | G6: =11.66+2.45 -> 14.11 | H6: 0 | I6: 0 | J6: 0 | K6: 0 | L6: 0 | M6: 0 | N6: 0 | O6: 0 | P6: 0 | Q6: 0 | X6: 2 | Y6: 0.1 | Z6: 0 | AA6: 0 | AB6: 0 | AC6: 0 | AD6: 0 | AE6: 0 | AF6: 0 | AG6: 0 | AH6: 0 | AI6: 0 | AJ6: 0 | AK6: 0 | AL6: 0 | AM6: 0 | AN6: 0 | AO6: 0 | AP6: 0 | AQ6: 0 | AR6: 0 | AS6: 0 | AT6: 0 | AU6: 0 | AV6: 0 | AW6: 0 | AX6: 0 | AY6: 0 | AZ6: 0 | BA6: 0 | BB6: 0 | BC6: 0 | BD6: 0 | BE6: 0 | BF6: 0 | BG6: 0 | BH6: 0 | BI6: 0 | BJ6: 0 | BK6: 0 | BL6: 0 | BM6: 0 | BN6: 0 | BO6: 0 | BP6: 0 | BQ6: 0 | BR6: 0 | BS6: 0 | BT6: 0 | BU6: 0 | BV6: 0 | BW6: 0 | BX6: 0 | BY6: 0 | BZ6: 0 | CA6: 0 | CB6: 0 | CC6: 0 | CD6: 0 | CE6: 0 | CF6: 0 | CG6: 0 | CH6: 0 | CI6: 0 | CJ6: 0 | CK6: 0 | CL6: 0 | CM6: 0 | CN6: 0 | CO6: 0 | CP6: 0 | CQ6: 0 | CR6: 811 | CS6: =CS$4 -> 341.43
A7: 44201 | B7: FA4 | C7: =0.4*0.4 -> 0.16 | D7: 137 | E7: 22.99 | F7: =1+3 -> 4 | G7: =0.3+0.04 -> 0.34 | H7: 1 | I7: 0.23 | J7: 0 | K7: 0 | L7: 0 | M7: 0 | N7: 0 | O7: 0 | P7: 0 | Q7: 0 | X7: 0 | Y7: 0 | Z7: 0 | AA7: 0 | AB7: 0 | AC7: 0 | AD7: 2 | AE7: 1.87 | AF7: 0 | AG7: 0 | AH7: 0 | AI7: 0 | AJ7: 0 | AK7: 0 | AL7: 0 | AM7: 0 | AN7: 4 | AO7: 0.02 | AP7: 0 | AQ7: 0 | AR7: 0 | AS7: 0 | AT7: 0 | AU7: 0 | AV7: 0 | AW7: 0 | AX7: 0 | AY7: 0 | AZ7: 0 | BA7: 0 | BB7: 0 | BC7: 0 | BD7: 0 | BE7: 0 | BF7: 0 | BG7: 0 | BH7: 0 | BI7: 0 | BJ7: 0 | BK7: 0 | BL7: 0 | BM7: 0 | BN7: 0 | BO7: 0 | BP7: 0 | BQ7: 0 | BR7: 0 | BS7: 0 | BT7: 0 | BU7: 0 | BV7: 0 | BW7: 0 | BX7: 0 | BY7: 0 | BZ7: 0 | CA7: 0 | CB7: 0 | CC7: 0 | CD7: 0 | CE7: 0 | CF7: 0 | CG7: 0 | CH7: 0 | CI7: 0 | CJ7: 0 | CK7: 0 | CL7: 0 | CM7: 0 | CN7: 0 | CO7: 0 | CP7: 0 | CQ7: 0 | CR7: 811 | CS7: =CS$4 -> 341.43
A8: 44201 | B8: FA5 | C8: =0.4*0.4 -> 0.16 | D8: 205 | E8: 32.12 | F8: =3+5 -> 8 | G8: =0.08+0.07 -> 0.15 | H8: 0 | I8: 0 | J8: 0 | K8: 0 | L8: 0 | M8: 0 | N8: 0 | O8: 0 | P8: 0 | Q8: 0 | X8: 0 | Y8: 0 | Z8: 0 | AA8: 0 | AB8: 0 | AC8: 0 | AD8: 0 | AE8: 0 | AF8: 0 | AG8: 0 | AH8: 0 | AI8: 0 | AJ8: 0 | AK8: 0 | AL8: 0 | AM8: 0 | AN8: 0 | AO8: 0 | AP8: 0 | AQ8: 0 | AR8: 0 | AS8: 0 | AT8: 0 | AU8: 0 | AV8: 0 | AW8: 0 | AX8: 0 | AY8: 0 | AZ8: 0 | BA8: 0 | BB8: 0 | BC8: 0 | BD8: 0 | BE8: 0 | BF8: 0 | BG8: 0 | BH8: 0 | BI8: 0 | BJ8: 0 | BK8: 0 | BL8: 0 | BM8: 0 | BN8: 0 | BO8: 0 | BP8: 0 | BQ8: 0 | BR8: 0 | BS8: 0 | BT8: 0 | BU8: 0 | BV8: 0 | BW8: 0 | BX8: 0 | BY8: 0 | BZ8: 0 | CA8: 0 | CB8: 0 | CC8: 0 | CD8: 0 | CE8: 0 | CF8: 0 | CG8: 0 | CH8: 0 | CI8: 0 | CJ8: 0 | CK8: 0 | CL8: 0 | CM8: 0 | CN8: 0 | CO8: 0 | CP8: 0 | CQ8: 0 | CR8: 811 | CS8: =CS$4 -> 341.43
A9: 44201 | B9: FA6 | C9: =0.4*0.4 -> 0.16 | D9: 295 | E9: 22.34 | F9: =13+1 -> 14 | G9: =28.52+0.11 -> 28.63 | H9: 0 | I9: 0 | J9: 0 | K9: 0 | L9: 0 | M9: 0 | N9: 0 | O9: 0 | P9: 0 | Q9: 0 | X9: 0 | Y9: 0 | Z9: 0 | AA9: 0 | AB9: 0 | AC9: 0 | AD9: 0 | AE9: 0 | AF9: 0 | AG9: 0 | AH9: 0 | AI9: 0 | AJ9: 0 | AK9: 0 | AL9: 0 | AM9: 0 | AN9: 0 | AO9: 0 | AP9: 0 | AQ9: 0 | AR9: 0 | AS9: 0 | AT9: 0 | AU9: 0 | AV9: 0 | AW9: 0 | AX9: 0 | AY9: 0 | AZ9: 0 | BA9: 0 | BB9: 0 | BC9: 0 | BD9: 0 | BE9: 0 | BF9: 0 | BG9: 0 | BH9: 0 | BI9: 0 | BJ9: 0 | BK9: 0 | BL9: 0 | BM9: 0 | BN9: 0 | BO9: 0 | BP9: 0 | BQ9: 0 | BR9: 0 | BS9: 0 | BT9: 0 | BU9: 0 | BV9: 0 | BW9: 0 | BX9: 0 | BY9: 0 | BZ9: 0 | CA9: 0 | CB9: 0 | CC9: 0 | CD9: 0 | CE9: 0 | CF9: 0 | CG9: 0 | CH9: 0 | CI9: 0 | CJ9: 0 | CK9: 0 | CL9: 0 | CM9: 0 | CN9: 0 | CO9: 0 | CP9: 0 | CQ9: 0 | CR9: 811 | CS9: =CS$4 -> 341.43
A10: 44201 | B10: FA7 | C10: =0.4*0.4 -> 0.16 | D10: 104 | E10: 16.35 | F10: 1 | G10: 0.1 | H10: 0 | I10: 0 | J10: 0 | K10: 0 | L10: 0 | M10: 0 | N10: 0 | O10: 0 | P10: 0 | Q10: 0 | X10: 1 | Y10: 0.08 | Z10: 0 | AA10: 0 | AB10: 0 | AC10: 0 | AD10: 0 | AE10: 0 | AF10: 0 | AG10: 0 | AH10: 1 | AI10: 1.56 | AJ10: 0 | AK10: 0 | AL10: 0 | AM10: 0 | AN10: 0 | AO10: 0 | AP10: 1 | AQ10: 0.16 | AR10: 0 | AS10: 0 | AT10: 0 | AU10: 0 | AV10: 0 | AW10: 0 | AX10: 0 | AY10: 0 | AZ10: 0 | BA10: 0 | BB10: 0 | BC10: 0 | BD10: 0 | BE10: 0 | BF10: 0 | BG10: 0 | BH10: 0 | BI10: 0 | BJ10: 0 | BK10: 0 | BL10: 0 | BM10: 0 | BN10: 0 | BO10: 0 | BP10: 0 | BQ10: 0 | BR10: 0 | BS10: 0 | BT10: 0 | BU10: 0 | BV10: 0 | BW10: 0 | BX10: 0 | BY10: 0 | BZ10: 0 | CA10: 0 | CB10: 0 | CC10: 0 | CD10: 0 | CE10: 0 | CF10: 0 | CG10: 0 | CH10: 0 | CI10: 0 | CJ10: 0 | CK10: 0 | CL10: 0 | CM10: 0 | CN10: 0 | CO10: 0 | CP10: 0 | CQ10: 0 | CR10: 811 | CS10: =CS$4 -> 341.43
A11: 44274 | B11: FA8 | C11: =0.4*0.4 -> 0.16 | D11: 80 | E11: =19.25-5.49 -> 13.76 | F11: 11 | G11: =27.98-10.57 -> 17.41 | H11: 0 | I11: 0 | J11: 0 | K11: 0 | L11: 0 | M11: 0 | N11: 0 | O11: 0 | P11: 0 | Q11: 0 | X11: 0 | Y11: 0 | Z11: 0 | AA11: 0 | AB11: 0 | AC11: 0 | AD11: 0 | AE11: 0 | AF11: 0 | AG11: 0 | AH11: 0 | AI11: 0 | AJ11: 0 | AK11: 0 | AL11: 0 | AM11: 0 | AN11: 0 | AO11: 0 | AP11: 0 | AQ11: 0 | AR11: 0 | AS11: 0 | AT11: 0 | AU11: 0 | AV11: 3 | AW11: =10.89-3.04 -> 7.85 | AX11: 1 | AY11: =3-2.73 -> 0.27 | AZ11: 0 | BA11: 0 | BB11: 0 | BC11: 0 | BD11: 0 | BE11: 0 | BF11: 0 | BG11: 0 | BH11: 0 | BI11: 0 | BJ11: 0 | BK11: 0 | BL11: 0 | BM11: 0 | BN11: 0 | BO11: 0 | BP11: 0 | BQ11: 0 | BR11: 0 | BS11: 0 | BT11: 0 | BU11: 0 | BV11: 0 | BW11: 0 | BX11: 0 | BY11: 0 | BZ11: 0 | CA11: 0 | CB11: 0 | CC11: 0 | CD11: 0 | CE11: 0 | CF11: 0 | CG11: 0 | CH11: 0 | CI11: 0 | CJ11: 0 | CK11: 0 | CL11: 0 | CM11: 0 | CN11: 0 | CO11: 0 | CP11: 0 | CQ11: 0 | CR11: 811 | CS11: =CS$4 -> 341.43
A12: 44274 | B12: FA9 | C12: =0.45*0.4 -> 0.18 | D12: =6+4+59+22+10+1+14 -> 116 | E12: =57.19-35.46 -> 21.73 | F12: =2+12 -> 14 | G12: =119.71-95.08+4.71-4.61 -> 24.73 | H12: 0 | I12: 0 | J12: 0 | K12: 0 | L12: 0 | M12: 0 | N12: 0 | O12: 0 | P12: 0 | Q12: 0 | X12: 1 | Y12: =4.92-4.59 -> 0.33 | Z12: 0 | AA12: 0 | AB12: 0 | AC12: 0 | AD12: 0 | AE12: 0 | AF12: 0 | AG12: 0 | AH12: 1 | AI12: =64.52-43.29 -> 21.23 | AJ12: 0 | AK12: 0 | AL12: 0 | AM12: 0 | AN12: 0 | AO12: 0 | AP12: 0 | AQ12: 0 | AR12: 0 | AS12: 0 | AT12: 0 | AU12: 0 | AV12: 0 | AW12: 0 | AX12: 0 | AY12: 0 | AZ12: 0 | BA12: 0 | BB12: 0 | BC12: 0 | BD12: 0 | BE12: 0 | BF12: 0 | BG12: 0 | BH12: 0 | BI12: 0 | BJ12: 0 | BK12: 0 | BL12: 0 | BM12: 0 | BN12: 0 | BO12: 0 | BP12: 0 | BQ12: 0 | BR12: 0 | BS12: 0 | BT12: 0 | BU12: 0 | BV12: 0 | BW12: 0 | BX12: 0 | BY12: 0 | BZ12: 0 | CA12: 0 | CB12: 0 | CC12: 0 | CD12: 0 | CE12: 0 | CF12: 0 | CG12: 0 | CH12: 0 | CI12: 0 | CJ12: 0 | CK12: 0 | CL12: 0 | CM12: 0 | CN12: 0 | CO12: 0 | CP12: 0 | CQ12: 0 | CR12: 811 | CS12: =CS$4 -> 341.43
A13: 44274 | B13: FA10 | C13: =0.4*0.4 -> 0.16 | D13: =59+32+6+4 -> 101 | E13: =22.9-5.5 -> 17.4 | F13: =3+6 -> 9 | G13: =110.15-70.51+4.6-4.59 -> 39.65 | H13: 0 | I13: 0 | J13: 0 | K13: 0 | L13: 0 | M13: 0 | N13: 0 | O13: 0 | P13: 0 | Q13: 0 | X13: 0 | Y13: 0 | Z13: 0 | AA13: 0 | AB13: 0 | AC13: 0 | AD13: 0 | AE13: 0 | AF13: 0 | AG13: 0 | AH13: 5 | AI13: =22.09-5.38 -> 16.71 | AJ13: 0 | AK13: 0 | AL13: 0 | AM13: 0 | AN13: 0 | AO13: 0 | AP13: 0 | AQ13: 0 | AR13: 0 | AS13: 0 | AT13: 0 | AU13: 0 | AV13: 0 | AW13: 0 | AX13: 0 | AY13: 0 | AZ13: 0 | BA13: 0 | BB13: 0 | BC13: 0 | BD13: 0 | BE13: 0 | BF13: 0 | BG13: 0 | BH13: 0 | BI13: 0 | BJ13: 0 | BK13: 0 | BL13: 0 | BM13: 0 | BN13: 0 | BO13: 0 | BP13: 0 | BQ13: 0 | BR13: 0 | BS13: 0 | BT13: 0 | BU13: 0 | BV13: 0 | BW13: 0 | BX13: 0 | BY13: 0 | BZ13: 0 | CA13: 0 | CB13: 0 | CC13: 0 | CD13: 0 | CE13: 0 | CF13: 0 | CG13: 0 | CH13: 0 | CI13: 0 | CJ13: 0 | CK13: 0 | CL13: 0 | CM13: 0 | CN13: 0 | CO13: 0 | CP13: 0 | CQ13: 0 | CR13: 811 | CS13: =CS$4 -> 341.43
A14: 44275 | B14: FA11 | C14: =0.4*0.4 -> 0.16 | D14: =79+16+32+2 -> 129 | E14: =22.52-6.92 -> 15.6 | F14: =29 -> 29 | G14: =23.34-5.42 -> 17.92 | H14: 0 | I14: 0 | J14: 0 | K14: 0 | L14: 0 | M14: 0 | N14: 0 | O14: 0 | P14: 0 | Q14: 0 | X14: 0 | Y14: 0 | Z14: 0 | AA14: 0 | AB14: 0 | AC14: 0 | AD14: 0 | AE14: 0 | AF14: 0 | AG14: 0 | AH14: 0 | AI14: 0 | AJ14: 0 | AK14: 0 | AL14: 1 | AM14: =39.61-5.41 -> 34.2 | AN14: 0 | AO14: 0 | AP14: 0 | AQ14: 0 | AR14: 0 | AS14: 0 | AT14: 0 | AU14: 0 | AV14: 0 | AW14: 0 | AX14: 0 | AY14: 0 | AZ14: 0 | BA14: 0 | BB14: 0 | BC14: 0 | BD14: 0 | BE14: 0 | BF14: 0 | BG14: 0 | BH14: 0 | BI14: 0 | BJ14: 0 | BK14: 0 | BL14: 0 | BM14: 0 | BN14: 0 | BO14: 0 | BP14: 0 | BQ14: 0 | BR14: 0 | BS14: 0 | BT14: 0 | BU14: 0 | BV14: 0 | BW14: 0 | BX14: 0 | BY14: 0 | BZ14: 0 | CA14: 0 | CB14: 0 | CC14: 0 | CD14: 0 | CE14: 0 | CF14: 0 | CG14: 0 | CH14: 0 | CI14: 0 | CJ14: 0 | CK14: 0 | CL14: 0 | CM14: 0 | CN14: 0 | CO14: 0 | CP14: 0 | CQ14: 0 | CR14: 811 | CS14: =CS$4 -> 341.43
A15: 44276 | B15: FA12 | C15: =0.4*0.4 -> 0.16 | D15: =63+35+2 -> 100 | E15: =16.77-5.55 -> 11.22 | F15: 6 | G15: =21.36-7.52 -> 13.84 | H15: 0 | I15: 0 | J15: 0 | K15: 0 | L15: 0 | M15: 0 | N15: 0 | O15: 0 | P15: 0 | Q15: 0 | X15: 0 | Y15: 0 | Z15: 0 | AA15: 0 | AB15: 0 | AC15: 0 | AD15: 0 | AE15: 0 | AF15: 0 | AG15: 0 | AH15: 0 | AI15: 0 | AJ15: 0 | AK15: 0 | AL15: 1 | AM15: =10.4-5.82 -> 4.58 | AN15: 0 | AO15: 0 | AP15: 0 | AQ15: 0 | AR15: 0 | AS15: 0 | AT15: 0 | AU15: 0 | AV15: 0 | AW15: 0 | AX15: 0 | AY15: 0 | AZ15: 0 | BA15: 0 | BB15: 0 | BC15: 0 | BD15: 0 | BE15: 0 | BF15: 0 | BG15: 0 | BH15: 0 | BI15: 0 | BJ15: 0 | BK15: 0 | BL15: 0 | BM15: 0 | BN15: 0 | BO15: 0 | BP15: 0 | BQ15: 0 | BR15: 0 | BS15: 0 | BT15: 0 | BU15: 0 | BV15: 0 | BW15: 0 | BX15: 0 | BY15: 0 | BZ15: 0 | CA15: 0 | CB15: 0 | CC15: 0 | CD15: 0 | CE15: 0 | CF15: 0 | CG15: 0 | CH15: 0 | CI15: 0 | CJ15: 0 | CK15: 0 | CL15: 0 | CM15: 0 | CN15: 0 | CO15: 0 | CP15: 0 | CQ15: 0 | CR15: 811 | CS15: =CS$4 -> 341.43
A16: 44277 | B16: FA13 | C16: =0.4*0.4 -> 0.16 | D16: =70+39 -> 109 | E16: =22.14-4.58 -> 17.56 | F16: 9 | G16: =27.58-7.3 -> 20.28 | H16: 0 | I16: 0 | J16: 0 | K16: 0 | L16: 0 | M16: 0 | N16: 0 | O16: 0 | P16: 0 | Q16: 0 | X16: 0 | Y16: 0 | Z16: 0 | AA16: 0 | AB16: 0 | AC16: 0 | AD16: 0 | AE16: 0 | AF16: 0 | AG16: 0 | AH16: 0 | AI16: 0 | AJ16: 0 | AK16: 0 | AL16: 0 | AM16: 0 | AN16: 0 | AO16: 0 | AP16: 0 | AQ16: 0 | AR16: 0 | AS16: 0 | AT16: 0 | AU16: 0 | AV16: 0 | AW16: 0 | AX16: 0 | AY16: 0 | AZ16: 0 | BA16: 0 | BB16: 0 | BC16: 0 | BD16: 0 | BE16: 0 | BF16: 0 | BG16: 0 | BH16: 0 | BI16: 0 | BJ16: 0 | BK16: 0 | BL16: 0 | BM16: 0 | BN16: 0 | BO16: 0 | BP16: 0 | BQ16: 0 | BR16: 0 | BS16: 0 | BT16: 0 | BU16: 0 | BV16: 0 | BW16: 0 | BX16: 0 | BY16: 0 | BZ16: 0 | CA16: 0 | CB16: 0 | CC16: 0 | CD16: 0 | CE16: 0 | CF16: 0 | CG16: 0 | CH16: 0 | CI16: 0 | CJ16: 0 | CK16: 0 | CL16: 0 | CM16: 0 | CN16: 0 | CO16: 0 | CP16: 0 | CQ16: 0 | CR16: 811 | CS16: =CS$4 -> 341.43
A17: 44281 | B17: FA14 | C17: =0.4*0.4 -> 0.16 | D17: =64+24 -> 88 | E17: =18.87-5.29 -> 13.58 | F17: 17 | G17: =130.18-95.7 -> 34.48 | H17: 0 | I17: 0 | J17: 0 | K17: 0 | L17: 0 | M17: 0 | N17: 0 | O17: 0 | P17: 0 | Q17: 0 | X17: 1 | Y17: =5.4-4.53 -> 0.87 | Z17: 0 | AA17: 0 | AB17: 0 | AC17: 0 | AD17: 0 | AE17: 0 | AF17: 0 | AG17: 0 | AH17: 0 | AI17: 0 | AJ17: 0 | AK17: 0 | AL17: 0 | AM17: 0 | AN17: 0 | AO17: 0 | AP17: 0 | AQ17: 0 | AR17: 0 | AS17: 0 | AT17: 0 | AU17: 0 | AV17: 0 | AW17: 0 | AX17: 0 | AY17: 0 | AZ17: 0 | BA17: 0 | BB17: 0 | BC17: 0 | BD17: 0 | BE17: 0 | BF17: 0 | BG17: 0 | BH17: 0 | BI17: 0 | BJ17: 0 | BK17: 0 | BL17: 0 | BM17: 0 | BN17: 0 | BO17: 0 | BP17: 0 | BQ17: 0 | BR17: 0 | BS17: 0 | BT17: 0 | BU17: 0 | BV17: 0 | BW17: 0 | BX17: 0 | BY17: 0 | BZ17: 0 | CA17: 0 | CB17: 0 | CC17: 0 | CD17: 0 | CE17: 0 | CF17: 0 | CG17: 0 | CH17: 0 | CI17: 0 | CJ17: 0 | CK17: 0 | CL17: 0 | CM17: 0 | CN17: 0 | CO17: 0 | CP17: 0 | CQ17: 0 | CR17: 811 | CS17: =CS$4 -> 341.43
A18: 44281 | B18: FA15 | C18: =0.4*0.4 -> 0.16 | D18: =62+12+7 -> 81 | E18: =14.8-5.35 -> 9.45 | F18: 0 | G18: 0 | H18: 0 | I18: 0 | J18: 0 | K18: 0 | L18: 0 | M18: 0 | N18: 0 | O18: 0 | P18: 0 | Q18: 0 | X18: 1 | Z18: 0 | AA18: 0 | AB18: 0 | AC18: 0 | AD18: 0 | AE18: 0 | AF18: 0 | AG18: 0 | AH18: 0 | AI18: 0 | AJ18: 0 | AK18: 0 | AL18: 2 | AM18: =36.64-5.2 -> 31.44 | AN18: 0 | AO18: 0 | AP18: 0 | AQ18: 0 | AR18: 0 | AS18: 0 | AT18: 0 | AU18: 0 | AV18: 0 | AW18: 0 | AX18: 0 | AY18: 0 | AZ18: 0 | BA18: 0 | BB18: 0 | BC18: 0 | BD18: 0 | BE18: 0 | BF18: 0 | BG18: 0 | BH18: 0 | BI18: 0 | BJ18: 0 | BK18: 0 | BL18: 0 | BM18: 0 | BN18: 0 | BO18: 0 | BP18: 0 | BQ18: 0 | BR18: 0 | BS18: 0 | BT18: 0 | BU18: 0 | BV18: 0 | BW18: 0 | BX18: 0 | BY18: 0 | BZ18: 0 | CA18: 0 | CB18: 0 | CC18: 0 | CD18: 0 | CE18: 0 | CF18: 0 | CG18: 0 | CH18: 0 | CI18: 0 | CJ18: 0 | CK18: 0 | CL18: 0 | CM18: 0 | CN18: 0 | CO18: 0 | CP18: 0 | CQ18: 0 | CR18: 811 | CS18: =CS$4 -> 341.43
A19: 44282 | B19: FA16 | C19: =0.4*0.4 -> 0.16 | D19: 39 | E19: =4.88-4.61+6.78-3.01 -> 4.04 | F19: 7 | G19: =4.86-2.8 -> 2.06 | H19: 0 | I19: 0 | J19: 0 | K19: 0 | L19: 0 | M19: 0 | N19: 0 | O19: 0 | P19: 1 | Q19: =4.77-4.6 -> 0.17 | X19: 5 | Y19: =4.55-3.42 -> 1.13 | Z19: 0 | AA19: 0 | AB19: 0 | AC19: 0 | AD19: 2 | AE19: =4.42-2.79 -> 1.63 | AF19: 0 | AG19: 0 | AH19: 3 | AI19: =16.61-5.66+19.13-5.66 -> 24.42 | AJ19: 0 | AK19: 0 | AL19: 0 | AM19: 0 | AN19: 0 | AO19: 0 | AP19: 0 | AQ19: 0 | AR19: 0 | AS19: 0 | AT19: 0 | AU19: 0 | AV19: 0 | AW19: 0 | AX19: 0 | AY19: 0 | AZ19: 1 | BA19: =43.82-7.61 -> 36.21 | BB19: 2 | BC19: =4.42-2.79 -> 1.63 | BD19: 0 | BE19: 0 | BF19: 0 | BG19: 0 | BH19: 0 | BI19: 0 | BJ19: 0 | BK19: 0 | BL19: 0 | BM19: 0 | BN19: 0 | BO19: 0 | BP19: 0 | BQ19: 0 | BR19: 0 | BS19: 0 | BT19: 0 | BU19: 0 | BV19: 0 | BW19: 0 | BX19: 0 | BY19: 0 | BZ19: 0 | CA19: 0 | CB19: 0 | CC19: 0 | CD19: 0 | CE19: 0 | CF19: 0 | CG19: 0 | CH19: 0 | CI19: 0 | CJ19: 0 | CK19: 0 | CL19: 0 | CM19: 0 | CN19: 0 | CO19: 0 | CP19: 0 | CQ19: 0 | CR19: 811 | CS19: =CS$4 -> 341.43
A20: 44282 | B20: FA17 | C20: =0.4*0.4 -> 0.16 | D20: =49+46+17+3 -> 115 | E20: =22.96-5.43 -> 17.53 | F20: 9 | G20: =3.76-3.44 -> 0.32 | H20: 0 | I20: 0 | J20: 0 | K20: 0 | L20: 0 | M20: 0 | N20: 0 | O20: 0 | P20: 2 | Q20: =18.38-7.66 -> 10.72 | X20: 6 | Y20: =7.88-5.92 -> 1.96 | Z20: 0 | AA20: 0 | AB20: 0 | AC20: 0 | AD20: 0 | AE20: 0 | AF20: 0 | AG20: 0 | AH20: 0 | AI20: 0 | AJ20: 0 | AK20: 0 | AL20: 1 | AM20: =8.7-5.41 -> 3.29 | AN20: 0 | AO20: 0 | AP20: 0 | AQ20: 0 | AR20: 0 | AS20: 0 | AT20: 0 | AU20: 0 | AV20: 0 | AW20: 0 | AX20: 0 | AY20: 0 | AZ20: 0 | BA20: 0 | BB20: 0 | BC20: 0 | BD20: 0 | BE20: 0 | BF20: 0 | BG20: 0 | BH20: 0 | BI20: 0 | BJ20: 0 | BK20: 0 | BL20: 0 | BM20: 0 | BN20: 0 | BO20: 0 | BP20: 0 | BQ20: 0 | BR20: 0 | BS20: 0 | BT20: 0 | BU20: 0 | BV20: 0 | BW20: 0 | BX20: 0 | BY20: 0 | BZ20: 0 | CA20: 0 | CB20: 0 | CC20: 0 | CD20: 0 | CE20: 0 | CF20: 0 | CG20: 0 | CH20: 0 | CI20: 0 | CJ20: 0 | CK20: 0 | CL20: 0 | CM20: 0 | CN20: 0 | CO20: 0 | CP20: 0 | CQ20: 0 | CR20: 811 | CS20: =CS$4 -> 341.43
A21: 44282 | B21: FA18 | C21: =0.4*0.4 -> 0.16 | D21: =56+62 -> 118 | E21: =20.53-5.66 -> 14.87 | F21: 0 | G21: 0 | H21: 0 | I21: 0 | J21: 0 | K21: 0 | L21: 0 | M21: 0 | N21: 0 | O21: 0 | P21: 0 | Q21: 0 | X21: 1 | Y21: =3.54-2.96 -> 0.58 | Z21: 0 | AA21: 0 | AB21: 0 | AC21: 0 | AD21: 0 | AE21: 0 | AF21: 0 | AG21: 0 | AH21: 1 | AI21: =10.29-5.67 -> 4.62 | AJ21: 0 | AK21: 0 | AL21: 0 | AM21: 0 | AN21: 0 | AO21: 0 | AP21: 0 | AQ21: 0 | AR21: 0 | AS21: 0 | AT21: 0 | AU21: 0 | AV21: 0 | AW21: 0 | AX21: 0 | AY21: 0 | AZ21: 0 | BA21: 0 | BB21: 0 | BC21: 0 | BD21: 0 | BE21: 0 | BF21: 0 | BG21: 0 | BH21: 0 | BI21: 0 | BJ21: 0 | BK21: 0 | BL21: 0 | BM21: 0 | BN21: 0 | BO21: 0 | BP21: 0 | BQ21: 0 | BR21: 0 | BS21: 0 | BT21: 0 | BU21: 0 | BV21: 0 | BW21: 0 | BX21: 0 | BY21: 0 | BZ21: 0 | CA21: 0 | CB21: 0 | CC21: 0 | CD21: 0 | CE21: 0 | CF21: 0 | CG21: 0 | CH21: 0 | CI21: 0 | CJ21: 0 | CK21: 0 | CL21: 0 | CM21: 0 | CN21: 0 | CO21: 0 | CP21: 0 | CQ21: 0 | CR21: 811 | CS21: =CS$4 -> 341.43
A22: 44282 | B22: FA19 | C22: =0.4*0.4 -> 0.16 | D22: =61+27 -> 88 | E22: =22.84-5.67 -> 17.17 | F22: 0 | G22: 0 | H22: 0 | I22: 0 | J22: 0 | K22: 0 | L22: 0 | M22: 0 | N22: 0 | O22: 0 | P22: 0 | Q22: 0 | X22: 2 | Y22: =6.91-5.36 -> 1.55 | Z22: 0 | AA22: 0 | AB22: 0 | AC22: 0 | AD22: 0 | AE22: 0 | AF22: 0 | AG22: 0 | AH22: 0 | AI22: 0 | AJ22: 0 | AK22: 0 | AL22: 1 | AM22: =73.73-36.42 -> 37.31 | AN22: 0 | AO22: 0 | AP22: 0 | AQ22: 0 | AR22: 0 | AS22: 0 | AT22: 0 | AU22: 0 | AV22: 0 | AW22: 0 | AX22: 0 | AY22: 0 | AZ22: 0 | BA22: 0 | BB22: 0 | BC22: 0 | BD22: 0 | BE22: 0 | BF22: 0 | BG22: 0 | BH22: 0 | BI22: 0 | BJ22: 0 | BK22: 0 | BL22: 0 | BM22: 0 | BN22: 0 | BO22: 0 | BP22: 0 | BQ22: 0 | BR22: 0 | BS22: 0 | BT22: 0 | BU22: 0 | BV22: 0 | BW22: 0 | BX22: 0 | BY22: 0 | BZ22: 0 | CA22: 0 | CB22: 0 | CC22: 0 | CD22: 0 | CE22: 0 | CF22: 0 | CG22: 0 | CH22: 0 | CI22: 0 | CJ22: 0 | CK22: 0 | CL22: 0 | CM22: 0 | CN22: 0 | CO22: 0 | CP22: 0 | CQ22: 0 | CR22: 811 | CS22: =CS$4 -> 341.43
A23: 44201 | B23: FB1 | C23: =0.4*0.4 -> 0.16 | D23: 211 | E23: 23.46 | F23: 12 | G23: 0.1 | H23: 0 | I23: 0 | J23: 12 | K23: 0.55 | L23: 0 | M23: 0 | N23: 0 | O23: 0 | P23: 0 | Q23: 0 | X23: 0 | Y23: 0 | Z23: 0 | AA23: 0 | AB23: 0 | AC23: 0 | AD23: 0 | AE23: 0 | AF23: 0 | AG23: 0 | AH23: 0 | AI23: 0 | AJ23: 0 | AK23: 0 | AL23: 0 | AM23: 0 | AN23: 0 | AO23: 0 | AP23: 0 | AQ23: 0 | AR23: 0 | AS23: 0 | AT23: 0 | AU23: 0 | AV23: 0 | AW23: 0 | AX23: 0 | AY23: 0 | AZ23: 0 | BA23: 0 | BB23: 0 | BC23: 0 | BD23: 0 | BE23: 0 | BF23: 0 | BG23: 0 | BH23: 0 | BI23: 0 | BJ23: 0 | BK23: 0 | BL23: 0 | BM23: 0 | BN23: 0 | BO23: 0 | BP23: 0 | BQ23: 0 | BR23: 0 | BS23: 0 | BT23: 0 | BU23: 0 | BV23: 0 | BW23: 0 | BX23: 0 | BY23: 0 | BZ23: 0 | CA23: 0 | CB23: 0 | CC23: 0 | CD23: 0 | CE23: 0 | CF23: 0 | CG23: 0 | CH23: 0 | CI23: 0 | CJ23: 0 | CK23: 0 | CL23: 0 | CM23: 0 | CN23: 0 | CO23: 0 | CP23: 0 | CQ23: 0 | CR23: 579 | CS23: =83.49+60.37+217.74 -> 361.6
A24: 44201 | B24: FB2 | C24: =0.4*0.4 -> 0.16 | D24: 95 | E24: 30.62 | F24: 38 | G24: 0.3 | H24: 0 | I24: 0 | J24: 0 | K24: 0 | L24: 0 | M24: 0 | N24: 0 | O24: 0 | P24: 9 | Q24: 0.19 | X24: 0 | Y24: 0 | Z24: 0 | AA24: 0 | AB24: 0 | AC24: 0 | AD24: 0 | AE24: 0 | AF24: 0 | AG24: 0 | AH24: 0 | AI24: 0 | AJ24: 0 | AK24: 0 | AL24: 1 | AM24: 0.01 | AN24: 0 | AO24: 0 | AP24: 0 | AQ24: 0 | AR24: 0 | AS24: 0 | AT24: 0 | AU24: 0 | AV24: 0 | AW24: 0 | AX24: 0 | AY24: 0 | AZ24: 0 | BA24: 0 | BB24: 0 | BC24: 0 | BD24: 0 | BE24: 0 | BF24: 0 | BG24: 0 | BH24: 0 | BI24: 0 | BJ24: 0 | BK24: 0 | BL24: 0 | BM24: 0 | BN24: 0 | BO24: 0 | BP24: 0 | BQ24: 0 | BR24: 0 | BS24: 0 | BT24: 0 | BU24: 0 | BV24: 0 | BW24: 0 | BX24: 0 | BY24: 0 | BZ24: 0 | CA24: 0 | CB24: 0 | CC24: 0 | CD24: 0 | CE24: 0 | CF24: 0 | CG24: 0 | CH24: 0 | CI24: 0 | CJ24: 0 | CK24: 0 | CL24: 0 | CM24: 0 | CN24: 0 | CO24: 0 | CP24: 0 | CQ24: 0 | CR24: 579 | CS24: =CS$23 -> 361.6
A25: 44201 | B25: FB3 | C25: =0.4*0.4 -> 0.16 | D25: =45+1+3+14+6+2 -> 71 | E25: 14.62 | F25: 53 | G25: =0.01+0.36 -> 0.37 | H25: 0 | I25: 0 | J25: 1 | K25: 0.04 | L25: 0 | M25: 0 | N25: 0 | O25: 0 | P25: 8 | Q25: =0.21+0.91 -> 1.12 | X25: 1 | Y25: 0.29 | Z25: 0 | AA25: 0 | AB25: 0 | AC25: 0 | AD25: 0 | AE25: 0 | AF25: 0 | AG25: 0 | AH25: 1 | AI25: 1.48 | AJ25: 0 | AK25: 0 | AL25: 0 | AM25: 0 | AN25: 0 | AO25: 0 | AP25: 0 | AQ25: 0 | AR25: 0 | AS25: 0 | AT25: 0 | AU25: 0 | AV25: 0 | AW25: 0 | AX25: 0 | AY25: 0 | AZ25: 0 | BA25: 0 | BB25: 0 | BC25: 0 | BD25: 0 | BE25: 0 | BF25: 0 | BG25: 0 | BH25: 0 | BI25: 0 | BJ25: 0 | BK25: 0 | BL25: 0 | BM25: 0 | BN25: 0 | BO25: 0 | BP25: 0 | BQ25: 0 | BR25: 0 | BS25: 0 | BT25: 0 | BU25: 0 | BV25: 0 | BW25: 0 | BX25: 0 | BY25: 0 | BZ25: 0 | CA25: 0 | CB25: 0 | CC25: 0 | CD25: 0 | CE25: 0 | CF25: 0 | CG25: 0 | CH25: 0 | CI25: 0 | CJ25: 0 | CK25: 0 | CL25: 0 | CM25: 0 | CN25: 0 | CO25: 0 | CP25: 0 | CQ25: 0 | CR25: 579 | CS25: =CS$23 -> 361.6
A26: 44201 | B26: FB4 | C26: =0.4*0.4 -> 0.16 | D26: 42 | E26: =22.5+30.75 -> 53.25 | F26: 32 | G26: 0.28 | H26: 1 | I26: 0.58 | J26: 0 | K26: 0 | L26: 0 | M26: 0 | N26: 0 | O26: 0 | P26: 18 | Q26: 3.46 | X26: 0 | Y26: 0 | Z26: 0 | AA26: 0 | AB26: 0 | AC26: 0 | AD26: 0 | AE26: 0 | AF26: 1 | AG26: 0.04 | AH26: 0 | AI26: 0 | AJ26: 1 | AK26: 0.01 | AL26: 0 | AM26: 0 | AN26: 0 | AO26: 0 | AP26: 0 | AQ26: 0 | AR26: 0 | AS26: 0 | AT26: 0 | AU26: 0 | AV26: 0 | AW26: 0 | AX26: 0 | AY26: 0 | AZ26: 0 | BA26: 0 | BB26: 0 | BC26: 0 | BD26: 0 | BE26: 0 | BF26: 0 | BG26: 0 | BH26: 0 | BI26: 0 | BJ26: 0 | BK26: 0 | BL26: 0 | BM26: 0 | BN26: 0 | BO26: 0 | BP26: 0 | BQ26: 0 | BR26: 0 | BS26: 0 | BT26: 0 | BU26: 0 | BV26: 0 | BW26: 0 | BX26: 0 | BY26: 0 | BZ26: 0 | CA26: 0 | CB26: 0 | CC26: 0 | CD26: 0 | CE26: 0 | CF26: 0 | CG26: 0 | CH26: 0 | CI26: 0 | CJ26: 0 | CK26: 0 | CL26: 0 | CM26: 0 | CN26: 0 | CO26: 0 | CP26: 0 | CQ26: 0 | CR26: 579 | CS26: =CS$23 -> 361.6
A27: 44201 | B27: FB5 | C27: =0.4*0.4 -> 0.16 | D27: 49 | E27: 37.82 | F27: 1 | G27: 0.13 | H27: 0 | I27: 0 | J27: 0 | K27: 0 | L27: 0 | M27: 0 | N27: 0 | O27: 0 | P27: 47 | Q27: 9.05 | X27: 8 | Y27: 1.25 | Z27: 0 | AA27: 0 | AB27: 0 | AC27: 0 | AD27: 0 | AE27: 0 | AF27: 0 | AG27: 0 | AH27: 0 | AI27: 0 | AJ27: 0 | AK27: 0 | AL27: 1 | AM27: 0.28 | AN27: 0 | AO27: 0 | AP27: 0 | AQ27: 0 | AR27: 0 | AS27: 0 | AT27: 0 | AU27: 0 | AV27: 0 | AW27: 0 | AX27: 0 | AY27: 0 | AZ27: 0 | BA27: 0 | BB27: 0 | BC27: 0 | BD27: 0 | BE27: 0 | BF27: 0 | BG27: 0 | BH27: 0 | BI27: 0 | BJ27: 0 | BK27: 0 | BL27: 0 | BM27: 0 | BN27: 0 | BO27: 0 | BP27: 0 | BQ27: 0 | BR27: 0 | BS27: 0 | BT27: 0 | BU27: 0 | BV27: 0 | BW27: 0 | BX27: 0 | BY27: 0 | BZ27: 0 | CA27: 0 | CB27: 0 | CC27: 0 | CD27: 0 | CE27: 0 | CF27: 0 | CG27: 0 | CH27: 0 | CI27: 0 | CJ27: 0 | CK27: 0 | CL27: 0 | CM27: 0 | CN27: 0 | CO27: 0 | CP27: 0 | CQ27: 0 | CR27: 579 | CS27: =CS$23 -> 361.6
A28: 44201 | B28: FB6 | C28: =0.4*0.4 -> 0.16 | D28: 19 | E28: 2.61 | F28: 10 | G28: 0.08 | H28: 0 | I28: 0 | J28: 0 | K28: 0 | L28: 0 | M28: 0 | N28: 0 | O28: 0 | P28: 129 | Q28: 13.29 | X28: =37+2 -> 39 | Y28: =4.44+0.62 -> 5.06 | Z28: 0 | AA28: 0 | AB28: 0 | AC28: 0 | AD28: 0 | AE28: 0 | AF28: 1 | AG28: 0.01 | AH28: 2 | AI28: 0.34 | AJ28: 0 | AK28: 0 | AL28: 0 | AM28: 0 | AN28: 0 | AO28: 0 | AP28: 0 | AQ28: 0 | AR28: 0 | AS28: 0 | AT28: 0 | AU28: 0 | AV28: 0 | AW28: 0 | AX28: 0 | AY28: 0 | AZ28: 0 | BA28: 0 | BB28: 0 | BC28: 0 | BD28: 0 | BE28: 0 | BF28: 0 | BG28: 0 | BH28: 0 | BI28: 0 | BJ28: 0 | BK28: 0 | BL28: 0 | BM28: 0 | BN28: 0 | BO28: 0 | BP28: 0 | BQ28: 0 | BR28: 0 | BS28: 0 | BT28: 0 | BU28: 0 | BV28: 0 | BW28: 0 | BX28: 0 | BY28: 0 | BZ28: 0 | CA28: 0 | CB28: 0 | CC28: 0 | CD28: 0 | CE28: 0 | CF28: 0 | CG28: 0 | CH28: 0 | CI28: 0 | CJ28: 0 | CK28: 0 | CL28: 0 | CM28: 0 | CN28: 0 | CO28: 0 | CP28: 0 | CQ28: 0 | CR28: 579 | CS28: =CS$23 -> 361.6
A29: 44201 | B29: FB7 | C29: =0.4*0.4 -> 0.16 | D29: 181 | E29: 30.75 | F29: 14 | G29: 0.44 | H29: 0 | I29: 0 | J29: 0 | K29: 0 | L29: 0 | M29: 0 | N29: 0 | O29: 0 | P29: 57 | Q29: 3.65 | X29: 14 | Y29: 0.87 | Z29: 0 | AA29: 0 | AB29: 0 | AC29: 0 | AD29: 0 | AE29: 0 | AF29: 0 | AG29: 0 | AH29: 3 | AI29: 1.8 | AJ29: 0 | AK29: 0 | AL29: 1 | AM29: 1.89 | AN29: 0 | AO29: 0 | AP29: 0 | AQ29: 0 | AR29: 0 | AS29: 0 | AT29: 0 | AU29: 0 | AV29: 0 | AW29: 0 | AX29: 0 | AY29: 0 | AZ29: 0 | BA29: 0 | BB29: 0 | BC29: 0 | BD29: 0 | BE29: 0 | BF29: 0 | BG29: 0 | BH29: 0 | BI29: 0 | BJ29: 0 | BK29: 0 | BL29: 0 | BM29: 0 | BN29: 0 | BO29: 0 | BP29: 0 | BQ29: 0 | BR29: 0 | BS29: 0 | BT29: 0 | BU29: 0 | BV29: 0 | BW29: 0 | BX29: 0 | BY29: 0 | BZ29: 0 | CA29: 0 | CB29: 0 | CC29: 0 | CD29: 0 | CE29: 0 | CF29: 0 | CG29: 0 | CH29: 0 | CI29: 0 | CJ29: 0 | CK29: 0 | CL29: 0 | CM29: 0 | CN29: 0 | CO29: 0 | CP29: 0 | CQ29: 0 | CR29: 579 | CS29: =CS$23 -> 361.6
A30: 44266 | B30: FB8 | C30: =0.4*0.4 -> 0.16 | D30: =16+6+1 -> 23 | E30: =20.35-5.47 -> 14.88 | F30: 0 | G30: 0 | H30: 0 | I30: 0 | J30: 0 | K30: 0 | L30: 0 | M30: 0 | N30: 0 | O30: 0 | P30: 6 | Q30: =3.3-2.91 -> 0.39 | X30: 0 | Y30: 0 | Z30: 0 | AA30: 0 | AB30: 0 | AC30: 0 | AD30: 0 | AE30: 0 | AF30: 0 | AG30: 0 | AH30: 6 | AI30: =240.9-63.77 -> 177.13 | AJ30: 0 | AK30: 0 | AL30: 0 | AM30: 0 | AN30: 0 | AO30: 0 | AP30: 0 | AQ30: 0 | AR30: 0 | AS30: 0 | AT30: 0 | AU30: 0 | AV30: 0 | AW30: 0 | AX30: 0 | AY30: 0 | AZ30: 0 | BA30: 0 | BB30: 0 | BC30: 0 | BD30: 0 | BE30: 0 | BF30: 0 | BG30: 0 | BH30: 0 | BI30: 0 | BJ30: 0 | BK30: 0 | BL30: 0 | BM30: 0 | BN30: 0 | BO30: 0 | BP30: 0 | BQ30: 0 | BR30: 0 | BS30: 0 | BT30: 0 | BU30: 0 | BV30: 0 | BW30: 0 | BX30: 0 | BY30: 0 | BZ30: 0 | CA30: 0 | CB30: 0 | CC30: 0 | CD30: 0 | CE30: 0 | CF30: 0 | CG30: 0 | CH30: 0 | CI30: 0 | CJ30: 0 | CK30: 0 | CL30: 0 | CM30: 0 | CN30: 0 | CO30: 0 | CP30: 0 | CQ30: 0 | CR30: 579 | CS30: =CS$23 -> 361.6
A31: 44266 | B31: FB9 | C31: =0.4*0.4 -> 0.16 | D31: =14+3+8+2 -> 27 | E31: =24.03-5.17 -> 18.86 | F31: 0 | G31: 0 | H31: 0 | I31: 0 | J31: 0 | K31: 0 | L31: 0 | M31: 0 | N31: 0 | O31: 0 | P31: =7+1+1+3 -> 12 | Q31: =5.5-4.63 -> 0.87 | X31: 6 | Y31: =4.63-4.58 -> 0.05 | Z31: 0 | AA31: 0 | AB31: 0 | AC31: 0 | AD31: 0 | AE31: 0 | AF31: 0 | AG31: 0 | AH31: 0 | AI31: 0 | AJ31: 0 | AK31: 0 | AL31: 0 | AM31: 0 | AN31: 0 | AO31: 0 | AP31: 0 | AQ31: 0 | AR31: 0 | AS31: 0 | AT31: 0 | AU31: 0 | AV31: 0 | AW31: 0 | AX31: 0 | AY31: 0 | AZ31: 0 | BA31: 0 | BB31: 0 | BC31: 0 | BD31: 0 | BE31: 0 | BF31: 0 | BG31: 0 | BH31: 0 | BI31: 0 | BJ31: 0 | BK31: 0 | BL31: 0 | BM31: 0 | BN31: 0 | BO31: 0 | BP31: 0 | BQ31: 0 | BR31: 0 | BS31: 0 | BT31: 0 | BU31: 0 | BV31: 0 | BW31: 0 | BX31: 0 | BY31: 0 | BZ31: 0 | CA31: 0 | CB31: 0 | CC31: 0 | CD31: 0 | CE31: 0 | CF31: 0 | CG31: 0 | CH31: 0 | CI31: 0 | CJ31: 0 | CK31: 0 | CL31: 0 | CM31: 0 | CN31: 0 | CO31: 0 | CP31: 0 | CQ31: 0 | CR31: 579 | CS31: =CS$23 -> 361.6
A32: 44266 | B32: FB10 | C32: =0.4*0.4 -> 0.16 | D32: =8+9+2+3+1 -> 23 | E32: =20.64-7.61 -> 13.03 | F32: =6+9+1 -> 16 | G32: =4.63-4.59 -> 0.04 | H32: 0 | I32: 0 | J32: 0 | K32: 0 | L32: 0 | M32: 0 | N32: 0 | O32: 0 | P32: =9+1+3+1+1+1+4 -> 20 | Q32: =11.19-5.82 -> 5.37 | X32: =8+8+10+2 -> 28 | Y32: =6.62-4.63 -> 1.99 | Z32: 0 | AA32: 0 | AB32: 0 | AC32: 0 | AD32: 0 | AE32: 0 | AF32: 2 | AG32: =9.18-5.64 -> 3.54 | AH32: 0 | AI32: 0 | AJ32: 0 | AK32: 0 | AL32: 0 | AM32: 0 | AN32: 0 | AO32: 0 | AP32: 0 | AQ32: 0 | AR32: 0 | AS32: 0 | AT32: 0 | AU32: 0 | AV32: 0 | AW32: 0 | AX32: 0 | AY32: 0 | AZ32: 0 | BA32: 0 | BB32: 0 | BC32: 0 | BD32: 0 | BE32: 0 | BF32: 0 | BG32: 0 | BH32: 0 | BI32: 0 | BJ32: 0 | BK32: 0 | BL32: 0 | BM32: 0 | BN32: 0 | BO32: 0 | BP32: 0 | BQ32: 0 | BR32: 0 | BS32: 0 | BT32: 0 | BU32: 0 | BV32: 0 | BW32: 0 | BX32: 0 | BY32: 0 | BZ32: 0 | CA32: 0 | CB32: 0 | CC32: 0 | CD32: 0 | CE32: 0 | CF32: 0 | CG32: 0 | CH32: 0 | CI32: 0 | CJ32: 0 | CK32: 0 | CL32: 0 | CM32: 0 | CN32: 0 | CO32: 0 | CP32: 0 | CQ32: 0 | CR32: 579 | CS32: =CS$23 -> 361.6
A33: 44266 | B33: FB11 | C33: =0.4*0.4 -> 0.16 | D33: =13+12+10+1+2+5 -> 43 | E33: =19.78-6.98 -> 12.8 | F33: 1 | G33: =4.59-4.58 -> 0.01 | H33: 0 | I33: 0 | J33: 0 | K33: 0 | L33: 0 | M33: 0 | N33: 0 | O33: 0 | P33: =9+7+9+3+2+2 -> 32 | Q33: =21.94-5.23 -> 16.71 | X33: =7+4 -> 11 | Y33: =5.82-4.6 -> 1.22 | Z33: 0 | AA33: 0 | AB33: 0 | AC33: 0 | AD33: 0 | AE33: 0 | AF33: 0 | AG33: 0 | AH33: 3 | AI33: =99.55-34.5 -> 65.05 | AJ33: 0 | AK33: 0 | AL33: 0 | AM33: 0 | AN33: 0 | AO33: 0 | AP33: 0 | AQ33: 0 | AR33: 0 | AS33: 0 | AT33: 0 | AU33: 0 | AV33: 0 | AW33: 0 | AX33: 0 | AY33: 0 | AZ33: 0 | BA33: 0 | BB33: 0 | BC33: 0 | BD33: 0 | BE33: 0 | BF33: 0 | BG33: 0 | BH33: 0 | BI33: 0 | BJ33: 0 | BK33: 0 | BL33: 0 | BM33: 0 | BN33: 0 | BO33: 0 | BP33: 0 | BQ33: 0 | BR33: 0 | BS33: 0 | BT33: 0 | BU33: 0 | BV33: 0 | BW33: 0 | BX33: 0 | BY33: 0 | BZ33: 0 | CA33: 0 | CB33: 0 | CC33: 0 | CD33: 0 | CE33: 0 | CF33: 0 | CG33: 0 | CH33: 0 | CI33: 0 | CJ33: 0 | CK33: 0 | CL33: 0 | CM33: 0 | CN33: 0 | CO33: 0 | CP33: 0 | CQ33: 0 | CR33: 579 | CS33: =CS$23 -> 361.6
A34: 44282 | B34: FB12 | C34: =0.4*0.4 -> 0.16 | D34: =12+7+1+6+8+3+4 -> 41 | E34: =16.65-7.63 -> 9.02 | F34: 12 | G34: =4.7-4.62 -> 0.08 | H34: 0 | I34: 0 | J34: 0 | K34: 0 | L34: 0 | M34: 0 | N34: 0 | O34: 0 | P34: =10+2+2+2+2+1 -> 19 | Q34: =37.83-5.65 -> 32.18 | X34: =21+13+6+2 -> 42 | Y34: =6.12-4.63 -> 1.49 | Z34: 0 | AA34: 0 | AB34: 0 | AC34: 0 | AD34: 0 | AE34: 0 | AF34: 1 | AG34: =4.91-4.59 -> 0.32 | AH34: 4 | AI34: =15.64-5.33 -> 10.31 | AJ34: 0 | AK34: 0 | AL34: 0 | AM34: 0 | AN34: 0 | AO34: 0 | AP34: 0 | AQ34: 0 | AR34: 0 | AS34: 0 | AT34: 0 | AU34: 0 | AV34: 0 | AW34: 0 | AX34: 0 | AY34: 0 | AZ34: 0 | BA34: 0 | BB34: 0 | BC34: 0 | BD34: 0 | BE34: 0 | BF34: 0 | BG34: 0 | BH34: 0 | BI34: 0 | BJ34: 0 | BK34: 0 | BL34: 0 | BM34: 0 | BN34: 0 | BO34: 0 | BP34: 0 | BQ34: 0 | BR34: 0 | BS34: 0 | BT34: 0 | BU34: 0 | BV34: 0 | BW34: 0 | BX34: 0 | BY34: 0 | BZ34: 0 | CA34: 0 | CB34: 0 | CC34: 0 | CD34: 0 | CE34: 0 | CF34: 0 | CG34: 0 | CH34: 0 | CI34: 0 | CJ34: 0 | CK34: 0 | CL34: 0 | CM34: 0 | CN34: 0 | CO34: 0 | CP34: 0 | CQ34: 0 | CR34: 579 | CS34: =CS$23 -> 361.6
A35: 44282 | B35: FB13 | C35: =0.4*0.4 -> 0.16 | D35: =8 -> 8 | E35: =8.22-4.82 -> 3.4 | F35: 0 | G35: 0 | H35: 0 | I35: 0 | J35: 0 | K35: 0 | L35: 0 | M35: 0 | N35: 0 | O35: 0 | P35: =29+6+17 -> 52 | Q35: =43.03-5.75 -> 37.28 | X35: =29+8+9 -> 46 | Y35: =6.08-3.21 -> 2.87 | Z35: 0 | AA35: 0 | AB35: 0 | AC35: 0 | AD35: 0 | AE35: 0 | AF35: 0 | AG35: 0 | AH35: 2 | AI35: =21.51-10.51 -> 11 | AJ35: 0 | AK35: 0 | AL35: 0 | AM35: 0 | AN35: 0 | AO35: 0 | AP35: 0 | AQ35: 0 | AR35: 0 | AS35: 0 | AT35: 0 | AU35: 0 | AV35: 0 | AW35: 0 | AX35: 0 | AY35: 0 | AZ35: 0 | BA35: 0 | BB35: 0 | BC35: 0 | BD35: 0 | BE35: 0 | BF35: 0 | BG35: 0 | BH35: 0 | BI35: 0 | BJ35: 0 | BK35: 0 | BL35: 0 | BM35: 0 | BN35: 0 | BO35: 0 | BP35: 0 | BQ35: 0 | BR35: 0 | BS35: 0 | BT35: 0 | BU35: 0 | BV35: 0 | BW35: 0 | BX35: 0 | BY35: 0 | BZ35: 0 | CA35: 0 | CB35: 0 | CC35: 0 | CD35: 0 | CE35: 0 | CF35: 0 | CG35: 0 | CH35: 0 | CI35: 0 | CJ35: 0 | CK35: 0 | CL35: 0 | CM35: 0 | CN35: 0 | CO35: 0 | CP35: 0 | CQ35: 0 | CR35: 579 | CS35: =CS$23 -> 361.6
A36: 44283 | B36: FB14 | C36: =0.4*0.4 -> 0.16 | D36: 0 | E36: 0 | F36: 0 | G36: 0 | H36: 0 | I36: 0 | J36: 0 | K36: 0 | L36: 0 | M36: 0 | N36: 0 | O36: 0 | P36: =21+33 -> 54 | Q36: =87.59-7.62 -> 79.97 | X36: 7 | Y36: =3.58-3.1 -> 0.48 | Z36: 0 | AA36: 0 | AB36: 0 | AC36: 0 | AD36: 0 | AE36: 0 | AF36: 0 | AG36: 0 | AH36: 0 | AI36: 0 | AJ36: 0 | AK36: 0 | AL36: 0 | AM36: 0 | AN36: 0 | AO36: 0 | AP36: 0 | AQ36: 0 | AR36: 0 | AS36: 0 | AT36: 0 | AU36: 0 | AV36: 0 | AW36: 0 | AX36: 0 | AY36: 0 | AZ36: 0 | BA36: 0 | BB36: 0 | BC36: 0 | BD36: 0 | BE36: 0 | BF36: 0 | BG36: 0 | BH36: 0 | BI36: 0 | BJ36: 0 | BK36: 0 | BL36: 0 | BM36: 0 | BN36: 0 | BO36: 0 | BP36: 0 | BQ36: 0 | BR36: 0 | BS36: 0 | BT36: 0 | BU36: 0 | BV36: 0 | BW36: 0 | BX36: 0 | BY36: 0 | BZ36: 0 | CA36: 0 | CB36: 0 | CC36: 0 | CD36: 0 | CE36: 0 | CF36: 0 | CG36: 0 | CH36: 0 | CI36: 0 | CJ36: 0 | CK36: 0 | CL36: 0 | CM36: 0 | CN36: 0 | CO36: 0 | CP36: 0 | CQ36: 0 | CR36: 579 | CS36: =CS$23 -> 361.6
A37: 44284 | B37: FB15 | C37: =0.4*0.5 -> 0.2 | D37: 6 | E37: =3.48-3.25 -> 0.23 | F37: =9+3+5 -> 17 | G37: =5.06-4.39 -> 0.67 | H37: 0 | I37: 0 | J37: 0 | K37: 0 | L37: 0 | M37: 0 | N37: 0 | O37: 0 | P37: =8+15+7 -> 30 | Q37: =77.74-7.63 -> 70.11 | X37: 30 | Y37: =9.14-5.67 -> 3.47 | Z37: 0 | AA37: 0 | AB37: 0 | AC37: 0 | AD37: 0 | AE37: 0 | AF37: 1 | AG37: =5.56-5.19 -> 0.37 | AH37: 2 | AI37: =18.44-5.35 -> 13.09 | AJ37: 0 | AK37: 0 | AL37: 0 | AM37: 0 | AN37: 0 | AO37: 0 | AP37: 0 | AQ37: 0 | AR37: 0 | AS37: 0 | AT37: 0 | AU37: 0 | AV37: 0 | AW37: 0 | AX37: 0 | AY37: 0 | AZ37: 0 | BA37: 0 | BB37: 0 | BC37: 0 | BD37: 0 | BE37: 0 | BF37: 0 | BG37: 0 | BH37: 3 | BI37: =6.3-5.34 -> 0.96 | BJ37: 0 | BK37: 0 | BL37: 0 | BM37: 0 | BN37: 0 | BO37: 0 | BP37: 0 | BQ37: 0 | BR37: 0 | BS37: 0 | BT37: 0 | BU37: 0 | BV37: 0 | BW37: 0 | BX37: 0 | BY37: 0 | BZ37: 0 | CA37: 0 | CB37: 0 | CC37: 0 | CD37: 0 | CE37: 0 | CF37: 0 | CG37: 0 | CH37: 0 | CI37: 0 | CJ37: 0 | CK37: 0 | CL37: 0 | CM37: 0 | CN37: 0 | CO37: 0 | CP37: 0 | CQ37: 0 | CR37: 579 | CS37: =CS$23 -> 361.6
A38: 44285 | B38: FB16 | C38: =0.4*0.3 -> 0.12 | D38: =15+2+3 -> 20 | E38: =5.37-2.86 -> 2.51 | F38: 10 | G38: =4.76-4.64 -> 0.12 | H38: 0 | I38: 0 | J38: 0 | K38: 0 | L38: 0 | M38: 0 | N38: 0 | O38: 0 | P38: =10+10+2 -> 22 | Q38: =96.66-7.37 -> 89.29 | X38: 2 | Y38: =5-4.64 -> 0.36 | Z38: 0 | AA38: 0 | AB38: 0 | AC38: 0 | AD38: 0 | AE38: 0 | AF38: 0 | AG38: 0 | AH38: 0 | AI38: 0 | AJ38: 0 | AK38: 0 | AL38: 0 | AM38: 0 | AN38: 0 | AO38: 0 | AP38: 0 | AQ38: 0 | AR38: 0 | AS38: 0 | AT38: 0 | AU38: 0 | AV38: 0 | AW38: 0 | AX38: 0 | AY38: 0 | AZ38: 0 | BA38: 0 | BB38: 0 | BC38: 0 | BD38: 0 | BE38: 0 | BF38: 0 | BG38: 0 | BH38: 1 | BI38: =3.42-3.38 -> 0.04 | BJ38: 0 | BK38: 0 | BL38: 0 | BM38: 0 | BN38: 0 | BO38: 0 | BP38: 0 | BQ38: 0 | BR38: 0 | BS38: 0 | BT38: 0 | BU38: 0 | BV38: 0 | BW38: 0 | BX38: 0 | BY38: 0 | BZ38: 0 | CA38: 0 | CB38: 0 | CC38: 0 | CD38: 0 | CE38: 0 | CF38: 0 | CG38: 0 | CH38: 0 | CI38: 0 | CJ38: 0 | CK38: 0 | CL38: 0 | CM38: 0 | CN38: 0 | CO38: 0 | CP38: 0 | CQ38: 0 | CR38: 579 | CS38: =CS$23 -> 361.6
A39: 44286 | B39: FB17 | C39: =0.5*0.5 -> 0.25 | D39: 7 | E39: =8.05-5.89 -> 2.16 | F39: 45 | G39: =121.85-49.65 -> 72.2 | H39: 0 | I39: 0 | J39: 0 | K39: 0 | L39: 0 | M39: 0 | N39: 0 | O39: 0 | P39: 7 | Q39: =13.8-5.75 -> 8.05 | X39: 0 | Y39: 0 | Z39: 0 | AA39: 0 | AB39: 0 | AC39: 0 | AD39: 0 | AE39: 0 | AF39: 0 | AG39: 0 | AH39: 2 | AI39: =5.76-5.7 -> 0.06 | AJ39: 0 | AK39: 0 | AL39: 0 | AM39: 0 | AN39: 0 | AO39: 0 | AP39: 0 | AQ39: 0 | AR39: 0 | AS39: 0 | AT39: 0 | AU39: 0 | AV39: 0 | AW39: 0 | AX39: 0 | AY39: 0 | AZ39: 0 | BA39: 0 | BB39: 0 | BC39: 0 | BD39: 0 | BE39: 0 | BF39: 0 | BG39: 0 | BH39: 0 | BI39: 0 | BJ39: 0 | BK39: 0 | BL39: 0 | BM39: 0 | BN39: 0 | BO39: 0 | BP39: 0 | BQ39: 0 | BR39: 0 | BS39: 0 | BT39: 0 | BU39: 0 | BV39: 0 | BW39: 0 | BX39: 0 | BY39: 0 | BZ39: 0 | CA39: 0 | CB39: 0 | CC39: 0 | CD39: 0 | CE39: 0 | CF39: 0 | CG39: 0 | CH39: 0 | CI39: 0 | CJ39: 0 | CK39: 0 | CL39: 0 | CM39: 0 | CN39: 0 | CO39: 0 | CP39: 0 | CQ39: 0 | CR39: 579 | CS39: =CS$23 -> 361.6
A40: 44298 | B40: FB18 | C40: =0.5*0.3 -> 0.15 | D40: 1 | E40: =4.66-4.61 -> 0.05 | F40: 0 | G40: 0 | H40: 0 | I40: 0 | J40: 0 | K40: 0 | L40: 0 | M40: 0 | N40: 0 | O40: 0 | P40: 71 | Q40: =150.76-59.18 -> 91.58 | X40: 26 | Y40: =5.83-4.63 -> 1.2 | Z40: 0 | AA40: 0 | AB40: 0 | AC40: 0 | AD40: 0 | AE40: 0 | AF40: 0 | AG40: 0 | AH40: 0 | AI40: 0 | AJ40: 0 | AK40: 0 | AL40: 0 | AM40: 0 | AN40: 0 | AO40: 0 | AP40: 0 | AQ40: 0 | AR40: 0 | AS40: 0 | AT40: 0 | AU40: 0 | AV40: 0 | AW40: 0 | AX40: 0 | AY40: 0 | AZ40: 0 | BA40: 0 | BB40: 0 | BC40: 0 | BD40: 0 | BE40: 0 | BF40: 0 | BG40: 0 | BH40: 0 | BI40: 0 | BJ40: 0 | BK40: 0 | BL40: 0 | BM40: 0 | BN40: 0 | BO40: 0 | BP40: 0 | BQ40: 0 | BR40: 0 | BS40: 0 | BT40: 0 | BU40: 0 | BV40: 0 | BW40: 0 | BX40: 0 | BY40: 0 | BZ40: 0 | CA40: 0 | CB40: 0 | CC40: 0 | CD40: 0 | CE40: 0 | CF40: 0 | CG40: 0 | CH40: 0 | CI40: 0 | CJ40: 0 | CK40: 0 | CL40: 0 | CM40: 0 | CN40: 0 | CO40: 0 | CP40: 0 | CQ40: 0 | CR40: 579 | CS40: =CS$23 -> 361.6
...

Sheet Analyzed
D1: Oxalis | F1: Hypochaeris | H1: Senecio vulgaris | J1: Euphorbia | L1: Malva | N1: Chrysanthenum | P1: Lathyrus | R1: Crepis | T1: Picris | V1: Fumaria | X1: Erva | Z1: Poa (Grass B) | AB1: Vulpia | AD1: Gladiolus | AF1: Geranium sp | AH1: Sonchus sp. | AJ1: Erodium muscatum | AL1: Carlina | AN1: unknown | AP1: Sisymbrium | AR1: Echium sp | AT1: Bromus sp | AV1: Andryala sp | AX1: Centaurea sp | AZ1: Conyza sp | BB1: Allium | BD1: Orobanche sp | BF1: Convulvulus or Aristolochia | BH1: Urospermum sp | BJ1: Aetheorhiza sp | BL1: Medicago sp | BN1: outro FC 7 e 8 | BP1: Urtica sp | BR1: Stelaria | BT1: Forb A | BV1: Polycarpon | BX1: Batata | BZ1: Asparagaceae | CB1: Silene | CD1: Trifolium | CF1: relva | CH1: Papaver | CJ1: Sherardia | CL1: Anagallis | CN1: Calamintha | CP1: Arisarum | CR1: Total | CV1: Dead grass | CZ1: Dead+Alive | DB1: Efficiency of space occupation | DC1: number of species | DD1: number of species | DE1: Biodiversity Index | DF1: Bray-Curtis | DG1: Morisita | DH1: Density | DL1: Biomass
A2: Date | B2: Quadrat | C2: area (m2) | D2: Density | E2: Weight | F2: Density | G2: Weight | H2: Density | I2: Weight | J2: Density | K2: Weight | L2: Density | M2: Weight | N2: Density | O2: Weight | P2: Density | Q2: Weight | R2: Density | S2: Weight | T2: Density | U2: Weight | V2: Density | W2: Weight | X2: Density | Y2: Weight | Z2: Density | AA2: Weight | AB2: Density | AC2: Weight | AD2: Density | AE2: Weight | AF2: Density | AG2: Weight | AH2: Density | AI2: Weight | AJ2: Density | AK2: Weight | AL2: Density | AM2: Weight | AN2: Density | AO2: Weight | AP2: Density | AQ2: Weight | AR2: Density | AS2: Weight | AT2: Density | AU2: Weight | AV2: Density | AW2: Weight | AX2: Density | AY2: Weight | AZ2: Density | BA2: Weight | BB2: Density | BC2: Weight | BD2: Density | BE2: Weight | BF2: Density | BG2: Weight | BH2: Density | BI2: Weight | BJ2: Density | BK2: Weight | BL2: Density | BM2: Weight | BN2: Density | BO2: Weight | BP2: Density | BQ2: Weight | BR2: Density | BS2: Weight | BT2: Density | BU2: Weight | BV2: Density | BW2: Weight | BX2: Density | BY2: Weight | BZ2: Density | CA2: Weight | CB2: Density | CC2: Weight | CD2: Density | CE2: Weight | CF2: Density | CG2: Weight | CH2: Density | CI2: Weight | CJ2: Density | CK2: Weight | CL2: Density | CM2: Weight | CN2: Density | CO2: Weight | CP2: Density | CQ2: Weight | CR2: Density | CS2: Weight | CT2: log10D | CU2: log10B | CV2: Density | CW2: Weight | CX2: log10D | CY2: log10B | CZ2: log10D | DA2: log10B | DB2: dplant | DD2: per area | DH2: Shannon-Weiner | DI2: Simpson D | DJ2: Simpson D (reciprocal) | DK2: Simpson D (inverse) | DL2: Shannon-Weiner | DM2: Simpson D | DN2: Simpson D (reciprocal) | DO2: Simpson D (inverse)
A3: 44201 | B3: =Raw!B4 -> FA1 | C3: 1 | D3: =Raw!D4/Raw!$C4 -> 706.25 | E3: =Raw!E4/Raw!$C4 -> 161.25 | F3: =Raw!F4/Raw!$C4 -> 181.25 | G3: =Raw!G4/Raw!$C4 -> 187.4375 | H3: =Raw!H4/Raw!$C4 -> 0 | I3: =Raw!I4/Raw!$C4 -> 0 | J3: =Raw!J4/Raw!$C4 -> 0 | K3: =Raw!K4/Raw!$C4 -> 0 | ... CQ3: =Raw!CQ4/Raw!$C4 -> 0 | CR3: =D3+F3+H3+J3+L3+N3+P3+R3+T3+V3+X3+Z3+AB3+AD3+AF3+AH3+AJ3+AL3+AN3+AP3+AR3+AT3+AV3+AX3+AZ3+AZ3+BB3+BD3+BF3+BH3+BJ3+BL3+BN3+BP3+BR3+BT3+BV3+BX3+BZ3+CB3+CD3+CF3+CH3+CJ3+CL3+CN3+CP3 -> 906.25 | CS3: =E3+G3+I3+K3+M3+O3+Q3+S3+U3+W3+Y3+AA3+AC3+AE3+AG3+AI3+AK3+AM3+AO3+AQ3+AS3+AU3+AW3+AY3+BA3+BA3+BC3+BE3+BG3+BI3+BK3+BM3+BO3+BQ3+BS3+BU3+BW3+BY3+CA3+CC3+CE3+CG3+CI3+CK3+CM3+CO3+CQ3 -> 352.4375 | CT3: =LOG10(CR3) -> 2.957248 | CU3: =LOG10(CS3) -> 2.5470821 | CV3: =Raw!CR4/Raw!$C4 -> 5068.75 | CW3: =Raw!CS4/Raw!$C4 -> 2133.9375 | CX3: =LOG10(CV3) -> 3.7049009 | CY3: =LOG10(CW3) -> 3.3291817 | CZ3: =LOG10(CR3+CV3) -> 3.7763379 | DA3: =LOG10(CS3+CW3) -> 3.3955666 | DB3: =0.590307*(4.87-0.33*CT3-CU3) -> 0.7951589 | DC3: 3 | DD3: =DC3/Raw!C4 -> 18.75 | DE3: =DC3/CR3 -> 0.0033103448 | DF3: =LOG(DE3) -> -2.4801268 | DH3: =-SUM('Shannon-Weiner'!B2:Z2) -> 0.59644244 | DI3: =SUM('p^2'!B2:Z2) -> 0.64775268 | DJ3: =1-DI3 -> 0.35224732 | DK3: =1/DI3 -> 1.5437991 | DL3: =SUM('Shannon-Weiner_B'!B2:Z2) -> -0.74190209 | DM3: =SUM('p_B^2'!B2:Z2) -> 0.49229017 | DN3: =1-DM3 -> 0.50770983 | DO3: =1/DM3 -> 2.0313223
A4: 44201 | B4: =Raw!B5 -> FA2 | C4: 1 | D4: =Raw!D5/Raw!$C5 -> 400 | E4: =Raw!E5/Raw!$C5 -> 93.25 | F4: =Raw!F5/Raw!$C5 -> 168.75 | G4: =Raw!G5/Raw!$C5 -> 295.875 | H4: =Raw!H5/Raw!$C5 -> 0 | I4: =Raw!I5/Raw!$C5 -> 0 | J4: =Raw!J5/Raw!$C5 -> 0 | K4: =Raw!K5/Raw!$C5 -> 0 | ... CQ4: =Raw!CQ5/Raw!$C5 -> 0 | CR4: =D4+F4+H4+J4+L4+N4+P4+R4+T4+V4+X4+Z4+AB4+AD4+AF4+AH4+AJ4+AL4+AN4+AP4+AR4+AT4+AV4+AX4+AZ4+AZ4+BB4+BD4+BF4+BH4+BJ4+BL4+BN4+BP4+BR4+BT4+BV4+BX4+BZ4+CB4+CD4+CF4+CH4+CJ4+CL4+CN4+CP4 -> 568.75 | CS4: =E4+G4+I4+K4+M4+O4+Q4+S4+U4+W4+Y4+AA4+AC4+AE4+AG4+AI4+AK4+AM4+AO4+AQ4+AS4+AU4+AW4+AY4+BA4+BA4+BC4+BE4+BG4+BI4+BK4+BM4+BO4+BQ4+BS4+BU4+BW4+BY4+CA4+CC4+CE4+CG4+CI4+CK4+CM4+CO4+CQ4 -> 389.125 | CT4: =LOG10(CR4) -> 2.7549214 | CU4: =LOG10(CS4) -> 2.5900891 | CV4: =Raw!CR5/Raw!$C5 -> 5068.75 | CW4: =Raw!CS5/Raw!$C5 -> 2133.9375 | CX4: =LOG10(CV4) -> 3.7049009 | CY4: =LOG10(CW4) -> 3.3291817 | CZ4: =LOG10(CR4+CV4) -> 3.7510866 | DA4: =LOG10(CS4+CW4) -> 3.401928 | DB4: =0.590307*(4.87-0.33*CT4-CU4) -> 0.80918504 | DC4: 2 | DD4: =DC4/Raw!C5 -> 12.5 | DE4: =DC4/CR4 -> 0.0035164835 | DF4: =LOG(DE4) -> -2.4538914 | DH4: =-SUM('Shannon-Weiner'!B3:Z3) -> 0.60804508 | DI4: =SUM('p^2'!B3:Z3) -> 0.5826591 | DJ4: =1-DI4 -> 0.4173409 | DK4: =1/DI4 -> 1.7162694 | DL4: =SUM('Shannon-Weiner_B'!B3:Z3) -> -0.55066486 | DM4: =SUM('p_B^2'!B3:Z3) -> 0.63557443 | DN4: =1-DM4 -> 0.36442557 | DO4: =1/DM4 -> 1.5733798
A5: 44201 | B5: =Raw!B6 -> FA3 | C5: 1 | D5: =Raw!D6/Raw!$C6 -> 743.75 | E5: =Raw!E6/Raw!$C6 -> 118.75 | F5: =Raw!F6/Raw!$C6 -> 31.25 | G5: =Raw!G6/Raw!$C6 -> 88.1875 | H5: =Raw!H6/Raw!$C6 -> 0 | I5: =Raw!I6/Raw!$C6 -> 0 | J5: =Raw!J6/Raw!$C6 -> 0 | K5: =Raw!K6/Raw!$C6 -> 0 | ... CQ5: =Raw!CQ6/Raw!$C6 -> 0 | CR5: =D5+F5+H5+J5+L5+N5+P5+R5+T5+V5+X5+Z5+AB5+AD5+AF5+AH5+AJ5+AL5+AN5+AP5+AR5+AT5+AV5+AX5+AZ5+AZ5+BB5+BD5+BF5+BH5+BJ5+BL5+BN5+BP5+BR5+BT5+BV5+BX5+BZ5+CB5+CD5+CF5+CH5+CJ5+CL5+CN5+CP5 -> 787.5 | CS5: =E5+G5+I5+K5+M5+O5+Q5+S5+U5+W5+Y5+AA5+AC5+AE5+AG5+AI5+AK5+AM5+AO5+AQ5+AS5+AU5+AW5+AY5+BA5+BA5+BC5+BE5+BG5+BI5+BK5+BM5+BO5+BQ5+BS5+BU5+BW5+BY5+CA5+CC5+CE5+CG5+CI5+CK5+CM5+CO5+CQ5 -> 207.5625 | CT5: =LOG10(CR5) -> 2.8962506 | CU5: =LOG10(CS5) -> 2.3171489 | CV5: =Raw!CR6/Raw!$C6 -> 5068.75 | CW5: =Raw!CS6/Raw!$C6 -> 2133.9375 | CX5: =LOG10(CV5) -> 3.7049009 | CY5: =LOG10(CW5) -> 3.3291817 | CZ5: =LOG10(CR5+CV5) -> 3.7676196 | DA5: =LOG10(CS5+CW5) -> 3.3694942 | DB5: =0.590307*(4.87-0.33*CT5-CU5) -> 0.94277247 | DC5: 3 | DD5: =DC5/Raw!C6 -> 18.75 | DE5: =DC5/CR5 -> 0.0038095238 | DF5: =LOG(DE5) -> -2.4191293 | DH5: =-SUM('Shannon-Weiner'!B4:Z4) -> 0.24779635 | DI5: =SUM('p^2'!B4:Z4) -> 0.89380197 | DJ5: =1-DI5 -> 0.10619803 | DK5: =1/DI5 -> 1.1188161 | DL5: =SUM('Shannon-Weiner_B'!B4:Z4) -> -0.70063447 | DM5: =SUM('p_B^2'!B4:Z4) -> 0.50784298 | DN5: =1-DM5 -> 0.49215702 | DO5: =1/DM5 -> 1.9691126
A6: 44201 | B6: =Raw!B7 -> FA4 | C6: 1 | D6: =Raw!D7/Raw!$C7 -> 856.25 | E6: =Raw!E7/Raw!$C7 -> 143.6875 | F6: =Raw!F7/Raw!$C7 -> 25 | G6: =Raw!G7/Raw!$C7 -> 2.125 | H6: =Raw!H7/Raw!$C7 -> 6.25 | I6: =Raw!I7/Raw!$C7 -> 1.4375 | J6: =Raw!J7/Raw!$C7 -> 0 | K6: =Raw!K7/Raw!$C7 -> 0 | ... CQ6: =Raw!CQ7/Raw!$C7 -> 0 | CR6: =D6+F6+H6+J6+L6+N6+P6+R6+T6+V6+X6+Z6+AB6+AD6+AF6+AH6+AJ6+AL6+AN6+AP6+AR6+AT6+AV6+AX6+AZ6+AZ6+BB6+BD6+BF6+BH6+BJ6+BL6+BN6+BP6+BR6+BT6+BV6+BX6+BZ6+CB6+CD6+CF6+CH6+CJ6+CL6+CN6+CP6 -> 925 | CS6: =E6+G6+I6+K6+M6+O6+Q6+S6+U6+W6+Y6+AA6+AC6+AE6+AG6+AI6+AK6+AM6+AO6+AQ6+AS6+AU6+AW6+AY6+BA6+BA6+BC6+BE6+BG6+BI6+BK6+BM6+BO6+BQ6+BS6+BU6+BW6+BY6+CA6+CC6+CE6+CG6+CI6+CK6+CM6+CO6+CQ6 -> 159.0625 | CT6: =LOG10(CR6) -> 2.9661417 | CU6: =LOG10(CS6) -> 2.2015678 | CV6: =Raw!CR7/Raw!$C7 -> 5068.75 | CW6: =Raw!CS7/Raw!$C7 -> 2133.9375 | CX6: =LOG10(CV6) -> 3.7049009 | CY6: =LOG10(CW6) -> 3.3291817 | CZ6: =LOG10(CR6+CV6) -> 3.7776986 | DA6: =LOG10(CS6+CW6) -> 3.3604041 | DB6: =0.590307*(4.87-0.33*CT6-CU6) -> 0.99738591 | DC6: 5 | DD6: =DC6/Raw!C7 -> 31.25 | DE6: =DC6/CR6 -> 0.0054054054 | DF6: =LOG(DE6) -> -2.2671717 | DH6: =-SUM('Shannon-Weiner'!B5:Z5) -> 0.35860392 | DI6: =SUM('p^2'!B5:Z5) -> 0.85856465 | DJ6: =1-DI6 -> 0.14143535 | DK6: =1/DI6 -> 1.1647347 | DL6: =SUM('Shannon-Weiner_B'!B5:Z5) -> -0.38946789 | DM6: =SUM('p_B^2'!B5:Z5) -> 0.82168264 | DN6: =1-DM6 -> 0.17831736 | DO6: =1/DM6 -> 1.2170149
A7: 44201 | B7: =Raw!B8 -> FA5 | C7: 1 | D7: =Raw!D8/Raw!$C8 -> 1281.25 | E7: =Raw!E8/Raw!$C8 -> 200.75 | F7: =Raw!F8/Raw!$C8 -> 50 | G7: =Raw!G8/Raw!$C8 -> 0.9375 | H7: =Raw!H8/Raw!$C8 -> 0 | I7: =Raw!I8/Raw!$C8 -> 0 | J7: =Raw!J8/Raw!$C8 -> 0 | K7: =Raw!K8/Raw!$C8 -> 0 | ... CQ7: =Raw!CQ8/Raw!$C8 -> 0 | CR7: =D7+F7+H7+J7+L7+N7+P7+R7+T7+V7+X7+Z7+AB7+AD7+AF7+AH7+AJ7+AL7+AN7+AP7+AR7+AT7+AV7+AX7+AZ7+AZ7+BB7+BD7+BF7+BH7+BJ7+BL7+BN7+BP7+BR7+BT7+BV7+BX7+BZ7+CB7+CD7+CF7+CH7+CJ7+CL7+CN7+CP7 -> 1331.25 | CS7: =E7+G7+I7+K7+M7+O7+Q7+S7+U7+W7+Y7+AA7+AC7+AE7+AG7+AI7+AK7+AM7+AO7+AQ7+AS7+AU7+AW7+AY7+BA7+BA7+BC7+BE7+BG7+BI7+BK7+BM7+BO7+BQ7+BS7+BU7+BW7+BY7+CA7+CC7+CE7+CG7+CI7+CK7+CM7+CO7+CQ7 -> 201.6875 | CT7: =LOG10(CR7) -> 3.1242596 | CU7: =LOG10(CS7) -> 2.304679 | CV7: =Raw!CR8/Raw!$C8 -> 5068.75 | CW7: =Raw!CS8/Raw!$C8 -> 2133.9375 | CX7: =LOG10(CV7) -> 3.7049009 | CY7: =LOG10(CW7) -> 3.3291817 | CZ7: =LOG10(CR7+CV7) -> 3.80618 | DA7: =LOG10(CS7+CW7) -> 3.3684031 | DB7: =0.590307*(4.87-0.33*CT7-CU7) -> 0.90571709 | DC7: 2 | DD7: =DC7/Raw!C8 -> 12.5 | DE7: =DC7/CR7 -> 0.0015023474 | DF7: =LOG(DE7) -> -2.8232296 | DH7: =-SUM('Shannon-Weiner'!B6:Z6) -> 0.16010635 | DI7: =SUM('p^2'!B6:Z6) -> 0.92770394 | DJ7: =1-DI7 -> 0.072296061 | DK7: =1/DI7 -> 1.0779301 | DL7: =SUM('Shannon-Weiner_B'!B6:Z6) -> -0.029604572 | DM7: =SUM('p_B^2'!B6:Z6) -> 0.99074665 | DN7: =1-DM7 -> 0.0092533473 | DO7: =1/DM7 -> 1.0093398
A8: 44201 | B8: =Raw!B9 -> FA6 | C8: 1 | D8: =Raw!D9/Raw!$C9 -> 1843.75 | E8: =Raw!E9/Raw!$C9 -> 139.625 | F8: =Raw!F9/Raw!$C9 -> 87.5 | G8: =Raw!G9/Raw!$C9 -> 178.9375 | H8: =Raw!H9/Raw!$C9 -> 0 | I8: =Raw!I9/Raw!$C9 -> 0 | J8: =Raw!J9/Raw!$C9 -> 0 | K8: =Raw!K9/Raw!$C9 -> 0 | ... CQ8: =Raw!CQ9/Raw!$C9 -> 0 | CR8: =D8+F8+H8+J8+L8+N8+P8+R8+T8+V8+X8+Z8+AB8+AD8+AF8+AH8+AJ8+AL8+AN8+AP8+AR8+AT8+AV8+AX8+AZ8+AZ8+BB8+BD8+BF8+BH8+BJ8+BL8+BN8+BP8+BR8+BT8+BV8+BX8+BZ8+CB8+CD8+CF8+CH8+CJ8+CL8+CN8+CP8 -> 1931.25 | CS8: =E8+G8+I8+K8+M8+O8+Q8+S8+U8+W8+Y8+AA8+AC8+AE8+AG8+AI8+AK8+AM8+AO8+AQ8+AS8+AU8+AW8+AY8+BA8+BA8+BC8+BE8+BG8+BI8+BK8+BM8+BO8+BQ8+BS8+BU8+BW8+BY8+CA8+CC8+CE8+CG8+CI8+CK8+CM8+CO8+CQ8 -> 318.5625 | CT8: =LOG10(CR8) -> 3.2858385 | CU8: =LOG10(CS8) -> 2.5031947 | CV8: =Raw!CR9/Raw!$C9 -> 5068.75 | CW8: =Raw!CS9/Raw!$C9 -> 2133.9375 | CX8: =LOG10(CV8) -> 3.7049009 | CY8: =LOG10(CW8) -> 3.3291817 | CZ8: =LOG10(CR8+CV8) -> 3.845098 | DA8: =LOG10(CS8+CW8) -> 3.389609 | DB8: =0.590307*(4.87-0.33*CT8-CU8) -> 0.75705612 | DC8: 2 | DD8: =DC8/Raw!C9 -> 12.5 | DE8: =DC8/CR8 -> 0.0010355987 | DF8: =LOG(DE8) -> -2.9848085 | DH8: =-SUM('Shannon-Weiner'!B7:Z7) -> 0.18445929 | DI8: =SUM('p^2'!B7:Z7) -> 0.91349064 | DJ8: =1-DI8 -> 0.086509358 | DK8: =1/DI8 -> 1.094702 | DL8: =SUM('Shannon-Weiner_B'!B7:Z7) -> -0.68551322 | DM8: =SUM('p_B^2'!B7:Z7) -> 0.50761451 | DN8: =1-DM8 -> 0.49238549 | DO8: =1/DM8 -> 1.9699988
A9: 44201 | B9: =Raw!B10 -> FA7 | C9: 1 | D9: =Raw!D10/Raw!$C10 -> 650 | E9: =Raw!E10/Raw!$C10 -> 102.1875 | F9: =Raw!F10/Raw!$C10 -> 6.25 | G9: =Raw!G10/Raw!$C10 -> 0.625 | H9: =Raw!H10/Raw!$C10 -> 0 | I9: =Raw!I10/Raw!$C10 -> 0 | J9: =Raw!J10/Raw!$C10 -> 0 | K9: =Raw!K10/Raw!$C10 -> 0 | ... CQ9: =Raw!CQ10/Raw!$C10 -> 0 | CR9: =D9+F9+H9+J9+L9+N9+P9+R9+T9+V9+X9+Z9+AB9+AD9+AF9+AH9+AJ9+AL9+AN9+AP9+AR9+AT9+AV9+AX9+AZ9+AZ9+BB9+BD9+BF9+BH9+BJ9+BL9+BN9+BP9+BR9+BT9+BV9+BX9+BZ9+CB9+CD9+CF9+CH9+CJ9+CL9+CN9+CP9 -> 675 | CS9: =E9+G9+I9+K9+M9+O9+Q9+S9+U9+W9+Y9+AA9+AC9+AE9+AG9+AI9+AK9+AM9+AO9+AQ9+AS9+AU9+AW9+AY9+BA9+BA9+BC9+BE9+BG9+BI9+BK9+BM9+BO9+BQ9+BS9+BU9+BW9+BY9+CA9+CC9+CE9+CG9+CI9+CK9+CM9+CO9+CQ9 -> 114.0625 | CT9: =LOG10(CR9) -> 2.8293038 | CU9: =LOG10(CS9) -> 2.0571429 | CV9: =Raw!CR10/Raw!$C10 -> 5068.75 | CW9: =Raw!CS10/Raw!$C10 -> 2133.9375 | CX9: =LOG10(CV9) -> 3.7049009 | CY9: =LOG10(CW9) -> 3.3291817 | CZ9: =LOG10(CR9+CV9) -> 3.7591955 | DA9: =LOG10(CS9+CW9) -> 3.3517963 | DB9: =0.590307*(4.87-0.33*CT9-CU9) -> 1.1092972 | DC9: 5 | DD9: =DC9/Raw!C10 -> 31.25 | DE9: =DC9/CR9 -> 0.0074074074 | DF9: =LOG(DE9) -> -2.1303338 | DH9: =-SUM('Shannon-Weiner'!B8:Z8) -> 0.20975481 | DI9: =SUM('p^2'!B8:Z8) -> 0.9276406 | DJ9: =1-DI9 -> 0.072359396 | DK9: =1/DI9 -> 1.0780037 | DL9: =SUM('Shannon-Weiner_B'!B8:Z8) -> -0.40258666 | DM9: =SUM('p_B^2'!B8:Z8) -> 0.81005247 | DN9: =1-DM9 -> 0.18994753 | DO9: =1/DM9 -> 1.2344879
B10: =Raw!B11 -> FA8 | C10: 1 | D10: =Raw!D11/Raw!$C11 -> 500 | E10: =Raw!E11/Raw!$C11 -> 86 | F10: =Raw!F11/Raw!$C11 -> 68.75 | G10: =Raw!G11/Raw!$C11 -> 108.8125 | H10: =Raw!H11/Raw!$C11 -> 0 | I10: =Raw!I11/Raw!$C11 -> 0 | J10: =Raw!J11/Raw!$C11 -> 0 | K10: =Raw!K11/Raw!$C11 -> 0 | ... CQ10: =Raw!CQ11/Raw!$C11 -> 0 | CR10: =D10+F10+H10+J10+L10+N10+P10+R10+T10+V10+X10+Z10+AB10+AD10+AF10+AH10+AJ10+AL10+AN10+AP10+AR10+AT10+AV10+AX10+AZ10+AZ10+BB10+BD10+BF10+BH10+BJ10+BL10+BN10+BP10+BR10+BT10+BV10+BX10+BZ10+CB10+CD10+CF10+CH10+CJ10+CL10+CN10+CP10 -> 593.75 | CS10: =E10+G10+I10+K10+M10+O10+Q10+S10+U10+W10+Y10+AA10+AC10+AE10+AG10+AI10+AK10+AM10+AO10+AQ10+AS10+AU10+AW10+AY10+BA10+BA10+BC10+BE10+BG10+BI10+BK10+BM10+BO10+BQ10+BS10+BU10+BW10+BY10+CA10+CC10+CE10+CG10+CI10+CK10+CM10+CO10+CQ10 -> 245.5625 | CT10: =LOG10(CR10) -> 2.7736036 | CU10: =LOG10(CS10) -> 2.390162 | CV10: =Raw!CR11/Raw!$C11 -> 5068.75 | CW10: =Raw!CS11/Raw!$C11 -> 2133.9375 | CX10: =LOG10(CV10) -> 3.7049009 | CY10: =LOG10(CW10) -> 3.3291817 | CZ10: =LOG10(CR10+CV10) -> 3.7530082 | DA10: =LOG10(CS10+CW10) -> 3.3764857 | DB10: =0.590307*(4.87-0.33*CT10-CU10) -> 0.92356408 | DC10: 4 | DD10: =DC10/Raw!C11 -> 25 | DE10: =DC10/CR10 -> 0.0067368421 | DF10: =LOG(DE10) -> -2.1715436 | DH10: =-SUM('Shannon-Weiner'!B9:Z9) -> 0.55140515 | DI10: =SUM('p^2'!B9:Z9) -> 0.72365651 | DJ10: =1-DI10 -> 0.27634349 | DK10: =1/DI10 -> 1.3818711 | DL10: =SUM('Shannon-Weiner_B'!B9:Z9) -> -1.0840991 | DM10: =SUM('p_B^2'!B9:Z9) -> 0.35896847 | DN10: =1-DM10 -> 0.64103153 | DO10: =1/DM10 -> 2.78576
B11: =Raw!B12 -> FA9 | C11: 1 | D11: =Raw!D12/Raw!$C12 -> 644.44444 | E11: =Raw!E12/Raw!$C12 -> 120.72222 | F11: =Raw!F12/Raw!$C12 -> 77.777778 | G11: =Raw!G12/Raw!$C12 -> 137.38889 | H11: =Raw!H12/Raw!$C12 -> 0 | I11: =Raw!I12/Raw!$C12 -> 0 | J11: =Raw!J12/Raw!$C12 -> 0 | K11: =Raw!K12/Raw!$C12 -> 0 | ... CQ11: =Raw!CQ12/Raw!$C12 -> 0 | CR11: =D11+F11+H11+J11+L11+N11+P11+R11+T11+V11+X11+Z11+AB11+AD11+AF11+AH11+AJ11+AL11+AN11+AP11+AR11+AT11+AV11+AX11+AZ11+AZ11+BB11+BD11+BF11+BH11+BJ11+BL11+BN11+BP11+BR11+BT11+BV11+BX11+BZ11+CB11+CD11+CF11+CH11+CJ11+CL11+CN11+CP11 -> 733.33333 | CS11: =E11+G11+I11+K11+M11+O11+Q11+S11+U11+W11+Y11+AA11+AC11+AE11+AG11+AI11+AK11+AM11+AO11+AQ11+AS11+AU11+AW11+AY11+BA11+BA11+BC11+BE11+BG11+BI11+BK11+BM11+BO11+BQ11+BS11+BU11+BW11+BY11+CA11+CC11+CE11+CG11+CI11+CK11+CM11+CO11+CQ11 -> 377.88889 | CT11: =LOG10(CR11) -> 2.8653014 | CU11: =LOG10(CS11) -> 2.5773641 | CV11: =Raw!CR12/Raw!$C12 -> 4505.5556 | CW11: =Raw!CS12/Raw!$C12 -> 1896.8333 | CX11: =LOG10(CV11) -> 3.6537483 | CY11: =LOG10(CW11) -> 3.2780292 | CZ11: =LOG10(CR11+CV11) -> 3.7192392 | DA11: =LOG10(CS11+CW11) -> 3.3569284 | DB11: =0.590307*(4.87-0.33*CT11-CU11) -> 0.79519454 | DC11: 4 | DD11: =DC11/Raw!C12 -> 22.222222 | DE11: =DC11/CR11 -> 0.0054545455 | DF11: =LOG(DE11) -> -2.2632414 | DH11: =-SUM('Shannon-Weiner'!B10:Z10) -> 0.42550446 | DI11: =SUM('p^2'!B10:Z10) -> 0.78363177 | DJ11: =1-DI11 -> 0.21636823 | DK11: =1/DI11 -> 1.2761096 | DL11: =SUM('Shannon-Weiner_B'!B10:Z10) -> -1.1216706 | DM11: =SUM('p_B^2'!B10:Z10) -> 0.33167935 | DN11: =1-DM11 -> 0.66832065 | DO11: =1/DM11 -> 3.0149601
B12: =Raw!B13 -> FA10 | C12: 1 | D12: =Raw!D13/Raw!$C13 -> 631.25 | E12: =Raw!E13/Raw!$C13 -> 108.75 | F12: =Raw!F13/Raw!$C13 -> 56.25 | G12: =Raw!G13/Raw!$C13 -> 247.8125 | H12: =Raw!H13/Raw!$C13 -> 0 | I12: =Raw!I13/Raw!$C13 -> 0 | J12: =Raw!J13/Raw!$C13 -> 0 | K12: =Raw!K13/Raw!$C13 -> 0 | ... CQ12: =Raw!CQ13/Raw!$C13 -> 0 | CR12: =D12+F12+H12+J12+L12+N12+P12+R12+T12+V12+X12+Z12+AB12+AD12+AF12+AH12+AJ12+AL12+AN12+AP12+AR12+AT12+AV12+AX12+AZ12+AZ12+BB12+BD12+BF12+BH12+BJ12+BL12+BN12+BP12+BR12+BT12+BV12+BX12+BZ12+CB12+CD12+CF12+CH12+CJ12+CL12+CN12+CP12 -> 718.75 | CS12: =E12+G12+I12+K12+M12+O12+Q12+S12+U12+W12+Y12+AA12+AC12+AE12+AG12+AI12+AK12+AM12+AO12+AQ12+AS12+AU12+AW12+AY12+BA12+BA12+BC12+BE12+BG12+BI12+BK12+BM12+BO12+BQ12+BS12+BU12+BW12+BY12+CA12+CC12+CE12+CG12+CI12+CK12+CM12+CO12+CQ12 -> 461 | CT12: =LOG10(CR12) -> 2.8565779 | CU12: =LOG10(CS12) -> 2.6637009 | CV12: =Raw!CR13/Raw!$C13 -> 5068.75 | CW12: =Raw!CS13/Raw!$C13 -> 2133.9375 | CX12: =LOG10(CV12) -> 3.7049009 | CY12: =LOG10(CW12) -> 3.3291817 | CZ12: =LOG10(CR12+CV12) -> 3.762491 | DA12: =LOG10(CS12+CW12) -> 3.4141269 | DB12: =0.590307*(4.87-0.33*CT12-CU12) -> 0.74592868 | DC12: 3 | DD12: =DC12/Raw!C13 -> 18.75 | DE12: =DC12/CR12 -> 0.004173913 | DF12: =LOG(DE12) -> -2.3794566 | DH12: =-SUM('Shannon-Weiner'!B11:Z11) -> 0.4497201 | DI12: =SUM('p^2'!B11:Z11) -> 0.77935728 | DJ12: =1-DI12 -> 0.22064272 | DK12: =1/DI12 -> 1.2831086 | DL12: =SUM('Shannon-Weiner_B'!B11:Z11) -> -1.0107722 | DM12: =SUM('p_B^2'!B11:Z11) -> 0.39593635 | DN12: =1-DM12 -> 0.60406365 | DO12: =1/DM12 -> 2.5256585
B13: =Raw!B14 -> FA11 | C13: 1 | D13: =Raw!D14/Raw!$C14 -> 806.25 | E13: =Raw!E14/Raw!$C14 -> 97.5 | F13: =Raw!F14/Raw!$C14 -> 181.25 | G13: =Raw!G14/Raw!$C14 -> 112 | H13: =Raw!H14/Raw!$C14 -> 0 | I13: =Raw!I14/Raw!$C14 -> 0 | J13: =Raw!J14/Raw!$C14 -> 0 | K13: =Raw!K14/Raw!$C14 -> 0 | ... CQ13: =Raw!CQ14/Raw!$C14 -> 0 | CR13: =D13+F13+H13+J13+L13+N13+P13+R13+T13+V13+X13+Z13+AB13+AD13+AF13+AH13+AJ13+AL13+AN13+AP13+AR13+AT13+AV13+AX13+AZ13+AZ13+BB13+BD13+BF13+BH13+BJ13+BL13+BN13+BP13+BR13+BT13+BV13+BX13+BZ13+CB13+CD13+CF13+CH13+CJ13+CL13+CN13+CP13 -> 993.75 | CS13: =E13+G13+I13+K13+M13+O13+Q13+S13+U13+W13+Y13+AA13+AC13+AE13+AG13+AI13+AK13+AM13+AO13+AQ13+AS13+AU13+AW13+AY13+BA13+BA13+BC13+BE13+BG13+BI13+BK13+BM13+BO13+BQ13+BS13+BU13+BW13+BY13+CA13+CC13+CE13+CG13+CI13+CK13+CM13+CO13+CQ13 -> 423.25 | CT13: =LOG10(CR13) -> 2.9972771 | CU13: =LOG10(CS13) -> 2.626597 | CV13: =Raw!CR14/Raw!$C14 -> 5068.75 | CW13: =Raw!CS14/Raw!$C14 -> 2133.9375 | CX13: =LOG10(CV13) -> 3.7049009 | CY13: =LOG10(CW13) -> 3.3291817 | CZ13: =LOG10(CR13+CV13) -> 3.7826518 | DA13: =LOG10(CS13+CW13) -> 3.4077626 | DB13: =0.590307*(4.87-0.33*CT13-CU13) -> 0.740423 | DC13: 3 | DD13: =DC13/Raw!C14 -> 18.75 | DE13: =DC13/CR13 -> 0.0030188679 | DF13: =LOG(DE13) -> -2.5201559 | DH13: =-SUM('Shannon-Weiner'!B12:Z12) -> 0.51187666 | DI13: =SUM('p^2'!B12:Z12) -> 0.69154701 | DJ13: =1-DI13 -> 0.30845299 | DK13: =1/DI13 -> 1.4460333 | DL13: =SUM('Shannon-Weiner_B'!B12:Z12) -> -1.0350038 | DM13: =SUM('p_B^2'!B12:Z12) -> 0.37813498 | DN13: =1-DM13 -> 0.62186502 | DO13: =1/DM13 -> 2.6445583
B14: =Raw!B15 -> FA12 | C14: 1 | D14: =Raw!D15/Raw!$C15 -> 625 | E14: =Raw!E15/Raw!$C15 -> 70.125 | F14: =Raw!F15/Raw!$C15 -> 37.5 | G14: =Raw!G15/Raw!$C15 -> 86.5 | H14: =Raw!H15/Raw!$C15 -> 0 | I14: =Raw!I15/Raw!$C15 -> 0 | J14: =Raw!J15/Raw!$C15 -> 0 | K14: =Raw!K15/Raw!$C15 -> 0 | ... CQ14: =Raw!CQ15/Raw!$C15 -> 0 | CR14: =D14+F14+H14+J14+L14+N14+P14+R14+T14+V14+X14+Z14+AB14+AD14+AF14+AH14+AJ14+AL14+AN14+AP14+AR14+AT14+AV14+AX14+AZ14+AZ14+BB14+BD14+BF14+BH14+BJ14+BL14+BN14+BP14+BR14+BT14+BV14+BX14+BZ14+CB14+CD14+CF14+CH14+CJ14+CL14+CN14+CP14 -> 668.75 | CS14: =E14+G14+I14+K14+M14+O14+Q14+S14+U14+W14+Y14+AA14+AC14+AE14+AG14+AI14+AK14+AM14+AO14+AQ14+AS14+AU14+AW14+AY14+BA14+BA14+BC14+BE14+BG14+BI14+BK14+BM14+BO14+BQ14+BS14+BU14+BW14+BY14+CA14+CC14+CE14+CG14+CI14+CK14+CM14+CO14+CQ14 -> 185.25 | CT14: =LOG10(CR14) -> 2.8252638 | CU14: =LOG10(CS14) -> 2.2677582 | CV14: =Raw!CR15/Raw!$C15 -> 5068.75 | CW14: =Raw!CS15/Raw!$C15 -> 2133.9375 | CX14: =LOG10(CV14) -> 3.7049009 | CY14: =LOG10(CW14) -> 3.3291817 | CZ14: =LOG10(CR14+CV14) -> 3.7587227 | DA14: =LOG10(CS14+CW14) -> 3.3653359 | DB14: =0.590307*(4.87-0.33*CT14-CU14) -> 0.98575645 | DC14: 3 | DD14: =DC14/Raw!C15 -> 18.75 | DE14: =DC14/CR14 -> 0.0044859813 | DF14: =LOG(DE14) -> -2.3481425 | DH14: =-SUM('Shannon-Weiner'!B13:Z13) -> 0.26845897 | DI14: =SUM('p^2'!B13:Z13) -> 0.87667045 | DJ14: =1-DI14 -> 0.12332955 | DK14: =1/DI14 -> 1.1406795 | DL14: =SUM('Shannon-Weiner_B'!B13:Z13) -> -1.0118838 | DM14: =SUM('p_B^2'!B13:Z13) -> 0.38520091 | DN14: =1-DM14 -> 0.61479909 | DO14: =1/DM14 -> 2.5960479
