Workbook

Sheet Raw
D1: Oxalis | F1: Other Compositae | H1: Senecio | J1: Euphorbia | L1: Malva | N1: Chrysanthenum | P1: Lathyrus | R1: Other Compositae | T1: Other Compositae | V1: Fumaria | X1: Grasses | Z1: Grasses | AB1: Grasses | AD1: https://flora-on.pt/#/1gladiolus | AT1: Grasses | AV1: Other Compositae | BJ1: Other Compositae | BT1: Other Compositae | BV1: Polycarpon tetraphyllum | BX1: Solanum sp. | CF1: Grasses | CL1: Anagallis | CP1: Arisarum
D2: Oxalis | F2: Hypochaeris | H2: Senecio vulgaris | J2: Euphorbia | L2: Malva | N2: Chrysanthenum | P2: Lathyrus | R2: Crepis | T2: Picris | V2: Fumaria | X2: Erva | Z2: Poa (Grass B) | AB2: Vulpia | AD2: Gladiolus | AF2: Geranium sp | AH2: Sonchus sp. | AJ2: Erodium muscatum | AL2: Carlina | AN2: unknown | AP2: Sisymbrium | AR2: Echium sp | AT2: Bromus sp | AV2: Andryala sp | AX2: Centaura sp | AZ2: Conyza sp | BB2: Allium | BD2: Orobanche sp | BF2: Convulvus or Aristolochia | BH2: Urospermum sp | BJ2: Aetheorhiza sp | BL2: Medicago sp | BN2: outro FC 7 e 8 | BP2: Urtica sp | BR2: Stelaria | BT2: Forb A | BV2: Polycarpon | BX2: Solanum sp. | BZ2: Asparagaceae | CB2: Silene | CD2: Trifolium | CF2: relva | CH2: Papaver | CJ2: Sherardia | CL2: Anagallis | CN2: Calamintha | CP2: Arisarum | CR2: Dead grass
A3: Date | B3: Quadrat | C3: area (m2) | D3: Density | E3: Weight | F3: Density | G3: Weight | H3: Density | I3: Weight | J3: Density | K3: Weight | L3: Density | M3: Weight | N3: Density | O3: Weight | P3: Density | Q3: Weight | R3: Density | S3: Weight | T3: Density | U3: Weight | V3: Density | W3: Weight | X3: Density | Y3: Weight | Z3: Density | AA3: Weight | AB3: Density | AC3: Weight | AD3: Density | AE3: Weight | AF3: Density | AG3: Weight | AH3: Density | AI3: Weight | AJ3: Density | AK3: Weight | AL3: Density | AM3: Weight | AN3: Density | AO3: Weight | AP3: Density | AQ3: Weight | AR3: Density | AS3: Weight | AT3: Density | AU3: Weight | AV3: Density | AW3: Weight | AX3: Density | AY3: Weight | AZ3: Density | BA3: Weight | BB3: Density | BC3: Weight | BD3: Density | BE3: Weight | BF3: Density | BG3: Weight | BH3: Density | BI3: Weight | BJ3: Density | BK3: Weight | BL3: Density | BM3: Weight | BN3: Density | BO3: Weight | BP3: Density | BQ3: Weight | BR3: Density | BS3: Weight | BT3: Density | BU3: Weight | BV3: Density | BW3: Weight | BX3: Density | BY3: Weight | BZ3: Density | CA3: Weight | CB3: Density | CC3: Weight | CD3: Density | CE3: Weight | CF3: Density | CG3: Weight | CH3: Density | CI3: Weight | CJ3: Density | CK3: Weight | CL3: Density | CM3: Weight | CN3: Density | CO3: Weight | CP3: Density | CQ3: Weight | CR3: Density | CS3: Weight
A4: 44201 | B4: FA1 | C4: =0.4*0.4 -> 0.16 | D4: 113 | E4: 25.8 | F4: =1+28 -> 29 | G4: =29.14+0.85 -> 29.99 | H4: 0 | I4: 0 | J4: 0 | K4: 0 | L4: 0 | M4: 0 | N4: 0 | O4: 0 | P4: 0 | Q4: 0 | X4: 3 | Y4: 0.6 | Z4: 0 | AA4: 0 | AB4: 0 | AC4: 0 | AD4: 0 | AE4: 0 | AF4: 0 | AG4: 0 | AH4: 0 | AI4: 0 | AJ4: 0 | AK4: 0 | AL4: 0 | AM4: 0 | AN4: 0 | AO4: 0 | AP4: 0 | AQ4: 0 | AR4: 0 | AS4: 0 | AT4: 0 | AU4: 0 | AV4: 0 | AW4: 0 | AX4: 0 | AY4: 0 | AZ4: 0 | BA4: 0 | BB4: 0 | BC4: 0 | BD4: 0 | BE4: 0 | BF4: 0 | BG4: 0 | BH4: 0 | BI4: 0 | BJ4: 0 | BK4: 0 | BL4: 0 | BM4: 0 | BN4: 0 | BO4: 0 | BP4: 0 | BQ4: 0 | BR4: 0 | BS4: 0 | BT4: 0 | BU4: 0 | BV4: 0 | BW4: 0 | BX4: 0 | BY4: 0 | BZ4: 0 | CA4: 0 | CB4: 0 | CC4: 0 | CD4: 0 | CE4: 0 | CF4: 0 | CG4: 0 | CH4: 0 | CI4: 0 | CJ4: 0 | CK4: 0 | CL4: 0 | CM4: 0 | CN4: 0 | CO4: 0 | CP4: 0 | CQ4: 0 | CR4: 811 | CS4: =148.55+192.88 -> 341.43
A5: 44201 | B5: FA2 | C5: =0.4*0.4 -> 0.16 | D5: 64 | E5: =6.94+7.98 -> 14.92 | F5: =25+2 -> 27 | G5: =47.25+0.09 -> 47.34 | H5: 0 | I5: 0 | J5: 0 | K5: 0 | L5: 0 | M5: 0 | N5: 0 | O5: 0 | P5: 0 | Q5: 0 | X5: 0 | Y5: 0 | Z5: 0 | AA5: 0 | AB5: 0 | AC5: 0 | AD5: 0 | AE5: 0 | AF5: 0 | AG5: 0 | AH5: 0 | AI5: 0 | AJ5: 0 | AK5: 0 | AL5: 0 | AM5: 0 | AN5: 0 | AO5: 0 | AP5: 0 | AQ5: 0 | AR5: 0 | AS5: 0 | AT5: 0 | AU5: 0 | AV5: 0 | AW5: 0 | AX5: 0 | AY5: 0 | AZ5: 0 | BA5: 0 | BB5: 0 | BC5: 0 | BD5: 0 | BE5: 0 | BF5: 0 | BG5: 0 | BH5: 0 | BI5: 0 | BJ5: 0 | BK5: 0 | BL5: 0 | BM5: 0 | BN5: 0 | BO5: 0 | BP5: 0 | BQ5: 0 | BR5: 0 | BS5: 0 | BT5: 0 | BU5: 0 | BV5: 0 | BW5: 0 | BX5: 0 | BY5: 0 | BZ5: 0 | CA5: 0 | CB5: 0 | CC5: 0 | CD5: 0 | CE5: 0 | CF5: 0 | CG5: 0 | CH5: 0 | CI5: 0 | CJ5: 0 | CK5: 0 | CL5: 0 | CM5: 0 | CN5: 0 | CO5: 0 | CP5: 0 | CQ5: 0 | CR5: 811 | CS5: =CS$4 -> 341.43
A6: 44201 | B6: FA3 | C6: =0.4*0.4 -> 0.16 | D6: 119 | E6: 19 | F6: 5 | G6: =11.66+2.45 -> 14.11 | H6: 0 | I6: 0 | J6: 0 | K6: 0 | L6: 0 | M6: 0 | N6: 0 | O6: 0 | P6: 0 | Q6: 0 | X6: 2 | Y6: 0.1 | Z6: 0 | AA6: 0 | AB6: 0 | AC6: 0 | AD6: 0 | AE6: 0 | AF6: 0 | AG6: 0 | AH6: 0 | AI6: 0 | AJ6: 0 | AK6: 0 | AL6: 0 | AM6: 0 | AN6: 0 | AO6: 0 | AP6: 0 | AQ6: 0 | AR6: 0 | AS6: 0 | AT6: 0 | AU6: 0 | AV6: 0 | AW6: 0 | AX6: 0 | AY6: 0 | AZ6: 0 | BA6: 0 | BB6: 0 | BC6: 0 | BD6: 0 | BE6: 0 | BF6: 0 | BG6: 0 | BH6: 0 | BI6: 0 | BJ6: 0 | BK6: 0 | BL6: 0 | BM6: 0 | BN6: 0 | BO6: 0 | BP6: 0 | BQ6: 0 | BR6: 0 | BS6: 0 | BT6: 0 | BU6: 0 | BV6: 0 | BW6: 0 | BX6: 0 | BY6: 0 | BZ6: 0 | CA6: 0 | CB6: 0 | CC6: 0 | CD6: 0 | CE6: 0 | CF6: 0 | CG6: 0 | CH6: 0 | CI6: 0 | CJ6: 0 | CK6: 0 | CL6: 0 | CM6: 0 | CN6: 0 | CO6: 0 | CP6: 0 | CQ6: 0 | CR6: 811 | CS6: =CS$4 -> 341.43
A7: 44201 | B7: FA4 | C7: =0.4*0.4 -> 0.16 | D7: 137 | E7: 22.99 | F7: =1+3 -> 4 | G7: =0.3+0.04 -> 0.34 | H7: 1 | I7: 0.23 | J7: 0 | K7: 0 | L7: 0 | M7: 0 | N7: 0 | O7: 0 | P7: 0 | Q7: 0 | X7: 0 | Y7: 0 | Z7: 0 | AA7: 0 | AB7: 0 | AC7: 0 | AD7: 2 | AE7: 1.87 | AF7: 0 | AG7: 0 | AH7: 0 | AI7: 0 | AJ7: 0 | AK7: 0 | AL7: 0 | AM7: 0 | AN7: 4 | AO7: 0.02 | AP7: 0 | AQ7: 0 | AR7: 0 | AS7: 0 | AT7: 0 | AU7: 0 | AV7: 0 | AW7: 0 | AX7: 0 | AY7: 0 | AZ7: 0 | BA7: 0 | BB7: 0 | BC7: 0 | BD7: 0 | BE7: 0 | BF7: 0 | BG7: 0 | BH7: 0 | BI7: 0 | BJ7: 0 | BK7: 0 | BL7: 0 | BM7: 0 | BN7: 0 | BO7: 0 | BP7: 0 | BQ7: 0 | BR7: 0 | BS7: 0 | BT7: 0 | BU7: 0 | BV7: 0 | BW7: 0 | BX7: 0 | BY7: 0 | BZ7: 0 | CA7: 0 | CB7: 0 | CC7: 0 | CD7: 0 | CE7: 0 | CF7: 0 | CG7: 0 | CH7: 0 | CI7: 0 | CJ7: 0 | CK7: 0 | CL7: 0 | CM7: 0 | CN7: 0 | CO7: 0 | CP7: 0 | CQ7: 0 | CR7: 811 | CS7: =CS$4 -> 341.43
A8: 44201 | B8: FA5 | C8: =0.4*0.4 -> 0.16 | D8: 205 | E8: 32.12 | F8: =3+5 -> 8 | G8: =0.08+0.07 -> 0.15 | H8: 0 | I8: 0 | J8: 0 | K8: 0 | L8: 0 | M8: 0 | N8: 0 | O8: 0 | P8: 0 | Q8: 0 | X8: 0 | Y8: 0 | Z8: 0 | AA8: 0 | AB8: 0 | AC8: 0 | AD8: 0 | AE8: 0 | AF8: 0 | AG8: 0 | AH8: 0 | AI8: 0 | AJ8: 0 | AK8: 0 | AL8: 0 | AM8: 0 | AN8: 0 | AO8: 0 | AP8: 0 | AQ8: 0 | AR8: 0 | AS8: 0 | AT8: 0 | AU8: 0 | AV8: 0 | AW8: 0 | AX8: 0 | AY8: 0 | AZ8: 0 | BA8: 0 | BB8: 0 | BC8: 0 | BD8: 0 | BE8: 0 | BF8: 0 | BG8: 0 | BH8: 0 | BI8: 0 | BJ8: 0 | BK8: 0 | BL8: 0 | BM8: 0 | BN8: 0 | BO8: 0 | BP8: 0 | BQ8: 0 | BR8: 0 | BS8: 0 | BT8: 0 | BU8: 0 | BV8: 0 | BW8: 0 | BX8: 0 | BY8: 0 | BZ8: 0 | CA8: 0 | CB8: 0 | CC8: 0 | CD8: 0 | CE8: 0 | CF8: 0 | CG8: 0 | CH8: 0 | CI8: 0 | CJ8: 0 | CK8: 0 | CL8: 0 | CM8: 0 | CN8: 0 | CO8: 0 | CP8: 0 | CQ8: 0 | CR8: 811 | CS8: =CS$4 -> 341.43
A9: 44201 | B9: FA6 | C9: =0.4*0.4 -> 0.16 | D9: 295 | E9: 22.34 | F9: =13+1 -> 14 | G9: =28.52+0.11 -> 28.63 | H9: 0 | I9: 0 | J9: 0 | K9: 0 | L9: 0 | M9: 0 | N9: 0 | O9: 0 | P9: 0 | Q9: 0 | X9: 0 | Y9: 0 | Z9: 0 | AA9: 0 | AB9: 0 | AC9: 0 | AD9: 0 | AE9: 0 | AF9: 0 | AG9: 0 | AH9: 0 | AI9: 0 | AJ9: 0 | AK9: 0 | AL9: 0 | AM9: 0 | AN9: 0 | AO9: 0 | AP9: 0 | AQ9: 0 | AR9: 0 | AS9: 0 | AT9: 0 | AU9: 0 | AV9: 0 | AW9: 0 | AX9: 0 | AY9: 0 | AZ9: 0 | BA9: 0 | BB9: 0 | BC9: 0 | BD9: 0 | BE9: 0 | BF9: 0 | BG9: 0 | BH9: 0 | BI9: 0 | BJ9: 0 | BK9: 0 | BL9: 0 | BM9: 0 | BN9: 0 | BO9: 0 | BP9: 0 | BQ9: 0 | BR9: 0 | BS9: 0 | BT9: 0 | BU9: 0 | BV9: 0 | BW9: 0 | BX9: 0 | BY9: 0 | BZ9: 0 | CA9: 0 | CB9: 0 | CC9: 0 | CD9: 0 | CE9: 0 | CF9: 0 | CG9: 0 | CH9: 0 | CI9: 0 | CJ9: 0 | CK9: 0 | CL9: 0 | CM9: 0 | CN9: 0 | CO9: 0 | CP9: 0 | CQ9: 0 | CR9: 811 | CS9: =CS$4 -> 341.43
A10: 44201 | B10: FA7 | C10: =0.4*0.4 -> 0.16 | D10: 104 | E10: 16.35 | F10: 1 | G10: 0.1 | H10: 0 | I10: 0 | J10: 0 | K10: 0 | L10: 0 | M10: 0 | N10: 0 | O10: 0 | P10: 0 | Q10: 0 | X10: 1 | Y10: 0.08 | Z10: 0 | AA10: 0 | AB10: 0 | AC10: 0 | AD10: 0 | AE10: 0 | AF10: 0 | AG10: 0 | AH10: 1 | AI10: 1.56 | AJ10: 0 | AK10: 0 | AL10: 0 | AM10: 0 | AN10: 0 | AO10: 0 | AP10: 1 | AQ10: 0.16 | AR10: 0 | AS10: 0 | AT10: 0 | AU10: 0 | AV10: 0 | AW10: 0 | AX10: 0 | AY10: 0 | AZ10: 0 | BA10: 0 | BB10: 0 | BC10: 0 | BD10: 0 | BE10: 0 | BF10: 0 | BG10: 0 | BH10: 0 | BI10: 0 | BJ10: 0 | BK10: 0 | BL10: 0 | BM10: 0 | BN10: 0 | BO10: 0 | BP10: 0 | BQ10: 0 | BR10: 0 | BS10: 0 | BT10: 0 | BU10: 0 | BV10: 0 | BW10: 0 | BX10: 0 | BY10: 0 | BZ10: 0 | CA10: 0 | CB10: 0 | CC10: 0 | CD10: 0 | CE10: 0 | CF10: 0 | CG10: 0 | CH10: 0 | CI10: 0 | CJ10: 0 | CK10: 0 | CL10: 0 | CM10: 0 | CN10: 0 | CO10: 0 | CP10: 0 | CQ10: 0 | CR10: 811 | CS10: =CS$4 -> 341.43
A11: 44274 | B11: FA8 | C11: =0.4*0.4 -> 0.16 | D11: 80 | E11: =19.25-5.49 -> 13.76 | F11: 11 | G11: =27.98-10.57 -> 17.41 | H11: 0 | I11: 0 | J11: 0 | K11: 0 | L11: 0 | M11: 0 | N11: 0 | O11: 0 | P11: 0 | Q11: 0 | X11: 0 | Y11: 0 | Z11: 0 | AA11: 0 | AB11: 0 | AC11: 0 | AD11: 0 | AE11: 0 | AF11: 0 | AG11: 0 | AH11: 0 | AI11: 0 | AJ11: 0 | AK11: 0 | AL11: 0 | AM11: 0 | AN11: 0 | AO11: 0 | AP11: 0 | AQ11: 0 | AR11: 0 | AS11: 0 | AT11: 0 | AU11: 0 | AV11: 3 | AW11: =10.89-3.04 -> 7.85 | AX11: 1 | AY11: =3-2.73 -> 0.27 | AZ11: 0 | BA11: 0 | BB11: 0 | BC11: 0 | BD11: 0 | BE11: 0 | BF11: 0 | BG11: 0 | BH11: 0 | BI11: 0 | BJ11: 0 | BK11: 0 | BL11: 0 | BM11: 0 | BN11: 0 | BO11: 0 | BP11: 0 | BQ11: 0 | BR11: 0 | BS11: 0 | BT11: 0 | BU11: 0 | BV11: 0 | BW11: 0 | BX11: 0 | BY11: 0 | BZ11: 0 | CA11: 0 | CB11: 0 | CC11: 0 | CD11: 0 | CE11: 0 | CF11: 0 | CG11: 0 | CH11: 0 | CI11: 0 | CJ11: 0 | CK11: 0 | CL11: 0 | CM11: 0 | CN11: 0 | CO11: 0 | CP11: 0 | CQ11: 0 | CR11: 811 | CS11: =CS$4 -> 341.43
A12: 44274 | B12: FA9 | C12: =0.45*0.4 -> 0.18 | D12: =6+4+59+22+10+1+14 -> 116 | E12: =57.19-35.46 -> 21.73 | F12: =2+12 -> 14 | G12: =119.71-95.08+4.71-4.61 -> 24.73 | H12: 0 | I12: 0 | J12: 0 | K12: 0 | L12: 0 | M12: 0 | N12: 0 | O12: 0 | P12: 0 | Q12: 0 | X12: 1 | Y12: =4.92-4.59 -> 0.33 | Z12: 0 | AA12: 0 | AB12: 0 | AC12: 0 | AD12: 0 | AE12: 0 | AF12: 0 | AG12: 0 | AH12: 1 | AI12: =64.52-43.29 -> 21.23 | AJ12: 0 | AK12: 0 | AL12: 0 | AM12: 0 | AN12: 0 | AO12: 0 | AP12: 0 | AQ12: 0 | AR12: 0 | AS12: 0 | AT12: 0 | AU12: 0 | AV12: 0 | AW12: 0 | AX12: 0 | AY12: 0 | AZ12: 0 | BA12: 0 | BB12: 0 | BC12: 0 | BD12: 0 | BE12: 0 | BF12: 0 | BG12: 0 | BH12: 0 | BI12: 0 | BJ12: 0 | BK12: 0 | BL12: 0 | BM12: 0 | BN12: 0 | BO12: 0 | BP12: 0 | BQ12: 0 | BR12: 0 | BS12: 0 | BT12: 0 | BU12: 0 | BV12: 0 | BW12: 0 | BX12: 0 | BY12: 0 | BZ12: 0 | CA12: 0 | CB12: 0 | CC12: 0 | CD12: 0 | CE12: 0 | CF12: 0 | CG12: 0 | CH12: 0 | CI12: 0 | CJ12: 0 | CK12: 0 | CL12: 0 | CM12: 0 | CN12: 0 | CO12: 0 | CP12: 0 | CQ12: 0 | CR12: 811 | CS12: =CS$4 -> 341.43
A13: 44274 | B13: FA10 | C13: =0.4*0.4 -> 0.16 | D13: =59+32+6+4 -> 101 | E13: =22.9-5.5 -> 17.4 | F13: =3+6 -> 9 | G13: =110.15-70.51+4.6-4.59 -> 39.65 | H13: 0 | I13: 0 | J13: 0 | K13: 0 | L13: 0 | M13: 0 | N13: 0 | O13: 0 | P13: 0 | Q13: 0 | X13: 0 | Y13: 0 | Z13: 0 | AA13: 0 | AB13: 0 | AC13: 0 | AD13: 0 | AE13: 0 | AF13: 0 | AG13: 0 | AH13: 5 | AI13: =22.09-5.38 -> 16.71 | AJ13: 0 | AK13: 0 | AL13: 0 | AM13: 0 | AN13: 0 | AO13: 0 | AP13: 0 | AQ13: 0 | AR13: 0 | AS13: 0 | AT13: 0 | AU13: 0 | AV13: 0 | AW13: 0 | AX13: 0 | AY13: 0 | AZ13: 0 | BA13: 0 | BB13: 0 | BC13: 0 | BD13: 0 | BE13: 0 | BF13: 0 | BG13: 0 | BH13: 0 | BI13: 0 | BJ13: 0 | BK13: 0 | BL13: 0 | BM13: 0 | BN13: 0 | BO13: 0 | BP13: 0 | BQ13: 0 | BR13: 0 | BS13: 0 | BT13: 0 | BU13: 0 | BV13: 0 | BW13: 0 | BX13: 0 | BY13: 0 | BZ13: 0 | CA13: 0 | CB13: 0 | CC13: 0 | CD13: 0 | CE13: 0 | CF13: 0 | CG13: 0 | CH13: 0 | CI13: 0 | CJ13: 0 | CK13: 0 | CL13: 0 | CM13: 0 | CN13: 0 | CO13: 0 | CP13: 0 | CQ13: 0 | CR13: 811 | CS13: =CS$4 -> 341.43
A14: 44275 | B14: FA11 | C14: =0.4*0.4 -> 0.16 | D14: =79+16+32+2 -> 129 | E14: =22.52-6.92 -> 15.6 | F14: =29 -> 29 | G14: =23.34-5.42 -> 17.92 | H14: 0 | I14: 0 | J14: 0 | K14: 0 | L14: 0 | M14: 0 | N14: 0 | O14: 0 | P14: 0 | Q14: 0 | X14: 0 | Y14: 0 | Z14: 0 | AA14: 0 | AB14: 0 | AC14: 0 | AD14: 0 | AE14: 0 | AF14: 0 | AG14: 0 | AH14: 0 | AI14: 0 | AJ14: 0 | AK14: 0 | AL14: 1 | AM14: =39.61-5.41 -> 34.2 | AN14: 0 | AO14: 0 | AP14: 0 | AQ14: 0 | AR14: 0 | AS14: 0 | AT14: 0 | AU14: 0 | AV14: 0 | AW14: 0 | AX14: 0 | AY14: 0 | AZ14: 0 | BA14: 0 | BB14: 0 | BC14: 0 | BD14: 0 | BE14: 0 | BF14: 0 | BG14: 0 | BH14: 0 | BI14: 0 | BJ14: 0 | BK14: 0 | BL14: 0 | BM14: 0 | BN14: 0 | BO14: 0 | BP14: 0 | BQ14: 0 | BR14: 0 | BS14: 0 | BT14: 0 | BU14: 0 | BV14: 0 | BW14: 0 | BX14: 0 | BY14: 0 | BZ14: 0 | CA14: 0 | CB14: 0 | CC14: 0 | CD14: 0 | CE14: 0 | CF14: 0 | CG14: 0 | CH14: 0 | CI14: 0 | CJ14: 0 | CK14: 0 | CL14: 0 | CM14: 0 | CN14: 0 | CO14: 0 | CP14: 0 | CQ14: 0 | CR14: 811 | CS14: =CS$4 -> 341.43
A15: 44276 | B15: FA12 | C15: =0.4*0.4 -> 0.16 | D15: =63+35+2 -> 100 | E15: =16.77-5.55 -> 11.22 | F15: 6 | G15: =21.36-7.52 -> 13.84 | H15: 0 | I15: 0 | J15: 0 | K15: 0 | L15: 0 | M15: 0 | N15: 0 | O15: 0 | P15: 0 | Q15: 0 | X15: 0 | Y15: 0 | Z15: 0 | AA15: 0 | AB15: 0 | AC15: 0 | AD15: 0 | AE15: 0 | AF15: 0 | AG15: 0 | AH15: 0 | AI15: 0 | AJ15: 0 | AK15: 0 | AL15: 1 | AM15: =10.4-5.82 -> 4.58 | AN15: 0 | AO15: 0 | AP15: 0 | AQ15: 0 | AR15: 0 | AS15: 0 | AT15: 0 | AU15: 0 | AV15: 0 | AW15: 0 | AX15: 0 | AY15: 0 | AZ15: 0 | BA15: 0 | BB15: 0 | BC15: 0 | BD15: 0 | BE15: 0 | BF15: 0 | BG15: 0 | BH15: 0 | BI15: 0 | BJ15: 0 | BK15: 0 | BL15: 0 | BM15: 0 | BN15: 0 | BO15: 0 | BP15: 0 | BQ15: 0 | BR15: 0 | BS15: 0 | BT15: 0 | BU15: 0 | BV15: 0 | BW15: 0 | BX15: 0 | BY15: 0 | BZ15: 0 | CA15: 0 | CB15: 0 | CC15: 0 | CD15: 0 | CE15: 0 | CF15: 0 | CG15: 0 | CH15: 0 | CI15: 0 | CJ15: 0 | CK15: 0 | CL15: 0 | CM15: 0 | CN15: 0 | CO15: 0 | CP15: 0 | CQ15: 0 | CR15: 811 | CS15: =CS$4 -> 341.43
A16: 44277 | B16: FA13 | C16: =0.4*0.4 -> 0.16 | D16: =70+39 -> 109 | E16: =22.14-4.58 -> 17.56 | F16: 9 | G16: =27.58-7.3 -> 20.28 | H16: 0 | I16: 0 | J16: 0 | K16: 0 | L16: 0 | M16: 0 | N16: 0 | O16: 0 | P16: 0 | Q16: 0 | X16: 0 | Y16: 0 | Z16: 0 | AA16: 0 | AB16: 0 | AC16: 0 | AD16: 0 | AE16: 0 | AF16: 0 | AG16: 0 | AH16: 0 | AI16: 0 | AJ16: 0 | AK16: 0 | AL16: 0 | AM16: 0 | AN16: 0 | AO16: 0 | AP16: 0 | AQ16: 0 | AR16: 0 | AS16: 0 | AT16: 0 | AU16: 0 | AV16: 0 | AW16: 0 | AX16: 0 | AY16: 0 | AZ16: 0 | BA16: 0 | BB16: 0 | BC16: 0 | BD16: 0 | BE16: 0 | BF16: 0 | BG16: 0 | BH16: 0 | BI16: 0 | BJ16: 0 | BK16: 0 | BL16: 0 | BM16: 0 | BN16: 0 | BO16: 0 | BP16: 0 | BQ16: 0 | BR16: 0 | BS16: 0 | BT16: 0 | BU16: 0 | BV16: 0 | BW16: 0 | BX16: 0 | BY16: 0 | BZ16: 0 | CA16: 0 | CB16: 0 | CC16: 0 | CD16: 0 | CE16: 0 | CF16: 0 | CG16: 0 | CH16: 0 | CI16: 0 | CJ16: 0 | CK16: 0 | CL16: 0 | CM16: 0 | CN16: 0 | CO16: 0 | CP16: 0 | CQ16: 0 | CR16: 811 | CS16: =CS$4 -> 341.43
A17: 44281 | B17: FA14 | C17: =0.4*0.4 -> 0.16 | D17: =64+24 -> 88 | E17: =18.87-5.29 -> 13.58 | F17: 17 | G17: =130.18-95.7 -> 34.48 | H17: 0 | I17: 0 | J17: 0 | K17: 0 | L17: 0 | M17: 0 | N17: 0 | O17: 0 | P17: 0 | Q17: 0 | X17: 1 | Y17: =5.4-4.53 -> 0.87 | Z17: 0 | AA17: 0 | AB17: 0 | AC17: 0 | AD17: 0 | AE17: 0 | AF17: 0 | AG17: 0 | AH17: 0 | AI17: 0 | AJ17: 0 | AK17: 0 | AL17: 0 | AM17: 0 | AN17: 0 | AO17: 0 | AP17: 0 | AQ17: 0 | AR17: 0 | AS17: 0 | AT17: 0 | AU17: 0 | AV17: 0 | AW17: 0 | AX17: 0 | AY17: 0 | AZ17: 0 | BA17: 0 | BB17: 0 | BC17: 0 | BD17: 0 | BE17: 0 | BF17: 0 | BG17: 0 | BH17: 0 | BI17: 0 | BJ17: 0 | BK17: 0 | BL17: 0 | BM17: 0 | BN17: 0 | BO17: 0 | BP17: 0 | BQ17: 0 | BR17: 0 | BS17: 0 | BT17: 0 | BU17: 0 | BV17: 0 | BW17: 0 | BX17: 0 | BY17: 0 | BZ17: 0 | CA17: 0 | CB17: 0 | CC17: 0 | CD17: 0 | CE17: 0 | CF17: 0 | CG17: 0 | CH17: 0 | CI17: 0 | CJ17: 0 | CK17: 0 | CL17: 0 | CM17: 0 | CN17: 0 | CO17: 0 | CP17: 0 | CQ17: 0 | CR17: 811 | CS17: =CS$4 -> 341.43
A18: 44281 | B18: FA15 | C18: =0.4*0.4 -> 0.16 | D18: =62+12+7 -> 81 | E18: =14.8-5.35 -> 9.45 | F18: 0 | G18: 0 | H18: 0 | I18: 0 | J18: 0 | K18: 0 | L18: 0 | M18: 0 | N18: 0 | O18: 0 | P18: 0 | Q18: 0 | X18: 1 | Z18: 0 | AA18: 0 | AB18: 0 | AC18: 0 | AD18: 0 | AE18: 0 | AF18: 0 | AG18: 0 | AH18: 0 | AI18: 0 | AJ18: 0 | AK18: 0 | AL18: 2 | AM18: =36.64-5.2 -> 31.44 | AN18: 0 | AO18: 0 | AP18: 0 | AQ18: 0 | AR18: 0 | AS18: 0 | AT18: 0 | AU18: 0 | AV18: 0 | AW18: 0 | AX18: 0 | AY18: 0 | AZ18: 0 | BA18: 0 | BB18: 0 | BC18: 0 | BD18: 0 | BE18: 0 | BF18: 0 | BG18: 0 | BH18: 0 | BI18: 0 | BJ18: 0 | BK18: 0 | BL18: 0 | BM18: 0 | BN18: 0 | BO18: 0 | BP18: 0 | BQ18: 0 | BR18: 0 | BS18: 0 | BT18: 0 | BU18: 0 | BV18: 0 | BW18: 0 | BX18: 0 | BY18: 0 | BZ18: 0 | CA18: 0 | CB18: 0 | CC18: 0 | CD18: 0 | CE18: 0 | CF18: 0 | CG18: 0 | CH18: 0 | CI18: 0 | CJ18: 0 | CK18: 0 | CL18: 0 | CM18: 0 | CN18: 0 | CO18: 0 | CP18: 0 | CQ18: 0 | CR18: 811 | CS18: =CS$4 -> 341.43
A19: 44282 | B19: FA16 | C19: =0.4*0.4 -> 0.16 | D19: 39 | E19: =4.88-4.61+6.78-3.01 -> 4.04 | F19: 7 | G19: =4.86-2.8 -> 2.06 | H19: 0 | I19: 0 | J19: 0 | K19: 0 | L19: 0 | M19: 0 | N19: 0 | O19: 0 | P19: 1 | Q19: =4.77-4.6 -> 0.17 | X19: 5 | Y19: =4.55-3.42 -> 1.13 | Z19: 0 | AA19: 0 | AB19: 0 | AC19: 0 | AD19: 2 | AE19: =4.42-2.79 -> 1.63 | AF19: 0 | AG19: 0 | AH19: 3 | AI19: =16.61-5.66+19.13-5.66 -> 24.42 | AJ19: 0 | AK19: 0 | AL19: 0 | AM19: 0 | AN19: 0 | AO19: 0 | AP19: 0 | AQ19: 0 | AR19: 0 | AS19: 0 | AT19: 0 | AU19: 0 | AV19: 0 | AW19: 0 | AX19: 0 | AY19: 0 | AZ19: 1 | BA19: =43.82-7.61 -> 36.21 | BB19: 2 | BC19: =4.42-2.79 -> 1.63 | BD19: 0 | BE19: 0 | BF19: 0 | BG19: 0 | BH19: 0 | BI19: 0 | BJ19: 0 | BK19: 0 | BL19: 0 | BM19: 0 | BN19: 0 | BO19: 0 | BP19: 0 | BQ19: 0 | BR19: 0 | BS19: 0 | BT19: 0 | BU19: 0 | BV19: 0 | BW19: 0 | BX19: 0 | BY19: 0 | BZ19: 0 | CA19: 0 | CB19: 0 | CC19: 0 | CD19: 0 | CE19: 0 | CF19: 0 | CG19: 0 | CH19: 0 | CI19: 0 | CJ19: 0 | CK19: 0 | CL19: 0 | CM19: 0 | CN19: 0 | CO19: 0 | CP19: 0 | CQ19: 0 | CR19: 811 | CS19: =CS$4 -> 341.43
A20: 44282 | B20: FA17 | C20: =0.4*0.4 -> 0.16 | D20: =49+46+17+3 -> 115 | E20: =22.96-5.43 -> 17.53 | F20: 9 | G20: =3.76-3.44 -> 0.32 | H20: 0 | I20: 0 | J20: 0 | K20: 0 | L20: 0 | M20: 0 | N20: 0 | O20: 0 | P20: 2 | Q20: =18.38-7.66 -> 10.72 | X20: 6 | Y20: =7.88-5.92 -> 1.96 | Z20: 0 | AA20: 0 | AB20: 0 | AC20: 0 | AD20: 0 | AE20: 0 | AF20: 0 | AG20: 0 | AH20: 0 | AI20: 0 | AJ20: 0 | AK20: 0 | AL20: 1 | AM20: =8.7-5.41 -> 3.29 | AN20: 0 | AO20: 0 | AP20: 0 | AQ20: 0 | AR20: 0 | AS20: 0 | AT20: 0 | AU20: 0 | AV20: 0 | AW20: 0 | AX20: 0 | AY20: 0 | AZ20: 0 | BA20: 0 | BB20: 0 | BC20: 0 | BD20: 0 | BE20: 0 | BF20: 0 | BG20: 0 | BH20: 0 | BI20: 0 | BJ20: 0 | BK20: 0 | BL20: 0 | BM20: 0 | BN20: 0 | BO20: 0 | BP20: 0 | BQ20: 0 | BR20: 0 | BS20: 0 | BT20: 0 | BU20: 0 | BV20: 0 | BW20: 0 | BX20: 0 | BY20: 0 | BZ20: 0 | CA20: 0 | CB20: 0 | CC20: 0 | CD20: 0 | CE20: 0 | CF20: 0 | CG20: 0 | CH20: 0 | CI20: 0 | CJ20: 0 | CK20: 0 | CL20: 0 | CM20: 0 | CN20: 0 | CO20: 0 | CP20: 0 | CQ20: 0 | CR20: 811 | CS20: =CS$4 -> 341.43
A21: 44282 | B21: FA18 | C21: =0.4*0.4 -> 0.16 | D21: =56+62 -> 118 | E21: =20.53-5.66 -> 14.87 | F21: 0 | G21: 0 | H21: 0 | I21: 0 | J21: 0 | K21: 0 | L21: 0 | M21: 0 | N21: 0 | O21: 0 | P21: 0 | Q21: 0 | X21: 1 | Y21: =3.54-2.96 -> 0.58 | Z21: 0 | AA21: 0 | AB21: 0 | AC21: 0 | AD21: 0 | AE21: 0 | AF21: 0 | AG21: 0 | AH21: 1 | AI21: =10.29-5.67 -> 4.62 | AJ21: 0 | AK21: 0 | AL21: 0 | AM21: 0 | AN21: 0 | AO21: 0 | AP21: 0 | AQ21: 0 | AR21: 0 | AS21: 0 | AT21: 0 | AU21: 0 | AV21: 0 | AW21: 0 | AX21: 0 | AY21: 0 | AZ21: 0 | BA21: 0 | BB21: 0 | BC21: 0 | BD21: 0 | BE21: 0 | BF21: 0 | BG21: 0 | BH21: 0 | BI21: 0 | BJ21: 0 | BK21: 0 | BL21: 0 | BM21: 0 | BN21: 0 | BO21: 0 | BP21: 0 | BQ21: 0 | BR21: 0 | BS21: 0 | BT21: 0 | BU21: 0 | BV21: 0 | BW21: 0 | BX21: 0 | BY21: 0 | BZ21: 0 | CA21: 0 | CB21: 0 | CC21: 0 | CD21: 0 | CE21: 0 | CF21: 0 | CG21: 0 | CH21: 0 | CI21: 0 | CJ21: 0 | CK21: 0 | CL21: 0 | CM21: 0 | CN21: 0 | CO21: 0 | CP21: 0 | CQ21: 0 | CR21: 811 | CS21: =CS$4 -> 341.43
A22: 44282 | B22: FA19 | C22: =0.4*0.4 -> 0.16 | D22: =61+27 -> 88 | E22: =22.84-5.67 -> 17.17 | F22: 0 | G22: 0 | H22: 0 | I22: 0 | J22: 0 | K22: 0 | L22: 0 | M22: 0 | N22: 0 | O22: 0 | P22: 0 | Q22: 0 | X22: 2 | Y22: =6.91-5.36 -> 1.55 | Z22: 0 | AA22: 0 | AB22: 0 | AC22: 0 | AD22: 0 | AE22: 0 | AF22: 0 | AG22: 0 | AH22: 0 | AI22: 0 | AJ22: 0 | AK22: 0 | AL22: 1 | AM22: =73.73-36.42 -> 37.31 | AN22: 0 | AO22: 0 | AP22: 0 | AQ22: 0 | AR22: 0 | AS22: 0 | AT22: 0 | AU22: 0 | AV22: 0 | AW22: 0 | AX22: 0 | AY22: 0 | AZ22: 0 | BA22: 0 | BB22: 0 | BC22: 0 | BD22: 0 | BE22: 0 | BF22: 0 | BG22: 0 | BH22: 0 | BI22: 0 | BJ22: 0 | BK22: 0 | BL22: 0 | BM22: 0 | BN22: 0 | BO22: 0 | BP22: 0 | BQ22: 0 | BR22: 0 | BS22: 0 | BT22: 0 | BU22: 0 | BV22: 0 | BW22: 0 | BX22: 0 | BY22: 0 | BZ22: 0 | CA22: 0 | CB22: 0 | CC22: 0 | CD22: 0 | CE22: 0 | CF22: 0 | CG22: 0 | CH22: 0 | CI22: 0 | CJ22: 0 | CK22: 0 | CL22: 0 | CM22: 0 | CN22: 0 | CO22: 0 | CP22: 0 | CQ22: 0 | CR22: 811 | CS22: =CS$4 -> 341.43
A23: 44201 | B23: FB1 | C23: =0.4*0.4 -> 0.16 | D23: 211 | E23: 23.46 | F23: 12 | G23: 0.1 | H23: 0 | I23: 0 | J23: 12 | K23: 0.55 | L23: 0 | M23: 0 | N23: 0 | O23: 0 | P23: 0 | Q23: 0 | X23: 0 | Y23: 0 | Z23: 0 | AA23: 0 | AB23: 0 | AC23: 0 | AD23: 0 | AE23: 0 | AF23: 0 | AG23: 0 | AH23: 0 | AI23: 0 | AJ23: 0 | AK23: 0 | AL23: 0 | AM23: 0 | AN23: 0 | AO23: 0 | AP23: 0 | AQ23: 0 | AR23: 0 | AS23: 0 | AT23: 0 | AU23: 0 | AV23: 0 | AW23: 0 | AX23: 0 | AY23: 0 | AZ23: 0 | BA23: 0 | BB23: 0 | BC23: 0 | BD23: 0 | BE23: 0 | BF23: 0 | BG23: 0 | BH23: 0 | BI23: 0 | BJ23: 0 | BK23: 0 | BL23: 0 | BM23: 0 | BN23: 0 | BO23: 0 | BP23: 0 | BQ23: 0 | BR23: 0 | BS23: 0 | BT23: 0 | BU23: 0 | BV23: 0 | BW23: 0 | BX23: 0 | BY23: 0 | BZ23: 0 | CA23: 0 | CB23: 0 | CC23: 0 | CD23: 0 | CE23: 0 | CF23: 0 | CG23: 0 | CH23: 0 | CI23: 0 | CJ23: 0 | CK23: 0 | CL23: 0 | CM23: 0 | CN23: 0 | CO23: 0 | CP23: 0 | CQ23: 0 | CR23: 579 | CS23: =83.49+60.37+217.74 -> 361.6
A24: 44201 | B24: FB2 | C24: =0.4*0.4 -> 0.16 | D24: 95 | E24: 30.62 | F24: 38 | G24: 0.3 | H24: 0 | I24: 0 | J24: 0 | K24: 0 | L24: 0 | M24: 0 | N24: 0 | O24: 0 | P24: 9 | Q24: 0.19 | X24: 0 | Y24: 0 | Z24: 0 | AA24: 0 | AB24: 0 | AC24: 0 | AD24: 0 | AE24: 0 | AF24: 0 | AG24: 0 | AH24: 0 | AI24: 0 | AJ24: 0 | AK24: 0 | AL24: 1 | AM24: 0.01 | AN24: 0 | AO24: 0 | AP24: 0 | AQ24: 0 | AR24: 0 | AS24: 0 | AT24: 0 | AU24: 0 | AV24: 0 | AW24: 0 | AX24: 0 | AY24: 0 | AZ24: 0 | BA24: 0 | BB24: 0 | BC24: 0 | BD24: 0 | BE24: 0 | BF24: 0 | BG24: 0 | BH24: 0 | BI24: 0 | BJ24: 0 | BK24: 0 | BL24: 0 | BM24: 0 | BN24: 0 | BO24: 0 | BP24: 0 | BQ24: 0 | BR24: 0 | BS24: 0 | BT24: 0 | BU24: 0 | BV24: 0 | BW24: 0 | BX24: 0 | BY24: 0 | BZ24: 0 | CA24: 0 | CB24: 0 | CC24: 0 | CD24: 0 | CE24: 0 | CF24: 0 | CG24: 0 | CH24: 0 | CI24: 0 | CJ24: 0 | CK24: 0 | CL24: 0 | CM24: 0 | CN24: 0 | CO24: 0 | CP24: 0 | CQ24: 0 | CR24: 579 | CS24: =CS$23 -> 361.6
A25: 44201 | B25: FB3 | C25: =0.4*0.4 -> 0.16 | D25: =45+1+3+14+6+2 -> 71 | E25: 14.62 | F25: 53 | G25: =0.01+0.36 -> 0.37 | H25: 0 | I25: 0 | J25: 1 | K25: 0.04 | L25: 0 | M25: 0 | N25: 0 | O25: 0 | P25: 8 | Q25: =0.21+0.91 -> 1.12 | X25: 1 | Y25: 0.29 | Z25: 0 | AA25: 0 | AB25: 0 | AC25: 0 | AD25: 0 | AE25: 0 | AF25: 0 | AG25: 0 | AH25: 1 | AI25: 1.48 | AJ25: 0 | AK25: 0 | AL25: 0 | AM25: 0 | AN25: 0 | AO25: 0 | AP25: 0 | AQ25: 0 | AR25: 0 | AS25: 0 | AT25: 0 | AU25: 0 | AV25: 0 | AW25: 0 | AX25: 0 | AY25: 0 | AZ25: 0 | BA25: 0 | BB25: 0 | BC25: 0 | BD25: 0 | BE25: 0 | BF25: 0 | BG25: 0 | BH25: 0 | BI25: 0 | BJ25: 0 | BK25: 0 | BL25: 0 | BM25: 0 | BN25: 0 | BO25: 0 | BP25: 0 | BQ25: 0 | BR25: 0 | BS25: 0 | BT25: 0 | BU25: 0 | BV25: 0 | BW25: 0 | BX25: 0 | BY25: 0 | BZ25: 0 | CA25: 0 | CB25: 0 | CC25: 0 | CD25: 0 | CE25: 0 | CF25: 0 | CG25: 0 | CH25: 0 | CI25: 0 | CJ25: 0 | CK25: 0 | CL25: 0 | CM25: 0 | CN25: 0 | CO25: 0 | CP25: 0 | CQ25: 0 | CR25: 579 | CS25: =CS$23 -> 361.6
A26: 44201 | B26: FB4 | C26: =0.4*0.4 -> 0.16 | D26: 42 | E26: =22.5+30.75 -> 53.25 | F26: 32 | G26: 0.28 | H26: 1 | I26: 0.58 | J26: 0 | K26: 0 | L26: 0 | M26: 0 | N26: 0 | O26: 0 | P26: 18 | Q26: 3.46 | X26: 0 | Y26: 0 | Z26: 0 | AA26: 0 | AB26: 0 | AC26: 0 | AD26: 0 | AE26: 0 | AF26: 1 | AG26: 0.04 | AH26: 0 | AI26: 0 | AJ26: 1 | AK26: 0.01 | AL26: 0 | AM26: 0 | AN26: 0 | AO26: 0 | AP26: 0 | AQ26: 0 | AR26: 0 | AS26: 0 | AT26: 0 | AU26: 0 | AV26: 0 | AW26: 0 | AX26: 0 | AY26: 0 | AZ26: 0 | BA26: 0 | BB26: 0 | BC26: 0 | BD26: 0 | BE26: 0 | BF26: 0 | BG26: 0 | BH26: 0 | BI26: 0 | BJ26: 0 | BK26: 0 | BL26: 0 | BM26: 0 | BN26: 0 | BO26: 0 | BP26: 0 | BQ26: 0 | BR26: 0 | BS26: 0 | BT26: 0 | BU26: 0 | BV26: 0 | BW26: 0 | BX26: 0 | BY26: 0 | BZ26: 0 | CA26: 0 | CB26: 0 | CC26: 0 | CD26: 0 | CE26: 0 | CF26: 0 | CG26: 0 | CH26: 0 | CI26: 0 | CJ26: 0 | CK26: 0 | CL26: 0 | CM26: 0 | CN26: 0 | CO26: 0 | CP26: 0 | CQ26: 0 | CR26: 579 | CS26: =CS$23 -> 361.6
A27: 44201 | B27: FB5 | C27: =0.4*0.4 -> 0.16 | D27: 49 | E27: 37.82 | F27: 1 | G27: 0.13 | H27: 0 | I27: 0 | J27: 0 | K27: 0 | L27: 0 | M27: 0 | N27: 0 | O27: 0 | P27: 47 | Q27: 9.05 | X27: 8 | Y27: 1.25 | Z27: 0 | AA27: 0 | AB27: 0 | AC27: 0 | AD27: 0 | AE27: 0 | AF27: 0 | AG27: 0 | AH27: 0 | AI27: 0 | AJ27: 0 | AK27: 0 | AL27: 1 | AM27: 0.28 | AN27: 0 | AO27: 0 | AP27: 0 | AQ27: 0 | AR27: 0 | AS27: 0 | AT27: 0 | AU27: 0 | AV27: 0 | AW27: 0 | AX27: 0 | AY27: 0 | AZ27: 0 | BA27: 0 | BB27: 0 | BC27: 0 | BD27: 0 | BE27: 0 | BF27: 0 | BG27: 0 | BH27: 0 | BI27: 0 | BJ27: 0 | BK27: 0 | BL27: 0 | BM27: 0 | BN27: 0 | BO27: 0 | BP27: 0 | BQ27: 0 | BR27: 0 | BS27: 0 | BT27: 0 | BU27: 0 | BV27: 0 | BW27: 0 | BX27: 0 | BY27: 0 | BZ27: 0 | CA27: 0 | CB27: 0 | CC27: 0 | CD27: 0 | CE27: 0 | CF27: 0 | CG27: 0 | CH27: 0 | CI27: 0 | CJ27: 0 | CK27: 0 | CL27: 0 | CM27: 0 | CN27: 0 | CO27: 0 | CP27: 0 | CQ27: 0 | CR27: 579 | CS27: =CS$23 -> 361.6
A28: 44201 | B28: FB6 | C28: =0.4*0.4 -> 0.16 | D28: 19 | E28: 2.61 | F28: 10 | G28: 0.08 | H28: 0 | I28: 0 | J28: 0 | K28: 0 | L28: 0 | M28: 0 | N28: 0 | O28: 0 | P28: 129 | Q28: 13.29 | X28: =37+2 -> 39 | Y28: =4.44+0.62 -> 5.06 | Z28: 0 | AA28: 0 | AB28: 0 | AC28: 0 | AD28: 0 | AE28: 0 | AF28: 1 | AG28: 0.01 | AH28: 2 | AI28: 0.34 | AJ28: 0 | AK28: 0 | AL28: 0 | AM28: 0 | AN28: 0 | AO28: 0 | AP28: 0 | AQ28: 0 | AR28: 0 | AS28: 0 | AT28: 0 | AU28: 0 | AV28: 0 | AW28: 0 | AX28: 0 | AY28: 0 | AZ28: 0 | BA28: 0 | BB28: 0 | BC28: 0 | BD28: 0 | BE28: 0 | BF28: 0 | BG28: 0 | BH28: 0 | BI28: 0 | BJ28: 0 | BK28: 0 | BL28: 0 | BM28: 0 | BN28: 0 | BO28: 0 | BP28: 0 | BQ28: 0 | BR28: 0 | BS28: 0 | BT28: 0 | BU28: 0 | BV28: 0 | BW28: 0 | BX28: 0 | BY28: 0 | BZ28: 0 | CA28: 0 | CB28: 0 | CC28: 0 | CD28: 0 | CE28: 0 | CF28: 0 | CG28: 0 | CH28: 0 | CI28: 0 | CJ28: 0 | CK28: 0 | CL28: 0 | CM28: 0 | CN28: 0 | CO28: 0 | CP28: 0 | CQ28: 0 | CR28: 579 | CS28: =CS$23 -> 361.6
A29: 44201 | B29: FB7 | C29: =0.4*0.4 -> 0.16 | D29: 181 | E29: 30.75 | F29: 14 | G29: 0.44 | H29: 0 | I29: 0 | J29: 0 | K29: 0 | L29: 0 | M29: 0 | N29: 0 | O29: 0 | P29: 57 | Q29: 3.65 | X29: 14 | Y29: 0.87 | Z29: 0 | AA29: 0 | AB29: 0 | AC29: 0 | AD29: 0 | AE29: 0 | AF29: 0 | AG29: 0 | AH29: 3 | AI29: 1.8 | AJ29: 0 | AK29: 0 | AL29: 1 | AM29: 1.89 | AN29: 0 | AO29: 0 | AP29: 0 | AQ29: 0 | AR29: 0 | AS29: 0 | AT29: 0 | AU29: 0 | AV29: 0 | AW29: 0 | AX29: 0 | AY29: 0 | AZ29: 0 | BA29: 0 | BB29: 0 | BC29: 0 | BD29: 0 | BE29: 0 | BF29: 0 | BG29: 0 | BH29: 0 | BI29: 0 | BJ29: 0 | BK29: 0 | BL29: 0 | BM29: 0 | BN29: 0 | BO29: 0 | BP29: 0 | BQ29: 0 | BR29: 0 | BS29: 0 | BT29: 0 | BU29: 0 | BV29: 0 | BW29: 0 | BX29: 0 | BY29: 0 | BZ29: 0 | CA29: 0 | CB29: 0 | CC29: 0 | CD29: 0 | CE29: 0 | CF29: 0 | CG29: 0 | CH29: 0 | CI29: 0 | CJ29: 0 | CK29: 0 | CL29: 0 | CM29: 0 | CN29: 0 | CO29: 0 | CP29: 0 | CQ29: 0 | CR29: 579 | CS29: =CS$23 -> 361.6
A30: 44266 | B30: FB8 | C30: =0.4*0.4 -> 0.16 | D30: =16+6+1 -> 23 | E30: =20.35-5.47 -> 14.88 | F30: 0 | G30: 0 | H30: 0 | I30: 0 | J30: 0 | K30: 0 | L30: 0 | M30: 0 | N30: 0 | O30: 0 | P30: 6 | Q30: =3.3-2.91 -> 0.39 | X30: 0 | Y30: 0 | Z30: 0 | AA30: 0 | AB30: 0 | AC30: 0 | AD30: 0 | AE30: 0 | AF30: 0 | AG30: 0 | AH30: 6 | AI30: =240.9-63.77 -> 177.13 | AJ30: 0 | AK30: 0 | AL30: 0 | AM30: 0 | AN30: 0 | AO30: 0 | AP30: 0 | AQ30: 0 | AR30: 0 | AS30: 0 | AT30: 0 | AU30: 0 | AV30: 0 | AW30: 0 | AX30: 0 | AY30: 0 | AZ30: 0 | BA30: 0 | BB30: 0 | BC30: 0 | BD30: 0 | BE30: 0 | BF30: 0 | BG30: 0 | BH30: 0 | BI30: 0 | BJ30: 0 | BK30: 0 | BL30: 0 | BM30: 0 | BN30: 0 | BO30: 0 | BP30: 0 | BQ30: 0 | BR30: 0 | BS30: 0 | BT30: 0 | BU30: 0 | BV30: 0 | BW30: 0 | BX30: 0 | BY30: 0 | BZ30: 0 | CA30: 0 | CB30: 0 | CC30: 0 | CD30: 0 | CE30: 0 | CF30: 0 | CG30: 0 | CH30: 0 | CI30: 0 | CJ30: 0 | CK30: 0 | CL30: 0 | CM30: 0 | CN30: 0 | CO30: 0 | CP30: 0 | CQ30: 0 | CR30: 579 | CS30: =CS$23 -> 361.6
A31: 44266 | B31: FB9 | C31: =0.4*0.4 -> 0.16 | D31: =14+3+8+2 -> 27 | E31: =24.03-5.17 -> 18.86 | F31: 0 | G31: 0 | H31: 0 | I31: 0 | J31: 0 | K31: 0 | L31: 0 | M31: 0 | N31: 0 | O31: 0 | P31: =7+1+1+3 -> 12 | Q31: =5.5-4.63 -> 0.87 | X31: 6 | Y31: =4.63-4.58 -> 0.05 | Z31: 0 | AA31: 0 | AB31: 0 | AC31: 0 | AD31: 0 | AE31: 0 | AF31: 0 | AG31: 0 | AH31: 0 | AI31: 0 | AJ31: 0 | AK31: 0 | AL31: 0 | AM31: 0 | AN31: 0 | AO31: 0 | AP31: 0 | AQ31: 0 | AR31: 0 | AS31: 0 | AT31: 0 | AU31: 0 | AV31: 0 | AW31: 0 | AX31: 0 | AY31: 0 | AZ31: 0 | BA31: 0 | BB31: 0 | BC31: 0 | BD31: 0 | BE31: 0 | BF31: 0 | BG31: 0 | BH31: 0 | BI31: 0 | BJ31: 0 | BK31: 0 | BL31: 0 | BM31: 0 | BN31: 0 | BO31: 0 | BP31: 0 | BQ31: 0 | BR31: 0 | BS31: 0 | BT31: 0 | BU31: 0 | BV31: 0 | BW31: 0 | BX31: 0 | BY31: 0 | BZ31: 0 | CA31: 0 | CB31: 0 | CC31: 0 | CD31: 0 | CE31: 0 | CF31: 0 | CG31: 0 | CH31: 0 | CI31: 0 | CJ31: 0 | CK31: 0 | CL31: 0 | CM31: 0 | CN31: 0 | CO31: 0 | CP31: 0 | CQ31: 0 | CR31: 579 | CS31: =CS$23 -> 361.6
A32: 44266 | B32: FB10 | C32: =0.4*0.4 -> 0.16 | D32: =8+9+2+3+1 -> 23 | E32: =20.64-7.61 -> 13.03 | F32: =6+9+1 -> 16 | G32: =4.63-4.59 -> 0.04 | H32: 0 | I32: 0 | J32: 0 | K32: 0 | L32: 0 | M32: 0 | N32: 0 | O32: 0 | P32: =9+1+3+1+1+1+4 -> 20 | Q32: =11.19-5.82 -> 5.37 | X32: =8+8+10+2 -> 28 | Y32: =6.62-4.63 -> 1.99 | Z32: 0 | AA32: 0 | AB32: 0 | AC32: 0 | AD32: 0 | AE32: 0 | AF32: 2 | AG32: =9.18-5.64 -> 3.54 | AH32: 0 | AI32: 0 | AJ32: 0 | AK32: 0 | AL32: 0 | AM32: 0 | AN32: 0 | AO32: 0 | AP32: 0 | AQ32: 0 | AR32: 0 | AS32: 0 | AT32: 0 | AU32: 0 | AV32: 0 | AW32: 0 | AX32: 0 | AY32: 0 | AZ32: 0 | BA32: 0 | BB32: 0 | BC32: 0 | BD32: 0 | BE32: 0 | BF32: 0 | BG32: 0 | BH32: 0 | BI32: 0 | BJ32: 0 | BK32: 0 | BL32: 0 | BM32: 0 | BN32: 0 | BO32: 0 | BP32: 0 | BQ32: 0 | BR32: 0 | BS32: 0 | BT32: 0 | BU32: 0 | BV32: 0 | BW32: 0 | BX32: 0 | BY32: 0 | BZ32: 0 | CA32: 0 | CB32: 0 | CC32: 0 | CD32: 0 | CE32: 0 | CF32: 0 | CG32: 0 | CH32: 0 | CI32: 0 | CJ32: 0 | CK32: 0 | CL32: 0 | CM32: 0 | CN32: 0 | CO32: 0 | CP32: 0 | CQ32: 0 | CR32: 579 | CS32: =CS$23 -> 361.6
A33: 44266 | B33: FB11 | C33: =0.4*0.4 -> 0.16 | D33: =13+12+10+1+2+5 -> 43 | E33: =19.78-6.98 -> 12.8 | F33: 1 | G33: =4.59-4.58 -> 0.01 | H33: 0 | I33: 0 | J33: 0 | K33: 0 | L33: 0 | M33: 0 | N33: 0 | O33: 0 | P33: =9+7+9+3+2+2 -> 32 | Q33: =21.94-5.23 -> 16.71 | X33: =7+4 -> 11 | Y33: =5.82-4.6 -> 1.22 | Z33: 0 | AA33: 0 | AB33: 0 | AC33: 0 | AD33: 0 | AE33: 0 | AF33: 0 | AG33: 0 | AH33: 3 | AI33: =99.55-34.5 -> 65.05 | AJ33: 0 | AK33: 0 | AL33: 0 | AM33: 0 | AN33: 0 | AO33: 0 | AP33: 0 | AQ33: 0 | AR33: 0 | AS33: 0 | AT33: 0 | AU33: 0 | AV33: 0 | AW33: 0 | AX33: 0 | AY33: 0 | AZ33: 0 | BA33: 0 | BB33: 0 | BC33: 0 | BD33: 0 | BE33: 0 | BF33: 0 | BG33: 0 | BH33: 0 | BI33: 0 | BJ33: 0 | BK33: 0 | BL33: 0 | BM33: 0 | BN33: 0 | BO33: 0 | BP33: 0 | BQ33: 0 | BR33: 0 | BS33: 0 | BT33: 0 | BU33: 0 | BV33: 0 | BW33: 0 | BX33: 0 | BY33: 0 | BZ33: 0 | CA33: 0 | CB33: 0 | CC33: 0 | CD33: 0 | CE33: 0 | CF33: 0 | CG33: 0 | CH33: 0 | CI33: 0 | CJ33: 0 | CK33: 0 | CL33: 0 | CM33: 0 | CN33: 0 | CO33: 0 | CP33: 0 | CQ33: 0 | CR33: 579 | CS33: =CS$23 -> 361.6
A34: 44282 | B34: FB12 | C34: =0.4*0.4 -> 0.16 | D34: =12+7+1+6+8+3+4 -> 41 | E34: =16.65-7.63 -> 9.02 | F34: 12 | G34: =4.7-4.62 -> 0.08 | H34: 0 | I34: 0 | J34: 0 | K34: 0 | L34: 0 | M34: 0 | N34: 0 | O34: 0 | P34: =10+2+2+2+2+1 -> 19 | Q34: =37.83-5.65 -> 32.18 | X34: =21+13+6+2 -> 42 | Y34: =6.12-4.63 -> 1.49 | Z34: 0 | AA34: 0 | AB34: 0 | AC34: 0 | AD34: 0 | AE34: 0 | AF34: 1 | AG34: =4.91-4.59 -> 0.32 | AH34: 4 | AI34: =15.64-5.33 -> 10.31 | AJ34: 0 | AK34: 0 | AL34: 0 | AM34: 0 | AN34: 0 | AO34: 0 | AP34: 0 | AQ34: 0 | AR34: 0 | AS34: 0 | AT34: 0 | AU34: 0 | AV34: 0 | AW34: 0 | AX34: 0 | AY34: 0 | AZ34: 0 | BA34: 0 | BB34: 0 | BC34: 0 | BD34: 0 | BE34: 0 | BF34: 0 | BG34: 0 | BH34: 0 | BI34: 0 | BJ34: 0 | BK34: 0 | BL34: 0 | BM34: 0 | BN34: 0 | BO34: 0 | BP34: 0 | BQ34: 0 | BR34: 0 | BS34: 0 | BT34: 0 | BU34: 0 | BV34: 0 | BW34: 0 | BX34: 0 | BY34: 0 | BZ34: 0 | CA34: 0 | CB34: 0 | CC34: 0 | CD34: 0 | CE34: 0 | CF34: 0 | CG34: 0 | CH34: 0 | CI34: 0 | CJ34: 0 | CK34: 0 | CL34: 0 | CM34: 0 | CN34: 0 | CO34: 0 | CP34: 0 | CQ34: 0 | CR34: 579 | CS34: =CS$23 -> 361.6
A35: 44282 | B35: FB13 | C35: =0.4*0.4 -> 0.16 | D35: =8 -> 8 | E35: =8.22-4.82 -> 3.4 | F35: 0 | G35: 0 | H35: 0 | I35: 0 | J35: 0 | K35: 0 | L35: 0 | M35: 0 | N35: 0 | O35: 0 | P35: =29+6+17 -> 52 | Q35: =43.03-5.75 -> 37.28 | X35: =29+8+9 -> 46 | Y35: =6.08-3.21 -> 2.87 | Z35: 0 | AA35: 0 | AB35: 0 | AC35: 0 | AD35: 0 | AE35: 0 | AF35: 0 | AG35: 0 | AH35: 2 | AI35: =21.51-10.51 -> 11 | AJ35: 0 | AK35: 0 | AL35: 0 | AM35: 0 | AN35: 0 | AO35: 0 | AP35: 0 | AQ35: 0 | AR35: 0 | AS35: 0 | AT35: 0 | AU35: 0 | AV35: 0 | AW35: 0 | AX35: 0 | AY35: 0 | AZ35: 0 | BA35: 0 | BB35: 0 | BC35: 0 | BD35: 0 | BE35: 0 | BF35: 0 | BG35: 0 | BH35: 0 | BI35: 0 | BJ35: 0 | BK35: 0 | BL35: 0 | BM35: 0 | BN35: 0 | BO35: 0 | BP35: 0 | BQ35: 0 | BR35: 0 | BS35: 0 | BT35: 0 | BU35: 0 | BV35: 0 | BW35: 0 | BX35: 0 | BY35: 0 | BZ35: 0 | CA35: 0 | CB35: 0 | CC35: 0 | CD35: 0 | CE35: 0 | CF35: 0 | CG35: 0 | CH35: 0 | CI35: 0 | CJ35: 0 | CK35: 0 | CL35: 0 | CM35: 0 | CN35: 0 | CO35: 0 | CP35: 0 | CQ35: 0 | CR35: 579 | CS35: =CS$23 -> 361.6
A36: 44283 | B36: FB14 | C36: =0.4*0.4 -> 0.16 | D36: 0 | E36: 0 | F36: 0 | G36: 0 | H36: 0 | I36: 0 | J36: 0 | K36: 0 | L36: 0 | M36: 0 | N36: 0 | O36: 0 | P36: =21+33 -> 54 | Q36: =87.59-7.62 -> 79.97 | X36: 7 | Y36: =3.58-3.1 -> 0.48 | Z36: 0 | AA36: 0 | AB36: 0 | AC36: 0 | AD36: 0 | AE36: 0 | AF36: 0 | AG36: 0 | AH36: 0 | AI36: 0 | AJ36: 0 | AK36: 0 | AL36: 0 | AM36: 0 | AN36: 0 | AO36: 0 | AP36: 0 | AQ36: 0 | AR36: 0 | AS36: 0 | AT36: 0 | AU36: 0 | AV36: 0 | AW36: 0 | AX36: 0 | AY36: 0 | AZ36: 0 | BA36: 0 | BB36: 0 | BC36: 0 | BD36: 0 | BE36: 0 | BF36: 0 | BG36: 0 | BH36: 0 | BI36: 0 | BJ36: 0 | BK36: 0 | BL36: 0 | BM36: 0 | BN36: 0 | BO36: 0 | BP36: 0 | BQ36: 0 | BR36: 0 | BS36: 0 | BT36: 0 | BU36: 0 | BV36: 0 | BW36: 0 | BX36: 0 | BY36: 0 | BZ36: 0 | CA36: 0 | CB36: 0 | CC36: 0 | CD36: 0 | CE36: 0 | CF36: 0 | CG36: 0 | CH36: 0 | CI36: 0 | CJ36: 0 | CK36: 0 | CL36: 0 | CM36: 0 | CN36: 0 | CO36: 0 | CP36: 0 | CQ36: 0 | CR36: 579 | CS36: =CS$23 -> 361.6
A37: 44284 | B37: FB15 | C37: =0.4*0.5 -> 0.2 | D37: 6 | E37: =3.48-3.25 -> 0.23 | F37: =9+3+5 -> 17 | G37: =5.06-4.39 -> 0.67 | H37: 0 | I37: 0 | J37: 0 | K37: 0 | L37: 0 | M37: 0 | N37: 0 | O37: 0 | P37: =8+15+7 -> 30 | Q37: =77.74-7.63 -> 70.11 | X37: 30 | Y37: =9.14-5.67 -> 3.47 | Z37: 0 | AA37: 0 | AB37: 0 | AC37: 0 | AD37: 0 | AE37: 0 | AF37: 1 | AG37: =5.56-5.19 -> 0.37 | AH37: 2 | AI37: =18.44-5.35 -> 13.09 | AJ37: 0 | AK37: 0 | AL37: 0 | AM37: 0 | AN37: 0 | AO37: 0 | AP37: 0 | AQ37: 0 | AR37: 0 | AS37: 0 | AT37: 0 | AU37: 0 | AV37: 0 | AW37: 0 | AX37: 0 | AY37: 0 | AZ37: 0 | BA37: 0 | BB37: 0 | BC37: 0 | BD37: 0 | BE37: 0 | BF37: 0 | BG37: 0 | BH37: 3 | BI37: =6.3-5.34 -> 0.96 | BJ37: 0 | BK37: 0 | BL37: 0 | BM37: 0 | BN37: 0 | BO37: 0 | BP37: 0 | BQ37: 0 | BR37: 0 | BS37: 0 | BT37: 0 | BU37: 0 | BV37: 0 | BW37: 0 | BX37: 0 | BY37: 0 | BZ37: 0 | CA37: 0 | CB37: 0 | CC37: 0 | CD37: 0 | CE37: 0 | CF37: 0 | CG37: 0 | CH37: 0 | CI37: 0 | CJ37: 0 | CK37: 0 | CL37: 0 | CM37: 0 | CN37: 0 | CO37: 0 | CP37: 0 | CQ37: 0 | CR37: 579 | CS37: =CS$23 -> 361.6
A38: 44285 | B38: FB16 | C38: =0.4*0.3 -> 0.12 | D38: =15+2+3 -> 20 | E38: =5.37-2.86 -> 2.51 | F38: 10 | G38: =4.76-4.64 -> 0.12 | H38: 0 | I38: 0 | J38: 0 | K38: 0 | L38: 0 | M38: 0 | N38: 0 | O38: 0 | P38: =10+10+2 -> 22 | Q38: =96.66-7.37 -> 89.29 | X38: 2 | Y38: =5-4.64 -> 0.36 | Z38: 0 | AA38: 0 | AB38: 0 | AC38: 0 | AD38: 0 | AE38: 0 | AF38: 0 | AG38: 0 | AH38: 0 | AI38: 0 | AJ38: 0 | AK38: 0 | AL38: 0 | AM38: 0 | AN38: 0 | AO38: 0 | AP38: 0 | AQ38: 0 | AR38: 0 | AS38: 0 | AT38: 0 | AU38: 0 | AV38: 0 | AW38: 0 | AX38: 0 | AY38: 0 | AZ38: 0 | BA38: 0 | BB38: 0 | BC38: 0 | BD38: 0 | BE38: 0 | BF38: 0 | BG38: 0 | BH38: 1 | BI38: =3.42-3.38 -> 0.04 | BJ38: 0 | BK38: 0 | BL38: 0 | BM38: 0 | BN38: 0 | BO38: 0 | BP38: 0 | BQ38: 0 | BR38: 0 | BS38: 0 | BT38: 0 | BU38: 0 | BV38: 0 | BW38: 0 | BX38: 0 | BY38: 0 | BZ38: 0 | CA38: 0 | CB38: 0 | CC38: 0 | CD38: 0 | CE38: 0 | CF38: 0 | CG38: 0 | CH38: 0 | CI38: 0 | CJ38: 0 | CK38: 0 | CL38: 0 | CM38: 0 | CN38: 0 | CO38: 0 | CP38: 0 | CQ38: 0 | CR38: 579 | CS38: =CS$23 -> 361.6
A39: 44286 | B39: FB17 | C39: =0.5*0.5 -> 0.25 | D39: 7 | E39: =8.05-5.89 -> 2.16 | F39: 45 | G39: =121.85-49.65 -> 72.2 | H39: 0 | I39: 0 | J39: 0 | K39: 0 | L39: 0 | M39: 0 | N39: 0 | O39: 0 | P39: 7 | Q39: =13.8-5.75 -> 8.05 | X39: 0 | Y39: 0 | Z39: 0 | AA39: 0 | AB39: 0 | AC39: 0 | AD39: 0 | AE39: 0 | AF39: 0 | AG39: 0 | AH39: 2 | AI39: =5.76-5.7 -> 0.06 | AJ39: 0 | AK39: 0 | AL39: 0 | AM39: 0 | AN39: 0 | AO39: 0 | AP39: 0 | AQ39: 0 | AR39: 0 | AS39: 0 | AT39: 0 | AU39: 0 | AV39: 0 | AW39: 0 | AX39: 0 | AY39: 0 | AZ39: 0 | BA39: 0 | BB39: 0 | BC39: 0 | BD39: 0 | BE39: 0 | BF39: 0 | BG39: 0 | BH39: 0 | BI39: 0 | BJ39: 0 | BK39: 0 | BL39: 0 | BM39: 0 | BN39: 0 | BO39: 0 | BP39: 0 | BQ39: 0 | BR39: 0 | BS39: 0 | BT39: 0 | BU39: 0 | BV39: 0 | BW39: 0 | BX39: 0 | BY39: 0 | BZ39: 0 | CA39: 0 | CB39: 0 | CC39: 0 | CD39: 0 | CE39: 0 | CF39: 0 | CG39: 0 | CH39: 0 | CI39: 0 | CJ39: 0 | CK39: 0 | CL39: 0 | CM39: 0 | CN39: 0 | CO39: 0 | CP39: 0 | CQ39: 0 | CR39: 579 | CS39: =CS$23 -> 361.6
A40: 44298 | B40: FB18 | C40: =0.5*0.3 -> 0.15 | D40: 1 | E40: =4.66-4.61 -> 0.05 | F40: 0 | G40: 0 | H40: 0 | I40: 0 | J40: 0 | K40: 0 | L40: 0 | M40: 0 | N40: 0 | O40: 0 | P40: 71 | Q40: =150.76-59.18 -> 91.58 | X40: 26 | Y40: =5.83-4.63 -> 1.2 | Z40: 0 | AA40: 0 | AB40: 0 | AC40: 0 | AD40: 0 | AE40: 0 | AF40: 0 | AG40: 0 | AH40: 0 | AI40: 0 | AJ40: 0 | AK40: 0 | AL40: 0 | AM40: 0 | AN40: 0 | AO40: 0 | AP40: 0 | AQ40: 0 | AR40: 0 | AS40: 0 | AT40: 0 | AU40: 0 | AV40: 0 | AW40: 0 | AX40: 0 | AY40: 0 | AZ40: 0 | BA40: 0 | BB40: 0 | BC40: 0 | BD40: 0 | BE40: 0 | BF40: 0 | BG40: 0 | BH40: 0 | BI40: 0 | BJ40: 0 | BK40: 0 | BL40: 0 | BM40: 0 | BN40: 0 | BO40: 0 | BP40: 0 | BQ40: 0 | BR40: 0 | BS40: 0 | BT40: 0 | BU40: 0 | BV40: 0 | BW40: 0 | BX40: 0 | BY40: 0 | BZ40: 0 | CA40: 0 | CB40: 0 | CC40: 0 | CD40: 0 | CE40: 0 | CF40: 0 | CG40: 0 | CH40: 0 | CI40: 0 | CJ40: 0 | CK40: 0 | CL40: 0 | CM40: 0 | CN40: 0 | CO40: 0 | CP40: 0 | CQ40: 0 | CR40: 579 | CS40: =CS$23 -> 361.6
A41: 44298 | B41: FB19 | C41: =0.5*0.3 -> 0.15 | D41: 5 | E41: =4.66-4.61 -> 0.05 | F41: 35 | G41: =6.4-4.62 -> 1.78 | H41: 0 | I41: 0 | J41: 0 | K41: 0 | L41: 0 | M41: 0 | N41: 0 | O41: 0 | P41: 25 | Q41: =51.22-5.78 -> 45.44 | X41: 4 | Y41: =4.86-4.65 -> 0.21 | Z41: 0 | AA41: 0 | AB41: 0 | AC41: 0 | AD41: 0 | AE41: 0 | AF41: 0 | AG41: 0 | AH41: 5 | AI41: =4.8-4.6 -> 0.2 | AJ41: 0 | AK41: 0 | AL41: 0 | AM41: 0 | AN41: 0 | AO41: 0 | AP41: 0 | AQ41: 0 | AR41: 0 | AS41: 0 | AT41: 0 | AU41: 0 | AV41: 0 | AW41: 0 | AX41: 0 | AY41: 0 | AZ41: 0 | BA41: 0 | BB41: 0 | BC41: 0 | BD41: 0 | BE41: 0 | BF41: 0 | BG41: 0 | BH41: 1 | BI41: =4.67-4.61 -> 0.06 | BJ41: 0 | BK41: 0 | BL41: 0 | BM41: 0 | BN41: 0 | BO41: 0 | BP41: 0 | BQ41: 0 | BR41: 0 | BS41: 0 | BT41: 0 | BU41: 0 | BV41: 0 | BW41: 0 | BX41: 0 | BY41: 0 | BZ41: 0 | CA41: 0 | CB41: 0 | CC41: 0 | CD41: 0 | CE41: 0 | CF41: 0 | CG41: 0 | CH41: 0 | CI41: 0 | CJ41: 0 | CK41: 0 | CL41: 0 | CM41: 0 | CN41: 0 | CO41: 0 | CP41: 0 | CQ41: 0 | CR41: 579 | CS41: =CS$23 -> 361.6
A42: 44301 | B42: FB20 | C42: =0.5*0.3 -> 0.15 | D42: 0 | E42: 0 | F42: =1+24+3-6 -> 22 | G42: =15.01-5.79 -> 9.22 | H42: 0 | I42: 0 | J42: 0 | K42: 0 | L42: 0 | M42: 0 | N42: 0 | O42: 0 | P42: 26 | Q42: =21.59-5.41 -> 16.18 | X42: 7 | Y42: =3.89-3.42 -> 0.47 | Z42: 0 | AA42: 0 | AB42: 0 | AC42: 0 | AD42: 0 | AE42: 0 | AF42: 0 | AG42: 0 | AH42: 3 | AI42: =29.82-5.67 -> 24.15 | AJ42: 0 | AK42: 0 | AL42: 0 | AM42: 0 | AN42: 0 | AO42: 0 | AP42: 0 | AQ42: 0 | AR42: 0 | AS42: 0 | AT42: 0 | AU42: 0 | AV42: 0 | AW42: 0 | AX42: 0 | AY42: 0 | AZ42: 0 | BA42: 0 | BB42: 0 | BC42: 0 | BD42: 0 | BE42: 0 | BF42: 0 | BG42: 0 | BH42: 0 | BI42: =4.69-4.61 -> 0.08 | BJ42: 6 | BK42: =4.57-4.43 -> 0.14 | BL42: 0 | BM42: 0 | BN42: 0 | BO42: 0 | BP42: 0 | BQ42: 0 | BR42: 0 | BS42: 0 | BT42: 0 | BU42: 0 | BV42: 0 | BW42: 0 | BX42: 0 | BY42: 0 | BZ42: 0 | CA42: 0 | CB42: 0 | CC42: 0 | CD42: 0 | CE42: 0 | CF42: 0 | CG42: 0 | CH42: 0 | CI42: 0 | CJ42: 0 | CK42: 0 | CL42: 0 | CM42: 0 | CN42: 0 | CO42: 0 | CP42: 0 | CQ42: 0 | CR42: 580 | CS42: =CS$23 -> 361.6
A43: 44301 | B43: FB21 | C43: =0.5*0.25 -> 0.125 | D43: 0 | E43: 0 | F43: 8 | G43: =2.97-2.77 -> 0.2 | H43: 0 | I43: 0 | J43: 0 | K43: 0 | L43: 0 | M43: 0 | N43: 0 | O43: 0 | P43: 9 | Q43: =18.2-5.65 -> 12.55 | X43: 0 | Y43: 0 | Z43: 0 | AA43: 0 | AB43: 0 | AC43: 0 | AD43: 0 | AE43: 0 | AF43: 0 | AG43: 0 | AH43: 4 | AI43: =21.32-5.74 -> 15.58 | AJ43: 0 | AK43: 0 | AL43: 0 | AM43: 0 | AN43: 0 | AO43: 0 | AP43: 0 | AQ43: 0 | AR43: 0 | AS43: 0 | AT43: 0 | AU43: 0 | AV43: 0 | AW43: 0 | AX43: 0 | AY43: 0 | AZ43: 0 | BA43: 0 | BB43: 0 | BC43: 0 | BD43: 0 | BE43: 0 | BF43: 0 | BG43: 0 | BH43: 5 | BI43: =4.7-4.69 -> 0.01 | BJ43: 6 | BK43: =5.68-5.53 -> 0.15 | BL43: 6 | BM43: =2.24-2.2 -> 0.04 | BN43: 0 | BO43: 0 | BP43: 0 | BQ43: 0 | BR43: 0 | BS43: 0 | BT43: 0 | BU43: 0 | BV43: 0 | BW43: 0 | BX43: 0 | BY43: 0 | BZ43: 0 | CA43: 0 | CB43: 0 | CC43: 0 | CD43: 0 | CE43: 0 | CF43: 0 | CG43: 0 | CH43: 0 | CI43: 0 | CJ43: 0 | CK43: 0 | CL43: 0 | CM43: 0 | CN43: 0 | CO43: 0 | CP43: 0 | CQ43: 0 | CR43: 581 | CS43: =CS$23 -> 361.6
A44: 44317 | B44: FB22 | C44: =0.6*0.3 -> 0.18 | D44: 0 | E44: 0 | F44: 21 | G44: =41.99-7.63 -> 34.36 | H44: 0 | I44: 0 | J44: 0 | K44: 0 | L44: 0 | M44: 0 | N44: 0 | O44: 0 | P44: 20 | Q44: =56.03-5.74 -> 50.29 | X44: 5 | Y44: =6.72-5.46 -> 1.26 | Z44: 0 | AA44: 0 | AB44: 0 | AC44: 0 | AD44: 0 | AE44: 0 | AF44: 0 | AG44: 0 | AH44: 3 | AI44: =24.13-5.68 -> 18.45 | AJ44: 0 | AK44: 0 | AL44: 4 | AM44: =7.36-5.49 -> 1.87 | AN44: 0 | AO44: 0 | AP44: 0 | AQ44: 0 | AR44: 0 | AS44: 0 | AT44: 0 | AU44: 0 | AV44: 0 | AW44: 0 | AX44: 0 | AY44: 0 | AZ44: 0 | BA44: 0 | BB44: 0 | BC44: 0 | BD44: 0 | BE44: 0 | BF44: 0 | BG44: 0 | BH44: 0 | BI44: 0 | BJ44: 9 | BK44: =5.66-5.38 -> 0.28 | BL44: 74 | BM44: =3.33-3.21 -> 0.12 | BN44: 0 | BO44: 0 | BP44: 0 | BQ44: 0 | BR44: 0 | BS44: 0 | BT44: 0 | BU44: 0 | BV44: 0 | BW44: 0 | BX44: 0 | BY44: 0 | BZ44: 0 | CA44: 0 | CB44: 0 | CC44: 0 | CD44: 0 | CE44: 0 | CF44: 0 | CG44: 0 | CH44: 0 | CI44: 0 | CJ44: 0 | CK44: 0 | CL44: 0 | CM44: 0 | CN44: 0 | CO44: 0 | CP44: 0 | CQ44: 0 | CR44: 582 | CS44: =CS$23 -> 361.6
A45: 44302 | B45: FB23 | C45: =0.5*0.7 -> 0.35 | D45: =17 -> 17 | E45: =6.13-5.45 -> 0.68 | F45: 35 | G45: =8.47-7.2 -> 1.27 | H45: 0 | I45: 0 | J45: 0 | K45: 0 | L45: 0 | M45: 0 | N45: 0 | O45: 0 | P45: =14+2+3 -> 19 | Q45: =64.57-7.38 -> 57.19 | X45: 0 | Y45: 0 | Z45: 0 | AA45: 0 | AB45: 0 | AC45: 0 | AD45: 0 | AE45: 0 | AF45: 1 | AG45: =6.2-5.09 -> 1.11 | AH45: 11 | AI45: =7.57-5.62 -> 1.95 | AJ45: 0 | AK45: 0 | AL45: 1 | AM45: =7.88-5.13 -> 2.75 | AN45: 0 | AO45: 0 | AP45: 0 | AQ45: 0 | AR45: 0 | AS45: 0 | AT45: 0 | AU45: 0 | AV45: 0 | AW45: 0 | AX45: 0 | AY45: 0 | AZ45: 2 | BA45: =185.01-48.65 -> 136.36 | BB45: 0 | BC45: 0 | BD45: 0 | BE45: 0 | BF45: 0 | BG45: 0 | BH45: 0 | BI45: 0 | BJ45: 0 | BK45: 0 | BL45: 0 | BM45: 0 | BN45: 0 | BO45: 0 | BP45: 0 | BQ45: 0 | BR45: 0 | BS45: 0 | BT45: 0 | BU45: 0 | BV45: 0 | BW45: 0 | BX45: 0 | BY45: 0 | BZ45: 0 | CA45: 0 | CB45: 0 | CC45: 0 | CD45: 0 | CE45: 0 | CF45: 0 | CG45: 0 | CH45: 0 | CI45: 0 | CJ45: 0 | CK45: 0 | CL45: 0 | CM45: 0 | CN45: 0 | CO45: 0 | CP45: 0 | CQ45: 0 | CR45: 582 | CS45: =CS$23 -> 361.6
A46: 44282 | B46: FC1 | C46: =0.4*0.4 -> 0.16 | D46: =40+21+13 -> 74 | E46: =22.7-5.81 -> 16.89 | F46: 0 | G46: 0 | H46: 0 | I46: 0 | J46: 0 | K46: 0 | L46: 0 | M46: 0 | N46: 0 | O46: 0 | P46: 0 | Q46: 0 | X46: 0 | Y46: 0 | Z46: 0 | AA46: 0 | AB46: 0 | AC46: 0 | AD46: 0 | AE46: 0 | AF46: 1 | AG46: =4.67-4.58 -> 0.09 | AH46: 0 | AI46: 0 | AJ46: 0 | AK46: 0 | AL46: 1 | AM46: =131.13-62.88 -> 68.25 | AN46: 0 | AO46: 0 | AP46: 0 | AQ46: 0 | AR46: 0 | AS46: 0 | AT46: 0 | AU46: 0 | AV46: 0 | AW46: 0 | AX46: 0 | AY46: 0 | AZ46: 0 | BA46: 0 | BB46: 0 | BC46: 0 | BD46: 0 | BE46: 0 | BF46: 0 | BG46: 0 | BH46: 0 | BI46: 0 | BJ46: 0 | BK46: 0 | BL46: 0 | BM46: 0 | BN46: 0 | BO46: 0 | BP46: 0 | BQ46: 0 | BR46: 0 | BS46: 0 | BT46: 0 | BU46: 0 | BV46: 0 | BW46: 0 | BX46: 0 | BY46: 0 | BZ46: 0 | CA46: 0 | CB46: 0 | CC46: 0 | CD46: 0 | CE46: 0 | CF46: 0 | CG46: 0 | CH46: 0 | CI46: 0 | CJ46: 0 | CK46: 0 | CL46: 0 | CM46: 0 | CN46: 0 | CO46: 0 | CP46: 0 | CQ46: 0 | CR46: 579 | CS46: =CS$23 -> 361.6
A47: 44282 | B47: FC2 | C47: =0.5*0.5 -> 0.25 | D47: =15+31 -> 46 | E47: =36.55-5.78 -> 30.77 | F47: 6 | G47: =10.42-5.72 -> 4.7 | H47: 0 | I47: 0 | J47: 0 | K47: 0 | L47: 0 | M47: 0 | N47: 0 | O47: 0 | P47: 0 | Q47: 0 | X47: 0 | Y47: 0 | Z47: 0 | AA47: 0 | AB47: 0 | AC47: 0 | AD47: 0 | AE47: 0 | AF47: 0 | AG47: 0 | AH47: 0 | AI47: 0 | AJ47: 0 | AK47: 0 | AL47: 2 | AM47: =273.78-89.76 -> 184.02 | AN47: 0 | AO47: 0 | AP47: 0 | AQ47: 0 | AR47: 0 | AS47: 0 | AT47: 0 | AU47: 0 | AV47: 0 | AW47: 0 | AX47: 0 | AY47: 0 | AZ47: 0 | BA47: 0 | BB47: 0 | BC47: 0 | BD47: 0 | BE47: 0 | BF47: 0 | BG47: 0 | BH47: 0 | BI47: 0 | BJ47: 0 | BK47: 0 | BL47: 0 | BM47: 0 | BN47: 0 | BO47: 0 | BP47: 0 | BQ47: 0 | BR47: 0 | BS47: 0 | BT47: 0 | BU47: 0 | BV47: 0 | BW47: 0 | BX47: 0 | BY47: 0 | BZ47: 0 | CA47: 0 | CB47: 0 | CC47: 0 | CD47: 0 | CE47: 0 | CF47: 0 | CG47: 0 | CH47: 0 | CI47: 0 | CJ47: 0 | CK47: 0 | CL47: 0 | CM47: 0 | CN47: 0 | CO47: 0 | CP47: 0 | CQ47: 0 | CR47: 579 | CS47: =CS$23 -> 361.6
A48: 44282 | B48: FC3 | C48: =0.4*0.4 -> 0.16 | D48: 28 | E48: =29.96-6.01 -> 23.95 | F48: 0 | G48: 0 | H48: 0 | I48: 0 | J48: 0 | K48: 0 | L48: 0 | M48: 0 | N48: 0 | O48: 0 | P48: 0 | Q48: 0 | X48: 0 | Y48: 0 | Z48: 0 | AA48: 0 | AB48: 0 | AC48: 0 | AD48: 0 | AE48: 0 | AF48: 0 | AG48: 0 | AH48: 0 | AI48: 0 | AJ48: 0 | AK48: 0 | AL48: 0 | AM48: 0 | AN48: 0 | AO48: 0 | AP48: 0 | AQ48: 0 | AR48: 0 | AS48: 0 | AT48: 0 | AU48: 0 | AV48: 0 | AW48: 0 | AX48: 0 | AY48: 0 | AZ48: 0 | BA48: 0 | BB48: 0 | BC48: 0 | BD48: 0 | BE48: 0 | BF48: 0 | BG48: 0 | BH48: 0 | BI48: 0 | BJ48: 0 | BK48: 0 | BL48: 0 | BM48: 0 | BN48: 0 | BO48: 0 | BP48: 0 | BQ48: 0 | BR48: 0 | BS48: 0 | BT48: 0 | BU48: 0 | BV48: 0 | BW48: 0 | BX48: 0 | BY48: 0 | BZ48: 0 | CA48: 0 | CB48: 0 | CC48: 0 | CD48: 0 | CE48: 0 | CF48: 0 | CG48: 0 | CH48: 0 | CI48: 0 | CJ48: 0 | CK48: 0 | CL48: 0 | CM48: 0 | CN48: 0 | CO48: 0 | CP48: 0 | CQ48: 0 | CR48: 579 | CS48: =CS$23 -> 361.6
A49: 44305 | B49: FC4 | C49: =0.4*0.4 -> 0.16 | D49: 25 | E49: =7.93-3.21 -> 4.72 | F49: 0 | G49: 0 | H49: 0 | I49: 0 | J49: 0 | K49: 0 | L49: 0 | M49: 0 | N49: 0 | O49: 0 | P49: 0 | Q49: 0 | X49: 2 | Y49: =4.71-4.62 -> 0.09 | Z49: 0 | AA49: 0 | AB49: 0 | AC49: 0 | AD49: 0 | AE49: 0 | AF49: 0 | AG49: 0 | AH49: 0 | AI49: 0 | AJ49: 0 | AK49: 0 | AL49: 3 | AM49: =246.9-58.76 -> 188.14 | AN49: 0 | AO49: 0 | AP49: 0 | AQ49: 0 | AR49: 0 | AS49: 0 | AT49: 0 | AU49: 0 | AV49: 0 | AW49: 0 | AX49: 0 | AY49: 0 | AZ49: 0 | BA49: 0 | BB49: 0 | BC49: 0 | BD49: 0 | BE49: 0 | BF49: 4 | BG49: =5.02-4.6 -> 0.42 | BH49: 0 | BI49: 0 | BJ49: 0 | BK49: 0 | BL49: 0 | BM49: 0 | BN49: 0 | BO49: 0 | BP49: 0 | BQ49: 0 | BR49: 0 | BS49: 0 | BT49: 0 | BU49: 0 | BV49: 0 | BW49: 0 | BX49: 0 | BY49: 0 | BZ49: 0 | CA49: 0 | CB49: 0 | CC49: 0 | CD49: 0 | CE49: 0 | CF49: 0 | CG49: 0 | CH49: 0 | CI49: 0 | CJ49: 0 | CK49: 0 | CL49: 0 | CM49: 0 | CN49: 0 | CO49: 0 | CP49: 0 | CQ49: 0 | CR49: 579 | CS49: =CS$23 -> 361.6
A50: 44306 | B50: FC5 | C50: =0.7*0.85 -> 0.595 | D50: 8 | E50: =5.16-2.86 -> 2.3 | F50: 0 | G50: 0 | H50: 0 | I50: 0 | J50: 0 | K50: 0 | L50: 0 | M50: 0 | N50: 0 | O50: 0 | P50: 0 | Q50: 0 | X50: 1 | Y50: =4.74-4.62 -> 0.12 | Z50: 0 | AA50: 0 | AB50: 0 | AC50: 0 | AD50: 0 | AE50: 0 | AF50: 0 | AG50: 0 | AH50: 0 | AI50: 0 | AJ50: 0 | AK50: 0 | AL50: 1 | AM50: =400.27-45.63+316.87-70.75+197.67-35.79+199.1-49.43+295.84-45.63 -> 1162.52 | AN50: 0 | AO50: 0 | AP50: 0 | AQ50: 0 | AR50: 0 | AS50: 0 | AT50: 0 | AU50: 0 | AV50: 0 | AW50: 0 | AX50: 0 | AY50: 0 | AZ50: 0 | BA50: 0 | BB50: 0 | BC50: 0 | BD50: 0 | BE50: 0 | BF50: 4 | BG50: =3.5-2.77 -> 0.73 | BH50: 0 | BI50: 0 | BJ50: 0 | BK50: 0 | BL50: 0 | BM50: 0 | BN50: 0 | BO50: 0 | BP50: 0 | BQ50: 0 | BR50: 0 | BS50: 0 | BT50: 0 | BU50: 0 | BV50: 0 | BW50: 0 | BX50: 0 | BY50: 0 | BZ50: 0 | CA50: 0 | CB50: 0 | CC50: 0 | CD50: 0 | CE50: 0 | CF50: 0 | CG50: 0 | CH50: 0 | CI50: 0 | CJ50: 0 | CK50: 0 | CL50: 0 | CM50: 0 | CN50: 0 | CO50: 0 | CP50: 0 | CQ50: 0 | CR50: 579 | CS50: =CS$23 -> 361.6
A51: 44309 | B51: FC6 | C51: =0.5*0.5 -> 0.25 | D51: 6 | E51: =4.79-4.63 -> 0.16 | F51: =40+30+22+7+15 -> 114 | G51: =45.97-10.86 -> 35.11 | H51: 0 | I51: 0 | J51: 0 | K51: 0 | L51: 0 | M51: 0 | N51: 0 | O51: 0 | P51: 0 | Q51: 0 | X51: 13 | Y51: =9.29-5.55 -> 3.74 | Z51: 0 | AA51: 0 | AB51: 0 | AC51: 0 | AD51: 0 | AE51: 0 | AF51: 0 | AG51: 0 | AH51: 7 | AI51: =4.68-4.6 -> 0.08 | AJ51: 0 | AK51: 0 | AL51: 2 | AM51: =32.25-5.28 -> 26.97 | AN51: 0 | AO51: 0 | AP51: 0 | AQ51: 0 | AR51: 0 | AS51: 0 | AT51: 0 | AU51: 0 | AV51: 0 | AW51: 0 | AX51: 0 | AY51: 0 | AZ51: 0 | BA51: 0 | BB51: 0 | BC51: 0 | BD51: 0 | BE51: 0 | BF51: 0 | BG51: 0 | BH51: 0 | BI51: 0 | BJ51: 0 | BK51: 0 | BL51: 0 | BM51: 0 | BN51: 0 | BO51: 0 | BP51: 0 | BQ51: 0 | BR51: 0 | BS51: 0 | BT51: 0 | BU51: 0 | BV51: 0 | BW51: 0 | BX51: 0 | BY51: 0 | BZ51: 0 | CA51: 0 | CB51: 0 | CC51: 0 | CD51: 0 | CE51: 0 | CF51: 0 | CG51: 0 | CH51: 0 | CI51: 0 | CJ51: 0 | CK51: 0 | CL51: 0 | CM51: 0 | CN51: 0 | CO51: 0 | CP51: 0 | CQ51: 0 | CR51: 579 | CS51: =CS$23 -> 361.6
A52: 44310 | B52: FC7 | C52: =0.6*0.6 -> 0.36 | D52: 0 | E52: 0 | F52: =9+2+33+59 -> 103 | G52: =174.05-94.9+34.99-7.74 -> 106.4 | H52: 0 | I52: 0 | J52: 0 | K52: 0 | L52: 0 | M52: 0 | N52: 0 | O52: 0 | P52: 0 | Q52: 0 | X52: =19+2+1 -> 22 | Y52: =13.01-5.87 -> 7.14 | Z52: 0 | AA52: 0 | AB52: 0 | AC52: 0 | AD52: 0 | AE52: 0 | AF52: 0 | AG52: 0 | AH52: 1 | AI52: =3.53-3.52 -> 0.01 | AJ52: 0 | AK52: 0 | AL52: 1 | AM52: =12.06-5.55 -> 6.51 | AN52: 0 | AO52: 0 | AP52: 0 | AQ52: 0 | AR52: 0 | AS52: 0 | AT52: 0 | AU52: 0 | AV52: 0 | AW52: 0 | AX52: 0 | AY52: 0 | AZ52: 0 | BA52: 0 | BB52: 0 | BC52: 0 | BD52: 0 | BE52: 0 | BF52: 0 | BG52: 0 | BH52: 0 | BI52: 0 | BJ52: 2 | BK52: =5.57-5.47 -> 0.1 | BL52: 0 | BM52: 0 | BN52: 3 | BO52: =4.75-4.66 -> 0.09 | BP52: 0 | BQ52: 0 | BR52: 0 | BS52: 0 | BT52: 0 | BU52: 0 | BV52: 0 | BW52: 0 | BX52: 0 | BY52: 0 | BZ52: 0 | CA52: 0 | CB52: 0 | CC52: 0 | CD52: 0 | CE52: 0 | CF52: 0 | CG52: 0 | CH52: 0 | CI52: 0 | CJ52: 0 | CK52: 0 | CL52: 0 | CM52: 0 | CN52: 0 | CO52: 0 | CP52: 0 | CQ52: 0 | CR52: 579 | CS52: =CS$23 -> 361.6
A53: 44310 | B53: FC8 | C53: =0.4*0.4 -> 0.16 | D53: 10 | E53: =5.01-4.67 -> 0.34 | F53: =38+47 -> 85 | G53: =4.2-3.63 -> 0.57 | H53: 0 | I53: 0 | J53: 0 | K53: 0 | L53: 0 | M53: 0 | N53: 0 | O53: 0 | P53: 0 | Q53: 0 | X53: 0 | Y53: 0 | Z53: 0 | AA53: 0 | AB53: 0 | AC53: 0 | AD53: 0 | AE53: 0 | AF53: 0 | AG53: 0 | AH53: 0 | AI53: 0 | AJ53: 0 | AK53: 0 | AL53: 0 | AM53: 0 | AN53: 0 | AO53: 0 | AP53: 0 | AQ53: 0 | AR53: 0 | AS53: 0 | AT53: 0 | AU53: 0 | AV53: 0 | AW53: 0 | AX53: 0 | AY53: 0 | AZ53: 1 | BA53: =77.2-10.52 -> 66.68 | BB53: 0 | BC53: 0 | BD53: 0 | BE53: 0 | BF53: 0 | BG53: 0 | BH53: 0 | BI53: 0 | BJ53: 8 | BK53: =4.54-4.4 -> 0.14 | BL53: 0 | BM53: 0 | BN53: 1 | BO53: =3.05-2.85 -> 0.2 | BP53: 0 | BQ53: 0 | BR53: 0 | BS53: 0 | BT53: 0 | BU53: 0 | BV53: 0 | BW53: 0 | BX53: 0 | BY53: 0 | BZ53: 0 | CA53: 0 | CB53: 0 | CC53: 0 | CD53: 0 | CE53: 0 | CF53: 0 | CG53: 0 | CH53: 0 | CI53: 0 | CJ53: 0 | CK53: 0 | CL53: 0 | CM53: 0 | CN53: 0 | CO53: 0 | CP53: 0 | CQ53: 0 | CR53: 579 | CS53: =CS$23 -> 361.6
A54: 44200 | B54: TA1 | C54: =0.4*0.4 -> 0.16 | D54: 550 | E54: 32.14 | F54: 0 | G54: 0 | H54: 0 | I54: 0 | J54: 0 | K54: 0 | L54: 0 | M54: 0 | N54: 29 | O54: 8.93 | P54: 0 | Q54: 0 | X54: 0 | Y54: 0 | Z54: 0 | AA54: 0 | AB54: 0 | AC54: 0 | AD54: 0 | AE54: 0 | AF54: 0 | AG54: 0 | AH54: 0 | AI54: 0 | AJ54: 1 | AK54: 0.43 | AL54: 23 | AM54: 4.13 | AN54: 0 | AO54: 0 | AP54: 0 | AQ54: 0 | AR54: 0 | AS54: 0 | AT54: 0 | AU54: 0 | AV54: 0 | AW54: 0 | AX54: 0 | AY54: 0 | AZ54: 0 | BA54: 0 | BB54: 0 | BC54: 0 | BD54: 0 | BE54: 0 | BF54: 0 | BG54: 0 | BH54: 0 | BI54: 0 | BJ54: 0 | BK54: 0 | BL54: 0 | BM54: 0 | BN54: 0 | BO54: 0 | BP54: 0 | BQ54: 0 | BR54: 0 | BS54: 0 | BT54: 0 | BU54: 0 | BV54: 0 | BW54: 0 | BX54: 0 | BY54: 0 | BZ54: 0 | CA54: 0 | CB54: 0 | CC54: 0 | CD54: 0 | CE54: 0 | CF54: 0 | CG54: 0 | CH54: 0 | CI54: 0 | CJ54: 0 | CK54: 0 | CL54: 0 | CM54: 0 | CN54: 0 | CO54: 0 | CP54: 0 | CQ54: 0 | CR54: 0 | CS54: 0
A55: 44213 | B55: TA2 | C55: =0.4*0.4 -> 0.16 | D55: 566 | E55: 32.34 | F55: 0 | G55: 0 | H55: 0 | I55: 0 | J55: 0 | K55: 0 | L55: 0 | M55: 0 | N55: 0 | O55: 0 | P55: 0 | Q55: 0 | X55: 2 | Y55: 0.44 | Z55: 0 | AA55: 0 | AB55: 0 | AC55: 0 | AD55: 0 | AE55: 0 | AF55: 0 | AG55: 0 | AH55: 0 | AI55: 0 | AJ55: 0 | AK55: 0 | AL55: 17 | AM55: 3.01 | AN55: 0 | AO55: 0 | AP55: 0 | AQ55: 0 | AR55: 0 | AS55: 0 | AT55: 0 | AU55: 0 | AV55: 0 | AW55: 0 | AX55: 0 | AY55: 0 | AZ55: 0 | BA55: 0 | BB55: 0 | BC55: 0 | BD55: 0 | BE55: 0 | BF55: 0 | BG55: 0 | BH55: 0 | BI55: 0 | BJ55: 0 | BK55: 0 | BL55: 0 | BM55: 0 | BN55: 0 | BO55: 0 | BP55: 0 | BQ55: 0 | BR55: 0 | BS55: 0 | BT55: 0 | BU55: 0 | BV55: 0 | BW55: 0 | BX55: 0 | BY55: 0 | BZ55: 0 | CA55: 0 | CB55: 0 | CC55: 0 | CD55: 0 | CE55: 0 | CF55: 0 | CG55: 0 | CH55: 0 | CI55: 0 | CJ55: 0 | CK55: 0 | CL55: 0 | CM55: 0 | CN55: 0 | CO55: 0 | CP55: 0 | CQ55: 0 | CR55: 0 | CS55: 0
A56: 44323 | B56: TA4 | C56: =0.6*0.6 -> 0.36 | D56: 4 | E56: 0.1 | F56: 0 | G56: 0 | H56: 0 | I56: 0 | J56: 0 | K56: 0 | L56: 0 | M56: 0 | N56: 0 | O56: 0 | P56: 0 | Q56: 0 | X56: 145 | Y56: 5.73 | Z56: 0 | AA56: 0 | AB56: 0 | AC56: 0 | AD56: 0 | AE56: 0 | AF56: 0 | AG56: 0 | AH56: 2 | AI56: 0.33 | AJ56: 0 | AK56: 0 | AL56: 13 | AM56: 167.87 | AN56: 0 | AO56: 0 | AP56: 0 | AQ56: 0 | AR56: 0 | AS56: 0 | AT56: 18 | AU56: 5.12 | AV56: 0 | AW56: 0 | AX56: 0 | AY56: 0 | AZ56: 0 | BA56: 0 | BB56: 0 | BC56: 0 | BD56: 0 | BE56: 0 | BF56: 0 | BG56: 0 | BH56: 0 | BI56: 0 | BJ56: 0 | BK56: 0 | BL56: 0 | BM56: 0 | BN56: 0 | BO56: 0 | BP56: 0 | BQ56: 0 | BR56: 0 | BS56: 0 | BT56: 0 | BU56: 0 | BV56: 0 | BW56: 0 | BX56: 0 | BY56: 0 | BZ56: 0 | CA56: 0 | CB56: 0 | CC56: 0 | CD56: 0 | CE56: 0 | CF56: 0 | CG56: 0 | CH56: 0 | CI56: 0 | CJ56: 0 | CK56: 0 | CL56: 0 | CM56: 0 | CN56: 0 | CO56: 0 | CP56: 0 | CQ56: 0 | CR56: 0 | CS56: 0
A57: 44323 | B57: TA5 | C57: =0.6*0.6 -> 0.36 | D57: =20+5+4+1+3+2+3 -> 38 | E57: 0.48 | F57: 0 | G57: 0 | H57: 0 | I57: 0 | J57: 0 | K57: 0 | L57: 0 | M57: 0 | N57: 0 | O57: 0 | P57: 0 | Q57: 0 | X57: =8+12+3+11+12+20+16+2+7+2+7+2+1+4 -> 107 | Y57: 4.92 | Z57: 0 | AA57: 0 | AB57: 0 | AC57: 0 | AD57: 0 | AE57: 0 | AF57: 0 | AG57: 0 | AH57: 1 | AI57: 0.04 | AJ57: 1 | AK57: 0.01 | AL57: 0 | AM57: 0 | AN57: 0 | AO57: 0 | AP57: 0 | AQ57: 0 | AR57: 0 | AS57: 0 | AT57: 2 | AU57: 0.05 | AV57: 0 | AW57: 0 | AX57: 0 | AY57: 0 | AZ57: 0 | BA57: 0 | BB57: 0 | BC57: 0 | BD57: 0 | BE57: 0 | BF57: 0 | BG57: 0 | BH57: 0 | BI57: 0 | BJ57: 0 | BK57: 0 | BL57: 0 | BM57: 0 | BN57: 0 | BO57: 0 | BP57: 0 | BQ57: 0 | BR57: 0 | BS57: 0 | BT57: 0 | BU57: 0 | BV57: 0 | BW57: 0 | BX57: 0 | BY57: 0 | BZ57: 0 | CA57: 0 | CB57: 0 | CC57: 0 | CD57: 0 | CE57: 0 | CF57: 0 | CG57: 0 | CH57: 0 | CI57: 0 | CJ57: 0 | CK57: 0 | CL57: 0 | CM57: 0 | CN57: 0 | CO57: 0 | CP57: 0 | CQ57: 0 | CR57: 0 | CS57: 0
A58: 44323 | B58: TA6 | C58: =0.6*0.6 -> 0.36 | D58: =1+7+2+10+5+5+2+4+1 -> 37 | E58: 3.86 | F58: 0 | G58: 0 | H58: 0 | I58: 0 | J58: 0 | K58: 0 | L58: 0 | M58: 0 | N58: 0 | O58: 0 | P58: 0 | Q58: 0 | X58: =80+14+10+1+8+6+6+4 -> 129 | Y58: 8.49 | Z58: 0 | AA58: 0 | AB58: 0 | AC58: 0 | AD58: 0 | AE58: 0 | AF58: 0 | AG58: 0 | AH58: 9 | AI58: 12.82 | AJ58: 0 | AK58: 0 | AL58: 0 | AM58: 0 | AN58: 0 | AO58: 0 | AP58: 0 | AQ58: 0 | AR58: 0 | AS58: 0 | AT58: 3 | AU58: 1.52 | AV58: 0 | AW58: 0 | AX58: 0 | AY58: 0 | AZ58: 0 | BA58: 0 | BB58: 0 | BC58: 0 | BD58: 0 | BE58: 0 | BF58: 0 | BG58: 0 | BH58: 0 | BI58: 0 | BJ58: 0 | BK58: 0 | BL58: 0 | BM58: 0 | BN58: 0 | BO58: 0 | BP58: 0 | BQ58: 0 | BR58: 0 | BS58: 0 | BT58: 0 | BU58: 0 | BV58: 0 | BW58: 0 | BX58: 0 | BY58: 0 | BZ58: 0 | CA58: 0 | CB58: 0 | CC58: 0 | CD58: 0 | CE58: 0 | CF58: 0 | CG58: 0 | CH58: 0 | CI58: 0 | CJ58: 0 | CK58: 0 | CL58: 0 | CM58: 0 | CN58: 0 | CO58: 0 | CP58: 0 | CQ58: 0 | CR58: 0 | CS58: 0
A59: 44213 | B59: TB1 | C59: =0.4*0.4 -> 0.16 | D59: =16+1+14+25+21+52+4 -> 133 | E59: 19.56 | F59: 0 | G59: 0 | H59: 0 | I59: 0 | J59: 0 | K59: 0 | L59: 0 | M59: 0 | N59: 10 | O59: 3.55 | P59: 0 | Q59: 0 | X59: =2+2+3+1+1+1+2+3 -> 15 | Y59: 1.15 | Z59: 0 | AA59: 0 | AB59: 0 | AC59: 0 | AD59: 0 | AE59: 0 | AF59: 0 | AG59: 0 | AH59: 0 | AI59: 0 | AJ59: 1 | AK59: 0.72 | AL59: =28+6+11+2+1 -> 48 | AM59: 27.82 | AN59: 0 | AO59: 0 | AP59: 0 | AQ59: 0 | AR59: 0 | AS59: 0 | AT59: 0 | AU59: 0 | AV59: 0 | AW59: 0 | AX59: 0 | AY59: 0 | AZ59: 0 | BA59: 0 | BB59: 0 | BC59: 0 | BD59: 0 | BE59: 0 | BF59: 0 | BG59: 0 | BH59: 0 | BI59: 0 | BJ59: 0 | BK59: 0 | BL59: 0 | BM59: 0 | BN59: 0 | BO59: 0 | BP59: 0 | BQ59: 0 | BR59: 0 | BS59: 0 | BT59: 0 | BU59: 0 | BV59: 0 | BW59: 0 | BX59: 0 | BY59: 0 | BZ59: 0 | CA59: 0 | CB59: 0 | CC59: 0 | CD59: 0 | CE59: 0 | CF59: 0 | CG59: 0 | CH59: 0 | CI59: 0 | CJ59: 0 | CK59: 0 | CL59: 0 | CM59: 0 | CN59: 0 | CO59: 0 | CP59: 0 | CQ59: 0 | CR59: 0 | CS59: 0
A60: 44230 | B60: TB2 | C60: =0.4*0.4 -> 0.16 | D60: =4+6+8+5+3+11+3+8+8+13 -> 69 | E60: 25.54 | F60: 0 | G60: 0 | H60: 0 | I60: 0 | J60: 0 | K60: 0 | L60: 0 | M60: 0 | N60: =4+2+1+2+4+1+1+1+1 -> 17 | O60: 16.57 | P60: 0 | Q60: 0 | X60: 4 | Y60: 1.63 | Z60: 0 | AA60: 0 | AB60: 0 | AC60: 0 | AD60: 0 | AE60: 0 | AF60: 0 | AG60: 0 | AH60: 0 | AI60: 0 | AJ60: 1 | AK60: 0.65 | AL60: =2+1+1+11+3+1+5+8 -> 32 | AM60: 52.69 | AN60: 0 | AO60: 0 | AP60: 0 | AQ60: 0 | AR60: 0 | AS60: 0 | AT60: 0 | AU60: 0 | AV60: 0 | AW60: 0 | AX60: 0 | AY60: 0 | AZ60: 0 | BA60: 0 | BB60: 0 | BC60: 0 | BD60: 0 | BE60: 0 | BF60: 0 | BG60: 0 | BH60: 0 | BI60: 0 | BJ60: 0 | BK60: 0 | BL60: 0 | BM60: 0 | BN60: 0 | BO60: 0 | BP60: 0 | BQ60: 0 | BR60: 0 | BS60: 0 | BT60: 0 | BU60: 0 | BV60: 0 | BW60: 0 | BX60: 0 | BY60: 0 | BZ60: 0 | CA60: 0 | CB60: 0 | CC60: 0 | CD60: 0 | CE60: 0 | CF60: 0 | CG60: 0 | CH60: 0 | CI60: 0 | CJ60: 0 | CK60: 0 | CL60: 0 | CM60: 0 | CN60: 0 | CO60: 0 | CP60: 0 | CQ60: 0 | CR60: 0 | CS60: 0
A61: 44234 | B61: TB3 | C61: =0.4*0.4 -> 0.16 | D61: =9+12+7+4+10+16+1 -> 59 | E61: 12.77 | F61: 0 | G61: 0 | H61: 0 | I61: 0 | J61: 0 | K61: 0 | L61: 0 | M61: 0 | N61: =6+2 -> 8 | O61: 10.11 | P61: 0 | Q61: 0 | X61: 1 | Y61: 0.04 | Z61: 0 | AA61: 0 | AB61: 0 | AC61: 0 | AD61: 0 | AE61: 0 | AF61: 0 | AG61: 0 | AH61: 0 | AI61: 0 | AJ61: 1 | AK61: 3.56 | AL61: =4+2+3+1 -> 10 | AM61: 15.34 | AN61: 0 | AO61: 0 | AP61: 0 | AQ61: 0 | AR61: 0 | AS61: 0 | AT61: 0 | AU61: 0 | AV61: 0 | AW61: 0 | AX61: 0 | AY61: 0 | AZ61: 0 | BA61: 0 | BB61: 0 | BC61: 0 | BD61: 0 | BE61: 0 | BF61: 0 | BG61: 0 | BH61: 0 | BI61: 0 | BJ61: 0 | BK61: 0 | BL61: 0 | BM61: 0 | BN61: 0 | BO61: 0 | BP61: 0 | BQ61: 0 | BR61: 0 | BS61: 0 | BT61: 0 | BU61: 0 | BV61: 0 | BW61: 0 | BX61: 0 | BY61: 0 | BZ61: 0 | CA61: 0 | CB61: 0 | CC61: 0 | CD61: 0 | CE61: 0 | CF61: 0 | CG61: 0 | CH61: 0 | CI61: 0 | CJ61: 0 | CK61: 0 | CL61: 0 | CM61: 0 | CN61: 0 | CO61: 0 | CP61: 0 | CQ61: 0 | CR61: 0 | CS61: 0
A62: 44234 | B62: TB4 | C62: =0.4*0.4 -> 0.16 | D62: =27+40+46+18 -> 131 | E62: 24.89 | F62: 0 | G62: 0 | H62: 0 | I62: 0 | J62: 0 | K62: 0 | L62: 0 | M62: 0 | N62: 0 | O62: 0 | P62: 0 | Q62: 0 | X62: 2 | Y62: 0.07 | Z62: 0 | AA62: 0 | AB62: 0 | AC62: 0 | AD62: 0 | AE62: 0 | AF62: 0 | AG62: 0 | AH62: 0 | AI62: 0 | AJ62: 0 | AK62: 0 | AL62: 0 | AM62: 0 | AN62: 0 | AO62: 0 | AP62: 0 | AQ62: 0 | AR62: 0 | AS62: 0 | AT62: 0 | AU62: 0 | AV62: 0 | AW62: 0 | AX62: 0 | AY62: 0 | AZ62: 0 | BA62: 0 | BB62: 0 | BC62: 0 | BD62: 0 | BE62: 0 | BF62: 0 | BG62: 0 | BH62: 0 | BI62: 0 | BJ62: 0 | BK62: 0 | BL62: 0 | BM62: 0 | BN62: 0 | BO62: 0 | BP62: 0 | BQ62: 0 | BR62: 0 | BS62: 0 | BT62: 0 | BU62: 0 | BV62: 0 | BW62: 0 | BX62: 0 | BY62: 0 | BZ62: 0 | CA62: 0 | CB62: 0 | CC62: 0 | CD62: 0 | CE62: 0 | CF62: 0 | CG62: 0 | CH62: 0 | CI62: 0 | CJ62: 0 | CK62: 0 | CL62: 0 | CM62: 0 | CN62: 0 | CO62: 0 | CP62: 0 | CQ62: 0 | CR62: 0 | CS62: 0
A63: 44235 | B63: TB5 | C63: =0.4*0.4 -> 0.16 | D63: =60+40+26+18+13+12+20 -> 189 | E63: 31.84 | F63: 0 | G63: 0 | H63: 0 | I63: 0 | J63: 0 | K63: 0 | L63: 0 | M63: 0 | N63: 0 | O63: 0 | P63: 0 | Q63: 0 | X63: 1 | Y63: 0.44 | Z63: 0 | AA63: 0 | AB63: 0 | AC63: 0 | AD63: 0 | AE63: 0 | AF63: 0 | AG63: 0 | AH63: 0 | AI63: 0 | AJ63: 0 | AK63: 0 | AL63: 0 | AM63: 0 | AN63: 0 | AO63: 0 | AP63: 0 | AQ63: 0 | AR63: 0 | AS63: 0 | AT63: 0 | AU63: 0 | AV63: 0 | AW63: 0 | AX63: 0 | AY63: 0 | AZ63: 0 | BA63: 0 | BB63: 0 | BC63: 0 | BD63: 0 | BE63: 0 | BF63: 0 | BG63: 0 | BH63: 0 | BI63: 0 | BJ63: 0 | BK63: 0 | BL63: 0 | BM63: 0 | BN63: 0 | BO63: 0 | BP63: 0 | BQ63: 0 | BR63: 0 | BS63: 0 | BT63: 0 | BU63: 0 | BV63: 0 | BW63: 0 | BX63: 0 | BY63: 0 | BZ63: 0 | CA63: 0 | CB63: 0 | CC63: 0 | CD63: 0 | CE63: 0 | CF63: 0 | CG63: 0 | CH63: 0 | CI63: 0 | CJ63: 0 | CK63: 0 | CL63: 0 | CM63: 0 | CN63: 0 | CO63: 0 | CP63: 0 | CQ63: 0 | CR63: 0 | CS63: 0
A64: 44243 | B64: TB6 | C64: =0.4*0.4 -> 0.16 | D64: =38+38+80+47+55+40 -> 298 | E64: 39.04 | F64: 0 | G64: 0 | H64: 0 | I64: 0 | J64: 0 | K64: 0 | L64: 0 | M64: 0 | N64: 0 | O64: 0 | P64: 0 | Q64: 0 | X64: 0 | Y64: 0 | Z64: 0 | AA64: 0 | AB64: 0 | AC64: 0 | AD64: 0 | AE64: 0 | AF64: 0 | AG64: 0 | AH64: 0 | AI64: 0 | AJ64: 2 | AK64: 3.19 | AL64: =5+2+2+6 -> 15 | AM64: 4.5 | AN64: 0 | AO64: 0 | AP64: 0 | AQ64: 0 | AR64: 0 | AS64: 0 | AT64: 0 | AU64: 0 | AV64: 0 | AW64: 0 | AX64: 0 | AY64: 0 | AZ64: 0 | BA64: 0 | BB64: 0 | BC64: 0 | BD64: 0 | BE64: 0 | BF64: 0 | BG64: 0 | BH64: 0 | BI64: 0 | BJ64: 0 | BK64: 0 | BL64: 0 | BM64: 0 | BN64: 0 | BO64: 0 | BP64: 0 | BQ64: 0 | BR64: 0 | BS64: 0 | BT64: 0 | BU64: 0 | BV64: 0 | BW64: 0 | BX64: 0 | BY64: 0 | BZ64: 0 | CA64: 0 | CB64: 0 | CC64: 0 | CD64: 0 | CE64: 0 | CF64: 0 | CG64: 0 | CH64: 0 | CI64: 0 | CJ64: 0 | CK64: 0 | CL64: 0 | CM64: 0 | CN64: 0 | CO64: 0 | CP64: 0 | CQ64: 0 | CR64: 0 | CS64: 0
A65: 44249 | B65: TB7 | C65: =0.4*0.4 -> 0.16 | D65: =11+2+45+67+21+33+13+29+1+29 -> 251 | E65: 36.56 | F65: 0 | G65: 0 | H65: 0 | I65: 0 | J65: 0 | K65: 0 | L65: 0 | M65: 0 | N65: 0 | O65: 0 | P65: 0 | Q65: 0 | X65: 2 | Y65: =3.07-3.03 -> 0.04 | Z65: 0 | AA65: 0 | AB65: 0 | AC65: 0 | AD65: 0 | AE65: 0 | AF65: 0 | AG65: 0 | AH65: 0 | AI65: 0 | AJ65: 0 | AK65: 0 | AL65: =2+2+1+1 -> 6 | AM65: 7.79 | AN65: 0 | AO65: 0 | AP65: 0 | AQ65: 0 | AR65: 1 | AS65: 2.44 | AT65: 0 | AU65: 0 | AV65: 0 | AW65: 0 | AX65: 0 | AY65: 0 | AZ65: 0 | BA65: 0 | BB65: 0 | BC65: 0 | BD65: 0 | BE65: 0 | BF65: 0 | BG65: 0 | BH65: 0 | BI65: 0 | BJ65: 0 | BK65: 0 | BL65: 0 | BM65: 0 | BN65: 0 | BO65: 0 | BP65: 0 | BQ65: 0 | BR65: 0 | BS65: 0 | BT65: 0 | BU65: 0 | BV65: 0 | BW65: 0 | BX65: 0 | BY65: 0 | BZ65: 0 | CA65: 0 | CB65: 0 | CC65: 0 | CD65: 0 | CE65: 0 | CF65: 0 | CG65: 0 | CH65: 0 | CI65: 0 | CJ65: 0 | CK65: 0 | CL65: 0 | CM65: 0 | CN65: 0 | CO65: 0 | CP65: 0 | CQ65: 0 | CR65: 0 | CS65: 0
A66: 44249 | B66: TB8 | C66: =0.4*0.4 -> 0.16 | D66: =11+16+14+34+10+21+19+18+16 -> 159 | E66: 28.74 | F66: 0 | G66: 0 | H66: 0 | I66: 0 | J66: 0 | K66: 0 | L66: 0 | M66: 0 | N66: 0 | O66: 0 | P66: 0 | Q66: 0 | X66: 0 | Y66: 0 | Z66: 0 | AA66: 0 | AB66: 0 | AC66: 0 | AD66: 0 | AE66: 0 | AF66: 0 | AG66: 0 | AH66: 0 | AI66: 0 | AJ66: 0 | AK66: 0 | AL66: =5 -> 5 | AM66: 41.62 | AN66: 0 | AO66: 0 | AP66: 0 | AQ66: 0 | AR66: 0 | AS66: 0 | AT66: 0 | AU66: 0 | AV66: 0 | AW66: 0 | AX66: 0 | AY66: 0 | AZ66: 0 | BA66: 0 | BB66: 0 | BC66: 0 | BD66: 0 | BE66: 0 | BF66: 0 | BG66: 0 | BH66: 0 | BI66: 0 | BJ66: 0 | BK66: 0 | BL66: 0 | BM66: 0 | BN66: 0 | BO66: 0 | BP66: 0 | BQ66: 0 | BR66: 0 | BS66: 0 | BT66: 0 | BU66: 0 | BV66: 0 | BW66: 0 | BX66: 0 | BY66: 0 | BZ66: 0 | CA66: 0 | CB66: 0 | CC66: 0 | CD66: 0 | CE66: 0 | CF66: 0 | CG66: 0 | CH66: 0 | CI66: 0 | CJ66: 0 | CK66: 0 | CL66: 0 | CM66: 0 | CN66: 0 | CO66: 0 | CP66: 0 | CQ66: 0 | CR66: 0 | CS66: 0
A67: 44261 | B67: TB9 | C67: =0.4*0.4 -> 0.16 | D67: =14+11+25+7+17+9+11+5+13+14+8 -> 134 | E67: =33.61-10.71 -> 22.9 | F67: 0 | G67: 0 | H67: 0 | I67: 0 | J67: 0 | K67: 0 | L67: 0 | M67: 0 | N67: 0 | O67: 0 | P67: 0 | Q67: 0 | X67: 0 | Y67: 0 | Z67: 0 | AA67: 0 | AB67: 0 | AC67: 0 | AD67: 0 | AE67: 0 | AF67: 0 | AG67: 0 | AH67: 0 | AI67: 0 | AJ67: 0 | AK67: 0 | AL67: 1 | AM67: =8.18-5.37 -> 2.81 | AN67: 0 | AO67: 0 | AP67: 0 | AQ67: 0 | AR67: 0 | AS67: 0 | AT67: 0 | AU67: 0 | AV67: 0 | AW67: 0 | AX67: 0 | AY67: 0 | AZ67: 0 | BA67: 0 | BB67: 0 | BC67: 0 | BD67: 0 | BE67: 0 | BF67: 0 | BG67: 0 | BH67: 0 | BI67: 0 | BJ67: 0 | BK67: 0 | BL67: 0 | BM67: 0 | BN67: 0 | BO67: 0 | BP67: 0 | BQ67: 0 | BR67: 0 | BS67: 0 | BT67: 0 | BU67: 0 | BV67: 0 | BW67: 0 | BX67: 0 | BY67: 0 | BZ67: 0 | CA67: 0 | CB67: 0 | CC67: 0 | CD67: 0 | CE67: 0 | CF67: 0 | CG67: 0 | CH67: 0 | CI67: 0 | CJ67: 0 | CK67: 0 | CL67: 0 | CM67: 0 | CN67: 0 | CO67: 0 | CP67: 0 | CQ67: 0 | CR67: 0 | CS67: 0
A68: 44261 | B68: TB10 | C68: =0.4*0.4 -> 0.16 | D68: =10+24+16+16+10+9 -> 85 | E68: =34.5-11.25 -> 23.25 | F68: 0 | G68: 0 | H68: 0 | I68: 0 | J68: 0 | K68: 0 | L68: 0 | M68: 0 | N68: =2+1+5+1 -> 9 | O68: 39.37 | P68: 0 | Q68: 0 | X68: 1 | Y68: =3.03-3 -> 0.03 | Z68: 0 | AA68: 0 | AB68: 0 | AC68: 0 | AD68: 0 | AE68: 0 | AF68: 0 | AG68: 0 | AH68: 0 | AI68: 0 | AJ68: 0 | AK68: 0 | AL68: =2+10+1 -> 13 | AM68: 86.38 | AN68: 0 | AO68: 0 | AP68: 0 | AQ68: 0 | AR68: 0 | AS68: 0 | AT68: 0 | AU68: 0 | AV68: 0 | AW68: 0 | AX68: 0 | AY68: 0 | AZ68: 0 | BA68: 0 | BB68: 0 | BC68: 0 | BD68: 0 | BE68: 0 | BF68: 0 | BG68: 0 | BH68: 0 | BI68: 0 | BJ68: 0 | BK68: 0 | BL68: 0 | BM68: 0 | BN68: 0 | BO68: 0 | BP68: 0 | BQ68: 0 | BR68: 0 | BS68: 0 | BT68: 0 | BU68: 0 | BV68: 0 | BW68: 0 | BX68: 0 | BY68: 0 | BZ68: 0 | CA68: 0 | CB68: 0 | CC68: 0 | CD68: 0 | CE68: 0 | CF68: 0 | CG68: 0 | CH68: 0 | CI68: 0 | CJ68: 0 | CK68: 0 | CL68: 0 | CM68: 0 | CN68: 0 | CO68: 0 | CP68: 0 | CQ68: 0 | CR68: 0 | CS68: 0
A69: 44262 | B69: TB11 | C69: =0.4*0.4 -> 0.16 | D69: =165+8 -> 173 | E69: 48.95 | F69: 0 | G69: 0 | H69: 0 | I69: 0 | J69: 0 | K69: 0 | L69: 0 | M69: 0 | N69: 0 | O69: 0 | P69: 0 | Q69: 0 | X69: =2+13+3 -> 18 | Y69: 0.27 | Z69: 0 | AA69: 0 | AB69: 0 | AC69: 0 | AD69: 0 | AE69: 0 | AF69: 0 | AG69: 0 | AH69: 0 | AI69: 0 | AJ69: 0 | AK69: 0 | AL69: 0 | AM69: 0 | AN69: 0 | AO69: 0 | AP69: 0 | AQ69: 0 | AR69: 0 | AS69: 0 | AT69: 0 | AU69: 0 | AV69: 0 | AW69: 0 | AX69: 0 | AY69: 0 | AZ69: 0 | BA69: 0 | BB69: 0 | BC69: 0 | BD69: 0 | BE69: 0 | BF69: 0 | BG69: 0 | BH69: 0 | BI69: 0 | BJ69: 0 | BK69: 0 | BL69: 0 | BM69: 0 | BN69: 0 | BO69: 0 | BP69: 0 | BQ69: 0 | BR69: 0 | BS69: 0 | BT69: 0 | BU69: 0 | BV69: 0 | BW69: 0 | BX69: 0 | BY69: 0 | BZ69: 0 | CA69: 0 | CB69: 0 | CC69: 0 | CD69: 0 | CE69: 0 | CF69: 0 | CG69: 0 | CH69: 0 | CI69: 0 | CJ69: 0 | CK69: 0 | CL69: 0 | CM69: 0 | CN69: 0 | CO69: 0 | CP69: 0 | CQ69: 0 | CR69: 0 | CS69: 0
A70: 44262 | B70: TB12 | C70: =0.4*0.4 -> 0.16 | D70: =18+25+49+2+27+33+9 -> 163 | E70: =20.12+30.04 -> 50.16 | F70: 0 | G70: 0 | H70: 0 | I70: 0 | J70: 0 | K70: 0 | L70: 0 | M70: 0 | N70: 5 | O70: 30.01 | P70: 0 | Q70: 0 | X70: 1 | Y70: 0.01 | Z70: 0 | AA70: 0 | AB70: 0 | AC70: 0 | AD70: 0 | AE70: 0 | AF70: 0 | AG70: 0 | AH70: 0 | AI70: 0 | AJ70: 0 | AK70: 0 | AL70: 3 | AM70: 11.96 | AN70: 0 | AO70: 0 | AP70: 0 | AQ70: 0 | AR70: 0 | AS70: 0 | AT70: 1 | AU70: 2.6 | AV70: 0 | AW70: 0 | AX70: 0 | AY70: 0 | AZ70: 0 | BA70: 0 | BB70: 0 | BC70: 0 | BD70: 0 | BE70: 0 | BF70: 0 | BG70: 0 | BH70: 0 | BI70: 0 | BJ70: 0 | BK70: 0 | BL70: 0 | BM70: 0 | BN70: 0 | BO70: 0 | BP70: 0 | BQ70: 0 | BR70: 0 | BS70: 0 | BT70: 0 | BU70: 0 | BV70: 0 | BW70: 0 | BX70: 0 | BY70: 0 | BZ70: 0 | CA70: 0 | CB70: 0 | CC70: 0 | CD70: 0 | CE70: 0 | CF70: 0 | CG70: 0 | CH70: 0 | CI70: 0 | CJ70: 0 | CK70: 0 | CL70: 0 | CM70: 0 | CN70: 0 | CO70: 0 | CP70: 0 | CQ70: 0 | CR70: 0 | CS70: 0
A71: 44271 | B71: TB13 | C71: =0.4*0.4 -> 0.16 | D71: =12+16+2 -> 30 | E71: =12.58-5.16 -> 7.42 | F71: 0 | G71: 0 | H71: 0 | I71: 0 | J71: 0 | K71: 0 | L71: 0 | M71: 0 | N71: 2 | O71: =19.28-7.03 -> 12.25 | P71: 0 | Q71: 0 | X71: 2 | Y71: =2.19-2.11 -> 0.08 | Z71: 0 | AA71: 0 | AB71: 0 | AC71: 0 | AD71: 0 | AE71: 0 | AF71: 0 | AG71: 0 | AH71: 1 | AI71: =15.28-7.42 -> 7.86 | AJ71: 0 | AK71: 0 | AL71: 7 | AM71: =171.49-62.6 -> 108.89 | AN71: 0 | AO71: 0 | AP71: 0 | AQ71: 0 | AR71: 0 | AS71: 0 | AT71: 0 | AU71: 0 | AV71: 0 | AW71: 0 | AX71: 0 | AY71: 0 | AZ71: 0 | BA71: 0 | BB71: 0 | BC71: 0 | BD71: 0 | BE71: 0 | BF71: 0 | BG71: 0 | BH71: 0 | BI71: 0 | BJ71: 0 | BK71: 0 | BL71: 0 | BM71: 0 | BN71: 0 | BO71: 0 | BP71: 0 | BQ71: 0 | BR71: 0 | BS71: 0 | BT71: 0 | BU71: 0 | BV71: 0 | BW71: 0 | BX71: 0 | BY71: 0 | BZ71: 0 | CA71: 0 | CB71: 0 | CC71: 0 | CD71: 0 | CE71: 0 | CF71: 0 | CG71: 0 | CH71: 0 | CI71: 0 | CJ71: 0 | CK71: 0 | CL71: 0 | CM71: 0 | CN71: 0 | CO71: 0 | CP71: 0 | CQ71: 0 | CR71: 0 | CS71: 0
A72: 44271 | B72: TB14 | C72: =0.4*0.4 -> 0.16 | D72: =10 -> 10 | E72: =11.48-10.58 -> 0.9 | F72: 0 | G72: 0 | H72: 0 | I72: 0 | J72: 0 | K72: 0 | L72: 0 | M72: 0 | N72: 1 | O72: =16.94-5.37 -> 11.57 | P72: 0 | Q72: 0 | X72: 0 | Y72: 0 | Z72: 0 | AA72: 0 | AB72: 0 | AC72: 0 | AD72: 0 | AE72: 0 | AF72: 0 | AG72: 0 | AH72: 1 | AI72: =7.28-5.28 -> 2 | AJ72: 1 | AK72: =8.25-5.19 -> 3.06 | AL72: 6 | AM72: =129.29-67.52 -> 61.77 | AN72: 0 | AO72: 0 | AP72: 0 | AQ72: 0 | AR72: 0 | AS72: 0 | AT72: 0 | AU72: 0 | AV72: 0 | AW72: 0 | AX72: 0 | AY72: 0 | AZ72: 0 | BA72: 0 | BB72: 0 | BC72: 0 | BD72: 0 | BE72: 0 | BF72: 0 | BG72: 0 | BH72: 0 | BI72: 0 | BJ72: 0 | BK72: 0 | BL72: 0 | BM72: 0 | BN72: 0 | BO72: 0 | BP72: 0 | BQ72: 0 | BR72: 0 | BS72: 0 | BT72: 0 | BU72: 0 | BV72: 0 | BW72: 0 | BX72: 0 | BY72: 0 | BZ72: 0 | CA72: 0 | CB72: 0 | CC72: 0 | CD72: 0 | CE72: 0 | CF72: 0 | CG72: 0 | CH72: 0 | CI72: 0 | CJ72: 0 | CK72: 0 | CL72: 0 | CM72: 0 | CN72: 0 | CO72: 0 | CP72: 0 | CQ72: 0 | CR72: 0 | CS72: 0
A73: 44271 | B73: TB15 | C73: =0.4*0.4 -> 0.16 | D73: =39+8 -> 47 | E73: =16.61-7.56 -> 9.05 | F73: 0 | G73: 0 | H73: 0 | I73: 0 | J73: 0 | K73: 0 | L73: 0 | M73: 0 | N73: 1 | O73: =11.07-5.85 -> 5.22 | P73: 0 | Q73: 0 | X73: 0 | Y73: 0 | Z73: 0 | AA73: 0 | AB73: 0 | AC73: 0 | AD73: 0 | AE73: 0 | AF73: 0 | AG73: 0 | AH73: 0 | AI73: 0 | AJ73: 4 | AK73: =31.25-5.29 -> 25.96 | AL73: 2 | AM73: =66.83-45.06 -> 21.77 | AN73: 0 | AO73: 0 | AP73: 0 | AQ73: 0 | AR73: 0 | AS73: 0 | AT73: 0 | AU73: 0 | AV73: 0 | AW73: 0 | AX73: 0 | AY73: 0 | AZ73: 0 | BA73: 0 | BB73: 0 | BC73: 0 | BD73: 0 | BE73: 0 | BF73: 0 | BG73: 0 | BH73: 0 | BI73: 0 | BJ73: 0 | BK73: 0 | BL73: 0 | BM73: 0 | BN73: 0 | BO73: 0 | BP73: 0 | BQ73: 0 | BR73: 0 | BS73: 0 | BT73: 0 | BU73: 0 | BV73: 0 | BW73: 0 | BX73: 0 | BY73: 0 | BZ73: 0 | CA73: 0 | CB73: 0 | CC73: 0 | CD73: 0 | CE73: 0 | CF73: 0 | CG73: 0 | CH73: 0 | CI73: 0 | CJ73: 0 | CK73: 0 | CL73: 0 | CM73: 0 | CN73: 0 | CO73: 0 | CP73: 0 | CQ73: 0 | CR73: 0 | CS73: 0
A74: 44277 | B74: TB16 | C74: =0.4*0.4 -> 0.16 | D74: =25+11+4 -> 40 | E74: =17.39-10.29 -> 7.1 | F74: 0 | G74: 0 | H74: 0 | I74: 0 | J74: 0 | K74: 0 | L74: 0 | M74: 0 | N74: 1 | O74: =5.98-5.24 -> 0.74 | P74: 0 | Q74: 0 | X74: 12 | Y74: =3.11-2.98 -> 0.13 | Z74: 0 | AA74: 0 | AB74: 0 | AC74: 0 | AD74: 0 | AE74: 0 | AF74: 0 | AG74: 0 | AH74: 0 | AI74: 0 | AJ74: 2 | AK74: =21.61-7.62 -> 13.99 | AL74: 5 | AM74: =132.57-48.87 -> 83.7 | AN74: 0 | AO74: 0 | AP74: 0 | AQ74: 0 | AR74: 0 | AS74: 0 | AT74: 1 | AU74: =4.29-3.18 -> 1.11 | AV74: 0 | AW74: 0 | AX74: 0 | AY74: 0 | AZ74: 0 | BA74: 0 | BB74: 0 | BC74: 0 | BD74: 0 | BE74: 0 | BF74: 0 | BG74: 0 | BH74: 0 | BI74: 0 | BJ74: 0 | BK74: 0 | BL74: 0 | BM74: 0 | BN74: 0 | BO74: 0 | BP74: 0 | BQ74: 0 | BR74: 0 | BS74: 0 | BT74: 0 | BU74: 0 | BV74: 0 | BW74: 0 | BX74: 0 | BY74: 0 | BZ74: 0 | CA74: 0 | CB74: 0 | CC74: 0 | CD74: 0 | CE74: 0 | CF74: 0 | CG74: 0 | CH74: 0 | CI74: 0 | CJ74: 0 | CK74: 0 | CL74: 0 | CM74: 0 | CN74: 0 | CO74: 0 | CP74: 0 | CQ74: 0 | CR74: 0 | CS74: 0
A75: 44277 | B75: TB17 | C75: =0.4*0.4 -> 0.16 | D75: =41+38+4+30+9 -> 122 | E75: =62.29-34.25 -> 28.04 | F75: 0 | G75: 0 | H75: 0 | I75: 0 | J75: 0 | K75: 0 | L75: 0 | M75: 0 | N75: 0 | O75: 0 | P75: 0 | Q75: 0 | X75: 3 | Y75: =4.64-4.6 -> 0.04 | Z75: 0 | AA75: 0 | AB75: 0 | AC75: 0 | AD75: 0 | AE75: 0 | AF75: 0 | AG75: 0 | AH75: 0 | AI75: 0 | AJ75: 4 | AK75: =114.37-77.81 -> 36.56 | AL75: 3 | AM75: =29.78-5.4 -> 24.38 | AN75: 0 | AO75: 0 | AP75: 0 | AQ75: 0 | AR75: 0 | AS75: 0 | AT75: 0 | AU75: 0 | AV75: 0 | AW75: 0 | AX75: 0 | AY75: 0 | AZ75: 0 | BA75: 0 | BB75: 0 | BC75: 0 | BD75: 0 | BE75: 0 | BF75: 0 | BG75: 0 | BH75: 0 | BI75: 0 | BJ75: 0 | BK75: 0 | BL75: 0 | BM75: 0 | BN75: 0 | BO75: 0 | BP75: 0 | BQ75: 0 | BR75: 0 | BS75: 0 | BT75: 0 | BU75: 0 | BV75: 0 | BW75: 0 | BX75: 0 | BY75: 0 | BZ75: 0 | CA75: 0 | CB75: 0 | CC75: 0 | CD75: 0 | CE75: 0 | CF75: 0 | CG75: 0 | CH75: 0 | CI75: 0 | CJ75: 0 | CK75: 0 | CL75: 0 | CM75: 0 | CN75: 0 | CO75: 0 | CP75: 0 | CQ75: 0 | CR75: 0 | CS75: 0
A76: 44279 | B76: TB18 | C76: =0.4*0.4 -> 0.16 | D76: =21+17+16 -> 54 | E76: =15.08-7.29 -> 7.79 | F76: 0 | G76: 0 | H76: 0 | I76: 0 | J76: 0 | K76: 0 | L76: 1 | M76: =253.98-67.17 -> 186.81 | N76: 0 | O76: 0 | P76: 0 | Q76: 0 | X76: 0 | Y76: 0 | Z76: 0 | AA76: 0 | AB76: 0 | AC76: 0 | AD76: 0 | AE76: 0 | AF76: 0 | AG76: 0 | AH76: 0 | AI76: 0 | AJ76: 3 | AK76: =10.28-5.22 -> 5.06 | AL76: 0 | AM76: 0 | AN76: 0 | AO76: 0 | AP76: 0 | AQ76: 0 | AR76: 0 | AS76: 0 | AT76: 0 | AU76: 0 | AV76: 0 | AW76: 0 | AX76: 0 | AY76: 0 | AZ76: 0 | BA76: 0 | BB76: 0 | BC76: 0 | BD76: 0 | BE76: 0 | BF76: 0 | BG76: 0 | BH76: 0 | BI76: 0 | BJ76: 0 | BK76: 0 | BL76: 0 | BM76: 0 | BN76: 0 | BO76: 0 | BP76: 0 | BQ76: 0 | BR76: 0 | BS76: 0 | BT76: 0 | BU76: 0 | BV76: 0 | BW76: 0 | BX76: 0 | BY76: 0 | BZ76: 0 | CA76: 0 | CB76: 0 | CC76: 0 | CD76: 0 | CE76: 0 | CF76: 0 | CG76: 0 | CH76: 0 | CI76: 0 | CJ76: 0 | CK76: 0 | CL76: 0 | CM76: 0 | CN76: 0 | CO76: 0 | CP76: 0 | CQ76: 0 | CR76: 0 | CS76: 0
A77: 44279 | B77: TB19 | C77: =0.4*0.4 -> 0.16 | D77: 9 | E77: =7-5.18 -> 1.82 | F77: 0 | G77: 0 | H77: 0 | I77: 0 | J77: 0 | K77: 0 | L77: 0 | M77: 0 | N77: 0 | O77: 0 | P77: 0 | Q77: 0 | X77: 2 | Y77: =2.18-2.16 -> 0.02 | Z77: 0 | AA77: 0 | AB77: 0 | AC77: 0 | AD77: 0 | AE77: 0 | AF77: 0 | AG77: 0 | AH77: 0 | AI77: 0 | AJ77: 0 | AK77: 0 | AL77: 4 | AM77: =136.97-45.11 -> 91.86 | AN77: 0 | AO77: 0 | AP77: 0 | AQ77: 0 | AR77: 0 | AS77: 0 | AT77: 0 | AU77: 0 | AV77: 0 | AW77: 0 | AX77: 0 | AY77: 0 | AZ77: 0 | BA77: 0 | BB77: 0 | BC77: 0 | BD77: 0 | BE77: 0 | BF77: 0 | BG77: 0 | BH77: 0 | BI77: 0 | BJ77: 0 | BK77: 0 | BL77: 0 | BM77: 0 | BN77: 0 | BO77: 0 | BP77: 0 | BQ77: 0 | BR77: 0 | BS77: 0 | BT77: 0 | BU77: 0 | BV77: 0 | BW77: 0 | BX77: 0 | BY77: 0 | BZ77: 0 | CA77: 0 | CB77: 0 | CC77: 0 | CD77: 0 | CE77: 0 | CF77: 0 | CG77: 0 | CH77: 0 | CI77: 0 | CJ77: 0 | CK77: 0 | CL77: 0 | CM77: 0 | CN77: 0 | CO77: 0 | CP77: 0 | CQ77: 0 | CR77: 0 | CS77: 0
A78: 44282 | B78: TB20 | C78: =0.4*0.4 -> 0.16 | D78: 32 | E78: =10.98-5.48 -> 5.5 | F78: 0 | G78: 0 | H78: 0 | I78: 0 | J78: 0 | K78: 0 | L78: 0 | M78: 0 | N78: 1 | O78: =10.67-4.4 -> 6.27 | P78: 0 | Q78: 0 | X78: 1 | Y78: =4.64-4.63 -> 0.01 | Z78: 0 | AA78: 0 | AB78: 0 | AC78: 0 | AD78: 0 | AE78: 0 | AF78: 0 | AG78: 0 | AH78: 0 | AI78: 0 | AJ78: 1 | AK78: =5.19-4.58 -> 0.61 | AL78: 4 | AM78: =195.82-69.43 -> 126.39 | AN78: 0 | AO78: 0 | AP78: 0 | AQ78: 0 | AR78: 0 | AS78: 0 | AT78: 0 | AU78: 0 | AV78: 0 | AW78: 0 | AX78: 0 | AY78: 0 | AZ78: 0 | BA78: 0 | BB78: 0 | BC78: 0 | BD78: 0 | BE78: 0 | BF78: 0 | BG78: 0 | BH78: 0 | BI78: 0 | BJ78: 0 | BK78: 0 | BL78: 0 | BM78: 0 | BN78: 0 | BO78: 0 | BP78: 0 | BQ78: 0 | BR78: 0 | BS78: 0 | BT78: 0 | BU78: 0 | BV78: 0 | BW78: 0 | BX78: 0 | BY78: 0 | BZ78: 0 | CA78: 0 | CB78: 0 | CC78: 0 | CD78: 0 | CE78: 0 | CF78: 0 | CG78: 0 | CH78: 0 | CI78: 0 | CJ78: 0 | CK78: 0 | CL78: 0 | CM78: 0 | CN78: 0 | CO78: 0 | CP78: 0 | CQ78: 0 | CR78: 0 | CS78: 0
A79: 44283 | B79: TB21 | C79: =0.4*0.4 -> 0.16 | D79: 13 | E79: =7.43-5.57 -> 1.86 | F79: 0 | G79: 0 | H79: 0 | I79: 0 | J79: 0 | K79: 0 | L79: 0 | M79: 0 | N79: 0 | O79: 0 | P79: 0 | Q79: 0 | X79: 4 | Y79: =2.22-2.18 -> 0.04 | Z79: 0 | AA79: 0 | AB79: 0 | AC79: 0 | AD79: 0 | AE79: 0 | AF79: 0 | AG79: 0 | AH79: 0 | AI79: 0 | AJ79: 2 | AK79: =7.4-5.2 -> 2.2 | AL79: 6 | AM79: =183.22-59.07 -> 124.15 | AN79: 0 | AO79: 0 | AP79: 0 | AQ79: 0 | AR79: 0 | AS79: 0 | AT79: 0 | AU79: 0 | AV79: 0 | AW79: 0 | AX79: 0 | AY79: 0 | AZ79: 0 | BA79: 0 | BB79: 0 | BC79: 0 | BD79: 0 | BE79: 0 | BF79: 0 | BG79: 0 | BH79: 0 | BI79: 0 | BJ79: 0 | BK79: 0 | BL79: 0 | BM79: 0 | BN79: 0 | BO79: 0 | BP79: 0 | BQ79: 0 | BR79: 0 | BS79: 0 | BT79: 0 | BU79: 0 | BV79: 0 | BW79: 0 | BX79: 0 | BY79: 0 | BZ79: 0 | CA79: 0 | CB79: 0 | CC79: 0 | CD79: 0 | CE79: 0 | CF79: 0 | CG79: 0 | CH79: 0 | CI79: 0 | CJ79: 0 | CK79: 0 | CL79: 0 | CM79: 0 | CN79: 0 | CO79: 0 | CP79: 0 | CQ79: 0 | CR79: 0 | CS79: 0
A80: 44283 | B80: TB22 | C80: =0.4*0.4 -> 0.16 | D80: 21 | E80: =11.59-7.4 -> 4.19 | F80: 0 | G80: 0 | H80: 0 | I80: 0 | J80: 0 | K80: 0 | L80: 0 | M80: 0 | N80: 4 | O80: =74.16-34.65 -> 39.51 | P80: 0 | Q80: 0 | X80: 7 | Y80: =3.16-3.09 -> 0.07 | Z80: 0 | AA80: 0 | AB80: 0 | AC80: 0 | AD80: 0 | AE80: 0 | AF80: 0 | AG80: 0 | AH80: 0 | AI80: 0 | AJ80: 0 | AK80: 0 | AL80: 11 | AM80: =190.35-77.91+144.66-49.08 -> 208.02 | AN80: 0 | AO80: 0 | AP80: 0 | AQ80: 0 | AR80: 0 | AS80: 0 | AT80: 0 | AU80: 0 | AV80: 0 | AW80: 0 | AX80: 0 | AY80: 0 | AZ80: 0 | BA80: 0 | BB80: 0 | BC80: 0 | BD80: 0 | BE80: 0 | BF80: 0 | BG80: 0 | BH80: 0 | BI80: 0 | BJ80: 0 | BK80: 0 | BL80: 0 | BM80: 0 | BN80: 0 | BO80: 0 | BP80: 0 | BQ80: 0 | BR80: 0 | BS80: 0 | BT80: 0 | BU80: 0 | BV80: 0 | BW80: 0 | BX80: 0 | BY80: 0 | BZ80: 0 | CA80: 0 | CB80: 0 | CC80: 0 | CD80: 0 | CE80: 0 | CF80: 0 | CG80: 0 | CH80: 0 | CI80: 0 | CJ80: 0 | CK80: 0 | CL80: 0 | CM80: 0 | CN80: 0 | CO80: 0 | CP80: 0 | CQ80: 0 | CR80: 0 | CS80: 0
A81: 44283 | B81: TB23 | C81: =0.4*0.4 -> 0.16 | D81: 8 | E81: =8.48-6.99 -> 1.49 | F81: 0 | G81: 0 | H81: 0 | I81: 0 | J81: 0 | K81: 0 | L81: 0 | M81: 0 | N81: 6 | O81: =24.83-7.28 -> 17.55 | P81: 0 | Q81: 0 | X81: 4 | Y81: =2.81-2.72 -> 0.09 | Z81: 0 | AA81: 0 | AB81: 0 | AC81: 0 | AD81: 0 | AE81: 0 | AF81: 0 | AG81: 0 | AH81: 0 | AI81: 0 | AJ81: 1 | AK81: =11-5.32 -> 5.68 | AL81: 3 | AM81: =109.96-46.58 -> 63.38 | AN81: 0 | AO81: 0 | AP81: 0 | AQ81: 0 | AR81: 0 | AS81: 0 | AT81: 0 | AU81: 0 | AV81: 0 | AW81: 0 | AX81: 0 | AY81: 0 | AZ81: 0 | BA81: 0 | BB81: 0 | BC81: 0 | BD81: 0 | BE81: 0 | BF81: 0 | BG81: 0 | BH81: 0 | BI81: 0 | BJ81: 0 | BK81: 0 | BL81: 0 | BM81: 0 | BN81: 0 | BO81: 0 | BP81: 0 | BQ81: 0 | BR81: 0 | BS81: 0 | BT81: 0 | BU81: 0 | BV81: 0 | BW81: 0 | BX81: 0 | BY81: 0 | BZ81: 0 | CA81: 0 | CB81: 0 | CC81: 0 | CD81: 0 | CE81: 0 | CF81: 0 | CG81: 0 | CH81: 0 | CI81: 0 | CJ81: 0 | CK81: 0 | CL81: 0 | CM81: 0 | CN81: 0 | CO81: 0 | CP81: 0 | CQ81: 0 | CR81: 0 | CS81: 0
A82: 44288 | B82: TB24 | C82: =0.4*0.4 -> 0.16 | D82: 8 | E82: =4.89-3.01 -> 1.88 | F82: 0 | G82: 0 | H82: 0 | I82: 0 | J82: 0 | K82: 0 | L82: 0 | M82: 0 | N82: 5 | O82: =46.32-5.3 -> 41.02 | P82: 0 | Q82: 0 | X82: =26+35 -> 61 | Y82: =5.82-4.63 -> 1.19 | Z82: 0 | AA82: 0 | AB82: 0 | AC82: 0 | AD82: 0 | AE82: 0 | AF82: 0 | AG82: 0 | AH82: 1 | AI82: =19.94-5.68 -> 14.26 | AJ82: 0 | AK82: 0 | AL82: 10 | AM82: =183.74-95.43 -> 88.31 | AN82: 0 | AO82: 0 | AP82: 0 | AQ82: 0 | AR82: 0 | AS82: 0 | AT82: 0 | AU82: 0 | AV82: 0 | AW82: 0 | AX82: 0 | AY82: 0 | AZ82: 0 | BA82: 0 | BB82: 0 | BC82: 0 | BD82: 0 | BE82: 0 | BF82: 0 | BG82: 0 | BH82: 0 | BI82: 0 | BJ82: 0 | BK82: 0 | BL82: 0 | BM82: 0 | BN82: 0 | BO82: 0 | BP82: 0 | BQ82: 0 | BR82: 0 | BS82: 0 | BT82: 0 | BU82: 0 | BV82: 0 | BW82: 0 | BX82: 0 | BY82: 0 | BZ82: 0 | CA82: 0 | CB82: 0 | CC82: 0 | CD82: 0 | CE82: 0 | CF82: 0 | CG82: 0 | CH82: 0 | CI82: 0 | CJ82: 0 | CK82: 0 | CL82: 0 | CM82: 0 | CN82: 0 | CO82: 0 | CP82: 0 | CQ82: 0 | CR82: 0 | CS82: 0
A83: 44288 | B83: TB25 | C83: =0.4*0.4 -> 0.16 | D83: 14 | E83: =11.65-5.83 -> 5.82 | F83: 0 | G83: 0 | H83: 0 | I83: 0 | J83: 0 | K83: 0 | L83: 0 | M83: 0 | N83: 4 | O83: =35.89-7.66 -> 28.23 | P83: 0 | Q83: 0 | X83: 1 | Y83: =4.67-4.63 -> 0.04 | Z83: 0 | AA83: 0 | AB83: 0 | AC83: 0 | AD83: 0 | AE83: 0 | AF83: 0 | AG83: 0 | AH83: 1 | AI83: =7.73-5.66 -> 2.07 | AJ83: 0 | AK83: 0 | AL83: 9 | AM83: =193.5-63.32 -> 130.18 | AN83: 0 | AO83: 0 | AP83: 0 | AQ83: 0 | AR83: 0 | AS83: 0 | AT83: 0 | AU83: 0 | AV83: 0 | AW83: 0 | AX83: 0 | AY83: 0 | AZ83: 0 | BA83: 0 | BB83: 0 | BC83: 0 | BD83: 0 | BE83: 0 | BF83: 0 | BG83: 0 | BH83: 0 | BI83: 0 | BJ83: 0 | BK83: 0 | BL83: 0 | BM83: 0 | BN83: 0 | BO83: 0 | BP83: 0 | BQ83: 0 | BR83: 0 | BS83: 0 | BT83: 0 | BU83: 0 | BV83: 0 | BW83: 0 | BX83: 0 | BY83: 0 | BZ83: 0 | CA83: 0 | CB83: 0 | CC83: 0 | CD83: 0 | CE83: 0 | CF83: 0 | CG83: 0 | CH83: 0 | CI83: 0 | CJ83: 0 | CK83: 0 | CL83: 0 | CM83: 0 | CN83: 0 | CO83: 0 | CP83: 0 | CQ83: 0 | CR83: 0 | CS83: 0
A84: 44289 | B84: TB26 | C84: =0.4*0.4 -> 0.16 | D84: 23 | E84: =13.43-5.5 -> 7.93 | F84: 0 | G84: 0 | H84: 0 | I84: 0 | J84: 0 | K84: 0 | L84: 0 | M84: 0 | N84: 2 | O84: =45.41-5.67 -> 39.74 | P84: 0 | Q84: 0 | X84: 11 | Y84: =3.01-2.93 -> 0.08 | Z84: 0 | AA84: 0 | AB84: 0 | AC84: 0 | AD84: 0 | AE84: 0 | AF84: 0 | AG84: 0 | AH84: 0 | AI84: 0 | AJ84: 0 | AK84: 0 | AL84: 1 | AM84: =106.18-35.84 -> 70.34 | AN84: 0 | AO84: 0 | AP84: 0 | AQ84: 0 | AR84: 0 | AS84: 0 | AT84: 0 | AU84: 0 | AV84: 0 | AW84: 0 | AX84: 0 | AY84: 0 | AZ84: 0 | BA84: 0 | BB84: 0 | BC84: 0 | BD84: 1 | BE84: =4.74-4.61 -> 0.13 | BF84: 0 | BG84: 0 | BH84: 0 | BI84: 0 | BJ84: 0 | BK84: 0 | BL84: 0 | BM84: 0 | BN84: 0 | BO84: 0 | BP84: 0 | BQ84: 0 | BR84: 0 | BS84: 0 | BT84: 0 | BU84: 0 | BV84: 0 | BW84: 0 | BX84: 0 | BY84: 0 | BZ84: 0 | CA84: 0 | CB84: 0 | CC84: 0 | CD84: 0 | CE84: 0 | CF84: 0 | CG84: 0 | CH84: 0 | CI84: 0 | CJ84: 0 | CK84: 0 | CL84: 0 | CM84: 0 | CN84: 0 | CO84: 0 | CP84: 0 | CQ84: 0 | CR84: 0 | CS84: 0
A85: 44292 | B85: TB27 | C85: =0.5*0.5 -> 0.25 | D85: 24 | E85: =11.38-5.84 -> 5.54 | F85: 0 | G85: 0 | H85: 0 | I85: 0 | J85: 0 | K85: 0 | L85: 0 | M85: 0 | N85: 2 | O85: =184.34-34.66 -> 149.68 | P85: 0 | Q85: 0 | X85: =30+47+3+58 -> 138 | Y85: =4.86-2.17 -> 2.69 | Z85: 0 | AA85: 0 | AB85: 0 | AC85: 0 | AD85: 0 | AE85: 0 | AF85: 0 | AG85: 0 | AH85: 0 | AI85: 0 | AJ85: 0 | AK85: 0 | AL85: 3 | AM85: =86.64-59.12 -> 27.52 | AN85: 0 | AO85: 0 | AP85: 0 | AQ85: 0 | AR85: 0 | AS85: 0 | AT85: 0 | AU85: 0 | AV85: 0 | AW85: 0 | AX85: 0 | AY85: 0 | AZ85: 0 | BA85: 0 | BB85: 0 | BC85: 0 | BD85: 3 | BE85: =4.73-4.63 -> 0.1 | BF85: 4 | BG85: =3.71-2.95 -> 0.76 | BH85: 0 | BI85: 0 | BJ85: 0 | BK85: 0 | BL85: 0 | BM85: 0 | BN85: 0 | BO85: 0 | BP85: 0 | BQ85: 0 | BR85: 0 | BS85: 0 | BT85: 0 | BU85: 0 | BV85: 0 | BW85: 0 | BX85: 0 | BY85: 0 | BZ85: 0 | CA85: 0 | CB85: 0 | CC85: 0 | CD85: 0 | CE85: 0 | CF85: 0 | CG85: 0 | CH85: 0 | CI85: 0 | CJ85: 0 | CK85: 0 | CL85: 0 | CM85: 0 | CN85: 0 | CO85: 0 | CP85: 0 | CQ85: 0 | CR85: 0 | CS85: 0
A86: 44292 | B86: TB28 | C86: =0.5*0.5 -> 0.25 | D86: 17 | E86: =9.29-5.51 -> 3.78 | F86: 0 | G86: 0 | H86: 0 | I86: 0 | J86: 0 | K86: 0 | L86: 0 | M86: 0 | N86: 0 | O86: 0 | P86: 0 | Q86: 0 | X86: 10 | Y86: =4.79-4.62 -> 0.17 | Z86: 0 | AA86: 0 | AB86: 0 | AC86: 0 | AD86: 0 | AE86: 0 | AF86: 0 | AG86: 0 | AH86: 0 | AI86: 0 | AJ86: 1 | AK86: =19.34-5.25 -> 14.09 | AL86: 2 | AM86: =189.25-63.85 -> 125.4 | AN86: 0 | AO86: 0 | AP86: 0 | AQ86: 0 | AR86: 0 | AS86: 0 | AT86: 0 | AU86: 0 | AV86: 0 | AW86: 0 | AX86: 0 | AY86: 0 | AZ86: 0 | BA86: 0 | BB86: 0 | BC86: 0 | BD86: 0 | BE86: 0 | BF86: 0 | BG86: 0 | BH86: 0 | BI86: 0 | BJ86: 0 | BK86: 0 | BL86: 0 | BM86: 0 | BN86: 0 | BO86: 0 | BP86: 0 | BQ86: 0 | BR86: 0 | BS86: 0 | BT86: 0 | BU86: 0 | BV86: 0 | BW86: 0 | BX86: 0 | BY86: 0 | BZ86: 0 | CA86: 0 | CB86: 0 | CC86: 0 | CD86: 0 | CE86: 0 | CF86: 0 | CG86: 0 | CH86: 0 | CI86: 0 | CJ86: 0 | CK86: 0 | CL86: 0 | CM86: 0 | CN86: 0 | CO86: 0 | CP86: 0 | CQ86: 0 | CR86: 0 | CS86: 0
A87: 44292 | B87: TB29 | C87: =0.5*0.5 -> 0.25 | D87: 8 | E87: =4.21-3.02 -> 1.19 | F87: 0 | G87: 0 | H87: 0 | I87: 0 | J87: 0 | K87: 0 | L87: 0 | M87: 0 | N87: 0 | O87: 0 | P87: 0 | Q87: 0 | X87: 1 | Y87: =4.67-4.61 -> 0.06 | Z87: 0 | AA87: 0 | AB87: 0 | AC87: 0 | AD87: 0 | AE87: 0 | AF87: 0 | AG87: 0 | AH87: 0 | AI87: 0 | AJ87: 1 | AK87: =26.01-5.71 -> 20.3 | AL87: 2 | AM87: =191.82-36.03 -> 155.79 | AN87: 0 | AO87: 0 | AP87: 0 | AQ87: 0 | AR87: 0 | AS87: 0 | AT87: 0 | AU87: 0 | AV87: 0 | AW87: 0 | AX87: 0 | AY87: 0 | AZ87: 0 | BA87: 0 | BB87: 0 | BC87: 0 | BD87: 0 | BE87: 0 | BF87: 0 | BG87: 0 | BH87: 0 | BI87: 0 | BJ87: 0 | BK87: 0 | BL87: 0 | BM87: 0 | BN87: 0 | BO87: 0 | BP87: 0 | BQ87: 0 | BR87: 0 | BS87: 0 | BT87: 0 | BU87: 0 | BV87: 0 | BW87: 0 | BX87: 0 | BY87: 0 | BZ87: 0 | CA87: 0 | CB87: 0 | CC87: 0 | CD87: 0 | CE87: 0 | CF87: 0 | CG87: 0 | CH87: 0 | CI87: 0 | CJ87: 0 | CK87: 0 | CL87: 0 | CM87: 0 | CN87: 0 | CO87: 0 | CP87: 0 | CQ87: 0 | CR87: 0 | CS87: 0
A88: 44292 | B88: TB30 | C88: =0.5*0.5 -> 0.25 | D88: 0 | E88: 0 | F88: 0 | G88: 0 | H88: 0 | I88: 0 | J88: 0 | K88: 0 | L88: 1 | M88: =417.8-90.09 -> 327.71 | N88: 0 | O88: 0 | P88: 0 | Q88: 0 | X88: 0 | Y88: 0 | Z88: 0 | AA88: 0 | AB88: 0 | AC88: 0 | AD88: 0 | AE88: 0 | AF88: 0 | AG88: 0 | AH88: 0 | AI88: 0 | AJ88: 0 | AK88: 0 | AL88: =3+2+1 -> 6 | AM88: =176.18-43.2 -> 132.98 | AN88: 0 | AO88: 0 | AP88: 0 | AQ88: 0 | AR88: 0 | AS88: 0 | AT88: 0 | AU88: 0 | AV88: 0 | AW88: 0 | AX88: 0 | AY88: 0 | AZ88: 0 | BA88: 0 | BB88: 0 | BC88: 0 | BD88: 0 | BE88: 0 | BF88: 0 | BG88: 0 | BH88: 0 | BI88: 0 | BJ88: 0 | BK88: 0 | BL88: 0 | BM88: 0 | BN88: 0 | BO88: 0 | BP88: 0 | BQ88: 0 | BR88: 0 | BS88: 0 | BT88: 0 | BU88: 0 | BV88: 0 | BW88: 0 | BX88: 0 | BY88: 0 | BZ88: 0 | CA88: 0 | CB88: 0 | CC88: 0 | CD88: 0 | CE88: 0 | CF88: 0 | CG88: 0 | CH88: 0 | CI88: 0 | CJ88: 0 | CK88: 0 | CL88: 0 | CM88: 0 | CN88: 0 | CO88: 0 | CP88: 0 | CQ88: 0 | CR88: 0 | CS88: 0
A89: 44293 | B89: TB31 | C89: =0.5*0.5 -> 0.25 | D89: 3 | E89: =5.11-4.61 -> 0.5 | F89: 0 | G89: 0 | H89: 0 | I89: 0 | J89: 0 | K89: 0 | L89: 0 | M89: 0 | N89: 1 | O89: =7.67-5.33 -> 2.34 | P89: 0 | Q89: 0 | X89: 15 | Y89: =4.81-4.61 -> 0.2 | Z89: 0 | AA89: 0 | AB89: 0 | AC89: 0 | AD89: 0 | AE89: 0 | AF89: 0 | AG89: 0 | AH89: 0 | AI89: 0 | AJ89: 1 | AK89: =4.67-4.57 -> 0.1 | AL89: 5 | AM89: =263.32-70.56 -> 192.76 | AN89: 0 | AO89: 0 | AP89: 0 | AQ89: 0 | AR89: 0 | AS89: 0 | AT89: 0 | AU89: 0 | AV89: 0 | AW89: 0 | AX89: 0 | AY89: 0 | AZ89: 0 | BA89: 0 | BB89: 0 | BC89: 0 | BD89: 0 | BE89: 0 | BF89: 0 | BG89: 0 | BH89: 0 | BI89: 0 | BJ89: 0 | BK89: 0 | BL89: 0 | BM89: 0 | BN89: 0 | BO89: 0 | BP89: 0 | BQ89: 0 | BR89: 0 | BS89: 0 | BT89: 0 | BU89: 0 | BV89: 0 | BW89: 0 | BX89: 0 | BY89: 0 | BZ89: 0 | CA89: 0 | CB89: 0 | CC89: 0 | CD89: 0 | CE89: 0 | CF89: 0 | CG89: 0 | CH89: 0 | CI89: 0 | CJ89: 0 | CK89: 0 | CL89: 0 | CM89: 0 | CN89: 0 | CO89: 0 | CP89: 0 | CQ89: 0 | CR89: 0 | CS89: 0
A90: 44293 | B90: TB32 | C90: =0.4*0.4 -> 0.16 | D90: 23 | E90: =15.08-7.06 -> 8.02 | F90: 0 | G90: 0 | H90: 0 | I90: 0 | J90: 0 | K90: 0 | L90: 0 | M90: 0 | N90: 1 | O90: =27.02-7.67 -> 19.35 | P90: 0 | Q90: 0 | X90: 9 | Y90: =4.82-4.63 -> 0.19 | Z90: 0 | AA90: 0 | AB90: 0 | AC90: 0 | AD90: 0 | AE90: 0 | AF90: 0 | AG90: 0 | AH90: 0 | AI90: 0 | AJ90: 1 | AK90: =5.28-2.8 -> 2.48 | AL90: 3 | AM90: =228.66-95.64 -> 133.02 | AN90: 0 | AO90: 0 | AP90: 0 | AQ90: 0 | AR90: 0 | AS90: 0 | AT90: 0 | AU90: 0 | AV90: 0 | AW90: 0 | AX90: 0 | AY90: 0 | AZ90: 0 | BA90: 0 | BB90: 0 | BC90: 0 | BD90: 0 | BE90: 0 | BF90: 1 | BG90: =4.68-4.62 -> 0.06 | BH90: 0 | BI90: 0 | BJ90: 0 | BK90: 0 | BL90: 0 | BM90: 0 | BN90: 0 | BO90: 0 | BP90: 0 | BQ90: 0 | BR90: 0 | BS90: 0 | BT90: 0 | BU90: 0 | BV90: 0 | BW90: 0 | BX90: 0 | BY90: 0 | BZ90: 0 | CA90: 0 | CB90: 0 | CC90: 0 | CD90: 0 | CE90: 0 | CF90: 0 | CG90: 0 | CH90: 0 | CI90: 0 | CJ90: 0 | CK90: 0 | CL90: 0 | CM90: 0 | CN90: 0 | CO90: 0 | CP90: 0 | CQ90: 0 | CR90: 0 | CS90: 0
A91: 44313 | B91: TB33 | C91: =0.4*0.4 -> 0.16 | D91: 0 | E91: 0 | F91: 0 | G91: 0 | H91: 0 | I91: 0 | J91: 0 | K91: 0 | L91: 1 | M91: =111.59-70.49 -> 41.1 | N91: 0 | O91: 0 | P91: 0 | Q91: 0 | X91: 20 | Y91: =5.08-4.56 -> 0.52 | Z91: 0 | AA91: 0 | AB91: 0 | AC91: 0 | AD91: 0 | AE91: 0 | AF91: 0 | AG91: 0 | AH91: 0 | AI91: 0 | AJ91: 0 | AK91: 0 | AL91: 3 | AM91: =351.71-88.52 -> 263.19 | AN91: 0 | AO91: 0 | AP91: 0 | AQ91: 0 | AR91: 0 | AS91: 0 | AT91: 0 | AU91: 0 | AV91: 0 | AW91: 0 | AX91: 0 | AY91: 0 | AZ91: 0 | BA91: 0 | BB91: 0 | BC91: 0 | BD91: 0 | BE91: 0 | BF91: 0 | BG91: 0 | BH91: 0 | BI91: 0 | BJ91: 0 | BK91: 0 | BL91: 0 | BM91: 0 | BN91: 0 | BO91: 0 | BP91: 0 | BQ91: 0 | BR91: 0 | BS91: 0 | BT91: 0 | BU91: 0 | BV91: 0 | BW91: 0 | BX91: 0 | BY91: 0 | BZ91: 0 | CA91: 0 | CB91: 0 | CC91: 0 | CD91: 0 | CE91: 0 | CF91: 0 | CG91: 0 | CH91: 0 | CI91: 0 | CJ91: 0 | CK91: 0 | CL91: 0 | CM91: 0 | CN91: 0 | CO91: 0 | CP91: 0 | CQ91: 0 | CR91: 0 | CS91: 0
A92: 44315 | B92: TB34 | C92: =0.5*0.7 -> 0.35 | D92: 0 | E92: 0 | F92: 0 | G92: 0 | H92: 0 | I92: 0 | J92: 0 | K92: 0 | L92: 1 | M92: =33.98-6.9 -> 27.08 | N92: 1 | O92: =21.12-5.27 -> 15.85 | P92: 0 | Q92: 0 | X92: 240 | Y92: =16.68-5.56 -> 11.12 | Z92: 1 | AA92: =7.15-4.58 -> 2.57 | AB92: 0 | AC92: 0 | AD92: 0 | AE92: 0 | AF92: 0 | AG92: 0 | AH92: 0 | AI92: 0 | AJ92: 1 | AK92: =10.37-4.64 -> 5.73 | AL92: 3 | AM92: =108.24-35.17 -> 73.07 | AN92: 0 | AO92: 0 | AP92: 0 | AQ92: 0 | AR92: 0 | AS92: 0 | AT92: 0 | AU92: 0 | AV92: 0 | AW92: 0 | AX92: 0 | AY92: 0 | AZ92: 0 | BA92: 0 | BB92: 0 | BC92: 0 | BD92: 0 | BE92: 0 | BF92: 0 | BG92: 0 | BH92: 0 | BI92: 0 | BJ92: 0 | BK92: 0 | BL92: 0 | BM92: 0 | BN92: 0 | BO92: 0 | BP92: 0 | BQ92: 0 | BR92: 0 | BS92: 0 | BT92: 0 | BU92: 0 | BV92: 0 | BW92: 0 | BX92: 0 | BY92: 0 | BZ92: 0 | CA92: 0 | CB92: 0 | CC92: 0 | CD92: 0 | CE92: 0 | CF92: 0 | CG92: 0 | CH92: 0 | CI92: 0 | CJ92: 0 | CK92: 0 | CL92: 0 | CM92: 0 | CN92: 0 | CO92: 0 | CP92: 0 | CQ92: 0 | CR92: 0 | CS92: 0
A93: 44323 | B93: TC1 | C93: =0.55*0.55 -> 0.3025 | D93: 0 | E93: 0 | F93: 0 | G93: 0 | H93: 0 | I93: 0 | J93: 0 | K93: 0 | L93: 0 | M93: 0 | N93: 9 | O93: 109.89 | P93: 0 | Q93: 0 | X93: 110 | Y93: 9.23 | Z93: 0 | AA93: 0 | AB93: 0 | AC93: 0 | AD93: 0 | AE93: 0 | AF93: 0 | AG93: 0 | AH93: 0 | AI93: 0 | AJ93: 0 | AK93: 0 | AL93: 12 | AM93: 102.48 | AN93: 0 | AO93: 0 | AP93: 0 | AQ93: 0 | AR93: 0 | AS93: 0 | AT93: 3 | AU93: 0.19 | AV93: 0 | AW93: 0 | AX93: 0 | AY93: 0 | AZ93: 0 | BA93: 0 | BB93: 0 | BC93: 0 | BD93: 0 | BE93: 0 | BF93: 0 | BG93: 0 | BH93: 0 | BI93: 0 | BJ93: 0 | BK93: 0 | BL93: 0 | BM93: 0 | BN93: 0 | BO93: 0 | BP93: 0 | BQ93: 0 | BR93: 0 | BS93: 0 | BT93: 0 | BU93: 0 | BV93: 0 | BW93: 0 | BX93: 0 | BY93: 0 | BZ93: 0 | CA93: 0 | CB93: 0 | CC93: 0 | CD93: 0 | CE93: 0 | CF93: 0 | CG93: 0 | CH93: 0 | CI93: 0 | CJ93: 0 | CK93: 0 | CL93: 0 | CM93: 0 | CN93: 0 | CO93: 0 | CP93: 0 | CQ93: 0 | CR93: 0 | CS93: 0
A94: 44323 | B94: TC2 | C94: =0.6*0.6 -> 0.36 | D94: 0 | E94: 0 | F94: 0 | G94: 0 | H94: 0 | I94: 0 | J94: 0 | K94: 0 | L94: 0 | M94: 0 | N94: 2 | O94: 26.6 | P94: 0 | Q94: 0 | X94: 76 | Y94: 4.28 | Z94: 0 | AA94: 0 | AB94: 0 | AC94: 0 | AD94: 0 | AE94: 0 | AF94: 0 | AG94: 0 | AH94: 0 | AI94: 0 | AJ94: 0 | AK94: 0 | AL94: 17 | AM94: 88.33 | AN94: 0 | AO94: 0 | AP94: 0 | AQ94: 0 | AR94: 0 | AS94: 0 | AT94: 0 | AU94: 0 | AV94: 0 | AW94: 0 | AX94: 0 | AY94: 0 | AZ94: 0 | BA94: 0 | BB94: 0 | BC94: 0 | BD94: 0 | BE94: 0 | BF94: 0 | BG94: 0 | BH94: 0 | BI94: 0 | BJ94: 0 | BK94: 0 | BL94: 0 | BM94: 0 | BN94: 0 | BO94: 0 | BP94: 0 | BQ94: 0 | BR94: 0 | BS94: 0 | BT94: 0 | BU94: 0 | BV94: 0 | BW94: 0 | BX94: 0 | BY94: 0 | BZ94: 0 | CA94: 0 | CB94: 0 | CC94: 0 | CD94: 0 | CE94: 0 | CF94: 0 | CG94: 0 | CH94: 0 | CI94: 0 | CJ94: 0 | CK94: 0 | CL94: 0 | CM94: 0 | CN94: 0 | CO94: 0 | CP94: 0 | CQ94: 0 | CR94: 0 | CS94: 0
A95: 44323 | B95: TC3 | C95: =0.6*0.6 -> 0.36 | D95: 0 | E95: 0 | F95: 0 | G95: 0 | H95: 0 | I95: 0 | J95: 0 | K95: 0 | L95: 0 | M95: 0 | N95: 1 | O95: 4.47 | P95: 0 | Q95: 0 | X95: 46 | Y95: 2.12 | Z95: 0 | AA95: 0 | AB95: 0 | AC95: 0 | AD95: 0 | AE95: 0 | AF95: 0 | AG95: 0 | AH95: 0 | AI95: 0 | AJ95: 0 | AK95: 0 | AL95: 18 | AM95: 137.28 | AN95: 0 | AO95: 0 | AP95: 0 | AQ95: 0 | AR95: 0 | AS95: 0 | AT95: 0 | AU95: 0 | AV95: 0 | AW95: 0 | AX95: 0 | AY95: 0 | AZ95: 0 | BA95: 0 | BB95: 0 | BC95: 0 | BD95: 0 | BE95: 0 | BF95: 0 | BG95: 0 | BH95: 0 | BI95: 0 | BJ95: 0 | BK95: 0 | BL95: 0 | BM95: 0 | BN95: 0 | BO95: 0 | BP95: 0 | BQ95: 0 | BR95: 0 | BS95: 0 | BT95: 0 | BU95: 0 | BV95: 0 | BW95: 0 | BX95: 0 | BY95: 0 | BZ95: 0 | CA95: 0 | CB95: 0 | CC95: 0 | CD95: 0 | CE95: 0 | CF95: 0 | CG95: 0 | CH95: 0 | CI95: 0 | CJ95: 0 | CK95: 0 | CL95: 0 | CM95: 0 | CN95: 0 | CO95: 0 | CP95: 0 | CQ95: 0 | CR95: 0 | CS95: 0
A96: 44323 | B96: TC4 | C96: =0.5*0.5 -> 0.25 | D96: 0 | E96: 0 | F96: 0 | G96: 0 | H96: 0 | I96: 0 | J96: 0 | K96: 0 | L96: 0 | M96: 0 | N96: 0 | O96: 0 | P96: 0 | Q96: 0 | X96: =29+10+10+10+40+14 -> 113 | Y96: 7.15 | Z96: 0 | AA96: 0 | AB96: 0 | AC96: 0 | AD96: 0 | AE96: 0 | AF96: 0 | AG96: 0 | AH96: 0 | AI96: 0 | AJ96: 0 | AK96: 0 | AL96: =6+4+9 -> 19 | AM96: 48.57 | AN96: 0 | AO96: 0 | AP96: 0 | AQ96: 0 | AR96: 0 | AS96: 0 | AT96: 1 | AU96: 1.67 | AV96: 0 | AW96: 0 | AX96: 0 | AY96: 0 | AZ96: 0 | BA96: 0 | BB96: 0 | BC96: 0 | BD96: 0 | BE96: 0 | BF96: 2 | BG96: 0.83 | BH96: 0 | BI96: 0 | BJ96: 0 | BK96: 0 | BL96: 0 | BM96: 0 | BN96: 0 | BO96: 0 | BP96: 0 | BQ96: 0 | BR96: 0 | BS96: 0 | BT96: 0 | BU96: 0 | BV96: 0 | BW96: 0 | BX96: 0 | BY96: 0 | BZ96: 0 | CA96: 0 | CB96: 0 | CC96: 0 | CD96: 0 | CE96: 0 | CF96: 0 | CG96: 0 | CH96: 0 | CI96: 0 | CJ96: 0 | CK96: 0 | CL96: 0 | CM96: 0 | CN96: 0 | CO96: 0 | CP96: 0 | CQ96: 0 | CR96: 0 | CS96: 0
A97: 44323 | B97: TC5 | C97: =0.55*0.55 -> 0.3025 | D97: 0 | E97: 0 | F97: 0 | G97: 0 | H97: 0 | I97: 0 | J97: 0 | K97: 0 | L97: 0 | M97: 0 | N97: 3 | O97: 16.77 | P97: 0 | Q97: 0 | X97: 0 | Y97: 0 | Z97: 0 | AA97: 0 | AB97: 0 | AC97: 0 | AD97: 0 | AE97: 0 | AF97: 0 | AG97: 0 | AH97: 0 | AI97: 0 | AJ97: 0 | AK97: 0 | AL97: 38 | AM97: 70.98 | AN97: 0 | AO97: 0 | AP97: 0 | AQ97: 0 | AR97: 0 | AS97: 0 | AT97: 0 | AU97: 0 | AV97: 0 | AW97: 0 | AX97: 0 | AY97: 0 | AZ97: 0 | BA97: 0 | BB97: 0 | BC97: 0 | BD97: 0 | BE97: 0 | BF97: 0 | BG97: 0 | BH97: 0 | BI97: 0 | BJ97: 0 | BK97: 0 | BL97: 0 | BM97: 0 | BN97: 0 | BO97: 0 | BP97: 0 | BQ97: 0 | BR97: 0 | BS97: 0 | BT97: 0 | BU97: 0 | BV97: 0 | BW97: 0 | BX97: 0 | BY97: 0 | BZ97: 0 | CA97: 0 | CB97: 0 | CC97: 0 | CD97: 0 | CE97: 0 | CF97: 0 | CG97: 0 | CH97: 0 | CI97: 0 | CJ97: 0 | CK97: 0 | CL97: 0 | CM97: 0 | CN97: 0 | CO97: 0 | CP97: 0 | CQ97: 0 | CR97: 0 | CS97: 0
A98: 44323 | B98: TC6 | C98: =0.6*0.6 -> 0.36 | D98: 0 | E98: 0 | F98: 0 | G98: 0 | H98: 0 | I98: 0 | J98: 0 | K98: 0 | L98: 0 | M98: 0 | N98: 2 | O98: 4.92 | P98: 0 | Q98: 0 | X98: =33+25+20+13 -> 91 | Y98: 4.39 | Z98: 0 | AA98: 0 | AB98: 0 | AC98: 0 | AD98: 0 | AE98: 0 | AF98: 0 | AG98: 0 | AH98: 0 | AI98: 0 | AJ98: 0 | AK98: 0 | AL98: =35 -> 35 | AM98: 51.95 | AN98: 0 | AO98: 0 | AP98: 0 | AQ98: 0 | AR98: 0 | AS98: 0 | AT98: 0 | AU98: 0 | AV98: 0 | AW98: 0 | AX98: 0 | AY98: 0 | AZ98: 0 | BA98: 0 | BB98: 0 | BC98: 0 | BD98: 0 | BE98: 0 | BF98: 0 | BG98: 0 | BH98: 0 | BI98: 0 | BJ98: 0 | BK98: 0 | BL98: 0 | BM98: 0 | BN98: 0 | BO98: 0 | BP98: 0 | BQ98: 0 | BR98: 0 | BS98: 0 | BT98: 0 | BU98: 0 | BV98: 0 | BW98: 0 | BX98: 0 | BY98: 0 | BZ98: 0 | CA98: 0 | CB98: 0 | CC98: 0 | CD98: 0 | CE98: 0 | CF98: 0 | CG98: 0 | CH98: 0 | CI98: 0 | CJ98: 0 | CK98: 0 | CL98: 0 | CM98: 0 | CN98: 0 | CO98: 0 | CP98: 0 | CQ98: 0 | CR98: 0 | CS98: 0
A99: 44323 | B99: TD1 | C99: =0.5*0.5 -> 0.25 | D99: 0 | E99: 0 | F99: 0 | G99: 0 | H99: 0 | I99: 0 | J99: 0 | K99: 0 | L99: 1 | M99: 5.72 | N99: 1 | O99: 15.25 | P99: 0 | Q99: 0 | X99: =124 -> 124 | Y99: 6.36 | Z99: 0 | AA99: 0 | AB99: 0 | AC99: 0 | AD99: 0 | AE99: 0 | AF99: 0 | AG99: 0 | AH99: 0 | AI99: 0 | AJ99: 0 | AK99: 0 | AL99: 13 | AM99: 155.73 | AN99: 0 | AO99: 0 | AP99: 0 | AQ99: 0 | AR99: 0 | AS99: 0 | AT99: 4 | AU99: 17.39 | AV99: 0 | AW99: 0 | AX99: 0 | AY99: 0 | AZ99: 0 | BA99: 0 | BB99: 0 | BC99: 0 | BD99: 0 | BE99: 0 | BF99: 3 | BG99: 1.17 | BH99: 0 | BI99: 0 | BJ99: 0 | BK99: 0 | BL99: 0 | BM99: 0 | BN99: 0 | BO99: 0 | BP99: 0 | BQ99: 0 | BR99: 0 | BS99: 0 | BT99: 0 | BU99: 0 | BV99: 0 | BW99: 0 | BX99: 0 | BY99: 0 | BZ99: 0 | CA99: 0 | CB99: 0 | CC99: 0 | CD99: 0 | CE99: 0 | CF99: 0 | CG99: 0 | CH99: 0 | CI99: 0 | CJ99: 0 | CK99: 0 | CL99: 0 | CM99: 0 | CN99: 0 | CO99: 0 | CP99: 0 | CQ99: 0 | CR99: 0 | CS99: 0
A100: 44323 | B100: TD2 | C100: =0.6*0.6 -> 0.36 | D100: 0 | E100: 0 | F100: 0 | G100: 0 | H100: 0 | I100: 0 | J100: 0 | K100: 0 | L100: 0 | M100: 0 | N100: 0 | O100: 0 | P100: 0 | Q100: 0 | X100: =11+18+16+21+7+18+20+5+18+14+19 -> 167 | Y100: 7.41 | Z100: 0 | AA100: 0 | AB100: 0 | AC100: 0 | AD100: 0 | AE100: 0 | AF100: 0 | AG100: 0 | AH100: 0 | AI100: 0 | AJ100: 0 | AK100: 0 | AL100: 40 | AM100: 104.85 | AN100: 0 | AO100: 0 | AP100: 0 | AQ100: 0 | AR100: 0 | AS100: 0 | AT100: 15 | AU100: 24.61 | AV100: 0 | AW100: 0 | AX100: 0 | AY100: 0 | AZ100: 0 | BA100: 0 | BB100: 0 | BC100: 0 | BD100: 0 | BE100: 0 | BF100: 0 | BG100: 0 | BH100: 0 | BI100: 0 | BJ100: 0 | BK100: 0 | BL100: 0 | BM100: 0 | BN100: 0 | BO100: 0 | BP100: 0 | BQ100: 0 | BR100: 0 | BS100: 0 | BT100: 0 | BU100: 0 | BV100: 0 | BW100: 0 | BX100: 0 | BY100: 0 | BZ100: 0 | CA100: 0 | CB100: 0 | CC100: 0 | CD100: 0 | CE100: 0 | CF100: 0 | CG100: 0 | CH100: 0 | CI100: 0 | CJ100: 0 | CK100: 0 | CL100: 0 | CM100: 0 | CN100: 0 | CO100: 0 | CP100: 0 | CQ100: 0 | CR100: 0 | CS100: 0
...

Sheet Analyzed
D1: Oxalis | F1: Hypochaeris | H1: Senecio vulgaris | J1: Euphorbia | L1: Malva | N1: Chrysanthenum | P1: Lathyrus | R1: Crepis | T1: Picris | V1: Fumaria | X1: Erva | Z1: Poa (Grass B) | AB1: Vulpia | AD1: Gladiolus | AF1: Geranium sp | AH1: Sonchus sp. | AJ1: Erodium muscatum | AL1: Carlina | AN1: unknown | AP1: Sisymbrium | AR1: Echium sp | AT1: Bromus sp | AV1: Andryala sp | AX1: Centaurea sp | AZ1: Conyza sp | BB1: Allium | BD1: Orobanche sp | BF1: Convulvulus or Aristolochia | BH1: Urospermum sp | BJ1: Aetheorhiza sp | BL1: Medicago sp | BN1: outro FC 7 e 8 | BP1: Urtica sp | BR1: Stelaria | BT1: Forb A | BV1: Polycarpon | BX1: Batata | BZ1: Asparagaceae | CB1: Silene | CD1: Trifolium | CF1: relva | CH1: Papaver | CJ1: Sherardia | CL1: Anagallis | CN1: Calamintha | CP1: Arisarum | CR1: Total | CV1: Dead grass | CZ1: Dead+Alive | DB1: Efficiency of space occupation | DC1: number of species | DD1: number of species | DE1: Biodiversity Index | DF1: Bray-Curtis | DG1: Morisita | DH1: Density | DL1: Biomass
A2: Date | B2: Quadrat | C2: area (m2) | D2: Density | E2: Weight | F2: Density | G2: Weight | H2: Density | I2: Weight | J2: Density | K2: Weight | L2: Density | M2: Weight | N2: Density | O2: Weight | P2: Density | Q2: Weight | R2: Density | S2: Weight | T2: Density | U2: Weight | V2: Density | W2: Weight | X2: Density | Y2: Weight | Z2: Density | AA2: Weight | AB2: Density | AC2: Weight | AD2: Density | AE2: Weight | AF2: Density | AG2: Weight | AH2: Density | AI2: Weight | AJ2: Density | AK2: Weight | AL2: Density | AM2: Weight | AN2: Density | AO2: Weight | AP2: Density | AQ2: Weight | AR2: Density | AS2: Weight | AT2: Density | AU2: Weight | AV2: Density | AW2: Weight | AX2: Density | AY2: Weight | AZ2: Density | BA2: Weight | BB2: Density | BC2: Weight | BD2: Density | BE2: Weight | BF2: Density | BG2: Weight | BH2: Density | BI2: Weight | BJ2: Density | BK2: Weight | BL2: Density | BM2: Weight | BN2: Density | BO2: Weight | BP2: Density | BQ2: Weight | BR2: Density | BS2: Weight | BT2: Density | BU2: Weight | BV2: Density | BW2: Weight | BX2: Density | BY2: Weight | BZ2: Density | CA2: Weight | CB2: Density | CC2: Weight | CD2: Density | CE2: Weight | CF2: Density | CG2: Weight | CH2: Density | CI2: Weight | CJ2: Density | CK2: Weight | CL2: Density | CM2: Weight | CN2: Density | CO2: Weight | CP2: Density | CQ2: Weight | CR2: Density | CS2: Weight | CT2: log10D | CU2: log10B | CV2: Density | CW2: Weight | CX2: log10D | CY2: log10B | CZ2: log10D | DA2: log10B | DB2: dplant | DD2: per area | DH2: Shannon-Weiner | DI2: Simpson D | DJ2: Simpson D (reciprocal) | DK2: Simpson D (inverse) | DL2: Shannon-Weiner | DM2: Simpson D | DN2: Simpson D (reciprocal) | DO2: Simpson D (inverse)
A3: 44201 | B3: =Raw!B4 -> FA1 | C3: 1 | D3: =Raw!D4/Raw!$C4 -> 706.25 | E3: =Raw!E4/Raw!$C4 -> 161.25 | F3: =Raw!F4/Raw!$C4 -> 181.25 | G3: =Raw!G4/Raw!$C4 -> 187.4375 | H3: =Raw!H4/Raw!$C4 -> 0 | I3: =Raw!I4/Raw!$C4 -> 0 | J3: =Raw!J4/Raw!$C4 -> 0 | K3: =Raw!K4/Raw!$C4 -> 0 | ... CQ3: =Raw!CQ4/Raw!$C4 -> 0 | CR3: =D3+F3+H3+J3+L3+N3+P3+R3+T3+V3+X3+Z3+AB3+AD3+AF3+AH3+AJ3+AL3+AN3+AP3+AR3+AT3+AV3+AX3+AZ3+AZ3+BB3+BD3+BF3+BH3+BJ3+BL3+BN3+BP3+BR3+BT3+BV3+BX3+BZ3+CB3+CD3+CF3+CH3+CJ3+CL3+CN3+CP3 -> 906.25 | CS3: =E3+G3+I3+K3+M3+O3+Q3+S3+U3+W3+Y3+AA3+AC3+AE3+AG3+AI3+AK3+AM3+AO3+AQ3+AS3+AU3+AW3+AY3+BA3+BA3+BC3+BE3+BG3+BI3+BK3+BM3+BO3+BQ3+BS3+BU3+BW3+BY3+CA3+CC3+CE3+CG3+CI3+CK3+CM3+CO3+CQ3 -> 352.4375 | CT3: =LOG10(CR3) -> 2.957248 | CU3: =LOG10(CS3) -> 2.5470821 | CV3: =Raw!CR4/Raw!$C4 -> 5068.75 | CW3: =Raw!CS4/Raw!$C4 -> 2133.9375 | CX3: =LOG10(CV3) -> 3.7049009 | CY3: =LOG10(CW3) -> 3.3291817 | CZ3: =LOG10(CR3+CV3) -> 3.7763379 | DA3: =LOG10(CS3+CW3) -> 3.3955666 | DB3: =0.590307*(4.87-0.33*CT3-CU3) -> 0.7951589 | DC3: 3 | DD3: =DC3/Raw!C4 -> 18.75 | DE3: =DC3/CR3 -> 0.0033103448 | DF3: =LOG(DE3) -> -2.4801268 | DH3: =-SUM('Shannon-Weiner'!B2:Z2) -> 0.59644244 | DI3: =SUM('p^2'!B2:Z2) -> 0.64775268 | DJ3: =1-DI3 -> 0.35224732 | DK3: =1/DI3 -> 1.5437991 | DL3: =SUM('Shannon-Weiner_B'!B2:Z2) -> -0.74190209 | DM3: =SUM('p_B^2'!B2:Z2) -> 0.49229017 | DN3: =1-DM3 -> 0.50770983 | DO3: =1/DM3 -> 2.0313223
A4: 44201 | B4: =Raw!B5 -> FA2 | C4: 1 | D4: =Raw!D5/Raw!$C5 -> 400 | E4: =Raw!E5/Raw!$C5 -> 93.25 | F4: =Raw!F5/Raw!$C5 -> 168.75 | G4: =Raw!G5/Raw!$C5 -> 295.875 | H4: =Raw!H5/Raw!$C5 -> 0 | I4: =Raw!I5/Raw!$C5 -> 0 | J4: =Raw!J5/Raw!$C5 -> 0 | K4: =Raw!K5/Raw!$C5 -> 0 | ... CQ4: =Raw!CQ5/Raw!$C5 -> 0 | CR4: =D4+F4+H4+J4+L4+N4+P4+R4+T4+V4+X4+Z4+AB4+AD4+AF4+AH4+AJ4+AL4+AN4+AP4+AR4+AT4+AV4+AX4+AZ4+AZ4+BB4+BD4+BF4+BH4+BJ4+BL4+BN4+BP4+BR4+BT4+BV4+BX4+BZ4+CB4+CD4+CF4+CH4+CJ4+CL4+CN4+CP4 -> 568.75 | CS4: =E4+G4+I4+K4+M4+O4+Q4+S4+U4+W4+Y4+AA4+AC4+AE4+AG4+AI4+AK4+AM4+AO4+AQ4+AS4+AU4+AW4+AY4+BA4+BA4+BC4+BE4+BG4+BI4+BK4+BM4+BO4+BQ4+BS4+BU4+BW4+BY4+CA4+CC4+CE4+CG4+CI4+CK4+CM4+CO4+CQ4 -> 389.125 | CT4: =LOG10(CR4) -> 2.7549214 | CU4: =LOG10(CS4) -> 2.5900891 | CV4: =Raw!CR5/Raw!$C5 -> 5068.75 | CW4: =Raw!CS5/Raw!$C5 -> 2133.9375 | CX4: =LOG10(CV4) -> 3.7049009 | CY4: =LOG10(CW4) -> 3.3291817 | CZ4: =LOG10(CR4+CV4) -> 3.7510866 | DA4: =LOG10(CS4+CW4) -> 3.401928 | DB4: =0.590307*(4.87-0.33*CT4-CU4) -> 0.80918504 | DC4: 2 | DD4: =DC4/Raw!C5 -> 12.5 | DE4: =DC4/CR4 -> 0.0035164835 | DF4: =LOG(DE4) -> -2.4538914 | DH4: =-SUM('Shannon-Weiner'!B3:Z3) -> 0.60804508 | DI4: =SUM('p^2'!B3:Z3) -> 0.5826591 | DJ4: =1-DI4 -> 0.4173409 | DK4: =1/DI4 -> 1.7162694 | DL4: =SUM('Shannon-Weiner_B'!B3:Z3) -> -0.55066486 | DM4: =SUM('p_B^2'!B3:Z3) -> 0.63557443 | DN4: =1-DM4 -> 0.36442557 | DO4: =1/DM4 -> 1.5733798
A5: 44201 | B5: =Raw!B6 -> FA3 | C5: 1 | D5: =Raw!D6/Raw!$C6 -> 743.75 | E5: =Raw!E6/Raw!$C6 -> 118.75 | F5: =Raw!F6/Raw!$C6 -> 31.25 | G5: =Raw!G6/Raw!$C6 -> 88.1875 | H5: =Raw!H6/Raw!$C6 -> 0 | I5: =Raw!I6/Raw!$C6 -> 0 | J5: =Raw!J6/Raw!$C6 -> 0 | K5: =Raw!K6/Raw!$C6 -> 0 | ... CQ5: =Raw!CQ6/Raw!$C6 -> 0 | CR5: =D5+F5+H5+J5+L5+N5+P5+R5+T5+V5+X5+Z5+AB5+AD5+AF5+AH5+AJ5+AL5+AN5+AP5+AR5+AT5+AV5+AX5+AZ5+AZ5+BB5+BD5+BF5+BH5+BJ5+BL5+BN5+BP5+BR5+BT5+BV5+BX5+BZ5+CB5+CD5+CF5+CH5+CJ5+CL5+CN5+CP5 -> 787.5 | CS5: =E5+G5+I5+K5+M5+O5+Q5+S5+U5+W5+Y5+AA5+AC5+AE5+AG5+AI5+AK5+AM5+AO5+AQ5+AS5+AU5+AW5+AY5+BA5+BA5+BC5+BE5+BG5+BI5+BK5+BM5+BO5+BQ5+BS5+BU5+BW5+BY5+CA5+CC5+CE5+CG5+CI5+CK5+CM5+CO5+CQ5 -> 207.5625 | CT5: =LOG10(CR5) -> 2.8962506 | CU5: =LOG10(CS5) -> 2.3171489 | CV5: =Raw!CR6/Raw!$C6 -> 5068.75 | CW5: =Raw!CS6/Raw!$C6 -> 2133.9375 | CX5: =LOG10(CV5) -> 3.7049009 | CY5: =LOG10(CW5) -> 3.3291817 | CZ5: =LOG10(CR5+CV5) -> 3.7676196 | DA5: =LOG10(CS5+CW5) -> 3.3694942 | DB5: =0.590307*(4.87-0.33*CT5-CU5) -> 0.94277247 | DC5: 3 | DD5: =DC5/Raw!C6 -> 18.75 | DE5: =DC5/CR5 -> 0.0038095238 | DF5: =LOG(DE5) -> -2.4191293 | DH5: =-SUM('Shannon-Weiner'!B4:Z4) -> 0.24779635 | DI5: =SUM('p^2'!B4:Z4) -> 0.89380197 | DJ5: =1-DI5 -> 0.10619803 | DK5: =1/DI5 -> 1.1188161 | DL5: =SUM('Shannon-Weiner_B'!B4:Z4) -> -0.70063447 | DM5: =SUM('p_B^2'!B4:Z4) -> 0.50784298 | DN5: =1-DM5 -> 0.49215702 | DO5: =1/DM5 -> 1.9691126
A6: 44201 | B6: =Raw!B7 -> FA4 | C6: 1 | D6: =Raw!D7/Raw!$C7 -> 856.25 | E6: =Raw!E7/Raw!$C7 -> 143.6875 | F6: =Raw!F7/Raw!$C7 -> 25 | G6: =Raw!G7/Raw!$C7 -> 2.125 | H6: =Raw!H7/Raw!$C7 -> 6.25 | I6: =Raw!I7/Raw!$C7 -> 1.4375 | J6: =Raw!J7/Raw!$C7 -> 0 | K6: =Raw!K7/Raw!$C7 -> 0 | ... CQ6: =Raw!CQ7/Raw!$C7 -> 0 | CR6: =D6+F6+H6+J6+L6+N6+P6+R6+T6+V6+X6+Z6+AB6+AD6+AF6+AH6+AJ6+AL6+AN6+AP6+AR6+AT6+AV6+AX6+AZ6+AZ6+BB6+BD6+BF6+BH6+BJ6+BL6+BN6+BP6+BR6+BT6+BV6+BX6+BZ6+CB6+CD6+CF6+CH6+CJ6+CL6+CN6+CP6 -> 925 | CS6: =E6+G6+I6+K6+M6+O6+Q6+S6+U6+W6+Y6+AA6+AC6+AE6+AG6+AI6+AK6+AM6+AO6+AQ6+AS6+AU6+AW6+AY6+BA6+BA6+BC6+BE6+BG6+BI6+BK6+BM6+BO6+BQ6+BS6+BU6+BW6+BY6+CA6+CC6+CE6+CG6+CI6+CK6+CM6+CO6+CQ6 -> 159.0625 | CT6: =LOG10(CR6) -> 2.9661417 | CU6: =LOG10(CS6) -> 2.2015678 | CV6: =Raw!CR7/Raw!$C7 -> 5068.75 | CW6: =Raw!CS7/Raw!$C7 -> 2133.9375 | CX6: =LOG10(CV6) -> 3.7049009 | CY6: =LOG10(CW6) -> 3.3291817 | CZ6: =LOG10(CR6+CV6) -> 3.7776986 | DA6: =LOG10(CS6+CW6) -> 3.3604041 | DB6: =0.590307*(4.87-0.33*CT6-CU6) -> 0.99738591 | DC6: 5 | DD6: =DC6/Raw!C7 -> 31.25 | DE6: =DC6/CR6 -> 0.0054054054 | DF6: =LOG(DE6) -> -2.2671717 | DH6: =-SUM('Shannon-Weiner'!B5:Z5) -> 0.35860392 | DI6: =SUM('p^2'!B5:Z5) -> 0.85856465 | DJ6: =1-DI6 -> 0.14143535 | DK6: =1/DI6 -> 1.1647347 | DL6: =SUM('Shannon-Weiner_B'!B5:Z5) -> -0.38946789 | DM6: =SUM('p_B^2'!B5:Z5) -> 0.82168264 | DN6: =1-DM6 -> 0.17831736 | DO6: =1/DM6 -> 1.2170149
A7: 44201 | B7: =Raw!B8 -> FA5 | C7: 1 | D7: =Raw!D8/Raw!$C8 -> 1281.25 | E7: =Raw!E8/Raw!$C8 -> 200.75 | F7: =Raw!F8/Raw!$C8 -> 50 | G7: =Raw!G8/Raw!$C8 -> 0.9375 | H7: =Raw!H8/Raw!$C8 -> 0 | I7: =Raw!I8/Raw!$C8 -> 0 | J7: =Raw!J8/Raw!$C8 -> 0 | K7: =Raw!K8/Raw!$C8 -> 0 | ... CQ7: =Raw!CQ8/Raw!$C8 -> 0 | CR7: =D7+F7+H7+J7+L7+N7+P7+R7+T7+V7+X7+Z7+AB7+AD7+AF7+AH7+AJ7+AL7+AN7+AP7+AR7+AT7+AV7+AX7+AZ7+AZ7+BB7+BD7+BF7+BH7+BJ7+BL7+BN7+BP7+BR7+BT7+BV7+BX7+BZ7+CB7+CD7+CF7+CH7+CJ7+CL7+CN7+CP7 -> 1331.25 | CS7: =E7+G7+I7+K7+M7+O7+Q7+S7+U7+W7+Y7+AA7+AC7+AE7+AG7+AI7+AK7+AM7+AO7+AQ7+AS7+AU7+AW7+AY7+BA7+BA7+BC7+BE7+BG7+BI7+BK7+BM7+BO7+BQ7+BS7+BU7+BW7+BY7+CA7+CC7+CE7+CG7+CI7+CK7+CM7+CO7+CQ7 -> 201.6875 | CT7: =LOG10(CR7) -> 3.1242596 | CU7: =LOG10(CS7) -> 2.304679 | CV7: =Raw!CR8/Raw!$C8 -> 5068.75 | CW7: =Raw!CS8/Raw!$C8 -> 2133.9375 | CX7: =LOG10(CV7) -> 3.7049009 | CY7: =LOG10(CW7) -> 3.3291817 | CZ7: =LOG10(CR7+CV7) -> 3.80618 | DA7: =LOG10(CS7+CW7) -> 3.3684031 | DB7: =0.590307*(4.87-0.33*CT7-CU7) -> 0.90571709 | DC7: 2 | DD7: =DC7/Raw!C8 -> 12.5 | DE7: =DC7/CR7 -> 0.0015023474 | DF7: =LOG(DE7) -> -2.8232296 | DH7: =-SUM('Shannon-Weiner'!B6:Z6) -> 0.16010635 | DI7: =SUM('p^2'!B6:Z6) -> 0.92770394 | DJ7: =1-DI7 -> 0.072296061 | DK7: =1/DI7 -> 1.0779301 | DL7: =SUM('Shannon-Weiner_B'!B6:Z6) -> -0.029604572 | DM7: =SUM('p_B^2'!B6:Z6) -> 0.99074665 | DN7: =1-DM7 -> 0.0092533473 | DO7: =1/DM7 -> 1.0093398
A8: 44201 | B8: =Raw!B9 -> FA6 | C8: 1 | D8: =Raw!D9/Raw!$C9 -> 1843.75 | E8: =Raw!E9/Raw!$C9 -> 139.625 | F8: =Raw!F9/Raw!$C9 -> 87.5 | G8: =Raw!G9/Raw!$C9 -> 178.9375 | H8: =Raw!H9/Raw!$C9 -> 0 | I8: =Raw!I9/Raw!$C9 -> 0 | J8: =Raw!J9/Raw!$C9 -> 0 | K8: =Raw!K9/Raw!$C9 -> 0 | ... CQ8: =Raw!CQ9/Raw!$C9 -> 0 | CR8: =D8+F8+H8+J8+L8+N8+P8+R8+T8+V8+X8+Z8+AB8+AD8+AF8+AH8+AJ8+AL8+AN8+AP8+AR8+AT8+AV8+AX8+AZ8+AZ8+BB8+BD8+BF8+BH8+BJ8+BL8+BN8+BP8+BR8+BT8+BV8+BX8+BZ8+CB8+CD8+CF8+CH8+CJ8+CL8+CN8+CP8 -> 1931.25 | CS8: =E8+G8+I8+K8+M8+O8+Q8+S8+U8+W8+Y8+AA8+AC8+AE8+AG8+AI8+AK8+AM8+AO8+AQ8+AS8+AU8+AW8+AY8+BA8+BA8+BC8+BE8+BG8+BI8+BK8+BM8+BO8+BQ8+BS8+BU8+BW8+BY8+CA8+CC8+CE8+CG8+CI8+CK8+CM8+CO8+CQ8 -> 318.5625 | CT8: =LOG10(CR8) -> 3.2858385 | CU8: =LOG10(CS8) -> 2.5031947 | CV8: =Raw!CR9/Raw!$C9 -> 5068.75 | CW8: =Raw!CS9/Raw!$C9 -> 2133.9375 | CX8: =LOG10(CV8) -> 3.7049009 | CY8: =LOG10(CW8) -> 3.3291817 | CZ8: =LOG10(CR8+CV8) -> 3.845098 | DA8: =LOG10(CS8+CW8) -> 3.389609 | DB8: =0.590307*(4.87-0.33*CT8-CU8) -> 0.75705612 | DC8: 2 | DD8: =DC8/Raw!C9 -> 12.5 | DE8: =DC8/CR8 -> 0.0010355987 | DF8: =LOG(DE8) -> -2.9848085 | DH8: =-SUM('Shannon-Weiner'!B7:Z7) -> 0.18445929 | DI8: =SUM('p^2'!B7:Z7) -> 0.91349064 | DJ8: =1-DI8 -> 0.086509358 | DK8: =1/DI8 -> 1.094702 | DL8: =SUM('Shannon-Weiner_B'!B7:Z7) -> -0.68551322 | DM8: =SUM('p_B^2'!B7:Z7) -> 0.50761451 | DN8: =1-DM8 -> 0.49238549 | DO8: =1/DM8 -> 1.9699988
A9: 44201 | B9: =Raw!B10 -> FA7 | C9: 1 | D9: =Raw!D10/Raw!$C10 -> 650 | E9: =Raw!E10/Raw!$C10 -> 102.1875 | F9: =Raw!F10/Raw!$C10 -> 6.25 | G9: =Raw!G10/Raw!$C10 -> 0.625 | H9: =Raw!H10/Raw!$C10 -> 0 | I9: =Raw!I10/Raw!$C10 -> 0 | J9: =Raw!J10/Raw!$C10 -> 0 | K9: =Raw!K10/Raw!$C10 -> 0 | ... CQ9: =Raw!CQ10/Raw!$C10 -> 0 | CR9: =D9+F9+H9+J9+L9+N9+P9+R9+T9+V9+X9+Z9+AB9+AD9+AF9+AH9+AJ9+AL9+AN9+AP9+AR9+AT9+AV9+AX9+AZ9+AZ9+BB9+BD9+BF9+BH9+BJ9+BL9+BN9+BP9+BR9+BT9+BV9+BX9+BZ9+CB9+CD9+CF9+CH9+CJ9+CL9+CN9+CP9 -> 675 | CS9: =E9+G9+I9+K9+M9+O9+Q9+S9+U9+W9+Y9+AA9+AC9+AE9+AG9+AI9+AK9+AM9+AO9+AQ9+AS9+AU9+AW9+AY9+BA9+BA9+BC9+BE9+BG9+BI9+BK9+BM9+BO9+BQ9+BS9+BU9+BW9+BY9+CA9+CC9+CE9+CG9+CI9+CK9+CM9+CO9+CQ9 -> 114.0625 | CT9: =LOG10(CR9) -> 2.8293038 | CU9: =LOG10(CS9) -> 2.0571429 | CV9: =Raw!CR10/Raw!$C10 -> 5068.75 | CW9: =Raw!CS10/Raw!$C10 -> 2133.9375 | CX9: =LOG10(CV9) -> 3.7049009 | CY9: =LOG10(CW9) -> 3.3291817 | CZ9: =LOG10(CR9+CV9) -> 3.7591955 | DA9: =LOG10(CS9+CW9) -> 3.3517963 | DB9: =0.590307*(4.87-0.33*CT9-CU9) -> 1.1092972 | DC9: 5 | DD9: =DC9/Raw!C10 -> 31.25 | DE9: =DC9/CR9 -> 0.0074074074 | DF9: =LOG(DE9) -> -2.1303338 | DH9: =-SUM('Shannon-Weiner'!B8:Z8) -> 0.20975481 | DI9: =SUM('p^2'!B8:Z8) -> 0.9276406 | DJ9: =1-DI9 -> 0.072359396 | DK9: =1/DI9 -> 1.0780037 | DL9: =SUM('Shannon-Weiner_B'!B8:Z8) -> -0.40258666 | DM9: =SUM('p_B^2'!B8:Z8) -> 0.81005247 | DN9: =1-DM9 -> 0.18994753 | DO9: =1/DM9 -> 1.2344879
B10: =Raw!B11 -> FA8 | C10: 1 | D10: =Raw!D11/Raw!$C11 -> 500 | E10: =Raw!E11/Raw!$C11 -> 86 | F10: =Raw!F11/Raw!$C11 -> 68.75 | G10: =Raw!G11/Raw!$C11 -> 108.8125 | H10: =Raw!H11/Raw!$C11 -> 0 | I10: =Raw!I11/Raw!$C11 -> 0 | J10: =Raw!J11/Raw!$C11 -> 0 | K10: =Raw!K11/Raw!$C11 -> 0 | ... CQ10: =Raw!CQ11/Raw!$C11 -> 0 | CR10: =D10+F10+H10+J10+L10+N10+P10+R10+T10+V10+X10+Z10+AB10+AD10+AF10+AH10+AJ10+AL10+AN10+AP10+AR10+AT10+AV10+AX10+AZ10+AZ10+BB10+BD10+BF10+BH10+BJ10+BL10+BN10+BP10+BR10+BT10+BV10+BX10+BZ10+CB10+CD10+CF10+CH10+CJ10+CL10+CN10+CP10 -> 593.75 | CS10: =E10+G10+I10+K10+M10+O10+Q10+S10+U10+W10+Y10+AA10+AC10+AE10+AG10+AI10+AK10+AM10+AO10+AQ10+AS10+AU10+AW10+AY10+BA10+BA10+BC10+BE10+BG10+BI10+BK10+BM10+BO10+BQ10+BS10+BU10+BW10+BY10+CA10+CC10+CE10+CG10+CI10+CK10+CM10+CO10+CQ10 -> 245.5625 | CT10: =LOG10(CR10) -> 2.7736036 | CU10: =LOG10(CS10) -> 2.390162 | CV10: =Raw!CR11/Raw!$C11 -> 5068.75 | CW10: =Raw!CS11/Raw!$C11 -> 2133.9375 | CX10: =LOG10(CV10) -> 3.7049009 | CY10: =LOG10(CW10) -> 3.3291817 | CZ10: =LOG10(CR10+CV10) -> 3.7530082 | DA10: =LOG10(CS10+CW10) -> 3.3764857 | DB10: =0.590307*(4.87-0.33*CT10-CU10) -> 0.92356408 | DC10: 4 | DD10: =DC10/Raw!C11 -> 25 | DE10: =DC10/CR10 -> 0.0067368421 | DF10: =LOG(DE10) -> -2.1715436 | DH10: =-SUM('Shannon-Weiner'!B9:Z9) -> 0.55140515 | DI10: =SUM('p^2'!B9:Z9) -> 0.72365651 | DJ10: =1-DI10 -> 0.27634349 | DK10: =1/DI10 -> 1.3818711 | DL10: =SUM('Shannon-Weiner_B'!B9:Z9) -> -1.0840991 | DM10: =SUM('p_B^2'!B9:Z9) -> 0.35896847 | DN10: =1-DM10 -> 0.64103153 | DO10: =1/DM10 -> 2.78576
B11: =Raw!B12 -> FA9 | C11: 1 | D11: =Raw!D12/Raw!$C12 -> 644.44444 | E11: =Raw!E12/Raw!$C12 -> 120.72222 | F11: =Raw!F12/Raw!$C12 -> 77.777778 | G11: =Raw!G12/Raw!$C12 -> 137.38889 | H11: =Raw!H12/Raw!$C12 -> 0 | I11: =Raw!I12/Raw!$C12 -> 0 | J11: =Raw!J12/Raw!$C12 -> 0 | K11: =Raw!K12/Raw!$C12 -> 0 | ... CQ11: =Raw!CQ12/Raw!$C12 -> 0 | CR11: =D11+F11+H11+J11+L11+N11+P11+R11+T11+V11+X11+Z11+AB11+AD11+AF11+AH11+AJ11+AL11+AN11+AP11+AR11+AT11+AV11+AX11+AZ11+AZ11+BB11+BD11+BF11+BH11+BJ11+BL11+BN11+BP11+BR11+BT11+BV11+BX11+BZ11+CB11+CD11+CF11+CH11+CJ11+CL11+CN11+CP11 -> 733.33333 | CS11: =E11+G11+I11+K11+M11+O11+Q11+S11+U11+W11+Y11+AA11+AC11+AE11+AG11+AI11+AK11+AM11+AO11+AQ11+AS11+AU11+AW11+AY11+BA11+BA11+BC11+BE11+BG11+BI11+BK11+BM11+BO11+BQ11+BS11+BU11+BW11+BY11+CA11+CC11+CE11+CG11+CI11+CK11+CM11+CO11+CQ11 -> 377.88889 | CT11: =LOG10(CR11) -> 2.8653014 | CU11: =LOG10(CS11) -> 2.5773641 | CV11: =Raw!CR12/Raw!$C12 -> 4505.5556 | CW11: =Raw!CS12/Raw!$C12 -> 1896.8333 | CX11: =LOG10(CV11) -> 3.6537483 | CY11: =LOG10(CW11) -> 3.2780292 | CZ11: =LOG10(CR11+CV11) -> 3.7192392 | DA11: =LOG10(CS11+CW11) -> 3.3569284 | DB11: =0.590307*(4.87-0.33*CT11-CU11) -> 0.79519454 | DC11: 4 | DD11: =DC11/Raw!C12 -> 22.222222 | DE11: =DC11/CR11 -> 0.0054545455 | DF11: =LOG(DE11) -> -2.2632414 | DH11: =-SUM('Shannon-Weiner'!B10:Z10) -> 0.42550446 | DI11: =SUM('p^2'!B10:Z10) -> 0.78363177 | DJ11: =1-DI11 -> 0.21636823 | DK11: =1/DI11 -> 1.2761096 | DL11: =SUM('Shannon-Weiner_B'!B10:Z10) -> -1.1216706 | DM11: =SUM('p_B^2'!B10:Z10) -> 0.33167935 | DN11: =1-DM11 -> 0.66832065 | DO11: =1/DM11 -> 3.0149601
B12: =Raw!B13 -> FA10 | C12: 1 | D12: =Raw!D13/Raw!$C13 -> 631.25 | E12: =Raw!E13/Raw!$C13 -> 108.75 | F12: =Raw!F13/Raw!$C13 -> 56.25 | G12: =Raw!G13/Raw!$C13 -> 247.8125 | H12: =Raw!H13/Raw!$C13 -> 0 | I12: =Raw!I13/Raw!$C13 -> 0 | J12: =Raw!J13/Raw!$C13 -> 0 | K12: =Raw!K13/Raw!$C13 -> 0 | ... CQ12: =Raw!CQ13/Raw!$C13 -> 0 | CR12: =D12+F12+H12+J12+L12+N12+P12+R12+T12+V12+X12+Z12+AB12+AD12+AF12+AH12+AJ12+AL12+AN12+AP12+AR12+AT12+AV12+AX12+AZ12+AZ12+BB12+BD12+BF12+BH12+BJ12+BL12+BN12+BP12+BR12+BT12+BV12+BX12+BZ12+CB12+CD12+CF12+CH12+CJ12+CL12+CN12+CP12 -> 718.75 | CS12: =E12+G12+I12+K12+M12+O12+Q12+S12+U12+W12+Y12+AA12+AC12+AE12+AG12+AI12+AK12+AM12+AO12+AQ12+AS12+AU12+AW12+AY12+BA12+BA12+BC12+BE12+BG12+BI12+BK12+BM12+BO12+BQ12+BS12+BU12+BW12+BY12+CA12+CC12+CE12+CG12+CI12+CK12+CM12+CO12+CQ12 -> 461 | CT12: =LOG10(CR12) -> 2.8565779 | CU12: =LOG10(CS12) -> 2.6637009 | CV12: =Raw!CR13/Raw!$C13 -> 5068.75 | CW12: =Raw!CS13/Raw!$C13 -> 2133.9375 | CX12: =LOG10(CV12) -> 3.7049009 | CY12: =LOG10(CW12) -> 3.3291817 | CZ12: =LOG10(CR12+CV12) -> 3.762491 | DA12: =LOG10(CS12+CW12) -> 3.4141269 | DB12: =0.590307*(4.87-0.33*CT12-CU12) -> 0.74592868 | DC12: 3 | DD12: =DC12/Raw!C13 -> 18.75 | DE12: =DC12/CR12 -> 0.004173913 | DF12: =LOG(DE12) -> -2.3794566 | DH12: =-SUM('Shannon-Weiner'!B11:Z11) -> 0.4497201 | DI12: =SUM('p^2'!B11:Z11) -> 0.77935728 | DJ12: =1-DI12 -> 0.22064272 | DK12: =1/DI12 -> 1.2831086 | DL12: =SUM('Shannon-Weiner_B'!B11:Z11) -> -1.0107722 | DM12: =SUM('p_B^2'!B11:Z11) -> 0.39593635 | DN12: =1-DM12 -> 0.60406365 | DO12: =1/DM12 -> 2.5256585
B13: =Raw!B14 -> FA11 | C13: 1 | D13: =Raw!D14/Raw!$C14 -> 806.25 | E13: =Raw!E14/Raw!$C14 -> 97.5 | F13: =Raw!F14/Raw!$C14 -> 181.25 | G13: =Raw!G14/Raw!$C14 -> 112 | H13: =Raw!H14/Raw!$C14 -> 0 | I13: =Raw!I14/Raw!$C14 -> 0 | J13: =Raw!J14/Raw!$C14 -> 0 | K13: =Raw!K14/Raw!$C14 -> 0 | ... CQ13: =Raw!CQ14/Raw!$C14 -> 0 | CR13: =D13+F13+H13+J13+L13+N13+P13+R13+T13+V13+X13+Z13+AB13+AD13+AF13+AH13+AJ13+AL13+AN13+AP13+AR13+AT13+AV13+AX13+AZ13+AZ13+BB13+BD13+BF13+BH13+BJ13+BL13+BN13+BP13+BR13+BT13+BV13+BX13+BZ13+CB13+CD13+CF13+CH13+CJ13+CL13+CN13+CP13 -> 993.75 | CS13: =E13+G13+I13+K13+M13+O13+Q13+S13+U13+W13+Y13+AA13+AC13+AE13+AG13+AI13+AK13+AM13+AO13+AQ13+AS13+AU13+AW13+AY13+BA13+BA13+BC13+BE13+BG13+BI13+BK13+BM13+BO13+BQ13+BS13+BU13+BW13+BY13+CA13+CC13+CE13+CG13+CI13+CK13+CM13+CO13+CQ13 -> 423.25 | CT13: =LOG10(CR13) -> 2.9972771 | CU13: =LOG10(CS13) -> 2.626597 | CV13: =Raw!CR14/Raw!$C14 -> 5068.75 | CW13: =Raw!CS14/Raw!$C14 -> 2133.9375 | CX13: =LOG10(CV13) -> 3.7049009 | CY13: =LOG10(CW13) -> 3.3291817 | CZ13: =LOG10(CR13+CV13) -> 3.7826518 | DA13: =LOG10(CS13+CW13) -> 3.4077626 | DB13: =0.590307*(4.87-0.33*CT13-CU13) -> 0.740423 | DC13: 3 | DD13: =DC13/Raw!C14 -> 18.75 | DE13: =DC13/CR13 -> 0.0030188679 | DF13: =LOG(DE13) -> -2.5201559 | DH13: =-SUM('Shannon-Weiner'!B12:Z12) -> 0.51187666 | DI13: =SUM('p^2'!B12:Z12) -> 0.69154701 | DJ13: =1-DI13 -> 0.30845299 | DK13: =1/DI13 -> 1.4460333 | DL13: =SUM('Shannon-Weiner_B'!B12:Z12) -> -1.0350038 | DM13: =SUM('p_B^2'!B12:Z12) -> 0.37813498 | DN13: =1-DM13 -> 0.62186502 | DO13: =1/DM13 -> 2.6445583
B14: =Raw!B15 -> FA12 | C14: 1 | D14: =Raw!D15/Raw!$C15 -> 625 | E14: =Raw!E15/Raw!$C15 -> 70.125 | F14: =Raw!F15/Raw!$C15 -> 37.5 | G14: =Raw!G15/Raw!$C15 -> 86.5 | H14: =Raw!H15/Raw!$C15 -> 0 | I14: =Raw!I15/Raw!$C15 -> 0 | J14: =Raw!J15/Raw!$C15 -> 0 | K14: =Raw!K15/Raw!$C15 -> 0 | ... CQ14: =Raw!CQ15/Raw!$C15 -> 0 | CR14: =D14+F14+H14+J14+L14+N14+P14+R14+T14+V14+X14+Z14+AB14+AD14+AF14+AH14+AJ14+AL14+AN14+AP14+AR14+AT14+AV14+AX14+AZ14+AZ14+BB14+BD14+BF14+BH14+BJ14+BL14+BN14+BP14+BR14+BT14+BV14+BX14+BZ14+CB14+CD14+CF14+CH14+CJ14+CL14+CN14+CP14 -> 668.75 | CS14: =E14+G14+I14+K14+M14+O14+Q14+S14+U14+W14+Y14+AA14+AC14+AE14+AG14+AI14+AK14+AM14+AO14+AQ14+AS14+AU14+AW14+AY14+BA14+BA14+BC14+BE14+BG14+BI14+BK14+BM14+BO14+BQ14+BS14+BU14+BW14+BY14+CA14+CC14+CE14+CG14+CI14+CK14+CM14+CO14+CQ14 -> 185.25 | CT14: =LOG10(CR14) -> 2.8252638 | CU14: =LOG10(CS14) -> 2.2677582 | CV14: =Raw!CR15/Raw!$C15 -> 5068.75 | CW14: =Raw!CS15/Raw!$C15 -> 2133.9375 | CX14: =LOG10(CV14) -> 3.7049009 | CY14: =LOG10(CW14) -> 3.3291817 | CZ14: =LOG10(CR14+CV14) -> 3.7587227 | DA14: =LOG10(CS14+CW14) -> 3.3653359 | DB14: =0.590307*(4.87-0.33*CT14-CU14) -> 0.98575645 | DC14: 3 | DD14: =DC14/Raw!C15 -> 18.75 | DE14: =DC14/CR14 -> 0.0044859813 | DF14: =LOG(DE14) -> -2.3481425 | DH14: =-SUM('Shannon-Weiner'!B13:Z13) -> 0.26845897 | DI14: =SUM('p^2'!B13:Z13) -> 0.87667045 | DJ14: =1-DI14 -> 0.12332955 | DK14: =1/DI14 -> 1.1406795 | DL14: =SUM('Shannon-Weiner_B'!B13:Z13) -> -1.0118838 | DM14: =SUM('p_B^2'!B13:Z13) -> 0.38520091 | DN14: =1-DM14 -> 0.61479909 | DO14: =1/DM14 -> 2.5960479
B15: =Raw!B16 -> FA13 | C15: 1 | D15: =Raw!D16/Raw!$C16 -> 681.25 | E15: =Raw!E16/Raw!$C16 -> 109.75 | F15: =Raw!F16/Raw!$C16 -> 56.25 | G15: =Raw!G16/Raw!$C16 -> 126.75 | H15: =Raw!H16/Raw!$C16 -> 0 | I15: =Raw!I16/Raw!$C16 -> 0 | J15: =Raw!J16/Raw!$C16 -> 0 | K15: =Raw!K16/Raw!$C16 -> 0 | ... CQ15: =Raw!CQ16/Raw!$C16 -> 0 | CR15: =D15+F15+H15+J15+L15+N15+P15+R15+T15+V15+X15+Z15+AB15+AD15+AF15+AH15+AJ15+AL15+AN15+AP15+AR15+AT15+AV15+AX15+AZ15+AZ15+BB15+BD15+BF15+BH15+BJ15+BL15+BN15+BP15+BR15+BT15+BV15+BX15+BZ15+CB15+CD15+CF15+CH15+CJ15+CL15+CN15+CP15 -> 737.5 | CS15: =E15+G15+I15+K15+M15+O15+Q15+S15+U15+W15+Y15+AA15+AC15+AE15+AG15+AI15+AK15+AM15+AO15+AQ15+AS15+AU15+AW15+AY15+BA15+BA15+BC15+BE15+BG15+BI15+BK15+BM15+BO15+BQ15+BS15+BU15+BW15+BY15+CA15+CC15+CE15+CG15+CI15+CK15+CM15+CO15+CQ15 -> 236.5 | CT15: =LOG10(CR15) -> 2.867762 | CU15: =LOG10(CS15) -> 2.3738311 | CV15: =Raw!CR16/Raw!$C16 -> 5068.75 | CW15: =Raw!CS16/Raw!$C16 -> 2133.9375 | CX15: =LOG10(CV15) -> 3.7049009 | CY15: =LOG10(CW15) -> 3.3291817 | CZ15: =LOG10(CR15+CV15) -> 3.7638957 | DA15: =LOG10(CS15+CW15) -> 3.3748285 | DB15: =0.590307*(4.87-0.33*CT15-CU15) -> 0.91486215 | DC15: 2 | DD15: =DC15/Raw!C16 -> 12.5 | DE15: =DC15/CR15 -> 0.0027118644 | DF15: =LOG(DE15) -> -2.566732 | DH15: =-SUM('Shannon-Weiner'!B14:Z14) -> 0.26956649 | DI15: =SUM('p^2'!B14:Z14) -> 0.85909221 | DJ15: =1-DI15 -> 0.14090779 | DK15: =1/DI15 -> 1.1640194 | DL15: =SUM('Shannon-Weiner_B'!B14:Z14) -> -0.69056147 | DM15: =SUM('p_B^2'!B14:Z14) -> 0.50258348 | DN15: =1-DM15 -> 0.49741652 | DO15: =1/DM15 -> 1.9897192
B16: =Raw!B17 -> FA14 | C16: 1 | D16: =Raw!D17/Raw!$C17 -> 550 | E16: =Raw!E17/Raw!$C17 -> 84.875 | F16: =Raw!F17/Raw!$C17 -> 106.25 | G16: =Raw!G17/Raw!$C17 -> 215.5 | H16: =Raw!H17/Raw!$C17 -> 0 | I16: =Raw!I17/Raw!$C17 -> 0 | J16: =Raw!J17/Raw!$C17 -> 0 | K16: =Raw!K17/Raw!$C17 -> 0 | ... CQ16: =Raw!CQ17/Raw!$C17 -> 0 | CR16: =D16+F16+H16+J16+L16+N16+P16+R16+T16+V16+X16+Z16+AB16+AD16+AF16+AH16+AJ16+AL16+AN16+AP16+AR16+AT16+AV16+AX16+AZ16+AZ16+BB16+BD16+BF16+BH16+BJ16+BL16+BN16+BP16+BR16+BT16+BV16+BX16+BZ16+CB16+CD16+CF16+CH16+CJ16+CL16+CN16+CP16 -> 662.5 | CS16: =E16+G16+I16+K16+M16+O16+Q16+S16+U16+W16+Y16+AA16+AC16+AE16+AG16+AI16+AK16+AM16+AO16+AQ16+AS16+AU16+AW16+AY16+BA16+BA16+BC16+BE16+BG16+BI16+BK16+BM16+BO16+BQ16+BS16+BU16+BW16+BY16+CA16+CC16+CE16+CG16+CI16+CK16+CM16+CO16+CQ16 -> 305.8125 | CT16: =LOG10(CR16) -> 2.8211859 | CU16: =LOG10(CS16) -> 2.4854552 | CV16: =Raw!CR17/Raw!$C17 -> 5068.75 | CW16: =Raw!CS17/Raw!$C17 -> 2133.9375 | CX16: =LOG10(CV16) -> 3.7049009 | CY16: =LOG10(CW16) -> 3.3291817 | CZ16: =LOG10(CR16+CV16) -> 3.7582494 | DA16: =LOG10(CS16+CW16) -> 3.3873453 | DB16: =0.590307*(4.87-0.33*CT16-CU16) -> 0.85804276 | DC16: 3 | DD16: =DC16/Raw!C17 -> 18.75 | DE16: =DC16/CR16 -> 0.0045283019 | DF16: =LOG(DE16) -> -2.3440646 | DH16: =-SUM('Shannon-Weiner'!B15:Z15) -> 0.49202149 | DI16: =SUM('p^2'!B15:Z15) -> 0.71502314 | DJ16: =1-DI16 -> 0.28497686 | DK16: =1/DI16 -> 1.3985561 | DL16: =SUM('Shannon-Weiner_B'!B15:Z15) -> -0.67404311 | DM16: =SUM('p_B^2'!B15:Z15) -> 0.57391835 | DN16: =1-DM16 -> 0.42608165 | DO16: =1/DM16 -> 1.7424081
B17: =Raw!B18 -> FA15 | C17: 1 | D17: =Raw!D18/Raw!$C18 -> 506.25 | E17: =Raw!E18/Raw!$C18 -> 59.0625 | F17: =Raw!F18/Raw!$C18 -> 0 | G17: =Raw!G18/Raw!$C18 -> 0 | H17: =Raw!H18/Raw!$C18 -> 0 | I17: =Raw!I18/Raw!$C18 -> 0 | J17: =Raw!J18/Raw!$C18 -> 0 | K17: =Raw!K18/Raw!$C18 -> 0 | ... CQ17: =Raw!CQ18/Raw!$C18 -> 0 | CR17: =D17+F17+H17+J17+L17+N17+P17+R17+T17+V17+X17+Z17+AB17+AD17+AF17+AH17+AJ17+AL17+AN17+AP17+AR17+AT17+AV17+AX17+AZ17+AZ17+BB17+BD17+BF17+BH17+BJ17+BL17+BN17+BP17+BR17+BT17+BV17+BX17+BZ17+CB17+CD17+CF17+CH17+CJ17+CL17+CN17+CP17 -> 525 | CS17: =E17+G17+I17+K17+M17+O17+Q17+S17+U17+W17+Y17+AA17+AC17+AE17+AG17+AI17+AK17+AM17+AO17+AQ17+AS17+AU17+AW17+AY17+BA17+BA17+BC17+BE17+BG17+BI17+BK17+BM17+BO17+BQ17+BS17+BU17+BW17+BY17+CA17+CC17+CE17+CG17+CI17+CK17+CM17+CO17+CQ17 -> 255.5625 | CT17: =LOG10(CR17) -> 2.7201593 | CU17: =LOG10(CS17) -> 2.4074971 | CV17: =Raw!CR18/Raw!$C18 -> 5068.75 | CW17: =Raw!CS18/Raw!$C18 -> 2133.9375 | CX17: =LOG10(CV17) -> 3.7049009 | CY17: =LOG10(CW17) -> 3.3291817 | CZ17: =LOG10(CR17+CV17) -> 3.7477031 | DA17: =LOG10(CS17+CW17) -> 3.378307 | DB17: =0.590307*(4.87-0.33*CT17-CU17) -> 0.92374209 | DC17: 3 | DD17: =DC17/Raw!C18 -> 18.75 | DE17: =DC17/CR17 -> 0.0057142857 | DF17: =LOG(DE17) -> -2.243038 | DH17: =-SUM('Shannon-Weiner'!B16:Z16) -> 0.17680875 | DI17: =SUM('p^2'!B16:Z16) -> 0.93055556 | DJ17: =1-DI17 -> 0.069444444 | DK17: =1/DI17 -> 1.0746269 | DL17: =SUM('Shannon-Weiner_B'!B16:Z16) -> -0.54061151 | DM17: =SUM('p_B^2'!B16:Z16) -> 0.64460598 | DN17: =1-DM17 -> 0.35539402 | DO17: =1/DM17 -> 1.5513353
B18: =Raw!B19 -> FA16 | C18: 1 | D18: =Raw!D19/Raw!$C19 -> 243.75 | E18: =Raw!E19/Raw!$C19 -> 25.25 | F18: =Raw!F19/Raw!$C19 -> 43.75 | G18: =Raw!G19/Raw!$C19 -> 12.875 | H18: =Raw!H19/Raw!$C19 -> 0 | I18: =Raw!I19/Raw!$C19 -> 0 | J18: =Raw!J19/Raw!$C19 -> 0 | K18: =Raw!K19/Raw!$C19 -> 0 | ... CQ18: =Raw!CQ19/Raw!$C19 -> 0 | CR18: =D18+F18+H18+J18+L18+N18+P18+R18+T18+V18+X18+Z18+AB18+AD18+AF18+AH18+AJ18+AL18+AN18+AP18+AR18+AT18+AV18+AX18+AZ18+AZ18+BB18+BD18+BF18+BH18+BJ18+BL18+BN18+BP18+BR18+BT18+BV18+BX18+BZ18+CB18+CD18+CF18+CH18+CJ18+CL18+CN18+CP18 -> 381.25 | CS18: =E18+G18+I18+K18+M18+O18+Q18+S18+U18+W18+Y18+AA18+AC18+AE18+AG18+AI18+AK18+AM18+AO18+AQ18+AS18+AU18+AW18+AY18+BA18+BA18+BC18+BE18+BG18+BI18+BK18+BM18+BO18+BQ18+BS18+BU18+BW18+BY18+CA18+CC18+CE18+CG18+CI18+CK18+CM18+CO18+CQ18 -> 671.875 | CT18: =LOG10(CR18) -> 2.5812099 | CU18: =LOG10(CS18) -> 2.8272885 | CV18: =Raw!CR19/Raw!$C19 -> 5068.75 | CW18: =Raw!CS19/Raw!$C19 -> 2133.9375 | CX18: =LOG10(CV18) -> 3.7049009 | CY18: =LOG10(CW18) -> 3.3291817 | CZ18: =LOG10(CR18+CV18) -> 3.7363965 | DA18: =LOG10(CS18+CW18) -> 3.4480586 | DB18: =0.590307*(4.87-0.33*CT18-CU18) -> 0.70300385 | DC18: 7 | DD18: =DC18/Raw!C19 -> 43.75 | DE18: =DC18/CR18 -> 0.018360656 | DF18: =LOG(DE18) -> -1.7361118 | DH18: =-SUM('Shannon-Weiner'!B17:Z17) -> 1.2465007 | DI18: =SUM('p^2'!B17:Z17) -> 0.43375437 | DJ18: =1-DI18 -> 0.56624563 | DK18: =1/DI18 -> 2.3054523 | DL18: =SUM('Shannon-Weiner_B'!B17:Z17) -> -1.0874187 | DM18: =SUM('p_B^2'!B17:Z17) -> 0.16741463 | DN18: =1-DM18 -> 0.83258537 | DO18: =1/DM18 -> 5.9731937
B19: =Raw!B20 -> FA17 | C19: 1 | D19: =Raw!D20/Raw!$C20 -> 718.75 | E19: =Raw!E20/Raw!$C20 -> 109.5625 | F19: =Raw!F20/Raw!$C20 -> 56.25 | G19: =Raw!G20/Raw!$C20 -> 2 | H19: =Raw!H20/Raw!$C20 -> 0 | I19: =Raw!I20/Raw!$C20 -> 0 | J19: =Raw!J20/Raw!$C20 -> 0 | K19: =Raw!K20/Raw!$C20 -> 0 | ... CQ19: =Raw!CQ20/Raw!$C20 -> 0 | CR19: =D19+F19+H19+J19+L19+N19+P19+R19+T19+V19+X19+Z19+AB19+AD19+AF19+AH19+AJ19+AL19+AN19+AP19+AR19+AT19+AV19+AX19+AZ19+AZ19+BB19+BD19+BF19+BH19+BJ19+BL19+BN19+BP19+BR19+BT19+BV19+BX19+BZ19+CB19+CD19+CF19+CH19+CJ19+CL19+CN19+CP19 -> 831.25 | CS19: =E19+G19+I19+K19+M19+O19+Q19+S19+U19+W19+Y19+AA19+AC19+AE19+AG19+AI19+AK19+AM19+AO19+AQ19+AS19+AU19+AW19+AY19+BA19+BA19+BC19+BE19+BG19+BI19+BK19+BM19+BO19+BQ19+BS19+BU19+BW19+BY19+CA19+CC19+CE19+CG19+CI19+CK19+CM19+CO19+CQ19 -> 211.375 | CT19: =LOG10(CR19) -> 2.9197317 | CU19: =LOG10(CS19) -> 2.3250536 | CV19: =Raw!CR20/Raw!$C20 -> 5068.75 | CW19: =Raw!CS20/Raw!$C20 -> 2133.9375 | CX19: =LOG10(CV19) -> 3.7049009 | CY19: =LOG10(CW19) -> 3.3291817 | CZ19: =LOG10(CR19+CV19) -> 3.770852 | DA19: =LOG10(CS19+CW19) -> 3.3702007 | DB19: =0.590307*(4.87-0.33*CT19-CU19) -> 0.93353211 | DC19: 5 | DD19: =DC19/Raw!C20 -> 31.25 | DE19: =DC19/CR19 -> 0.0060150376 | DF19: =LOG(DE19) -> -2.2207617 | DH19: =-SUM('Shannon-Weiner'!B18:Z18) -> 0.54764938 | DI19: =SUM('p^2'!B18:Z18) -> 0.75453672 | DJ19: =1-DI19 -> 0.24546328 | DK19: =1/DI19 -> 1.3253166 | DL19: =SUM('Shannon-Weiner_B'!B18:Z18) -> -1.1406321 | DM19: =SUM('p_B^2'!B18:Z18) -> 0.38205132 | DN19: =1-DM19 -> 0.61794868 | DO19: =1/DM19 -> 2.6174494
B20: =Raw!B21 -> FA18 | C20: 1 | D20: =Raw!D21/Raw!$C21 -> 737.5 | E20: =Raw!E21/Raw!$C21 -> 92.9375 | F20: =Raw!F21/Raw!$C21 -> 0 | G20: =Raw!G21/Raw!$C21 -> 0 | H20: =Raw!H21/Raw!$C21 -> 0 | I20: =Raw!I21/Raw!$C21 -> 0 | J20: =Raw!J21/Raw!$C21 -> 0 | K20: =Raw!K21/Raw!$C21 -> 0 | ... CQ20: =Raw!CQ21/Raw!$C21 -> 0 | CR20: =D20+F20+H20+J20+L20+N20+P20+R20+T20+V20+X20+Z20+AB20+AD20+AF20+AH20+AJ20+AL20+AN20+AP20+AR20+AT20+AV20+AX20+AZ20+AZ20+BB20+BD20+BF20+BH20+BJ20+BL20+BN20+BP20+BR20+BT20+BV20+BX20+BZ20+CB20+CD20+CF20+CH20+CJ20+CL20+CN20+CP20 -> 750 | CS20: =E20+G20+I20+K20+M20+O20+Q20+S20+U20+W20+Y20+AA20+AC20+AE20+AG20+AI20+AK20+AM20+AO20+AQ20+AS20+AU20+AW20+AY20+BA20+BA20+BC20+BE20+BG20+BI20+BK20+BM20+BO20+BQ20+BS20+BU20+BW20+BY20+CA20+CC20+CE20+CG20+CI20+CK20+CM20+CO20+CQ20 -> 125.4375 | CT20: =LOG10(CR20) -> 2.8750613 | CU20: =LOG10(CS20) -> 2.0984274 | CV20: =Raw!CR21/Raw!$C21 -> 5068.75 | CW20: =Raw!CS21/Raw!$C21 -> 2133.9375 | CX20: =LOG10(CV20) -> 3.7049009 | CY20: =LOG10(CW20) -> 3.3291817 | CZ20: =LOG10(CR20+CV20) -> 3.7648297 | DA20: =LOG10(CS20+CW20) -> 3.3539883 | DB20: =0.590307*(4.87-0.33*CT20-CU20) -> 1.076013 | DC20: 3 | DD20: =DC20/Raw!C21 -> 18.75 | DE20: =DC20/CR20 -> 0.004 | DF20: =LOG(DE20) -> -2.39794 | DH20: =-SUM('Shannon-Weiner'!B19:Z19) -> 0.096318529 | DI20: =SUM('p^2'!B19:Z19) -> 0.96708333 | DJ20: =1-DI20 -> 0.032916667 | DK20: =1/DI20 -> 1.0340371 | DL20: =SUM('Shannon-Weiner_B'!B19:Z19) -> -0.66271629 | DM20: =SUM('p_B^2'!B19:Z19) -> 0.60276749 | DN20: =1-DM20 -> 0.39723251 | DO20: =1/DM20 -> 1.6590145
B21: =Raw!B22 -> FA19 | C21: 1 | D21: =Raw!D22/Raw!$C22 -> 550 | E21: =Raw!E22/Raw!$C22 -> 107.3125 | F21: =Raw!F22/Raw!$C22 -> 0 | G21: =Raw!G22/Raw!$C22 -> 0 | H21: =Raw!H22/Raw!$C22 -> 0 | I21: =Raw!I22/Raw!$C22 -> 0 | J21: =Raw!J22/Raw!$C22 -> 0 | K21: =Raw!K22/Raw!$C22 -> 0 | ... CQ21: =Raw!CQ22/Raw!$C22 -> 0 | CR21: =D21+F21+H21+J21+L21+N21+P21+R21+T21+V21+X21+Z21+AB21+AD21+AF21+AH21+AJ21+AL21+AN21+AP21+AR21+AT21+AV21+AX21+AZ21+AZ21+BB21+BD21+BF21+BH21+BJ21+BL21+BN21+BP21+BR21+BT21+BV21+BX21+BZ21+CB21+CD21+CF21+CH21+CJ21+CL21+CN21+CP21 -> 568.75 | CS21: =E21+G21+I21+K21+M21+O21+Q21+S21+U21+W21+Y21+AA21+AC21+AE21+AG21+AI21+AK21+AM21+AO21+AQ21+AS21+AU21+AW21+AY21+BA21+BA21+BC21+BE21+BG21+BI21+BK21+BM21+BO21+BQ21+BS21+BU21+BW21+BY21+CA21+CC21+CE21+CG21+CI21+CK21+CM21+CO21+CQ21 -> 350.1875 | CT21: =LOG10(CR21) -> 2.7549214 | CU21: =LOG10(CS21) -> 2.5443006 | CV21: =Raw!CR22/Raw!$C22 -> 5068.75 | CW21: =Raw!CS22/Raw!$C22 -> 2133.9375 | CX21: =LOG10(CV21) -> 3.7049009 | CY21: =LOG10(CW21) -> 3.3291817 | CZ21: =LOG10(CR21+CV21) -> 3.7510866 | DA21: =LOG10(CS21+CW21) -> 3.3951734 | DB21: =0.590307*(4.87-0.33*CT21-CU21) -> 0.83621431 | DC21: 3 | DD21: =DC21/Raw!C22 -> 18.75 | DE21: =DC21/CR21 -> 0.0052747253 | DF21: =LOG(DE21) -> -2.2778002 | DH21: =-SUM('Shannon-Weiner'!B20:Z20) -> 0.1658932 | DI21: =SUM('p^2'!B20:Z20) -> 0.93575655 | DJ21: =1-DI21 -> 0.064243449 | DK21: =1/DI21 -> 1.068654 | DL21: =SUM('Shannon-Weiner_B'!B20:Z20) -> -0.73245414 | DM21: =SUM('p_B^2'!B20:Z20) -> 0.53808643 | DN21: =1-DM21 -> 0.46191357 | DO21: =1/DM21 -> 1.8584375
A22: 44201 | B22: =Raw!B23 -> FB1 | C22: 1 | D22: =Raw!D23/Raw!$C23 -> 1318.75 | E22: =Raw!E23/Raw!$C23 -> 146.625 | F22: =Raw!F23/Raw!$C23 -> 75 | G22: =Raw!G23/Raw!$C23 -> 0.625 | H22: =Raw!H23/Raw!$C23 -> 0 | I22: =Raw!I23/Raw!$C23 -> 0 | J22: =Raw!J23/Raw!$C23 -> 75 | K22: =Raw!K23/Raw!$C23 -> 3.4375 | ... CQ22: =Raw!CQ23/Raw!$C23 -> 0 | CR22: =D22+F22+H22+J22+L22+N22+P22+R22+T22+V22+X22+Z22+AB22+AD22+AF22+AH22+AJ22+AL22+AN22+AP22+AR22+AT22+AV22+AX22+AZ22+AZ22+BB22+BD22+BF22+BH22+BJ22+BL22+BN22+BP22+BR22+BT22+BV22+BX22+BZ22+CB22+CD22+CF22+CH22+CJ22+CL22+CN22+CP22 -> 1468.75 | CS22: =E22+G22+I22+K22+M22+O22+Q22+S22+U22+W22+Y22+AA22+AC22+AE22+AG22+AI22+AK22+AM22+AO22+AQ22+AS22+AU22+AW22+AY22+BA22+BA22+BC22+BE22+BG22+BI22+BK22+BM22+BO22+BQ22+BS22+BU22+BW22+BY22+CA22+CC22+CE22+CG22+CI22+CK22+CM22+CO22+CQ22 -> 150.6875 | CT22: =LOG10(CR22) -> 3.1669479 | CU22: =LOG10(CS22) -> 2.1780772 | CV22: =Raw!CR23/Raw!$C23 -> 3618.75 | CW22: =Raw!CS23/Raw!$C23 -> 2260 | CX22: =LOG10(CV22) -> 3.5585586 | CY22: =LOG10(CW22) -> 3.3541084 | CZ22: =LOG10(CR22+CV22) -> 3.7065044 | DA22: =LOG10(CS22+CW22) -> 3.3821409 | DB22: =0.590307*(4.87-0.33*CT22-CU22) -> 0.97213526 | DC22: 3 | DD22: =DC22/Raw!C23 -> 18.75 | DE22: =DC22/CR22 -> 0.0020425532 | DF22: =LOG(DE22) -> -2.6898266 | DH22: =-SUM('Shannon-Weiner'!B21:Z21) -> 0.40052243 | DI22: =SUM('p^2'!B21:Z21) -> 0.81138977 | DJ22: =1-DI22 -> 0.18861023 | DK22: =1/DI22 -> 1.2324533 | DL22: =SUM('Shannon-Weiner_B'!B21:Z21) -> -0.13558418 | DM22: =SUM('p_B^2'!B21:Z21) -> 0.94734489 | DN22: =1-DM22 -> 0.052655111 | DO22: =1/DM22 -> 1.0555818
A23: 44201 | B23: =Raw!B24 -> FB2 | C23: 1 | D23: =Raw!D24/Raw!$C24 -> 593.75 | E23: =Raw!E24/Raw!$C24 -> 191.375 | F23: =Raw!F24/Raw!$C24 -> 237.5 | G23: =Raw!G24/Raw!$C24 -> 1.875 | H23: =Raw!H24/Raw!$C24 -> 0 | I23: =Raw!I24/Raw!$C24 -> 0 | J23: =Raw!J24/Raw!$C24 -> 0 | K23: =Raw!K24/Raw!$C24 -> 0 | ... CQ23: =Raw!CQ24/Raw!$C24 -> 0 | CR23: =D23+F23+H23+J23+L23+N23+P23+R23+T23+V23+X23+Z23+AB23+AD23+AF23+AH23+AJ23+AL23+AN23+AP23+AR23+AT23+AV23+AX23+AZ23+AZ23+BB23+BD23+BF23+BH23+BJ23+BL23+BN23+BP23+BR23+BT23+BV23+BX23+BZ23+CB23+CD23+CF23+CH23+CJ23+CL23+CN23+CP23 -> 893.75 | CS23: =E23+G23+I23+K23+M23+O23+Q23+S23+U23+W23+Y23+AA23+AC23+AE23+AG23+AI23+AK23+AM23+AO23+AQ23+AS23+AU23+AW23+AY23+BA23+BA23+BC23+BE23+BG23+BI23+BK23+BM23+BO23+BQ23+BS23+BU23+BW23+BY23+CA23+CC23+CE23+CG23+CI23+CK23+CM23+CO23+CQ23 -> 194.5 | CT23: =LOG10(CR23) -> 2.9512161 | CU23: =LOG10(CS23) -> 2.2889196 | CV23: =Raw!CR24/Raw!$C24 -> 3618.75 | CW23: =Raw!CS24/Raw!$C24 -> 2260 | CX23: =LOG10(CV23) -> 3.5585586 | CY23: =LOG10(CW23) -> 3.3541084 | CZ23: =LOG10(CR23+CV23) -> 3.6544172 | DA23: =LOG10(CS23+CW23) -> 3.389963 | DB23: =0.590307*(4.87-0.33*CT23-CU23) -> 0.94872907 | DC23: 4 | DD23: =DC23/Raw!C24 -> 25 | DE23: =DC23/CR23 -> 0.0044755245 | DF23: =LOG(DE23) -> -2.3491561 | DH23: =-SUM('Shannon-Weiner'!B22:Z22) -> 0.83262365 | DI23: =SUM('p^2'!B22:Z22) -> 0.51596655 | DJ23: =1-DI23 -> 0.48403345 | DK23: =1/DI23 -> 1.9381101 | DL23: =SUM('Shannon-Weiner_B'!B22:Z22) -> -0.094398118 | DM23: =SUM('p_B^2'!B22:Z22) -> 0.96825478 | DN23: =1-DM23 -> 0.031745222 | DO23: =1/DM23 -> 1.032786
A24: 44201 | B24: =Raw!B25 -> FB3 | C24: 1 | D24: =Raw!D25/Raw!$C25 -> 443.75 | E24: =Raw!E25/Raw!$C25 -> 91.375 | F24: =Raw!F25/Raw!$C25 -> 331.25 | G24: =Raw!G25/Raw!$C25 -> 2.3125 | H24: =Raw!H25/Raw!$C25 -> 0 | I24: =Raw!I25/Raw!$C25 -> 0 | J24: =Raw!J25/Raw!$C25 -> 6.25 | K24: =Raw!K25/Raw!$C25 -> 0.25 | ... CQ24: =Raw!CQ25/Raw!$C25 -> 0 | CR24: =D24+F24+H24+J24+L24+N24+P24+R24+T24+V24+X24+Z24+AB24+AD24+AF24+AH24+AJ24+AL24+AN24+AP24+AR24+AT24+AV24+AX24+AZ24+AZ24+BB24+BD24+BF24+BH24+BJ24+BL24+BN24+BP24+BR24+BT24+BV24+BX24+BZ24+CB24+CD24+CF24+CH24+CJ24+CL24+CN24+CP24 -> 843.75 | CS24: =E24+G24+I24+K24+M24+O24+Q24+S24+U24+W24+Y24+AA24+AC24+AE24+AG24+AI24+AK24+AM24+AO24+AQ24+AS24+AU24+AW24+AY24+BA24+BA24+BC24+BE24+BG24+BI24+BK24+BM24+BO24+BQ24+BS24+BU24+BW24+BY24+CA24+CC24+CE24+CG24+CI24+CK24+CM24+CO24+CQ24 -> 112 | CT24: =LOG10(CR24) -> 2.9262138 | CU24: =LOG10(CS24) -> 2.049218 | CV24: =Raw!CR25/Raw!$C25 -> 3618.75 | CW24: =Raw!CS25/Raw!$C25 -> 2260 | CX24: =LOG10(CV24) -> 3.5585586 | CY24: =LOG10(CW24) -> 3.3541084 | CZ24: =LOG10(CR24+CV24) -> 3.6495782 | DA24: =LOG10(CS24+CW24) -> 3.3751147 | DB24: =0.590307*(4.87-0.33*CT24-CU24) -> 1.0950971 | DC24: 6 | DD24: =DC24/Raw!C25 -> 37.5 | DE24: =DC24/CR24 -> 0.0071111111 | DF24: =LOG(DE24) -> -2.1480625 | DH24: =-SUM('Shannon-Weiner'!B23:Z23) -> 0.98148756 | DI24: =SUM('p^2'!B23:Z23) -> 0.43440329 | DJ24: =1-DI24 -> 0.56559671 | DK24: =1/DI24 -> 2.3020083 | DL24: =SUM('Shannon-Weiner_B'!B23:Z23) -> -0.70577863 | DM24: =SUM('p_B^2'!B23:Z23) -> 0.67702873 | DN24: =1-DM24 -> 0.32297127 | DO24: =1/DM24 -> 1.4770422
A25: 44201 | B25: =Raw!B26 -> FB4 | C25: 1 | D25: =Raw!D26/Raw!$C26 -> 262.5 | E25: =Raw!E26/Raw!$C26 -> 332.8125 | F25: =Raw!F26/Raw!$C26 -> 200 | G25: =Raw!G26/Raw!$C26 -> 1.75 | H25: =Raw!H26/Raw!$C26 -> 6.25 | I25: =Raw!I26/Raw!$C26 -> 3.625 | J25: =Raw!J26/Raw!$C26 -> 0 | K25: =Raw!K26/Raw!$C26 -> 0 | ... CQ25: =Raw!CQ26/Raw!$C26 -> 0 | CR25: =D25+F25+H25+J25+L25+N25+P25+R25+T25+V25+X25+Z25+AB25+AD25+AF25+AH25+AJ25+AL25+AN25+AP25+AR25+AT25+AV25+AX25+AZ25+AZ25+BB25+BD25+BF25+BH25+BJ25+BL25+BN25+BP25+BR25+BT25+BV25+BX25+BZ25+CB25+CD25+CF25+CH25+CJ25+CL25+CN25+CP25 -> 593.75 | CS25: =E25+G25+I25+K25+M25+O25+Q25+S25+U25+W25+Y25+AA25+AC25+AE25+AG25+AI25+AK25+AM25+AO25+AQ25+AS25+AU25+AW25+AY25+BA25+BA25+BC25+BE25+BG25+BI25+BK25+BM25+BO25+BQ25+BS25+BU25+BW25+BY25+CA25+CC25+CE25+CG25+CI25+CK25+CM25+CO25+CQ25 -> 360.125 | CT25: =LOG10(CR25) -> 2.7736036 | CU25: =LOG10(CS25) -> 2.5564533 | CV25: =Raw!CR26/Raw!$C26 -> 3618.75 | CW25: =Raw!CS26/Raw!$C26 -> 2260 | CX25: =LOG10(CV25) -> 3.5585586 | CY25: =LOG10(CW25) -> 3.3541084 | CZ25: =LOG10(CR25+CV25) -> 3.6245399 | DA25: =LOG10(CS25+CW25) -> 3.418322 | DB25: =0.590307*(4.87-0.33*CT25-CU25) -> 0.82540121 | DC25: 6 | DD25: =DC25/Raw!C26 -> 37.5 | DE25: =DC25/CR25 -> 0.010105263 | DF25: =LOG(DE25) -> -1.9954524 | DH25: =-SUM('Shannon-Weiner'!B24:Z24) -> 1.1863783 | DI25: =SUM('p^2'!B24:Z24) -> 0.34515235 | DJ25: =1-DI25 -> 0.65484765 | DK25: =1/DI25 -> 2.8972713 | DL25: =SUM('Shannon-Weiner_B'!B24:Z24) -> -0.32050903 | DM25: =SUM('p_B^2'!B24:Z24) -> 0.85779981 | DN25: =1-DM25 -> 0.14220019 | DO25: =1/DM25 -> 1.1657732
A26: 44201 | B26: =Raw!B27 -> FB5 | C26: 1 | D26: =Raw!D27/Raw!$C27 -> 306.25 | E26: =Raw!E27/Raw!$C27 -> 236.375 | F26: =Raw!F27/Raw!$C27 -> 6.25 | G26: =Raw!G27/Raw!$C27 -> 0.8125 | H26: =Raw!H27/Raw!$C27 -> 0 | I26: =Raw!I27/Raw!$C27 -> 0 | J26: =Raw!J27/Raw!$C27 -> 0 | K26: =Raw!K27/Raw!$C27 -> 0 | ... CQ26: =Raw!CQ27/Raw!$C27 -> 0 | CR26: =D26+F26+H26+J26+L26+N26+P26+R26+T26+V26+X26+Z26+AB26+AD26+AF26+AH26+AJ26+AL26+AN26+AP26+AR26+AT26+AV26+AX26+AZ26+AZ26+BB26+BD26+BF26+BH26+BJ26+BL26+BN26+BP26+BR26+BT26+BV26+BX26+BZ26+CB26+CD26+CF26+CH26+CJ26+CL26+CN26+CP26 -> 662.5 | CS26: =E26+G26+I26+K26+M26+O26+Q26+S26+U26+W26+Y26+AA26+AC26+AE26+AG26+AI26+AK26+AM26+AO26+AQ26+AS26+AU26+AW26+AY26+BA26+BA26+BC26+BE26+BG26+BI26+BK26+BM26+BO26+BQ26+BS26+BU26+BW26+BY26+CA26+CC26+CE26+CG26+CI26+CK26+CM26+CO26+CQ26 -> 303.3125 | CT26: =LOG10(CR26) -> 2.8211859 | CU26: =LOG10(CS26) -> 2.4818903 | CV26: =Raw!CR27/Raw!$C27 -> 3618.75 | CW26: =Raw!CS27/Raw!$C27 -> 2260 | CX26: =LOG10(CV26) -> 3.5585586 | CY26: =LOG10(CW26) -> 3.3541084 | CZ26: =LOG10(CR26+CV26) -> 3.6315706 | DA26: =LOG10(CS26+CW26) -> 3.4088016 | DB26: =0.590307*(4.87-0.33*CT26-CU26) -> 0.86014716 | DC26: 5 | DD26: =DC26/Raw!C27 -> 31.25 | DE26: =DC26/CR26 -> 0.0075471698 | DF26: =LOG(DE26) -> -2.1222159 | DH26: =-SUM('Shannon-Weiner'!B25:Z25) -> 1.0003102 | DI26: =SUM('p^2'!B25:Z25) -> 0.41616234 | DJ26: =1-DI26 -> 0.58383766 | DK26: =1/DI26 -> 2.4029085 | DL26: =SUM('Shannon-Weiner_B'!B25:Z25) -> -0.64735367 | DM26: =SUM('p_B^2'!B25:Z25) -> 0.64280649 | DN26: =1-DM26 -> 0.35719351 | DO26: =1/DM26 -> 1.5556781
A27: 44201 | B27: =Raw!B28 -> FB6 | C27: 1 | D27: =Raw!D28/Raw!$C28 -> 118.75 | E27: =Raw!E28/Raw!$C28 -> 16.3125 | F27: =Raw!F28/Raw!$C28 -> 62.5 | G27: =Raw!G28/Raw!$C28 -> 0.5 | H27: =Raw!H28/Raw!$C28 -> 0 | I27: =Raw!I28/Raw!$C28 -> 0 | J27: =Raw!J28/Raw!$C28 -> 0 | K27: =Raw!K28/Raw!$C28 -> 0 | ... CQ27: =Raw!CQ28/Raw!$C28 -> 0 | CR27: =D27+F27+H27+J27+L27+N27+P27+R27+T27+V27+X27+Z27+AB27+AD27+AF27+AH27+AJ27+AL27+AN27+AP27+AR27+AT27+AV27+AX27+AZ27+AZ27+BB27+BD27+BF27+BH27+BJ27+BL27+BN27+BP27+BR27+BT27+BV27+BX27+BZ27+CB27+CD27+CF27+CH27+CJ27+CL27+CN27+CP27 -> 1250 | CS27: =E27+G27+I27+K27+M27+O27+Q27+S27+U27+W27+Y27+AA27+AC27+AE27+AG27+AI27+AK27+AM27+AO27+AQ27+AS27+AU27+AW27+AY27+BA27+BA27+BC27+BE27+BG27+BI27+BK27+BM27+BO27+BQ27+BS27+BU27+BW27+BY27+CA27+CC27+CE27+CG27+CI27+CK27+CM27+CO27+CQ27 -> 133.6875 | CT27: =LOG10(CR27) -> 3.09691 | CU27: =LOG10(CS27) -> 2.1260908 | CV27: =Raw!CR28/Raw!$C28 -> 3618.75 | CW27: =Raw!CS28/Raw!$C28 -> 2260 | CX27: =LOG10(CV27) -> 3.5585586 | CY27: =LOG10(CW27) -> 3.3541084 | CZ27: =LOG10(CR27+CV27) -> 3.6874175 | DA27: =LOG10(CS27+CW27) -> 3.3790675 | DB27: =0.590307*(4.87-0.33*CT27-CU27) -> 1.0164667 | DC27: 6 | DD27: =DC27/Raw!C28 -> 37.5 | DE27: =DC27/CR27 -> 0.0048 | DF27: =LOG(DE27) -> -2.3187588 | DH27: =-SUM('Shannon-Weiner'!B26:Z26) -> 1.0475614 | DI27: =SUM('p^2'!B26:Z26) -> 0.4657 | DJ27: =1-DI27 -> 0.5343 | DK27: =1/DI27 -> 2.1473051 | DL27: =SUM('Shannon-Weiner_B'!B26:Z26) -> -0.98370422 | DM27: =SUM('p_B^2'!B26:Z26) -> 0.45715241 | DN27: =1-DM27 -> 0.54284759 | DO27: =1/DM27 -> 2.1874543
A28: 44201 | B28: =Raw!B29 -> FB7 | C28: 1 | D28: =Raw!D29/Raw!$C29 -> 1131.25 | E28: =Raw!E29/Raw!$C29 -> 192.1875 | F28: =Raw!F29/Raw!$C29 -> 87.5 | G28: =Raw!G29/Raw!$C29 -> 2.75 | H28: =Raw!H29/Raw!$C29 -> 0 | I28: =Raw!I29/Raw!$C29 -> 0 | J28: =Raw!J29/Raw!$C29 -> 0 | K28: =Raw!K29/Raw!$C29 -> 0 | ... CQ28: =Raw!CQ29/Raw!$C29 -> 0 | CR28: =D28+F28+H28+J28+L28+N28+P28+R28+T28+V28+X28+Z28+AB28+AD28+AF28+AH28+AJ28+AL28+AN28+AP28+AR28+AT28+AV28+AX28+AZ28+AZ28+BB28+BD28+BF28+BH28+BJ28+BL28+BN28+BP28+BR28+BT28+BV28+BX28+BZ28+CB28+CD28+CF28+CH28+CJ28+CL28+CN28+CP28 -> 1687.5 | CS28: =E28+G28+I28+K28+M28+O28+Q28+S28+U28+W28+Y28+AA28+AC28+AE28+AG28+AI28+AK28+AM28+AO28+AQ28+AS28+AU28+AW28+AY28+BA28+BA28+BC28+BE28+BG28+BI28+BK28+BM28+BO28+BQ28+BS28+BU28+BW28+BY28+CA28+CC28+CE28+CG28+CI28+CK28+CM28+CO28+CQ28 -> 246.25 | CT28: =LOG10(CR28) -> 3.2272438 | CU28: =LOG10(CS28) -> 2.3913762 | CV28: =Raw!CR29/Raw!$C29 -> 3618.75 | CW28: =Raw!CS29/Raw!$C29 -> 2260 | CX28: =LOG10(CV28) -> 3.5585586 | CY28: =LOG10(CW28) -> 3.3541084 | CZ28: =LOG10(CR28+CV28) -> 3.7247877 | DA28: =LOG10(CS28+CW28) -> 3.3990244 | DB28: =0.590307*(4.87-0.33*CT28-CU28) -> 0.83447764 | DC28: 6 | DD28: =DC28/Raw!C29 -> 37.5 | DE28: =DC28/CR28 -> 0.0035555556 | DF28: =LOG(DE28) -> -2.4490925 | DH28: =-SUM('Shannon-Weiner'!B27:Z27) -> 0.97408371 | DI28: =SUM('p^2'!B27:Z27) -> 0.49947874 | DJ28: =1-DI28 -> 0.50052126 | DK28: =1/DI28 -> 2.0020872 | DL28: =SUM('Shannon-Weiner_B'!B27:Z27) -> -0.83491738 | DM28: =SUM('p_B^2'!B27:Z27) -> 0.62269551 | DN28: =1-DM28 -> 0.37730449 | DO28: =1/DM28 -> 1.6059213
B29: =Raw!B30 -> FB8 | C29: 1 | D29: =Raw!D30/Raw!$C30 -> 143.75 | E29: =Raw!E30/Raw!$C30 -> 93 | F29: =Raw!F30/Raw!$C30 -> 0 | G29: =Raw!G30/Raw!$C30 -> 0 | H29: =Raw!H30/Raw!$C30 -> 0 | I29: =Raw!I30/Raw!$C30 -> 0 | J29: =Raw!J30/Raw!$C30 -> 0 | K29: =Raw!K30/Raw!$C30 -> 0 | ... CQ29: =Raw!CQ30/Raw!$C30 -> 0 | CR29: =D29+F29+H29+J29+L29+N29+P29+R29+T29+V29+X29+Z29+AB29+AD29+AF29+AH29+AJ29+AL29+AN29+AP29+AR29+AT29+AV29+AX29+AZ29+AZ29+BB29+BD29+BF29+BH29+BJ29+BL29+BN29+BP29+BR29+BT29+BV29+BX29+BZ29+CB29+CD29+CF29+CH29+CJ29+CL29+CN29+CP29 -> 218.75 | CS29: =E29+G29+I29+K29+M29+O29+Q29+S29+U29+W29+Y29+AA29+AC29+AE29+AG29+AI29+AK29+AM29+AO29+AQ29+AS29+AU29+AW29+AY29+BA29+BA29+BC29+BE29+BG29+BI29+BK29+BM29+BO29+BQ29+BS29+BU29+BW29+BY29+CA29+CC29+CE29+CG29+CI29+CK29+CM29+CO29+CQ29 -> 1202.5 | CT29: =LOG10(CR29) -> 2.3399481 | CU29: =LOG10(CS29) -> 3.0800851 | CV29: =Raw!CR30/Raw!$C30 -> 3618.75 | CW29: =Raw!CS30/Raw!$C30 -> 2260 | CX29: =LOG10(CV29) -> 3.5585586 | CY29: =LOG10(CW29) -> 3.3541084 | CZ29: =LOG10(CR29+CV29) -> 3.5840484 | DA29: =LOG10(CS29+CW29) -> 3.5393898 | DB29: =0.590307*(4.87-0.33*CT29-CU29) -> 0.60077436 | DC29: 3 | DD29: =DC29/Raw!C30 -> 18.75 | DE29: =DC29/CR29 -> 0.013714286 | DF29: =LOG(DE29) -> -1.8628268 | DH29: =-SUM('Shannon-Weiner'!B28:Z28) -> 0.8805629 | DI29: =SUM('p^2'!B28:Z28) -> 0.49061224 | DJ29: =1-DI29 -> 0.50938776 | DK29: =1/DI29 -> 2.0382696 | DL29: =SUM('Shannon-Weiner_B'!B28:Z28) -> -0.28665299 | DM29: =SUM('p_B^2'!B28:Z28) -> 0.85355255 | DN29: =1-DM29 -> 0.14644745 | DO29: =1/DM29 -> 1.171574
B30: =Raw!B31 -> FB9 | C30: 1 | D30: =Raw!D31/Raw!$C31 -> 168.75 | E30: =Raw!E31/Raw!$C31 -> 117.875 | F30: =Raw!F31/Raw!$C31 -> 0 | G30: =Raw!G31/Raw!$C31 -> 0 | H30: =Raw!H31/Raw!$C31 -> 0 | I30: =Raw!I31/Raw!$C31 -> 0 | J30: =Raw!J31/Raw!$C31 -> 0 | K30: =Raw!K31/Raw!$C31 -> 0 | ... CQ30: =Raw!CQ31/Raw!$C31 -> 0 | CR30: =D30+F30+H30+J30+L30+N30+P30+R30+T30+V30+X30+Z30+AB30+AD30+AF30+AH30+AJ30+AL30+AN30+AP30+AR30+AT30+AV30+AX30+AZ30+AZ30+BB30+BD30+BF30+BH30+BJ30+BL30+BN30+BP30+BR30+BT30+BV30+BX30+BZ30+CB30+CD30+CF30+CH30+CJ30+CL30+CN30+CP30 -> 281.25 | CS30: =E30+G30+I30+K30+M30+O30+Q30+S30+U30+W30+Y30+AA30+AC30+AE30+AG30+AI30+AK30+AM30+AO30+AQ30+AS30+AU30+AW30+AY30+BA30+BA30+BC30+BE30+BG30+BI30+BK30+BM30+BO30+BQ30+BS30+BU30+BW30+BY30+CA30+CC30+CE30+CG30+CI30+CK30+CM30+CO30+CQ30 -> 123.625 | CT30: =LOG10(CR30) -> 2.4490925 | CU30: =LOG10(CS30) -> 2.0921063 | CV30: =Raw!CR31/Raw!$C31 -> 3618.75 | CW30: =Raw!CS31/Raw!$C31 -> 2260 | CX30: =LOG10(CV30) -> 3.5585586 | CY30: =LOG10(CW30) -> 3.3541084 | CZ30: =LOG10(CR30+CV30) -> 3.5910646 | DA30: =LOG10(CS30+CW30) -> 3.3772379 | DB30: =0.590307*(4.87-0.33*CT30-CU30) -> 1.1627237 | DC30: 3 | DD30: =DC30/Raw!C31 -> 18.75 | DE30: =DC30/CR30 -> 0.010666667 | DF30: =LOG(DE30) -> -1.9719713 | DH30: =-SUM('Shannon-Weiner'!B29:Z29) -> 0.92761733 | DI30: =SUM('p^2'!B29:Z29) -> 0.44888889 | DJ30: =1-DI30 -> 0.55111111 | DK30: =1/DI30 -> 2.2277228 | DL30: =SUM('Shannon-Weiner_B'!B29:Z29) -> -0.19793262 | DM30: =SUM('p_B^2'!B29:Z29) -> 0.91108104 | DN30: =1-DM30 -> 0.088918958 | DO30: =1/DM30 -> 1.0975972
B31: =Raw!B32 -> FB10 | C31: 1 | D31: =Raw!D32/Raw!$C32 -> 143.75 | E31: =Raw!E32/Raw!$C32 -> 81.4375 | F31: =Raw!F32/Raw!$C32 -> 100 | G31: =Raw!G32/Raw!$C32 -> 0.25 | H31: =Raw!H32/Raw!$C32 -> 0 | I31: =Raw!I32/Raw!$C32 -> 0 | J31: =Raw!J32/Raw!$C32 -> 0 | K31: =Raw!K32/Raw!$C32 -> 0 | ... CQ31: =Raw!CQ32/Raw!$C32 -> 0 | CR31: =D31+F31+H31+J31+L31+N31+P31+R31+T31+V31+X31+Z31+AB31+AD31+AF31+AH31+AJ31+AL31+AN31+AP31+AR31+AT31+AV31+AX31+AZ31+AZ31+BB31+BD31+BF31+BH31+BJ31+BL31+BN31+BP31+BR31+BT31+BV31+BX31+BZ31+CB31+CD31+CF31+CH31+CJ31+CL31+CN31+CP31 -> 556.25 | CS31: =E31+G31+I31+K31+M31+O31+Q31+S31+U31+W31+Y31+AA31+AC31+AE31+AG31+AI31+AK31+AM31+AO31+AQ31+AS31+AU31+AW31+AY31+BA31+BA31+BC31+BE31+BG31+BI31+BK31+BM31+BO31+BQ31+BS31+BU31+BW31+BY31+CA31+CC31+CE31+CG31+CI31+CK31+CM31+CO31+CQ31 -> 149.8125 | CT31: =LOG10(CR31) -> 2.74527 | CU31: =LOG10(CS31) -> 2.1755481 | CV31: =Raw!CR32/Raw!$C32 -> 3618.75 | CW31: =Raw!CS32/Raw!$C32 -> 2260 | CX31: =LOG10(CV31) -> 3.5585586 | CY31: =LOG10(CW31) -> 3.3541084 | CZ31: =LOG10(CR31+CV31) -> 3.6206565 | DA31: =LOG10(CS31+CW31) -> 3.3819833 | DB31: =0.590307*(4.87-0.33*CT31-CU31) -> 1.0557716 | DC31: 5 | DD31: =DC31/Raw!C32 -> 31.25 | DE31: =DC31/CR31 -> 0.008988764 | DF31: =LOG(DE31) -> -2.0463 | DH31: =-SUM('Shannon-Weiner'!B30:Z30) -> 1.4427886 | DI31: =SUM('p^2'!B30:Z30) -> 0.24908471 | DJ31: =1-DI31 -> 0.75091529 | DK31: =1/DI31 -> 4.0146984 | DL31: =SUM('Shannon-Weiner_B'!B30:Z30) -> -1.1662477 | DM31: =SUM('p_B^2'!B30:Z30) -> 0.37439217 | DN31: =1-DM31 -> 0.62560783 | DO31: =1/DM31 -> 2.6709961
B32: =Raw!B33 -> FB11 | C32: 1 | D32: =Raw!D33/Raw!$C33 -> 268.75 | E32: =Raw!E33/Raw!$C33 -> 80 | F32: =Raw!F33/Raw!$C33 -> 6.25 | G32: =Raw!G33/Raw!$C33 -> 0.0625 | H32: =Raw!H33/Raw!$C33 -> 0 | I32: =Raw!I33/Raw!$C33 -> 0 | J32: =Raw!J33/Raw!$C33 -> 0 | K32: =Raw!K33/Raw!$C33 -> 0 | ... CQ32: =Raw!CQ33/Raw!$C33 -> 0 | CR32: =D32+F32+H32+J32+L32+N32+P32+R32+T32+V32+X32+Z32+AB32+AD32+AF32+AH32+AJ32+AL32+AN32+AP32+AR32+AT32+AV32+AX32+AZ32+AZ32+BB32+BD32+BF32+BH32+BJ32+BL32+BN32+BP32+BR32+BT32+BV32+BX32+BZ32+CB32+CD32+CF32+CH32+CJ32+CL32+CN32+CP32 -> 562.5 | CS32: =E32+G32+I32+K32+M32+O32+Q32+S32+U32+W32+Y32+AA32+AC32+AE32+AG32+AI32+AK32+AM32+AO32+AQ32+AS32+AU32+AW32+AY32+BA32+BA32+BC32+BE32+BG32+BI32+BK32+BM32+BO32+BQ32+BS32+BU32+BW32+BY32+CA32+CC32+CE32+CG32+CI32+CK32+CM32+CO32+CQ32 -> 598.6875 | CT32: =LOG10(CR32) -> 2.7501225 | CU32: =LOG10(CS32) -> 2.7772002 | CV32: =Raw!CR33/Raw!$C33 -> 3618.75 | CW32: =Raw!CS33/Raw!$C33 -> 2260 | CX32: =LOG10(CV32) -> 3.5585586 | CY32: =LOG10(CW32) -> 3.3541084 | CZ32: =LOG10(CR32+CV32) -> 3.6213061 | DA32: =LOG10(CS32+CW32) -> 3.4561667 | DB32: =0.590307*(4.87-0.33*CT32-CU32) -> 0.69966691 | DC32: 5 | DD32: =DC32/Raw!C33 -> 31.25 | DE32: =DC32/CR32 -> 0.0088888889 | DF32: =LOG(DE32) -> -2.0511525 | DH32: =-SUM('Shannon-Weiner'!B31:Z31) -> 1.1408337 | DI32: =SUM('p^2'!B31:Z31) -> 0.3708642 | DJ32: =1-DI32 -> 0.6291358 | DK32: =1/DI32 -> 2.6964048 | DL32: =SUM('Shannon-Weiner_B'!B31:Z31) -> -0.89289388 | DM32: =SUM('p_B^2'!B31:Z31) -> 0.50961156 | DN32: =1-DM32 -> 0.49038844 | DO32: =1/DM32 -> 1.9622789
B33: =Raw!B34 -> FB12 | C33: 1 | D33: =Raw!D34/Raw!$C34 -> 256.25 | E33: =Raw!E34/Raw!$C34 -> 56.375 | F33: =Raw!F34/Raw!$C34 -> 75 | G33: =Raw!G34/Raw!$C34 -> 0.5 | H33: =Raw!H34/Raw!$C34 -> 0 | I33: =Raw!I34/Raw!$C34 -> 0 | J33: =Raw!J34/Raw!$C34 -> 0 | K33: =Raw!K34/Raw!$C34 -> 0 | ... CQ33: =Raw!CQ34/Raw!$C34 -> 0 | CR33: =D33+F33+H33+J33+L33+N33+P33+R33+T33+V33+X33+Z33+AB33+AD33+AF33+AH33+AJ33+AL33+AN33+AP33+AR33+AT33+AV33+AX33+AZ33+AZ33+BB33+BD33+BF33+BH33+BJ33+BL33+BN33+BP33+BR33+BT33+BV33+BX33+BZ33+CB33+CD33+CF33+CH33+CJ33+CL33+CN33+CP33 -> 743.75 | CS33: =E33+G33+I33+K33+M33+O33+Q33+S33+U33+W33+Y33+AA33+AC33+AE33+AG33+AI33+AK33+AM33+AO33+AQ33+AS33+AU33+AW33+AY33+BA33+BA33+BC33+BE33+BG33+BI33+BK33+BM33+BO33+BQ33+BS33+BU33+BW33+BY33+CA33+CC33+CE33+CG33+CI33+CK33+CM33+CO33+CQ33 -> 333.75 | CT33: =LOG10(CR33) -> 2.871427 | CU33: =LOG10(CS33) -> 2.5234213 | CV33: =Raw!CR34/Raw!$C34 -> 3618.75 | CW33: =Raw!CS34/Raw!$C34 -> 2260 | CX33: =LOG10(CV33) -> 3.5585586 | CY33: =LOG10(CW33) -> 3.3541084 | CZ33: =LOG10(CR33+CV33) -> 3.6397354 | DA33: =LOG10(CS33+CW33) -> 3.4139281 | DB33: =0.590307*(4.87-0.33*CT33-CU33) -> 0.82584411 | DC33: 6 | DD33: =DC33/Raw!C34 -> 37.5 | DE33: =DC33/CR33 -> 0.0080672269 | DF33: =LOG(DE33) -> -2.0932757 | DH33: =-SUM('Shannon-Weiner'!B32:Z32) -> 1.4131825 | DI33: =SUM('p^2'!B32:Z32) -> 0.28013558 | DJ33: =1-DI33 -> 0.71986442 | DK33: =1/DI33 -> 3.5697 | DL33: =SUM('Shannon-Weiner_B'!B32:Z32) -> -1.0634141 | DM33: =SUM('p_B^2'!B32:Z32) -> 0.42977802 | DN33: =1-DM33 -> 0.57022198 | DO33: =1/DM33 -> 2.3267826
B34: =Raw!B35 -> FB13 | C34: 1 | D34: =Raw!D35/Raw!$C35 -> 50 | E34: =Raw!E35/Raw!$C35 -> 21.25 | F34: =Raw!F35/Raw!$C35 -> 0 | G34: =Raw!G35/Raw!$C35 -> 0 | H34: =Raw!H35/Raw!$C35 -> 0 | I34: =Raw!I35/Raw!$C35 -> 0 | J34: =Raw!J35/Raw!$C35 -> 0 | K34: =Raw!K35/Raw!$C35 -> 0 | ... CQ34: =Raw!CQ35/Raw!$C35 -> 0 | CR34: =D34+F34+H34+J34+L34+N34+P34+R34+T34+V34+X34+Z34+AB34+AD34+AF34+AH34+AJ34+AL34+AN34+AP34+AR34+AT34+AV34+AX34+AZ34+AZ34+BB34+BD34+BF34+BH34+BJ34+BL34+BN34+BP34+BR34+BT34+BV34+BX34+BZ34+CB34+CD34+CF34+CH34+CJ34+CL34+CN34+CP34 -> 675 | CS34: =E34+G34+I34+K34+M34+O34+Q34+S34+U34+W34+Y34+AA34+AC34+AE34+AG34+AI34+AK34+AM34+AO34+AQ34+AS34+AU34+AW34+AY34+BA34+BA34+BC34+BE34+BG34+BI34+BK34+BM34+BO34+BQ34+BS34+BU34+BW34+BY34+CA34+CC34+CE34+CG34+CI34+CK34+CM34+CO34+CQ34 -> 340.9375 | CT34: =LOG10(CR34) -> 2.8293038 | CU34: =LOG10(CS34) -> 2.5326748 | CV34: =Raw!CR35/Raw!$C35 -> 3618.75 | CW34: =Raw!CS35/Raw!$C35 -> 2260 | CX34: =LOG10(CV34) -> 3.5585586 | CY34: =LOG10(CW34) -> 3.3541084 | CZ34: =LOG10(CR34+CV34) -> 3.6328368 | DA34: =LOG10(CS34+CW34) -> 3.4151299 | DB34: =0.590307*(4.87-0.33*CT34-CU34) -> 0.82858736 | DC34: 4 | DD34: =DC34/Raw!C35 -> 25 | DE34: =DC34/CR34 -> 0.0059259259 | DF34: =LOG(DE34) -> -2.2272438 | DH34: =-SUM('Shannon-Weiner'!B33:Z33) -> 0.98209415 | DI34: =SUM('p^2'!B33:Z33) -> 0.41906722 | DJ34: =1-DI34 -> 0.58093278 | DK34: =1/DI34 -> 2.386252 | DL34: =SUM('Shannon-Weiner_B'!B33:Z33) -> -0.91094839 | DM34: =SUM('p_B^2'!B33:Z33) -> 0.51436436 | DN34: =1-DM34 -> 0.48563564 | DO34: =1/DM34 -> 1.9441472
B35: =Raw!B36 -> FB14 | C35: 1 | D35: =Raw!D36/Raw!$C36 -> 0 | E35: =Raw!E36/Raw!$C36 -> 0 | F35: =Raw!F36/Raw!$C36 -> 0 | G35: =Raw!G36/Raw!$C36 -> 0 | H35: =Raw!H36/Raw!$C36 -> 0 | I35: =Raw!I36/Raw!$C36 -> 0 | J35: =Raw!J36/Raw!$C36 -> 0 | K35: =Raw!K36/Raw!$C36 -> 0 | ... CQ35: =Raw!CQ36/Raw!$C36 -> 0 | CR35: =D35+F35+H35+J35+L35+N35+P35+R35+T35+V35+X35+Z35+AB35+AD35+AF35+AH35+AJ35+AL35+AN35+AP35+AR35+AT35+AV35+AX35+AZ35+AZ35+BB35+BD35+BF35+BH35+BJ35+BL35+BN35+BP35+BR35+BT35+BV35+BX35+BZ35+CB35+CD35+CF35+CH35+CJ35+CL35+CN35+CP35 -> 381.25 | CS35: =E35+G35+I35+K35+M35+O35+Q35+S35+U35+W35+Y35+AA35+AC35+AE35+AG35+AI35+AK35+AM35+AO35+AQ35+AS35+AU35+AW35+AY35+BA35+BA35+BC35+BE35+BG35+BI35+BK35+BM35+BO35+BQ35+BS35+BU35+BW35+BY35+CA35+CC35+CE35+CG35+CI35+CK35+CM35+CO35+CQ35 -> 502.8125 | CT35: =LOG10(CR35) -> 2.5812099 | CU35: =LOG10(CS35) -> 2.7014061 | CV35: =Raw!CR36/Raw!$C36 -> 3618.75 | CW35: =Raw!CS36/Raw!$C36 -> 2260 | CX35: =LOG10(CV35) -> 3.5585586 | CY35: =LOG10(CW35) -> 3.3541084 | CZ35: =LOG10(CR35+CV35) -> 3.60206 | DA35: =LOG10(CS35+CW35) -> 3.4413514 | DB35: =0.590307*(4.87-0.33*CT35-CU35) -> 0.77731312 | DC35: 2 | DD35: =DC35/Raw!C36 -> 12.5 | DE35: =DC35/CR35 -> 0.0052459016 | DF35: =LOG(DE35) -> -2.2801799 | DH35: =-SUM('Shannon-Weiner'!B34:Z34) -> 0.35634092 | DI35: =SUM('p^2'!B34:Z34) -> 0.79682881 | DJ35: =1-DI35 -> 0.20317119 | DK35: =1/DI35 -> 1.2549747 | DL35: =SUM('Shannon-Weiner_B'!B34:Z34) -> -0.036506347 | DM35: =SUM('p_B^2'!B34:Z34) -> 0.98813832 | DN35: =1-DM35 -> 0.011861681 | DO35: =1/DM35 -> 1.0120041
B36: =Raw!B37 -> FB15 | C36: 1 | D36: =Raw!D37/Raw!$C37 -> 30 | E36: =Raw!E37/Raw!$C37 -> 1.15 | F36: =Raw!F37/Raw!$C37 -> 85 | G36: =Raw!G37/Raw!$C37 -> 3.35 | H36: =Raw!H37/Raw!$C37 -> 0 | I36: =Raw!I37/Raw!$C37 -> 0 | J36: =Raw!J37/Raw!$C37 -> 0 | K36: =Raw!K37/Raw!$C37 -> 0 | ... CQ36: =Raw!CQ37/Raw!$C37 -> 0 | CR36: =D36+F36+H36+J36+L36+N36+P36+R36+T36+V36+X36+Z36+AB36+AD36+AF36+AH36+AJ36+AL36+AN36+AP36+AR36+AT36+AV36+AX36+AZ36+AZ36+BB36+BD36+BF36+BH36+BJ36+BL36+BN36+BP36+BR36+BT36+BV36+BX36+BZ36+CB36+CD36+CF36+CH36+CJ36+CL36+CN36+CP36 -> 445 | CS36: =E36+G36+I36+K36+M36+O36+Q36+S36+U36+W36+Y36+AA36+AC36+AE36+AG36+AI36+AK36+AM36+AO36+AQ36+AS36+AU36+AW36+AY36+BA36+BA36+BC36+BE36+BG36+BI36+BK36+BM36+BO36+BQ36+BS36+BU36+BW36+BY36+CA36+CC36+CE36+CG36+CI36+CK36+CM36+CO36+CQ36 -> 444.5 | CT36: =LOG10(CR36) -> 2.64836 | CU36: =LOG10(CS36) -> 2.6478718 | CV36: =Raw!CR37/Raw!$C37 -> 2895 | CW36: =Raw!CS37/Raw!$C37 -> 1808 | CX36: =LOG10(CV36) -> 3.4616486 | CY36: =LOG10(CW36) -> 3.2571984 | CZ36: =LOG10(CR36+CV36) -> 3.5237465 | DA36: =LOG10(CS36+CW36) -> 3.3526648 | DB36: =0.590307*(4.87-0.33*CT36-CU36) -> 0.79583385 | DC36: 7 | DD36: =DC36/Raw!C37 -> 35 | DE36: =DC36/CR36 -> 0.015730337 | DF36: =LOG(DE36) -> -1.803262 | DH36: =-SUM('Shannon-Weiner'!B35:Z35) -> 1.3668473 | DI36: =SUM('p^2'!B35:Z35) -> 0.26890544 | DJ36: =1-DI36 -> 0.73109456 | DK36: =1/DI36 -> 3.7187793 | DL36: =SUM('Shannon-Weiner_B'!B35:Z35) -> -0.67099251 | DM36: =SUM('p_B^2'!B35:Z35) -> 0.64523653 | DN36: =1-DM36 -> 0.35476347 | DO36: =1/DM36 -> 1.5498193
B37: =Raw!B38 -> FB16 | C37: 1 | D37: =Raw!D38/Raw!$C38 -> 166.66667 | E37: =Raw!E38/Raw!$C38 -> 20.916667 | F37: =Raw!F38/Raw!$C38 -> 83.333333 | G37: =Raw!G38/Raw!$C38 -> 1 | H37: =Raw!H38/Raw!$C38 -> 0 | I37: =Raw!I38/Raw!$C38 -> 0 | J37: =Raw!J38/Raw!$C38 -> 0 | K37: =Raw!K38/Raw!$C38 -> 0 | ... CQ37: =Raw!CQ38/Raw!$C38 -> 0 | CR37: =D37+F37+H37+J37+L37+N37+P37+R37+T37+V37+X37+Z37+AB37+AD37+AF37+AH37+AJ37+AL37+AN37+AP37+AR37+AT37+AV37+AX37+AZ37+AZ37+BB37+BD37+BF37+BH37+BJ37+BL37+BN37+BP37+BR37+BT37+BV37+BX37+BZ37+CB37+CD37+CF37+CH37+CJ37+CL37+CN37+CP37 -> 458.33333 | CS37: =E37+G37+I37+K37+M37+O37+Q37+S37+U37+W37+Y37+AA37+AC37+AE37+AG37+AI37+AK37+AM37+AO37+AQ37+AS37+AU37+AW37+AY37+BA37+BA37+BC37+BE37+BG37+BI37+BK37+BM37+BO37+BQ37+BS37+BU37+BW37+BY37+CA37+CC37+CE37+CG37+CI37+CK37+CM37+CO37+CQ37 -> 769.33333 | CT37: =LOG10(CR37) -> 2.6611814 | CU37: =LOG10(CS37) -> 2.8861145 | CV37: =Raw!CR38/Raw!$C38 -> 4825 | CW37: =Raw!CS38/Raw!$C38 -> 3013.3333 | CX37: =LOG10(CV37) -> 3.6834973 | CY37: =LOG10(CW37) -> 3.4790472 | CZ37: =LOG10(CR37+CV37) -> 3.722908 | DA37: =LOG10(CS37+CW37) -> 3.5777981 | DB37: =0.590307*(4.87-0.33*CT37-CU37) -> 0.65269984 | DC37: 5 | DD37: =DC37/Raw!C38 -> 41.666667 | DE37: =DC37/CR37 -> 0.010909091 | DF37: =LOG(DE37) -> -1.9622114 | DH37: =-SUM('Shannon-Weiner'!B36:Z36) -> 1.1648412 | DI37: =SUM('p^2'!B36:Z36) -> 0.32661157 | DJ37: =1-DI37 -> 0.67338843 | DK37: =1/DI37 -> 3.0617409 | DL37: =SUM('Shannon-Weiner_B'!B36:Z36) -> -0.16055643 | DM37: =SUM('p_B^2'!B36:Z36) -> 0.93619203 | DN37: =1-DM37 -> 0.063807969 | DO37: =1/DM37 -> 1.0681569
B38: =Raw!B39 -> FB17 | C38: 1 | D38: =Raw!D39/Raw!$C39 -> 28 | E38: =Raw!E39/Raw!$C39 -> 8.64 | F38: =Raw!F39/Raw!$C39 -> 180 | G38: =Raw!G39/Raw!$C39 -> 288.8 | H38: =Raw!H39/Raw!$C39 -> 0 | I38: =Raw!I39/Raw!$C39 -> 0 | J38: =Raw!J39/Raw!$C39 -> 0 | K38: =Raw!K39/Raw!$C39 -> 0 | ... CQ38: =Raw!CQ39/Raw!$C39 -> 0 | CR38: =D38+F38+H38+J38+L38+N38+P38+R38+T38+V38+X38+Z38+AB38+AD38+AF38+AH38+AJ38+AL38+AN38+AP38+AR38+AT38+AV38+AX38+AZ38+AZ38+BB38+BD38+BF38+BH38+BJ38+BL38+BN38+BP38+BR38+BT38+BV38+BX38+BZ38+CB38+CD38+CF38+CH38+CJ38+CL38+CN38+CP38 -> 244 | CS38: =E38+G38+I38+K38+M38+O38+Q38+S38+U38+W38+Y38+AA38+AC38+AE38+AG38+AI38+AK38+AM38+AO38+AQ38+AS38+AU38+AW38+AY38+BA38+BA38+BC38+BE38+BG38+BI38+BK38+BM38+BO38+BQ38+BS38+BU38+BW38+BY38+CA38+CC38+CE38+CG38+CI38+CK38+CM38+CO38+CQ38 -> 329.88 | CT38: =LOG10(CR38) -> 2.3873898 | CU38: =LOG10(CS38) -> 2.518356 | CV38: =Raw!CR39/Raw!$C39 -> 2316 | CW38: =Raw!CS39/Raw!$C39 -> 1446.4 | CX38: =LOG10(CV38) -> 3.3647386 | CY38: =LOG10(CW38) -> 3.1602884 | CZ38: =LOG10(CR38+CV38) -> 3.40824 | DA38: =LOG10(CS38+CW38) -> 3.2495114 | DB38: =0.590307*(4.87-0.33*CT38-CU38) -> 0.92312526 | DC38: 4 | DD38: =DC38/Raw!C39 -> 16 | DE38: =DC38/CR38 -> 0.016393443 | DF38: =LOG(DE38) -> -1.7853298 | DH38: =-SUM('Shannon-Weiner'!B37:Z37) -> 0.83335176 | DI38: =SUM('p^2'!B37:Z37) -> 0.57162053 | DJ38: =1-DI38 -> 0.42837947 | DK38: =1/DI38 -> 1.7494123 | DL38: =SUM('Shannon-Weiner_B'!B37:Z37) -> -0.44420541 | DM38: =SUM('p_B^2'!B37:Z37) -> 0.77666196 | DN38: =1-DM38 -> 0.22333804 | DO38: =1/DM38 -> 1.2875614
B39: =Raw!B40 -> FB18 | C39: 1 | D39: =Raw!D40/Raw!$C40 -> 6.6666667 | E39: =Raw!E40/Raw!$C40 -> 0.33333333 | F39: =Raw!F40/Raw!$C40 -> 0 | G39: =Raw!G40/Raw!$C40 -> 0 | H39: =Raw!H40/Raw!$C40 -> 0 | I39: =Raw!I40/Raw!$C40 -> 0 | J39: =Raw!J40/Raw!$C40 -> 0 | K39: =Raw!K40/Raw!$C40 -> 0 | ... CQ39: =Raw!CQ40/Raw!$C40 -> 0 | CR39: =D39+F39+H39+J39+L39+N39+P39+R39+T39+V39+X39+Z39+AB39+AD39+AF39+AH39+AJ39+AL39+AN39+AP39+AR39+AT39+AV39+AX39+AZ39+AZ39+BB39+BD39+BF39+BH39+BJ39+BL39+BN39+BP39+BR39+BT39+BV39+BX39+BZ39+CB39+CD39+CF39+CH39+CJ39+CL39+CN39+CP39 -> 653.33333 | CS39: =E39+G39+I39+K39+M39+O39+Q39+S39+U39+W39+Y39+AA39+AC39+AE39+AG39+AI39+AK39+AM39+AO39+AQ39+AS39+AU39+AW39+AY39+BA39+BA39+BC39+BE39+BG39+BI39+BK39+BM39+BO39+BQ39+BS39+BU39+BW39+BY39+CA39+CC39+CE39+CG39+CI39+CK39+CM39+CO39+CQ39 -> 618.86667 | CT39: =LOG10(CR39) -> 2.8151348 | CU39: =LOG10(CS39) -> 2.7915971 | CV39: =Raw!CR40/Raw!$C40 -> 3860 | CW39: =Raw!CS40/Raw!$C40 -> 2410.6667 | CX39: =LOG10(CV39) -> 3.5865873 | CY39: =LOG10(CW39) -> 3.3821372 | CZ39: =LOG10(CR39+CV39) -> 3.6544974 | DA39: =LOG10(CS39+CW39) -> 3.4813757 | DB39: =0.590307*(4.87-0.33*CT39-CU39) -> 0.67850384 | DC39: 3 | DD39: =DC39/Raw!C40 -> 20 | DE39: =DC39/CR39 -> 0.0045918367 | DF39: =LOG(DE39) -> -2.3380136 | DH39: =-SUM('Shannon-Weiner'!B38:Z38) -> 0.63230645 | DI39: =SUM('p^2'!B38:Z38) -> 0.59537693 | DJ39: =1-DI39 -> 0.40462307 | DK39: =1/DI39 -> 1.6796083 | DL39: =SUM('Shannon-Weiner_B'!B38:Z38) -> -0.073640085 | DM39: =SUM('p_B^2'!B38:Z38) -> 0.97341776 | DN39: =1-DM39 -> 0.026582236 | DO39: =1/DM39 -> 1.0273081
B40: =Raw!B41 -> FB19 | C40: 1 | D40: =Raw!D41/Raw!$C41 -> 33.333333 | E40: =Raw!E41/Raw!$C41 -> 0.33333333 | F40: =Raw!F41/Raw!$C41 -> 233.33333 | G40: =Raw!G41/Raw!$C41 -> 11.866667 | H40: =Raw!H41/Raw!$C41 -> 0 | I40: =Raw!I41/Raw!$C41 -> 0 | J40: =Raw!J41/Raw!$C41 -> 0 | K40: =Raw!K41/Raw!$C41 -> 0 | ... CQ40: =Raw!CQ41/Raw!$C41 -> 0 | CR40: =D40+F40+H40+J40+L40+N40+P40+R40+T40+V40+X40+Z40+AB40+AD40+AF40+AH40+AJ40+AL40+AN40+AP40+AR40+AT40+AV40+AX40+AZ40+AZ40+BB40+BD40+BF40+BH40+BJ40+BL40+BN40+BP40+BR40+BT40+BV40+BX40+BZ40+CB40+CD40+CF40+CH40+CJ40+CL40+CN40+CP40 -> 500 | CS40: =E40+G40+I40+K40+M40+O40+Q40+S40+U40+W40+Y40+AA40+AC40+AE40+AG40+AI40+AK40+AM40+AO40+AQ40+AS40+AU40+AW40+AY40+BA40+BA40+BC40+BE40+BG40+BI40+BK40+BM40+BO40+BQ40+BS40+BU40+BW40+BY40+CA40+CC40+CE40+CG40+CI40+CK40+CM40+CO40+CQ40 -> 318.26667 | CT40: =LOG10(CR40) -> 2.69897 | CU40: =LOG10(CS40) -> 2.5027912 | CV40: =Raw!CR41/Raw!$C41 -> 3860 | CW40: =Raw!CS41/Raw!$C41 -> 2410.6667 | CX40: =LOG10(CV40) -> 3.5865873 | CY40: =LOG10(CW40) -> 3.3821372 | CZ40: =LOG10(CR40+CV40) -> 3.6394865 | DA40: =LOG10(CS40+CW40) -> 3.4359929 | DB40: =0.590307*(4.87-0.33*CT40-CU40) -> 0.87161706 | DC40: 6 | DD40: =DC40/Raw!C41 -> 40 | DE40: =DC40/CR40 -> 0.012 | DF40: =LOG(DE40) -> -1.9208188 | DH40: =-SUM('Shannon-Weiner'!B39:Z39) -> 1.2392731 | DI40: =SUM('p^2'!B39:Z39) -> 0.34062222 | DJ40: =1-DI40 -> 0.65937778 | DK40: =1/DI40 -> 2.9358038 | DL40: =SUM('Shannon-Weiner_B'!B39:Z39) -> -0.22362895 | DM40: =SUM('p_B^2'!B39:Z39) -> 0.90739402 | DN40: =1-DM40 -> 0.092605983 | DO40: =1/DM40 -> 1.1020571
... B44: =Raw!B45 -> FB23 | C44: 1 | D44: =Raw!D45/Raw!$C45 -> 48.571429 | E44: =Raw!E45/Raw!$C45 -> 1.9428571 | F44: =Raw!F45/Raw!$C45 -> 100 | G44: =Raw!G45/Raw!$C45 -> 3.6285714 | H44: =Raw!H45/Raw!$C45 -> 0 | I44: =Raw!I45/Raw!$C45 -> 0 | J44: =Raw!J45/Raw!$C45 -> 0 | K44: =Raw!K45/Raw!$C45 -> 0 | ... CQ44: =Raw!CQ45/Raw!$C45 -> 0 | CR44: =D44+F44+H44+J44+L44+N44+P44+R44+T44+V44+X44+Z44+AB44+AD44+AF44+AH44+AJ44+AL44+AN44+AP44+AR44+AT44+AV44+AX44+AZ44+AZ44+BB44+BD44+BF44+BH44+BJ44+BL44+BN44+BP44+BR44+BT44+BV44+BX44+BZ44+CB44+CD44+CF44+CH44+CJ44+CL44+CN44+CP44 -> 251.42857 | CS44: =E44+G44+I44+K44+M44+O44+Q44+S44+U44+W44+Y44+AA44+AC44+AE44+AG44+AI44+AK44+AM44+AO44+AQ44+AS44+AU44+AW44+AY44+BA44+BA44+BC44+BE44+BG44+BI44+BK44+BM44+BO44+BQ44+BS44+BU44+BW44+BY44+CA44+CC44+CE44+CG44+CI44+CK44+CM44+CO44+CQ44 -> 964.77143 | CT44: =LOG10(CR44) -> 2.4004146 | CU44: =LOG10(CS44) -> 2.9844244 | CV44: =Raw!CR45/Raw!$C45 -> 1662.8571 | CW44: =Raw!CS45/Raw!$C45 -> 1033.1429 | CX44: =LOG10(CV44) -> 3.2208549 | CY44: =LOG10(CW44) -> 3.0141604 | CZ44: =LOG10(CR44+CV44) -> 3.2820068 | DA44: =LOG10(CS44+CW44) -> 3.3005769 | DB44: =0.590307*(4.87-0.33*CT44-CU44) -> 0.64546454 | DC44: 7 | DD44: =DC44/Raw!C45 -> 20 | DE44: =DC44/CR44 -> 0.027840909 | DF44: =LOG(DE44) -> -1.5553166 | DH44: =-SUM('Shannon-Weiner'!B43:Z43) -> 1.4629736 | DI44: =SUM('p^2'!B43:Z43) -> 0.25852273 | DJ44: =1-DI44 -> 0.74147727 | DK44: =1/DI44 -> 3.8681319 | DL44: =SUM('Shannon-Weiner_B'!B43:Z43) -> -0.78815679 | DM44: =SUM('p_B^2'!B43:Z43) -> 0.19188932 | DN44: =1-DM44 -> 0.80811068 | DO44: =1/DM44 -> 5.2113374
B45: FC1 | C45: 1 | D45: =Raw!D46/Raw!$C46 -> 462.5 | E45: =Raw!E46/Raw!$C46 -> 105.5625 | F45: =Raw!F46/Raw!$C46 -> 0 | G45: =Raw!G46/Raw!$C46 -> 0 | H45: =Raw!H46/Raw!$C46 -> 0 | I45: =Raw!I46/Raw!$C46 -> 0 | J45: =Raw!J46/Raw!$C46 -> 0 | K45: =Raw!K46/Raw!$C46 -> 0 | ... CQ45: =Raw!CQ46/Raw!$C46 -> 0 | CR45: =D45+F45+H45+J45+L45+N45+P45+R45+T45+V45+X45+Z45+AB45+AD45+AF45+AH45+AJ45+AL45+AN45+AP45+AR45+AT45+AV45+AX45+AZ45+AZ45+BB45+BD45+BF45+BH45+BJ45+BL45+BN45+BP45+BR45+BT45+BV45+BX45+BZ45+CB45+CD45+CF45+CH45+CJ45+CL45+CN45+CP45 -> 475 | CS45: =E45+G45+I45+K45+M45+O45+Q45+S45+U45+W45+Y45+AA45+AC45+AE45+AG45+AI45+AK45+AM45+AO45+AQ45+AS45+AU45+AW45+AY45+BA45+BA45+BC45+BE45+BG45+BI45+BK45+BM45+BO45+BQ45+BS45+BU45+BW45+BY45+CA45+CC45+CE45+CG45+CI45+CK45+CM45+CO45+CQ45 -> 532.6875 | CT45: =LOG10(CR45) -> 2.6766936 | CU45: =LOG10(CS45) -> 2.7264725 | CV45: =Raw!CR46/Raw!$C46 -> 3618.75 | CW45: =Raw!CS46/Raw!$C46 -> 2260 | CX45: =LOG10(CV45) -> 3.5585586 | CY45: =LOG10(CW45) -> 3.3541084 | CZ45: =LOG10(CR45+CV45) -> 3.6121213 | DA45: =LOG10(CS45+CW45) -> 3.4460223 | DB45: =0.590307*(4.87-0.33*CT45-CU45) -> 0.74391586 | DC45: 3 | DD45: =DC45/Raw!C46 -> 18.75 | DE45: =DC45/CR45 -> 0.0063157895 | DF45: =LOG(DE45) -> -2.1995724 | DH45: =-SUM('Shannon-Weiner'!B44:Z44) -> 0.13993312 | DI45: =SUM('p^2'!B44:Z44) -> 0.9484072 | DJ45: =1-DI45 -> 0.051592798 | DK45: =1/DI45 -> 1.0543994 | DL45: =SUM('Shannon-Weiner_B'!B44:Z44) -> -0.50591344 | DM45: =SUM('p_B^2'!B44:Z44) -> 0.68051193 | DN45: =1-DM45 -> 0.31948807 | DO45: =1/DM45 -> 1.469482
B46: FC2 | C46: 1 | D46: =Raw!D47/Raw!$C47 -> 184 | E46: =Raw!E47/Raw!$C47 -> 123.08 | F46: =Raw!F47/Raw!$C47 -> 24 | G46: =Raw!G47/Raw!$C47 -> 18.8 | H46: =Raw!H47/Raw!$C47 -> 0 | I46: =Raw!I47/Raw!$C47 -> 0 | J46: =Raw!J47/Raw!$C47 -> 0 | K46: =Raw!K47/Raw!$C47 -> 0 | ... CQ46: =Raw!CQ47/Raw!$C47 -> 0 | CR46: =D46+F46+H46+J46+L46+N46+P46+R46+T46+V46+X46+Z46+AB46+AD46+AF46+AH46+AJ46+AL46+AN46+AP46+AR46+AT46+AV46+AX46+AZ46+AZ46+BB46+BD46+BF46+BH46+BJ46+BL46+BN46+BP46+BR46+BT46+BV46+BX46+BZ46+CB46+CD46+CF46+CH46+CJ46+CL46+CN46+CP46 -> 216 | CS46: =E46+G46+I46+K46+M46+O46+Q46+S46+U46+W46+Y46+AA46+AC46+AE46+AG46+AI46+AK46+AM46+AO46+AQ46+AS46+AU46+AW46+AY46+BA46+BA46+BC46+BE46+BG46+BI46+BK46+BM46+BO46+BQ46+BS46+BU46+BW46+BY46+CA46+CC46+CE46+CG46+CI46+CK46+CM46+CO46+CQ46 -> 877.96 | CT46: =LOG10(CR46) -> 2.3344538 | CU46: =LOG10(CS46) -> 2.9434747 | CV46: =Raw!CR47/Raw!$C47 -> 2316 | CW46: =Raw!CS47/Raw!$C47 -> 1446.4 | CX46: =LOG10(CV46) -> 3.3647386 | CY46: =LOG10(CW46) -> 3.1602884 | CZ46: =LOG10(CR46+CV46) -> 3.4034637 | DA46: =LOG10(CS46+CW46) -> 3.3663034 | DB46: =0.590307*(4.87-0.33*CT46-CU46) -> 0.6824867 | DC46: 3 | DD46: =DC46/Raw!C47 -> 12 | DE46: =DC46/CR46 -> 0.013888889 | DF46: =LOG(DE46) -> -1.8573325 | DH46: =-SUM('Shannon-Weiner'!B45:Z45) -> 0.50279228 | DI46: =SUM('p^2'!B45:Z45) -> 0.739369 | DJ46: =1-DI46 -> 0.260631 | DK46: =1/DI46 -> 1.3525046 | DL46: =SUM('Shannon-Weiner_B'!B45:Z45) -> -0.50552297 | DM46: =SUM('p_B^2'!B45:Z45) -> 0.72302276 | DN46: =1-DM46 -> 0.27697724 | DO46: =1/DM46 -> 1.3830823
B47: FC3 | C47: 1 | D47: =Raw!D48/Raw!$C48 -> 175 | E47: =Raw!E48/Raw!$C48 -> 149.6875 | F47: =Raw!F48/Raw!$C48 -> 0 | G47: =Raw!G48/Raw!$C48 -> 0 | H47: =Raw!H48/Raw!$C48 -> 0 | I47: =Raw!I48/Raw!$C48 -> 0 | J47: =Raw!J48/Raw!$C48 -> 0 | K47: =Raw!K48/Raw!$C48 -> 0 | ... CQ47: =Raw!CQ48/Raw!$C48 -> 0 | CR47: =D47+F47+H47+J47+L47+N47+P47+R47+T47+V47+X47+Z47+AB47+AD47+AF47+AH47+AJ47+AL47+AN47+AP47+AR47+AT47+AV47+AX47+AZ47+AZ47+BB47+BD47+BF47+BH47+BJ47+BL47+BN47+BP47+BR47+BT47+BV47+BX47+BZ47+CB47+CD47+CF47+CH47+CJ47+CL47+CN47+CP47 -> 175 | CS47: =E47+G47+I47+K47+M47+O47+Q47+S47+U47+W47+Y47+AA47+AC47+AE47+AG47+AI47+AK47+AM47+AO47+AQ47+AS47+AU47+AW47+AY47+BA47+BA47+BC47+BE47+BG47+BI47+BK47+BM47+BO47+BQ47+BS47+BU47+BW47+BY47+CA47+CC47+CE47+CG47+CI47+CK47+CM47+CO47+CQ47 -> 149.6875 | CT47: =LOG10(CR47) -> 2.243038 | CU47: =LOG10(CS47) -> 2.1751855 | CV47: =Raw!CR48/Raw!$C48 -> 3618.75 | CW47: =Raw!CS48/Raw!$C48 -> 2260 | CX47: =LOG10(CV47) -> 3.5585586 | CY47: =LOG10(CW47) -> 3.3541084 | CZ47: =LOG10(CR47+CV47) -> 3.5790687 | DA47: =LOG10(CS47+CW47) -> 3.3819607 | DB47: =0.590307*(4.87-0.33*CT47-CU47) -> 1.1538211 | DC47: 1 | DD47: =DC47/Raw!C48 -> 6.25 | DE47: =DC47/CR47 -> 0.0057142857 | DF47: =LOG(DE47) -> -2.243038 | DH47: =-SUM('Shannon-Weiner'!B46:Z46) -> 0 | DI47: =SUM('p^2'!B46:Z46) -> 1 | DJ47: =1-DI47 -> 0 | DK47: =1/DI47 -> 1 | DL47: =SUM('Shannon-Weiner_B'!B46:Z46) -> 0 | DM47: =SUM('p_B^2'!B46:Z46) -> 1 | DN47: =1-DM47 -> 0 | DO47: =1/DM47 -> 1
B48: FC4 | C48: 1 | D48: =Raw!D49/Raw!$C49 -> 156.25 | E48: =Raw!E49/Raw!$C49 -> 29.5 | F48: =Raw!F49/Raw!$C49 -> 0 | G48: =Raw!G49/Raw!$C49 -> 0 | H48: =Raw!H49/Raw!$C49 -> 0 | I48: =Raw!I49/Raw!$C49 -> 0 | J48: =Raw!J49/Raw!$C49 -> 0 | K48: =Raw!K49/Raw!$C49 -> 0 | ... CQ48: =Raw!CQ49/Raw!$C49 -> 0 | CR48: =D48+F48+H48+J48+L48+N48+P48+R48+T48+V48+X48+Z48+AB48+AD48+AF48+AH48+AJ48+AL48+AN48+AP48+AR48+AT48+AV48+AX48+AZ48+AZ48+BB48+BD48+BF48+BH48+BJ48+BL48+BN48+BP48+BR48+BT48+BV48+BX48+BZ48+CB48+CD48+CF48+CH48+CJ48+CL48+CN48+CP48 -> 212.5 | CS48: =E48+G48+I48+K48+M48+O48+Q48+S48+U48+W48+Y48+AA48+AC48+AE48+AG48+AI48+AK48+AM48+AO48+AQ48+AS48+AU48+AW48+AY48+BA48+BA48+BC48+BE48+BG48+BI48+BK48+BM48+BO48+BQ48+BS48+BU48+BW48+BY48+CA48+CC48+CE48+CG48+CI48+CK48+CM48+CO48+CQ48 -> 1208.5625 | CT48: =LOG10(CR48) -> 2.3273589 | CU48: =LOG10(CS48) -> 3.0822691 | CV48: =Raw!CR49/Raw!$C49 -> 3618.75 | CW48: =Raw!CS49/Raw!$C49 -> 2260 | CX48: =LOG10(CV48) -> 3.5585586 | CY48: =LOG10(CW48) -> 3.3541084 | CZ48: =LOG10(CR48+CV48) -> 3.5833405 | DA48: =LOG10(CS48+CW48) -> 3.5401495 | DB48: =0.590307*(4.87-0.33*CT48-CU48) -> 0.60193749 | DC48: 4 | DD48: =DC48/Raw!C49 -> 25 | DE48: =DC48/CR48 -> 0.018823529 | DF48: =LOG(DE48) -> -1.7252989 | DH48: =-SUM('Shannon-Weiner'!B47:Z47) -> 0.60696438 | DI48: =SUM('p^2'!B47:Z47) -> 0.55190311 | DJ48: =1-DI48 -> 0.44809689 | DK48: =1/DI48 -> 1.8119122 | DL48: =SUM('Shannon-Weiner_B'!B47:Z47) -> -0.12087478 | DM48: =SUM('p_B^2'!B47:Z47) -> 0.94723435 | DN48: =1-DM48 -> 0.052765647 | DO48: =1/DM48 -> 1.055705
B49: FC5 | C49: 1 | D49: =Raw!D50/Raw!$C50 -> 13.445378 | E49: =Raw!E50/Raw!$C50 -> 3.8655462 | F49: =Raw!F50/Raw!$C50 -> 0 | G49: =Raw!G50/Raw!$C50 -> 0 | H49: =Raw!H50/Raw!$C50 -> 0 | I49: =Raw!I50/Raw!$C50 -> 0 | J49: =Raw!J50/Raw!$C50 -> 0 | K49: =Raw!K50/Raw!$C50 -> 0 | ... CQ49: =Raw!CQ50/Raw!$C50 -> 0 | CR49: =D49+F49+H49+J49+L49+N49+P49+R49+T49+V49+X49+Z49+AB49+AD49+AF49+AH49+AJ49+AL49+AN49+AP49+AR49+AT49+AV49+AX49+AZ49+AZ49+BB49+BD49+BF49+BH49+BJ49+BL49+BN49+BP49+BR49+BT49+BV49+BX49+BZ49+CB49+CD49+CF49+CH49+CJ49+CL49+CN49+CP49 -> 23.529412 | CS49: =E49+G49+I49+K49+M49+O49+Q49+S49+U49+W49+Y49+AA49+AC49+AE49+AG49+AI49+AK49+AM49+AO49+AQ49+AS49+AU49+AW49+AY49+BA49+BA49+BC49+BE49+BG49+BI49+BK49+BM49+BO49+BQ49+BS49+BU49+BW49+BY49+CA49+CC49+CE49+CG49+CI49+CK49+CM49+CO49+CQ49 -> 1959.1092 | CT49: =LOG10(CR49) -> 1.3716111 | CU49: =LOG10(CS49) -> 3.2920587 | CV49: =Raw!CR50/Raw!$C50 -> 973.10924 | CW49: =Raw!CS50/Raw!$C50 -> 607.73109 | CX49: =LOG10(CV49) -> 2.9881616 | CY49: =LOG10(CW49) -> 2.7837115 | CZ49: =LOG10(CR49+CV49) -> 2.9985377 | DA49: =LOG10(CS49+CW49) -> 3.4093989 | DB49: =0.590307*(4.87-0.33*CT49-CU49) -> 0.66427819 | DC49: 4 | DD49: =DC49/Raw!C50 -> 6.7226891 | DE49: =DC49/CR49 -> 0.17 | DF49: =LOG(DE49) -> -0.76955108 | DH49: =-SUM('Shannon-Weiner'!B48:Z48) -> 0.69678864 | DI49: =SUM('p^2'!B48:Z48) -> 0.33673469 | DJ49: =1-DI49 -> 0.66326531 | DK49: =1/DI49 -> 2.969697 | DL49: =SUM('Shannon-Weiner_B'!B48:Z48) -> -0.015932661 | DM49: =SUM('p_B^2'!B48:Z48) -> 0.99460659 | DN49: =1-DM49 -> 0.0053934108 | DO49: =1/DM49 -> 1.0054227
B50: FC6 | C50: 1 | D50: =Raw!D51/Raw!$C51 -> 24 | E50: =Raw!E51/Raw!$C51 -> 0.64 | F50: =Raw!F51/Raw!$C51 -> 456 | G50: =Raw!G51/Raw!$C51 -> 140.44 | H50: =Raw!H51/Raw!$C51 -> 0 | I50: =Raw!I51/Raw!$C51 -> 0 | J50: =Raw!J51/Raw!$C51 -> 0 | K50: =Raw!K51/Raw!$C51 -> 0 | ... CQ50: =Raw!CQ51/Raw!$C51 -> 0 | CR50: =D50+F50+H50+J50+L50+N50+P50+R50+T50+V50+X50+Z50+AB50+AD50+AF50+AH50+AJ50+AL50+AN50+AP50+AR50+AT50+AV50+AX50+AZ50+AZ50+BB50+BD50+BF50+BH50+BJ50+BL50+BN50+BP50+BR50+BT50+BV50+BX50+BZ50+CB50+CD50+CF50+CH50+CJ50+CL50+CN50+CP50 -> 568 | CS50: =E50+G50+I50+K50+M50+O50+Q50+S50+U50+W50+Y50+AA50+AC50+AE50+AG50+AI50+AK50+AM50+AO50+AQ50+AS50+AU50+AW50+AY50+BA50+BA50+BC50+BE50+BG50+BI50+BK50+BM50+BO50+BQ50+BS50+BU50+BW50+BY50+CA50+CC50+CE50+CG50+CI50+CK50+CM50+CO50+CQ50 -> 264.24 | CT50: =LOG10(CR50) -> 2.7543483 | CU50: =LOG10(CS50) -> 2.4219986 | CV50: =Raw!CR51/Raw!$C51 -> 2316 | CW50: =Raw!CS51/Raw!$C51 -> 1446.4 | CX50: =LOG10(CV50) -> 3.3647386 | CY50: =LOG10(CW50) -> 3.1602884 | CZ50: =LOG10(CR50+CV50) -> 3.4599953 | DA50: =LOG10(CS50+CW50) -> 3.2331586 | DB50: =0.590307*(4.87-0.33*CT50-CU50) -> 0.90852172 | DC50: 5 | DD50: =DC50/Raw!C51 -> 20 | DE50: =DC50/CR50 -> 0.0088028169 | DF50: =LOG(DE50) -> -2.0553783 | DH50: =-SUM('Shannon-Weiner'!B49:Z49) -> 0.73731166 | DI50: =SUM('p^2'!B49:Z49) -> 0.65731006 | DJ50: =1-DI50 -> 0.34268994 | DK50: =1/DI50 -> 1.521352 | DL50: =SUM('Shannon-Weiner_B'!B49:Z49) -> -0.8869714 | DM50: =SUM('p_B^2'!B49:Z49) -> 0.45237103 | DN50: =1-DM50 -> 0.54762897 | DO50: =1/DM50 -> 2.2105748
B51: FC7 | C51: 1 | D51: =Raw!D52/Raw!$C52 -> 0 | E51: =Raw!E52/Raw!$C52 -> 0 | F51: =Raw!F52/Raw!$C52 -> 286.11111 | G51: =Raw!G52/Raw!$C52 -> 295.55556 | H51: =Raw!H52/Raw!$C52 -> 0 | I51: =Raw!I52/Raw!$C52 -> 0 | J51: =Raw!J52/Raw!$C52 -> 0 | K51: =Raw!K52/Raw!$C52 -> 0 | ... CQ51: =Raw!CQ52/Raw!$C52 -> 0 | CR51: =D51+F51+H51+J51+L51+N51+P51+R51+T51+V51+X51+Z51+AB51+AD51+AF51+AH51+AJ51+AL51+AN51+AP51+AR51+AT51+AV51+AX51+AZ51+AZ51+BB51+BD51+BF51+BH51+BJ51+BL51+BN51+BP51+BR51+BT51+BV51+BX51+BZ51+CB51+CD51+CF51+CH51+CJ51+CL51+CN51+CP51 -> 366.66667 | CS51: =E51+G51+I51+K51+M51+O51+Q51+S51+U51+W51+Y51+AA51+AC51+AE51+AG51+AI51+AK51+AM51+AO51+AQ51+AS51+AU51+AW51+AY51+BA51+BA51+BC51+BE51+BG51+BI51+BK51+BM51+BO51+BQ51+BS51+BU51+BW51+BY51+CA51+CC51+CE51+CG51+CI51+CK51+CM51+CO51+CQ51 -> 334.02778 | CT51: =LOG10(CR51) -> 2.5642714 | CU51: =LOG10(CS51) -> 2.5237826 | CV51: =Raw!CR52/Raw!$C52 -> 1608.3333 | CW51: =Raw!CS52/Raw!$C52 -> 1004.4444 | CX51: =LOG10(CV51) -> 3.2063761 | CY51: =LOG10(CW51) -> 3.0019259 | CZ51: =LOG10(CR51+CV51) -> 3.2955671 | DA51: =LOG10(CS51+CW51) -> 3.1266094 | DB51: =0.590307*(4.87-0.33*CT51-CU51) -> 0.88546513 | DC51: 6 | DD51: =DC51/Raw!C52 -> 16.666667 | DE51: =DC51/CR51 -> 0.016363636 | DF51: =LOG(DE51) -> -1.7861202 | DH51: =-SUM('Shannon-Weiner'!B50:Z50) -> 0.56618049 | DI51: =SUM('p^2'!B50:Z50) -> 0.63676538 | DJ51: =1-DI51 -> 0.36323462 | DK51: =1/DI51 -> 1.5704371 | DL51: =SUM('Shannon-Weiner_B'!B50:Z50) -> -0.43460185 | DM51: =SUM('p_B^2'!B50:Z50) -> 0.78936864 | DN51: =1-DM51 -> 0.21063136 | DO51: =1/DM51 -> 1.2668352
B52: FC8 | C52: 1 | D52: =Raw!D53/Raw!$C53 -> 62.5 | E52: =Raw!E53/Raw!$C53 -> 2.125 | F52: =Raw!F53/Raw!$C53 -> 531.25 | G52: =Raw!G53/Raw!$C53 -> 3.5625 | H52: =Raw!H53/Raw!$C53 -> 0 | I52: =Raw!I53/Raw!$C53 -> 0 | J52: =Raw!J53/Raw!$C53 -> 0 | K52: =Raw!K53/Raw!$C53 -> 0 | ... CQ52: =Raw!CQ53/Raw!$C53 -> 0 | CR52: =D52+F52+H52+J52+L52+N52+P52+R52+T52+V52+X52+Z52+AB52+AD52+AF52+AH52+AJ52+AL52+AN52+AP52+AR52+AT52+AV52+AX52+AZ52+AZ52+BB52+BD52+BF52+BH52+BJ52+BL52+BN52+BP52+BR52+BT52+BV52+BX52+BZ52+CB52+CD52+CF52+CH52+CJ52+CL52+CN52+CP52 -> 662.5 | CS52: =E52+G52+I52+K52+M52+O52+Q52+S52+U52+W52+Y52+AA52+AC52+AE52+AG52+AI52+AK52+AM52+AO52+AQ52+AS52+AU52+AW52+AY52+BA52+BA52+BC52+BE52+BG52+BI52+BK52+BM52+BO52+BQ52+BS52+BU52+BW52+BY52+CA52+CC52+CE52+CG52+CI52+CK52+CM52+CO52+CQ52 -> 841.3125 | CT52: =LOG10(CR52) -> 2.8211859 | CU52: =LOG10(CS52) -> 2.9249573 | CV52: =Raw!CR53/Raw!$C53 -> 3618.75 | CW52: =Raw!CS53/Raw!$C53 -> 2260 | CX52: =LOG10(CV52) -> 3.5585586 | CY52: =LOG10(CW52) -> 3.3541084 | CZ52: =LOG10(CR52+CV52) -> 3.6315706 | DA52: =LOG10(CS52+CW52) -> 3.4915455 | DB52: =0.590307*(4.87-0.33*CT52-CU52) -> 0.59860159 | DC52: 5 | DD52: =DC52/Raw!C53 -> 31.25 | DE52: =DC52/CR52 -> 0.0075471698 | DF52: =LOG(DE52) -> -2.1222159 | DH52: =-SUM('Shannon-Weiner'!B51:Z51) -> 0.44376363 | DI52: =SUM('p^2'!B51:Z51) -> 0.65201139 | DJ52: =1-DI52 -> 0.34798861 | DK52: =1/DI52 -> 1.5337155 | DL52: =SUM('Shannon-Weiner_B'!B51:Z51) -> -0.38622326 | DM52: =SUM('p_B^2'!B51:Z51) -> 0.24540283 | DN52: =1-DM52 -> 0.75459717 | DO52: =1/DM52 -> 4.0749327
A53: 44201 | B53: =Raw!B54 -> TA1 | C53: 1 | D53: =Raw!D54/Raw!$C54 -> 3437.5 | E53: =Raw!E54/Raw!$C54 -> 200.875 | F53: =Raw!F54/Raw!$C54 -> 0 | G53: =Raw!G54/Raw!$C54 -> 0 | H53: =Raw!H54/Raw!$C54 -> 0 | I53: =Raw!I54/Raw!$C54 -> 0 | J53: =Raw!J54/Raw!$C54 -> 0 | K53: =Raw!K54/Raw!$C54 -> 0 | ... CQ53: =Raw!CQ54/Raw!$C54 -> 0 | CR53: =D53+F53+H53+J53+L53+N53+P53+R53+T53+V53+X53+Z53+AB53+AD53+AF53+AH53+AJ53+AL53+AN53+AP53+AR53+AT53+AV53+AX53+AZ53+AZ53+BB53+BD53+BF53+BH53+BJ53+BL53+BN53+BP53+BR53+BT53+BV53+BX53+BZ53+CB53+CD53+CF53+CH53+CJ53+CL53+CN53+CP53 -> 3768.75 | CS53: =E53+G53+I53+K53+M53+O53+Q53+S53+U53+W53+Y53+AA53+AC53+AE53+AG53+AI53+AK53+AM53+AO53+AQ53+AS53+AU53+AW53+AY53+BA53+BA53+BC53+BE53+BG53+BI53+BK53+BM53+BO53+BQ53+BS53+BU53+BW53+BY53+CA53+CC53+CE53+CG53+CI53+CK53+CM53+CO53+CQ53 -> 285.1875 | CT53: =LOG10(CR53) -> 3.5761973 | CU53: =LOG10(CS53) -> 2.4551305 | CZ53: =LOG10(CR53+CV53) -> 3.5761973 | DA53: =LOG10(CS53+CW53) -> 2.4551305 | DB53: =0.590307*(4.87-0.33*CT53-CU53) -> 0.72886645 | DC53: 4 | DD53: =DC53/Raw!C54 -> 25 | DE53: =DC53/CR53 -> 0.0010613599 | DF53: =LOG(DE53) -> -2.9741373 | DH53: =-SUM('Shannon-Weiner'!B52:Z52) -> 0.36506314 | DI53: =SUM('p^2'!B52:Z52) -> 0.83570814 | DJ53: =1-DI53 -> 0.16429186 | DK53: =1/DI53 -> 1.19659 | DL53: =SUM('Shannon-Weiner_B'!B52:Z52) -> -0.82746602 | DM53: =SUM('p_B^2'!B52:Z52) -> 0.54270591 | DN53: =1-DM53 -> 0.45729409 | DO53: =1/DM53 -> 1.8426186
B54: =Raw!B55 -> TA2 | C54: 1 | D54: =Raw!D55/Raw!$C55 -> 3537.5 | E54: =Raw!E55/Raw!$C55 -> 202.125 | F54: =Raw!F55/Raw!$C55 -> 0 | G54: =Raw!G55/Raw!$C55 -> 0 | H54: =Raw!H55/Raw!$C55 -> 0 | I54: =Raw!I55/Raw!$C55 -> 0 | J54: =Raw!J55/Raw!$C55 -> 0 | K54: =Raw!K55/Raw!$C55 -> 0 | ... CQ54: =Raw!CQ55/Raw!$C55 -> 0 | CR54: =D54+F54+H54+J54+L54+N54+P54+R54+T54+V54+X54+Z54+AB54+AD54+AF54+AH54+AJ54+AL54+AN54+AP54+AR54+AT54+AV54+AX54+AZ54+AZ54+BB54+BD54+BF54+BH54+BJ54+BL54+BN54+BP54+BR54+BT54+BV54+BX54+BZ54+CB54+CD54+CF54+CH54+CJ54+CL54+CN54+CP54 -> 3656.25 | CS54: =E54+G54+I54+K54+M54+O54+Q54+S54+U54+W54+Y54+AA54+AC54+AE54+AG54+AI54+AK54+AM54+AO54+AQ54+AS54+AU54+AW54+AY54+BA54+BA54+BC54+BE54+BG54+BI54+BK54+BM54+BO54+BQ54+BS54+BU54+BW54+BY54+CA54+CC54+CE54+CG54+CI54+CK54+CM54+CO54+CQ54 -> 223.6875 | CT54: =LOG10(CR54) -> 3.5630359 | CU54: =LOG10(CS54) -> 2.3496417 | CZ54: =LOG10(CR54+CV54) -> 3.5630359 | DA54: =LOG10(CS54+CW54) -> 2.3496417 | DB54: =0.590307*(4.87-0.33*CT54-CU54) -> 0.79370108 | DC54: 3 | DD54: =DC54/Raw!C55 -> 18.75 | DE54: =DC54/CR54 -> 0.00082051282 | DF54: =LOG(DE54) -> -3.0859146 | DH54: =-SUM('Shannon-Weiner'!B53:Z53) -> 0.15418421 | DI54: =SUM('p^2'!B53:Z53) -> 0.93695376 | DJ54: =1-DI54 -> 0.063046242 | DK54: =1/DI54 -> 1.0672885 | DL54: =SUM('Shannon-Weiner_B'!B53:Z53) -> -0.35388235 | DM54: =SUM('p_B^2'!B53:Z53) -> 0.82372507 | DN54: =1-DM54 -> 0.17627493 | DO54: =1/DM54 -> 1.2139973
B55: TA4 | C55: 1 | D55: =Raw!D56/Raw!$C56 -> 11.111111 | E55: =Raw!E56/Raw!$C56 -> 0.27777778 | F55: =Raw!F56/Raw!$C56 -> 0 | G55: =Raw!G56/Raw!$C56 -> 0 | H55: =Raw!H56/Raw!$C56 -> 0 | I55: =Raw!I56/Raw!$C56 -> 0 | J55: =Raw!J56/Raw!$C56 -> 0 | K55: =Raw!K56/Raw!$C56 -> 0 | ... CQ55: =Raw!CQ56/Raw!$C56 -> 0 | CR55: =D55+F55+H55+J55+L55+N55+P55+R55+T55+V55+X55+Z55+AB55+AD55+AF55+AH55+AJ55+AL55+AN55+AP55+AR55+AT55+AV55+AX55+AZ55+AZ55+BB55+BD55+BF55+BH55+BJ55+BL55+BN55+BP55+BR55+BT55+BV55+BX55+BZ55+CB55+CD55+CF55+CH55+CJ55+CL55+CN55+CP55 -> 505.55556 | CS55: =E55+G55+I55+K55+M55+O55+Q55+S55+U55+W55+Y55+AA55+AC55+AE55+AG55+AI55+AK55+AM55+AO55+AQ55+AS55+AU55+AW55+AY55+BA55+BA55+BC55+BE55+BG55+BI55+BK55+BM55+BO55+BQ55+BS55+BU55+BW55+BY55+CA55+CC55+CE55+CG55+CI55+CK55+CM55+CO55+CQ55 -> 497.63889 | CT55: =LOG10(CR55) -> 2.7037689 | CU55: =LOG10(CS55) -> 2.6969143 | CZ55: =LOG10(CR55+CV55) -> 2.7037689 | DA55: =LOG10(CS55+CW55) -> 2.6969143 | DB55: =0.590307*(4.87-0.33*CT55-CU55) -> 0.75608997 | DC55: 5 | DD55: =DC55/Raw!C56 -> 13.888889 | DE55: =DC55/CR55 -> 0.0098901099 | DF55: =LOG(DE55) -> -2.0047989 | DH55: =-SUM('Shannon-Weiner'!B54:Z54) -> 0.73186989 | DI55: =SUM('p^2'!B57:Z57) -> 0.4742001 | DJ55: =1-DI55 -> 0.5257999 | DK55: =1/DI55 -> 2.1088144 | DL55: =SUM('Shannon-Weiner_B'!B57:Z57) -> -1.0289018 | DM55: =SUM('p_B^2'!B57:Z57) -> 0.42003465 | DN55: =1-DM55 -> 0.57996535 | DO55: =1/DM55 -> 2.380756
B56: TA5 | C56: 1 | D56: =Raw!D57/Raw!$C57 -> 105.55556 | E56: =Raw!E57/Raw!$C57 -> 1.3333333 | F56: =Raw!F57/Raw!$C57 -> 0 | G56: =Raw!G57/Raw!$C57 -> 0 | H56: =Raw!H57/Raw!$C57 -> 0 | I56: =Raw!I57/Raw!$C57 -> 0 | J56: =Raw!J57/Raw!$C57 -> 0 | K56: =Raw!K57/Raw!$C57 -> 0 | ... CQ56: =Raw!CQ57/Raw!$C57 -> 0 | CR56: =D56+F56+H56+J56+L56+N56+P56+R56+T56+V56+X56+Z56+AB56+AD56+AF56+AH56+AJ56+AL56+AN56+AP56+AR56+AT56+AV56+AX56+AZ56+AZ56+BB56+BD56+BF56+BH56+BJ56+BL56+BN56+BP56+BR56+BT56+BV56+BX56+BZ56+CB56+CD56+CF56+CH56+CJ56+CL56+CN56+CP56 -> 413.88889 | CS56: =E56+G56+I56+K56+M56+O56+Q56+S56+U56+W56+Y56+AA56+AC56+AE56+AG56+AI56+AK56+AM56+AO56+AQ56+AS56+AU56+AW56+AY56+BA56+BA56+BC56+BE56+BG56+BI56+BK56+BM56+BO56+BQ56+BS56+BU56+BW56+BY56+CA56+CC56+CE56+CG56+CI56+CK56+CM56+CO56+CQ56 -> 15.277778 | CT56: =LOG10(CR56) -> 2.6168838 | CU56: =LOG10(CS56) -> 1.1840602 | CZ56: =LOG10(CR56+CV56) -> 2.6168838 | DA56: =LOG10(CS56+CW56) -> 1.1840602 | DB56: =0.590307*(4.87-0.33*CT56-CU56) -> 1.6660637 | DC56: 5 | DD56: =DC56/Raw!C57 -> 13.888889 | DE56: =DC56/CR56 -> 0.012080537 | DF56: =LOG(DE56) -> -1.9179138 | DH56: =-SUM('Shannon-Weiner'!B55:Z55) -> 0.71128017 | DI56: =SUM('p^2'!B58:Z58) -> 0.40260427 | DJ56: =1-DI56 -> 0.59739573 | DK56: =1/DI56 -> 2.4838286 | DL56: =SUM('Shannon-Weiner_B'!B58:Z58) -> -1.0868696 | DM56: =SUM('p_B^2'!B58:Z58) -> 0.39324756 | DN56: =1-DM56 -> 0.60675244 | DO56: =1/DM56 -> 2.5429274
B57: TA6 | C57: 1 | D57: =Raw!D58/Raw!$C58 -> 102.77778 | E57: =Raw!E58/Raw!$C58 -> 10.722222 | F57: =Raw!F58/Raw!$C58 -> 0 | G57: =Raw!G58/Raw!$C58 -> 0 | H57: =Raw!H58/Raw!$C58 -> 0 | I57: =Raw!I58/Raw!$C58 -> 0 | J57: =Raw!J58/Raw!$C58 -> 0 | K57: =Raw!K58/Raw!$C58 -> 0 | ... CQ57: =Raw!CQ58/Raw!$C58 -> 0 | CR57: =D57+F57+H57+J57+L57+N57+P57+R57+T57+V57+X57+Z57+AB57+AD57+AF57+AH57+AJ57+AL57+AN57+AP57+AR57+AT57+AV57+AX57+AZ57+AZ57+BB57+BD57+BF57+BH57+BJ57+BL57+BN57+BP57+BR57+BT57+BV57+BX57+BZ57+CB57+CD57+CF57+CH57+CJ57+CL57+CN57+CP57 -> 494.44444 | CS57: =E57+G57+I57+K57+M57+O57+Q57+S57+U57+W57+Y57+AA57+AC57+AE57+AG57+AI57+AK57+AM57+AO57+AQ57+AS57+AU57+AW57+AY57+BA57+BA57+BC57+BE57+BG57+BI57+BK57+BM57+BO57+BQ57+BS57+BU57+BW57+BY57+CA57+CC57+CE57+CG57+CI57+CK57+CM57+CO57+CQ57 -> 74.138889 | CT57: =LOG10(CR57) -> 2.6941175 | CU57: =LOG10(CS57) -> 1.8700461 | CZ57: =LOG10(CR57+CV57) -> 2.6941175 | DA57: =LOG10(CS57+CW57) -> 1.8700461 | DB57: =0.590307*(4.87-0.33*CT57-CU57) -> 1.2460762 | DC57: 4 | DD57: =DC57/Raw!C58 -> 11.111111 | DE57: =DC57/CR57 -> 0.0080898876 | DF57: =LOG(DE57) -> -2.0920575 | DH57: =-SUM('Shannon-Weiner'!B56:Z56) -> 0.77958905 | DI57: =SUM('p^2'!B59:Z59) -> 0.58436148 | DJ57: =1-DI57 -> 0.41563852 | DK57: =1/DI57 -> 1.7112695 | DL57: =SUM('Shannon-Weiner_B'!B59:Z59) -> -1.289733 | DM57: =SUM('p_B^2'!B59:Z59) -> 0.29348285 | DN57: =1-DM57 -> 0.70651715 | DO57: =1/DM57 -> 3.4073541
B58: =Raw!B59 -> TB1 | C58: 1 | D58: =Raw!D59/Raw!$C59 -> 831.25 | E58: =Raw!E59/Raw!$C59 -> 122.25 | F58: =Raw!F59/Raw!$C59 -> 0 | G58: =Raw!G59/Raw!$C59 -> 0 | H58: =Raw!H59/Raw!$C59 -> 0 | I58: =Raw!I59/Raw!$C59 -> 0 | J58: =Raw!J59/Raw!$C59 -> 0 | K58: =Raw!K59/Raw!$C59 -> 0 | ... CQ58: =Raw!CQ59/Raw!$C59 -> 0 | CR58: =D58+F58+H58+J58+L58+N58+P58+R58+T58+V58+X58+Z58+AB58+AD58+AF58+AH58+AJ58+AL58+AN58+AP58+AR58+AT58+AV58+AX58+AZ58+AZ58+BB58+BD58+BF58+BH58+BJ58+BL58+BN58+BP58+BR58+BT58+BV58+BX58+BZ58+CB58+CD58+CF58+CH58+CJ58+CL58+CN58+CP58 -> 1293.75 | CS58: =E58+G58+I58+K58+M58+O58+Q58+S58+U58+W58+Y58+AA58+AC58+AE58+AG58+AI58+AK58+AM58+AO58+AQ58+AS58+AU58+AW58+AY58+BA58+BA58+BC58+BE58+BG58+BI58+BK58+BM58+BO58+BQ58+BS58+BU58+BW58+BY58+CA58+CC58+CE58+CG58+CI58+CK58+CM58+CO58+CQ58 -> 330 | CT58: =LOG10(CR58) -> 3.1118504 | CU58: =LOG10(CS58) -> 2.5185139 | CZ58: =LOG10(CR58+CV58) -> 3.1118504 | DA58: =LOG10(CS58+CW58) -> 2.5185139 | DB58: =0.590307*(4.87-0.33*CT58-CU58) -> 0.78190615 | DC58: 5 | DD58: =DC58/Raw!C59 -> 31.25 | DE58: =DC58/CR58 -> 0.0038647343 | DF58: =LOG(DE58) -> -2.4128804 | DH58: =-SUM('Shannon-Weiner'!B57:Z57) -> 0.9854691 | DI58: =SUM('p^2'!B57:Z57) -> 0.4742001 | DJ58: =1-DI58 -> 0.5257999 | DK58: =1/DI58 -> 2.1088144 | DL58: =SUM('Shannon-Weiner_B'!B57:Z57) -> -1.0289018 | DM58: =SUM('p_B^2'!B57:Z57) -> 0.42003465 | DN58: =1-DM58 -> 0.57996535 | DO58: =1/DM58 -> 2.380756
B59: =Raw!B60 -> TB2 | C59: 1 | D59: =Raw!D60/Raw!$C60 -> 431.25 | E59: =Raw!E60/Raw!$C60 -> 159.625 | F59: =Raw!F60/Raw!$C60 -> 0 | G59: =Raw!G60/Raw!$C60 -> 0 | H59: =Raw!H60/Raw!$C60 -> 0 | I59: =Raw!I60/Raw!$C60 -> 0 | J59: =Raw!J60/Raw!$C60 -> 0 | K59: =Raw!K60/Raw!$C60 -> 0 | ... CQ59: =Raw!CQ60/Raw!$C60 -> 0 | CR59: =D59+F59+H59+J59+L59+N59+P59+R59+T59+V59+X59+Z59+AB59+AD59+AF59+AH59+AJ59+AL59+AN59+AP59+AR59+AT59+AV59+AX59+AZ59+AZ59+BB59+BD59+BF59+BH59+BJ59+BL59+BN59+BP59+BR59+BT59+BV59+BX59+BZ59+CB59+CD59+CF59+CH59+CJ59+CL59+CN59+CP59 -> 768.75 | CS59: =E59+G59+I59+K59+M59+O59+Q59+S59+U59+W59+Y59+AA59+AC59+AE59+AG59+AI59+AK59+AM59+AO59+AQ59+AS59+AU59+AW59+AY59+BA59+BA59+BC59+BE59+BG59+BI59+BK59+BM59+BO59+BQ59+BS59+BU59+BW59+BY59+CA59+CC59+CE59+CG59+CI59+CK59+CM59+CO59+CQ59 -> 606.75 | CT59: =LOG10(CR59) -> 2.8857851 | CU59: =LOG10(CS59) -> 2.7830098 | CZ59: =LOG10(CR59+CV59) -> 2.8857851 | DA59: =LOG10(CS59+CW59) -> 2.7830098 | DB59: =0.590307*(4.87-0.33*CT59-CU59) -> 0.66981021 | DC59: 5 | DD59: =DC59/Raw!C60 -> 31.25 | DE59: =DC59/CR59 -> 0.006504065 | DF59: =LOG(DE59) -> -2.1868151 | DH59: =-SUM('Shannon-Weiner'!B58:Z58) -> 1.0986339 | DI59: =SUM('p^2'!B58:Z58) -> 0.40260427 | DJ59: =1-DI59 -> 0.59739573 | DK59: =1/DI59 -> 2.4838286 | DL59: =SUM('Shannon-Weiner_B'!B58:Z58) -> -1.0868696 | DM59: =SUM('p_B^2'!B58:Z58) -> 0.39324756 | DN59: =1-DM59 -> 0.60675244 | DO59: =1/DM59 -> 2.5429274
B60: =Raw!B61 -> TB3 | C60: 1 | D60: =Raw!D61/Raw!$C61 -> 368.75 | E60: =Raw!E61/Raw!$C61 -> 79.8125 | F60: =Raw!F61/Raw!$C61 -> 0 | G60: =Raw!G61/Raw!$C61 -> 0 | H60: =Raw!H61/Raw!$C61 -> 0 | I60: =Raw!I61/Raw!$C61 -> 0 | J60: =Raw!J61/Raw!$C61 -> 0 | K60: =Raw!K61/Raw!$C61 -> 0 | ... CQ60: =Raw!CQ61/Raw!$C61 -> 0 | CR60: =D60+F60+H60+J60+L60+N60+P60+R60+T60+V60+X60+Z60+AB60+AD60+AF60+AH60+AJ60+AL60+AN60+AP60+AR60+AT60+AV60+AX60+AZ60+AZ60+BB60+BD60+BF60+BH60+BJ60+BL60+BN60+BP60+BR60+BT60+BV60+BX60+BZ60+CB60+CD60+CF60+CH60+CJ60+CL60+CN60+CP60 -> 493.75 | CS60: =E60+G60+I60+K60+M60+O60+Q60+S60+U60+W60+Y60+AA60+AC60+AE60+AG60+AI60+AK60+AM60+AO60+AQ60+AS60+AU60+AW60+AY60+BA60+BA60+BC60+BE60+BG60+BI60+BK60+BM60+BO60+BQ60+BS60+BU60+BW60+BY60+CA60+CC60+CE60+CG60+CI60+CK60+CM60+CO60+CQ60 -> 261.375 | CT60: =LOG10(CR60) -> 2.6935071 | CU60: =LOG10(CS60) -> 2.417264 | CZ60: =LOG10(CR60+CV60) -> 2.6935071 | DA60: =LOG10(CS60+CW60) -> 2.417264 | DB60: =0.590307*(4.87-0.33*CT60-CU60) -> 0.92316849 | DC60: 5 | DD60: =DC60/Raw!C61 -> 31.25 | DE60: =DC60/CR60 -> 0.010126582 | DF60: =LOG(DE60) -> -1.9945371 | DH60: =-SUM('Shannon-Weiner'!B59:Z59) -> 0.82215554 | DI60: =SUM('p^2'!B59:Z59) -> 0.58436148 | DJ60: =1-DI60 -> 0.41563852 | DK60: =1/DI60 -> 1.7112695 | DL60: =SUM('Shannon-Weiner_B'!B59:Z59) -> -1.289733 | DM60: =SUM('p_B^2'!B59:Z59) -> 0.29348285 | DN60: =1-DM60 -> 0.70651715 | DO60: =1/DM60 -> 3.4073541
B61: =Raw!B62 -> TB4 | C61: 1 | D61: =Raw!D62/Raw!$C62 -> 818.75 | E61: =Raw!E62/Raw!$C62 -> 155.5625 | F61: =Raw!F62/Raw!$C62 -> 0 | G61: =Raw!G62/Raw!$C62 -> 0 | H61: =Raw!H62/Raw!$C62 -> 0 | I61: =Raw!I62/Raw!$C62 -> 0 | J61: =Raw!J62/Raw!$C62 -> 0 | K61: =Raw!K62/Raw!$C62 -> 0 | ... CQ61: =Raw!CQ62/Raw!$C62 -> 0 | CR61: =D61+F61+H61+J61+L61+N61+P61+R61+T61+V61+X61+Z61+AB61+AD61+AF61+AH61+AJ61+AL61+AN61+AP61+AR61+AT61+AV61+AX61+AZ61+AZ61+BB61+BD61+BF61+BH61+BJ61+BL61+BN61+BP61+BR61+BT61+BV61+BX61+BZ61+CB61+CD61+CF61+CH61+CJ61+CL61+CN61+CP61 -> 831.25 | CS61: =E61+G61+I61+K61+M61+O61+Q61+S61+U61+W61+Y61+AA61+AC61+AE61+AG61+AI61+AK61+AM61+AO61+AQ61+AS61+AU61+AW61+AY61+BA61+BA61+BC61+BE61+BG61+BI61+BK61+BM61+BO61+BQ61+BS61+BU61+BW61+BY61+CA61+CC61+CE61+CG61+CI61+CK61+CM61+CO61+CQ61 -> 156 | CT61: =LOG10(CR61) -> 2.9197317 | CU61: =LOG10(CS61) -> 2.1931246 | CZ61: =LOG10(CR61+CV61) -> 2.9197317 | DA61: =LOG10(CS61+CW61) -> 2.1931246 | DB61: =0.590307*(4.87-0.33*CT61-CU61) -> 1.0114107 | DC61: 2 | DD61: =DC61/Raw!C62 -> 12.5 | DE61: =DC61/CR61 -> 0.002406015 | DF61: =LOG(DE61) -> -2.6187017 | DH61: =-SUM('Shannon-Weiner'!B60:Z60) -> 0.078039777 | DI61: =SUM('p^2'!B60:Z60) -> 0.97037707 | DJ61: =1-DI61 -> 0.02962293 | DK61: =1/DI61 -> 1.0305272 | DL61: =SUM('Shannon-Weiner_B'!B60:Z60) -> -0.019281217 | DM61: =SUM('p_B^2'!B60:Z60) -> 0.99440676 | DN61: =1-DM61 -> 0.0055932441 | DO61: =1/DM61 -> 1.0056247
B62: =Raw!B63 -> TB5 | C62: 1 | D62: =Raw!D63/Raw!$C63 -> 1181.25 | E62: =Raw!E63/Raw!$C63 -> 199 | F62: =Raw!F63/Raw!$C63 -> 0 | G62: =Raw!G63/Raw!$C63 -> 0 | H62: =Raw!H63/Raw!$C63 -> 0 | I62: =Raw!I63/Raw!$C63 -> 0 | J62: =Raw!J63/Raw!$C63 -> 0 | K62: =Raw!K63/Raw!$C63 -> 0 | ... CQ62: =Raw!CQ63/Raw!$C63 -> 0 | CR62: =D62+F62+H62+J62+L62+N62+P62+R62+T62+V62+X62+Z62+AB62+AD62+AF62+AH62+AJ62+AL62+AN62+AP62+AR62+AT62+AV62+AX62+AZ62+AZ62+BB62+BD62+BF62+BH62+BJ62+BL62+BN62+BP62+BR62+BT62+BV62+BX62+BZ62+CB62+CD62+CF62+CH62+CJ62+CL62+CN62+CP62 -> 1187.5 | CS62: =E62+G62+I62+K62+M62+O62+Q62+S62+U62+W62+Y62+AA62+AC62+AE62+AG62+AI62+AK62+AM62+AO62+AQ62+AS62+AU62+AW62+AY62+BA62+BA62+BC62+BE62+BG62+BI62+BK62+BM62+BO62+BQ62+BS62+BU62+BW62+BY62+CA62+CC62+CE62+CG62+CI62+CK62+CM62+CO62+CQ62 -> 201.75 | CT62: =LOG10(CR62) -> 3.0746336 | CU62: =LOG10(CS62) -> 2.3048135 | CZ62: =LOG10(CR62+CV62) -> 3.0746336 | DA62: =LOG10(CS62+CW62) -> 2.3048135 | DB62: =0.590307*(4.87-0.33*CT62-CU62) -> 0.91530487 | DC62: 2 | DD62: =DC62/Raw!C63 -> 12.5 | DE62: =DC62/CR62 -> 0.0016842105 | DF62: =LOG(DE62) -> -2.7736036 | DH62: =-SUM('Shannon-Weiner'!B61:Z61) -> 0.032865199 | DI62: =SUM('p^2'!B61:Z61) -> 0.98952909 | DJ62: =1-DI62 -> 0.010470914 | DK62: =1/DI62 -> 1.0105817 | DL62: =SUM('Shannon-Weiner_B'!B61:Z61) -> -0.072087237 | DM62: =SUM('p_B^2'!B61:Z61) -> 0.97311013 | DN62: =1-DM62 -> 0.026889869 | DO62: =1/DM62 -> 1.0276329
B63: =Raw!B64 -> TB6 | C63: 1 | D63: =Raw!D64/Raw!$C64 -> 1862.5 | E63: =Raw!E64/Raw!$C64 -> 244 | F63: =Raw!F64/Raw!$C64 -> 0 | G63: =Raw!G64/Raw!$C64 -> 0 | H63: =Raw!H64/Raw!$C64 -> 0 | I63: =Raw!I64/Raw!$C64 -> 0 | J63: =Raw!J64/Raw!$C64 -> 0 | K63: =Raw!K64/Raw!$C64 -> 0 | ... CQ63: =Raw!CQ64/Raw!$C64 -> 0 | CR63: =D63+F63+H63+J63+L63+N63+P63+R63+T63+V63+X63+Z63+AB63+AD63+AF63+AH63+AJ63+AL63+AN63+AP63+AR63+AT63+AV63+AX63+AZ63+AZ63+BB63+BD63+BF63+BH63+BJ63+BL63+BN63+BP63+BR63+BT63+BV63+BX63+BZ63+CB63+CD63+CF63+CH63+CJ63+CL63+CN63+CP63 -> 1968.75 | CS63: =E63+G63+I63+K63+M63+O63+Q63+S63+U63+W63+Y63+AA63+AC63+AE63+AG63+AI63+AK63+AM63+AO63+AQ63+AS63+AU63+AW63+AY63+BA63+BA63+BC63+BE63+BG63+BI63+BK63+BM63+BO63+BQ63+BS63+BU63+BW63+BY63+CA63+CC63+CE63+CG63+CI63+CK63+CM63+CO63+CQ63 -> 292.0625 | CT63: =LOG10(CR63) -> 3.2941906 | CU63: =LOG10(CS63) -> 2.4654758 | CZ63: =LOG10(CR63+CV63) -> 3.2941906 | DA63: =LOG10(CS63+CW63) -> 2.4654758 | DB63: =0.590307*(4.87-0.33*CT63-CU63) -> 0.77769483 | DC63: 3 | DD63: =DC63/Raw!C64 -> 18.75 | DE63: =DC63/CR63 -> 0.0015238095 | DF63: =LOG(DE63) -> -2.8170693 | DH63: =-SUM('Shannon-Weiner'!B62:Z62) -> 0.22958563 | DI63: =SUM('p^2'!B62:Z62) -> 0.89728395 | DJ63: =1-DI63 -> 0.10271605 | DK63: =1/DI63 -> 1.1144744 | DL63: =SUM('Shannon-Weiner_B'!B62:Z62) -> -0.558825 | DM63: =SUM('p_B^2'!B62:Z62) -> 0.71188934 | DN63: =1-DM63 -> 0.28811066 | DO63: =1/DM63 -> 1.4047127
B64: =Raw!B65 -> TB7 | C64: 1 | D64: =Raw!D65/Raw!$C65 -> 1568.75 | E64: =Raw!E65/Raw!$C65 -> 228.5 | F64: =Raw!F65/Raw!$C65 -> 0 | G64: =Raw!G65/Raw!$C65 -> 0 | H64: =Raw!H65/Raw!$C65 -> 0 | I64: =Raw!I65/Raw!$C65 -> 0 | J64: =Raw!J65/Raw!$C65 -> 0 | K64: =Raw!K65/Raw!$C65 -> 0 | ... CQ64: =Raw!CQ65/Raw!$C65 -> 0 | CR64: =D64+F64+H64+J64+L64+N64+P64+R64+T64+V64+X64+Z64+AB64+AD64+AF64+AH64+AJ64+AL64+AN64+AP64+AR64+AT64+AV64+AX64+AZ64+AZ64+BB64+BD64+BF64+BH64+BJ64+BL64+BN64+BP64+BR64+BT64+BV64+BX64+BZ64+CB64+CD64+CF64+CH64+CJ64+CL64+CN64+CP64 -> 1625 | CS64: =E64+G64+I64+K64+M64+O64+Q64+S64+U64+W64+Y64+AA64+AC64+AE64+AG64+AI64+AK64+AM64+AO64+AQ64+AS64+AU64+AW64+AY64+BA64+BA64+BC64+BE64+BG64+BI64+BK64+BM64+BO64+BQ64+BS64+BU64+BW64+BY64+CA64+CC64+CE64+CG64+CI64+CK64+CM64+CO64+CQ64 -> 292.6875 | CT64: =LOG10(CR64) -> 3.2108534 | CU64: =LOG10(CS64) -> 2.4664042 | CZ64: =LOG10(CR64+CV64) -> 3.2108534 | DA64: =LOG10(CS64+CW64) -> 2.4664042 | DB64: =0.590307*(4.87-0.33*CT64-CU64) -> 0.793381 | DC64: 4 | DD64: =DC64/Raw!C65 -> 25 | DE64: =DC64/CR64 -> 0.0024615385 | DF64: =LOG(DE64) -> -2.6087934 | DH64: =-SUM('Shannon-Weiner'!B63:Z63) -> 0.17981417 | DI64: =SUM('p^2'!B63:Z63) -> 0.93257396 | DJ64: =1-DI64 -> 0.067426036 | DK64: =1/DI64 -> 1.072301 | DL64: =SUM('Shannon-Weiner_B'!B63:Z63) -> -0.65162468 | DM64: =SUM('p_B^2'!B63:Z63) -> 0.63987306 | DN64: =1-DM64 -> 0.36012694 | DO64: =1/DM64 -> 1.56281
B65: =Raw!B66 -> TB8 | C65: 1 | D65: =Raw!D66/Raw!$C66 -> 993.75 | E65: =Raw!E66/Raw!$C66 -> 179.625 | F65: =Raw!F66/Raw!$C66 -> 0 | G65: =Raw!G66/Raw!$C66 -> 0 | H65: =Raw!H66/Raw!$C66 -> 0 | I65: =Raw!I66/Raw!$C66 -> 0 | J65: =Raw!J66/Raw!$C66 -> 0 | K65: =Raw!K66/Raw!$C66 -> 0 | ... CQ65: =Raw!CQ66/Raw!$C66 -> 0 | CR65: =D65+F65+H65+J65+L65+N65+P65+R65+T65+V65+X65+Z65+AB65+AD65+AF65+AH65+AJ65+AL65+AN65+AP65+AR65+AT65+AV65+AX65+AZ65+AZ65+BB65+BD65+BF65+BH65+BJ65+BL65+BN65+BP65+BR65+BT65+BV65+BX65+BZ65+CB65+CD65+CF65+CH65+CJ65+CL65+CN65+CP65 -> 1025 | CS65: =E65+G65+I65+K65+M65+O65+Q65+S65+U65+W65+Y65+AA65+AC65+AE65+AG65+AI65+AK65+AM65+AO65+AQ65+AS65+AU65+AW65+AY65+BA65+BA65+BC65+BE65+BG65+BI65+BK65+BM65+BO65+BQ65+BS65+BU65+BW65+BY65+CA65+CC65+CE65+CG65+CI65+CK65+CM65+CO65+CQ65 -> 439.75 | CT65: =LOG10(CR65) -> 3.0107239 | CU65: =LOG10(CS65) -> 2.6432058 | CZ65: =LOG10(CR65+CV65) -> 3.0107239 | DA65: =LOG10(CS65+CW65) -> 2.6432058 | DB65: =0.590307*(4.87-0.33*CT65-CU65) -> 0.72799922 | DC65: 2 | DD65: =DC65/Raw!C66 -> 12.5 | DE65: =DC65/CR65 -> 0.0019512195 | DF65: =LOG(DE65) -> -2.7096939 | DH65: =-SUM('Shannon-Weiner'!B64:Z64) -> 0.13643376 | DI65: =SUM('p^2'!B64:Z64) -> 0.9408834 | DJ65: =1-DI65 -> 0.059116597 | DK65: =1/DI65 -> 1.0628309 | DL65: =SUM('Shannon-Weiner_B'!B64:Z64) -> -0.67629711 | DM65: =SUM('p_B^2'!B64:Z64) -> 0.51675522 | DN65: =1-DM65 -> 0.48324478 | DO65: =1/DM65 -> 1.9351522
B66: =Raw!B67 -> TB9 | C66: 1 | D66: =Raw!D67/Raw!$C67 -> 837.5 | E66: =Raw!E67/Raw!$C67 -> 143.125 | F66: =Raw!F67/Raw!$C67 -> 0 | G66: =Raw!G67/Raw!$C67 -> 0 | H66: =Raw!H67/Raw!$C67 -> 0 | I66: =Raw!I67/Raw!$C67 -> 0 | J66: =Raw!J67/Raw!$C67 -> 0 | K66: =Raw!K67/Raw!$C67 -> 0 | ... CQ66: =Raw!CQ67/Raw!$C67 -> 0 | CR66: =D66+F66+H66+J66+L66+N66+P66+R66+T66+V66+X66+Z66+AB66+AD66+AF66+AH66+AJ66+AL66+AN66+AP66+AR66+AT66+AV66+AX66+AZ66+AZ66+BB66+BD66+BF66+BH66+BJ66+BL66+BN66+BP66+BR66+BT66+BV66+BX66+BZ66+CB66+CD66+CF66+CH66+CJ66+CL66+CN66+CP66 -> 843.75 | CS66: =E66+G66+I66+K66+M66+O66+Q66+S66+U66+W66+Y66+AA66+AC66+AE66+AG66+AI66+AK66+AM66+AO66+AQ66+AS66+AU66+AW66+AY66+BA66+BA66+BC66+BE66+BG66+BI66+BK66+BM66+BO66+BQ66+BS66+BU66+BW66+BY66+CA66+CC66+CE66+CG66+CI66+CK66+CM66+CO66+CQ66 -> 160.6875 | CT66: =LOG10(CR66) -> 2.9262138 | CU66: =LOG10(CS66) -> 2.2059821 | CZ66: =LOG10(CR66+CV66) -> 2.9262138 | DA66: =LOG10(CS66+CW66) -> 2.2059821 | DB66: =0.590307*(4.87-0.33*CT66-CU66) -> 1.0025581 | DC66: 2 | DD66: =DC66/Raw!C67 -> 12.5 | DE66: =DC66/CR66 -> 0.0023703704 | DF66: =LOG(DE66) -> -2.6251838 | DH66: =-SUM('Shannon-Weiner'!B65:Z65) -> 0.043715273 | DI66: =SUM('p^2'!B65:Z65) -> 0.98529492 | DJ66: =1-DI66 -> 0.014705075 | DK66: =1/DI66 -> 1.0149245 | DL66: =SUM('Shannon-Weiner_B'!B65:Z65) -> -0.34504091 | DM66: =SUM('p_B^2'!B65:Z65) -> 0.80529924 | DN66: =1-DM66 -> 0.19470076 | DO66: =1/DM66 -> 1.2417744
B67: =Raw!B68 -> TB10 | C67: 1 | D67: =Raw!D68/Raw!$C68 -> 531.25 | E67: =Raw!E68/Raw!$C68 -> 145.3125 | F67: =Raw!F68/Raw!$C68 -> 0 | G67: =Raw!G68/Raw!$C68 -> 0 | H67: =Raw!H68/Raw!$C68 -> 0 | I67: =Raw!I68/Raw!$C68 -> 0 | J67: =Raw!J68/Raw!$C68 -> 0 | K67: =Raw!K68/Raw!$C68 -> 0 | ... CQ67: =Raw!CQ68/Raw!$C68 -> 0 | CR67: =D67+F67+H67+J67+L67+N67+P67+R67+T67+V67+X67+Z67+AB67+AD67+AF67+AH67+AJ67+AL67+AN67+AP67+AR67+AT67+AV67+AX67+AZ67+AZ67+BB67+BD67+BF67+BH67+BJ67+BL67+BN67+BP67+BR67+BT67+BV67+BX67+BZ67+CB67+CD67+CF67+CH67+CJ67+CL67+CN67+CP67 -> 675 | CS67: =E67+G67+I67+K67+M67+O67+Q67+S67+U67+W67+Y67+AA67+AC67+AE67+AG67+AI67+AK67+AM67+AO67+AQ67+AS67+AU67+AW67+AY67+BA67+BA67+BC67+BE67+BG67+BI67+BK67+BM67+BO67+BQ67+BS67+BU67+BW67+BY67+CA67+CC67+CE67+CG67+CI67+CK67+CM67+CO67+CQ67 -> 931.4375 | CT67: =LOG10(CR67) -> 2.8293038 | CU67: =LOG10(CS67) -> 2.9691537 | CZ67: =LOG10(CR67+CV67) -> 2.8293038 | DA67: =LOG10(CS67+CW67) -> 2.9691537 | DB67: =0.590307*(4.87-0.33*CT67-CU67) -> 0.57093078 | DC67: 4 | DD67: =DC67/Raw!C68 -> 25 | DE67: =DC67/CR67 -> 0.0059259259 | DF67: =LOG(DE67) -> -2.2272438 | DH67: =-SUM('Shannon-Weiner'!B66:Z66) -> 0.69375419 | DI67: =SUM('p^2'!B66:Z66) -> 0.6409465 | DJ67: =1-DI67 -> 0.3590535 | DK67: =1/DI67 -> 1.5601926 | DL67: =SUM('Shannon-Weiner_B'!B66:Z66) -> -0.95932493 | DM67: =SUM('p_B^2'!B66:Z66) -> 0.4300806 | DN67: =1-DM67 -> 0.5699194 | DO67: =1/DM67 -> 2.3251456
B68: =Raw!B69 -> TB11 | C68: 1 | D68: =Raw!D69/Raw!$C69 -> 1081.25 | E68: =Raw!E69/Raw!$C69 -> 305.9375 | F68: =Raw!F69/Raw!$C69 -> 0 | G68: =Raw!G69/Raw!$C69 -> 0 | H68: =Raw!H69/Raw!$C69 -> 0 | I68: =Raw!I69/Raw!$C69 -> 0 | J68: =Raw!J69/Raw!$C69 -> 0 | K68: =Raw!K69/Raw!$C69 -> 0 | ... CQ68: =Raw!CQ69/Raw!$C69 -> 0 | CR68: =D68+F68+H68+J68+L68+N68+P68+R68+T68+V68+X68+Z68+AB68+AD68+AF68+AH68+AJ68+AL68+AN68+AP68+AR68+AT68+AV68+AX68+AZ68+AZ68+BB68+BD68+BF68+BH68+BJ68+BL68+BN68+BP68+BR68+BT68+BV68+BX68+BZ68+CB68+CD68+CF68+CH68+CJ68+CL68+CN68+CP68 -> 1193.75 | CS68: =E68+G68+I68+K68+M68+O68+Q68+S68+U68+W68+Y68+AA68+AC68+AE68+AG68+AI68+AK68+AM68+AO68+AQ68+AS68+AU68+AW68+AY68+BA68+BA68+BC68+BE68+BG68+BI68+BK68+BM68+BO68+BQ68+BS68+BU68+BW68+BY68+CA68+CC68+CE68+CG68+CI68+CK68+CM68+CO68+CQ68 -> 307.625 | CT68: =LOG10(CR68) -> 3.0769134 | CU68: =LOG10(CS68) -> 2.4880216 | CZ68: =LOG10(CR68+CV68) -> 3.0769134 | DA68: =LOG10(CS68+CW68) -> 2.4880216 | DB68: =0.590307*(4.87-0.33*CT68-CU68) -> 0.80671175 | DC68: 2 | DD68: =DC68/Raw!C69 -> 12.5 | DE68: =DC68/CR68 -> 0.0016753927 | DF68: =LOG(DE68) -> -2.7758834 | DH68: =-SUM('Shannon-Weiner'!B67:Z67) -> 0.31224129 | DI68: =SUM('p^2'!B67:Z67) -> 0.829281 | DJ68: =1-DI68 -> 0.170719 | DK68: =1/DI68 -> 1.2058639 | DL68: =SUM('Shannon-Weiner_B'!B67:Z67) -> -0.034026394 | DM68: =SUM('p_B^2'!B67:Z67) -> 0.98908903 | DN68: =1-DM68 -> 0.010910967 | DO68: =1/DM68 -> 1.0110313
B69: =Raw!B70 -> TB12 | C69: 1 | D69: =Raw!D70/Raw!$C70 -> 1018.75 | E69: =Raw!E70/Raw!$C70 -> 313.5 | F69: =Raw!F70/Raw!$C70 -> 0 | G69: =Raw!G70/Raw!$C70 -> 0 | H69: =Raw!H70/Raw!$C70 -> 0 | I69: =Raw!I70/Raw!$C70 -> 0 | J69: =Raw!J70/Raw!$C70 -> 0 | K69: =Raw!K70/Raw!$C70 -> 0 | ... CQ69: =Raw!CQ70/Raw!$C70 -> 0 | CR69: =D69+F69+H69+J69+L69+N69+P69+R69+T69+V69+X69+Z69+AB69+AD69+AF69+AH69+AJ69+AL69+AN69+AP69+AR69+AT69+AV69+AX69+AZ69+AZ69+BB69+BD69+BF69+BH69+BJ69+BL69+BN69+BP69+BR69+BT69+BV69+BX69+BZ69+CB69+CD69+CF69+CH69+CJ69+CL69+CN69+CP69 -> 1081.25 | CS69: =E69+G69+I69+K69+M69+O69+Q69+S69+U69+W69+Y69+AA69+AC69+AE69+AG69+AI69+AK69+AM69+AO69+AQ69+AS69+AU69+AW69+AY69+BA69+BA69+BC69+BE69+BG69+BI69+BK69+BM69+BO69+BQ69+BS69+BU69+BW69+BY69+CA69+CC69+CE69+CG69+CI69+CK69+CM69+CO69+CQ69 -> 592.125 | CT69: =LOG10(CR69) -> 3.0339261 | CU69: =LOG10(CS69) -> 2.7724134 | CZ69: =LOG10(CR69+CV69) -> 3.0339261 | DA69: =LOG10(CS69+CW69) -> 2.7724134 | DB69: =0.590307*(4.87-0.33*CT69-CU69) -> 0.64720727 | DC69: 5 | DD69: =DC69/Raw!C70 -> 31.25 | DE69: =DC69/CR69 -> 0.0046242775 | DF69: =LOG(DE69) -> -2.3349561 | DH69: =-SUM('Shannon-Weiner'!B68:Z68) -> 0.28841119 | DI69: =SUM('p^2'!B68:Z68) -> 0.88893715 | DJ69: =1-DI69 -> 0.11106285 | DK69: =1/DI69 -> 1.1249389 | DL69: =SUM('Shannon-Weiner_B'!B68:Z68) -> -1.0617433 | DM69: =SUM('p_B^2'!B68:Z68) -> 0.39734397 | DN69: =1-DM69 -> 0.60265603 | DO69: =1/DM69 -> 2.5167111
... B110: =Raw!B111 -> NA9 | C110: 1 | D110: =Raw!D111/Raw!$C111 -> 133.33333 | E110: =Raw!E111/Raw!$C111 -> 14.083333 | F110: =Raw!F111/Raw!$C111 -> 0 | G110: =Raw!G111/Raw!$C111 -> 0 | H110: =Raw!H111/Raw!$C111 -> 0 | I110: =Raw!I111/Raw!$C111 -> 0 | J110: =Raw!J111/Raw!$C111 -> 0 | K110: =Raw!K111/Raw!$C111 -> 0 | ... CQ110: =Raw!CQ111/Raw!$C111 -> 0 | CR110: =D110+F110+H110+J110+L110+N110+P110+R110+T110+V110+X110+Z110+AB110+AD110+AF110+AH110+AJ110+AL110+AN110+AP110+AR110+AT110+AV110+AX110+AZ110+AZ110+BB110+BD110+BF110+BH110+BJ110+BL110+BN110+BP110+BR110+BT110+BV110+BX110+BZ110+CB110+CD110+CF110+CH110+CJ110+CL110+CN110+CP110 -> 362.5 | CS110: =E110+G110+I110+K110+M110+O110+Q110+S110+U110+W110+Y110+AA110+AC110+AE110+AG110+AI110+AK110+AM110+AO110+AQ110+AS110+AU110+AW110+AY110+BA110+BA110+BC110+BE110+BG110+BI110+BK110+BM110+BO110+BQ110+BS110+BU110+BW110+BY110+CA110+CC110+CE110+CG110+CI110+CK110+CM110+CO110+CQ110 -> 444.95833 | CT110: =LOG10(CR110) -> 2.559308 | CU110: =LOG10(CS110) -> 2.6483193 | CZ110: =LOG10(CR110+CV110) -> 2.559308 | DA110: =LOG10(CS110+CW110) -> 2.6483193 | DB110: =0.590307*(4.87-0.33*CT110-CU110) -> 0.81291709 | DC110: 8 | DD110: =DC110/Raw!C111 -> 33.333333 | DE110: =DC110/CR110 -> 0.022068966 | DF110: =LOG(DE110) -> -1.656218 | DH110: =-SUM('Shannon-Weiner'!B109:Z109) -> 1.1586971 | DI110: =SUM('p^2'!B109:Z109) -> 0.19936583 | DJ110: =1-DI110 -> 0.80063417 | DK110: =1/DI110 -> 5.0159046 | DL110: =SUM('Shannon-Weiner_B'!B109:Z109) -> -0.22430459 | DM110: =SUM('p_B^2'!B109:Z109) -> 0.9071243 | DN110: =1-DM110 -> 0.092875704 | DO110: =1/DM110 -> 1.1023848
