Workbook

Sheet Notes
R1: Spectra printed:
B2: Mingjie Chen033019 | J2: Note from Ruth about QCs →
C3: data processed by | E3: Mary Roth
B4: Camellia sinensis - tea | J4: See Note #3, below. | R4: phospholipids | T4: 5 ul of phospholipid std | AB4: phospholipids | AD4: 6 ul of Drosophila std
B5: Samples | G5: Light Yellow highlighted are <1 total signal detected on sheet "amount-analyzed sorted" | Q5: formulas | R5: lipid species | S5: mass of ion | T5: nmol/sample | U5: used to quantify | V5: Scan Mode | AB5: lipid species | AC5: mass of ion | AD5: nmol/sample
B6: see KLRC sheet | D6: 4000QTrap mass spec | G6: nmol per mg replicates are variable, percentages are somewhat better. | Q6: C20H41O9P | R6: lysoPG 14:0 | S6: 455.3 | T6: 0.3 | U6: LysoPG | V6: -Prec153 | AB6: di 8:0 PG | AC6: 516.3 | AD6: 0.3
Q7: C24H49O9P | R7: lysoPG 18:0 | S7: 511.3 | T7: 0.3 | U7: LysoPG | V7: -Prec153 | AB7: di Phy (20:0)PG | AC7: 852.7 | AD7: 0.3
U8: SQDG | V8: -Prec 225 (mass and intensity from -Prec153 mode copied and pasted into this data)
B9: Please note: 1. How to find your way around the file: a. Be careful because most of the sheets contain references to each other; thus alterations in one sheet will affect others. b. The sheet(s) at the far right of the file contain(s) the original processed data. c. The Background subtracted sheet is where we subtract any contaminants in the mass spec or in our internal standards from each lipid species for each sample. d. The nmol-ave-stdev sheet - has calculations for nmol per mg dry weight or divided by another tissue metric that you provided. e. The mol%-ave-stdev sheet - has calculations for mol%. f. The summary sheet - has averages and stdev for both mol% and nmol per mg 2. Regarding compound identification: We are assigning the compound i.d.s based on the mass (more accurately m/z) of the intact ion and the mass of one fragment formed in the mass spectrometer. Typically, for polar lipids, this is a head group fragment. For sphingolipids, it may be a fragment characteristic of the long-chain base or sugar(s). For neutral lipids and for specialized analyses, it may be an acyl fragment. Typically the i.d.s indicate a head group and total acyl/alk(en)yl carbon: total carbon-carbon double bonds. If your samples originate from a source that we are familiar with, i.e. Arabidopsis or a mammalian tissue, you can be >99% confident that the i.d.s we are providing are accurate for the most common molecular species with that mass. Even still, there can be ambiguities and cases where molecular species with different chemical formulas share the same intact mass and fragment mass. An Arabidopsis example is “MGDG(38:6)”, which also represents MGDG(36:4-2O), i.e. an oxidized compound with 2 fewer methylenes, 2 more double bond equivalents, and 2 extra oxygens. These two compounds have the same intact ion mass and head group fragments mass and can only be differentiated by scans in which the acyl chains are interrogated. We will try to double annotate such molecular species, when we know of an ambiguity. If your sample originates from an organism that we are not familiar with, e.g. a protozoan, a bacterium, or a fungus, you need to be more cautious about the i.d.s. You need to filter the data based on your knowledge of what lipids are potentially in your organism. One particular source of bad i.d.s is ether-linked chains vs. odd-numbered acyl chains with the same masses. We can work with you on this, but it is primarily your responsibility to make sure your data are meaningful. 3. Regarding amount determination: We are reporting the amounts as normalized signal/(tissue metric that you provide). This means that we are comparing the signals for the peaks in your sample to the signals for peaks of internal standards that we are adding in known amounts (listed at right), and we are reporting the data so that the signal that is represented as 1 = the same signal as 1 nmol of internal standard (usually with an adjustment for variation in response with m/z). If your compounds are diacyl or monoacyl phospholipids, the response of each compound is very close (within 5 or 10%) of the response of an internal standard of the same class. Thus, the numbers that we report as normalized signal/(tissue metric) for diacyl or monoacyl phospholipids can be considered to be equal to nmol/(tissue metric). However, with other compounds, including ether-linked lipids, glycolipids, and neutral lipids, there is some variation in molar response among compounds within a class and in comparison to the internal standard. Thus, the normalized signal/(tissue metric) allows for comparison of the same compound among samples, but may not provide an accurate indicator of the relative amount of that compound compared to other compounds in the sample. Thus, we suggest that you present those data as normalized signal/(tissue metric), as we have. Starting on 4-29-16, we are correcting our MGDG and DGDG values by dividing the the observed “signals”, which are based on comparison with the fully saturated MGDG and DGDG internal standards, by 2.8. In other words, we have determined that the average unsaturated MGDG or DGDG gives an [M + NH4]+ peak intensity that is 2.8 times the size of an equimolar amount of a fully saturated MGDG or DGDG peak [M + NH4]+ intensity, and we are correcting for this, so that the results are in molar amounts. Please note that we were not able to accurately determine individual response factors for various unsaturated galactolipid molecular species. 4. TAG data: TAGs are identified by mass of one fatty acyl group + mass (can be translated to total acyl carbons and double bonds) of intact TAG. This means that most of the same TAG compounds are repetitively analyzed as we scan for various fatty acyl groups. For example: If a TAG is 16:0/18:2/18:1, it would be determined in scans for 16:0, 18:1, and 18:2. Each time, it will appear at the intact ion m/z. These data might also include data for other TAG species. For example, the 16:0 scan would not differentiate 16:0/18:2/18:1 from 16:0/18:3/18:0 as these have the same m/z for each of the two both the fatty acid fragment (16:0) and the intact ion fragment (52:3). One approach to presentation of the data that allows direct comparison of the data with those of the polar lipids is shown in Lee et al., Plant Biotechnol J., 2011, 9, 359-372, Fig. 8, http://www.ncbi.nlm.nih.gov/pubmed/20796246 5. Other helpful information: For a description of a statistical test to determine if a sample is an outlier among the replicates, see this website: http://www.ksu.edu/lipid/lipidomics/Q-test.htm 6. Please acknowledge in publications or presentations: “The lipid analyses described in this work were performed at the Kansas Lipidomics Research Center Analytical Laboratory. Instrument acquisition and lipidomics method development was supported by National Science Foundation (EPS 0236913, MCB 1413036, MCB 0920663, DBI 0521587, DBI1228622), Kansas Technology Enterprise Corporation, K-IDeA Networks of Biomedical Research Excellence (INBRE) of National Institute of Health (P20GM103418), and Kansas State University.” We appreciate your help with this. Also please send us the citation information (and a copy would be great) of publications that include KLRC data. | AB9: lysoPE 14:0 | AC9: 426.3 | AD9: 0.3
Q10: C34H67O10P | R10: di 14:0 PG | S10: 684.5 | T10: 0.3 | U10: PG | V10: +NL189 | AB10: lysoPE 18:0 | AC10: 482.3 | AD10: 0.3
Q11: C46H91O10P | R11: di Phy (20:0)PG | S11: 852.7 | T11: 0.3 | U11: PG | V11: +NL189 | AB11: di 12:0 PE | AC11: 580.5 | AD11: 0.3
AB12: di 23:0 PE | AC12: 888.9 | AD12: 0.3
Q13: C19H40O7PN | R13: lysoPE 14:0 | S13: 426.3 | T13: 0.3 | U13: LysoPE | V13: +NL141
Q14: C23H48O7PN | R14: lysoPE 18:0 | S14: 482.3 | T14: 0.3 | U14: LysoPE | V14: +NL141 | AB14: lysoPC 13:0 | AC14: 454.3 | AD14: 0.3
Q15: C29H58O8PN | R15: di 12:0 PE | S15: 580.5 | T15: 0.3 | U15: PE | V15: +NL141 | AB15: lysoPC 19:0 | AC15: 538.3 | AD15: 0.3
Q16: C45H90O8PN | R16: diPhy(20:0)PE | S16: 804.7 | T16: 0.3 | U16: PE | V16: +NL141 | AB16: di 12:0 PC | AC16: 622.4 | AD16: 0.3
Q17: C51H102O8PN | R17: di 23:0 PE | S17: 888.9 | T17: 0.3 | U17: PE | V17: +NL141 | AB17: di 24:1 PC | AC17: 954.9 | AD17: 0.3
Q19: C21H44O7PN | R19: lysoPC 13:0 | S19: 454.3 | T19: 0.6 | U19: LysoPC | V19: +Prec184 | AB19: lysoPA 14:0 | AC19: 400.3 | AD19: 0.3
Q20: C27H56O7PN | R20: lysoPC 19:0 | S20: 538.3 | T20: 0.6 | U20: LysoPC | V20: +Prec184 | AB20: lysoPA 18:0 | AC20: 456.3 | AD20: 0.3
Q21: C32H64O8PN | R21: di 12:0 PC | S21: 622.4 | T21: 0.6 | U21: PC | V21: +Prec184 | AB21: di14:0 PA | AC21: 610.5 | AD21: 0.3
Q22: C56H108O8PN | R22: di 24:1 PC | S22: 954.9 | T22: 0.6 | U22: PC | V22: +Prec184 | AB22: di Phy (20:0)PA | AC22: 778.7 | AD22: 0.3
R24: lysoPA 14:0 | S24: 400.3 | T24: 0.3 | U24: LysoPA | V24: +NL115 | AB24: di 14:0 PS | AC24: 680.6 | AD24: 0.2
L25: Reference: | R25: lysoPA 18:0 | S25: 456.3 | T25: 0.3 | U25: LysoPA | V25: +NL115 | AB25: di Phy PS | AC25: 848.8 | AD25: 0.2
L26: Shiva et al 2013-10.1007_978-1-62703-401-2@9 | Q26: C31H61O8P | R26: di14:0 PA | S26: 610.5 | T26: 0.3 | U26: PA | V26: +NL115
L27: attach paper! | Q27: C43H85O8P | R27: di Phy (20:0)PA | S27: 778.7 | T27: 0.3 | U27: PA | V27: +NL115 | AB27: PI 16:0-18:0 | AC27: 856.7 | AD27: 0.468
AB28: PI di 18:0 | AC28: 884.7 | AD28: 0.328
Q29: C34H66O10PN | R29: di 14:0 PS | S29: 680.6 | T29: 0.2 | U29: PS | V29: +NL185
Q30: C46H90O10PN | R30: di Phy PS | S30: 848.8 | T30: 0.2 | U30: PS | V30: +NL185
Q32: C43H83O13P | R32: PI 16:0-18:0 | S32: 856.7 | T32: 0.287 | U32: PI | V32: +NL277
Q33: C45H87O13P | R33: PI di 18:0 | S33: 884.7 | T33: 0.105 | U33: PI | V33: +NL277
R36: galactolipids | T36: 5 ul of galactolipid std
R37: lipid species | S37: mass of ion | T37: nmol/sample | U37: used to quantify | V37: Scan Mode
R38: values from Aug 8, 2014 mix Mary
R39: DGDG 34:0 | S39: 938.6 | T39: 0.44 | U39: DGDG | V39: +NL341
R40: DGDG 36:0 | S40: 966.6 | T40: 1.48 | U40: DGDG | V40: +NL341
R42: MGDG 34:0 | S42: 776.5 | T42: 1.665 | U42: MGDG | V42: +NL179
U43: steryl glucoside | V43: +NL197
U44: GIPCer | V44: +NL615 (mass and intensity from +NL179 copied and pasted into this data)
R46: MGDG 36:0 | S46: 804.5 | T46: 1.405 | U46: MGDG | V46: +NL179
R49: OTHER STANDARDS USED | V49: used to quantify | W49: Scan Mode
...

Sheet dissolving notes
A1: Mingjie Chen samples - Pam Tamura handled dissolving and transfering the samples.
A3: Camellia sinensis (tea)
A5: Email conversations:
A6: Hi Mingjie,
A7: Many of the tea samples were still wet, we decided to speed vac them to get rid of any water. These then have a large pellet or lots of crystalline material in the vials. (They have to be transferred to the required vial/cap.) Afterwards, dissolving with chloroform, there are a *lot* of particulates, and gummy material. I am hesitant to use methanol or a chloroform/methanol/water mix to make everything dissolve. If it is not lipid, I don't want to put it into the mass spec. We recently went through several weeks of mass specs being off-line.
A8: What extraction protocol did you use? Were the samples powdered?
A9: Sincerely,
A10: Mary
A13: Dear Mary,
A14: The tea samples were extracted by following the most recent method from your center's website, and the samples were not powdered. Unlike other plant tissues tea leaves are particularly rich in secondary metabolites such as cuticular wax, caffeine, catechins, chlorophyll, sterols, triterpenoids and their esters, many of these chemicals will went into the lipid fraction.I would like suggest that using only chloroform to dissolve the dry pellet from the original vials we provided, and get rid of anything that is not soluble in chloroform, transfer the soluable fraction to a fresh vial for MS analysis. Please let me know if you met other problems with these samples. Thank you very much for helping out!.
A15: Sincerely,
A16: Mingjie Chen
... A44: Note: Sample volumes are very uneven. Samples that didn't have many particulates have the largest volumes; samples with lots of gunk, chunks, and goo, have the smallest volumes, as solvent was left behind stuck in these insoluble materials. Because we "dissolved" in solvent twice and transferred twice, this may cause a lot of variability in standardized lipid levels.

Sheet KLRC data
A1: It takes at least 6 to 8 weeks for the data to be ready to send. | G1: Reference information about the samples.
A2: This form will be included in your final data file. This information will eventually facilitate inclusion | G2: Please indicate your notebook reference or preparation
A3: of your data into a lipidomics database. Inclusion of this information about your samples in the | G3: information (including published references), so that
A4: data file with the profiling results also facilitates good recordkeeping for you. In the future, | G4: it will be clear in the future what the samples were
A5: we plan to release lipidomics data through a database (under development) via a personal | G5: and how they were prepared.
A6: account, and you will have a confidential login and password to access your data. Your data | T6: plant routine polar lipids list
A7: will remain confidential and will not be available for public viewing, unless you release it for that | G7: Other information about the samples. | T7: animal routine polar lipids list
A8: purpose. If the samples do not originate from plants, please provide comparable appropriate data. | G8: Cell line, genotype, etc. Please include information | T8: animal plasma polar lipids list
A9: Purchase Order #: | D9: pull down menu below: | G9: for your reference and/or anything that would help | T9: yeast routine polar lipids list
A10: Date: | B10: 43499 | C10: Choose Analysis: | D10: plant routine polar lipids list | G10: us optimally analyze your samples. | T10: yeast routine sphingolipids list
A11: complete the form. | D11: details of "other" analysis: | T11: expanded yeast analysis including polar lipids, sphingolipids, and DAG+TAG+SE
A12: print a copy to include with the samples | T12: other analysis only after discussion with KLRC
A13: also send to my email: mrroth@ksu.edu
A15: Researchers name | B15: Zhe Zhou | C15: address | D15: Fujian Agriculture and Forestry University, Fuzhou | E15: e-mail | F15: 1170311008@fafu.edu.cn | G15: phone | H15: 18876236200
A17: Principal Investigator name | B17: Weijiang Sun | C17: address | D17: Fujian Agriculture and Forestry University, Fuzhou | E17: e-mail | F17: swj8103@126.com. | G17: phone | H17: 137050607139
A19: Billing contact | B19: Mingjie Chen | C19: address | D19: Fujian Agriculture and Forestry University, Fuzhou | E19: e-mail | F19: mjchen006@163.com | G19: phone | H19: 86-18860109236
A21: Genus: | B21: Camellia sinensis | C21: Strain/Line/Ecotype: | D21: Baijiguan and Rougui | E21: Tissue type: | F21: The second leaf of the shoot
C22: tea
A23: species: | B23: Camellia sinensis
A25: Plant age: | B25: 9 yeara old | C25: Growth stage: | D25: Four leaves in one bud | E25: Growth media: | F25: yellow-red soil
A27: Soil type: | B27: Yellow-red soil | C27: Temperature: | D27: 18-18.5℃ | E27: Humidity: | F27: 0.8
A29: Time of sampling: | B29: 2018.9.15-9.22 | C29: Light intensity(lumens): | D29: 40000 | E29: Light cycle:
A31: Abbreviations used: | B31: B/R
A33: An additional $3.16 fee per sample will be charged to transfer samples into the required 2.0 ml clear glass vials with solid teflon-lined caps. | D33: Amount of material in each sample (please indicate unit: see note to right) | G33: Indicate the unit of normalization clearly in the bright yellow highlighted cell.
B34: Sample number | C34: Sample name | D34: Units:grams（dry lipid） | E34: genotype | F34: Treatment | H34: examples:
A35: sample1 - rep1 | B35: 1 | C35: BNS0-1 | D35: 0.0284 | H35: dry extracted tissue grams
A36: sample1 - rep2 | B36: 2 | C36: BNS0-2 | D36: 0.0485 | H36: dry lipid grams
A37: sample1 - rep3 | B37: 3 | C37: BNS0-3 | D37: 0.0343 | H37: protein mg
A38: sample1 - rep4 | B38: 4 | C38: BNS0-4 | D38: 0.0315 | H38: cell numbers
A39: sample1 - rep5 | B39: 5 | C39: BNS0-5 | D39: 0.0186 | G39: this number is necessary to estimate amount to use for analysis
A40: sample2 - rep1 | B40: 6 | C40: BNS4-1 | D40: 0.0402 | H40: examples:
A41: sample2 - rep2 | B41: 7 | C41: BNS4-2 | D41: 0.0282 | G41: dry extracted tissue wt | I41: dry lipid wt | K41: protein
A42: sample2 - rep3 | B42: 8 | C42: BNS4-3 | D42: 0.0192 | G42: Units: grams | I42: Units: grams | K42: Units: mg
A43: sample2 - rep4 | B43: 9 | C43: BNS4-4 | D43: 0.0503 | G43: 0.012856 | I43: 0.003585 | K43: 0.001067
A44: sample2 - rep5 | B44: 10 | C44: BNS4-5 | D44: 0.0173 | G44: 0.010965 | I44: 0.005218 | K44: 0.000345
A45: sample3 - rep1 | B45: 11 | C45: BNS6-1 | D45: 0.0991 | G45: 0.009475 | I45: 0.002493 | K45: 0.000862
A46: sample3 - rep2 | B46: 12 | C46: BNS6-2 | D46: 0.0971
A47: sample3 - rep3 | B47: 13 | C47: BNS6-3 | D47: 0.1167
A48: sample3 - rep4 | B48: 14 | C48: BNS6-4 | D48: 0.0742 | G48: In regards to using fresh tissue or dry lipid weights:
A49: sample3 - rep5 | B49: 15 | C49: BNS6-5 | D49: 0.073 | G49: data from particularly fatty tissues can be a little skewed if the neutral lipid amounts are quite varied.
...

Sheet sample list
C1: Samples were analyzed in REPLICATE ORDER
A3: Sample list for | C3: Mingjie Chen032919 | G3: Batch file (PL): | H3: Sciex 4000QTrap mass spec | Q3: Batch file (PL):
C4: arrive: 2/3/19 | G4: Method file (PL): | H4: routine polar plant lipids | Q4: Method file (PL):
C5: PL mix std: April 17, 2019 | G5: 1400 ul total | Q5: 1400 ul total
C6: GL mix std: Oct 3, 2017 (1of3)
A7: position# | B7: Sample# | C7: Sample name | D7: PL file name | E7: dry weights(g) | F7: total volume | G7: Amt. samples (ml) | H7: PL i.s. (ul) | I7: GL i.s. (ul) | J7: chloroform | K7: methanol- 300 mM ammonium acetate(100:5.26)(ul) | L7: Notes | Q7: Amt. samples (ml)
A8: 1 | C8: QC01 | D8: trial on 4000QTrap #1-6ul, PE peaks are nearly 2x std peak, | H8: 5 | I8: 5 | J8: 450 | K8: 1050
A9: 2 | C9: QC02 | D9: PC also larger than std
A10: 3 | C10: QC03 | D10: adjust to use 4ul ratio | I10: 110 total vials
A11: 4 | C11: QC04 | G11: Sciex 4000 amounts | I11: prep 115 | Q11: Sciex 4000 amounts
A12: 5 | C12: QC05 | G12: reduced volumes from trial | I12: 115 * 5u = 575 ul | Q12: reduced volumes from trial
A13: 6 | C13: QC06 | E13: in 1.5 ml | F13: dissolved in 1.5 ml CHCl3 | G13: "stock" | I13: PL 575ul + GL 575 ul = 1150 ul | Q13: "stock"
A14: 7 | C14: IS01 | I14: =575*2 -> 1150
A15: 8 | C15: 1 | D15: BNS0-1 | E15: 0.0284 | F15: 1.5 | G15: =ROUND((0.008*1.5)*0.01/E15,3) -> 0.004 | I15: =115*50 -> 5750 | Q15: 0.004
A16: 9 | C16: 2 | D16: BNS0-2 | E16: 0.0485 | F16: 1.5 | G16: =ROUND((0.008*1.5)*0.01/E16,3) -> 0.002 | I16: =I15-I14 -> 4600 | Q16: 0.002
A17: 10 | C17: 3 | D17: BNS0-3 | E17: 0.0343 | F17: 1.5 | G17: =ROUND((0.008*1.5)*0.01/E17,3) -> 0.003 | I17: add 4600ul C/M/NH4Ac to | Q17: 0.003
A18: 11 | C18: 4 | D18: BNS0-4 | E18: 0.0315 | F18: 1.5 | G18: =ROUND((0.008*1.5)*0.01/E18,3) -> 0.004 | I18: bring up to 5750 ul total (20ml vial) | Q18: 0.004
A19: 12 | C19: 5 | D19: BNS0-5 | E19: 0.0186 | F19: 1.5 | G19: =ROUND((0.008*1.5)*0.01/E19,3) -> 0.006 | I19: measure 50 ul per vial | Q19: 0.006
A20: 13 | C20: 6 | D20: BNS4-1 | E20: 0.0402 | F20: 1.5 | G20: =ROUND((0.008*1.5)*0.01/E20,3) -> 0.003 | I20: reserving 750 ul for QCs | Q20: 0.003
A21: 14 | C21: 7 | D21: BNS4-2 | E21: 0.0282 | F21: 1.5 | G21: =ROUND((0.008*1.5)*0.01/E21,3) -> 0.004 | I21: =15*50 -> 750 | Q21: 0.004
A22: 15 | C22: 8 | D22: BNS4-3 | E22: 0.0192 | F22: 1.5 | G22: =ROUND((0.008*1.5)*0.01/E22,3) -> 0.006 | Q22: 0.006
A23: 16 | C23: 9 | D23: BNS4-4 | E23: 0.0503 | F23: 1.5 | G23: =ROUND((0.008*1.5)*0.01/E23,3) -> 0.002 | I23: Lipid pool: | Q23: 0.002
A24: 17 | C24: 10 | D24: BNS4-5 | E24: 0.0173 | F24: 1.5 | G24: =ROUND((0.008*1.5)*0.01/E24,3) -> 0.007 | I24: take 10ul each | Q24: 0.007
A25: 18 | C25: IS02 | I25: pool and SAVE (85*10=850ul)
A26: 19 | C26: QC07
A27: 20 | C27: 11 | D27: BNS6-1 | E27: 0.0991 | F27: 1.5 | G27: =ROUND((0.008*1.5)*0.01/E27,3) -> 0.001 | I27: QC prep: | Q27: 0.001
A28: 21 | C28: 12 | D28: BNS6-2 | E28: 0.0971 | F28: 1.5 | G28: =ROUND((0.008*1.5)*0.01/E28,3) -> 0.001 | I28: 15 vials * 2ul pool = 30 ul lipid pool | Q28: 0.001
A29: 22 | C29: 13 | D29: BNS6-3 | E29: 0.1167 | F29: 1.5 | G29: =ROUND((0.008*1.5)*0.01/E29,3) -> 0.001 | I29: add 750 ul diluted stds | Q29: 0.001
A30: 23 | C30: 14 | D30: BNS6-4 | E30: 0.0742 | F30: 1.5 | G30: =ROUND((0.008*1.5)*0.01/E30,3) -> 0.002 | I30: add 15 * 1.4 ml C/M/NH4Ac | Q30: 0.002
A31: 24 | C31: 15 | D31: BNS6-5 | E31: 0.073 | F31: 1.5 | G31: =ROUND((0.008*1.5)*0.01/E31,3) -> 0.002 | I31: aliquot to 15 vials | Q31: 0.002
A32: 25 | C32: 16 | D32: BS1-1 | E32: 0.0253 | F32: 1.5 | G32: =ROUND((0.008*1.5)*0.01/E32,3) -> 0.005 | Q32: 0.005
A33: 26 | C33: 17 | D33: BS1-2 | E33: 0.0204 | F33: 1.5 | G33: =ROUND((0.008*1.5)*0.01/E33,3) -> 0.006 | Q33: 0.006
A34: 27 | C34: 18 | D34: BS1-3 | E34: 0.0536 | F34: 1.5 | G34: =ROUND((0.008*1.5)*0.01/E34,3) -> 0.002 | Q34: 0.002
A35: 28 | C35: 19 | D35: BS1-4 | E35: 0.0408 | F35: 1.5 | G35: =ROUND((0.008*1.5)*0.01/E35,3) -> 0.003 | Q35: 0.003
A36: 29 | C36: 20 | D36: BS1-5 | E36: 0.047 | F36: 1.5 | G36: =ROUND((0.008*1.5)*0.01/E36,3) -> 0.003 | Q36: 0.003
A37: 30 | C37: IS03
A38: 31 | C38: QC08
A39: 32 | C39: 21 | D39: BS2-1 | E39: 0.0254 | F39: 1.5 | G39: =ROUND((0.008*1.5)*0.01/E39,3) -> 0.005 | Q39: 0.005
A40: 33 | C40: 22 | D40: BS2-2 | E40: 0.0765 | F40: 1.5 | G40: =ROUND((0.008*1.5)*0.01/E40,3) -> 0.002 | Q40: 0.002
A41: 34 | C41: 23 | D41: BS2-3 | E41: 0.0887 | F41: 1.5 | G41: =ROUND((0.008*1.5)*0.01/E41,3) -> 0.001 | Q41: 0.001
...

Sheet summary
D1: ='amount-analyzed sorted'!Q1 -> Average of identical samples made from pooling samples. If these averages are less than 0.002 nmol, indicated by lack of highlight, this lipid is below the limit of detection and should not be further analyzed. | F1: ='signal-per-mass-dry-wt ave'!Q1 -> nmol per mg dry wt | H1: ='signal-per-mass-dry-wt ave'!S1 -> Coefficient of variation (st. dev./average) for identical samples, made by pooling samples, and run several times. Highlight is less than 0.3. Suggestion is not to include non-highlighted lipids in further statistical analyses. A stricter cutoff could be used. | I1: ='signal-per-mass-dry-wt ave'!Y1 -> nmol per mg dry wt | K1: ='signal-per-mass-dry-wt ave'!AF1 -> nmol per mg dry wt | M1: ='signal-per-mass-dry-wt ave'!AM1 -> nmol per mg dry wt | O1: ='signal-per-mass-dry-wt ave'!AT1 -> nmol per mg dry wt | Q1: ='signal-per-mass-dry-wt ave'!BA1 -> nmol per mg dry wt | S1: ='signal-per-mass-dry-wt ave'!BH1 -> nmol per mg dry wt | U1: ='signal-per-mass-dry-wt ave'!BO1 -> nmol per mg dry wt | W1: ='signal-per-mass-dry-wt ave'!BV1 -> nmol per mg dry wt | Y1: ='signal-per-mass-dry-wt ave'!CC1 -> nmol per mg dry wt | AA1: ='signal-per-mass-dry-wt ave'!CJ1 -> nmol per mg dry wt | AC1: ='signal-per-mass-dry-wt ave'!CQ1 -> nmol per mg dry wt | AE1: ='signal-per-mass-dry-wt ave'!CX1 -> nmol per mg dry wt | AG1: ='signal-per-mass-dry-wt ave'!DE1 -> nmol per mg dry wt | AI1: ='signal-per-mass-dry-wt ave'!DL1 -> nmol per mg dry wt | AK1: ='signal-per-mass-dry-wt ave'!DS1 -> nmol per mg dry wt | AM1: ='signal-per-mass-dry-wt ave'!DZ1 -> nmol per mg dry wt | AO1: ='signal-per-mass-dry-wt ave'!EG1 -> nmol per mg dry wt | AR1: ='% total signal ave'!Q1 -> % total signal | AT1: ='% total signal ave'!S1 -> Coefficient of variation (st. dev./average) for identical samples, made by pooling samples, and run several times. Highlight is less than 0.3. Suggestion is not to include non-highlighted lipids in further statistical analyses. A stricter cutoff could be used. | AU1: ='% total signal ave'!Y1 -> % total signal | AW1: ='% total signal ave'!AF1 -> % total signal | AY1: ='% total signal ave'!AM1 -> % total signal | BA1: ='% total signal ave'!AT1 -> % total signal | BC1: ='% total signal ave'!BA1 -> % total signal | BE1: ='% total signal ave'!BH1 -> % total signal | BG1: ='% total signal ave'!BO1 -> % total signal | BI1: ='% total signal ave'!BV1 -> % total signal | BK1: ='% total signal ave'!CC1 -> % total signal | BM1: ='% total signal ave'!CJ1 -> % total signal | BO1: ='% total signal ave'!CQ1 -> % total signal | BQ1: ='% total signal ave'!CX1 -> % total signal | BS1: ='% total signal ave'!DE1 -> % total signal | BU1: ='% total signal ave'!DL1 -> % total signal | BW1: ='% total signal ave'!DS1 -> % total signal | BY1: ='% total signal ave'!DZ1 -> % total signal | CA1: ='% total signal ave'!EG1 -> % total signal
A2: Summary
D3: ='amount-analyzed sorted'!Q3 -> QC average for comparison | F3: ='signal-per-mass-dry-wt ave'!Q3 -> QC | I3: ='signal-per-mass-dry-wt ave'!Y3 -> BNSO | K3: ='signal-per-mass-dry-wt ave'!AF3 -> BNS4 | M3: ='signal-per-mass-dry-wt ave'!AM3 -> BNS6 | O3: ='signal-per-mass-dry-wt ave'!AT3 -> BS1 | Q3: ='signal-per-mass-dry-wt ave'!BA3 -> BS2 | S3: ='signal-per-mass-dry-wt ave'!BH3 -> BS4 | U3: ='signal-per-mass-dry-wt ave'!BO3 -> BS6 | W3: ='signal-per-mass-dry-wt ave'!BV3 -> BRL1 | Y3: ='signal-per-mass-dry-wt ave'!CC3 -> BRL3 | AA3: ='signal-per-mass-dry-wt ave'!CJ3 -> RNSO | AC3: ='signal-per-mass-dry-wt ave'!CQ3 -> RNS4 | AE3: ='signal-per-mass-dry-wt ave'!CX3 -> RNS6 | AG3: ='signal-per-mass-dry-wt ave'!DE3 -> RS2 | AI3: ='signal-per-mass-dry-wt ave'!DL3 -> RS4 | AK3: ='signal-per-mass-dry-wt ave'!DS3 -> RS6 | AM3: ='signal-per-mass-dry-wt ave'!DZ3 -> RRL1 | AO3: ='signal-per-mass-dry-wt ave'!EG3 -> RRL3 | AR3: ='% total signal ave'!Q3 -> QC | AU3: ='% total signal ave'!Y3 -> BNS0 | AW3: ='% total signal ave'!AF3 -> BNS4 | AY3: ='% total signal ave'!AM3 -> BNS6 | BA3: ='% total signal ave'!AT3 -> BS1 | BC3: ='% total signal ave'!BA3 -> BS2 | BE3: ='% total signal ave'!BH3 -> BS4 | BG3: ='% total signal ave'!BO3 -> BS6 | BI3: ='% total signal ave'!BV3 -> BRL1 | BK3: ='% total signal ave'!CC3 -> BRL3 | BM3: ='% total signal ave'!CJ3 -> RNS0 | BO3: ='% total signal ave'!CQ3 -> RNS4 | BQ3: ='% total signal ave'!CX3 -> RNS6 | BS3: ='% total signal ave'!DE3 -> RS2 | BU3: ='% total signal ave'!DL3 -> RS4 | BW3: ='% total signal ave'!DS3 -> RS6 | BY3: ='% total signal ave'!DZ3 -> RRL1 | CA3: ='% total signal ave'!EG3 -> RRL3
A4: ='imported data from Web Calc'!A3 -> Mass | B4: ='imported data from Web Calc'!B3 -> Compound Formula | C4: ='imported data from Web Calc'!C3 -> Compound Name | D4: ='amount-analyzed sorted'!Q4 -> to LOD 0.002 | F4: ='signal-per-mass-dry-wt ave'!Q4 -> ave | G4: ='signal-per-mass-dry-wt ave'!R4 -> stdev | H4: ='signal-per-mass-dry-wt ave'!S4 -> CoV | I4: ='signal-per-mass-dry-wt ave'!Y4 -> ave | J4: ='signal-per-mass-dry-wt ave'!Z4 -> stdev | K4: ='signal-per-mass-dry-wt ave'!AF4 -> ave | L4: ='signal-per-mass-dry-wt ave'!AG4 -> stdev | M4: ='signal-per-mass-dry-wt ave'!AM4 -> ave | N4: ='signal-per-mass-dry-wt ave'!AN4 -> stdev | O4: ='signal-per-mass-dry-wt ave'!AT4 -> ave | P4: ='signal-per-mass-dry-wt ave'!AU4 -> stdev | Q4: ='signal-per-mass-dry-wt ave'!BA4 -> ave | R4: ='signal-per-mass-dry-wt ave'!BB4 -> stdev | S4: ='signal-per-mass-dry-wt ave'!BH4 -> ave | T4: ='signal-per-mass-dry-wt ave'!BI4 -> stdev | U4: ='signal-per-mass-dry-wt ave'!BO4 -> ave | V4: ='signal-per-mass-dry-wt ave'!BP4 -> stdev | W4: ='signal-per-mass-dry-wt ave'!BV4 -> ave | X4: ='signal-per-mass-dry-wt ave'!BW4 -> stdev | Y4: ='signal-per-mass-dry-wt ave'!CC4 -> ave | Z4: ='signal-per-mass-dry-wt ave'!CD4 -> stdev | AA4: ='signal-per-mass-dry-wt ave'!CJ4 -> ave | AB4: ='signal-per-mass-dry-wt ave'!CK4 -> stdev | AC4: ='signal-per-mass-dry-wt ave'!CQ4 -> ave | AD4: ='signal-per-mass-dry-wt ave'!CR4 -> stdev | AE4: ='signal-per-mass-dry-wt ave'!CX4 -> ave | AF4: ='signal-per-mass-dry-wt ave'!CY4 -> stdev | AG4: ='signal-per-mass-dry-wt ave'!DE4 -> ave | AH4: ='signal-per-mass-dry-wt ave'!DF4 -> stdev | AI4: ='signal-per-mass-dry-wt ave'!DL4 -> ave | AJ4: ='signal-per-mass-dry-wt ave'!DM4 -> stdev | AK4: ='signal-per-mass-dry-wt ave'!DS4 -> ave | AL4: ='signal-per-mass-dry-wt ave'!DT4 -> stdev | AM4: ='signal-per-mass-dry-wt ave'!DZ4 -> ave | AN4: ='signal-per-mass-dry-wt ave'!EA4 -> stdev | AO4: ='signal-per-mass-dry-wt ave'!EG4 -> ave | AP4: ='signal-per-mass-dry-wt ave'!EH4 -> stdev | AR4: ='% total signal ave'!Q4 -> ave | AS4: ='% total signal ave'!R4 -> stdev | AT4: ='% total signal ave'!S4 -> CoV | AU4: ='% total signal ave'!Y4 -> ave | AV4: ='% total signal ave'!Z4 -> stdev | AW4: ='% total signal ave'!AF4 -> ave | AX4: ='% total signal ave'!AG4 -> stdev | AY4: ='% total signal ave'!AM4 -> ave | AZ4: ='% total signal ave'!AN4 -> stdev | BA4: ='% total signal ave'!AT4 -> ave | BB4: ='% total signal ave'!AU4 -> stdev | BC4: ='% total signal ave'!BA4 -> ave | BD4: ='% total signal ave'!BB4 -> stdev | BE4: ='% total signal ave'!BH4 -> ave | BF4: ='% total signal ave'!BI4 -> stdev | BG4: ='% total signal ave'!BO4 -> ave | BH4: ='% total signal ave'!BP4 -> stdev | BI4: ='% total signal ave'!BV4 -> ave | BJ4: ='% total signal ave'!BW4 -> stdev | BK4: ='% total signal ave'!CC4 -> ave | BL4: ='% total signal ave'!CD4 -> stdev | BM4: ='% total signal ave'!CJ4 -> ave | BN4: ='% total signal ave'!CK4 -> stdev | BO4: ='% total signal ave'!CQ4 -> ave | BP4: ='% total signal ave'!CR4 -> stdev | BQ4: ='% total signal ave'!CX4 -> ave | BR4: ='% total signal ave'!CY4 -> stdev | BS4: ='% total signal ave'!DE4 -> ave | BT4: ='% total signal ave'!DF4 -> stdev | BU4: ='% total signal ave'!DL4 -> ave | BV4: ='% total signal ave'!DM4 -> stdev | BW4: ='% total signal ave'!DS4 -> ave | BX4: ='% total signal ave'!DT4 -> stdev | BY4: ='% total signal ave'!DZ4 -> ave | BZ4: ='% total signal ave'!EA4 -> stdev | CA4: ='% total signal ave'!EG4 -> ave | CB4: ='% total signal ave'!EH4 -> stdev
A5: ='imported data from Web Calc'!A4 -> 926.6 | B5: ='imported data from Web Calc'!B4 -> C49H80O15 | C5: ='imported data from Web Calc'!C4 -> DGDG(34:6) | D5: ='amount-analyzed sorted'!Q5 -> 0.00010714286 | F5: ='signal-per-mass-dry-wt ave'!Q5 -> 0.0013802326 | G5: ='signal-per-mass-dry-wt ave'!R5 -> 0.0014709696 | H5: ='signal-per-mass-dry-wt ave'!S5 -> 1.0657403 | I5: ='signal-per-mass-dry-wt ave'!Y5 -> 0.0037867581 | J5: ='signal-per-mass-dry-wt ave'!Z5 -> 0.003384789 | K5: ='signal-per-mass-dry-wt ave'!AF5 -> 0.00044420753 | L5: ='signal-per-mass-dry-wt ave'!AG5 -> 0.00099327824 | M5: ='signal-per-mass-dry-wt ave'!AM5 -> 0.0016616888 | N5: ='signal-per-mass-dry-wt ave'!AN5 -> 0.0015593121 | O5: ='signal-per-mass-dry-wt ave'!AT5 -> 0.00056655641 | P5: ='signal-per-mass-dry-wt ave'!AU5 -> 0.00077922481 | Q5: ='signal-per-mass-dry-wt ave'!BA5 -> 0.003297928 | R5: ='signal-per-mass-dry-wt ave'!BB5 -> 0.0024205725 | S5: ='signal-per-mass-dry-wt ave'!BH5 -> 0.0011038702 | T5: ='signal-per-mass-dry-wt ave'!BI5 -> 0.0016368196 | U5: ='signal-per-mass-dry-wt ave'!BO5 -> 0.00031982942 | V5: ='signal-per-mass-dry-wt ave'!BP5 -> 0.00071516033 | W5: ='signal-per-mass-dry-wt ave'!BV5 -> 0.0005787037 | X5: ='signal-per-mass-dry-wt ave'!BW5 -> 0.0012940208 | Y5: ='signal-per-mass-dry-wt ave'!CC5 -> 0 | Z5: ='signal-per-mass-dry-wt ave'!CD5 -> 0 | AA5: ='signal-per-mass-dry-wt ave'!CJ5 -> 0.001481071 | AB5: ='signal-per-mass-dry-wt ave'!CK5 -> 0.0025062928 | AC5: ='signal-per-mass-dry-wt ave'!CQ5 -> 0.0007633046 | AD5: ='signal-per-mass-dry-wt ave'!CR5 -> 0.0012224228 | AE5: ='signal-per-mass-dry-wt ave'!CX5 -> 0.00066239946 | AF5: ='signal-per-mass-dry-wt ave'!CY5 -> 0.00090702963 | AG5: ='signal-per-mass-dry-wt ave'!DE5 -> 0.00056390977 | AH5: ='signal-per-mass-dry-wt ave'!DF5 -> 0.0012609406 | AI5: ='signal-per-mass-dry-wt ave'!DL5 -> 0 | AJ5: ='signal-per-mass-dry-wt ave'!DM5 -> 0 | AK5: ='signal-per-mass-dry-wt ave'!DS5 -> 0.00072760324 | AL5: ='signal-per-mass-dry-wt ave'!DT5 -> 0.0010873822 | AM5: ='signal-per-mass-dry-wt ave'!DZ5 -> 0 | AN5: ='signal-per-mass-dry-wt ave'!EA5 -> 0 | AO5: ='signal-per-mass-dry-wt ave'!EG5 -> 0.00023427738 | AP5: ='signal-per-mass-dry-wt ave'!EH5 -> 0.00052386016 | AR5: ='% total signal ave'!Q5 -> 0.0025148873 | AS5: ='% total signal ave'!R5 -> 0.0026736588 | AT5: ='% total signal ave'!S5 -> 1.0631326 | AU5: ='% total signal ave'!Y5 -> 0.0022816392 | AV5: ='% total signal ave'!Z5 -> 0.0018575922 | AW5: ='% total signal ave'!AF5 -> 0.00054684519 | AX5: ='% total signal ave'!AG5 -> 0.001222783 | AY5: ='% total signal ave'!AM5 -> 0.0047171673 | AZ5: ='% total signal ave'!AN5 -> 0.0049544996 | BA5: ='% total signal ave'!AT5 -> 0.00086530035 | BB5: ='% total signal ave'!AU5 -> 0.0012678427 | BC5: ='% total signal ave'!BA5 -> 0.0032804604 | BD5: ='% total signal ave'!BB5 -> 0.0027806959 | BE5: ='% total signal ave'!BH5 -> 0.0012606908 | BF5: ='% total signal ave'!BI5 -> 0.0021526555 | BG5: ='% total signal ave'!BO5 -> 0.00081896756 | BH5: ='% total signal ave'!BP5 -> 0.0018312671 | BI5: ='% total signal ave'!BV5 -> 0.00040211158 | BJ5: ='% total signal ave'!BW5 -> 0.00089914883 | BK5: ='% total signal ave'!CC5 -> 0 | BL5: ='% total signal ave'!CD5 -> 0 | BM5: ='% total signal ave'!CJ5 -> 0.0045431211 | BN5: ='% total signal ave'!CK5 -> 0.0091141892 | BO5: ='% total signal ave'!CQ5 -> 0.0023859332 | BP5: ='% total signal ave'!CR5 -> 0.0036448301 | BQ5: ='% total signal ave'!CX5 -> 0.0048147353 | BR5: ='% total signal ave'!CY5 -> 0.0091768106 | BS5: ='% total signal ave'!DE5 -> 0.0017248189 | BT5: ='% total signal ave'!DF5 -> 0.0038568124 | BU5: ='% total signal ave'!DL5 -> 0 | BV5: ='% total signal ave'!DM5 -> 0 | BW5: ='% total signal ave'!DS5 -> 0.00082666464 | BX5: ='% total signal ave'!DT5 -> 0.0013304261 | BY5: ='% total signal ave'!DZ5 -> 0 | BZ5: ='% total signal ave'!EA5 -> 0 | CA5: ='% total signal ave'!EG5 -> 0.0016324212 | CB5: ='% total signal ave'!EH5 -> 0.0036502047
A6: ='imported data from Web Calc'!A5 -> 928.6 | B6: ='imported data from Web Calc'!B5 -> C49H82O15 | C6: ='imported data from Web Calc'!C5 -> DGDG(34:5) | D6: ='amount-analyzed sorted'!Q6 -> 3.9285714e-05 | F6: ='signal-per-mass-dry-wt ave'!Q6 -> 0.00050608529 | G6: ='signal-per-mass-dry-wt ave'!R6 -> 0.0013094036 | H6: ='signal-per-mass-dry-wt ave'!S6 -> 2.5873181 | I6: ='signal-per-mass-dry-wt ave'!Y6 -> 0.0036396035 | J6: ='signal-per-mass-dry-wt ave'!Z6 -> 0.0025040081 | K6: ='signal-per-mass-dry-wt ave'!AF6 -> 0.00097322166 | L6: ='signal-per-mass-dry-wt ave'!AG6 -> 0.0021761898 | M6: ='signal-per-mass-dry-wt ave'!AM6 -> 0 | N6: ='signal-per-mass-dry-wt ave'!AN6 -> 0 | O6: ='signal-per-mass-dry-wt ave'!AT6 -> 0.0010994136 | P6: ='signal-per-mass-dry-wt ave'!AU6 -> 0.0024583636 | Q6: ='signal-per-mass-dry-wt ave'!BA6 -> 0.0020834725 | R6: ='signal-per-mass-dry-wt ave'!BB6 -> 0.002016257 | S6: ='signal-per-mass-dry-wt ave'!BH6 -> 0.00064157399 | T6: ='signal-per-mass-dry-wt ave'!BI6 -> 0.0014346031 | U6: ='signal-per-mass-dry-wt ave'!BO6 -> 0.001341278 | V6: ='signal-per-mass-dry-wt ave'!BP6 -> 0.0014397838 | W6: ='signal-per-mass-dry-wt ave'!BV6 -> 0.0022908426 | X6: ='signal-per-mass-dry-wt ave'!BW6 -> 0.0028810696 | Y6: ='signal-per-mass-dry-wt ave'!CC6 -> 0.00031512605 | Z6: ='signal-per-mass-dry-wt ave'!CD6 -> 0.00070464327 | AA6: ='signal-per-mass-dry-wt ave'!CJ6 -> 0.00098534985 | AB6: ='signal-per-mass-dry-wt ave'!CK6 -> 0.0013595959 | AC6: ='signal-per-mass-dry-wt ave'!CQ6 -> 0 | AD6: ='signal-per-mass-dry-wt ave'!CR6 -> 0 | AE6: ='signal-per-mass-dry-wt ave'!CX6 -> 0 | AF6: ='signal-per-mass-dry-wt ave'!CY6 -> 0 | AG6: ='signal-per-mass-dry-wt ave'!DE6 -> 0.00057251908 | AH6: ='signal-per-mass-dry-wt ave'!DF6 -> 0.0012801916 | AI6: ='signal-per-mass-dry-wt ave'!DL6 -> 0.00084033613 | AJ6: ='signal-per-mass-dry-wt ave'!DM6 -> 0.0018790487 | AK6: ='signal-per-mass-dry-wt ave'!DS6 -> 0.0011778205 | AL6: ='signal-per-mass-dry-wt ave'!DT6 -> 0.001320883 | AM6: ='signal-per-mass-dry-wt ave'!DZ6 -> 0.00029009799 | AN6: ='signal-per-mass-dry-wt ave'!EA6 -> 0.00064867882 | AO6: ='signal-per-mass-dry-wt ave'!EG6 -> 0 | AP6: ='signal-per-mass-dry-wt ave'!EH6 -> 0 | AR6: ='% total signal ave'!Q6 -> 0.00091704796 | AS6: ='% total signal ave'!R6 -> 0.0023739771 | AT6: ='% total signal ave'!S6 -> 2.5887164 | AU6: ='% total signal ave'!Y6 -> 0.0022682914 | AV6: ='% total signal ave'!Z6 -> 0.0017437768 | AW6: ='% total signal ave'!AF6 -> 0.00086384101 | AX6: ='% total signal ave'!AG6 -> 0.0019316072 | AY6: ='% total signal ave'!AM6 -> 0 | AZ6: ='% total signal ave'!AN6 -> 0 | BA6: ='% total signal ave'!AT6 -> 0.0016405735 | BB6: ='% total signal ave'!AU6 -> 0.0036684338 | BC6: ='% total signal ave'!BA6 -> 0.0027948288 | BD6: ='% total signal ave'!BB6 -> 0.0027398319 | BE6: ='% total signal ave'!BH6 -> 0.00070044973 | BF6: ='% total signal ave'!BI6 -> 0.0015662532 | BG6: ='% total signal ave'!BO6 -> 0.0019501307 | BH6: ='% total signal ave'!BP6 -> 0.0018181589 | BI6: ='% total signal ave'!BV6 -> 0.0019283223 | BJ6: ='% total signal ave'!BW6 -> 0.0020393729 | BK6: ='% total signal ave'!CC6 -> 0.00068179679 | BL6: ='% total signal ave'!CD6 -> 0.001524544 | BM6: ='% total signal ave'!CJ6 -> 0.0014555372 | BN6: ='% total signal ave'!CK6 -> 0.0020139733 | BO6: ='% total signal ave'!CQ6 -> 0 | BP6: ='% total signal ave'!CR6 -> 0 | BQ6: ='% total signal ave'!CX6 -> 0 | BR6: ='% total signal ave'!CY6 -> 0 | BS6: ='% total signal ave'!DE6 -> 0.00085745417 | BT6: ='% total signal ave'!DF6 -> 0.0019173258 | BU6: ='% total signal ave'!DL6 -> 0.0017257863 | BV6: ='% total signal ave'!DM6 -> 0.0038589754 | BW6: ='% total signal ave'!DS6 -> 0.0019626216 | BX6: ='% total signal ave'!DT6 -> 0.0022701536 | BY6: ='% total signal ave'!DZ6 -> 0.00080495587 | BZ6: ='% total signal ave'!EA6 -> 0.001799936 | CA6: ='% total signal ave'!EG6 -> 0 | CB6: ='% total signal ave'!EH6 -> 0
A7: ='imported data from Web Calc'!A6 -> 930.6 | B7: ='imported data from Web Calc'!B6 -> C49H84O15 | C7: ='imported data from Web Calc'!C6 -> DGDG(34:4) | D7: ='amount-analyzed sorted'!Q7 -> 0.0036928571 | F7: ='signal-per-mass-dry-wt ave'!Q7 -> 0.047572017 | G7: ='signal-per-mass-dry-wt ave'!R7 -> 0.01297531 | H7: ='signal-per-mass-dry-wt ave'!S7 -> 0.2727509 | I7: ='signal-per-mass-dry-wt ave'!Y7 -> 0.13134295 | J7: ='signal-per-mass-dry-wt ave'!Z7 -> 0.060096931 | K7: ='signal-per-mass-dry-wt ave'!AF7 -> 0.073988653 | L7: ='signal-per-mass-dry-wt ave'!AG7 -> 0.032989458 | M7: ='signal-per-mass-dry-wt ave'!AM7 -> 0.035665253 | N7: ='signal-per-mass-dry-wt ave'!AN7 -> 0.0043090904 | O7: ='signal-per-mass-dry-wt ave'!AT7 -> 0.043470025 | P7: ='signal-per-mass-dry-wt ave'!AU7 -> 0.032816643 | Q7: ='signal-per-mass-dry-wt ave'!BA7 -> 0.060424163 | R7: ='signal-per-mass-dry-wt ave'!BB7 -> 0.027886868 | S7: ='signal-per-mass-dry-wt ave'!BH7 -> 0.060910559 | T7: ='signal-per-mass-dry-wt ave'!BI7 -> 0.021154397 | U7: ='signal-per-mass-dry-wt ave'!BO7 -> 0.041965891 | V7: ='signal-per-mass-dry-wt ave'!BP7 -> 0.021289972 | W7: ='signal-per-mass-dry-wt ave'!BV7 -> 0.093000276 | X7: ='signal-per-mass-dry-wt ave'!BW7 -> 0.03459123 | Y7: ='signal-per-mass-dry-wt ave'!CC7 -> 0.01478437 | Z7: ='signal-per-mass-dry-wt ave'!CD7 -> 0.00945915 | AA7: ='signal-per-mass-dry-wt ave'!CJ7 -> 0.043335785 | AB7: ='signal-per-mass-dry-wt ave'!CK7 -> 0.028855746 | AC7: ='signal-per-mass-dry-wt ave'!CQ7 -> 0.045765778 | AD7: ='signal-per-mass-dry-wt ave'!CR7 -> 0.02559581 | AE7: ='signal-per-mass-dry-wt ave'!CX7 -> 0.029350721 | AF7: ='signal-per-mass-dry-wt ave'!CY7 -> 0.022500017 | AG7: ='signal-per-mass-dry-wt ave'!DE7 -> 0.053409084 | AH7: ='signal-per-mass-dry-wt ave'!DF7 -> 0.02908773 | AI7: ='signal-per-mass-dry-wt ave'!DL7 -> 0.027113161 | AJ7: ='signal-per-mass-dry-wt ave'!DM7 -> 0.022197773 | AK7: ='signal-per-mass-dry-wt ave'!DS7 -> 0.053309868 | AL7: ='signal-per-mass-dry-wt ave'!DT7 -> 0.040349493 | AM7: ='signal-per-mass-dry-wt ave'!DZ7 -> 0.029808841 | AN7: ='signal-per-mass-dry-wt ave'!EA7 -> 0.028445672 | AO7: ='signal-per-mass-dry-wt ave'!EG7 -> 0.047152907 | AP7: ='signal-per-mass-dry-wt ave'!EH7 -> 0.039807398 | AR7: ='% total signal ave'!Q7 -> 0.08575963 | AS7: ='% total signal ave'!R7 -> 0.021146906 | AT7: ='% total signal ave'!S7 -> 0.24658345 | AU7: ='% total signal ave'!Y7 -> 0.078616563 | AV7: ='% total signal ave'!Z7 -> 0.012934857 | AW7: ='% total signal ave'!AF7 -> 0.097579348 | AX7: ='% total signal ave'!AG7 -> 0.027286922 | AY7: ='% total signal ave'!AM7 -> 0.092139426 | AZ7: ='% total signal ave'!AN7 -> 0.012021726 | BA7: ='% total signal ave'!AT7 -> 0.069444017 | BB7: ='% total signal ave'!AU7 -> 0.030187742 | BC7: ='% total signal ave'!BA7 -> 0.067085795 | BD7: ='% total signal ave'!BB7 -> 0.0078994968 | BE7: ='% total signal ave'!BH7 -> 0.073224477 | BF7: ='% total signal ave'!BI7 -> 0.016725021 | BG7: ='% total signal ave'!BO7 -> 0.073633595 | BH7: ='% total signal ave'!BP7 -> 0.023147549 | BI7: ='% total signal ave'!BV7 -> 0.073943572 | BJ7: ='% total signal ave'!BW7 -> 0.011586218 | BK7: ='% total signal ave'!CC7 -> 0.061797245 | BL7: ='% total signal ave'!CD7 -> 0.036007677 | BM7: ='% total signal ave'!CJ7 -> 0.093600583 | BN7: ='% total signal ave'!CK7 -> 0.033606242 | BO7: ='% total signal ave'!CQ7 -> 0.11169193 | BP7: ='% total signal ave'!CR7 -> 0.036739667 | BQ7: ='% total signal ave'!CX7 -> 0.083295502 | BR7: ='% total signal ave'!CY7 -> 0.034473303 | BS7: ='% total signal ave'!DE7 -> 0.10525928 | BT7: ='% total signal ave'!DF7 -> 0.02420151 | BU7: ='% total signal ave'!DL7 -> 0.07174382 | BV7: ='% total signal ave'!DM7 -> 0.044469056 | BW7: ='% total signal ave'!DS7 -> 0.098189924 | BX7: ='% total signal ave'!DT7 -> 0.018922321 | BY7: ='% total signal ave'!DZ7 -> 0.098524853 | BZ7: ='% total signal ave'!EA7 -> 0.022454393 | CA7: ='% total signal ave'!EG7 -> 0.084185911 | CB7: ='% total signal ave'!EH7 -> 0.051394142
A8: ='imported data from Web Calc'!A7 -> 932.6 | B8: ='imported data from Web Calc'!B7 -> C49H86O15 | C8: ='imported data from Web Calc'!C7 -> DGDG(34:3) | D8: ='amount-analyzed sorted'!Q8 -> 0.23866071 | F8: ='signal-per-mass-dry-wt ave'!Q8 -> 3.0744682 | G8: ='signal-per-mass-dry-wt ave'!R8 -> 0.22410578 | H8: ='signal-per-mass-dry-wt ave'!S8 -> 0.072892536 | I8: ='signal-per-mass-dry-wt ave'!Y8 -> 7.1378994 | J8: ='signal-per-mass-dry-wt ave'!Z8 -> 2.9156673 | K8: ='signal-per-mass-dry-wt ave'!AF8 -> 3.3805633 | L8: ='signal-per-mass-dry-wt ave'!AG8 -> 1.7639186 | M8: ='signal-per-mass-dry-wt ave'!AM8 -> 2.2300609 | N8: ='signal-per-mass-dry-wt ave'!AN8 -> 0.52957534 | O8: ='signal-per-mass-dry-wt ave'!AT8 -> 2.7637906 | P8: ='signal-per-mass-dry-wt ave'!AU8 -> 1.7135779 | Q8: ='signal-per-mass-dry-wt ave'!BA8 -> 3.8823799 | R8: ='signal-per-mass-dry-wt ave'!BB8 -> 1.4916123 | S8: ='signal-per-mass-dry-wt ave'!BH8 -> 3.765631 | T8: ='signal-per-mass-dry-wt ave'!BI8 -> 1.2013315 | U8: ='signal-per-mass-dry-wt ave'!BO8 -> 2.64173 | V8: ='signal-per-mass-dry-wt ave'!BP8 -> 0.95167348 | W8: ='signal-per-mass-dry-wt ave'!BV8 -> 5.7889316 | X8: ='signal-per-mass-dry-wt ave'!BW8 -> 2.072432 | Y8: ='signal-per-mass-dry-wt ave'!CC8 -> 1.4278496 | Z8: ='signal-per-mass-dry-wt ave'!CD8 -> 0.55557163 | AA8: ='signal-per-mass-dry-wt ave'!CJ8 -> 2.9765848 | AB8: ='signal-per-mass-dry-wt ave'!CK8 -> 1.4658014 | AC8: ='signal-per-mass-dry-wt ave'!CQ8 -> 2.3753484 | AD8: ='signal-per-mass-dry-wt ave'!CR8 -> 0.73267269 | AE8: ='signal-per-mass-dry-wt ave'!CX8 -> 2.1601443 | AF8: ='signal-per-mass-dry-wt ave'!CY8 -> 1.4340932 | AG8: ='signal-per-mass-dry-wt ave'!DE8 -> 3.0989922 | AH8: ='signal-per-mass-dry-wt ave'!DF8 -> 1.0567686 | AI8: ='signal-per-mass-dry-wt ave'!DL8 -> 1.8882828 | AJ8: ='signal-per-mass-dry-wt ave'!DM8 -> 0.99379739 | AK8: ='signal-per-mass-dry-wt ave'!DS8 -> 3.8516865 | AL8: ='signal-per-mass-dry-wt ave'!DT8 -> 2.6169075 | AM8: ='signal-per-mass-dry-wt ave'!DZ8 -> 1.9455397 | AN8: ='signal-per-mass-dry-wt ave'!EA8 -> 1.5538184 | AO8: ='signal-per-mass-dry-wt ave'!EG8 -> 3.1883699 | AP8: ='signal-per-mass-dry-wt ave'!EH8 -> 2.0865967 | AR8: ='% total signal ave'!Q8 -> 5.5629267 | AS8: ='% total signal ave'!R8 -> 0.30130347 | AT8: ='% total signal ave'!S8 -> 0.054162761 | AU8: ='% total signal ave'!Y8 -> 4.3161183 | AV8: ='% total signal ave'!Z8 -> 0.44461987 | AW8: ='% total signal ave'!AF8 -> 4.144113 | AX8: ='% total signal ave'!AG8 -> 0.32421395 | AY8: ='% total signal ave'!AM8 -> 5.7618142 | AZ8: ='% total signal ave'!AN8 -> 1.3935219 | BA8: ='% total signal ave'!AT8 -> 5.0480379 | BB8: ='% total signal ave'!AU8 -> 0.61033423 | BC8: ='% total signal ave'!BA8 -> 4.4872309 | BD8: ='% total signal ave'!BB8 -> 0.90959248 | BE8: ='% total signal ave'!BH8 -> 4.5371955 | BF8: ='% total signal ave'!BI8 -> 0.90625369 | BG8: ='% total signal ave'!BO8 -> 4.7846345 | BH8: ='% total signal ave'!BP8 -> 0.46877169 | BI8: ='% total signal ave'!BV8 -> 4.551359 | BJ8: ='% total signal ave'!BW8 -> 0.49037249 | BK8: ='% total signal ave'!CC8 -> 5.9384032 | BL8: ='% total signal ave'!CD8 -> 0.77067341 | BM8: ='% total signal ave'!CJ8 -> 6.7531973 | BN8: ='% total signal ave'!CK8 -> 0.35778475 | BO8: ='% total signal ave'!CQ8 -> 6.0803168 | BP8: ='% total signal ave'!CR8 -> 0.34068271 | BQ8: ='% total signal ave'!CX8 -> 6.9318026 | BR8: ='% total signal ave'!CY8 -> 1.1111982 | BS8: ='% total signal ave'!DE8 -> 6.4477255 | BT8: ='% total signal ave'!DF8 -> 0.27710344 | BU8: ='% total signal ave'!DL8 -> 6.4702636 | BV8: ='% total signal ave'!DM8 -> 0.47072125 | BW8: ='% total signal ave'!DS8 -> 7.4359225 | BX8: ='% total signal ave'!DT8 -> 0.61302646 | BY8: ='% total signal ave'!DZ8 -> 6.809964 | BZ8: ='% total signal ave'!EA8 -> 0.53653284 | CA8: ='% total signal ave'!EG8 -> 7.3898196 | CB8: ='% total signal ave'!EH8 -> 0.90898023
A9: ='imported data from Web Calc'!A8 -> 934.6 | B9: ='imported data from Web Calc'!B8 -> C49H88O15 | C9: ='imported data from Web Calc'!C8 -> DGDG(34:2) | D9: ='amount-analyzed sorted'!Q9 -> 0.013028571 | F9: ='signal-per-mass-dry-wt ave'!Q9 -> 0.16783629 | G9: ='signal-per-mass-dry-wt ave'!R9 -> 0.01605371 | H9: ='signal-per-mass-dry-wt ave'!S9 -> 0.095651011 | I9: ='signal-per-mass-dry-wt ave'!Y9 -> 0.3105365 | J9: ='signal-per-mass-dry-wt ave'!Z9 -> 0.15675736 | K9: ='signal-per-mass-dry-wt ave'!AF9 -> 0.14555952 | L9: ='signal-per-mass-dry-wt ave'!AG9 -> 0.047343563 | M9: ='signal-per-mass-dry-wt ave'!AM9 -> 0.079811599 | N9: ='signal-per-mass-dry-wt ave'!AN9 -> 0.006269496 | O9: ='signal-per-mass-dry-wt ave'!AT9 -> 0.1370758 | P9: ='signal-per-mass-dry-wt ave'!AU9 -> 0.07152039 | Q9: ='signal-per-mass-dry-wt ave'!BA9 -> 0.16979077 | R9: ='signal-per-mass-dry-wt ave'!BB9 -> 0.061921529 | S9: ='signal-per-mass-dry-wt ave'!BH9 -> 0.30368037 | T9: ='signal-per-mass-dry-wt ave'!BI9 -> 0.13225374 | U9: ='signal-per-mass-dry-wt ave'!BO9 -> 0.25749652 | V9: ='signal-per-mass-dry-wt ave'!BP9 -> 0.068982084 | W9: ='signal-per-mass-dry-wt ave'!BV9 -> 0.4948696 | X9: ='signal-per-mass-dry-wt ave'!BW9 -> 0.11674158 | Y9: ='signal-per-mass-dry-wt ave'!CC9 -> 0.10011494 | Z9: ='signal-per-mass-dry-wt ave'!CD9 -> 0.056566345 | AA9: ='signal-per-mass-dry-wt ave'!CJ9 -> 0.14949202 | AB9: ='signal-per-mass-dry-wt ave'!CK9 -> 0.092377444 | AC9: ='signal-per-mass-dry-wt ave'!CQ9 -> 0.14191843 | AD9: ='signal-per-mass-dry-wt ave'!CR9 -> 0.054182316 | AE9: ='signal-per-mass-dry-wt ave'!CX9 -> 0.11754816 | AF9: ='signal-per-mass-dry-wt ave'!CY9 -> 0.085788351 | AG9: ='signal-per-mass-dry-wt ave'!DE9 -> 0.14118361 | AH9: ='signal-per-mass-dry-wt ave'!DF9 -> 0.067508292 | AI9: ='signal-per-mass-dry-wt ave'!DL9 -> 0.11762051 | AJ9: ='signal-per-mass-dry-wt ave'!DM9 -> 0.062054874 | AK9: ='signal-per-mass-dry-wt ave'!DS9 -> 0.19940836 | AL9: ='signal-per-mass-dry-wt ave'!DT9 -> 0.12262588 | AM9: ='signal-per-mass-dry-wt ave'!DZ9 -> 0.10356829 | AN9: ='signal-per-mass-dry-wt ave'!EA9 -> 0.076058961 | AO9: ='signal-per-mass-dry-wt ave'!EG9 -> 0.2230118 | AP9: ='signal-per-mass-dry-wt ave'!EH9 -> 0.12798615 | AR9: ='% total signal ave'!Q9 -> 0.30421994 | AS9: ='% total signal ave'!R9 -> 0.03210509 | AT9: ='% total signal ave'!S9 -> 0.1055325 | AU9: ='% total signal ave'!Y9 -> 0.18387793 | AV9: ='% total signal ave'!Z9 -> 0.031919285 | AW9: ='% total signal ave'!AF9 -> 0.2004139 | AX9: ='% total signal ave'!AG9 -> 0.057251051 | AY9: ='% total signal ave'!AM9 -> 0.20998838 | AZ9: ='% total signal ave'!AN9 -> 0.052189781 | BA9: ='% total signal ave'!AT9 -> 0.28684065 | BB9: ='% total signal ave'!AU9 -> 0.12696809 | BC9: ='% total signal ave'!BA9 -> 0.19822153 | BD9: ='% total signal ave'!BB9 -> 0.044768097 | BE9: ='% total signal ave'!BH9 -> 0.35341071 | BF9: ='% total signal ave'!BI9 -> 0.024963553 | BG9: ='% total signal ave'!BO9 -> 0.47654755 | BH9: ='% total signal ave'!BP9 -> 0.0654445 | BI9: ='% total signal ave'!BV9 -> 0.4021767 | BJ9: ='% total signal ave'!BW9 -> 0.045390986 | BK9: ='% total signal ave'!CC9 -> 0.40752146 | BL9: ='% total signal ave'!CD9 -> 0.11203573 | BM9: ='% total signal ave'!CJ9 -> 0.32044886 | BN9: ='% total signal ave'!CK9 -> 0.053065425 | BO9: ='% total signal ave'!CQ9 -> 0.36672978 | BP9: ='% total signal ave'!CR9 -> 0.09333264 | BQ9: ='% total signal ave'!CX9 -> 0.33199198 | BR9: ='% total signal ave'!CY9 -> 0.09553285 | BS9: ='% total signal ave'!DE9 -> 0.2913004 | BT9: ='% total signal ave'!DF9 -> 0.092381902 | BU9: ='% total signal ave'!DL9 -> 0.39841249 | BV9: ='% total signal ave'!DM9 -> 0.096372381 | BW9: ='% total signal ave'!DS9 -> 0.40066752 | BX9: ='% total signal ave'!DT9 -> 0.09321458 | BY9: ='% total signal ave'!DZ9 -> 0.38252677 | BZ9: ='% total signal ave'!EA9 -> 0.05722042 | CA9: ='% total signal ave'!EG9 -> 0.55908187 | CB9: ='% total signal ave'!EH9 -> 0.13832706
A10: ='imported data from Web Calc'!A9 -> 936.6 | B10: ='imported data from Web Calc'!B9 -> C49H90O15 | C10: ='imported data from Web Calc'!C9 -> DGDG(34:1) | D10: ='amount-analyzed sorted'!Q10 -> 0.023296429 | F10: ='signal-per-mass-dry-wt ave'!Q10 -> 0.30010858 | G10: ='signal-per-mass-dry-wt ave'!R10 -> 0.026588298 | H10: ='signal-per-mass-dry-wt ave'!S10 -> 0.088595595 | I10: ='signal-per-mass-dry-wt ave'!Y10 -> 0.50780128 | J10: ='signal-per-mass-dry-wt ave'!Z10 -> 0.16088109 | K10: ='signal-per-mass-dry-wt ave'!AF10 -> 0.29349436 | L10: ='signal-per-mass-dry-wt ave'!AG10 -> 0.15528223 | M10: ='signal-per-mass-dry-wt ave'!AM10 -> 0.17478965 | N10: ='signal-per-mass-dry-wt ave'!AN10 -> 0.031673455 | O10: ='signal-per-mass-dry-wt ave'!AT10 -> 0.19901352 | P10: ='signal-per-mass-dry-wt ave'!AU10 -> 0.11450876 | Q10: ='signal-per-mass-dry-wt ave'!BA10 -> 0.28523723 | R10: ='signal-per-mass-dry-wt ave'!BB10 -> 0.10685794 | S10: ='signal-per-mass-dry-wt ave'!BH10 -> 0.31652918 | T10: ='signal-per-mass-dry-wt ave'!BI10 -> 0.13104706 | U10: ='signal-per-mass-dry-wt ave'!BO10 -> 0.2531341 | V10: ='signal-per-mass-dry-wt ave'!BP10 -> 0.093269829 | W10: ='signal-per-mass-dry-wt ave'!BV10 -> 0.54021141 | X10: ='signal-per-mass-dry-wt ave'!BW10 -> 0.17989417 | Y10: ='signal-per-mass-dry-wt ave'!CC10 -> 0.11961862 | Z10: ='signal-per-mass-dry-wt ave'!CD10 -> 0.072621048 | AA10: ='signal-per-mass-dry-wt ave'!CJ10 -> 0.3279976 | AB10: ='signal-per-mass-dry-wt ave'!CK10 -> 0.18217362 | AC10: ='signal-per-mass-dry-wt ave'!CQ10 -> 0.34133451 | AD10: ='signal-per-mass-dry-wt ave'!CR10 -> 0.11687753 | AE10: ='signal-per-mass-dry-wt ave'!CX10 -> 0.25173556 | AF10: ='signal-per-mass-dry-wt ave'!CY10 -> 0.17419131 | AG10: ='signal-per-mass-dry-wt ave'!DE10 -> 0.32281112 | AH10: ='signal-per-mass-dry-wt ave'!DF10 -> 0.11701759 | AI10: ='signal-per-mass-dry-wt ave'!DL10 -> 0.18714983 | AJ10: ='signal-per-mass-dry-wt ave'!DM10 -> 0.098121348 | AK10: ='signal-per-mass-dry-wt ave'!DS10 -> 0.37677662 | AL10: ='signal-per-mass-dry-wt ave'!DT10 -> 0.25537456 | AM10: ='signal-per-mass-dry-wt ave'!DZ10 -> 0.17927176 | AN10: ='signal-per-mass-dry-wt ave'!EA10 -> 0.13798026 | AO10: ='signal-per-mass-dry-wt ave'!EG10 -> 0.37703783 | AP10: ='signal-per-mass-dry-wt ave'!EH10 -> 0.26910464 | AR10: ='% total signal ave'!Q10 -> 0.54299075 | AS10: ='% total signal ave'!R10 -> 0.041066529 | AT10: ='% total signal ave'!S10 -> 0.075630254 | AU10: ='% total signal ave'!Y10 -> 0.31459767 | AV10: ='% total signal ave'!Z10 -> 0.043115046 | AW10: ='% total signal ave'!AF10 -> 0.36055321 | AX10: ='% total signal ave'!AG10 -> 0.035653267 | AY10: ='% total signal ave'!AM10 -> 0.46437812 | AZ10: ='% total signal ave'!AN10 -> 0.16485486 | BA10: ='% total signal ave'!AT10 -> 0.37816788 | BB10: ='% total signal ave'!AU10 -> 0.074039197 | BC10: ='% total signal ave'!BA10 -> 0.32619632 | BD10: ='% total signal ave'!BB10 -> 0.051155743 | BE10: ='% total signal ave'!BH10 -> 0.37328635 | BF10: ='% total signal ave'!BI10 -> 0.051381404 | BG10: ='% total signal ave'!BO10 -> 0.45927743 | BH10: ='% total signal ave'!BP10 -> 0.091086971 | BI10: ='% total signal ave'!BV10 -> 0.4279549 | BJ10: ='% total signal ave'!BW10 -> 0.032368732 | BK10: ='% total signal ave'!CC10 -> 0.45853182 | BL10: ='% total signal ave'!CD10 -> 0.10929602 | BM10: ='% total signal ave'!CJ10 -> 0.7292809 | BN10: ='% total signal ave'!CK10 -> 0.045469102 | BO10: ='% total signal ave'!CQ10 -> 0.86825686 | BP10: ='% total signal ave'!CR10 -> 0.069938295 | BQ10: ='% total signal ave'!CX10 -> 0.76290653 | BR10: ='% total signal ave'!CY10 -> 0.088952759 | BS10: ='% total signal ave'!DE10 -> 0.66605106 | BT10: ='% total signal ave'!DF10 -> 0.024448455 | BU10: ='% total signal ave'!DL10 -> 0.64710278 | BV10: ='% total signal ave'!DM10 -> 0.075722427 | BW10: ='% total signal ave'!DS10 -> 0.72651448 | BX10: ='% total signal ave'!DT10 -> 0.11057456 | BY10: ='% total signal ave'!DZ10 -> 0.61969714 | BZ10: ='% total signal ave'!EA10 -> 0.10878548 | CA10: ='% total signal ave'!EG10 -> 0.81438645 | CB10: ='% total signal ave'!EH10 -> 0.1274694
A11: ='imported data from Web Calc'!A10 -> 954.6 | B11: ='imported data from Web Calc'!B10 -> C51H84O15 | C11: ='imported data from Web Calc'!C10 -> DGDG(36:6) | D11: ='amount-analyzed sorted'!Q11 -> 0.20667857 | F11: ='signal-per-mass-dry-wt ave'!Q11 -> 2.6624687 | G11: ='signal-per-mass-dry-wt ave'!R11 -> 0.10333728 | H11: ='signal-per-mass-dry-wt ave'!S11 -> 0.03881258 | I11: ='signal-per-mass-dry-wt ave'!Y11 -> 7.9732993 | J11: ='signal-per-mass-dry-wt ave'!Z11 -> 3.1736518 | K11: ='signal-per-mass-dry-wt ave'!AF11 -> 4.008109 | L11: ='signal-per-mass-dry-wt ave'!AG11 -> 2.0246136 | M11: ='signal-per-mass-dry-wt ave'!AM11 -> 2.1921589 | N11: ='signal-per-mass-dry-wt ave'!AN11 -> 0.46666377 | O11: ='signal-per-mass-dry-wt ave'!AT11 -> 2.6486922 | P11: ='signal-per-mass-dry-wt ave'!AU11 -> 1.5012367 | Q11: ='signal-per-mass-dry-wt ave'!BA11 -> 4.1531434 | R11: ='signal-per-mass-dry-wt ave'!BB11 -> 1.480607 | S11: ='signal-per-mass-dry-wt ave'!BH11 -> 3.8213248 | T11: ='signal-per-mass-dry-wt ave'!BI11 -> 1.3827989 | U11: ='signal-per-mass-dry-wt ave'!BO11 -> 2.5636229 | V11: ='signal-per-mass-dry-wt ave'!BP11 -> 1.1350157 | W11: ='signal-per-mass-dry-wt ave'!BV11 -> 5.5969824 | X11: ='signal-per-mass-dry-wt ave'!BW11 -> 1.6937833 | Y11: ='signal-per-mass-dry-wt ave'!CC11 -> 1.4015055 | Z11: ='signal-per-mass-dry-wt ave'!CD11 -> 0.53992461 | AA11: ='signal-per-mass-dry-wt ave'!CJ11 -> 2.1429685 | AB11: ='signal-per-mass-dry-wt ave'!CK11 -> 0.95222067 | AC11: ='signal-per-mass-dry-wt ave'!CQ11 -> 1.5698031 | AD11: ='signal-per-mass-dry-wt ave'!CR11 -> 0.33319881 | AE11: ='signal-per-mass-dry-wt ave'!CX11 -> 1.5539991 | AF11: ='signal-per-mass-dry-wt ave'!CY11 -> 1.1197156 | AG11: ='signal-per-mass-dry-wt ave'!DE11 -> 2.1469298 | AH11: ='signal-per-mass-dry-wt ave'!DF11 -> 0.53962571 | AI11: ='signal-per-mass-dry-wt ave'!DL11 -> 1.329617 | AJ11: ='signal-per-mass-dry-wt ave'!DM11 -> 0.66036316 | AK11: ='signal-per-mass-dry-wt ave'!DS11 -> 2.7280191 | AL11: ='signal-per-mass-dry-wt ave'!DT11 -> 2.2237667 | AM11: ='signal-per-mass-dry-wt ave'!DZ11 -> 1.5073456 | AN11: ='signal-per-mass-dry-wt ave'!EA11 -> 1.2198423 | AO11: ='signal-per-mass-dry-wt ave'!EG11 -> 2.0854951 | AP11: ='signal-per-mass-dry-wt ave'!EH11 -> 1.2742179 | AR11: ='% total signal ave'!Q11 -> 4.8210314 | AS11: ='% total signal ave'!R11 -> 0.15182776 | AT11: ='% total signal ave'!S11 -> 0.031492797 | AU11: ='% total signal ave'!Y11 -> 4.8010896 | AV11: ='% total signal ave'!Z11 -> 0.35796679 | AW11: ='% total signal ave'!AF11 -> 4.9761014 | AX11: ='% total signal ave'!AG11 -> 0.35498287 | AY11: ='% total signal ave'!AM11 -> 5.6268383 | AZ11: ='% total signal ave'!AN11 -> 0.93402987 | BA11: ='% total signal ave'!AT11 -> 4.8832819 | BB11: ='% total signal ave'!AU11 -> 0.45961511 | BC11: ='% total signal ave'!BA11 -> 4.8135794 | BD11: ='% total signal ave'!BB11 -> 0.86947034 | BE11: ='% total signal ave'!BH11 -> 4.5202066 | BF11: ='% total signal ave'!BI11 -> 0.68422717 | BG11: ='% total signal ave'!BO11 -> 4.5487803 | BH11: ='% total signal ave'!BP11 -> 0.8047015 | BI11: ='% total signal ave'!BV11 -> 4.4688826 | BJ11: ='% total signal ave'!BW11 -> 0.30044187 | BK11: ='% total signal ave'!CC11 -> 5.8233513 | BL11: ='% total signal ave'!CD11 -> 0.67003674 | BM11: ='% total signal ave'!CJ11 -> 4.9438129 | BN11: ='% total signal ave'!CK11 -> 0.89627635 | BO11: ='% total signal ave'!CQ11 -> 4.1339177 | BP11: ='% total signal ave'!CR11 -> 0.76547249 | BQ11: ='% total signal ave'!CX11 -> 4.9698643 | BR11: ='% total signal ave'!CY11 -> 1.2749556 | BS11: ='% total signal ave'!DE11 -> 4.6103599 | BT11: ='% total signal ave'!DF11 -> 0.65467089 | BU11: ='% total signal ave'!DL11 -> 4.6140662 | BV11: ='% total signal ave'!DM11 -> 0.48774652 | BW11: ='% total signal ave'!DS11 -> 4.8824846 | BX11: ='% total signal ave'!DT11 -> 0.71586356 | BY11: ='% total signal ave'!DZ11 -> 5.2047464 | BZ11: ='% total signal ave'!EA11 -> 0.67970226 | CA11: ='% total signal ave'!EG11 -> 5.0912032 | CB11: ='% total signal ave'!EH11 -> 1.0107373
