Workbook

Sheet Notes
R1: Spectra printed:
B2: Mingjie Chen033019 | J2: Note from Ruth about QCs →
C3: data processed by | E3: Mary Roth
B4: Camellia sinensis - tea | J4: See Note #3, below. | R4: phospholipids | T4: 5 ul of phospholipid std | AB4: phospholipids | AD4: 6 ul of Drosophila std
B5: Samples | G5: Light Yellow highlighted are <1 total signal detected on sheet "amount-analyzed sorted" | Q5: formulas | R5: lipid species | S5: mass of ion | T5: nmol/sample | U5: used to quantify | V5: Scan Mode | AB5: lipid species | AC5: mass of ion | AD5: nmol/sample
B6: see KLRC sheet | D6: 4000QTrap mass spec | G6: nmol per mg replicates are variable, percentages are somewhat better. | Q6: C20H41O9P | R6: lysoPG 14:0 | S6: 455.3 | T6: 0.3 | U6: LysoPG | V6: -Prec153 | AB6: di 8:0 PG | AC6: 516.3 | AD6: 0.3
Q7: C24H49O9P | R7: lysoPG 18:0 | S7: 511.3 | T7: 0.3 | U7: LysoPG | V7: -Prec153 | AB7: di Phy (20:0)PG | AC7: 852.7 | AD7: 0.3
U8: SQDG | V8: -Prec 225 (mass and intensity from -Prec153 mode copied and pasted into this data)
B9: Please note: 1. How to find your way around the file: a. Be careful because most of the sheets contain references to each other; thus alterations in one sheet will affect others. b. The sheet(s) at the far right of the file contain(s) the original processed data. c. The Background subtracted sheet is where we subtract any contaminants in the mass spec or in our internal standards from each lipid species for each sample. d. The nmol-ave-stdev sheet - has calculations for nmol per mg dry weight or divided by another tissue metric that you provided. e. The mol%-ave-stdev sheet - has calculations for mol%. f. The summary sheet - has averages and stdev for both mol% and nmol per mg 2. Regarding compound identification: We are assigning the compound i.d.s based on the mass (more accurately m/z) of the intact ion and the mass of one fragment formed in the mass spectrometer. Typically, for polar lipids, this is a head group fragment. For sphingolipids, it may be a fragment characteristic of the long-chain base or sugar(s). For neutral lipids and for specialized analyses, it may be an acyl fragment. Typically the i.d.s indicate a head group and total acyl/alk(en)yl carbon: total carbon-carbon double bonds. If your samples originate from a source that we are familiar with, i.e. Arabidopsis or a mammalian tissue, you can be >99% confident that the i.d.s we are providing are accurate for the most common molecular species with that mass. Even still, there can be ambiguities and cases where molecular species with different chemical formulas share the same intact mass and fragment mass. An Arabidopsis example is “MGDG(38:6)”, which also represents MGDG(36:4-2O), i.e. an oxidized compound with 2 fewer methylenes, 2 more double bond equivalents, and 2 extra oxygens. These two compounds have the same intact ion mass and head group fragments mass and can only be differentiated by scans in which the acyl chains are interrogated. We will try to double annotate such molecular species, when we know of an ambiguity. If your sample originates from an organism that we are not familiar with, e.g. a protozoan, a bacterium, or a fungus, you need to be more cautious about the i.d.s. You need to filter the data based on your knowledge of what lipids are potentially in your organism. One particular source of bad i.d.s is ether-linked chains vs. odd-numbered acyl chains with the same masses. We can work with you on this, but it is primarily your responsibility to make sure your data are meaningful. 3. Regarding amount determination: We are reporting the amounts as normalized signal/(tissue metric that you provide). This means that we are comparing the signals for the peaks in your sample to the signals for peaks of internal standards that we are adding in known amounts (listed at right), and we are reporting the data so that the signal that is represented as 1 = the same signal as 1 nmol of internal standard (usually with an adjustment for variation in response with m/z). If your compounds are diacyl or monoacyl phospholipids, the response of each compound is very close (within 5 or 10%) of the response of an internal standard of the same class. Thus, the numbers that we report as normalized signal/(tissue metric) for diacyl or monoacyl phospholipids can be considered to be equal to nmol/(tissue metric). However, with other compounds, including ether-linked lipids, glycolipids, and neutral lipids, there is some variation in molar response among compounds within a class and in comparison to the internal standard. Thus, the normalized signal/(tissue metric) allows for comparison of the same compound among samples, but may not provide an accurate indicator of the relative amount of that compound compared to other compounds in the sample. Thus, we suggest that you present those data as normalized signal/(tissue metric), as we have. Starting on 4-29-16, we are correcting our MGDG and DGDG values by dividing the the observed “signals”, which are based on comparison with the fully saturated MGDG and DGDG internal standards, by 2.8. In other words, we have determined that the average unsaturated MGDG or DGDG gives an [M + NH4]+ peak intensity that is 2.8 times the size of an equimolar amount of a fully saturated MGDG or DGDG peak [M + NH4]+ intensity, and we are correcting for this, so that the results are in molar amounts. Please note that we were not able to accurately determine individual response factors for various unsaturated galactolipid molecular species. 4. TAG data: TAGs are identified by mass of one fatty acyl group + mass (can be translated to total acyl carbons and double bonds) of intact TAG. This means that most of the same TAG compounds are repetitively analyzed as we scan for various fatty acyl groups. For example: If a TAG is 16:0/18:2/18:1, it would be determined in scans for 16:0, 18:1, and 18:2. Each time, it will appear at the intact ion m/z. These data might also include data for other TAG species. For example, the 16:0 scan would not differentiate 16:0/18:2/18:1 from 16:0/18:3/18:0 as these have the same m/z for each of the two both the fatty acid fragment (16:0) and the intact ion fragment (52:3). One approach to presentation of the data that allows direct comparison of the data with those of the polar lipids is shown in Lee et al., Plant Biotechnol J., 2011, 9, 359-372, Fig. 8, http://www.ncbi.nlm.nih.gov/pubmed/20796246 5. Other helpful information: For a description of a statistical test to determine if a sample is an outlier among the replicates, see this website: http://www.ksu.edu/lipid/lipidomics/Q-test.htm 6. Please acknowledge in publications or presentations: “The lipid analyses described in this work were performed at the Kansas Lipidomics Research Center Analytical Laboratory. Instrument acquisition and lipidomics method development was supported by National Science Foundation (EPS 0236913, MCB 1413036, MCB 0920663, DBI 0521587, DBI1228622), Kansas Technology Enterprise Corporation, K-IDeA Networks of Biomedical Research Excellence (INBRE) of National Institute of Health (P20GM103418), and Kansas State University.” We appreciate your help with this. Also please send us the citation information (and a copy would be great) of publications that include KLRC data. | AB9: lysoPE 14:0 | AC9: 426.3 | AD9: 0.3
Q10: C34H67O10P | R10: di 14:0 PG | S10: 684.5 | T10: 0.3 | U10: PG | V10: +NL189 | AB10: lysoPE 18:0 | AC10: 482.3 | AD10: 0.3
Q11: C46H91O10P | R11: di Phy (20:0)PG | S11: 852.7 | T11: 0.3 | U11: PG | V11: +NL189 | AB11: di 12:0 PE | AC11: 580.5 | AD11: 0.3
AB12: di 23:0 PE | AC12: 888.9 | AD12: 0.3
Q13: C19H40O7PN | R13: lysoPE 14:0 | S13: 426.3 | T13: 0.3 | U13: LysoPE | V13: +NL141
Q14: C23H48O7PN | R14: lysoPE 18:0 | S14: 482.3 | T14: 0.3 | U14: LysoPE | V14: +NL141 | AB14: lysoPC 13:0 | AC14: 454.3 | AD14: 0.3
Q15: C29H58O8PN | R15: di 12:0 PE | S15: 580.5 | T15: 0.3 | U15: PE | V15: +NL141 | AB15: lysoPC 19:0 | AC15: 538.3 | AD15: 0.3
Q16: C45H90O8PN | R16: diPhy(20:0)PE | S16: 804.7 | T16: 0.3 | U16: PE | V16: +NL141 | AB16: di 12:0 PC | AC16: 622.4 | AD16: 0.3
Q17: C51H102O8PN | R17: di 23:0 PE | S17: 888.9 | T17: 0.3 | U17: PE | V17: +NL141 | AB17: di 24:1 PC | AC17: 954.9 | AD17: 0.3
Q19: C21H44O7PN | R19: lysoPC 13:0 | S19: 454.3 | T19: 0.6 | U19: LysoPC | V19: +Prec184 | AB19: lysoPA 14:0 | AC19: 400.3 | AD19: 0.3
Q20: C27H56O7PN | R20: lysoPC 19:0 | S20: 538.3 | T20: 0.6 | U20: LysoPC | V20: +Prec184 | AB20: lysoPA 18:0 | AC20: 456.3 | AD20: 0.3
Q21: C32H64O8PN | R21: di 12:0 PC | S21: 622.4 | T21: 0.6 | U21: PC | V21: +Prec184 | AB21: di14:0 PA | AC21: 610.5 | AD21: 0.3
Q22: C56H108O8PN | R22: di 24:1 PC | S22: 954.9 | T22: 0.6 | U22: PC | V22: +Prec184 | AB22: di Phy (20:0)PA | AC22: 778.7 | AD22: 0.3
R24: lysoPA 14:0 | S24: 400.3 | T24: 0.3 | U24: LysoPA | V24: +NL115 | AB24: di 14:0 PS | AC24: 680.6 | AD24: 0.2
L25: Reference: | R25: lysoPA 18:0 | S25: 456.3 | T25: 0.3 | U25: LysoPA | V25: +NL115 | AB25: di Phy PS | AC25: 848.8 | AD25: 0.2
L26: Shiva et al 2013-10.1007_978-1-62703-401-2@9 | Q26: C31H61O8P | R26: di14:0 PA | S26: 610.5 | T26: 0.3 | U26: PA | V26: +NL115
L27: attach paper! | Q27: C43H85O8P | R27: di Phy (20:0)PA | S27: 778.7 | T27: 0.3 | U27: PA | V27: +NL115 | AB27: PI 16:0-18:0 | AC27: 856.7 | AD27: 0.468
AB28: PI di 18:0 | AC28: 884.7 | AD28: 0.328
Q29: C34H66O10PN | R29: di 14:0 PS | S29: 680.6 | T29: 0.2 | U29: PS | V29: +NL185
Q30: C46H90O10PN | R30: di Phy PS | S30: 848.8 | T30: 0.2 | U30: PS | V30: +NL185
Q32: C43H83O13P | R32: PI 16:0-18:0 | S32: 856.7 | T32: 0.287 | U32: PI | V32: +NL277
Q33: C45H87O13P | R33: PI di 18:0 | S33: 884.7 | T33: 0.105 | U33: PI | V33: +NL277
R36: galactolipids | T36: 5 ul of galactolipid std
R37: lipid species | S37: mass of ion | T37: nmol/sample | U37: used to quantify | V37: Scan Mode
R38: values from Aug 8, 2014 mix Mary
R39: DGDG 34:0 | S39: 938.6 | T39: 0.44 | U39: DGDG | V39: +NL341
R40: DGDG 36:0 | S40: 966.6 | T40: 1.48 | U40: DGDG | V40: +NL341
R42: MGDG 34:0 | S42: 776.5 | T42: 1.665 | U42: MGDG | V42: +NL179
U43: steryl glucoside | V43: +NL197
U44: GIPCer | V44: +NL615 (mass and intensity from +NL179 copied and pasted into this data)
R46: MGDG 36:0 | S46: 804.5 | T46: 1.405 | U46: MGDG | V46: +NL179
R49: OTHER STANDARDS USED | V49: used to quantify | W49: Scan Mode
R50: DAG 15:0 | S50: 558.5 | T50: 4.64 | U50: 5ul | V50: DAG | W50: +NL259
R51: TAG 17:1 | S51: 860.9 | T51: 3.1 | U51: 1ul | V51: TAG | W51: +NL285
S52: quantify DAG, TAG, sterol esters in the +NL297 (18:2containing), +NL295(18:3containing) scans
S53: mass and intensity from +NL285 copied and pasted into this data.
V55: used to quantify | W55: Scan Mode
Q56: C32H63NO3 | R56: Ceramide | S56: 510.49 | T56: 0.2 | U56: 6 ul
P57: (Glu-Cer) | Q57: C36H69NO8 | R57: HexCer | S57: 644.5 | T57: 0.2 | U57: premix | V57: HexCer | W57: +NL162.05
P58: (Lac-Cer) | Q58: C42H79NO13 | R58: DiHexCer | S58: 806.56 | T58: 0.2 | U58: of the 3
R60: CE 13:0 | S60: 600.8 | T60: 5 | U60: 10 ul | V60: Cholesterol esters | W60: +Prec 369.34
R61: CE 23:0 | S61: 740.9 | T61: 5 | U61: premix | V61: Chol esters | W61: +Prec 369.34
R63: Lipid Abbreviations
R64: lysoPG | S64: lysophosphatidylglycerol
R65: PG | S65: phosphatidylglycerol
R66: lysoPE | S66: lysophosphatidylethanolamine
R67: PE | S67: phosphatidylethanolamine
R68: ePE | S68: ether-linked phosphatidylethanolamine
R69: PE-cer | S69: ceramide phospharylethanolamine (sphingolipid analog of PE)
R70: lysoPC | S70: lysophosphatidylcholine
R71: PC | S71: phosphatidylcholine
R72: ePC | S72: ether-linked phosphatidylcholine
R73: SM | S73: sphingomyelin
R74: DSM | S74: dihydro sphingomyelin
R75: PA | S75: phosphatidic acid
... R85: diHexCer | S85: dihexosylceramide

Sheet dissolving notes
A1: Mingjie Chen samples - Pam Tamura handled dissolving and transfering the samples.
A3: Camellia sinensis (tea)
A5: Email conversations:
A6: Hi Mingjie,
A7: Many of the tea samples were still wet, we decided to speed vac them to get rid of any water. These then have a large pellet or lots of crystalline material in the vials. (They have to be transferred to the required vial/cap.) Afterwards, dissolving with chloroform, there are a *lot* of particulates, and gummy material. I am hesitant to use methanol or a chloroform/methanol/water mix to make everything dissolve. If it is not lipid, I don't want to put it into the mass spec. We recently went through several weeks of mass specs being off-line.
A8: What extraction protocol did you use? Were the samples powdered?
A9: Sincerely,
A10: Mary
A13: Dear Mary,
A14: The tea samples were extracted by following the most recent method from your center's website, and the samples were not powdered. Unlike other plant tissues tea leaves are particularly rich in secondary metabolites such as cuticular wax, caffeine, catechins, chlorophyll, sterols, triterpenoids and their esters, many of these chemicals will went into the lipid fraction.I would like suggest that using only chloroform to dissolve the dry pellet from the original vials we provided, and get rid of anything that is not soluble in chloroform, transfer the soluable fraction to a fresh vial for MS analysis. Please let me know if you met other problems with these samples. Thank you very much for helping out!.
A15: Sincerely,
A16: Mingjie Chen
... A44: Note: Sample volumes are very uneven. Samples that didn't have many particulates have the largest volumes; samples with lots of gunk, chunks, and goo, have the smallest volumes, as solvent was left behind stuck in these insoluble materials. Because we "dissolved" in solvent twice and transferred twice, this may cause a lot of variability in standardized lipid levels.

Sheet KLRC data
A1: It takes at least 6 to 8 weeks for the data to be ready to send. | G1: Reference information about the samples.
A2: This form will be included in your final data file. This information will eventually facilitate inclusion | G2: Please indicate your notebook reference or preparation
A3: of your data into a lipidomics database. Inclusion of this information about your samples in the | G3: information (including published references), so that
A4: data file with the profiling results also facilitates good recordkeeping for you. In the future, | G4: it will be clear in the future what the samples were
A5: we plan to release lipidomics data through a database (under development) via a personal | G5: and how they were prepared.
A6: account, and you will have a confidential login and password to access your data. Your data | T6: plant routine polar lipids list
A7: will remain confidential and will not be available for public viewing, unless you release it for that | G7: Other information about the samples. | T7: animal routine polar lipids list
A8: purpose. If the samples do not originate from plants, please provide comparable appropriate data. | G8: Cell line, genotype, etc. Please include information | T8: animal plasma polar lipids list
A9: Purchase Order #: | D9: pull down menu below: | G9: for your reference and/or anything that would help | T9: yeast routine polar lipids list
A10: Date: | B10: 43499 | C10: Choose Analysis: | D10: plant routine polar lipids list | G10: us optimally analyze your samples. | T10: yeast routine sphingolipids list
A11: complete the form. | D11: details of "other" analysis: | T11: expanded yeast analysis including polar lipids, sphingolipids, and DAG+TAG+SE
A12: print a copy to include with the samples | T12: other analysis only after discussion with KLRC
A13: also send to my email: mrroth@ksu.edu
A15: Researchers name | B15: Zhe Zhou | C15: address | D15: Fujian Agriculture and Forestry University, Fuzhou | E15: e-mail | F15: 1170311008@fafu.edu.cn | G15: phone | H15: 18876236200
A17: Principal Investigator name | B17: Weijiang Sun | C17: address | D17: Fujian Agriculture and Forestry University, Fuzhou | E17: e-mail | F17: swj8103@126.com. | G17: phone | H17: 137050607139
A19: Billing contact | B19: Mingjie Chen | C19: address | D19: Fujian Agriculture and Forestry University, Fuzhou | E19: e-mail | F19: mjchen006@163.com | G19: phone | H19: 86-18860109236
A21: Genus: | B21: Camellia sinensis | C21: Strain/Line/Ecotype: | D21: Baijiguan and Rougui | E21: Tissue type: | F21: The second leaf of the shoot
C22: tea
A23: species: | B23: Camellia sinensis
A25: Plant age: | B25: 9 yeara old | C25: Growth stage: | D25: Four leaves in one bud | E25: Growth media: | F25: yellow-red soil
A27: Soil type: | B27: Yellow-red soil | C27: Temperature: | D27: 18-18.5℃ | E27: Humidity: | F27: 0.8
A29: Time of sampling: | B29: 2018.9.15-9.22 | C29: Light intensity(lumens): | D29: 40000 | E29: Light cycle:
A31: Abbreviations used: | B31: B/R
A33: An additional $3.16 fee per sample will be charged to transfer samples into the required 2.0 ml clear glass vials with solid teflon-lined caps. | D33: Amount of material in each sample (please indicate unit: see note to right) | G33: Indicate the unit of normalization clearly in the bright yellow highlighted cell.
B34: Sample number | C34: Sample name | D34: Units:grams（dry lipid） | E34: genotype | F34: Treatment | H34: examples:
A35: sample1 - rep1 | B35: 1 | C35: BNS0-1 | D35: 0.0284 | H35: dry extracted tissue grams
A36: sample1 - rep2 | B36: 2 | C36: BNS0-2 | D36: 0.0485 | H36: dry lipid grams
A37: sample1 - rep3 | B37: 3 | C37: BNS0-3 | D37: 0.0343 | H37: protein mg
A38: sample1 - rep4 | B38: 4 | C38: BNS0-4 | D38: 0.0315 | H38: cell numbers
A39: sample1 - rep5 | B39: 5 | C39: BNS0-5 | D39: 0.0186 | G39: this number is necessary to estimate amount to use for analysis
A40: sample2 - rep1 | B40: 6 | C40: BNS4-1 | D40: 0.0402 | H40: examples:
A41: sample2 - rep2 | B41: 7 | C41: BNS4-2 | D41: 0.0282 | G41: dry extracted tissue wt | I41: dry lipid wt | K41: protein
A42: sample2 - rep3 | B42: 8 | C42: BNS4-3 | D42: 0.0192 | G42: Units: grams | I42: Units: grams | K42: Units: mg
A43: sample2 - rep4 | B43: 9 | C43: BNS4-4 | D43: 0.0503 | G43: 0.012856 | I43: 0.003585 | K43: 0.001067
A44: sample2 - rep5 | B44: 10 | C44: BNS4-5 | D44: 0.0173 | G44: 0.010965 | I44: 0.005218 | K44: 0.000345
A45: sample3 - rep1 | B45: 11 | C45: BNS6-1 | D45: 0.0991 | G45: 0.009475 | I45: 0.002493 | K45: 0.000862
A46: sample3 - rep2 | B46: 12 | C46: BNS6-2 | D46: 0.0971
A47: sample3 - rep3 | B47: 13 | C47: BNS6-3 | D47: 0.1167
A48: sample3 - rep4 | B48: 14 | C48: BNS6-4 | D48: 0.0742 | G48: In regards to using fresh tissue or dry lipid weights:
A49: sample3 - rep5 | B49: 15 | C49: BNS6-5 | D49: 0.073 | G49: data from particularly fatty tissues can be a little skewed if the neutral lipid amounts are quite varied.
A50: sample4 - rep1 | B50: 16 | C50: BS1-1 | D50: 0.0253 | G50: Taking a protein amount helps to see the data in yet another view.
A51: sample4 - rep2 | B51: 17 | C51: BS1-2 | D51: 0.0204 | G51: The data is reported as nmol per weight, as percent of total signal, and where protein is provided, as nmol per mg protein.
A52: sample4 - rep3 | B52: 18 | C52: BS1-3 | D52: 0.0536
A53: sample4 - rep4 | B53: 19 | C53: BS1-4 | D53: 0.0408
A54: sample4 - rep5 | B54: 20 | C54: BS1-5 | D54: 0.047
A55: sample5 - rep1 | B55: 21 | C55: BS2-1 | D55: 0.0254
A56: sample5 - rep2 | B56: 22 | C56: BS2-2 | D56: 0.0765
A57: sample5 - rep3 | B57: 23 | C57: BS2-3 | D57: 0.0887
A58: sample5 - rep4 | B58: 24 | C58: BS2-4 | D58: 0.0237
A59: sample5 - rep5 | B59: 25 | C59: BS2-5 | D59: 0.0127
A60: sample6 - rep1 | B60: 26 | C60: BS4-1 | D60: 0.0201
A61: sample6 - rep2 | B61: 27 | C61: BS4-2 | D61: 0.0509
A62: sample6 - rep3 | B62: 28 | C62: BS4-3 | D62: 0.0229
A63: sample6 - rep4 | B63: 29 | C63: BS4-4 | D63: 0.0514
... A119: sample17 - rep5 | B119: 85 | C119: RRL3-5 | D119: 0.0647

Sheet sample list
C1: Samples were analyzed in REPLICATE ORDER
A3: Sample list for | C3: Mingjie Chen032919 | G3: Batch file (PL): | H3: Sciex 4000QTrap mass spec | Q3: Batch file (PL):
C4: arrive: 2/3/19 | G4: Method file (PL): | H4: routine polar plant lipids | Q4: Method file (PL):
C5: PL mix std: April 17, 2019 | G5: 1400 ul total | Q5: 1400 ul total
C6: GL mix std: Oct 3, 2017 (1of3)
A7: position# | B7: Sample# | C7: Sample name | D7: PL file name | E7: dry weights(g) | F7: total volume | G7: Amt. samples (ml) | H7: PL i.s. (ul) | I7: GL i.s. (ul) | J7: chloroform | K7: methanol- 300 mM ammonium acetate(100:5.26)(ul) | L7: Notes | Q7: Amt. samples (ml)
A8: 1 | C8: QC01 | D8: trial on 4000QTrap #1-6ul, PE peaks are nearly 2x std peak, | H8: 5 | I8: 5 | J8: 450 | K8: 1050
A9: 2 | C9: QC02 | D9: PC also larger than std
A10: 3 | C10: QC03 | D10: adjust to use 4ul ratio | I10: 110 total vials
A11: 4 | C11: QC04 | G11: Sciex 4000 amounts | I11: prep 115 | Q11: Sciex 4000 amounts
A12: 5 | C12: QC05 | G12: reduced volumes from trial | I12: 115 * 5u = 575 ul | Q12: reduced volumes from trial
A13: 6 | C13: QC06 | E13: in 1.5 ml | F13: dissolved in 1.5 ml CHCl3 | G13: "stock" | I13: PL 575ul + GL 575 ul = 1150 ul | Q13: "stock"
A14: 7 | C14: IS01 | I14: =575*2 -> 1150
A15: 8 | C15: 1 | D15: BNS0-1 | E15: 0.0284 | F15: 1.5 | G15: =ROUND((0.008*1.5)*0.01/E15,3) -> 0.004 | I15: =115*50 -> 5750 | Q15: 0.004
A16: 9 | C16: 2 | D16: BNS0-2 | E16: 0.0485 | F16: 1.5 | G16: =ROUND((0.008*1.5)*0.01/E16,3) -> 0.002 | I16: =I15-I14 -> 4600 | Q16: 0.002
A17: 10 | C17: 3 | D17: BNS0-3 | E17: 0.0343 | F17: 1.5 | G17: =ROUND((0.008*1.5)*0.01/E17,3) -> 0.003 | I17: add 4600ul C/M/NH4Ac to | Q17: 0.003
A18: 11 | C18: 4 | D18: BNS0-4 | E18: 0.0315 | F18: 1.5 | G18: =ROUND((0.008*1.5)*0.01/E18,3) -> 0.004 | I18: bring up to 5750 ul total (20ml vial) | Q18: 0.004
A19: 12 | C19: 5 | D19: BNS0-5 | E19: 0.0186 | F19: 1.5 | G19: =ROUND((0.008*1.5)*0.01/E19,3) -> 0.006 | I19: measure 50 ul per vial | Q19: 0.006
A20: 13 | C20: 6 | D20: BNS4-1 | E20: 0.0402 | F20: 1.5 | G20: =ROUND((0.008*1.5)*0.01/E20,3) -> 0.003 | I20: reserving 750 ul for QCs | Q20: 0.003
A21: 14 | C21: 7 | D21: BNS4-2 | E21: 0.0282 | F21: 1.5 | G21: =ROUND((0.008*1.5)*0.01/E21,3) -> 0.004 | I21: =15*50 -> 750 | Q21: 0.004
A22: 15 | C22: 8 | D22: BNS4-3 | E22: 0.0192 | F22: 1.5 | G22: =ROUND((0.008*1.5)*0.01/E22,3) -> 0.006 | Q22: 0.006
A23: 16 | C23: 9 | D23: BNS4-4 | E23: 0.0503 | F23: 1.5 | G23: =ROUND((0.008*1.5)*0.01/E23,3) -> 0.002 | I23: Lipid pool: | Q23: 0.002
A24: 17 | C24: 10 | D24: BNS4-5 | E24: 0.0173 | F24: 1.5 | G24: =ROUND((0.008*1.5)*0.01/E24,3) -> 0.007 | I24: take 10ul each | Q24: 0.007
A25: 18 | C25: IS02 | I25: pool and SAVE (85*10=850ul)
A26: 19 | C26: QC07
A27: 20 | C27: 11 | D27: BNS6-1 | E27: 0.0991 | F27: 1.5 | G27: =ROUND((0.008*1.5)*0.01/E27,3) -> 0.001 | I27: QC prep: | Q27: 0.001
A28: 21 | C28: 12 | D28: BNS6-2 | E28: 0.0971 | F28: 1.5 | G28: =ROUND((0.008*1.5)*0.01/E28,3) -> 0.001 | I28: 15 vials * 2ul pool = 30 ul lipid pool | Q28: 0.001
A29: 22 | C29: 13 | D29: BNS6-3 | E29: 0.1167 | F29: 1.5 | G29: =ROUND((0.008*1.5)*0.01/E29,3) -> 0.001 | I29: add 750 ul diluted stds | Q29: 0.001
A30: 23 | C30: 14 | D30: BNS6-4 | E30: 0.0742 | F30: 1.5 | G30: =ROUND((0.008*1.5)*0.01/E30,3) -> 0.002 | I30: add 15 * 1.4 ml C/M/NH4Ac | Q30: 0.002
A31: 24 | C31: 15 | D31: BNS6-5 | E31: 0.073 | F31: 1.5 | G31: =ROUND((0.008*1.5)*0.01/E31,3) -> 0.002 | I31: aliquot to 15 vials | Q31: 0.002
A32: 25 | C32: 16 | D32: BS1-1 | E32: 0.0253 | F32: 1.5 | G32: =ROUND((0.008*1.5)*0.01/E32,3) -> 0.005 | Q32: 0.005
A33: 26 | C33: 17 | D33: BS1-2 | E33: 0.0204 | F33: 1.5 | G33: =ROUND((0.008*1.5)*0.01/E33,3) -> 0.006 | Q33: 0.006
A34: 27 | C34: 18 | D34: BS1-3 | E34: 0.0536 | F34: 1.5 | G34: =ROUND((0.008*1.5)*0.01/E34,3) -> 0.002 | Q34: 0.002
A35: 28 | C35: 19 | D35: BS1-4 | E35: 0.0408 | F35: 1.5 | G35: =ROUND((0.008*1.5)*0.01/E35,3) -> 0.003 | Q35: 0.003
A36: 29 | C36: 20 | D36: BS1-5 | E36: 0.047 | F36: 1.5 | G36: =ROUND((0.008*1.5)*0.01/E36,3) -> 0.003 | Q36: 0.003
A37: 30 | C37: IS03
A38: 31 | C38: QC08
A39: 32 | C39: 21 | D39: BS2-1 | E39: 0.0254 | F39: 1.5 | G39: =ROUND((0.008*1.5)*0.01/E39,3) -> 0.005 | Q39: 0.005
A40: 33 | C40: 22 | D40: BS2-2 | E40: 0.0765 | F40: 1.5 | G40: =ROUND((0.008*1.5)*0.01/E40,3) -> 0.002 | Q40: 0.002
A41: 34 | C41: 23 | D41: BS2-3 | E41: 0.0887 | F41: 1.5 | G41: =ROUND((0.008*1.5)*0.01/E41,3) -> 0.001 | Q41: 0.001
A42: 35 | C42: 24 | D42: BS2-4 | E42: 0.0237 | F42: 1.5 | G42: =ROUND((0.008*1.5)*0.01/E42,3) -> 0.005 | Q42: 0.005
A43: 36 | C43: 25 | D43: BS2-5 | E43: 0.0127 | F43: 1.5 | G43: =ROUND((0.008*1.5)*0.01/E43,3) -> 0.009 | Q43: 0.009
A44: 37 | C44: 26 | D44: BS4-1 | E44: 0.0201 | F44: 1.5 | G44: =ROUND((0.008*1.5)*0.01/E44,3) -> 0.006 | Q44: 0.006
A45: 38 | C45: 27 | D45: BS4-2 | E45: 0.0509 | F45: 1.5 | G45: =ROUND((0.008*1.5)*0.01/E45,3) -> 0.002 | Q45: 0.002
A46: 39 | C46: 28 | D46: BS4-3 | E46: 0.0229 | F46: 1.5 | G46: =ROUND((0.008*1.5)*0.01/E46,3) -> 0.005 | Q46: 0.005
A47: 40 | C47: 29 | D47: BS4-4 | E47: 0.0514 | F47: 1.5 | G47: =ROUND((0.008*1.5)*0.01/E47,3) -> 0.002 | Q47: 0.002
A48: 41 | C48: 30 | D48: BS4-5 | E48: 0.0334 | F48: 1.5 | G48: =ROUND((0.008*1.5)*0.01/E48,3) -> 0.004 | Q48: 0.004
A49: 42 | C49: IS04
A50: 43 | C50: QC09
A51: 44 | C51: 31 | D51: BS6-1 | E51: 0.07 | F51: 1.5 | G51: =ROUND((0.008*1.5)*0.01/E51,3) -> 0.002 | Q51: 0.002
A52: 45 | C52: 32 | D52: BS6-2 | E52: 0.0382 | F52: 1.5 | G52: =ROUND((0.008*1.5)*0.01/E52,3) -> 0.003 | Q52: 0.003
A53: 46 | C53: 33 | D53: BS6-3 | E53: 0.0335 | F53: 1.5 | G53: =ROUND((0.008*1.5)*0.01/E53,3) -> 0.004 | Q53: 0.004
A54: 47 | C54: 34 | D54: BS6-4 | E54: 0.054 | F54: 1.5 | G54: =ROUND((0.008*1.5)*0.01/E54,3) -> 0.002 | Q54: 0.002
A55: 48 | C55: 35 | D55: BS6-5 | E55: 0.0192 | F55: 1.5 | G55: =ROUND((0.008*1.5)*0.01/E55,3) -> 0.006 | Q55: 0.006
A56: 49 | C56: 36 | D56: BRL1-1 | E56: 0.0416 | F56: 1.5 | G56: =ROUND((0.008*1.5)*0.01/E56,3) -> 0.003 | Q56: 0.003
A57: 50 | C57: 37 | D57: BRL1-2 | E57: 0.0295 | F57: 1.5 | G57: =ROUND((0.008*1.5)*0.01/E57,3) -> 0.004 | Q57: 0.004
A58: 51 | C58: 38 | D58: BRL1-3 | E58: 0.0432 | F58: 1.5 | G58: =ROUND((0.008*1.5)*0.01/E58,3) -> 0.003 | Q58: 0.003
A59: 52 | C59: 39 | D59: BRL1-4 | E59: 0.0868 | F59: 1.5 | G59: =ROUND((0.008*1.5)*0.01/E59,3) -> 0.001 | Q59: 0.001
A60: 53 | C60: 40 | D60: BRL1-5 | E60: 0.0491 | F60: 1.5 | G60: =ROUND((0.008*1.5)*0.01/E60,3) -> 0.002 | Q60: 0.002
A61: 54 | C61: IS05
A62: 55 | C62: QC10
A63: 56 | C63: 41 | D63: BRL3-1 | E63: 0.0808 | F63: 1.5 | G63: =ROUND((0.008*1.5)*0.01/E63,3) -> 0.001 | Q63: 0.001
A64: 57 | C64: 42 | D64: BRL3-2 | E64: 0.0759 | F64: 1.5 | G64: =ROUND((0.008*1.5)*0.01/E64,3) -> 0.002 | Q64: 0.002
A65: 58 | C65: 43 | D65: BRL3-3 | E65: 0.106 | F65: 1.5 | G65: =ROUND((0.008*1.5)*0.01/E65,3) -> 0.001 | Q65: 0.001
A66: 59 | C66: 44 | D66: BRL3-4 | E66: 0.0901 | F66: 1.5 | G66: =ROUND((0.008*1.5)*0.01/E66,3) -> 0.001 | Q66: 0.001
A67: 60 | C67: 45 | D67: BRL3-5 | E67: 0.102 | F67: 1.5 | G67: =ROUND((0.008*1.5)*0.01/E67,3) -> 0.001 | Q67: 0.001
A68: 61 | C68: 46 | D68: RNS0-1 | E68: 0.1394 | F68: 1.5 | G68: =ROUND((0.008*1.5)*0.01/E68,3) -> 0.001 | Q68: 0.001
A69: 62 | C69: 47 | D69: RNS0-2 | E69: 0.1171 | F69: 1.5 | G69: =ROUND((0.008*1.5)*0.01/E69,3) -> 0.001 | Q69: 0.001
A70: 63 | C70: 48 | D70: RNS0-3 | E70: 0.1203 | F70: 1.5 | G70: =ROUND((0.008*1.5)*0.01/E70,3) -> 0.001 | Q70: 0.001
A71: 64 | C71: 49 | D71: RNS0-4 | E71: 0.0926 | F71: 1.5 | G71: =ROUND((0.008*1.5)*0.01/E71,3) -> 0.001 | Q71: 0.001
A72: 65 | C72: 50 | D72: RNS0-5 | E72: 0.0496 | F72: 1.5 | G72: =ROUND((0.008*1.5)*0.01/E72,3) -> 0.002 | Q72: 0.002
A73: 66 | C73: IS06
A74: 67 | C74: QC11
A75: 68 | C75: 51 | D75: RNS4-1 | E75: 0.0345 | F75: 1.5 | G75: =ROUND((0.008*1.5)*0.01/E75,3) -> 0.003 | Q75: 0.003
A76: 69 | C76: 52 | D76: RNS4-2 | E76: 0.0299 | F76: 1.5 | G76: =ROUND((0.008*1.5)*0.01/E76,3) -> 0.004 | Q76: 0.004
A77: 70 | C77: 53 | D77: RNS4-3 | E77: 0.0508 | F77: 1.5 | G77: =ROUND((0.008*1.5)*0.01/E77,3) -> 0.002 | Q77: 0.002
A78: 71 | C78: 54 | D78: RNS4-4 | E78: 0.0573 | F78: 1.5 | G78: =ROUND((0.008*1.5)*0.01/E78,3) -> 0.002 | Q78: 0.002
A79: 72 | C79: 55 | D79: RNS4-5 | E79: 0.0353 | F79: 1.5 | G79: =ROUND((0.008*1.5)*0.01/E79,3) -> 0.003 | Q79: 0.003
A80: 73 | C80: 56 | D80: RNS6-1 | E80: 0.0814 | F80: 1.5 | G80: =ROUND((0.008*1.5)*0.01/E80,3) -> 0.001 | Q80: 0.001
A81: 74 | C81: 57 | D81: RNS6-2 | E81: 0.0648 | F81: 1.5 | G81: =ROUND((0.008*1.5)*0.01/E81,3) -> 0.002 | Q81: 0.002
A82: 75 | C82: 58 | D82: RNS6-3 | E82: 0.0969 | F82: 1.5 | G82: =ROUND((0.008*1.5)*0.01/E82,3) -> 0.001 | Q82: 0.001
A83: 76 | C83: 59 | D83: RNS6-4 | E83: 0.0832 | F83: 1.5 | G83: =ROUND((0.008*1.5)*0.01/E83,3) -> 0.001 | Q83: 0.001
A84: 77 | C84: 60 | D84: RNS6-5 | E84: 0.1049 | F84: 1.5 | G84: =ROUND((0.008*1.5)*0.01/E84,3) -> 0.001 | Q84: 0.001
A85: 78 | C85: IS07
A86: 79 | C86: QC12
A87: 80 | C87: 61 | D87: RS2-1 | E87: 0.0808 | F87: 1.5 | G87: =ROUND((0.008*1.5)*0.01/E87,3) -> 0.001 | Q87: 0.001
A88: 81 | C88: 62 | D88: RS2-2 | E88: 0.0427 | F88: 1.5 | G88: =ROUND((0.008*1.5)*0.01/E88,3) -> 0.003 | Q88: 0.003
A89: 82 | C89: 63 | D89: RS2-3 | E89: 0.0676 | F89: 1.5 | G89: =ROUND((0.008*1.5)*0.01/E89,3) -> 0.002 | Q89: 0.002
A90: 83 | C90: 64 | D90: RS2-4 | E90: 0.095 | F90: 1.5 | G90: =ROUND((0.008*1.5)*0.01/E90,3) -> 0.001 | Q90: 0.001
A91: 84 | C91: 65 | D91: RS2-5 | E91: 0.0262 | F91: 1.5 | G91: =ROUND((0.008*1.5)*0.01/E91,3) -> 0.005 | Q91: 0.005
A92: 85 | C92: 66 | D92: RS4-1 | E92: 0.0503 | F92: 1.5 | G92: =ROUND((0.008*1.5)*0.01/E92,3) -> 0.002 | Q92: 0.002
A93: 86 | C93: 67 | D93: RS4-2 | E93: 0.0855 | F93: 1.5 | G93: =ROUND((0.008*1.5)*0.01/E93,3) -> 0.001 | Q93: 0.001
A94: 87 | C94: 68 | D94: RS4-3 | E94: 0.0255 | F94: 1.5 | G94: =ROUND((0.008*1.5)*0.01/E94,3) -> 0.005 | Q94: 0.005
A95: 88 | C95: 69 | D95: RS4-4 | E95: 0.0257 | F95: 1.5 | G95: =ROUND((0.008*1.5)*0.01/E95,3) -> 0.005 | Q95: 0.005
A96: 89 | C96: 70 | D96: RS4-5 | E96: 0.02 | F96: 1.5 | G96: =ROUND((0.008*1.5)*0.01/E96,3) -> 0.006 | Q96: 0.006
A97: 90 | C97: IS08
A98: 91 | C98: QC13
A99: 92 | C99: 71 | D99: RS6-1 | E99: 0.0334 | F99: 1.5 | G99: =ROUND((0.008*1.5)*0.01/E99,3) -> 0.004 | Q99: 0.004
A100: 93 | C100: 72 | D100: RS6-2 | E100: 0.0366 | F100: 1.5 | G100: =ROUND((0.008*1.5)*0.01/E100,3) -> 0.003 | Q100: 0.003
A101: 94 | C101: 73 | D101: RS6-3 | E101: 0.033 | F101: 1.5 | G101: =ROUND((0.008*1.5)*0.01/E101,3) -> 0.004 | Q101: 0.004
...

Sheet summary
D1: ='amount-analyzed sorted'!Q1 -> Average of identical samples made from pooling samples. If these averages are less than 0.002 nmol, indicated by lack of highlight, this lipid is below the limit of detection and should not be further analyzed. | F1: ='signal-per-mass-dry-wt ave'!Q1 -> nmol per mg dry wt | H1: ='signal-per-mass-dry-wt ave'!S1 -> Coefficient of variation (st. dev./average) for identical samples, made by pooling samples, and run several times. Highlight is less than 0.3. Suggestion is not to include non-highlighted lipids in further statistical analyses. A stricter cutoff could be used. | I1: ='signal-per-mass-dry-wt ave'!Y1 -> nmol per mg dry wt | K1: ='signal-per-mass-dry-wt ave'!AF1 -> nmol per mg dry wt | M1: ='signal-per-mass-dry-wt ave'!AM1 -> nmol per mg dry wt | O1: ='signal-per-mass-dry-wt ave'!AT1 -> nmol per mg dry wt | Q1: ='signal-per-mass-dry-wt ave'!BA1 -> nmol per mg dry wt | S1: ='signal-per-mass-dry-wt ave'!BH1 -> nmol per mg dry wt | U1: ='signal-per-mass-dry-wt ave'!BO1 -> nmol per mg dry wt | W1: ='signal-per-mass-dry-wt ave'!BV1 -> nmol per mg dry wt | Y1: ='signal-per-mass-dry-wt ave'!CC1 -> nmol per mg dry wt | AA1: ='signal-per-mass-dry-wt ave'!CJ1 -> nmol per mg dry wt | AC1: ='signal-per-mass-dry-wt ave'!CQ1 -> nmol per mg dry wt | AE1: ='signal-per-mass-dry-wt ave'!CX1 -> nmol per mg dry wt | AG1: ='signal-per-mass-dry-wt ave'!DE1 -> nmol per mg dry wt | AI1: ='signal-per-mass-dry-wt ave'!DL1 -> nmol per mg dry wt | AK1: ='signal-per-mass-dry-wt ave'!DS1 -> nmol per mg dry wt | AM1: ='signal-per-mass-dry-wt ave'!DZ1 -> nmol per mg dry wt | AO1: ='signal-per-mass-dry-wt ave'!EG1 -> nmol per mg dry wt | AR1: ='% total signal ave'!Q1 -> % total signal | AT1: ='% total signal ave'!S1 -> Coefficient of variation (st. dev./average) for identical samples, made by pooling samples, and run several times. Highlight is less than 0.3. Suggestion is not to include non-highlighted lipids in further statistical analyses. A stricter cutoff could be used. | AU1: ='% total signal ave'!Y1 -> % total signal | AW1: ='% total signal ave'!AF1 -> % total signal | AY1: ='% total signal ave'!AM1 -> % total signal | BA1: ='% total signal ave'!AT1 -> % total signal | BC1: ='% total signal ave'!BA1 -> % total signal | BE1: ='% total signal ave'!BH1 -> % total signal | BG1: ='% total signal ave'!BO1 -> % total signal | BI1: ='% total signal ave'!BV1 -> % total signal | BK1: ='% total signal ave'!CC1 -> % total signal | BM1: ='% total signal ave'!CJ1 -> % total signal | BO1: ='% total signal ave'!CQ1 -> % total signal | BQ1: ='% total signal ave'!CX1 -> % total signal | BS1: ='% total signal ave'!DE1 -> % total signal | BU1: ='% total signal ave'!DL1 -> % total signal | BW1: ='% total signal ave'!DS1 -> % total signal | BY1: ='% total signal ave'!DZ1 -> % total signal | CA1: ='% total signal ave'!EG1 -> % total signal
A2: Summary
D3: ='amount-analyzed sorted'!Q3 -> QC average for comparison | F3: ='signal-per-mass-dry-wt ave'!Q3 -> QC | I3: ='signal-per-mass-dry-wt ave'!Y3 -> BNSO | K3: ='signal-per-mass-dry-wt ave'!AF3 -> BNS4 | M3: ='signal-per-mass-dry-wt ave'!AM3 -> BNS6 | O3: ='signal-per-mass-dry-wt ave'!AT3 -> BS1 | Q3: ='signal-per-mass-dry-wt ave'!BA3 -> BS2 | S3: ='signal-per-mass-dry-wt ave'!BH3 -> BS4 | U3: ='signal-per-mass-dry-wt ave'!BO3 -> BS6 | W3: ='signal-per-mass-dry-wt ave'!BV3 -> BRL1 | Y3: ='signal-per-mass-dry-wt ave'!CC3 -> BRL3 | AA3: ='signal-per-mass-dry-wt ave'!CJ3 -> RNSO | AC3: ='signal-per-mass-dry-wt ave'!CQ3 -> RNS4 | AE3: ='signal-per-mass-dry-wt ave'!CX3 -> RNS6 | AG3: ='signal-per-mass-dry-wt ave'!DE3 -> RS2 | AI3: ='signal-per-mass-dry-wt ave'!DL3 -> RS4 | AK3: ='signal-per-mass-dry-wt ave'!DS3 -> RS6 | AM3: ='signal-per-mass-dry-wt ave'!DZ3 -> RRL1 | AO3: ='signal-per-mass-dry-wt ave'!EG3 -> RRL3 | AR3: ='% total signal ave'!Q3 -> QC | AU3: ='% total signal ave'!Y3 -> BNS0 | AW3: ='% total signal ave'!AF3 -> BNS4 | AY3: ='% total signal ave'!AM3 -> BNS6 | BA3: ='% total signal ave'!AT3 -> BS1 | BC3: ='% total signal ave'!BA3 -> BS2 | BE3: ='% total signal ave'!BH3 -> BS4 | BG3: ='% total signal ave'!BO3 -> BS6 | BI3: ='% total signal ave'!BV3 -> BRL1 | BK3: ='% total signal ave'!CC3 -> BRL3 | BM3: ='% total signal ave'!CJ3 -> RNS0 | BO3: ='% total signal ave'!CQ3 -> RNS4 | BQ3: ='% total signal ave'!CX3 -> RNS6 | BS3: ='% total signal ave'!DE3 -> RS2 | BU3: ='% total signal ave'!DL3 -> RS4 | BW3: ='% total signal ave'!DS3 -> RS6 | BY3: ='% total signal ave'!DZ3 -> RRL1 | CA3: ='% total signal ave'!EG3 -> RRL3
A4: ='imported data from Web Calc'!A3 -> Mass | B4: ='imported data from Web Calc'!B3 -> Compound Formula | C4: ='imported data from Web Calc'!C3 -> Compound Name | D4: ='amount-analyzed sorted'!Q4 -> to LOD 0.002 | F4: ='signal-per-mass-dry-wt ave'!Q4 -> ave | G4: ='signal-per-mass-dry-wt ave'!R4 -> stdev | H4: ='signal-per-mass-dry-wt ave'!S4 -> CoV | I4: ='signal-per-mass-dry-wt ave'!Y4 -> ave | J4: ='signal-per-mass-dry-wt ave'!Z4 -> stdev | K4: ='signal-per-mass-dry-wt ave'!AF4 -> ave | L4: ='signal-per-mass-dry-wt ave'!AG4 -> stdev | M4: ='signal-per-mass-dry-wt ave'!AM4 -> ave | N4: ='signal-per-mass-dry-wt ave'!AN4 -> stdev | O4: ='signal-per-mass-dry-wt ave'!AT4 -> ave | P4: ='signal-per-mass-dry-wt ave'!AU4 -> stdev | Q4: ='signal-per-mass-dry-wt ave'!BA4 -> ave | R4: ='signal-per-mass-dry-wt ave'!BB4 -> stdev | S4: ='signal-per-mass-dry-wt ave'!BH4 -> ave | T4: ='signal-per-mass-dry-wt ave'!BI4 -> stdev | U4: ='signal-per-mass-dry-wt ave'!BO4 -> ave | V4: ='signal-per-mass-dry-wt ave'!BP4 -> stdev | W4: ='signal-per-mass-dry-wt ave'!BV4 -> ave | X4: ='signal-per-mass-dry-wt ave'!BW4 -> stdev | Y4: ='signal-per-mass-dry-wt ave'!CC4 -> ave | Z4: ='signal-per-mass-dry-wt ave'!CD4 -> stdev | AA4: ='signal-per-mass-dry-wt ave'!CJ4 -> ave | AB4: ='signal-per-mass-dry-wt ave'!CK4 -> stdev | AC4: ='signal-per-mass-dry-wt ave'!CQ4 -> ave | AD4: ='signal-per-mass-dry-wt ave'!CR4 -> stdev | AE4: ='signal-per-mass-dry-wt ave'!CX4 -> ave | AF4: ='signal-per-mass-dry-wt ave'!CY4 -> stdev | AG4: ='signal-per-mass-dry-wt ave'!DE4 -> ave | AH4: ='signal-per-mass-dry-wt ave'!DF4 -> stdev | AI4: ='signal-per-mass-dry-wt ave'!DL4 -> ave | AJ4: ='signal-per-mass-dry-wt ave'!DM4 -> stdev | AK4: ='signal-per-mass-dry-wt ave'!DS4 -> ave | AL4: ='signal-per-mass-dry-wt ave'!DT4 -> stdev | AM4: ='signal-per-mass-dry-wt ave'!DZ4 -> ave | AN4: ='signal-per-mass-dry-wt ave'!EA4 -> stdev | AO4: ='signal-per-mass-dry-wt ave'!EG4 -> ave | AP4: ='signal-per-mass-dry-wt ave'!EH4 -> stdev | AR4: ='% total signal ave'!Q4 -> ave | AS4: ='% total signal ave'!R4 -> stdev | AT4: ='% total signal ave'!S4 -> CoV | AU4: ='% total signal ave'!Y4 -> ave | AV4: ='% total signal ave'!Z4 -> stdev | AW4: ='% total signal ave'!AF4 -> ave | AX4: ='% total signal ave'!AG4 -> stdev | AY4: ='% total signal ave'!AM4 -> ave | AZ4: ='% total signal ave'!AN4 -> stdev | BA4: ='% total signal ave'!AT4 -> ave | BB4: ='% total signal ave'!AU4 -> stdev | BC4: ='% total signal ave'!BA4 -> ave | BD4: ='% total signal ave'!BB4 -> stdev | BE4: ='% total signal ave'!BH4 -> ave | BF4: ='% total signal ave'!BI4 -> stdev | BG4: ='% total signal ave'!BO4 -> ave | BH4: ='% total signal ave'!BP4 -> stdev | BI4: ='% total signal ave'!BV4 -> ave | BJ4: ='% total signal ave'!BW4 -> stdev | BK4: ='% total signal ave'!CC4 -> ave | BL4: ='% total signal ave'!CD4 -> stdev | BM4: ='% total signal ave'!CJ4 -> ave | BN4: ='% total signal ave'!CK4 -> stdev | BO4: ='% total signal ave'!CQ4 -> ave | BP4: ='% total signal ave'!CR4 -> stdev | BQ4: ='% total signal ave'!CX4 -> ave | BR4: ='% total signal ave'!CY4 -> stdev | BS4: ='% total signal ave'!DE4 -> ave | BT4: ='% total signal ave'!DF4 -> stdev | BU4: ='% total signal ave'!DL4 -> ave | BV4: ='% total signal ave'!DM4 -> stdev | BW4: ='% total signal ave'!DS4 -> ave | BX4: ='% total signal ave'!DT4 -> stdev | BY4: ='% total signal ave'!DZ4 -> ave | BZ4: ='% total signal ave'!EA4 -> stdev | CA4: ='% total signal ave'!EG4 -> ave | CB4: ='% total signal ave'!EH4 -> stdev
A5: ='imported data from Web Calc'!A4 -> 926.6 | B5: ='imported data from Web Calc'!B4 -> C49H80O15 | C5: ='imported data from Web Calc'!C4 -> DGDG(34:6) | D5: ='amount-analyzed sorted'!Q5 -> 0.00010714286 | F5: ='signal-per-mass-dry-wt ave'!Q5 -> 0.0013802326 | G5: ='signal-per-mass-dry-wt ave'!R5 -> 0.0014709696 | H5: ='signal-per-mass-dry-wt ave'!S5 -> 1.0657403 | I5: ='signal-per-mass-dry-wt ave'!Y5 -> 0.0037867581 | J5: ='signal-per-mass-dry-wt ave'!Z5 -> 0.003384789 | K5: ='signal-per-mass-dry-wt ave'!AF5 -> 0.00044420753 | L5: ='signal-per-mass-dry-wt ave'!AG5 -> 0.00099327824 | M5: ='signal-per-mass-dry-wt ave'!AM5 -> 0.0016616888 | N5: ='signal-per-mass-dry-wt ave'!AN5 -> 0.0015593121 | O5: ='signal-per-mass-dry-wt ave'!AT5 -> 0.00056655641 | P5: ='signal-per-mass-dry-wt ave'!AU5 -> 0.00077922481 | Q5: ='signal-per-mass-dry-wt ave'!BA5 -> 0.003297928 | R5: ='signal-per-mass-dry-wt ave'!BB5 -> 0.0024205725 | S5: ='signal-per-mass-dry-wt ave'!BH5 -> 0.0011038702 | T5: ='signal-per-mass-dry-wt ave'!BI5 -> 0.0016368196 | U5: ='signal-per-mass-dry-wt ave'!BO5 -> 0.00031982942 | V5: ='signal-per-mass-dry-wt ave'!BP5 -> 0.00071516033 | W5: ='signal-per-mass-dry-wt ave'!BV5 -> 0.0005787037 | X5: ='signal-per-mass-dry-wt ave'!BW5 -> 0.0012940208 | Y5: ='signal-per-mass-dry-wt ave'!CC5 -> 0 | Z5: ='signal-per-mass-dry-wt ave'!CD5 -> 0 | AA5: ='signal-per-mass-dry-wt ave'!CJ5 -> 0.001481071 | AB5: ='signal-per-mass-dry-wt ave'!CK5 -> 0.0025062928 | AC5: ='signal-per-mass-dry-wt ave'!CQ5 -> 0.0007633046 | AD5: ='signal-per-mass-dry-wt ave'!CR5 -> 0.0012224228 | AE5: ='signal-per-mass-dry-wt ave'!CX5 -> 0.00066239946 | AF5: ='signal-per-mass-dry-wt ave'!CY5 -> 0.00090702963 | AG5: ='signal-per-mass-dry-wt ave'!DE5 -> 0.00056390977 | AH5: ='signal-per-mass-dry-wt ave'!DF5 -> 0.0012609406 | AI5: ='signal-per-mass-dry-wt ave'!DL5 -> 0 | AJ5: ='signal-per-mass-dry-wt ave'!DM5 -> 0 | AK5: ='signal-per-mass-dry-wt ave'!DS5 -> 0.00072760324 | AL5: ='signal-per-mass-dry-wt ave'!DT5 -> 0.0010873822 | AM5: ='signal-per-mass-dry-wt ave'!DZ5 -> 0 | AN5: ='signal-per-mass-dry-wt ave'!EA5 -> 0 | AO5: ='signal-per-mass-dry-wt ave'!EG5 -> 0.00023427738 | AP5: ='signal-per-mass-dry-wt ave'!EH5 -> 0.00052386016 | AR5: ='% total signal ave'!Q5 -> 0.0025148873 | AS5: ='% total signal ave'!R5 -> 0.0026736588 | AT5: ='% total signal ave'!S5 -> 1.0631326 | AU5: ='% total signal ave'!Y5 -> 0.0022816392 | AV5: ='% total signal ave'!Z5 -> 0.0018575922 | AW5: ='% total signal ave'!AF5 -> 0.00054684519 | AX5: ='% total signal ave'!AG5 -> 0.001222783 | AY5: ='% total signal ave'!AM5 -> 0.0047171673 | AZ5: ='% total signal ave'!AN5 -> 0.0049544996 | BA5: ='% total signal ave'!AT5 -> 0.00086530035 | BB5: ='% total signal ave'!AU5 -> 0.0012678427 | BC5: ='% total signal ave'!BA5 -> 0.0032804604 | BD5: ='% total signal ave'!BB5 -> 0.0027806959 | BE5: ='% total signal ave'!BH5 -> 0.0012606908 | BF5: ='% total signal ave'!BI5 -> 0.0021526555 | BG5: ='% total signal ave'!BO5 -> 0.00081896756 | BH5: ='% total signal ave'!BP5 -> 0.0018312671 | BI5: ='% total signal ave'!BV5 -> 0.00040211158 | BJ5: ='% total signal ave'!BW5 -> 0.00089914883 | BK5: ='% total signal ave'!CC5 -> 0 | BL5: ='% total signal ave'!CD5 -> 0 | BM5: ='% total signal ave'!CJ5 -> 0.0045431211 | BN5: ='% total signal ave'!CK5 -> 0.0091141892 | BO5: ='% total signal ave'!CQ5 -> 0.0023859332 | BP5: ='% total signal ave'!CR5 -> 0.0036448301 | BQ5: ='% total signal ave'!CX5 -> 0.0048147353 | BR5: ='% total signal ave'!CY5 -> 0.0091768106 | BS5: ='% total signal ave'!DE5 -> 0.0017248189 | BT5: ='% total signal ave'!DF5 -> 0.0038568124 | BU5: ='% total signal ave'!DL5 -> 0 | BV5: ='% total signal ave'!DM5 -> 0 | BW5: ='% total signal ave'!DS5 -> 0.00082666464 | BX5: ='% total signal ave'!DT5 -> 0.0013304261 | BY5: ='% total signal ave'!DZ5 -> 0 | BZ5: ='% total signal ave'!EA5 -> 0 | CA5: ='% total signal ave'!EG5 -> 0.0016324212 | CB5: ='% total signal ave'!EH5 -> 0.0036502047
A6: ='imported data from Web Calc'!A5 -> 928.6 | B6: ='imported data from Web Calc'!B5 -> C49H82O15 | C6: ='imported data from Web Calc'!C5 -> DGDG(34:5) | D6: ='amount-analyzed sorted'!Q6 -> 3.9285714e-05 | F6: ='signal-per-mass-dry-wt ave'!Q6 -> 0.00050608529 | G6: ='signal-per-mass-dry-wt ave'!R6 -> 0.0013094036 | H6: ='signal-per-mass-dry-wt ave'!S6 -> 2.5873181 | I6: ='signal-per-mass-dry-wt ave'!Y6 -> 0.0036396035 | J6: ='signal-per-mass-dry-wt ave'!Z6 -> 0.0025040081 | K6: ='signal-per-mass-dry-wt ave'!AF6 -> 0.00097322166 | L6: ='signal-per-mass-dry-wt ave'!AG6 -> 0.0021761898 | M6: ='signal-per-mass-dry-wt ave'!AM6 -> 0 | N6: ='signal-per-mass-dry-wt ave'!AN6 -> 0 | O6: ='signal-per-mass-dry-wt ave'!AT6 -> 0.0010994136 | P6: ='signal-per-mass-dry-wt ave'!AU6 -> 0.0024583636 | Q6: ='signal-per-mass-dry-wt ave'!BA6 -> 0.0020834725 | R6: ='signal-per-mass-dry-wt ave'!BB6 -> 0.002016257 | S6: ='signal-per-mass-dry-wt ave'!BH6 -> 0.00064157399 | T6: ='signal-per-mass-dry-wt ave'!BI6 -> 0.0014346031 | U6: ='signal-per-mass-dry-wt ave'!BO6 -> 0.001341278 | V6: ='signal-per-mass-dry-wt ave'!BP6 -> 0.0014397838 | W6: ='signal-per-mass-dry-wt ave'!BV6 -> 0.0022908426 | X6: ='signal-per-mass-dry-wt ave'!BW6 -> 0.0028810696 | Y6: ='signal-per-mass-dry-wt ave'!CC6 -> 0.00031512605 | Z6: ='signal-per-mass-dry-wt ave'!CD6 -> 0.00070464327 | AA6: ='signal-per-mass-dry-wt ave'!CJ6 -> 0.00098534985 | AB6: ='signal-per-mass-dry-wt ave'!CK6 -> 0.0013595959 | AC6: ='signal-per-mass-dry-wt ave'!CQ6 -> 0 | AD6: ='signal-per-mass-dry-wt ave'!CR6 -> 0 | AE6: ='signal-per-mass-dry-wt ave'!CX6 -> 0 | AF6: ='signal-per-mass-dry-wt ave'!CY6 -> 0 | AG6: ='signal-per-mass-dry-wt ave'!DE6 -> 0.00057251908 | AH6: ='signal-per-mass-dry-wt ave'!DF6 -> 0.0012801916 | AI6: ='signal-per-mass-dry-wt ave'!DL6 -> 0.00084033613 | AJ6: ='signal-per-mass-dry-wt ave'!DM6 -> 0.0018790487 | AK6: ='signal-per-mass-dry-wt ave'!DS6 -> 0.0011778205 | AL6: ='signal-per-mass-dry-wt ave'!DT6 -> 0.001320883 | AM6: ='signal-per-mass-dry-wt ave'!DZ6 -> 0.00029009799 | AN6: ='signal-per-mass-dry-wt ave'!EA6 -> 0.00064867882 | AO6: ='signal-per-mass-dry-wt ave'!EG6 -> 0 | AP6: ='signal-per-mass-dry-wt ave'!EH6 -> 0 | AR6: ='% total signal ave'!Q6 -> 0.00091704796 | AS6: ='% total signal ave'!R6 -> 0.0023739771 | AT6: ='% total signal ave'!S6 -> 2.5887164 | AU6: ='% total signal ave'!Y6 -> 0.0022682914 | AV6: ='% total signal ave'!Z6 -> 0.0017437768 | AW6: ='% total signal ave'!AF6 -> 0.00086384101 | AX6: ='% total signal ave'!AG6 -> 0.0019316072 | AY6: ='% total signal ave'!AM6 -> 0 | AZ6: ='% total signal ave'!AN6 -> 0 | BA6: ='% total signal ave'!AT6 -> 0.0016405735 | BB6: ='% total signal ave'!AU6 -> 0.0036684338 | BC6: ='% total signal ave'!BA6 -> 0.0027948288 | BD6: ='% total signal ave'!BB6 -> 0.0027398319 | BE6: ='% total signal ave'!BH6 -> 0.00070044973 | BF6: ='% total signal ave'!BI6 -> 0.0015662532 | BG6: ='% total signal ave'!BO6 -> 0.0019501307 | BH6: ='% total signal ave'!BP6 -> 0.0018181589 | BI6: ='% total signal ave'!BV6 -> 0.0019283223 | BJ6: ='% total signal ave'!BW6 -> 0.0020393729 | BK6: ='% total signal ave'!CC6 -> 0.00068179679 | BL6: ='% total signal ave'!CD6 -> 0.001524544 | BM6: ='% total signal ave'!CJ6 -> 0.0014555372 | BN6: ='% total signal ave'!CK6 -> 0.0020139733 | BO6: ='% total signal ave'!CQ6 -> 0 | BP6: ='% total signal ave'!CR6 -> 0 | BQ6: ='% total signal ave'!CX6 -> 0 | BR6: ='% total signal ave'!CY6 -> 0 | BS6: ='% total signal ave'!DE6 -> 0.00085745417 | BT6: ='% total signal ave'!DF6 -> 0.0019173258 | BU6: ='% total signal ave'!DL6 -> 0.0017257863 | BV6: ='% total signal ave'!DM6 -> 0.0038589754 | BW6: ='% total signal ave'!DS6 -> 0.0019626216 | BX6: ='% total signal ave'!DT6 -> 0.0022701536 | BY6: ='% total signal ave'!DZ6 -> 0.00080495587 | BZ6: ='% total signal ave'!EA6 -> 0.001799936 | CA6: ='% total signal ave'!EG6 -> 0 | CB6: ='% total signal ave'!EH6 -> 0
A7: ='imported data from Web Calc'!A6 -> 930.6 | B7: ='imported data from Web Calc'!B6 -> C49H84O15 | C7: ='imported data from Web Calc'!C6 -> DGDG(34:4) | D7: ='amount-analyzed sorted'!Q7 -> 0.0036928571 | F7: ='signal-per-mass-dry-wt ave'!Q7 -> 0.047572017 | G7: ='signal-per-mass-dry-wt ave'!R7 -> 0.01297531 | H7: ='signal-per-mass-dry-wt ave'!S7 -> 0.2727509 | I7: ='signal-per-mass-dry-wt ave'!Y7 -> 0.13134295 | J7: ='signal-per-mass-dry-wt ave'!Z7 -> 0.060096931 | K7: ='signal-per-mass-dry-wt ave'!AF7 -> 0.073988653 | L7: ='signal-per-mass-dry-wt ave'!AG7 -> 0.032989458 | M7: ='signal-per-mass-dry-wt ave'!AM7 -> 0.035665253 | N7: ='signal-per-mass-dry-wt ave'!AN7 -> 0.0043090904 | O7: ='signal-per-mass-dry-wt ave'!AT7 -> 0.043470025 | P7: ='signal-per-mass-dry-wt ave'!AU7 -> 0.032816643 | Q7: ='signal-per-mass-dry-wt ave'!BA7 -> 0.060424163 | R7: ='signal-per-mass-dry-wt ave'!BB7 -> 0.027886868 | S7: ='signal-per-mass-dry-wt ave'!BH7 -> 0.060910559 | T7: ='signal-per-mass-dry-wt ave'!BI7 -> 0.021154397 | U7: ='signal-per-mass-dry-wt ave'!BO7 -> 0.041965891 | V7: ='signal-per-mass-dry-wt ave'!BP7 -> 0.021289972 | W7: ='signal-per-mass-dry-wt ave'!BV7 -> 0.093000276 | X7: ='signal-per-mass-dry-wt ave'!BW7 -> 0.03459123 | Y7: ='signal-per-mass-dry-wt ave'!CC7 -> 0.01478437 | Z7: ='signal-per-mass-dry-wt ave'!CD7 -> 0.00945915 | AA7: ='signal-per-mass-dry-wt ave'!CJ7 -> 0.043335785 | AB7: ='signal-per-mass-dry-wt ave'!CK7 -> 0.028855746 | AC7: ='signal-per-mass-dry-wt ave'!CQ7 -> 0.045765778 | AD7: ='signal-per-mass-dry-wt ave'!CR7 -> 0.02559581 | AE7: ='signal-per-mass-dry-wt ave'!CX7 -> 0.029350721 | AF7: ='signal-per-mass-dry-wt ave'!CY7 -> 0.022500017 | AG7: ='signal-per-mass-dry-wt ave'!DE7 -> 0.053409084 | AH7: ='signal-per-mass-dry-wt ave'!DF7 -> 0.02908773 | AI7: ='signal-per-mass-dry-wt ave'!DL7 -> 0.027113161 | AJ7: ='signal-per-mass-dry-wt ave'!DM7 -> 0.022197773 | AK7: ='signal-per-mass-dry-wt ave'!DS7 -> 0.053309868 | AL7: ='signal-per-mass-dry-wt ave'!DT7 -> 0.040349493 | AM7: ='signal-per-mass-dry-wt ave'!DZ7 -> 0.029808841 | AN7: ='signal-per-mass-dry-wt ave'!EA7 -> 0.028445672 | AO7: ='signal-per-mass-dry-wt ave'!EG7 -> 0.047152907 | AP7: ='signal-per-mass-dry-wt ave'!EH7 -> 0.039807398 | AR7: ='% total signal ave'!Q7 -> 0.08575963 | AS7: ='% total signal ave'!R7 -> 0.021146906 | AT7: ='% total signal ave'!S7 -> 0.24658345 | AU7: ='% total signal ave'!Y7 -> 0.078616563 | AV7: ='% total signal ave'!Z7 -> 0.012934857 | AW7: ='% total signal ave'!AF7 -> 0.097579348 | AX7: ='% total signal ave'!AG7 -> 0.027286922 | AY7: ='% total signal ave'!AM7 -> 0.092139426 | AZ7: ='% total signal ave'!AN7 -> 0.012021726 | BA7: ='% total signal ave'!AT7 -> 0.069444017 | BB7: ='% total signal ave'!AU7 -> 0.030187742 | BC7: ='% total signal ave'!BA7 -> 0.067085795 | BD7: ='% total signal ave'!BB7 -> 0.0078994968 | BE7: ='% total signal ave'!BH7 -> 0.073224477 | BF7: ='% total signal ave'!BI7 -> 0.016725021 | BG7: ='% total signal ave'!BO7 -> 0.073633595 | BH7: ='% total signal ave'!BP7 -> 0.023147549 | BI7: ='% total signal ave'!BV7 -> 0.073943572 | BJ7: ='% total signal ave'!BW7 -> 0.011586218 | BK7: ='% total signal ave'!CC7 -> 0.061797245 | BL7: ='% total signal ave'!CD7 -> 0.036007677 | BM7: ='% total signal ave'!CJ7 -> 0.093600583 | BN7: ='% total signal ave'!CK7 -> 0.033606242 | BO7: ='% total signal ave'!CQ7 -> 0.11169193 | BP7: ='% total signal ave'!CR7 -> 0.036739667 | BQ7: ='% total signal ave'!CX7 -> 0.083295502 | BR7: ='% total signal ave'!CY7 -> 0.034473303 | BS7: ='% total signal ave'!DE7 -> 0.10525928 | BT7: ='% total signal ave'!DF7 -> 0.02420151 | BU7: ='% total signal ave'!DL7 -> 0.07174382 | BV7: ='% total signal ave'!DM7 -> 0.044469056 | BW7: ='% total signal ave'!DS7 -> 0.098189924 | BX7: ='% total signal ave'!DT7 -> 0.018922321 | BY7: ='% total signal ave'!DZ7 -> 0.098524853 | BZ7: ='% total signal ave'!EA7 -> 0.022454393 | CA7: ='% total signal ave'!EG7 -> 0.084185911 | CB7: ='% total signal ave'!EH7 -> 0.051394142
A8: ='imported data from Web Calc'!A7 -> 932.6 | B8: ='imported data from Web Calc'!B7 -> C49H86O15 | C8: ='imported data from Web Calc'!C7 -> DGDG(34:3) | D8: ='amount-analyzed sorted'!Q8 -> 0.23866071 | F8: ='signal-per-mass-dry-wt ave'!Q8 -> 3.0744682 | G8: ='signal-per-mass-dry-wt ave'!R8 -> 0.22410578 | H8: ='signal-per-mass-dry-wt ave'!S8 -> 0.072892536 | I8: ='signal-per-mass-dry-wt ave'!Y8 -> 7.1378994 | J8: ='signal-per-mass-dry-wt ave'!Z8 -> 2.9156673 | K8: ='signal-per-mass-dry-wt ave'!AF8 -> 3.3805633 | L8: ='signal-per-mass-dry-wt ave'!AG8 -> 1.7639186 | M8: ='signal-per-mass-dry-wt ave'!AM8 -> 2.2300609 | N8: ='signal-per-mass-dry-wt ave'!AN8 -> 0.52957534 | O8: ='signal-per-mass-dry-wt ave'!AT8 -> 2.7637906 | P8: ='signal-per-mass-dry-wt ave'!AU8 -> 1.7135779 | Q8: ='signal-per-mass-dry-wt ave'!BA8 -> 3.8823799 | R8: ='signal-per-mass-dry-wt ave'!BB8 -> 1.4916123 | S8: ='signal-per-mass-dry-wt ave'!BH8 -> 3.765631 | T8: ='signal-per-mass-dry-wt ave'!BI8 -> 1.2013315 | U8: ='signal-per-mass-dry-wt ave'!BO8 -> 2.64173 | V8: ='signal-per-mass-dry-wt ave'!BP8 -> 0.95167348 | W8: ='signal-per-mass-dry-wt ave'!BV8 -> 5.7889316 | X8: ='signal-per-mass-dry-wt ave'!BW8 -> 2.072432 | Y8: ='signal-per-mass-dry-wt ave'!CC8 -> 1.4278496 | Z8: ='signal-per-mass-dry-wt ave'!CD8 -> 0.55557163 | AA8: ='signal-per-mass-dry-wt ave'!CJ8 -> 2.9765848 | AB8: ='signal-per-mass-dry-wt ave'!CK8 -> 1.4658014 | AC8: ='signal-per-mass-dry-wt ave'!CQ8 -> 2.3753484 | AD8: ='signal-per-mass-dry-wt ave'!CR8 -> 0.73267269 | AE8: ='signal-per-mass-dry-wt ave'!CX8 -> 2.1601443 | AF8: ='signal-per-mass-dry-wt ave'!CY8 -> 1.4340932 | AG8: ='signal-per-mass-dry-wt ave'!DE8 -> 3.0989922 | AH8: ='signal-per-mass-dry-wt ave'!DF8 -> 1.0567686 | AI8: ='signal-per-mass-dry-wt ave'!DL8 -> 1.8882828 | AJ8: ='signal-per-mass-dry-wt ave'!DM8 -> 0.99379739 | AK8: ='signal-per-mass-dry-wt ave'!DS8 -> 3.8516865 | AL8: ='signal-per-mass-dry-wt ave'!DT8 -> 2.6169075 | AM8: ='signal-per-mass-dry-wt ave'!DZ8 -> 1.9455397 | AN8: ='signal-per-mass-dry-wt ave'!EA8 -> 1.5538184 | AO8: ='signal-per-mass-dry-wt ave'!EG8 -> 3.1883699 | AP8: ='signal-per-mass-dry-wt ave'!EH8 -> 2.0865967 | AR8: ='% total signal ave'!Q8 -> 5.5629267 | AS8: ='% total signal ave'!R8 -> 0.30130347 | AT8: ='% total signal ave'!S8 -> 0.054162761 | AU8: ='% total signal ave'!Y8 -> 4.3161183 | AV8: ='% total signal ave'!Z8 -> 0.44461987 | AW8: ='% total signal ave'!AF8 -> 4.144113 | AX8: ='% total signal ave'!AG8 -> 0.32421395 | AY8: ='% total signal ave'!AM8 -> 5.7618142 | AZ8: ='% total signal ave'!AN8 -> 1.3935219 | BA8: ='% total signal ave'!AT8 -> 5.0480379 | BB8: ='% total signal ave'!AU8 -> 0.61033423 | BC8: ='% total signal ave'!BA8 -> 4.4872309 | BD8: ='% total signal ave'!BB8 -> 0.90959248 | BE8: ='% total signal ave'!BH8 -> 4.5371955 | BF8: ='% total signal ave'!BI8 -> 0.90625369 | BG8: ='% total signal ave'!BO8 -> 4.7846345 | BH8: ='% total signal ave'!BP8 -> 0.46877169 | BI8: ='% total signal ave'!BV8 -> 4.551359 | BJ8: ='% total signal ave'!BW8 -> 0.49037249 | BK8: ='% total signal ave'!CC8 -> 5.9384032 | BL8: ='% total signal ave'!CD8 -> 0.77067341 | BM8: ='% total signal ave'!CJ8 -> 6.7531973 | BN8: ='% total signal ave'!CK8 -> 0.35778475 | BO8: ='% total signal ave'!CQ8 -> 6.0803168 | BP8: ='% total signal ave'!CR8 -> 0.34068271 | BQ8: ='% total signal ave'!CX8 -> 6.9318026 | BR8: ='% total signal ave'!CY8 -> 1.1111982 | BS8: ='% total signal ave'!DE8 -> 6.4477255 | BT8: ='% total signal ave'!DF8 -> 0.27710344 | BU8: ='% total signal ave'!DL8 -> 6.4702636 | BV8: ='% total signal ave'!DM8 -> 0.47072125 | BW8: ='% total signal ave'!DS8 -> 7.4359225 | BX8: ='% total signal ave'!DT8 -> 0.61302646 | BY8: ='% total signal ave'!DZ8 -> 6.809964 | BZ8: ='% total signal ave'!EA8 -> 0.53653284 | CA8: ='% total signal ave'!EG8 -> 7.3898196 | CB8: ='% total signal ave'!EH8 -> 0.90898023
A9: ='imported data from Web Calc'!A8 -> 934.6 | B9: ='imported data from Web Calc'!B8 -> C49H88O15 | C9: ='imported data from Web Calc'!C8 -> DGDG(34:2) | D9: ='amount-analyzed sorted'!Q9 -> 0.013028571 | F9: ='signal-per-mass-dry-wt ave'!Q9 -> 0.16783629 | G9: ='signal-per-mass-dry-wt ave'!R9 -> 0.01605371 | H9: ='signal-per-mass-dry-wt ave'!S9 -> 0.095651011 | I9: ='signal-per-mass-dry-wt ave'!Y9 -> 0.3105365 | J9: ='signal-per-mass-dry-wt ave'!Z9 -> 0.15675736 | K9: ='signal-per-mass-dry-wt ave'!AF9 -> 0.14555952 | L9: ='signal-per-mass-dry-wt ave'!AG9 -> 0.047343563 | M9: ='signal-per-mass-dry-wt ave'!AM9 -> 0.079811599 | N9: ='signal-per-mass-dry-wt ave'!AN9 -> 0.006269496 | O9: ='signal-per-mass-dry-wt ave'!AT9 -> 0.1370758 | P9: ='signal-per-mass-dry-wt ave'!AU9 -> 0.07152039 | Q9: ='signal-per-mass-dry-wt ave'!BA9 -> 0.16979077 | R9: ='signal-per-mass-dry-wt ave'!BB9 -> 0.061921529 | S9: ='signal-per-mass-dry-wt ave'!BH9 -> 0.30368037 | T9: ='signal-per-mass-dry-wt ave'!BI9 -> 0.13225374 | U9: ='signal-per-mass-dry-wt ave'!BO9 -> 0.25749652 | V9: ='signal-per-mass-dry-wt ave'!BP9 -> 0.068982084 | W9: ='signal-per-mass-dry-wt ave'!BV9 -> 0.4948696 | X9: ='signal-per-mass-dry-wt ave'!BW9 -> 0.11674158 | Y9: ='signal-per-mass-dry-wt ave'!CC9 -> 0.10011494 | Z9: ='signal-per-mass-dry-wt ave'!CD9 -> 0.056566345 | AA9: ='signal-per-mass-dry-wt ave'!CJ9 -> 0.14949202 | AB9: ='signal-per-mass-dry-wt ave'!CK9 -> 0.092377444 | AC9: ='signal-per-mass-dry-wt ave'!CQ9 -> 0.14191843 | AD9: ='signal-per-mass-dry-wt ave'!CR9 -> 0.054182316 | AE9: ='signal-per-mass-dry-wt ave'!CX9 -> 0.11754816 | AF9: ='signal-per-mass-dry-wt ave'!CY9 -> 0.085788351 | AG9: ='signal-per-mass-dry-wt ave'!DE9 -> 0.14118361 | AH9: ='signal-per-mass-dry-wt ave'!DF9 -> 0.067508292 | AI9: ='signal-per-mass-dry-wt ave'!DL9 -> 0.11762051 | AJ9: ='signal-per-mass-dry-wt ave'!DM9 -> 0.062054874 | AK9: ='signal-per-mass-dry-wt ave'!DS9 -> 0.19940836 | AL9: ='signal-per-mass-dry-wt ave'!DT9 -> 0.12262588 | AM9: ='signal-per-mass-dry-wt ave'!DZ9 -> 0.10356829 | AN9: ='signal-per-mass-dry-wt ave'!EA9 -> 0.076058961 | AO9: ='signal-per-mass-dry-wt ave'!EG9 -> 0.2230118 | AP9: ='signal-per-mass-dry-wt ave'!EH9 -> 0.12798615 | AR9: ='% total signal ave'!Q9 -> 0.30421994 | AS9: ='% total signal ave'!R9 -> 0.03210509 | AT9: ='% total signal ave'!S9 -> 0.1055325 | AU9: ='% total signal ave'!Y9 -> 0.18387793 | AV9: ='% total signal ave'!Z9 -> 0.031919285 | AW9: ='% total signal ave'!AF9 -> 0.2004139 | AX9: ='% total signal ave'!AG9 -> 0.057251051 | AY9: ='% total signal ave'!AM9 -> 0.20998838 | AZ9: ='% total signal ave'!AN9 -> 0.052189781 | BA9: ='% total signal ave'!AT9 -> 0.28684065 | BB9: ='% total signal ave'!AU9 -> 0.12696809 | BC9: ='% total signal ave'!BA9 -> 0.19822153 | BD9: ='% total signal ave'!BB9 -> 0.044768097 | BE9: ='% total signal ave'!BH9 -> 0.35341071 | BF9: ='% total signal ave'!BI9 -> 0.024963553 | BG9: ='% total signal ave'!BO9 -> 0.47654755 | BH9: ='% total signal ave'!BP9 -> 0.0654445 | BI9: ='% total signal ave'!BV9 -> 0.4021767 | BJ9: ='% total signal ave'!BW9 -> 0.045390986 | BK9: ='% total signal ave'!CC9 -> 0.40752146 | BL9: ='% total signal ave'!CD9 -> 0.11203573 | BM9: ='% total signal ave'!CJ9 -> 0.32044886 | BN9: ='% total signal ave'!CK9 -> 0.053065425 | BO9: ='% total signal ave'!CQ9 -> 0.36672978 | BP9: ='% total signal ave'!CR9 -> 0.09333264 | BQ9: ='% total signal ave'!CX9 -> 0.33199198 | BR9: ='% total signal ave'!CY9 -> 0.09553285 | BS9: ='% total signal ave'!DE9 -> 0.2913004 | BT9: ='% total signal ave'!DF9 -> 0.092381902 | BU9: ='% total signal ave'!DL9 -> 0.39841249 | BV9: ='% total signal ave'!DM9 -> 0.096372381 | BW9: ='% total signal ave'!DS9 -> 0.40066752 | BX9: ='% total signal ave'!DT9 -> 0.09321458 | BY9: ='% total signal ave'!DZ9 -> 0.38252677 | BZ9: ='% total signal ave'!EA9 -> 0.05722042 | CA9: ='% total signal ave'!EG9 -> 0.55908187 | CB9: ='% total signal ave'!EH9 -> 0.13832706
A10: ='imported data from Web Calc'!A9 -> 936.6 | B10: ='imported data from Web Calc'!B9 -> C49H90O15 | C10: ='imported data from Web Calc'!C9 -> DGDG(34:1) | D10: ='amount-analyzed sorted'!Q10 -> 0.023296429 | F10: ='signal-per-mass-dry-wt ave'!Q10 -> 0.30010858 | G10: ='signal-per-mass-dry-wt ave'!R10 -> 0.026588298 | H10: ='signal-per-mass-dry-wt ave'!S10 -> 0.088595595 | I10: ='signal-per-mass-dry-wt ave'!Y10 -> 0.50780128 | J10: ='signal-per-mass-dry-wt ave'!Z10 -> 0.16088109 | K10: ='signal-per-mass-dry-wt ave'!AF10 -> 0.29349436 | L10: ='signal-per-mass-dry-wt ave'!AG10 -> 0.15528223 | M10: ='signal-per-mass-dry-wt ave'!AM10 -> 0.17478965 | N10: ='signal-per-mass-dry-wt ave'!AN10 -> 0.031673455 | O10: ='signal-per-mass-dry-wt ave'!AT10 -> 0.19901352 | P10: ='signal-per-mass-dry-wt ave'!AU10 -> 0.11450876 | Q10: ='signal-per-mass-dry-wt ave'!BA10 -> 0.28523723 | R10: ='signal-per-mass-dry-wt ave'!BB10 -> 0.10685794 | S10: ='signal-per-mass-dry-wt ave'!BH10 -> 0.31652918 | T10: ='signal-per-mass-dry-wt ave'!BI10 -> 0.13104706 | U10: ='signal-per-mass-dry-wt ave'!BO10 -> 0.2531341 | V10: ='signal-per-mass-dry-wt ave'!BP10 -> 0.093269829 | W10: ='signal-per-mass-dry-wt ave'!BV10 -> 0.54021141 | X10: ='signal-per-mass-dry-wt ave'!BW10 -> 0.17989417 | Y10: ='signal-per-mass-dry-wt ave'!CC10 -> 0.11961862 | Z10: ='signal-per-mass-dry-wt ave'!CD10 -> 0.072621048 | AA10: ='signal-per-mass-dry-wt ave'!CJ10 -> 0.3279976 | AB10: ='signal-per-mass-dry-wt ave'!CK10 -> 0.18217362 | AC10: ='signal-per-mass-dry-wt ave'!CQ10 -> 0.34133451 | AD10: ='signal-per-mass-dry-wt ave'!CR10 -> 0.11687753 | AE10: ='signal-per-mass-dry-wt ave'!CX10 -> 0.25173556 | AF10: ='signal-per-mass-dry-wt ave'!CY10 -> 0.17419131 | AG10: ='signal-per-mass-dry-wt ave'!DE10 -> 0.32281112 | AH10: ='signal-per-mass-dry-wt ave'!DF10 -> 0.11701759 | AI10: ='signal-per-mass-dry-wt ave'!DL10 -> 0.18714983 | AJ10: ='signal-per-mass-dry-wt ave'!DM10 -> 0.098121348 | AK10: ='signal-per-mass-dry-wt ave'!DS10 -> 0.37677662 | AL10: ='signal-per-mass-dry-wt ave'!DT10 -> 0.25537456 | AM10: ='signal-per-mass-dry-wt ave'!DZ10 -> 0.17927176 | AN10: ='signal-per-mass-dry-wt ave'!EA10 -> 0.13798026 | AO10: ='signal-per-mass-dry-wt ave'!EG10 -> 0.37703783 | AP10: ='signal-per-mass-dry-wt ave'!EH10 -> 0.26910464 | AR10: ='% total signal ave'!Q10 -> 0.54299075 | AS10: ='% total signal ave'!R10 -> 0.041066529 | AT10: ='% total signal ave'!S10 -> 0.075630254 | AU10: ='% total signal ave'!Y10 -> 0.31459767 | AV10: ='% total signal ave'!Z10 -> 0.043115046 | AW10: ='% total signal ave'!AF10 -> 0.36055321 | AX10: ='% total signal ave'!AG10 -> 0.035653267 | AY10: ='% total signal ave'!AM10 -> 0.46437812 | AZ10: ='% total signal ave'!AN10 -> 0.16485486 | BA10: ='% total signal ave'!AT10 -> 0.37816788 | BB10: ='% total signal ave'!AU10 -> 0.074039197 | BC10: ='% total signal ave'!BA10 -> 0.32619632 | BD10: ='% total signal ave'!BB10 -> 0.051155743 | BE10: ='% total signal ave'!BH10 -> 0.37328635 | BF10: ='% total signal ave'!BI10 -> 0.051381404 | BG10: ='% total signal ave'!BO10 -> 0.45927743 | BH10: ='% total signal ave'!BP10 -> 0.091086971 | BI10: ='% total signal ave'!BV10 -> 0.4279549 | BJ10: ='% total signal ave'!BW10 -> 0.032368732 | BK10: ='% total signal ave'!CC10 -> 0.45853182 | BL10: ='% total signal ave'!CD10 -> 0.10929602 | BM10: ='% total signal ave'!CJ10 -> 0.7292809 | BN10: ='% total signal ave'!CK10 -> 0.045469102 | BO10: ='% total signal ave'!CQ10 -> 0.86825686 | BP10: ='% total signal ave'!CR10 -> 0.069938295 | BQ10: ='% total signal ave'!CX10 -> 0.76290653 | BR10: ='% total signal ave'!CY10 -> 0.088952759 | BS10: ='% total signal ave'!DE10 -> 0.66605106 | BT10: ='% total signal ave'!DF10 -> 0.024448455 | BU10: ='% total signal ave'!DL10 -> 0.64710278 | BV10: ='% total signal ave'!DM10 -> 0.075722427 | BW10: ='% total signal ave'!DS10 -> 0.72651448 | BX10: ='% total signal ave'!DT10 -> 0.11057456 | BY10: ='% total signal ave'!DZ10 -> 0.61969714 | BZ10: ='% total signal ave'!EA10 -> 0.10878548 | CA10: ='% total signal ave'!EG10 -> 0.81438645 | CB10: ='% total signal ave'!EH10 -> 0.1274694
A11: ='imported data from Web Calc'!A10 -> 954.6 | B11: ='imported data from Web Calc'!B10 -> C51H84O15 | C11: ='imported data from Web Calc'!C10 -> DGDG(36:6) | D11: ='amount-analyzed sorted'!Q11 -> 0.20667857 | F11: ='signal-per-mass-dry-wt ave'!Q11 -> 2.6624687 | G11: ='signal-per-mass-dry-wt ave'!R11 -> 0.10333728 | H11: ='signal-per-mass-dry-wt ave'!S11 -> 0.03881258 | I11: ='signal-per-mass-dry-wt ave'!Y11 -> 7.9732993 | J11: ='signal-per-mass-dry-wt ave'!Z11 -> 3.1736518 | K11: ='signal-per-mass-dry-wt ave'!AF11 -> 4.008109 | L11: ='signal-per-mass-dry-wt ave'!AG11 -> 2.0246136 | M11: ='signal-per-mass-dry-wt ave'!AM11 -> 2.1921589 | N11: ='signal-per-mass-dry-wt ave'!AN11 -> 0.46666377 | O11: ='signal-per-mass-dry-wt ave'!AT11 -> 2.6486922 | P11: ='signal-per-mass-dry-wt ave'!AU11 -> 1.5012367 | Q11: ='signal-per-mass-dry-wt ave'!BA11 -> 4.1531434 | R11: ='signal-per-mass-dry-wt ave'!BB11 -> 1.480607 | S11: ='signal-per-mass-dry-wt ave'!BH11 -> 3.8213248 | T11: ='signal-per-mass-dry-wt ave'!BI11 -> 1.3827989 | U11: ='signal-per-mass-dry-wt ave'!BO11 -> 2.5636229 | V11: ='signal-per-mass-dry-wt ave'!BP11 -> 1.1350157 | W11: ='signal-per-mass-dry-wt ave'!BV11 -> 5.5969824 | X11: ='signal-per-mass-dry-wt ave'!BW11 -> 1.6937833 | Y11: ='signal-per-mass-dry-wt ave'!CC11 -> 1.4015055 | Z11: ='signal-per-mass-dry-wt ave'!CD11 -> 0.53992461 | AA11: ='signal-per-mass-dry-wt ave'!CJ11 -> 2.1429685 | AB11: ='signal-per-mass-dry-wt ave'!CK11 -> 0.95222067 | AC11: ='signal-per-mass-dry-wt ave'!CQ11 -> 1.5698031 | AD11: ='signal-per-mass-dry-wt ave'!CR11 -> 0.33319881 | AE11: ='signal-per-mass-dry-wt ave'!CX11 -> 1.5539991 | AF11: ='signal-per-mass-dry-wt ave'!CY11 -> 1.1197156 | AG11: ='signal-per-mass-dry-wt ave'!DE11 -> 2.1469298 | AH11: ='signal-per-mass-dry-wt ave'!DF11 -> 0.53962571 | AI11: ='signal-per-mass-dry-wt ave'!DL11 -> 1.329617 | AJ11: ='signal-per-mass-dry-wt ave'!DM11 -> 0.66036316 | AK11: ='signal-per-mass-dry-wt ave'!DS11 -> 2.7280191 | AL11: ='signal-per-mass-dry-wt ave'!DT11 -> 2.2237667 | AM11: ='signal-per-mass-dry-wt ave'!DZ11 -> 1.5073456 | AN11: ='signal-per-mass-dry-wt ave'!EA11 -> 1.2198423 | AO11: ='signal-per-mass-dry-wt ave'!EG11 -> 2.0854951 | AP11: ='signal-per-mass-dry-wt ave'!EH11 -> 1.2742179 | AR11: ='% total signal ave'!Q11 -> 4.8210314 | AS11: ='% total signal ave'!R11 -> 0.15182776 | AT11: ='% total signal ave'!S11 -> 0.031492797 | AU11: ='% total signal ave'!Y11 -> 4.8010896 | AV11: ='% total signal ave'!Z11 -> 0.35796679 | AW11: ='% total signal ave'!AF11 -> 4.9761014 | AX11: ='% total signal ave'!AG11 -> 0.35498287 | AY11: ='% total signal ave'!AM11 -> 5.6268383 | AZ11: ='% total signal ave'!AN11 -> 0.93402987 | BA11: ='% total signal ave'!AT11 -> 4.8832819 | BB11: ='% total signal ave'!AU11 -> 0.45961511 | BC11: ='% total signal ave'!BA11 -> 4.8135794 | BD11: ='% total signal ave'!BB11 -> 0.86947034 | BE11: ='% total signal ave'!BH11 -> 4.5202066 | BF11: ='% total signal ave'!BI11 -> 0.68422717 | BG11: ='% total signal ave'!BO11 -> 4.5487803 | BH11: ='% total signal ave'!BP11 -> 0.8047015 | BI11: ='% total signal ave'!BV11 -> 4.4688826 | BJ11: ='% total signal ave'!BW11 -> 0.30044187 | BK11: ='% total signal ave'!CC11 -> 5.8233513 | BL11: ='% total signal ave'!CD11 -> 0.67003674 | BM11: ='% total signal ave'!CJ11 -> 4.9438129 | BN11: ='% total signal ave'!CK11 -> 0.89627635 | BO11: ='% total signal ave'!CQ11 -> 4.1339177 | BP11: ='% total signal ave'!CR11 -> 0.76547249 | BQ11: ='% total signal ave'!CX11 -> 4.9698643 | BR11: ='% total signal ave'!CY11 -> 1.2749556 | BS11: ='% total signal ave'!DE11 -> 4.6103599 | BT11: ='% total signal ave'!DF11 -> 0.65467089 | BU11: ='% total signal ave'!DL11 -> 4.6140662 | BV11: ='% total signal ave'!DM11 -> 0.48774652 | BW11: ='% total signal ave'!DS11 -> 4.8824846 | BX11: ='% total signal ave'!DT11 -> 0.71586356 | BY11: ='% total signal ave'!DZ11 -> 5.2047464 | BZ11: ='% total signal ave'!EA11 -> 0.67970226 | CA11: ='% total signal ave'!EG11 -> 5.0912032 | CB11: ='% total signal ave'!EH11 -> 1.0107373
A12: ='imported data from Web Calc'!A11 -> 956.6 | B12: ='imported data from Web Calc'!B11 -> C51H86O15 | C12: ='imported data from Web Calc'!C11 -> DGDG(36:5) | D12: ='amount-analyzed sorted'!Q12 -> 0.014825 | F12: ='signal-per-mass-dry-wt ave'!Q12 -> 0.19097819 | G12: ='signal-per-mass-dry-wt ave'!R12 -> 0.025680635 | H12: ='signal-per-mass-dry-wt ave'!S12 -> 0.13446894 | I12: ='signal-per-mass-dry-wt ave'!Y12 -> 0.42979539 | J12: ='signal-per-mass-dry-wt ave'!Z12 -> 0.17682803 | K12: ='signal-per-mass-dry-wt ave'!AF12 -> 0.1949278 | L12: ='signal-per-mass-dry-wt ave'!AG12 -> 0.10943229 | M12: ='signal-per-mass-dry-wt ave'!AM12 -> 0.12186466 | N12: ='signal-per-mass-dry-wt ave'!AN12 -> 0.038526712 | O12: ='signal-per-mass-dry-wt ave'!AT12 -> 0.20567606 | P12: ='signal-per-mass-dry-wt ave'!AU12 -> 0.066805565 | Q12: ='signal-per-mass-dry-wt ave'!BA12 -> 0.29122938 | R12: ='signal-per-mass-dry-wt ave'!BB12 -> 0.11937712 | S12: ='signal-per-mass-dry-wt ave'!BH12 -> 0.42495616 | T12: ='signal-per-mass-dry-wt ave'!BI12 -> 0.18040759 | U12: ='signal-per-mass-dry-wt ave'!BO12 -> 0.32967018 | V12: ='signal-per-mass-dry-wt ave'!BP12 -> 0.12400585 | W12: ='signal-per-mass-dry-wt ave'!BV12 -> 0.56521263 | X12: ='signal-per-mass-dry-wt ave'!BW12 -> 0.17442102 | Y12: ='signal-per-mass-dry-wt ave'!CC12 -> 0.10863684 | Z12: ='signal-per-mass-dry-wt ave'!CD12 -> 0.0475163 | AA12: ='signal-per-mass-dry-wt ave'!CJ12 -> 0.14557765 | AB12: ='signal-per-mass-dry-wt ave'!CK12 -> 0.082817753 | AC12: ='signal-per-mass-dry-wt ave'!CQ12 -> 0.13634198 | AD12: ='signal-per-mass-dry-wt ave'!CR12 -> 0.046833566 | AE12: ='signal-per-mass-dry-wt ave'!CX12 -> 0.11210237 | AF12: ='signal-per-mass-dry-wt ave'!CY12 -> 0.08714853 | AG12: ='signal-per-mass-dry-wt ave'!DE12 -> 0.15878533 | AH12: ='signal-per-mass-dry-wt ave'!DF12 -> 0.067059351 | AI12: ='signal-per-mass-dry-wt ave'!DL12 -> 0.12614045 | AJ12: ='signal-per-mass-dry-wt ave'!DM12 -> 0.072043257 | AK12: ='signal-per-mass-dry-wt ave'!DS12 -> 0.24379333 | AL12: ='signal-per-mass-dry-wt ave'!DT12 -> 0.18534451 | AM12: ='signal-per-mass-dry-wt ave'!DZ12 -> 0.12816425 | AN12: ='signal-per-mass-dry-wt ave'!EA12 -> 0.090337683 | AO12: ='signal-per-mass-dry-wt ave'!EG12 -> 0.22885414 | AP12: ='signal-per-mass-dry-wt ave'!EH12 -> 0.1327905 | AR12: ='% total signal ave'!Q12 -> 0.34527725 | AS12: ='% total signal ave'!R12 -> 0.039641219 | AT12: ='% total signal ave'!S12 -> 0.11480982 | AU12: ='% total signal ave'!Y12 -> 0.26105363 | AV12: ='% total signal ave'!Z12 -> 0.033229911 | AW12: ='% total signal ave'!AF12 -> 0.23222069 | AX12: ='% total signal ave'!AG12 -> 0.030031202 | AY12: ='% total signal ave'!AM12 -> 0.31964859 | AZ12: ='% total signal ave'!AN12 -> 0.12100925 | BA12: ='% total signal ave'!AT12 -> 0.48777616 | BB12: ='% total signal ave'!AU12 -> 0.33442316 | BC12: ='% total signal ave'!BA12 -> 0.3315606 | BD12: ='% total signal ave'!BB12 -> 0.073955353 | BE12: ='% total signal ave'!BH12 -> 0.50112769 | BF12: ='% total signal ave'!BI12 -> 0.10128757 | BG12: ='% total signal ave'!BO12 -> 0.59358054 | BH12: ='% total signal ave'!BP12 -> 0.10840751 | BI12: ='% total signal ave'!BV12 -> 0.45399103 | BJ12: ='% total signal ave'!BW12 -> 0.052345754 | BK12: ='% total signal ave'!CC12 -> 0.43743076 | BL12: ='% total signal ave'!CD12 -> 0.072496635 | BM12: ='% total signal ave'!CJ12 -> 0.31749224 | BN12: ='% total signal ave'!CK12 -> 0.067370724 | BO12: ='% total signal ave'!CQ12 -> 0.35060733 | BP12: ='% total signal ave'!CR12 -> 0.086315974 | BQ12: ='% total signal ave'!CX12 -> 0.35501223 | BR12: ='% total signal ave'!CY12 -> 0.10431254 | BS12: ='% total signal ave'!DE12 -> 0.32556885 | BT12: ='% total signal ave'!DF12 -> 0.085921118 | BU12: ='% total signal ave'!DL12 -> 0.44627974 | BV12: ='% total signal ave'!DM12 -> 0.11787374 | BW12: ='% total signal ave'!DS12 -> 0.44961456 | BX12: ='% total signal ave'!DT12 -> 0.040685576 | BY12: ='% total signal ave'!DZ12 -> 0.50002953 | BZ12: ='% total signal ave'!EA12 -> 0.15372353 | CA12: ='% total signal ave'!EG12 -> 0.57199618 | CB12: ='% total signal ave'!EH12 -> 0.21761436
A13: ='imported data from Web Calc'!A12 -> 958.6 | B13: ='imported data from Web Calc'!B12 -> C51H88O15 | C13: ='imported data from Web Calc'!C12 -> DGDG(36:4) | D13: ='amount-analyzed sorted'!Q13 -> 0.029685714 | F13: ='signal-per-mass-dry-wt ave'!Q13 -> 0.38241645 | G13: ='signal-per-mass-dry-wt ave'!R13 -> 0.028965161 | H13: ='signal-per-mass-dry-wt ave'!S13 -> 0.075742455 | I13: ='signal-per-mass-dry-wt ave'!Y13 -> 0.90537621 | J13: ='signal-per-mass-dry-wt ave'!Z13 -> 0.23822927 | K13: ='signal-per-mass-dry-wt ave'!AF13 -> 0.47506784 | L13: ='signal-per-mass-dry-wt ave'!AG13 -> 0.24823525 | M13: ='signal-per-mass-dry-wt ave'!AM13 -> 0.22460707 | N13: ='signal-per-mass-dry-wt ave'!AN13 -> 0.029457755 | O13: ='signal-per-mass-dry-wt ave'!AT13 -> 0.30417948 | P13: ='signal-per-mass-dry-wt ave'!AU13 -> 0.14354349 | Q13: ='signal-per-mass-dry-wt ave'!BA13 -> 0.49721511 | R13: ='signal-per-mass-dry-wt ave'!BB13 -> 0.21825004 | S13: ='signal-per-mass-dry-wt ave'!BH13 -> 0.458159 | T13: ='signal-per-mass-dry-wt ave'!BI13 -> 0.18890234 | U13: ='signal-per-mass-dry-wt ave'!BO13 -> 0.33625367 | V13: ='signal-per-mass-dry-wt ave'!BP13 -> 0.10941242 | W13: ='signal-per-mass-dry-wt ave'!BV13 -> 0.72068219 | X13: ='signal-per-mass-dry-wt ave'!BW13 -> 0.24195698 | Y13: ='signal-per-mass-dry-wt ave'!CC13 -> 0.1600479 | Z13: ='signal-per-mass-dry-wt ave'!CD13 -> 0.061978205 | AA13: ='signal-per-mass-dry-wt ave'!CJ13 -> 0.39202845 | AB13: ='signal-per-mass-dry-wt ave'!CK13 -> 0.21125306 | AC13: ='signal-per-mass-dry-wt ave'!CQ13 -> 0.41593175 | AD13: ='signal-per-mass-dry-wt ave'!CR13 -> 0.1359125 | AE13: ='signal-per-mass-dry-wt ave'!CX13 -> 0.31061611 | AF13: ='signal-per-mass-dry-wt ave'!CY13 -> 0.19776043 | AG13: ='signal-per-mass-dry-wt ave'!DE13 -> 0.41027846 | AH13: ='signal-per-mass-dry-wt ave'!DF13 -> 0.14336974 | AI13: ='signal-per-mass-dry-wt ave'!DL13 -> 0.25951646 | AJ13: ='signal-per-mass-dry-wt ave'!DM13 -> 0.12710508 | AK13: ='signal-per-mass-dry-wt ave'!DS13 -> 0.48355687 | AL13: ='signal-per-mass-dry-wt ave'!DT13 -> 0.3206731 | AM13: ='signal-per-mass-dry-wt ave'!DZ13 -> 0.25080547 | AN13: ='signal-per-mass-dry-wt ave'!EA13 -> 0.18877058 | AO13: ='signal-per-mass-dry-wt ave'!EG13 -> 0.37166166 | AP13: ='signal-per-mass-dry-wt ave'!EH13 -> 0.22991134 | AR13: ='% total signal ave'!Q13 -> 0.69264353 | AS13: ='% total signal ave'!R13 -> 0.053334105 | AT13: ='% total signal ave'!S13 -> 0.077000799 | AU13: ='% total signal ave'!Y13 -> 0.56568534 | AV13: ='% total signal ave'!Z13 -> 0.060073168 | AW13: ='% total signal ave'!AF13 -> 0.58724484 | AX13: ='% total signal ave'!AG13 -> 0.056180436 | AY13: ='% total signal ave'!AM13 -> 0.58015991 | AZ13: ='% total signal ave'!AN13 -> 0.076405027 | BA13: ='% total signal ave'!AT13 -> 0.59620371 | BB13: ='% total signal ave'!AU13 -> 0.12026318 | BC13: ='% total signal ave'!BA13 -> 0.55108292 | BD13: ='% total signal ave'!BB13 -> 0.049763638 | BE13: ='% total signal ave'!BH13 -> 0.54219465 | BF13: ='% total signal ave'!BI13 -> 0.061580667 | BG13: ='% total signal ave'!BO13 -> 0.61272034 | BH13: ='% total signal ave'!BP13 -> 0.05868816 | BI13: ='% total signal ave'!BV13 -> 0.57078788 | BJ13: ='% total signal ave'!BW13 -> 0.017335847 | BK13: ='% total signal ave'!CC13 -> 0.67321604 | BL13: ='% total signal ave'!CD13 -> 0.13877647 | BM13: ='% total signal ave'!CJ13 -> 0.88481964 | BN13: ='% total signal ave'!CK13 -> 0.1571328 | BO13: ='% total signal ave'!CQ13 -> 1.0582468 | BP13: ='% total signal ave'!CR13 -> 0.04729664 | BQ13: ='% total signal ave'!CX13 -> 0.98480482 | BR13: ='% total signal ave'!CY13 -> 0.057684228 | BS13: ='% total signal ave'!DE13 -> 0.84886643 | BT13: ='% total signal ave'!DF13 -> 0.063087164 | BU13: ='% total signal ave'!DL13 -> 0.91056716 | BV13: ='% total signal ave'!DM13 -> 0.13109688 | BW13: ='% total signal ave'!DS13 -> 0.94719062 | BX13: ='% total signal ave'!DT13 -> 0.097036735 | BY13: ='% total signal ave'!DZ13 -> 0.86101153 | BZ13: ='% total signal ave'!EA13 -> 0.20507912 | CA13: ='% total signal ave'!EG13 -> 0.86847079 | CB13: ='% total signal ave'!EH13 -> 0.15544516
A14: ='imported data from Web Calc'!A13 -> 960.6 | B14: ='imported data from Web Calc'!B13 -> C51H90O15 | C14: ='imported data from Web Calc'!C13 -> DGDG(36:3) | D14: ='amount-analyzed sorted'!Q14 -> 0.058157143 | F14: ='signal-per-mass-dry-wt ave'!Q14 -> 0.74919026 | G14: ='signal-per-mass-dry-wt ave'!R14 -> 0.043489051 | H14: ='signal-per-mass-dry-wt ave'!S14 -> 0.058048073 | I14: ='signal-per-mass-dry-wt ave'!Y14 -> 1.8500168 | J14: ='signal-per-mass-dry-wt ave'!Z14 -> 0.85942235 | K14: ='signal-per-mass-dry-wt ave'!AF14 -> 1.0452904 | L14: ='signal-per-mass-dry-wt ave'!AG14 -> 0.59979921 | M14: ='signal-per-mass-dry-wt ave'!AM14 -> 0.62088228 | N14: ='signal-per-mass-dry-wt ave'!AN14 -> 0.12826476 | O14: ='signal-per-mass-dry-wt ave'!AT14 -> 0.75328113 | P14: ='signal-per-mass-dry-wt ave'!AU14 -> 0.44913543 | Q14: ='signal-per-mass-dry-wt ave'!BA14 -> 1.128069 | R14: ='signal-per-mass-dry-wt ave'!BB14 -> 0.42123073 | S14: ='signal-per-mass-dry-wt ave'!BH14 -> 1.137301 | T14: ='signal-per-mass-dry-wt ave'!BI14 -> 0.44481926 | U14: ='signal-per-mass-dry-wt ave'!BO14 -> 0.82442964 | V14: ='signal-per-mass-dry-wt ave'!BP14 -> 0.27676098 | W14: ='signal-per-mass-dry-wt ave'!BV14 -> 1.595269 | X14: ='signal-per-mass-dry-wt ave'!BW14 -> 0.4581829 | Y14: ='signal-per-mass-dry-wt ave'!CC14 -> 0.35615671 | Z14: ='signal-per-mass-dry-wt ave'!CD14 -> 0.15500046 | AA14: ='signal-per-mass-dry-wt ave'!CJ14 -> 0.5558523 | AB14: ='signal-per-mass-dry-wt ave'!CK14 -> 0.25552006 | AC14: ='signal-per-mass-dry-wt ave'!CQ14 -> 0.46826065 | AD14: ='signal-per-mass-dry-wt ave'!CR14 -> 0.13733237 | AE14: ='signal-per-mass-dry-wt ave'!CX14 -> 0.4498827 | AF14: ='signal-per-mass-dry-wt ave'!CY14 -> 0.28728459 | AG14: ='signal-per-mass-dry-wt ave'!DE14 -> 0.60101864 | AH14: ='signal-per-mass-dry-wt ave'!DF14 -> 0.19456094 | AI14: ='signal-per-mass-dry-wt ave'!DL14 -> 0.3735471 | AJ14: ='signal-per-mass-dry-wt ave'!DM14 -> 0.18308046 | AK14: ='signal-per-mass-dry-wt ave'!DS14 -> 0.8548129 | AL14: ='signal-per-mass-dry-wt ave'!DT14 -> 0.64090717 | AM14: ='signal-per-mass-dry-wt ave'!DZ14 -> 0.42198542 | AN14: ='signal-per-mass-dry-wt ave'!EA14 -> 0.32946724 | AO14: ='signal-per-mass-dry-wt ave'!EG14 -> 0.64276855 | AP14: ='signal-per-mass-dry-wt ave'!EH14 -> 0.39265828 | AR14: ='% total signal ave'!Q14 -> 1.3568916 | AS14: ='% total signal ave'!R14 -> 0.078806324 | AT14: ='% total signal ave'!S14 -> 0.05807857 | AU14: ='% total signal ave'!Y14 -> 1.0971978 | AV14: ='% total signal ave'!Z14 -> 0.18119302 | AW14: ='% total signal ave'!AF14 -> 1.2436364 | AX14: ='% total signal ave'!AG14 -> 0.10593649 | AY14: ='% total signal ave'!AM14 -> 1.5780421 | AZ14: ='% total signal ave'!AN14 -> 0.10430272 | BA14: ='% total signal ave'!AT14 -> 1.4438548 | BB14: ='% total signal ave'!AU14 -> 0.3528747 | BC14: ='% total signal ave'!BA14 -> 1.2984568 | BD14: ='% total signal ave'!BB14 -> 0.22354732 | BE14: ='% total signal ave'!BH14 -> 1.3503033 | BF14: ='% total signal ave'!BI14 -> 0.25912444 | BG14: ='% total signal ave'!BO14 -> 1.5088311 | BH14: ='% total signal ave'!BP14 -> 0.23806408 | BI14: ='% total signal ave'!BV14 -> 1.2798218 | BJ14: ='% total signal ave'!BW14 -> 0.13405082 | BK14: ='% total signal ave'!CC14 -> 1.4627523 | BL14: ='% total signal ave'!CD14 -> 0.19138769 | BM14: ='% total signal ave'!CJ14 -> 1.2706278 | BN14: ='% total signal ave'!CK14 -> 0.18288541 | BO14: ='% total signal ave'!CQ14 -> 1.2076352 | BP14: ='% total signal ave'!CR14 -> 0.17511015 | BQ14: ='% total signal ave'!CX14 -> 1.5061338 | BR14: ='% total signal ave'!CY14 -> 0.37506218 | BS14: ='% total signal ave'!DE14 -> 1.257493 | BT14: ='% total signal ave'!DF14 -> 0.10649149 | BU14: ='% total signal ave'!DL14 -> 1.298025 | BV14: ='% total signal ave'!DM14 -> 0.12875692 | BW14: ='% total signal ave'!DS14 -> 1.5695628 | BX14: ='% total signal ave'!DT14 -> 0.31111565 | BY14: ='% total signal ave'!DZ14 -> 1.4931767 | BZ14: ='% total signal ave'!EA14 -> 0.14539549 | CA14: ='% total signal ave'!EG14 -> 1.5631351 | CB14: ='% total signal ave'!EH14 -> 0.27648441
A15: ='imported data from Web Calc'!A14 -> 962.6 | B15: ='imported data from Web Calc'!B14 -> C51H92O15 | C15: ='imported data from Web Calc'!C14 -> DGDG(36:2) | D15: ='amount-analyzed sorted'!Q15 -> 0.0033142857 | F15: ='signal-per-mass-dry-wt ave'!Q15 -> 0.042695196 | G15: ='signal-per-mass-dry-wt ave'!R15 -> 0.015855886 | H15: ='signal-per-mass-dry-wt ave'!S15 -> 0.371374 | I15: ='signal-per-mass-dry-wt ave'!Y15 -> 0.098136326 | J15: ='signal-per-mass-dry-wt ave'!Z15 -> 0.051588286 | K15: ='signal-per-mass-dry-wt ave'!AF15 -> 0.058643645 | L15: ='signal-per-mass-dry-wt ave'!AG15 -> 0.020467224 | M15: ='signal-per-mass-dry-wt ave'!AM15 -> 0.017213152 | N15: ='signal-per-mass-dry-wt ave'!AN15 -> 0.011270522 | O15: ='signal-per-mass-dry-wt ave'!AT15 -> 0.02097751 | P15: ='signal-per-mass-dry-wt ave'!AU15 -> 0.0098311848 | Q15: ='signal-per-mass-dry-wt ave'!BA15 -> 0.049106862 | R15: ='signal-per-mass-dry-wt ave'!BB15 -> 0.023660913 | S15: ='signal-per-mass-dry-wt ave'!BH15 -> 0.093771712 | T15: ='signal-per-mass-dry-wt ave'!BI15 -> 0.052641193 | U15: ='signal-per-mass-dry-wt ave'!BO15 -> 0.071703047 | V15: ='signal-per-mass-dry-wt ave'!BP15 -> 0.023619293 | W15: ='signal-per-mass-dry-wt ave'!BV15 -> 0.13356023 | X15: ='signal-per-mass-dry-wt ave'!BW15 -> 0.044549906 | Y15: ='signal-per-mass-dry-wt ave'!CC15 -> 0.019282578 | Z15: ='signal-per-mass-dry-wt ave'!CD15 -> 0.022260393 | AA15: ='signal-per-mass-dry-wt ave'!CJ15 -> 0.042466201 | AB15: ='signal-per-mass-dry-wt ave'!CK15 -> 0.021768837 | AC15: ='signal-per-mass-dry-wt ave'!CQ15 -> 0.039574159 | AD15: ='signal-per-mass-dry-wt ave'!CR15 -> 0.017383635 | AE15: ='signal-per-mass-dry-wt ave'!CX15 -> 0.035389951 | AF15: ='signal-per-mass-dry-wt ave'!CY15 -> 0.028721884 | AG15: ='signal-per-mass-dry-wt ave'!DE15 -> 0.051172643 | AH15: ='signal-per-mass-dry-wt ave'!DF15 -> 0.018744477 | AI15: ='signal-per-mass-dry-wt ave'!DL15 -> 0.021548544 | AJ15: ='signal-per-mass-dry-wt ave'!DM15 -> 0.026409483 | AK15: ='signal-per-mass-dry-wt ave'!DS15 -> 0.056499769 | AL15: ='signal-per-mass-dry-wt ave'!DT15 -> 0.047867139 | AM15: ='signal-per-mass-dry-wt ave'!DZ15 -> 0.035204632 | AN15: ='signal-per-mass-dry-wt ave'!EA15 -> 0.031001128 | AO15: ='signal-per-mass-dry-wt ave'!EG15 -> 0.046807657 | AP15: ='signal-per-mass-dry-wt ave'!EH15 -> 0.040492412 | AR15: ='% total signal ave'!Q15 -> 0.077218282 | AS15: ='% total signal ave'!R15 -> 0.028725484 | AT15: ='% total signal ave'!S15 -> 0.37200367 | AU15: ='% total signal ave'!Y15 -> 0.058830611 | AV15: ='% total signal ave'!Z15 -> 0.022067651 | AW15: ='% total signal ave'!AF15 -> 0.081954504 | AX15: ='% total signal ave'!AG15 -> 0.03346232 | AY15: ='% total signal ave'!AM15 -> 0.045542182 | AZ15: ='% total signal ave'!AN15 -> 0.029397726 | BA15: ='% total signal ave'!AT15 -> 0.046041659 | BB15: ='% total signal ave'!AU15 -> 0.024789251 | BC15: ='% total signal ave'!BA15 -> 0.054577739 | BD15: ='% total signal ave'!BB15 -> 0.012881949 | BE15: ='% total signal ave'!BH15 -> 0.10759817 | BF15: ='% total signal ave'!BI15 -> 0.020644567 | BG15: ='% total signal ave'!BO15 -> 0.13626486 | BH15: ='% total signal ave'!BP15 -> 0.051094227 | BI15: ='% total signal ave'!BV15 -> 0.1061179 | BJ15: ='% total signal ave'!BW15 -> 0.0044353927 | BK15: ='% total signal ave'!CC15 -> 0.063378074 | BL15: ='% total signal ave'!CD15 -> 0.066198538 | BM15: ='% total signal ave'!CJ15 -> 0.095630883 | BN15: ='% total signal ave'!CK15 -> 0.012702474 | BO15: ='% total signal ave'!CQ15 -> 0.1032689 | BP15: ='% total signal ave'!CR15 -> 0.049459766 | BQ15: ='% total signal ave'!CX15 -> 0.088946455 | BR15: ='% total signal ave'!CY15 -> 0.057171125 | BS15: ='% total signal ave'!DE15 -> 0.10800265 | BT15: ='% total signal ave'!DF15 -> 0.022251396 | BU15: ='% total signal ave'!DL15 -> 0.05638973 | BV15: ='% total signal ave'!DM15 -> 0.052549826 | BW15: ='% total signal ave'!DS15 -> 0.10036079 | BX15: ='% total signal ave'!DT15 -> 0.02914829 | BY15: ='% total signal ave'!DZ15 -> 0.1053668 | BZ15: ='% total signal ave'!EA15 -> 0.064172051 | CA15: ='% total signal ave'!EG15 -> 0.082275211 | CB15: ='% total signal ave'!EH15 -> 0.048815191
... A20: ='imported data from Web Calc'!A19 -> 988.7 | B20: ='imported data from Web Calc'!B19 -> C53H94O15 | C20: ='imported data from Web Calc'!C19 -> DGDG(38:3) | D20: ='amount-analyzed sorted'!Q20 -> 0.00026428571 | F20: ='signal-per-mass-dry-wt ave'!Q20 -> 0.0034045738 | G20: ='signal-per-mass-dry-wt ave'!R20 -> 0.004403305 | H20: ='signal-per-mass-dry-wt ave'!S20 -> 1.2933499 | I20: ='signal-per-mass-dry-wt ave'!Y20 -> 0.012316752 | J20: ='signal-per-mass-dry-wt ave'!Z20 -> 0.018128644 | K20: ='signal-per-mass-dry-wt ave'!AF20 -> 0.0031133037 | L20: ='signal-per-mass-dry-wt ave'!AG20 -> 0.002123499 | M20: ='signal-per-mass-dry-wt ave'!AM20 -> 0.00079546644 | N20: ='signal-per-mass-dry-wt ave'!AN20 -> 0.001404889 | O20: ='signal-per-mass-dry-wt ave'!AT20 -> 0.0043435852 | P20: ='signal-per-mass-dry-wt ave'!AU20 -> 0.0070647489 | Q20: ='signal-per-mass-dry-wt ave'!BA20 -> 0.0053969669 | R20: ='signal-per-mass-dry-wt ave'!BB20 -> 0.0069723729 | S20: ='signal-per-mass-dry-wt ave'!BH20 -> 0.0090331379 | T20: ='signal-per-mass-dry-wt ave'!BI20 -> 0.010625783 | U20: ='signal-per-mass-dry-wt ave'!BO20 -> 0.0040320038 | V20: ='signal-per-mass-dry-wt ave'!BP20 -> 0.0024339472 | W20: ='signal-per-mass-dry-wt ave'!BV20 -> 0.0045783833 | X20: ='signal-per-mass-dry-wt ave'!BW20 -> 0.0053867916 | Y20: ='signal-per-mass-dry-wt ave'!CC20 -> 0 | Z20: ='signal-per-mass-dry-wt ave'!CD20 -> 0 | AA20: ='signal-per-mass-dry-wt ave'!CJ20 -> 0.0019887504 | AB20: ='signal-per-mass-dry-wt ave'!CK20 -> 0.0012077056 | AC20: ='signal-per-mass-dry-wt ave'!CQ20 -> 0.0030282456 | AD20: ='signal-per-mass-dry-wt ave'!CR20 -> 0.0022804218 | AE20: ='signal-per-mass-dry-wt ave'!CX20 -> 0.00038633242 | AF20: ='signal-per-mass-dry-wt ave'!CY20 -> 0.00086386555 | AG20: ='signal-per-mass-dry-wt ave'!DE20 -> 0.00016357688 | AH20: ='signal-per-mass-dry-wt ave'!DF20 -> 0.00036576903 | AI20: ='signal-per-mass-dry-wt ave'!DL20 -> 0.00041886015 | AJ20: ='signal-per-mass-dry-wt ave'!DM20 -> 0.00059305742 | AK20: ='signal-per-mass-dry-wt ave'!DS20 -> 0.0057166 | AL20: ='signal-per-mass-dry-wt ave'!DT20 -> 0.0071715252 | AM20: ='signal-per-mass-dry-wt ave'!DZ20 -> 0.0040129561 | AN20: ='signal-per-mass-dry-wt ave'!EA20 -> 0.0061669457 | AO20: ='signal-per-mass-dry-wt ave'!EG20 -> 0.0017081682 | AP20: ='signal-per-mass-dry-wt ave'!EH20 -> 0.0016528245 | AR20: ='% total signal ave'!Q20 -> 0.006191608 | AS20: ='% total signal ave'!R20 -> 0.0079573143 | AT20: ='% total signal ave'!S20 -> 1.2851773 | AU20: ='% total signal ave'!Y20 -> 0.0065404475 | AV20: ='% total signal ave'!Z20 -> 0.0081790341 | AW20: ='% total signal ave'!AF20 -> 0.0035585554 | AX20: ='% total signal ave'!AG20 -> 0.0025858306 | AY20: ='% total signal ave'!AM20 -> 0.0017659516 | AZ20: ='% total signal ave'!AN20 -> 0.0031636699 | BA20: ='% total signal ave'!AT20 -> 0.0052474263 | BB20: ='% total signal ave'!AU20 -> 0.0070883513 | BC20: ='% total signal ave'!BA20 -> 0.0054501569 | BD20: ='% total signal ave'!BB20 -> 0.007733833 | BE20: ='% total signal ave'!BH20 -> 0.0092861223 | BF20: ='% total signal ave'!BI20 -> 0.0067121797 | BG20: ='% total signal ave'!BO20 -> 0.0087649941 | BH20: ='% total signal ave'!BP20 -> 0.0072560878 | BI20: ='% total signal ave'!BV20 -> 0.0029676935 | BJ20: ='% total signal ave'!BW20 -> 0.0028687521 | BK20: ='% total signal ave'!CC20 -> 0 | BL20: ='% total signal ave'!CD20 -> 0 | BM20: ='% total signal ave'!CJ20 -> 0.0049761378 | BN20: ='% total signal ave'!CK20 -> 0.0040691414 | BO20: ='% total signal ave'!CQ20 -> 0.0072210232 | BP20: ='% total signal ave'!CR20 -> 0.004268062 | BQ20: ='% total signal ave'!CX20 -> 0.00095106205 | BR20: ='% total signal ave'!CY20 -> 0.0021266394 | BS20: ='% total signal ave'!DE20 -> 0.00024498691 | BT20: ='% total signal ave'!DF20 -> 0.00054780738 | BU20: ='% total signal ave'!DL20 -> 0.00090120608 | BV20: ='% total signal ave'!DM20 -> 0.0012566457 | BW20: ='% total signal ave'!DS20 -> 0.0072619616 | BX20: ='% total signal ave'!DT20 -> 0.0072531108 | BY20: ='% total signal ave'!DZ20 -> 0.016514861 | BZ20: ='% total signal ave'!EA20 -> 0.022727655 | CA20: ='% total signal ave'!EG20 -> 0.0044966183 | CB20: ='% total signal ave'!EH20 -> 0.0055546524
A21: Total DGDG | C21: Total DGDG | D21: ='amount-analyzed sorted'!Q21 -> 0.59652571 | F21: ='signal-per-mass-dry-wt ave'!Q21 -> 7.6845463 | G21: ='signal-per-mass-dry-wt ave'!R21 -> 0.38151921 | H21: ='signal-per-mass-dry-wt ave'!S21 -> 0.049647591 | I21: ='signal-per-mass-dry-wt ave'!Y21 -> 19.66012 | J21: ='signal-per-mass-dry-wt ave'!Z21 -> 7.8022769 | K21: ='signal-per-mass-dry-wt ave'!AF21 -> 9.7875368 | L21: ='signal-per-mass-dry-wt ave'!AG21 -> 5.0675603 | M21: ='signal-per-mass-dry-wt ave'!AM21 -> 5.757928 | N21: ='signal-per-mass-dry-wt ave'!AN21 -> 1.1500146 | O21: ='signal-per-mass-dry-wt ave'!AT21 -> 7.1489447 | P21: ='signal-per-mass-dry-wt ave'!AU21 -> 4.0887038 | Q21: ='signal-per-mass-dry-wt ave'!BA21 -> 10.651599 | R21: ='signal-per-mass-dry-wt ave'!BB21 -> 3.9967121 | S21: ='signal-per-mass-dry-wt ave'!BH21 -> 10.531586 | T21: ='signal-per-mass-dry-wt ave'!BI21 -> 3.705677 | U21: ='signal-per-mass-dry-wt ave'!BO21 -> 7.403029 | V21: ='signal-per-mass-dry-wt ave'!BP21 -> 2.7892155 | W21: ='signal-per-mass-dry-wt ave'!BV21 -> 15.751783 | X21: ='signal-per-mass-dry-wt ave'!BW21 -> 5.0252052 | Y21: ='signal-per-mass-dry-wt ave'!CC21 -> 3.7466986 | Z21: ='signal-per-mass-dry-wt ave'!CD21 -> 1.4910071 | AA21: ='signal-per-mass-dry-wt ave'!CJ21 -> 6.8331281 | AB21: ='signal-per-mass-dry-wt ave'!CK21 -> 3.2682876 | AC21: ='signal-per-mass-dry-wt ave'!CQ21 -> 5.5894476 | AD21: ='signal-per-mass-dry-wt ave'!CR21 -> 1.5666866 | AE21: ='signal-per-mass-dry-wt ave'!CX21 -> 5.0685985 | AF21: ='signal-per-mass-dry-wt ave'!CY21 -> 3.4455341 | AG21: ='signal-per-mass-dry-wt ave'!DE21 -> 7.0353091 | AH21: ='signal-per-mass-dry-wt ave'!DF21 -> 2.209816 | AI21: ='signal-per-mass-dry-wt ave'!DL21 -> 4.3639642 | AJ21: ='signal-per-mass-dry-wt ave'!DM21 -> 2.239606 | AK21: ='signal-per-mass-dry-wt ave'!DS21 -> 8.9428816 | AL21: ='signal-per-mass-dry-wt ave'!DT21 -> 6.5260365 | AM21: ='signal-per-mass-dry-wt ave'!DZ21 -> 4.6393359 | AN21: ='signal-per-mass-dry-wt ave'!EA21 -> 3.6865783 | AO21: ='signal-per-mass-dry-wt ave'!EG21 -> 7.2679235 | AP21: ='signal-per-mass-dry-wt ave'!EH21 -> 4.5410025 | AR21: ='% total signal ave'!Q21 -> 13.910199 | AS21: ='% total signal ave'!R21 -> 0.47938248 | AT21: ='% total signal ave'!S21 -> 0.034462662 | AU21: ='% total signal ave'!Y21 -> 11.864989 | AV21: ='% total signal ave'!Z21 -> 0.83136316 | AW21: ='% total signal ave'!AF21 -> 12.034321 | AX21: ='% total signal ave'!AG21 -> 0.64868174 | AY21: ='% total signal ave'!AM21 -> 14.842051 | AZ21: ='% total signal ave'!AN21 -> 2.7705402 | BA21: ='% total signal ave'!AT21 -> 13.394759 | BB21: ='% total signal ave'!AU21 -> 1.8403683 | BC21: ='% total signal ave'!BA21 -> 12.264639 | BD21: ='% total signal ave'!BB21 -> 2.1540317 | BE21: ='% total signal ave'!BH21 -> 12.527794 | BF21: ='% total signal ave'!BI21 -> 1.8496611 | BG21: ='% total signal ave'!BO21 -> 13.329667 | BH21: ='% total signal ave'!BP21 -> 1.3477069 | BI21: ='% total signal ave'!BV21 -> 12.505368 | BJ21: ='% total signal ave'!BW21 -> 0.70233239 | BK21: ='% total signal ave'!CC21 -> 15.540387 | BL21: ='% total signal ave'!CD21 -> 1.8745788 | BM21: ='% total signal ave'!CJ21 -> 15.545542 | BN21: ='% total signal ave'!CK21 -> 1.2716299 | BO21: ='% total signal ave'!CQ21 -> 14.41804 | BP21: ='% total signal ave'!CR21 -> 1.399278 | BQ21: ='% total signal ave'!CX21 -> 16.143424 | BR21: ='% total signal ave'!CY21 -> 2.8550634 | BS21: ='% total signal ave'!DE21 -> 14.758749 | BT21: ='% total signal ave'!DF21 -> 0.97180022 | BU21: ='% total signal ave'!DL21 -> 15.040006 | BV21: ='% total signal ave'!DM21 -> 1.2656686 | BW21: ='% total signal ave'!DS21 -> 16.748769 | BX21: ='% total signal ave'!DT21 -> 1.2637626 | BY21: ='% total signal ave'!DZ21 -> 16.190365 | BZ21: ='% total signal ave'!EA21 -> 1.5350909 | CA21: ='% total signal ave'!EG21 -> 17.155187 | CB21: ='% total signal ave'!EH21 -> 2.128174
A22: ='imported data from Web Calc'!A22 -> 764.5 | B22: ='imported data from Web Calc'!B22 -> C43H70O10 | C22: ='imported data from Web Calc'!C22 -> MGDG(34:6) | D22: ='amount-analyzed sorted'!Q22 -> 0.00037142857 | F22: ='signal-per-mass-dry-wt ave'!Q22 -> 0.0047848064 | G22: ='signal-per-mass-dry-wt ave'!R22 -> 0.0029033125 | H22: ='signal-per-mass-dry-wt ave'!S22 -> 0.60677741 | I22: ='signal-per-mass-dry-wt ave'!Y22 -> 0.02809769 | J22: ='signal-per-mass-dry-wt ave'!Z22 -> 0.013763283 | K22: ='signal-per-mass-dry-wt ave'!AF22 -> 0.019122687 | L22: ='signal-per-mass-dry-wt ave'!AG22 -> 0.01016113 | M22: ='signal-per-mass-dry-wt ave'!AM22 -> 0.0070065819 | N22: ='signal-per-mass-dry-wt ave'!AN22 -> 0.0043343403 | O22: ='signal-per-mass-dry-wt ave'!AT22 -> 0.0072946317 | P22: ='signal-per-mass-dry-wt ave'!AU22 -> 0.0078785947 | Q22: ='signal-per-mass-dry-wt ave'!BA22 -> 0.012197776 | R22: ='signal-per-mass-dry-wt ave'!BB22 -> 0.0052520994 | S22: ='signal-per-mass-dry-wt ave'!BH22 -> 0.0064079234 | T22: ='signal-per-mass-dry-wt ave'!BI22 -> 0.0045363976 | U22: ='signal-per-mass-dry-wt ave'!BO22 -> 0.0049646961 | V22: ='signal-per-mass-dry-wt ave'!BP22 -> 0.0048940599 | W22: ='signal-per-mass-dry-wt ave'!BV22 -> 0.0096138866 | X22: ='signal-per-mass-dry-wt ave'!BW22 -> 0.0051177751 | Y22: ='signal-per-mass-dry-wt ave'!CC22 -> 0.0006143967 | Z22: ='signal-per-mass-dry-wt ave'!CD22 -> 0.00090866445 | AA22: ='signal-per-mass-dry-wt ave'!CJ22 -> 0.0075554846 | AB22: ='signal-per-mass-dry-wt ave'!CK22 -> 0.0075271773 | AC22: ='signal-per-mass-dry-wt ave'!CQ22 -> 0.0057197334 | AD22: ='signal-per-mass-dry-wt ave'!CR22 -> 0.0025706626 | AE22: ='signal-per-mass-dry-wt ave'!CX22 -> 0.0063115726 | AF22: ='signal-per-mass-dry-wt ave'!CY22 -> 0.0060945489 | AG22: ='signal-per-mass-dry-wt ave'!DE22 -> 0.010041291 | AH22: ='signal-per-mass-dry-wt ave'!DF22 -> 0.010365242 | AI22: ='signal-per-mass-dry-wt ave'!DL22 -> 0.0044883108 | AJ22: ='signal-per-mass-dry-wt ave'!DM22 -> 0.0042805779 | AK22: ='signal-per-mass-dry-wt ave'!DS22 -> 0.0055011528 | AL22: ='signal-per-mass-dry-wt ave'!DT22 -> 0.0056858516 | AM22: ='signal-per-mass-dry-wt ave'!DZ22 -> 0.0043677544 | AN22: ='signal-per-mass-dry-wt ave'!EA22 -> 0.0051962507 | AO22: ='signal-per-mass-dry-wt ave'!EG22 -> 0.0081022436 | AP22: ='signal-per-mass-dry-wt ave'!EH22 -> 0.0070520211 | AR22: ='% total signal ave'!Q22 -> 0.0086565777 | AS22: ='% total signal ave'!R22 -> 0.0052486117 | AT22: ='% total signal ave'!S22 -> 0.60631487 | AU22: ='% total signal ave'!Y22 -> 0.016585212 | AV22: ='% total signal ave'!Z22 -> 0.0036137918 | AW22: ='% total signal ave'!AF22 -> 0.024555006 | AX22: ='% total signal ave'!AG22 -> 0.010906463 | AY22: ='% total signal ave'!AM22 -> 0.017877863 | AZ22: ='% total signal ave'!AN22 -> 0.0093180861 | BA22: ='% total signal ave'!AT22 -> 0.012752342 | BB22: ='% total signal ave'!AU22 -> 0.0085874163 | BC22: ='% total signal ave'!BA22 -> 0.014161148 | BD22: ='% total signal ave'!BB22 -> 0.00490123 | BE22: ='% total signal ave'!BH22 -> 0.0081010967 | BF22: ='% total signal ave'!BI22 -> 0.0060798727 | BG22: ='% total signal ave'!BO22 -> 0.0080150916 | BH22: ='% total signal ave'!BP22 -> 0.0068751191 | BI22: ='% total signal ave'!BV22 -> 0.0074964257 | BJ22: ='% total signal ave'!BW22 -> 0.0034515309 | BK22: ='% total signal ave'!CC22 -> 0.0021927443 | BL22: ='% total signal ave'!CD22 -> 0.003763607 | BM22: ='% total signal ave'!CJ22 -> 0.013959886 | BN22: ='% total signal ave'!CK22 -> 0.0065176546 | BO22: ='% total signal ave'!CQ22 -> 0.014341703 | BP22: ='% total signal ave'!CR22 -> 0.0045382736 | BQ22: ='% total signal ave'!CX22 -> 0.01557192 | BR22: ='% total signal ave'!CY22 -> 0.012830763 | BS22: ='% total signal ave'!DE22 -> 0.017812766 | BT22: ='% total signal ave'!DF22 -> 0.013670638 | BU22: ='% total signal ave'!DL22 -> 0.014538711 | BV22: ='% total signal ave'!DM22 -> 0.017635599 | BW22: ='% total signal ave'!DS22 -> 0.0091050272 | BX22: ='% total signal ave'!DT22 -> 0.0062210937 | BY22: ='% total signal ave'!DZ22 -> 0.011247648 | BZ22: ='% total signal ave'!EA22 -> 0.0077285113 | CA22: ='% total signal ave'!EG22 -> 0.015438865 | CB22: ='% total signal ave'!EH22 -> 0.0095135407
A23: ='imported data from Web Calc'!A23 -> 766.5 | B23: ='imported data from Web Calc'!B23 -> C43H72O10 | C23: ='imported data from Web Calc'!C23 -> MGDG(34:5) | D23: ='amount-analyzed sorted'!Q23 -> 0.00065714286 | F23: ='signal-per-mass-dry-wt ave'!Q23 -> 0.0084654267 | G23: ='signal-per-mass-dry-wt ave'!R23 -> 0.0041616607 | H23: ='signal-per-mass-dry-wt ave'!S23 -> 0.49160672 | I23: ='signal-per-mass-dry-wt ave'!Y23 -> 0.018895659 | J23: ='signal-per-mass-dry-wt ave'!Z23 -> 0.015236829 | K23: ='signal-per-mass-dry-wt ave'!AF23 -> 0.010359085 | L23: ='signal-per-mass-dry-wt ave'!AG23 -> 0.0086947237 | M23: ='signal-per-mass-dry-wt ave'!AM23 -> 0.0013399932 | N23: ='signal-per-mass-dry-wt ave'!AN23 -> 0.0019162669 | O23: ='signal-per-mass-dry-wt ave'!AT23 -> 0.0094690897 | P23: ='signal-per-mass-dry-wt ave'!AU23 -> 0.0083147453 | Q23: ='signal-per-mass-dry-wt ave'!BA23 -> 0.014665415 | R23: ='signal-per-mass-dry-wt ave'!BB23 -> 0.0084503109 | S23: ='signal-per-mass-dry-wt ave'!BH23 -> 0.012304556 | T23: ='signal-per-mass-dry-wt ave'!BI23 -> 0.010399938 | U23: ='signal-per-mass-dry-wt ave'!BO23 -> 0.0061217707 | V23: ='signal-per-mass-dry-wt ave'!BP23 -> 0.0044799496 | W23: ='signal-per-mass-dry-wt ave'!BV23 -> 0.010060137 | X23: ='signal-per-mass-dry-wt ave'!BW23 -> 0.0066568799 | Y23: ='signal-per-mass-dry-wt ave'!CC23 -> 0.0012538128 | Z23: ='signal-per-mass-dry-wt ave'!CD23 -> 0.0012129974 | AA23: ='signal-per-mass-dry-wt ave'!CJ23 -> 0.00747588 | AB23: ='signal-per-mass-dry-wt ave'!CK23 -> 0.0086932107 | AC23: ='signal-per-mass-dry-wt ave'!CQ23 -> 0.0043142947 | AD23: ='signal-per-mass-dry-wt ave'!CR23 -> 0.0043692211 | AE23: ='signal-per-mass-dry-wt ave'!CX23 -> 0.0049156787 | AF23: ='signal-per-mass-dry-wt ave'!CY23 -> 0.0034348249 | AG23: ='signal-per-mass-dry-wt ave'!DE23 -> 0.008453409 | AH23: ='signal-per-mass-dry-wt ave'!DF23 -> 0.0069176408 | AI23: ='signal-per-mass-dry-wt ave'!DL23 -> 0.0047970737 | AJ23: ='signal-per-mass-dry-wt ave'!DM23 -> 0.0040005615 | AK23: ='signal-per-mass-dry-wt ave'!DS23 -> 0.013566788 | AL23: ='signal-per-mass-dry-wt ave'!DT23 -> 0.014058724 | AM23: ='signal-per-mass-dry-wt ave'!DZ23 -> 0.0044564167 | AN23: ='signal-per-mass-dry-wt ave'!EA23 -> 0.005794989 | AO23: ='signal-per-mass-dry-wt ave'!EG23 -> 0.0080140678 | AP23: ='signal-per-mass-dry-wt ave'!EH23 -> 0.0070002254 | AR23: ='% total signal ave'!Q23 -> 0.015258807 | AS23: ='% total signal ave'!R23 -> 0.0074264642 | AT23: ='% total signal ave'!S23 -> 0.4867002 | AU23: ='% total signal ave'!Y23 -> 0.010471564 | AV23: ='% total signal ave'!Z23 -> 0.0050442965 | AW23: ='% total signal ave'!AF23 -> 0.010936558 | AX23: ='% total signal ave'!AG23 -> 0.0040722493 | AY23: ='% total signal ave'!AM23 -> 0.0031039763 | AZ23: ='% total signal ave'!AN23 -> 0.0045779304 | BA23: ='% total signal ave'!AT23 -> 0.014034702 | BB23: ='% total signal ave'!AU23 -> 0.010462614 | BC23: ='% total signal ave'!BA23 -> 0.015455871 | BD23: ='% total signal ave'!BB23 -> 0.004587575 | BE23: ='% total signal ave'!BH23 -> 0.013189495 | BF23: ='% total signal ave'!BI23 -> 0.0097088828 | BG23: ='% total signal ave'!BO23 -> 0.010017534 | BH23: ='% total signal ave'!BP23 -> 0.0042018542 | BI23: ='% total signal ave'!BV23 -> 0.0089546814 | BJ23: ='% total signal ave'!BW23 -> 0.0079260702 | BK23: ='% total signal ave'!CC23 -> 0.0061579331 | BL23: ='% total signal ave'!CD23 -> 0.0081034654 | BM23: ='% total signal ave'!CJ23 -> 0.013089564 | BN23: ='% total signal ave'!CK23 -> 0.0097062115 | BO23: ='% total signal ave'!CQ23 -> 0.010337299 | BP23: ='% total signal ave'!CR23 -> 0.01017268 | BQ23: ='% total signal ave'!CX23 -> 0.020349324 | BR23: ='% total signal ave'!CY23 -> 0.013985124 | BS23: ='% total signal ave'!DE23 -> 0.01713069 | BT23: ='% total signal ave'!DF23 -> 0.011575044 | BU23: ='% total signal ave'!DL23 -> 0.014950727 | BV23: ='% total signal ave'!DM23 -> 0.012647588 | BW23: ='% total signal ave'!DS23 -> 0.021368374 | BX23: ='% total signal ave'!DT23 -> 0.016146683 | BY23: ='% total signal ave'!DZ23 -> 0.011389741 | BZ23: ='% total signal ave'!EA23 -> 0.0078438641 | CA23: ='% total signal ave'!EG23 -> 0.014070676 | CB23: ='% total signal ave'!EH23 -> 0.011350197
A24: ='imported data from Web Calc'!A24 -> 768.5 | B24: ='imported data from Web Calc'!B24 -> C43H74O10 | C24: ='imported data from Web Calc'!C24 -> MGDG(34:4) | D24: ='amount-analyzed sorted'!Q24 -> 0.0093142857 | F24: ='signal-per-mass-dry-wt ave'!Q24 -> 0.11998822 | G24: ='signal-per-mass-dry-wt ave'!R24 -> 0.0094978746 | H24: ='signal-per-mass-dry-wt ave'!S24 -> 0.079156724 | I24: ='signal-per-mass-dry-wt ave'!Y24 -> 0.23430804 | J24: ='signal-per-mass-dry-wt ave'!Z24 -> 0.074779835 | K24: ='signal-per-mass-dry-wt ave'!AF24 -> 0.11491686 | L24: ='signal-per-mass-dry-wt ave'!AG24 -> 0.043626502 | M24: ='signal-per-mass-dry-wt ave'!AM24 -> 0.061551812 | N24: ='signal-per-mass-dry-wt ave'!AN24 -> 0.011289512 | O24: ='signal-per-mass-dry-wt ave'!AT24 -> 0.094293775 | P24: ='signal-per-mass-dry-wt ave'!AU24 -> 0.063687272 | Q24: ='signal-per-mass-dry-wt ave'!BA24 -> 0.1271357 | R24: ='signal-per-mass-dry-wt ave'!BB24 -> 0.045587747 | S24: ='signal-per-mass-dry-wt ave'!BH24 -> 0.10958193 | T24: ='signal-per-mass-dry-wt ave'!BI24 -> 0.034607356 | U24: ='signal-per-mass-dry-wt ave'!BO24 -> 0.065208937 | V24: ='signal-per-mass-dry-wt ave'!BP24 -> 0.030824853 | W24: ='signal-per-mass-dry-wt ave'!BV24 -> 0.14508752 | X24: ='signal-per-mass-dry-wt ave'!BW24 -> 0.059323831 | Y24: ='signal-per-mass-dry-wt ave'!CC24 -> 0.023710977 | Z24: ='signal-per-mass-dry-wt ave'!CD24 -> 0.010373217 | AA24: ='signal-per-mass-dry-wt ave'!CJ24 -> 0.17487744 | AB24: ='signal-per-mass-dry-wt ave'!CK24 -> 0.10355033 | AC24: ='signal-per-mass-dry-wt ave'!CQ24 -> 0.17337174 | AD24: ='signal-per-mass-dry-wt ave'!CR24 -> 0.069919156 | AE24: ='signal-per-mass-dry-wt ave'!CX24 -> 0.11318251 | AF24: ='signal-per-mass-dry-wt ave'!CY24 -> 0.060824475 | AG24: ='signal-per-mass-dry-wt ave'!DE24 -> 0.17600051 | AH24: ='signal-per-mass-dry-wt ave'!DF24 -> 0.07661372 | AI24: ='signal-per-mass-dry-wt ave'!DL24 -> 0.11241841 | AJ24: ='signal-per-mass-dry-wt ave'!DM24 -> 0.06146718 | AK24: ='signal-per-mass-dry-wt ave'!DS24 -> 0.15493598 | AL24: ='signal-per-mass-dry-wt ave'!DT24 -> 0.094264998 | AM24: ='signal-per-mass-dry-wt ave'!DZ24 -> 0.096334224 | AN24: ='signal-per-mass-dry-wt ave'!EA24 -> 0.064803025 | AO24: ='signal-per-mass-dry-wt ave'!EG24 -> 0.14029082 | AP24: ='signal-per-mass-dry-wt ave'!EH24 -> 0.10127206 | AR24: ='% total signal ave'!Q24 -> 0.21732507 | AS24: ='% total signal ave'!R24 -> 0.01749254 | AT24: ='% total signal ave'!S24 -> 0.080490205 | AU24: ='% total signal ave'!Y24 -> 0.14734724 | AV24: ='% total signal ave'!Z24 -> 0.04055547 | AW24: ='% total signal ave'!AF24 -> 0.1570611 | AX24: ='% total signal ave'!AG24 -> 0.049958022 | AY24: ='% total signal ave'!AM24 -> 0.16130139 | AZ24: ='% total signal ave'!AN24 -> 0.043685453 | BA24: ='% total signal ave'!AT24 -> 0.1561559 | BB24: ='% total signal ave'!AU24 -> 0.037688757 | BC24: ='% total signal ave'!BA24 -> 0.15091276 | BD24: ='% total signal ave'!BB24 -> 0.043160847 | BE24: ='% total signal ave'!BH24 -> 0.13277307 | BF24: ='% total signal ave'!BI24 -> 0.031919291 | BG24: ='% total signal ave'!BO24 -> 0.11476304 | BH24: ='% total signal ave'!BP24 -> 0.029107779 | BI24: ='% total signal ave'!BV24 -> 0.11324637 | BJ24: ='% total signal ave'!BW24 -> 0.014057695 | BK24: ='% total signal ave'!CC24 -> 0.096176244 | BL24: ='% total signal ave'!CD24 -> 0.016032989 | BM24: ='% total signal ave'!CJ24 -> 0.38614517 | BN24: ='% total signal ave'!CK24 -> 0.049939249 | BO24: ='% total signal ave'!CQ24 -> 0.43328307 | BP24: ='% total signal ave'!CR24 -> 0.042012576 | BQ24: ='% total signal ave'!CX24 -> 0.3924221 | BR24: ='% total signal ave'!CY24 -> 0.079549857 | BS24: ='% total signal ave'!DE24 -> 0.35632494 | BT24: ='% total signal ave'!DF24 -> 0.042960101 | BU24: ='% total signal ave'!DL24 -> 0.37535543 | BV24: ='% total signal ave'!DM24 -> 0.0540248 | BW24: ='% total signal ave'!DS24 -> 0.32235388 | BX24: ='% total signal ave'!DT24 -> 0.10082023 | BY24: ='% total signal ave'!DZ24 -> 0.36211728 | BZ24: ='% total signal ave'!EA24 -> 0.087291774 | CA24: ='% total signal ave'!EG24 -> 0.30291316 | CB24: ='% total signal ave'!EH24 -> 0.062311328
A25: ='imported data from Web Calc'!A25 -> 770.5 | B25: ='imported data from Web Calc'!B25 -> C43H76O10 | C25: ='imported data from Web Calc'!C25 -> MGDG(34:3) | D25: ='amount-analyzed sorted'!Q25 -> 0.073435714 | F25: ='signal-per-mass-dry-wt ave'!Q25 -> 0.94601143 | G25: ='signal-per-mass-dry-wt ave'!R25 -> 0.045086973 | H25: ='signal-per-mass-dry-wt ave'!S25 -> 0.047660072 | I25: ='signal-per-mass-dry-wt ave'!Y25 -> 1.658702 | J25: ='signal-per-mass-dry-wt ave'!Z25 -> 0.72481522 | K25: ='signal-per-mass-dry-wt ave'!AF25 -> 0.71864065 | L25: ='signal-per-mass-dry-wt ave'!AG25 -> 0.38577455 | M25: ='signal-per-mass-dry-wt ave'!AM25 -> 0.51834626 | N25: ='signal-per-mass-dry-wt ave'!AN25 -> 0.13969909 | O25: ='signal-per-mass-dry-wt ave'!AT25 -> 0.82263788 | P25: ='signal-per-mass-dry-wt ave'!AU25 -> 0.67151279 | Q25: ='signal-per-mass-dry-wt ave'!BA25 -> 0.82771298 | R25: ='signal-per-mass-dry-wt ave'!BB25 -> 0.27288347 | S25: ='signal-per-mass-dry-wt ave'!BH25 -> 0.6546431 | T25: ='signal-per-mass-dry-wt ave'!BI25 -> 0.26062882 | U25: ='signal-per-mass-dry-wt ave'!BO25 -> 0.4278383 | V25: ='signal-per-mass-dry-wt ave'!BP25 -> 0.10025555 | W25: ='signal-per-mass-dry-wt ave'!BV25 -> 1.1850076 | X25: ='signal-per-mass-dry-wt ave'!BW25 -> 0.47974411 | Y25: ='signal-per-mass-dry-wt ave'!CC25 -> 0.36762592 | Z25: ='signal-per-mass-dry-wt ave'!CD25 -> 0.14382719 | AA25: ='signal-per-mass-dry-wt ave'!CJ25 -> 1.3325446 | AB25: ='signal-per-mass-dry-wt ave'!CK25 -> 0.67289357 | AC25: ='signal-per-mass-dry-wt ave'!CQ25 -> 1.0986397 | AD25: ='signal-per-mass-dry-wt ave'!CR25 -> 0.39015482 | AE25: ='signal-per-mass-dry-wt ave'!CX25 -> 1.0062416 | AF25: ='signal-per-mass-dry-wt ave'!CY25 -> 0.64575133 | AG25: ='signal-per-mass-dry-wt ave'!DE25 -> 1.426581 | AH25: ='signal-per-mass-dry-wt ave'!DF25 -> 0.59872594 | AI25: ='signal-per-mass-dry-wt ave'!DL25 -> 0.69390954 | AJ25: ='signal-per-mass-dry-wt ave'!DM25 -> 0.33211215 | AK25: ='signal-per-mass-dry-wt ave'!DS25 -> 1.2489445 | AL25: ='signal-per-mass-dry-wt ave'!DT25 -> 0.79570785 | AM25: ='signal-per-mass-dry-wt ave'!DZ25 -> 0.68078813 | AN25: ='signal-per-mass-dry-wt ave'!EA25 -> 0.48236165 | AO25: ='signal-per-mass-dry-wt ave'!EG25 -> 1.2396787 | AP25: ='signal-per-mass-dry-wt ave'!EH25 -> 0.8549169 | AR25: ='% total signal ave'!Q25 -> 1.7134713 | AS25: ='% total signal ave'!R25 -> 0.083772544 | AT25: ='% total signal ave'!S25 -> 0.048890545 | AU25: ='% total signal ave'!Y25 -> 1.0030525 | AV25: ='% total signal ave'!Z25 -> 0.18165795 | AW25: ='% total signal ave'!AF25 -> 0.89797756 | AX25: ='% total signal ave'!AG25 -> 0.13072314 | AY25: ='% total signal ave'!AM25 -> 1.3384723 | AZ25: ='% total signal ave'!AN25 -> 0.34275683 | BA25: ='% total signal ave'!AT25 -> 1.3568754 | BB25: ='% total signal ave'!AU25 -> 0.5143271 | BC25: ='% total signal ave'!BA25 -> 0.99777603 | BD25: ='% total signal ave'!BB25 -> 0.31184103 | BE25: ='% total signal ave'!BH25 -> 0.81141285 | BF25: ='% total signal ave'!BI25 -> 0.36706837 | BG25: ='% total signal ave'!BO25 -> 0.80132864 | BH25: ='% total signal ave'!BP25 -> 0.15241787 | BI25: ='% total signal ave'!BV25 -> 0.92429607 | BJ25: ='% total signal ave'!BW25 -> 0.20658683 | BK25: ='% total signal ave'!CC25 -> 1.5400355 | BL25: ='% total signal ave'!CD25 -> 0.29920509 | BM25: ='% total signal ave'!CJ25 -> 3.0210975 | BN25: ='% total signal ave'!CK25 -> 0.312563 | BO25: ='% total signal ave'!CQ25 -> 2.7839607 | BP25: ='% total signal ave'!CR25 -> 0.24348516 | BQ25: ='% total signal ave'!CX25 -> 3.2353927 | BR25: ='% total signal ave'!CY25 -> 0.34758005 | BS25: ='% total signal ave'!DE25 -> 2.8961066 | BT25: ='% total signal ave'!DF25 -> 0.31672872 | BU25: ='% total signal ave'!DL25 -> 2.463609 | BV25: ='% total signal ave'!DM25 -> 0.3850765 | BW25: ='% total signal ave'!DS25 -> 2.4859035 | BX25: ='% total signal ave'!DT25 -> 0.4166234 | BY25: ='% total signal ave'!DZ25 -> 2.4612292 | BZ25: ='% total signal ave'!EA25 -> 0.28814437 | CA25: ='% total signal ave'!EG25 -> 2.8415302 | CB25: ='% total signal ave'!EH25 -> 0.40583084
A26: ='imported data from Web Calc'!A26 -> 772.6 | B26: ='imported data from Web Calc'!B26 -> C43H78O10 | C26: ='imported data from Web Calc'!C26 -> MGDG(34:2) | D26: ='amount-analyzed sorted'!Q26 -> 0.0045928571 | F26: ='signal-per-mass-dry-wt ave'!Q26 -> 0.059165971 | G26: ='signal-per-mass-dry-wt ave'!R26 -> 0.012898957 | H26: ='signal-per-mass-dry-wt ave'!S26 -> 0.2180131 | I26: ='signal-per-mass-dry-wt ave'!Y26 -> 0.088544044 | J26: ='signal-per-mass-dry-wt ave'!Z26 -> 0.04490103 | K26: ='signal-per-mass-dry-wt ave'!AF26 -> 0.029172876 | L26: ='signal-per-mass-dry-wt ave'!AG26 -> 0.018907628 | M26: ='signal-per-mass-dry-wt ave'!AM26 -> 0.030330238 | N26: ='signal-per-mass-dry-wt ave'!AN26 -> 0.0083020038 | O26: ='signal-per-mass-dry-wt ave'!AT26 -> 0.051047627 | P26: ='signal-per-mass-dry-wt ave'!AU26 -> 0.037491516 | Q26: ='signal-per-mass-dry-wt ave'!BA26 -> 0.055345733 | R26: ='signal-per-mass-dry-wt ave'!BB26 -> 0.019155343 | S26: ='signal-per-mass-dry-wt ave'!BH26 -> 0.08549216 | T26: ='signal-per-mass-dry-wt ave'!BI26 -> 0.026439152 | U26: ='signal-per-mass-dry-wt ave'!BO26 -> 0.051438732 | V26: ='signal-per-mass-dry-wt ave'!BP26 -> 0.01832571 | W26: ='signal-per-mass-dry-wt ave'!BV26 -> 0.13696186 | X26: ='signal-per-mass-dry-wt ave'!BW26 -> 0.04862735 | Y26: ='signal-per-mass-dry-wt ave'!CC26 -> 0.017444127 | Z26: ='signal-per-mass-dry-wt ave'!CD26 -> 0.012083606 | AA26: ='signal-per-mass-dry-wt ave'!CJ26 -> 0.077411178 | AB26: ='signal-per-mass-dry-wt ave'!CK26 -> 0.058313303 | AC26: ='signal-per-mass-dry-wt ave'!CQ26 -> 0.054652888 | AD26: ='signal-per-mass-dry-wt ave'!CR26 -> 0.024407418 | AE26: ='signal-per-mass-dry-wt ave'!CX26 -> 0.037660419 | AF26: ='signal-per-mass-dry-wt ave'!CY26 -> 0.039944076 | AG26: ='signal-per-mass-dry-wt ave'!DE26 -> 0.059207411 | AH26: ='signal-per-mass-dry-wt ave'!DF26 -> 0.033140172 | AI26: ='signal-per-mass-dry-wt ave'!DL26 -> 0.043124976 | AJ26: ='signal-per-mass-dry-wt ave'!DM26 -> 0.034321777 | AK26: ='signal-per-mass-dry-wt ave'!DS26 -> 0.10271439 | AL26: ='signal-per-mass-dry-wt ave'!DT26 -> 0.038889898 | AM26: ='signal-per-mass-dry-wt ave'!DZ26 -> 0.035478348 | AN26: ='signal-per-mass-dry-wt ave'!EA26 -> 0.026928292 | AO26: ='signal-per-mass-dry-wt ave'!EG26 -> 0.09038424 | AP26: ='signal-per-mass-dry-wt ave'!EH26 -> 0.056541083 | AR26: ='% total signal ave'!Q26 -> 0.1070204 | AS26: ='% total signal ave'!R26 -> 0.022916696 | AT26: ='% total signal ave'!S26 -> 0.2141339 | AU26: ='% total signal ave'!Y26 -> 0.054838331 | AV26: ='% total signal ave'!Z26 -> 0.018329736 | AW26: ='% total signal ave'!AF26 -> 0.03309769 | AX26: ='% total signal ave'!AG26 -> 0.008448709 | AY26: ='% total signal ave'!AM26 -> 0.081398029 | AZ26: ='% total signal ave'!AN26 -> 0.035763278 | BA26: ='% total signal ave'!AT26 -> 0.086788018 | BB26: ='% total signal ave'!AU26 -> 0.015242163 | BC26: ='% total signal ave'!BA26 -> 0.065767231 | BD26: ='% total signal ave'!BB26 -> 0.018362228 | BE26: ='% total signal ave'!BH26 -> 0.10333686 | BF26: ='% total signal ave'!BI26 -> 0.0093611742 | BG26: ='% total signal ave'!BO26 -> 0.095580076 | BH26: ='% total signal ave'!BP26 -> 0.031703982 | BI26: ='% total signal ave'!BV26 -> 0.10809869 | BJ26: ='% total signal ave'!BW26 -> 0.020000371 | BK26: ='% total signal ave'!CC26 -> 0.067778588 | BL26: ='% total signal ave'!CD26 -> 0.019761188 | BM26: ='% total signal ave'!CJ26 -> 0.15889431 | BN26: ='% total signal ave'!CK26 -> 0.031203654 | BO26: ='% total signal ave'!CQ26 -> 0.13785287 | BP26: ='% total signal ave'!CR26 -> 0.039022337 | BQ26: ='% total signal ave'!CX26 -> 0.10182225 | BR26: ='% total signal ave'!CY26 -> 0.078109618 | BS26: ='% total signal ave'!DE26 -> 0.11975348 | BT26: ='% total signal ave'!DF26 -> 0.043910322 | BU26: ='% total signal ave'!DL26 -> 0.12775602 | BV26: ='% total signal ave'!DM26 -> 0.084510611 | BW26: ='% total signal ave'!DS26 -> 0.23734463 | BX26: ='% total signal ave'!DT26 -> 0.081795035 | BY26: ='% total signal ave'!DZ26 -> 0.11615962 | BZ26: ='% total signal ave'!EA26 -> 0.074275694 | CA26: ='% total signal ave'!EG26 -> 0.22507456 | CB26: ='% total signal ave'!EH26 -> 0.069551434
A27: ='imported data from Web Calc'!A27 -> 774.6 | B27: ='imported data from Web Calc'!B27 -> C43H80O10 | C27: ='imported data from Web Calc'!C27 -> MGDG(34:1) | D27: ='amount-analyzed sorted'!Q27 -> 0.0019357143 | F27: ='signal-per-mass-dry-wt ave'!Q27 -> 0.024936203 | G27: ='signal-per-mass-dry-wt ave'!R27 -> 0.0087487346 | H27: ='signal-per-mass-dry-wt ave'!S27 -> 0.3508447 | I27: ='signal-per-mass-dry-wt ave'!Y27 -> 0.034569843 | J27: ='signal-per-mass-dry-wt ave'!Z27 -> 0.014656891 | K27: ='signal-per-mass-dry-wt ave'!AF27 -> 0.014558134 | L27: ='signal-per-mass-dry-wt ave'!AG27 -> 0.0085004164 | M27: ='signal-per-mass-dry-wt ave'!AM27 -> 0.011902108 | N27: ='signal-per-mass-dry-wt ave'!AN27 -> 0.0089761953 | O27: ='signal-per-mass-dry-wt ave'!AT27 -> 0.0065885855 | P27: ='signal-per-mass-dry-wt ave'!AU27 -> 0.0068119526 | Q27: ='signal-per-mass-dry-wt ave'!BA27 -> 0.0080684149 | R27: ='signal-per-mass-dry-wt ave'!BB27 -> 0.0065019485 | S27: ='signal-per-mass-dry-wt ave'!BH27 -> 0.011348345 | T27: ='signal-per-mass-dry-wt ave'!BI27 -> 0.0048570064 | U27: ='signal-per-mass-dry-wt ave'!BO27 -> 0.011441315 | V27: ='signal-per-mass-dry-wt ave'!BP27 -> 0.0051656615 | W27: ='signal-per-mass-dry-wt ave'!BV27 -> 0.04673776 | X27: ='signal-per-mass-dry-wt ave'!BW27 -> 0.0098117624 | Y27: ='signal-per-mass-dry-wt ave'!CC27 -> 0.012307808 | Z27: ='signal-per-mass-dry-wt ave'!CD27 -> 0.0054751113 | AA27: ='signal-per-mass-dry-wt ave'!CJ27 -> 0.036948077 | AB27: ='signal-per-mass-dry-wt ave'!CK27 -> 0.026422392 | AC27: ='signal-per-mass-dry-wt ave'!CQ27 -> 0.036288353 | AD27: ='signal-per-mass-dry-wt ave'!CR27 -> 0.018396145 | AE27: ='signal-per-mass-dry-wt ave'!CX27 -> 0.026521625 | AF27: ='signal-per-mass-dry-wt ave'!CY27 -> 0.026480451 | AG27: ='signal-per-mass-dry-wt ave'!DE27 -> 0.019815008 | AH27: ='signal-per-mass-dry-wt ave'!DF27 -> 0.013417372 | AI27: ='signal-per-mass-dry-wt ave'!DL27 -> 0.015962458 | AJ27: ='signal-per-mass-dry-wt ave'!DM27 -> 0.0068454256 | AK27: ='signal-per-mass-dry-wt ave'!DS27 -> 0.023883717 | AL27: ='signal-per-mass-dry-wt ave'!DT27 -> 0.011073952 | AM27: ='signal-per-mass-dry-wt ave'!DZ27 -> 0.0094065157 | AN27: ='signal-per-mass-dry-wt ave'!EA27 -> 0.0081472934 | AO27: ='signal-per-mass-dry-wt ave'!EG27 -> 0.041519664 | AP27: ='signal-per-mass-dry-wt ave'!EH27 -> 0.031358708 | AR27: ='% total signal ave'!Q27 -> 0.045157408 | AS27: ='% total signal ave'!R27 -> 0.016027402 | AT27: ='% total signal ave'!S27 -> 0.35492298 | AU27: ='% total signal ave'!Y27 -> 0.021179593 | AV27: ='% total signal ave'!Z27 -> 0.0064946724 | AW27: ='% total signal ave'!AF27 -> 0.01807742 | AX27: ='% total signal ave'!AG27 -> 0.0075004324 | AY27: ='% total signal ave'!AM27 -> 0.03468142 | AZ27: ='% total signal ave'!AN27 -> 0.03506157 | BA27: ='% total signal ave'!AT27 -> 0.011520533 | BB27: ='% total signal ave'!AU27 -> 0.0069169762 | BC27: ='% total signal ave'!BA27 -> 0.0084858528 | BD27: ='% total signal ave'!BB27 -> 0.0047201145 | BE27: ='% total signal ave'!BH27 -> 0.015021338 | BF27: ='% total signal ave'!BI27 -> 0.0080421158 | BG27: ='% total signal ave'!BO27 -> 0.023853065 | BH27: ='% total signal ave'!BP27 -> 0.012445624 | BI27: ='% total signal ave'!BV27 -> 0.038624029 | BJ27: ='% total signal ave'!BW27 -> 0.0077753003 | BK27: ='% total signal ave'!CC27 -> 0.05338204 | BL27: ='% total signal ave'!CD27 -> 0.024616828 | BM27: ='% total signal ave'!CJ27 -> 0.076752974 | BN27: ='% total signal ave'!CK27 -> 0.020094138 | BO27: ='% total signal ave'!CQ27 -> 0.091585659 | BP27: ='% total signal ave'!CR27 -> 0.032367968 | BQ27: ='% total signal ave'!CX27 -> 0.077976544 | BR27: ='% total signal ave'!CY27 -> 0.034706965 | BS27: ='% total signal ave'!DE27 -> 0.037004381 | BT27: ='% total signal ave'!DF27 -> 0.017714143 | BU27: ='% total signal ave'!DL27 -> 0.076464676 | BV27: ='% total signal ave'!DM27 -> 0.062795985 | BW27: ='% total signal ave'!DS27 -> 0.054285415 | BX27: ='% total signal ave'!DT27 -> 0.026306463 | BY27: ='% total signal ave'!DZ27 -> 0.038286349 | BZ27: ='% total signal ave'!EA27 -> 0.030003382 | CA27: ='% total signal ave'!EG27 -> 0.093812336 | CB27: ='% total signal ave'!EH27 -> 0.028932999
A28: ='imported data from Web Calc'!A28 -> 792.5 | B28: ='imported data from Web Calc'!B28 -> C45H74O10 | C28: ='imported data from Web Calc'!C28 -> MGDG(36:6) | D28: ='amount-analyzed sorted'!Q28 -> 0.89392857 | F28: ='signal-per-mass-dry-wt ave'!Q28 -> 11.515741 | G28: ='signal-per-mass-dry-wt ave'!R28 -> 0.23407931 | H28: ='signal-per-mass-dry-wt ave'!S28 -> 0.0203269 | I28: ='signal-per-mass-dry-wt ave'!Y28 -> 26.140371 | J28: ='signal-per-mass-dry-wt ave'!Z28 -> 9.54328 | K28: ='signal-per-mass-dry-wt ave'!AF28 -> 12.834417 | L28: ='signal-per-mass-dry-wt ave'!AG28 -> 6.4982279 | M28: ='signal-per-mass-dry-wt ave'!AM28 -> 7.5856514 | N28: ='signal-per-mass-dry-wt ave'!AN28 -> 1.4717076 | O28: ='signal-per-mass-dry-wt ave'!AT28 -> 10.801932 | P28: ='signal-per-mass-dry-wt ave'!AU28 -> 6.9991199 | Q28: ='signal-per-mass-dry-wt ave'!BA28 -> 15.137016 | R28: ='signal-per-mass-dry-wt ave'!BB28 -> 5.302169 | S28: ='signal-per-mass-dry-wt ave'!BH28 -> 13.212635 | T28: ='signal-per-mass-dry-wt ave'!BI28 -> 4.807375 | U28: ='signal-per-mass-dry-wt ave'!BO28 -> 8.1333232 | V28: ='signal-per-mass-dry-wt ave'!BP28 -> 3.5029544 | W28: ='signal-per-mass-dry-wt ave'!BV28 -> 18.141401 | X28: ='signal-per-mass-dry-wt ave'!BW28 -> 6.3463665 | Y28: ='signal-per-mass-dry-wt ave'!CC28 -> 4.9998068 | Z28: ='signal-per-mass-dry-wt ave'!CD28 -> 1.7695269 | AA28: ='signal-per-mass-dry-wt ave'!CJ28 -> 12.540915 | AB28: ='signal-per-mass-dry-wt ave'!CK28 -> 4.9519729 | AC28: ='signal-per-mass-dry-wt ave'!CQ28 -> 10.724407 | AD28: ='signal-per-mass-dry-wt ave'!CR28 -> 2.5569714 | AE28: ='signal-per-mass-dry-wt ave'!CX28 -> 10.098637 | AF28: ='signal-per-mass-dry-wt ave'!CY28 -> 6.5149543 | AG28: ='signal-per-mass-dry-wt ave'!DE28 -> 13.635802 | AH28: ='signal-per-mass-dry-wt ave'!DF28 -> 4.4993173 | AI28: ='signal-per-mass-dry-wt ave'!DL28 -> 7.7714886 | AJ28: ='signal-per-mass-dry-wt ave'!DM28 -> 3.8466816 | AK28: ='signal-per-mass-dry-wt ave'!DS28 -> 14.771602 | AL28: ='signal-per-mass-dry-wt ave'!DT28 -> 10.621344 | AM28: ='signal-per-mass-dry-wt ave'!DZ28 -> 8.6232498 | AN28: ='signal-per-mass-dry-wt ave'!EA28 -> 6.2807851 | AO28: ='signal-per-mass-dry-wt ave'!EG28 -> 11.476461 | AP28: ='signal-per-mass-dry-wt ave'!EH28 -> 7.5694687 | AR28: ='% total signal ave'!Q28 -> 20.855316 | AS28: ='% total signal ave'!R28 -> 0.33671817 | AT28: ='% total signal ave'!S28 -> 0.016145436 | AU28: ='% total signal ave'!Y28 -> 15.927048 | AV28: ='% total signal ave'!Z28 -> 1.5738881 | AW28: ='% total signal ave'!AF28 -> 16.039562 | AX28: ='% total signal ave'!AG28 -> 1.6300819 | AY28: ='% total signal ave'!AM28 -> 19.706765 | AZ28: ='% total signal ave'!AN28 -> 4.24166 | BA28: ='% total signal ave'!AT28 -> 19.087103 | BB28: ='% total signal ave'!AU28 -> 1.9692726 | BC28: ='% total signal ave'!BA28 -> 17.943828 | BD28: ='% total signal ave'!BB28 -> 4.7547813 | BE28: ='% total signal ave'!BH28 -> 15.640218 | BF28: ='% total signal ave'!BI28 -> 3.0519334 | BG28: ='% total signal ave'!BO28 -> 14.538734 | BH28: ='% total signal ave'!BP28 -> 3.7232503 | BI28: ='% total signal ave'!BV28 -> 14.316006 | BJ28: ='% total signal ave'!BW28 -> 1.4922015 | BK28: ='% total signal ave'!CC28 -> 21.030279 | BL28: ='% total signal ave'!CD28 -> 3.1987974 | BM28: ='% total signal ave'!CJ28 -> 29.730699 | BN28: ='% total signal ave'!CK28 -> 7.0669196 | BO28: ='% total signal ave'!CQ28 -> 27.8989 | BP28: ='% total signal ave'!CR28 -> 3.185797 | BQ28: ='% total signal ave'!CX28 -> 32.852394 | BR28: ='% total signal ave'!CY28 -> 5.3291472 | BS28: ='% total signal ave'!DE28 -> 28.782064 | BT28: ='% total signal ave'!DF28 -> 4.1665315 | BU28: ='% total signal ave'!DL28 -> 26.890437 | BV28: ='% total signal ave'!DM28 -> 2.5382665 | BW28: ='% total signal ave'!DS28 -> 27.977903 | BX28: ='% total signal ave'!DT28 -> 2.7783058 | BY28: ='% total signal ave'!DZ28 -> 31.234186 | BZ28: ='% total signal ave'!EA28 -> 3.9575151 | CA28: ='% total signal ave'!EG28 -> 27.122736 | CB28: ='% total signal ave'!EH28 -> 4.6232083
A29: ='imported data from Web Calc'!A29 -> 794.5 | B29: ='imported data from Web Calc'!B29 -> C45H76O10 | C29: ='imported data from Web Calc'!C29 -> MGDG(36:5) | D29: ='amount-analyzed sorted'!Q29 -> 0.092939286 | F29: ='signal-per-mass-dry-wt ave'!Q29 -> 1.1972598 | G29: ='signal-per-mass-dry-wt ave'!R29 -> 0.04522822 | H29: ='signal-per-mass-dry-wt ave'!S29 -> 0.037776446 | I29: ='signal-per-mass-dry-wt ave'!Y29 -> 1.9657034 | J29: ='signal-per-mass-dry-wt ave'!Z29 -> 0.78471796 | K29: ='signal-per-mass-dry-wt ave'!AF29 -> 0.7812481 | L29: ='signal-per-mass-dry-wt ave'!AG29 -> 0.36203309 | M29: ='signal-per-mass-dry-wt ave'!AM29 -> 0.61793292 | N29: ='signal-per-mass-dry-wt ave'!AN29 -> 0.13527395 | O29: ='signal-per-mass-dry-wt ave'!AT29 -> 0.9608322 | P29: ='signal-per-mass-dry-wt ave'!AU29 -> 0.45302442 | Q29: ='signal-per-mass-dry-wt ave'!BA29 -> 1.402799 | R29: ='signal-per-mass-dry-wt ave'!BB29 -> 0.40726424 | S29: ='signal-per-mass-dry-wt ave'!BH29 -> 1.9470906 | T29: ='signal-per-mass-dry-wt ave'!BI29 -> 0.81372466 | U29: ='signal-per-mass-dry-wt ave'!BO29 -> 1.5027328 | V29: ='signal-per-mass-dry-wt ave'!BP29 -> 0.46411321 | W29: ='signal-per-mass-dry-wt ave'!BV29 -> 2.8054558 | X29: ='signal-per-mass-dry-wt ave'!BW29 -> 0.84459392 | Y29: ='signal-per-mass-dry-wt ave'!CC29 -> 0.51718944 | Z29: ='signal-per-mass-dry-wt ave'!CD29 -> 0.19000462 | AA29: ='signal-per-mass-dry-wt ave'!CJ29 -> 1.2056207 | AB29: ='signal-per-mass-dry-wt ave'!CK29 -> 0.67072625 | AC29: ='signal-per-mass-dry-wt ave'!CQ29 -> 0.91253411 | AD29: ='signal-per-mass-dry-wt ave'!CR29 -> 0.28213665 | AE29: ='signal-per-mass-dry-wt ave'!CX29 -> 0.85890079 | AF29: ='signal-per-mass-dry-wt ave'!CY29 -> 0.60982957 | AG29: ='signal-per-mass-dry-wt ave'!DE29 -> 1.1107639 | AH29: ='signal-per-mass-dry-wt ave'!DF29 -> 0.51430778 | AI29: ='signal-per-mass-dry-wt ave'!DL29 -> 0.8865571 | AJ29: ='signal-per-mass-dry-wt ave'!DM29 -> 0.37629291 | AK29: ='signal-per-mass-dry-wt ave'!DS29 -> 1.6642363 | AL29: ='signal-per-mass-dry-wt ave'!DT29 -> 1.0268895 | AM29: ='signal-per-mass-dry-wt ave'!DZ29 -> 0.80633328 | AN29: ='signal-per-mass-dry-wt ave'!EA29 -> 0.49982298 | AO29: ='signal-per-mass-dry-wt ave'!EG29 -> 1.3857683 | AP29: ='signal-per-mass-dry-wt ave'!EH29 -> 0.84760132 | AR29: ='% total signal ave'!Q29 -> 2.1686766 | AS29: ='% total signal ave'!R29 -> 0.089982961 | AT29: ='% total signal ave'!S29 -> 0.041492106 | AU29: ='% total signal ave'!Y29 -> 1.1987278 | AV29: ='% total signal ave'!Z29 -> 0.19672323 | AW29: ='% total signal ave'!AF29 -> 1.0060076 | AX29: ='% total signal ave'!AG29 -> 0.23547318 | AY29: ='% total signal ave'!AM29 -> 1.6506566 | AZ29: ='% total signal ave'!AN29 -> 0.67330169 | BA29: ='% total signal ave'!AT29 -> 1.9917524 | BB29: ='% total signal ave'!AU29 -> 0.75510573 | BC29: ='% total signal ave'!BA29 -> 1.7317667 | BD29: ='% total signal ave'!BB29 -> 0.61616243 | BE29: ='% total signal ave'!BH29 -> 2.2987813 | BF29: ='% total signal ave'!BI29 -> 0.53582998 | BG29: ='% total signal ave'!BO29 -> 2.7699905 | BH29: ='% total signal ave'!BP29 -> 0.61730291 | BI29: ='% total signal ave'!BV29 -> 2.2394287 | BJ29: ='% total signal ave'!BW29 -> 0.16982896 | BK29: ='% total signal ave'!CC29 -> 2.1403924 | BL29: ='% total signal ave'!CD29 -> 0.24807133 | BM29: ='% total signal ave'!CJ29 -> 2.6929627 | BN29: ='% total signal ave'!CK29 -> 0.24483477 | BO29: ='% total signal ave'!CQ29 -> 2.4076741 | BP29: ='% total signal ave'!CR29 -> 0.70199788 | BQ29: ='% total signal ave'!CX29 -> 2.6855669 | BR29: ='% total signal ave'!CY29 -> 0.63348239 | BS29: ='% total signal ave'!DE29 -> 2.2245693 | BT29: ='% total signal ave'!DF29 -> 0.50607464 | BU29: ='% total signal ave'!DL29 -> 3.2775369 | BV29: ='% total signal ave'!DM29 -> 0.78587044 | BW29: ='% total signal ave'!DS29 -> 3.3518309 | BX29: ='% total signal ave'!DT29 -> 0.45054119 | BY29: ='% total signal ave'!DZ29 -> 3.1203048 | BZ29: ='% total signal ave'!EA29 -> 0.52148472 | CA29: ='% total signal ave'!EG29 -> 3.3936908 | CB29: ='% total signal ave'!EH29 -> 0.88023974
A30: ='imported data from Web Calc'!A30 -> 796.6 | B30: ='imported data from Web Calc'!B30 -> C45H78O10 | C30: ='imported data from Web Calc'!C30 -> MGDG(36:4) | D30: ='amount-analyzed sorted'!Q30 -> 0.058157143 | F30: ='signal-per-mass-dry-wt ave'!Q30 -> 0.74919026 | G30: ='signal-per-mass-dry-wt ave'!R30 -> 0.021503341 | H30: ='signal-per-mass-dry-wt ave'!S30 -> 0.02870211 | I30: ='signal-per-mass-dry-wt ave'!Y30 -> 1.2410298 | J30: ='signal-per-mass-dry-wt ave'!Z30 -> 0.4460193 | K30: ='signal-per-mass-dry-wt ave'!AF30 -> 0.55018554 | L30: ='signal-per-mass-dry-wt ave'!AG30 -> 0.27597688 | M30: ='signal-per-mass-dry-wt ave'!AM30 -> 0.38330484 | N30: ='signal-per-mass-dry-wt ave'!AN30 -> 0.081503629 | O30: ='signal-per-mass-dry-wt ave'!AT30 -> 0.46836451 | P30: ='signal-per-mass-dry-wt ave'!AU30 -> 0.25643552 | Q30: ='signal-per-mass-dry-wt ave'!BA30 -> 0.65311212 | R30: ='signal-per-mass-dry-wt ave'!BB30 -> 0.22658895 | S30: ='signal-per-mass-dry-wt ave'!BH30 -> 0.76911555 | T30: ='signal-per-mass-dry-wt ave'!BI30 -> 0.35035024 | U30: ='signal-per-mass-dry-wt ave'!BO30 -> 0.62737332 | V30: ='signal-per-mass-dry-wt ave'!BP30 -> 0.20349058 | W30: ='signal-per-mass-dry-wt ave'!BV30 -> 1.311578 | X30: ='signal-per-mass-dry-wt ave'!BW30 -> 0.48094776 | Y30: ='signal-per-mass-dry-wt ave'!CC30 -> 0.29740371 | Z30: ='signal-per-mass-dry-wt ave'!CD30 -> 0.12319012 | AA30: ='signal-per-mass-dry-wt ave'!CJ30 -> 1.0717719 | AB30: ='signal-per-mass-dry-wt ave'!CK30 -> 0.55677158 | AC30: ='signal-per-mass-dry-wt ave'!CQ30 -> 1.0632225 | AD30: ='signal-per-mass-dry-wt ave'!CR30 -> 0.44901389 | AE30: ='signal-per-mass-dry-wt ave'!CX30 -> 0.72212934 | AF30: ='signal-per-mass-dry-wt ave'!CY30 -> 0.45642883 | AG30: ='signal-per-mass-dry-wt ave'!DE30 -> 0.89332683 | AH30: ='signal-per-mass-dry-wt ave'!DF30 -> 0.36067831 | AI30: ='signal-per-mass-dry-wt ave'!DL30 -> 0.56660009 | AJ30: ='signal-per-mass-dry-wt ave'!DM30 -> 0.24259871 | AK30: ='signal-per-mass-dry-wt ave'!DS30 -> 1.0807705 | AL30: ='signal-per-mass-dry-wt ave'!DT30 -> 0.59329804 | AM30: ='signal-per-mass-dry-wt ave'!DZ30 -> 0.56864595 | AN30: ='signal-per-mass-dry-wt ave'!EA30 -> 0.31649869 | AO30: ='signal-per-mass-dry-wt ave'!EG30 -> 1.0242422 | AP30: ='signal-per-mass-dry-wt ave'!EH30 -> 0.61856303 | AR30: ='% total signal ave'!Q30 -> 1.3568543 | AS30: ='% total signal ave'!R30 -> 0.037487846 | AT30: ='% total signal ave'!S30 -> 0.027628498 | AU30: ='% total signal ave'!Y30 -> 0.7701151 | AV30: ='% total signal ave'!Z30 -> 0.17175902 | AW30: ='% total signal ave'!AF30 -> 0.6879601 | AX30: ='% total signal ave'!AG30 -> 0.10088915 | AY30: ='% total signal ave'!AM30 -> 1.0087988 | AZ30: ='% total signal ave'!AN30 -> 0.33045448 | BA30: ='% total signal ave'!AT30 -> 0.92297042 | BB30: ='% total signal ave'!AU30 -> 0.25439927 | BC30: ='% total signal ave'!BA30 -> 0.77086904 | BD30: ='% total signal ave'!BB30 -> 0.19183539 | BE30: ='% total signal ave'!BH30 -> 0.89822941 | BF30: ='% total signal ave'!BI30 -> 0.14097064 | BG30: ='% total signal ave'!BO30 -> 1.1602829 | BH30: ='% total signal ave'!BP30 -> 0.32329915 | BI30: ='% total signal ave'!BV30 -> 1.0289766 | BJ30: ='% total signal ave'!BW30 -> 0.092885798 | BK30: ='% total signal ave'!CC30 -> 1.2233889 | BL30: ='% total signal ave'!CD30 -> 0.10843644 | BM30: ='% total signal ave'!CJ30 -> 2.4571305 | BN30: ='% total signal ave'!CK30 -> 0.43869647 | BO30: ='% total signal ave'!CQ30 -> 2.6547534 | BP30: ='% total signal ave'!CR30 -> 0.32382099 | BQ30: ='% total signal ave'!CX30 -> 2.2577057 | BR30: ='% total signal ave'!CY30 -> 0.20133549 | BS30: ='% total signal ave'!DE30 -> 1.8191855 | BT30: ='% total signal ave'!DF30 -> 0.11923919 | BU30: ='% total signal ave'!DL30 -> 2.0502376 | BV30: ='% total signal ave'!DM30 -> 0.37521765 | BW30: ='% total signal ave'!DS30 -> 2.2717632 | BX30: ='% total signal ave'!DT30 -> 0.49125236 | BY30: ='% total signal ave'!DZ30 -> 2.321643 | BZ30: ='% total signal ave'!EA30 -> 0.56745278 | CA30: ='% total signal ave'!EG30 -> 2.5122027 | CB30: ='% total signal ave'!EH30 -> 0.53015165
A31: ='imported data from Web Calc'!A31 -> 798.6 | B31: ='imported data from Web Calc'!B31 -> C45H80O10 | C31: ='imported data from Web Calc'!C31 -> MGDG(36:3) | D31: ='amount-analyzed sorted'!Q31 -> 0.015903571 | F31: ='signal-per-mass-dry-wt ave'!Q31 -> 0.20487253 | G31: ='signal-per-mass-dry-wt ave'!R31 -> 0.016182191 | H31: ='signal-per-mass-dry-wt ave'!S31 -> 0.078986634 | I31: ='signal-per-mass-dry-wt ave'!Y31 -> 0.40370867 | J31: ='signal-per-mass-dry-wt ave'!Z31 -> 0.17299809 | K31: ='signal-per-mass-dry-wt ave'!AF31 -> 0.19631833 | L31: ='signal-per-mass-dry-wt ave'!AG31 -> 0.099035246 | M31: ='signal-per-mass-dry-wt ave'!AM31 -> 0.12412811 | N31: ='signal-per-mass-dry-wt ave'!AN31 -> 0.014976956 | O31: ='signal-per-mass-dry-wt ave'!AT31 -> 0.17559232 | P31: ='signal-per-mass-dry-wt ave'!AU31 -> 0.11766432 | Q31: ='signal-per-mass-dry-wt ave'!BA31 -> 0.19930943 | R31: ='signal-per-mass-dry-wt ave'!BB31 -> 0.073902375 | S31: ='signal-per-mass-dry-wt ave'!BH31 -> 0.19430791 | T31: ='signal-per-mass-dry-wt ave'!BI31 -> 0.06331738 | U31: ='signal-per-mass-dry-wt ave'!BO31 -> 0.13169592 | V31: ='signal-per-mass-dry-wt ave'!BP31 -> 0.040657456 | W31: ='signal-per-mass-dry-wt ave'!BV31 -> 0.36199888 | X31: ='signal-per-mass-dry-wt ave'!BW31 -> 0.13469231 | Y31: ='signal-per-mass-dry-wt ave'!CC31 -> 0.084733311 | Z31: ='signal-per-mass-dry-wt ave'!CD31 -> 0.039514529 | AA31: ='signal-per-mass-dry-wt ave'!CJ31 -> 0.26451057 | AB31: ='signal-per-mass-dry-wt ave'!CK31 -> 0.16200761 | AC31: ='signal-per-mass-dry-wt ave'!CQ31 -> 0.26987666 | AD31: ='signal-per-mass-dry-wt ave'!CR31 -> 0.085898454 | AE31: ='signal-per-mass-dry-wt ave'!CX31 -> 0.18509721 | AF31: ='signal-per-mass-dry-wt ave'!CY31 -> 0.10750868 | AG31: ='signal-per-mass-dry-wt ave'!DE31 -> 0.23137628 | AH31: ='signal-per-mass-dry-wt ave'!DF31 -> 0.095431263 | AI31: ='signal-per-mass-dry-wt ave'!DL31 -> 0.12703776 | AJ31: ='signal-per-mass-dry-wt ave'!DM31 -> 0.077503307 | AK31: ='signal-per-mass-dry-wt ave'!DS31 -> 0.25083014 | AL31: ='signal-per-mass-dry-wt ave'!DT31 -> 0.13659982 | AM31: ='signal-per-mass-dry-wt ave'!DZ31 -> 0.14502513 | AN31: ='signal-per-mass-dry-wt ave'!EA31 -> 0.11890708 | AO31: ='signal-per-mass-dry-wt ave'!EG31 -> 0.28793861 | AP31: ='signal-per-mass-dry-wt ave'!EH31 -> 0.18230102 | AR31: ='% total signal ave'!Q31 -> 0.37082424 | AS31: ='% total signal ave'!R31 -> 0.025844723 | AT31: ='% total signal ave'!S31 -> 0.069695344 | AU31: ='% total signal ave'!Y31 -> 0.24307444 | AV31: ='% total signal ave'!Z31 -> 0.031925768 | AW31: ='% total signal ave'!AF31 -> 0.24684703 | AX31: ='% total signal ave'!AG31 -> 0.029267516 | AY31: ='% total signal ave'!AM31 -> 0.32137611 | AZ31: ='% total signal ave'!AN31 -> 0.048315843 | BA31: ='% total signal ave'!AT31 -> 0.32016948 | BB31: ='% total signal ave'!AU31 -> 0.070375638 | BC31: ='% total signal ave'!BA31 -> 0.23003855 | BD31: ='% total signal ave'!BB31 -> 0.037751465 | BE31: ='% total signal ave'!BH31 -> 0.23778339 | BF31: ='% total signal ave'!BI31 -> 0.067244062 | BG31: ='% total signal ave'!BO31 -> 0.24191358 | BH31: ='% total signal ave'!BP31 -> 0.036389111 | BI31: ='% total signal ave'!BV31 -> 0.28524996 | BJ31: ='% total signal ave'!BW31 -> 0.051364828 | BK31: ='% total signal ave'!CC31 -> 0.34142104 | BL31: ='% total signal ave'!CD31 -> 0.015152272 | BM31: ='% total signal ave'!CJ31 -> 0.58018763 | BN31: ='% total signal ave'!CK31 -> 0.076313505 | BO31: ='% total signal ave'!CQ31 -> 0.69382683 | BP31: ='% total signal ave'!CR31 -> 0.081111895 | BQ31: ='% total signal ave'!CX31 -> 0.60270892 | BR31: ='% total signal ave'!CY31 -> 0.08167097 | BS31: ='% total signal ave'!DE31 -> 0.47118141 | BT31: ='% total signal ave'!DF31 -> 0.064177782 | BU31: ='% total signal ave'!DL31 -> 0.37494806 | BV31: ='% total signal ave'!DM31 -> 0.1971118 | BW31: ='% total signal ave'!DS31 -> 0.53081408 | BX31: ='% total signal ave'!DT31 -> 0.12491909 | BY31: ='% total signal ave'!DZ31 -> 0.49875878 | BZ31: ='% total signal ave'!EA31 -> 0.10818513 | CA31: ='% total signal ave'!EG31 -> 0.66990428 | CB31: ='% total signal ave'!EH31 -> 0.079762173
A32: ='imported data from Web Calc'!A32 -> 800.6 | B32: ='imported data from Web Calc'!B32 -> C45H82O10 | C32: ='imported data from Web Calc'!C32 -> MGDG(36:2) | D32: ='amount-analyzed sorted'!Q32 -> 0.0010760714 | F32: ='signal-per-mass-dry-wt ave'!Q32 -> 0.013862136 | G32: ='signal-per-mass-dry-wt ave'!R32 -> 0.0068998696 | H32: ='signal-per-mass-dry-wt ave'!S32 -> 0.49774937 | I32: ='signal-per-mass-dry-wt ave'!Y32 -> 0.033661722 | J32: ='signal-per-mass-dry-wt ave'!Z32 -> 0.018588861 | K32: ='signal-per-mass-dry-wt ave'!AF32 -> 0.01042791 | L32: ='signal-per-mass-dry-wt ave'!AG32 -> 0.0070064758 | M32: ='signal-per-mass-dry-wt ave'!AM32 -> 0.0086477874 | N32: ='signal-per-mass-dry-wt ave'!AN32 -> 0.0064468495 | O32: ='signal-per-mass-dry-wt ave'!AT32 -> 0.011714169 | P32: ='signal-per-mass-dry-wt ave'!AU32 -> 0.00832531 | Q32: ='signal-per-mass-dry-wt ave'!BA32 -> 0.0072608118 | R32: ='signal-per-mass-dry-wt ave'!BB32 -> 0.0037457903 | S32: ='signal-per-mass-dry-wt ave'!BH32 -> 0.011147629 | T32: ='signal-per-mass-dry-wt ave'!BI32 -> 0.008121118 | U32: ='signal-per-mass-dry-wt ave'!BO32 -> 0.015838544 | V32: ='signal-per-mass-dry-wt ave'!BP32 -> 0.0050878865 | W32: ='signal-per-mass-dry-wt ave'!BV32 -> 0.031614018 | X32: ='signal-per-mass-dry-wt ave'!BW32 -> 0.022571589 | Y32: ='signal-per-mass-dry-wt ave'!CC32 -> 0.0049501926 | Z32: ='signal-per-mass-dry-wt ave'!CD32 -> 0.0065949347 | AA32: ='signal-per-mass-dry-wt ave'!CJ32 -> 0.022800026 | AB32: ='signal-per-mass-dry-wt ave'!CK32 -> 0.016867184 | AC32: ='signal-per-mass-dry-wt ave'!CQ32 -> 0.020812347 | AD32: ='signal-per-mass-dry-wt ave'!CR32 -> 0.013436662 | AE32: ='signal-per-mass-dry-wt ave'!CX32 -> 0.013882806 | AF32: ='signal-per-mass-dry-wt ave'!CY32 -> 0.017813712 | AG32: ='signal-per-mass-dry-wt ave'!DE32 -> 0.0082477946 | AH32: ='signal-per-mass-dry-wt ave'!DF32 -> 0.0079348231 | AI32: ='signal-per-mass-dry-wt ave'!DL32 -> 0.004379449 | AJ32: ='signal-per-mass-dry-wt ave'!DM32 -> 0.0056730043 | AK32: ='signal-per-mass-dry-wt ave'!DS32 -> 0.022087171 | AL32: ='signal-per-mass-dry-wt ave'!DT32 -> 0.012176705 | AM32: ='signal-per-mass-dry-wt ave'!DZ32 -> 0.0086674802 | AN32: ='signal-per-mass-dry-wt ave'!EA32 -> 0.0092324957 | AO32: ='signal-per-mass-dry-wt ave'!EG32 -> 0.02038943 | AP32: ='signal-per-mass-dry-wt ave'!EH32 -> 0.014451684 | AR32: ='% total signal ave'!Q32 -> 0.024994912 | AS32: ='% total signal ave'!R32 -> 0.012387228 | AT32: ='% total signal ave'!S32 -> 0.49558997 | AU32: ='% total signal ave'!Y32 -> 0.019508757 | AV32: ='% total signal ave'!Z32 -> 0.0049840701 | AW32: ='% total signal ave'!AF32 -> 0.011573887 | AX32: ='% total signal ave'!AG32 -> 0.0071218135 | AY32: ='% total signal ave'!AM32 -> 0.019902479 | AZ32: ='% total signal ave'!AN32 -> 0.013534573 | BA32: ='% total signal ave'!AT32 -> 0.018300997 | BB32: ='% total signal ave'!AU32 -> 0.012508964 | BC32: ='% total signal ave'!BA32 -> 0.0096589789 | BD32: ='% total signal ave'!BB32 -> 0.0071377993 | BE32: ='% total signal ave'!BH32 -> 0.012481809 | BF32: ='% total signal ave'!BI32 -> 0.0067018256 | BG32: ='% total signal ave'!BO32 -> 0.029276364 | BH32: ='% total signal ave'!BP32 -> 0.0074579255 | BI32: ='% total signal ave'!BV32 -> 0.023790863 | BJ32: ='% total signal ave'!BW32 -> 0.015674708 | BK32: ='% total signal ave'!CC32 -> 0.015747443 | BL32: ='% total signal ave'!CD32 -> 0.017575322 | BM32: ='% total signal ave'!CJ32 -> 0.05094584 | BN32: ='% total signal ave'!CK32 -> 0.028608949 | BO32: ='% total signal ave'!CQ32 -> 0.048739227 | BP32: ='% total signal ave'!CR32 -> 0.017094979 | BQ32: ='% total signal ave'!CX32 -> 0.03128463 | BR32: ='% total signal ave'!CY32 -> 0.042898493 | BS32: ='% total signal ave'!DE32 -> 0.014627354 | BT32: ='% total signal ave'!DF32 -> 0.013212265 | BU32: ='% total signal ave'!DL32 -> 0.0098205785 | BV32: ='% total signal ave'!DM32 -> 0.011750625 | BW32: ='% total signal ave'!DS32 -> 0.046175321 | BX32: ='% total signal ave'!DT32 -> 0.013860831 | BY32: ='% total signal ave'!DZ32 -> 0.031839923 | BZ32: ='% total signal ave'!EA32 -> 0.037006764 | CA32: ='% total signal ave'!EG32 -> 0.046519436 | CB32: ='% total signal ave'!EH32 -> 0.035547805
A33: ='imported data from Web Calc'!A33 -> 802.6 | B33: ='imported data from Web Calc'!B33 -> C45H84O10 | C33: ='imported data from Web Calc'!C33 -> MGDG(36:1) | D33: ='amount-analyzed sorted'!Q33 -> 0.00021071429 | F33: ='signal-per-mass-dry-wt ave'!Q33 -> 0.0027144575 | G33: ='signal-per-mass-dry-wt ave'!R33 -> 0.0020626667 | H33: ='signal-per-mass-dry-wt ave'!S33 -> 0.75988175 | I33: ='signal-per-mass-dry-wt ave'!Y33 -> 0.0045313077 | J33: ='signal-per-mass-dry-wt ave'!Z33 -> 0.0064793059 | K33: ='signal-per-mass-dry-wt ave'!AF33 -> 0.0025560106 | L33: ='signal-per-mass-dry-wt ave'!AG33 -> 0.0032729214 | M33: ='signal-per-mass-dry-wt ave'!AM33 -> 0.0012428065 | N33: ='signal-per-mass-dry-wt ave'!AN33 -> 0.0020685551 | O33: ='signal-per-mass-dry-wt ave'!AT33 -> 0.00077930382 | P33: ='signal-per-mass-dry-wt ave'!AU33 -> 0.0011697926 | Q33: ='signal-per-mass-dry-wt ave'!BA33 -> 0.0025432771 | R33: ='signal-per-mass-dry-wt ave'!BB33 -> 0.0028210519 | S33: ='signal-per-mass-dry-wt ave'!BH33 -> 0.0030197571 | T33: ='signal-per-mass-dry-wt ave'!BI33 -> 0.0038609715 | U33: ='signal-per-mass-dry-wt ave'!BO33 -> 0.0021337305 | V33: ='signal-per-mass-dry-wt ave'!BP33 -> 0.0027496366 | W33: ='signal-per-mass-dry-wt ave'!BV33 -> 0.0109213 | X33: ='signal-per-mass-dry-wt ave'!BW33 -> 0.0042487138 | Y33: ='signal-per-mass-dry-wt ave'!CC33 -> 0.0037787693 | Z33: ='signal-per-mass-dry-wt ave'!CD33 -> 0.0042891654 | AA33: ='signal-per-mass-dry-wt ave'!CJ33 -> 0.0017035105 | AB33: ='signal-per-mass-dry-wt ave'!CK33 -> 0.0024683482 | AC33: ='signal-per-mass-dry-wt ave'!CQ33 -> 0.003836545 | AD33: ='signal-per-mass-dry-wt ave'!CR33 -> 0.0023128152 | AE33: ='signal-per-mass-dry-wt ave'!CX33 -> 0.0037477354 | AF33: ='signal-per-mass-dry-wt ave'!CY33 -> 0.0031419195 | AG33: ='signal-per-mass-dry-wt ave'!DE33 -> 0.0017136381 | AH33: ='signal-per-mass-dry-wt ave'!DF33 -> 0.0027496211 | AI33: ='signal-per-mass-dry-wt ave'!DL33 -> 0.0053189511 | AJ33: ='signal-per-mass-dry-wt ave'!DM33 -> 0.0051978838 | AK33: ='signal-per-mass-dry-wt ave'!DS33 -> 0.0035248785 | AL33: ='signal-per-mass-dry-wt ave'!DT33 -> 0.0029679288 | AM33: ='signal-per-mass-dry-wt ave'!DZ33 -> 0.0010505844 | AN33: ='signal-per-mass-dry-wt ave'!EA33 -> 0.0012616023 | AO33: ='signal-per-mass-dry-wt ave'!EG33 -> 0.0065693188 | AP33: ='signal-per-mass-dry-wt ave'!EH33 -> 0.0040067749 | AR33: ='% total signal ave'!Q33 -> 0.0048590794 | AS33: ='% total signal ave'!R33 -> 0.0035735474 | AT33: ='% total signal ave'!S33 -> 0.73543714 | AU33: ='% total signal ave'!Y33 -> 0.002480422 | AV33: ='% total signal ave'!Z33 -> 0.003111847 | AW33: ='% total signal ave'!AF33 -> 0.003811626 | AX33: ='% total signal ave'!AG33 -> 0.0043829924 | AY33: ='% total signal ave'!AM33 -> 0.0027916728 | AZ33: ='% total signal ave'!AN33 -> 0.0043599797 | BA33: ='% total signal ave'!AT33 -> 0.0029026649 | BB33: ='% total signal ave'!AU33 -> 0.0041431668 | BC33: ='% total signal ave'!BA33 -> 0.002875116 | BD33: ='% total signal ave'!BB33 -> 0.0036282397 | BE33: ='% total signal ave'!BH33 -> 0.0037502661 | BF33: ='% total signal ave'!BI33 -> 0.0049731529 | BG33: ='% total signal ave'!BO33 -> 0.0044157873 | BH33: ='% total signal ave'!BP33 -> 0.005846733 | BI33: ='% total signal ave'!BV33 -> 0.0086188038 | BJ33: ='% total signal ave'!BW33 -> 0.0025328729 | BK33: ='% total signal ave'!CC33 -> 0.017813539 | BL33: ='% total signal ave'!CD33 -> 0.022195579 | BM33: ='% total signal ave'!CJ33 -> 0.0024253054 | BN33: ='% total signal ave'!CK33 -> 0.0033327678 | BO33: ='% total signal ave'!CQ33 -> 0.0099618846 | BP33: ='% total signal ave'!CR33 -> 0.0062198239 | BQ33: ='% total signal ave'!CX33 -> 0.020182636 | BR33: ='% total signal ave'!CY33 -> 0.02431007 | BS33: ='% total signal ave'!DE33 -> 0.002994714 | BT33: ='% total signal ave'!DF33 -> 0.0040331737 | BU33: ='% total signal ave'!DL33 -> 0.029786523 | BV33: ='% total signal ave'!DM33 -> 0.034397842 | BW33: ='% total signal ave'!DS33 -> 0.007766289 | BX33: ='% total signal ave'!DT33 -> 0.0091723013 | BY33: ='% total signal ave'!DZ33 -> 0.0041024248 | BZ33: ='% total signal ave'!EA33 -> 0.0068628989 | CA33: ='% total signal ave'!EG33 -> 0.016055036 | CB33: ='% total signal ave'!EH33 -> 0.0047082391
... A37: ='imported data from Web Calc'!A37 -> 826.6 | B37: ='imported data from Web Calc'!B37 -> C47H84O10 | C37: ='imported data from Web Calc'!C37 -> MGDG(38:3) | D37: ='amount-analyzed sorted'!Q37 -> 6.7857143e-05 | F37: ='signal-per-mass-dry-wt ave'!Q37 -> 0.00087414732 | G37: ='signal-per-mass-dry-wt ave'!R37 -> 0.00090598809 | H37: ='signal-per-mass-dry-wt ave'!S37 -> 1.0364249 | I37: ='signal-per-mass-dry-wt ave'!Y37 -> 0.0019778078 | J37: ='signal-per-mass-dry-wt ave'!Z37 -> 0.0019517248 | K37: ='signal-per-mass-dry-wt ave'!AF37 -> 0.00091729749 | L37: ='signal-per-mass-dry-wt ave'!AG37 -> 0.0012573787 | M37: ='signal-per-mass-dry-wt ave'!AM37 -> 0.00084084461 | N37: ='signal-per-mass-dry-wt ave'!AN37 -> 0.0011574364 | O37: ='signal-per-mass-dry-wt ave'!AT37 -> 0.00052521008 | P37: ='signal-per-mass-dry-wt ave'!AU37 -> 0.00078293697 | Q37: ='signal-per-mass-dry-wt ave'!BA37 -> 0.0016791952 | R37: ='signal-per-mass-dry-wt ave'!BB37 -> 0.0016428117 | S37: ='signal-per-mass-dry-wt ave'!BH37 -> 0.0046799002 | T37: ='signal-per-mass-dry-wt ave'!BI37 -> 0.0025098802 | U37: ='signal-per-mass-dry-wt ave'!BO37 -> 0.0036903227 | V37: ='signal-per-mass-dry-wt ave'!BP37 -> 0.0027499976 | W37: ='signal-per-mass-dry-wt ave'!BV37 -> 0.0047090338 | X37: ='signal-per-mass-dry-wt ave'!BW37 -> 0.0032619176 | Y37: ='signal-per-mass-dry-wt ave'!CC37 -> 0.00067187252 | Z37: ='signal-per-mass-dry-wt ave'!CD37 -> 0.00092293667 | AA37: ='signal-per-mass-dry-wt ave'!CJ37 -> 0.00026718917 | AB37: ='signal-per-mass-dry-wt ave'!CK37 -> 0.00059745315 | AC37: ='signal-per-mass-dry-wt ave'!CQ37 -> 0.00067470402 | AD37: ='signal-per-mass-dry-wt ave'!CR37 -> 0.00092685092 | AE37: ='signal-per-mass-dry-wt ave'!CX37 -> 0.0012400794 | AF37: ='signal-per-mass-dry-wt ave'!CY37 -> 0.0027729018 | AG37: ='signal-per-mass-dry-wt ave'!DE37 -> 0.001078008 | AH37: ='signal-per-mass-dry-wt ave'!DF37 -> 0.001348964 | AI37: ='signal-per-mass-dry-wt ave'!DL37 -> 0.00102368 | AJ37: ='signal-per-mass-dry-wt ave'!DM37 -> 0.002004637 | AK37: ='signal-per-mass-dry-wt ave'!DS37 -> 0.0011470788 | AL37: ='signal-per-mass-dry-wt ave'!DT37 -> 0.0018843009 | AM37: ='signal-per-mass-dry-wt ave'!DZ37 -> 0.00029009799 | AN37: ='signal-per-mass-dry-wt ave'!EA37 -> 0.00064867882 | AO37: ='signal-per-mass-dry-wt ave'!EG37 -> 0.0018902721 | AP37: ='signal-per-mass-dry-wt ave'!EH37 -> 0.0036077855 | AR37: ='% total signal ave'!Q37 -> 0.0015923024 | AS37: ='% total signal ave'!R37 -> 0.0016467151 | AT37: ='% total signal ave'!S37 -> 1.0341723 | AU37: ='% total signal ave'!Y37 -> 0.0010015789 | AV37: ='% total signal ave'!Z37 -> 0.00079547053 | AW37: ='% total signal ave'!AF37 -> 0.0007199165 | AX37: ='% total signal ave'!AG37 -> 0.0009925412 | AY37: ='% total signal ave'!AM37 -> 0.0021104133 | AZ37: ='% total signal ave'!AN37 -> 0.0028854148 | BA37: ='% total signal ave'!AT37 -> 0.0011081204 | BB37: ='% total signal ave'!AU37 -> 0.0016636428 | BC37: ='% total signal ave'!BA37 -> 0.0031011199 | BD37: ='% total signal ave'!BB37 -> 0.0045137075 | BE37: ='% total signal ave'!BH37 -> 0.0057003745 | BF37: ='% total signal ave'!BI37 -> 0.0029409727 | BG37: ='% total signal ave'!BO37 -> 0.0072919592 | BH37: ='% total signal ave'!BP37 -> 0.0061006878 | BI37: ='% total signal ave'!BV37 -> 0.0034478056 | BJ37: ='% total signal ave'!BW37 -> 0.0023051901 | BK37: ='% total signal ave'!CC37 -> 0.0022638702 | BL37: ='% total signal ave'!CD37 -> 0.0034845923 | BM37: ='% total signal ave'!CJ37 -> 0.00048576895 | BN37: ='% total signal ave'!CK37 -> 0.0010862124 | BO37: ='% total signal ave'!CQ37 -> 0.0015739404 | BP37: ='% total signal ave'!CR37 -> 0.0022910624 | BQ37: ='% total signal ave'!CX37 -> 0.002256976 | BR37: ='% total signal ave'!CY37 -> 0.0050467518 | BS37: ='% total signal ave'!DE37 -> 0.0017091374 | BT37: ='% total signal ave'!DF37 -> 0.0020258462 | BU37: ='% total signal ave'!DL37 -> 0.0025539836 | BV37: ='% total signal ave'!DM37 -> 0.0045700187 | BW37: ='% total signal ave'!DS37 -> 0.0022397775 | BX37: ='% total signal ave'!DT37 -> 0.0024463886 | BY37: ='% total signal ave'!DZ37 -> 0.00080495587 | BZ37: ='% total signal ave'!EA37 -> 0.001799936 | CA37: ='% total signal ave'!EG37 -> 0.0039189986 | CB37: ='% total signal ave'!EH37 -> 0.0054894929
A38: Total MGDG | C38: Total MGDG | D38: ='amount-analyzed sorted'!Q38 -> 1.1598404 | F38: ='signal-per-mass-dry-wt ave'!Q38 -> 14.941262 | G38: ='signal-per-mass-dry-wt ave'!R38 -> 0.30657569 | H38: ='signal-per-mass-dry-wt ave'!S38 -> 0.020518728 | I38: ='signal-per-mass-dry-wt ave'!Y38 -> 32.109569 | J38: ='signal-per-mass-dry-wt ave'!Z38 -> 11.848009 | K38: ='signal-per-mass-dry-wt ave'!AF38 -> 15.381706 | L38: ='signal-per-mass-dry-wt ave'!AG38 -> 7.7510449 | M38: ='signal-per-mass-dry-wt ave'!AM38 -> 9.4204431 | N38: ='signal-per-mass-dry-wt ave'!AN38 -> 1.7588697 | O38: ='signal-per-mass-dry-wt ave'!AT38 -> 13.520509 | P38: ='signal-per-mass-dry-wt ave'!AU38 -> 8.6445226 | Q38: ='signal-per-mass-dry-wt ave'!BA38 -> 18.589653 | R38: ='signal-per-mass-dry-wt ave'!BB38 -> 6.3594688 | S38: ='signal-per-mass-dry-wt ave'!BH38 -> 17.159442 | T38: ='signal-per-mass-dry-wt ave'!BI38 -> 6.1369686 | U38: ='signal-per-mass-dry-wt ave'!BO38 -> 11.069558 | V38: ='signal-per-mass-dry-wt ave'!BP38 -> 4.3317426 | W38: ='signal-per-mass-dry-wt ave'!BV38 -> 24.382704 | X38: ='signal-per-mass-dry-wt ave'!BW38 -> 8.3917978 | Y38: ='signal-per-mass-dry-wt ave'!CC38 -> 6.3647711 | Z38: ='signal-per-mass-dry-wt ave'!CD38 -> 2.2913145 | AA38: ='signal-per-mass-dry-wt ave'!CJ38 -> 16.826594 | AB38: ='signal-per-mass-dry-wt ave'!CK38 -> 7.1210146 | AC38: ='signal-per-mass-dry-wt ave'!CQ38 -> 14.452363 | AD38: ='signal-per-mass-dry-wt ave'!CR38 -> 3.7891612 | AE38: ='signal-per-mass-dry-wt ave'!CX38 -> 13.146504 | AF38: ='signal-per-mass-dry-wt ave'!CY38 -> 8.4398274 | AG38: ='signal-per-mass-dry-wt ave'!DE38 -> 17.688025 | AH38: ='signal-per-mass-dry-wt ave'!DF38 -> 6.0732999 | AI38: ='signal-per-mass-dry-wt ave'!DL38 -> 10.299035 | AJ38: ='signal-per-mass-dry-wt ave'!DM38 -> 4.9618955 | AK38: ='signal-per-mass-dry-wt ave'!DS38 -> 19.459361 | AL38: ='signal-per-mass-dry-wt ave'!DT38 -> 13.36032 | AM38: ='signal-per-mass-dry-wt ave'!DZ38 -> 11.0351 | AN38: ='signal-per-mass-dry-wt ave'!EA38 -> 7.8433242 | AO38: ='signal-per-mass-dry-wt ave'!EG38 -> 15.812597 | AP38: ='signal-per-mass-dry-wt ave'!EH38 -> 10.167016 | AR38: ='% total signal ave'!Q38 -> 27.059212 | AS38: ='% total signal ave'!R38 -> 0.4563783 | AT38: ='% total signal ave'!S38 -> 0.016865912 | AU38: ='% total signal ave'!Y38 -> 19.570936 | AV38: ='% total signal ave'!Z38 -> 2.1405348 | AW38: ='% total signal ave'!AF38 -> 19.253874 | AX38: ='% total signal ave'!AG38 -> 2.013858 | AY38: ='% total signal ave'!AM38 -> 24.525811 | AZ38: ='% total signal ave'!AN38 -> 5.5698067 | BA38: ='% total signal ave'!AT38 -> 24.174557 | BB38: ='% total signal ave'!AU38 -> 2.6106938 | BC38: ='% total signal ave'!BA38 -> 22.112944 | BD38: ='% total signal ave'!BB38 -> 5.9928261 | BE38: ='% total signal ave'!BH38 -> 20.349586 | BF38: ='% total signal ave'!BI38 -> 3.5946945 | BG38: ='% total signal ave'!BO38 -> 19.95752 | BH38: ='% total signal ave'!BP38 -> 4.6522782 | BI38: ='% total signal ave'!BV38 -> 19.250565 | BJ38: ='% total signal ave'!BW38 -> 1.8467835 | BK38: ='% total signal ave'!CC38 -> 26.679211 | BL38: ='% total signal ave'!CD38 -> 3.6645401 | BM38: ='% total signal ave'!CJ38 -> 39.371451 | BN38: ='% total signal ave'!CK38 -> 7.2421422 | BO38: ='% total signal ave'!CQ38 -> 37.401117 | BP38: ='% total signal ave'!CR38 -> 3.521004 | BQ38: ='% total signal ave'!CX38 -> 42.502413 | BR38: ='% total signal ave'!CY38 -> 5.9630527 | BS38: ='% total signal ave'!DE38 -> 36.977226 | BT38: ='% total signal ave'!DF38 -> 4.0944253 | BU38: ='% total signal ave'!DL38 -> 35.927126 | BV38: ='% total signal ave'!DM38 -> 3.6401924 | BW38: ='% total signal ave'!DS38 -> 37.549321 | BX38: ='% total signal ave'!DT38 -> 3.4150981 | BY38: ='% total signal ave'!DZ38 -> 40.370765 | BZ38: ='% total signal ave'!EA38 -> 4.554322 | CA38: ='% total signal ave'!EG38 -> 37.446278 | CB38: ='% total signal ave'!EH38 -> 5.791995
A39: ='imported data from Web Calc'!A40 -> 738.5 | B39: ='imported data from Web Calc'!B40 -> C38H73O10P | C39: ='imported data from Web Calc'!C40 -> PG(32:1) | D39: ='amount-analyzed sorted'!Q39 -> 0.03072 | F39: ='signal-per-mass-dry-wt ave'!Q39 -> 0.3957403 | G39: ='signal-per-mass-dry-wt ave'!R39 -> 0.049058357 | H39: ='signal-per-mass-dry-wt ave'!S39 -> 0.12396604 | I39: ='signal-per-mass-dry-wt ave'!Y39 -> 1.9265528 | J39: ='signal-per-mass-dry-wt ave'!Z39 -> 0.64996564 | K39: ='signal-per-mass-dry-wt ave'!AF39 -> 0.73578028 | L39: ='signal-per-mass-dry-wt ave'!AG39 -> 0.38939781 | M39: ='signal-per-mass-dry-wt ave'!AM39 -> 0.33080122 | N39: ='signal-per-mass-dry-wt ave'!AN39 -> 0.10966415 | O39: ='signal-per-mass-dry-wt ave'!AT39 -> 0.42991429 | P39: ='signal-per-mass-dry-wt ave'!AU39 -> 0.2799307 | Q39: ='signal-per-mass-dry-wt ave'!BA39 -> 0.74355058 | R39: ='signal-per-mass-dry-wt ave'!BB39 -> 0.29612418 | S39: ='signal-per-mass-dry-wt ave'!BH39 -> 0.65449982 | T39: ='signal-per-mass-dry-wt ave'!BI39 -> 0.21558218 | U39: ='signal-per-mass-dry-wt ave'!BO39 -> 0.40618944 | V39: ='signal-per-mass-dry-wt ave'!BP39 -> 0.13147984 | W39: ='signal-per-mass-dry-wt ave'!BV39 -> 0.92742942 | X39: ='signal-per-mass-dry-wt ave'!BW39 -> 0.33557356 | Y39: ='signal-per-mass-dry-wt ave'!CC39 -> 0.17908095 | Z39: ='signal-per-mass-dry-wt ave'!CD39 -> 0.14392864 | AA39: ='signal-per-mass-dry-wt ave'!CJ39 -> 0.28922218 | AB39: ='signal-per-mass-dry-wt ave'!CK39 -> 0.22160017 | AC39: ='signal-per-mass-dry-wt ave'!CQ39 -> 0.18267287 | AD39: ='signal-per-mass-dry-wt ave'!CR39 -> 0.073324021 | AE39: ='signal-per-mass-dry-wt ave'!CX39 -> 0.14120429 | AF39: ='signal-per-mass-dry-wt ave'!CY39 -> 0.10125583 | AG39: ='signal-per-mass-dry-wt ave'!DE39 -> 0.27044 | AH39: ='signal-per-mass-dry-wt ave'!DF39 -> 0.16055848 | AI39: ='signal-per-mass-dry-wt ave'!DL39 -> 0.14322336 | AJ39: ='signal-per-mass-dry-wt ave'!DM39 -> 0.096943524 | AK39: ='signal-per-mass-dry-wt ave'!DS39 -> 0.28041878 | AL39: ='signal-per-mass-dry-wt ave'!DT39 -> 0.20666712 | AM39: ='signal-per-mass-dry-wt ave'!DZ39 -> 0.15967961 | AN39: ='signal-per-mass-dry-wt ave'!EA39 -> 0.21229468 | AO39: ='signal-per-mass-dry-wt ave'!EG39 -> 0.26614673 | AP39: ='signal-per-mass-dry-wt ave'!EH39 -> 0.22354246 | AR39: ='% total signal ave'!Q39 -> 0.71573576 | AS39: ='% total signal ave'!R39 -> 0.077928191 | AT39: ='% total signal ave'!S39 -> 0.10887844 | AU39: ='% total signal ave'!Y39 -> 1.1788584 | AV39: ='% total signal ave'!Z39 -> 0.05035435 | AW39: ='% total signal ave'!AF39 -> 0.89785258 | AX39: ='% total signal ave'!AG39 -> 0.047429082 | AY39: ='% total signal ave'!AM39 -> 0.8230408 | AZ39: ='% total signal ave'!AN39 -> 0.14814596 | BA39: ='% total signal ave'!AT39 -> 0.73464681 | BB39: ='% total signal ave'!AU39 -> 0.11520658 | BC39: ='% total signal ave'!BA39 -> 0.83765276 | BD39: ='% total signal ave'!BB39 -> 0.17204309 | BE39: ='% total signal ave'!BH39 -> 0.78531593 | BF39: ='% total signal ave'!BI39 -> 0.060410528 | BG39: ='% total signal ave'!BO39 -> 0.7418821 | BH39: ='% total signal ave'!BP39 -> 0.065469556 | BI39: ='% total signal ave'!BV39 -> 0.73345847 | BJ39: ='% total signal ave'!BW39 -> 0.091845528 | BK39: ='% total signal ave'!CC39 -> 0.64530935 | BL39: ='% total signal ave'!CD39 -> 0.18388347 | BM39: ='% total signal ave'!CJ39 -> 0.59245844 | BN39: ='% total signal ave'!CK39 -> 0.19241916 | BO39: ='% total signal ave'!CQ39 -> 0.45604533 | BP39: ='% total signal ave'!CR39 -> 0.049079399 | BQ39: ='% total signal ave'!CX39 -> 0.39780786 | BR39: ='% total signal ave'!CY39 -> 0.11200445 | BS39: ='% total signal ave'!DE39 -> 0.51043124 | BT39: ='% total signal ave'!DF39 -> 0.18489965 | BU39: ='% total signal ave'!DL39 -> 0.44523289 | BV39: ='% total signal ave'!DM39 -> 0.080083866 | BW39: ='% total signal ave'!DS39 -> 0.52118502 | BX39: ='% total signal ave'!DT39 -> 0.045151811 | BY39: ='% total signal ave'!DZ39 -> 0.44411557 | BZ39: ='% total signal ave'!EA39 -> 0.20061439 | CA39: ='% total signal ave'!EG39 -> 0.4665497 | CB39: ='% total signal ave'!EH39 -> 0.27756591
A40: ='imported data from Web Calc'!A41 -> 740.5 | B40: ='imported data from Web Calc'!B41 -> C38H75O10P | C40: ='imported data from Web Calc'!C41 -> PG(32:0) | D40: ='amount-analyzed sorted'!Q40 -> 0.01324 | F40: ='signal-per-mass-dry-wt ave'!Q40 -> 0.17055995 | G40: ='signal-per-mass-dry-wt ave'!R40 -> 0.03008783 | H40: ='signal-per-mass-dry-wt ave'!S40 -> 0.17640619 | I40: ='signal-per-mass-dry-wt ave'!Y40 -> 0.50792485 | J40: ='signal-per-mass-dry-wt ave'!Z40 -> 0.12371522 | K40: ='signal-per-mass-dry-wt ave'!AF40 -> 0.18257584 | L40: ='signal-per-mass-dry-wt ave'!AG40 -> 0.098958547 | M40: ='signal-per-mass-dry-wt ave'!AM40 -> 0.086113202 | N40: ='signal-per-mass-dry-wt ave'!AN40 -> 0.036785881 | O40: ='signal-per-mass-dry-wt ave'!AT40 -> 0.064006791 | P40: ='signal-per-mass-dry-wt ave'!AU40 -> 0.040439078 | Q40: ='signal-per-mass-dry-wt ave'!BA40 -> 0.17907224 | R40: ='signal-per-mass-dry-wt ave'!BB40 -> 0.10579371 | S40: ='signal-per-mass-dry-wt ave'!BH40 -> 0.1743111 | T40: ='signal-per-mass-dry-wt ave'!BI40 -> 0.12923591 | U40: ='signal-per-mass-dry-wt ave'!BO40 -> 0.14120323 | V40: ='signal-per-mass-dry-wt ave'!BP40 -> 0.042038586 | W40: ='signal-per-mass-dry-wt ave'!BV40 -> 0.42844722 | X40: ='signal-per-mass-dry-wt ave'!BW40 -> 0.15396697 | Y40: ='signal-per-mass-dry-wt ave'!CC40 -> 0.039038752 | Z40: ='signal-per-mass-dry-wt ave'!CD40 -> 0.0457554 | AA40: ='signal-per-mass-dry-wt ave'!CJ40 -> 0.14651536 | AB40: ='signal-per-mass-dry-wt ave'!CK40 -> 0.09380631 | AC40: ='signal-per-mass-dry-wt ave'!CQ40 -> 0.1355042 | AD40: ='signal-per-mass-dry-wt ave'!CR40 -> 0.076636169 | AE40: ='signal-per-mass-dry-wt ave'!CX40 -> 0.10123647 | AF40: ='signal-per-mass-dry-wt ave'!CY40 -> 0.081936664 | AG40: ='signal-per-mass-dry-wt ave'!DE40 -> 0.1388716 | AH40: ='signal-per-mass-dry-wt ave'!DF40 -> 0.064181954 | AI40: ='signal-per-mass-dry-wt ave'!DL40 -> 0.070209654 | AJ40: ='signal-per-mass-dry-wt ave'!DM40 -> 0.059937442 | AK40: ='signal-per-mass-dry-wt ave'!DS40 -> 0.22589031 | AL40: ='signal-per-mass-dry-wt ave'!DT40 -> 0.19256601 | AM40: ='signal-per-mass-dry-wt ave'!DZ40 -> 0.067383358 | AN40: ='signal-per-mass-dry-wt ave'!EA40 -> 0.085403802 | AO40: ='signal-per-mass-dry-wt ave'!EG40 -> 0.12377115 | AP40: ='signal-per-mass-dry-wt ave'!EH40 -> 0.10430086 | AR40: ='% total signal ave'!Q40 -> 0.30842464 | AS40: ='% total signal ave'!R40 -> 0.05103475 | AT40: ='% total signal ave'!S40 -> 0.16546911 | AU40: ='% total signal ave'!Y40 -> 0.32008277 | AV40: ='% total signal ave'!Z40 -> 0.052244107 | AW40: ='% total signal ave'!AF40 -> 0.21963839 | AX40: ='% total signal ave'!AG40 -> 0.036265346 | AY40: ='% total signal ave'!AM40 -> 0.21284316 | AZ40: ='% total signal ave'!AN40 -> 0.053575747 | BA40: ='% total signal ave'!AT40 -> 0.12893149 | BB40: ='% total signal ave'!AU40 -> 0.06277204 | BC40: ='% total signal ave'!BA40 -> 0.1851731 | BD40: ='% total signal ave'!BB40 -> 0.036012237 | BE40: ='% total signal ave'!BH40 -> 0.19711869 | BF40: ='% total signal ave'!BI40 -> 0.074726499 | BG40: ='% total signal ave'!BO40 -> 0.25971517 | BH40: ='% total signal ave'!BP40 -> 0.040582202 | BI40: ='% total signal ave'!BV40 -> 0.33748235 | BJ40: ='% total signal ave'!BW40 -> 0.026159284 | BK40: ='% total signal ave'!CC40 -> 0.12763179 | BL40: ='% total signal ave'!CD40 -> 0.10225964 | BM40: ='% total signal ave'!CJ40 -> 0.3120044 | BN40: ='% total signal ave'!CK40 -> 0.078245592 | BO40: ='% total signal ave'!CQ40 -> 0.32466391 | BP40: ='% total signal ave'!CR40 -> 0.080369344 | BQ40: ='% total signal ave'!CX40 -> 0.27946832 | BR40: ='% total signal ave'!CY40 -> 0.11433906 | BS40: ='% total signal ave'!DE40 -> 0.28280939 | BT40: ='% total signal ave'!DF40 -> 0.082018878 | BU40: ='% total signal ave'!DL40 -> 0.19312875 | BV40: ='% total signal ave'!DM40 -> 0.13544052 | BW40: ='% total signal ave'!DS40 -> 0.38265152 | BX40: ='% total signal ave'!DT40 -> 0.11645496 | BY40: ='% total signal ave'!DZ40 -> 0.16970744 | BZ40: ='% total signal ave'!EA40 -> 0.1205812 | CA40: ='% total signal ave'!EG40 -> 0.2303847 | CB40: ='% total signal ave'!EH40 -> 0.08684362
A41: ='imported data from Web Calc'!A42 -> 760.5 | B41: ='imported data from Web Calc'!B42 -> C40H71O10P | C41: ='imported data from Web Calc'!C42 -> PG(34:4) | D41: ='amount-analyzed sorted'!Q41 -> 0.01022 | F41: ='signal-per-mass-dry-wt ave'!Q41 -> 0.13165579 | G41: ='signal-per-mass-dry-wt ave'!R41 -> 0.01557506 | H41: ='signal-per-mass-dry-wt ave'!S41 -> 0.11830137 | I41: ='signal-per-mass-dry-wt ave'!Y41 -> 0.70213863 | J41: ='signal-per-mass-dry-wt ave'!Z41 -> 0.30001884 | K41: ='signal-per-mass-dry-wt ave'!AF41 -> 0.27513083 | L41: ='signal-per-mass-dry-wt ave'!AG41 -> 0.18086135 | M41: ='signal-per-mass-dry-wt ave'!AM41 -> 0.14377826 | N41: ='signal-per-mass-dry-wt ave'!AN41 -> 0.056983951 | O41: ='signal-per-mass-dry-wt ave'!AT41 -> 0.14286778 | P41: ='signal-per-mass-dry-wt ave'!AU41 -> 0.090454647 | Q41: ='signal-per-mass-dry-wt ave'!BA41 -> 0.22252184 | R41: ='signal-per-mass-dry-wt ave'!BB41 -> 0.092434357 | S41: ='signal-per-mass-dry-wt ave'!BH41 -> 0.17916079 | T41: ='signal-per-mass-dry-wt ave'!BI41 -> 0.058945946 | U41: ='signal-per-mass-dry-wt ave'!BO41 -> 0.11539001 | V41: ='signal-per-mass-dry-wt ave'!BP41 -> 0.038145552 | W41: ='signal-per-mass-dry-wt ave'!BV41 -> 0.22361136 | X41: ='signal-per-mass-dry-wt ave'!BW41 -> 0.098149378 | Y41: ='signal-per-mass-dry-wt ave'!CC41 -> 0.059473686 | Z41: ='signal-per-mass-dry-wt ave'!CD41 -> 0.045338818 | AA41: ='signal-per-mass-dry-wt ave'!CJ41 -> 0.070946112 | AB41: ='signal-per-mass-dry-wt ave'!CK41 -> 0.03799677 | AC41: ='signal-per-mass-dry-wt ave'!CQ41 -> 0.047912406 | AD41: ='signal-per-mass-dry-wt ave'!CR41 -> 0.014593005 | AE41: ='signal-per-mass-dry-wt ave'!CX41 -> 0.040463705 | AF41: ='signal-per-mass-dry-wt ave'!CY41 -> 0.02843039 | AG41: ='signal-per-mass-dry-wt ave'!DE41 -> 0.082249594 | AH41: ='signal-per-mass-dry-wt ave'!DF41 -> 0.047699401 | AI41: ='signal-per-mass-dry-wt ave'!DL41 -> 0.041322676 | AJ41: ='signal-per-mass-dry-wt ave'!DM41 -> 0.029266286 | AK41: ='signal-per-mass-dry-wt ave'!DS41 -> 0.1158824 | AL41: ='signal-per-mass-dry-wt ave'!DT41 -> 0.10256363 | AM41: ='signal-per-mass-dry-wt ave'!DZ41 -> 0.046393993 | AN41: ='signal-per-mass-dry-wt ave'!EA41 -> 0.058295076 | AO41: ='signal-per-mass-dry-wt ave'!EG41 -> 0.064437802 | AP41: ='signal-per-mass-dry-wt ave'!EH41 -> 0.05487761 | AR41: ='% total signal ave'!Q41 -> 0.2382232 | AS41: ='% total signal ave'!R41 -> 0.026220752 | AT41: ='% total signal ave'!S41 -> 0.110068 | AU41: ='% total signal ave'!Y41 -> 0.42057249 | AV41: ='% total signal ave'!Z41 -> 0.070361586 | AW41: ='% total signal ave'!AF41 -> 0.31346054 | AX41: ='% total signal ave'!AG41 -> 0.08667299 | AY41: ='% total signal ave'!AM41 -> 0.35284166 | AZ41: ='% total signal ave'!AN41 -> 0.091795457 | BA41: ='% total signal ave'!AT41 -> 0.25698384 | BB41: ='% total signal ave'!AU41 -> 0.025315847 | BC41: ='% total signal ave'!BA41 -> 0.24506851 | BD41: ='% total signal ave'!BB41 -> 0.048886706 | BE41: ='% total signal ave'!BH41 -> 0.2150642 | BF41: ='% total signal ave'!BI41 -> 0.042250068 | BG41: ='% total signal ave'!BO41 -> 0.21180009 | BH41: ='% total signal ave'!BP41 -> 0.046837777 | BI41: ='% total signal ave'!BV41 -> 0.17525628 | BJ41: ='% total signal ave'!BW41 -> 0.043016676 | BK41: ='% total signal ave'!CC41 -> 0.22181821 | BL41: ='% total signal ave'!CD41 -> 0.05719605 | BM41: ='% total signal ave'!CJ41 -> 0.15738452 | BN41: ='% total signal ave'!CK41 -> 0.036017012 | BO41: ='% total signal ave'!CQ41 -> 0.12325934 | BP41: ='% total signal ave'!CR41 -> 0.026492267 | BQ41: ='% total signal ave'!CX41 -> 0.12025636 | BR41: ='% total signal ave'!CY41 -> 0.034578697 | BS41: ='% total signal ave'!DE41 -> 0.15789897 | BT41: ='% total signal ave'!DF41 -> 0.046790653 | BU41: ='% total signal ave'!DL41 -> 0.11431093 | BV41: ='% total signal ave'!DM41 -> 0.065697196 | BW41: ='% total signal ave'!DS41 -> 0.20128071 | BX41: ='% total signal ave'!DT41 -> 0.069853271 | BY41: ='% total signal ave'!DZ41 -> 0.11664328 | BZ41: ='% total signal ave'!EA41 -> 0.07762832 | CA41: ='% total signal ave'!EG41 -> 0.12901244 | CB41: ='% total signal ave'!EH41 -> 0.044998826
A42: ='imported data from Web Calc'!A43 -> 762.5 | B42: ='imported data from Web Calc'!B43 -> C40H73O10P | C42: ='imported data from Web Calc'!C43 -> PG(34:3) | D42: ='amount-analyzed sorted'!Q42 -> 0.02264 | F42: ='signal-per-mass-dry-wt ave'!Q42 -> 0.29165235 | G42: ='signal-per-mass-dry-wt ave'!R42 -> 0.028870629 | H42: ='signal-per-mass-dry-wt ave'!S42 -> 0.09898987 | I42: ='signal-per-mass-dry-wt ave'!Y42 -> 1.0605886 | J42: ='signal-per-mass-dry-wt ave'!Z42 -> 0.43295995 | K42: ='signal-per-mass-dry-wt ave'!AF42 -> 0.41975722 | L42: ='signal-per-mass-dry-wt ave'!AG42 -> 0.23935445 | M42: ='signal-per-mass-dry-wt ave'!AM42 -> 0.24656097 | N42: ='signal-per-mass-dry-wt ave'!AN42 -> 0.057181707 | O42: ='signal-per-mass-dry-wt ave'!AT42 -> 0.28723744 | P42: ='signal-per-mass-dry-wt ave'!AU42 -> 0.16464427 | Q42: ='signal-per-mass-dry-wt ave'!BA42 -> 0.44271131 | R42: ='signal-per-mass-dry-wt ave'!BB42 -> 0.15964736 | S42: ='signal-per-mass-dry-wt ave'!BH42 -> 0.45444218 | T42: ='signal-per-mass-dry-wt ave'!BI42 -> 0.18059059 | U42: ='signal-per-mass-dry-wt ave'!BO42 -> 0.28251454 | V42: ='signal-per-mass-dry-wt ave'!BP42 -> 0.071549635 | W42: ='signal-per-mass-dry-wt ave'!BV42 -> 0.56284487 | X42: ='signal-per-mass-dry-wt ave'!BW42 -> 0.19835053 | Y42: ='signal-per-mass-dry-wt ave'!CC42 -> 0.155055 | Z42: ='signal-per-mass-dry-wt ave'!CD42 -> 0.12320418 | AA42: ='signal-per-mass-dry-wt ave'!CJ42 -> 0.17423717 | AB42: ='signal-per-mass-dry-wt ave'!CK42 -> 0.12338172 | AC42: ='signal-per-mass-dry-wt ave'!CQ42 -> 0.15420174 | AD42: ='signal-per-mass-dry-wt ave'!CR42 -> 0.071422893 | AE42: ='signal-per-mass-dry-wt ave'!CX42 -> 0.15514388 | AF42: ='signal-per-mass-dry-wt ave'!CY42 -> 0.11367385 | AG42: ='signal-per-mass-dry-wt ave'!DE42 -> 0.20080634 | AH42: ='signal-per-mass-dry-wt ave'!DF42 -> 0.091211656 | AI42: ='signal-per-mass-dry-wt ave'!DL42 -> 0.127307 | AJ42: ='signal-per-mass-dry-wt ave'!DM42 -> 0.066824645 | AK42: ='signal-per-mass-dry-wt ave'!DS42 -> 0.3112795 | AL42: ='signal-per-mass-dry-wt ave'!DT42 -> 0.24310147 | AM42: ='signal-per-mass-dry-wt ave'!DZ42 -> 0.10997246 | AN42: ='signal-per-mass-dry-wt ave'!EA42 -> 0.10339237 | AO42: ='signal-per-mass-dry-wt ave'!EG42 -> 0.23541171 | AP42: ='signal-per-mass-dry-wt ave'!EH42 -> 0.18143311 | AR42: ='% total signal ave'!Q42 -> 0.5286077 | AS42: ='% total signal ave'!R42 -> 0.05654565 | AT42: ='% total signal ave'!S42 -> 0.10697092 | AU42: ='% total signal ave'!Y42 -> 0.63781126 | AV42: ='% total signal ave'!Z42 -> 0.068934422 | AW42: ='% total signal ave'!AF42 -> 0.5041596 | AX42: ='% total signal ave'!AG42 -> 0.044696114 | AY42: ='% total signal ave'!AM42 -> 0.62391984 | AZ42: ='% total signal ave'!AN42 -> 0.048752368 | BA42: ='% total signal ave'!AT42 -> 0.50310421 | BB42: ='% total signal ave'!AU42 -> 0.074006634 | BC42: ='% total signal ave'!BA42 -> 0.51475712 | BD42: ='% total signal ave'!BB42 -> 0.12256134 | BE42: ='% total signal ave'!BH42 -> 0.53361565 | BF42: ='% total signal ave'!BI42 -> 0.037219534 | BG42: ='% total signal ave'!BO42 -> 0.52498513 | BH42: ='% total signal ave'!BP42 -> 0.077791195 | BI42: ='% total signal ave'!BV42 -> 0.44623541 | BJ42: ='% total signal ave'!BW42 -> 0.045760576 | BK42: ='% total signal ave'!CC42 -> 0.57099749 | BL42: ='% total signal ave'!CD42 -> 0.14286039 | BM42: ='% total signal ave'!CJ42 -> 0.367737 | BN42: ='% total signal ave'!CK42 -> 0.055094372 | BO42: ='% total signal ave'!CQ42 -> 0.37962099 | BP42: ='% total signal ave'!CR42 -> 0.05476059 | BQ42: ='% total signal ave'!CX42 -> 0.45613965 | BR42: ='% total signal ave'!CY42 -> 0.11596254 | BS42: ='% total signal ave'!DE42 -> 0.40363556 | BT42: ='% total signal ave'!DF42 -> 0.053735183 | BU42: ='% total signal ave'!DL42 -> 0.43251794 | BV42: ='% total signal ave'!DM42 -> 0.04424488 | BW42: ='% total signal ave'!DS42 -> 0.55987015 | BX42: ='% total signal ave'!DT42 -> 0.078761441 | BY42: ='% total signal ave'!DZ42 -> 0.37395145 | BZ42: ='% total signal ave'!EA42 -> 0.057148337 | CA42: ='% total signal ave'!EG42 -> 0.46033234 | CB42: ='% total signal ave'!EH42 -> 0.1348764
A43: ='imported data from Web Calc'!A44 -> 764.5 | B43: ='imported data from Web Calc'!B44 -> C40H75O10P | C43: ='imported data from Web Calc'!C44 -> PG(34:2) | D43: ='amount-analyzed sorted'!Q43 -> 0.11651 | F43: ='signal-per-mass-dry-wt ave'!Q43 -> 1.5009018 | G43: ='signal-per-mass-dry-wt ave'!R43 -> 0.077326537 | H43: ='signal-per-mass-dry-wt ave'!S43 -> 0.051520052 | I43: ='signal-per-mass-dry-wt ave'!Y43 -> 4.2193171 | J43: ='signal-per-mass-dry-wt ave'!Z43 -> 1.7960206 | K43: ='signal-per-mass-dry-wt ave'!AF43 -> 1.8047256 | L43: ='signal-per-mass-dry-wt ave'!AG43 -> 0.94422542 | M43: ='signal-per-mass-dry-wt ave'!AM43 -> 1.2222743 | N43: ='signal-per-mass-dry-wt ave'!AN43 -> 0.16950366 | O43: ='signal-per-mass-dry-wt ave'!AT43 -> 1.1134605 | P43: ='signal-per-mass-dry-wt ave'!AU43 -> 0.70373833 | Q43: ='signal-per-mass-dry-wt ave'!BA43 -> 1.4257157 | R43: ='signal-per-mass-dry-wt ave'!BB43 -> 0.43666126 | S43: ='signal-per-mass-dry-wt ave'!BH43 -> 1.4976172 | T43: ='signal-per-mass-dry-wt ave'!BI43 -> 0.5096502 | U43: ='signal-per-mass-dry-wt ave'!BO43 -> 1.0737858 | V43: ='signal-per-mass-dry-wt ave'!BP43 -> 0.34803881 | W43: ='signal-per-mass-dry-wt ave'!BV43 -> 2.7336697 | X43: ='signal-per-mass-dry-wt ave'!BW43 -> 0.88395784 | Y43: ='signal-per-mass-dry-wt ave'!CC43 -> 0.80585862 | Z43: ='signal-per-mass-dry-wt ave'!CD43 -> 0.47828825 | AA43: ='signal-per-mass-dry-wt ave'!CJ43 -> 1.3345914 | AB43: ='signal-per-mass-dry-wt ave'!CK43 -> 0.80886644 | AC43: ='signal-per-mass-dry-wt ave'!CQ43 -> 1.1340116 | AD43: ='signal-per-mass-dry-wt ave'!CR43 -> 0.49985604 | AE43: ='signal-per-mass-dry-wt ave'!CX43 -> 1.0671329 | AF43: ='signal-per-mass-dry-wt ave'!CY43 -> 0.81995361 | AG43: ='signal-per-mass-dry-wt ave'!DE43 -> 1.2949667 | AH43: ='signal-per-mass-dry-wt ave'!DF43 -> 0.58836309 | AI43: ='signal-per-mass-dry-wt ave'!DL43 -> 0.64738649 | AJ43: ='signal-per-mass-dry-wt ave'!DM43 -> 0.39256523 | AK43: ='signal-per-mass-dry-wt ave'!DS43 -> 1.6136643 | AL43: ='signal-per-mass-dry-wt ave'!DT43 -> 1.1593371 | AM43: ='signal-per-mass-dry-wt ave'!DZ43 -> 0.70315203 | AN43: ='signal-per-mass-dry-wt ave'!EA43 -> 0.5937491 | AO43: ='signal-per-mass-dry-wt ave'!EG43 -> 1.818348 | AP43: ='signal-per-mass-dry-wt ave'!EH43 -> 1.2725473 | AR43: ='% total signal ave'!Q43 -> 2.7173308 | AS43: ='% total signal ave'!R43 -> 0.11413617 | AT43: ='% total signal ave'!S43 -> 0.042003047 | AU43: ='% total signal ave'!Y43 -> 2.5276403 | AV43: ='% total signal ave'!Z43 -> 0.22371229 | AW43: ='% total signal ave'!AF43 -> 2.2278285 | AX43: ='% total signal ave'!AG43 -> 0.28592536 | AY43: ='% total signal ave'!AM43 -> 3.1676536 | AZ43: ='% total signal ave'!AN43 -> 0.56346579 | BA43: ='% total signal ave'!AT43 -> 1.980843 | BB43: ='% total signal ave'!AU43 -> 0.31802424 | BC43: ='% total signal ave'!BA43 -> 1.6968242 | BD43: ='% total signal ave'!BB43 -> 0.43807285 | BE43: ='% total signal ave'!BH43 -> 1.8081038 | BF43: ='% total signal ave'!BI43 -> 0.46942685 | BG43: ='% total signal ave'!BO43 -> 1.9720717 | BH43: ='% total signal ave'!BP43 -> 0.33508706 | BI43: ='% total signal ave'!BV43 -> 2.1711905 | BJ43: ='% total signal ave'!BW43 -> 0.13044314 | BK43: ='% total signal ave'!CC43 -> 3.1079835 | BL43: ='% total signal ave'!CD43 -> 0.36603627 | BM43: ='% total signal ave'!CJ43 -> 2.8906697 | BN43: ='% total signal ave'!CK43 -> 0.27863213 | BO43: ='% total signal ave'!CQ43 -> 2.8168186 | BP43: ='% total signal ave'!CR43 -> 0.20986617 | BQ43: ='% total signal ave'!CX43 -> 3.095609 | BR43: ='% total signal ave'!CY43 -> 0.59657778 | BS43: ='% total signal ave'!DE43 -> 2.5824087 | BT43: ='% total signal ave'!DF43 -> 0.44151962 | BU43: ='% total signal ave'!DL43 -> 2.0974331 | BV43: ='% total signal ave'!DM43 -> 0.18134892 | BW43: ='% total signal ave'!DS43 -> 3.0309225 | BX43: ='% total signal ave'!DT43 -> 0.71199348 | BY43: ='% total signal ave'!DZ43 -> 2.4205092 | BZ43: ='% total signal ave'!EA43 -> 0.34949297 | CA43: ='% total signal ave'!EG43 -> 3.8603693 | CB43: ='% total signal ave'!EH43 -> 0.54756294
A44: ='imported data from Web Calc'!A45 -> 766.5 | B44: ='imported data from Web Calc'!B45 -> C40H77O10P | C44: ='imported data from Web Calc'!C45 -> PG(34:1) | D44: ='amount-analyzed sorted'!Q44 -> 0.033 | F44: ='signal-per-mass-dry-wt ave'!Q44 -> 0.42511165 | G44: ='signal-per-mass-dry-wt ave'!R44 -> 0.035275097 | H44: ='signal-per-mass-dry-wt ave'!S44 -> 0.08297843 | I44: ='signal-per-mass-dry-wt ave'!Y44 -> 1.0675697 | J44: ='signal-per-mass-dry-wt ave'!Z44 -> 0.34863883 | K44: ='signal-per-mass-dry-wt ave'!AF44 -> 0.48502801 | L44: ='signal-per-mass-dry-wt ave'!AG44 -> 0.24848059 | M44: ='signal-per-mass-dry-wt ave'!AM44 -> 0.25727805 | N44: ='signal-per-mass-dry-wt ave'!AN44 -> 0.044329176 | O44: ='signal-per-mass-dry-wt ave'!AT44 -> 0.17187799 | P44: ='signal-per-mass-dry-wt ave'!AU44 -> 0.10389493 | Q44: ='signal-per-mass-dry-wt ave'!BA44 -> 0.35211272 | R44: ='signal-per-mass-dry-wt ave'!BB44 -> 0.17644469 | S44: ='signal-per-mass-dry-wt ave'!BH44 -> 0.31079196 | T44: ='signal-per-mass-dry-wt ave'!BI44 -> 0.14487243 | U44: ='signal-per-mass-dry-wt ave'!BO44 -> 0.23568375 | V44: ='signal-per-mass-dry-wt ave'!BP44 -> 0.093201108 | W44: ='signal-per-mass-dry-wt ave'!BV44 -> 1.302297 | X44: ='signal-per-mass-dry-wt ave'!BW44 -> 0.46568785 | Y44: ='signal-per-mass-dry-wt ave'!CC44 -> 0.13400594 | Z44: ='signal-per-mass-dry-wt ave'!CD44 -> 0.1005962 | AA44: ='signal-per-mass-dry-wt ave'!CJ44 -> 0.4511334 | AB44: ='signal-per-mass-dry-wt ave'!CK44 -> 0.28203983 | AC44: ='signal-per-mass-dry-wt ave'!CQ44 -> 0.39650466 | AD44: ='signal-per-mass-dry-wt ave'!CR44 -> 0.19942593 | AE44: ='signal-per-mass-dry-wt ave'!CX44 -> 0.41485935 | AF44: ='signal-per-mass-dry-wt ave'!CY44 -> 0.32683717 | AG44: ='signal-per-mass-dry-wt ave'!DE44 -> 0.29868446 | AH44: ='signal-per-mass-dry-wt ave'!DF44 -> 0.099578076 | AI44: ='signal-per-mass-dry-wt ave'!DL44 -> 0.16369178 | AJ44: ='signal-per-mass-dry-wt ave'!DM44 -> 0.11636173 | AK44: ='signal-per-mass-dry-wt ave'!DS44 -> 0.43878193 | AL44: ='signal-per-mass-dry-wt ave'!DT44 -> 0.35945937 | AM44: ='signal-per-mass-dry-wt ave'!DZ44 -> 0.28143271 | AN44: ='signal-per-mass-dry-wt ave'!EA44 -> 0.22694461 | AO44: ='signal-per-mass-dry-wt ave'!EG44 -> 0.55883657 | AP44: ='signal-per-mass-dry-wt ave'!EH44 -> 0.38681532 | AR44: ='% total signal ave'!Q44 -> 0.76943889 | AS44: ='% total signal ave'!R44 -> 0.056617221 | AT44: ='% total signal ave'!S44 -> 0.073582478 | AU44: ='% total signal ave'!Y44 -> 0.65708621 | AV44: ='% total signal ave'!Z44 -> 0.072442163 | AW44: ='% total signal ave'!AF44 -> 0.60024331 | AX44: ='% total signal ave'!AG44 -> 0.071947385 | AY44: ='% total signal ave'!AM44 -> 0.66573179 | AZ44: ='% total signal ave'!AN44 -> 0.11694578 | BA44: ='% total signal ave'!AT44 -> 0.31216515 | BB44: ='% total signal ave'!AU44 -> 0.048723177 | BC44: ='% total signal ave'!BA44 -> 0.37580693 | BD44: ='% total signal ave'!BB44 -> 0.071465708 | BE44: ='% total signal ave'!BH44 -> 0.37650235 | BF44: ='% total signal ave'!BI44 -> 0.13420069 | BG44: ='% total signal ave'!BO44 -> 0.42680337 | BH44: ='% total signal ave'!BP44 -> 0.11952975 | BI44: ='% total signal ave'!BV44 -> 1.0251924 | BJ44: ='% total signal ave'!BW44 -> 0.095177851 | BK44: ='% total signal ave'!CC44 -> 0.49471055 | BL44: ='% total signal ave'!CD44 -> 0.10903278 | BM44: ='% total signal ave'!CJ44 -> 0.96701932 | BN44: ='% total signal ave'!CK44 -> 0.18818379 | BO44: ='% total signal ave'!CQ44 -> 0.97141015 | BP44: ='% total signal ave'!CR44 -> 0.13068764 | BQ44: ='% total signal ave'!CX44 -> 1.1204357 | BR44: ='% total signal ave'!CY44 -> 0.36687527 | BS44: ='% total signal ave'!DE44 -> 0.62862972 | BT44: ='% total signal ave'!DF44 -> 0.1145793 | BU44: ='% total signal ave'!DL44 -> 0.50945225 | BV44: ='% total signal ave'!DM44 -> 0.16975987 | BW44: ='% total signal ave'!DS44 -> 0.76066041 | BX44: ='% total signal ave'!DT44 -> 0.22122451 | BY44: ='% total signal ave'!DZ44 -> 0.97681084 | BZ44: ='% total signal ave'!EA44 -> 0.21838256 | CA44: ='% total signal ave'!EG44 -> 1.21785 | CB44: ='% total signal ave'!EH44 -> 0.18698697
A45: ='imported data from Web Calc'!A46 -> 768.5 | B45: ='imported data from Web Calc'!B46 -> C40H79O10P | C45: ='imported data from Web Calc'!C46 -> PG(34:0) | D45: ='amount-analyzed sorted'!Q45 -> 0.00186 | F45: ='signal-per-mass-dry-wt ave'!Q45 -> 0.023960838 | G45: ='signal-per-mass-dry-wt ave'!R45 -> 0.010967933 | H45: ='signal-per-mass-dry-wt ave'!S45 -> 0.45774412 | I45: ='signal-per-mass-dry-wt ave'!Y45 -> 0.055655446 | J45: ='signal-per-mass-dry-wt ave'!Z45 -> 0.0031726413 | K45: ='signal-per-mass-dry-wt ave'!AF45 -> 0.033037271 | L45: ='signal-per-mass-dry-wt ave'!AG45 -> 0.021575743 | M45: ='signal-per-mass-dry-wt ave'!AM45 -> 0.0040825559 | N45: ='signal-per-mass-dry-wt ave'!AN45 -> 0.0046395851 | O45: ='signal-per-mass-dry-wt ave'!AT45 -> 0.0020375516 | P45: ='signal-per-mass-dry-wt ave'!AU45 -> 0.0030973899 | Q45: ='signal-per-mass-dry-wt ave'!BA45 -> 0.025466998 | R45: ='signal-per-mass-dry-wt ave'!BB45 -> 0.017732233 | S45: ='signal-per-mass-dry-wt ave'!BH45 -> 0.019194447 | T45: ='signal-per-mass-dry-wt ave'!BI45 -> 0.013768796 | U45: ='signal-per-mass-dry-wt ave'!BO45 -> 0.023735688 | V45: ='signal-per-mass-dry-wt ave'!BP45 -> 0.020717501 | W45: ='signal-per-mass-dry-wt ave'!BV45 -> 0.064314505 | X45: ='signal-per-mass-dry-wt ave'!BW45 -> 0.023092366 | Y45: ='signal-per-mass-dry-wt ave'!CC45 -> 0.0017518085 | Z45: ='signal-per-mass-dry-wt ave'!CD45 -> 0.0026370964 | AA45: ='signal-per-mass-dry-wt ave'!CJ45 -> 0.009775506 | AB45: ='signal-per-mass-dry-wt ave'!CK45 -> 0.0093929783 | AC45: ='signal-per-mass-dry-wt ave'!CQ45 -> 0.017594384 | AD45: ='signal-per-mass-dry-wt ave'!CR45 -> 0.015190747 | AE45: ='signal-per-mass-dry-wt ave'!CX45 -> 0.0064297252 | AF45: ='signal-per-mass-dry-wt ave'!CY45 -> 0.011537969 | AG45: ='signal-per-mass-dry-wt ave'!DE45 -> 0.017382997 | AH45: ='signal-per-mass-dry-wt ave'!DF45 -> 0.016480838 | AI45: ='signal-per-mass-dry-wt ave'!DL45 -> 0.0073422782 | AJ45: ='signal-per-mass-dry-wt ave'!DM45 -> 0.0081916976 | AK45: ='signal-per-mass-dry-wt ave'!DS45 -> 0.030664282 | AL45: ='signal-per-mass-dry-wt ave'!DT45 -> 0.031689914 | AM45: ='signal-per-mass-dry-wt ave'!DZ45 -> 0.004575864 | AN45: ='signal-per-mass-dry-wt ave'!EA45 -> 0.0059307926 | AO45: ='signal-per-mass-dry-wt ave'!EG45 -> 0.015606141 | AP45: ='signal-per-mass-dry-wt ave'!EH45 -> 0.015140139 | AR45: ='% total signal ave'!Q45 -> 0.043641568 | AS45: ='% total signal ave'!R45 -> 0.020070805 | AT45: ='% total signal ave'!S45 -> 0.4599011 | AU45: ='% total signal ave'!Y45 -> 0.036903603 | AV45: ='% total signal ave'!Z45 -> 0.010798817 | AW45: ='% total signal ave'!AF45 -> 0.037054094 | AX45: ='% total signal ave'!AG45 -> 0.023477024 | AY45: ='% total signal ave'!AM45 -> 0.0089553879 | AZ45: ='% total signal ave'!AN45 -> 0.009847672 | BA45: ='% total signal ave'!AT45 -> 0.0027286034 | BB45: ='% total signal ave'!AU45 -> 0.0045284303 | BC45: ='% total signal ave'!BA45 -> 0.025370909 | BD45: ='% total signal ave'!BB45 -> 0.0091941588 | BE45: ='% total signal ave'!BH45 -> 0.023848243 | BF45: ='% total signal ave'!BI45 -> 0.018874154 | BG45: ='% total signal ave'!BO45 -> 0.038169305 | BH45: ='% total signal ave'!BP45 -> 0.034485092 | BI45: ='% total signal ave'!BV45 -> 0.055813095 | BJ45: ='% total signal ave'!BW45 -> 0.025519591 | BK45: ='% total signal ave'!CC45 -> 0.0084426374 | BL45: ='% total signal ave'!CD45 -> 0.013175745 | BM45: ='% total signal ave'!CJ45 -> 0.022948202 | BN45: ='% total signal ave'!CK45 -> 0.019464477 | BO45: ='% total signal ave'!CQ45 -> 0.041065453 | BP45: ='% total signal ave'!CR45 -> 0.027062672 | BQ45: ='% total signal ave'!CX45 -> 0.012282994 | BR45: ='% total signal ave'!CY45 -> 0.020982824 | BS45: ='% total signal ave'!DE45 -> 0.031237722 | BT45: ='% total signal ave'!DF45 -> 0.026328834 | BU45: ='% total signal ave'!DL45 -> 0.019220918 | BV45: ='% total signal ave'!DM45 -> 0.019865967 | BW45: ='% total signal ave'!DS45 -> 0.046556149 | BX45: ='% total signal ave'!DT45 -> 0.039985108 | BY45: ='% total signal ave'!DZ45 -> 0.016601626 | BZ45: ='% total signal ave'!EA45 -> 0.016717306 | CA45: ='% total signal ave'!EG45 -> 0.023500144 | CB45: ='% total signal ave'!EH45 -> 0.021971925
A46: ='imported data from Web Calc'!A47 -> 784.5 | B46: ='imported data from Web Calc'!B47 -> C42H71O10P | C46: ='imported data from Web Calc'!C47 -> PG(36:6) | D46: ='amount-analyzed sorted'!Q46 -> 2e-05 | F46: ='signal-per-mass-dry-wt ave'!Q46 -> 0.00025764342 | G46: ='signal-per-mass-dry-wt ave'!R46 -> 0.00081474004 | H46: ='signal-per-mass-dry-wt ave'!S46 -> 3.1622777 | I46: ='signal-per-mass-dry-wt ave'!Y46 -> 0.0069737459 | J46: ='signal-per-mass-dry-wt ave'!Z46 -> 0.0039763032 | K46: ='signal-per-mass-dry-wt ave'!AF46 -> 0.0010294273 | L46: ='signal-per-mass-dry-wt ave'!AG46 -> 0.0014109127 | M46: ='signal-per-mass-dry-wt ave'!AM46 -> 0.0025106971 | N46: ='signal-per-mass-dry-wt ave'!AN46 -> 0.0038639355 | O46: ='signal-per-mass-dry-wt ave'!AT46 -> 0.0028952858 | P46: ='signal-per-mass-dry-wt ave'!AU46 -> 0.0042949465 | Q46: ='signal-per-mass-dry-wt ave'!BA46 -> 0.0019144666 | R46: ='signal-per-mass-dry-wt ave'!BB46 -> 0.0021595362 | S46: ='signal-per-mass-dry-wt ave'!BH46 -> 0.0013995038 | T46: ='signal-per-mass-dry-wt ave'!BI46 -> 0.0020145541 | U46: ='signal-per-mass-dry-wt ave'!BO46 -> 0.0025699405 | V46: ='signal-per-mass-dry-wt ave'!BP46 -> 0.0034802488 | W46: ='signal-per-mass-dry-wt ave'!BV46 -> 0.0041875702 | X46: ='signal-per-mass-dry-wt ave'!BW46 -> 0.0038495285 | Y46: ='signal-per-mass-dry-wt ave'!CC46 -> 0 | Z46: ='signal-per-mass-dry-wt ave'!CD46 -> 0 | AA46: ='signal-per-mass-dry-wt ave'!CJ46 -> 0.0011035918 | AB46: ='signal-per-mass-dry-wt ave'!CK46 -> 0.0015227474 | AC46: ='signal-per-mass-dry-wt ave'!CQ46 -> 0.00050167224 | AD46: ='signal-per-mass-dry-wt ave'!CR46 -> 0.0011217732 | AE46: ='signal-per-mass-dry-wt ave'!CX46 -> 0.001341008 | AF46: ='signal-per-mass-dry-wt ave'!CY46 -> 0.001445676 | AG46: ='signal-per-mass-dry-wt ave'!DE46 -> 0.0006870229 | AH46: ='signal-per-mass-dry-wt ave'!DF46 -> 0.0015362299 | AI46: ='signal-per-mass-dry-wt ave'!DL46 -> 0.00023529412 | AJ46: ='signal-per-mass-dry-wt ave'!DM46 -> 0.00052613364 | AK46: ='signal-per-mass-dry-wt ave'!DS46 -> 0.00021929825 | AL46: ='signal-per-mass-dry-wt ave'!DT46 -> 0.00049036578 | AM46: ='signal-per-mass-dry-wt ave'!DZ46 -> 0.00028169014 | AN46: ='signal-per-mass-dry-wt ave'!EA46 -> 0.0006298783 | AO46: ='signal-per-mass-dry-wt ave'!EG46 -> 0.00047961631 | AP46: ='signal-per-mass-dry-wt ave'!EH46 -> 0.0010724547 | AR46: ='% total signal ave'!Q46 -> 0.00047604623 | AS46: ='% total signal ave'!R46 -> 0.0015053904 | AT46: ='% total signal ave'!S46 -> 3.1622777 | AU46: ='% total signal ave'!Y46 -> 0.0045155482 | AV46: ='% total signal ave'!Z46 -> 0.0032931756 | AW46: ='% total signal ave'!AF46 -> 0.00097899949 | AX46: ='% total signal ave'!AG46 -> 0.0014092855 | AY46: ='% total signal ave'!AM46 -> 0.0056117907 | AZ46: ='% total signal ave'!AN46 -> 0.0079957089 | BA46: ='% total signal ave'!AT46 -> 0.0039440592 | BB46: ='% total signal ave'!AU46 -> 0.0054035443 | BC46: ='% total signal ave'!BA46 -> 0.0025674818 | BD46: ='% total signal ave'!BB46 -> 0.0025937127 | BE46: ='% total signal ave'!BH46 -> 0.0015661484 | BF46: ='% total signal ave'!BI46 -> 0.0025881715 | BG46: ='% total signal ave'!BO46 -> 0.0053723531 | BH46: ='% total signal ave'!BP46 -> 0.0089382541 | BI46: ='% total signal ave'!BV46 -> 0.0029758122 | BJ46: ='% total signal ave'!BW46 -> 0.0029240572 | BK46: ='% total signal ave'!CC46 -> 0 | BL46: ='% total signal ave'!CD46 -> 0 | BM46: ='% total signal ave'!CJ46 -> 0.0016302016 | BN46: ='% total signal ave'!CK46 -> 0.0022556502 | BO46: ='% total signal ave'!CQ46 -> 0.00079399991 | BP46: ='% total signal ave'!CR46 -> 0.0017754378 | BQ46: ='% total signal ave'!CX46 -> 0.0043061656 | BR46: ='% total signal ave'!CY46 -> 0.0045545924 | BS46: ='% total signal ave'!DE46 -> 0.001028945 | BT46: ='% total signal ave'!DF46 -> 0.002300791 | BU46: ='% total signal ave'!DL46 -> 0.00048322016 | BV46: ='% total signal ave'!DM46 -> 0.0010805131 | BW46: ='% total signal ave'!DS46 -> 0.0010622972 | BX46: ='% total signal ave'!DT46 -> 0.0023753688 | BY46: ='% total signal ave'!DZ46 -> 0.00041861371 | BZ46: ='% total signal ave'!EA46 -> 0.00093604872 | CA46: ='% total signal ave'!EG46 -> 0.00094809279 | CB46: ='% total signal ave'!EH46 -> 0.0021199999
A47: ='imported data from Web Calc'!A48 -> 786.5 | B47: ='imported data from Web Calc'!B48 -> C42H73O10P | C47: ='imported data from Web Calc'!C48 -> PG(36:5) | D47: ='amount-analyzed sorted'!Q47 -> 0.00041 | F47: ='signal-per-mass-dry-wt ave'!Q47 -> 0.0052816901 | G47: ='signal-per-mass-dry-wt ave'!R47 -> 0.0040487288 | H47: ='signal-per-mass-dry-wt ave'!S47 -> 0.76655932 | I47: ='signal-per-mass-dry-wt ave'!Y47 -> 0.022047744 | J47: ='signal-per-mass-dry-wt ave'!Z47 -> 0.017700484 | K47: ='signal-per-mass-dry-wt ave'!AF47 -> 0.0076291145 | L47: ='signal-per-mass-dry-wt ave'!AG47 -> 0.0086292234 | M47: ='signal-per-mass-dry-wt ave'!AM47 -> 0.0041142072 | N47: ='signal-per-mass-dry-wt ave'!AN47 -> 0.0029065553 | O47: ='signal-per-mass-dry-wt ave'!AT47 -> 0.002950859 | P47: ='signal-per-mass-dry-wt ave'!AU47 -> 0.0021160744 | Q47: ='signal-per-mass-dry-wt ave'!BA47 -> 0.0035016211 | R47: ='signal-per-mass-dry-wt ave'!BB47 -> 0.0043542802 | S47: ='signal-per-mass-dry-wt ave'!BH47 -> 0.0075733901 | T47: ='signal-per-mass-dry-wt ave'!BI47 -> 0.0040141535 | U47: ='signal-per-mass-dry-wt ave'!BO47 -> 0.0059819874 | V47: ='signal-per-mass-dry-wt ave'!BP47 -> 0.0054700242 | W47: ='signal-per-mass-dry-wt ave'!BV47 -> 0.010139514 | X47: ='signal-per-mass-dry-wt ave'!BW47 -> 0.0064620994 | Y47: ='signal-per-mass-dry-wt ave'!CC47 -> 0.0022432036 | Z47: ='signal-per-mass-dry-wt ave'!CD47 -> 0.0023298526 | AA47: ='signal-per-mass-dry-wt ave'!CJ47 -> 0.0016212192 | AB47: ='signal-per-mass-dry-wt ave'!CK47 -> 0.0019243765 | AC47: ='signal-per-mass-dry-wt ave'!CQ47 -> 0.00052356021 | AD47: ='signal-per-mass-dry-wt ave'!CR47 -> 0.0011707162 | AE47: ='signal-per-mass-dry-wt ave'!CX47 -> 0.0031928599 | AF47: ='signal-per-mass-dry-wt ave'!CY47 -> 0.0053947649 | AG47: ='signal-per-mass-dry-wt ave'!DE47 -> 0.0039786035 | AH47: ='signal-per-mass-dry-wt ave'!DF47 -> 0.0033862314 | AI47: ='signal-per-mass-dry-wt ave'!DL47 -> 0.00046692607 | AJ47: ='signal-per-mass-dry-wt ave'!DM47 -> 0.0010440784 | AK47: ='signal-per-mass-dry-wt ave'!DS47 -> 0.0075378481 | AL47: ='signal-per-mass-dry-wt ave'!DT47 -> 0.0081516759 | AM47: ='signal-per-mass-dry-wt ave'!DZ47 -> 0.0008341384 | AN47: ='signal-per-mass-dry-wt ave'!EA47 -> 0.0012538688 | AO47: ='signal-per-mass-dry-wt ave'!EG47 -> 0.0071533256 | AP47: ='signal-per-mass-dry-wt ave'!EH47 -> 0.0098080716 | AR47: ='% total signal ave'!Q47 -> 0.0094891915 | AS47: ='% total signal ave'!R47 -> 0.007141691 | AT47: ='% total signal ave'!S47 -> 0.75261322 | AU47: ='% total signal ave'!Y47 -> 0.012085832 | AV47: ='% total signal ave'!Z47 -> 0.0056637126 | AW47: ='% total signal ave'!AF47 -> 0.0083259774 | AX47: ='% total signal ave'!AG47 -> 0.0073627462 | AY47: ='% total signal ave'!AM47 -> 0.0099608142 | AZ47: ='% total signal ave'!AN47 -> 0.0072374818 | BA47: ='% total signal ave'!AT47 -> 0.0045814693 | BB47: ='% total signal ave'!AU47 -> 0.0029978159 | BC47: ='% total signal ave'!BA47 -> 0.0051021705 | BD47: ='% total signal ave'!BB47 -> 0.0060314177 | BE47: ='% total signal ave'!BH47 -> 0.0090704358 | BF47: ='% total signal ave'!BI47 -> 0.0034726986 | BG47: ='% total signal ave'!BO47 -> 0.0097575158 | BH47: ='% total signal ave'!BP47 -> 0.0073411545 | BI47: ='% total signal ave'!BV47 -> 0.0074754049 | BJ47: ='% total signal ave'!BW47 -> 0.0039597689 | BK47: ='% total signal ave'!CC47 -> 0.010083099 | BL47: ='% total signal ave'!CD47 -> 0.010193717 | BM47: ='% total signal ave'!CJ47 -> 0.0026379194 | BN47: ='% total signal ave'!CK47 -> 0.0025315171 | BO47: ='% total signal ave'!CQ47 -> 0.0015400018 | BP47: ='% total signal ave'!CR47 -> 0.0034435488 | BQ47: ='% total signal ave'!CX47 -> 0.0076765831 | BR47: ='% total signal ave'!CY47 -> 0.0097215022 | BS47: ='% total signal ave'!DE47 -> 0.0076319397 | BT47: ='% total signal ave'!DF47 -> 0.0060630128 | BU47: ='% total signal ave'!DL47 -> 0.0010737165 | BV47: ='% total signal ave'!DM47 -> 0.0024009032 | BW47: ='% total signal ave'!DS47 -> 0.011239253 | BX47: ='% total signal ave'!DT47 -> 0.0077311446 | BY47: ='% total signal ave'!DZ47 -> 0.0015885196 | BZ47: ='% total signal ave'!EA47 -> 0.0021804684 | CA47: ='% total signal ave'!EG47 -> 0.0098581781 | CB47: ='% total signal ave'!EH47 -> 0.012774884
A48: ='imported data from Web Calc'!A49 -> 788.5 | B48: ='imported data from Web Calc'!B49 -> C42H75O10P | C48: ='imported data from Web Calc'!C49 -> PG(36:4) | D48: ='amount-analyzed sorted'!Q48 -> 0.00069 | F48: ='signal-per-mass-dry-wt ave'!Q48 -> 0.008888698 | G48: ='signal-per-mass-dry-wt ave'!R48 -> 0.0075714345 | H48: ='signal-per-mass-dry-wt ave'!S48 -> 0.85180467 | I48: ='signal-per-mass-dry-wt ave'!Y48 -> 0.044404212 | J48: ='signal-per-mass-dry-wt ave'!Z48 -> 0.0095332683 | K48: ='signal-per-mass-dry-wt ave'!AF48 -> 0.016453868 | L48: ='signal-per-mass-dry-wt ave'!AG48 -> 0.021808585 | M48: ='signal-per-mass-dry-wt ave'!AM48 -> 0.011158371 | N48: ='signal-per-mass-dry-wt ave'!AN48 -> 0.010063842 | O48: ='signal-per-mass-dry-wt ave'!AT48 -> 0.009229671 | P48: ='signal-per-mass-dry-wt ave'!AU48 -> 0.011176556 | Q48: ='signal-per-mass-dry-wt ave'!BA48 -> 0.011451887 | R48: ='signal-per-mass-dry-wt ave'!BB48 -> 0.011194116 | S48: ='signal-per-mass-dry-wt ave'!BH48 -> 0.010372068 | T48: ='signal-per-mass-dry-wt ave'!BI48 -> 0.0086618428 | U48: ='signal-per-mass-dry-wt ave'!BO48 -> 0.0050843254 | V48: ='signal-per-mass-dry-wt ave'!BP48 -> 0.0092011215 | W48: ='signal-per-mass-dry-wt ave'!BV48 -> 0.017251394 | X48: ='signal-per-mass-dry-wt ave'!BW48 -> 0.0048512938 | Y48: ='signal-per-mass-dry-wt ave'!CC48 -> 0.0019319159 | Z48: ='signal-per-mass-dry-wt ave'!CD48 -> 0.0015934804 | AA48: ='signal-per-mass-dry-wt ave'!CJ48 -> 0.0070724112 | AB48: ='signal-per-mass-dry-wt ave'!CK48 -> 0.0074913788 | AC48: ='signal-per-mass-dry-wt ave'!CQ48 -> 0.0068382898 | AD48: ='signal-per-mass-dry-wt ave'!CR48 -> 0.0069052899 | AE48: ='signal-per-mass-dry-wt ave'!CX48 -> 0.0019132441 | AF48: ='signal-per-mass-dry-wt ave'!CY48 -> 0.0022195227 | AG48: ='signal-per-mass-dry-wt ave'!DE48 -> 0.0019529981 | AH48: ='signal-per-mass-dry-wt ave'!DF48 -> 0.0020267835 | AI48: ='signal-per-mass-dry-wt ave'!DL48 -> 0.0021397345 | AJ48: ='signal-per-mass-dry-wt ave'!DM48 -> 0.0020985962 | AK48: ='signal-per-mass-dry-wt ave'!DS48 -> 0.0061741495 | AL48: ='signal-per-mass-dry-wt ave'!DT48 -> 0.011244114 | AM48: ='signal-per-mass-dry-wt ave'!DZ48 -> 0.0018444972 | AN48: ='signal-per-mass-dry-wt ave'!EA48 -> 0.0030551554 | AO48: ='signal-per-mass-dry-wt ave'!EG48 -> 0.0080980528 | AP48: ='signal-per-mass-dry-wt ave'!EH48 -> 0.010459553 | AR48: ='% total signal ave'!Q48 -> 0.016164152 | AS48: ='% total signal ave'!R48 -> 0.013730516 | AT48: ='% total signal ave'!S48 -> 0.8494424 | AU48: ='% total signal ave'!Y48 -> 0.028500682 | AV48: ='% total signal ave'!Z48 -> 0.0073696137 | AW48: ='% total signal ave'!AF48 -> 0.014028588 | AX48: ='% total signal ave'!AG48 -> 0.018772598 | AY48: ='% total signal ave'!AM48 -> 0.026506134 | AZ48: ='% total signal ave'!AN48 -> 0.023556117 | BA48: ='% total signal ave'!AT48 -> 0.015104315 | BB48: ='% total signal ave'!AU48 -> 0.0097065073 | BC48: ='% total signal ave'!BA48 -> 0.012807018 | BD48: ='% total signal ave'!BB48 -> 0.015010014 | BE48: ='% total signal ave'!BH48 -> 0.01210978 | BF48: ='% total signal ave'!BI48 -> 0.008009759 | BG48: ='% total signal ave'!BO48 -> 0.0063413213 | BH48: ='% total signal ave'!BP48 -> 0.010003671 | BI48: ='% total signal ave'!BV48 -> 0.015339286 | BJ48: ='% total signal ave'!BW48 -> 0.0082100195 | BK48: ='% total signal ave'!CC48 -> 0.0078904742 | BL48: ='% total signal ave'!CD48 -> 0.0051912509 | BM48: ='% total signal ave'!CJ48 -> 0.012754371 | BN48: ='% total signal ave'!CK48 -> 0.0093122855 | BO48: ='% total signal ave'!CQ48 -> 0.015886364 | BP48: ='% total signal ave'!CR48 -> 0.016228234 | BQ48: ='% total signal ave'!CX48 -> 0.0043699261 | BR48: ='% total signal ave'!CY48 -> 0.0054367142 | BS48: ='% total signal ave'!DE48 -> 0.0031734252 | BT48: ='% total signal ave'!DF48 -> 0.0031984098 | BU48: ='% total signal ave'!DL48 -> 0.0055007034 | BV48: ='% total signal ave'!DM48 -> 0.0051751613 | BW48: ='% total signal ave'!DS48 -> 0.0081724136 | BX48: ='% total signal ave'!DT48 -> 0.013929211 | BY48: ='% total signal ave'!DZ48 -> 0.0047833981 | BZ48: ='% total signal ave'!EA48 -> 0.0066344883 | CA48: ='% total signal ave'!EG48 -> 0.011269358 | CB48: ='% total signal ave'!EH48 -> 0.014108399
A49: ='imported data from Web Calc'!A50 -> 790.5 | B49: ='imported data from Web Calc'!B50 -> C42H77O10P | C49: ='imported data from Web Calc'!C50 -> PG(36:3) | D49: ='amount-analyzed sorted'!Q49 -> 0.00083 | F49: ='signal-per-mass-dry-wt ave'!Q49 -> 0.010692202 | G49: ='signal-per-mass-dry-wt ave'!R49 -> 0.0097172907 | H49: ='signal-per-mass-dry-wt ave'!S49 -> 0.90882035 | I49: ='signal-per-mass-dry-wt ave'!Y49 -> 0.069081264 | J49: ='signal-per-mass-dry-wt ave'!Z49 -> 0.033289087 | K49: ='signal-per-mass-dry-wt ave'!AF49 -> 0.026535784 | L49: ='signal-per-mass-dry-wt ave'!AG49 -> 0.019297884 | M49: ='signal-per-mass-dry-wt ave'!AM49 -> 0.0099478761 | N49: ='signal-per-mass-dry-wt ave'!AN49 -> 0.011259316 | O49: ='signal-per-mass-dry-wt ave'!AT49 -> 0.010760209 | P49: ='signal-per-mass-dry-wt ave'!AU49 -> 0.0091765586 | Q49: ='signal-per-mass-dry-wt ave'!BA49 -> 0.014788533 | R49: ='signal-per-mass-dry-wt ave'!BB49 -> 0.013025513 | S49: ='signal-per-mass-dry-wt ave'!BH49 -> 0.0095170313 | T49: ='signal-per-mass-dry-wt ave'!BI49 -> 0.0055704442 | U49: ='signal-per-mass-dry-wt ave'!BO49 -> 0.0071739639 | V49: ='signal-per-mass-dry-wt ave'!BP49 -> 0.0055079755 | W49: ='signal-per-mass-dry-wt ave'!BV49 -> 0.023062574 | X49: ='signal-per-mass-dry-wt ave'!BW49 -> 0.0099321781 | Y49: ='signal-per-mass-dry-wt ave'!CC49 -> 0.0033996262 | Z49: ='signal-per-mass-dry-wt ave'!CD49 -> 0.0049904876 | AA49: ='signal-per-mass-dry-wt ave'!CJ49 -> 0.0081608269 | AB49: ='signal-per-mass-dry-wt ave'!CK49 -> 0.0058067348 | AC49: ='signal-per-mass-dry-wt ave'!CQ49 -> 0.0054213375 | AD49: ='signal-per-mass-dry-wt ave'!CR49 -> 0.0090052402 | AE49: ='signal-per-mass-dry-wt ave'!CX49 -> 0.0038383371 | AF49: ='signal-per-mass-dry-wt ave'!CY49 -> 0.0048378716 | AG49: ='signal-per-mass-dry-wt ave'!DE49 -> 0.0038961619 | AH49: ='signal-per-mass-dry-wt ave'!DF49 -> 0.0041393464 | AI49: ='signal-per-mass-dry-wt ave'!DL49 -> 0.00097058824 | AJ49: ='signal-per-mass-dry-wt ave'!DM49 -> 0.0013300493 | AK49: ='signal-per-mass-dry-wt ave'!DS49 -> 0.0066124262 | AL49: ='signal-per-mass-dry-wt ave'!DT49 -> 0.0090852563 | AM49: ='signal-per-mass-dry-wt ave'!DZ49 -> 0.00065406977 | AN49: ='signal-per-mass-dry-wt ave'!EA49 -> 0.0014625445 | AO49: ='signal-per-mass-dry-wt ave'!EG49 -> 0.0087245041 | AP49: ='signal-per-mass-dry-wt ave'!EH49 -> 0.010039416 | AR49: ='% total signal ave'!Q49 -> 0.019330406 | AS49: ='% total signal ave'!R49 -> 0.017677006 | AT49: ='% total signal ave'!S49 -> 0.91446636 | AU49: ='% total signal ave'!Y49 -> 0.042336191 | AV49: ='% total signal ave'!Z49 -> 0.01425603 | AW49: ='% total signal ave'!AF49 -> 0.029149124 | AX49: ='% total signal ave'!AG49 -> 0.0079414365 | AY49: ='% total signal ave'!AM49 -> 0.022612905 | AZ49: ='% total signal ave'!AN49 -> 0.024435376 | BA49: ='% total signal ave'!AT49 -> 0.016979573 | BB49: ='% total signal ave'!AU49 -> 0.016251411 | BC49: ='% total signal ave'!BA49 -> 0.014436886 | BD49: ='% total signal ave'!BB49 -> 0.014078371 | BE49: ='% total signal ave'!BH49 -> 0.012497134 | BF49: ='% total signal ave'!BI49 -> 0.0091542208 | BG49: ='% total signal ave'!BO49 -> 0.012106377 | BH49: ='% total signal ave'!BP49 -> 0.0084731531 | BI49: ='% total signal ave'!BV49 -> 0.019148305 | BJ49: ='% total signal ave'!BW49 -> 0.0089301141 | BK49: ='% total signal ave'!CC49 -> 0.0097425201 | BL49: ='% total signal ave'!CD49 -> 0.011527073 | BM49: ='% total signal ave'!CJ49 -> 0.017290477 | BN49: ='% total signal ave'!CK49 -> 0.011168578 | BO49: ='% total signal ave'!CQ49 -> 0.010688962 | BP49: ='% total signal ave'!CR49 -> 0.013801333 | BQ49: ='% total signal ave'!CX49 -> 0.010008362 | BR49: ='% total signal ave'!CY49 -> 0.01100125 | BS49: ='% total signal ave'!DE49 -> 0.0063815852 | BT49: ='% total signal ave'!DF49 -> 0.0068011551 | BU49: ='% total signal ave'!DL49 -> 0.0028700501 | BV49: ='% total signal ave'!DM49 -> 0.0042649001 | BW49: ='% total signal ave'!DS49 -> 0.0095950181 | BX49: ='% total signal ave'!DT49 -> 0.0072507974 | BY49: ='% total signal ave'!DZ49 -> 0.0040354943 | BZ49: ='% total signal ave'!EA49 -> 0.0090236396 | CA49: ='% total signal ave'!EG49 -> 0.015856313 | CB49: ='% total signal ave'!EH49 -> 0.01420338
A50: ='imported data from Web Calc'!A51 -> 792.5 | B50: ='imported data from Web Calc'!B51 -> C42H79O10P | C50: ='imported data from Web Calc'!C51 -> PG(36:2) | D50: ='amount-analyzed sorted'!Q50 -> 0.00052 | F50: ='signal-per-mass-dry-wt ave'!Q50 -> 0.006698729 | G50: ='signal-per-mass-dry-wt ave'!R50 -> 0.0044126529 | H50: ='signal-per-mass-dry-wt ave'!S50 -> 0.65872988 | I50: ='signal-per-mass-dry-wt ave'!Y50 -> 0.05342839 | J50: ='signal-per-mass-dry-wt ave'!Z50 -> 0.039406956 | K50: ='signal-per-mass-dry-wt ave'!AF50 -> 0.024193544 | L50: ='signal-per-mass-dry-wt ave'!AG50 -> 0.02236501 | M50: ='signal-per-mass-dry-wt ave'!AM50 -> 0.007692808 | N50: ='signal-per-mass-dry-wt ave'!AN50 -> 0.0090770348 | O50: ='signal-per-mass-dry-wt ave'!AT50 -> 0.0041763492 | P50: ='signal-per-mass-dry-wt ave'!AU50 -> 0.002729791 | Q50: ='signal-per-mass-dry-wt ave'!BA50 -> 0.012769199 | R50: ='signal-per-mass-dry-wt ave'!BB50 -> 0.013248962 | S50: ='signal-per-mass-dry-wt ave'!BH50 -> 0.011206228 | T50: ='signal-per-mass-dry-wt ave'!BI50 -> 0.011755372 | U50: ='signal-per-mass-dry-wt ave'!BO50 -> 0.0061661494 | V50: ='signal-per-mass-dry-wt ave'!BP50 -> 0.0067723372 | W50: ='signal-per-mass-dry-wt ave'!BV50 -> 0.013341528 | X50: ='signal-per-mass-dry-wt ave'!BW50 -> 0.010571506 | Y50: ='signal-per-mass-dry-wt ave'!CC50 -> 0.0032241953 | Z50: ='signal-per-mass-dry-wt ave'!CD50 -> 0.0064476408 | AA50: ='signal-per-mass-dry-wt ave'!CJ50 -> 0.0049667064 | AB50: ='signal-per-mass-dry-wt ave'!CK50 -> 0.0099465928 | AC50: ='signal-per-mass-dry-wt ave'!CQ50 -> 0.00078495836 | AD50: ='signal-per-mass-dry-wt ave'!CR50 -> 0.0011420763 | AE50: ='signal-per-mass-dry-wt ave'!CX50 -> 0.0034180304 | AF50: ='signal-per-mass-dry-wt ave'!CY50 -> 0.0043464562 | AG50: ='signal-per-mass-dry-wt ave'!DE50 -> 0.0016637892 | AH50: ='signal-per-mass-dry-wt ave'!DF50 -> 0.0018107733 | AI50: ='signal-per-mass-dry-wt ave'!DL50 -> 0.0022821047 | AJ50: ='signal-per-mass-dry-wt ave'!DM50 -> 0.0016250508 | AK50: ='signal-per-mass-dry-wt ave'!DS50 -> 0.0081436198 | AL50: ='signal-per-mass-dry-wt ave'!DT50 -> 0.0087414324 | AM50: ='signal-per-mass-dry-wt ave'!DZ50 -> 0.00043604651 | AN50: ='signal-per-mass-dry-wt ave'!EA50 -> 0.00097502964 | AO50: ='signal-per-mass-dry-wt ave'!EG50 -> 0.010259997 | AP50: ='signal-per-mass-dry-wt ave'!EH50 -> 0.010825898 | AR50: ='% total signal ave'!Q50 -> 0.01217443 | AS50: ='% total signal ave'!R50 -> 0.0080273586 | AT50: ='% total signal ave'!S50 -> 0.65936219 | AU50: ='% total signal ave'!Y50 -> 0.029973023 | AV50: ='% total signal ave'!Z50 -> 0.018685385 | AW50: ='% total signal ave'!AF50 -> 0.026177397 | AX50: ='% total signal ave'!AG50 -> 0.017341663 | AY50: ='% total signal ave'!AM50 -> 0.019909639 | AZ50: ='% total signal ave'!AN50 -> 0.024795545 | BA50: ='% total signal ave'!AT50 -> 0.0071786422 | BB50: ='% total signal ave'!AU50 -> 0.0057862582 | BC50: ='% total signal ave'!BA50 -> 0.010932515 | BD50: ='% total signal ave'!BB50 -> 0.010232676 | BE50: ='% total signal ave'!BH50 -> 0.012985217 | BF50: ='% total signal ave'!BI50 -> 0.010478336 | BG50: ='% total signal ave'!BO50 -> 0.010159994 | BH50: ='% total signal ave'!BP50 -> 0.0094133108 | BI50: ='% total signal ave'!BV50 -> 0.0096299557 | BJ50: ='% total signal ave'!BW50 -> 0.0055320108 | BK50: ='% total signal ave'!CC50 -> 0.0075801859 | BL50: ='% total signal ave'!CD50 -> 0.013802618 | BM50: ='% total signal ave'!CJ50 -> 0.0067177495 | BN50: ='% total signal ave'!CK50 -> 0.01174797 | BO50: ='% total signal ave'!CQ50 -> 0.0018243037 | BP50: ='% total signal ave'!CR50 -> 0.0025327171 | BQ50: ='% total signal ave'!CX50 -> 0.0096305466 | BR50: ='% total signal ave'!CY50 -> 0.010495363 | BS50: ='% total signal ave'!DE50 -> 0.0031533149 | BT50: ='% total signal ave'!DF50 -> 0.0029640087 | BU50: ='% total signal ave'!DL50 -> 0.007440636 | BV50: ='% total signal ave'!DM50 -> 0.0061823531 | BW50: ='% total signal ave'!DS50 -> 0.012167646 | BX50: ='% total signal ave'!DT50 -> 0.0086589029 | BY50: ='% total signal ave'!DZ50 -> 0.0026903296 | BZ50: ='% total signal ave'!EA50 -> 0.0060157598 | CA50: ='% total signal ave'!EG50 -> 0.01789663 | CB50: ='% total signal ave'!EH50 -> 0.010857892
