{"text_format":"1","workbook":"xlsx","n_sheets":35,"sheets":["Overview","Testing choice","Base Case analysis","Parameters of 17 trees","Transmission probabilities","Probabilities summary","Cost computations","Lifetime HIV Markov","Life years without HIV","Life years with HIV","Lifetime HIV cost","Cases averted (50-100%)","Cases averted 2019-2023","Chart Analysis","Uncertainty Analysis","Threshold analysis","PSA","BIA","BIA v2","DSA","Markov cheat sheet","Formula sheet","Life years borne without HIV","Sample Cost borne with HIV","Model Template","Tree for Do Nothing","Tree for Status Quo","Tree for UCSNP","Tree for UNDNP","Tree for URCSNP","Tree for UCSNPSF","Tree for URNDNP","Tree for UNDNPSF","Tree for URCSNPSF","Tree for URNDNPSF"],"not_rendered":{"charts":53,"images":0,"macros":1,"external_links":2,"defined_names":329,"comments":2,"pivot_tables":0},"unopened":[],"bounds":{"document_bytes":16777216,"sheet_cells":100000,"rows_first":2000,"rows_last":500,"rows_between":2000,"halvings":0,"cell_chars":16384,"cell_head_chars":4096},"cells_cut":0,"cells_raw":0,"read":"whole","date_system":"1900"}

{"sheet":"Overview","index":0,"n_rows":2,"n_cols":1,"rows_kept":2,"cut":false,"hidden":false,"merged":[]}
[]
["Overview of the Economic Evaluation"]

{"sheet":"Testing choice","index":1,"n_rows":17,"n_cols":11,"rows_kept":17,"cut":false,"hidden":false,"merged":[[0,1,0,3]]}
[null,"Summary of testing choice description"]
[null,"Testing choice","Name","Description","Coverage of screening [SQ/U]","Percent coverage of screening","Provision of ART regimen","Aggressive treatment (+RAL) on late ANC in HIV+ pregnant screened [R]","Mode of delivery of HIV+ pregnant screened [CS]","Provision of neonatal prophylaxis among HIV+ pregnant screened [NP]","Provision of substitute feeding for infant among HIV+ pregnant screened [SF]"]
[null,"Testing choice 0","Do Nothing","Do Nothing","No screening",0,"no","none","normal delivery","none","none"]
[null,"Testing choice 1","SQ","Status Quo screening","Ad hoc / status quo",{"$f":"(155774/pop)","v":9.1598465969429943E-2},"yes","none","cesarean section","yes","none"]
[null,"Testing choice 2.1","UCSNP","Universal screening: cesarean section, neonatal prophylaxis","Universal",1,"yes","none","cesarean section","yes","none"]
[null,"Testing choice 3.1.1","URCSNP","Universal screening: raltegravir, cesarean section, neonatal prophylaxis","Universal",1,"yes","yes","cesarean section","yes","none"]
[null,"Testing choice 3.1.2","UCSNPSF","Universal screening: cesarean section, neonatal prophylaxis, substitute feeding","Universal",1,"yes","none","cesarean section","yes","yes"]
[null,"Testing choice 4.1","URCSNPSF","Universal screening: raltegravir, cesarean section, neonatal prophylaxis, substitute feeding","Universal",1,"yes","yes","cesarean section","yes","yes"]
[null,"Testing choice 2.2","UNDNP","Universal screening: normal delivery, neonatal prophylaxis","Universal",1,"yes","none","normal delivery","yes","none"]
[null,"Testing choice 3.2.1","URNDNP","Universal screening: raltegravir, normal delivery, neonatal prophylaxis","Universal",1,"yes","yes","normal delivery","yes","none"]
[null,"Testing choice 3.2.2","UNDNPSF","Universal screening: normal delivery, neonatal prophylaxis, substitute feeding","Universal",1,"yes","none","normal delivery","yes","yes"]
[null,"Testing choice 4.2","URNDNPSF","Universal screening: raltegravir, normal delivery, neonatal prophylaxis, substitute feeding","Universal",1,"yes","yes","normal delivery","yes","yes"]
[]
[]
[]
[]
[null,null,null,null,null,null,null," "]

{"sheet":"Base Case analysis","index":2,"n_rows":23,"n_cols":27,"rows_kept":23,"cut":false,"hidden":false,"merged":[[5,23,5,26],[5,19,5,22]]}
[]
[null,"Perspective of the study:","Government / Payer"]
[]
[]
[]
[null,"Results vs status quo screening",null,null,null,null,null,null,null,null,null,null,null,null,null,null,null,null,null,"VERSUS STATUS QUO",null,null,null,"VERSUS DO NOTHING"]
["Policy Number","Testing choice","Name","Program Cost per person","Incremental Program cost per person","Program Cost total pop","Screening Cost","ART only cost","RAL cost","NP cost","Total treatment cost","Mode of Delivery cost","SF cost","Pediatric HIV cost","LYG per person","LYG total population","QALY per person","Incremental QALY per person","QALY total pop","Incremental program cost","Incremental LYG","Incremental QALY gained","ICER (PhP/QALY)","Incremental program cost","Incremental LYG","Incremental QALY gained","ICER (PhP/QALY)"]
[0,"Testing choice 0","do nothing",{"$f":"'Tree for Do Nothing'!C138","v":46.795501674190412},null,{"$f":"D8*'Parameters of 17 trees'!$C$10","v":79581272.466158345},0,0,0,0,{"$f":"(J8+I8+H8)","v":0},0,0,79581272.466158345,null,null,{"$f":"'Tree for Do Nothing'!C139","v":28.307770226015968},null,{"$f":"Q8*'Parameters of 17 trees'!$C$10","v":48140703.586226821}]
[1,"Testing choice 1","sq",{"$f":"'Tree for Status Quo'!C138","v":94.818399893247573},null,{"$f":"D9*'Parameters of 17 trees'!$C$10","v":161249877.58965489},87573306.719133809,142457.0447459688,0,5691.3136878197811,{"$f":"(J9+I9+H9)","v":148148.35843378858},690737.52838438738,0,72833671.03560105,70.809869292930031,120420538.29720408,{"$f":"'Tree for Status Quo'!C139","v":28.307931853180637},null,{"$f":"Q9*'Parameters of 17 trees'!$C$10","v":48140978.452292345}]
[2,"Testing choice 2.1","ucsnp",{"$f":"'Tree for UCSNP'!C138","v":566.93672460019411},{"$f":"D10-$D$9","v":472.11832470694651},{"$f":"D10*'Parameters of 17 trees'!$C$10","v":964142798.71613288},956056477.49996698,1555233.9576681599,0,62133.286049999988,1617367.2437181599,301637.16000000027,0,6233960.3023227146,70.814269403806605,120428021.20496278,{"$f":"'Tree for UCSNP'!C139","v":28.309529777908121},{"$f":"Q10-$Q$9","v":1.5979247274842123E-3},{"$f":"Q10*'Parameters of 17 trees'!$C$10","v":48143695.911846556},{"$f":"F10-$F$9","v":802892921.12647796},7482.9077586978674,{"$f":"S10-$S$9","v":2717.4595542103052},{"$f":"T10/V10","v":295457.1742871069},{"$f":"F10-$F$8","v":884561526.24997449},7482.9077586978674,{"$f":"S10-$S$8","v":2992.3256197348237},{"$f":"X10/Z10","v":295610.05006145127}]
[3,"Testing choice 3.1.1","urcsnp",{"$f":"'Tree for URCSNP'!C138","v":566.99206922533017},{"$f":"D11-$D$9","v":472.17366933208257},{"$f":"D11*'Parameters of 17 trees'!$C$10","v":964236918.78184259},956056477.49996698,1555233.9576681599,246989.22698179903,62133.286049999988,1864356.470699959,301637.16000000027,0,6081091.1410505697,70.814278889693242,120428037.33683234,{"$f":"'Tree for URCSNP'!C139","v":28.309533441518926},{"$f":"Q11-$Q$9","v":1.6015883382891616E-3},{"$f":"Q11*'Parameters of 17 trees'!$C$10","v":48143702.142249033},802987041.19218767,7499.0396282672882,{"$f":"S11-$S$9","v":2723.6899566873908},{"$f":"T11/V11","v":294815.8762419484},{"$f":"F11-$F$8","v":884655646.3156842},7499.0396282672882,{"$f":"S11-$S$8","v":2998.5560222119093},{"$f":"X11/Z11","v":295027.21968926588}]
[4,"Testing choice 3.1.2","ucsnpsf",{"$f":"'Tree for UCSNPSF'!C138","v":566.52943522108433},471.71103532783673,{"$f":"D12*'Parameters of 17 trees'!$C$10","v":963450155.06681001},956056477.49996698,1555233.9576681599,0,62133.286049999988,1617367.2437181599,301637.16000000027,60300.625465246005,5580782.0069715278,70.814309935037443,120428090.1331035,{"$f":"'Tree for UCSNPSF'!C139","v":28.309547822716894},1.6159695362567561E-3,{"$f":"Q12*'Parameters of 17 trees'!$C$10","v":48143726.599173158},802200277.47715509,7551.8358994275331,{"$f":"S12-$S$9","v":2748.146880812943},{"$f":"T12/V12","v":291905.89596137317},883868882.60065162,7551.8358994275331,3023.0129463374615,{"$f":"X12/Z12","v":292380.11821004772}]
[5,"Testing choice 4.1","urcsnpsf",{"$f":"'Tree for URCSNPSF'!C138","v":566.58477984622039},471.76637995297278,{"$f":"D13*'Parameters of 17 trees'!$C$10","v":963544275.1325196},956056477.49996698,1555233.9576681599,246989.226981799,62133.286049999988,1864356.470699959,301637.16000000027,60300.625465246027,5427912.8456993829,70.814319420924079,120428106.26497306,{"$f":"'Tree for URCSNPSF'!C139","v":28.309551486327702},1.6196331470652581E-3,{"$f":"Q13*'Parameters of 17 trees'!$C$10","v":48143732.829575643},802294397.54286468,7567.9677689820528,{"$f":"S13-$S$9","v":2754.3772832974792},{"$f":"T13/V13","v":291279.77579831611},883963002.66636121,7567.9677689820528,3029.2433488219976,{"$f":"X13/Z13","v":291809.83528778364}]
[6,"Testing choice 2.2","undnp",{"$f":"'Tree for UNDNP'!C138","v":567.08738633015582},472.26898643690822,{"$f":"D14*'Parameters of 17 trees'!$C$10","v":964399016.76601696},956056477.49996698,1555233.9576681599,0,62133.286049999988,1617367.2437181599,0,0,6791815.5122068124,70.8142347875947,120427962.33600973,{"$f":"'Tree for UNDNP'!C139","v":28.309516408538137},1.584555357499795E-3,{"$f":"Q14*'Parameters of 17 trees'!$C$10","v":48143673.175655313},803149139.17636204,7424.0388056486845,2694.7233629673719,298045.11669500329,884817744.29985857,7424.0388056486845,2969.5894284918904,{"$f":"X14/Z14","v":297959.62223276577}]
[7,"Testing choice 3.2.1","urndnp",{"$f":"'Tree for URNDNP'!C138","v":566.81470008070153},471.99630018745393,{"$f":"D15*'Parameters of 17 trees'!$C$10","v":963935281.6218425},956056477.49996698,1555233.9576681599,246989.22698179903,62133.286049999988,1864356.470699959,0,0,6081091.1410505697,70.814278889693242,120428037.33683234,{"$f":"'Tree for URNDNP'!C139","v":28.309533441518926},1.6015883382891616E-3,{"$f":"Q15*'Parameters of 17 trees'!$C$10","v":48143702.142249033},802685404.03218758,7499.0396282672882,2723.6899566873908,{"$f":"T15/V15","v":294705.13046515413},884354009.15568411,7499.0396282672882,2998.5560222119093,{"$f":"X15/Z15","v":294926.62555069861}]
[8,"Testing choice 3.2.2","undnpsf",{"$f":"'Tree for UNDNPSF'!C138","v":566.68009695104604},471.86169705779844,{"$f":"D16*'Parameters of 17 trees'!$C$10","v":963706373.11669397},956056477.49996698,1555233.9576681599,0,62133.286049999988,1617367.2437181599,0,60300.625465246027,6138637.2168556275,70.814275318825537,120428031.26415044,{"$f":"'Tree for UNDNPSF'!C139","v":28.30953445334691},1.6026001662723388E-3,{"$f":"Q16*'Parameters of 17 trees'!$C$10","v":48143703.862981915},802456495.52703905,7492.9669463634491,2725.4106895700097,294435.0730691686,884125100.65053558,7492.9669463634491,3000.2767550945282,{"$f":"X16/Z16","v":294681.18204404775}]
[9,"Testing choice 4.2","urndnpsf",{"$f":"'Tree for URNDNPSF'!C138","v":566.40741070159186},471.58901080834426,{"$f":"D17*'Parameters of 17 trees'!$C$10","v":963242637.97251976},956056477.49996698,1555233.9576681599,246989.22698179903,62133.286049999988,1864356.470699959,0,60300.625465246027,5427912.8456993829,70.814319420924079,120428106.26497306,{"$f":"'Tree for URNDNPSF'!C139","v":28.309551486327702},1.6196331470652581E-3,{"$f":"Q17*'Parameters of 17 trees'!$C$10","v":48143732.829575643},801992760.38286483,7567.9677689820528,2754.3772832974792,{"$f":"T17/V17","v":291170.26387276076},883661365.50636137,7567.9677689820528,3029.2433488219976,{"$f":"X17/Z17","v":291710.26020408585}]
[]
[null,null,null,null,null,null,null,null,null,null,null,null,null,null,null,null,null,null,null,650000000,null,{"$f":"T19/150000","v":4333.333333333333}]
[null,null,null,null,null,null,null,null,null,null,null,null,null,null,null,null,null,null,null,0,null,0]
[null,null,null,null,null,null,null,null,null,null,null,null,null,null,null,null,null,null,null,{"$f":"LOG(651999885.11)","v":8.814247519204164},null,2711.5304643884301]
[null,null,null,null,null,null,null,null,null,null,null,null,null,null,null,null,null,null,null,{"$f":"LOG(654090193.38)","v":8.8156376379060379},null,2684.83]
[null,null,null,null,null,null,null,null,null,null,null,null,null,null,null,null,null,null,null,{"$f":"LOG(650000000)","v":8.8129133566428557},null,{"$f":"650000000/150000","v":4333.333333333333}]

{"sheet":"Parameters of 17 trees","index":3,"n_rows":62,"n_cols":15,"rows_kept":62,"cut":false,"hidden":false,"merged":[[31,14,40,14]]}
[]
[null,"Parameters"]
[]
[null,null,"Input here:",1]
[null,null,null,"Deterministic=1"]
[null,null,null,"Probabilistic=0"]
[]
[null,"Name of input parameter","Value","Description","Distribution","Probabilistic","Mean","SE","alpha","beta",null,"CI low","CI high","Reference","Remarks"]
[null,"Epidemiological"]
[null,"pop",{"$f":"IF($D$4=1,G10,F10)","v":1700618},"Annual population of pregnant women","log-normal",{"$f":"EXP(NORMINV(RAND(),J10,M10))","v":1730143.4808242829},{"$f":"1700618","v":1700618},{"$f":"G10*0.75","v":1275463.5},{"$f":"G10*1.25","v":2125772.5},{"$f":"LN(G10)","v":14.346502272377402},14.058820199925622,14.569645823691612,{"$f":"(L10-K10)/(1.96*2)","v":0.13031265912397716},"Philippine Statistics Authority Annual Report, 2017","Vital Statistics 2017"]
[null,"pwhiv",{"$f":"G11","v":422},"Pregnant women living with HIV",null,null,{"$f":"pwhiv","v":422},null,null,null,null,null,null,"Spectrum-AEM 2018","2019 estimate"]
[null,"earlyanc",{"$f":"IF($D$4=1,G12,F12)","v":0.96},"Percentage of pregnant women who had first ANC > 6 weeks before delivery","Beta",{"$f":"BETAINV(RAND(),I12,J12)","v":0.985178209915055},0.96,{"$f":"(M12-L12)/3.92","v":7.1428571428571438E-2},{"$f":"G12*((G12*(1-G12)/H12^2)-1)","v":6.2653440000000034},{"$f":"I12/G12-I12","v":0.26105599999999995},null,{"$f":"G12*0.75","v":0.72},1,"National Demographic Health Survey 2017","Covering those who had first ANC visit from month 0-7"]
[null,"lateanc",4.0000000000000036E-2,"Percentage of pregnant women who had first ANC < 6 weeks before delivery",null,{"$f":"1-F12","v":1.4821790084944997E-2},{"$f":"1-earlyanc","v":4.0000000000000036E-2},null,null,null,null,null,null,"National Demographic Health Survey 2017","Covering those who had first ANC visit from month 8, including unknown and no ANC before labor"]
[null,"percentsqs",{"$f":"G14","v":9.1598465969429943E-2},"Percent coverage of status quo screening",null,null,{"$f":"(155774/pop)","v":9.1598465969429943E-2},null,null,null,null,null,null,"Epidemiology Bureau","2018 data"]
[null,"percentus",{"$f":"G15","v":1},"Percent coverage of universal screening",null,null,1]
[]
[null,"Intervention effect"]
[null,"base",{"$f":"IF($D$4=1,G18,F18)","v":0.1891891891891892},"prob of perinatal HIV transmission without intervention","Beta",{"$f":"BETAINV(RAND(),I18,J18)","v":0.17409618131531573},{"$f":"14/74","v":0.1891891891891892},{"$f":"(M18-L18)/3.92","v":3.5969387755102042E-2},{"$f":"G18*((G18*(1-G18)/H18^2)-1)","v":22.241678377835299},{"$f":"I18/G18-I18","v":95.321478762151273},null,0.184,0.32500000000000001,"Connor, 1994"]
[null,"breastfeed",0.16200000000000001,"prob of postnatal transmission","Beta",0.14978134934324483,{"$f":"0.162","v":0.16200000000000001},4.9489795918367351E-2,{"$f":"G19*((G19*(1-G19)/H19^2)-1)","v":8.817304967074076},{"$f":"I19/G19-I19","v":45.610503471654781},null,6.5000000000000002E-2,0.25900000000000001,"Nduati, 2000"]
[null,"pmore4",0.20125000000000001,"RR of HIV transmission when pregnant woman received 1st line ART > 4 weeks before birth","Beta",0.22311319685000952,{"$f":"(0.035)/(4/23)","v":0.20125000000000001},2.5669642857142863E-2,48.894397999999981,194.0591324347825,null,{"$f":"G20*0.75","v":0.1509375},{"$f":"G20*1.25","v":0.25156250000000002},"Hoffman, 2011"]
[null,"pless4",0.53311258278145701,"RR of HIV transmission when pregnant woman received 1st line ART < 4 weeks","Beta",0.60325808829839289,{"$f":"(14/151)/(4/23)","v":0.53311258278145701},6.799905392620624E-2,28.164402649006629,24.665719090123812,null,{"$f":"G21*0.75","v":0.39983443708609279},{"$f":"G21*1.25","v":0.66639072847682124},"Hoffman, 2011"]
[null,"pless4r",0.27153442246933296,"RR of HIV transmission when pregnant woman received 1st line ART +RAL < 4 weeks","Beta",0.31528915826816128,{"$f":"6/155/0.076*((14/151)/(4/23))","v":0.27153442246933296},3.4634492661904721E-2,44.504039379799615,119.39429430135968,null,{"$f":"G22*0.75","v":0.20365081685199971},{"$f":"G22*1.25","v":0.33941802808666621},"Puthanakit, 2019"]
[null,"pcs",0.35835351089588374,"RR of HIV transmission when pregnant women delivered through cesarean section","Beta",0.32567769627960114,{"$f":"(4/59)/(14/74)","v":0.35835351089588374},7.3979591836734707E-2,14.697150121989221,26.315843123832057,null,0.16,0.45,"Kennedy et.al 2017"]
[null,"psf",{"$f":"G24","v":0},"RR of HIV transmission  when infant received substitute feeding instead of breastfeeding",null,0,0,null,null,null,null,null,null,"Read, 2005"]
[null,"pdelmore4",3.9243445432647774E-2,"RR of HIV transmission when pregnant woman delivered vaginally  and received 1st line ART > 4 weeks ","Beta",{"$f":"BETAINV(RAND(),I25,J25)","v":3.725359522018365E-2},{"$f":"(3+2)/(2309+3859)/((38+7+2+3+6)/(1787+655+104+100+65))","v":3.9243445432647774E-2},{"$f":"(M25-L25)/3.92","v":5.0055415092662972E-3},{"$f":"G25*((G25*(1-G25)/H25^2)-1)","v":59.014234634982401},{"$f":"I25/G25-I25","v":1444.7842719529924},null,{"$f":"G25*0.75","v":2.9432584074485832E-2},{"$f":"G25*1.25","v":4.9054306790809715E-2},"Townsend, 2014"]
[null,"pless4bf",0.5391844997108155,"RR of HIV transmission  when preganr women breastfeed and received 1st line ART < 4 weeks","Beta",{"$f":"BETAINV(RAND(),I26,J26)","v":0.49960996494430959},{"$f":"(33/133)/(52/113)","v":0.5391844997108155},{"$f":"(M26-L26)/3.92","v":6.877353312637953E-2},{"$f":"G26*((G26*(1-G26)/H26^2)-1)","v":27.785116714864081},{"$f":"I26/G26-I26","v":23.746625628927816},null,{"$f":"G26*0.75","v":0.40438837478311163},{"$f":"G26*1.25","v":0.67398062463851938},"Dabis, 1999"]
[null,"phivneg",{"$f":"G27","v":0},"odds of HIV transmission when pregnant woman is HIV-",null,0,0]
[null,"sens",1,"sensitivity",null,1,1,{"$f":"(M28-L28)/3.92","v":1.2755102040816339E-2},{"$f":"G28*((G28*(1-G28)/H28^2)-1)","v":-1},{"$f":"I28/G28-I28","v":0},null,0.95,1,"Literature review, SLH expert consultation"]
[null,"spec",1,"specificity",null,1,1,{"$f":"(M29-L29)/3.92","v":1.2755102040816339E-2},{"$f":"G29*((G29*(1-G29)/H29^2)-1)","v":-1},{"$f":"I29/G29-I29","v":0},null,0.95,1,"Literature review, SLH expert consultation"]
[]
[null,"Compliance "]
[null,"acceptsq",{"$f":"G32","v":0.95},"acceptance to VTP by policy sq",null,null,0.95,null,null,null,null,null,null,"assumption ","Acceptance to outpatient HIV ART regimen is considered as crtical step"]
[null,"acceptucsnp",{"$f":"G33","v":0.95},"acceptance to VTP by policy ucsnp",null,null,0.95,null,null,null,null,null,null,"assumption "]
[null,"acceptundnp",0.95,"acceptance to VTP by policy urcsnp",null,null,0.95,null,null,null,null,null,null,"assumption "]
[null,"accepturcsnp",0.95,"acceptance to VTP by policy ucsnpsf",null,null,0.95,null,null,null,null,null,null,"assumption "]
[null,"acceptucsnpsf",0.95,"acceptance to VTP by policy urcsnpsf",null,null,0.95,null,null,null,null,null,null,"assumption "]
[null,"accepturndnp",0.95,"acceptance to VTP by policy undnp",null,null,0.95,null,null,null,null,null,null,"assumption "]
[null,"acceptundnpsf",0.95,"acceptance to VTP by policy urndnp",null,null,0.95,null,null,null,null,null,null,"assumption "]
[null,"accepturcsnpsf",0.95,"acceptance to VTP by policy undnpsf",null,null,0.95,null,null,null,null,null,null,"assumption "]
[null,"accepturndnpsf",0.95,"acceptance to VTP by policy urndnpsf",null,null,0.95,null,null,null,null,null,null,"assumption "]
[null,"acceptHIV",0.99,"acceptance to HIV test",null,null,0.99,null,null,null,null,null,null,"assumption "]
[]
[null,"Costs"]
[null,"reqHIVtestcost",{"$f":"IF($D$4=1,G44,F44)","v":566.66999999999996},"HIV test session during ANC for HIV- result","Gamma",{"$f":"GAMMAINV(RAND(),I44,J44)","v":547.73250645652433},{"$f":"hivnegtest","v":566.66999999999996},566.66666666666697,{"$f":"(G44/H44)^2","v":1.0000117647404831},{"$f":"(H44^2)/G44","v":566.66333335294178},null,null,null,"PPMP, 2018, SLH expert consultation","ABC calculation - see cost computation worksheet"]
[null,"allHIVtestcost",1920.8333333333335,"HIV test session during ANC for HIV+ result","Gamma",{"$f":"GAMMAINV(RAND(),I45,J45)","v":377.11316242031415},{"$f":"hivpostest","v":1920.8333333333335},1920.8333333333301,{"$f":"(G45/H45)^2","v":1.0000000000000036},{"$f":"(H45^2)/G45","v":1920.8333333333267},null,null,null,"PPMP, 2018, SLH expert consultation","ABC calculation - see cost computation worksheet"]
[null,"outhivcost",3918.889333333334,"Outpatient HIV/AIDS treatment cost","Gamma",{"$f":"GAMMAINV(RAND(),I46,J46)","v":890.1236455760893},{"$f":"artcost","v":3918.889333333334},4048.4933999999998,0.93699900075588494,4182.3836846911618,null,null,null,"PPMP, 2018, SLH expert consultation","Weighted duration with ANC visits - see cost computation worksheet"]
[null,"ndcost",{"$f":"G47","v":0},"Normal delivery",null,null,0,0,null,null,null,null,null,"PhilHealth Case Rate Circular 25 s 2015"]
[null,"lifecost",542974.1822178018,"Lifetime pediatric HIV treatment cost","Gamma",{"$f":"GAMMAINV(RAND(),I48,J48)","v":380456.27755185543},{"$f":"'Lifetime HIV Markov'!$G$4","v":542974.1822178018},{"$f":"'Lifetime HIV Markov'!$G$4","v":542974.1822178018},1,542974.1822178018,null,null,null,"Collins, 2017","assumption that all HIV+ newborn will borne the same cost"]
[null,"npcost",156.55000000000001,"Provision of neonatal prophylaxis","Gamma",566.99055478285675,{"$f":"'Cost computations'!$B$40","v":156.55000000000001},156.55000000000001,1,156.55000000000001,null,null,null,"WHO Simplified infant dosing","15mg once daily"]
[null,"sfcost",3798.3114674586955,"Provision of substitute feeding","Gamma",494.56608422917083,{"$f":"feedcost","v":3798.3114674586955},3798.3114674586955,1,3798.3114674586955,null,null,null,"Sobel, 2012","Weighted cost based on household income - see cost computation worksheet"]
[null,"cscost",19000,"Cesarean section delivery","Gamma",10082.865013737326,{"$f":"19000","v":19000},19000,1,19000,null,null,null,"PhilHealth Case Rate Circular 25 s 2015"]
[null,"rcost",15557.749292740251,"addition of raltegravir therapy","Gamma",18589.744130994477,{"$f":"ralcost","v":15557.749292740251},24654.42,0.39820247697767719,39069.946050617873,null,null,null,"HITAP report","see cost computation worksheet"]
[null,"vltest",2658.3333333333335,"Viral load count test (1 - birth)","Gamma",4207.0815429249833,{"$f":"'Cost computations'!$B$24","v":2658.3333333333335},2658.3333333333298,1.0000000000000027,2658.3333333333262,null,null,null,"PPMP, 2018, SLH expert consultation","see cost computation worksheet"]
[null,"cd4test",931.03349841269846,"CD4+ test (x1 - start of ART)","Gamma",2871.8209242739254,{"$f":"'Cost computations'!$B$19","v":931.03349841269846},931.03349841269801,1.0000000000000009,931.03349841269755,null,null,null,"PPMP, 2018, SLH expert consultation","weighted cost - see cost computation worksheet"]
[]
[null,"Utilities"]
[null,"utility",0.83,"Utility of HIV infection with HAART","Beta",{"$f":"BETAINV(RAND(),I57,J57)","v":0.69901311324104598},0.83,{"$f":"(M57-L57)/3.92","v":0.14030612244897961},{"$f":"G57*((G57*(1-G57)/H57^2)-1)","v":5.1191081097520659},{"$f":"I57/G57-I57","v":1.0484920224793388},null,0.45,1,"Sanders, 2005"]
[null,"qwohiv",{"$f":"G58","v":28.309677443975772},"quality-adjusted life-years of infant without HIV",null,null,{"$f":"'Lifetime HIV Markov'!$F$5","v":28.309677443975772},null,null,null,null,null,null,null,"Markov Model"]
[null,"qwhiv",{"$f":"G59","v":6.179983883985118},"quality-adjusted life-years of infant with HIV",null,null,{"$f":"'Lifetime HIV Markov'!$F$4","v":6.179983883985118},null,null,null,null,null,null,null,"Markov model"]
[]
[null,"Others"]
[null,"drate",0.03,"discount rate for costs and outcomes",null,null,0.03,null,null,null,null,null,null,"Draft PH Methods Guide"]

{"sheet":"Transmission probabilities","index":4,"n_rows":21,"n_cols":18,"rows_kept":21,"cut":false,"hidden":false,"merged":[[2,1,2,3]]}
[]
[null,null,null,null,null,"Provision of ART regimen","Relative Risk for early ART","Aggressive treatment (+RAL) on late ANC in HIV+ pregnant screened","Relative Risk for late ART","Mode of delivery","Relative Risk for mode of delivery","Provision of neonatal prophylaxis among HIV+ pregnant screened","Probability of transmission","Transmission prenatal to delivery","Provision of substitute feeding for infant among HIV+ pregnant screened","Transmission postnatal","Probability of transmission","Total"]
[null,"NO INTERVENTION",null,null,"baseline","none",1,"none",null,"normal delivery",1,null,null,{"$f":"base*G3","v":0.1891891891891892},"none",1,{"$f":"breastfeed*P3","v":0.16200000000000001},{"$f":"Q3+N3","v":0.35118918918918918}]
["SQ","Early ART","Cesarean Section","Breastfeeding","early","yes",{"$f":"pmore4","v":0.20125000000000001},"none",null,"cesarean section",{"$f":"pdelmore4*pcs","v":1.4063026450440363E-2},"none",null,{"$f":"base*G4*K4","v":5.3544023005561798E-4},"none",0,0,{"$f":"Q4+N4","v":5.3544023005561798E-4}]
[null,"Late ART","Cesarean Section","Breastfeeding","late","none",null,"none",{"$f":"pless4","v":0.53311258278145701},"cesarean section",{"$f":"pcs","v":0.35835351089588374},"none",null,{"$f":"base*I5*K5","v":3.6143225951285218E-2},"none",{"$f":"pless4bf","v":0.5391844997108155},8.7347888953152111E-2,0.12349111490443733]
["UCSNP","Early ART","Normal Delivery","Breastfeeding","early","yes",{"$f":"pmore4","v":0.20125000000000001},"none",null,"normal delivery",{"$f":"pdelmore4","v":3.9243445432647774E-2},"yes",null,{"$f":"base*G6*K6","v":1.4941676690065557E-3},"none",0,0,1.4941676690065557E-3]
[null,"Late ART","Cesarean Section","Breastfeeding","late","none",null,"none",{"$f":"pless4","v":0.53311258278145701},"cesarean section",{"$f":"pcs","v":0.35835351089588374},"yes",null,{"$f":"base*I7*K7","v":3.6143225951285218E-2},"none",{"$f":"pless4bf","v":0.5391844997108155},8.7347888953152111E-2,0.12349111490443733]
["UNDNP","Early ART","Normal Delivery","Breastfeeding","early","yes",{"$f":"pmore4","v":0.20125000000000001},"none",null,"normal delivery",{"$f":"pdelmore4","v":3.9243445432647774E-2},"yes",null,{"$f":"base*G8*K8","v":1.4941676690065557E-3},"none",0,0,1.4941676690065557E-3]
[null,"Late ART","Normal Delivery","Breastfeeding","late","none",null,"none",{"$f":"pless4","v":0.53311258278145701},"normal delivery",1,"yes",null,{"$f":"base*I9*K9","v":0.10085913728297836},"none",{"$f":"pless4bf","v":0.5391844997108155},8.7347888953152111E-2,0.18820702623613048]
["URCSNP","Early ART","Normal Delivery","Breastfeeding","early","yes",{"$f":"pmore4","v":0.20125000000000001},"none",null,"normal delivery",{"$f":"pdelmore4","v":3.9243445432647774E-2},"yes",null,{"$f":"base*G10*K10","v":1.4941676690065557E-3},"none",0,0,1.4941676690065557E-3]
[null,"Late ART + RAL","Cesarean Section","Breastfeeding","late","none",null,"yes",{"$f":"pless4r","v":0.27153442246933296},"cesarean section",{"$f":"pcs","v":0.35835351089588374},"yes",null,{"$f":"base*I11*K11","v":1.8409113387751384E-2},"none",{"$f":"pless4bf","v":0.5391844997108155},8.7347888953152111E-2,0.10575700234090349]
["UCSNPSF","Early ART","Normal Delivery","Breastfeeding","early","yes",{"$f":"pmore4","v":0.20125000000000001},"none",null,"normal delivery",{"$f":"pdelmore4","v":3.9243445432647774E-2},"yes",null,{"$f":"base*G12*K12","v":1.4941676690065557E-3},"yes",0,0,1.4941676690065557E-3]
[null,"Late ART","Cesarean Section","Substitute feeding","late","none",null,"none",{"$f":"pless4","v":0.53311258278145701},"cesarean section",{"$f":"pcs","v":0.35835351089588374},"yes",null,{"$f":"base*I13*K13","v":3.6143225951285218E-2},"yes",0,0,3.6143225951285218E-2]
["URNDNP","Early ART","Normal Delivery","Breastfeeding","early","yes",{"$f":"pmore4","v":0.20125000000000001},"none",null,"normal delivery",{"$f":"pdelmore4","v":3.9243445432647774E-2},"yes",null,{"$f":"base*G14*K14","v":1.4941676690065557E-3},"none",0,0,1.4941676690065557E-3]
[null,"Late ART + RAL","Normal Delivery","Breastfeeding","late","none",null,"yes",{"$f":"pless4r","v":0.27153442246933296},"normal delivery",{"$f":"pcs","v":0.35835351089588374},"yes",null,{"$f":"base*I15*K15","v":1.8409113387751384E-2},"none",{"$f":"pless4bf","v":0.5391844997108155},8.7347888953152111E-2,0.10575700234090349]
["UNDNPSF","Early ART","Normal Delivery","Breastfeeding","early","yes",{"$f":"pmore4","v":0.20125000000000001},"none",null,"normal delivery",{"$f":"pdelmore4","v":3.9243445432647774E-2},"yes",null,{"$f":"base*G16*K16","v":1.4941676690065557E-3},"yes",0,0,1.4941676690065557E-3]
[null,"Late ART","Normal Delivery","Substitute feeding","late","none",null,"none",{"$f":"pless4","v":0.53311258278145701},"normal delivery",1,"yes",null,{"$f":"base*I17*K17","v":0.10085913728297836},"yes",0,0,0.10085913728297836]
["URCSNPSF","Early ART","Normal Delivery","Breastfeeding","early","yes",{"$f":"pmore4","v":0.20125000000000001},"none",null,"normal delivery",{"$f":"pdelmore4","v":3.9243445432647774E-2},"yes",null,{"$f":"base*G18*K18","v":1.4941676690065557E-3},"yes",0,0,1.4941676690065557E-3]
[null,"Late ART + RAL","Cesarean Section","Substitute feeding","late","none",null,"yes",{"$f":"pless4r","v":0.27153442246933296},"cesarean section",{"$f":"pcs","v":0.35835351089588374},"yes",null,{"$f":"base*I19*K19","v":1.8409113387751384E-2},"yes",0,0,1.8409113387751384E-2]
["URNDNPSF","Early ART","Normal Delivery","Breastfeeding","early","yes",{"$f":"pmore4","v":0.20125000000000001},"none",null,"normal delivery",{"$f":"pdelmore4","v":3.9243445432647774E-2},"yes",null,{"$f":"base*G20*K20","v":1.4941676690065557E-3},"yes",0,0,1.4941676690065557E-3]
[null,"Late ART + RAL","Normal Delivery","Substitute feeding","late","none",null,"yes",{"$f":"pless4r","v":0.27153442246933296},"normal delivery",{"$f":"pcs","v":0.35835351089588374},"yes",null,{"$f":"base*I21*K21","v":1.8409113387751384E-2},"yes",0,0,1.8409113387751384E-2]

{"sheet":"Probabilities summary","index":5,"n_rows":12,"n_cols":19,"rows_kept":12,"cut":false,"hidden":false,"merged":[[2,2,2,4]]}
[]
[null,null,null,null,null,null,"Provision of ART regimen","Relative Risk for early ART","Aggressive treatment (+RAL) on late ANC in HIV+ pregnant screened","Relative Risk for late ART","Mode of delivery","Relative Risk for mode of delivery","Provision of neonatal prophylaxis among HIV+ pregnant screened","Probability of transmission","Transmission prenatal to delivery","Provision of substitute feeding for infant among HIV+ pregnant screened","Transmission postnatal","Transmission postnatal","Total"]
[null,null,"NO INTERVENTION",null,null,"baseline","none",1,"none",null,"normal delivery",1,null,null,{"$f":"base*H3","v":0.1891891891891892},"none",1,{"$f":"breastfeed*Q3","v":0.16200000000000001},{"$f":"R3+O3","v":0.35118918918918918}]
[null,null,"Late ART","Normal Delivery","Breastfeeding","late","none",null,"none",{"$f":"pless4","v":0.53311258278145701},"normal delivery",1,"yes",null,{"$f":"base*J4*L4","v":0.10085913728297836},"none",{"$f":"pless4bf","v":0.5391844997108155},8.7347888953152111E-2,{"$f":"R4+O4","v":0.18820702623613048}]
[null,null,"Late ART","Cesarean Section","Breastfeeding","late","none",null,"none",{"$f":"pless4","v":0.53311258278145701},"cesarean section",{"$f":"pcs","v":0.35835351089588374},"none",null,3.6143225951285218E-2,"none",{"$f":"pless4bf","v":0.5391844997108155},8.7347888953152111E-2,{"$f":"R5+O5","v":0.12349111490443733}]
[null,null,"Late ART","Normal Delivery","Substitute feeding","late","none",null,"none",{"$f":"pless4","v":0.53311258278145701},"normal delivery",1,"yes",null,0.10085913728297836,"yes",0,0,{"$f":"R6+O6","v":0.10085913728297836}]
[null,null,"Late ART + RAL","Cesarean Section","Breastfeeding","late","none",null,"yes",{"$f":"pless4r","v":0.27153442246933296},"cesarean section",{"$f":"pcs","v":0.35835351089588374},"yes",null,1.8409113387751384E-2,"none",{"$f":"pless4bf","v":0.5391844997108155},8.7347888953152111E-2,0.10575700234090349]
[null,null,"Late ART + RAL","Normal Delivery","Breastfeeding","late","none",null,"yes",{"$f":"pless4r","v":0.27153442246933296},"normal delivery",{"$f":"pcs","v":0.35835351089588374},"yes",null,1.8409113387751384E-2,"none",{"$f":"pless4bf","v":0.5391844997108155},8.7347888953152111E-2,0.10575700234090349]
[null,null,"Late ART","Cesarean Section","Substitute feeding","late","none",null,"none",{"$f":"pless4","v":0.53311258278145701},"cesarean section",{"$f":"pcs","v":0.35835351089588374},"yes",null,3.6143225951285218E-2,"yes",0,0,3.6143225951285218E-2]
[null,null,"Late ART + RAL","Cesarean Section","Substitute feeding","late","none",null,"yes",{"$f":"pless4r","v":0.27153442246933296},"cesarean section",{"$f":"pcs","v":0.35835351089588374},"yes",null,1.8409113387751384E-2,"yes",0,0,1.8409113387751384E-2]
[null,null,"Late ART + RAL","Normal Delivery","Substitute feeding","late","none",null,"yes",{"$f":"pless4r","v":0.27153442246933296},"normal delivery",{"$f":"pcs","v":0.35835351089588374},"yes",null,1.8409113387751384E-2,"yes",0,0,1.8409113387751384E-2]
["SQ",null,"Early ART","Normal Delivery","Breastfeeding","early","yes",{"$f":"pmore4","v":0.20125000000000001},"none",null,"normal delivery",{"$f":"pdelmore4","v":3.9243445432647774E-2},"none",null,{"$f":"base*H12*L12","v":1.4941676690065557E-3},"none",0,0,{"$f":"R12+O12","v":1.4941676690065557E-3}]

{"sheet":"Cost computations","index":6,"n_rows":85,"n_cols":7,"rows_kept":85,"cut":false,"hidden":false,"merged":[]}
[null,null,"Intervention","Description","Source"]
["Human Resource"]
[null,10000,"Salary of Global Fund Case Manager per month","Visit facility 2-3x per week or 8-12 per month","SLH Consultation"]
[null,{"$f":"B3/12","v":833.33333333333337},null,"minimum daily rate of case managers"]
[]
["HIV Test kit"]
[null,{"$f":"75000000/1500000","v":50},"HIV ScreeningRapid Diagnostic Test","Test 1 of rHIVda algorithm","2018 PPMP"]
[null,{"$f":"2500000/25000","v":100},"rHIVda Confirmatory Rapid Diagnostic Test","Test 2 of rHIVda algorithm","2018 PPMP"]
[null,{"$f":"31250000/25000","v":1250},"rHIVda Re-Confirmatory/Differentiation Test","Test 3 of rHIVda algorithm","2018 PPMP"]
["TOTAL",{"$f":"B7+B8","v":150},null,"for screening only"]
[null,{"$f":"B9+B8+B7","v":1400},null,"for screening + confirmatory"]
[]
["CD4 test",null,null,null,null,"Number of Facilities Available"]
[null,{"$f":"1289378.2/18/50","v":1432.6424444444442},"CD4 BD FACS Count","CD4 reagents compatible with BD FACS Count machine, 50 test per kit","2018 PPMP",1,"STI-HIV Program"]
[null,{"$f":"13680000/144/100","v":950},"CD4 BD FACS Presto","CD4 cartridge compatible with BD FACS Presto machine, 100 test per kit","2018 PPMP",20,"STI-HIV Program"]
[null,{"$f":"7410000/78/100","v":950},"CD4 PIMA","CD4 cartridge compatible with PIMA Machine, 100 tests per kit","2018 PPMP",10,"STI-HIV Program"]
[null,{"$f":"1990147.5/30/100","v":663.38250000000005},"CD4 CyFlow_SL3","CD4 reagents and other consumables compatible with CyFlow_SL3 machine, 100 test per kit","2018 PPMP",4,"STI-HIV Program"]
[null,{"$f":"2680000/20/50","v":2680},"CD4 FACSVIA","CD4 reagents compatible with FACSVIA machine, 50 tests per kit","2018 PPMP",0,"STI-HIV Program"]
["WEIGHTED AVERAGE",{"$f":"(B14*F14+B15*F15+B16*F16+B17*F17+B18*F18)/SUM(F14:F18)","v":931.03349841269846},null,null,null,{"$f":"SUM(F14:F18)","v":35}]
[]
["Viral Load Test"]
[null,{"$f":"40194000/315/48","v":2658.3333333333335},"Viral Load SACCL","National Reference Laboratory HIV Viral Load Reagents","2018 PPMP"]
[null,{"$f":"18750000/7500","v":2500},"Viral Load Point of Care","Point of Care Viral Load Reagents","2018 PPMP"]
["TOTAL",{"$f":"40194000/315/48","v":2658.3333333333335}]
[]
["Antiretrovirals"]
["MOST COMMON REGIMEN",{"$f":"563.75/30","v":18.791666666666668},"3TC/TDF/EFV","Php563.75/bottle","STI-HIV Program"]
[null,{"$f":"453.75/60","v":7.5625},"3TC/AZT","Php453.75/bottle","STI-HIV Program"]
[null,{"$f":"309.65/30","v":10.321666666666665},"3TC/TDF","Php309.65/bottle","STI-HIV Program"]
[null,{"$f":"349.53/60","v":5.8254999999999999},"AZT","Php349.53/bottle","STI-HIV Program"]
[null,{"$f":"115.5/60","v":1.925},"3TC","Php115.50/bottle","STI-HIV Program"]
[null,{"$f":"104/60","v":1.7333333333333334},"NVP","Php104.00/bottle","STI-HIV Program"]
[null,{"$f":"270.05/30","v":9.0016666666666669},"EFV 600mg","Php270.05/bottle","STI-HIV Program"]
[null,{"$f":"215.13/90","v":2.3903333333333334},"EFV 200mg","Php215.13/bottle","STI-HIV Program"]
[null,{"$f":"187/30","v":6.2333333333333334},"TDF","PHp187.00/bottle","STI-HIV Program"]
[null,{"$f":"923.97/60","v":15.3995},"ABC","Php923.97/bottle","STI-HIV Program"]
[null,{"$f":"1732.5/120","v":14.4375},"LPV/r","Php1,732.50/bottle","STI-HIV Program"]
[null,130,"AZT Oral Suspension 50mg/5ml (240ml)","Php130.00/bottle","STI-HIV Program"]
[null,104.71,"3TC Oral Suspension 10mg/ml (240ml)","Php104.71/bottle","STI-HIV Program"]
[null,156.55000000000001,"NVP Oral Suspension 50mg/5ml (240ml)","Php156.55/bottle","STI-HIV Program"]
[]
[]
["ART regimen cost"]
["Pregnancy length when starting ART","Weeks on therapy","days","%","Weighted days","Minimum weeks pregnant before first visit"]
["less than 4 months",{"$f":"38-F45","v":34},{"$f":"B45*7","v":238},0.72699999999999998,{"$f":"C45*D45","v":173.02599999999998},4]
["4 to 5 months",{"$f":"38-F46","v":22},{"$f":"B46*7","v":154},0.20699999999999999,{"$f":"C46*D46","v":31.878},16]
["6 to 7 months",{"$f":"38-F47","v":14},{"$f":"B47*7","v":98},3.5000000000000003E-2,{"$f":"C47*D47","v":3.43},24]
["at least 8 months",{"$f":"38-F48","v":6},{"$f":"B48*7","v":42},5.0000000000000001E-3,{"$f":"C48*D48","v":0.21},32]
[]
["Weighted days of therapy",null,null,null,{"$f":"SUM(E45:E48)","v":208.54400000000001}]
["TOTAL",null,null,{"$f":"E50*B27","v":3918.889333333334}]
[]
["Substitute feeding",null,null,"cost of annual infant formula in 2003 (USD)","Sobel, 2012"]
[null,1551129,"Families with <$2 capita per day",36.71]
[null,{"$f":"3227052-B54","v":1675923},"Families with >$2 capita per day",106.56]
["Weighted annual cost",null,null,{"$f":"(D54*B54+D55*B55)/(B54+B55)","v":72.985591948936673}]
["Adjusted weighted annual cost",null,null,{"$f":"D56*('Formula sheet'!AG8/'Formula sheet'!Y15)*'Lifetime HIV Markov'!C71","v":3798.3114674586955}]
[]
["Raltegravir",172.65,null,{"$f":"'Cost computations'!B59/'Lifetime HIV Markov'!C74*('Lifetime HIV Markov'!C75/'Lifetime HIV Markov'!C76)*'Lifetime HIV Markov'!C71","v":277.8169516560759},{"$f":"D59*4*7*2","v":15557.749292740251}]
[]
[]
[]
["HIV test session during ANC of HIV-",null,null,{"$f":"D64+D65*(C66+C67)/8","v":566.66666666666674}]
[null,"Testing kit",null,{"$f":"'Cost computations'!B10","v":150}]
[null,"Human resource cost",null,{"$f":"'Cost computations'!B4","v":833.33333333333337},null,"minimum daily rate based on Global Fund Case managers"]
[null,"Counselling (pre-test) in hrs",3,null,null,"2 to 3 hrs"]
[null,"Counselling (post-test) in hrs",1,null,null,"0.5 to 1 hr"]
[]
[]
["HIV test session during ANC of HIV+",null,null,{"$f":"D71+D72*(C73+C74)/8","v":1920.8333333333335}]
[null,"Testing kit",null,{"$f":"'Cost computations'!B11","v":1400}]
[null,"Human resource cost",null,{"$f":"'Cost computations'!B4","v":833.33333333333337},null,"daily rate based on Global Fund Case managers"]
[null,"Counselling (pre-test) in hrs",3,null,null,"2 to 3 hrs"]
[null,"Counselling (post-test) in hrs",2,null,null,"0.5 to 1 hr"]
[]
["Vertical transmission program"]
[null,"antiretroviral therapy",null,{"$f":"D51","v":3918.889333333334},"18.79 each tablet","71% have first ANC on 1st trimester, 26% on 2nd or 3rd trimester"]
[null,"viral load test",null,{"$f":"'Cost computations'!B22","v":2658.3333333333335}]
[null,"CD4 cell count",null,931.03349841269846]
[]
[]
["Lifetime pediatric HIV treatment cost",null,null,{"$f":"'Lifetime HIV cost'!G18","v":542974.1822178018}]
[]
[]
["Outpatient HIV treatment cost",null,null,{"$f":"E50*B27","v":3918.889333333334}]

{"sheet":"Lifetime HIV Markov","index":7,"n_rows":96,"n_cols":7,"rows_kept":96,"cut":false,"hidden":false,"merged":[]}
[null,"Simple markov model for lifetime HIV+/- patient"]
[null,null,null,"Analysis"]
[null,null,null,null,"Undiscounted life years","Discounted QALY","Discounted costs"]
[null,null,null,"Borne with HIV",{"$f":"'Life years with HIV'!G19","v":8.9863097354257828},{"$f":"'Life years with HIV'!K19","v":6.179983883985118},{"$f":"'Lifetime HIV cost'!G18","v":542974.1822178018}]
[null,null,null,"Borne without HIV",{"$f":"'Life years without HIV'!G102","v":70.814756530079052},{"$f":"'Life years borne without HIV'!K102","v":28.309677443975772},0]
[]
[]
[]
[]
[null,null,"Value","Source","Comment"]
[null,"Utility"]
[null,"Utility of a healthy person using Filipino value set (11111)",1,"Lam, 2018"]
[null,"Utility of HIV infection with HAART",{"$f":"utility","v":0.83},"Sanders, 2005"]
[]
[null,"Life expectancy"]
[null,"Life expectancy of healthy person in the Philippines",69.09,"World Bank, 2016"]
[null,"Life expectancy of HIV+ infant with treatment",15,"Soorapanth, 2006","No data available from DOH-EB"]
[null,"Life expectancy of HIV+ infant without treatment",2,"Soorapanth, 2006","No data available from DOH-EB"]
[]
[null,"Transitional probabilities for mortality"]
[null,"Annual death probability of HIV+infant from <1 years",{"$f":"1-EXP(-'Formula sheet'!$D$2)","v":0.166565713609377},"Davies, 2014"]
[null,"Annual death probability of HIV+infant from 1 year",{"$f":"1-EXP(-'Formula sheet'!$D$3)","v":0.13645704356711907},"Davies, 2014"]
[null,"Annual death probability of HIV+infant from 2-4 years",{"$f":"1-EXP(-'Formula sheet'!$D$4)","v":5.5204828013800555E-2},"Davies, 2014"]
[null,"Annual death probability of HIV+infant from 5-10 years",{"$f":"1-EXP(-'Formula sheet'!$D$5)","v":3.7883509891454836E-2},"Davies, 2014"]
[null,"Annual death probability of HIV+infant from 11-15 years",{"$f":"1-EXP(-'Formula sheet'!$D$6)","v":1.2915864979712421E-2},"Walker, 2012","with good HIV prognosis"]
[null,"Annual death probability for Age <1",{"$f":"1-EXP(-'Formula sheet'!$D$11)","v":1.0096837622326937E-2},"WHO, 2016","PH Life Table"]
[null,"Annual death probability for Age 1-4",{"$f":"1-EXP(-'Formula sheet'!$D$12)","v":1.0987911082522839E-3},"WHO, 2016","PH Life Table"]
[null,"Annual death probability for Age 5-9",{"$f":"1-EXP(-'Formula sheet'!$D$13)","v":3.9984005331727968E-4},"WHO, 2016","PH Life Table"]
[null,"Annual death probability for Age 10-14",{"$f":"1-EXP(-'Formula sheet'!$D$14)","v":3.9984005331727968E-4},"WHO, 2016","PH Life Table"]
[null,"Annual death probability Age 15-19",{"$f":"1-EXP(-'Formula sheet'!$D$15)","v":6.9951028568338014E-4},"WHO, 2016","PH Life Table"]
[null,"Annual death probability Age 20-24",{"$f":"1-EXP(-'Formula sheet'!$D$16)","v":1.1985614387051147E-3},"WHO, 2016","PH Life Table"]
[null,"Annual death probability Age 25-29",{"$f":"1-EXP(-'Formula sheet'!$D$17)","v":1.4977528093391701E-3},"WHO, 2016","PH Life Table"]
[null,"Annual death probability Age 30-34",{"$f":"1-EXP(-'Formula sheet'!$D$18)","v":1.9960066566805379E-3},"WHO, 2016","PH Life Table"]
[null,"Annual death probability 35-39",{"$f":"1-EXP(-'Formula sheet'!$D$19)","v":2.5932546181570704E-3},"WHO, 2016","PH Life Table"]
[null,"Annual death probability 40-44",{"$f":"1-EXP(-'Formula sheet'!$D$20)","v":3.5870787752854127E-3},"WHO, 2016","PH Life Table"]
[null,"Annual death probability 45-49",{"$f":"1-EXP(-'Formula sheet'!$D$21)","v":5.2720335728175804E-3},"WHO, 2016","PH Life Table"]
[null,"Annual death probability 50-54",{"$f":"1-EXP(-'Formula sheet'!$D$22)","v":7.7395531590068734E-3},"WHO, 2016","PH Life Table"]
[null,"Annual death probability 55-59",{"$f":"1-EXP(-'Formula sheet'!$D$23)","v":1.1759781868410424E-2},"WHO, 2016","PH Life Table"]
[null,"Annual death probability 60-64",{"$f":"1-EXP(-'Formula sheet'!$D$24)","v":1.9029637133310962E-2},"WHO, 2016","PH Life Table"]
[null,"Annual death probability 65-69",{"$f":"1-EXP(-'Formula sheet'!$D$25)","v":2.9498729291051795E-2},"WHO, 2016","PH Life Table"]
[null,"Annual death probability >70",{"$f":"1-EXP(-'Formula sheet'!$D$26)","v":6.69373947780183E-2},"WHO, 2016","PH Life Table"]
[]
[null,"Cost (adjusted)",null,"Turner, 2019"]
[]
[null,"Cost of HIV diagnosis per test"]
[null,"Early infant HIV diagnosis using DNA PCR and dried blood spots ",{"$f":"'Formula sheet'!N6","v":2950.6020814742969},"Collins, 2014","once only"]
[null,"HIV rapid test by serology",{"$f":"'Formula sheet'!N7","v":51.638118331716782},"Collins, 2014","once only"]
[null,"Mean cost of antiretroviral drugs per child per year"]
[null,"Mean cost during the first five years of therapy (includes first and second line therapy)",{"$f":"'Formula sheet'!N9","v":37861.068360814745},"Collins, 2014","year 1 to 5"]
[null,"Mean cost after five years of therapy (includes first and second line therapy)",{"$f":"'Formula sheet'!N10","v":53476.435344325895},"Collins, 2014","Year 6 to 10"]
[null,"Third line ART",{"$f":"'Formula sheet'!N11","v":91895.195383123195},"Collins, 2014","year 11 to 15"]
[null,"Laboratory monitoring on ART",{"$f":"'Formula sheet'!N12","v":16166.862087293888},"Collins, 2014","year 1 to 15"]
[null,"Hospitalization in disease stage A or B",{"$f":"'Formula sheet'!N13","v":12704.492445801525},"Collins, 2014","year 6, 8, 10"]
[null,"Hospitalization in disease stage C",{"$f":"'Formula sheet'!N14","v":21939.484946564884},"Collins, 2014","year 11-15"]
[null,"Hospitalization after first year of ART (all disease states)",{"$f":"'Formula sheet'!N15","v":2653.1470167938933},"Collins, 2014","year 2 to 15"]
[]
[]
[null,"year1cost",{"$f":"C46+C47+C49+C52","v":57030.170647914652}]
[null,"year2cost",{"$f":"C49+C52+C55","v":56681.077464902526}]
[null,"year3cost",{"$f":"C49+C52+C55","v":56681.077464902526}]
[null,"year4cost",{"$f":"C49+C52+C55","v":56681.077464902526}]
[null,"year5cost",{"$f":"C49+C52+C55","v":56681.077464902526}]
[null,"year6cost",{"$f":"C50+C53+C52+C55","v":85000.936894215207},{"$f":"SUM(C63:C68)","v":532250.38901324885}]
[null,"year7cost",{"$f":"C50+C52+C55","v":72296.444448413677}]
[null,"year8cost",{"$f":"C50+C52+C53+C55","v":85000.936894215207}]
[null,"year9cost",{"$f":"C50+C52+C55","v":72296.444448413677}]
[null,"year10cost",{"$f":"C50+C52+C53+C55","v":85000.936894215207}]
[null,"year11to15cost",{"$f":"C51+C52+C54+C55","v":132654.68943377587}]
[]
[null,"Exchange rates"]
[null,"IMF Exchange rate August 15, 2019 for 1 USD",52.195,"IMF"]
[null,"IMF Exchange rate December 29, 2011 for 1USD",42.927999999999997,"IMF"]
[null,"Exchange rate December 29, 2003 for 1 USD",55.587000000000003,"Pacific Exchange Rate"]
[null,"Baht Exchange rate 2018 for 1 USD",32.31,"World Bank"]
[null,"US CPI 2019",102,"IMF"]
[null,"US CPI 2018",102.4,"IMF"]
[null,"US CPI 2011",103.1,"IMF"]
[null,"US CPI 2003",102.3,"IMF"]
[null,"PH CPI 2019",103.8,"IMF"]
[null,"PH CPI 2018",105.2,"IMF"]
[null,"PH CPI 2011",104.8,"IMF"]
[null,"TH CPI 2018",101.1,"IMF"]
[]
[]
[null,"Discount rate"]
[null,"Discount rate for costs and outcomes",0.03,"Draft PH Methods Guide"]
[]
[null,"Prevalence of HIV in the Philippines"]
[]
[null,"Year","Value"]
[null,2018,363,"Epidemiology Bureau"]
[null,2019,"x","Epidemiology Bureau"]
[null,2020,491,"Epidemiology Bureau"]
[null,2021,569,"Epidemiology Bureau"]
[null,2022,653,"Epidemiology Bureau"]
[null,2023,{"$f":"281.5+72.7*6","v":717.7},"Extrapolation"]

{"sheet":"Life years without HIV","index":8,"n_rows":102,"n_cols":11,"rows_kept":102,"cut":false,"hidden":false,"merged":[]}
["years in model","Age","Total alive","Progress to death","Total death","Check","Total life years (undiscounted)","Total QALYs (undiscounted)","Discount factor","Total life years (discounted)","Total QALYs (discounted)"]
[0,0,{"$f":"1-D2","v":0.98990316237767306},{"$f":"1*'Formula sheet'!$E$11","v":1.0096837622326937E-2},{"$f":"0+D2","v":1.0096837622326937E-2},{"$f":"E2+C2","v":1},{"$f":"C2","v":0.98990316237767306},{"$f":"C2*'Lifetime HIV Markov'!$C$12","v":0.98990316237767306},{"$f":"(1+'Lifetime HIV Markov'!$C$86)^-A2","v":1},{"$f":"G2*$I2","v":0.98990316237767306},{"$f":"H2*$I2","v":0.98990316237767306}]
[{"$f":"A2+1","v":1},{"$f":"B2+1","v":1},{"$f":"C2-D3","v":0.9888154655848217},{"$f":"C2*'Formula sheet'!$E$12","v":1.0876967928514039E-3},{"$f":"E2+D3","v":1.1184534415178341E-2},{"$f":"E3+C3","v":1},{"$f":"C3","v":0.9888154655848217},{"$f":"C3*'Lifetime HIV Markov'!$C$12","v":0.9888154655848217},{"$f":"(1+'Lifetime HIV Markov'!$C$86)^-A3","v":0.970873786407767},{"$f":"G3*$I3","v":0.96001501513089482},{"$f":"H3*$I3","v":0.96001501513089482}]
[{"$f":"A3+1","v":2},2,{"$f":"C3-D4","v":0.98772896394353471},{"$f":"C3*'Formula sheet'!$E$12","v":1.0865016412869443E-3},{"$f":"E3+D4","v":1.2271036056465285E-2},1,{"$f":"C4","v":0.98772896394353471},{"$f":"C4*'Lifetime HIV Markov'!$C$12","v":0.98772896394353471},{"$f":"(1+'Lifetime HIV Markov'!$C$86)^-A4","v":0.94259590913375435},{"$f":"G4*$I4","v":0.93102928074609737},0.93102928074609737]
[3,3,0.98664365614059035,{"$f":"C4*'Formula sheet'!$E$12","v":1.0853078029443967E-3},1.3356343859409682E-2,1,0.98664365614059035,{"$f":"C5*'Lifetime HIV Markov'!$C$12","v":0.98664365614059035},{"$f":"(1+'Lifetime HIV Markov'!$C$86)^-A5","v":0.91514165935315961},0.90291871267076806,0.90291871267076806]
[4,4,0.98555954086420949,{"$f":"C5*'Formula sheet'!$E$12","v":1.0841152763808046E-3},1.4440459135790486E-2,1,0.98555954086420949,{"$f":"C6*'Lifetime HIV Markov'!$C$12","v":0.98555954086420949},{"$f":"(1+'Lifetime HIV Markov'!$C$86)^-A6","v":0.888487047915689},0.87565688700758337,0.87565688700758337]
[5,5,0.98516547468484295,{"$f":"C6*'Formula sheet'!$E$13","v":3.9406617936649918E-4},1.4834525315156985E-2,0.99999999999999989,0.98516547468484295,{"$f":"C7*'Lifetime HIV Markov'!$C$12","v":0.98516547468484295},{"$f":"(1+'Lifetime HIV Markov'!$C$86)^-A7","v":0.86260878438416411},0.8498123925351404,0.8498123925351404]
[6,6,0.98477156606891858,{"$f":"C7*'Formula sheet'!$E$13","v":3.9390861592433074E-4},1.5228433931081316E-2,0.99999999999999989,0.98477156606891858,{"$f":"C8*'Lifetime HIV Markov'!$C$12","v":0.98477156606891858},{"$f":"(1+'Lifetime HIV Markov'!$C$86)^-A8","v":0.83748425668365445},0.82473068301242658,0.82473068301242658]
[7,7,0.98437781495343624,{"$f":"C8*'Formula sheet'!$E$13","v":3.9375111548233742E-4},1.5622185046563652E-2,0.99999999999999989,0.98437781495343624,{"$f":"C9*'Lifetime HIV Markov'!$C$12","v":0.98437781495343624},{"$f":"(1+'Lifetime HIV Markov'!$C$86)^-A9","v":0.81309151134335378},0.80038924529335775,0.80038924529335775]
[8,8,0.98398422127542096,{"$f":"C9*'Formula sheet'!$E$13","v":3.9359367801532924E-4},1.6015778724578981E-2,0.99999999999999989,0.98398422127542096,{"$f":"C10*'Lifetime HIV Markov'!$C$12","v":0.98398422127542096},{"$f":"(1+'Lifetime HIV Markov'!$C$86)^-A10","v":0.78940923431393573},0.7767662306940244,0.7767662306940244]
[9,9,0.98359078497192287,{"$f":"C10*'Formula sheet'!$E$13","v":3.9343630349812625E-4},1.6409215028077108E-2,1,0.98359078497192287,{"$f":"C11*'Lifetime HIV Markov'!$C$12","v":0.98359078497192287},{"$f":"(1+'Lifetime HIV Markov'!$C$86)^-A11","v":0.76641673234362695},0.75384043538148415,0.75384043538148415]
[10,10,0.98319750598001732,{"$f":"C11*'Formula sheet'!$E$14","v":3.9327899190555861E-4},1.6802494019982666E-2,1,0.98319750598001732,{"$f":"C12*'Lifetime HIV Markov'!$C$12","v":0.98319750598001732},{"$f":"(1+'Lifetime HIV Markov'!$C$86)^-A12","v":0.74409391489672516},0.73159128134136742,0.73159128134136742]
[11,11,0.98280438423680483,{"$f":"C12*'Formula sheet'!$E$14","v":3.9312174321246652E-4},1.7195615763195133E-2,1,0.98280438423680483,{"$f":"C13*'Lifetime HIV Markov'!$C$12","v":0.98280438423680483},{"$f":"(1+'Lifetime HIV Markov'!$C$86)^-A13","v":0.72242127659876232},0.7099987979072131,0.7099987979072131]
[12,12,0.98241141967941115,{"$f":"C13*'Formula sheet'!$E$14","v":3.9296455739370025E-4},1.7588580320588833E-2,1,0.98241141967941115,{"$f":"C14*'Lifetime HIV Markov'!$C$12","v":0.98241141967941115},{"$f":"(1+'Lifetime HIV Markov'!$C$86)^-A14","v":0.70137988019297326},0.68904360383495411,0.68904360383495411]
[13,13,0.98201861224498699,{"$f":"C14*'Formula sheet'!$E$14","v":3.9280743442412017E-4},1.7981387755012953E-2,0.99999999999999989,0.98201861224498699,{"$f":"C15*'Lifetime HIV Markov'!$C$12","v":0.98201861224498699},{"$f":"(1+'Lifetime HIV Markov'!$C$86)^-A15","v":0.68095133999317792},0.66870688990646487,0.66870688990646487]
[14,14,0.98162596187070839,{"$f":"C15*'Formula sheet'!$E$14","v":3.9265037427859659E-4},1.8374038129291548E-2,0.99999999999999989,0.98162596187070839,{"$f":"C16*'Lifetime HIV Markov'!$C$12","v":0.98162596187070839},{"$f":"(1+'Lifetime HIV Markov'!$C$86)^-A16","v":0.66111780581861923},0.64897040204655432,0.64897040204655432]
[15,15,0.98093930441368593,{"$f":"C16*'Formula sheet'!$E$15","v":6.8665745702240204E-4},1.9060695586313951E-2,0.99999999999999989,0.98093930441368593,{"$f":"C17*'Lifetime HIV Markov'!$C$12","v":0.98093930441368593},{"$f":"(1+'Lifetime HIV Markov'!$C$86)^-A17","v":0.64186194739671765},0.62962761220895003,0.62962761220895003]
[16,16,0.98025312728061742,{"$f":"C17*'Formula sheet'!$E$15","v":6.8617713306847361E-4},1.9746872719382424E-2,0.99999999999999989,0.98025312728061742,{"$f":"C18*'Lifetime HIV Markov'!$C$12","v":0.98025312728061742},{"$f":"(1+'Lifetime HIV Markov'!$C$86)^-A18","v":0.62316693922011435},0.6108613409884075,0.6108613409884075]
[17,17,0.97956743013551129,{"$f":"C18*'Formula sheet'!$E$15","v":6.8569714510609151E-4},2.0432569864488517E-2,0.99999999999999978,0.97956743013551129,{"$f":"C19*'Lifetime HIV Markov'!$C$12","v":0.97956743013551129},{"$f":"(1+'Lifetime HIV Markov'!$C$86)^-A19","v":0.60501644584477121},0.59265440504588329,0.59265440504588329]
[{"$f":"A19+1","v":18},18,0.9788822126426111,{"$f":"C19*'Formula sheet'!$E$15","v":6.8521749290022607E-4},2.1117787357388743E-2,0.99999999999999989,0.9788822126426111,{"$f":"C20*'Lifetime HIV Markov'!$C$12","v":0.9788822126426111},{"$f":"(1+'Lifetime HIV Markov'!$C$86)^-A20","v":0.5873946076162827},0.57499013319776515,0.57499013319776515]
[19,19,0.97819747446639504,{"$f":"C20*'Formula sheet'!$E$15","v":6.8473817621601211E-4},2.1802525533604754E-2,0.99999999999999978,0.97819747446639504,{"$f":"C21*'Lifetime HIV Markov'!$C$12","v":0.97819747446639504},{"$f":"(1+'Lifetime HIV Markov'!$C$86)^-A21","v":0.57028602681192497},0.55785235115089982,0.55785235115089982]
[20,20,0.97702504469406093,{"$f":"C21*'Formula sheet'!$E$16","v":1.1724297723341522E-3},2.2974955305938904E-2,0.99999999999999978,0.97702504469406093,{"$f":"C22*'Lifetime HIV Markov'!$C$12","v":0.97702504469406093},{"$f":"(1+'Lifetime HIV Markov'!$C$86)^-A22","v":0.55367575418633497},0.54095507847992186,0.54095507847992186]
[21,21,0.97585402015084144,{"$f":"C22*'Formula sheet'!$E$16","v":1.1710245432194426E-3},2.4145979849158346E-2,0.99999999999999978,0.97585402015084144,{"$f":"C23*'Lifetime HIV Markov'!$C$12","v":0.97585402015084144},{"$f":"(1+'Lifetime HIV Markov'!$C$86)^-A23","v":0.5375492759090631},0.52456962192503309,0.52456962192503309]
[22,22,0.97468439915248328,{"$f":"C23*'Formula sheet'!$E$16","v":1.1696209983581625E-3},2.5315600847516509E-2,0.99999999999999978,0.97468439915248328,{"$f":"C24*'Lifetime HIV Markov'!$C$12","v":0.97468439915248328},{"$f":"(1+'Lifetime HIV Markov'!$C$86)^-A24","v":0.52189250088258554},0.50868047864492971,0.50868047864492971]
[23,23,0.97351618001675166,{"$f":"C24*'Formula sheet'!$E$16","v":1.1682191357316307E-3},2.6483819983248141E-2,0.99999999999999978,0.97351618001675166,{"$f":"C25*'Lifetime HIV Markov'!$C$12","v":0.97351618001675166},{"$f":"(1+'Lifetime HIV Markov'!$C$86)^-A25","v":0.50669174842969467},0.49327261537728528,0.49327261537728528]
[24,24,0.97234936106342806,{"$f":"C25*'Formula sheet'!$E$16","v":1.1668189533235852E-3},2.7650638936571728E-2,0.99999999999999978,0.97234936106342806,{"$f":"C26*'Lifetime HIV Markov'!$C$12","v":0.97234936106342806},{"$f":"(1+'Lifetime HIV Markov'!$C$86)^-A26","v":0.49193373633950943},0.4783314542152669,0.4783314542152669]
[25,25,0.97089302207623618,{"$f":"C26*'Formula sheet'!$E$17","v":1.4563389871918965E-3},2.9106977923763624E-2,0.99999999999999978,0.97089302207623618,{"$f":"C27*'Lifetime HIV Markov'!$C$12","v":0.97089302207623618},{"$f":"(1+'Lifetime HIV Markov'!$C$86)^-A27","v":0.47760556926165965},0.46370391450089388,0.46370391450089388]
[26,26,0.96943886432485371,{"$f":"C27*'Formula sheet'!$E$17","v":1.4541577513824796E-3},3.0561135675146102E-2,0.99999999999999978,0.96943886432485371,{"$f":"C28*'Lifetime HIV Markov'!$C$12","v":0.96943886432485371},{"$f":"(1+'Lifetime HIV Markov'!$C$86)^-A28","v":0.46369472743850448},0.44952368996140635,0.44952368996140635]
[27,27,0.96798688454232862,{"$f":"C28*'Formula sheet'!$E$17","v":1.4519797825251243E-3},3.2013115457671229E-2,0.99999999999999989,0.96798688454232862,{"$f":"C29*'Lifetime HIV Markov'!$C$12","v":0.96798688454232862},{"$f":"(1+'Lifetime HIV Markov'!$C$86)^-A29","v":0.45018905576553836},0.43577710154553612,0.43577710154553612]
[28,28,0.96653707946660183,{"$f":"C29*'Formula sheet'!$E$17","v":1.4498050757267436E-3},3.3462920533397972E-2,0.99999999999999978,0.96653707946660183,{"$f":"C30*'Lifetime HIV Markov'!$C$12","v":0.96653707946660183},{"$f":"(1+'Lifetime HIV Markov'!$C$86)^-A30","v":0.4370767531704256},0.42245088851208795,0.42245088851208795]
[29,29,0.96508944584050027,{"$f":"C30*'Formula sheet'!$E$17","v":1.4476336261015797E-3},3.4910554159499549E-2,0.99999999999999978,0.96508944584050027,{"$f":"C31*'Lifetime HIV Markov'!$C$12","v":0.96508944584050027},{"$f":"(1+'Lifetime HIV Markov'!$C$86)^-A31","v":0.42434636230138412},0.40953219563787496,0.40953219563787496]
[30,30,0.96316312088231049,{"$f":"C31*'Formula sheet'!$E$18","v":1.92632495818977E-3},3.683687911768932E-2,0.99999999999999978,0.96316312088231049,{"$f":"C32*'Lifetime HIV Markov'!$C$12","v":0.96316312088231049},{"$f":"(1+'Lifetime HIV Markov'!$C$86)^-A32","v":0.41198675951590691},0.39681045305753082,0.39681045305753082]
[31,31,0.96124064088156014,{"$f":"C32*'Formula sheet'!$E$18","v":1.9224800007502933E-3},3.8759359118439612E-2,0.99999999999999978,0.96124064088156014,{"$f":"C33*'Lifetime HIV Markov'!$C$12","v":0.96124064088156014},{"$f":"(1+'Lifetime HIV Markov'!$C$86)^-A33","v":0.39998714516107459},0.38448389975901698,0.38448389975901698]
[32,32,0.95932199816368868,{"$f":"C33*'Formula sheet'!$E$18","v":1.9186427178714603E-3},4.0678001836311074E-2,0.99999999999999978,0.95932199816368868,{"$f":"C34*'Lifetime HIV Markov'!$C$12","v":0.95932199816368868},{"$f":"(1+'Lifetime HIV Markov'!$C$86)^-A34","v":0.38833703413696569},0.37254025954923453,0.37254025954923453]
[33,33,0.95740718506945388,{"$f":"C34*'Formula sheet'!$E$18","v":1.9148130942347973E-3},4.2592814930545869E-2,0.99999999999999978,0.95740718506945388,{"$f":"C35*'Lifetime HIV Markov'!$C$12","v":0.95740718506945388},{"$f":"(1+'Lifetime HIV Markov'!$C$86)^-A35","v":0.37702624673491814},0.36096763758377937,0.36096763758377937]
[{"$f":"A35+1","v":34},34,0.95549619395490148,{"$f":"C35*'Formula sheet'!$E$18","v":1.9109911145524057E-3},4.4503806045098272E-2,0.99999999999999978,0.95549619395490148,{"$f":"C36*'Lifetime HIV Markov'!$C$12","v":0.95549619395490148},{"$f":"(1+'Lifetime HIV Markov'!$C$86)^-A36","v":0.36604489974263904},0.34975450852069512,0.34975450852069512]
[35,35,0.95301834903729643,{"$f":"C36*'Formula sheet'!$E$19","v":2.4778449176050522E-3},4.6981650962703327E-2,0.99999999999999978,0.95301834903729643,{"$f":"C37*'Lifetime HIV Markov'!$C$12","v":0.95301834903729643},{"$f":"(1+'Lifetime HIV Markov'!$C$86)^-A37","v":0.35538339780838735},0.33868689905461408,0.33868689905461408]
[36,36,0.95054692980246702,{"$f":"C37*'Formula sheet'!$E$19","v":2.4714192348293958E-3},4.9453070197532721E-2,0.99999999999999978,0.95054692980246702,{"$f":"C38*'Lifetime HIV Markov'!$C$12","v":0.95054692980246702},{"$f":"(1+'Lifetime HIV Markov'!$C$86)^-A38","v":0.34503242505668674},0.32796951231993338,0.32796951231993338]
[37,37,0.94808191958698174,{"$f":"C38*'Formula sheet'!$E$19","v":2.4650102154852721E-3},5.1918080413017993E-2,0.99999999999999978,0.94808191958698174,{"$f":"C39*'Lifetime HIV Markov'!$C$12","v":0.94808191958698174},{"$f":"(1+'Lifetime HIV Markov'!$C$86)^-A39","v":0.33498293694823961},0.31759126589077186,0.31759126589077186]
[38,38,0.94562330177062159,{"$f":"C39*'Formula sheet'!$E$19","v":2.4586178163601606E-3},5.4376698229378156E-2,0.99999999999999978,0.94562330177062159,{"$f":"C40*'Lifetime HIV Markov'!$C$12","v":0.94562330177062159},{"$f":"(1+'Lifetime HIV Markov'!$C$86)^-A40","v":0.3252261523769317},0.30754142803282947,0.30754142803282947]
[39,39,0.94317105977626803,{"$f":"C40*'Formula sheet'!$E$19","v":2.4522419943536016E-3},5.6828940223731757E-2,0.99999999999999978,0.94317105977626803,{"$f":"C41*'Lifetime HIV Markov'!$C$12","v":0.94317105977626803},{"$f":"(1+'Lifetime HIV Markov'!$C$86)^-A41","v":0.31575354599702099},0.29780960660612488,0.29780960660612488]
[40,40,0.93978783088628115,{"$f":"C41*'Formula sheet'!$E$20","v":3.3832288899869004E-3},6.0212169113718655E-2,0.99999999999999978,0.93978783088628115,{"$f":"C42*'Lifetime HIV Markov'!$C$12","v":0.93978783088628115},{"$f":"(1+'Lifetime HIV Markov'!$C$86)^-A42","v":0.30655684077380685},0.28809838843416702,0.28809838843416702]
[41,41,0.93641673790483748,{"$f":"C42*'Formula sheet'!$E$20","v":3.3710929814436959E-3},6.3583262095162352E-2,0.99999999999999978,0.93641673790483748,{"$f":"C43*'Lifetime HIV Markov'!$C$12","v":0.93641673790483748},{"$f":"(1+'Lifetime HIV Markov'!$C$86)^-A43","v":0.29762800075126877},0.27870384157264161,0.27870384157264161]
[42,42,0.93305773729947705,{"$f":"C43*'Formula sheet'!$E$20","v":3.3590006053604458E-3},6.6942262700522795E-2,0.99999999999999989,0.93305773729947705,{"$f":"C44*'Lifetime HIV Markov'!$C$12","v":0.93305773729947705},{"$f":"(1+'Lifetime HIV Markov'!$C$86)^-A44","v":0.28895922403035801},0.26961563974557851,0.26961563974557851]
[43,43,0.92971078569389431,{"$f":"C44*'Formula sheet'!$E$20","v":3.3469516055827865E-3},7.0289214306105588E-2,0.99999999999999989,0.92971078569389431,{"$f":"C45*'Lifetime HIV Markov'!$C$12","v":0.92971078569389431},{"$f":"(1+'Lifetime HIV Markov'!$C$86)^-A45","v":0.28054293595180391},0.26082379340462347,0.26082379340462347]
[44,44,0.92637583986737781,{"$f":"C45*'Formula sheet'!$E$20","v":3.3349458265164935E-3},7.3624160132622088E-2,0.99999999999999989,0.92637583986737781,{"$f":"C46*'Lifetime HIV Markov'!$C$12","v":0.92637583986737781},{"$f":"(1+'Lifetime HIV Markov'!$C$86)^-A46","v":0.27237178247747956},0.25231863874874988,0.25231863874874988]
[45,45,0.92149195533854988,{"$f":"C46*'Formula sheet'!$E$21","v":4.8838845288278988E-3},7.8508044661449991E-2,0.99999999999999989,0.92149195533854988,{"$f":"C47*'Lifetime HIV Markov'!$C$12","v":0.92149195533854988},{"$f":"(1+'Lifetime HIV Markov'!$C$86)^-A47","v":0.26443862376454325},0.24367806447982407,0.24367806447982407]
[46,46,0.91663381881292372,{"$f":"C47*'Formula sheet'!$E$21","v":4.8581365256261536E-3},8.3366181187076144E-2,0.99999999999999989,0.91663381881292372,{"$f":"C48*'Lifetime HIV Markov'!$C$12","v":0.91663381881292372},{"$f":"(1+'Lifetime HIV Markov'!$C$86)^-A48","v":0.25673652792674101},0.23533338402225945,0.23533338402225945]
[47,47,0.91180129454616199,{"$f":"C48*'Formula sheet'!$E$21","v":4.8325242667617207E-3},8.8198705453837858E-2,0.99999999999999989,0.91180129454616199,{"$f":"C49*'Lifetime HIV Markov'!$C$12","v":0.91180129454616199},{"$f":"(1+'Lifetime HIV Markov'!$C$86)^-A49","v":0.24925876497741845},0.22727446458338768,0.22727446458338768]
[48,48,0.90699424750957613,{"$f":"C49*'Formula sheet'!$E$21","v":4.8070470365858976E-3},9.3005752490423754E-2,0.99999999999999989,0.90699424750957613,{"$f":"C50*'Lifetime HIV Markov'!$C$12","v":0.90699424750957613},{"$f":"(1+'Lifetime HIV Markov'!$C$86)^-A50","v":0.24199880094894996},0.21949152036491257,0.21949152036491257]
[49,49,0.90221254338635326,{"$f":"C50*'Formula sheet'!$E$21","v":4.7817041232229036E-3},9.7787456613646656E-2,0.99999999999999989,0.90221254338635326,{"$f":"C51*'Lifetime HIV Markov'!$C$12","v":0.90221254338635326},{"$f":"(1+'Lifetime HIV Markov'!$C$86)^-A51","v":0.2349502921834466},0.21197510068019418,0.21197510068019418]
[{"$f":"A51+1","v":50},50,0.89522982144609176,{"$f":"C51*'Formula sheet'!$E$22","v":6.9827219402614762E-3},0.10477017855390813,0.99999999999999989,0.89522982144609176,{"$f":"C52*'Lifetime HIV Markov'!$C$12","v":0.89522982144609176},{"$f":"(1+'Lifetime HIV Markov'!$C$86)^-A52","v":0.22810707978975397},0.20420826031077086,0.20420826031077086]
[51,51,0.88830114265348148,{"$f":"C52*'Formula sheet'!$E$22","v":6.9286787926102584E-3},0.1116988573465184,0.99999999999999989,0.88830114265348148,{"$f":"C53*'Lifetime HIV Markov'!$C$12","v":0.88830114265348148},{"$f":"(1+'Lifetime HIV Markov'!$C$86)^-A53","v":0.22146318426189707},0.19672599963552168,0.19672599963552168]
[52,52,0.88142608873870831,{"$f":"C53*'Formula sheet'!$E$22","v":6.8750539147731677E-3},0.11857391126129156,0.99999999999999989,0.88142608873870831,{"$f":"C54*'Lifetime HIV Markov'!$C$12","v":0.88142608873870831},{"$f":"(1+'Lifetime HIV Markov'!$C$86)^-A54","v":0.215012800254269},0.18951789155687748,0.18951789155687748]
[53,53,0.87460424466917952,{"$f":"C54*'Formula sheet'!$E$22","v":6.8218440695287427E-3},0.12539575533082031,0.99999999999999978,0.87460424466917952,{"$f":"C55*'Lifetime HIV Markov'!$C$12","v":0.87460424466917952},{"$f":"(1+'Lifetime HIV Markov'!$C$86)^-A55","v":0.20875029150899907},0.18257389102969918,0.18257389102969918]
[54,54,0.86783519862446934,{"$f":"C55*'Formula sheet'!$E$22","v":6.7690460447101686E-3},0.13216480137553049,0.99999999999999978,0.86783519862446934,{"$f":"C56*'Lifetime HIV Markov'!$C$12","v":0.86783519862446934},{"$f":"(1+'Lifetime HIV Markov'!$C$86)^-A56","v":0.20267018593106703},0.17588432106274568,0.17588432106274568]
[55,55,0.85762964599091696,{"$f":"C56*'Formula sheet'!$E$23","v":1.0205552633552393E-2},0.14237035400908288,0.99999999999999978,0.85762964599091696,{"$f":"C57*'Lifetime HIV Markov'!$C$12","v":0.85762964599091696},{"$f":"(1+'Lifetime HIV Markov'!$C$86)^-A57","v":0.19676717080686118},0.16875335904172264,0.16875335904172264]
[56,56,0.84754410843018169,{"$f":"C57*'Formula sheet'!$E$23","v":1.0085537560735236E-2},0.15245589156981812,0.99999999999999978,0.84754410843018169,{"$f":"C58*'Lifetime HIV Markov'!$C$12","v":0.84754410843018169},{"$f":"(1+'Lifetime HIV Markov'!$C$86)^-A58","v":0.19103608816200118},0.16191151101925289,0.16191151101925289]
[57,57,0.83757717459118641,{"$f":"C58*'Formula sheet'!$E$23","v":9.9669338389953288E-3},0.16242282540881345,0.99999999999999989,0.83757717459118641,{"$f":"C59*'Lifetime HIV Markov'!$C$12","v":0.83757717459118641},{"$f":"(1+'Lifetime HIV Markov'!$C$86)^-A59","v":0.18547193025437006},0.15534705530842885,0.15534705530842885]
[58,58,0.82772744972003454,{"$f":"C59*'Formula sheet'!$E$23","v":9.8497248711518666E-3},0.17227255027996533,0.99999999999999989,0.82772744972003454,{"$f":"C60*'Lifetime HIV Markov'!$C$12","v":0.82772744972003454},{"$f":"(1+'Lifetime HIV Markov'!$C$86)^-A60","v":0.18006983519841754},0.14904874546029306,0.14904874546029306]
[59,59,0.81799355546483132,{"$f":"C60*'Formula sheet'!$E$23","v":9.7338942552032629E-3},0.18200644453516859,0.99999999999999989,0.81799355546483132,{"$f":"C61*'Lifetime HIV Markov'!$C$12","v":0.81799355546483132},{"$f":"(1+'Lifetime HIV Markov'!$C$86)^-A61","v":0.17482508271691022},0.14300579099603863,0.14300579099603863]
[60,60,0.80242743492694868,{"$f":"C61*'Formula sheet'!$E$24","v":1.5566120537882614E-2},0.19757256507305121,0.99999999999999989,0.80242743492694868,{"$f":"C62*'Lifetime HIV Markov'!$C$12","v":0.80242743492694868},{"$f":"(1+'Lifetime HIV Markov'!$C$86)^-A62","v":0.1697330900164177},0.13619848804409895,0.13619848804409895]
[61,61,0.78715753201447536,{"$f":"C62*'Formula sheet'!$E$24","v":1.5269902912473328E-2},0.21284246798552453,0.99999999999999989,0.78715753201447536,{"$f":"C63*'Lifetime HIV Markov'!$C$12","v":0.78715753201447536},{"$f":"(1+'Lifetime HIV Markov'!$C$86)^-A63","v":0.16478940778292983},0.12971522353253803,0.12971522353253803]
[62,62,0.77217820981348728,{"$f":"C63*'Formula sheet'!$E$24","v":1.4979322200988071E-2},0.22782179018651261,0.99999999999999989,0.77217820981348728,{"$f":"C64*'Lifetime HIV Markov'!$C$12","v":0.77217820981348728},{"$f":"(1+'Lifetime HIV Markov'!$C$86)^-A64","v":0.15998971629410663},0.12354057271655097,0.12354057271655097]
[63,63,0.75748393867848696,{"$f":"C64*'Formula sheet'!$E$24","v":1.469427113500032E-2},0.24251606132151293,0.99999999999999989,0.75748393867848696,{"$f":"C65*'Lifetime HIV Markov'!$C$12","v":0.75748393867848696},{"$f":"(1+'Lifetime HIV Markov'!$C$86)^-A65","v":0.15532982164476369},0.1176598450937025,0.1176598450937025]
[64,64,0.74306929419112422,{"$f":"C65*'Formula sheet'!$E$24","v":1.4414644487362779E-2},0.25693070580887573,1,0.74306929419112422,{"$f":"C66*'Lifetime HIV Markov'!$C$12","v":0.74306929419112422},{"$f":"(1+'Lifetime HIV Markov'!$C$86)^-A66","v":0.15080565208229488},0.11205904945282309,0.11205904945282309]
[65,65,0.72114969423728736,{"$f":"C66*'Formula sheet'!$E$25","v":2.19195999538369E-2},0.27885030576271264,{"$f":"E67+C67","v":1},0.72114969423728736,{"$f":"C67*'Lifetime HIV Markov'!$C$12","v":0.72114969423728736},{"$f":"(1+'Lifetime HIV Markov'!$C$86)^-A67","v":0.14641325444882999},0.10558587367805991,0.10558587367805991]
[{"$f":"A67+1","v":66},66,{"$f":"C67-D68","v":0.69987669462865687},{"$f":"C67*'Formula sheet'!$E$25","v":2.1272999608630515E-2},{"$f":"E67+D68","v":0.30012330537134313},1,{"$f":"C68","v":0.69987669462865687},{"$f":"C68*'Lifetime HIV Markov'!$C$12","v":0.69987669462865687},{"$f":"(1+'Lifetime HIV Markov'!$C$86)^-A68","v":0.14214879072701941},{"$f":"G68*$I68","v":9.9486625799487013E-2},9.9486625799487013E-2]
[67,67,0.67923122147669002,{"$f":"C68*'Formula sheet'!$E$25","v":2.0645473151966874E-2},0.32076877852330998,1,0.67923122147669002,{"$f":"C69*'Lifetime HIV Markov'!$C$12","v":0.67923122147669002},{"$f":"(1+'Lifetime HIV Markov'!$C$86)^-A69","v":0.1380085346864266},9.3739705589269681E-2,9.3739705589269681E-2]
[68,68,0.65919476354831874,{"$f":"C69*'Formula sheet'!$E$25","v":2.0036457928371325E-2},0.34080523645168131,1,0.65919476354831874,{"$f":"C70*'Lifetime HIV Markov'!$C$12","v":0.65919476354831874},{"$f":"(1+'Lifetime HIV Markov'!$C$86)^-A70","v":0.13398886862759865},8.832476057307663E-2,8.832476057307663E-2]
[69,69,0.63974935566832802,{"$f":"C70*'Formula sheet'!$E$25","v":1.9445407879990752E-2},0.36025064433167209,1,0.63974935566832802,{"$f":"C71*'Lifetime HIV Markov'!$C$12","v":0.63974935566832802},{"$f":"(1+'Lifetime HIV Markov'!$C$86)^-A71","v":0.13008628022096957},8.3222613952654845E-2,8.3222613952654845E-2]
[70,70,0.59692620048897427,{"$f":"C71*'Formula sheet'!$E$26","v":4.2823155179353714E-2},0.40307379951102579,1,0.59692620048897427,{"$f":"C72*'Lifetime HIV Markov'!$C$12","v":0.59692620048897427},{"$f":"(1+'Lifetime HIV Markov'!$C$86)^-A72","v":0.12629735943783454},7.5390202901016876E-2,7.5390202901016876E-2]
[71,71,0.55696951575350129,{"$f":"C72*'Formula sheet'!$E$26","v":3.9956684735472973E-2},0.44303048424649877,1,0.55696951575350129,{"$f":"C73*'Lifetime HIV Markov'!$C$12","v":0.55696951575350129},{"$f":"(1+'Lifetime HIV Markov'!$C$86)^-A73","v":0.12261879557071313},6.8294931191297661E-2,6.8294931191297661E-2]
[72,72,0.51968742739818752,{"$f":"C73*'Formula sheet'!$E$26","v":3.7282088355313797E-2},0.48031257260181259,1,0.51968742739818752,{"$f":"C74*'Lifetime HIV Markov'!$C$12","v":0.51968742739818752},{"$f":"(1+'Lifetime HIV Markov'!$C$86)^-A74","v":0.1190473743404982},6.1867423709522508E-2,6.1867423709522508E-2]
[73,73,0.4849009049092623,{"$f":"C74*'Formula sheet'!$E$26","v":3.4786522488925199E-2},0.51509909509073781,1,0.4849009049092623,{"$f":"C75*'Lifetime HIV Markov'!$C$12","v":0.4849009049092623},{"$f":"(1+'Lifetime HIV Markov'!$C$86)^-A75","v":0.11557997508786232},5.6044834509494428E-2,5.6044834509494428E-2]
[74,74,0.4524429016091327,{"$f":"C75*'Formula sheet'!$E$26","v":3.2458003300129601E-2},0.54755709839086741,1,0.4524429016091327,{"$f":"C76*'Lifetime HIV Markov'!$C$12","v":0.4524429016091327},{"$f":"(1+'Lifetime HIV Markov'!$C$86)^-A76","v":0.11221356804646829},5.077023232685797E-2,5.077023232685797E-2]
[75,75,0.42215755248961007,{"$f":"C76*'Formula sheet'!$E$26","v":3.0285349119522607E-2},0.57784244751039004,1,0.42215755248961007,{"$f":"C77*'Lifetime HIV Markov'!$C$12","v":0.42215755248961007},{"$f":"(1+'Lifetime HIV Markov'!$C$86)^-A77","v":0.10894521169560026},4.5992043924877046E-2,4.5992043924877046E-2]
[76,76,0.39389942574009107,{"$f":"C77*'Formula sheet'!$E$26","v":2.8258126749519011E-2},0.60610057425990904,1,0.39389942574009107,{"$f":"C78*'Lifetime HIV Markov'!$C$12","v":0.39389942574009107},{"$f":"(1+'Lifetime HIV Markov'!$C$86)^-A78","v":0.10577205018990318},4.1663549829154954E-2,4.1663549829154954E-2]
[77,77,0.36753282437649187,{"$f":"C78*'Formula sheet'!$E$26","v":2.6366601363599178E-2},0.63246717562350818,1,0.36753282437649187,{"$f":"C79*'Lifetime HIV Markov'!$C$12","v":0.36753282437649187},{"$f":"(1+'Lifetime HIV Markov'!$C$86)^-A79","v":0.10269131086398368},3.7742427520764246E-2,3.7742427520764246E-2]
[78,78,0.34293113461732255,{"$f":"C79*'Formula sheet'!$E$26","v":2.4601689759169303E-2},0.6570688653826775,1,0.34293113461732255,{"$f":"C80*'Lifetime HIV Markov'!$C$12","v":0.34293113461732255},{"$f":"(1+'Lifetime HIV Markov'!$C$86)^-A80","v":9.9700301809692873E-2},3.4190337621287474E-2,3.4190337621287474E-2]
[79,79,0.31997621787776909,{"$f":"C80*'Formula sheet'!$E$26","v":2.2954916739553459E-2},0.68002378212223091,1,0.31997621787776909,{"$f":"C81*'Lifetime HIV Markov'!$C$12","v":0.31997621787776909},{"$f":"(1+'Lifetime HIV Markov'!$C$86)^-A81","v":9.679640952397367E-2},3.0972549023628761E-2,3.0972549023628761E-2]
[80,80,0.29855784346210767,{"$f":"C81*'Formula sheet'!$E$26","v":2.1418374415661426E-2},0.70144215653789233,1,0.29855784346210767,{"$f":"C82*'Lifetime HIV Markov'!$C$12","v":0.29855784346210767},{"$f":"(1+'Lifetime HIV Markov'!$C$86)^-A82","v":9.3977096625217166E-2},2.8057599303254955E-2,2.8057599303254955E-2]
[81,81,0.27857315923021081,{"$f":"C82*'Formula sheet'!$E$26","v":1.998468423189689E-2},0.72142684076978925,1,0.27857315923021081,{"$f":"C83*'Lifetime HIV Markov'!$C$12","v":0.27857315923021081},{"$f":"(1+'Lifetime HIV Markov'!$C$86)^-A83","v":9.1239899636133173E-2},2.541698708948498E-2,2.541698708948498E-2]
[{"$f":"A83+1","v":82},82,0.25992619769625847,{"$f":"C83*'Formula sheet'!$E$26","v":1.8646961533952372E-2},0.74007380230374165,1,0.25992619769625847,{"$f":"C84*'Lifetime HIV Markov'!$C$12","v":0.25992619769625847},{"$f":"(1+'Lifetime HIV Markov'!$C$86)^-A84","v":8.8582426831197242E-2},2.3024893388940124E-2,2.3024893388940124E-2]
[83,83,0.24252741518791479,{"$f":"C84*'Formula sheet'!$E$26","v":1.7398782508343685E-2},0.75747258481208535,1.0000000000000002,0.24252741518791479,{"$f":"C85*'Lifetime HIV Markov'!$C$12","v":0.24252741518791479},{"$f":"(1+'Lifetime HIV Markov'!$C$86)^-A85","v":8.6002356146793454E-2},2.0857929136352291E-2,2.0857929136352291E-2]
[84,84,0.22629326185298898,{"$f":"C85*'Formula sheet'!$E$26","v":1.6234153334925804E-2},0.77370673814701119,1.0000000000000002,0.22629326185298898,{"$f":"C86*'Lifetime HIV Markov'!$C$12","v":0.22629326185298898},{"$f":"(1+'Lifetime HIV Markov'!$C$86)^-A86","v":8.3497433152226644E-2},1.8894906504369268E-2,1.8894906504369268E-2]
[85,85,0.21114578044873,{"$f":"C86*'Formula sheet'!$E$26","v":1.5147481404258992E-2},0.78885421955127022,1.0000000000000002,0.21114578044873,{"$f":"C87*'Lifetime HIV Markov'!$C$12","v":0.21114578044873},{"$f":"(1+'Lifetime HIV Markov'!$C$86)^-A87","v":8.1065469079831712E-2},1.7116631736303456E-2,1.7116631736303456E-2]
[86,86,0.19701223198712059,{"$f":"C87*'Formula sheet'!$E$26","v":1.4133548461609418E-2},0.80298776801287963,1.0000000000000002,0.19701223198712059,{"$f":"C88*'Lifetime HIV Markov'!$C$12","v":0.19701223198712059},{"$f":"(1+'Lifetime HIV Markov'!$C$86)^-A88","v":7.8704338912457969E-2},1.5505717476214131E-2,1.5505717476214131E-2]
[87,87,0.18382474643850016,{"$f":"C88*'Formula sheet'!$E$26","v":1.3187485548620415E-2},0.8161752535615,1.0000000000000002,0.18382474643850016,{"$f":"C89*'Lifetime HIV Markov'!$C$12","v":0.18382474643850016},{"$f":"(1+'Lifetime HIV Markov'!$C$86)^-A89","v":7.6411979526658208E-2},1.4046412761351811E-2,1.4046412761351811E-2]
[88,88,0.17151999681617716,{"$f":"C89*'Formula sheet'!$E$26","v":1.2304749622322999E-2},0.82848000318382298,1.0000000000000002,0.17151999681617716,{"$f":"C90*'Lifetime HIV Markov'!$C$12","v":0.17151999681617716},{"$f":"(1+'Lifetime HIV Markov'!$C$86)^-A90","v":7.4186387889959446E-2},1.2724449014689528E-2,1.2724449014689528E-2]
[89,89,0.16003889507696828,{"$f":"C90*'Formula sheet'!$E$26","v":1.1481101739208893E-2},0.83996110492303189,1.0000000000000002,0.16003889507696828,{"$f":"C91*'Lifetime HIV Markov'!$C$12","v":0.16003889507696828},{"$f":"(1+'Lifetime HIV Markov'!$C$86)^-A91","v":7.2025619310640235E-2},1.1526900531709213E-2,1.1526900531709213E-2]
[90,90,0.14932630837736341,{"$f":"C91*'Formula sheet'!$E$26","v":1.0712586699604875E-2},0.85067369162263673,1.0000000000000002,0.14932630837736341,{"$f":"C92*'Lifetime HIV Markov'!$C$12","v":0.14932630837736341},{"$f":"(1+'Lifetime HIV Markov'!$C$86)^-A92","v":6.9927785738485654E-2},1.0442058097331303E-2,1.0442058097331303E-2]
[91,91,0.13933079432276374,{"$f":"C92*'Formula sheet'!$E$26","v":9.995514054599676E-3},0.86066920567723637,1,0.13933079432276374,{"$f":"C93*'Lifetime HIV Markov'!$C$12","v":0.13933079432276374},{"$f":"(1+'Lifetime HIV Markov'!$C$86)^-A93","v":6.7891054115034627E-2},9.4593144972575129E-3,9.4593144972575129E-3]
[92,92,0.13000435393844603,{"$f":"C93*'Formula sheet'!$E$26","v":9.3264403843177079E-3},0.86999564606155411,1.0000000000000002,0.13000435393844603,{"$f":"C94*'Lifetime HIV Markov'!$C$12","v":0.13000435393844603},{"$f":"(1+'Lifetime HIV Markov'!$C$86)^-A94","v":6.5913644771878277E-2},8.5690608042962666E-3,8.5690608042962666E-3]
[93,93,0.12130220117600705,{"$f":"C94*'Formula sheet'!$E$26","v":8.7021527624389795E-3},0.87869779882399313,1.0000000000000002,0.12130220117600705,{"$f":"C95*'Lifetime HIV Markov'!$C$12","v":0.12130220117600705},{"$f":"(1+'Lifetime HIV Markov'!$C$86)^-A95","v":6.3993829875609989E-2},7.7625924255944135E-3,7.7625924255944135E-3]
[94,94,0.11318254784844607,{"$f":"C95*'Formula sheet'!$E$26","v":8.1196533275609793E-3},0.88681745215155405,1.0000000000000002,0.11318254784844607,{"$f":"C96*'Lifetime HIV Markov'!$C$12","v":0.11318254784844607},{"$f":"(1+'Lifetime HIV Markov'!$C$86)^-A96","v":6.212993191806794E-2},7.0320239921374218E-3,7.0320239921374218E-3]
[95,95,0.10560640296113269,{"$f":"C96*'Formula sheet'!$E$26","v":7.5761448873133807E-3},0.89439359703886745,1.0000000000000002,0.10560640296113269,{"$f":"C97*'Lifetime HIV Markov'!$C$12","v":0.10560640296113269},{"$f":"(1+'Lifetime HIV Markov'!$C$86)^-A97","v":6.0320322250551395E-2},6.3702122583371087E-3,6.3702122583371087E-3]
[96,96,9.8537385475036876E-2,{"$f":"C97*'Formula sheet'!$E$26","v":7.0690174860958193E-3},0.90146261452496323,1,9.8537385475036876E-2,{"$f":"C98*'Lifetime HIV Markov'!$C$12","v":9.8537385475036876E-2},{"$f":"(1+'Lifetime HIV Markov'!$C$86)^-A98","v":5.8563419660729518E-2},5.7706862578456577E-3,5.7706862578456577E-3]
[97,97,9.1941549603100567E-2,{"$f":"C98*'Formula sheet'!$E$26","v":6.59583587193631E-3},0.90805845039689959,1.0000000000000002,9.1941549603100567E-2,{"$f":"C99*'Lifetime HIV Markov'!$C$12","v":9.1941549603100567E-2},{"$f":"(1+'Lifetime HIV Markov'!$C$86)^-A99","v":5.6857688990999529E-2},5.2275840326836479E-3,5.2275840326836479E-3]
[{"$f":"A99+1","v":98},{"$f":"B99+1","v":98},8.5787221800815078E-2,{"$f":"C99*'Formula sheet'!$E$26","v":6.1543278022854944E-3},0.91421277819918512,1.0000000000000002,8.5787221800815078E-2,{"$f":"C100*'Lifetime HIV Markov'!$C$12","v":8.5787221800815078E-2},{"$f":"(1+'Lifetime HIV Markov'!$C$86)^-A100","v":5.5201639797086935E-2},4.7355953170413979E-3,4.7355953170413979E-3]
[{"$f":"A100+1","v":99},{"$f":"B100+1","v":99},8.0044848668224505E-2,{"$f":"C100*'Formula sheet'!$E$26","v":5.7423731325905768E-3},0.91995515133177574,1.0000000000000002,8.0044848668224505E-2,{"$f":"C101*'Lifetime HIV Markov'!$C$12","v":8.0044848668224505E-2},{"$f":"(1+'Lifetime HIV Markov'!$C$86)^-A101","v":5.3593825045715457E-2},4.2899096153355938E-3,4.2899096153355938E-3]
[null,null,null,null,null,"TOTAL",{"$f":"SUM(G3:G101)","v":70.814756530079052},{"$f":"SUM(H3:H101)","v":70.814756530079052},null,{"$f":"SUM(J3:J101)","v":28.333990625963384},{"$f":"SUM(K3:K101)","v":28.333990625963384}]

{"sheet":"Life years with HIV","index":9,"n_rows":19,"n_cols":11,"rows_kept":19,"cut":false,"hidden":false,"merged":[]}
["years in model","Age","Total alive","Progress to death","Total death","Check","Total life years (undiscounted)","Total QALYs (undiscounted)","Discount factor","Total life years (discounted)","Total QALYs (discounted)"]
[0,0,{"$f":"1-E2","v":0.833434286390623},{"$f":"1*'Formula sheet'!E2","v":0.166565713609377},{"$f":"D2","v":0.166565713609377},{"$f":"E2+C2","v":1},{"$f":"C2","v":0.833434286390623},{"$f":"'Lifetime HIV Markov'!$C$13*C2","v":0.69175045770421706},{"$f":"(1+'Lifetime HIV Markov'!$C$86)^(-'Life years with HIV'!A2)","v":1},{"$f":"I2*G2","v":0.833434286390623},{"$f":"I2*H2","v":0.69175045770421706}]
[{"$f":"A2+1","v":1},{"$f":"B2+1","v":1},{"$f":"C2-D3","v":0.71970630766228694},{"$f":"C2*'Formula sheet'!E3","v":0.11372797872833604},{"$f":"D3+E2","v":0.28029369233771306},{"$f":"E3+C3","v":1},{"$f":"C3","v":0.71970630766228694},{"$f":"'Lifetime HIV Markov'!$C$13*C3","v":0.59735623535969817},{"$f":"(1+'Lifetime HIV Markov'!$C$86)^(-'Life years with HIV'!A3)","v":0.970873786407767},{"$f":"I3*G3","v":0.69874398802163784},{"$f":"I3*H3","v":0.57995751005795937}]
[{"$f":"A3+1","v":2},2,{"$f":"C3-D4","v":0.67997504472734294},{"$f":"C3*'Formula sheet'!$E$4","v":3.973126293494398E-2},{"$f":"D4+E3","v":0.32002495527265706},1,0.67997504472734294,{"$f":"'Lifetime HIV Markov'!$C$13*C4","v":0.56437928712369456},{"$f":"(1+'Lifetime HIV Markov'!$C$86)^(-'Life years with HIV'!A4)","v":0.94259590913375435},0.64094169547303514,0.531981607242619]
[3,3,0.64243713932949364,{"$f":"C4*'Formula sheet'!$E$4","v":3.7537905397849305E-2},0.35756286067050636,1,0.64243713932949364,{"$f":"'Lifetime HIV Markov'!$C$13*C5","v":0.53322282564347967},{"$f":"(1+'Lifetime HIV Markov'!$C$86)^(-'Life years with HIV'!A5)","v":0.91514165935315961},0.58792098971608986,0.48797442146435449]
[4,4,0.60697150754313089,{"$f":"C5*'Formula sheet'!$E$4","v":3.5465631786362722E-2},0.39302849245686911,1,0.60697150754313089,{"$f":"'Lifetime HIV Markov'!$C$13*C6","v":0.50378635126079863},{"$f":"(1+'Lifetime HIV Markov'!$C$86)^(-'Life years with HIV'!A6)","v":0.888487047915689},0.5392863229059317,0.44760764801192332]
[5,5,0.58397729643328944,{"$f":"C6*'Formula sheet'!$E$5","v":2.2994211109841452E-2},0.41602270356671056,1,0.58397729643328944,{"$f":"'Lifetime HIV Markov'!$C$13*C7","v":0.48470115603963021},{"$f":"(1+'Lifetime HIV Markov'!$C$86)^(-'Life years with HIV'!A7)","v":0.86260878438416411},0.50374394578427051,0.41810747500094447]
[6,6,0.56185418674747389,{"$f":"C7*'Formula sheet'!$E$5","v":2.2123109685815573E-2},0.43814581325252611,1,0.56185418674747389,{"$f":"'Lifetime HIV Markov'!$C$13*C8","v":0.46633897500040333},{"$f":"(1+'Lifetime HIV Markov'!$C$86)^(-'Life years with HIV'!A8)","v":0.83748425668365445},0.47054403595280736,0.39055154984083013]
[7,7,0.5405691781062707,{"$f":"C8*'Formula sheet'!$E$5","v":2.1285008641203241E-2},0.45943082189372936,1,0.5405691781062707,{"$f":"'Lifetime HIV Markov'!$C$13*C9","v":0.44867241782820466},{"$f":"(1+'Lifetime HIV Markov'!$C$86)^(-'Life years with HIV'!A9)","v":0.81309151134335378},0.43953221001206222,0.36481173431001163]
[8,8,0.52009052030046621,{"$f":"C9*'Formula sheet'!$E$5","v":2.0478657805804518E-2},0.4799094796995339,1,0.52009052030046621,{"$f":"'Lifetime HIV Markov'!$C$13*C10","v":0.43167513184938694},{"$f":"(1+'Lifetime HIV Markov'!$C$86)^(-'Life years with HIV'!A10)","v":0.78940923431393573},0.41056425940432745,0.34076833530559181]
[9,9,0.50038766593021156,{"$f":"C10*'Formula sheet'!$E$5","v":1.9702854370254604E-2},0.4996123340697885,1,0.50038766593021156,{"$f":"'Lifetime HIV Markov'!$C$13*C11","v":0.41532176272207555},{"$f":"(1+'Lifetime HIV Markov'!$C$86)^(-'Life years with HIV'!A11)","v":0.76641673234362695},0.38350547982728717,0.31830954825664831]
[10,10,0.48143122483838241,{"$f":"C11*'Formula sheet'!$E$5","v":1.8956441091829167E-2},0.5185687751616177,1,0.48143122483838241,{"$f":"'Lifetime HIV Markov'!$C$13*C12","v":0.39958791661585741},{"$f":"(1+'Lifetime HIV Markov'!$C$86)^(-'Life years with HIV'!A12)","v":0.74409391489672516},0.3582300448435175,0.2973309372201195]
[11,{"$f":"B12+1","v":11},0.47521312414135231,{"$f":"C12*'Formula sheet'!$E$6","v":6.2181006970301201E-3},0.52478687585864781,1,{"$f":"C13","v":0.47521312414135231},{"$f":"'Lifetime HIV Markov'!$C$13*C13","v":0.39442689303732237},{"$f":"(1+'Lifetime HIV Markov'!$C$86)^(-'Life years with HIV'!A13)","v":0.72242127659876232},{"$f":"I13*G13","v":0.34330407179868183},{"$f":"I13*H13","v":0.28494237959290591}]
[12,{"$f":"B13+1","v":12},0.46907533559335529,{"$f":"C13*'Formula sheet'!$E$6","v":6.1377885479970236E-3},0.53092466440664488,1.0000000000000002,{"$f":"C14","v":0.46907533559335529},{"$f":"'Lifetime HIV Markov'!$C$13*C14","v":0.38933252854248485},{"$f":"(1+'Lifetime HIV Markov'!$C$86)^(-'Life years with HIV'!A14)","v":0.70137988019297326},{"$f":"I14*G14","v":0.32900000267994628},{"$f":"I14*H14","v":0.27307000222435535}]
[13,{"$f":"B14+1","v":13},0.46301682189351823,{"$f":"C14*'Formula sheet'!$E$6","v":6.0585136998370691E-3},0.536983178106482,1.0000000000000002,{"$f":"C15","v":0.46301682189351823},{"$f":"'Lifetime HIV Markov'!$C$13*C15","v":0.38430396217162011},{"$f":"(1+'Lifetime HIV Markov'!$C$86)^(-'Life years with HIV'!A15)","v":0.68095133999317792},{"$f":"I15*G15","v":0.31529192530777383},{"$f":"I15*H15","v":0.2616922980054523}]
[14,{"$f":"B15+1","v":14},0.45703655913860597,{"$f":"C15*'Formula sheet'!$E$6","v":5.9802627549122352E-3},0.54296344086139425,1.0000000000000002,{"$f":"C16","v":0.45703655913860597},{"$f":"'Lifetime HIV Markov'!$C$13*C16","v":0.37934034408504291},{"$f":"(1+'Lifetime HIV Markov'!$C$86)^(-'Life years with HIV'!A16)","v":0.66111780581861923},{"$f":"I16*G16","v":0.30215500715660676},{"$f":"I16*H16","v":0.25078865593998362}]
[15,{"$f":"B16+1","v":15},0.45113353664997941,{"$f":"C16*'Formula sheet'!$E$6","v":5.9030224886265862E-3},0.54886646335002087,1.0000000000000002,{"$f":"C17","v":0.45113353664997941},{"$f":"'Lifetime HIV Markov'!$C$13*C17","v":0.37444083541948286},{"$f":"(1+'Lifetime HIV Markov'!$C$86)^(-'Life years with HIV'!A17)","v":0.64186194739671765},{"$f":"I17*G17","v":0.28956545037012427},{"$f":"I17*H17","v":0.24033932380720313}]
[]
[null,null,null,null,null,"TOTAL",{"$f":"SUM(G2:G17)","v":8.9863097354257828},{"$f":"SUM(H2:H17)","v":7.458637080403399},null,{"$f":"SUM(J2:J17)","v":7.4457637156447225},{"$f":"SUM(K2:K17)","v":6.179983883985118}]

{"sheet":"Lifetime HIV cost","index":10,"n_rows":18,"n_cols":7,"rows_kept":18,"cut":false,"hidden":false,"merged":[]}
["years in model","drug cost","Cost alive","Cost death","Total cost undiscounted","discount factor","Total cost discounted"]
[0,null,{"$f":"0*'Life years with HIV'!G2","v":0},null,{"$f":"C2","v":0},{"$f":"(1+'Lifetime HIV Markov'!$C$86)^(-'Lifetime HIV cost'!A2)","v":1},{"$f":"E2*F2","v":0}]
[{"$f":"A2+1","v":1},null,{"$f":"year1cost*'Life years with HIV'!G3","v":41044.973542360785},null,{"$f":"C3","v":41044.973542360785},{"$f":"(1+'Lifetime HIV Markov'!$C$86)^(-'Lifetime HIV cost'!A3)","v":0.970873786407767},{"$f":"E3*F3","v":39849.488876078431}]
[{"$f":"A3+1","v":2},null,{"$f":"year2cost*'Life years with HIV'!G4","v":38541.718184391088},null,38541.718184391088,{"$f":"(1+'Lifetime HIV Markov'!$C$86)^(-'Lifetime HIV cost'!A4)","v":0.94259590913375435},36329.265891593066]
[3,null,{"$f":"year3cost*'Life years with HIV'!G5","v":36414.029260665404},null,36414.029260665404,{"$f":"(1+'Lifetime HIV Markov'!$C$86)^(-'Lifetime HIV cost'!A5)","v":0.91514165935315961},33323.995161339844]
[4,null,{"$f":"year4cost*'Life years with HIV'!G6","v":34403.799038040874},null,34403.799038040874,{"$f":"(1+'Lifetime HIV Markov'!$C$86)^(-'Lifetime HIV cost'!A6)","v":0.888487047915689},30567.329844393556]
[5,null,{"$f":"year5cost*'Life years with HIV'!G7","v":33100.462376879623},null,33100.462376879623,{"$f":"(1+'Lifetime HIV Markov'!$C$86)^(-'Lifetime HIV cost'!A7)","v":0.86260878438416411},28552.74961347389]
[6,null,{"$f":"year6cost*'Life years with HIV'!G8","v":47758.132271472634},null,47758.132271472634,{"$f":"(1+'Lifetime HIV Markov'!$C$86)^(-'Lifetime HIV cost'!A8)","v":0.83748425668365445},39996.683905973907]
[7,null,{"$f":"year7cost*'Life years with HIV'!G9","v":39081.229555484635},null,39081.229555484635,{"$f":"(1+'Lifetime HIV Markov'!$C$86)^(-'Lifetime HIV cost'!A9)","v":0.81309151134335378},31776.616004425548]
[8,null,{"$f":"year8cost*'Life years with HIV'!G10","v":44208.181495339479},null,44208.181495339479,{"$f":"(1+'Lifetime HIV Markov'!$C$86)^(-'Lifetime HIV cost'!A10)","v":0.78940923431393573},34898.34670464744]
[9,null,{"$f":"year9cost*'Life years with HIV'!G11","v":36176.249092594924},null,36176.249092594924,{"$f":"(1+'Lifetime HIV Markov'!$C$86)^(-'Lifetime HIV cost'!A11)","v":0.76641673234362695},27726.0826179957]
[10,null,{"$f":"year10cost*'Life years with HIV'!G12","v":40922.105161392079},null,40922.105161392079,{"$f":"(1+'Lifetime HIV Markov'!$C$86)^(-'Lifetime HIV cost'!A12)","v":0.74409391489672516},30449.889435355715]
[11,null,{"$f":"year11to15cost*'Life years with HIV'!G13","v":63039.249397825472},null,63039.249397825472,{"$f":"(1+'Lifetime HIV Markov'!$C$86)^(-'Lifetime HIV cost'!A13)","v":0.72242127659876232},45540.895025804835]
[12,null,{"$f":"year11to15cost*'Life years with HIV'!G14","v":62225.042964180742},null,62225.042964180742,{"$f":"(1+'Lifetime HIV Markov'!$C$86)^(-'Lifetime HIV cost'!A14)","v":0.70137988019297326},43643.393179219704]
[13,null,{"$f":"year11to15cost*'Life years with HIV'!G15","v":61421.35271089858},null,61421.35271089858,{"$f":"(1+'Lifetime HIV Markov'!$C$86)^(-'Lifetime HIV cost'!A15)","v":0.68095133999317792},41824.952432680002]
[14,null,{"$f":"year11to15cost*'Life years with HIV'!G16","v":60628.042812413318},null,60628.042812413318,{"$f":"(1+'Lifetime HIV Markov'!$C$86)^(-'Lifetime HIV cost'!A16)","v":0.66111780581861923},40082.278635219998]
[15,null,{"$f":"year11to15cost*'Life years with HIV'!G17","v":59844.979197463959},null,59844.979197463959,{"$f":"(1+'Lifetime HIV Markov'!$C$86)^(-'Lifetime HIV cost'!A17)","v":0.64186194739671765},38412.214889600276]
[null,null,null,"TOTAL",{"$f":"SUM(E2:E17)","v":698809.54706140363},null,{"$f":"SUM(G2:G17)","v":542974.1822178018}]

{"sheet":"Cases averted (50-100%)","index":11,"n_rows":92,"n_cols":7,"rows_kept":92,"cut":false,"hidden":false,"merged":[]}
[]
[null,"Results vs status quo screening 100%"]
[null,"Testing choice","Name",null,"HIV+ newborn","pediatric HIV case averted","Percent pediatric HIV averted"]
[null,"Testing choice 0","do nothing",{"$f":"422-E4","v":275.43451848648647},146.5654815135135]
[null,"Testing choice 1","sq",{"$f":"422-E5","v":288.52349983450654},133.47650016549343,0]
[null,"Testing choice 2.1","ucsnp",{"$f":"422-E6","v":417.71469066106823},4.2853093389317687,{"$f":"$E$5-E6","v":129.19119082656167},{"$f":"F6/$E$5","v":0.96789465311407963}]
[null,"Testing choice 3.1.1","urcsnp",418.01104896293998,3.9889510370600418,129.48754912843339,0.97011495632478928]
[null,"Testing choice 3.1.2","ucsnpsf",418.98096836429403,3.0190316357059617,130.45746852978746,0.97738154932169508]
[null,"Testing choice 4.1","urcsnpsf",419.27732666616578,2.7226733338342348,130.75382683165921,0.97960185253240484]
[null,"Testing choice 2.2","undnp",416.63321012362206,5.3667898763779602,128.10971028911547,0.9597922490496541]
[null,"Testing choice 3.2.1","urndnp",418.01104896293998,3.9889510370600418,129.48754912843339,0.97011495632478928]
[null,"Testing choice 3.2.2","undnpsf",417.89948782684786,4.1005121731521532,129.37598799234129,0.96927914525726966]
[null,"Testing choice 4.2","urndnpsf",419.27732666616578,2.7226733338342348,130.75382683165921,0.97960185253240484]
[]
[null,"Results vs status quo screening base case (95%)"]
[null,"Testing choice","Name",null,"HIV+ newborn","pediatric HIV case averted","Percent pediatric HIV averted"]
[null,"Testing choice 0","do nothing",{"$f":"422-E17","v":275.43451848648647},146.5654815135135]
[null,"Testing choice 1","sq",{"$f":"422-E18","v":287.86163132451577},134.13836867548426]
[null,"Testing choice 2.1","ucsnp",{"$f":"422-E19","v":410.51886423612291},11.481135763877075,{"$f":"$E$18-E19","v":122.65723291160718},{"$f":"F19/$E$18","v":0.91440826456110447}]
[null,"Testing choice 3.1.1","urcsnp",{"$f":"422-E20","v":410.80040462290106},11.199595377098936,122.93877329838533,0.91650714491545904]
[null,"Testing choice 3.1.2","ucsnpsf",411.72182805418743,10.278171945812559,123.8601967296717,0.92337634602759977]
[null,"Testing choice 4.1","urcsnpsf",412.00336844096557,9.9966315590344177,124.14173711644985,0.92547522638195434]
[null,"Testing choice 2.2","undnp",409.49145772554903,12.508542274450958,121.6298264010333,0.90674896080842915]
[null,"Testing choice 3.2.1","urndnp",410.80040462290106,11.199595377098936,122.93877329838533,0.91650714491545904]
[null,"Testing choice 3.2.2","undnpsf",410.69442154361354,11.30557845638644,122.83279021909782,0.91571704227492445]
[null,"Testing choice 4.2","urndnpsf",412.00336844096557,9.9966315590344177,124.14173711644985,0.92547522638195434]
[]
[]
[null,"Results vs status quo screening 90%"]
[null,"Testing choice","Name",null,"HIV+ newborn","pediatric HIV case averted","Percent pediatric HIV averted"]
[null,"Testing choice 0","do nothing",{"$f":"422-E31","v":275.43451848648647},146.5654815135135]
[null,"Testing choice 1","sq",{"$f":"422-E32","v":287.19976281452489},134.80023718547508]
[null,"Testing choice 2.1","ucsnp",{"$f":"422-E33","v":403.32303781117764},18.676962188822372,{"$f":"$E$18-E33","v":115.46140648666189},{"$f":"F33/$E$18","v":0.86076346109436574}]
[null,"Testing choice 3.1.1","urcsnp",{"$f":"422-E34","v":403.58976028286219},18.410239717137816,115.72812895834645,0.8627518740616491]
[null,"Testing choice 3.1.2","ucsnpsf",404.46268774408088,17.537312255919144,116.60105641956511,0.86925953827315072]
[null,"Testing choice 4.1","urcsnpsf",404.72941021576543,17.270589784234591,116.86777889124967,0.87124795124043397]
[null,"Testing choice 2.2","undnp",402.34970532747604,19.650294672523945,114.48807400296032,0.85350727859183129]
[null,"Testing choice 3.2.1","urndnp",403.58976028286219,18.410239717137816,115.72812895834645,0.8627518740616491]
[null,"Testing choice 3.2.2","undnpsf",403.48935526037928,18.510644739620716,115.62772393586354,0.86200335577061626]
[null,"Testing choice 4.2","urndnpsf",404.72941021576543,17.270589784234591,116.86777889124967,0.87124795124043397]
[]
[null,"Results vs status quo screening 50%"]
[null,"Testing choice","Name",null,"HIV+ newborn","pediatric HIV case averted","Percent pediatric HIV averted"]
[null,"Testing choice 0","do nothing",{"$f":"422-E44","v":275.43451848648647},146.5654815135135]
[null,"Testing choice 1","sq",{"$f":"422-E45","v":281.90481473459829},140.09518526540174]
[null,"Testing choice 2.1","ucsnp",{"$f":"422-E46","v":345.75642641161522},76.243573588384791,{"$f":"$E$18-E46","v":57.894795087099467},{"$f":"F46/$E$18","v":0.43160503336045553}]
[null,"Testing choice 3.1.1","urcsnp",{"$f":"422-E47","v":345.90460556255107},76.095394437448931,58.042974238035328,0.43270970723116842]
[null,"Testing choice 3.1.2","ucsnpsf",346.38956526322812,75.610434736771879,58.52793393871238,0.43632507623755834]
[null,"Testing choice 4.1","urcsnpsf",346.53774441416397,75.462255585836019,58.67611308964824,0.43742975010827123]
[null,"Testing choice 2.2","undnp",345.21568614289214,76.784313857107875,57.354054818376383,0.42757382085904755]
[null,"Testing choice 3.2.1","urndnp",345.90460556255107,76.095394437448931,58.042974238035328,0.43270970723116842]
[null,"Testing choice 3.2.2","undnpsf",345.84882499450504,76.151175005494977,57.987193669989281,0.43229386373615031]
[null,"Testing choice 4.2","urndnpsf",346.53774441416397,75.462255585836019,58.67611308964824,0.43742975010827123]
[]
[null,"Results vs status quo screening 60%"]
[null,"Testing choice","Name",null,"HIV+ newborn","pediatric HIV case averted","Percent pediatric HIV averted"]
[null,"Testing choice 0","do nothing",{"$f":"422-E57","v":275.43451848648647},146.5654815135135]
[null,"Testing choice 1","sq",{"$f":"422-E58","v":283.22855175457988},138.77144824542012]
[null,"Testing choice 2.1","ucsnp",{"$f":"422-E59","v":360.14807926150581},61.851920738494201,{"$f":"$E$18-E59","v":72.286447936990058},{"$f":"F59/$E$18","v":0.53889464029393297}]
[null,"Testing choice 3.1.1","urcsnp",{"$f":"422-E60","v":360.32589424262886},61.674105757371152,72.464262918113107,0.54022024893878862]
[null,"Testing choice 3.1.2","ucsnpsf",360.90784588344127,61.09215411655871,73.046214558925556,0.54455869174645644]
[null,"Testing choice 4.1","urcsnpsf",361.08566086456432,60.914339135435675,73.224029540048576,0.54588430039131175]
[null,"Testing choice 2.2","undnp",359.4991909390381,62.500809060961913,71.637559614522345,0.53405718529224333]
[null,"Testing choice 3.2.1","urndnp",360.32589424262886,61.674105757371152,72.464262918113107,0.54022024893878862]
[null,"Testing choice 3.2.2","undnpsf",360.25895756097356,61.74104243902643,72.397326236457829,0.53972123674476669]
[null,"Testing choice 4.2","urndnpsf",361.08566086456432,60.914339135435675,73.224029540048576,0.54588430039131175]
[]
[null,"Results vs status quo screening 70%"]
[null,"Testing choice","Name",null,"HIV+ newborn","pediatric HIV case averted","Percent pediatric HIV averted"]
[null,"Testing choice 0","do nothing",{"$f":"422-E70","v":275.43451848648647},146.5654815135135]
[null,"Testing choice 1","sq",{"$f":"422-E71","v":284.55228877456159},137.44771122543844]
[null,"Testing choice 2.1","ucsnp",{"$f":"422-E72","v":374.5397321113964},47.460267888603589,{"$f":"$E$18-E72","v":86.678100786880663},{"$f":"F72/$E$18","v":0.64618424722741052}]
[null,"Testing choice 3.1.1","urcsnp",{"$f":"422-E73","v":374.7471829227066},47.252817077293386,86.885551598190872,0.64773079064640859]
[null,"Testing choice 3.1.2","ucsnpsf",375.42612650365447,46.573873496345527,87.564495179138731,0.65279230725535442]
[null,"Testing choice 4.1","urcsnpsf",375.63357731496467,46.366422685035324,87.771945990448927,0.65433885067435238]
[null,"Testing choice 2.2","undnp",373.78269573518406,48.217304264815922,85.921064410668336,0.64054054972543928]
[null,"Testing choice 3.2.1","urndnp",374.7471829227066,47.252817077293386,86.885551598190872,0.64773079064640859]
[null,"Testing choice 3.2.2","undnpsf",374.66909012744213,47.330909872557868,86.807458802926391,0.64714860975338306]
[null,"Testing choice 4.2","urndnpsf",375.63357731496467,46.366422685035324,87.771945990448927,0.65433885067435238]
[]
[null,"Results vs status quo screening 80%"]
[null,"Testing choice","Name",null,"HIV+ newborn","pediatric HIV case averted","Percent pediatric HIV averted"]
[null,"Testing choice 0","do nothing",{"$f":"422-E83","v":275.43451848648647},146.5654815135135]
[null,"Testing choice 1","sq",{"$f":"422-E84","v":285.87602579454324},136.12397420545676]
[null,"Testing choice 2.1","ucsnp",{"$f":"422-E85","v":388.93138496128699},33.068615038712977,{"$f":"$E$18-E85","v":101.06975363677128},{"$f":"F85/$E$18","v":0.75347385416088819}]
[null,"Testing choice 3.1.1","urcsnp",{"$f":"422-E86","v":389.16847160278439},32.831528397215592,101.30684027826867,0.7552413323540289]
[null,"Testing choice 3.1.2","ucsnpsf",389.94440712386768,32.05559287613233,102.08277579935194,0.76102592276425274]
[null,"Testing choice 4.1","urcsnpsf",390.18149376536508,31.818506234634945,102.31986244084931,0.76279340095739323]
[null,"Testing choice 2.2","undnp",388.06620053133008,33.933799468669925,100.20456920681434,0.74702391415863545]
[null,"Testing choice 3.2.1","urndnp",389.16847160278439,32.831528397215592,101.30684027826867,0.7552413323540289]
[null,"Testing choice 3.2.2","undnpsf",389.07922269391071,32.920777306089285,101.21759136939497,0.75457598276199966]
[null,"Testing choice 4.2","urndnpsf",390.18149376536508,31.818506234634945,102.31986244084931,0.76279340095739323]

{"sheet":"Cases averted 2019-2023","index":12,"n_rows":67,"n_cols":7,"rows_kept":67,"cut":false,"hidden":false,"merged":[]}
[]
[]
[null,"Results vs status quo screening base case (95%) - 2019"]
[null,"Testing choice","Name",null,"HIV+ newborn","pediatric HIV case averted","Percent pediatric HIV averted"]
[null,"Testing choice 0","zero",{"$f":"422-E5","v":275.43451848648647},146.5654815135135]
[null,"Testing choice 1","sq",{"$f":"422-E6","v":287.86163132451577},134.13836867548426]
[null,"Testing choice 2.1","ucsnp",{"$f":"422-E7","v":410.51886423612291},11.481135763877075,{"$f":"$E$6-E7","v":122.65723291160718},{"$f":"F7/$E$6","v":0.91440826456110447}]
[null,"Testing choice 3.1.1","urcsnp",{"$f":"422-E8","v":410.80040462290106},11.199595377098936,{"$f":"$E$6-E8","v":122.93877329838533},0.91650714491545904]
[null,"Testing choice 3.1.2","ucsnpsf",411.72182805418743,10.278171945812559,123.8601967296717,0.92337634602759977]
[null,"Testing choice 4.1","urcsnpsf",412.00336844096557,9.9966315590344177,124.14173711644985,0.92547522638195434]
[null,"Testing choice 2.2","undnp",409.49145772554903,12.508542274450958,121.6298264010333,0.90674896080842915]
[null,"Testing choice 3.2.1","urndnp",410.80040462290106,11.199595377098936,122.93877329838533,0.91650714491545904]
[null,"Testing choice 3.2.2","undnpsf",410.69442154361354,11.30557845638644,122.83279021909782,0.91571704227492445]
[null,"Testing choice 4.2","urndnpsf",412.00336844096557,9.9966315590344177,124.14173711644985,0.92547522638195434]
[]
[]
[null,"Results vs status quo screening base case (95%) - 2020"]
[null,"Testing choice","Name",null,"HIV+ newborn","pediatric HIV case averted","Percent pediatric HIV averted"]
[null,"Testing choice 0","zero",{"$f":"491-E19","v":320.47002032432431},170.52997967567569]
[null,"Testing choice 1","sq",{"$f":"491-E20","v":334.92905445577543},156.07094554422457]
[null,"Testing choice 2.1","ucsnp",477.64161691928047,13.358383080719536,{"$f":"$E$20-E21","v":142.71256246350504},{"$f":"F21/$E$20","v":0.91440826456110447}]
[null,"Testing choice 3.1.1","urcsnp",477.96919116076879,13.030808839231225,{"$f":"$E$20-E22","v":143.04013670499336},{"$f":"F22/$E$20","v":0.91650714491545915}]
[null,"Testing choice 3.1.2","ucsnpsf",479.04127387347398,11.958726126525988,144.11221941769858,0.92337634602759977]
[null,"Testing choice 4.1","urcsnpsf",479.3688481149623,11.631151885037678,144.4397936591869,0.92547522638195434]
[null,"Testing choice 2.2","undnp",476.44622214038998,14.553777859610001,141.51716768461458,0.90674896080842926]
[null,"Testing choice 3.2.1","urndnp",477.96919116076879,13.030808839231225,143.04013670499336,0.91650714491545915]
[null,"Testing choice 3.2.2","undnpsf",477.84587909458355,13.154120905416452,142.91682463880812,0.91571704227492445]
[null,"Testing choice 4.2","urndnpsf",479.3688481149623,11.631151885037678,144.4397936591869,0.92547522638195434]
[]
[null,"Results vs status quo screening base case (95%) - 2021"]
[null,"Testing choice","Name",null,"HIV+ newborn","pediatric HIV case averted","Percent pediatric HIV averted"]
[null,"Testing choice 0","zero",{"$f":"569-E32","v":371.37971805405402},197.62028194594598]
[null,"Testing choice 1","sq",{"$f":"569-E33","v":388.13570669111243},180.86429330888754]
[null,"Testing choice 2.1","ucsnp",553.51951125676294,15.480488743237101,{"$f":"$E$33-E34","v":165.38380456565045},{"$f":"F34/$E$33","v":0.91440826456110458}]
[null,"Testing choice 3.1.1","urcsnp",553.89912376879317,15.100876231206858,{"$f":"$E$33-E35","v":165.76341707768069},{"$f":"F35/$E$33","v":0.91650714491545904}]
[null,"Testing choice 3.1.2","ucsnpsf",555.14151697353714,13.858483026462906,167.00581028242465,0.92337634602759977]
[null,"Testing choice 4.1","urcsnpsf",555.52112948556737,13.478870514432664,167.38542279445488,0.92547522638195434]
[null,"Testing choice 2.2","undnp",552.13421669629713,16.865783303702834,163.9985100051847,0.90674896080842915]
[null,"Testing choice 3.2.1","urndnp",553.89912376879317,15.100876231206858,165.76341707768069,0.91650714491545904]
[null,"Testing choice 3.2.2","undnpsf",553.75622241307133,15.243777586928637,165.6205157219589,0.91571704227492434]
[null,"Testing choice 4.2","urndnpsf",555.52112948556737,13.478870514432664,167.38542279445488,0.92547522638195434]
[]
[null,"Results vs status quo screening base case (95%) - 2022"]
[null,"Testing choice","Name",null,"HIV+ newborn","pediatric HIV case averted","Percent pediatric HIV averted"]
[null,"Testing choice 0","zero",{"$f":"653-E45","v":426.20554637837836},226.79445362162164]
[null,"Testing choice 1","sq",{"$f":"653-E46","v":445.43517832916768},207.56482167083229]
[null,"Testing choice 2.1","ucsnp",635.23416669712856,17.765833302871403,{"$f":"$E$46-E47","v":189.79898836796087},{"$f":"F47/$E$46","v":0.91440826456110447}]
[null,"Testing choice 3.1.1","urcsnp",635.66982042358859,17.330179576411386,{"$f":"$E$46-E48","v":190.23464209442091},{"$f":"F48/$E$46","v":0.91650714491545904}]
[null,"Testing choice 3.1.2","ucsnpsf",637.09562492745113,15.904375072548818,191.66044659828347,0.92337634602759977]
[null,"Testing choice 4.1","urcsnpsf",637.53127865391116,15.468721346088804,192.09610032474347,0.92547522638195423]
[null,"Testing choice 2.2","undnp",633.64436467958183,19.355635320418187,188.20918635041409,0.90674896080842915]
[null,"Testing choice 3.2.1","urndnp",635.66982042358859,17.330179576411386,190.23464209442091,0.91650714491545904]
[null,"Testing choice 3.2.2","undnpsf",635.5058229099044,17.494177090095608,190.07064458073668,0.91571704227492445]
[null,"Testing choice 4.2","urndnpsf",637.53127865391116,15.468721346088804,192.09610032474347,0.92547522638195423]
[]
[null,"Results vs status quo screening base case (95%) - 2023"]
[null,"Testing choice","Name",null,"HIV+ newborn","pediatric HIV case averted","Percent pediatric HIV averted"]
[null,"Testing choice 0","zero",{"$f":"718-E58","v":468.63029448648649},249.36970551351351]
[null,"Testing choice 1","sq",{"$f":"718-E59","v":489.77405519194861},228.22594480805139]
[null,"Testing choice 2.1","ucsnp",698.46574531169733,19.534254688302703,{"$f":"$E$59-E60","v":208.6916901197487},{"$f":"F60/$E$59","v":0.91440826456110458}]
[null,"Testing choice 3.1.1","urcsnp",698.94476426360893,19.055235736391079,{"$f":"$E$59-E61","v":209.17070907166033},{"$f":"F61/$E$59","v":0.91650714491545904}]
[null,"Testing choice 3.1.2","ucsnpsf",700.51249417750375,17.487505822496249,210.73843898555515,0.92337634602759977]
[null,"Testing choice 4.1","urcsnpsf",700.99151312941535,17.008486870584626,211.21745793746678,0.92547522638195434]
[null,"Testing choice 2.2","undnp",696.71769347617112,21.282306523828879,206.94363828422252,0.90674896080842915]
[null,"Testing choice 3.2.1","urndnp",698.94476426360893,19.055235736391079,209.17070907166033,0.91650714491545904]
[null,"Testing choice 3.2.2","undnpsf",698.76444234197754,19.235557658022426,208.99038715002897,0.91571704227492445]
[null,"Testing choice 4.2","urndnpsf",700.99151312941535,17.008486870584626,211.21745793746678,0.92547522638195434]

{"sheet":"Chart Analysis","index":13,"n_rows":0,"n_cols":0,"rows_kept":0,"cut":false,"hidden":false,"merged":[]}

{"sheet":"Uncertainty Analysis","index":14,"n_rows":38,"n_cols":24,"rows_kept":38,"cut":false,"hidden":false,"merged":[[9,14,9,17],[9,4,9,7]]}
[]
[]
[null,"Sensitivity Analysis of Critical Parameters"]
[]
[null,"Policy","Base Case"]
[null,"URNDNPSF",{"$f":"'Base Case analysis'!W17","v":291170.26387276076}]
[null,"UCSNPSF",{"$f":"'Base Case analysis'!W12","v":291905.89596137317}]
[null,"UCSNP",{"$f":"'Base Case analysis'!W10","v":295457.1742871069}]
[]
[null,null,null,null,"ICER",null,null,null,null,null,null,null,null,null,"ICER"]
[null,null,"Base","lower range","URNDNPSF","Percent change","Absolute change","UCSNPSF","Percent change","Absolute change","UCSNP","Percent change","Absolute change","upper range","URNDNPSF",null,null,"UCSNPSF",null,null,"UCSNP","Percent change","Absolute change"]
[null,"cd4test",{"$f":"cd4test","v":931.03349841269846},{"$f":"C12*0.75","v":698.27512380952385},291958.87,{"$f":"(E12-$C$6)/$C$6","v":2.7084020076440737E-3},{"$f":"ABS(F12)","v":2.7084020076440737E-3},292698.21999999997,{"$f":"(H12-$C$7)/$C$7","v":2.714313241318175E-3},{"$f":"ABS(I12)","v":2.714313241318175E-3},295787.28999999998,{"$f":"(K12-$C$8)/$C$8","v":1.1173047792445653E-3},{"$f":"ABS(L12)","v":1.1173047792445653E-3},{"$f":"C12*1.25","v":1163.7918730158731},292023.18,{"$f":"(O12-$C$6)/$C$6","v":2.929269341913141E-3},{"$f":"ABS(P12)","v":2.929269341913141E-3},292762.67,{"$f":"(R12-$C$7)/$C$7","v":2.9351035744073703E-3},{"$f":"ABS(S12)","v":2.9351035744073703E-3},295852.37,{"$f":"(U12-$C$8)/$C$8","v":1.3375735886144661E-3},{"$f":"ABS(V12)","v":1.3375735886144661E-3},"`+25%"]
[null,"percentsqs",{"$f":"percentsqs","v":9.1598465969429943E-2},{"$f":"C13*0.75","v":6.8698849477072457E-2},291991.03000000003,{"$f":"(E13-$C$6)/$C$6","v":2.8188528468619349E-3},{"$f":"ABS(F13)","v":2.8188528468619349E-3},292730.45,{"$f":"(H13-$C$7)/$C$7","v":2.8247255366707306E-3},{"$f":"ABS(I13)","v":2.8247255366707306E-3},295819.83,{"$f":"(K13-$C$8)/$C$8","v":1.2274391839296143E-3},{"$f":"ABS(L13)","v":1.2274391839296143E-3},{"$f":"C13*1.25","v":0.11449808246178743},291991.03000000003,{"$f":"(O13-$C$6)/$C$6","v":2.8188528468619349E-3},{"$f":"ABS(P13)","v":2.8188528468619349E-3},292730.45,{"$f":"(R13-$C$7)/$C$7","v":2.8247255366707306E-3},{"$f":"ABS(S13)","v":2.8247255366707306E-3},295819.83,{"$f":"(U13-$C$8)/$C$8","v":1.2274391839296143E-3},{"$f":"ABS(V13)","v":1.2274391839296143E-3},"`+25%"]
[null,"pless4",{"$f":"pless4","v":0.53311258278145701},{"$f":"C14*0.75","v":0.39983443708609279},292024.53000000003,{"$f":"(E14-$C$6)/$C$6","v":2.9339058043804239E-3},{"$f":"ABS(F14)","v":2.9339058043804239E-3},292397.01,{"$f":"(H14-$C$7)/$C$7","v":1.6824395992735457E-3},{"$f":"ABS(I14)","v":1.6824395992735457E-3},295479.84999999998,7.6747883844045223E-5,{"$f":"ABS(L14)","v":7.6747883844045223E-5},{"$f":"C14*1.25","v":0.66639072847682124},291957.53000000003,{"$f":"(O14-$C$6)/$C$6","v":2.7037998893434459E-3},{"$f":"ABS(P14)","v":2.7037998893434459E-3},293064.58,{"$f":"(R14-$C$7)/$C$7","v":3.9693752495501815E-3},{"$f":"ABS(S14)","v":3.9693752495501815E-3},296160.53000000003,2.3805673854094692E-3,{"$f":"ABS(V14)","v":2.3805673854094692E-3},"`+25%"]
[null,"pcs",{"$f":"pcs","v":0.35835351089588374},{"$f":"C15*0.75","v":0.26876513317191281},291694.08000000002,1.7990028249181536E-3,1.7990028249181536E-3,292034.21000000002,4.3957330222555346E-4,4.3957330222555346E-4,295109.93,-1.1752778992243276E-3,1.1752778992243276E-3,{"$f":"C15*1.25","v":0.44794188861985468},292128.42,{"$f":"(O15-$C$6)/$C$6","v":3.2907073493532819E-3},3.2907073493532819E-3,293053.17,3.9302873100536036E-3,3.9302873100536036E-3,296148.89,2.3411708128669357E-3,2.3411708128669357E-3,"`+25%"]
[null,"pdelmore4",{"$f":"pdelmore4","v":3.9243445432647774E-2},2.9432584074485832E-2,291445.52,9.4534422429739607E-4,9.4534422429739607E-4,292182.42,9.4730542429127156E-4,9.4730542429127156E-4,295261.05,-6.6379937322601711E-4,6.6379937322601711E-4,4.9054306790809715E-2,292538.42,4.6988181727138948E-3,4.6988181727138948E-3,293280.37,4.7086203384144841E-3,4.7086203384144841E-3,296380.56,3.1252776823615354E-3,3.1252776823615354E-3,"`+25%"]
[null,"pless4bf",{"$f":"pless4bf","v":0.5391844997108155},0.40438837478311163,292061.28000000003,3.0601206159865278E-3,3.0601206159865278E-3,292801.03000000003,3.0665157881747838E-3,3.0665157881747838E-3,295107.89,-1.1821824531750016E-3,1.1821824531750016E-3,0.67398062463851938,291920.81,2.5776881102365086E-3,2.5776881102365086E-3,292659.90000000002,2.5830380580138283E-3,2.5830380580138283E-3,296534.95,3.6478238021927208E-3,3.6478238021927208E-3,"`+25%"]
[null,"cost of HIV test for HIV+",{"$f":"HIVtestcost","v":1920.8333333333335},1440.625,291924.69,2.5910136468088154E-3,2.5910136468088154E-3,292663.96000000002,2.5969466499818883E-3,2.5969466499818883E-3,295752.69,1.0001981289035769E-3,1.0001981289035769E-3,2401.041666666667,292057.37,3.046692046914855E-3,3.046692046914855E-3,292796.94,3.0525044233595732E-3,3.0525044233595732E-3,295886.96999999997,1.4546802389554545E-3,1.4546802389554545E-3,"`+25%"]
[null,"outhivcost",{"$f":"outhivcost","v":3918.889333333334},2939.1670000000004,291862.46000000002,2.3772898991558768E-3,2.3772898991558768E-3,292601.59000000003,2.3832819009552068E-3,2.3832819009552068E-3,295689.71000000002,7.8703694860073764E-4,7.8703694860073764E-4,4898.6116666666676,292119.59000000003,3.2603814504015378E-3,3.2603814504015378E-3,292859.3,3.2661349147705379E-3,3.2661349147705379E-3,295949.95,1.6678414192584908E-3,1.6678414192584908E-3,"`+25%"]
[null,"npcost",{"$f":"npcost","v":156.55000000000001},117.41250000000001,291985.89,2.8011999453202443E-3,2.8011999453202443E-3,292725.3,2.8070828645929296E-3,2.8070828645929296E-3,295814.63,1.2098393405257149E-3,1.2098393405257149E-3,195.6875,291996.15999999997,2.8364714042369704E-3,2.8364714042369704E-3,292735.59999999998,2.8423682087483325E-3,2.8423682087483325E-3,295825.03000000003,1.2450390273335134E-3,1.2450390273335134E-3,"`+25%"]
[null,"sfcost",{"$f":"sfcost","v":3798.3114674586955},2848.7336005940215,291985.53999999998,2.799997899495304E-3,2.799997899495304E-3,292724.95,2.8058838480440381E-3,2.8058838480440381E-3,295819.83,1.2274391839296143E-3,1.2274391839296143E-3,4747.8893343233694,291996.52,2.8377077942283659E-3,2.8377077942283659E-3,292735.95,2.8435672252974235E-3,2.8435672252974235E-3,295819.83,1.2274391839296143E-3,1.2274391839296143E-3,"`+25%"]
[null,"cscost",{"$f":"cscost","v":19000},14250,292053.89,3.0347402769995654E-3,3.0347402769995654E-3,292765.94,2.9463058147363953E-3,2.9463058147363953E-3,295855.67,1.3487427200053377E-3,1.3487427200053377E-3,23750,291928.17,2.6029654167241045E-3,2.6029654167241045E-3,292694.96000000002,2.7031452586050663E-3,2.7031452586050663E-3,295783.99,1.1061356478536937E-3,1.1061356478536937E-3,"`+25%"]
[null,"rcost",{"$f":"rcost","v":15557.749292740251},11668.311969555189,291968.55,2.7416471607419291E-3,2.7416471607419291E-3,292730.45,2.8247255366707306E-3,2.8247255366707306E-3,295819.83,1.2274391839296143E-3,1.2274391839296143E-3,19447.186615925315,292013.5,2.8960241888152851E-3,2.8960241888152851E-3,292730.45,2.8247255366707306E-3,2.8247255366707306E-3,295819.83,1.2274391839296143E-3,1.2274391839296143E-3,"`+25%"]
[null,"vltest",{"$f":"vltest","v":2658.3333333333335},1993.75,291903.81,{"$f":"(E24-$C$6)/$C$6","v":2.5193030273166781E-3},{"$f":"ABS(F24)","v":2.5193030273166781E-3},292643.03000000003,{"$f":"(H24-$C$7)/$C$7","v":2.5252454603534244E-3},{"$f":"ABS(I24)","v":2.5252454603534244E-3},295731.56,9.2868184214903074E-4,9.2868184214903074E-4,3322.916666666667,292078.25,{"$f":"(O24-$C$6)/$C$6","v":3.1184026664069918E-3},{"$f":"ABS(P24)","v":3.1184026664069918E-3},292817.86,{"$f":"(R24-$C$7)/$C$7","v":3.1241713553723204E-3},{"$f":"ABS(S24)","v":3.1241713553723204E-3},295908.09999999998,1.5261965257100008E-3,1.5261965257100008E-3,"`+25%"]
[null,"pmore4",{"$f":"pmore4","v":0.20125000000000001},0.1509375,291445.52,9.4534422429739607E-4,9.4534422429739607E-4,292182.42,9.4730542429127156E-4,9.4730542429127156E-4,295261.05,-6.6379937322601711E-4,6.6379937322601711E-4,0.25156250000000002,292538.42,4.6988181727138948E-3,4.6988181727138948E-3,293280.37,4.7086203384144841E-3,4.7086203384144841E-3,296380.56,3.1252776823615354E-3,3.1252776823615354E-3,"`+25%"]
[null,"earlyANC",{"$f":"earlyanc","v":0.96},0.9,292280.5,3.813013432320855E-3,3.813013432320855E-3,294137.74,7.6457655343904083E-3,7.6457655343904083E-3,302042.28000000003,2.2287851797073412E-2,2.2287851797073412E-2,1,291798.17,2.1564912532195204E-3,2.1564912532195204E-3,291798.17,-3.6904345840086278E-4,3.6904345840086278E-4,291798.17,-1.2384212012910283E-2,1.2384212012910283E-2]
[null,"pless4r",{"$f":"pless4r","v":0.27153442246933296},1.4E-2,291804.84000000003,{"$f":"(E27-$C$6)/$C$6","v":2.1793988122240917E-3},{"$f":"ABS(F27)","v":2.1793988122240917E-3},292730.45,{"$f":"(H27-$C$7)/$C$7","v":2.8247255366707306E-3},{"$f":"ABS(I27)","v":2.8247255366707306E-3},295819.83,{"$f":"(K27-$C$8)/$C$8","v":1.2274391839296143E-3},{"$f":"ABS(L27)","v":1.2274391839296143E-3},8.2000000000000003E-2,292177.43,{"$f":"(O27-$C$6)/$C$6","v":3.4590281089945424E-3},{"$f":"ABS(P27)","v":3.4590281089945424E-3},292730.45,{"$f":"(R27-$C$7)/$C$7","v":2.8247255366707306E-3},{"$f":"ABS(S27)","v":2.8247255366707306E-3},295819.83,{"$f":"(U27-$C$8)/$C$8","v":1.2274391839296143E-3},{"$f":"ABS(V27)","v":1.2274391839296143E-3}]
[null,"HIV transmission without intervention",{"$f":"base","v":0.1891891891891892},0.184,291810.59999999998,2.1991810520838192E-3,2.1991810520838192E-3,292529.43,2.1360789461728849E-3,2.1360789461728849E-3,295614.87,5.3373458699586848E-4,5.3373458699586848E-4,0.32500000000000001,296787.46999999997,1.92918262068612E-2,1.92918262068612E-2,298083.61,2.1163375334646507E-2,2.1163375334646507E-2,301279.03999999998,1.9704600935619022E-2,1.9704600935619022E-2]
[null,"HIV transmission though breastfeeding",{"$f":"breastfeed","v":0.16200000000000001},6.5000000000000002E-2,290228.55,{"$f":"(E29-$C$6)/$C$6","v":-3.2342377969348172E-3},{"$f":"ABS(F29)","v":3.2342377969348172E-3},290959.84999999998,{"$f":"(H29-$C$7)/$C$7","v":-3.2409278964971003E-3},{"$f":"ABS(I29)","v":3.2409278964971003E-3},292165.24,{"$f":"(K29-$C$8)/$C$8","v":-1.1141832297861254E-2},{"$f":"ABS(L29)","v":1.1141832297861254E-2},0.25900000000000001,293773.36,{"$f":"(O29-$C$6)/$C$6","v":8.9401166610089157E-3},{"$f":"ABS(P29)","v":8.9401166610089157E-3},294521.03000000003,{"$f":"(R29-$C$7)/$C$7","v":8.9588256859769212E-3},{"$f":"ABS(S29)","v":8.9588256859769212E-3},299559.75,{"$f":"(U29-$C$8)/$C$8","v":1.388551732680714E-2},{"$f":"ABS(V29)","v":1.388551732680714E-2}]
[null,"lifetime cost of HIV",{"$f":"lifecost","v":542974.1822178018},{"$f":"C30*0.75","v":407230.63666335132},298125.03000000003,{"$f":"(E30-$C$6)/$C$6","v":2.3885564530993636E-2},{"$f":"ABS(F30)","v":2.3885564530993636E-2},298864.45,{"$f":"(H30-$C$7)/$C$7","v":2.3838346997786027E-2},{"$f":"ABS(I30)","v":2.3838346997786027E-2},301953.83,{"$f":"(K30-$C$8)/$C$8","v":2.1988485229944257E-2},{"$f":"ABS(L30)","v":2.1988485229944257E-2},{"$f":"C30*1.25","v":678717.72777225228},285857.03000000003,{"$f":"(O30-$C$6)/$C$6","v":-1.8247858837269766E-2},{"$f":"ABS(P30)","v":1.8247858837269766E-2},286596.45,{"$f":"(R30-$C$7)/$C$7","v":-1.8188895924444566E-2},{"$f":"ABS(S30)","v":1.8188895924444566E-2},289685.83,{"$f":"(U30-$C$8)/$C$8","v":-1.953360686208503E-2},{"$f":"ABS(V30)","v":1.953360686208503E-2},"`+25%"]
[null,"sensitivity",{"$f":"sens","v":1},0.95,308804.84999999998,6.0564516076220626E-2,6.0564516076220626E-2,309582.98,6.0557475142488909E-2,6.0557475142488909E-2,312839.73,5.8832742020343685E-2,5.8832742020343685E-2,1,{"$f":"$C$6","v":291170.26387276076},0,0,{"$f":"$C$7","v":291905.89596137317},0,0,{"$f":"$C$8","v":295457.1742871069},0,0,"`-5%"]
[null,"acceptance rate",0.95,0.9,309757.13,6.3835042356391078E-2,6.3835042356391078E-2,310537.45,6.3827261786765302E-2,6.3827261786765302E-2,313803.68,6.2095312991334237E-2,6.2095312991334237E-2,1,276021.76000000001,-5.2026273807206251E-2,5.2026273807206251E-2,276724.45,-5.2008014128574039E-2,5.2008014128574039E-2,279655.08,-5.3483535558867125E-2,5.3483535558867125E-2]
[null,"utility",0.83,0.45,258890.59,{"$f":"(E33-$C$6)/$C$6","v":-0.1108618491580127},{"$f":"ABS(F33)","v":0.1108618491580127},259546.19,{"$f":"(H33-$C$7)/$C$7","v":-0.11085663705009648},{"$f":"ABS(I33)","v":0.11085663705009648},262285.36,{"$f":"(K33-$C$8)/$C$8","v":-0.11227283401442338},{"$f":"ABS(L33)","v":0.11227283401442338},1,309705.65000000002,{"$f":"(O33-$C$6)/$C$6","v":6.3658238587643329E-2},{"$f":"ABS(P33)","v":6.3658238587643329E-2},{"$f":"310489.93","v":310489.93},{"$f":"(R33-$C$7)/$C$7","v":6.3664469597030607E-2},{"$f":"ABS(S33)","v":6.3664469597030607E-2},313766.74,{"$f":"(U33-$C$8)/$C$8","v":6.1970286411461427E-2},{"$f":"ABS(V33)","v":6.1970286411461427E-2}]
[null,"population of pregnant women",{"$f":"pop","v":1700618},{"$f":"C34*0.75","v":1275463.5},213124.22,{"$f":"(E34-$C$6)/$C$6","v":-0.26804263194563815},0.26804263194563815,213684.37,-0.26796829746708489,0.26796829746708489,215998.5,-0.26893465856372778,0.26893465856372778,{"$f":"C34*1.25","v":2125772.5},370857.84,{"$f":"(O34-$C$6)/$C$6","v":0.27368033763936195},0.27368033763936195,371776.53,0.27361774854042636,0.27361774854042636,375641.16,0.27138953693158679,0.27138953693158679,"`+25%"]
[null,"cost of HIV test for HIV-",{"$f":"reqHIVtestcost","v":566.66999999999996},{"$f":"C35*0.75","v":425.00249999999994},213143.79,-0.2679754204119475,0.2679754204119475,213703.98,-0.26790111828272672,0.26790111828272672,216018.31,-0.26886760992952963,0.26886760992952963,{"$f":"C35*1.25","v":708.33749999999998},370838.27,0.27361312610567123,0.27361312610567123,371756.91,0.2735505350984524,0.2735505350984524,375621.35,0.27132248829738864,0.27132248829738864,"`+25%"]
[null,"pregnant women with hiv",{"$f":"pwhiv","v":422},{"$f":"C36*0.75","v":316.5},397146.78,{"$f":"(E36-$C$6)/$C$6","v":0.36396751068491739},0.36396751068491739,398125.22,{"$f":"(H36-$C$7)/$C$7","v":0.36388207812247275},0.36388207812247275,402248.26,0.36144353566828663,0.36144353566828663,{"$f":"C36*1.25","v":527.5},228897.58,-0.21387034185597148,0.21387034185597148,229493.58,-0.21380971342090321,0.21380971342090321,231962.77,-0.21490222547585525,0.21490222547585525,"`+25%"]
[null,"quality of life without hiv",{"$f":"qwohiv","v":28.309677443975772},{"$f":"C37*0.75","v":21.232258082981829},429282.11,0.47433362284410019,0.47433362284410019,430369.19,0.47434223136400494,0.47434223136400494,434911.17,0.47199393972874176,0.47199393972874176,{"$f":"C37*1.25","v":35.387096804969715},221236.24,-0.24018257545461927,0.24018257545461927,221796.49,-0.24017810853210891,0.24017810853210891,224137.26,-0.24138833135188192,0.24138833135188192,"`+25%"]
[null,"specificity",{"$f":"spec","v":1},0.95,554102.87,0.90302011829799633,0.90302011829799633,559454.36,0.91655724581195341,0.91655724581195341,560684.47,0.89768439826464219,0.89768439826464219,1,{"$f":"$C$6","v":291170.26387276076},0,0,{"$f":"$C$7","v":291905.89596137317},0,0,{"$f":"$C$8","v":295457.1742871069},0,0,"`-5%"]

{"sheet":"Threshold analysis","index":15,"n_rows":53,"n_cols":23,"rows_kept":53,"cut":false,"hidden":false,"merged":[[11,0,11,2]]}
[]
[]
[]
["Policy","Base Case","Cost-effective ICER for the Philippines"]
["URNDNPSF",{"$f":"'Base Case analysis'!$W$17","v":291170.26387276076},150000]
["URNDNP",{"$f":"'Base Case analysis'!$W$15","v":294705.13046515413},150000,null,"URNDNPSF",null,null,null,null,null,null,null,null,null,null,null,"URNDNPSF"]
["UCSNP",{"$f":"'Base Case analysis'!$W$10","v":295457.1742871069},150000,null,"Prevalence of HIV among PW",null,null,null,null,null,null,null,null,null,null,"Pax/counselling","Prevalence of HIV among PW"]
[null,null,null,null,{"$f":"B5","v":291170.26387276076},200,250,300,350,400,450,500,550,600,650,null,{"$f":"B5","v":291170.26387276076},300,400,500,600,700,800]
["pwhiv",422,null,null,100,93745.235987209424,70313.263532112716,54691.948562583326,43533.86644111963,35165.304850169952,28656.42361275994,23449.318622828952,19188.959994661811,15638.661137897767,12634.56210527154,1,566.66666666666674,419124.99817228032,308474.0171349594,242083.42851342267,197823.03609864644,166208.47008871642,142497.54558097551]
["hivnegtest",566.66999999999996,null,null,150,152318.27787198999,117170.31918929153,93738.346735050858,77001.22355281713,64448.381166397361,54685.059310286058,46874.401825392553,40483.863883119986,35158.415597977968,30652.267049062604,2,358.33333333333337,256431.67245366555,186461.19915067841,144478.91516940764,116490.7258483122,96499.162047896622,81505.489197411604]
[null,null,null,null,200,210891.31975677056,164027.37484647031,132784.74490751838,110468.58066451462,93731.457482624799,80713.695007812188,70299.485027956165,61778.767771578168,54678.170058058182,48669.971992853672,3,288.88888888888903,202200.56388079407,145790.25982258481,111944.0773880693,89379.955764867482,73262.726034290012,61174.80373622365]
[null,null,null,null,250,269464.36164155114,210884.43050364908,171831.14307998592,143935.93777621211,123014.53379885225,106742.33070533833,93724.568230519755,83073.671660036343,74197.924518138374,66687.676936644726,4,254.16666666666669,175085.00959435824,125454.79015853787,95676.658497400102,75824.570723145094,61644.508027486692,51009.461005629644]
[null,null,null,null,300,328037.40352633171,257741.48616082789,210877.54125245343,177403.29488790964,152297.61011507967,132770.96640286446,117149.6514330834,104368.57554849451,93717.67897821861,84705.381880435802,5,233.33333333333334,158815.67702249673,113253.50836010977,85916.207162998558,67691.339698111653,54673.577223404682,44910.255367273247]
[null,null,null,null,350,386610.44541111233,304598.5418180066,249923.93942492097,210870.6519996071,181580.68643130705,158799.60210039062,140574.73463564698,125663.47943695272,113237.43343829879,102723.08682422688,6,219.44444444444446,147969.45530792241,105119.32049449104,79409.239606730887,62269.185681422699,50026.290020683373,40844.118275035646]
[null,null,null,null,400,445183.48729589279,351455.59747518541,288970.33759738842,244338.00911130459,210863.76274753452,184828.23779791675,163999.81783821061,146958.38332541089,132757.18789837899,120740.79176801792,8,202.08333333333334,134411.67816470453,94951.585662467623,71275.530161396295,55491.49316056152,44217.181017281713,35761.446909738661]
[null,null,null,null,450,503756.52918067342,398312.65313236421,328016.73576985602,277805.36622300209,240146.83906376202,210856.87349544285,187424.90104077422,168253.28721386907,152276.9423584592,138758.49671180898,10,191.66666666666669,126277.01187877383,88850.944763253603,66395.304494195574,51424.877648044821,40731.715615240719,32711.844090560491]
[null,null,null,null,500,562329.57106545393,445169.70878954302,367063.13394232345,311272.72333469958,269429.91537998943,236885.50919296898,210849.98424333779,189548.19110232726,171796.69681853941,156776.20165560007,12,184.72222222222223,120853.90102148666,84783.850830444208,63141.820716061717,48713.800639700334,38408.072013880061,30678.775544441673]
[null,null,null,null,550,620902.61295023456,492026.76444672176,406109.53211479099,344740.08044639719,298712.99169621686,262914.14489049505,234275.06744590143,210843.0949907855,191316.45127861961,174793.90659939111,15,177.77777777777777,115430.79016419948,80716.756897634841,59888.336937927896,46002.723631355861,36084.428412519403,28645.70699832289]
[null,null,null,null,600,679475.65483501495,538883.82010390062,445155.93028725841,378207.43755809462,327996.06801244424,288942.78058802127,257700.15064846503,232137.99887924362,210836.20573869988,192811.6115431822,20,170.83333333333334,110007.67930691232,76649.662964825475,56634.853159794045,43291.646623011395,33760.784811158737,26612.638452204079]
[null,null,null,null,"Threshold value",150000,null,null,null,null,null,null,null,null,null,null,"Threshold value",150000]
[]
[]
[null,null,null,null,"URNDNP",null,null,null,null,null,null,null,null,null,null,null,"URNDNP"]
[null,null,null,null,"Prevalence of HIV among PW",null,null,null,null,null,null,null,null,null,null,"Pax/counselling","Prevalence of HIV among PW"]
[null,null,null,null,{"$f":"B6","v":294705.13046515413},200,250,300,350,400,450,500,550,600,650,null,{"$f":"B6","v":294705.13046515413},300,400,500,600,700,800]
[null,null,null,null,100,95055.750172289394,71359.773883048503,55562.45635719291,44278.658124409136,35815.809449701665,29233.593813917196,23967.821305280486,19659.461979984993,16069.162542248408,13031.21686419362,1,566.66666666666674,424101.5078231924,312203.84201397025,245065.24252910606,200306.17620496327,168335.41454556413,144357.34330074885]
[null,null,null,null,150,154288.72402264577,118744.75958874397,95048.783299978575,78123.085950815788,65428.812938730407,55555.489485064965,47656.830722118946,41194.291734158491,35808.842577539297,31251.924060465757,2,358.33333333333337,259575.14556158546,188816.32747635033,146361.03662561247,118057.50939125128,97840.704224266476,82678.100348872133]
[null,null,null,null,200,213521.69787300221,166129.74529443937,134535.1102427642,111967.5137772224,95041.816427759171,81877.385156212753,71345.840138957385,62729.121488331984,55548.522612830166,49472.631256737906,3,288.88888888888903,204733.02480771655,147687.15596381039,113459.63465778132,90641.287120013993,74342.467450500626,62118.352698246563]
[null,null,null,null,250,272754.67172335862,213514.73100013478,174021.43718554985,145811.94160362903,124654.81991678796,108199.28082736055,95034.849555795823,84263.9512425055,75288.202648121034,67693.338453010059,4,254.16666666666669,177311.96443078201,127122.57020754035,97008.9336738657,76933.17598439529,62593.349063617636,51838.47887293376]
[null,null,null,null,300,331987.64557371504,260899.71670583027,213507.76412833546,179656.36943003564,154267.82340581671,134521.17649850834,118723.85897263428,105798.78099667898,95027.882683411925,85914.045649282183,5,233.33333333333334,160859.3282046213,114783.81875377835,87138.513083516329,68708.309303024085,55543.878031487868,45670.554577746065]
[null,null,null,null,350,391220.61942407151,308284.70241152571,252994.09107112116,213500.79725644225,183880.82689484544,160843.07216965611,142412.86838947269,127333.6107508525,114767.5627187028,104134.75284555437,6,219.44444444444446,149890.90405384748,106557.98445127039,80558.232689950091,63225.06484877663,50844.230676734689,41558.605047620942]
[null,null,null,null,400,450453.59327442781,355669.68811722111,292480.41801390675,247345.22508284886,213493.83038387421,187164.9678408039,166101.87780631115,148868.440505026,134507.24275399369,122355.46004182649,8,202.08333333333334,136180.37386538027,96275.691573135395,72332.882197992294,56371.009280967301,44969.671483293212,36418.668134964566]
[null,null,null,null,450,509686.56712478423,403054.67382291652,331966.74495669245,281189.65290925553,243106.83387290305,213486.8635119517,189790.88722314959,170403.27025919943,154246.92278928458,140576.16723809863,10,191.66666666666669,127954.05575229996,90106.315846254423,67397.671902817645,52258.575940281691,41444.935967228332,33334.70598737074]
[null,null,null,null,500,568919.54097514064,450439.65952861198,371453.07189947803,315034.0807356622,272719.8373619318,239808.75918309949,213479.89663998803,191938.10001337298,173986.60282457544,158796.87443437078,12,184.72222222222223,122469.84367691306,85993.398695000404,64107.531706034504,49516.953713157949,39095.112289851742,31278.731222308172]
[null,null,null,null,550,628152.51482549706,497824.64523430739,410939.39884226379,348878.5085620688,302332.84085096052,266130.65485424729,237168.90605682653,213472.92976754648,193726.28285986627,177017.5816306429,15,177.77777777777777,116985.63160152615,81880.481543746384,60817.391509251407,46775.331486034214,36745.28861247516,29222.756457245614]
[null,null,null,null,600,687385.48867585335,545209.63094000285,450425.72578504938,382722.93638847541,331945.8443399893,292452.55052539508,260857.91547366499,235007.75952171994,213465.96289515714,195238.28882691506,20,170.83333333333334,111501.41952613926,77767.564392492393,57527.251312468266,44033.709258910487,34395.464935098564,27166.781692183053]
[null,null,null,null,"Threshold value",150000,null,null,null,null,null,null,null,null,null,null,"Threshold value",150000]
[]
[null,null,null,null,"UCSNP",null,null,null,null,null,null,null,null,null,null,null,"UCSNP"]
[null,null,null,null,"Prevalence of HIV among PW",null,null,null,null,null,null,null,null,null,null,"Pax/counselling","Prevalence of HIV among PW"]
[null,null,null,null,{"$f":"B7","v":295457.1742871069},200,250,300,350,400,450,500,550,600,650,null,{"$f":"B7","v":295457.1742871069},300,400,500,600,700,800]
[null,null,null,null,100,95350.051765298384,71599.746987829654,55766.210470038917,44456.541528361224,35974.289822247883,29376.982939705627,24099.137433665685,19780.900201405551,16182.369174564403,13137.458305695876,1,566.66666666666674,425150.22267148504,312996.0056671254,245703.47546528582,200841.78866358561,168797.72666271374,144764.68016181572]
[null,null,null,null,150,154718.83086306049,119093.37369681684,95343.068920193866,78378.565507645093,65655.18794848476,55759.227624678868,47842.459365624978,41365.103517215102,35967.306976959539,31399.940673661938,2,358.33333333333337,260246.64579583943,189325.59680780512,146772.96741545544,118404.54782027256,98141.39096677296,82944.023326506329]
[null,null,null,null,200,214087.60996082265,166587.00040580399,134919.92737034877,112300.58948692895,95336.086074721636,82141.472309652119,71585.781297584268,62949.306833024646,55752.244779354667,49662.42304162799,3,288.88888888888891,205278.78683729089,148102.12718803168,113796.13139884523,90925.467539168239,74589.279068126008,62337.137714736491]
[null,null,null,null,250,273456.38905858481,214080.62711479116,174496.78582050372,146222.61346621285,125016.98420095853,108523.71699462536,95329.103229543558,84533.51014883419,75537.182581749774,67924.905409594052,4,254.16666666666669,177794.85735801666,127490.39237814494,97307.713390540215,77185.92739861607,62813.223118802591,52033.694908851619]
[null,null,null,null,300,332825.16815634677,261574.25382377833,214073.64427065864,180144.63744549674,154697.8823271954,134905.96167959864,119072.42516150291,106117.71346464375,95322.120384144917,86187.387777560099,5,233.33333333333334,161304.49967045206,115123.35149221288,87414.662585557133,68942.20331428475,55747.589549208482,45851.629225320656]
[null,null,null,null,350,392193.94725410896,309067.88053276541,253650.50272081362,214066.66142478058,184378.78045343223,161288.20636457187,142815.74709346215,127701.91678045331,115107.05818654005,104449.87014552619,6,219.44444444444446,150310.92787874234,106878.65756825822,80819.295382235097,63446.387258063885,51037.1671694791,41730.25210296669]
[null,null,null,null,400,451562.72635187098,356561.50724175252,293227.36117096851,247988.68540406445,214059.67857966915,187670.45104954514,166559.06902542149,149286.12009626284,134891.99598893517,122712.35251349224,8,202.08333333333334,136568.96313910527,96572.790163314858,72575.086378082575,56576.617187787801,45149.139194817362,36578.530700024261]
[null,null,null,null,450,510931.50544963311,404055.13395073969,332804.21962112351,281910.70938334835,243740.57670590599,214052.69573451838,190302.39095738076,170870.32341207241,154676.93379133032,140974.83488145832,10,191.66666666666669,128323.78429532301,90389.26972034885,67628.56097559107,52454.755145622163,41616.322410020322,33487.497858258801]
[null,null,null,null,500,570300.28454739531,451548.76065972698,372381.07807127835,315832.73336263216,273421.47483214288,240434.94041949161,214045.71288934009,192454.52672788192,174461.87159372543,159237.31724942438,12,184.72222222222223,122826.99839946814,86266.922758371496,64330.877373930038,49706.847117511708,39261.111220155632,31426.809297081811]
[null,null,null,null,550,629669.06364515738,499042.38736871415,411957.93652143329,349754.75734191615,303102.37295837968,266817.18510446482,237789.03482129937,214038.73004369152,194246.80939612052,177499.79961739041,15,177.77777777777777,117330.21250361328,82144.575796394129,61033.193772269027,46958.939089401276,36905.900030290948,29366.120735904831]
[null,null,null,null,600,689037.84274291934,546536.01407770137,451534.79497158818,383676.78132119996,332783.2710846166,293199.42978943809,261532.35675325865,235622.93335950104,214031.74719851569,195762.28198535647,20,170.83333333333334,111833.42660775842,78022.22883441679,57735.51017060801,44211.031061290836,34550.68884042625,27305.432174727848]
[null,null,null,null,"Threshold value",150000,null,null,null,null,null,null,null,null,null,null,"Threshold value",150000]

{"sheet":"PSA","index":16,"n_rows":10007,"n_cols":122,"rows_kept":1125,"cut":true,"hidden":false,"merged":[],"bounds":{"rows_first":500,"rows_last":125,"rows_between":500,"halvings":2}}
[null,null,"Probabilistic Sensitivity Analysis",null,null,null,null,null,null,null,null,null,null,null,null,null,null,null,null,null,null,null,null,"Cost-effectiveness Results",null,"Cost-effectiveness Results",null,"Cost-effectiveness Results",null,null,null,null,"Cost-effectiveness Results",null,null,null,null,"Cost-effectiveness Results",null,null,null,null,"Cost-effectiveness Results",null,null,null,null,"Cost-effectiveness Results",null,null,null,null,"Cost-effectiveness Results",null,null,null,null,"Cost-effectiveness Results",null,null,null,null,"Cost-effectiveness Results",null,null,null,null,null,null,null,"Net Monetary Benefit",null,null,null,null,null,null,null,null,null,null,null,null,null,null,null,null,null,null,null,null,null,null,null,null,null,null,null,null,null,null,null,null,null,"Acceptability Curve"]
[null,null,null,null,null,null,null,null,null,null,null,null,null,null,null,null,null,null,null,null,null,null,null,"Policy Do Nothing",null,"Policy SQ",null,"Policy UCSNP",null,null,null,null,"Policy URCSNP",null,null,null,null,"Policy UCSNPSF",null,null,null,null,"Policy URCSNPSF",null,null,null,null,"Policy UNDNP",null,null,null,null,"Policy URNDNP",null,null,null,null,"Policy UNDNPSF",null,null,null,null,"Policy URNDNPSF",null,null,null,null,null,null,null,"Policy Do nothing","Policy SQ","Policy UCSNP","Policy URCSNP","Policy UCSNPSF","Policy URCSNPSF","Policy UNDNP","Policy URNDNP","Policy UNDNPSF","Policy URNDNPSF","Policy Do nothing","Policy SQ","Policy UCSNP","Policy URCSNP","Policy UCSNPSF","Policy URCSNPSF","Policy UNDNP","Policy URNDNP","Policy UNDNPSF","Policy URNDNPSF",null,"Policy SQ","Policy UCSNP","Policy URCSNP","Policy UCSNPSF","Policy URCSNPSF","Policy UNDNP","Policy URNDNP","Policy UNDNPSF","Policy URNDNPSF",null,null,null,null,null,"Policy Do nothing","Policy SQ","Policy UCSNP","Policy URCSNP","Policy UCSNPSF","Policy URCSNPSF","Policy UNDNP","Policy URNDNP","Policy UNDNPSF","Policy URNDNPSF"]
[null,null,"pop","base","breastfeed","pmore4","pless4","pless4r","pcs","pdelmore4","pless4bf","reqHIVtestcost","HIVtestcost","outHIVcost","lifecost","npcost","sfcost","cscost","rcost","vltest","cd4test","utility",null,"Total QALY","Total cost","Total QALY","Total cost","Total QALY","Total cost","incremental QALY","Incremental cost","ICER","Total QALY","Total cost","incremental QALY","Incremental cost","ICER","Total QALY","Total cost","incremental QALY","Incremental cost","ICER","Total QALY","Total cost","incremental QALY","Incremental cost","ICER","Total QALY","Total cost","incremental QALY","Incremental cost","ICER","Total QALY","Total cost","incremental QALY","Incremental cost","ICER","Total QALY","Total cost","incremental QALY","Incremental cost","ICER","Total QALY","Total cost","incremental QALY","Incremental cost","ICER",null,"cRatio",1600000,null,null,null,null,null,null,null,null,null,null,null,null,null,null,null,null,null,null,null,null,null,null,null,null,null,null,null,null,null,null,null,null,null,null,"WTP Threshold"]
[null,null,{"$f":"pop","v":1700618},{"$f":"base","v":0.1891891891891892},{"$f":"breastfeed","v":0.16200000000000001},{"$f":"pmore4","v":0.20125000000000001},{"$f":"pless4","v":0.53311258278145701},{"$f":"pless4r","v":0.27153442246933296},{"$f":"pcs","v":0.35835351089588374},{"$f":"pdelmore4","v":3.9243445432647774E-2},{"$f":"pless4bf","v":0.5391844997108155},{"$f":"reqHIVtestcost","v":566.66999999999996},{"$f":"HIVtestcost","v":1920.8333333333335},{"$f":"outhivcost","v":3918.889333333334},{"$f":"lifecost","v":542974.1822178018},{"$f":"npcost","v":156.55000000000001},{"$f":"sfcost","v":3798.3114674586955},{"$f":"cscost","v":19000},{"$f":"rcost","v":15557.749292740251},{"$f":"vltest","v":2658.3333333333335},{"$f":"cd4test","v":931.03349841269846},{"$f":"utility","v":0.83},null,{"$f":"'Base Case analysis'!S8","v":48140703.586226821},{"$f":"'Base Case analysis'!F8","v":79581272.466158345},{"$f":"'Base Case analysis'!S9","v":48140978.452292345},{"$f":"'Base Case analysis'!F9","v":161249877.58965489},{"$f":"'Base Case analysis'!S10","v":48143695.911846556},{"$f":"'Base Case analysis'!F10","v":964142798.71613288},{"$f":"'Base Case analysis'!V10","v":2717.4595542103052},{"$f":"'Base Case analysis'!T10","v":802892921.12647796},{"$f":"AE4/AD4","v":295457.1742871069},{"$f":"'Base Case analysis'!S11","v":48143702.142249033},{"$f":"'Base Case analysis'!F11","v":964236918.78184259},{"$f":"'Base Case analysis'!V11","v":2723.6899566873908},{"$f":"'Base Case analysis'!T11","v":802987041.19218767},{"$f":"AJ4/AI4","v":294815.8762419484},{"$f":"'Base Case analysis'!S12","v":48143726.599173158},{"$f":"'Base Case analysis'!F12","v":963450155.06681001},{"$f":"'Base Case analysis'!V12","v":2748.146880812943},{"$f":"'Base Case analysis'!T12","v":802200277.47715509},{"$f":"AO4/AN4","v":291905.89596137317},{"$f":"'Base Case analysis'!S13","v":48143732.829575643},{"$f":"'Base Case analysis'!F13","v":963544275.1325196},{"$f":"'Base Case analysis'!V13","v":2754.3772832974792},{"$f":"'Base Case analysis'!T13","v":802294397.54286468},{"$f":"AT4/AS4","v":291279.77579831611},{"$f":"'Base Case analysis'!S14","v":48143673.175655313},{"$f":"'Base Case analysis'!F14","v":964399016.76601696},{"$f":"'Base Case analysis'!V14","v":2694.7233629673719},{"$f":"'Base Case analysis'!T15","v":802685404.03218758},{"$f":"AY4/AX4","v":297873.02662054612},{"$f":"'Base Case analysis'!S15","v":48143702.142249033},{"$f":"'Base Case analysis'!F15","v":963935281.6218425},{"$f":"'Base Case analysis'!V15","v":2723.6899566873908},{"$f":"'Base Case analysis'!T15","v":802685404.03218758},{"$f":"BD4/BC4","v":294705.13046515413},{"$f":"'Base Case analysis'!S16","v":48143703.862981915},{"$f":"'Base Case analysis'!F16","v":963706373.11669397},{"$f":"'Base Case analysis'!V16","v":2725.4106895700097},{"$f":"'Base Case analysis'!T16","v":802456495.52703905},{"$f":"BI4/BH4","v":294435.0730691686},{"$f":"'Base Case analysis'!S17","v":48143732.829575643},{"$f":"'Base Case analysis'!F17","v":963242637.97251976},{"$f":"'Base Case analysis'!V17","v":2754.3772832974792},{"$f":"'Base Case analysis'!T17","v":801992760.38286483},{"$f":"BN4/BM4","v":291170.26387276076}]
[null,null,null,null,null,null,null,null,null,null,null,null,null,null,null,null,null,null,null,null,null,null,null,null,null,null,null,null,null,null,null,{"$f":"COUNTIF(AF8:AF1007,\"<=150000\")","v":435},null,null,null,null,{"$f":"COUNTIF(AK8:AK1007,\"<=150000\")","v":435},null,null,null,null,{"$f":"COUNTIF(AP8:AP1007,\"<=150000\")","v":440},null,null,null,null,{"$f":"COUNTIF(AU8:AU1007,\"<=150000\")","v":440},null,null,null,null,{"$f":"COUNTIF(AZ8:AZ1007,\"<=150000\")","v":434},null,null,null,null,{"$f":"COUNTIF(BE8:BE1007,\"<=150000\")","v":435},null,null,null,null,{"$f":"COUNTIF(BJ8:BJ1007,\"<=150000\")","v":435},null,null,null,null,{"$f":"COUNTIF(BO8:BO1007,\"<=150000\")","v":440},"<= 150000"]
[null,null,null,null,null,null,null,null,null,null,null,null,null,null,null,null,null,null,null,null,null,null,null,null,null,null,null,null,null,null,null,{"$f":"COUNTIF(AF8:AF1007,\"<0\")","v":72},null,null,null,null,{"$f":"COUNTIF(AK8:AK1007,\"<0\")","v":72},null,null,null,null,{"$f":"COUNTIF(AP8:AP1007,\"<0\")","v":72},null,null,null,null,{"$f":"COUNTIF(AU8:AU1007,\"<0\")","v":72},null,null,null,null,{"$f":"COUNTIF(AZ8:AZ1007,\"<0\")","v":72},null,null,null,null,{"$f":"COUNTIF(BE8:BE1007,\"<0\")","v":72},null,null,null,null,{"$f":"COUNTIF(BJ8:BJ1007,\"<0\")","v":72},null,null,null,null,{"$f":"COUNTIF(BO8:BO1007,\"<0\")","v":72},"<0"]
[null,"Trial",null,null,null,null,null,null,null,null,null,null,null,null,null,null,null,null,null,null,null,null,null,{"$f":"AVERAGE(X8:X1007)","v":48298357.671995774},78407365.835830674,48298633.154273421,158013799.86837918,48301356.800279491,940851235.74290001,2723.6460061487892,782837435.87452269,288890.96859233052,48301363.119706504,940935989.42826688,2729.9654331806378,782922189.55988717,288185.13169746305,48301386.262841716,940207129.90999365,2753.1085682535545,782193330.04161632,285365.79288916243,48301392.582268655,940291883.59536183,2759.4279952851462,782278083.72698164,284724.50627664727,48301333.351459615,941134945.92021859,2700.1971862255818,782631458.36666,291683.77192956861,48301363.119706504,940645258.23503828,2729.9654331806378,782631458.36666,288073.5584664605,48301362.814021751,940490840.08731246,2729.6597483301462,782477040.21893609,288048.45581014192,48301392.582268655,940001152.40213287,2759.4279952851462,781987352.5337534,284617.9752355169,null,null,null,{"$f":"AVERAGE(BS8:BS1007)","v":77277293867827.438},{"$f":"AVERAGE(BT8:BT1007)","v":77277655033037.594},77281230029211.609,77281240055541.109,77281277813416.781,77281287839746.359,77281192227389.516,77281240346272.375,77281240011594.781,{"$f":"AVERAGE(CB8:CB1007)","v":77281288130477.375},8.9999999999999993E-3,0,3.0000000000000001E-3,4.0000000000000001E-3,4.0000000000000001E-3,1.6E-2,3.0000000000000001E-3,4.0000000000000001E-3,4.0000000000000001E-3,0.99099999999999999,{"$f":"SUM(CC7:CL7)","v":1.038},{"$f":"AVERAGE(CN8:CN1007)","v":8.0000000000000002E-3},3.0000000000000001E-3,4.0000000000000001E-3,4.0000000000000001E-3,1.6E-2,3.0000000000000001E-3,4.0000000000000001E-3,4.0000000000000001E-3,0.99199999999999999,null,null,null,null,0,0.92800000000000005,0,0,0,1.2E-2,0,0,2E-3,0,5.8000000000000003E-2]
[null,1,2082839.4650532471,0.17667805584386276,0.1514474349771481,0.20681797838521243,0.6583880329444427,0.21767828195063293,0.37875183700151438,3.3922974839635564E-2,0.52743913268822651,96.957623352703138,85.684371901288401,234.15719741659098,38951.479273798846,307.16286418109826,10856.971986290751,3809.112411284189,133778.44947115815,10137.086758073214,212.9080824451882,0.8032213303058362,null,58961265.880243644,5665105.6332433159,58961532.776792265,24046997.9483376,58964175.277592435,205039052.2690402,2642.5008001700044,180992054.32070261,68492.71504820681,58964209.695004322,211971046.97711754,2676.91821205616,187924049.02877992,70201.640148144128,58964268.500460654,205443879.64718053,2735.7236683890224,181396881.69884294,66306.72673372073,58964302.917872541,212375874.35525784,2770.141080275178,188328876.40692025,67985.301451943451,58964090.940650828,204987085.82371777,2558.1638585627079,187724962.84294915,73382.69681771734,58964209.695004322,211771960.79128677,2676.91821205616,187724962.84294915,70127.268736670245,58964184.163519047,205391913.2018581,2651.3867267817259,181344915.25352049,68396.252203328477,58964302.917872541,212176788.16942707,2770.141080275178,188129790.22108948,67913.432843067043,null,null,null,{"$f":"cRatio*X8-Y8","v":94338019743284.188},{"$f":"cRatio*Z8-AA8","v":94338428395869.672},{"$f":"cRatio*AB8-AC8","v":94342475405095.625},{"$f":"cRatio*AG8-AH8","v":94342523540959.938},{"$f":"cRatio*AL8-AM8","v":94342624156857.406},{"$f":"cRatio*AQ8-AR8","v":94342672292721.703},{"$f":"cRatio*AV8-AW8","v":94342340517955.5},{"$f":"cRatio*BA8-BB8","v":94342523740046.125},{"$f":"cRatio*BF8-BG8","v":94342489269717.266},{"$f":"cRatio*BK8-BL8","v":94342672491807.891},{"$f":"IF(BS8=MAX($BS8:$CB8),1,0)","v":0},{"$f":"IF(BT8=MAX($BS8:$CB8),1,0)","v":0},{"$f":"IF(BU8=MAX($BS8:$CB8),1,0)","v":0},0,0,{"$f":"IF(BX8=MAX($BS8:$CB8),1,0)","v":0},{"$f":"IF(BY8=MAX($BS8:$CB8),1,0)","v":0},{"$f":"IF(BZ8=MAX($BS8:$CB8),1,0)","v":0},{"$f":"IF(CA8=MAX($BS8:$CB8),1,0)","v":0},{"$f":"IF(CB8=MAX($BS8:$CB8),1,0)","v":1},null,{"$f":"IF(BT8=MAX($BT8:$CB8),1,0)","v":0},{"$f":"IF(BU8=MAX($BT8:$CB8),1,0)","v":0},0,0,0,0,0,0,1,null,null,null,null,5000,0.90800000000000003,0,0,0,1.4E-2,0,0,0,2E-3,7.5999999999999998E-2]
[null,2,1460289.7274248265,0.19527226381950613,0.20613685606151888,0.17887398117032663,0.68875804212594005,0.31540766218745553,0.33540075812037706,3.2663144553169529E-2,0.51676234720306213,484.31887827653463,3477.7198050268071,4109.9554023470155,72075.752286324321,64.206092408327081,7314.4600435207849,14641.019354192662,14861.64507617663,1019.0605919992485,933.61205308680042,0.49005018256981137,null,41336678.085344352,10676746.937641578,41336980.388292015,74799370.025017723,41339966.256189957,705356614.77362251,2985.8678979426622,630557244.74860477,211180.55664253415,41339983.345852584,705727850.01915836,3002.9575605690479,630928479.99414062,210102.36317644874,41340040.705178306,705346318.17868912,3060.3168862909079,630546948.15367138,206039.75718275757,41340057.794840932,705717553.42422485,3077.4065489172935,630918183.39920712,205016.19573831721,41339903.785057895,705124267.43269467,2923.3967658802867,630513549.79660797,215678.40436696561,41339983.345852584,705312919.82162571,3002.9575605690479,630513549.79660797,209964.18932977805,41339978.234046251,705113970.83776128,2997.8457542359829,630314600.81274354,210255.84786078581,41340057.794840932,705302623.22669232,3077.4065489172935,630503253.20167458,204881.36460991835,null,null,null,{"$f":"cRatio*X9-Y9","v":66138674259804.023},66139093821897.203,66143240653289.156,66143267625514.117,66143359781967.109,66143386754192.07,66143140931825.203,66143268040444.312,66143260060503.164,66143387169122.266,{"$f":"IF(BS9=MAX($BS9:$CB9),1,0)","v":0},{"$f":"IF(BT9=MAX($BS9:$CB9),1,0)","v":0},{"$f":"IF(BU9=MAX($BS9:$CB9),1,0)","v":0},{"$f":"IF(BV9=MAX($BS9:$CB9),1,0)","v":0},{"$f":"IF(BW9=MAX($BS9:$CB9),1,0)","v":0},{"$f":"IF(BX9=MAX($BS9:$CB9),1,0)","v":0},{"$f":"IF(BY9=MAX($BS9:$CB9),1,0)","v":0},{"$f":"IF(BZ9=MAX($BS9:$CB9),1,0)","v":0},{"$f":"IF(CA9=MAX($BS9:$CB9),1,0)","v":0},{"$f":"IF(CB9=MAX($BS9:$CB9),1,0)","v":1},null,{"$f":"IF(BT9=MAX($BT9:$CB9),1,0)","v":0},{"$f":"IF(BU9=MAX($BT9:$CB9),1,0)","v":0},{"$f":"IF(BV9=MAX($BT9:$CB9),1,0)","v":0},{"$f":"IF(BW9=MAX($BT9:$CB9),1,0)","v":0},{"$f":"IF(BX9=MAX($BT9:$CB9),1,0)","v":0},{"$f":"IF(BY9=MAX($BT9:$CB9),1,0)","v":0},{"$f":"IF(BZ9=MAX($BT9:$CB9),1,0)","v":0},{"$f":"IF(CA9=MAX($BT9:$CB9),1,0)","v":0},{"$f":"IF(CB9=MAX($BT9:$CB9),1,0)","v":1},null,null,null,null,10000,0.88700000000000001,0,0,0,1.6E-2,0,0,0,0,9.7000000000000003E-2]
[null,3,1655660.8509470508,0.17411323132695547,0.15043138711937637,0.22168963532884822,0.60006029727680166,0.31445874648811412,0.46702424665259967,4.1353666788284893E-2,0.63564010293259621,921.3630348946001,1024.0733472465899,907.99751099263904,37764.489939715422,177.56536150949833,9055.2279817820981,20483.01718075962,132959.0641232093,5783.6278068012643,969.46452284638212,0.70066602474952899,null,46867859.483290419,5503201.342998133,46868139.904286243,144412949.9322454,46870915.758123778,1514548258.4987495,2775.8538375347853,1370135308.566504,493590.58104561828,46870933.007368743,1518796484.9465446,2793.1030825003982,1374383535.0142992,492063.30537000624,46870986.779334888,1514723362.5992773,2846.8750486448407,1370310412.6670318,481338.44627965742,46871004.028579861,1518971589.0470722,2864.1242936179042,1374558639.1148267,479922.83092522912,46870874.398893751,1513957088.6276591,2734.4946075081825,1373724728.5600715,502368.78317046043,46870933.007368743,1518137678.492317,2793.1030825003982,1373724728.5600715,491827.43636167806,46870945.420104861,1514132192.7281871,2805.515818618238,1369719242.7959416,488223.67484299216,46871004.028579861,1518312782.5928447,2864.1242936179042,1373899832.6605992,479692.81072125421,null,null,null,74988569670063.328,74988879433908.047,74991950664739.547,74991974015305.031,74992064123573.234,74992087474138.734,74991885081141.375,74991974674111.484,74991998539975.047,74992088132945.188,0,0,0,0,0,0,0,0,0,1,null,0,0,0,0,0,0,0,0,1,null,null,null,null,{"$f":"DA9+10000","v":20000},0.86,0,0,0,1.7999999999999999E-2,0,0,0,0,0.122]
[null,4,1719555.5048013765,0.19482323845237659,0.15369819374791294,0.18219850442322863,0.49117030268877326,0.25628054293783881,0.44959364844121019,4.4700324853844786E-2,0.63068105569848987,3162.0158845387446,4058.673252945026,951.12170128088542,25748.331822646418,165.10932018243867,607.33773918385839,38221.413197284572,12906.648529819004,4193.1006439349367,26.349915002018058,0.69752607424583035,null,48676675.180531308,3772135.2490964625,48676965.680395737,498130813.80644685,48679838.523859724,5385706109.8691139,2872.843463987112,4887575296.0626669,1701302.3359370176,48679839.46321474,5385730555.574544,2873.7828190028667,4887599741.7680969,1700754.7367354559,48679842.949573256,5385702379.7491369,2877.269177518785,4887571565.9426899,1698684.1565367514,48679843.888928272,5385726825.454567,2878.2085325345397,4887596011.6481199,1698138.253847827,48679836.119158939,5385633296.9733963,2870.4387632012367,4887524250.3438835,1702709.8132179298,48679839.46321474,5385655064.1503305,2873.7828190028667,4887524250.3438835,1700728.4677273338,48679840.54487247,5385629566.8534193,2874.8644767329097,4887498753.0469723,1700079.7055314712,48679843.888928272,5385651334.0303535,2878.2085325345397,4887520520.2239065,1698112.0252325756,null,null,null,77882676516714.844,77882646957819.359,77882355932065.688,77882357410588,77882363016937.453,77882364495459.781,77882352157357.328,77882357486079.422,77882359242229.094,77882364570951.203,1,0,0,0,0,0,0,0,0,0,null,1,0,0,0,0,0,0,0,0,null,null,null,null,30000,0.84,0,0,0,0.02,0,0,0,0,0.14000000000000001]
[null,5,1609987.1116793,0.28092455092525015,0.13747280848824453,0.20795887465760965,0.58078168014523679,0.18693941831890382,0.36359949711463635,3.8579228041125478E-2,0.51561500543835226,24.103558238911951,953.27735469627112,9364.952189073867,67463.591100816964,41.234143903934054,6.4012716411134578,8784.0766125141672,2412.4395531266891,208.29690219773795,238.59111328800952,0.92454563852903804,null,45575076.848140039,9883740.88544349,45575343.681825496,13276179.432882294,45577971.294000722,43492941.373860836,2627.6121752262115,30216761.940978542,11499.703885478144,45577971.379497305,43492911.464554936,2627.6976718083024,30216732.031672642,11499.318340864684,45577971.444646113,43492467.668887407,2627.7628206163645,30216288.236005113,11498.864356760181,45577971.530142695,43492437.759581506,2627.8483171984553,30216258.326699212,11498.478861562571,45577971.073329039,43492764.89428778,2627.3915035426617,30215860.719076745,11500.326722658187,45577971.379497305,43492040.151959039,2627.6976718083024,30215860.719076745,11498.986753024406,45577971.223974429,43492291.18931435,2627.5421489328146,30216111.756432056,11499.762912920136,45577971.530142695,43491566.44698561,2627.8483171984553,30215387.014103316,11498.14729273107,null,null,null,72920113073283.172,72920536614741.359,72924710577459.781,72924710714284.219,72924710818966.109,72924710955790.547,72924710224561.578,72924710715155.531,72924710466067.906,72924710956661.859,0,0,0,0,0,0,0,0,0,1,null,0,0,0,0,0,0,0,0,1,null,null,null,null,40000,0.81,0,0,0,2.1000000000000001E-2,1E-3,0,0,0,0.16900000000000001]
[null,6,1534534.0255681593,0.17212125199153355,0.15599715771212846,0.21732787549623733,0.50586651944511607,0.27758232190979959,0.39905120535700944,3.5261646806264514E-2,0.44633335457335055,1047.6415321623533,3954.7401704473309,2871.116737896903,1141003.1507118072,202.06530072067167,3053.8909733163136,6096.2534130136792,11296.791574939325,0.68633802023726498,29.559203296120469,0.54463464960405883,null,43438610.156937808,167150178.94125721,43438916.635326996,298963190.11267692,43441950.366669685,1604029595.9166448,3033.7313426882029,1305066405.803968,430185.22683275666,43441950.427645214,1604028538.7004237,3033.7923182174563,1305065348.5877469,430176.23215374042,43441950.637434736,1604017347.950084,3034.0021077394485,1305054157.8374071,430142.79868439742,43441950.698410258,1604016290.7338629,3034.0630832612514,1305053100.621186,430133.80566181621,43441950.163188405,1604038190.8577101,3033.5278614088893,1305064371.1524148,430213.41183472489,43441950.427645214,1604027561.2650917,3033.7923182174563,1305064371.1524148,430175.90997106291,43441950.433953449,1604025942.8911493,3033.7986264526844,1305062752.7784724,430174.48205006181,43441950.698410258,1604015313.2985308,3034.0630832612514,1305052123.185854,430133.48350789084,null,null,null,69501609100921.555,69501967653333.086,69505516557075.578,69505516655693.641,69505517002547.625,69505517101165.68,69505516222910.586,69505516656671.078,69505516668382.625,69505517102143.117,0,0,0,0,0,0,0,0,0,1,null,0,0,0,0,0,0,0,0,1,null,null,null,null,50000,0.78500000000000003,0,0,0,1.9E-2,1E-3,0,0,0,0.19600000000000001]
[null,7,2075613.3081135687,0.2189866352658576,0.15487185288472144,0.18281756071260519,0.49011898540345189,0.25839211781195703,0.25496168107602041,4.1480101173444917E-2,0.65033558251178558,701.48303653931418,1265.117834021594,1300.0065079796798,181373.2100761332,106.02343381095032,716.67707572446636,10943.432757967315,31711.004764130706,3199.01496981629,1816.8786422925152,0.66928167423523499,null,58756512.122217603,26678605.229812987,58756800.504994243,157127028.07525057,58759647.118515506,1446801542.6108673,2846.6135212630033,1289674514.5356166,453055.71160338121,58759653.441948161,1447416801.4927137,2852.9369539171457,1290289773.4174631,452267.18790468416,58759696.344452634,1446433804.5237772,2895.8394583910704,1289306776.4485266,445227.29763647396,58759702.667885289,1447049063.4056234,2902.1628910452127,1289922035.3303728,444469.20581560046,58759608.03607025,1446876133.7524557,2807.5310760065913,1290060480.5726283,459499.9825995157,58759653.441948161,1447187508.6478789,2852.9369539171457,1290060480.5726283,452186.8170978495,58759657.262007378,1446508395.6653657,2856.7570131346583,1289381367.5901151,451344.43064700993,58759702.667885289,1446819770.5607889,2902.1628910452127,1289692742.4855382,444390.19824316475,null,null,null,94010392716942.938,94010723680962.719,94013988588082.203,94013998090315.562,94014067717319.688,94014077219553.062,94013925981578.656,94013998319608.422,94014005110816.141,94014077448845.906,0,0,0,0,0,0,0,0,0,1,null,0,0,0,0,0,0,0,0,1,null,null,null,null,60000,0.751,0,1E-3,1E-3,0.02,2E-3,1E-3,1E-3,1E-3,0.23]
[null,8,1718251.838765749,0.1784156637399151,0.23753048196183446,0.25098460431607239,0.64015765460987684,0.25983598807611108,0.32629699708871635,4.1461212924091995E-2,0.50603249715000176,221.97221097154355,2170.6649912357138,8813.6111730555876,1204491.4930044883,122.01687313932874,172.34392852353312,6925.609824636238,11513.691688385839,90.864776495694286,238.42051144279569,0.84977209211963778,null,48639838.865624659,181719511.78574982,48640102.757588327,202510315.128824,48642705.139542259,407167237.56233382,2602.3819539323449,204656922.43350983,78642.15401749991,48642734.222814314,406261663.45749575,2631.4652259871364,203751348.32867175,77428.858385251471,48642863.025643013,398526441.60646677,2760.2680546864867,196016126.47764277,71013.438765426865,48642892.108915068,397620867.50162864,2789.3513267412782,195110552.37280464,69948.360574839055,48642604.066683985,412291513.68521947,2501.3090956583619,203337512.99397248,81292.437366863145,48642734.222814314,405847828.12279648,2631.4652259871364,203337512.99397248,77271.594162029971,48642761.952784747,403650717.72935241,2659.1951964199543,201140402.60052842,75639.578046516312,48642892.108915068,397207032.16692936,2789.3513267412782,194696717.03810537,69799.99800368071,null,null,null,77823560465487.672,77823961901826.203,77827921056030.047,77827968494839.453,77828182314587.219,77828229753396.609,77827754215180.688,77827968908674.781,77828015473737.859,77828230167231.938,0,0,0,0,0,0,0,0,0,1,null,0,0,0,0,0,0,0,0,1,null,null,null,null,70000,0.72799999999999998,0,1E-3,1E-3,2.1000000000000001E-2,2E-3,1E-3,1E-3,1E-3,0.252]
[null,9,2313639.6139164316,0.12303585387044824,9.7084507494903854E-2,0.19552448746575085,0.57029440788430974,0.30171054760804361,0.42364790936895003,3.3930798409210115E-2,0.60844057336511348,246.38402715611559,897.72475579501338,3193.7511815938233,560154.2512703723,76.626184482480951,358.17583606335825,1392.1529672061636,806.43253833648976,195.28307504398188,1409.998064493185,0.67133237235910737,null,65494986.195683621,81820391.014096081,65495284.257127859,126606597.43584706,65498248.274463654,570018740.08925176,2964.0173357948661,443412142.65340471,149598.36344361125,65498249.312688448,569996357.60136616,2965.0555605888367,443389760.16551912,149538.43228403633,65498252.655156754,569914613.65437496,2968.3980288952589,443308016.21852791,149342.51131527423,65498253.693381548,569892231.16648936,2969.4362536892295,443285633.73064232,149282.75802516521,65498245.275346681,570086378.47556949,2961.0182188227773,443385331.23355126,149740.83185811318,65498249.312688448,569991928.66939831,2965.0555605888367,443385331.23355126,149536.93857443213,65498249.656039782,569982252.04069281,2965.3989119231701,443375654.60484576,149516.36112839213,65498253.693381548,569887802.23452151,2969.4362536892295,443281204.79867446,149281.26651917232,null,null,null,104791896092702.78,104792328204807.14,104796627220401.75,104796628903943.92,104796634333637.16,104796636017179.31,104796622354176.22,104796628908372.84,104796629467411.61,104796636021608.25,0,0,0,0,0,0,0,0,0,1,null,0,0,0,0,0,0,0,0,1,null,null,null,null,80000,0.70899999999999996,0,1E-3,1E-3,2.5999999999999999E-2,2E-3,1E-3,1E-3,1E-3,0.26600000000000001]
[null,10,1276728.4824628269,0.14858840312895238,0.1522959581236174,0.188679932907272,0.59386375708881334,0.22391944521231377,0.39773400188194274,2.3071839639534807E-2,0.50161711115516483,566.18550200019388,1584.992486923034,4302.713032562845,1097419.2781273602,38.855708793419268,3225.0511743256588,38183.373394052498,12428.12601995058,3357.6014330896937,1577.1067556226064,0.77947725231149778,null,36140487.306999721,160143121.73160934,36140769.302029066,213711220.68911254,36143566.794522941,730202225.51234102,2797.4924938753247,516491004.82322848,184626.41310173497,36143572.498798311,730068154.24741316,2803.1967692449689,516356933.55830061,184202.88551394825,36143586.726354733,729267707.85909295,2817.4243256673217,515556487.16998041,182988.58374762849,36143592.430630103,729133636.59416509,2823.1286010369658,515422415.90505254,182571.35566397232,36143552.928670458,730435690.20383704,2783.6266413927078,515914279.03690791,185338.892567426,36143572.498798311,729625499.72602046,2803.1967692449689,515914279.03690791,184044.97490051959,36143572.86050225,729501172.55058897,2803.5584731847048,515789951.86147642,183976.88394762258,36143592.430630103,728690982.0727725,2823.1286010369658,514979761.38365996,182414.55992989562,null,null,null,57824619548077.82,57825017172025.82,57828976669011.188,57828985929923.047,57829009494459.711,57829018755371.57,57828954250182.531,57828986372577.57,57828987075631.055,57829019198026.094,0,0,0,0,0,0,0,0,0,1,null,0,0,0,0,0,0,0,0,1,null,null,null,null,90000,0.68899999999999995,0,1E-3,1E-3,2.5999999999999999E-2,2E-3,1E-3,1E-3,1E-3,0.28599999999999998]
[null,11,1792607.7444733004,0.16137126872340574,0.21387392720870813,0.20904000816131474,0.60364035270385585,0.23662012073974217,0.48655506567442741,3.4218763570743105E-2,0.48698204762828995,578.99691901595793,1356.4043670368646,10628.51491359202,1303006.2491623596,23.512664453426581,3430.3335276575303,22603.285046160836,6398.4048224131484,5290.7919503640633,790.53223616179309,0.87009235547137453,null,50744946.452545278,191028281.86154753,50745219.471714683,270314955.85776603,50747919.408166319,1048185651.6525558,2699.9364516362548,777870695.79478979,288107.03871321608,50747921.693277307,1048072504.429171,2702.2215626239777,777757548.57140493,287821.53148691764,50747927.667212158,1047705165.761945,2708.1954974755645,777390209.90417898,287050.99415046687,50747929.952323146,1047592018.5385602,2710.4806084632874,777277062.68079412,286767.2472010316,50747915.442123197,1048340265.2561365,2695.970408514142,777675446.61140597,288458.45049167814,50747921.693277307,1047990402.469172,2702.2215626239777,777675446.61140597,287791.14835285692,50747923.701169036,1047859779.3655258,2704.2294543534517,777544823.50775981,287529.16001858329,50747929.952323146,1047509916.5785614,2710.4806084632874,777194960.72079539,286736.95664675045,null,null,null,81191723295790.578,81192080839787.641,81195622867414.453,81195626636739.266,81195636562373.688,81195640331698.5,81195616367131.859,81195626718841.219,81195630062091.094,81195640413800.453,0,0,0,0,0,0,0,0,0,1,null,0,0,0,0,0,0,0,0,1,null,null,null,null,100000,0.66200000000000003,0,1E-3,1E-3,2.4E-2,2E-3,1E-3,1E-3,1E-3,0.315]
[null,12,1584659.3415475292,0.20737999638695248,0.21919744526870066,0.2107057023570964,0.53467398331865923,0.31474425251547222,0.27156481620290679,4.2833388839984887E-2,0.71125142341978997,1031.0102956962257,6701.541351201613,112.64027665864295,52919.543602769205,454.81649560716062,1693.0825169789839,2269.5405881458782,5890.311442415099,1537.4958082605619,177.93553189466434,0.99741072600097791,null,44857804.047796875,8592460.0692351144,44858027.413227968,156566324.50788766,44860232.941056877,1623604883.8347952,2205.5278289094567,1467038559.3269076,665164.3838256615,44860281.549941577,1624588667.3415248,2254.1367136090994,1468022342.8336372,651257.0129267741,44860844.798131317,1622372572.8736157,2817.3849033489823,1465806248.3657281,520271.91833936027,44860893.407016024,1623356356.3803451,2865.9937880560756,1466790031.8724575,511791.07155962841,44859915.956446104,1623981632.9777904,1888.5432181358337,1467595829.7048504,777104.70992212871,44860281.549941577,1624162154.212738,2254.1367136090994,1467595829.7048504,651067.7994126993,44860527.813520543,1622749322.0166111,2500.4002925753593,1466182997.5087235,586379.30968988407,44860893.407016024,1622929843.2515583,2865.9937880560756,1466363518.7436707,511642.25297859579,null,null,null,71772477884014.938,71772687294840.234,71774749100807.172,71774825891239.172,71775729304437.234,71775806094869.266,71774241548680.781,71774826317752.297,71775221752310.859,71775806521382.391,0,0,0,0,0,0,0,0,0,1,null,0,0,0,0,0,0,0,0,1,null,null,null,null,{"$f":"DA18+50000","v":150000},0.56000000000000005,0,0,0,2.1999999999999999E-2,4.0000000000000001E-3,0,0,1E-3,0.42]
[null,13,1793569.9273488382,0.13147499010755598,0.10538929720247388,0.20246971113315559,0.50736778673474769,0.27616707327415257,0.41157170990997838,4.156786495822673E-2,0.4265280767954327,415.77838677332244,267.34834787276992,2291.5386796821172,30756.01476996257,11.020994073162409,6978.3473568430909,6557.3482225765229,10263.276963034317,6037.8643929105538,467.91253077748428,0.95321492211131953,null,50772282.421691686,4500098.646676708,50772553.691409908,72285038.926457629,50775248.304635733,741923998.56908202,2694.6132258251309,669638959.64262438,248510.23264668009,50775248.714819431,741939267.35745251,2695.0234095230699,669654228.43099487,248478.07483405183,50775249.778456561,741932647.79315627,2696.0870466530323,669647608.86669862,248377.59214711201,50775250.188640252,741947916.58152676,2696.4972303435206,669662877.65506911,248345.47208852772,50775247.017690286,741915729.11214602,2693.3262803778052,669644093.01045763,248630.88363602333,50775248.714819431,741929131.93691528,2695.0234095230699,669644093.01045763,248474.31404277208,50775248.491511121,741924378.33622026,2694.8001012131572,669639339.40976262,248493.14021782225,50775250.188640252,741937781.1609894,2696.4972303435206,669652742.23453176,248341.71335277852,null,null,null,81235647374608.062,81236013621216.938,81239655363418.609,81239656004443.734,81239657712882.703,81239658353907.828,81239653312575.344,81239656014579.156,81239655662039.453,81239658364043.25,0,0,0,0,0,0,0,0,0,1,null,0,0,0,0,0,0,0,0,1,null,null,null,null,{"$f":"DA19+50000","v":200000},0.46899999999999997,2E-3,2E-3,2E-3,1.4999999999999999E-2,8.0000000000000002E-3,2E-3,2E-3,3.0000000000000001E-3,0.51800000000000002]
[null,14,1656612.0641475893,0.15184197847739619,0.10187970960813159,0.2063344988385013,0.57884087388847261,0.3258007854148659,0.27139052107539746,4.7348272700283189E-2,0.48103161681606194,40.855385642852298,731.54434981478539,3108.5796434338595,128389.189853241,221.81174282300773,5583.238655932224,28969.667593393835,33803.296643420996,1409.5234656072332,957.66926185390389,0.82992757922561444,null,46894937.197744094,18657648.441132963,46895216.024833329,24466131.565190375,46897980.467367619,70919652.221967369,2764.4425342902541,46453520.656776994,16803.937893649694,46897983.199814074,71304066.014407501,2767.1749807447195,46837934.449217126,16926.264069000728,46897993.309499376,70911259.568397626,2777.2846660465002,46445128.003207251,16723.214789977752,46897996.041945823,71295673.360837758,2780.017112493515,46829541.795647383,16845.05522832699,46897963.686219841,70673977.570284963,2747.6613865122199,46494903.480099544,16921.62786445766,46897983.199814074,70961035.045289919,2767.1749807447195,46494903.480099544,16802.299747443707,46897976.52835159,70665584.91671522,2760.5035182610154,46199453.351524845,16735.87917780604,46897996.041945823,70952642.391720161,2780.017112493515,46486510.826529786,16721.663552939091,null,null,null,75031880858742.109,75032321173601.766,75036697828135.969,75036701815636.5,75036718383939.438,75036722371439.953,75036671223974.188,75036702158667.469,75036691779777.625,75036722714470.922,0,0,0,0,0,0,0,0,0,1,null,0,0,0,0,0,0,0,0,1,null,null,null,null,225000,0.432,0,3.0000000000000001E-3,3.0000000000000001E-3,1.4999999999999999E-2,0.01,2E-3,3.0000000000000001E-3,3.0000000000000001E-3,0.55700000000000005]
[null,15,1578039.957590027,0.18932126858442355,9.6905420036113812E-2,0.17522109671736311,0.56357157379010414,0.27947383036722839,0.35050333961686969,4.165645432679721E-2,0.43497962186435424,1324.548382929677,5112.2468288604259,1185.9147081283104,276314.07170833496,379.80380328348286,6136.8667248018774,2470.7467912342181,1095.1614475354738,3231.923010883093,246.78821340249411,0.63985013873424168,null,44670352.841949441,40479245.429856986,44670652.327801377,226926954.21042031,44673620.059034891,2075015444.2393875,2967.7312335148454,1848088490.0289671,622727.71508361131,44673620.059531562,2075015439.6362422,2967.7317301854491,1848088485.4258218,622727.6093147198,44673620.0601454,2075015438.0738363,2967.7323440238833,1848088483.863416,622727.47998481337,44673620.060642071,2075015433.4706912,2967.7328406944871,1848088479.2602708,622727.37421600078,44673620.057209186,2075015462.9000719,2967.7294078096747,1848088482.6612647,622728.09569429094,44673620.059531562,2075015436.871685,2967.7317301854491,1848088482.6612647,622727.60838318104,44673620.058319695,2075015456.7345209,2967.7305183187127,1848088502.5241005,622727.86936567444,44673620.060642071,2075015430.7061338,2967.7328406944871,1848088476.4957135,622727.37328446226,null,null,null,71472524067873.672,71472816797528,71475717079011.594,71475717079810.859,71475717080794.562,71475717081593.844,71475717076071.797,71475717079813.625,71475717077854.781,71475717081596.609,0,0,0,0,0,0,0,0,0,1,null,0,0,0,0,0,0,0,0,1,null,null,null,null,{"$f":"DA20+50000","v":250000},0.40699999999999997,0,3.0000000000000001E-3,3.0000000000000001E-3,1.6E-2,1.0999999999999999E-2,3.0000000000000001E-3,3.0000000000000001E-3,3.0000000000000001E-3,0.58399999999999996]
[null,16,1955280.4422660954,0.16296389410215864,0.16728317713948726,0.23447328802129963,0.60119762246220254,0.28742829569859618,0.47951358400615518,4.006004790811124E-2,0.64365234188634124,263.15455370836895,8971.9835085884661,668.78881436219604,266241.87844041007,928.99178719304939,262.99709880176755,36459.244081455319,2013.6161657226996,10233.900060938333,808.13792899339649,0.67931438180732218,null,55349957.257740274,38947259.545543559,55350246.521998771,84414698.408695415,55353109.692765974,521348079.92282736,2863.1707672029734,436933381.51413196,152604.72288943193,55353116.419333242,521294815.92805952,2869.8973344713449,436880117.51936412,152228.48297458017,55353139.231665879,521012949.42954147,2892.709667108953,436598251.02084607,150930.54653396772,55353145.958233148,520959685.43477374,2899.4362343773246,436544987.02607834,150562.02369624784,55353095.703054979,521078094.15812522,2849.1810562089086,436449943.34474218,153184.34832129555,55353116.419333242,520864641.75343758,2869.8973344713449,436449943.34474218,152078.59114066159,55353125.241954878,520742963.66483927,2878.7199561074376,436328265.25614387,151570.23674026996,55353145.958233148,520529511.26015174,2899.4362343773246,436114812.85145634,150413.65893156649,null,null,null,88559892665124.891,88560310020499.625,88564454160345.641,88564464976117.266,88564501757715.984,88564512573487.594,88564432046793.812,88564465406291.438,88564479644164.141,88564513003661.766,0,0,0,0,0,0,0,0,0,1,null,0,0,0,0,0,0,0,0,1,null,null,null,null,{"$f":"DA22+50000","v":300000},0.35099999999999998,0,3.0000000000000001E-3,3.0000000000000001E-3,1.4E-2,1.0999999999999999E-2,3.0000000000000001E-3,3.0000000000000001E-3,3.0000000000000001E-3,0.64100000000000001]
[null,17,1571512.2524184892,0.19451870445691566,0.17927703598666667,0.18986687280558168,0.51602638947239021,0.34876631612500852,0.33898917445878951,3.8230315652373767E-2,0.45575501707549099,292.53275477369942,613.19535549371471,22272.225653768553,278193.82839792606,148.18074225607552,3433.4742929658137,3459.9740083716015,6375.5791528031914,2383.9643230055663,34.975770494362344,0.23070942506736064,null,44485109.178423919,40756210.884495214,44485442.920478463,79994321.876405448,44488739.877711259,467888760.66225106,3296.9572327956557,387894438.78584564,117652.25066535984,44488739.935989246,467889417.86156988,3297.0155107825994,387895095.9851644,117650.37037787284,44488740.309450157,467884926.23740935,3297.3889716938138,387890604.36100388,117635.68316956885,44488740.367728144,467885583.43672818,3297.4472496807575,387891261.56032276,117633.80342107867,44488739.527115293,467891740.93543851,3296.6066368296742,387894408.45932746,117664.7538489345,44488739.935989246,467888730.33573288,3297.0155107825994,387894408.45932746,117650.16184811776,44488739.958854198,467887906.51059675,3297.0383757352829,387893584.63419127,117649.09607631907,44488740.367728144,467884895.91089118,3297.4472496807575,387890574.0344857,117633.59491862662,null,null,null,71176133929267.375,71176628678443.672,71181515915577.359,71181516008164.938,71181516610194.016,71181516702781.594,71181515351643.531,71181516008852.469,71181516046260.203,71181516703469.125,0,0,0,0,0,0,0,0,0,1,null,0,0,0,0,0,0,0,0,1,null,null,null,null,350000,0.30199999999999999,0,3.0000000000000001E-3,3.0000000000000001E-3,1.2E-2,1.2999999999999999E-2,3.0000000000000001E-3,3.0000000000000001E-3,3.0000000000000001E-3,0.69199999999999995]
[null,18,1930915.0930545251,0.16165770972191232,0.2167837692558956,0.19379602326390741,0.5416948238383652,0.21444713430349482,0.30958820521598851,4.3234488388560144E-2,0.59944803162702121,213.35509328661703,317.93088320934993,393.91672062985663,1495652.1429462535,114.33750275228138,14991.003518029764,11741.320724551188,26918.17401459951,5358.5976814297592,1450.1250165265096,0.75592505620039174,null,54660239.533023402,220505849.94465786,54660516.863673083,240276186.5917733,54663256.604891807,432711780.15476424,2739.7412187233567,192435593.56299093,70238.602189100391,54663267.032286912,432779783.36058873,2750.1686138287187,192503596.76881543,69997.016110520053,54663339.341309756,427676760.03527403,2822.4776366725564,187400573.44350073,66395.769096129632,54663349.768704869,427744763.24109858,2832.9050317853689,187468576.64932528,66175.383412403986,54663218.112249665,434920486.15841991,2701.2485765814781,192174010.88196877,71142.660674780069,54663267.032286912,432450197.47374207,2750.1686138287187,192174010.88196877,69877.174045131993,54663300.848667614,429885466.03892976,2783.9849945306778,189609279.44715646,68107.148501035888,54663349.768704869,427415177.35425186,2832.9050317853689,187138990.76247856,66059.041394881773,null,null,null,87456162746987.5,87456586705690.344,87460777856046.734,87460794471875.703,87460915269335.578,87460931885164.562,87460714059113.312,87460794801461.594,87460851472402.156,87460932214750.438,0,0,0,0,0,0,0,0,0,1,null,0,0,0,0,0,0,0,0,1,null,null,null,null,400000,0.25700000000000001,0,3.0000000000000001E-3,3.0000000000000001E-3,0.01,1.4E-2,3.0000000000000001E-3,3.0000000000000001E-3,3.0000000000000001E-3,0.73899999999999999]
[null,19,1570444.4113839273,0.15321586238800508,0.2094994783762838,0.20042174040362182,0.47262852657844306,0.3054859610805597,0.33309085038276348,3.0138600945685073E-2,0.53837393498094821,168.09041079694657,6861.9403829238672,4902.0370117409593,101127.90614889871,37.376934922611824,83.660886700040493,25686.611277317639,99126.807725877778,7273.7809398536028,449.32686374320622,0.54124219595788359,null,44455206.672687769,14861383.189383032,44455504.684647009,39209372.896435224,44458453.117320165,271220415.56066757,2948.4326731562614,232011042.66423234,78689.618649445823,44458458.86129494,273945692.55518627,2954.1766479313374,234736319.65875104,79459.13451828454,44458529.06700892,270906396.33568639,3024.3823619112372,231697023.43925115,76609.699341333238,44458534.810983688,273631673.33020502,3030.1263366788626,234422300.43376979,77363.870145000561,44458420.597408034,270643467.60708141,2915.9127610251307,234023922.40130332,80257.518513355273,44458458.86129494,273233295.29773855,2954.1766479313374,234023922.40130332,79217.985344640314,44458496.547096781,270329448.38210016,2991.862449772656,231120075.48566493,77249.565902746355,44458534.810983688,272919276.07275736,3030.1263366788626,233709903.17632213,77128.765341341306,null,null,null,71128315814917.25,71128768286062.328,71133253767296.703,71133260232379.344,71133375600817.938,71133382065900.578,71133202312385.25,71133260944776.609,71133324145906.469,71133382778297.828,0,0,0,0,0,0,0,0,0,1,null,0,0,0,0,0,0,0,0,1,null,null,null,null,450000,0.20899999999999999,1E-3,3.0000000000000001E-3,3.0000000000000001E-3,8.9999999999999993E-3,1.2999999999999999E-2,3.0000000000000001E-3,3.0000000000000001E-3,3.0000000000000001E-3,0.78700000000000003]
[null,20,1615532.3982644549,0.190683456906521,0.12898738280753624,0.20271624142892675,0.5434169124261925,0.29085271152343706,0.49218857087702683,2.9845125256204814E-2,0.5370081172015273,743.8634041333936,1625.9367216194537,8608.9538605256039,632060.14703353879,63.088866523482096,6141.8042856444972,23283.206856965302,30548.821983880036,2661.8808812928069,907.20457973125929,0.76392025836653277,null,45731887.076370828,92595096.279556558,45732173.295973077,194901313.5689353,45735009.160251752,1200326685.7858288,2835.8642786741257,1005425372.2168936,354539.31268070702,45735009.160504319,1200326693.1180322,2835.8645312413573,1005425379.5490969,354539.28369032033,45735009.160989814,1200326668.0569782,2835.8650167360902,1005425354.488043,354539.2141566833,45735009.161242381,1200326675.3891816,2835.8652693033218,1005425361.8202463,354539.18516631296,45735009.159691073,1200326690.4845493,2835.863717995584,1005425368.5822421,354539.38149499177,45735009.160504319,1200326682.1511774,2835.8645312413573,1005425368.5822421,354539.27982312051,45735009.160429135,1200326672.7556987,2835.8644560575485,1005425359.1867634,354539.28590949561,45735009.161242381,1200326664.4223268,2835.8652693033218,1005425350.8533915,354539.18129911413,null,null,null,73170926727097.047,73171282372243.359,73174814329717.016,73174814330113.781,73174814330915.641,73174814331312.422,73174814328815.234,73174814330124.75,73174814330013.859,73174814331323.391,0,0,0,0,0,0,0,0,0,1,null,0,0,0,0,0,0,0,0,1,null,null,null,null,500000,0.183,0,3.0000000000000001E-3,3.0000000000000001E-3,6.0000000000000001E-3,1.6E-2,3.0000000000000001E-3,3.0000000000000001E-3,3.0000000000000001E-3,0.81599999999999995]
[null,21,1503158.9097286526,0.22974841924175848,0.12130652366874414,0.18702967101919307,0.50884822524655415,0.3097433778328198,0.41847738270364243,5.1307751516981193E-2,0.54422391088439803,649.58855874786855,496.81506349754892,2332.0373231856524,129146.62376196595,450.61795656895583,2625.4496319707423,48000.575889951266,8143.2441038840097,315.88096126624356,2015.3277954116759,0.58811272862854191,null,42550437.815605991,18921135.529801812,42550738.176273122,107774680.97121139,42553704.434601367,970105240.21785772,2966.2583282440901,862330559.24664629,290713.23661722767,42553705.719374031,970121144.88168335,2967.5431009083986,862346463.91047192,290592.73432170128,42553708.865396887,970088691.8255204,2970.6891237646341,862314010.85430896,290274.06602597761,42553710.150169544,970104596.48934615,2971.9738964214921,862329915.51813471,290153.93323489581,42553699.871844381,969995243.71548021,2961.6955712586641,862211843.64262342,291121.02270396409,42553705.719374031,969986524.61383486,2967.5431009083986,862211843.64262342,290547.37010515219,42553704.302639902,969978695.32314301,2966.1263667792082,862204014.35193157,290683.50694989529,42553710.150169544,969969976.22149765,2971.9738964214921,862195295.25028622,290108.63665001979,null,null,null,68080681583834.055,68081073307356.023,68084956990121.969,68084959029853.57,68084964095943.188,68084966135674.781,68084949799707.289,68084959164473.836,68084956905528.523,68084966270295.055,0,0,0,0,0,0,0,0,0,1,null,0,0,0,0,0,0,0,0,1,null,null,null,null,550000,0.156,0,4.0000000000000001E-3,4.0000000000000001E-3,6.0000000000000001E-3,1.4999999999999999E-2,4.0000000000000001E-3,4.0000000000000001E-3,4.0000000000000001E-3,0.84299999999999997]
[null,22,1784181.7822721109,0.19919768158343176,0.2057106204747875,0.19915708129650533,0.54016482753602268,0.24015251521204548,0.37683366409691277,4.1118153437878613E-2,0.53153262723699601,443.76136584209399,1816.6182318853118,6381.2869569164359,250878.06826647298,13.934702071616972,6934.855513458122,59426.229235252817,1139.6954720245619,2816.2872312055683,311.50079937191089,0.65419639933375318,null,50506174.926825687,36775721.403061122,50506467.340058342,108003545.43678342,50509352.151687153,791048896.2018832,2884.8116288110614,683045350.76509976,236772.94695550305,50509352.931506619,791042233.08048344,2885.591448277235,683038687.6437,236706.65091951596,50509355.937923022,791018615.19949663,2888.5978646799922,683015069.76271319,236452.11336413547,50509356.717742488,791011952.07809699,2889.3776841461658,683008406.64131355,236385.99079273638,50509349.829829499,790985954.18911827,2882.4897711575031,682950893.41993856,236930.89920166146,50509352.931506619,790954438.856722,2885.591448277235,682950893.41993856,236676.225883493,50509353.616065376,790955673.1867317,2886.2760070338845,682952127.74994826,236620.51934242839,50509356.717742488,790924157.85433543,2889.3776841461658,682920612.41755199,236355.60562563164,null,null,null,80809843107199.688,80810239740547.906,80814172393803.234,80814173648177.516,80814178482061.625,80814179736435.906,80814168741773.016,80814173735971.734,80814174830031.406,80814179824230.125,0,0,0,0,0,0,0,0,0,1,null,0,0,0,0,0,0,0,0,1,null,null,null,null,600000,0.13500000000000001,1E-3,4.0000000000000001E-3,4.0000000000000001E-3,8.9999999999999993E-3,1.7000000000000001E-2,4.0000000000000001E-3,4.0000000000000001E-3,4.0000000000000001E-3,0.86299999999999999]
[null,23,1524186.974494732,0.22971040282892308,7.2955954470336773E-2,0.21113353515461619,0.42715320994891826,0.22015575584332261,0.44001194468282989,2.7734806192140748E-2,0.62082207013016233,28.782728695434283,3373.2458226959175,1637.4247482024637,124500.28921996718,72.538365653377539,3639.847819503445,3320.5195050045922,14169.642489312488,3719.1894602394468,1261.133990797473,0.41606333316207067,null,43145548.287675753,18238307.410251241,43145868.041977666,21131904.563593622,43149036.3098718,48524652.015919104,3168.2678941339254,27392747.452325482,8645.9694595407746,43149036.367990896,48525926.234022781,3168.3260132297873,27394021.670429159,8646.2130336466635,43149036.435688019,48524431.753481992,3168.3937103524804,27392527.189888369,8645.5566113470722,43149036.493807115,48525705.971585661,3168.4518294483423,27393801.407992039,8645.8001833537619,43149036.157237604,48525039.894196391,3168.115259937942,27393655.813351583,8646.6727267644219,43149036.367990896,48525560.376945205,3168.3260132297873,27393655.813351583,8646.0975603411862,43149036.283053823,48524819.631759271,3168.241076156497,27392915.068165649,8646.0955494576647,43149036.493807115,48525340.114508078,3168.4518294483423,27393435.550914455,8645.6847146336167,null,null,null,69032859021973.789,69033367735259.703,69038409571142.867,69038409662859.203,69038409772669.078,69038409864385.414,69038409326540.273,69038409663225.062,69038409528066.484,69038409864751.266,0,0,0,0,0,0,0,0,0,1,null,0,0,0,0,0,0,0,0,1,null,null,null,null,650000,0.11700000000000001,0,3.0000000000000001E-3,3.0000000000000001E-3,7.0000000000000001E-3,1.6E-2,3.0000000000000001E-3,3.0000000000000001E-3,3.0000000000000001E-3,0.88200000000000001,null,null,0,null,null,0,"For PSA Plot"]
[null,24,1598851.1546607576,0.2612231371678434,0.17653190919342587,0.1879073515634534,0.5827666828675413,0.28720181296308722,0.38795240272679943,4.8478361248354251E-2,0.43603509364124798,1309.6207697640177,773.49455323570385,5096.5961391856472,369035.28163236199,54.305151330037702,758.47274271216168,33810.997230864945,25086.532481313592,642.97515029238161,79.873351218318859,0.87196247423193729,null,45259764.301012076,54062672.585615829,45260035.131124921,240783005.68812117,45262700.05795259,2079463534.6253879,2664.9268276691437,1838680528.9372668,689955.35256232671,45262700.057956673,2079463534.7129097,2664.9268317520618,1838680529.0247886,689955.35153809236,45262700.057963066,2079463534.4529502,2664.92683814466,1838680528.7648292,689955.34978548635,45262700.057967141,2079463534.540472,2664.9268422201276,1838680528.852351,689955.34876318113,45262700.057939917,2079463534.6289632,2664.9268149957061,1838680528.8139105,689955.35579721839,45262700.057956673,2079463534.5020316,2664.9268317520618,1838680528.8139105,689955.35145896149,45262700.057950385,2079463534.4565256,2664.9268254637718,1838680528.7684045,689955.35306993756,45262700.057967141,2079463534.3295941,2664.9268422201276,1838680528.6414731,689955.34868405026,null,null,null,72415568818946.75,72415815426794.188,72418240629189.516,72418240629195.953,72418240629206.453,72418240629212.875,72418240629169.234,72418240629196.172,72418240629186.156,72418240629213.094,0,0,0,0,0,0,0,0,0,1,null,0,0,0,0,0,0,0,0,1,null,null,null,null,700000,9.5000000000000001E-2,0,3.0000000000000001E-3,3.0000000000000001E-3,7.0000000000000001E-3,1.6E-2,3.0000000000000001E-3,3.0000000000000001E-3,3.0000000000000001E-3,0.90400000000000003,null,null,{"$f":"DQ31/150000","v":4333.333333333333},null,null,650000000]
[null,25,1632823.7141797531,0.19533961237667474,0.12812888029583785,0.19689833441273608,0.41219291477812425,0.20272792951511498,0.34416243625130744,3.849118781384249E-2,0.47956778969452618,15.486545662340822,151.95206649681143,7902.7169580949758,3095273.7563175149,4.1853623995216553,5632.0932087758856,2482.3020225325618,123.06633424706352,3589.9510678714992,525.09062531251072,0.85656878170949236,null,46221505.811302938,452588410.95566136,46221780.669898815,416623845.08450526,46224500.415675916,59856649.559740372,2719.7457771003246,-356767195.5247649,-131176.67045525654,46224503.826915585,59376576.060832888,2723.1570167690516,-357247269.02367234,-131188.64128060307,46224515.300511613,57818140.208186872,2734.6306127980351,-358805704.8763184,-131208.10657099809,46224518.711751275,57338066.709279388,2738.0418524593115,-359285778.3752259,-131219.97315436034,46224487.623802893,61634566.206668846,2706.9539040774107,-357274686.40626514,-131984.03041444925,46224503.826915585,59349158.678240143,2723.1570167690516,-357274686.40626514,-131198.70951479743,46224502.508638583,59596056.855115347,2721.8387397676706,-357027788.22938991,-131171.54334421182,46224518.711751275,57310649.326686643,2738.0418524593115,-359313195.75781864,-131229.9866545441,null,null,null,73953956709673.75,73954432447993.031,73959140808431.906,73959146746488.875,73959166662678.375,73959172600735.344,73959118563518.422,73959146773906.266,73959144417764.875,73959172628152.719,0,0,0,0,0,0,0,0,0,1,null,0,0,0,0,0,0,0,0,1,null,null,null,null,750000,8.4000000000000005E-2,0,3.0000000000000001E-3,3.0000000000000001E-3,6.0000000000000001E-3,1.6E-2,3.0000000000000001E-3,3.0000000000000001E-3,3.0000000000000001E-3,0.91500000000000004]
[null,26,1975015.5054788054,0.2399850801271437,0.17554060372984182,0.19652425836377913,0.41572382938452929,0.34319131586209761,0.30552562306858572,3.9564952901935069E-2,0.59226628629112876,596.51461986315292,933.58754620812431,20.789656485239785,922503.18431975669,0.73009425727360033,681.30796463452032,3688.5266207683972,9958.7718860034929,2778.0633790890547,135.2600110194476,0.54248922046631098,null,55908496.349639937,135144405.17012399,55908798.975953028,230731079.9383626,55911780.699775226,1177961245.0381982,2981.7238221988082,947230165.09983563,317678.70587066014,55911780.700120538,1177961258.5557866,2981.7241675108671,947230178.61742401,317678.67361392063,55911780.706525892,1177960990.2726412,2981.7305728644133,947229910.33427858,317677.90120095183,55911780.706871204,1177961003.7902298,2981.7309181764722,947229923.8518672,317677.86894437869,55911780.695276424,1177961406.1668839,2981.7193233966827,947230168.74946713,317679.18640659034,55911780.700120538,1177961248.6878297,2981.7241675108671,947230168.74946713,317678.67030444054,55911780.70202709,1177961151.4013271,2981.7260740622878,947230071.46296453,317678.43454930896,55911780.706871204,1177960993.9222727,2981.7309181764722,947229913.98391008,317677.86563490593,null,null,null,89453459015018.734,89453847630444.906,89457671158395.328,89457671158934.297,89457671169451.156,89457671169990.125,89457671151036.109,89457671158944.172,89457671162091.938,89457671170000,0,0,0,0,0,0,0,0,0,1,null,0,0,0,0,0,0,0,0,1,null,null,null,null,800000,6.9000000000000006E-2,0,3.0000000000000001E-3,3.0000000000000001E-3,6.0000000000000001E-3,1.6E-2,3.0000000000000001E-3,3.0000000000000001E-3,3.0000000000000001E-3,0.93]
[null,27,1636611.655652381,0.18691752611217433,0.12654611332495003,0.20515912662089686,0.60353906855452299,0.23916658338492514,0.32667957351181426,3.7130002440069955E-2,0.50853691263671041,520.62739246095896,320.99166359624292,227.88596390457599,135211.57577526403,66.959187443305041,2541.8734441496604,21767.307132155958,11560.287634019534,1840.2555556186946,47.462294211701604,0.94640094140497277,null,46328834.116023757,19801673.252647784,46329103.122992501,96221550.793916777,46331765.871555924,845515679.33311343,2662.7485634237528,749294128.53919661,281398.75421649154,46331766.502366818,845527082.36957359,2663.3793743178248,749305531.57565677,281336.38744858775,46331767.696093872,845507466.39019799,2664.5731013715267,749285915.59628117,281202.98715415382,46331768.326904774,845518869.42665803,2665.2039122730494,749297318.63274121,281140.70941524865,46331763.71798683,845500349.5935427,2660.5949943289161,749276507.27391398,281619.90414587868,46331766.502366818,845498058.0678308,2663.3793743178248,749276507.27391398,281325.4899016507,46331765.542524777,845492136.65062702,2662.41953227669,749270585.8567102,281424.68787253578,46331768.326904774,845489845.12491524,2665.2039122730494,749268294.33099842,281129.81932852429,null,null,null,74126114783964.766,74126468775237.203,74129979878810.156,74129980876704.531,74129982806283.812,74129983804178.219,74129976448429.328,74129980905728.844,74129979375902.984,74129983833202.516,0,0,0,0,0,0,0,0,0,1,null,0,0,0,0,0,0,0,0,1,null,null,null,null,850000,5.8000000000000003E-2,0,3.0000000000000001E-3,3.0000000000000001E-3,5.0000000000000001E-3,1.7000000000000001E-2,3.0000000000000001E-3,3.0000000000000001E-3,3.0000000000000001E-3,0.94099999999999995]
[null,28,1941887.8408900627,0.12642323918493487,0.19072959236862985,0.20538360300303105,0.55928227842803102,0.24229541455045364,0.38561398263840407,4.1247980085334701E-2,0.4163215697444595,54.487289349023591,3110.7489485223982,313.40305829625481,2986185.4499280439,40.8766909424155,3231.2171449395978,3677.6297029394932,10987.277647393317,4247.6497061428745,340.89664009318585,0.87363472244612939,null,54971027.090782121,437053542.8212527,54971302.004184008,409429877.02246904,54974025.476905823,134433929.66299662,2723.4727218151093,-274995947.35947239,-100972.53596731316,54974026.943551615,134280894.90388185,2724.9393676072359,-275148982.1185872,-100974.35025139476,54974033.013086185,133415907.80385363,2731.0089021772146,-276013969.21861541,-101066.66770605237,54974034.479731984,133262873.0447389,2732.4755479767919,-276167003.97773015,-101068.42646120388,54974021.35399837,134982557.88830188,2719.349814362824,-275164989.49609566,-101187.78689036376,54974026.943551615,134264887.52637339,2724.9393676072359,-275164989.49609566,-100980.22464907815,54974028.890178733,133964536.02915888,2726.8859947249293,-275465340.99331015,-101018.28295212514,54974034.479731984,133246865.66723038,2732.4755479767919,-276183011.35523868,-101074.28465727095,null,null,null,87953206291708.562,87953673776817.391,87958306329119.656,87958308828787.672,87958319405030.094,87958321904698.125,87958299183839.5,87958308844795.047,87958312259749.938,87958321920705.5,0,0,0,0,0,0,0,0,0,1,null,0,0,0,0,0,0,0,0,1,null,null,null,null,900000,0.05,1E-3,3.0000000000000001E-3,3.0000000000000001E-3,5.0000000000000001E-3,1.4999999999999999E-2,3.0000000000000001E-3,3.0000000000000001E-3,4.0000000000000001E-3,0.94799999999999995]
[null,29,2002763.6916246214,0.15557380269133245,0.20655493439216088,0.18690023366903988,0.5808215084495274,0.26138840119648105,0.25152156347631255,3.3881396801093408E-2,0.57430664772257667,88.583006606347467,3170.2202116730609,1392.4183290135165,174006.31101099885,217.98670285429114,7435.007092480846,36160.292886287782,8535.7296173655122,729.45094135344004,31.985896459917186,0.90607619406229456,null,56694435.131732248,25491592.148445569,56694706.446211539,40909062.960674398,56697389.457116216,179519424.45316511,2683.0109046772122,138610361.49249071,51662.243060904235,56697389.470479667,179519739.8233825,2683.0242681279778,138610676.86270809,51662.103287429709,56697389.583941676,179518769.65826887,2683.1377301365137,138609706.69759446,51659.557070349212,56697389.597305126,179519085.02848622,2683.1510935872793,138610022.06781182,51659.417316858984,56697389.384808362,179518215.09362841,2682.9385968223214,138608884.00931329,51663.084713709795,56697389.470479667,179517946.96998769,2683.0242681279778,138608884.00931329,51661.435066341997,56697389.511633821,179517560.29873216,2683.0654222816229,138608497.33805776,51660.49854281525,56697389.597305126,179517292.17509142,2683.1510935872793,138608229.21441701,51658.749127356314,null,null,null,90711070719179.438,90711489404875.516,90715643611961.5,90715643633027.641,90715643815537.031,90715643836603.172,90715643497478.281,90715643634820.5,90715643701053.812,90715643838396.031,0,0,0,0,0,0,0,0,0,1,null,0,0,0,0,0,0,0,0,1,null,null,null,null,950000,4.2999999999999997E-2,0,3.0000000000000001E-3,3.0000000000000001E-3,6.0000000000000001E-3,1.4E-2,3.0000000000000001E-3,3.0000000000000001E-3,3.0000000000000001E-3,0.95599999999999996]
[null,30,1738607.414345355,0.26799038954242249,0.24382888475422049,0.23376923015346773,0.56764609794205589,0.21663938546982869,0.37428372918926023,3.5564055587189128E-2,0.64883395125742238,318.86340757742278,1097.3448887589448,4968.0222459758161,23296.736786024547,642.59237058805581,9084.3517032835498,13566.555873890704,10116.887199072838,7225.8185179276306,1372.4392029654143,0.91505602693574306,null,49216265.619061373,3413256.0347159328,49216529.482643463,54441873.695077971,49219119.447802663,555149347.69297814,2589.9651592001319,500707473.99790019,193325.94966356052,49219119.512186609,555150138.56061018,2590.0295431464911,500708264.86553222,193321.44924387542,49219119.737110853,555149806.96085298,2590.2544673904777,500707933.26577502,193304.53419513162,49219119.8014948,555150597.82848501,2590.3188513368368,500708724.13340706,193300.034810385,49219119.273735709,555148382.23105836,2589.7910922467709,500707110.75832337,193338.80337194898,49219119.512186609,555148984.45340133,2590.0295431464911,500707110.75832337,193321.00364771922,49219119.5630439,555148841.4989332,2590.0804004371166,500706967.80385524,193317.15251748674,49219119.8014948,555149443.72127616,2590.3188513368368,500707570.02619821,193299.58926399666,null,null,null,78746021577242.172,78746392730355.859,78750035967136.578,78750036069360.016,78750036429570.406,78750036531793.844,78750035689594.906,78750036070514.125,78750036152028.734,78750036532947.953,0,0,0,0,0,0,0,0,0,1,null,0,0,0,0,0,0,0,0,1,null,null,null,null,1000000,3.5000000000000003E-2,0,3.0000000000000001E-3,3.0000000000000001E-3,5.0000000000000001E-3,1.7000000000000001E-2,3.0000000000000001E-3,3.0000000000000001E-3,3.0000000000000001E-3,0.96399999999999997]
[null,31,1460798.8232255636,0.27698657005003702,0.14406016249425521,0.1977334331269453,0.54299918033745853,0.29423946239876342,0.33657713986976656,4.4444216619803134E-2,0.48669285304274668,1809.4363672712348,4084.4774283841584,3638.8736129754307,317523.3935417218,209.22294666751887,243.44080654363688,17797.185221185402,5.3260107158488017,427.51797972614196,703.50511348090674,0.56778697680119927,null,41351206.683558851,46633064.212170906,41351506.054137059,283296254.32063383,41354452.301614642,2623654316.1042395,2946.2474775835872,2340358061.7836056,794352.16477574664,41354454.915045299,2623619882.8022466,2948.8609082400799,2340323628.4816127,793636.49263415055,41354460.202694789,2623551279.1011658,2954.1485577300191,2340255024.7805319,792192.73474140861,41354462.816125453,2623516845.7991724,2956.7619883939624,2340220591.4785385,791480.88370470656,41354441.057224207,2623719293.1586161,2935.0030871480703,2340240347.6394482,797355.32745672495,41354454.915045299,2623536601.9600821,2948.8609082400799,2340240347.6394482,793608.25093515019,41354448.958304353,2623616256.1555424,2942.9041672945023,2340320001.8349085,795241.66224768129,41354462.816125453,2623433564.9570084,2956.7619883939624,2340137310.6363745,791452.7174733727,null,null,null,66161884060629.953,66162126390364.977,66164500028267.328,66164504244189.672,66164512773032.562,66164516988954.93,66164481972265.578,66164504327470.516,66164494717030.812,66164517072235.773,0,0,0,0,0,0,0,0,0,1,null,0,0,0,0,0,0,0,0,1,null,null,null,null,{"$f":"DA37+100000","v":1100000},2.9000000000000001E-2,1E-3,3.0000000000000001E-3,3.0000000000000001E-3,6.0000000000000001E-3,1.9E-2,3.0000000000000001E-3,3.0000000000000001E-3,4.0000000000000001E-3,0.96899999999999997]
[null,32,1532421.9247092695,0.14998163660080374,8.7590423720741467E-2,0.18141051435698982,0.50026420958059392,0.28752346845095045,0.26028341615481504,3.7863674913278703E-2,0.49351433522700916,101.59676554350517,5269.9828946189573,2528.6353584349959,500279.05089747941,151.84697563086556,818.29876391719847,24455.003476271104,11027.968994344083,1410.5585941232546,558.19834464535177,0.97090283232188845,null,43379316.299463257,72479122.879784778,43379581.786842532,81553838.23014538,43382217.935849145,162106544.8121002,2636.1490066125989,80552706.581954822,30556.962591983185,43382220.36998155,162202106.82161102,2638.5831390172243,80648268.591465637,30564.990505284652,43382230.605520286,161817248.40736651,2648.8186777532101,80263410.177221134,30301.587213701783,43382233.039652683,161912810.41687733,2651.2528101503849,80358972.186731949,30309.811225499016,43382201.668686107,162152581.19101503,2619.8818435743451,80308256.440233842,30653.388677509232,43382220.36998155,161862094.67037922,2638.5831390172243,80308256.440233842,30436.128865033879,43382214.338357247,161863284.78628135,2632.5515147149563,80309446.556135967,30506.315301803923,43382233.039652683,161572798.26564553,2651.2528101503849,80018960.035500154,30181.565382654437,null,null,null,69406833600018.328,69407249305109.828,69411386590813.82,69411390389863.656,69411407151584.055,69411410950633.875,69411360517316.586,69411390729875.805,69411381078086.805,69411411290646.023,0,0,0,0,0,0,0,0,0,1,null,0,0,0,0,0,0,0,0,1,null,null,null,null,1200000,0.02,0,3.0000000000000001E-3,4.0000000000000001E-3,4.0000000000000001E-3,1.6E-2,3.0000000000000001E-3,4.0000000000000001E-3,4.0000000000000001E-3,0.98]
[null,33,1656955.3980607514,0.19189068333094406,0.18787820469592287,0.20765836922267122,0.48225550274844864,0.2594047806092567,0.31559596570047327,4.3937299070815117E-2,0.57944467903401864,207.94515626710503,1057.1085874875646,75.604182930120515,473563.4953122834,28.754860281123584,3292.0065571940459,28362.965424044451,318.45404070979339,2698.9865785512588,76.905418161581963,0.79771868888100295,null,46904548.537239991,70374310.765007749,46904816.159065649,97122539.687926769,46907458.605198212,353103704.4207747,2642.4461325630546,255981164.73284793,96872.80341437184,46907476.959679529,352734509.44545847,2660.8006138801575,255611969.7575317,96065.811329162781,46907606.662939139,350169532.82312918,2790.5038734897971,253046993.13520241,90681.469944975383,46907625.017420448,349800337.84781289,2808.8583547994494,252677798.15988612,89957.472482775702,46907372.468865015,353202812.36437267,2556.3097993656993,253887612.02596229,99318.013837352497,46907476.959679529,351010151.71388906,2660.8006138801575,253887612.02596229,95417.75159760144,46907520.526605941,350268640.76672709,2704.3675402924418,253146101.07880032,93606.39680338194,46907625.017420448,348075980.11624354,2808.8583547994494,250953440.42831677,89343.572629611896,null,null,null,75047207285273.219,75047608731965.344,75051580664612.719,75051610400977.797,75051820491169.797,75051850227534.875,75051442747371.656,75051612125335.531,75051682573928.734,75051851951892.609,0,0,0,0,0,0,0,0,0,1,null,0,0,0,0,0,0,0,0,1,null,null,null,null,1300000,1.4999999999999999E-2,0,3.0000000000000001E-3,4.0000000000000001E-3,4.0000000000000001E-3,1.7999999999999999E-2,3.0000000000000001E-3,4.0000000000000001E-3,4.0000000000000001E-3,0.98499999999999999]
[null,34,1475221.764166441,0.22371572364061387,0.14657578741530175,0.16760069570648484,0.5651406008802915,0.23265968200409057,0.26766682795085756,3.4370161008715816E-2,0.53670070978796647,1585.2598938383412,1947.208852301155,2317.1439733116404,1636638.158675909,108.290097399283,567.54065722989628,48560.874396435276,86053.326706070933,511.73100908866252,177.18041973533664,0.73513042019643493,null,41759705.143859699,239887447.29997465,41759991.481740348,433329670.22450382,41762820.455694683,2333380934.6738548,2828.9739543348551,1900051264.4493511,671639.71642011416,41762821.859898254,2333546074.5443192,2830.3781579062343,1900216404.3198154,671364.84890255658,41762826.004080981,2332985040.2738252,2834.5223406329751,1899655370.0493214,670185.35815283458,41762827.408284552,2333150180.144289,2835.9265442043543,1899820509.9197853,669911.74852619378,41762813.925381497,2333698974.243392,2822.4436411485076,1900066422.9149945,673199.06594904419,41762821.859898254,2333396093.1394982,2830.3781579062343,1900066422.9149945,671311.85902047949,41762819.473767802,2333303079.8433619,2827.9920274540782,1899973409.6188581,671845.39106686378,41762827.408284552,2333000198.7394686,2835.9265442043543,1899670528.5149648,669858.86231687828,null,null,null,66815288342728.219,66815553041114.328,66818179348176.82,66818181429762.656,66818188621489.297,66818190703075.141,66818168581636.148,66818181579744.062,66818177854948.641,66818190853056.539,0,0,0,0,0,0,0,0,0,1,null,0,0,0,0,0,0,0,0,1,null,null,null,null,1400000,1.2E-2,0,4.0000000000000001E-3,4.0000000000000001E-3,5.0000000000000001E-3,1.9E-2,3.0000000000000001E-3,4.0000000000000001E-3,4.0000000000000001E-3,0.98799999999999999]
[null,35,1375280.4526887855,0.21171974853199371,5.6061117394871074E-2,0.2612903974005738,0.4849763528299964,0.32595609554239569,0.39702548411053717,4.7922307032483458E-2,0.47146817640689881,257.85453461749574,1985.5959189436348,12766.996998686351,1544755.952606888,27.665430892210349,3541.5093725370671,2850.0462630677412,12825.594030260336,58.856473542052314,561.26434299343521,0.83698238195200436,null,38930524.617719591,225397793.93625611,38930803.65643727,238690243.39404076,38933564.446186438,369857496.47676688,2760.7897491678596,131167253.08272612,47510.772278932782,38933566.494410604,369803200.34228557,2762.8379733338952,131112956.94824481,47455.897962062474,38933568.496227384,369598698.84861463,2764.8397901132703,130908455.45457387,47347.573599991774,38933570.54445155,369544402.71413332,2766.8880142793059,130854159.32009256,47292.900415478602,38933554.959246069,370501507.88662106,2751.3028087988496,131093176.17446297,47647.67286073284,38933566.494410604,369783419.56850374,2762.8379733338952,131093176.17446297,47448.738376892165,38933559.009287015,370242710.25846875,2755.3528497442603,131552466.86442798,47744.326784367418,38933570.54445155,369524621.94035143,2766.8880142793059,130834378.54631066,47285.751310173364,null,null,null,62288613990557.406,62289047160056.242,62293333256401.828,62293336587856.625,62293339995264.961,62293343326719.766,62293317433285.828,62293336607637.398,62293324172148.969,62293343346500.539,0,0,0,0,0,0,0,0,0,1,null,0,0,0,0,0,0,0,0,1,null,null,null,null,1500000,1.0999999999999999E-2,0,3.0000000000000001E-3,4.0000000000000001E-3,4.0000000000000001E-3,1.9E-2,3.0000000000000001E-3,4.0000000000000001E-3,4.0000000000000001E-3,0.98899999999999999]
[null,36,1802621.2279119934,0.12890038502933368,0.15611673107774732,0.20937466181715092,0.58924846376141082,0.25344673154135178,0.23596483191791512,3.8998709983571772E-2,0.38736744338698986,393.63559436965261,1221.5907323263161,1732.4343433401873,887930.81323735171,63.598940199370972,1815.9580635163063,4639.2398102488651,28.5919713105372,6411.1728858695715,207.93343627249618,0.99006486981147657,null,51028611.09428744,127835135.29532795,51028867.10754922,181830933.7036469,51031404.967993997,715700717.1895678,2537.8604447767138,533869783.48592091,210362.15154568589,51031413.150050223,715354827.71178019,2546.0425010025501,533523894.00813329,209550.27019307361,51031453.413176745,713715739.76792216,2586.3056275248528,531884806.06427526,205654.27395883598,51031461.595232971,713369850.29013455,2594.487683750689,531538916.58648765,204872.39924688137,51031358.479652241,717494690.38724089,2491.3721030205488,533346396.61669278,214077.37365689437,51031413.150050223,715177330.32033968,2546.0425010025501,533346396.61669278,209480.55517795874,51031406.924834989,715509712.96559525,2539.8172857686877,533678779.26194835,210124.87089220984,51031461.595232971,713192352.89869404,2594.487683750689,531361419.19504714,204803.98597494635,null,null,null,81645649915724.609,81646005541145.047,81649532248073.203,81649545685252.641,81649611745343.031,81649625182522.453,81649456072753.188,81649545862750.031,81649535570023.016,81649625360019.844,0,0,0,0,0,0,0,0,0,1,null,0,0,0,0,0,0,0,0,1,null,null,null,null,1600000,8.9999999999999993E-3,0,3.0000000000000001E-3,4.0000000000000001E-3,4.0000000000000001E-3,1.6E-2,3.0000000000000001E-3,4.0000000000000001E-3,4.0000000000000001E-3,0.99099999999999999]
[null,37,1607696.4875222743,0.20194771895119745,0.22989890609948671,0.20036762439222475,0.57833907202493506,0.26080938243777452,0.29395958840493397,3.3688198665734616E-2,0.53396642572097208,116.66091931406909,2961.052292777782,9538.458919800376,1186856.5896334169,54.212622571568168,4228.0420159402893,24125.228330189042,3988.9463460497163,852.5192740759619,528.26721931612497,0.83193905205165175,null,45510089.149081156,176018777.44485211,45510361.599780254,179791044.28670627,45513048.027207367,208944201.13578853,2686.4274271130562,29153156.849082261,10852.017275751024,45513056.403055757,208574841.97515437,2694.8032755032182,28783797.688448101,10681.224099029312,45513102.573940046,206101799.00937688,2740.9741597920656,26310754.722670615,9599.052449537352,45513110.949788429,205732439.84874272,2749.350008174777,25941395.562036455,9435.4649225830217,45513011.386071235,210425889.11898836,2649.7862909808755,28299070.53281343,10679.755808661052,45513056.403055757,208090114.8195197,2694.8032755032182,28299070.53281343,10501.349315574422,45513065.932803907,207583486.99257672,2704.3330236524343,27792442.70587045,10277.004519337772,45513110.949788429,205247712.69310805,2749.350008174777,25456668.406401783,9259.1588305272962,null,null,null,72815966619752.406,72816398768604.125,72820667899330.641,72820681670047.25,72820758016505.062,72820771787221.641,72820607791824.844,72820682154774.406,72820697908999.25,72820772271948.797,0,0,0,0,0,0,0,0,0,1,null,0,0,0,0,0,0,0,0,1,null,null,null,null,1700000,3.0000000000000001E-3,0,4.0000000000000001E-3,4.0000000000000001E-3,7.0000000000000001E-3,1.4E-2,2E-3,4.0000000000000001E-3,4.0000000000000001E-3,0.997]
[null,38,2043144.1847294401,0.20037001038712177,0.15568659076469002,0.17793481205662978,0.48232766153891782,0.28331923890042121,0.29957584362129253,4.0993650500085743E-2,0.52703861342990233,108.09295366988248,1246.2358966875161,2078.8775338239284,872449.29551007831,198.80619374105382,15981.181752835369,28735.410275902115,11538.897914388055,437.30502459003776,1051.5150083442581,0.93946789769844208,null,57837609.870268658,128647970.69794892,57837858.166378453,139739063.99214947,57840313.524218388,241524777.50663617,2455.3578399345279,101785713.5144867,41454.533371478276,57840339.303065076,241637857.94124326,2481.1366866230965,101898793.94909379,41069.39956128785,57840490.594695725,235894954.90320921,2632.428317271173,96155890.911059737,36527.448926220648,57840516.373542413,236008035.3378163,2658.2071639597416,96268971.345666826,36215.751974071805,57840167.444971755,244594762.4548822,2309.2785933017731,98989468.588732332,42865.970730365028,57840339.303065076,238728532.5808818,2481.1366866230965,98989468.588732332,39896.82193747256,57840344.515449084,238964939.85145527,2486.3490706309676,99225875.859305799,39908.264302616597,57840516.373542413,233098709.97745481,2658.2071639597416,93359645.985305339,35121.282965107253,null,null,null,92540047144459.156,92540433327141.547,92544260113971.922,92544301247046.188,92544549056558.25,92544590189632.516,92544023317192.359,92544304156371.547,92544312259778.688,92544593098957.875,0,0,0,0,0,0,0,0,0,1,null,0,0,0,0,0,0,0,0,1]
[null,39,1826929.7577954216,0.21836711664573727,0.11169300420691497,0.23559617896295315,0.51262282378780311,0.25191163608765799,0.42414650095969819,3.3394086275939774E-2,0.52759397596844859,802.09272301230169,1310.4429269250966,8960.846172274325,249041.13512550044,193.49840084829165,1703.4680248187656,23605.883617780124,1379.4533487263352,347.40737929133275,4284.8546439827269,0.87696766606743104,null,51716602.542314067,36471332.189816482,51716876.869179666,167604730.78817934,51719590.494711146,1458858252.9557738,2713.6255314797163,1291253522.1675944,475840.71832618891,51719591.949942976,1458845430.2178106,2715.080763310194,1291240699.4296312,475580.9539364737,51719594.046075143,1458822358.7493052,2717.1768954768777,1291217627.9611259,475205.58198126109,51719595.501306973,1458809536.011342,2718.6321273073554,1291204805.2231627,474946.49689953629,51719586.609929845,1458837355.232178,2709.7407501786947,1291175381.5460954,476494.0636704631,51719591.949942976,1458780112.3342748,2715.080763310194,1291175381.5460954,475556.89649979683,51719590.161293842,1458801461.0257094,2713.2921141758561,1291196730.23753,475878.26002646313,51719595.501306973,1458744218.1278062,2718.6321273073554,1291139487.3396268,474922.47088922036,null,null,null,82746527596370.328,82746835385956.688,82749885933284.875,82749888274478.547,82749891651361.484,82749893992555.141,82749879738532.516,82749888339796.438,82749885456609.109,82749894057873.031,0,0,0,0,0,0,0,0,0,1,null,0,0,0,0,0,0,0,0,1,null,null,null,null,"Acceptability Curve"]
[null,40,1860759.9555663012,0.15253892004692757,0.16888617525911864,0.25596278480488177,0.62963325700094397,0.23803125962964855,0.35842799781319767,3.3865258217584335E-2,0.52934575642284476,31.792862275782998,1102.6754432637738,3695.3515109478717,350069.22074853338,212.62081932297963,556.97179890597204,31508.363784839781,48371.896899829022,1170.6701992886146,470.59049954431464,0.86350737072572792,null,52674314.338269331,51194814.225040704,52674588.363153979,53564362.078740016,52677301.05228699,64930390.43582955,2712.6891330108047,11366028.357089534,4189.9487186998158,52677305.425264813,65311960.689782999,2717.0621108338237,11747598.611042984,4323.6400685142344,52677319.311553173,64643453.058346659,2730.9483991935849,11079090.979606643,4056.8657331197328,52677323.684531003,65025023.312300108,2735.3213770240545,11460661.233560093,4189.87740520236,52677288.46698869,64837627.333757743,2700.1038347110152,11453478.82851956,4241.8660650305674,52677305.425264813,65017840.907259576,2717.0621108338237,11453478.82851956,4215.3908748904778,52677306.72625488,64550689.956274852,2718.3631009012461,10986327.877534837,4041.523324787785,52677323.684531003,64730903.529776677,2735.3213770240545,11166541.451036662,4082.3508143622653,null,null,null,84278851746416.703,84279287816684.281,84283616753268.75,84283623368463.016,84283646255032.016,84283652870226.297,84283596709554.578,84283623662582.797,84283626211317.859,84283653164346.078,0,0,0,0,0,0,0,0,0,1,null,0,0,0,0,0,0,0,0,1,null,null,null,null,null,"Policy SQ","Policy UCSNP","Policy URCSNP","Policy UCSNPSF","Policy URCSNPSF","Policy UNDNP","Policy URNDNP","Policy UNDNPSF","Policy URNDNPSF"]
[null,41,1859014.8095355751,0.19680934148171159,0.1618132935211285,0.23244602533517644,0.56297534131185001,0.24853610476399826,0.30926357614005129,5.4837773472385831E-2,0.53400275774373951,1858.1316930492446,1153.0107887177103,2571.8233649504496,613959.00176454941,525.89949112552131,3408.2239039662741,12028.944637521599,2183.7256316860735,759.33679174368365,182.66733052541244,0.82132128136255655,null,52624857.754917085,89956051.12263234,52625136.372931145,396050187.38650811,52627883.21843522,3427347341.2617106,2746.8455040752888,3031297153.8752027,1103555.7512710104,52627883.939588144,3427331099.5088882,2747.56665699929,3031280912.1223803,1103260.1900304556,52627886.47435616,3427263059.3777337,2750.1014250144362,3031212871.9912257,1102218.5743477857,52627887.195509084,3427246817.6249113,2750.8225779384375,3031196630.2384033,1101923.7134915798,52627880.334645487,3427406693.0663605,2743.9617143422365,3031260489.9486098,1104702.1808302607,52627883.939588144,3427310677.3351178,2747.56665699929,3031260489.9486098,1103252.7572085008,52627883.590566419,3427322411.182384,2747.2176352739334,3031272223.795876,1103397.1917167089,52627887.195509084,3427226395.4511414,2750.8225779384375,3031176208.0646334,1101916.2894672409,null,null,null,84199682451816.219,84199822146502.438,84201185802155.094,84201186972241.516,84201191095910.484,84201192265996.906,84201181128739.719,84201186992663.703,84201186422495.078,84201192286419.078,0,0,0,0,0,0,0,0,0,1,null,0,0,0,0,0,0,0,0,1,null,null,null,null,"WTP Threshold"]
[null,42,2082112.24781213,0.18654907118748143,0.1045327174618096,0.1801612321242568,0.51892972116422675,0.21795515600023282,0.44710640133438051,3.72213688604493E-2,0.56332759109449304,801.65052333008589,20.754504856063633,8048.4297311091796,1154034.1578297699,123.56360329948777,7271.9824487571232,20380.901160394511,1332.6604609330536,1061.6208249659503,1059.5117978160204,0.98584564182918988,null,58940854.19133272,169062888.22982642,58941120.657689206,306845865.35682958,58943762.466609627,1665223797.4263241,2641.8089204207063,1358377932.0694945,514184.77754748962,58943762.466609627,1665223797.4263208,2641.8089204207063,1358377932.0694911,514184.77754748834,58943762.466609627,1665223797.4263165,2641.8089204207063,1358377932.0694869,514184.77754748671,58943762.466609627,1665223797.4263129,2641.8089204207063,1358377932.0694833,514184.77754748537,58943762.466609627,1665223797.4263296,2641.8089204207063,1358377932.0694885,514184.77754748735,58943762.466609627,1665223797.4263182,2641.8089204207063,1358377932.0694885,514184.77754748735,58943762.466609627,1665223797.4263217,2641.8089204207063,1358377932.0694921,514184.77754748869,58943762.466609627,1665223797.4263103,2641.8089204207063,1358377932.0694807,514184.77754748438,null,null,null,94305197643244.125,94305486206437.375,94308354722777.984,94308354722777.984,94308354722777.984,94308354722777.984,94308354722777.984,94308354722777.984,94308354722777.984,94308354722777.984,0,0,1,1,1,1,1,1,1,1,null,0,1,1,1,1,1,1,1,1]
[null,43,1622876.8198568507,0.17971810569030663,0.19484914809253229,0.2341159200789158,0.5487988323050057,0.26853939094332763,0.351799719052166,2.8070446305336158E-2,0.65617227033114345,178.61768810933509,199.43522947940295,6679.8243433914222,56135.245289416969,36.985366087031053,1742.2513031376875,26972.95997336354,4826.4911488011949,2931.4279211877415,330.12907465864316,0.87261426344992621,null,45939908.488284931,8263180.7014339697,45940175.867368907,35206386.592769325,45942818.928316303,292376078.59484708,2643.0609473958611,257169692.00207776,97299.9477198815,45942828.262026295,292468613.90090823,2652.3946573883295,257262227.30813891,96992.439112153545,45942886.276069961,292244829.97186208,2710.4087010547519,257038443.37909275,94833.83198964296,45942895.609779954,292337365.27792323,2719.7424110472202,257130978.6851539,94542.401383573379,45942785.252281018,291811369.21384019,2609.3849121108651,256610851.04545665,98341.50947008848,45942828.262026295,291817237.63822597,2652.3946573883295,256610851.04545665,96746.858666246742,45942852.600034669,291680120.59085518,2676.7326657623053,256473733.99808586,95815.968952971569,45942895.609779954,291685989.01524097,2719.7424110472202,256479602.42247164,94302.902135395881,null,null,null,73503845318075.188,73504246181403.656,73508217909227.484,73508232750628.172,73508325796881.969,73508340638282.641,73508164592280.406,73508233402004.438,73508272479934.875,73508341289658.906,0,0,0,0,0,0,0,0,0,1,null,0,0,0,0,0,0,0,0,1]
[null,44,2172300.5073557547,0.17943210605917745,0.24472207371253119,0.18683432402925221,0.51323511745040262,0.2824238839156743,0.33590678581227312,2.8549574128413961E-2,0.47164750259705662,2.5098472419508187,792.66581965029263,4130.0473873719484,491476.6281813549,27.915479074716743,760.14151168750743,21580.512238033585,1482.2068595750115,2119.8139485377883,716.68556126355281,0.82319652796096121,null,61493877.298241548,72000329.377670407,61494153.697021514,67440684.908909991,61496881.999973193,13940469.26029242,2728.3029516786337,-53500215.648617573,-19609.338330884653,61496882.002506226,13940425.300357589,2728.3054847121239,-53500259.608552404,-19609.336237579519,61496882.020989507,13940009.816644993,2728.3239679932594,-53500675.092264995,-19609.355677660187,61496882.023522541,13939965.856710162,2728.3265010267496,-53500719.052199826,-19609.353584355071,61496881.988837644,13940538.846537776,2728.2918161302805,-53500436.76594615,-19609.499412650592,61496882.002506226,13940248.142963842,2728.3054847121239,-53500436.76594615,-19609.401170701833,61496882.009853959,13940079.402890349,2728.3128324449062,-53500605.506019644,-19609.410207581099,61496882.023522541,13939788.699316414,2728.3265010267496,-53500896.209593579,-19609.418516977206,null,null,null,98390131676857.109,98390578474549.516,98394997259487.844,98394997263584.672,98394997293573.406,98394997297670.203,98394997241601.391,98394997263761.828,98394997275686.922,98394997297847.359,0,0,0,0,0,0,0,0,0,1,null,0,0,0,0,0,0,0,0,1]
[null,45,1735933.7272081911,0.12626204557193746,0.10810325135327174,0.18845758090470024,0.69829758582989321,0.21818131039331434,0.23078378237622293,3.6280849914427357E-2,0.34969291768738991,154.52413681591864,2269.332272084429,1371.3360629415795,115690.06180325532,35.662105977086071,9763.5324818561185,18138.931168067204,5372.822470327611,937.78453096587953,702.53050528075698,0.98648583262656531,null,49140696.263576984,16707513.7702753,49140959.331097521,40433302.038873725,49143572.485777542,268819123.33792454,2613.1546800211072,228385821.29905081,87398.508417881356,49143577.575815029,268884277.07661933,2618.2447175085545,228450975.03774559,87253.484561646663,49143586.239556395,268912665.76286668,2626.9084588736296,228479363.72399294,86976.522897931791,49143591.329593882,268977819.5015614,2631.9984963610768,228544517.46268767,86833.072959071418,49143547.810716353,268640498.04147303,2588.479618832469,228136183.63613522,88135.205692303585,49143577.575815029,268569485.67500895,2618.2447175085545,228136183.63613522,87133.254623052562,49143561.564495221,268734040.46641517,2602.2333976998925,228300738.42754143,87732.614080403349,49143591.329593882,268663028.09995103,2631.9984963610768,228229726.0610773,86713.471294387506,null,null,null,78625097314209.406,78625494496454,78629447158120.719,78629455237026.969,78629469070624.469,78629477149530.719,78629407856648.125,78629455551818.375,78629429769151.891,78629477464322.125,0,0,0,0,0,0,0,0,0,1,null,0,0,0,0,0,0,0,0,1,null,null,null,null,0,0.92800000000000005,0,0,1.2E-2,0,0,2E-3,0,5.8000000000000003E-2]
[null,46,1578132.8132571918,0.27318074598815645,0.18004859854318356,0.21864575091801541,0.60640575729233126,0.21349058626971687,0.28515140673369532,3.7302178342510151E-2,0.58262963013788127,3244.2672528614598,4501.6647107930557,3314.2136024744996,40023.349605845964,103.17704143941329,12765.89526186502,15884.009774966957,3003.3159141315473,3748.7826833471377,644.94066975903672,0.86137578350659183,null,44673222.980394639,5863697.4692375585,44673494.363024004,470562262.413899,44676162.084363431,5072817438.2041082,2667.7213394269347,4602255175.7902088,1725163.3848604443,44676162.141492516,5072817589.7954063,2667.7784685119987,4602255327.3815069,1725126.4982090127,44676162.280164547,5072818168.5264492,2667.9171405434608,4602255906.1125498,1725037.0471307291,44676162.33729364,5072818320.1177473,2667.9742696359754,4602256057.7038479,1725000.1658868287,44676161.863328785,5072816488.2033138,2667.5003047809005,4602253973.3564348,1725305.8847295796,44676162.141492516,5072816235.7703342,2667.7784685119987,4602253973.3564348,1725125.9906612204,44676162.059129916,5072817218.5256548,2667.6961059123278,4602254956.1117554,1725179.6206891511,44676162.33729364,5072816966.0926752,2667.9742696359754,4602254703.6787758,1724999.6583762849,null,null,null,71477150904933.953,71477120418576,71476786517543.281,71476786608798.234,71476786830094.75,71476786921349.703,71476786164837.859,71476786610152.266,71476786477389.328,71476786922703.734,1,0,0,0,0,0,0,0,0,0,null,1,0,0,0,0,0,0,0,0,null,null,null,null,5000,0.90700000000000003,0,0,1.4E-2,0,0,0,2E-3,7.6999999999999999E-2]
[null,47,1982626.2941494675,0.23432522258655997,9.6815947635226648E-2,0.19977987831688007,0.53305160808258079,0.28047845089925527,0.19726828124220064,3.7057563112685973E-2,0.61724678368224661,993.98027954446786,1365.3001005359827,725.87315163202561,377098.57178953313,53.815761340911571,1636.9356937637324,3207.3972629821415,1559.5148114921842,1051.0525562159255,101.77516600380348,0.84563764372802064,null,56124302.894339353,54954449.653178185,56124571.937130012,229254060.30059415,56127230.625815712,1956854311.7899349,2658.6886857002974,1727600251.4893408,649794.11120271555,56127242.216261812,1956726091.6190288,2670.2791317999363,1727472031.3184347,646925.63812758029,56127289.951450802,1955911854.5136063,2718.0143207907677,1726657794.2130122,635264.42116414814,56127301.541896895,1955783634.3427002,2729.604766882956,1726529574.0421062,632519.98787124734,56127131.086332962,1958414829.3087289,2559.1492029502988,1727327385.7729721,674961.57855182257,56127242.216261812,1956581446.0735662,2670.2791317999363,1727327385.7729721,646871.46942898235,56127190.411968045,1957472372.0324006,2618.4748380333185,1728218311.7318065,660009.51646716415,56127301.541896895,1955638988.7972379,2729.604766882956,1726384928.4966438,632466.99648318358,null,null,null,89798829676493.312,89799085845347.719,89801612146993.344,89801630819927.281,89801708010466.766,89801726683400.688,89801451323303.422,89801630964572.828,89801547186776.844,89801726828046.234,0,0,0,0,0,0,0,0,0,1,null,0,0,0,0,0,0,0,0,1,null,null,null,null,10000,0.88700000000000001,0,0,1.6E-2,0,0,0,0,9.7000000000000003E-2]
[null,48,1636656.5244308447,0.17354450551866227,8.8266377892857587E-2,0.18327801574631622,0.5949248377169909,0.2934272789861091,0.35678878461249375,3.3966916873171882E-2,0.67882381367743672,462.37362052798318,1611.9501279683902,855.35111018026487,130966.37501074825,236.07184613361767,5211.2233997965732,7855.1457194851009,4452.3097947312945,1800.0965389034395,336.62069918575702,0.98409049722726549,null,46330233.708381876,18628983.140271928,46330484.867792703,86132555.422712028,46332977.229583584,752820848.08175921,2492.3617908805609,666688292.65904713,267492.58277768077,46332995.597140357,752914976.64235556,2510.729347653687,666782421.21964359,265573.19762194256,46333036.181496628,752697246.24280655,2551.3137039244175,666564690.82009459,261263.3208510534,46333054.549053393,752791374.80340278,2569.681260690093,666658819.38069081,259432.49444160957,46332911.890640378,752860339.48581016,2427.022847674787,666414084.35303164,274580.88620446681,46332995.597140357,752546639.7757436,2510.729347653687,666414084.35303164,265426.49249541981,46332970.842553422,752736737.6468575,2485.9747607186437,666604182.22414541,268145.99760113575,46333054.549053393,752423037.93679094,2569.681260690093,666290482.51407886,259289.15492622039,null,null,null,74128355304427.859,74128689655912.906,74132010746485.656,74132040040447.938,74132105193148.359,74132134487110.625,74131906164685.125,74132040408784.797,74132000611347.828,74132134855447.484,0,0,0,0,0,0,0,0,0,1,null,0,0,0,0,0,0,0,0,1,null,null,null,null,{"$f":"DA54+10000","v":20000},0.85899999999999999,0,0,1.7999999999999999E-2,0,0,0,0,0.123]
[null,49,1874531.7302572411,0.25093486285126787,0.19037378790105663,0.19710462090231923,0.44578750666527012,0.26714884356502994,0.41014315832410198,3.4527583623982137E-2,0.54200103781955788,1568.4335155679457,2052.1183498437326,4083.617301697398,85608.527530273423,291.89202283150911,5381.3721660607425,5630.4373267532565,2677.6871331324428,1731.3585775459287,996.75360588880665,0.82013108612157437,null,53064130.162783965,12563681.208902296,53064405.552256741,278598827.53283072,53067119.065032378,2914773896.854105,2713.5127756372094,2636175069.3212743,971499.04470312502,53067120.125393003,2914776763.9025879,2714.5731362625957,2636177936.3697572,971120.61603881768,53067125.016018361,2914764930.1745577,2719.4637616202235,2636166102.641727,969369.82203841954,53067126.076378994,2914767797.2230406,2720.5241222530603,2636168969.6902099,968993.05105481297,53067115.259484626,2914773944.4288979,2709.7072278857231,2636163310.9377923,972859.09112575452,53067120.125393003,2914762138.470623,2714.5731362625957,2636163310.9377923,971115.22829229885,53067121.210470617,2914764977.7493501,2715.6582138761878,2636166150.2165194,970728.25171684416,53067126.076378994,2914753171.7910752,2720.5241222530603,2636154344.2582445,968987.67509367154,null,null,null,84902595696773.141,84902770284783.25,84904475730154.938,84904477423864.906,84904485260699.203,84904486954409.172,84904469641230.984,84904477438490.344,84904479171775.234,84904486969034.594,0,0,0,0,0,0,0,0,0,1,null,0,0,0,0,0,0,0,0,1,null,null,null,null,30000,0.83899999999999997,0,0,0.02,0,0,0,0,0.14099999999999999]
[null,50,1847336.2597194472,0.19904841495932546,0.11750816738576271,0.21179387780277703,0.46564260047011785,0.23851052664483602,0.44573024339772616,3.3166869620508681E-2,0.54958848738032517,180.41219255977487,89.19482969399607,7754.2158229862498,591714.81048630131,10.452069668616453,858.16308273872812,15730.407119104213,8517.1922598857982,3611.1660726499954,68.825525784499106,0.57537096345341798,null,52293975.014874339,86658580.828859836,52294278.682737052,110387110.41119751,52297285.948177554,339591278.64498067,3007.2654405012727,229204168.23378316,76216.806520271042,52297286.603212103,339586669.42484844,3007.920475050807,229199559.01365092,76198.676432687105,52297288.047410294,339540738.71466893,3009.3646732419729,229153628.30347142,76146.845990786955,52297288.702444844,339536129.4945367,3010.0197077915072,229149019.08333918,76128.743772069502,52297284.278288856,339611123.11843199,3005.5955518037081,229178276.61318102,76250.537593338973,52297286.603212103,339565387.02437854,3007.920475050807,229178276.61318102,76191.600979513911,52297286.377521604,339560583.18812031,3007.6947845518589,229173472.77692279,76195.721039915705,52297288.702444844,339514847.0940668,3010.0197077915072,229127736.68286929,76121.673253423127,null,null,null,83670273365218.109,83670735505268.875,83675317925805.453,83675318978469.938,83675321335117.75,83675322387782.25,83675315234139.047,83675318999752.328,83675318643451.375,83675322409064.656,0,0,0,0,0,0,0,0,0,1,null,0,0,0,0,0,0,0,0,1,null,null,null,null,40000,0.80900000000000005,0,0,2.1999999999999999E-2,1E-3,0,0,0,0.16900000000000001]
[null,51,1705489.3128537349,0.20691209834933921,0.18699687087399808,0.15328208917115493,0.51310460318982509,0.28565175677795374,0.31750405192815978,3.3883798242230041E-2,0.53261687241707223,548.48511120488536,384.03148387775894,6524.0243111546561,671652.08673981007,5.5343081121976301,140.74422031444792,44958.734218013378,12091.402234239584,1214.7532000644774,893.7035523412577,0.65442735532804197,null,48278417.691566706,98429240.7457605,48278710.907060519,176797844.51394451,48281607.369945109,936525310.39300537,2896.4628845900297,759727465.87906086,262294.90801384597,48281607.726771034,936527404.38615012,2896.8197105154395,759729559.87220562,262263.3217781526,48281609.748313509,936457294.96964872,2898.841252990067,759659450.45570421,262056.24391199017,48281610.105139442,936459388.96279371,2899.1980789229274,759661544.4488492,262024.7129616852,48281605.639643788,936529088.90838432,2894.7325832694769,759683751.74327421,262436.59125335986,48281607.726771034,936481596.25721872,2896.8197105154395,759683751.74327421,262247.50853000151,48281608.018012188,936461073.48502791,2897.1109516695142,759663228.9710834,262214.06140255462,48281610.105139442,936413580.8338623,2899.1980789229274,759615736.3199178,262008.91268599365,null,null,null,77245369877265.984,77245760653452.312,77249635266601.781,77249635835429.266,77249639140006.641,77249639708834.141,77249632494341.156,77249635881237.406,77249636367746.016,77249639754642.281,0,0,0,0,0,0,0,0,0,1,null,0,0,0,0,0,0,0,0,1,null,null,null,null,50000,0.78300000000000003,0,0,1.9E-2,1E-3,0,0,0,0.19800000000000001]
[null,52,1752226.3074377973,0.21886828606991104,0.2002864948925156,0.21756138152411575,0.42268626099658474,0.32642562969160072,0.3963223014391295,4.3897230715507329E-2,0.68264271146414224,178.18923353834214,852.78451087947099,7432.5556017959134,330640.33743673202,6.88310949380132,7857.7100613310531,2743.033827391399,23291.466820492369,801.64644210478366,1110.9458315491963,0.92267679908371014,null,49601802.208827935,48723432.216831103,49602067.044988982,73420401.574958369,49604676.720018104,317546267.72194654,2609.6750291213393,244125866.14698815,93546.46207776443,49604678.739169866,317777833.44069189,2611.6941808834672,244357431.8657335,93562.80442569805,49604709.782391921,317125009.91279829,2642.7374029383063,243704608.3378399,92216.732569372529,49604711.801543683,317356575.6315437,2644.7565547004342,243936174.05658531,92233.885808145933,49604663.215005033,317723602.135288,2596.1700160503387,244326493.13438088,94110.359346220677,49604678.739169866,317746894.70933926,2611.6941808834672,244326493.13438088,93550.958195163446,49604696.27737885,317302344.32613975,2629.2323898673058,243881942.75118136,92757.849664057198,49604711.801543683,317325636.90019095,2644.7565547004342,243905235.32523257,92222.187668558094,null,null,null,79362834810692.484,79363233851580.797,79367165205761.25,79367168204838.344,79367218526817.172,79367221525894.266,79367143420405.906,79367168235777.078,79367196741461.828,79367221556832.984,0,0,0,0,0,0,0,0,0,1,null,0,0,0,0,0,0,0,0,1,null,null,null,null,60000,0.751,1E-3,1E-3,0.02,2E-3,1E-3,1E-3,1E-3,0.23]
[null,53,1559850.3325221939,0.21168924981915227,0.21095008687456263,0.2185645490517385,0.5658184483357378,0.22098119173091144,0.48400467200722119,3.5780963231998565E-2,0.49472373055480073,945.49814036418854,857.19349465049277,2179.8924376370146,1224119.919692999,8.4940477301853665,7826.0881687822757,33812.23908018662,56338.641160571031,654.90639008596497,2254.3444559835516,0.89259068951956033,null,44155681.315881126,179600997.93751121,44155950.513177127,299547057.50461006,44158606.053039819,1476550516.7983005,2655.5398626923561,1177003459.2936904,443225.67920346302,44158608.162093736,1476586581.8546741,2657.6489166095853,1177039524.350064,442887.51497381239,44158612.282746442,1476220067.3704424,2661.7695693150163,1176673009.8658323,442064.19046583324,44158614.391800351,1476256132.426816,2663.8786232247949,1176709074.9222059,441727.73664053978,44158602.363715626,1476665816.4935329,2651.8505384996533,1176946356.2408497,443820.7731370618,44158608.162093736,1476493413.7454598,2657.6489166095853,1176946356.2408497,442852.45838351862,44158608.593422242,1476335367.0656748,2658.0802451148629,1176788309.5610647,442721.13745392684,44158614.391800351,1476162964.3176017,2663.8786232247949,1176615906.8129916,441692.76203306258,null,null,null,70648910504411.859,70649221274025.906,70652293134346.906,70652296472768.125,70652303432326.938,70652306770748.141,70652287116128.5,70652296565936.234,70652297414108.531,70652306863916.25,0,0,0,0,0,0,0,0,0,1,null,0,0,0,0,0,0,0,0,1,null,null,null,null,70000,0.72699999999999998,1E-3,1E-3,2.1000000000000001E-2,2E-3,1E-3,1E-3,1E-3,0.253]
[null,54,1847578.3000873774,0.12813245156602873,0.13977380745842921,0.19069975372622508,0.50489077083803635,0.2796942952285516,0.30437118664507806,3.9704777016808412E-2,0.41819384245122371,82.144172977758117,986.83297647073971,79.248773452943354,373039.07623121882,196.5639417619887,1601.2576569584871,4391.8700312002593,15689.988279110203,5690.6933781131629,3877.3345924440691,0.7150284840314256,null,52300978.380235091,54649189.043768317,52301271.710008159,64210949.469780751,52304182.253728777,157269051.58360958,2910.5437206178904,93058102.113828838,31972.755280952515,52304182.253911301,157269062.80752403,2910.5439031422138,93058113.337743282,31972.757132190323,52304182.254943572,157269033.31624937,2910.5449354127049,93058083.846468627,31972.73565998847,52304182.255126104,157269044.54016384,2910.545117944479,93058095.070383102,31972.7375111449,52304182.252793506,157269062.79124695,2910.542785346508,93058109.366818577,31972.768047022459,52304182.253911301,157269058.83659932,2910.5439031422138,93058109.366818577,31972.755767866391,52304182.254008308,157269044.52388671,2910.5440001487732,93058095.054105967,31972.74978469636,52304182.255126104,157269040.56923911,2910.545117944479,93058091.099458367,31972.736146821528,null,null,null,83681510759187.094,83681970525063.594,83686534336914.469,83686534337195.266,83686534338876.406,83686534339157.219,83686534335406.812,83686534337199.234,83686534337368.766,83686534339161.203,0,0,0,0,0,0,0,0,0,1,null,0,0,0,0,0,0,0,0,1,null,null,null,null,80000,0.70799999999999996,1E-3,1E-3,2.5999999999999999E-2,2E-3,1E-3,1E-3,1E-3,0.26700000000000002]
[null,55,1818571.9504988028,0.18062044555474485,0.15904444744706225,0.16744041064152149,0.61683851303512771,0.2961784380253476,0.34164655259405879,4.4304948649176557E-2,0.64619954490856257,355.60791112372891,5979.1132439862713,3588.0704423581697,735940.95449540461,80.54609233178553,5991.2202734876337,428.63097408763724,15820.077891736077,2175.1827177883119,554.36206845150946,0.88669399335715104,null,51480005.22828912,107813347.6813788,51480279.137501061,157635814.67126703,51482988.639205448,651800148.81535649,2709.5017043873668,494164334.14408946,182381.99789426697,51482988.640313677,651800152.06033266,2709.5028126165271,494164337.38906562,182381.92449479629,51482988.644961506,651799969.12822568,2709.5074604451656,494164154.45695865,182381.54412601938,51482988.646069735,651799972.37320185,2709.5085686743259,494164157.70193481,182381.47072689023,51482988.635097384,651800286.98323798,2709.4975963234901,494164336.2831744,182382.27520618754,51482988.640313677,651800150.95444143,2709.5028126165271,494164336.2831744,182381.92408664347,51482988.640853435,651800107.29610705,2709.5033523738384,494164292.62484002,182381.87164149288,51482988.646069735,651799971.26731062,2709.5085686743259,494164156.59604359,182381.47031873825,null,null,null,82367900551914.906,82368288984187.031,82372130022579.906,82372130024349.828,82372130031969.281,82372130033739.203,82372130015868.828,82372130024350.938,82372130025258.203,82372130033740.312,0,0,0,0,0,0,0,0,0,1,null,0,0,0,0,0,0,0,0,1,null,null,null,null,90000,0.68700000000000006,1E-3,1E-3,2.5999999999999999E-2,2E-3,1E-3,1E-3,1E-3,0.28799999999999998]
[null,56,2412924.5490355175,0.18231298995287232,0.17427733106892607,0.19786946560383267,0.45488094241140864,0.26148057375496137,0.37718832225294596,4.537721588747734E-2,0.45864386244370597,272.92361338930255,670.52226315624091,28090.973503023124,370913.23662958696,126.22018131756289,2891.1709422546651,71807.279432315408,1900.2273831743184,1949.2903871513324,455.07585371110434,0.98950197921250549,null,68306047.721513703,54337791.735415988,68306311.17249614,113129967.97494221,68308914.563965917,667849800.91807532,2603.3914697766304,554719832.94313312,213075.84333090243,68308914.564267755,667849797.63133538,2603.3917716145515,554719829.65639317,213075.81736434976,68308914.565780059,667849771.92047739,2603.3932839184999,554719803.94553518,213075.68371329518,68308914.566081896,667849768.63373733,2603.3935857564211,554719800.65879512,213075.65774677906,68308914.562793642,667849743.85841358,2603.3902975022793,554719751.83425677,213075.90812121442,68308914.564267755,667849719.80919898,2603.3917716145515,554719751.83425677,213075.78747175456,68308914.564607784,667849714.86081564,2603.3921116441488,554719746.88587344,213075.75774113613,68308914.566081896,667849690.81160116,2603.3935857564211,554719722.83665895,213075.62785420479,null,null,null,109289622016630.19,109289984746025.86,109293595452544.55,109293595453030.78,109293595455476.17,109293595455962.39,109293595450725.97,109293595453108.59,109293595453657.59,109293595456040.22,0,0,0,0,0,0,0,0,0,1,null,0,0,0,0,0,0,0,0,1,null,null,null,null,100000,0.66200000000000003,1E-3,1E-3,2.4E-2,2E-3,1E-3,1E-3,1E-3,0.315]
[null,57,1721879.9484843942,0.17858000468661755,8.6606751846118588E-2,0.20228575225036438,0.55042142158830809,0.28419509570601831,0.37750020244063132,3.8598185075589632E-2,0.48225760483824998,524.74659697066443,4211.6042139303263,743.17893674776803,861806.33665736672,304.32813227975709,6543.4855964947819,12011.399347350747,117.66994617676045,2183.6606715149546,145.28658426863998,0.96051056806560053,null,48742766.453967102,126248366.5430209,48743036.374403223,197890954.7821804,48745713.262497209,903618001.05352831,2676.8880939856172,705727046.27134788,263637.11200963624,48745713.282391943,903617196.86518264,2676.9079887196422,705726242.08300221,263634.85224628478,48745713.308795825,903616458.0415293,2676.9343926012516,705725503.25934887,263631.9758937296,48745713.328690559,903615653.85318363,2676.9542873352766,705724699.0710032,263629.71620763215,48745713.194669917,903620134.49884927,2676.8202666938305,705725612.78361881,263643.25672685826,48745713.282391943,903616567.56579924,2676.9079887196422,705725612.78361881,263634.61716185673,48745713.240968525,903618591.48685026,2676.8665653020144,705727636.70466983,263639.45287838689,48745713.328690559,903615024.55380023,2676.9542873352766,705724069.7716198,263629.48112726997,null,null,null,77988300077980.812,77988660308090.375,77992237601994.484,77992237634630.25,77992237677615.266,77992237710251.031,77992237491337.375,77992237635259.547,77992237566958.156,77992237710880.344,0,0,0,0,0,0,0,0,0,1,null,0,0,0,0,0,0,0,0,1,null,null,null,null,{"$f":"DA63+50000","v":150000},0.56000000000000005,0,0,2.1999999999999999E-2,4.0000000000000001E-3,0,0,1E-3,0.42]
[null,58,1536658.4963799105,0.19415125030428737,0.21631763766023104,0.17809153170819955,0.5893077636006181,0.25521795084271248,0.48860379073587912,4.1447756562221993E-2,0.4880548861486656,337.0705894919106,237.79949298434934,3871.6739029916334,459881.95299408253,463.45417005023967,3680.5521947867519,7592.659986788778,516.11678669220692,692.69269312386825,1845.357863759308,0.89768947280123657,null,43499078.668690145,68638882.391337603,43499340.792672217,110560421.79774542,43501929.507954337,523832806.329638,2588.7152821198106,413272384.5318926,159643.8153652332,43501957.564184502,523257303.02330685,2616.7715122848749,412696881.22556144,157712.23405944553,43502022.968789034,521995976.51953244,2682.1761168166995,411435554.72178704,153396.17415208856,43502051.025019199,521420473.21320128,2710.2323469817638,410860051.41545588,151595.87770141111,43501877.710440211,524623499.63973123,2536.9177679941058,412386072.67190248,162553.97706405303,43501957.564184502,522946494.46964788,2616.7715122848749,412386072.67190248,157593.45847961374,43501971.1712749,522786669.82962567,2630.3786026835442,412226248.03188026,156717.45793982738,43502051.025019199,521109664.6595422,2710.2323469817638,410549242.8617968,151481.19803049462,null,null,null,69598457231021.844,69598834707853.75,69602563379920.609,69602608845392.18,69602714754085.93,69602760219557.508,69602479713204.695,69602609156200.734,69602631087370.016,69602760530366.062,0,0,0,0,0,0,0,0,0,1,null,0,0,0,0,0,0,0,0,1,null,null,null,null,{"$f":"DA64+50000","v":200000},0.47,2E-3,2E-3,1.4999999999999999E-2,8.0000000000000002E-3,2E-3,2E-3,3.0000000000000001E-3,0.51900000000000002]
[null,59,1316070.1825638427,0.19617006554280558,8.6115210033682429E-2,0.19753095092452097,0.50247461646839586,0.27428308743698171,0.26185766611363254,3.9299755485008192E-2,0.43795689517617681,706.67897682802038,1657.5277739715439,2100.1751638826368,34895.851694700832,213.92058378222188,485.9113918730132,2354.1494069152368,231.53539746431252,1026.9723216924162,284.41785938549174,0.82230514844231728,null,37254272.335673817,5111664.5159938522,37254554.724962085,89260095.250540555,37257351.416501001,922850185.59832895,2796.6915389150381,833590090.34778833,298062.93570408388,37257351.468753055,922850149.93433976,2796.7437909692526,833590054.68379927,298057.35419006913,37257351.584620096,922850018.80521274,2796.859658010304,833589923.55467224,298044.95951995358,37257351.636872143,922849983.14122379,2796.9119100570679,833589887.89068317,298039.37867806311,37257351.092166774,922850222.7349112,2796.3672046884894,833589581.7052083,298097.32438128372,37257351.468753055,922849676.9557488,2796.7437909692526,833589581.7052083,298057.18507247156,37257351.260285869,922850055.94179523,2796.5353237837553,833589960.69125462,298079.53920760588,37257351.636872143,922849510.1626327,2796.9119100570679,833589414.91209221,298039.20957063098,null,null,null,59606830625413.594,59607198299844.086,59610839416216,59610839499854.953,59610839685373.352,59610839769012.289,59610838897244.102,59610839500327.938,59610839166401.445,59610839769485.266,0,0,0,0,0,0,0,0,0,1,null,0,0,0,0,0,0,0,0,1,null,null,null,null,225000,0.43,3.0000000000000001E-3,3.0000000000000001E-3,1.4999999999999999E-2,0.01,2E-3,3.0000000000000001E-3,3.0000000000000001E-3,0.55900000000000005]
[null,60,1106990.100468409,0.14133150721832,0.21683773799484973,0.20668689883370328,0.48087183800591626,0.26398297135611115,0.30999489625571108,4.1263889331056514E-2,0.57900984752408646,52.295514694933857,132.54274807009517,5500.959336711202,263849.48428570671,1.0823038111383536,5562.8453395808319,1683.9440441532388,11855.505779904872,123.11476493984038,176.10791409055946,0.92646873158314857,null,31335395.643567793,38657187.59595824,31335664.786535777,40865775.049533218,31338325.897182375,62201663.983237706,2661.1106465980411,21335888.933704488,8017.6632117797317,31338326.157188404,62213610.485862695,2661.3706526271999,21347835.436329477,8021.3687692301473,31338329.332551781,62166439.390936911,2664.5460160039365,21300664.341403693,7994.1063931591052,31338329.592557814,62178385.893561892,2664.8060220368207,21312610.844028674,7997.8094719774654,31338324.614044685,62215323.925815918,2659.8275089077652,21345683.472287387,8025.2134398943808,31338326.157188404,62211458.521820605,2661.3706526271999,21345683.472287387,8020.5601768456308,31338328.049414091,62180099.333515115,2663.2628783136606,21314324.283981897,8003.0869117500779,31338329.592557814,62176233.929519802,2664.8060220368207,21310458.879986584,7997.0019220003587,null,null,null,50136594372520.875,50137022792682.195,50141259233827.812,50141259637890.961,50141264765643.461,50141265169706.609,50141257167147.562,50141259640042.922,50141262698963.211,50141265171858.57,0,0,0,0,0,0,0,0,0,1,null,0,0,0,0,0,0,0,0,1,null,null,null,null,{"$f":"DA65+50000","v":250000},0.40699999999999997,3.0000000000000001E-3,3.0000000000000001E-3,1.6E-2,1.0999999999999999E-2,3.0000000000000001E-3,3.0000000000000001E-3,3.0000000000000001E-3,0.58399999999999996]
[null,61,1712970.7827825909,0.20032941611225297,0.13757154908399408,0.20369021503525819,0.50494405792526709,0.27118482556766332,0.40090330420627196,4.28184758936071E-2,0.38635493114581854,96.187401198766949,18918.778833331271,2873.418278917683,928698.18696603156,675.37390384328785,1226.2374776306424,26274.653380304844,34.074600439092499,2222.2719258090929,341.39055986135827,0.96974230767838288,null,48490561.695949793,136013197.98289821,48490826.850129113,141176478.70361504,48493448.586908199,182410504.86541232,2621.7367790862918,41234026.161797285,15727.75211101393,48493450.259350836,182337000.01159501,2623.4092217236757,41160521.307979971,15689.706724799878,48493453.321834087,182207174.33313915,2626.4717049747705,41030695.629524112,15621.982735168374,48493454.994276725,182133669.47932187,2628.1441476121545,40957190.775706828,15584.073199683202,48493443.188285038,182537254.49673733,2616.3381559252739,41049533.601252943,15689.689617638773,48493450.259350836,182226012.30486798,2623.4092217236757,41049533.601252943,15647.400055368373,48493447.923210926,182333923.96446419,2621.0730818137527,41157445.260849148,15702.517242429833,48493454.994276725,182022681.77259484,2628.1441476121545,40846203.0689798,15541.842750935606,null,null,null,77584762700321.688,77585181783727.875,77589335328548.266,77589338077961.328,77589343107760.219,77589345857173.281,77589326564001.562,77589338188949.031,77589334343213.516,77589345968161,0,0,0,0,0,0,0,0,0,1,null,0,0,0,0,0,0,0,0,1,null,null,null,null,{"$f":"DA67+50000","v":300000},0.35099999999999998,3.0000000000000001E-3,3.0000000000000001E-3,1.4E-2,1.0999999999999999E-2,3.0000000000000001E-3,3.0000000000000001E-3,3.0000000000000001E-3,0.64100000000000001]
[null,62,1827300.4410931482,0.15323803213138606,0.1613369930645252,0.19785044729935378,0.63735374237198839,0.33311183407724576,0.36205807204125529,4.0789550854575141E-2,0.52401435019160414,7.0060325407247772,648.8331308354675,1913.7294088441265,671714.71528493718,17.652573605527671,123.77503830485432,32366.289293700618,17.68131003598727,9175.2670095610483,1667.374305096909,0.87703197770924413,null,51727095.448993951,98404175.445978031,51727371.317388237,92725692.140702948,51730103.337657958,23683357.476265147,2732.0202697217464,-69042334.664437801,-25271.5308995382,51730103.341082394,23683252.026212085,2732.0236941576004,-69042440.114490867,-25271.53782089712,51730103.354809426,23682829.650876969,2732.0374211892486,-69042862.489825979,-25271.565445751399,51730103.358233847,23682724.200823907,2732.0408456102014,-69042967.939879045,-25271.572367161407,51730103.325017817,23683445.831457324,2732.0076295807958,-69042741.601632878,-25271.796774676986,51730103.341082394,23682950.53907007,2732.0236941576004,-69042741.601632878,-25271.648173945177,51730103.342169277,23682918.00606915,2732.0247810408473,-69042774.134633794,-25271.650028126707,51730103.358233847,23682422.713681888,2732.0408456102014,-69043269.427021056,-25271.682719516677,null,null,null,82763254314214.875,82763701382129.031,82768141656895.266,82768141662479.797,82768141684865.422,82768141690449.953,82768141636582.672,82768141662781.281,82768141664552.844,82768141690751.438,0,0,0,0,0,0,0,0,0,1,null,0,0,0,0,0,0,0,0,1,null,null,null,null,350000,0.30199999999999999,3.0000000000000001E-3,3.0000000000000001E-3,1.2E-2,1.2999999999999999E-2,3.0000000000000001E-3,3.0000000000000001E-3,3.0000000000000001E-3,0.69199999999999995]
[null,63,1779425.0836487662,0.17888498658504393,0.1326052545499003,0.20142615102628225,0.56712735745301879,0.22877977838757757,0.43067302154490195,3.6404411666789628E-2,0.70536763072916076,3018.3802065329992,4236.2746927324079,455.12823175172338,1691583.3957008352,172.18514845355728,1997.8692707837686,5321.977389210092,13401.349596660784,10830.0834065123,170.46220476343066,0.97292988747480158,null,50371865.484122902,247702789.92454854,50372131.771193624,714036671.2201916,50374769.536369726,5336911901.730279,2637.765176102519,4622875230.510087,1752572.6976730756,50374770.474782795,5336859448.7049522,2638.7035891711712,4622822777.4847603,1751929.5446658372,50374772.903699689,5336644915.2995081,2641.1325060650706,4622608244.0793161,1750237.1552597245,50374773.842112765,5336592462.2741814,2642.0709191411734,4622555791.0539894,1749595.6514886394,50374767.457028948,5337069780.1859722,2635.6858353242278,4622813682.3055944,1753931.9824651715,50374770.474782795,5336850353.5257864,2638.7035891711712,4622813682.3055944,1751926.097829594,50374770.824358918,5336802793.7552013,2639.05316529423,4622766122.5350094,1751676.0114302638,50374773.842112765,5336583367.0950155,2642.0709191411734,4622546695.8748236,1749592.2090454029,null,null,null,80594737071806.719,80594696797238.578,80594294346289.828,80594295900203.766,80594300001004.203,80594301554918.141,80594290861466.125,80594295909298.938,80594296516180.516,80594301564013.328,1,0,0,0,0,0,0,0,0,0,null,1,0,0,0,0,0,0,0,0,null,null,null,null,400000,0.25700000000000001,3.0000000000000001E-3,3.0000000000000001E-3,0.01,1.4E-2,3.0000000000000001E-3,3.0000000000000001E-3,3.0000000000000001E-3,0.73899999999999999]
[null,64,1653755.2993796149,0.22271224612750151,0.21879420617516754,0.16400225261886253,0.67687580038192263,0.24717005285965601,0.22091506318188531,4.6472354151786743E-2,0.58674914260543742,413.95812516426287,2272.2948651663946,4918.0937891991844,348589.37638192828,134.57083768491628,2231.8544504364058,6653.2570761654924,1043.0116573665039,250.75921282567327,1648.4608487560097,0.7734157892658694,null,46813952.565518759,51420917.513586193,46814231.497504994,109758022.55543038,46816977.440078408,686039746.97493219,2745.9425734132528,576281724.41950178,209866.63377419941,46816982.259417564,685975793.64583123,2750.7619125694036,576217771.09040082,209475.69779027993,46817006.704178981,685609948.20251393,2775.2066739872098,575851925.64708352,207498.75353237835,46817011.52351813,685545994.87341297,2780.02601313591,575787972.31798255,207116.03761882978,46816950.667833291,686386333.93872213,2719.170328296721,576150517.53022611,211884.67362069403,46816982.259417564,685908540.08565652,2750.7619125694036,576150517.53022611,209451.24872405309,46816979.931933865,685956535.16630387,2748.4344288706779,576198512.61087346,209646.08307851513,46817011.52351813,685478741.31323838,2780.02601313591,575720718.75780797,207091.84591707707,null,null,null,74902272683912.5,74902660637985.422,74906477864378.484,74906485639274.469,74906525116738.172,74906532891634.141,74906434682199.328,74906485706528.031,74906481934559.016,74906532958887.703,0,0,0,0,0,0,0,0,0,1,null,0,0,0,0,0,0,0,0,1,null,null,null,null,450000,0.20899999999999999,3.0000000000000001E-3,3.0000000000000001E-3,8.9999999999999993E-3,1.2999999999999999E-2,3.0000000000000001E-3,3.0000000000000001E-3,3.0000000000000001E-3,0.78800000000000003]
[null,65,1534235.9728721164,0.12467972985349922,0.2166628259751372,0.21983217087061691,0.59412629942587869,0.27068062283960703,0.41301584593026419,4.1093122473300436E-2,0.46404551737059552,410.04246454716537,3243.9342819856097,3841.6735155335791,79644.546958376901,293.8678784207151,8897.8082535867215,10262.17948631171,3568.7460181090769,4646.2004336575646,985.15446125687504,0.94888287302900298,null,43430614.480775215,11663097.605101544,43430879.977079086,68554769.234877363,43433508.026247002,628803418.25170648,2628.0491679161787,560248649.01682913,213180.4289875821,43433511.345631547,628824452.28096902,2631.3685524612665,560269683.04609168,212919.50248551843,43433528.063520908,628811769.48077512,2648.08644182235,560257000.24589777,211570.51046277108,43433531.382905453,628832803.51003766,2651.4058263674378,560278034.27516031,211313.57135273781,43433499.360726446,628739635.84336019,2619.3836473599076,560173414.07338941,213856.95624922737,43433511.345631547,628728183.30826676,2631.3685524612665,560173414.07338941,212882.91735090769,43433519.398000352,628747987.0724287,2639.4209212660789,560193217.83755136,212240.95532623027,43433531.382905453,628736534.5373354,2651.4058263674378,560181765.30245805,211277.26270026941,null,null,null,{"$f":"cRatio*X72-Y72","v":69488971506142.742},{"$f":"cRatio*Z72-AA72","v":69489339408557.305},{"$f":"cRatio*AB72-AC72","v":69492984038576.953},{"$f":"cRatio*AG72-AH72","v":69492989328558.195},{"$f":"cRatio*AL72-AM72","v":69493016089863.969},{"$f":"cRatio*AQ72-AR72","v":69493021379845.219},{"$f":"cRatio*AV72-AW72","v":69492970237526.469},{"$f":"cRatio*BA72-BB72","v":69492989424827.172},{"$f":"cRatio*BF72-BG72","v":69493002288813.492},{"$f":"cRatio*BK72-BL72","v":69493021476114.188},0,0,0,0,0,0,0,0,0,1,null,0,0,0,0,0,0,0,0,1,null,null,null,null,500000,0.183,3.0000000000000001E-3,3.0000000000000001E-3,6.0000000000000001E-3,1.6E-2,3.0000000000000001E-3,3.0000000000000001E-3,3.0000000000000001E-3,0.81599999999999995]
[null,66,1904787.903578771,0.14920012295753854,9.228074011284805E-2,0.187744114012111,0.55794303799542777,0.24974189926729859,0.24809887877823247,3.7595612331351606E-2,0.57733037431497114,61.664356395533048,2682.8620155264884,7391.4621868171698,110139.72192193996,3.0100198727490133,2226.3283920176136,36008.726269943101,2215.570405681598,5743.9890288717515,5.1558918205880859,0.85344623079688609,null,53920729.550558321,16061093.81275603,53921008.639728814,27199590.58266858,53923779.273439839,123572177.12248984,2770.6337110251188,96372586.539821267,34783.589817855769,53923780.772849619,123577918.20922066,2772.1331208050251,96378327.626552075,34766.846838352372,53923786.275528297,123550377.95312089,2777.6357994824648,96350787.370452315,34688.056435766201,53923787.774938077,123556119.03985171,2779.1352092623711,96356528.457183123,34671.407183084753,53923771.047000632,123397887.78236388,2762.4072718173265,96162769.653368533,34811.220863209346,53923780.772849619,123362360.23603711,2772.1331208050251,96162769.653368533,34689.087956008021,53923778.049089082,123376088.61299491,2769.4093602672219,96176498.030326337,34728.162405375209,53923787.774938077,123340561.06666814,2779.1352092623711,96140970.48399955,34593.844215847625,null,null,null,86273151219799.5,86273586623975.531,86277923265326.625,86277925658641.188,86277934490467.328,86277936883781.875,86277910277313.234,86277925874199.156,86277921502453.922,86277937099339.859,{"$f":"IF(BS73=MAX($BS73:$CB73),1,0)","v":0},{"$f":"IF(BT73=MAX($BS73:$CB73),1,0)","v":0},{"$f":"IF(BU73=MAX($BS73:$CB73),1,0)","v":0},{"$f":"IF(BV73=MAX($BS73:$CB73),1,0)","v":0},{"$f":"IF(BW73=MAX($BS73:$CB73),1,0)","v":0},{"$f":"IF(BX73=MAX($BS73:$CB73),1,0)","v":0},{"$f":"IF(BY73=MAX($BS73:$CB73),1,0)","v":0},{"$f":"IF(BZ73=MAX($BS73:$CB73),1,0)","v":0},{"$f":"IF(CA73=MAX($BS73:$CB73),1,0)","v":0},{"$f":"IF(CB73=MAX($BS73:$CB73),1,0)","v":1},null,{"$f":"IF(BT73=MAX($BT73:$CB73),1,0)","v":0},{"$f":"IF(BU73=MAX($BT73:$CB73),1,0)","v":0},{"$f":"IF(BV73=MAX($BT73:$CB73),1,0)","v":0},{"$f":"IF(BW73=MAX($BT73:$CB73),1,0)","v":0},{"$f":"IF(BX73=MAX($BT73:$CB73),1,0)","v":0},{"$f":"IF(BY73=MAX($BT73:$CB73),1,0)","v":0},{"$f":"IF(BZ73=MAX($BT73:$CB73),1,0)","v":0},{"$f":"IF(CA73=MAX($BT73:$CB73),1,0)","v":0},{"$f":"IF(CB73=MAX($BT73:$CB73),1,0)","v":1},null,null,null,null,550000,0.156,4.0000000000000001E-3,4.0000000000000001E-3,6.0000000000000001E-3,1.4999999999999999E-2,4.0000000000000001E-3,4.0000000000000001E-3,4.0000000000000001E-3,0.84299999999999997]
[null,67,1542744.1052370281,0.16356280557897473,0.13149117898920745,0.16516743710771351,0.5327950922625132,0.20784885117895832,0.5124820336403807,2.8336779902054608E-2,0.64302095224366895,118.04391569754689,2001.8797069586972,11387.11412665898,213014.10830232155,129.48998878604391,3355.7191830006823,3137.2352679668506,111.71497719289323,4045.3120021263926,2148.7299945455834,0.52500110031545455,null,43671013.448825158,31205299.17406356,43671323.457346343,45847415.592688836,43674399.6278245,189796176.76327154,3076.1704781576991,143948761.17058271,46794.793134089501,43674399.666834474,189795842.76891148,3076.2094881311059,143948427.17622265,46794.091147438681,43674399.748918511,189795316.59322712,3076.2915721684694,143947901.00053829,46792.671508399908,43674399.787928484,189794982.59886706,3076.3305821418762,143947567.00617823,46791.969576285141,43674399.566977903,189796523.80593988,3076.1096315607429,143948243.03681636,46795.550314564221,43674399.666834474,189795658.62950519,3076.2094881311059,143948243.03681636,46794.031288249309,43674399.688071914,189795663.63589546,3076.2307255715132,143948248.04320663,46793.709862729302,43674399.787928484,189794798.45946077,3076.3305821418762,143947382.86677194,46791.909719452015,null,null,null,69873590312821.078,69874071684338.555,69878849608342.438,69878849671092.391,69878849802953.023,69878849865702.977,69878849510640.844,69878849671276.523,69878849705251.43,69878849865887.117,0,0,0,0,0,0,0,0,0,1,null,0,0,0,0,0,0,0,0,1,null,null,null,null,600000,0.13400000000000001,4.0000000000000001E-3,4.0000000000000001E-3,8.9999999999999993E-3,1.7000000000000001E-2,4.0000000000000001E-3,4.0000000000000001E-3,4.0000000000000001E-3,0.86499999999999999]
[null,68,1899949.9752501824,0.2164223082991652,0.15762415909513933,0.19912346858601992,0.56250103439657384,0.23621919630855381,0.36043981358537325,3.5900857918313239E-2,0.57695270142787292,2115.8962543316052,3044.0692593772833,113.86971254550737,417441.22437629354,29.146552358140685,3346.1921515177155,8167.1802013103043,78400.451119873309,2363.4736077774969,967.3879694799765,0.74874488908464476,null,53783637.381848365,61209188.693791769,53783921.654476278,421002492.19978368,53786729.472005621,3986154587.3680964,2807.8175293430686,3565152095.1683125,1269723.5692528901,53786732.146480978,3986467840.2230897,2810.4920047000051,3565465348.0233059,1268626.7536291701,53786739.02795659,3985994592.4080868,2817.3734803125262,3564992100.208303,1265360.1395484295,53786741.702431947,3986307845.2630801,2820.0479556694627,3565305353.0632963,1264271.1787562186,53786721.290792815,3986267058.0088134,2799.6363165378571,3565427600.0333729,1273532.4152540371,53786732.146480978,3986430092.2331567,2810.4920047000051,3565427600.0333729,1268613.3225324547,53786730.846743785,3986107063.0488038,2809.1922675073147,3565104570.84902,1269085.2855053777,53786741.702431947,3986270097.2731481,2820.0479556694627,3565267605.0733643,1264257.7931718153,null,null,null,86053758601768.703,86053853644669.844,86054781000621.625,86054784966529.344,86054796450138.141,86054800416045.844,86054767798210.484,86054785004277.328,86054783247727.016,86054800453793.844,0,0,0,0,0,0,0,0,0,1,null,0,0,0,0,0,0,0,0,1,null,null,null,null,650000,0.11700000000000001,3.0000000000000001E-3,3.0000000000000001E-3,7.0000000000000001E-3,1.6E-2,3.0000000000000001E-3,3.0000000000000001E-3,3.0000000000000001E-3,0.88200000000000001]
[null,69,1367515.8532508516,0.21366723128651877,0.2325580575290831,0.18914244816034803,0.44717466706719022,0.28874719020059325,0.23309686948977679,3.8737890197302192E-2,0.5514103245624038,1179.155235205817,7848.3388409984891,3921.8519286742912,396858.85759024892,10.65770385756395,2581.1309614989,40736.260667481525,2491.2830927203581,1789.6904202918779,225.46053442875709,0.69502855156178966,null,38710529.156485744,58385489.607973188,38710815.861460969,201646813.40971366,38713638.787137084,1606822255.4503038,2822.9256761148572,1405175442.04059,497772.73767069494,38713639.86450056,1606818477.4210665,2824.0030395910144,1405171664.0113528,497581.49843027664,38713656.296230756,1606537132.885433,2840.4347697868943,1404890319.4757192,494603.97204654769,38713657.373594232,1606533354.8561954,2841.5121332630515,1404886541.4464817,494415.11264397798,38713628.782231219,1606753459.9138196,2812.9207702502608,1404931241.3288691,499456.38575660088,38713639.86450056,1606578054.7385828,2824.0030395910144,1404931241.3288691,497496.36301111698,38713646.291324891,1606468337.3489487,2830.429863922298,1404821523.939235,496327.97542366543,38713657.373594232,1606292932.1737115,2841.5121332630515,1404646118.7639978,494330.50182016008,null,null,null,61936788264887.578,61937103731524.141,61940215237163.883,61940216964723.477,61940243536836.328,61940245264395.914,61940199298110.039,61940217205146.156,61940227597782.477,61940245504818.602,0,0,0,0,0,0,0,0,0,1,null,0,0,0,0,0,0,0,0,1,null,null,null,null,700000,9.5000000000000001E-2,3.0000000000000001E-3,3.0000000000000001E-3,7.0000000000000001E-3,1.6E-2,3.0000000000000001E-3,3.0000000000000001E-3,3.0000000000000001E-3,0.90400000000000003]
[null,70,1491351.5494425599,0.21465127147177632,0.16366236973220782,0.17462281611039579,0.59524198134752493,0.32858924941465395,0.28008377211451596,3.9868678423534698E-2,0.59867994628932175,88.511303655626662,493.81332966761067,198.52002271377233,256733.51293492259,125.56359868364969,1792.6710665136677,59402.049507880911,62765.947116525604,3627.3686880703617,537.43307816348215,0.72028565994773308,null,42216317.668878205,37633550.103491895,42216604.983050048,48728481.248428129,42219441.609756231,135484654.45951095,2836.6267061829567,86756173.211082816,30584.275689847229,42219442.594984666,135641734.33051795,2837.6119346171618,86913253.082089812,30629.013087307787,42219447.631371915,135422084.02204296,2842.6483218669891,86693602.773614824,30497.477337146076,42219448.616600357,135579163.89304996,2843.6335503086448,86850682.644621819,30542.150072464556,42219435.956762925,135388808.31377175,2830.9737128764391,86754159.536285192,30644.636204741641,42219442.594984666,135482640.78471333,2837.6119346171618,86754159.536285192,30572.947089042213,42219441.978378624,135326237.87630379,2836.9953285753727,86597756.627875656,30524.462185618628,42219448.616600357,135420070.34724534,2843.6335503086448,86691589.098817199,30486.202798320406,null,null,null,67546070636655.023,67546519244398.828,67550971090955.508,67550972510241.133,67550980788111.039,67550982207396.68,67550962142012.367,67550972669334.68,67550971839167.922,67550982366490.227,0,0,0,0,0,0,0,0,0,1,null,0,0,0,0,0,0,0,0,1,null,null,null,null,750000,8.4000000000000005E-2,3.0000000000000001E-3,3.0000000000000001E-3,6.0000000000000001E-3,1.6E-2,3.0000000000000001E-3,3.0000000000000001E-3,3.0000000000000001E-3,0.91500000000000004]
[null,71,1795627.5497835258,0.17062516474257955,0.17299916706531837,0.21891902031999555,0.51706305173171596,0.20944447418471804,0.43763592439029253,4.34862632764621E-2,0.46504642646644689,301.61692848365595,1425.7540183023452,4099.4145647205323,473768.61093497294,49.059415639550885,380.40621750053907,19753.441506293533,120467.80044422028,5699.5828344160964,2692.0158582625986,0.75794922121061059,null,50830316.810595088,69393303.686121196,50830600.649807133,113795555.07046075,50833407.803421207,546603220.57348263,2807.1536140739918,432807665.5030219,154180.25694535926,50833411.47332716,547375652.00135696,2810.823520027101,433580096.93089622,154253.76009615709,50833420.65707656,546337234.60916281,2820.0072694271803,432541679.53870207,153383.17891164974,50833424.326982521,547109666.03703713,2823.6771753877401,433314110.9665764,153457.38342311556,50833399.876756534,546629668.02267921,2799.2269494011998,433440861.09676784,154843.05807697654,50833411.47332716,547236416.16722858,2810.823520027101,433440861.09676784,154204.22449453131,50833412.730411895,546363682.0583595,2812.0806047618389,432568126.98789877,153824.93882124472,50833424.326982521,546970430.20290875,2823.6771753877401,433174875.13244802,153408.07331240532,null,null,null,81328437503648.453,81328847244136.328,81332905882253.359,81332910981671.453,81332926714087.891,81332931813506,81332893173142.438,81332911120907.281,81332914004976.969,81332931952741.828,0,0,0,0,0,0,0,0,0,1,null,0,0,0,0,0,0,0,0,1,null,null,null,null,800000,6.8000000000000005E-2,3.0000000000000001E-3,3.0000000000000001E-3,6.0000000000000001E-3,1.6E-2,3.0000000000000001E-3,3.0000000000000001E-3,3.0000000000000001E-3,0.93100000000000005]
[null,72,1593849.5116612457,0.15246196427083963,0.14264703368602913,0.19039327486943439,0.40615570316395627,0.21412181283393689,0.30129142036954792,3.7404794437753061E-2,0.48216192556336429,16.906971702320732,227.27744255368771,606.09734972963395,63763.209923284136,38.527252425851465,4806.1870874263559,18133.778010604889,9053.9437143554096,534.93857461996208,1350.5978870446525,0.67992180929290902,null,45117971.488489091,9309424.2445469275,45118264.20162899,11712058.823107552,45121165.248912923,28510440.664398354,2901.0472839325666,16798381.841290802,5790.4543418952671,45121167.092177249,28586767.137732916,2902.8905482590199,16874708.314625364,5813.0708113489864,45121179.620909996,28514221.441778582,2915.4192810058594,16802162.61867103,5763.2062489735799,45121181.46417433,28590547.915113144,2917.2625453397632,16878489.092005592,5785.728514208794,45121156.208014183,28372241.183602542,2892.006385192275,16711711.085945912,5778.587202128474,45121167.092177249,28423769.909053463,2902.8905482590199,16711711.085945912,5756.9208373938163,45121170.580011263,28376021.96098277,2906.3783822730184,16663963.137875218,5733.5835001782107,45121181.46417433,28427550.686433692,2917.2625453397632,16715491.86332614,5729.8551650857144,null,null,null,72188745072158.297,72189211010547.562,72193835887820,72193838760716.453,72193858879234.562,72193861752131,72193821560581.5,72193838923713.688,72193844551996.047,72193861915128.234,0,0,0,0,0,0,0,0,0,1,null,0,0,0,0,0,0,0,0,1,null,null,null,null,850000,5.8000000000000003E-2,3.0000000000000001E-3,3.0000000000000001E-3,5.0000000000000001E-3,1.7000000000000001E-2,3.0000000000000001E-3,3.0000000000000001E-3,3.0000000000000001E-3,0.94099999999999995]
[null,73,1798498.3159529031,0.20317763488451723,0.17489647244626949,0.23130700864992826,0.57228986558862349,0.24753075581156889,0.35560954621101448,3.3084749060071326E-2,0.61704513379150971,374.8154394592612,3189.3775263162061,3215.697422489076,90657.76432985111,471.23568081714484,15429.432037765931,32081.040966984147,66148.688368734191,442.46917910187443,388.4542501882874,0.8218247606613901,null,50911655.989972539,13282590.119662158,50911934.17031806,74714604.51329191,50914681.238572054,671279993.2575227,2747.068253993988,596565388.74423075,217164.38529580718,50914681.495770134,671311617.0708555,2747.3254520744085,596597012.55756354,217155.56564552416,50914682.421491161,671282782.00519192,2748.2511731013656,596568177.49189997,217071.92680597698,50914682.678689241,671314405.81852472,2748.5083711817861,596599801.30523276,217063.1196035654,50914680.417279065,671267501.94482982,2746.2469610050321,596581165.9184711,217235.07550105505,50914681.495770134,671295770.43176305,2747.3254520744085,596581165.9184711,217149.7976215427,50914681.600198165,671270290.69249904,2747.429880104959,596555686.17920709,217132.26987122127,50914682.678689241,671298559.17943227,2748.5083711817861,596583954.66614032,217057.35406205984,null,null,null,81458636301365.938,81459019957904.375,81462818701722.031,81462819081615.141,81462820591603.859,81462820971496.969,81462817400144.562,81462819097461.781,81462819290026.375,81462820987343.609,0,0,0,0,0,0,0,0,0,1,null,0,0,0,0,0,0,0,0,1,null,null,null,null,900000,5.0999999999999997E-2,3.0000000000000001E-3,3.0000000000000001E-3,5.0000000000000001E-3,1.4999999999999999E-2,3.0000000000000001E-3,3.0000000000000001E-3,4.0000000000000001E-3,0.94799999999999995]
[null,74,1370399.1130198659,0.1163088148295425,0.14670840838509849,0.21148089201311127,0.56705585747497467,0.26755731440362318,0.39068925123625775,4.1550903402884032E-2,0.53009814265620381,912.20131833542496,2508.2476179509495,1116.7319362869371,21027.110273938411,145.66532534059195,18485.154442203886,23535.876222010669,38374.416480832399,1593.8580814223487,173.57011395552757,0.69319499062614398,null,38792218.648570865,3032312.8093177192,38792503.787732489,117160842.83210272,38795333.910037026,1240256407.7779591,2830.1223045364022,1123095564.9458563,396836.40637920372,38795341.966341965,1241230429.8446128,2838.1786094754934,1124069587.0125101,396053.15298329393,38795379.947181411,1240687305.8630483,2876.1594489216805,1123526463.0309455,390634.27566652262,38795388.00348635,1241661327.929702,2884.2157538607717,1124500485.0975993,389880.84840475552,38795310.121134885,1239676139.2267594,2806.3334023952484,1123467709.4609218,400332.94280074665,38795341.966341965,1240628552.2930245,2838.1786094754934,1123467709.4609218,395841.08826348424,38795356.15827927,1240107037.3118486,2852.3705467805266,1122946194.4797459,393688.74978295382,38795388.00348635,1241059450.378114,2884.2157538607717,1123898607.5460112,389672.16860998556,null,null,null,62067546805400.57,62067888899529.148,62071293999651.461,62071305915717.297,62071367228184.398,62071379144250.234,62071256517676.586,62071306517594.844,62071329746209.516,62071379746127.789,0,0,0,0,0,0,0,0,0,1,null,0,0,0,0,0,0,0,0,1,null,null,null,null,950000,4.2999999999999997E-2,3.0000000000000001E-3,3.0000000000000001E-3,6.0000000000000001E-3,1.4E-2,3.0000000000000001E-3,3.0000000000000001E-3,3.0000000000000001E-3,0.95599999999999996]
[null,75,1727337.5978359974,0.22126873494420451,0.17691737999560564,0.17970145488683581,0.49746942033567115,0.29300968480247436,0.40247065450890707,4.1096414992521368E-2,0.53871997525538129,1260.6245957257306,5166.3007799236266,6653.5023066869835,310087.7586566438,715.18598399559028,1568.4819280824518,20264.782075605668,52814.069897459703,385.12911109516364,393.01676939135177,0.76009864984700115,null,48896967.143345684,46589334.890943423,48897238.031841435,241527197.93274686,48899913.211674601,2168278880.0450435,2675.1798331663013,1926751682.1122966,720232.58332948154,48899941.699151397,2171537007.0087857,2703.667309962213,1930009809.0760388,713848.85335726198,48900062.328103721,2166345772.6364722,2824.2962622866035,1924818574.7037253,681521.4821498068,48900090.81558051,2169603899.6002145,2852.7837390750647,1928076701.6674676,675857.99626458634,48899810.306408912,2168287896.2311392,2572.2745674774051,1928610020.2173543,749768.33523208066,48899941.699151397,2170137218.1501012,2703.667309962213,1928610020.2173543,713331.11626234406,48899959.422838032,2166354788.8225679,2721.3909965977073,1924827590.8898211,707295.4945820896,48900090.81558051,2168204110.7415299,2852.7837390750647,1926676912.8087831,675367.32154588564,null,null,null,78235100840018.203,78235339323748.359,78237692859799.312,78237735181635.219,78237933379193.312,78237975701029.219,78237528202358.031,78237736581424.078,78237768721752.031,78237977100818.078,0,0,0,0,0,0,0,0,0,1,null,0,0,0,0,0,0,0,0,1,null,null,null,null,1000000,3.4000000000000002E-2,3.0000000000000001E-3,3.0000000000000001E-3,5.0000000000000001E-3,1.7000000000000001E-2,3.0000000000000001E-3,3.0000000000000001E-3,3.0000000000000001E-3,0.96499999999999997]
[null,76,2015106.713527191,0.1880397952834697,0.2270020966332611,0.19451679389638116,0.58432180277872914,0.31555528611388239,0.33221074943259993,4.080492548273007E-2,0.5790754421496106,346.10448476370311,1543.5598150757155,2157.718127732724,79007.942343531249,242.70942945597139,7726.1115898544249,7199.7228056043205,137.26023275365756,350.02373613098456,42.023974037642894,0.92694876923635539,null,57043883.315418407,11580242.87679797,57044150.135005072,74250043.71126841,57046781.677295648,692963391.34681284,2631.5422905758023,618713347.63554442,235114.34714589559,57046782.042350754,692962183.48063111,2631.9073456823826,618712139.76936269,235081.27700025373,57046784.535444409,692960690.11751127,2634.4004393368959,618710646.40624285,234858.23839369626,57046784.900499515,692959482.25132954,2634.7654944434762,618709438.54006112,234825.23960666449,57046780.081926838,692961966.78008187,2629.9469217658043,618704827.32085538,235253.73162491177,57046782.042350754,692954871.0321238,2631.9073456823826,618704827.32085538,235078.4986165392,57046782.940075591,692959265.55078042,2632.8050705194473,618709221.83951199,235000.0114962715,57046784.900499515,692952169.80282235,2634.7654944434762,618702126.09155393,234822.4642368934,null,null,null,91270201724426.578,91270565965964.391,91274157720281.688,91274158305577.719,91274162296020.922,91274162881316.969,91274155169116.156,91274158312890.172,91274159744855.406,91274162888629.422,0,0,0,0,0,0,0,0,0,1,null,0,0,0,0,0,0,0,0,1,null,null,null,null,{"$f":"DA82+100000","v":1100000},0.03,3.0000000000000001E-3,3.0000000000000001E-3,6.0000000000000001E-3,1.9E-2,3.0000000000000001E-3,3.0000000000000001E-3,4.0000000000000001E-3,0.96899999999999997]
[null,77,1833738.2296952168,0.22775358575597826,0.1997260385572549,0.18643974805707328,0.43835870922893855,0.26839283944978171,0.41081941239733311,3.9265055202562071E-2,0.57285816857688387,72.46034673317962,781.85011790747922,2049.0961706169455,594974.53548926977,190.9425082490325,831.99687556242179,24215.923796174069,9434.3042767392326,1330.6270070460278,1484.2340394496307,0.96374950868639164,null,51909348.475897625,89788106.325784937,51909604.399847314,95726550.369373277,51912129.053981557,146636810.90409863,2524.6541342437267,50910260.534725353,20165.241584656025,51912146.421032034,146635387.26414967,2542.021184720099,50908836.894776389,20026.912915118741,51912254.002169907,143162172.88936782,2649.6023225933313,47435622.519994542,17902.921549965406,51912271.369220383,143160749.24941888,2666.9693730697036,47434198.880045608,17785.805626049787,51912064.816063486,147193954.79968393,2460.4162161722779,49657509.154302284,20182.564570947077,51912146.421032034,145384059.52367556,2542.021184720099,49657509.154302284,19534.655907979795,51912189.764251836,143719316.78495315,2585.3644045218825,47992766.41557987,18563.250244970895,51912271.369220383,141909421.50894478,2666.9693730697036,46182871.139571503,17316.610983955408,null,null,null,83054867773329.875,83055271313205.328,83059259849559.578,83059287638263.984,83059463241298.953,83059491030003.359,83059156511746.781,83059288889591.719,83059359903486.156,83059492281331.094,0,0,0,0,0,0,0,0,0,1,null,0,0,0,0,0,0,0,0,1,null,null,null,null,1200000,0.02,3.0000000000000001E-3,4.0000000000000001E-3,4.0000000000000001E-3,1.6E-2,3.0000000000000001E-3,4.0000000000000001E-3,4.0000000000000001E-3,0.98]
[null,78,1676404.0598971215,0.16579459125273496,0.13515263083982021,0.21357199603885257,0.56322381654736242,0.27461786915926978,0.37101836051270942,2.9962022012589986E-2,0.49356723018690107,1082.1478067542803,1739.4170004123102,1803.6280867537137,477251.45740535681,218.30125848278976,5144.636563197012,4156.374757458354,23943.259368599676,10932.280376028921,1094.8513206675086,0.63318993661085454,null,47455029.635807417,69348649.312302098,47455321.341529787,228646125.89238006,47458212.701336436,1806915468.5446689,2891.3598066493869,1578269342.6522889,545857.12197515985,47458222.838723212,1807289873.168117,2901.4971934258938,1578643747.275737,544079.01922241051,47458250.79263702,1806269511.6740968,2929.4511072337627,1577623385.7817168,538538.90303410566,47458260.930023804,1806643916.2975452,2939.5884940177202,1577997790.4051652,536809.0784191417,47458179.162783712,1807493255.1639068,2857.8212539255619,1578543158.8636799,552358.9541142087,47458222.838723212,1807189284.7560599,2901.4971934258938,1578543158.8636799,544044.35146113019,47458217.254084304,1806847298.2933347,2895.9125545173883,1578201172.4009547,544975.42404693435,47458260.930023804,1806543327.885488,2939.5884940177202,1577897201.993108,536774.85988404346,null,null,null,75927978068642.562,75928285500321.766,75931333406669.75,75931349252083.969,75931394998707.562,75931410844121.797,75931279167198.781,75931349352672.391,75931340759236.594,75931410944710.203,0,0,0,0,0,0,0,0,0,1,null,0,0,0,0,0,0,0,0,1,null,null,null,null,1300000,1.4999999999999999E-2,3.0000000000000001E-3,4.0000000000000001E-3,4.0000000000000001E-3,1.7999999999999999E-2,3.0000000000000001E-3,4.0000000000000001E-3,4.0000000000000001E-3,0.98499999999999999]
[null,79,1305777.6075698272,0.21745417339610573,0.18510304584632986,0.20078054941184775,0.52748753242747803,0.24157210739956689,0.47255347068672593,3.9609573173984947E-2,0.6080400682354854,11.485668232002546,314.49080243337073,1344.4878631707695,133929.77905511719,84.573988370084308,639.60604852574795,17747.644084897576,88.626675385053062,4043.2471807593738,868.69537414388435,0.92882349466446401,null,36963008.735280707,19620371.965674855,36963275.832479306,20197314.347290155,36965911.945067316,18954942.692875408,2636.1125880107284,-1242371.6544147469,-471.28929927544152,36965911.946735837,18954932.482887086,2636.1142565310001,-1242381.864403069,-471.29287409491269,36965911.95145908,18954904.377059564,2636.1189797744155,-1242409.9702305906,-471.30269148052992,36965911.9531276,18954894.167071242,2636.1206482946873,-1242420.1802189127,-471.30626628285665,36965911.941631474,18954917.090502113,2636.1091521680355,-1242428.9758102149,-471.3116582400977,36965911.946735837,18954885.37147994,2636.1142565310001,-1242428.9758102149,-471.31074562951295,36965911.948023237,18954878.774686269,2636.1155439317226,-1242435.5726038851,-471.313017922884,36965911.9531276,18954847.055664096,2636.1206482946873,-1242467.2916260585,-471.3241377741241,null,null,null,59140794356077.164,59141221134652.547,59145440157165.008,59145440159844.852,59145440167430.156,59145440170110,59145440151693.266,59145440159891.961,59145440161958.406,59145440170157.109,0,0,0,0,0,0,0,0,0,1,null,0,0,0,0,0,0,0,0,1,null,null,null,null,1400000,1.2E-2,4.0000000000000001E-3,4.0000000000000001E-3,5.0000000000000001E-3,1.9E-2,3.0000000000000001E-3,4.0000000000000001E-3,4.0000000000000001E-3,0.98799999999999999]
[null,80,1749415.9488116063,0.22843946665386017,0.15590132045942268,0.18449234411892795,0.33243296019590501,0.26439890346832789,0.40138479922570869,4.1713444785718479E-2,0.62421349260096459,668.2731881179908,2925.7091901214021,905.40900753553001,1159689.3840286126,360.41444814909818,2426.8431766069539,27503.429503321309,667.99776943415361,654.06216819036524,340.53413851218363,0.93509346827727613,null,49522273.730569683,169901662.59133935,49522541.037515104,262565045.62582621,49525179.717826493,1171283913.128083,2638.6803113892674,908718867.50225675,344383.84353723226,49525179.747733682,1171282438.4361072,2638.710218578577,908717392.81028092,344379.38141604263,49525180.184378639,1171259112.6405213,2639.1468635350466,908694067.01469505,344313.5657094621,49525180.214285843,1171257637.9485452,2639.1767707392573,908692592.32271898,344309.10517152888,49525179.499884851,1171289576.0425844,2638.4623697474599,908711216.0131098,344409.3902692601,49525179.747733682,1171276261.638936,2638.710218578577,908711216.0131098,344377.04057651892,49525179.966437005,1171264775.5550225,2638.9289219006896,908699729.92919624,344344.14750159503,49525180.214285843,1171251461.1513741,2639.1767707392573,908686415.52554786,344306.76474581752,null,null,null,79235468067248.906,79235803094978.547,79239116264609.266,79239116313935.453,79239117035893.188,79239117085219.391,79239115910239.719,79239116320112.25,79239116681523.641,79239117091396.188,0,0,0,0,0,0,0,0,0,1,null,0,0,0,0,0,0,0,0,1,null,null,null,null,1500000,1.0999999999999999E-2,3.0000000000000001E-3,4.0000000000000001E-3,4.0000000000000001E-3,1.9E-2,3.0000000000000001E-3,4.0000000000000001E-3,4.0000000000000001E-3,0.98899999999999999]
[null,81,2044008.4391758889,0.14584502732497331,0.14184938149018247,0.24393359898431521,0.52072919265895135,0.29943423628624799,0.37459759116046742,4.0749859377800512E-2,0.61432860350666063,127.43151623630686,2577.8908464453502,152.87925378659688,471559.16641540587,27.995057475958692,9160.5688306631091,11306.691769941179,11120.341514660606,123.97824741662825,510.07765556341394,0.87890013923444466,null,57862095.972619966,67674598.204860047,57862355.99023965,86196818.334149897,57864932.551281594,265977227.59043875,2576.5610419437289,179780409.25628886,69775.334769738081,57864944.976135962,266233101.02842501,2588.9858963117003,180036282.69427511,69539.306085350603,57865022.106597036,264469509.44383895,2666.1163573861122,178272691.10968906,66866.058045744649,57865034.531451404,264725382.88182527,2678.5412117540836,178528564.54767537,66651.415988766224,57864883.739317186,266500894.74257156,2527.7490775361657,179502421.68845877,71012.753316251794,57864944.976135962,265699240.02260867,2588.9858963117003,179502421.68845877,69333.101406299669,57864973.294632629,264993176.59597182,2617.304392978549,178796358.26182193,68313.169359085441,57865034.531451404,264191521.87600893,2678.5412117540836,177994703.54185903,66452.105631518905,null,null,null,92579285881593.734,92579683387565.109,92583626104822.953,92583645728716.5,92583770901045.812,92583790524939.375,92583547482012.75,92583646262577.516,92583692278235.609,92583791058800.375,0,0,0,0,0,0,0,0,0,1,null,0,0,0,0,0,0,0,0,1,null,null,null,null,1600000,8.0000000000000002E-3,3.0000000000000001E-3,4.0000000000000001E-3,4.0000000000000001E-3,1.6E-2,3.0000000000000001E-3,4.0000000000000001E-3,4.0000000000000001E-3,0.99199999999999999]
[null,82,1608164.8203818395,0.19379070298612366,0.19092699144031244,0.20485924973545933,0.3959540865908513,0.29537768226200423,0.32613535164227447,3.7348189260424894E-2,0.50891177994176129,185.95384657202695,449.69044070484745,300.70945894377729,188746.57337277642,11.559533481373338,6202.7279374830532,2530.3452505698424,1538.5800560654259,1022.3058984512271,868.34790719881698,0.67275876122029488,null,45523209.326397143,27687791.619448785,45523500.446667761,52631479.986089505,45526374.774288036,299114961.21559054,2874.3276202753186,246483481.22950104,85753.440036140179,45526375.499751307,299116620.61798984,2875.0530835464597,246485140.63190034,85732.379009800381,45526385.863440283,299055514.33330572,2885.4167725220323,246424034.34721622,85403.272308501357,45526386.588903561,299057173.73570502,2886.1422358006239,246425693.74961552,85382.380221207757,45526368.873106778,299150370.23477614,2868.4264390170574,246472746.85919991,85926.117367562809,45526375.499751307,299104226.84528941,2875.0530835464597,246472746.85919991,85728.068211933249,45526379.962259024,299090923.35249126,2879.5155912637711,246459443.36640176,85590.591734992078,45526386.588903561,299044779.96300459,2886.1422358006239,246413299.97691509,85378.085986312915,null,null,null,72837107234443.797,72837548083188.438,72841900523899.641,72841901682981.469,72841918325990.125,72841919485071.969,72841891046600.609,72841901695375.25,72841908848691.078,72841919497465.734,0,0,0,0,0,0,0,0,0,1,null,0,0,0,0,0,0,0,0,1,null,null,null,null,1700000,3.0000000000000001E-3,4.0000000000000001E-3,4.0000000000000001E-3,7.0000000000000001E-3,1.4E-2,2E-3,4.0000000000000001E-3,4.0000000000000001E-3,0.997]
[null,83,1446433.4959520104,0.14052089666606646,0.15572225170463677,0.21124410212243083,0.45689046521149362,0.28400549160273214,0.32382238128676005,4.2443211857150387E-2,0.47863723025781474,146.00841250708109,16.479963425808762,2665.5743156814638,288702.16476539284,38.041516983124978,8400.3909234562543,38287.166854751951,7485.8988965880844,1146.2303384793902,558.66326870342471,0.74597090906365593,null,40944732.152363189,42293633.853070743,40945021.206345089,59326004.83221817,40947885.011084668,213080533.65202525,2863.8047395795584,153754528.81980708,53688.900885882373,40947885.016283132,213080685.08346972,2863.8099380433559,153754680.25125155,53688.856305981513,40947885.060337074,213080152.71775061,2863.853991985321,153754147.88553244,53687.844532515723,40947885.065535545,213080304.14919513,2863.8591904565692,153754299.31697696,53687.799955159375,40947884.982397743,213079785.77548009,2863.7760526537895,153753568.41732672,53689.103334336192,40947885.016283132,213079573.24954489,2863.8099380433559,153753568.41732672,53688.468070047951,40947885.031650141,213079404.84120545,2863.8253050521016,153753400.00898728,53688.121177555571,40947885.065535545,213079192.31527027,2863.8591904565692,153753187.4830521,53687.411725902661,null,null,null,65511529150147.25,65511974604147.305,65516402937201.82,65516402945367.922,65516403016386.602,65516403024552.727,65516402892050.617,65516402946479.758,65516402971235.383,65516403025664.562,0,0,0,0,0,0,0,0,0,1,null,0,0,0,0,0,0,0,0,1]
[null,84,1781126.276071968,0.28894320471686474,0.14644425440231673,0.13840054423786907,0.43760468495670601,0.32071293092274678,0.32756715270076353,4.3368607483188826E-2,0.53059651118741258,649.69239211624961,1200.7724844262314,1541.1830572123577,236432.91678149594,305.57183986036551,29.887694966469372,6143.5345468089272,394.83709383888146,4690.0051452483522,1241.7865364166526,0.91282088687267815,null,50419957.386443578,34651901.083043657,50420224.780752487,137179109.1595625,50422858.649957262,1151726318.0865512,2633.8692047744989,1014547208.9269887,385192.70702124713,50422858.812162876,1151724804.4938114,2634.0314103886485,1014545695.3342489,385168.41193801624,50422859.789172769,1151713818.2262483,2635.0084202811122,1014534709.0666858,385021.42963112489,50422859.951378375,1151712304.6335087,2635.1706258878112,1014533195.4739462,384997.15559486451,50422857.403399162,1151735831.1986444,2632.6226466745138,1014541508.4986838,385372.93211400282,50422858.812162876,1151720617.6582463,2634.0314103886485,1014541508.4986838,385166.82242182881,50422858.542614661,1151723331.3383415,2633.7618621736765,1014544222.178779,385207.27205817425,50422859.951378375,1151708117.7979436,2635.1706258878112,1014529008.6383811,384995.56676584377,null,null,null,80671897166408.641,80672222470094.828,80675422113613.531,80675422374656.109,80675423948858.219,80675424209900.766,80675420109607.453,80675422378842.953,80675421944852.109,80675424214087.609,0,0,0,0,0,0,0,0,0,1,null,0,0,0,0,0,0,0,0,1]
[null,85,1667292.3929037468,0.15656759489151076,0.17861680960491189,0.22082921743025974,0.56719207901560265,0.35044933553888191,0.23055561387093543,3.9128885581141359E-2,0.56919830058435061,98.094352903862401,6663.6611080722587,5974.180922165333,108880.34206349455,49.840229680958622,1851.4858054147198,4796.8682609752559,5843.6268827032918,2756.446201457949,636.45853209093957,0.8946752665312987,null,47197352.719512574,15878928.601511039,47197612.373814836,30173489.006389759,47200180.594722793,170314644.37509197,2568.2209079563618,140141155.3687022,54567.40692926538,47200189.367248617,170573189.11068735,2576.9934337809682,140399700.10429758,54481.97820911905,47200294.590412423,169837194.00293648,2682.2165975868702,139663704.99654672,52070.256042035908,47200303.362938255,170095738.73853186,2690.9891234189272,139922249.73214209,51996.586873740147,47200103.98008012,170451530.95113149,2491.606265284121,140151249.66147846,56249.356735943526,47200189.367248617,170324738.66786823,2576.9934337809682,140151249.66147846,54385.567236719093,47200217.975769751,169974080.57897601,2605.6019549146295,139800591.57258624,53653.855804374653,47200303.362938255,169847288.29571274,2690.9891234189272,139673799.28932297,51904.260063253649,null,null,null,75515748472291.531,75516149624614.734,75520118636912.094,75520132414408.672,75520301507465.875,75520315284962.469,75519995916597.234,75520132662859.109,75520178787151.016,75520315533412.906,0,0,0,0,0,0,0,0,0,1,null,0,0,0,0,0,0,0,0,1]
[null,86,1988309.9124169748,0.19445698219651453,0.11429461800609901,0.24180638012484912,0.48460172598379625,0.21404122943436735,0.39655458855617132,3.6519562669242799E-2,0.58135550979872053,41.714351309533541,1509.6810399413384,3581.2435834697217,896062.61386988813,163.1771300556133,3087.8855152532778,772.16921004369146,12176.600300192738,807.16158854251569,786.6165991829032,0.75170378318337105,null,56285085.347219042,131254472.71698076,56285372.966045722,127708426.52635449,56288219.689044423,92458479.730501473,2846.722998701036,-35249946.795853019,-12382.640254052685,56288219.899928287,92455578.80779171,2846.9338825643063,-35252847.718562782,-12382.741985848172,56288220.360658854,92433357.312491998,2847.3946131318808,-35275069.213862494,-12388.542512224203,56288220.571542725,92430456.38978225,2847.6054970026016,-35277970.136572242,-12388.643782892659,56288219.114268012,92480812.235861674,2846.1482222899795,-35253191.353064865,-12386.280896045722,56288219.899928287,92455235.173289627,2846.9338825643063,-35253191.353064865,-12382.862689214058,56288219.785882451,92455689.817852199,2846.8198367282748,-35252736.708502293,-12383.199053796365,56288220.571542725,92430112.755280152,2847.6054970026016,-35278313.77107434,-12388.764457790379,null,null,null,90056005301077.75,90056469037246.625,90061059043991.344,90061059384306.453,90061060143696.859,90061060484011.969,90061058102016.578,90061059384650.094,90061059201722.109,90061060484355.609,0,0,0,0,0,0,0,0,0,1,null,0,0,0,0,0,0,0,0,1]
[null,87,1535520.1414706516,0.19895919626664282,0.14169012969152947,0.22948168373929101,0.4323051789040252,0.24024120148975792,0.40356937780372171,3.7731915661208308E-2,0.43088144569124343,746.9101055370362,2760.3444769129605,5361.8823952331886,235574.21377424683,80.989150716911311,3230.3790028474064,3584.467995563075,134.70643699837623,3369.0592844964649,479.75822163033155,0.71753038948351255,null,43466716.639479913,34497178.702327192,43467004.383131303,136095192.15531343,43469849.448937222,1142359816.5211561,2845.0658059194684,1006264624.3658426,353687.64485946152,43469852.452414587,1142330152.0820153,2848.0692832842469,1006234959.9267018,353304.24222207244,43469861.339259125,1142265250.4562917,2856.9561278223991,1006170058.3009782,352182.53738740162,43469864.342736483,1142235586.0171509,2859.9596051797271,1006140393.8618374,351802.30938912474,43469839.457899235,1142431898.9564056,2835.0747679322958,1006204564.0642962,354912.88464259839,43469852.452414587,1142299756.2196097,2848.0692832842469,1006204564.0642962,353293.5697772046,43469851.348221131,1142337332.8915412,2846.965089827776,1006242140.7362278,353443.79329818173,43469864.342736483,1142205190.1547451,2859.9596051797271,1006109997.9994316,351791.68131509505,null,null,null,69546712125989.156,69547070917817.93,69550616758483.031,69550621593711.258,69550635877564.148,69550640712792.359,69550600700739.82,69550621624107.117,69550619819820.922,69550640743188.219,0,0,0,0,0,0,0,0,0,1,null,0,0,0,0,0,0,0,0,1]
[null,88,1542430.0870189026,0.20486634835309503,0.12554506933265488,0.18175001633343535,0.55252354041717289,0.28612404696476579,0.27522820661017589,3.3304517960720169E-2,0.57408832232782003,649.22529725630943,1750.2212355689835,2364.4259988218087,41541.554227616267,62.460979460750664,5679.1541764018884,24761.301062380724,515.95719464027536,5671.5763498595643,344.52795520294904,0.69459813348067656,null,43662308.626065902,6085694.5414379267,43662601.080768012,97618587.757456884,43665494.797930755,995555206.03251326,2893.7171627432108,897936618.27505636,310305.59234884678,43665494.812499061,995555201.50399053,2893.7317310497165,897936613.74653363,310304.02857033414,43665494.867832914,995555318.58310139,2893.7870649024844,897936730.82564449,310298.13551810296,43665494.882401221,995555314.05457866,2893.8016332089901,897936726.29712176,310296.57181490463,43665494.718363412,995554310.97071362,2893.6375954002142,897935575.8300879,310313.76467373274,43665494.812499061,995554163.5875448,2893.7317310497165,897935575.8300879,310303.66989284009,43665494.788265564,995554423.52130175,2893.7074975520372,897935835.76384485,310306.35837363079,43665494.882401221,995554276.13813293,2893.8016332089901,897935688.38067603,310296.21314607473,null,null,null,69859687716010.906,69860064110641.062,69863796121483.18,69863796144796.992,69863796233214.078,69863796256527.898,69863795995070.492,69863796145834.914,69863796106801.375,69863796257565.812,0,0,0,0,0,0,0,0,0,1,null,0,0,0,0,0,0,0,0,1]
[null,89,1406842.8925424942,0.2084360717427195,0.12827370936964738,0.22242530972206009,0.42245277327914732,0.31833681703978767,0.29565788662701314,4.8952941223697199E-2,0.60919600159694376,920.38623549071588,7089.9117334234161,4822.7177396667066,84100.944899443013,87.605044913143104,6257.4717468679291,14335.97475103418,30803.403699597231,2624.5568376602505,3037.6664444694775,0.85712218711344013,null,39824056.148496523,12320553.033840399,39824332.788758457,129826181.85575059,39827063.343800433,1289514537.5015898,2730.5550419762731,1159688355.6458392,424707.92121681618,39827063.345054485,1289514807.2549512,2730.5562960281968,1159688625.3992007,424707.82495349267,39827063.359073706,1289514534.6983402,2730.5703152492642,1159688352.8425896,424705.54461320501,39827063.360327765,1289514804.4517019,2730.5715693086386,1159688622.5959513,424705.44835035264,39827063.331678487,1289514456.2113714,2730.5429200306535,1159688497.6168909,424709.85865472938,39827063.345054485,1289514679.4726415,2730.5562960281968,1159688497.6168909,424707.77815632173,39827063.346951768,1289514453.4081218,2730.5581933110952,1159688271.5523713,424707.40026460472,39827063.360327765,1289514676.6693919,2730.5715693086386,1159688494.8136413,424705.40155344334,null,null,null,63718477517041.406,63718802635831.672,63722011835543.195,63722011837279.922,63722011859983.234,63722011861719.969,63722011816229.367,63722011837407.711,63722011840669.422,63722011861847.75,0,0,0,0,0,0,0,0,0,1,null,0,0,0,0,0,0,0,0,1]
[null,90,1189959.6624511925,0.1266717947646,0.26649425882601563,0.207358193013924,0.59968649533598739,0.31173641304295352,0.31085718277132962,3.6020939491922484E-2,0.58064652126418015,434.53276211759652,1803.6169877152897,638.784632124636,847226.46039825957,63.000439955564666,5413.5865918148675,28973.225135262612,1643.831623713168,791.57081238860849,401.56404554841765,0.90292344237153899,null,33684159.692099236,126162232.39219646,33684417.346464321,164115060.20473331,33686963.997550167,530768131.81087315,2546.6510858461261,366653071.60613984,143974.60007141856,33686976.077553965,530375150.64975697,2558.731089644134,366260090.44502366,143141.29840661091,33687128.855053708,524565057.1875568,2711.50858938694,360449996.98282349,132933.37826538828,33687140.935057513,524172076.02644062,2723.5885931923985,360057015.82170731,132199.4873681248,33686908.224748656,531527134.43277127,2490.8782843351364,364830146.02010918,146466.46860044764,33686976.077553965,528945206.22484249,2558.731089644134,364830146.02010918,142582.44936198019,33687073.082252204,525324059.80945492,2655.7357878834009,361208999.60472161,136010.89432642775,33687140.935057513,522742131.60152614,2723.5885931923985,358627071.39679283,131674.46518654842,null,null,null,53894529345126.391,53894903639282.711,53898611627948.453,53898631348935.695,53898881603028.742,53898901324016,53898521632463.422,53898632778880.117,53898791607543.711,53898902753960.422,0,0,0,0,0,0,0,0,0,1,null,0,0,0,0,0,0,0,0,1]
[null,91,2019167.5052944783,0.21646820160459268,0.13973235676161719,0.20653670422282144,0.65875119346056921,0.27345977922986298,0.30907101214148491,4.0778453161705364E-2,0.49507136489024767,500.35487741685148,1526.1352274508347,4344.2644715287224,243701.19654780001,93.957387756977369,3380.8836711034037,1660.6253159831838,12953.279823605997,366.61305904884688,795.64143492962467,0.82816391728392069,null,57158735.628431819,35714869.620979168,57159013.064874269,124582803.20382905,57161752.715272769,1005384668.9953198,2739.6503985002637,880801865.79149079,321501.55591883487,57161755.952986747,1005422509.8512973,2742.8881124779582,880839706.64746821,321135.8504345651,57161761.404107898,1005308220.199368,2748.3392336294055,880725416.99553895,320457.31699302251,57161764.641821884,1005346061.0553454,2751.5769476145506,880763257.85151637,320093.9950507597,57161740.340258643,1005511444.1191065,2727.2753843739629,880830287.21343708,322970.79065069504,57161755.952986747,1005413090.4172661,2742.8881124779582,880830287.21343708,321132.41630468273,57161749.029093772,1005434995.3231547,2735.9642195031047,880852192.11932564,321953.11102398211,57161764.641821884,1005336641.6213143,2751.5769476145506,880753838.41748524,320090.5717650546,null,null,null,91453941290621.281,91454296320995.625,91457798959767.438,91457804102268.953,91457812938352.438,91457818080853.953,91457779032969.703,91457804111688.375,91457793011554.703,91457818090273.391,0,0,0,0,0,0,0,0,0,1,null,0,0,0,0,0,0,0,0,1]
[null,92,2097871.9918402303,0.21816598853524338,0.165525589690664,0.20245252204746311,0.60348335082665872,0.25758446832165821,0.32057777310675406,4.2882545562486607E-2,0.53168263753887979,358.70322139488917,2005.1709799883065,182.04526540080923,707552.57782637782,8.8238609071366856,495.70055377416685,316.76350753349061,252.73224818941213,50.450668478636167,947.67897589448444,0.32591589697138812,null,59386287.620335251,103654543.36679575,59386611.895531408,163149312.63525602,59389810.591021582,753516400.44430935,3198.6954901739955,590367087.8090533,184564.95456431829,59389810.591046803,753516399.7651,3198.6955153942108,590367087.12984395,184564.95289677061,59389810.591113321,753516397.95636415,3198.6955819129944,590367085.3211081,184564.94849317183,59389810.591138542,753516397.27715468,3198.6956071332097,590367084.64189863,184564.94682562421,59389810.590928331,753516402.98064864,3198.6953969225287,590367087.11708629,184564.95972860674,59389810.591046803,753516399.75234234,3198.6955153942108,590367087.11708629,184564.95289278222,59389810.591020077,753516400.49270344,3198.6954886689782,590367087.85744739,184564.9546662872,59389810.591138542,753516397.26439703,3198.6956071332097,590367084.62914097,184564.94682163582,null,null,null,95017956537993.047,95018415883537.609,95022943429234.094,95022943429275.125,95022943429383.359,95022943429424.391,95022943429082.344,95022943429275.141,95022943429231.625,95022943429424.406,0,0,0,0,0,1,0,0,0,1,null,0,0,0,0,1,0,0,0,1]
[null,93,1317790.4612932142,0.15691955218408651,8.0931316688778038E-2,0.16152434118792006,0.48997958299160699,0.26646871493976959,0.31787216347270203,3.8746655264237227E-2,0.44686559916079555,38.214546468800265,1803.6725233728332,663.91024669026194,1337068.8222944997,118.3291294317391,3120.2248111692261,7472.0020909481282,5.753607191909853,1929.1337175627484,1933.3926674533379,0.88568402208424679,null,37303046.665140204,195571059.00423199,37303324.328640528,183552825.74239412,37306082.198084101,61154665.130722821,2757.8694435730577,-122398160.6116713,-44381.419467447282,37306082.674708754,61125329.116900004,2758.346068225801,-122427496.62549412,-44384.386004269887,37306083.744199224,61065608.647305332,2759.4155586957932,-122487217.09508878,-44388.825999437715,37306084.220823877,61036272.633482531,2759.8921833485365,-122516553.10891159,-44391.789595296461,37306079.955911115,61278012.689734936,2755.6272705867887,-122442207.00171366,-44433.515486163909,37306082.674708754,61110618.740680449,2758.346068225801,-122442207.00171366,-44389.719046555263,37306081.502026245,61188956.206317462,2757.1733857169747,-122363869.53607666,-44380.186668694827,37306084.220823877,61021562.257262968,2759.8921833485365,-122531263.48513114,-44397.119649966095,null,null,null,59684679093165.32,59685135372999.102,59689670362269.43,59689671154204.891,59689672925110.109,59689673717045.57,59689666651445.094,59689671168915.266,59689669214285.789,59689673731755.945,0,0,0,0,0,0,0,0,0,1,null,0,0,0,0,0,0,0,0,1]
[null,94,1780996.7519733123,0.218444135809861,0.18439292556308173,0.22998250163812883,0.57175480878174367,0.33318762745941322,0.31701296484829566,3.9987737969434778E-2,0.58565826233291163,286.7707140036743,2868.0786665719315,859.56791127843996,1593.6323278484583,72.357611357944847,4314.4971597371505,30240.220613447051,19448.336595023582,5022.568841698946,2582.27318507986,0.89177187323234319,null,50416235.282011233,235943.73233182402,50416501.344784938,48044784.451440692,50419124.172298849,510969428.11300099,2622.82751391083,462924643.6615603,176498.31763862557,50419133.58485505,511480073.73814774,2632.2400701120496,463435289.28670704,176061.17867014289,50419185.699618734,511078340.52636099,2684.3548337966204,463033556.0749203,172493.42383697772,50419195.112174928,511588986.15150774,2693.7673899903893,463544201.70006704,172080.26328573265,50419075.571641393,510177923.02874625,2574.2268564552069,462640210.02361852,179720.06191431356,50419133.58485505,510684994.47505921,2632.2400701120496,462640210.02361852,175759.12443424083,50419137.098961271,510286835.44210625,2635.7541763335466,462242050.99066556,175373.73368925671,50419195.112174928,510793906.88841921,2693.7673899903893,462749122.43697852,171785.10815613871,null,null,null,80665976215274.234,80666354106871.453,80670087706250.047,80670102255694.344,80670186041049.438,80670200590493.734,80670010736703.203,80670103050773.609,80670109071502.594,80670201385573,0,0,0,0,0,0,0,0,0,1,null,0,0,0,0,0,0,0,0,1]
[null,95,1994414.9682241294,0.18504452615328496,0.18033713683785102,0.22181156813565472,0.38218545530316411,0.27588712359300471,0.27329271793680299,4.0999852365384726E-2,0.52648322040175155,236.27314205529058,2234.0937613719866,517.19658744471224,32856.001860987031,217.28953995281086,9486.1657102194968,20869.449063824162,31653.53142906657,607.88799150466855,8.3285085163964165,0.89684743526955601,null,56458075.396404371,4813344.7739738682,56458347.277735196,48016673.150418214,56461031.420486547,468209833.94964534,2684.1427513509989,420193160.79922712,156546.50282207716,56461031.425820068,468211277.65732163,2684.1480848714709,420194604.50690341,156546.72962167219,56461031.514686964,468210125.96084738,2684.2369517683983,420193452.81042916,156541.11777784824,56461031.520020485,468211569.66852361,2684.2422852888703,420194896.51810539,156541.34458018391,56461031.369495608,468208954.20789498,2684.0917604118586,420193647.31686729,156549.65806846746,56461031.425820068,468210320.46728551,2684.1480848714709,420193647.31686729,156546.37301316706,56461031.463696018,468209246.21909702,2684.1859608218074,420192573.0686788,156543.76380838754,56461031.520020485,468210612.47848749,2684.2422852888703,420193939.32806927,156540.98798419355,null,null,null,90332915820902.219,90333307627703.156,90337182062944.516,90337182070034.453,90337182213373.188,90337182220463.109,90337181982238.766,90337182070991.641,90337182132667.406,90337182221420.297,0,0,0,0,0,0,0,0,0,1,null,0,0,0,0,0,0,0,0,1]
[null,96,1502605.9009019809,0.23363926594665219,0.15040096679571441,0.20955079590125514,0.51837199134542145,0.29897064471355306,0.26470954253422391,3.9254937364214371E-2,0.5422740060695912,1116.8839047831545,2003.1551148247531,5050.1415179039432,322483.36301219679,144.43493745598769,210.71436271929866,2162.2924695433258,33907.061122568557,329.31271997350484,101.16768974553325,0.96479763449137423,null,42535188.942525521,47312124.989384316,42535452.895454273,195786802.0838176,42538055.643870324,1667623380.185657,2602.7484160512686,1471836578.1018395,565493.21825534734,42538057.211747423,1667784898.1678159,2604.3162931501865,1471998096.0839982,565214.79359308782,42538065.067684442,1667480680.5377758,2612.1722301691771,1471693878.453958,563398.48554267955,42538066.635561533,1667642198.5199349,2613.7401072606444,1471855396.4361172,563122.32128492277,42538045.354149625,1667768623.7193434,2592.4586953520775,1471986269.6449041,567795.45698605478,42538057.211747423,1667773071.7287216,2604.3162931501865,1471986269.6449041,565210.25250139122,42538054.777963743,1667625924.0714622,2601.882509469986,1471839121.9876447,565682.3921259474,42538066.635561533,1667630372.0808406,2613.7401072606444,1471843569.9970231,563117.7965660874,null,null,null,68056254995915.844,68056528845924.75,68059221406812.328,68059223753897.711,68059236627614.57,68059238974699.93,68059204798015.68,68059223765724.148,68059220018817.914,68059238986526.375,0,0,0,0,0,0,0,0,0,1,null,0,0,0,0,0,0,0,0,1]
[null,97,1851341.5590592057,0.18785254063068302,0.17071657283003172,0.1735092639394421,0.63378185755478034,0.29443129550018854,0.22483887506993455,3.2608785538618422E-2,0.48644759685783562,390.39832711688689,3435.1165357336708,6616.7157534963444,934011.94209672487,52.150022389742958,5584.1108916738867,13112.258002455115,2691.4438792972651,2051.63995145437,532.16046107035947,0.81330571856341738,null,52407622.225243501,136830233.29630616,52407902.402159363,191543390.52699634,52410672.627157323,729291738.9197737,2770.224997960031,537748348.39277732,194117.21025865062,52410672.627315149,729291733.62734783,2770.2251557856798,537748343.10035145,194117.19728891042,52410672.628071785,729291703.30262959,2770.2259124219418,537748312.77563322,194117.13332270898,52410672.628229611,729291698.01020372,2770.2260702475905,537748307.48320735,194117.12035297748,52410672.626141071,729291775.08416259,2770.2239817082882,537748336.61219776,194117.27721763114,52410672.627315149,729291727.13919413,2770.2251557856798,537748336.61219776,194117.19494680705,52410672.627055533,729291739.46701849,2770.2248961701989,537748348.94002211,194117.21758888691,52410672.628229611,729291691.52205002,2770.2260702475905,537748300.99505365,194117.11801087487,null,null,null,83852058730156.312,83852452300064.453,83856346911712.797,83856346911970.609,83856346913211.562,83856346913469.359,83856346910050.641,83856346911977.094,83856346911549.391,83856346913475.859,0,0,0,0,0,0,0,0,0,1,null,0,0,0,0,0,0,0,0,1]
[null,98,1694917.1671826846,0.19528762563356106,0.11488863281821167,0.15220949982462559,0.61095888939669973,0.23059309458559582,0.29231768402445002,3.5127182421947623E-2,0.61325870982685171,522.22044418740734,3539.3864010841876,643.06564780836402,1845093.4461536414,54.87952158942425,8220.3015322387328,3597.5836407026218,5021.4734649839356,4717.2377893589737,1195.6524653638789,0.80940519691020485,null,47979294.101077706,270283925.33609098,47979576.583356477,327647443.74506581,47982374.964063838,895359778.01762831,2798.3807073608041,567712334.2725625,202871.7296325205,47982375.079347067,895351428.70868599,2798.4959905892611,567703984.96362019,202860.38889199283,47982375.338136218,895330762.46327817,2798.754779741168,567683318.71821237,202834.24715426922,47982375.453419447,895322413.15433574,2798.870062969625,567674969.40926993,202822.90947331866,47982374.515772954,895396040.48991835,2797.9324164763093,567703127.78493977,202900.94372611758,47982375.079347067,895350571.53000557,2798.4959905892611,567703127.78493977,202860.08259222205,47982374.889845334,895367024.93556809,2798.3064888566732,567719581.19050229,202879.70007976505,47982375.453419447,895321555.97565532,2798.870062969625,567674112.23058951,202822.60321448522,null,null,null,76766600277798.984,76766994885926.609,76770904582724.125,76770904775526.609,76770905210255.484,76770905403057.953,76770903829196.234,76770904776383.781,76770904456727.594,76770905403915.141,0,0,0,0,0,0,0,0,0,1,null,0,0,0,0,0,0,0,0,1]
[null,99,1373957.2976313347,0.17614059466910117,0.12709084388957989,0.18596139628057179,0.65969631749658597,0.20963440876646616,0.36026741574264687,4.1601047411502279E-2,0.62953378271171312,237.95599766012919,1362.2791237910612,660.85890378512738,337298.91356160946,42.636979503621617,681.72955234337383,6638.7367956114549,9247.8531569656334,4699.7179334690491,205.79227921784812,0.75752105313714091,null,38893017.301512294,48663727.578972213,38893288.335873872,74767525.138985455,38895973.036408432,331373256.23853689,2684.7005345597863,256605731.09955144,95580.76507837676,38896003.850660563,331354914.76528907,2715.5147866904736,256587389.62630361,94489.409847411953,38896059.359748438,330121291.72838199,2771.023874565959,255353766.58939654,92151.413393864757,38896090.174000569,330102950.25513411,2801.8381266966462,255335425.11614865,91131.397878858872,38895892.83224351,332250652.98250455,2604.4963696375489,256271422.99137652,98395.76893978937,38896003.850660563,331038948.13036197,2715.5147866904736,256271422.99137652,94373.053775084263,38895979.155583516,330998688.47234964,2690.8197096437216,256231163.33336419,95224.203396105833,38896090.174000569,329786983.62020707,2801.8381266966462,255019458.48122162,91018.626683436683,null,null,null,62228779018692.094,62229186569873.055,62233225484997.25,62233274806142.133,62233364854305.773,62233414175450.648,62233096280936.633,62233275122108.766,62233235650245.156,62233414491417.289,0,0,0,0,0,0,0,0,0,1,null,0,0,0,0,0,0,0,0,1]
[null,100,2470287.1508314055,0.1417763999567298,0.16931464500028448,0.19494392466404409,0.51916653554439285,0.32045107464717504,0.32090343115846465,4.061091565282815E-2,0.40324877983134838,130.56663161087346,1650.7904004563507,3086.6270884683527,148611.98121431805,193.63502370674459,764.47305846915185,15069.177316920715,15885.621209500465,1664.1698699330464,1013.2186375450551,0.72848140306518849,null,69929688.400327668,21715138.469448447,69929975.83367084,49921632.431970134,69932823.015902326,323840831.92383242,2847.1822314858437,273919199.4918623,96207.118906088974,69932825.053632662,323984050.78795612,2849.2199618220329,274062418.355986,96188.578638459076,69932838.4046873,323748430.82758051,2862.5710164606571,273826798.39561039,95657.64371294991,69932840.442417622,323891649.69170427,2864.6087467819452,273970017.25973415,95639.593912260301,69932811.749664456,323765581.01902944,2835.9159936159849,273914007.92683917,96587.490089077095,69932825.053632662,323835640.35880929,2849.2199618220329,273914007.92683917,96136.490547284848,69932827.13844943,323673179.92277753,2851.3047785907984,273751547.49080741,96009.219900407756,69932840.442417622,323743239.26255739,2864.6087467819452,273821606.83058727,95587.785640253322,null,null,null,111887479725385.8,111887911412240.91,111892192984611.8,111892196101761.48,111892217699068.86,111892220816218.5,111892175033882.11,111892196250171.91,111892199748339.17,111892220964628.92,0,0,0,0,0,0,0,0,0,1,null,0,0,0,0,0,0,0,0,1]
[null,101,1676153.7507977565,0.21509748764005265,0.13157993302630294,0.17636196806956897,0.49334081364963961,0.31978064634796444,0.38044272478723207,4.6782565587865421E-2,0.54580829875557646,178.74984506357694,551.0673129315868,3898.0926016670528,37104.263385803693,28.143068444362072,8898.912163599427,11674.789927855772,745.75581143292231,4252.9148242042475,840.89358133596113,0.83567016143733319,null,47448137.001515806,5434455.8973156475,47448400.423403405,32929728.461907979,47451004.819700398,301749081.39709568,2604.396296992898,268819352.9351877,103217.53000707817,47451025.322308362,301763379.45832652,2624.8989049568772,268833650.99641854,102416.76374231069,47451108.492355637,302156525.16131181,2708.0689522325993,269226796.69940382,99416.522048837258,47451128.994963601,302170823.22254264,2728.5715601965785,269241094.76063466,98674.742010884744,47450909.912694916,301145490.93476003,2509.489291511476,268070628.3423878,106822.78232832295,47451025.322308362,301000356.80429578,2624.8989049568772,268070628.3423878,102126.07725050338,47451013.585350148,301552934.6989761,2613.1619467437267,268623206.23706812,102796.23372435862,47451128.994963601,301407800.5685119,2728.5715601965785,268478072.10660392,98395.10021399679,null,null,null,75917013767969.406,75917407747716.984,75921305962439.25,75921338752313.922,75921471431243.859,75921504221118.547,75921154714820.922,75921339515336.578,75921320183625.531,75921504984141.203,0,0,0,0,0,0,0,0,0,1,null,0,0,0,0,0,0,0,0,1]
[null,102,1863839.855822911,0.18616927497603422,0.13722334498381958,0.17616138691874911,0.617868971057145,0.2289352644705705,0.34593787581042423,3.5009546440364379E-2,0.38893588450753691,1200.7967027140303,1927.5570775564645,7211.3682298029171,1656668.6766446475,126.74383855209592,10807.545110348317,29793.100661422315,142.27942647865615,715.43962836642038,332.14176501505312,0.91467053550288757,null,52761555.545454599,242697260.89162004,52761827.542456225,426110208.76713842,52764520.742309004,2233558782.8377838,2693.1998527795076,1807448574.0706453,671115.65159387421,52764520.745233141,2233558558.2848759,2693.2027769163251,1807448349.5177374,671114.83955442719,52764520.748539492,2233558361.4186182,2693.2060832679272,1807448152.6514797,671113.94255367504,52764520.751463637,2233558136.8657098,2693.2090074121952,1807447928.0985713,671113.13051610545,52764520.733526058,2233559297.8507771,2693.1910698339343,1807448187.7437725,671117.69676825125,52764520.745233141,2233558396.510911,2693.2027769163251,1807448187.7437725,671114.77948692464,52764520.739756554,2233558876.4316111,2693.1973003298044,1807448667.6644726,671116.32238868484,52764520.751463637,2233557975.0917444,2693.2090074121952,1807447766.3246059,671113.07044874155,null,null,null,84418246175466.469,84418497957721.188,84420999628911.562,84420999633814.75,84420999639301.766,84420999644204.953,84420999614343.844,84420999633976.516,84420999624734.047,84420999644366.719,0,0,0,0,0,0,0,0,0,1,null,0,0,0,0,0,0,0,0,1]
[null,103,1839466.3424037069,0.21076679541744225,0.11598855346207936,0.19180204316802479,0.60348182293777897,0.28801146746115358,0.35721979323566122,3.5221897551832991E-2,0.62445365479389947,557.41887856974415,3278.2655995218583,2927.0847457334821,913340.36040926527,36.989306722860043,3483.4815273631743,1920.8314988898994,19005.659107631203,117.46860404280696,1031.8527980144709,0.94319379632194178,null,52071581.958710611,133732965.54011635,52071850.104776546,215534866.96997333,52074503.517946526,1026277045.3970989,2653.4131699800491,810742178.42712557,305546.90373878769,52074505.277628675,1026267690.8286351,2655.1728521287441,810732823.85866177,305340.88325310691,52074508.883979149,1026058932.8308653,2658.7792026028037,810524065.86089194,304848.20441931841,52074510.64366129,1026049578.2624016,2660.5388847440481,810514711.29242826,304643.06157675356,52074497.460817225,1026530248.9442316,2647.3560406789184,810726138.64587247,306239.93380125804,52074505.277628675,1026261005.6158458,2655.1728521287441,810726138.64587247,305338.36544610845,52074502.826849841,1026312136.3779981,2652.7220732942224,810777269.40802479,305639.73420750391,52074510.64366129,1026042893.0496123,2660.5388847440481,810508026.07963896,304640.54884791217,null,null,null,83314397400971.438,83314744632775.5,83318179351669.047,83318182176515.047,83318188155433.812,83318190980279.797,83318169407058.625,83318182183200.266,83318178210823.375,83318190986965.016,0,0,0,0,0,0,0,0,0,1,null,0,0,0,0,0,0,0,0,1]
[null,104,1552069.5189156965,0.19501226624097234,9.8869622765235754E-2,0.18331969419625718,0.53401813990940661,0.24748670023580671,0.31622339635138141,4.4706374319558484E-2,0.57184271140752729,234.12993854320993,1839.3810373988906,14545.885914820352,234241.16055125365,110.3782136616324,5840.1274100758237,3534.5402617311979,17587.929409682616,729.53834936220187,1261.1233314014603,0.75429738943235092,null,43935294.490101404,33989991.098548934,43935575.386232838,64840848.057053834,43938356.644747108,369525242.51195127,2781.2585142701864,304684394.4548974,109549.10983341218,43938366.488974601,369855417.08630508,2791.1027417629957,305014569.02925122,109281.02518955975,43938388.143466562,369343488.45565534,2812.7572337239981,304502640.39860153,108257.70413021036,43938397.987694047,369673663.03000915,2822.6014612093568,304832814.97295535,107997.11513022044,43938316.972609028,369847965.29230732,2741.5863761901855,304927795.4297626,111223.12179472603,43938366.488974601,369768643.48681647,2791.1027417629957,304927795.4297626,109249.93582900336,43938348.471328482,369666211.23601139,2773.0850956439972,304825363.17895758,109922.83058957756,43938397.987694047,369586889.43052053,2822.6014612093568,304746041.37346673,107966.37271026455,null,null,null,70296437194171.148,70296855777124.484,70301001106352.859,70301016526942.273,70301051686058.047,70301067106647.445,70300937308209.156,70301016613715.875,70300987887914.336,70301067193421.047,0,0,0,0,0,0,0,0,0,1,null,0,0,0,0,0,0,0,0,1]
[null,105,1662519.1165687444,0.18034780315859672,0.19189671851847256,0.20384229372498952,0.46280701872541363,0.30314339199259432,0.36523307348990142,4.1405573592564027E-2,0.60067395394299805,181.09894843533414,4787.1920022839295,806.97571330387348,478613.75010432181,1.4084162835876792,5665.5965083380543,42262.060421913375,2.1416844652098672,1125.9302348042127,776.29002314509069,0.79981671716051139,null,47062100.52535627,70212938.990852773,47062379.2708655,93360368.991145998,47065132.919695608,306696727.11741769,2753.6488301083446,213336358.12627169,77474.06125053273,47065134.711263835,306658385.53129858,2755.4403983354568,213298016.54015258,77409.773286696567,47065152.555683509,306319490.50170326,2773.2848180085421,212959121.51055726,76789.48809285312,47065154.347251736,306281148.91558421,2775.0763862356544,212920779.92443821,76726.096975392356,47065123.894191034,306567907.81750703,2744.6233255341649,212975959.01560494,77597.518404152986,47065134.711263835,306336328.00675094,2755.4403983354568,212975959.01560494,77292.892687594445,47065143.530178942,306190671.2017926,2764.259313441813,212830302.2106466,76993.609527048669,47065154.347251736,305959091.39103657,2775.0763862356544,212598722.39989057,76610.043404346521,null,null,null,75299290627631.047,75299713473015.812,75303905974785.844,75303908879636.609,75303937769603.109,75303940674453.859,75303891662797.844,75303909201694.141,75303923457615.109,75303940996511.391,0,0,0,0,0,0,0,0,0,1,null,0,0,0,0,0,0,0,0,1]
[null,106,1516185.3430386444,0.18194551950167351,0.10353001068763855,0.20307787394907917,0.45473065331943097,0.27169353573067367,0.31646429879439214,4.9493095932394815E-2,0.63760655826875134,755.64081165014852,1566.6666072801117,2749.7920574119057,105239.80896870683,82.851214591296525,1203.7254918522476,3982.5340023566223,14957.515187080682,5278.9825894224205,48.294679259982026,0.93488822480620415,null,42919590.476802364,15417347.747676658,42919861.97851789,118445676.67657804,42922549.483932324,1138643789.4796896,2687.5054144337773,1020198112.8031116,379607.8353271166,42922549.483936198,1138643789.717989,2687.5054183080792,1020198113.0414109,379607.83486854413,42922549.483956575,1138643789.3808603,2687.5054386854172,1020198112.7042823,379607.83186481969,42922549.48396045,1138643789.6191597,2687.5054425597191,1020198112.9425817,379607.83140624722,42922549.483911552,1138643789.5135736,2687.5053936615586,1020198112.9728806,379607.83832434443,42922549.483936198,1138643789.6494586,2687.5054183080792,1020198112.9728806,379607.83484304452,42922549.483935803,1138643789.4147441,2687.5054179131985,1020198112.7381661,379607.83481148561,42922549.48396045,1138643789.5506291,2687.5054425597191,1020198112.8740511,379607.83138074755,null,null,null,68671329345536.031,68671660719951.945,68674940530502.242,68674940530508.195,68674940530541.141,68674940530547.102,68674940530468.969,68674940530508.266,68674940530507.867,68674940530547.172,0,0,0,0,0,0,0,0,0,1,null,0,0,0,0,0,0,0,0,1]
[null,107,1343546.0870837613,0.19442150204883746,0.17364236326603577,0.19759575765070014,0.65097742780858026,0.26465182338616688,0.46256144529684873,3.6078818499210644E-2,0.59125085767816965,787.76454474402033,2323.1895928487388,21100.201550061731,68315.089925509645,545.38855348851632,75.862929150048217,1634.8563337471228,1587.3352410847979,5077.3061285492749,2050.7515589478016,0.8639861567833087,null,38032137.718338214,10050974.273170138,38032404.56859871,106363994.99230571,38035043.179993749,1060942544.7844892,2638.6113950386643,954578549.7921834,361773.07184644963,38035064.693166219,1060920293.5579287,2660.1245675086975,954556298.56562293,358838.94695187121,38035106.751823612,1060746173.6719154,2702.183224901557,954382178.67960966,353189.29149017227,38035128.264996074,1060723922.4453548,2723.6963973641396,954359927.45304906,350391.44905307068,38035001.061165236,1061027797.0805601,2596.4925665259361,954510024.6552037,367615.15783283074,38035064.693166219,1060874019.6475095,2660.1245675086975,954510024.6552037,358821.55155957106,38035064.632995091,1060831425.9679862,2660.0643963813782,954467430.97568047,358813.65589272627,38035128.264996074,1060677648.5349356,2723.6963973641396,954313653.54262984,350374.4596740547,null,null,null,60851410298366.867,60851740945762.945,60855008145445.219,60855042588772.398,60855110056744.109,60855144500071.273,60854940670067.297,60855042635046.305,60855042581366.18,60855144546345.188,0,0,0,0,0,0,0,0,0,1,null,0,0,0,0,0,0,0,0,1]
[null,108,1426206.424487049,0.18928495895585495,7.6965769110443255E-2,0.20051868856897515,0.54997550667495543,0.29262956456351585,0.40377652735118452,3.3006612370251695E-2,0.47172614612704605,122.5529019704348,685.17011298420118,8194.6399249719161,55124.686891463345,13.847702510541753,2171.3715449799511,63174.745195525808,228.07968340833949,403.20521921337792,5093.6706224172549,0.82562958008575649,null,40372197.14460016,8075601.9050837513,40372479.865009941,26048611.116871852,40375284.659705758,179215025.24894783,2804.7946958169341,153166414.13207597,54608.779159668295,40375284.661166333,179215022.38026515,2804.7961563915014,153166411.26339328,54608.749699817359,40375284.662401855,179215025.81847182,2804.7973919138312,153166414.70159996,54608.726870317027,40375284.663862422,179215022.94978914,2804.798852480948,153166411.83291727,54608.697410666697,40375284.655096665,179214825.03465015,2804.7900867238641,153166199.58477977,54608.792404741274,40375284.661166333,179214810.70165163,2804.7961563915014,153166199.58477977,54608.674229586468,40375284.657792762,179214825.60417417,2804.7927828207612,153166214.4873023,54608.745225472259,40375284.663862422,179214811.27117565,2804.798852480948,153166200.15430379,54608.621940508368,null,null,null,64595507355758.352,64595941735404.789,64600276240503.961,64600276242843.75,64600276244817.148,64600276247156.922,64600276233329.633,64600276243055.43,64600276237642.82,64600276247368.602,0,0,0,0,0,0,0,0,0,1,null,0,0,0,0,0,0,0,0,1]
[null,109,1566124.2345751836,0.19363717484160825,0.11858577201340453,0.18572801371239384,0.50664329890819659,0.25768980542036862,0.39979827926128897,4.5259008941760048E-2,0.63953247049554585,160.19025620955671,2507.9525038243933,5961.0096719553858,154304.5842080421,272.72421084664353,5503.2972109662478,15692.915272983544,64.748435971457369,772.07875500318437,266.16872787268602,0.89304630360249715,null,44333303.156837486,22573794.036625832,44333575.811247654,44306902.161154449,44336274.649137639,253732991.44629279,2698.8378899842501,209426089.28513834,77598.617561412888,44336276.937424399,253717044.94203228,2701.1261767446995,209410142.78087783,77526.975445942124,44336283.653599232,253699011.25048268,2707.842351578176,209392109.08932823,77328.027965620306,44336285.941886,253683064.74622223,2710.130638346076,209376162.58506778,77256.852353377602,44336267.657951862,253696775.0476239,2691.8467042073607,209324122.19101813,77762.274450415091,44336276.937424399,253631024.35217258,2701.1261767446995,209324122.19101813,77495.12925134362,44336276.662413463,253662794.85181382,2700.8511658087373,209355892.69065937,77514.783243515121,44336285.941886,253597044.1563625,2710.130638346076,209290141.99520805,77225.111968378216,null,null,null,70933262477145.953,70933676991094.094,70937785705628.766,70937789382834.094,70937800146747.516,70937803823952.844,70937774555947.938,70937789468854.672,70937788997066.688,70937803909973.438,0,0,0,0,0,0,0,0,0,1,null,0,0,0,0,0,0,0,0,1]
[null,110,1486968.1374443593,0.19725758982962827,0.18996489675601003,0.20693236672934068,0.56844030838850035,0.29686555985994212,0.31323762410923378,3.4361613823485446E-2,0.50193927081156819,65.412342371200864,627.98615284830282,12963.552655944733,94011.128969130979,76.909897200512773,7669.0755034378726,36333.597773650341,86327.56409402196,1950.9894815790944,1750.7752909293301,0.66612452483452111,null,42092167.646180443,13772381.355568832,42092460.169753887,23369382.237491645,42095348.313049898,104176292.37387326,2888.1432960107923,80806910.136381626,27978.843794902783,42095348.313518599,104176393.75503641,2888.1437647119164,80807011.517544776,27978.874356902048,42095348.315713234,104176290.82478799,2888.1459593474865,80806908.587296337,27978.817457533514,42095348.316181943,104176392.20595115,2888.1464280560613,80807009.968459517,27978.848019436704,42095348.31089896,104176257.57034226,2888.1411450728774,80806968.053937525,27978.884685671586,42095348.313518599,104176350.29142916,2888.1437647119164,80806968.053937525,27978.859307925683,42095348.313562296,104176256.021257,2888.1438084095716,80806873.783765346,27978.826244204116,42095348.316181943,104176348.74234392,2888.1464280560613,80806966.504852265,27978.832970474217,null,null,null,67347454461507.352,67347912902223.984,67352453124587.461,67352453125236,67352453128850.344,67352453129498.906,67352453121180.766,67352453125279.469,67352453125443.648,67352453129542.367,0,0,0,0,0,0,0,0,0,1,null,0,0,0,0,0,0,0,0,1]
[null,111,1532662.3862041291,0.18890014337443595,0.24527201500298501,0.18514876012406234,0.55704647046175859,0.23463545322912532,0.42379575281553772,4.1787024098456582E-2,0.59369633712556102,357.24538726937817,2405.4735559764449,6266.9693952056705,313139.20945125609,111.46826459000384,8370.8113195314527,24544.574950838822,7585.8220826115057,1985.1924268884252,954.21445031666246,0.99172584645756434,null,43386106.676353924,45957479.396172151,43386366.270645402,93036026.85908176,43388926.150687166,550471245.13703585,2559.8800417631865,457435218.2779541,178694.00550616553,43388927.705909066,550469815.46134233,2561.4352636635303,457433788.60226059,178584.95004398792,43388934.924855687,550364048.17172337,2568.6542102843523,457328021.31264162,178041.87869336255,43388936.480077587,550362618.49602973,2570.2094321846962,457326591.63694799,177933.59012312751,43388922.497316211,550455239.73334694,2556.2266708090901,457363112.46004891,178921.18789109009,43388927.705909066,550399139.31913066,2561.4352636635303,457363112.46004891,178557.35764561102,43388931.271484725,550348042.76803434,2565.0008393228054,457312015.90895259,178289.22661471297,43388936.480077587,550291942.35381806,2570.2094321846962,457255915.49473631,177906.09191954663,null,null,null,69417724724686.883,69418092997005.781,69421731369854.328,69421733859639.047,69421745515720.93,69421748005505.648,69421725540466.203,69421733930315.188,69421739686332.797,69421748076181.789,0,0,0,0,0,0,0,0,0,1,null,0,0,0,0,0,0,0,0,1]
[null,112,1726176.0706243154,0.15395045938589116,0.22363299066331976,0.17977982049308,0.52624989246825382,0.24611035017768987,0.29163406691554744,4.3982157769260066E-2,0.57405751581926301,150.64001774666053,986.91284110695676,7194.0998445991227,122493.71844249338,55.848067460219639,3771.6833068232495,13716.713979657774,97.330366260394953,2161.6398365187993,926.9137615456134,0.90071255886122903,null,48864318.239585117,17971779.740207233,48864587.746596806,40932197.132044487,48867250.510340713,263340863.79499146,2662.7637439072132,222408666.66294697,83525.497585675796,48867252.346149735,263331112.05062833,2664.5995529294014,222398914.91858384,83464.29191361359,48867269.248422049,263260098.74031112,2681.5018252432346,222327901.60826662,82911.709966149152,48867271.084231071,263250346.99594805,2683.3376342654228,222318149.86390355,82851.351624546587,48867242.133803599,263295684.42212185,2654.3872067928314,222306239.1603623,83750.493745396045,48867252.346149735,263238436.2924068,2664.5995529294014,222306239.1603623,83429.511543662826,48867260.871884942,263214919.36744156,2673.1252881363034,222282722.23539707,83154.621753764513,48867271.084231071,263157671.23772648,2683.3376342654228,222225474.10568199,82816.814130256607,null,null,null,78182891211556.453,78183299462357.766,78187337475681.344,78187340422727.531,78187367537376.547,78187370484422.719,78187324118401.328,78187340515403.281,78187354180096.531,78187370577098.484,0,0,0,0,0,0,0,0,0,1,null,0,0,0,0,0,0,0,0,1]
[null,113,1858677.5770543774,0.23818774662894582,0.21739099425340258,0.19193229167788126,0.45266740807954653,0.25079416415502631,0.41148964842684466,4.3982435878915371E-2,0.53296156618877699,358.72271179297826,368.52697379511483,3404.497936616644,734311.81615237065,90.257801199258097,749.40249249958481,3997.3455466093715,4371.571788200471,1226.8349079644167,223.60967775122924,0.98052474936458656,null,52615466.216990039,108228707.91935632,52615725.69659207,159947715.88224813,52618279.910519227,671968138.51782537,2554.2139271572232,512020422.6355772,200461.05660595282,52618283.121803701,671889668.38641739,2557.4252116307616,511941952.50416923,200178.66023058619,52618298.714903951,671316669.91382337,2573.0183118805289,511368954.0315752,198742.83508609526,52618301.926188424,671238199.78241539,2576.2295963540673,511290483.90016723,198464.64174767496,52618269.612008259,672297215.10889363,2543.9154161885381,511911071.62798405,201229.59606690187,52618283.121803701,671858787.51023221,2557.4252116307616,511911071.62798405,200166.58524358569,52618288.416392975,671645746.50489151,2562.7198009043932,511698030.62264335,199669.90946183942,52618301.926188424,671207318.90623033,2576.2295963540673,511259603.02398217,198452.6548982774,null,null,null,84184637718476.141,84185001166831.438,84188575888692.25,84188581105217.531,84188606627176.422,84188611843701.703,84188559081998.109,84188581136098.406,84188589820482.266,84188611874582.578,0,0,0,0,0,0,0,0,0,1,null,0,0,0,0,0,0,0,0,1]
[null,114,2026423.3951770246,0.16321314528909681,0.1269788594138225,0.17732294249325248,0.5076574294636379,0.3043625073908619,0.35419319828925194,2.9235495199283309E-2,0.53022805962234487,625.51037521024352,3259.1331234522254,2979.9799959270617,100438.00238635972,213.04133519262385,876.00880015273208,30617.996845029655,1486.1006712158298,329.43133605935793,1081.3953916924868,0.86103389084609039,null,57364191.063747682,14684219.521479635,57364468.0534238,129741611.35489659,57367215.527232744,1258785363.3632824,2747.4738089442253,1129043752.0083859,410938.85893756518,57367216.782856509,1258786854.9653049,2748.7294327095151,1129045243.6104083,410751.6840962664,57367222.72059238,1258756644.9779458,2754.6671685799956,1129015033.6230493,409855.33443049149,57367223.976216145,1258758136.579968,2755.9227923452854,1129016525.2250714,409669.1418065019,57367209.810259752,1258662202.4751699,2741.7568359524012,1128895861.8334844,411741.78797710227,57367216.782856509,1258637473.188381,2748.7294327095151,1128895861.8334844,410697.33834104356,57367217.003619395,1258633484.0898335,2748.9501955956221,1128891872.734937,410662.90489498561,57367223.976216145,1258608754.8030443,2755.9227923452854,1128867143.4481478,409614.93790161074,null,null,null,91782691017776.781,91783019143866.719,91786286058209.031,91786288065715.453,91786297596302.828,91786299603809.25,91786277034213.141,91786288215097.234,91786288572306.938,91786299753191.031,0,0,0,0,0,0,0,0,0,1,null,0,0,0,0,0,0,0,0,1]
[null,115,1817028.2478520756,0.16808574449049604,0.10276549516938477,0.20469076977191547,0.41644222244915802,0.29892205744944256,0.49047713233735679,4.2505737310732594E-2,0.48297563262196014,611.82963566247747,31.736566917263605,664.34417251636319,83792.285846577972,195.74762849382418,4891.4196032471646,9411.5803496396547,121.63473021013952,1173.8402976019427,1949.4125636750618,0.93949639856576184,null,51436423.328302555,12030708.103841456,51436683.390526786,112289614.79700543,51439262.991672538,1103179920.0137761,2579.6011457517743,990890305.21677065,384125.39351233502,51439270.423440777,1103155081.2515059,2587.0329139903188,990865466.45450044,383012.31541973667,51439301.063406609,1103206282.5300682,2617.6728798225522,990916667.73306274,378548.7007835125,51439308.495174848,1103181443.7677982,2625.1046480610967,990891828.97079277,377467.55341836216,51439235.633981735,1102948766.6971235,2552.2434549480677,990526763.19728231,388100.42250355671,51439270.423440777,1102816377.9942877,2587.0329139903188,990526763.19728231,382881.39197636396,51439273.705715805,1102975129.2134156,2590.3151890188456,990685514.41641021,382457.5166050198,51439308.495174848,1102842740.5105798,2625.1046480610967,990553125.71357441,377338.52874977665,null,null,null,82298265294575.984,82298581135228.062,82301717606756.047,82301729522424,82301778495168.047,82301790410835.984,82301674065604.078,82301729861127.25,82301734954016.062,82301790749539.234,0,0,0,0,0,0,0,0,0,1,null,0,0,0,0,0,0,0,0,1]
[null,116,1826482.4492403551,0.2105717639247906,0.26626967567672133,0.20249617110551554,0.55304241840171509,0.23354637136130399,0.3580143702544003,3.1491921296015121E-2,0.5169743425812241,745.68196590440493,505.89259461528025,6838.59141725673,585972.50025012402,54.266635674404618,3794.8882747652001,1221.0875036825137,14407.336456305464,3332.5376380970138,3131.5475865657281,0.98154794021837821,null,51704048.886658616,85940324.573628023,51704308.257358298,202737504.60102281,51706861.868896715,1361076504.4057186,2553.6115384176373,1158338999.8046958,453608.14766778052,51706862.475723922,1361076856.5702074,2554.218365624547,1158339351.9691846,453500.51802871295,51706865.336981177,1360984291.4004023,2557.0796228796244,1158246786.7993796,452956.87175162497,51706865.943808384,1360984643.5648913,2557.686450086534,1158247138.9638686,452849.54257183545,51706859.985321991,1361127594.509773,2551.72796369344,1158337887.0977697,453942.54543543124,51706862.475723922,1361075391.6987925,2554.218365624547,1158337887.0977697,453499.9445180709,51706863.453406461,1361035381.5044568,2555.1960481628776,1158297876.903434,453310.76562059548,51706865.943808384,1360983178.6934762,2557.686450086534,1158245674.0924535,452848.96983884269,null,null,null,82726392278329.203,82726690474268.688,82729617913730.344,82729618884301.719,82729623554878.484,82729624525449.859,82729614848920.672,82729618885766.578,82729620490068.844,82729624526914.734,0,0,0,0,0,0,0,0,0,1,null,0,0,0,0,0,0,0,0,1]
[null,117,1560572.852424562,0.2020297737090978,8.2830915447819481E-2,0.24152952781781534,0.65670293096606014,0.30585395315729658,0.23764036893987217,3.7163404634872998E-2,0.63465184076066716,13.009791189556191,266.08004082487605,3962.7166708368632,1384098.541350862,132.80570313671612,1499.1567297514794,10047.94899076535,1242.1154976559267,5276.9384535316667,241.22760871883995,0.80466741695648225,null,44176194.72185789,193450948.30070966,44176447.696790293,180328425.91089171,44178951.757247232,47517067.930970676,2504.0604569390416,-132811357.97992104,-53038.39913764278,44178989.961642191,45274002.635842763,2542.2648518979549,-135054423.27504894,-53123.663796957509,44179070.987240784,40275218.948098019,2623.2904504910111,-140053206.96279371,-53388.372201248028,44179109.191635743,38032153.652970105,2661.4948454499245,-142296272.25792161,-53464.79347919477,44178722.352849878,60722760.107031226,2274.6560595855117,-136075535.68342274,-59822.466394422045,44178989.961642191,44252890.227468975,2542.2648518979549,-136075535.68342274,-53525.318411193111,44178841.58284343,53480911.124158554,2393.8860531374812,-126847514.78673315,-52988.117216558378,44179109.191635743,37011041.24459631,2661.4948454499245,-143317384.66629541,-53848.454717584726,null,null,null,70681718104024.328,70682135986438.562,70686275294527.641,70686338664624.859,70686473304366.297,70686536674463.531,70685895041799.703,70686339685737.266,70686093051638.359,70686537695575.938,0,0,0,0,0,0,0,0,0,1,null,0,0,0,0,0,0,0,0,1]
[null,118,1500966.134734638,0.22971555239382413,0.1764676393373944,0.17759345541438318,0.4070674657810654,0.26434729898595255,0.29047835683630246,4.321538090521615E-2,0.57939255282766622,377.12570506539021,130.88479075910882,1293.1812967141675,423153.43702568719,155.50986168628356,1147.7993580505556,19630.922286346064,1228.9600997346183,395.38782906319011,1243.9693015050846,0.6686944355827048,null,42488438.437773086,62186734.904789776,42488728.761519633,109071063.90908785,42491590.892175533,566696048.68469751,2862.1306558996439,457624984.77560967,159889.6206336066,42491592.530932769,566675390.57645082,2863.7694131359458,457604326.66736299,159790.91213432138,42491608.486114658,566385410.19055188,2879.7245950251818,457314346.28146404,158804.88956183154,42491610.124871902,566364752.08230507,2881.3633522689342,457293688.17321724,158707.40072164816,42491579.475292787,566758328.98417354,2850.7137731537223,457459537.07277972,160471.92860288313,42491592.530932769,566530600.98186755,2863.7694131359458,457459537.07277972,159740.35303765698,42491597.06923192,566447690.4900279,2868.3077122867107,457376626.58094007,159458.70264257811,42491610.124871902,566219962.48772192,2881.3633522689342,457148898.57863408,158657.15034469755,null,null,null,67981439313702.031,67981856947367.508,67985978731432.164,67985981374101.852,67986007192373.266,67986009835042.961,67985960402139.477,67985981518891.445,67985988863080.578,67986009979832.562,0,0,0,0,0,0,0,0,0,1,null,0,0,0,0,0,0,0,0,1]
[null,119,1552051.5707878498,0.19777220364934578,0.22313668342319648,0.20037407626987402,0.51065182005907506,0.29039395034780013,0.39895788183313863,4.0556751901471788E-2,0.47342039462745938,1363.491613087336,4461.0400403747453,5141.1534922109677,58421.440646664945,307.83865795211256,3987.0445533950128,11370.419078871711,49958.635034509949,608.11613901744272,998.25474908413491,0.81024211202374119,null,43934815.697053231,8558993.5233625993,43935093.165943898,200524744.33355093,43937829.41289115,2099818835.1274037,2736.2469472512603,1899294090.7938528,694123.78612311231,43937829.447552964,2099823217.0859303,2736.2816090658307,1899298472.7523794,694116.59474654798,43937829.623581961,2099818639.5510166,2736.4576380625367,1899293895.2174656,694070.2712877373,43937829.658243783,2099823021.5095432,2736.4922998845577,1899298277.1759923,694063.0811408154,43937829.291825004,2099818134.6181283,2736.1258811056614,1899297454.7443373,694155.72867460176,43937829.447552964,2099822199.0778883,2736.2816090658307,1899297454.7443373,694116.22270587832,43937829.502515815,2099817939.0417411,2736.3365719169378,1899293194.7081902,694100.72364659526,43937829.658243783,2099822003.5015013,2736.4922998845577,1899297259.1679504,694062.70912879042,null,null,null,70295696556291.648,70295948540765.898,70298427241790.711,70298427292867.656,70298427579091.586,70298427630168.547,70298427048785.391,70298427293885.664,70298427386086.266,70298427631186.555,0,0,0,0,0,0,0,0,0,1,null,0,0,0,0,0,0,0,0,1]
[null,120,1836265.8681182116,0.15751854968464965,0.21310663593104773,0.16440307360141443,0.60672636445130579,0.21042371287376194,0.33341089697823795,4.5876494490968645E-2,0.57578103807151071,675.61476321822715,229.71771038418686,2819.491691974697,182257.15325718644,40.882211944710811,3774.2968217052853,4433.8897306214758,81326.402028341399,822.96567626551678,25.577524851350216,0.97600496786503999,null,51981011.014938921,26706524.755275991,51981274.986624241,137200628.5845077,51983884.182193808,1231315724.0469258,2609.1955695673823,1094115095.4624181,419330.42820696946,51983884.792937085,1231423844.5871303,2609.8063128441572,1094223216.0026226,419273.72564676736,51983887.782791108,1231289801.296773,2612.7961668670177,1094089172.7122653,418742.64306816499,51983888.393534385,1231397921.8369775,2613.4069101437926,1094197293.2524698,418686.15599254915,51983882.312790535,1231325732.507771,2607.3261662945151,1094217032.9033136,419670.17669231433,51983884.792937085,1231417661.4878213,2609.8063128441572,1094217032.9033136,419271.35646738473,51983885.913387828,1231299809.7576182,2610.9267635867,1094099181.1731105,419046.2928458848,51983888.393534385,1231391738.7376685,2613.4069101437926,1094191110.1531608,418683.79007728159,null,null,null,83169590917377.516,83169902777970.203,83172983375786.047,83172984244854.75,83172989162664.469,83172990031733.172,83172980374732.359,83172984251037.859,83172986161610.781,83172990037916.281,0,0,0,0,0,0,0,0,0,1,null,0,0,0,0,0,0,0,0,1]
[null,121,2053214.7780722517,0.21479470265632583,0.20270157235501696,0.20722800519116491,0.59050177550138905,0.28079896931378123,0.41020863856647993,3.5336930152379473E-2,0.44483776354907778,721.68549321368687,563.06314843357688,620.55169673515604,244416.78186351724,19.108457800529404,7573.4123331984129,1122.4607192743006,32034.974605746796,1675.7876895114232,1206.6922914770282,0.97604980715449341,null,58122764.907830574,35812799.665130988,58123027.100037947,167303452.34487119,58125613.334312953,1471041619.3698101,2586.2342750057578,1303738167.0249388,504106.75460638083,58125613.535362557,1471050500.694591,2586.4353246092796,1303747048.3497198,504071.00303065596,58125613.998650014,1471036554.4729617,2586.8986120671034,1303733102.1280904,503975.33789943211,58125614.199699618,1471045435.7977426,2587.0996616706252,1303741983.4528713,503939.60571699706,58125612.78315904,1471047628.299787,2585.6831210926175,1303746655.3349516,504217.49080530595,58125613.535362557,1471050107.6798229,2586.4353246092796,1303746655.3349516,504070.85107836686,58125613.447496101,1471042563.4029384,2586.3474581539631,1303739111.0580671,504085.0590077432,58125614.199699618,1471045042.7829742,2587.0996616706252,1303741590.438103,503939.45380372746,null,null,null,92996388039729.25,92996676056608.375,92999510293281.344,92999510606079.406,92999511361285.547,92999511674083.594,92999509405426.172,92999510606472.406,92999510473430.359,92999511674476.609,0,0,0,0,0,0,0,0,0,1,null,0,0,0,0,0,0,0,0,1]
[null,122,2143802.9102562866,0.27242736938047718,0.15570823562593472,0.21628426853699989,0.37417765306692341,0.25019739064034108,0.39727989745726255,3.7468673302107139E-2,0.57001427475631739,282.23929765448503,855.76437475759781,5030.3480812164889,397444.32579361991,33.086982473636652,1518.5546894433576,2354.4569419751383,555.93271602003347,2469.3506499714736,1081.4009081486847,0.72500133797452948,null,60686999.426853247,58449939.18394126,60687283.704301879,108810205.91940992,60690083.344996572,607664753.35445309,2799.6406946927309,498854547.43504316,178185.20368728743,60690085.36996156,607633288.13118577,2801.6656596809626,498823082.21177584,178045.18554458025,60690096.739140309,607442408.0680176,2813.0348384305835,498632202.14860767,177257.74147425735,60690098.76410529,607410942.8447504,2815.0598034113646,498600736.92534047,177119.05669681434,60690074.073242582,607810081.98226035,2790.3689407035708,498807574.2371543,178760.43807718978,60690085.36996156,607617780.15656424,2801.6656596809626,498807574.2371543,178039.65027502805,60690087.467386313,607587736.69582498,2803.7630844339728,498777530.77641505,177895.7478773956,60690098.76410529,607395434.87012887,2815.0598034113646,498585228.95071894,177113.54776424999,null,null,null,97099140633026,97099545116677.078,97103525687241.156,97103528958650.375,97103547340216.438,97103550611625.625,97103510707106.141,97103528974158.344,97103532360081.391,97103550627133.594,0,0,0,0,0,0,0,0,0,1,null,0,0,0,0,0,0,0,0,1]
[null,123,1754522.4558041347,0.2528823975715534,0.18043128742583792,0.21352409098019864,0.51749429629905397,0.2476387331460369,0.40583953319209387,3.780205008735963E-2,0.50245558854042915,923.33165612537709,7076.9575641073397,3017.3336755427672,400247.70248785883,90.351460636648852,3662.2648256947596,3074.8833359576643,866.29130855617927,227.78769080290931,337.86270121493931,0.85122974936398055,null,49666745.39680092,58646355.322397992,49667018.373670638,201061289.08627844,49669706.992727995,1612539051.9557941,2688.6190573573112,1411477762.8695157,524982.42880747886,49669707.177719846,1612535945.3979921,2688.8040492087603,1411474656.3117137,524945.15423207253,49669707.598288864,1612529134.0714259,2689.2246182262897,1411467844.9851475,524860.52500742686,49669707.783280715,1612526027.513624,2689.4096100777388,1411464738.4273455,524823.26721013931,49669706.473358795,1612547578.2923577,2688.0996881574392,1411473721.5201144,525082.35752507031,49669707.177719846,1612535010.6063929,2688.8040492087603,1411473721.5201144,524944.80657133483,49669707.078919657,1612537660.4079895,2688.7052490189672,1411476371.3217111,524965.08192436455,49669707.783280715,1612525092.7220247,2689.4096100777388,1411463803.6357462,524822.91962768254,null,null,null,79466733988526.141,79467028336583.922,79469918649312.844,79469918948406.359,79469919628128.109,79469919927221.625,79469917809795.781,79469918949341.141,79469918788611.047,79469919928156.422,0,0,0,0,0,0,0,0,0,1,null,0,0,0,0,0,0,0,0,1]
[null,124,1758776.5186049889,0.15607653458963458,0.25045511466875847,0.19021473958959331,0.5709774692009375,0.27043512182609469,0.3105702908444431,3.1833213709305933E-2,0.52100406977547675,1405.0232549544112,481.99829712124574,2059.6956507149143,345529.59812863142,7.211635766518711,1741.8200660126151,32197.649904423204,1352.3939659883683,321.85080050972567,435.11687751298774,0.94579444793454459,null,49787280.27057907,50619698.667791441,49787546.029282905,271628133.87168121,49790170.786588967,2450813724.6127772,2624.7573060616851,2179185590.741096,830242.69928058726,49790170.794335619,2450813632.5684347,2624.7650527134538,2179185498.6967535,830240.2138598786,49790170.8559765,2450812640.8366337,2624.8266935944557,2179184506.9649525,830220.33884483331,49790170.863723144,2450812548.7922907,2624.8344402387738,2179184414.9206095,830217.85355817538,49790170.75391838,2450813450.3654709,2624.7246354743838,2179184693.6560936,830252.69173131185,49790170.794335619,2450812827.5277748,2624.7650527134538,2179184693.6560936,830239.90715027088,49790170.823305905,2450812366.5893269,2624.7940229997039,2179184232.7176456,830230.56804556411,49790170.863723144,2450811743.7516313,2624.8344402387738,2179183609.87995,830217.54685667565,null,null,null,79659597813227.844,79659802018718.766,79661822444817.734,79661822457304.422,79661822556921.562,79661822569408.234,79661822392819.047,79661822458109.453,79661822504922.859,79661822570213.281,0,0,0,0,0,0,0,0,0,1,null,0,0,0,0,0,0,0,0,1]
[null,125,2146767.1030792422,0.22147753085596045,0.18389554331897984,0.2018765098651506,0.5502757020795318,0.24114526064987049,0.32599933137871517,4.0144848196893013E-2,0.68838810330900335,10.318621460213897,121.28506743299644,5494.716030958899,442524.78911819711,41.397000901805207,6094.1243474898847,29740.093315805076,33358.767645026681,1068.7589030330532,391.09851964197583,0.69047148198508801,null,60770862.721338339,65351617.950733036,60771147.815417729,63255551.926972099,60773959.146101087,31538293.42747815,2811.3306833580136,-31717258.499493949,-11281.938011507436,60773969.01703731,31986523.587316848,2821.2016195803881,-31269028.33965525,-11083.585137139562,60774015.131496482,30585288.333495282,2867.3160787522793,-32670263.593476817,-11394.022387546955,60774025.002432704,31033518.493333988,2877.1870149746537,-32222033.433638111,-11199.144604064595,60773922.818181612,31664471.910826325,2775.0027638822794,-31836720.521270614,-11472.68065302049,60773969.01703731,31418831.405701485,2821.2016195803881,-31836720.521270614,-11284.808678794767,60773978.803577006,30711466.816843461,2830.988159276545,-32544085.110128637,-11495.662743586054,60774025.002432704,30465826.311718624,2877.1870149746537,-32789725.615253475,-11396.452661782339,null,null,null,97233315002523.391,97233773249116.438,97238303095468.312,97238318440736.109,97238393625106.047,97238408970373.828,97238244844618.672,97238319008428.297,97238335374256.391,97238409538066.016,0,0,0,0,0,0,0,0,0,1,null,0,0,0,0,0,0,0,0,1]
[null,126,1611124.518868309,0.18727315885220505,0.15476785760619227,0.20412065877351182,0.64267990656410934,0.21919625690609543,0.41745869228419263,3.6761852510317695E-2,0.49964255234413746,550.13964840142705,1988.1260363651106,3513.5297242577608,388168.69710266747,34.652260982028643,735.06708969699037,4750.9797455175385,7526.5489118470032,5734.9246338835019,3088.4902113663184,0.89461039841327594,null,45607247.904096119,56795429.001224823,45607512.127517611,133117042.54745005,45610126.471694492,888395270.63497114,2614.3441768810153,755278228.08752108,288897.77970572677,45610150.345742919,888217905.84865618,2638.2182253077626,755100863.30120611,286216.2258063847,45610182.233980276,887419914.64572716,2670.1064626649022,754302872.09827709,282499.17471284815,45610206.108028702,887242549.85941219,2693.9805110916495,754125507.31196213,279929.83030392334,45610075.912823997,889143558.56382394,2563.7853063866496,754942609.79370344,294464.05200664216,45610150.345742919,888059652.3411535,2638.2182253077626,754942609.79370344,286156.24081121467,45610131.675109781,888168202.57457983,2619.5475921705365,755051160.02712977,288237.23695033166,45610206.108028702,887084296.35190952,2693.9805110916495,753967253.80445945,279871.08692888735,null,null,null,72971539851124.797,72971886286985.625,72975313959440.547,72975352335282.828,72975404154453.797,72975442530296.062,72975232316959.828,72975352493536.328,72975322511973.078,72975442688549.562,0,0,0,0,0,0,0,0,0,1,null,0,0,0,0,0,0,0,0,1]
[null,127,1701422.3367918755,0.14659376684611303,0.12876476812257209,0.20428324436391143,0.50527892558149023,0.24777460188020414,0.29705553448890099,3.8961303295081545E-2,0.55089060786059929,569.33061824706306,580.68643495549645,452.85691539975772,752924.39437912719,205.91336142954796,3114.6912805135621,16260.194791006928,14018.187167395678,356.88857919846737,496.15067583529571,0.95717066773733039,null,48163614.326950021,110301355.77948938,48163884.307336986,189194183.52099368,48166561.282622613,965154660.71899033,2676.9752856269479,775960477.19799662,289864.63990319084,48166561.282767676,965154664.12407267,2676.9754306897521,775960480.60307896,289864.6254676847,48166561.283540316,965154630.0022893,2676.9762033298612,775960446.48129559,289864.5290593495,48166561.283685386,965154633.4073714,2676.976348400116,775960449.88637769,289864.51462304749,48166561.281948999,965154674.73106873,2676.9746120125055,775960470.67232609,289864.71040491929,48166561.282767676,965154654.1933198,2676.9754306897521,775960470.67232609,289864.62175799324,48166561.282866709,965154644.0143677,2676.9755297228694,775960460.49337399,289864.6072322164,48166561.283685386,965154623.47661853,2676.976348400116,775960439.95562482,289864.51091335731,null,null,null,77061672621764.25,77062025697555.656,77065532897535.469,77065532897764.156,77065532899034.5,77065532899263.219,77065532896443.656,77065532897774.094,77065532897942.719,77065532899273.141,0,0,0,0,0,0,0,0,0,1,null,0,0,0,0,0,0,0,0,1]
[null,128,1766089.0661393187,0.17276838639348538,0.14862595770616255,0.22629895644675579,0.50751929571936261,0.37276359560179517,0.37446313523354058,3.8461058985948725E-2,0.61502175278479687,500.88163673121335,1694.9194308192057,1463.451763484421,586959.01560819859,21.220700398186469,5658.5748868704686,9236.9598302184422,400.16974798330369,189.99620143771168,5244.3393259735421,0.66180794748917271,null,49993987.880441174,85950700.594396412,49994282.899167784,159405779.05844519,49997202.51109948,884385211.50038016,2919.6119316965342,724979432.44193494,248313.628455636,49997202.982994236,884374291.89436126,2920.0838264524937,724968512.83591604,248269.76070637486,49997207.458872855,884274106.81973243,2924.5597050711513,724868327.76128721,247855.54095694277,49997207.930767603,884263187.21371353,2925.0315998196602,724857408.15526831,247811.82131501028,49997199.542207472,884438356.48626709,2916.643039688468,724947129.67841125,248555.31507065883,49997202.982994236,884352908.73685646,2920.0838264524937,724947129.67841125,248262.43791744972,49997204.489980847,884327251.80561936,2921.5908130630851,724921472.74717414,248125.59976088654,49997207.930767603,884241804.05620873,2925.0315998196602,724836024.99776351,247804.51091278894,null,null,null,79990294658005.281,79990693232889.391,79994639632547.672,79994640398498.891,79994647660089.75,79994648426040.953,79994634829175.469,79994640419882.047,79994642856717.547,79994648447424.109,0,0,0,0,0,0,0,0,0,1,null,0,0,0,0,0,0,0,0,1]
[null,129,1509632.4567928361,0.19358667123252304,0.15237230705885574,0.21216099384703802,0.57955835303232639,0.26641951531077745,0.47292852368454574,3.2618433509354207E-2,0.52494191856457129,713.45869806991914,677.97685564008179,130.48733537537757,321223.01968387864,301.82418844939059,640.21946885237219,50777.011572177238,19456.84257635297,6751.5338483058695,1311.1360457257542,0.7939987263329481,null,42733927.110220969,47052433.010287531,42734205.35762915,142888348.3886444,42736958.856372252,1073978804.154197,2753.4987431019545,931090455.76555252,338148.13175350585,42736968.125440449,1074126733.505151,2762.7678112983704,931238385.11650658,337067.19084687345,42736984.717382066,1073617153.640058,2779.3597529157996,930728805.25141358,334871.65678174439,42736993.986450262,1073765082.9910121,2788.6288211122155,930876734.60236764,333811.63084698276,42736939.737145789,1073520029.429733,2734.3795166388154,930505407.15682936,340298.55822670716,42736968.125440449,1073393755.5454737,2762.7678112983704,930505407.15682936,336801.88517888362,42736965.598155603,1073158378.9155941,2760.2405264526606,930270030.52694964,337024.98808047414,42736993.986450262,1073032105.0313348,2788.6288211122155,930143756.64269042,333548.78555393842,null,null,null,{"$f":"cRatio*X136-Y136","v":68374236323920.539},{"$f":"cRatio*Z136-AA136","v":68374585683858.25},{"$f":"cRatio*AB136-AC136","v":68378060191391.445},{"$f":"cRatio*AG136-AH136","v":68378074873971.211},{"$f":"cRatio*AL136-AM136","v":68378101930657.664},{"$f":"cRatio*AQ136-AR136","v":68378116613237.43},{"$f":"cRatio*AV136-AW136","v":68378030059403.836},{"$f":"cRatio*BA136-BB136","v":68378075606949.172},{"$f":"cRatio*BF136-BG136","v":68378071798670.047},{"$f":"cRatio*BK136-BL136","v":68378117346215.391},0,0,0,0,0,0,0,0,0,1,null,0,0,0,0,0,0,0,0,1]
[null,130,1897153.9710237444,0.1472209706057116,0.20806985549032797,0.17403927755869883,0.48271966928462628,0.36431917126481816,0.36596603878089684,3.4729115787944652E-2,0.42392944208508815,13.490402759903422,1888.0534164063652,8721.2816856710524,82332.209537292569,346.75122942630833,149.25983795005698,6695.1079340110437,2187.7534354156924,3902.2245406322154,536.26718496321701,0.95001769269137826,null,53704705.954295911,12061446.401378972,53704973.381957643,14152684.487012481,53707620.03439986,32255975.136559099,2646.6524422168732,18103290.649546616,6840.0710122644759,53707620.034400076,32255975.139198441,2646.65244243294,18103290.652185962,6840.0710127033071,53707620.03440284,32255975.125266977,2646.6524451971054,18103290.638254493,6840.0710002957258,53707620.034403056,32255975.127906311,2646.6524454131722,18103290.640893832,6840.0710007345542,53707620.034398347,32255975.131819788,2646.6524407044053,18103290.641557269,6840.071013154673,53707620.034400076,32255975.128569748,2646.65244243294,18103290.641557269,6840.0710086874069,53707620.03440132,32255975.120527659,2646.652443677187,18103290.633515179,6840.0710024331565,53707620.034403056,32255975.117277622,2646.6524454131722,18103290.630265139,6840.070996718654,null,null,null,85927517465427.047,85927943258447.75,85932159799064.641,85932159799064.984,85932159799069.422,85932159799069.766,85932159799062.234,85932159799065,85932159799066.984,85932159799069.766,{"$f":"IF(BS137=MAX($BS137:$CB137),1,0)","v":0},{"$f":"IF(BT137=MAX($BS137:$CB137),1,0)","v":0},{"$f":"IF(BU137=MAX($BS137:$CB137),1,0)","v":0},{"$f":"IF(BV137=MAX($BS137:$CB137),1,0)","v":0},{"$f":"IF(BW137=MAX($BS137:$CB137),1,0)","v":0},{"$f":"IF(BX137=MAX($BS137:$CB137),1,0)","v":1},{"$f":"IF(BY137=MAX($BS137:$CB137),1,0)","v":0},{"$f":"IF(BZ137=MAX($BS137:$CB137),1,0)","v":0},{"$f":"IF(CA137=MAX($BS137:$CB137),1,0)","v":0},{"$f":"IF(CB137=MAX($BS137:$CB137),1,0)","v":1},null,{"$f":"IF(BT137=MAX($BT137:$CB137),1,0)","v":0},{"$f":"IF(BU137=MAX($BT137:$CB137),1,0)","v":0},{"$f":"IF(BV137=MAX($BT137:$CB137),1,0)","v":0},{"$f":"IF(BW137=MAX($BT137:$CB137),1,0)","v":0},{"$f":"IF(BX137=MAX($BT137:$CB137),1,0)","v":1},{"$f":"IF(BY137=MAX($BT137:$CB137),1,0)","v":0},{"$f":"IF(BZ137=MAX($BT137:$CB137),1,0)","v":0},{"$f":"IF(CA137=MAX($BT137:$CB137),1,0)","v":0},{"$f":"IF(CB137=MAX($BT137:$CB137),1,0)","v":1}]
[null,131,1359336.4929759095,0.16545006820895491,0.24695934022291555,0.17592589496086938,0.53681673448278366,0.27133364679588368,0.28336669414447829,4.0511307889722015E-2,0.45262900547254581,30.216859929935072,5589.1588407680074,1308.8266824508075,473344.11210833228,162.72092335842859,3648.1217847390358,55131.555768074206,3.4474191196243478,2495.4914333933489,1748.0016108847249,0.80484119616131966,null,38479108.195167661,69345238.326197833,38479386.782617696,69589297.475428343,38482135.964745775,50420230.670337752,2749.1821280792356,-19169066.805090591,-6972.6434670530161,38482135.978310578,50419943.129271477,2749.1956928819418,-19169354.346156865,-6972.7136543204424,38482136.086568564,50417824.961689852,2749.303950868547,-19171472.513738491,-6973.2095309730776,38482136.100133359,50417537.420623578,2749.3175156638026,-19171760.054804765,-6973.2797123564987,38482135.895379134,50419009.629237048,2749.1127614378929,-19172046.654107369,-6973.9033345724401,38482135.978310578,50417250.821320973,2749.1956928819418,-19172046.654107369,-6973.6929618166223,38482136.017201923,50416603.920589156,2749.2345842272043,-19172693.554839186,-6973.8296123713762,38482136.100133359,50414845.112673074,2749.3175156638026,-19174452.362755269,-6974.2589764593768,null,null,null,61566503767029.93,61566949262890.836,61571367123362.57,61571367145353.789,61571367320684.742,61571367342675.953,61571367013596.984,61571367148046.102,61571367210919.156,61571367345368.266,0,0,0,0,0,0,0,0,0,1,null,0,0,0,0,0,0,0,0,1]
[null,132,1857756.8821416527,0.16926242327739846,0.15400388906330678,0.20744733461252363,0.45603249247541361,0.26972397350078769,0.39530817215107883,3.8886920766431146E-2,0.53722908646926104,4.9002037680157828,665.76813251882731,7135.1936237214322,112344.10444195867,543.65463491186949,10507.012082453333,15901.877658945801,402.81809531612299,549.78527509502021,3539.9571352880625,0.84433595787216598,null,52589271.801605105,16458098.954379711,52589550.315692537,16900865.185860749,52592307.402111039,15006102.490633836,2757.0864185020328,-1894762.6952269133,-687.23369804866934,52592307.402978778,15006099.337301485,2757.0872862413526,-1894765.8485592641,-687.23462547402221,52592307.407870077,15006106.321971929,2757.0921775400639,-1894758.8638888206,-687.2308729189333,52592307.408737808,15006103.16863958,2757.0930452719331,-1894762.0172211695,-687.23180034509448,52592307.398862042,15006068.803468267,2757.0831695050001,-1894816.1095848177,-687.25388139996096,52592307.402978778,15006049.076275932,2757.0872862413526,-1894816.1095848177,-687.25285522895388,52592307.40462108,15006072.634806361,2757.0889285430312,-1894792.5510543883,-687.24390114456014,52592307.408737808,15006052.907614024,2757.0930452719331,-1894812.278246725,-687.25003006194845,null,null,null,84142818424469.219,84143263604242.875,84147676837275.172,84147676838666.703,84147676846485.797,84147676847877.328,84147676832110.469,84147676838716.969,84147676841321.094,84147676847927.594,0,0,0,0,0,0,0,0,0,1,null,0,0,0,0,0,0,0,0,1]
[null,133,1787977.5147865012,0.18754837458685691,0.14228755703447496,0.22405969507008405,0.50142261218134432,0.28026357969558002,0.34912042299021045,3.4554581761781659E-2,0.61697486098973942,144.49073163959255,1410.2284680765854,586.09337925684451,162262.08164447948,12.955873344539008,4624.293340299595,7257.4977851416916,80949.888748374433,1022.2961973539911,543.36648671427349,0.84889125612721361,null,50613852.994074762,23714819.685575202,50614125.59358301,45522736.14757131,50616822.693967037,259099140.34700686,2697.1003840267658,213576404.19943553,79187.413810889149,50616828.677979819,260576263.74830431,2703.0843968093395,215053527.60073298,79558.569408553187,50616858.971158996,258918346.44260257,2733.3775759860873,213395610.29503125,78070.301069930705,50616864.955171779,260395469.84389997,2739.361588768661,214872733.69632864,78438.981760313589,50616797.399989098,259149401.1462872,2671.8064060881734,214917138.38322204,80438.88879579604,50616828.677979819,260439874.53079337,2703.0843968093395,214917138.38322204,79508.112523939475,50616833.67718105,258968607.24188286,2708.0835980400443,213445871.09431154,78818.050982174784,50616864.955171779,260259080.62638903,2739.361588768661,214736344.4788177,78389.193073025963,null,null,null,80982141075699.938,80982555426996.672,80986657211206.922,80986665308503.969,80986715435507.953,80986723532805,80986616690581.422,80986665444893.188,80986674914882.453,80986723669194.219,0,0,0,0,0,0,0,0,0,1,null,0,0,0,0,0,0,0,0,1]
[null,134,1588065.861318093,0.23612984295395989,0.12212966790802711,0.22684787953794827,0.46118683188868598,0.20313906767200193,0.49825542594081818,4.2508802104730514E-2,0.44930429871094624,188.73689776901836,5053.9664635027657,930.34287815106688,587885.52954910113,192.44246546366935,4048.2972006791242,15416.419430746857,32324.717173101621,238.45804282776433,1137.212512095168,0.77392165638019916,null,44954288.777164727,87177189.832394496,44954541.749933086,108600904.3195951,44957043.566178486,317466395.76999509,2501.8162453994155,208865491.45039999,83485.544485724036,44957147.419746369,319662674.39529037,2605.6698132827878,211061770.07569528,81000.96527955179,44957231.273043126,313186402.6635747,2689.5231100395322,204585498.3439796,76067.574054410143,44957335.126611009,315382681.28886998,2793.3766779229045,206781776.96927488,74025.740460836605,44956856.657758124,320000869.85942006,2314.907825037837,208722886.83380091,90164.664258452423,44957147.419746369,317323791.15339601,2605.6698132827878,208722886.83380091,80103.352224370523,44957044.364622764,315720876.75299972,2502.6146896779537,207119972.43340462,82761.43078983431,44957335.126611009,313043798.04697567,2793.3766779229045,204442893.72738057,73188.444416812403,null,null,null,71926774866273.734,71927158198988.625,71930952239489.812,71931116208919.797,71931256850466.344,71931420819896.328,71930650651543.141,71931118547803.031,71930955262519.672,71931423158779.562,0,0,0,0,0,0,0,0,0,1,null,0,0,0,0,0,0,0,0,1]
[null,135,1506430.3817451589,0.14969861443569854,0.17077255005406866,0.24869600062397945,0.60574492289402715,0.2615434942496444,0.33302610820956563,3.5142719229499762E-2,0.56352394544329365,607.43695190993458,2644.7094895339842,2648.9346082897137,534218.0613536532,242.34456631326481,4246.7908018485869,3577.0407375724462,798.4640283533646,356.66597294638592,171.40518993639057,0.95059966273558538,null,42643456.564501897,78041150.232355118,42643720.909921519,154702563.22009861,42646337.698669091,913722774.55022335,2616.7887475714087,759020211.33012474,290057.88565643929,42646342.99636849,913601087.98981094,2622.0864469707012,758898524.76971233,289425.44043369294,42646367.409104645,913036973.83857691,2646.4991831257939,758334410.6184783,286542.46918104298,42646372.706804037,912915287.27816463,2651.7968825176358,758212724.05806601,285924.13282355666,42646319.02649115,914140577.18096268,2598.1165696308017,758846511.16641605,292075.62125445739,42646342.99636849,913549074.38651466,2622.0864469707012,758846511.16641605,289405.60371040099,42646348.736926705,913454776.46931624,2627.8270051851869,758752213.24921763,288737.50507627014,42646372.706804037,912863273.67486835,2651.7968825176358,758160710.45476973,285904.5183486928,null,null,null,68229452462052.797,68229798753311.211,68233226595096,68233235193101.594,68233274817593.594,68233283415599.18,68233196301808.664,68233235245115.203,68233244524306.258,68233283467612.789,0,0,0,0,0,0,0,0,0,1,null,0,0,0,0,0,0,0,0,1]
[null,136,1570952.7458248115,0.22828871230767944,0.23315930690889342,0.25122824767854413,0.6119169935617339,0.2978817223823873,0.29451674242544079,3.5040174660270609E-2,0.43933252930209621,995.49653001573995,956.41832271410635,11921.442827232542,258987.44810010813,299.19002938332392,8285.6042195278842,19038.734549466386,3677.9861502636268,3979.5146321254051,87.408500022689267,0.78648018565919575,null,44469875.154778905,37951898.259793647,44470153.122210503,177845029.69170377,44472886.340089396,1557915794.8568957,2733.2178788930178,1380070765.1651919,504925.26623019722,44472886.504820779,1557915172.7832694,2733.3826102763414,1380070143.0915656,504894.60857148073,44472887.139278568,1557909455.7748985,2734.0170680657029,1380064426.0831947,504775.35133296746,44472887.304009944,1557908833.7012722,2734.181799441576,1380063804.0095685,504744.7116689278,44472885.571194224,1557918048.1499848,2732.4489837214351,1380063527.738621,505064.70055263594,44472886.504820779,1557908557.4303248,2733.3826102763414,1380063527.738621,504892.18836403528,44472886.370383389,1557911709.0679879,2733.2481728866696,1380066679.3762841,504918.17503668251,44472887.304009944,1557902218.3483276,2734.181799441576,1380057188.6566238,504742.29216889822,null,null,null,71151762295747.984,71152067150507.109,71155060228348.172,71155060492540.469,71155061513389.922,71155061777582.203,71155058995862.609,71155060499155.812,71155060280904.359,71155061784197.562,0,0,0,0,0,0,0,0,0,1,null,0,0,0,0,0,0,0,0,1]
[null,137,1428535.7366343173,0.19282178141845951,0.11514120031519175,0.1783397784767094,0.47444448465618605,0.2812289063762391,0.39314541121917634,3.9456564986390719E-2,0.35535674620689939,869.17475548875302,1260.8502825535202,904.45533238689541,593110.77819829341,153.23164154897933,3773.5233687524715,3534.7225461191997,23555.679132029647,2072.527573009877,861.50371045883298,0.8964570051152112,null,40438242.487564124,86175900.314788207,40438510.007180505,191727870.5256038,40441159.817776814,1237297182.0809081,2649.8105963096023,1045569311.5553043,394582.65923287923,40441168.963424273,1237726294.3382485,2658.9562437683344,1045998423.8126447,393386.85104882793,40441185.365860671,1236705699.210516,2675.3586801663041,1044977828.6849122,390593.54412244825,40441194.51150813,1237134811.4678564,2684.5043276250362,1045406940.9422526,389422.70652516233,40441125.152940862,1238145488.824106,2615.1457603573799,1045896408.8093905,399938.09318929154,40441168.963424273,1237624279.3349943,2658.9562437683344,1045896408.8093905,393348.48448920768,40441150.701024719,1237554005.9537141,2640.6938442140818,1045826135.4281104,396042.17570301762,40441194.51150813,1237032796.4646025,2684.5043276250362,1045304925.9389987,389384.70509517606,null,null,null,64701101804202.289,64701424283618.281,64704618411260.828,64704632615184.5,64704659879677.859,64704674083601.539,64704562099216.562,64704632717199.5,64704603567633.594,64704674185616.547,0,0,0,0,0,0,0,0,0,1,null,0,0,0,0,0,0,0,0,1]
[null,138,1442330.0551432683,0.2324898374622234,0.14755985150134521,0.17325174160292914,0.63267803322938865,0.28713811987733839,0.33997971557906775,3.1896919330252571E-2,0.62610424608649828,20.651483473440106,134.57943993249734,1597.8802811965788,24668.333774923049,32.116509154802038,46.043353037775859,7692.1660843794434,3683.5981722682586,5230.9915682268265,33.823662338221801,0.72873359527152803,null,40828545.064963408,3615098.7854290889,40828831.737752259,6541889.1088475836,40831663.894052409,32537408.673419911,2832.156300149858,25995519.564572327,9178.7023065064677,40831664.802660264,32541784.302354787,2833.0649080052972,25999895.193507202,9177.3030402657423,40831666.967573129,32534162.393923368,2835.229820869863,25992273.285075784,9167.607187872065,40831667.876180984,32538538.022858247,2836.1384287253022,25996648.914010663,9166.2129925353511,40831660.664329238,32529707.649890374,2828.9265769794583,25988712.569899991,9186.775217633618,40831664.802660264,32530601.678747576,2833.0649080052972,25988712.569899991,9173.3558579842465,40831663.737849958,32526461.370393831,2832.0000976994634,25984572.261546247,9175.3429961582478,40831667.876180984,32527355.399251033,2836.1384287253022,25985466.290403448,9162.2700878118194,null,null,null,65325668488842.664,65326124238514.508,65330629693075.18,65330631142472.117,65330634613954.617,65330636063351.555,65330624533219.133,65330631153654.742,65330629454098.562,65330636074534.18,0,0,0,0,0,0,0,0,0,1,null,0,0,0,0,0,0,0,0,1]
[null,139,1737027.8862192531,0.17020257913920667,0.20213155387667192,0.19276604313615953,0.49866084769818569,0.277283888000458,0.35838545504550734,4.0810344813833832E-2,0.44399439970016846,267.66037138091053,1676.8749268280933,9412.0385368610114,331937.9080216299,187.09876787689825,4681.1824483022019,9304.383269185244,2391.8692639299552,645.50040393600568,415.24090470397948,0.90839067420771547,null,49171541.930132344,48640438.15653342,49171812.180362232,87418804.4365713,49174482.707191654,468460258.84392959,2670.5268294215202,381041454.40735829,142684.00160199779,49174483.114095822,468457335.21360326,2670.9337335899472,381038530.77703196,142661.1697568722,49174485.41149132,468425143.2446779,2673.2311290875077,381006338.8081066,142526.52330072221,49174485.818395488,468422219.61435151,2673.6380332559347,381003415.17778021,142503.73851609125,49174481.066266336,468472526.34655285,2668.8859041035175,381025518.18423498,142765.75765130806,49174483.114095822,468444322.62080628,2670.9337335899472,381025518.18423498,142656.29783038699,49174483.770566002,468437410.7473011,2671.590203769505,381018606.3107298,142618.65677345576,49174485.818395488,468409207.02155447,2673.6380332559347,380990402.58498317,142498.87151740439,null,null,null,78674418447773.594,78674812069775.141,78678703871247.797,78678704525218.094,78678708233242.859,78678708887213.172,78678701233499.797,78678704538230.688,78678705595494.859,78678708900225.766,0,0,0,0,0,0,0,0,0,1,null,0,0,0,0,0,0,0,0,1]
[null,140,1540718.8679639678,0.2405482153652303,0.24387642856538461,0.21773308946631054,0.54618620695179176,0.22655825596292964,0.28695875465870296,4.548426109200987E-2,0.50184948931209405,541.07477819813698,4081.8542424457987,1319.7798869083201,435220.01302338851,32.89318936143674,1874.9045106204817,17783.980281178247,221.72728784376798,2198.1246308889049,90.326905791209199,0.80878718739697653,null,43613979.893372543,63938435.094892398,43614254.680380672,135084044.70823857,43616952.064087883,834183939.24568546,2697.3837072104216,699099894.53744686,259177.02871440619,43616953.45650316,834157376.8247757,2698.7761224880815,699073332.11653709,259033.46568519389,43616959.788149431,834038417.33698714,2705.1077687591314,698954372.62874854,258383.18927654705,43616961.180564709,834011854.91607726,2706.5001840367913,698927810.20783865,258240.44436803838,43616946.151740648,834249034.24731195,2691.471359975636,699022974.25108564,259717.78286260992,43616953.45650316,834107018.95932424,2698.7761224880815,699022974.25108564,259014.80616577994,43616953.875802197,834103512.33861363,2699.1954215243459,699019467.63037503,258973.27109261698,43616961.180564709,833961497.05062568,2706.5001840367913,698877452.34238708,258221.8381008936,null,null,null,69782303890960.977,69782672404564.367,69786289118601.367,69786291373028.227,69786301622621.758,69786303877048.617,69786279593750.789,69786291423386.094,69786292097771.18,69786303927406.484,0,0,0,0,0,0,0,0,0,1,null,0,0,0,0,0,0,0,0,1]
[null,141,1323042.0874603337,0.17124008333197463,0.19757411303649497,0.22281187253893409,0.40349689099119213,0.30633256674114739,0.37637916822478679,4.0179428023110253E-2,0.62279408372884937,105.73923085218587,570.12260466454472,5705.001308713835,151366.05993408768,91.679090368073119,1543.4339343782103,30887.717724887458,99.904607243578994,1886.9068094845838,2189.4023147895746,0.95439259953782496,null,37451786.086755186,22191846.244238116,37452051.162830353,34489587.200249314,37454670.118530758,144411967.00987867,2618.955700404942,109922379.80962935,41971.836252378453,37454670.770786904,144407801.47631288,2619.6079565510154,109918214.27606356,41959.795549247858,37454682.934600241,144328058.13319892,2631.7717698886991,109838470.9329496,41735.560883227656,37454683.58685638,144323892.5996331,2632.4240260273218,109834305.39938378,41723.637344678988,37454665.630595624,144292279.63456938,2614.4677652716637,109766488.73733512,41984.257826919325,37454670.770786904,144256075.93758443,2619.6079565510154,109766488.73733512,41901.876371552193,37454678.446665101,144208370.75788963,2627.2838347479701,109718783.55764031,41761.298153827149,37454683.58685638,144172167.06090465,2632.4240260273218,109682579.86065534,41666.000148988518,null,null,null,59922835546962.055,59923247370941.359,59927327777682.203,59927328825457.57,59927348367302.25,59927349415077.609,59927320716673.367,59927328977183.109,59927341306293.406,59927349566803.148,0,0,0,0,0,0,0,0,0,1,null,0,0,0,0,0,0,0,0,1]
[null,142,2001457.8608486997,0.1954723903297747,5.2072667978118242E-2,0.22513698540686766,0.48327197136950367,0.25373951792936689,0.47875501170630574,3.787545027050368E-2,0.31465627604108937,267.60000680785731,2095.2402232641339,9156.2131937305858,622985.42320541188,25.704173569442581,1825.7135438038174,14885.842317070179,1679.6832013389064,4706.9661226867775,51.383318397122657,0.66121686862986728,null,56657233.716762915,90378484.134049848,56657527.871740185,132229198.4023335,56660446.775371648,541518329.21506655,2918.9036314636469,409289130.81273305,140220.15882980701,56660453.530400395,541360969.97192967,2925.658660210669,409131771.56959617,139842.61976075353,56660451.928020827,541405619.05194318,2924.0562806427479,409176420.64960968,139934.52292910966,56660458.68304956,541248259.8088063,2930.8113093748689,409019061.4064728,139558.30595375824,56660431.290654771,541730655.35735464,2903.4189145863056,408931603.80141425,140844.85078849911,56660453.530400395,541160802.20374775,2925.658660210669,408931603.80141425,139774.2017423072,56660436.443303943,541617945.19423115,2908.571563757956,409388746.79189765,140752.50954559835,56660458.68304956,541048092.04062414,2930.8113093748689,408818893.63829064,139490.00822079202,null,null,null,90651483568336.531,90651912365585.891,90656173322265.422,90656184287670.656,90656181679214.281,90656192644619.484,90656148334392.281,90656184487838.422,90656156691341.125,90656192844787.25,0,0,0,0,0,0,0,0,0,1,null,0,0,0,0,0,0,0,0,1]
[null,143,1865975.5405529097,0.15064749436949706,0.12261914959299273,0.20770300714450241,0.59713431323783617,0.20141715887901757,0.36061500705860505,3.6151891864764613E-2,0.52148579503235215,331.11164887562444,9122.6515909081663,8328.156971331442,2192622.6256038211,282.23807840810838,2265.4781132967005,1288.1222143413584,9752.030146249208,3825.3422806093108,1437.5956697686483,0.6068487590473266,null,52821717.371517718,317798699.01604426,52822013.133156471,347459220.41490495,52824946.823411271,641071717.00754547,2933.6902548000216,293612496.59264052,100082.99141746134,52824956.962407343,640330619.77449119,2943.8292508721352,292871399.35958624,99486.544361504843,52824976.981592827,638337219.87265694,2963.8484363555908,290877999.45775199,98141.995349607547,52824987.120588891,637596122.63960278,2973.9874324202538,290136902.22469783,97558.213952700593,52824919.696474962,643546226.54555106,2906.5633184909821,292845863.84378994,100753.30614019738,52824956.962407343,640305084.25869489,2943.8292508721352,292845863.84378994,99477.870109834592,52824949.85465651,640811729.41066253,2936.7215000391006,293352508.99575758,99891.157194119965,52824987.120588891,637570587.12380636,2973.9874324202538,290111366.70890141,97549.627663626859,null,null,null,84514429995729.328,84514873553829.938,84519273845741.031,84519290809231.969,84519324833328.641,84519341796819.578,84519227968133.391,84519290834767.484,84519278955721.016,84519341822355.094,0,0,0,0,0,0,0,0,0,1,null,0,0,0,0,0,0,0,0,1]
[null,144,1809679.8681036427,0.15465839915705301,0.1696258155699043,0.20557155001781269,0.45784444422748471,0.27727060072062892,0.25640580453173295,4.7497012294599572E-2,0.59328386292092694,274.37339761447942,291.79743276514108,7803.5757255586068,81109.567043287854,94.450497367504425,3139.8932415314507,2775.3601609022294,2576.7875658732432,956.1843231406425,471.46529677996864,0.98716410935589249,null,51228394.121465407,11838654.58101576,51228653.204129465,56303939.387652293,51231215.672136858,496262355.66780555,2562.4680073931813,439958416.28015327,171693.23285629091,51231218.996436313,496306565.67977953,2565.7923068478703,440002626.29212725,171488.01370937139,51231262.391661793,496151106.19815284,2609.1875323280692,439847166.81050056,168576.29486602801,51231265.715961248,496195316.21012682,2612.5118317827582,439891376.82247454,168378.71180942978,51231191.228187039,496295476.75099444,2538.0240575745702,439941153.54239094,173340.02498101417,51231218.996436313,496245092.93004322,2565.7923068478703,439941153.54239094,171464.05512567301,51231237.947711974,496184227.28134173,2584.7435825094581,439880287.89368945,170183.33689666094,51231265.715961248,496133843.46039051,2612.5118317827582,439829904.07273823,168355.18167686218,null,null,null,81965418755690.078,81965788822667.75,81969448813063.297,81969454087732.406,81969523675552.672,81969528950221.797,81969409669622.516,81969454149205.156,81969484532111.875,81969529011694.547,0,0,0,0,0,0,0,0,0,1,null,0,0,0,0,0,0,0,0,1]
[null,145,1419321.4940820476,0.20962077915537525,0.35593983985828515,0.20694828233368823,0.59516776343211175,0.22557106147932376,0.528692366876228,4.6592556085749526E-2,0.56177377482111424,360.47019853939452,284.19394987874682,475.11473692491006,22104.953111394698,289.95494796402591,851.79179480404889,82734.297531117452,63306.408605077035,2355.1558393522928,1371.2820326355825,0.98238003302085886,null,40177347.434840344,3354683.8589757294,40177601.290688336,52653425.647508882,40180093.102983736,510625648.60109234,2491.8122953996062,457972222.95358348,183790.8191556377,40180112.597490884,512040204.4220975,2511.3068025484681,459386778.77458864,182927.38199426851,40180188.269651711,510544760.32919675,2586.9789633750916,457891334.68168789,176998.47627840849,40180207.76415886,511959316.15020192,2606.4734705239534,459305890.50269306,176217.36637525161,40180065.118003376,508779624.98533612,2463.8273150399327,457511290.83393627,185691.29745463558,40180112.597490884,510164716.48144513,2511.3068025484681,457511290.83393627,182180.56446534328,40180160.284671351,508698736.71344054,2558.9939830154181,456045311.06593168,178212.73285236326,40180207.76415886,510083828.20954955,2606.4734705239534,457430402.56204069,175497.81639254052,null,null,null,64283752541060.688,64284109411675.688,64287638339125.375,64287668115780.992,64287790686682.406,64287820463338.023,64287595409180.414,64287669991268.93,64287747756737.453,64287822338825.961,0,0,0,0,0,0,0,0,0,1,null,0,0,0,0,0,0,0,0,1]
[null,146,1835338.2225567545,0.1760979147668342,0.13500823264434633,0.16848593832391223,0.42691278633011653,0.25528001767368069,0.35976388869639953,4.489777963973407E-2,0.47408364606364617,291.91071328539977,7714.4925321263045,23165.236641142666,722739.54575531953,552.2650409626068,102.95043564815977,7693.6021597503513,4670.2203420661008,2016.0927892056097,275.39527886458802,0.82900849620207151,null,51954630.348617218,104564011.62122975,51954898.495400146,145902856.67801297,51957554.131817751,553299441.8789463,2655.6364176049829,407396585.20093334,153408.26872992981,51957565.562954031,553148020.06566525,2667.0675538852811,407245163.38765228,152693.98137081051,51957621.41904588,551107512.32737815,2722.923645734787,405204655.64936519,148812.34598115945,51957632.850182161,550956090.51409709,2734.3547820150852,405053233.83608413,148134.84939857724,51957503.531766854,554586086.3339572,2605.0363667085767,406879798.44020319,156189.68074303298,51957565.562954031,552782655.11821616,2667.0675538852811,406879798.44020319,152556.99010978421,51957570.818994991,552394156.78238904,2672.3235948458314,406491300.10437608,152111.55598385789,51957632.850182161,550590725.56664813,2734.3547820150852,404687868.88863516,148001.22922980759,null,null,null,83127303993775.922,83127691689783.562,83131533311466.531,83131551752706.391,83131643162961.078,83131661604200.938,83131451064740.641,83131552118071.328,83131560916235.203,83131661969565.891,0,0,0,0,0,0,0,0,0,1,null,0,0,0,0,0,0,0,0,1]
[null,147,1476003.4180318106,0.23312060183946781,0.14744492964365694,0.2246927333581713,0.59094150515974397,0.23507989397403631,0.28453541904683133,3.4411736332206976E-2,0.617050532442047,58.468386490075048,15583.161378018791,4350.8350439791338,796847.17192255775,185.57874085121904,5784.895039487501,33618.860104116342,127887.42497411101,380.97422134085974,1427.8435445076605,0.98822394490653331,null,41782084.698709257,117748384.36023392,41782340.903310739,117879780.36052357,41784869.293085262,107515405.46498361,2528.3897745236754,-10364374.895539954,-4099.1998148278008,41784886.978430912,111416045.66962792,2546.0751201733947,-6463734.6908956468,-2538.7054135525464,41784937.458800308,105129742.86258881,2596.5554895699024,-12750037.497934759,-4910.3658863253086,41784955.144145958,109030383.06723312,2614.2408352196217,-8849397.2932904512,-3385.0734691576399,41784795.446790524,109121771.78859437,2454.5434797853231,-7665947.3727203608,-3123.1662571285283,41784886.978430912,110213832.98780321,2546.0751201733947,-7665947.3727203608,-3010.8881360100204,41784863.61250557,106736109.18619953,2522.7091948315501,-11143671.174324036,-4417.3427508627829,41784955.144145958,107828170.38540839,2614.2408352196217,-10051609.97511518,-3844.9441381596148,null,null,null,66851217769550.453,66851627565516.82,66855683353530.953,66855707749443.789,66855794804337.633,66855819200250.461,66855563593093.047,66855708951656.477,66855675043899.727,66855820402463.148,0,0,0,0,0,0,0,0,0,1,null,0,0,0,0,0,0,0,0,1]
[null,148,1854034.6669403932,0.17112442759487959,0.1241715923623182,0.20193007851355171,0.56890808217877287,0.2416474742796052,0.49274657750756268,3.300573347426821E-2,0.45650654035032756,18.723009550559457,2554.6827829920308,1800.9384761512842,435350.90643965109,161.67158595041403,1627.6935847589923,12947.560265178277,299.83640956155887,1146.1065259196553,4484.5098256889924,0.94725945426184532,null,52484009.409669742,63776621.777291916,52484279.339161336,62248517.699124232,52486956.058192551,41960509.422197551,2676.7190312147141,-20288008.276926681,-7579.4314010312246,52486956.085332304,41959967.452937864,2676.7461709678173,-20288550.246186368,-7579.5570257043619,52486956.113942675,41959442.929146066,2676.7747813388705,-20289074.769978166,-7579.6719662122514,52486956.141082428,41958900.959886387,2676.8019210919738,-20289616.739237845,-7579.7975858299242,52486956.00962393,41960905.082646884,2676.6704625934362,-20289149.306582242,-7579.9952179858583,52486956.085332304,41959368.39254199,2676.7461709678173,-20289149.306582242,-7579.780827423916,52486956.065374054,41959838.589595407,2676.7262127175927,-20288679.109528825,-7579.6616826680947,52486956.141082428,41958301.899490513,2676.8019210919738,-20290215.799633719,-7580.0213828883288,null,null,null,83974351278849.812,83974784694140.438,83979087732598.656,83979087776564.234,83979087822865.359,83979087866830.938,83979087654493.203,83979087777163.297,83979087744759.891,83979087867429.984,0,0,0,0,0,0,0,0,0,1,null,0,0,0,0,0,0,0,0,1]
[null,149,1616633.1759882781,0.13035299841855166,0.16292216565786155,0.20328223974597626,0.58170609829606978,0.22085040192504826,0.44811411978013527,3.4092260324351871E-2,0.47068613465460979,224.95708615473865,216.32066464465737,6814.8117098502735,178240.05190632719,1.3273269582315095,6443.3185778990392,13899.956291489778,74126.968745026403,13156.465166646343,2412.6289061362008,0.90895272535931282,null,45763209.520228252,26098590.593401454,45763482.869941451,58139055.332890525,45766194.370254733,370387005.88330489,2711.5003132820129,312247950.55041438,115156.89266967776,45766194.952658474,370477263.79990059,2712.0827170237899,312338208.46701008,115165.44333491665,45766196.489067182,370377738.87463808,2713.6191257312894,312238683.54174757,115063.56237727459,45766197.071470924,370467996.79123378,2714.2015294730663,312328941.45834327,115072.12639401123,45766193.21399644,370378744.54722559,2710.3440549895167,312320380.09153092,115232.74305952973,45766194.952658474,370459435.42442143,2712.0827170237899,312320380.09153092,115158.86965065281,45766195.332808889,370369477.53855872,2712.4628674387932,312230422.20566821,115109.56553683171,45766197.071470924,370450168.41575456,2714.2015294730663,312311113.08286405,115065.5578414238,null,null,null,73221109133774.609,73221514452851,73225540605401.688,73225541446989.766,73225544004768.609,73225544846356.688,73225538763649.75,73225541464818.141,73225542163016.688,73225544864185.062,0,0,0,0,0,0,0,0,0,1,null,0,0,0,0,0,0,0,0,1]
[null,150,1485767.2943959215,0.16355801586055105,0.20211697409285023,0.19025021056676036,0.55634428897298771,0.28246088136568426,0.47675078142360483,3.5012291220137839E-2,0.66283555393075022,148.71823625313996,2887.0357627096041,8342.0690370550346,6793.1701838301033,10.701640763531771,2174.0906885756726,16983.25097776487,31367.165987997436,245.39061013905908,255.24738613375911,0.79848364399721727,null,42058316.529338785,995185.3174360774,42058597.553537525,21991647.981769141,42061377.722646914,223480153.78509402,2780.1691093891859,201488505.80332488,72473.47117225999,42061377.737735637,223481140.13075563,2780.1841981112957,201489492.14898649,72473.432618553605,42061377.817299433,223480193.71670723,2780.2637619078159,201488545.73493809,72471.018216155411,42061377.832388163,223481180.06236884,2780.2788506373763,201489532.0805997,72470.97967687968,42061377.68900755,223479627.4804408,2780.1354700252414,201488955.6263839,72474.509893057315,42061377.737735637,223480603.60815305,2780.1841981112957,201488955.6263839,72473.239637598264,42061377.783660077,223479667.412054,2780.230122551322,201488019.43028486,72471.705775702547,42061377.832388163,223480643.53976625,2780.2788506373763,201488995.55799711,72470.786702494224,null,null,null,67293305451756.734,67293734094012.055,67297980876081.281,67297980899236.883,67297981027485.375,67297981050641,67297980822784.602,67297980899773.406,67297980974188.711,67297981051177.523,0,0,0,0,0,0,0,0,0,1,null,0,0,0,0,0,0,0,0,1]
[null,151,2239593.5737189921,0.1580537474790045,0.19054947119996679,0.20932890951306282,0.59183476726705408,0.25373634237255327,0.28385153954794301,4.4339056193452575E-2,0.58545435528650513,506.98887479436183,503.79462665726152,58.811290730174534,906681.38836364262,36.132083406607443,8027.0944656908705,14448.445463960894,22.605906278688614,768.4481839048384,326.5471725523584,0.80544216420861514,null,63398902.691124037,132836891.98451732,63399181.797780387,225029619.03840557,63401940.496323481,1134074924.358573,2758.6985430940986,909045305.32016742,329519.62351805257,63401943.036933437,1133971855.104161,2761.2391530498862,908942236.06575549,329179.10607699322,63401959.181602471,1133375895.822376,2777.3838220834732,908346276.78397048,327051.04334573692,63401961.722212434,1133272826.5679641,2779.9244320467114,908243207.52955854,326715.07076214551,63401929.275954671,1134422409.3291841,2747.4781742841005,908833775.76520264,330788.35139500746,63401943.036933437,1133863394.8036082,2761.2391530498862,908833775.76520264,329139.82650193974,63401947.961233668,1133723380.7929873,2766.1634532809258,908693761.75458181,328503.27795227972,63401961.722212434,1133164366.2674112,2779.9244320467114,908134747.22900569,326676.05520499492,null,null,null,101438111468906.47,101438465846829.59,101441970719193.2,101441974887238.39,101442001314668.12,101442005482713.33,101441952419118.14,101441974995698.7,101441983014593.08,101442005591173.62,0,0,0,0,0,0,0,0,0,1,null,0,0,0,0,0,0,0,0,1]
[null,152,1443692.3851769571,0.19548070066109891,0.1688768412689956,0.20581490843753425,0.44321369487698747,0.27699475878120461,0.38429502604788734,2.7204635756313909E-2,0.52387359006021961,133.55691134718805,6605.018669749179,3577.0797603246669,164636.8205438299,28.869673404117066,3064.6086756763948,4811.8857818369406,7629.2199427956757,76.937670800758809,820.02591129611233,0.98039107121038604,null,40867387.353614673,24122790.717051011,40867651.236365132,40127772.588932455,40870261.0963898,197004900.02193356,2609.8600246682763,156877127.4330011,60109.402784136219,40870261.439628199,197012192.0091272,2610.203263066709,156884419.42019475,60104.292121630548,40870263.528276421,196989852.96483061,2612.2919112890959,156862080.37589815,60047.684448286229,40870263.87151482,196997144.95202425,2612.6351496875286,156869372.3630918,60042.586651202859,40870259.630043857,197010094.9175739,2608.3936787247658,156878123.81201839,60143.576137140291,40870261.439628199,197005896.40095085,2610.203263066709,156878123.81201839,60101.880199055231,40870262.061930478,196995047.86047095,2610.8255653455853,156867275.2715385,60083.399424953372,40870263.87151482,196990849.3438479,2612.6351496875286,156863076.75491545,60040.176973687383,null,null,null,65387795642992.758,65388201850411.625,65392220749323.656,65392221291213.109,65392224655389.312,65392225197278.758,65392218397975.258,65392221297508.719,65392222304040.906,65392225203574.367,0,0,0,0,0,0,0,0,0,1,null,0,0,0,0,0,0,0,0,1]
[null,153,1526803.0892870415,0.21357602842678913,0.16874269911156248,0.21797386494800386,0.50268615668091776,0.27874308933224623,0.28102681696307935,4.1422223412092896E-2,0.62077014306981559,4.0533201862856822,5470.2531449523367,1967.7651463587608,811349.18353512953,314.16872056982834,2220.49130107984,32319.937264547025,13224.974041702597,2447.3540664041329,873.34677383928329,0.9048774587165308,null,43220142.708617643,118860628.83509104,43220413.082598619,110842327.5203435,43223079.36722333,19062670.63734607,2666.2846247106791,-91779656.882997423,-34422.30286759296,43223079.368791558,19062683.182194207,2666.2861929386854,-91779644.338149294,-34422.277916457664,43223079.379444882,19062222.983334295,2666.2968462631106,-91780104.537009209,-34422.312979007416,43223079.381013103,19062235.528182432,2666.2984144836664,-91780091.992161065,-34422.288028076728,43223079.358217321,19062834.559430592,2666.2756187021732,-91779819.140367419,-34422.479992913046,43223079.368791558,19062508.379976079,2666.2861929386854,-91779819.140367419,-34422.343476643437,43223079.370438874,19062386.905418817,2666.2878402546048,-91779940.614924684,-34422.367768875469,43223079.381013103,19062060.725964304,2666.2984144836664,-91780266.79437919,-34422.353587961989,null,null,null,69152109473159.391,69152550089830.266,69156907924886.688,69156907927383.312,69156907944888.828,69156907947385.43,69156907910313.148,69156907927558.109,69156907930315.289,69156907947560.234,0,0,0,0,0,0,0,0,0,1,null,0,0,0,0,0,0,0,0,1]
[null,154,1545515.7962763268,0.16726888094231201,0.15676642767858923,0.20602998910746495,0.59010837180220199,0.26171976570653588,0.47403904667225671,3.5252095583383103E-2,0.59637094609899632,1076.5427809587409,533.91111740962867,5898.2485717410937,173075.81227255994,64.938022525995734,15.025987598225665,7819.089231545765,92.652870214867164,1962.5952100520219,1046.6122989326068,0.93046232524113315,null,43749949.81632705,25124469.337158382,43750202.739822328,174547613.67671788,43752708.155201703,1653752831.4639146,2505.4153793752193,1479205217.7871966,590403.18422411417,43752738.346670032,1653513468.4158866,2535.6068477034569,1478965854.7391686,583278.8533753542,43752816.556984961,1652876178.7055993,2613.8171626329422,1478328565.0288815,565582.23970789765,43752846.748453289,1652636815.6575711,2644.0086309611797,1478089201.9808531,559033.42548602854,43752647.959245369,1653816077.7149861,2445.2194230407476,1478541839.6262803,604666.3238866484,43752738.346670032,1653089453.3029983,2535.6068477034569,1478541839.6262803,583111.6290624555,43752756.361028627,1652939424.9566705,2553.6212062984705,1478391811.2799525,578939.35390006949,43752846.748453289,1652212800.544683,2644.0086309611797,1477665186.8679652,558873.0572073767,null,null,null,69999894581653.945,70000149836102.047,70002679295491.266,70002727841203.633,70002853614997.234,70002902160709.609,70002582918714.875,70002728265218.742,70002757238220.852,70002902584724.719,0,0,0,0,0,0,0,0,0,1,null,0,0,0,0,0,0,0,0,1]
[null,155,1918761.3900386975,0.17571695727375453,0.13961824490698177,0.20138384542155785,0.5528941073742718,0.33848681030613981,0.26414241699498675,3.4836639971131747E-2,0.48167979856776511,4.3338558064208881,1725.832697544643,607.62731437871093,783929.86828618613,82.853713699709957,276.37167298718913,10326.327461911784,209.54118176782171,2429.9140189373202,921.04272694471172,0.99189945318132589,null,54316504.255421154,112837182.33151886,54316751.072643235,104934189.61576675,54319194.988178849,23384653.850014675,2443.9155356138945,-81549535.765752077,-33368.393701571767,54319210.743112184,22810246.754607093,2459.6704689487815,-82123942.861159652,-33388.189148873236,54319301.457820661,19416660.890116315,2550.3851774260402,-85517528.72565043,-33531.22088482276,54319317.212753989,18842253.794708725,2566.1401107534766,-86091935.82105802,-33549.195330483919,54319081.80690138,26843703.304745074,2330.7342581450939,-82905249.699283421,-35570.442837727562,54319210.743112184,22028939.916483328,2459.6704689487815,-82905249.699283421,-33705.83610523877,54319188.2765432,22875710.344846714,2437.2038999646902,-82058479.270920038,-33669.107156815597,54319317.212753989,18060946.95658496,2566.1401107534766,-86873242.659181789,-33853.66305414783,null,null,null,86906293971491.516,86906696782039.562,86910688596432.312,86910714378732.75,86910862915852.172,86910888698152.578,86910504047338.891,86910715160039.578,86910678366758.781,86910889479459.422,0,0,0,0,0,0,0,0,0,1,null,0,0,0,0,0,0,0,0,1]
[null,156,1662038.773394146,0.15397074502493749,0.14624741455357071,0.22156723761787056,0.42094909672610936,0.23838198432747496,0.41392400988793587,3.8529332219818128E-2,0.56175960006788395,245.49693382528682,3131.5840241516644,5572.3386974389432,139445.43934085313,47.264412470117485,296.14038793749398,24315.683846106316,18800.325956593031,7200.515206297966,1334.1373897595242,0.86164250981357315,null,47048574.149579741,20428376.447632182,47048851.996836111,57171057.055010617,47051605.10952457,411920416.41134107,2753.112688459456,354749359.35633045,128853.9189998923,47051605.109667823,411920426.07135588,2753.1128317117691,354749369.01634526,128853.91580401633,47051605.110536091,411920410.13540238,2753.1136999800801,354749353.08039176,128853.86937813666,47051605.110679351,411920419.79541713,2753.1138432398438,354749362.74040651,128853.86618191571,47051605.109056875,411920405.71608371,2753.1122207641602,354749355.3423264,128853.93943144873,47051605.109667823,411920412.39733702,2753.1128317117691,354749355.3423264,128853.91083726789,47051605.110068396,411920399.44014496,2753.1132322847843,354749342.38513434,128853.88738287782,47051605.110679351,411920406.12139833,2753.1138432398438,354749349.06638771,128853.86121516912,null,null,null,75277698210951.125,75278106023880.719,75282156254822.906,75282156255042.438,75282156256447.609,75282156256667.172,75282156254085.281,75282156255056.125,75282156255710,75282156256680.844,0,0,0,0,0,0,0,0,0,1,null,0,0,0,0,0,0,0,0,1]
[null,157,1898097.8351384259,0.21277256895992946,0.17342271765168005,0.20766061415712778,0.61146144056208884,0.28741330114261487,0.33264947540059897,3.1994784831574682E-2,0.6047103618762546,162.04324748600132,6973.8790889587981,466.61779426914478,1079387.8014941444,110.45207729411379,3658.0023484681587,727.57666366761021,317.32970489131731,1037.3747599033832,324.30502824481454,0.79870734388140951,null,53731261.328166537,158130671.93035349,53731541.487589903,172857916.52719435,53734307.832539439,319204331.80683911,2766.3449495360255,146346415.27964476,52902.446350441634,53734307.870005868,319202546.58172315,2766.3824159651995,146344630.0545288,52901.084539126779,53734308.003849834,319196330.31678635,2766.5162599310279,146338413.789592,52896.278221491593,53734308.041316263,319194545.09167039,2766.5537263602018,146336628.56447604,52894.916578035467,53734307.690709129,319211124.43182909,2766.2031192258,146344576.90676269,52904.494210722078,53734307.870005868,319202493.43395704,2766.3824159651995,146344576.90676269,52901.065327116972,53734307.862019524,319203122.94177634,2766.3744296208024,146345206.41458198,52901.445606060668,53734308.041316263,319194491.94390422,2766.5537263602018,146336575.41670987,52894.897367215286,null,null,null,85969859994394.516,85970293522227.312,85974573327731.297,85974573389462.812,85974573609829.422,85974573671560.922,85974573094010.172,85974573389515.953,85974573376108.297,85974573671614.078,0,0,0,0,0,0,0,0,0,1,null,0,0,0,0,0,0,0,0,1]
[null,158,2122847.1732645924,0.15329791497115638,0.14993414840789593,0.2015951630700421,0.44989671117255986,0.24749393154643815,0.29876338322996454,4.4457520164369102E-2,0.52657043800169701,878.80184871559266,4360.2648956325675,42.015177734121735,229855.57379450722,215.62632089186289,6110.4132648856776,18771.759333495629,23342.334928287077,5079.3037628109669,1325.1133933268532,0.92217409246960036,null,60094008.475674279,33339468.458833784,60094271.705057867,200752058.34678975,60096878.312685408,1854193541.9559047,2606.6076275408268,1653441483.6091149,634326.95666936063,60096884.49370078,1854853109.3920612,2612.7886429131031,1654101051.0452714,633078.7817575048,60096930.955216907,1853819258.5248213,2659.2501590400934,1653067200.1780314,621629.06884049496,60096937.136232279,1854478825.9609778,2665.4311744123697,1653726767.614188,620434.99134010624,60096846.065383285,1853955504.4680548,2574.3603254184127,1653517348.84886,642302.21873859584,60096884.49370078,1854269407.1956499,2612.7886429131031,1653517348.84886,632855.3797620947,60096898.707914777,1853581221.0369711,2627.0028569102287,1652829162.6901813,629169.15310635406,60096937.136232279,1853895123.7645662,2665.4311744123697,1653143065.4177763,620216.00155638391,null,null,null,96150380221610.391,96150633976034.25,96153151106754.703,96153160336811.859,96153235709088.516,96153244939145.672,96153099749108.781,96153160920514.047,96153184351442.609,96153245522847.875,0,0,0,0,0,0,0,0,0,1,null,0,0,0,0,0,0,0,0,1]
[null,159,1772736.921129568,0.20271669477874277,8.1825358448484556E-2,0.19355944491073293,0.59587879256506937,0.31417688550128775,0.32154617678080449,3.2943439294210564E-2,0.50882608998863743,202.25465683091974,2906.75337835952,3760.5996278996886,357425.79299578845,86.307875444745818,1361.7257634230134,5256.4621366400506,49991.161832743826,3700.3702514956044,355.16499819670247,0.43580619059932557,null,50181941.291922502,52322235.143595025,50182259.686887898,80878143.6183213,50185415.184538268,362025553.79691362,3155.4976503700018,281147410.17859232,89097.645230579088,50185415.952049635,362097975.5449149,3156.2651617377996,281219831.9265936,89098.924683424731,50185416.924819559,362003008.08072305,3157.2379316613078,281124864.46240175,89041.393315098234,50185417.692330934,362075429.82872438,3158.0054430365562,281197286.21040308,89042.685733948572,50185411.75899148,362065636.58649158,3152.0721035823226,281211066.11718822,89214.667963208238,50185415.952049635,362089209.73550951,3156.2651617377996,281211066.11718822,89096.147410617734,50185413.499272771,362043090.87030101,3153.8123848736286,281164947.25197971,89150.815882551557,50185417.692330934,362066664.01931888,3158.0054430365562,281188520.40099758,89039.909991612585,null,null,null,80291053744840.859,80291534620877.016,80296302269707.438,80296303425303.875,80296305076703.219,80296306232299.672,80296296748749.781,80296303434069.688,80296299555745.562,80296306241065.484,0,0,0,0,0,0,0,0,0,1,null,0,0,0,0,0,0,0,0,1]
[null,160,1620002.4012502006,0.18080302935904935,0.25141012386663986,0.17311516627744289,0.46147569897957724,0.25531891225443032,0.3294470776070314,4.6928149075128767E-2,0.42634388002300166,235.42069267789117,78.461926138310631,2325.6248121882322,278271.20993681619,452.56291764744657,2233.7201302334211,13500.824761303156,42598.273847468321,255.65952438017251,1460.8934525292443,0.82877899971938684,null,45858352.562160991,42646406.864727043,45858621.206805535,74505389.757771716,45861271.936888747,386277461.74902767,2650.7300832122564,311772071.99125594,117617.43451956398,45861292.24867221,389204866.4024815,2671.0418666750193,314699476.64470977,117818.99811119608,45861449.234079577,384215834.12747097,2828.0272740423679,309710444.36969924,109514.65964011043,45861469.54586304,387143238.7809248,2848.3390575051308,312637849.02315307,109761.45841885605,45861179.393231623,386431971.59178871,2558.1864260882139,313690768.3782149,122622.32540178364,45861292.24867221,388196158.13598663,2671.0418666750193,313690768.3782149,117441.35211504757,45861356.690422446,384370343.97023201,2735.4836169108748,309864954.21246028,113276.11406511891,45861469.54586304,386134530.51442993,2848.3390575051308,311629140.7566582,109407.31930615562,null,null,null,73373321453050.719,73373719425499.109,73377648821560.25,73377678393009.125,73377934558693.203,73377964130142.078,73377500597199,73377679401717.391,73377786334331.938,73377965138850.344,0,0,0,0,0,0,0,0,0,1,null,0,0,0,0,0,0,0,0,1]
[null,161,1847309.2977934384,0.22621078980313536,0.20412761850676464,0.20094773526049214,0.48979978415448144,0.31903120661114215,0.51626490188409724,3.8775525142200645E-2,0.56792201281631294,54.27426863296494,6799.6375117257694,6659.37541852501,1460591.7583685946,218.40511611181222,8691.3639747929301,5644.5505784387096,473.25822048740321,981.55034798478914,39.313425137918301,0.90717016827935759,null,52293572.594518021,213972811.46144164,52293840.486587234,205662734.52512091,52296482.368104547,122016673.75444567,2641.8815173134208,-83646060.770675242,-31661.548870570281,52296482.368312374,122016659.90076126,2641.8817251399159,-83646074.624359652,-31661.551623750187,52296482.369312629,122016596.09555876,2641.8827253952622,-83646138.429562151,-31661.563787638428,52296482.369520456,122016582.24187434,2641.8829332217574,-83646152.283246577,-31661.566540815908,52296482.367546014,122016708.8719835,2641.8809587806463,-83646077.353248835,-31661.561841096533,52296482.368312374,122016657.17187208,2641.8817251399159,-83646077.353248835,-31661.552656684082,52296482.368754104,122016631.21309657,2641.8821668699384,-83646103.31202434,-31661.557188648942,52296482.369520456,122016579.51298515,2641.8829332217574,-83646155.012135759,-31661.567573749329,null,null,null,83669502178417.359,83669939115805.047,83674249772293.531,83674249772639.891,83674249774304.109,83674249774650.5,83674249771364.75,83674249772642.625,83674249773375.344,83674249774653.219,0,0,0,0,0,0,0,0,0,1,null,0,0,0,0,0,0,0,0,1]
[null,162,1518258.4299759152,0.16905708820495904,0.23823729957628714,0.17779327870989642,0.59091412408976784,0.25488240510571814,0.46653726261986084,5.2128550417768982E-2,0.46094065286763131,1302.1759335483284,1779.4130427607095,5637.7733818682336,624614.6597904989,27.426628837389067,382.14091594925992,20466.747173151482,2.8206245389588003,883.94291824238542,2651.0760748552025,0.8030342380200125,null,42978131.670928836,91599578.668265954,42978409.87906383,264202429.13631892,42981155.931416355,1968230998.0441058,2746.0523525252938,1704028568.9077868,620537.53903881228,42981157.342218436,1968191542.6565557,2747.4631546065211,1703989113.5202367,620204.53692463588,42981161.776905611,1968068402.4615407,2751.8978417813778,1703865973.3252218,619160.32908484107,42981163.187707692,1968028947.0739901,2753.3086438626051,1703826517.9376712,618828.73964590474,42981153.094621442,1968261558.7288675,2743.2155576124787,1703940325.0754738,621147.07695755258,42981157.342218436,1968142754.2117927,2747.4631546065211,1703940325.0754738,620186.77929076878,42981158.940110691,1968098963.1463025,2749.0610468611121,1703896534.0099835,619810.36614501476,42981163.187707692,1967980158.6292272,2753.3086438626051,1703777729.4929082,618811.01971288107,null,null,null,68764919073907.469,68765191604072.992,68767881259268.125,68767883556006.844,68767890774646.516,68767893071385.234,68767876689835.578,68767883604795.289,68767886205213.953,68767893120173.672,0,0,0,0,0,0,0,0,0,1,null,0,0,0,0,0,0,0,0,1]
[null,163,1748939.1486208343,0.13126222282868821,9.8273702590116752E-2,0.19503662519322482,0.53817534215990848,0.22161055445521571,0.48992471662211223,3.1977734650613196E-2,0.5211699071887741,111.40880190130872,1057.2342769634399,6283.1803712961264,203751.11126685521,194.31144838064986,3566.8768299549693,18905.686920522086,1135.75551695629,1279.7691469482691,18.799968277002961,0.96658570161234425,null,49508810.211779937,29848987.647688288,49509081.108171627,45910128.829481594,49511774.625323303,197621036.61244407,2693.5171516761184,151710907.78296247,56324.463235200121,49511774.625323728,197621036.60949984,2693.5171521008015,151710907.78001824,56324.463225226442,49511774.625324368,197621036.60573024,2693.5171527415514,151710907.77624863,56324.463210428126,49511774.625324786,197621036.60278597,2693.5171531587839,151710907.77330437,56324.46320061024,49511774.625322565,197621036.60114083,2693.5171509385109,151710907.7615388,56324.463242670528,49511774.625323728,197621036.59102041,2693.5171521008015,151710907.7615388,56324.46321836573,49511774.625323623,197621036.59442699,2693.5171519964933,151710907.76494539,56324.463221811668,49511774.625324786,197621036.58430657,2693.5171531587839,151710907.75482497,56324.463193749543,null,null,null,79214066489860.266,79214483862945.781,79218641779480.672,79218641779481.359,79218641779482.375,79218641779483.047,79218641779479.516,79218641779481.375,79218641779481.203,79218641779483.078,0,0,0,0,0,0,0,0,0,1,null,0,0,0,0,0,0,0,0,1]
[null,164,1345777.8197583617,0.20439172654421933,0.14191087413287853,0.19835107389148451,0.45584009715491697,0.27228921724259481,0.29076477122196082,5.0386553149818436E-2,0.55511741234234724,223.84216409255373,4586.3446609565435,5737.1056592656114,124768.88593534118,338.85816788520992,4958.7783645388308,15123.024466645173,8764.5206991590712,3095.8393630700598,23.488202164400313,0.96334002970652866,null,38095439.494297467,18278300.018561617,38095705.821179844,45074626.447106265,38098334.964739889,304889269.27734709,2629.1435600444674,259814642.83024082,98821.017908145906,38098334.974779509,304889591.64486068,2629.1535996645689,259814965.19775441,98820.763165340351,38098335.037242912,304889057.21751148,2629.216063067317,259814430.7704052,98818.21217359307,38098335.047282524,304889379.58502513,2629.2261026799679,259814753.13791886,98817.957448805915,38098334.903923355,304888969.77493125,2629.0827435106039,259814306.70133129,98823.176007919115,38098334.974779509,304888933.14843756,2629.1535996645689,259814306.70133129,98820.512705868066,38098334.97642637,304888757.7150957,2629.1552465260029,259814131.26798943,98820.38408013036,38098335.047282524,304888721.08860195,2629.2261026799679,259814094.64149567,98817.706996240217,null,null,null,60952684912575.93,60953084239261.305,60957031054314.539,60957031070055.562,60957031170531.438,60957031186272.453,60957030957307.594,60957031070714.062,60957031073524.477,60957031186930.953,0,0,0,0,0,0,0,0,0,1,null,0,0,0,0,0,0,0,0,1]
[null,165,2019286.7751295695,0.15077269136062874,0.20615731512098612,0.21907006130243012,0.51285116471560732,0.23674376141776324,0.40876715851521273,3.630136016339329E-2,0.57535000293292815,916.68068227128276,1904.1427563884915,202.92307329849771,146880.31476082059,95.192710192692715,1211.8688147400831,9316.6081688808899,2779.038635419688,201.1016784179175,55.995823336308703,0.82816450943177444,null,57162112.965344399,21519977.231937665,57162391.170912318,187928385.52820814,57165143.079181068,1834600290.0944343,2751.9082687497139,1646671904.566226,598374.56185062649,57165143.673169568,1834600730.8665905,2752.5022572502494,1646672345.3383822,598245.5930784262,57165147.219484471,1834574737.1769919,2756.048572152853,1646646351.6487837,597466.37569690088,57165147.813472956,1834575177.9491484,2756.6425606384873,1646646792.4209404,597337.79632262071,57165141.483397901,1834596188.7612207,2750.3124855831265,1646657658.9298897,598716.57041209342,57165143.673169568,1834586044.4580979,2752.5022572502494,1646657658.9298897,598240.25742122415,57165145.623701297,1834570635.8437786,2754.4527889788151,1646642250.3155704,597811.02689585253,57165147.813472956,1834560491.5406559,2756.6425606384873,1646632106.0124478,597332.46867923951,null,null,null,91459359224573.797,91459637945074.172,91462394326399.609,91462395276340.453,91462400976437.984,91462401926378.781,91462391777247.875,91462395291026.859,91462398427286.234,91462401941065.188,0,0,0,0,0,0,0,0,0,1,null,0,0,0,0,0,0,0,0,1]
[null,166,1559644.4932878856,0.17227324501033678,9.5628590085865189E-2,0.20964684463169447,0.56869773117017597,0.2364354880450964,0.42899311594959522,4.7251425323404539E-2,0.58313654420948602,754.93902628319984,223.27757116203725,837.15931895717904,103901.3058686287,76.478547473711458,4027.4626369883895,7781.76187116237,19951.77255571854,4734.0192607590989,360.09905901112307,0.852958187269099,null,44149815.88901791,15220055.663557976,44150095.714764141,121150534.79266454,44152869.657794759,1168603696.4982197,2773.9430306181312,1047453161.7055552,377604.42451197212,44152869.732016824,1168606091.6663814,2774.0172526836395,1047455556.8737168,377595.18469482748,44152869.826349862,1168603453.3333755,2774.1115857213736,1047452918.5407109,377581.39360076742,44152869.90057192,1168605848.5015371,2774.1858077794313,1047455313.7088726,377572.15496221482,44152869.488702163,1168603425.4269443,2773.7739380225539,1047454485.7141547,377627.92106298811,44152869.732016824,1168605020.5068192,2774.0172526836395,1047454485.7141547,377594.79855463275,44152869.657257274,1168603182.2621,2773.9424931332469,1047452647.4694355,377604.31229643407,44152869.90057192,1168604777.341975,2774.1858077794313,1047454242.5493104,377571.76884548139,null,null,null,70639690202373,70640031993087.828,70643422848775.109,70643422965135.25,70643423118706.453,70643423235066.578,70643422578498.047,70643422966206.422,70643422848429.375,70643423236137.734,0,0,0,0,0,0,0,0,0,1,null,0,0,0,0,0,0,0,0,1]
[null,167,1771662.2189485137,0.22726422123083245,0.19736009437858482,0.19298438858595404,0.57919186752253471,0.24489218656833964,0.44298846465608011,3.4734775875269013E-2,0.55514852767047562,205.11622729613964,577.85470405118792,5020.244547836578,146927.87284354682,42.03429764203235,4240.6688764617465,37280.994876866971,51752.772207622831,1101.7679167248659,437.892690893397,0.5453835615935303,null,50151600.378655098,21725603.640426714,50151899.061789475,54479994.81925828,50154845.745206542,365228562.9128567,2946.6834170669317,310748568.09359843,105457.05938200554,50154859.302991502,366006162.20163637,2960.2412020266056,311526167.3823781,105236.7513732005,50154889.881700248,365031581.3209877,2990.8199107721448,310551586.50172943,103834.9334853645,50154903.4394852,365809180.60976738,3004.3776957243681,311329185.7905091,103625.18209131037,50154816.209524378,364788190.12263143,2917.1477349027991,310906833.13503993,106579.04960216199,50154859.302991502,365386827.9542982,2960.2412020266056,310906833.13503993,105027.53387872264,50154860.346018083,364591208.53076243,2961.2842286080122,310111213.71150416,104721.86719384101,50154903.4394852,365189846.3624292,3004.3776957243681,310709851.54317093,103419.03815400862,null,null,null,80242538880244.516,80242984018868.344,80247387963767.562,80247408878624.203,80247458779139.062,80247479693995.703,80247341147048.875,80247409497958.453,80247411962420.406,80247480313329.953,0,0,0,0,0,0,0,0,0,1,null,0,0,0,0,0,0,0,0,1]
[null,168,2213835.0789967235,0.22484736155247842,0.11400483662418653,0.1983993186937795,0.61813558079509623,0.31011939213982676,0.33688400102682181,5.2574672923867527E-2,0.59648234783951004,1507.9175727229049,2321.6317826129671,1584.1529240826721,320803.98681722907,235.46762460933417,1497.6905133031755,33814.00519154458,108.21798656822924,3524.4663287755402,930.07646401160298,0.98467595286044185,null,62669885.213228725,46974974.367756419,62670147.867823549,347172253.86162508,62672740.693860568,3311317553.6344123,2592.8260370194912,2964145299.7727871,1143210.2491458068,62672744.488482878,3311260363.7844691,2596.6206593289971,2964088109.9228439,1141517.5717999584,62672751.753671519,3311160034.0750232,2603.8858479708433,2963987780.213398,1138294.0548346906,62672755.548293822,3311102844.22508,2607.6804702728987,2963930590.3634548,1136615.7104567622,62672725.704335399,3311284623.7473998,2577.8365118503571,2963825954.3487239,1149733.8720760478,62672744.488482878,3310998208.2103491,2596.6206593289971,2963825954.3487239,1141416.6115102149,62672736.764146343,3311127104.1880107,2588.8963227942586,2963954850.3263855,1144871.9766140797,62672755.548293822,3310840688.65096,2607.6804702728987,2963668434.7893348,1136515.1783643113,null,null,null,100271769366191.58,100271889416263.81,100273073792623.27,100273079921208.83,100273091645840.36,100273097774425.89,100273049842312.89,100273080183364.41,100273067695529.97,100273098036581.45,0,0,0,0,0,0,0,0,0,1,null,0,0,0,0,0,0,0,0,1]
[null,169,1245170.5875472175,0.12391645169260132,8.056899303280754E-2,0.16405048985596371,0.52898269812154219,0.27416506478559299,0.41511221173715762,4.248860012790312E-2,0.49790783798174232,302.43033891410408,1799.305151214834,530.64595740233062,1647081.878597029,133.81947962780978,735.85349246244368,29610.686311042107,4281.6680068457263,245.97907069566901,403.34884947959171,0.73796664778365506,null,35247037.753032185,241120814.51823586,35247331.306865171,255259527.58014888,35250251.688087814,383084138.22740555,2920.3812226429582,127824610.64725667,43769.83718980867,35250251.894240431,383072207.03850585,2920.5873752608895,127812679.45835698,43762.66244968609,35250252.319018714,383039096.64327627,2921.0121535435319,127779569.0631274,43744.963165632747,35250252.52517134,383027165.45437658,2921.2183061689138,127767637.8742277,43737.791730393117,35250251.085100889,383107257.32818997,2919.7782357186079,127792267.07039553,43767.799042773411,35250251.894240431,383051794.6505444,2920.5873752608895,127792267.07039553,43755.673311770079,35250251.71603179,383062215.7440607,2920.4091666191816,127802688.16391182,43761.911729602907,35250252.52517134,383006753.06641513,2921.2183061689138,127747225.48626626,43730.804102005895,null,null,null,56395019284036.984,56395474831456.695,56400019616802.273,56400019958577.648,56400020671333.305,56400021013108.688,56400018628904.094,56400019978990.039,56400019683435.125,56400021033521.07,0,0,0,0,0,0,0,0,0,1,null,0,0,0,0,0,0,0,0,1]
[null,170,1757671.8437890671,0.14838831967924862,0.19336261315764558,0.20929197158365787,0.36701639315334306,0.27397659898777904,0.53605696945458303,3.5754817078279336E-2,0.5071908779706028,111.10027358049972,4801.0834393457189,6449.6364254838709,440490.9703423765,362.07994186718793,12624.785484289012,12026.51054696979,783.63822374171332,2459.5775253286215,2142.6146211844352,0.85514691913417584,null,49755918.142190062,64335958.70820605,49756174.328186058,77937090.206942379,49758711.766514041,209040068.94975665,2537.4383279830217,131102978.74281427,51667.454257706595,49758724.275154047,208849321.82790944,2549.9469679892063,130912231.62096706,51339.197741904252,49758877.524564318,206684959.88396594,2703.1963782608509,128747869.67702356,47628.012049888799,49758890.033204317,206494212.76211876,2715.7050182595849,128557122.55517638,47338.397097916342,49758669.061337255,208970996.61543852,2494.7331511974335,129985860.30641028,52104.113918564428,49758724.275154047,207922950.51335266,2549.9469679892063,129985860.30641028,50975.907318147998,49758834.819387533,206615887.54964784,2660.4912014752626,128678797.34270546,48366.556247715489,49758890.033204317,205567841.44756195,2715.7050182595849,127630751.24061957,46997.280773305174,null,null,null,79609404691545.391,79609800988007.484,79613729786353.516,79613749990924.641,79613997354343.016,79614017558914.141,79613661527143,79613750917295.953,79613929095132.5,79614018485285.453,0,0,0,0,0,0,0,0,0,1,null,0,0,0,0,0,0,0,0,1]
[null,171,1516946.7558189223,0.19293508734871034,0.13079184892169113,0.2173275492512049,0.577281611285547,0.26836344748341351,0.52815091140470305,3.0815723450656262E-2,0.51148357593854965,2840.0020950202329,7.6335733389958227,5058.7590629000806,942921.41915464157,199.29717907916566,13077.249980498133,21163.849502051537,14140.518419760716,2086.3585174261998,596.04285145185997,0.96070441041946486,null,42941212.699681453,136410055.89353913,42941458.814521916,517063917.21301961,42943897.120338872,4285354691.5628934,2438.3058169558644,3768290774.3498735,1545454.5316446181,42943946.05114878,4284212842.1447001,2487.2366268634796,3767148924.9316807,1514592.0915784477,42944001.108065054,4281680896.0314312,2542.29354313761,3764616978.8184118,1480795.5552497895,42944050.038874961,4280539046.6132379,2591.2243530452251,3763475129.400218,1452392.620877214,42943815.429798245,4287440582.4102683,2356.6152763292193,3765593960.1238956,1597882.3518403783,42943946.05114878,4282657877.336915,2487.2366268634796,3765593960.1238956,1513966.9139049645,42943919.417524427,4283766786.8788061,2460.6030025109649,3766702869.6657867,1530804.7928991348,42944050.038874961,4278984081.8054523,2591.2243530452251,3761920164.592433,1451792.532040461,null,null,null,68705803909434.438,68705817039317.852,68705950037850.633,68706029468995.898,68706120092008.055,68706199523153.328,68705817247094.781,68706031023960.711,68705987301252.211,68706201078118.133,0,0,0,0,0,0,0,0,0,1,null,0,0,0,0,0,0,0,0,1]
[null,172,1852342.6497139677,0.214763654431541,0.22803949334776574,0.20712137675368902,0.58954960566788484,0.33157438661470351,0.25990699216069535,3.5339471109715768E-2,0.5613864320199371,398.31860770807106,554.56802169873583,245.42074137284689,1208025.2919820074,22.663784151258398,15991.381762660119,10114.441838980025,33928.172184009658,533.60770311408112,82.887776464508079,0.96924723732703022,null,52436107.430943944,178429808.45750046,52436368.08885739,230815074.602649,52438935.380719319,747450766.28197837,2567.2918619289994,516635691.6793294,201237.61514639092,52438938.983556658,747646876.04677713,2570.894699268043,516831801.44412816,201031.88263263946,52438967.410937421,745806029.04039276,2599.3220800310373,514990954.43774378,198125.10284666013,52438971.01377476,746002138.80519152,2602.9249173700809,515187064.20254254,197926.21015095297,52438911.935442962,748673540.78217292,2543.8465855717659,516711825.6264379,203122.24351780221,52438938.983556658,747526900.22908688,2570.894699268043,516711825.6264379,200985.21568135422,52438943.965661071,747028803.54058731,2575.8768036812544,516213728.93793833,200403.11252471528,52438971.01377476,745882162.98750126,2602.9249173700809,515067088.38485229,197880.11745850163,null,null,null,83897593459701.859,83897958127097.219,83901549158384.625,83901554726814.609,83901602051470.828,83901607619900.797,83901510423167.953,83901554846790.422,83901563316254.172,83901607739876.625,0,0,0,0,0,0,0,0,0,1,null,0,0,0,0,0,0,0,0,1]
[null,173,1605292.7291991885,0.20290812238456446,0.22322957473109195,0.20006836985314724,0.64775259807387409,0.25672184661607467,0.52767525210712041,3.4636111047775447E-2,0.50264364897912817,418.61685538517094,3645.3360003990929,5554.5872537435589,708695.34356851678,236.09510423038719,2845.4403023618502,9271.460903890058,52224.367238379666,2838.3481080107194,63.01535996996386,0.90860916544889103,null,45442161.798488595,103867137.98817438,45442429.715919115,156769604.60787636,45445073.874744289,678164153.97147405,2644.158825173974,521394549.36359769,197187.30372760125,45445074.559494473,678181274.86511803,2644.8435753583908,521411670.25724167,197142.72523152432,45445075.709875047,678105948.05070031,2645.9939559325576,521336343.44282395,197028.54659737251,45445076.394625224,678123068.9443444,2646.6787061095238,521353464.33646804,196984.04008502784,45445072.859420933,678190514.36774194,2643.1435018181801,521404631.93599075,197266.86484382104,45445074.559494473,678174236.54386711,2644.8435753583908,521404631.93599075,197140.06408312355,45445074.694551684,678132308.4469682,2644.978632569313,521362703.83909184,197114.14580791676,45445076.394625224,678116030.62309349,2646.6787061095238,521346426.01521713,196981.38078179065,null,null,null,72707355010443.766,72707730775865.969,72711440035436.891,72711441113916.297,72711443029852.031,72711444108331.422,72711438384559.125,72711441120954.609,72711441378974.234,72711444115369.734,0,0,0,0,0,0,0,0,0,1,null,0,0,0,0,0,0,0,0,1]
[null,174,1590187.5252783448,0.21609061183173872,0.14284837113220952,0.18570249875709408,0.43832307345442439,0.24348508891753462,0.40202019923314403,3.875274761473365E-2,0.55744059705738724,80.824227396347425,3856.3271183162306,4677.1026435398844,361050.38183291617,182.25602907376046,3014.0137213635262,9494.3074214051321,6854.8408560932758,930.75718314413177,121.43864785533398,0.61279106619448653,null,45014216.783722647,52896918.366709031,45014515.205285102,60719515.403090306,45017464.792016484,134688970.32615745,2949.5867313817143,73969454.923067153,25077.904689521252,45017465.148360908,134689629.6184352,2949.9430758059025,73970114.215344906,25075.098845809702,45017466.468450442,134666153.81230986,2951.2631653398275,73946638.409219563,25055.928348804118,45017466.824794859,134666813.10458758,2951.6195097565651,73947297.701497287,25053.126751962718,45017463.599596336,134698682.75087634,2948.394311234355,73961697.018849194,25085.415725105264,45017465.148360908,134681212.42193949,2949.9430758059025,73961697.018849194,25072.245503802955,45017465.276030287,134675866.23702872,2950.0707451850176,73956350.83393842,25069.348236698013,45017466.824794859,134658395.90809187,2951.6195097565651,73938880.505001575,25050.27503057116,null,null,null,72022693957037.875,72023163608940.75,72027808978256.047,72027809547747.828,72027811683366.891,72027812252858.672,72027807060671.391,72027809556165.031,72027809765782.219,72027812261275.875,0,0,0,0,0,0,0,0,0,1,null,0,0,0,0,0,0,0,0,1]
[null,175,1650370.9898137916,0.22669470997918562,0.14567023002382803,0.17349586019658342,0.52737702978046364,0.29034885177430292,0.38912553337165778,3.363388584275713E-2,0.42327763081088043,1850.3230686920419,825.20749804098625,1174.0632893760862,725871.7657393004,23.293865020461674,653.0343529507735,7788.5844870590272,5069.3979303853375,2672.2150535863993,2036.2690527798984,0.71195318333902791,null,46718070.254900575,107266568.13417588,46718350.939142331,375792986.52808374,46721125.898152523,3036379870.8095922,2774.9590101912618,2660586884.2815084,958784.2106893427,46721148.846852347,3035897710.1880918,2797.9077100157738,2660104723.660008,950747.84423286468,46721193.572350264,3034276050.5760074,2842.6332079321146,2658483064.0479236,935218.46456646733,46721216.521050096,3033793889.9545069,2865.5819077640772,2658000903.4264231,927560.61036844586,46721045.7411329,3038537116.9075027,2694.8019905686378,2659733193.1053534,986986.50305810245,46721148.846852347,3035526179.6334372,2797.9077100157738,2659733193.1053534,950615.05552317109,46721113.415330656,3036433296.6739182,2762.4761883243918,2660640310.1458344,963136.01593781449,46721216.521050096,3033422359.3998523,2865.5819077640772,2657629372.8717685,927430.95762543834,null,null,null,74748805141272.781,74748985709641.203,74750765057173.219,74750802257253.562,74750875439709.844,74750912639790.203,74750634648695.734,74750802628784.109,74750745031232.375,74750913011320.75,0,0,0,0,0,0,0,0,0,1,null,0,0,0,0,0,0,0,0,1]
[null,176,2112602.7687290944,0.25687076141200682,0.12001297618079897,0.20735619209453204,0.52701501900256209,0.28229065266261455,0.30208021982090327,4.6621027973805851E-2,0.65609715587128059,247.79598086070439,747.12732428468894,4417.0956720324666,438705.82368786458,193.97719120915602,2515.0282954579493,22255.871335970623,1005.6569498108327,13.251147578855086,474.30882631964573,0.96487465838609843,null,59804007.921565846,64273521.645784229,59804272.704761878,107261105.02112179,59806881.447883248,525108422.30967456,2608.7431213706732,417847317.28855276,160171.89038873609,59806881.572342008,525106149.7126019,2608.8675801306963,417845044.6914801,160163.37811616616,59806881.963952102,525098485.53928405,2609.2591902241111,417837380.51816225,160136.40273210034,59806882.088410862,525096212.94221139,2609.3836489841342,417835107.92108959,160127.89383567957,59806880.828649722,525114376.96397197,2608.1238878443837,417838139.90981847,160206.40041572641,59806881.572342008,525099244.93094027,2608.8675801306963,417838139.90981847,160160.73145762578,59806881.344718575,525104440.19358152,2608.6399566978216,417843335.17245972,160176.69824447209,59806882.088410862,525089308.16054976,2609.3836489841342,417828203.13942796,160125.24770058008,null,null,null,95686348400983.719,95686729066513.984,95690485208190.891,95690485409597.5,95690486043837.812,95690486245244.438,95690484211462.594,95690485416502.281,95690485047109.531,95690486252149.219,0,0,0,0,0,0,0,0,0,1,null,0,0,0,0,0,0,0,0,1]
[null,177,1770631.4811877033,0.22900647986647082,0.16913319664926241,0.2413568071266966,0.41934617683136943,0.23137994658185165,0.37245799498265442,3.3340314221816637E-2,0.54278489727779466,1284.6212131721106,1672.4030238496139,13879.58337383081,1965663.4226959837,49.583423028309859,7140.1171118880293,9832.5510200924236,27433.123556348502,1939.1962839961225,2917.8831672025904,0.84779474186645787,null,50122781.774426512,288125232.94600439,50123056.472442888,470904677.68798649,50125765.938196592,2280999945.3227859,2709.4657537043095,1810095267.6347995,668063.53435546672,50125766.470497876,2280993784.7655635,2709.9980549886823,1810089107.0775771,667930.03919153614,50125768.986156315,2280738357.319931,2712.513713426888,1809833679.6319447,667216.41651922511,50125769.518457599,2280732196.7627091,2713.0460147112608,1809827519.0747228,667083.23753489146,50125763.937340416,2281163900.6665583,2707.4648975282907,1810074266.477778,668549.48632214509,50125766.470497876,2280978944.1657643,2709.9980549886823,1810074266.477778,667924.56295151741,50125766.985300139,2280902312.6637044,2710.5128572508693,1809997634.975718,667769.43342430901,50125769.518457599,2280717356.1629105,2713.0460147112608,1809812678.4749241,667077.76744713099,null,null,null,80196162713849.469,80196419451230.938,80198944501169.219,80198945359011.844,80198949639492.797,80198950497335.391,80198941135844,80198945373852.438,80198946274167.562,80198950512176,0,0,0,0,0,0,0,0,0,1,null,0,0,0,0,0,0,0,0,1]
[null,178,1993420.1566890231,0.22888401168047667,0.21286684475852891,0.16920161228785527,0.58104037393044716,0.31470573876088426,0.24988554779529534,3.0895709049780704E-2,0.533168276732222,105.03375795183496,1799.6376506846816,5879.440113201551,133250.23563083098,246.36794510592898,626.91165185259626,2368.3091226993188,3170.7527581352861,1406.1146993627581,815.53373444974511,0.81068747187524515,null,56429730.151788853,20050176.981420718,56430003.205532782,37859393.630920507,56432695.986078747,213721419.90478998,2692.7805459648371,175862026.27386948,65308.710929823363,56432709.386965141,213766483.982214,2706.1814323589206,175907090.3512935,65001.957462238242,56432795.829994686,213148868.74895436,2792.6244619041681,175289475.11803386,62768.724369946845,56432809.23088108,213193932.82637838,2806.0253482982516,175334539.19545788,62485.016146340822,56432608.225681111,214152902.42603463,2605.0201483294368,175813549.91377211,67490.284106446896,56432709.386965141,213672943.54469261,2706.1814323589206,175813549.91377211,64967.391990609882,56432708.069597043,213580351.270199,2704.8640642613173,175720957.6392785,64964.801729238425,56432809.23088108,213100392.38885695,2806.0253482982516,175240998.75793645,62451.680582363057,null,null,null,90287548192685.188,90287967269458.828,90292099856306.094,90292121252660.234,90292260179122.75,90292281575476.906,90291959008187.359,90292121346200.672,90292119331004,90292281669017.344,0,0,0,0,0,0,0,0,0,1,null,0,0,0,0,0,0,0,0,1]
[null,179,1853453.0140946428,0.13384884731495983,0.13309543272589136,0.24039577150934899,0.58847784561657801,0.31566973073232873,0.31049142161479787,3.3905308488394389E-2,0.58598446384841019,70.860381271746803,7445.970105564551,143.42372671226332,93385.140024455512,32.741941414666087,792.48766726465169,52593.834397239654,17.832214449174977,8139.7917241546584,663.73426569444882,0.99972672172295374,null,52467600.190720998,13680629.460905068,52467866.472858064,26920780.569164775,52470508.08251138,137348710.98906383,2641.6096533164382,110427930.41989905,41803.273349361465,52470508.083741561,137348705.57613045,2641.6108834967017,110427925.00696567,41803.251832757502,52470508.090973862,137348677.23640308,2641.6181157976389,110427896.6672383,41803.126654397012,52470508.092204042,137348671.8234697,2641.6193459779024,110427891.25430492,41803.105137930295,52470508.076618426,137348463.87054607,2641.6037603616714,110427651.51466203,41803.261023350067,52470508.083741561,137348432.08382681,2641.6108834967017,110427651.51466203,41803.148300361667,52470508.085080907,137348430.11788532,2641.6122228428721,110427649.54872054,41803.12636117333,52470508.092204042,137348398.33116606,2641.6193459779024,110427617.76200128,41803.001605866128,null,null,null,83948146624524.141,83948559435792.344,83952675583307.219,83952675585280.922,83952675596880.938,83952675598854.641,83952675574125.609,83952675585554.422,83952675587699.328,83952675599128.141,0,0,0,0,0,0,0,0,0,1,null,0,0,0,0,0,0,0,0,1]
[null,180,1678970.5078971903,0.11705366116899479,0.11454225971284475,0.21977910376526932,0.56335427706085028,0.23872550897797709,0.34357880968263055,4.4189916933201068E-2,0.46662140927361762,206.8069454916027,2466.7192498061854,7403.9185007059177,573785.8972517252,42.666903769335569,8316.8393600699546,108660.68127730003,2545.3986388656522,197.15341036503875,156.57080630050501,0.8126473522575175,null,47528066.268305495,78551422.739268735,47528320.36245127,107809126.11958244,47530843.691333227,363236921.72660333,2523.3288819566369,255427795.60702088,101226.51765034978,47530866.390718177,362850604.59016359,2546.0282669067383,255041478.47058114,100172.28865272585,47530936.619232856,361491079.29441273,2616.2567815855145,253681953.17483029,96963.705917693951,47530959.318617798,361104762.15797287,2638.9561665281653,253295636.03839043,95983.267646172564,47530768.431213699,356689371.76465982,2448.0687624290586,246553886.52553281,100713.62794601142,47530866.390718177,354363012.64511526,2546.0282669067383,246553886.52553281,96838.628906928847,47530861.359113321,354943529.33246917,2540.9966620504856,247134403.21288672,97258.846067691746,47530959.318617798,352617170.2129246,2638.9561665281653,244808044.09334216,92766.999012118424,null,null,null,76044827477866.062,76045204770795.906,76048986669211.422,76049023374544.484,76049137099693.266,76049173805026.328,76048872800570.156,76049031862136.438,76049023231051.984,76049182292618.266,0,0,0,0,0,0,0,0,0,1,null,0,0,0,0,0,0,0,0,1]
[null,181,2167933.5319824964,0.17671151366555013,0.16516824173014011,0.19547918321222463,0.5378150254835754,0.25158911323088839,0.23967882046202965,5.7599914001909558E-2,0.53455106144561304,637.03451416613143,9213.4755153343958,3432.8851613947195,137563.59677094247,108.34039258526585,7131.8112882298265,19069.03197213704,466.16490321077725,815.42359402793932,4063.3601800162237,0.74845895564148535,null,61370168.215695575,20152154.98902477,61370454.831370771,144990292.06031424,61373284.137427963,1375561177.5042384,2829.3060571923852,1230570885.4439242,434937.35232909396,61373284.330698915,1375560335.0341606,2829.4993281438947,1230570042.9738464,434907.34588054498,61373285.545026675,1375557661.9001818,2830.7136559039354,1230567369.8398676,434719.83373285027,61373285.738297626,1375556819.4301038,2830.9069268554449,1230566527.3697896,434689.85705464211,61373282.98541335,1375554776.5476451,2828.1540425792336,1230556672.0359225,435109.49315677071,61373284.330698915,1375546964.0962367,2829.4993281438947,1230556672.0359225,434902.62033147312,61373284.393012069,1375551260.9435885,2829.5616412982345,1230560968.8832743,434894.56137759885,61373285.738297626,1375543448.4921799,2830.9069268554449,1230553156.4318657,434685.13385523314,null,null,null,98192248992957.938,98192582739901.172,98195879058707.234,98195879368783.234,98195881314380.781,98195881624456.766,98195877221884.812,98195879382154.172,98195879477558.375,98195881637827.719,0,0,0,0,0,0,0,0,0,1,null,0,0,0,0,0,0,0,0,1]
[null,182,1634891.1888855346,0.14164451703220191,0.22840628527429419,0.18069386939850179,0.53497658542329618,0.19874870339483097,0.30786700151091406,3.1874579557945738E-2,0.43048997435215453,673.81492174984237,950.3541232124303,705.27251198870761,1588888.5417387711,477.6828444145782,6198.4956472758413,43779.569143441979,108729.97010691438,1033.0274446500337,739.88894050304725,0.95063768487090083,null,46280128.878149629,232991233.40511644,46280394.613169119,314712689.01392072,46283023.253240936,1108541042.6507511,2628.6400718167424,793828353.63683033,301992.03084056638,46283025.050377004,1109034253.708432,2630.4372078850865,794321564.69451118,301973.20898344438,46283035.305138126,1107674904.5328526,2640.6919690072536,792962215.51893187,300285.76783116412,46283037.102274194,1108168115.5905337,2642.4891050755978,793455426.57661295,300268.19223306252,46283016.824759066,1108769386.7718172,2622.2115899473429,794068823.47619987,302824.08426550572,46283025.050377004,1108781512.4901206,2630.4372078850865,794068823.47619987,301877.12563366751,46283028.876656249,1107903248.653919,2634.2634871304035,793190559.6399982,301105.24763946404,46283037.102274194,1107915374.3722224,2642.4891050755978,793202685.35830164,300172.54710142285,null,null,null,74047973213806,74048316668381.578,74051728664142.844,74051731046349.5,74051748813316.469,74051751195523.125,74051718150227.734,74051731299090.719,74051738299401.344,74051751448264.344,0,0,0,0,0,0,0,0,0,1,null,0,0,0,0,0,0,0,0,1]
[null,183,1531663.4210507495,0.14654068988736166,0.15635003074775936,0.18744437036217734,0.58664601176951714,0.31522953622196437,0.32417761760406166,3.5857385013180719E-2,0.51937432485141855,1694.3643929570471,3199.93975583262,9828.3146744873284,197757.01679525865,29.460290594165141,1871.9277171520571,8962.3071480355557,1322.1905322171674,4401.6137780818744,1029.3661152445243,0.71064121781849532,null,43357525.509118326,28968794.444370672,43357817.62213517,262739209.4446418,43360712.788317323,2577550540.7216449,2895.1661821529269,2314811331.2770033,799543.5099879636,43360712.854478598,2577550267.0573802,2895.2323434278369,2314811057.6127386,799525.14445597026,43360713.204999469,2577547378.1915359,2895.5828642994165,2314808168.7468944,799427.36133954849,43360713.271160752,2577547104.5272713,2895.6490255817771,2314807895.0826297,799409.00110211107,43360712.490195766,2577551104.0725923,2894.8680605962873,2314809059.7256756,799625.06451809395,43360712.854478598,2577548269.1703172,2895.2323434278369,2314809059.7256756,799524.45439492294,43360712.906877913,2577547941.5424838,2895.2847427427769,2314808732.0978422,799509.87131751503,43360713.271160752,2577545106.6402082,2895.6490255817771,2314805897.1955667,799408.3111403631,null,null,null,69372011845794.875,69372245456206.828,69374562910767,69374563016898.703,69374563580620.953,69374563686752.68,69374562433209.156,69374563018896.586,69374563103063.117,69374563688750.562,0,0,0,0,0,0,0,0,0,1,null,0,0,0,0,0,0,0,0,1]
[null,184,1669613.0908044854,0.21232129411413347,0.34229165087445479,0.2022751759466469,0.53121975203876259,0.30419733308194075,0.32644723079846871,3.3049166182423921E-2,0.58649559616587865,868.27817882842453,864.71293643850265,2121.5959060636665,69954.788065706045,419.11479825603686,476.44451915111017,23272.855084609346,617.94196843207169,539.42975957319391,1398.8669418337049,0.82025208221852519,null,47262950.861270197,10262751.84192084,47263221.841762573,141881757.02069667,47265881.417078972,1438048277.036463,2659.5753163993359,1296166520.0157664,487358.45607507764,47265881.746811844,1438047821.3425996,2659.9050492718816,1296166064.321903,487297.86977798835,47265885.623841621,1438035472.072979,2663.7820790484548,1296153715.0522823,486583.99095292698,47265885.953574486,1438035016.3791156,2664.1118119135499,1296153259.3584189,486523.59618023381,47265879.825140268,1438031327.5053568,2657.9833776950836,1296144098.9202054,487641.91296191595,47265881.746811844,1438025855.940902,2659.9050492718816,1296144098.9202054,487289.61181340285,47265884.031902924,1438018522.5418727,2662.1901403516531,1296136765.5211761,486868.59209461545,47265885.953574486,1438013050.9774182,2664.1118119135499,1296131293.9567215,486515.35125537775,null,null,null,75620711115280.469,75621013065063.094,75623972219049.328,75623972747077.609,75623978962674.516,75623979490702.797,75623969688896.922,75623972769043.016,75623976432522.125,75623979512668.188,0,0,0,0,0,0,0,0,0,1,null,0,0,0,0,0,0,0,0,1]
[null,185,1781829.3578841395,0.2014593365493843,0.15181344486648646,0.17390063796178951,0.71831760051129745,0.24314341917215687,0.35387569541385444,4.6935097606577214E-2,0.54512932998822494,178.35834318403192,3783.4391924550077,1290.4820118581886,888450.78782498802,308.79565222278569,3783.0616472374072,87.031181581420341,23407.712421355744,310.5931374487692,972.07668241087731,0.95434309162780728,null,50439908.072848849,130155649.60275912,50440174.978952669,148039194.69783434,50442812.454853855,325757174.33108419,2637.4759011864662,177717979.63324985,67381.840172758952,50442812.455847807,325757165.07466549,2637.4768951386213,177717970.37683114,67381.811269854021,50442812.457282051,325757077.82369125,2637.4783293828368,177717883.12585691,67381.741546836682,50442812.458276004,325757068.56727254,2637.4793233349919,177717873.8694382,67381.712643995532,50442812.45211044,325757289.16128653,2637.4731577709317,177717970.25640163,67381.906705962654,50442812.455847807,325757164.95423597,2637.4768951386213,177717970.25640163,67381.811224193138,50442812.454538628,325757192.65389365,2637.4755859598517,177717997.95605931,67381.855173223419,50442812.458276004,325757068.44684303,2637.4793233349919,177717873.74900869,67381.712598334692,null,null,null,80703722760908.547,80704131927129.562,80708174170591.844,80708174172191.406,80708174174573.453,80708174176173.047,80708174166087.547,80708174172191.531,80708174170069.156,80708174176173.156,0,0,0,0,0,0,0,0,0,1,null,0,0,0,0,0,0,0,0,1]
[null,186,1602164.5770170977,0.15167419612418104,0.13501270577156305,0.18223905073807498,0.42427593281347398,0.29590716472816769,0.32066630763082249,4.0474510656456464E-2,0.52929096168961931,836.75807889753457,3276.6866997178163,6565.0131186608323,218811.57784512627,25.036081983810984,194.36812775401137,3691.3971045671906,29657.383219160285,6093.1214770916386,646.23115589153292,0.40884727270399684,null,45353062.954093032,32038904.939901337,45353383.991548307,151543080.28048021,45356566.617462434,1335240852.393291,3182.6259141266346,1183697772.1128109,371924.88342998904,45356566.801372468,1335273836.5371306,3182.8098241612315,1183730756.2566504,371913.75597459706,45356568.722452879,1335222848.7548814,3184.730904571712,1183679768.4744012,371673.40159735864,45356568.906362906,1335255832.8987207,3184.9148145988584,1183712752.6182406,371662.29601884336,45356565.329734072,1335247701.0323102,3181.3381857648492,1183726452.5374639,372084.44478934747,45356566.801372468,1335269532.817944,3182.8098241612315,1183726452.5374639,371912.4037985563,45356567.43472451,1335229697.3939002,3183.443176202476,1183686617.11342,371825.89780837169,45356568.906362906,1335251529.1795342,3184.9148145988584,1183708448.8990541,371660.94473648985,null,null,null,72564868687643.906,72565262843397.016,72569171347087.5,72569171608359.422,72569174733075.859,72569174994347.75,72569169279873.484,72569171612663.141,72569172665861.828,72569174998651.484,0,0,0,0,0,0,0,0,0,1,null,0,0,0,0,0,0,0,0,1]
[null,187,1711117.7083006401,0.18140440496662136,7.9254486348887043E-2,0.23103239962130295,0.55928352186014507,0.25645583207798961,0.38350832026489334,3.2118089798474199E-2,0.58288734065985737,796.23614124500489,920.13941383059296,381.16765400708135,238754.71033872454,167.86761072499823,1110.9875523534322,10846.553014781462,22459.070143685032,961.73324911263057,1488.0695737144054,0.83182751067489646,null,48437951.872767203,34961493.220213458,48438233.983857974,155977576.85467854,48441032.526436038,1351814132.0121591,2798.5425780639052,1195836555.1574805,427306.90057422215,48441032.853813797,1351826378.0692041,2798.8699558228254,1195848801.2145255,427261.29476886109,48441033.244295523,1351807162.9498734,2799.2604375481606,1195829586.0951948,427194.82976818259,48441033.571673274,1351819409.0069184,2799.5878152996302,1195841832.1522398,427149.24876334087,48441031.554499216,1351817003.5347805,2797.5706412419677,1195841180.1712317,427457.00950033701,48441032.853813797,1351818757.0259104,2798.8699558228254,1195841180.1712317,427258.57186875714,48441032.272358701,1351810034.4724948,2798.288500726223,1195832457.6178162,427344.23463037104,48441033.571673274,1351811787.9636247,2799.5878152996302,1195834211.1089461,427146.52656143246,null,null,null,77500688034934.312,77501018396595.906,77504300228165.641,77504300739724.016,77504301383709.891,77504301895268.234,77504298670195.219,77504300747345.047,77504299825739.453,77504301902889.266,0,0,0,0,0,0,0,0,0,1,null,0,0,0,0,0,0,0,0,1]
[null,188,1409474.3191950899,0.19529176919321245,0.17211160222957878,0.15946266911962803,0.56989501723309322,0.30429150052627729,0.28282972702390941,3.9156316215225639E-2,0.4764225060963182,551.34063546778998,1949.403770536469,722.94067100529401,1376827.9522068091,141.27035078410287,96.85955265414232,3527.4776604939052,44508.846588038985,759.32409859194206,601.31449557789767,0.94280737605675813,null,39898643.831341617,201741595.59435409,39898911.185127504,255184756.43977922,39901553.411975794,784390254.344437,2642.2268482893705,529205497.90465778,200287.68470325545,39901553.833527677,784423065.82820535,2642.6484001725912,529238309.38842613,200268.15120538231,39901555.768167548,784238008.00827491,2644.5830400437117,529053251.56849569,200051.66922637116,39901556.189719424,784270819.49204314,2645.0045919194818,529086063.05226392,200032.19074500955,39901551.118420087,784533819.64259493,2639.9332925826311,529233548.34884149,200472.31868919515,39901553.833527677,784418304.78862071,2642.6484001725912,529233548.34884149,200266.34958864647,39901553.474611834,784381573.30643284,2642.2894843295217,529196816.86665362,200279.65141788271,39901556.189719424,784266058.4524585,2645.0045919194818,529081302.01267928,200030.39073316866,null,null,null,63837628388550.992,63838002711447.57,63841701068906.93,63841701710578.453,63841704991060.07,63841705632731.586,63841697255652.5,63841701715339.492,63841701177805.633,63841705637492.625,0,0,0,0,0,0,0,0,0,1,null,0,0,0,0,0,0,0,0,1]
[null,189,1854360.0673401502,0.23141515958043835,0.11692937188644786,0.17845379597366287,0.58277454018704877,0.3233295793928711,0.3959161667737201,4.3811192562710044E-2,0.6007354056127685,495.25979100791068,1790.6556265661959,5335.3447284119738,672363.30509328784,307.97697719380739,5735.7598303323466,47391.392009728246,18216.996590393024,3644.4791732887043,421.62299987568616,0.95040081911665042,null,52493224.751478426,98499753.176998958,52493492.028441884,175444397.3399626,52496133.362977669,920025495.31322861,2641.3345357850194,744581097.97326601,281895.79467712989,52496133.566507563,920026396.37564862,2641.5380656793714,744581999.03568602,281874.41578442242,52496133.964421071,920008763.15918064,2641.9359791874886,744564365.81921804,281825.28709427861,52496134.167950965,920009664.22160065,2642.1395090818405,744565266.88163805,281803.91849951138,52496132.665424176,920028473.30758929,2640.6369822919369,744562888.55632246,281963.36472955107,52496133.566507563,920007285.89628506,2641.5380656793714,744562888.55632246,281867.18118136603,52496133.266867585,920011741.15354133,2641.2384257018566,744567343.81357872,281900.84490979824,52496134.167950965,919990553.74223697,2642.1395090818405,744546156.40227437,281796.68554330373,null,null,null,83989061102612.312,83989411801109.672,83992893355268.953,83992893680015.719,83992894334310.562,83992894659057.328,83992892236205.375,83992893699126.203,83992893215246.984,83992894678167.797,0,0,0,0,0,0,0,0,0,1,null,0,0,0,0,0,0,0,0,1]
[null,190,1715175.3583618705,0.20637623874157873,0.20134760038839816,0.1926044265947168,0.52371377177864709,0.25216458713431289,0.30412935038466493,4.0133388575827711E-2,0.69167604580950481,11.278474048375639,391.38889509692876,15424.858837798571,125871.20416536118,25.629203960318996,11694.560661339676,6578.729024898299,1011.999907453114,1159.0920264120425,995.9337043551435,0.48113757998644896,null,48552433.16653607,18467862.715289127,48552741.088474937,19550294.230864331,48555777.750931755,27783608.060757313,3036.662456817925,8233313.8298929818,2711.3035929981343,48555779.210249357,27779683.764358267,3038.1217744201422,8229389.5334939361,2708.7095727308701,48555789.67522043,27763402.907113604,3048.586745493114,8213108.6762492731,2694.0708472183524,48555791.134538025,27759478.610714559,3050.0460630878806,8209184.3798502274,2691.4952135310414,48555771.311233856,27793608.824458927,3030.2227589190006,8206609.748037681,2708.2529572727849,48555779.210249357,27756903.978902012,3038.1217744201422,8206609.748037681,2701.2115897177951,48555783.235522531,27773403.670815215,3042.1470475941896,8223109.4399508834,2703.0611312671213,48555791.134538025,27736698.8252583,3050.0460630878806,8186404.5943939686,2684.0265442109471,null,null,null,77683874598595,77684366191265.672,77689216617882.75,77689218956715.203,77689235716949.781,77689238055782.234,77689206304365.344,77689218979494.984,77689225403432.375,77689238078562.016,0,0,0,0,0,0,0,0,0,1,null,0,0,0,0,0,0,0,0,1]
[null,191,2083166.9242522244,0.15723628772997775,0.13174921897881378,0.16471990249921342,0.46279250919202264,0.3243317317387181,0.29677266689409609,4.0077975174390934E-2,0.5092887676825798,290.50892146035477,1055.7966600600366,894.86752482252962,758389.214103768,310.81363012597376,1672.0961814602472,12650.140363874767,294.88197310776536,1670.3082549758792,412.15478133141067,0.54556792270612975,null,58970231.635490797,111097520.04610878,58970540.046659105,156939944.63014445,58973597.553061076,606583085.14669144,3057.5064019709826,449643140.51654696,147062.04383634005,58973597.567932442,606582648.00662434,3057.5212733373046,449642703.37647986,147061.18557457882,58973597.707501009,606578413.45292854,3057.6608419045806,449638468.82278407,147053.08798823797,58973597.722372383,606577976.31286144,3057.6757132783532,449638031.68271697,147052.22981302612,58973597.435278162,606585568.22875881,3057.3886190578341,449641502.56257045,147067.17352180506,58973597.567932442,606581447.19271493,3057.5212733373046,449641502.56257045,147060.79283359615,58973597.589718096,606580896.53499603,3057.5430589914322,449640951.90485156,147059.56489560317,58973597.722372383,606576775.49895203,3057.6757132783532,449636830.86880755,147051.83709188038,null,null,null,94352259519265.234,94352707134709.938,94357149501812.578,94357149526043.906,94357149753588.156,94357149777819.5,94357149310876.828,94357149527244.719,94357149562652.422,94357149779020.312,0,0,0,0,0,0,0,0,0,1,null,0,0,0,0,0,0,0,0,1]
[null,192,1482680.6344794256,0.20586318841396889,0.19366572189874232,0.18680056070254547,0.52798593961612983,0.26233679414832523,0.32264110256317063,4.3205313821799596E-2,0.66127383388871785,157.48391560528421,3343.2319533319687,2488.3638833977425,24169.969330839238,494.71261970260872,13339.314003404215,872.59808632539205,2530.9029446072259,77.345388392418357,487.59108372309663,0.96354830890995569,null,41971099.325502023,3557898.7209750991,41971360.896545611,24716535.56844065,41973941.290945679,234231610.42517614,2580.3944000676274,209515074.8567355,81194.981221182505,41973946.018204689,234258286.98918983,2585.121659077704,209541751.42074919,81056.824031835917,41973975.602207087,234361466.29383513,2614.7056614756584,209644930.72539449,80179.170380148033,41973980.329466097,234388142.85784879,2619.4329204857349,209671607.28940815,80044.656096987455,41973921.56569735,234243106.51268777,2560.669151738286,209530690.07607424,81826.537385290998,41973946.018204689,234247225.64451489,2585.121659077704,209530690.07607424,81052.54518304902,41973955.876958765,234372962.38134676,2594.9804131537676,209656426.81290612,80793.067165429413,41973980.329466097,234377081.51317388,2619.4329204857349,209660545.94473323,80040.433295713025,null,null,null,67153755362904.516,67154152717937.406,67158071833902.664,67158079370840.508,67158126602065.039,67158134139002.898,67158040262009.242,67158079381901.859,67158095030171.641,67158134150064.242,0,0,0,0,0,0,0,0,0,1,null,0,0,0,0,0,0,0,0,1]
[null,193,1760867.9797489822,0.19820344258033051,0.13290772427650582,0.21648316210618379,0.50583423825539209,0.24449940228960496,0.45115991392101762,4.2563629539855374E-2,0.53025689805564469,516.09773259414078,4184.6693130030289,3132.7752027211973,55846.473264307882,7.9415937333792739,4711.0927949386978,8239.0405663550973,4884.7671157632831,527.55394428999523,1325.2723957209416,0.99521037620176678,null,49846559.273271888,8137329.7858996466,49846811.390417367,90498051.805131286,49849305.593837596,904414081.04047585,2494.2034202292562,813916029.23534453,326323.03469479363,49849328.172248311,904579567.63635099,2516.7818309441209,814081515.83121967,323461.29720979155,49849373.685025975,904449922.54989994,2562.2946086078882,813951870.74476862,317665.21617394889,49849396.263436675,904615409.1457752,2584.8730193078518,814117357.34064388,314954.48761295015,49849252.429598294,904175258.32499838,2441.0391809269786,813700631.13084304,333341.89696285099,49849328.172248311,904198682.93597436,2516.7818309441209,813700631.13084304,323309.95922105783,49849320.520786658,904211099.83442247,2509.1303692907095,813713048.02929115,324300.82469541614,49849396.263436675,904234524.44539845,2584.8730193078518,813736472.64026713,314807.13619664009,null,null,null,{"$f":"cRatio*X200-Y200","v":79754486699905.234},{"$f":"cRatio*Z200-AA200","v":79754807726615.969},{"$f":"cRatio*AB200-AC200","v":79757984536059.109},{"$f":"cRatio*AG200-AH200","v":79758020496029.656},{"$f":"cRatio*AL200-AM200","v":79758093446119.016},{"$f":"cRatio*AQ200-AR200","v":79758129406089.547},{"$f":"cRatio*AV200-AW200","v":79757899712098.938},{"$f":"cRatio*BA200-BB200","v":79758020876914.359},{"$f":"cRatio*BF200-BG200","v":79758008622158.828},{"$f":"cRatio*BK200-BL200","v":79758129786974.234},0,0,0,0,0,0,0,0,0,1,null,0,0,0,0,0,0,0,0,1]
[null,194,1526006.4146269902,0.13625503553030924,0.22223371733896058,0.17358050169548703,0.42887475782039697,0.36361059921315808,0.41307975660195595,4.3490218522401314E-2,0.56207164538457954,423.90397900366764,36.347290628015386,2095.7311230286359,1007855.2480911857,134.90711855054502,547.37323105084545,9807.8424093362664,216.23655401373958,267.69178761766153,2690.2687663052384,0.8985077393993699,null,43197580.596019946,147721090.67116088,43197851.016568519,194310924.16363728,43200526.714304954,652803865.01577938,2675.6977364346385,458492940.8521421,171354.53478504001,43200527.191542253,652782916.7637701,2676.1749737337232,458471992.60013282,171316.14976597953,43200542.942670986,652050625.88257563,2691.9261024668813,457739701.71893835,170041.70407927086,43200543.419908285,652029677.63056624,2692.4033397659659,457718753.46692896,170003.7831280939,43200522.258406319,652952650.10524547,2671.2418377995491,458413054.11506307,171610.46507593017,43200527.191542253,652723978.27870035,2676.1749737337232,458413054.11506307,171294.12636106458,43200538.486772344,652199410.97204161,2687.4702038243413,457888486.80840433,170379.00035387068,43200543.419908285,651970739.14549649,2692.4033397659659,457659814.98185921,169981.89246847419,null,null,null,69115981232541.242,69116367315585.469,69120189939022.914,69120190723550.836,69120216657647.695,69120217442175.625,69120182660800.008,69120190782489.32,69120209379424.781,69120217501114.109,{"$f":"IF(BS201=MAX($BS201:$CB201),1,0)","v":0},{"$f":"IF(BT201=MAX($BS201:$CB201),1,0)","v":0},{"$f":"IF(BU201=MAX($BS201:$CB201),1,0)","v":0},{"$f":"IF(BV201=MAX($BS201:$CB201),1,0)","v":0},{"$f":"IF(BW201=MAX($BS201:$CB201),1,0)","v":0},{"$f":"IF(BX201=MAX($BS201:$CB201),1,0)","v":0},{"$f":"IF(BY201=MAX($BS201:$CB201),1,0)","v":0},{"$f":"IF(BZ201=MAX($BS201:$CB201),1,0)","v":0},{"$f":"IF(CA201=MAX($BS201:$CB201),1,0)","v":0},{"$f":"IF(CB201=MAX($BS201:$CB201),1,0)","v":1},null,{"$f":"IF(BT201=MAX($BT201:$CB201),1,0)","v":0},{"$f":"IF(BU201=MAX($BT201:$CB201),1,0)","v":0},{"$f":"IF(BV201=MAX($BT201:$CB201),1,0)","v":0},{"$f":"IF(BW201=MAX($BT201:$CB201),1,0)","v":0},{"$f":"IF(BX201=MAX($BT201:$CB201),1,0)","v":0},{"$f":"IF(BY201=MAX($BT201:$CB201),1,0)","v":0},{"$f":"IF(BZ201=MAX($BT201:$CB201),1,0)","v":0},{"$f":"IF(CA201=MAX($BT201:$CB201),1,0)","v":0},{"$f":"IF(CB201=MAX($BT201:$CB201),1,0)","v":1}]
[null,195,1207349.3862717184,0.20707377079651468,0.17458192907919601,0.21263763477695086,0.60116397157969959,0.22953755640254825,0.35408573196139448,3.9131166941850593E-2,0.44211934622214261,1398.3361930111896,1411.1631916347305,1266.5058880953543,144065.72416809259,208.19625579476406,10092.49403482317,34291.517475253408,37198.323809428068,7720.7386402274833,1984.1971199896764,0.95578912552560291,null,34176561.116730787,21144933.457453173,34176825.48551672,174102640.40677148,34179435.075554013,1677747402.0395322,2609.5900372937322,1503644761.6327608,576199.6099556355,34179439.412309982,1677997275.098026,2613.9267932623625,1503894634.6912546,575339.23236399808,34179447.360229731,1677739686.6599283,2621.874713011086,1503637046.2531569,573496.90997488901,34179451.696985699,1677989559.7184219,2626.2114689797163,1503886919.3116505,572645.02005084569,34179422.278270118,1677576871.3118215,2596.7927533984184,1503637111.0180221,579036.23962682986,34179439.412309982,1677739751.4247935,2613.9267932623625,1503637111.0180221,575240.71251489734,34179434.562945835,1677569155.9322176,2609.0774291157722,1503466515.5254462,576244.49882078718,34179451.696985699,1677732036.0451896,2626.2114689797163,1503629395.6384182,572546.96104978118,null,null,null,54682476641835.797,54682746674186.344,54685418373484.383,54685425062420.867,54685438036680.914,54685444725617.398,54685398068360.875,54685425319944.547,54685417731557.406,54685444983141.07,0,0,0,0,0,0,0,0,0,1,null,0,0,0,0,0,0,0,0,1]
[null,196,1551787.3255117852,0.1708397892616757,0.27885214156795413,0.21683422676342579,0.49844133980695526,0.23561175555314331,0.41423704571517106,3.3593136463905833E-2,0.48205822359173167,377.30540711799239,779.10153267673752,14.627057028231645,345393.26687829633,381.39264758105037,4229.0984741309558,38057.14942406612,20025.246658272732,39.416416031479258,2842.8547431043157,0.9345307049245074,null,43927434.662477233,51182582.930704929,43927697.682715304,101545741.48221457,43930291.295859605,586732630.26265347,2593.613144300878,485186888.7804389,187069.87580108966,43930297.448329419,586943337.90591455,2599.7656141147017,485397596.42369998,186708.21468995867,43930335.760088071,586078866.96782708,2638.0773727670312,484533125.48561251,183669.03506601648,43930341.912557893,586289574.61108804,2644.2298425883055,484743833.12887347,183321.36840811907,43930274.796683259,586409944.71520281,2577.1139679551125,484808009.92102826,188120.51618567476,43930297.448329419,586353751.40324283,2599.7656141147017,484808009.92102826,186481.43020620724,43930319.260911725,585756181.42037642,2621.5781964212656,484210439.93816185,184701.88705382156,43930341.912557893,585699988.10841644,2644.2298425883055,484154246.62620187,183098.39743442548,null,null,null,70283844277380.641,70284214746603,70287879340745.102,70287888973989.164,70287951137273.945,70287960770518.016,70287853264748.5,70287889563575.664,70287925061277.336,70287961360104.516,0,0,0,0,0,0,0,0,0,1,null,0,0,0,0,0,0,0,0,1]
[null,197,1280602.3416238071,0.15638040305053286,0.14949306676544502,0.19981769372817393,0.63013635385732192,0.3205216813312799,0.32059578118130522,4.1352898373035352E-2,0.5150609900319052,440.32975444038118,2125.4768864232769,2607.9837025948564,580834.56407246937,426.8556256497385,3594.0388382308115,1081.5945570540077,26.101720459954823,537.5206013507302,1054.1627936540665,0.57955634467720218,null,36249940.091298737,84703714.517426699,36250239.387862496,128867349.02587681,36253203.554691069,566532019.26067173,2964.1668285727501,437664670.23479491,147651.83457826191,36253209.20880951,566395545.97431278,2969.8209470137954,437528196.94843596,147324.77302659539,36253231.601467103,565907649.67553353,2992.213604606688,437040300.64965671,146059.19175583174,36253237.255585536,565771176.38917446,2997.8677230402827,436903827.36329764,145738.19385206641,36253179.168254748,567105923.55678236,2939.7803922519088,437511777.55344599,148824.64646221633,36253209.20880951,566379126.57932281,2969.8209470137954,437511777.55344599,147319.24427746102,36253207.215030774,566481553.97164416,2967.8271682783961,437614204.94576734,147452.72555733848,36253237.255585536,565754756.99418449,2997.8677230402827,436887407.96830767,145732.7168275587,null,null,null,57999819442363.461,58000254153230.969,58004559155486.453,58004568338549.242,58004604654697.695,58004613837760.469,58004519563284.039,58004568354968.641,58004565062495.273,58004613854179.867,0,0,0,0,0,0,0,0,0,1,null,0,0,0,0,0,0,0,0,1]
[null,198,1409324.451082082,0.20074035076602703,0.15191568037492506,0.22373656650882257,0.49118046114556313,0.23238124772698204,0.37176235341475372,3.9205210049190531E-2,0.62315763225737364,562.57228049870787,4471.770167643238,11039.727238115998,518584.58178874454,611.89589797102178,2556.5301220715664,15271.492456924234,1206.0634253192695,5839.635631387443,3498.8699067904013,0.91683283763806389,null,39894367.337482505,76117574.774424627,39894625.884108037,143248376.19651794,39897181.220976338,803884442.48355329,2555.336868301034,660636066.28703535,258531.88848884424,39897201.219875403,803459818.56010938,2575.3357673659921,660211442.36359143,256359.36514749844,39897279.247493021,801641392.41705811,2653.3633849844337,658393016.22054017,248135.26106014414,39897299.246392086,801216768.4936142,2673.3622840493917,657968392.29709625,246120.17466650993,39897117.07893642,804696692.72934425,2491.1948283836246,659475359.96419525,264722.51485528582,39897201.219875403,802723736.1607132,2575.3357673659921,659475359.96419525,256073.54517453659,39897215.105453104,802453642.66284919,2589.2213450670242,659205266.46633124,254595.94936610843,39897299.246392086,800480686.09421813,2673.3622840493917,657232309.89770019,245844.83510486956,null,null,null,63830911622397.234,63831258166196.664,63834686069119.656,63834718491982.078,63834845154596.422,63834877577458.844,63834582629605.547,63834719228064.477,63834741715082.305,63834878313541.242,0,0,0,0,0,0,0,0,0,1,null,0,0,0,0,0,0,0,0,1]
[null,199,1968069.0617460241,0.11180535613959497,0.1312597638719401,0.19750851228708655,0.50742400389342479,0.34250429581091835,0.38218512541353855,3.7835484073558141E-2,0.6768044254636284,269.87225602498989,4062.2010222537951,434.16982746365863,1472487.0465590295,95.822296884841265,2902.9855076828658,3846.6223275076331,19344.889460276205,1063.2638036037265,1514.5716827822093,0.86366921215205117,null,55712204.567075856,215078968.85903236,55712483.074400194,244899825.06309858,55715250.168265551,538786243.13006353,2767.0938653573394,293886418.06696498,106207.60710226677,55715250.770397335,538821266.54992676,2767.6959971413016,293921441.48682821,106197.15524769116,55715257.758888453,538286720.74172986,2774.6844882592559,293386895.67863131,105737.02953256946,55715258.361020237,538321744.16159296,2775.2866200432181,293421919.09849441,105726.70836208086,55715247.173418932,538972778.21718884,2764.0990187376738,293906419.24749744,106329.91700193161,55715250.770397335,538806244.31059599,2767.6959971413016,293906419.24749744,106191.72754199433,55715254.764041834,538473255.82885504,2771.6896416395903,293573430.76575649,105918.57989991023,55715258.361020237,538306721.92226219,2775.2866200432181,293406896.85916364,105721.29550157762,null,null,null,89139312228352.516,89139728019215.25,89143861482981.75,89143862411369.188,89143874127500.797,89143875055888.219,89143856504692.078,89143862426391.422,89143869149211.109,89143875070910.453,0,0,0,0,0,0,0,0,0,1,null,0,0,0,0,0,0,0,0,1]
[null,200,1924085.4660236067,0.21272173707496611,0.20072068349461669,0.19718664020337179,0.48777612074572868,0.2530551004388405,0.36049364056483557,3.6908631265571354E-2,0.47327077309979726,59.526851839312137,8366.8982285616203,3511.6196483963913,42585.190939718537,138.17513763115329,4028.4277813974054,9567.5971299506182,21500.682405161624,1544.3863908225903,186.14242582602847,0.98322854263184456,null,54467113.646366283,6341017.2399326544,54467371.376884386,17066078.944663208,54469914.439878993,119984093.41694014,2543.0629946067929,102918014.47227693,40470.100304451975,54469927.328087606,120691436.8304036,2555.9512032195926,103625357.88574038,40542.776307782857,54469982.459296241,119983514.74838924,2611.0824118554592,102917435.80372603,39415.621405297563,54469995.347504847,120690858.1618527,2623.9706204608083,103624779.21718949,39491.592782769585,54469866.927325889,119754096.66836832,2495.5504415035248,103298960.57560121,41393.256917446,54469927.328087606,120365039.52026442,2555.9512032195926,103298960.57560121,40415.075391690239,54469934.946743131,119753517.99981743,2563.5698587447405,102687439.05515422,40056.423157290286,54469995.347504847,120364460.85171352,2623.9706204608083,103298381.90705031,39367.202171230703,null,null,null,87147375493168.812,87147777136936.078,87151743119712.969,87151763033503.344,87151851951359.234,87151871865149.594,87151667329624.75,87151763359900.656,87151776161271.016,87151872191546.891,0,0,0,0,0,0,0,0,0,1,null,0,0,0,0,0,0,0,0,1]
[null,201,1906264.4087392821,0.23532003764516607,0.20579988390205195,0.24909584676142282,0.59700152314544308,0.34451468424230225,0.39977222799406564,3.832327680660462E-2,0.4352071363069579,572.17066479059451,106.09607221517157,8260.1741430450547,748688.91239327495,27.46559768269907,2121.3181545915663,16693.195044205939,11943.980018243336,2642.741492770755,2330.2726074249904,0.81536230619292038,null,53962336.675091788,114257883.95857294,53962606.891202696,205144514.24517828,53965269.156399019,1101472641.4953039,2662.2651963233948,896328127.25012565,336678.75329924328,53965301.476064131,1101115362.2955844,2694.5848614349961,895970848.05040622,332507.93503428897,53965391.026651472,1097499543.346602,2784.1354487761855,892355029.10142374,320514.22982803284,53965423.346316583,1097142264.1468828,2816.4551138877869,891997749.90170455,316709.37892931869,53965154.418468714,1104314036.8820224,2547.5272660180926,894949468.88876987,351301.23269990308,53965301.476064131,1100093983.1339481,2694.5848614349961,894949468.88876987,332128.88623302302,53965276.288721174,1100340938.7333202,2669.397518478334,895196424.48814201,335355.23214183579,53965423.346316583,1096120884.9852459,2816.4551138877869,890976370.74006772,316346.73187110695,null,null,null,86339624422262.906,86339965881410.062,86343329177596.938,86343381246340.312,86343528143099.016,86343580211842.391,86343142755513.062,86343382267719.469,86343341721015.141,86343581233221.547,0,0,0,0,0,0,0,0,0,1,null,0,0,0,0,0,0,0,0,1]
[null,202,1811515.4952920421,0.24532765424897818,0.15411642744572124,0.17164844547126079,0.47315063619089975,0.26829368977100043,0.45952491723790612,3.6649944861821E-2,0.61599369924524727,82.292179850446331,4268.9388528979871,3174.8873183250021,439566.69367217814,14.286786146188867,8925.5515451165702,57404.729325236302,38153.315377539082,1188.4232674150928,712.19514006588906,0.99488948258399112,null,51280354.227871366,64459414.270090036,51280614.926388301,74928846.233628586,51283188.872925907,156364447.95702168,2573.9465376064181,81435601.723393098,31638.420042368962,51283190.138537988,156437864.36064953,2575.2121496871114,81509018.12702094,31651.379921038464,51283194.075515248,156278439.3351213,2579.1491269469261,81349593.101492718,31541.252210487917,51283195.341127321,156351855.73874915,2580.4147390201688,81423009.505120561,31554.233617514674,51283185.434846096,156286244.13234961,2570.5084577947855,81358511.753531232,31650.746569932671,51283190.138537988,156287357.98715982,2575.2121496871114,81358511.753531232,31592.935659074265,51283190.637435436,156200235.5104492,2575.7110471352935,81271389.276820615,31552.991694161763,51283195.341127321,156201349.36525944,2580.4147390201688,81272503.131630853,31495.907189900616,null,null,null,82048502305179.922,82048908953375.047,82052945832233.5,82052947783796.422,82052954242385.062,82052956193947.984,82052940409509.625,82052947934302.797,82052948819661.188,82052956344454.359,0,0,0,0,0,0,0,0,0,1,null,0,0,0,0,0,0,0,0,1]
[null,203,1801878.7730561264,0.15401146724579262,0.18939213730209414,0.22959647902739067,0.46968209099570912,0.29142952677216416,0.37050685436684838,3.500074009498217E-2,0.61005239450420556,104.5312317708763,848.01009279764571,16365.143434684438,186958.59654891765,108.52728984417983,6835.2848515048199,13057.842035827438,3456.4355919079385,2476.6874622037053,477.50680082183987,0.84826180470996049,null,51007385.241733432,27385495.092835806,51007661.2497015,43329929.159521632,51010392.101574153,196386180.59913602,2730.8518726527691,153056251.43961439,56047.071967669355,51010393.133263029,196393350.86950469,2731.8835615292192,153063421.70998305,56028.530595316864,51010403.820633046,196318084.78584674,2742.5709315463901,152988155.6263251,55782.752550382793,51010404.852321923,196325255.05621541,2743.6026204228401,152995325.89669377,55764.38976906734,51010387.482959591,196365221.94528708,2726.2332580909133,153003202.3181839,56122.564664670972,51010393.133263029,196333131.47770554,2731.8835615292192,153003202.3181839,56006.487418716228,51010399.202018492,196297126.13199779,2737.9523169919848,152967196.97247615,55869.196853118156,51010404.852321923,196265035.66441625,2743.6026204228401,152935106.50489461,55742.440747969718,null,null,null,81611789001278.391,81612214669593.25,81616430976338.047,81616432619869.969,81616449794928.094,81616451438460.016,81616423607513.406,81616432680089.359,81616442426103.469,81616451498679.406,0,0,0,0,0,0,0,0,0,1,null,0,0,0,0,0,0,0,0,1]
[null,204,1748508.2113338511,0.21420481207161202,9.8357180948506734E-2,0.17770735756286943,0.65096190816056043,0.32174633078759285,0.35068049323405348,3.9366053054289085E-2,0.61441797832314271,706.91994635344236,3095.3148829695665,9091.7811927006023,120430.74639294579,44.189154697229924,863.16012322849156,10991.39382690718,6146.6815276348661,2216.8661071732577,517.55326019166341,0.94310168741847644,null,49496584.982958645,17642310.938351844,49496854.614920698,129128999.38454196,49499523.500387974,1230433978.2149332,2668.8854672759771,1101304978.8303912,412646.02484214073,49499523.556044541,1230434313.1926777,2668.9411238431931,1101305313.8081357,412637.54526824853,49499523.636396199,1230433300.0275254,2669.0214755013585,1101304300.6429834,412624.74309469934,49499523.692052774,1230433635.0052698,2669.077132076025,1101304635.6207278,412616.26439552387,49499523.296618819,1230433968.9615562,2668.6816981211305,1101304151.7657034,412677.22281794419,49499523.556044541,1230433151.1502454,2668.9411238431931,1101304151.7657034,412637.10987369379,49499523.432627045,1230433290.7741485,2668.8177063465118,1101304291.3896065,412656.24428775284,49499523.692052774,1230432472.9628377,2669.077132076025,1101303473.5782957,412615.82902315562,null,null,null,79194518330422.891,79194838254873.719,79198007166642.547,79198007255358.078,79198007384933.891,79198007473649.438,79198006840621.141,79198007256520.109,79198007058912.484,79198007474811.469,0,0,0,0,0,0,0,0,0,1,null,0,0,0,0,0,0,0,0,1]
[null,205,1551263.7977339032,0.24712697589747457,0.22530482012768105,0.17477531001108917,0.55360157562733603,0.24434743893037916,0.27124246578828332,3.0943149880809671E-2,0.50132527170664032,363.84827435581349,4648.8227992331331,8807.7388349471858,127546.6943763694,113.82068069769763,7845.9918079241725,7037.9631878355667,108785.51439984271,996.7748347613458,62.02173192505596,0.4873355942277916,null,43912107.689655252,18966071.307069011,43912412.269795068,69358283.88560611,43915411.207384773,566543509.12901652,2998.9375897049904,497185225.24341041,165787.11972873006,43915419.663970292,568297884.71372485,3007.3941752240062,498939600.82811874,165904.29180802518,43915457.285188466,566435072.35916996,3045.0153933987021,497076788.47356385,163242.78345231951,43915465.741774,568189447.94387817,3053.4719789326191,498831164.05827206,163365.23390420797,43915370.534758203,566637368.6999718,2958.2649631351233,498823272.81413907,168620.21456167803,43915419.663970292,568181556.69974518,3007.3941752240062,498823272.81413907,165865.61114057625,43915416.612561904,566528931.93012512,3004.3427668362856,497170648.04451901,165483.99654413038,43915465.741774,568073119.92989862,3053.4719789326191,498714836.04429251,163327.13693957814,null,null,null,70259353337377.102,70259790273388.227,70264091388306.5,70264103164467.758,70264165221229.188,70264176997390.453,70264026218244.422,70264103280795.766,70264100051167.117,70264177113718.469,0,0,0,0,0,0,0,0,0,1,null,0,0,0,0,0,0,0,0,1]
[null,206,2024469.1563717423,0.16472127710527601,0.18295392333469651,0.18066329449440813,0.53498077758623275,0.27519575343382763,0.27971082279533416,4.391227587035329E-2,0.60059365247095009,640.56370295182455,4811.1716599460415,13254.856977866988,319313.23390857631,15.53533414796996,5448.6509487745916,8834.669581464048,49091.496751501487,1652.4348062021559,415.54070700710355,0.72021453180190831,null,57308707.029688686,46779776.952176943,57308994.336738877,161418221.62362418,57311835.150970198,1294985565.7093949,2840.8142313212156,1133567344.0857708,399029.02892688179,57311837.076911382,1295302995.206521,2842.7401725053787,1133884773.5828969,398870.35211648472,57311852.831383057,1294777745.6561215,2858.4946441799402,1133359524.0324974,396488.24472702184,57311854.757324241,1295095175.1532474,2860.4205853641033,1133676953.5296233,396332.25943425985,57311824.937702745,1295065736.4162128,2830.6009638682008,1133822824.9297791,400559.04714323854,57311837.076911382,1295241046.5534031,2842.7401725053787,1133822824.9297791,398848.56023634138,57311842.618115604,1294857916.3629391,2848.2813767269254,1133439694.739315,397938.10541351646,57311854.757324241,1295033226.5001297,2860.4205853641033,1133615004.8765056,396310.60225089506,null,null,null,91693884467724.938,91694229520560.578,91697641255986.609,91697644020063.016,91697669752467.234,91697672516543.625,91697624834587.969,91697644082011.672,91697653331068.609,91697672578492.281,0,0,0,0,0,0,0,0,0,1,null,0,0,0,0,0,0,0,0,1]
[null,207,1694655.5418007055,0.2074397278028296,0.22041532186138302,0.16809804080974583,0.52694198937545544,0.26499242022771768,0.3978891604996887,3.8563772551772853E-2,0.51985269134607104,280.94032390092565,314.56032803737514,5597.5242646047236,121002.61783915006,4.4614522170023596,6170.9656959955337,25707.856155777201,28112.143055652188,1934.4340308426558,171.6198887946758,0.82915084475958245,null,47971908.740055174,17727433.425540533,47972184.246411122,60611527.620353974,47974901.852406181,475781272.80331063,2717.6059950590134,415169745.18295664,152770.3964216274,47974901.89281214,475783425.3165254,2717.6464010179043,415171897.6961714,152768.91708232067,47974902.066545211,475780623.23781556,2717.820134088397,415169095.61746156,152758.12052835361,47974902.10695117,475782775.75103033,2717.8605400472879,415171248.13067633,152756.64148810695,47974901.729406223,475779774.75894248,2717.4829951003194,415169727.294321,152777.3046024137,47974901.89281214,475781254.914675,2717.6464010179043,415169727.294321,152768.11844941185,47974901.943545252,475779125.19344741,2717.697134129703,415167597.57309341,152764.48297320807,47974902.10695117,475780605.34917986,2717.8605400472879,415169077.72882587,152755.84291812204,null,null,null,76755036256654.859,76755434182730.172,76759367182577.094,76759367245074.109,76759367525849.109,76759367588346.125,76759366987275.188,76759367247244.5,76759367330547.219,76759367590516.531,0,0,0,0,0,0,0,0,0,1,null,0,0,0,0,0,0,0,0,1]
[null,208,1671882.9268456222,0.17201072228178496,0.24455662862179506,0.24377071386752058,0.5468936071938999,0.17934709810178193,0.32783393391351223,3.5928718407390273E-2,0.58957826842737449,45.86851134470102,3424.2457164721054,9113.6459070375877,337341.90668881073,93.484720747187495,8622.9477472407998,9258.7725617038795,742.2255770083035,3433.0332426550031,428.47708349712838,0.91826664141611303,null,47327309.940992005,49589062.176538341,47327576.339329071,53299785.321598336,47330203.604088023,86718465.326727822,2627.264758951962,33418680.005129486,12719.951383377318,47330206.631670341,86675949.969247445,2630.2923412695527,33376164.647649109,12689.146420712905,47330224.665871292,86446236.428171664,2648.3265422210097,33146451.106573328,12515.99852893336,47330227.69345361,86403721.070691288,2651.3541245386004,33103935.749092951,12485.671168069197,47330194.367550828,86800589.094342873,2618.0282217562199,33313178.445566267,12724.529922454081,47330206.631670341,86612963.767164603,2630.2923412695527,33313178.445566267,12665.199956247878,47330215.429334097,86528360.195786729,2639.0900050252676,33228574.874188393,12590.921420230323,47330227.69345361,86340734.868608445,2651.3541245386004,33040949.547010109,12461.914929134573,null,null,null,75723646316525.031,75724068843141.188,75728239048075.516,75728243934722.578,75728273019157.641,75728277905804.703,75728224187492.234,75728243997708.781,75728258158574.344,75728277968790.906,0,0,0,0,0,0,0,0,0,1,null,0,0,0,0,0,0,0,0,1]
[null,209,1728360.0549266397,0.22845387430922581,0.1246448722307771,0.19640595826813911,0.49839249365738209,0.23009852616232057,0.28578685537009668,4.4901085607607083E-2,0.5568203590872487,2078.4251349234059,1017.9371455077356,1378.793887334979,19572.361583141545,390.11473370599316,13554.105103587501,7944.3191769123723,112.992444212723,3014.3589009866928,252.95062895207198,0.70806571306275135,null,48925938.309258401,2869344.2703155954,48926224.993591599,328813268.76872587,48929054.940282926,3558258183.9039807,2829.946691326797,3229444915.1352549,1141168.109290835,48929061.610115461,3558254384.8868418,2836.6165238618851,3229441116.1181159,1138483.5027758435,48929081.367581278,3558459757.0141211,2856.3739896789193,3229646488.2453952,1130680.5411039451,48929088.037413821,3558455957.9969816,2863.043822221458,3229642689.2282557,1128045.1469731089,48929023.975994505,3558153185.1580033,2798.9824029058218,3229309810.6136508,1153744.2347837114,48929061.610115461,3558123079.3823767,2836.6165238618851,3229309810.6136508,1138437.2132956262,48929050.403292857,3558354758.2681437,2825.4097012579441,3229541489.4994178,1143034.7563617213,48929088.037413821,3558324652.492517,2863.043822221458,3229511383.7237911,1127999.284767492,null,null,null,78281498425469.172,78281631176477.797,78282929646268.781,78282940321799.844,78282971728373.031,78282982403904.109,78282880208406.047,78282940453105.359,78282922290510.312,78282982535209.609,0,0,0,0,0,0,0,0,0,1,null,0,0,0,0,0,0,0,0,1]
[null,210,1624284.9911403744,0.16838184678150703,0.20973094770250567,0.23961104345965112,0.54557678367406681,0.24849021870342439,0.23678159531202506,3.3890275132367823E-2,0.62306596559972904,190.06005852837689,167.1505407415693,5112.3950624299896,894704.26469721331,175.53007011391335,941.76059319751153,4411.0888993998024,1257.7640753957073,999.32495066809633,53.208646715832508,0.73186499915169212,null,45979635.191512853,131071770.40737557,45979922.077509955,148228530.77685609,45982754.731678843,317112544.64257014,2832.6541688889265,168884013.86571404,59620.413857988424,45982754.731783003,317112541.04975432,2832.6542730480433,168884010.27289823,59620.410397338266,45982754.732827991,317112500.02957314,2832.6553180366755,168883969.25271705,59620.373921727689,45982754.732932158,317112496.43675733,2832.6554222032428,168883965.65990123,59620.370460923579,45982754.731062278,317112567.0768261,2832.6535523235798,168884008.57604787,59620.424967788611,45982754.731783003,317112539.35290396,2832.6542730480433,168884008.57604787,59620.409798306333,45982754.732211426,317112522.46382916,2832.6547014713287,168883991.68697307,59620.394818772606,45982754.732932158,317112494.73990697,2832.6554222032428,168883963.96305087,59620.369861891893,null,null,null,73567285234650.156,73567727095485.141,73572090458141.516,73572090458311.75,73572090460024.75,73572090460195.016,73572090457132.562,73572090458313.438,73572090459015.812,73572090460196.719,0,0,0,0,0,0,0,0,0,1,null,0,0,0,0,0,0,0,0,1]
[null,211,1626391.7410290868,0.25117584451225283,0.2028433746899555,0.17219834845953749,0.56589289389619946,0.28128783723421702,0.31524978204008808,3.4413274125144451E-2,0.54377942183687566,735.34282469707682,1520.19478759003,3527.5869196327767,464941.11591293418,2.5936108678501539,2395.2405198579013,12252.194703907582,2047.7970020355101,1312.5697312158861,572.80785954416308,0.92676260897702911,null,46039488.668272175,68124010.456705302,46039754.102523483,171485258.44142425,46042368.164899454,1192078211.2562702,2614.0623759701848,1020592952.8148459,390424.10089241364,46042368.268938512,1192076393.4321277,2614.1664150282741,1020591134.9907035,390407.86735058145,46042368.674118608,1192067669.1131105,2614.5715951249003,1020582410.6716863,390344.02904653765,46042368.778157674,1192065851.2889678,2614.6756341904402,1020580592.8475436,390327.80185123702,46042367.715569444,1192085327.285974,2613.6130459606647,1020588492.9826292,390489.51586767874,46042368.268938512,1192073751.4240534,2614.1664150282741,1020588492.9826292,390406.85670028045,46042368.224788606,1192074785.1428142,2614.1222651228309,1020589526.7013899,390413.84571713407,46042368.778157674,1192063209.2808938,2614.6756341904402,1020577950.8394696,390326.79139776452,null,null,null,73663113745225.031,73663435078779.141,73666596985627.875,73666597153908.188,73666597810920.656,73666597979201,73666596259583.828,73666597156550.203,73666597084876.625,73666597981843,0,0,0,0,0,0,0,0,0,1,null,0,0,0,0,0,0,0,0,1]
[null,212,1693724.3340902508,0.14182352765628048,0.16196860424496429,0.24064827001143962,0.45965262342783469,0.22008773864032694,0.37853621182023611,4.342769694045201E-2,0.48122976655110539,24.313790161152991,5728.9834906856449,1427.9317435631499,992871.97356259939,169.40956207073589,692.19907116208867,23317.316000469469,6961.8160877626597,2820.418606048695,86.693808202969919,0.82895007616866201,null,47945546.497452721,145452796.87963367,47945827.267217562,137824518.65249464,47948607.678378254,53100266.059079401,2780.4111606925726,-84724252.593415231,-30471.843082485422,47948607.680035904,53100232.2461766,2780.4128183424473,-84724286.406318039,-30471.837076634798,47948607.688424304,53099819.521584518,2780.4212067425251,-84724699.130910128,-30471.893584127694,47948607.690081954,53099785.708681718,2780.4228643923998,-84724732.943812922,-30471.887578268655,47948607.673156627,53100364.493322149,2780.4059390649199,-84724422.16322197,-30471.961296311896,47948607.680035904,53100096.489272669,2780.4128183424473,-84724422.16322197,-30471.885902802998,47948607.683202684,53099917.955827266,2780.415985122323,-84724600.696667373,-30471.915407629178,47948607.690081954,53099649.951777786,2780.4228643923998,-84724868.700716853,-30471.936404260439,null,null,null,76712728943127.484,76713185803029.438,76717719185139.141,76717719187825.203,76717719201659.375,76717719204345.422,76717719176686.109,76717719187960.969,76717719193206.344,76717719204481.172,0,0,0,0,0,0,0,0,0,1,null,0,0,0,0,0,0,0,0,1]
[null,213,1777781.6217737508,0.15740784952064582,0.21037952922042835,0.1984221048273109,0.44544530029158036,0.2636153198298144,0.40489681220456109,4.3087838808665069E-2,0.52104504102125171,779.0658395871327,857.94179915054337,4804.8727539106812,347617.03716233425,447.59966911068796,3102.5717696001584,13321.850780268034,59.427684703770758,6292.4146949957149,706.34362862104058,0.78014661401530838,null,50325075.125061639,51741184.50999748,50325332.23745662,174299161.97256422,50327875.420882978,1385973807.8311477,2543.1834263578057,1211674645.8585835,476440.13141194102,50327903.323836274,1385549093.339097,2571.0863796547055,1211249931.3665328,471104.33198638877,50328139.353268258,1382228305.6542447,2807.1158116385341,1207929143.6816804,430309.69319951331,50328167.256221555,1381803591.162194,2835.0187649354339,1207504429.1896298,425924.6690443441,50327774.953062601,1386100400.6828496,2442.715605981648,1209824393.3511064,495278.44763775409,50327903.323836274,1384123555.3236706,2571.0863796547055,1209824393.3511064,470549.88230834343,50328038.885447882,1382354898.5059464,2706.6479912623763,1208055736.5333822,446329.09060699353,50328167.256221555,1380378053.1467676,2835.0187649354339,1206078891.1742034,425421.83709379123,null,null,null,80520068458914.109,80520357280768.625,80523214699604.938,80523259769044.703,80523640736923.562,80523685806363.328,80523053824499.469,80523261194582.719,80523479861818.109,80523687231901.344,0,0,0,0,0,0,0,0,0,1,null,0,0,0,0,0,0,0,0,1]
[null,214,1640831.0258264756,0.19970865518841774,0.19929423662840329,0.17964680083502133,0.47223442176251756,0.27891076322442687,0.26618036330206152,3.9248853802278272E-2,0.49165167129964826,756.59481092332669,3594.1839324456087,265.62049649739464,104045.21337490434,81.288961010373143,4295.9213656626152,11038.488613327341,1453.617245066135,494.38334219559977,102.1002748302685,0.97528700226791898,null,46448313.472065024,15243062.43809044,46448576.715826936,127063406.63370666,46451174.126850598,1231695347.0466151,2597.4110236614943,1104631940.4129086,425281.91739778686,46451174.153985135,1231695395.2635493,2597.4381581991911,1104631988.6298428,425277.4931880135,46451174.385562718,1231694607.0712419,2597.6697357818484,1104631200.4375353,425239.27704191487,46451174.412697256,1231694655.2881763,2597.6968703195453,1104631248.6544697,425234.85371816612,46451173.944121227,1231694865.5948384,2597.2282942906022,1104630603.9003887,425311.32374025811,46451174.153985135,1231694010.5340953,2597.4381581991911,1104630603.9003887,425276.96007447247,46451174.202833347,1231694125.6194654,2597.4870064109564,1104630718.9857588,425269.00664348953,46451174.412697256,1231693270.5587223,2597.6968703195453,1104629863.9250157,425234.32065771939,null,null,null,74317286312241.594,74317595681916.453,74320646907613.906,74320646950980.953,74320647322293.266,74320647365660.328,74320646615728.375,74320646952365.688,74320647030407.734,74320647367045.047,0,0,0,0,0,0,0,0,0,1,null,0,0,0,0,0,0,0,0,1]
[null,215,1757936.0479967773,0.18548430113273395,0.11867788393319499,0.21420930824347084,0.58947805929686425,0.31128493815266545,0.3885716372495438,4.4128224041123931E-2,0.49363895993598306,1273.2320295863869,2286.457920128662,3877.6169521094416,132447.52141075445,83.639838130160896,3206.4336071843377,3013.070328342646,526.57733126528478,2402.7295248549872,993.6972041407472,0.6205659913660323,null,49763132.693884037,19399874.01716157,49763432.849999532,221110392.60781646,49766403.788442641,2220354729.0922775,2970.9384431093931,1999244336.4844611,672933.61164092179,49766404.049731508,2220353557.8804908,2971.1997319757938,1999243165.2726743,672874.03931717982,49766404.551883653,2220352224.5193887,2971.7018841207027,1999241831.9115722,672759.88974349224,49766404.813172527,2220351053.307601,2971.963172994554,1999240660.6997845,672700.347994335,49766402.91724509,2220357942.5109501,2970.0672455579042,1999241507.7588432,673130.04806505691,49766404.049731508,2220351900.3666596,2971.1997319757938,1999241507.7588432,672873.48145706241,49766403.680686094,2220355437.9380612,2970.8306865617633,1999245045.3302448,672958.25856842566,49766404.813172527,2220349395.7937703,2971.963172994554,1999239003.1859539,672699.79027752148,null,null,null,79620992910340.438,79621271449606.641,79624025706779.125,79624026126012.531,79624026930789.328,79624027350022.734,79624024309649.625,79624026127670.047,79624025533659.812,79624027351680.25,0,0,0,0,0,0,0,0,0,1,null,0,0,0,0,0,0,0,0,1]
[null,216,1988394.6518394749,0.1934459583274627,7.4399769757085191E-2,0.19219700693969338,0.49218941295459101,0.26280650912342624,0.41208742165478252,3.9142822767071039E-2,0.4653075390553954,1084.0053543662257,9012.203791810025,215.26093728826555,140950.16638797632,12.025759753101234,780.48904086799769,3345.3308993511814,9301.3405608070771,1051.3945126495526,648.97029170928897,0.57315135740316014,null,56287289.122916125,20648790.480210736,56287595.669802427,214807735.38129345,56290635.642494924,2138996394.4568167,3039.9726924970746,1924188659.0755231,632962.48148037423,56290635.643542849,2138996410.4845519,3039.9737404212356,1924188675.1032584,632962.26856111991,56290635.644478872,2138996384.6860793,3039.9746764451265,1924188649.3047857,632962.06518236059,56290635.645526797,2138996400.7138147,3039.9757243692875,1924188665.3325212,632961.85226338881,56290635.63928701,2138996405.2895114,3039.9694845825434,1924188667.1290972,632963.15206049907,56290635.643542849,2138996402.5103908,3039.9737404212356,1924188667.1290972,632962.26593801798,56290635.64127095,2138996395.518774,3039.9714685231447,1924188660.1374805,632962.73667735269,56290635.645526797,2138996392.7396533,3039.9757243692875,1924188657.3583598,632961.84964028839,null,null,null,90059641947875.312,90059938263948.516,90062878031597.422,90062878033258.078,90062878034781.516,90062878036442.156,90062878026453.922,90062878033266.047,90062878029638,90062878036450.141,0,0,0,0,0,0,0,0,0,1,null,0,0,0,0,0,0,0,0,1]
[null,217,1297778.1465886147,0.21671100599252924,0.13946216525193283,0.15695704993804194,0.6333810745818822,0.29761235762805427,0.41698415489296403,3.9953427379535111E-2,0.53093052107261474,56.585136235194689,84.541816051568048,224.41348552020753,1438360.3716750694,163.12535801976196,911.59072686170009,15268.463298593386,351.67439288912703,2853.6193141730573,187.2215048153009,0.94424327981703504,null,36736563.391080581,210716390.88684079,36736831.129581861,199958990.36980528,36739478.848385818,87723203.313446715,2647.7188039571047,-112235787.05635856,-42389.617390116509,36739478.870844021,87721697.481957033,2647.7412621602416,-112237292.88784824,-42389.826563444491,36739478.90319185,87719530.403968856,2647.7736099883914,-112239459.96583642,-42390.127140185716,36739478.925650045,87718024.572479159,2647.7960681840777,-112240965.79732612,-42390.336304979741,36739478.789153241,87726676.044099599,2647.6595713794231,-112237823.98870851,-42391.33505000906,36739478.870844021,87721166.381096765,2647.7412621602416,-112237823.98870851,-42390.027149834044,36739478.843959272,87723003.134621739,2647.7143774107099,-112235987.23518354,-42389.763863027751,36739478.925650045,87717493.471618891,2647.7960681840777,-112241496.89818639,-42390.536887217415,null,null,null,58778290709338.039,58778729848340.609,58783078434214,58783078471652.953,58783078525576.555,58783078563015.5,58783078335969.141,58783078472184.055,58783078427331.703,58783078563546.602,0,0,0,0,0,0,0,0,0,1,null,0,0,0,0,0,0,0,0,1]
[null,218,1331525.0270954289,0.22716884694172534,7.5647811024125267E-2,0.21230347055993914,0.48543173973494741,0.26804371739413374,0.32366942481559108,4.3641229466522713E-2,0.63999602646979026,33.166380060387574,514.46362897024494,10003.456930451017,117156.58478987694,207.50983171328835,3491.84132990234,2388.3541377635402,1291.0387585553326,10000.582291889148,499.58152090441826,0.98284577437819132,null,37691986.227041252,17065900.597826332,37692248.00916753,20468720.971276853,37694836.577639848,53351655.764438771,2588.5684723183513,32882934.793161917,12703.135012577661,37694842.48457174,53341416.944022156,2594.4754042103887,32872695.972745303,12670.26695238604,37694854.469254889,53313273.697073318,2606.4600873589516,32844552.725796465,12601.210693802288,37694860.376186781,53303034.876656704,2612.367019250989,32834313.90537985,12568.798206154823,37694809.01556766,53463436.287250794,2561.0064001306891,32830649.627261933,12819.432870447559,37694842.48457174,53299370.598538786,2594.4754042103887,32830649.627261933,12654.06084558883,37694826.907182693,53425054.219885349,2578.8980151638389,32956333.248608496,12779.23091755715,37694860.376186781,53260988.531173334,2612.367019250989,32792267.55989648,12552.703091963929,null,null,null,60307160897365.398,60307576345947.078,60311685172567.992,60311694633897.836,60311713837534.125,60311723298863.977,60311640961471.969,60311694675944.18,60311669626438.094,60311723340910.32,0,0,0,0,0,0,0,0,0,1,null,0,0,0,0,0,0,0,0,1]
[null,219,1877104.3412226855,0.15834425530541749,0.23615596640884873,0.24418287990956966,0.52873105872784032,0.26960167679887487,0.32777693925724272,4.2805383256644514E-2,0.46841379647574227,2060.0454563219191,1029.3790676187239,504.27869501404092,943224.86715389765,504.85822190146314,2660.7834636139373,1543.1185964455212,85.229484543194687,710.86864392772804,460.11583856417838,0.8396256496105583,null,53136986.893995173,138183909.74078488,53137262.828857668,477143358.17990822,53139985.189013191,3838669067.6526589,2722.3601555228233,3361525709.4727507,1234783.6132751424,53139985.214085765,3838668002.7253151,2722.3852280974388,3361524644.5454068,1234771.8500128051,53139985.395232931,3838660474.350657,2722.5663752630353,3361517116.1707487,1234686.9287423645,53139985.420305513,3838659409.4233131,2722.5914478451014,3361516051.2434049,1234675.1672580198,53139985.084094658,3838673423.6650319,2722.2552369907498,3361524514.1283603,1234830.7640117812,53139985.214085765,3838667872.3082685,2722.3852280974388,3361524514.1283603,1234771.8021073709,53139985.290314406,3838664830.363029,2722.4614567384124,3361521472.1831207,1234736.1112727453,53139985.420305513,3838659279.0062661,2722.5914478451014,3361515920.8263578,1234675.1193562138,null,null,null,85019040846482.547,85019143382814.078,85020137633353.453,85020137674534.5,85020137971898.344,85020138013079.406,85020137461127.781,85020137674664.906,85020137799672.688,85020138013209.828,0,0,0,0,0,0,0,0,0,1,null,0,0,0,0,0,0,0,0,1]
[null,220,1662520.9238925269,0.23999620155509549,0.17462529328000997,0.20666584252011755,0.52609707815429851,0.2955757178983115,0.26620993053950143,3.5531364360817511E-2,0.51586577678322199,432.40975196900507,1885.7219203811387,3321.2334414763286,387275.05831437727,153.9086852459865,127.6849091178256,22761.835122395903,13974.100179674262,2623.479923744183,500.53186558952342,0.97560416256894122,null,47062335.760992512,56959631.542037591,47062597.476029739,118458350.53539237,47065176.508490831,719807275.80031681,2579.032461091876,601348925.26492441,233168.42045886209,47065179.01732666,719874217.49085224,2581.5412969216704,601415866.95545983,232967.74979839034,47065191.853823788,719525928.36855054,2594.3777940496802,601067577.83315814,231680.82120180535,47065194.362659626,719592870.05908585,2596.8866298869252,601134519.52369344,231482.7734893719,47065160.726036593,719913462.51268339,2563.2500068545341,601231628.93856347,234558.32530216538,47065179.01732666,719689979.47395587,2581.5412969216704,601231628.93856347,232896.38234937217,47065176.071369566,719632115.08091712,2578.5953398272395,601173764.54552472,233140.01823403672,47065194.362659626,719408632.0421896,2596.8866298869252,600950281.50679719,231411.82775967545,null,null,null,75299680257956.469,75300037503297.047,75303562606309.531,75303566553505.172,75303587440189.688,75303591387385.344,75303537248196.031,75303566737743.188,75303562082076.234,75303591571623.359,0,0,0,0,0,0,0,0,0,1,null,0,0,0,0,0,0,0,0,1]
[null,221,2091420.6477696013,0.16398740285421001,0.20644278111459702,0.23713527733675988,0.55267560443042507,0.25340913757939204,0.33472604931128358,3.9347364664610862E-2,0.56168471361155969,951.3979988269009,2268.7526883524483,3455.1930367454775,78176.86763946811,60.724123931463438,738.78103487668318,21443.721797253591,236546.56975213933,4493.3972110138802,188.5988992380282,0.89504845909741837,null,59204272.950933561,11452702.108492997,59204544.758748658,192036983.97553366,59207229.463411883,1974458311.1182404,2684.7046632245183,1782421327.1427066,663917.09731002362,59207229.463793494,1974458563.613045,2684.7050448358059,1782421579.6375113,663917.09698840405,59207229.466105625,1974458302.1820827,2684.707356967032,1782421318.2065489,663916.42783002846,59207229.466487244,1974458554.676887,2684.7077385857701,1782421570.7013533,663916.42750666174,59207229.462011173,1974458293.1627543,2684.7032625153661,1782421556.6230843,663917.52917716827,59207229.463793494,1974458540.598618,2684.7050448358059,1782421556.6230843,663917.08841598115,59207229.464704931,1974458284.2265964,2684.7059562727809,1782421300.2510626,663916.76752772799,59207229.466487244,1974458531.6624601,2684.7077385857701,1782421547.6869264,663916.41893424746,null,null,null,94726825268791.594,94727079577013.891,94729592683147.891,94729592683505.984,94729592687466.812,94729592687824.922,94729592680924.719,94729592683529,94729592685243.656,94729592687847.938,0,0,0,0,0,0,0,0,0,1,null,0,0,0,0,0,0,0,0,1]
[null,222,1375578.5673931951,0.1704532294348676,0.10905144468059785,0.21073873948157817,0.42667013897978379,0.25675832454761366,0.35822491614733665,3.6291532015497244E-2,0.56503166519172188,1416.2437835457788,2931.4800423625552,1513.7516755349413,643462.44980788522,127.4172169430273,50.065466965119256,14857.661770472367,21940.935806079455,45.052380416212252,1038.444270829943,0.8514018743867563,null,38938993.911287129,93475764.629823253,38939268.218793146,262804570.53172398,38941987.605258264,1936459825.5725796,2719.3864651173353,1673655255.0408556,615453.2562802328,38941991.4948778,1936720311.6082435,2723.2760846540332,1673915741.0765195,614669.86417911237,38942010.706042923,1935784109.2447965,2742.487249776721,1672979538.7130725,610022.72256663279,38942014.59566246,1936044595.2804604,2746.3768693134189,1673240024.7487364,609253.610982763,38941970.10667628,1936718786.1598725,2701.8878831341863,1673662207.0778983,619441.76793022675,38941991.4948778,1936466777.6096222,2723.2760846540332,1673662207.0778983,614576.76528251136,38941993.20746094,1936043069.8320892,2724.9886677935719,1673238499.3003652,614035.03033837909,38942014.59566246,1935791061.2818391,2746.3768693134189,1672986490.7501152,609161.29517517891,null,null,null,62302296782294.773,62302566345498.5,62305243708587.648,62305249671492.875,62305281345559.438,62305287308464.656,62305215451895.891,62305249925026.875,62305253088867.664,62305287561998.656,0,0,0,0,0,0,0,0,0,1,null,0,0,0,0,0,0,0,0,1]
[null,223,1743131.5369162329,0.27713350594829067,0.14677157768893831,0.21649398568101719,0.4993094968036535,0.24510689424693147,0.27556481535948579,4.2655001399765746E-2,0.56273993897398222,94.574617170418662,1058.3763135025195,189.7958939904278,206889.95317964695,87.308171267791806,11149.769273505201,5385.3122192171131,6505.6110408016211,1065.0175727362696,3458.8251687480142,0.75447964869984474,null,49344025.100000001,31604714.951331478,49344301.312359557,44449771.089523174,49347021.17209769,170289728.3443048,2719.8597381338477,125839957.25478163,46267.076015148872,49347054.982300468,170480780.35215655,2753.6699409112334,126031009.26263338,45768.378915058973,49347165.020381048,169833971.56859553,2863.708021491766,125384200.47907236,43783.863277289383,49347198.830583826,170025023.57644728,2897.5182242691517,125575252.48692411,43338.89997140511,49346846.584504001,171468170.84523642,2545.2721444442868,125617682.91625485,49353.340541775797,49347054.982300468,170067454.00577801,2753.6699409112334,125617682.91625485,45618.278737750952,49346990.432787359,171012414.06952715,2689.1204278022051,126562642.98000398,47064.698803185449,49347198.830583826,169611697.23006874,2897.5182242691517,125161926.14054558,43196.251568742242,null,null,null,78950408555285.047,78950837650004.203,78955063585627.953,78955117490900.391,78955294198638.109,78955348103910.547,78954783067035.562,78955117904226.75,78955013680045.719,78955348517236.891,0,0,0,0,0,0,0,0,0,1,null,0,0,0,0,0,0,0,0,1]
[null,224,2109297.8244674467,0.23447389800530183,0.18148202509064271,0.25187282442948877,0.51910445541618189,0.25561199652420402,0.34529721295741822,3.7736020648353276E-2,0.48986232663619761,300.48620750818765,1961.2059656469121,7604.4364210365266,950658.50138548552,147.12802534184252,2799.1167467367754,13629.740477466707,4191.0271226198865,2354.9311875202102,523.20856880173221,0.88068753141434808,null,59710354.133776158,139280222.23655358,59710625.167521149,185857410.26089588,59713294.162179135,643192233.91881382,2668.9946579858661,457334823.65791798,171350.97003267956,59713294.237698853,643189615.47316527,2669.0701777040958,457332205.21226943,171345.1407282447,59713294.47689037,643178935.36250019,2669.3093692213297,457321525.10160434,171325.7857537175,59713294.552410088,643176316.91685164,2669.3848889395595,457318906.65595579,171319.95784902733,59713293.880082421,643202344.4981091,2668.7125612720847,457329987.08091569,171367.27039007976,59713294.237698853,643187397.34181154,2669.0701777040958,457329987.08091569,171344.30967802645,59713294.194793649,643189045.94179547,2669.0272725000978,457331635.68089962,171347.68175392741,59713294.552410088,643174098.78549778,2669.3848889395595,457316688.52460194,171319.12689678694,null,null,null,95536427333819.625,95536814410623.578,95540627467252.688,95540627590702.703,95540627984089.234,95540628107539.219,95540627005787.375,95540627592920.828,95540627522623.906,95540628109757.359,0,0,0,0,0,0,0,0,0,1,null,0,0,0,0,0,0,0,0,1]
[null,225,1557120.9890676429,0.1330980263957191,8.3622208317409588E-2,0.2069841424273442,0.53122300078560891,0.29869191700354347,0.47018799939611655,3.4266699195292412E-2,0.38882678121539993,968.00251767953068,1581.2572701832892,1966.3418624764843,62421.204097831556,12.458981574820781,6128.8844668657412,1969.8753192333168,674.26786327371326,1322.1056080677868,2509.5703489608413,0.96159374150569055,null,44078494.559807867,9144484.6496454068,44078766.416431293,145338690.95987025,44081469.919263765,1495201918.8096349,2703.5028324723244,1349863227.8497646,499301.57706375665,44081469.921155684,1495201917.3706658,2703.5047243908048,1349863226.4107955,499301.22711916745,44081469.923491009,1495201944.0084174,2703.5070597156882,1349863253.048547,499300.8056692495,44081469.925382927,1495201942.569448,2703.5089516341686,1349863251.6095777,499300.45572574728,44081469.914393537,1495201921.074456,2703.497962243855,1349863214.3017478,499302.4715215193,44081469.921155684,1495201905.2616181,2703.5047243908048,1349863214.3017478,499301.22264014895,44081469.91862078,1495201946.2732382,2703.5021894872189,1349863255.3133678,499301.70597324369,44081469.925382927,1495201930.4604006,2703.5089516341686,1349863239.5005302,499300.45124673587,null,null,null,70525582151207.938,70525880927599.109,70528856668903.219,70528856671931.719,70528856675641.594,70528856678670.125,70528856661108.578,70528856671943.828,70528856667846.984,70528856678682.234,0,0,0,0,0,0,0,0,0,1,null,0,0,0,0,0,0,0,0,1]
[null,226,2098363.6095484975,0.20408811195984267,0.27271557535999891,0.20145101275111854,0.44008518707391647,0.25547078657514044,0.39567080910287034,5.1338153880768234E-2,0.54387997862757942,418.81018591595881,1723.3612261276915,760.92901209845991,213378.61633044682,381.22027474411891,2333.7030069264438,4657.4455031015732,7161.6115992658579,3407.0407937175687,1481.6080190088674,0.79785088795755421,null,59400701.466490626,31435594.701232232,59400976.975563437,108942057.45197067,59403686.049960122,875990968.90103137,2709.0743966847658,767048911.44906068,283140.58572468074,59403688.047533892,876014813.1601733,2711.0719704553485,767072755.7082026,282940.75703913014,59403705.924567074,875815364.18851352,2728.949003636837,766873306.73654282,281014.15809329529,59403707.922140844,875839208.44765532,2730.9465774074197,766897150.99568462,280817.33906480373,59403678.776960477,876032447.27525806,2701.8013970404863,767044856.91472292,283901.27333375893,59403688.047533892,875986914.36669362,2711.0719704553485,767044856.91472292,282930.4663519836,59403698.651567429,875856842.56273997,2721.6760039925575,766914785.11076927,281780.33828631515,59403707.922140844,875811309.65417576,2730.9465774074197,766869252.20220506,280807.12326867267,null,null,null,95041090910790.297,95041454218844.047,95045021688967.281,95045024861241.078,95045053663943.125,95045056836216.891,95045010010689.484,95045024889139.875,95045041985665.328,95045056864115.688,0,0,0,0,0,0,0,0,0,1,null,0,0,0,0,0,0,0,0,1]
[null,227,1797238.3499533325,0.2472810133533182,0.11070000988146571,0.20873348673304037,0.41832539333063218,0.33922289390246829,0.36936111779765257,4.5570065219925682E-2,0.55494056090562738,760.58287242758934,666.24858050968794,14132.646821200811,116657.12139109732,205.66035248520086,232.2547134147346,390.47159052917385,459.24826161870146,1949.3609583435796,1069.9255662421747,0.94339319407178679,null,50876118.01062572,17099345.190934908,50876384.33870896,140241664.33496612,50879012.304814816,1361390784.4822888,2627.9661058560014,1221149120.1473227,464674.60802716878,50879013.379904054,1361388102.8692961,2629.0411950945854,1221146438.5343299,464483.56945216923,50879021.446083821,1361342308.3372562,2637.1073748618364,1221100644.00229,463045.47764812422,50879022.52117306,1361339626.7242637,2638.1824641004205,1221097962.3892975,462855.76490846439,50879002.597522557,1361441256.7124321,2618.2588135972619,1221143708.8017926,466395.33970442228,50879013.379904054,1361385373.1367588,2629.0411950945854,1221143708.8017926,464482.5311525251,50879011.73879157,1361392780.5673997,2627.4000826105475,1221151116.2324336,464775.47302925983,50879022.52117306,1361336896.9917264,2638.1824641004205,1221095232.6567602,462854.73020651547,null,null,null,81401771717655.969,81402074700270,81405058296919.219,81405060019743.609,81405072971425.766,81405074694250.172,81405042714779.375,81405060022473.344,81405057389285.953,81405074696979.906,0,0,0,0,0,0,0,0,0,1,null,0,0,0,0,0,0,0,0,1]
[null,228,2153166.1078035254,0.13976420136404277,0.22146297791437042,0.17871825526994659,0.55990655545137791,0.26901436941676871,0.27826433437302223,4.1274996637607919E-2,0.67012979432807285,925.87581335347579,226.1514128363653,5732.1623337698848,150838.50236567634,62.228810814481818,2272.5034493007829,75133.965121401488,745.08692826376091,1486.6652967756368,889.44948355066731,0.97405188284360078,null,60952348.555448264,22130591.854541689,60952609.126970783,204048833.6761744,60955186.077153258,1979505866.3744485,2576.9501824751496,1775457032.6982741,688976.07907691691,60955189.575884417,1979491746.8201807,2580.4489136338234,1775442913.1440063,688036.45124049496,60955231.974236637,1979210467.400265,2622.8472658544779,1775161633.7240906,676807.0931289146,60955235.472967811,1979196347.8459971,2626.3459970280528,1775147514.1698227,675900.09700875741,60955168.610299163,1978527511.9377351,2559.4833283796906,1774339438.3464563,693241.25641784177,60955189.575884417,1978388272.0226307,2580.4489136338234,1774339438.3464563,687608.82223698322,60955214.507382549,1978232112.9635515,2605.3804117664695,1774183279.2873771,680968.99449875962,60955235.472967811,1978092873.0484474,2626.3459970280528,1774044039.372273,675479.94109678001,null,null,null,97523735558125.359,97523970554319.578,97526318217578.844,97526323829668.25,97526391948311.219,97526397560400.656,97526291248966.719,97526324933143.047,97526364979699.109,97526398663875.453,0,0,0,0,0,0,0,0,0,1,null,0,0,0,0,0,0,0,0,1]
[null,229,1577581.8329742777,0.17817173935959571,5.3800644156806555E-2,0.18592091322162063,0.49291645332007844,0.33153462633704489,0.35199993408331792,4.1651339466770687E-2,0.45180689504774241,1116.2924827946285,2797.5515659862713,12301.033207103119,755844.30487048021,397.93056623215438,373.4166916107136,7378.8616002442132,49786.692987798342,275.39623175232055,1459.8369384574216,0.73560580610478565,null,44657501.013823807,110295989.34942201,44657792.078259759,261216502.7895188,44660681.586726837,1754935368.3863049,2889.5084670782089,1493718865.596786,516945.66138689785,44660682.66815412,1755132550.0092351,2890.589894361794,1493916047.2197163,516820.47672471858,44660684.183904283,1754851139.2889483,2892.1056445240974,1493634636.4994295,516452.30848585075,44660685.265331574,1755048320.9118786,2893.1870718151331,1493831818.1223598,516327.4206064929,44660675.506098226,1755102130.5057228,2883.4278384670615,1493881517.2169206,518092.21555241838,44660682.66815412,1755098020.0064394,2890.589894361794,1493881517.2169206,516808.53106516204,44660678.103275679,1755017901.4083662,2886.0250159204006,1493801398.6188474,517598.2156698145,44660685.265331574,1755013790.9090834,2893.1870718151331,1493797288.1195645,516315.48567040404,null,null,null,71451891326128.75,71452206108712.812,71455335603394.547,71455337136496.578,71455339843107.578,71455341376209.609,71455325707626.656,71455337171026.594,71455329947339.688,71455341410739.609,0,0,0,0,0,0,0,0,0,1,null,0,0,0,0,0,0,0,0,1]
[null,230,1703632.401909885,0.15452978365221007,0.25424531446707532,0.20852713626176356,0.49201066151079748,0.21174682598942671,0.39915048274698128,3.8998534405263727E-2,0.57070820461067728,928.00176627640235,517.59878076945904,12018.135340760733,997684.89356140548,121.44124816867536,31.454656512130249,3647.7706463120389,64.676778603570952,4599.8680888588206,446.43980497851851,0.87686817229728953,null,48226086.449146993,146456556.30540326,48226357.364890918,278156208.96075189,48229032.042826168,1583370673.7451913,2674.6779352501035,1305214464.7844396,487989.39400619525,48229033.761581138,1583292239.9279826,2676.3966902196407,1305136030.9672308,487646.70638571284,48229046.469463825,1582709992.7271283,2689.1045729070902,1304553783.7663765,485125.71690585924,48229048.188218795,1582631558.9099195,2690.8233278766274,1304475349.9491677,484786.695742879,48229027.50079117,1583562074.0871999,2670.1359002515674,1305119379.4712114,488783.87776002311,48229033.761581138,1583275588.4319634,2676.3966902196407,1305119379.4712114,487640.48477585951,48229041.927428819,1582901393.0691371,2684.5625379011035,1304745184.1083851,486017.80203954055,48229048.188218795,1582614907.4139004,2690.8233278766274,1304458698.4531484,484780.5074896976,null,null,null,77161591862078.875,77161893627616.516,77164867897848.125,77164870726289.906,77164891641149.391,77164894469591.172,77164860439191.781,77164870742941.391,77164884182493.047,77164894486242.672,0,0,0,0,0,0,0,0,0,1,null,0,0,0,0,0,0,0,0,1]
[null,231,1455058.337345853,0.18680922592910454,0.31027484775201275,0.20159025982927703,0.5159381308212414,0.28102983227017364,0.23304419505452287,3.8413820338440229E-2,0.48281237944377353,403.40093015495194,1513.4396956102264,1859.5698512129441,16452.879699673165,24.585046532533415,4517.5409135018863,3382.7688905232276,46524.788118448996,2558.657841363045,486.38430667112084,0.84772694732202414,null,41189006.924228206,2412295.0449554962,41189277.944293767,55783244.328581028,41191942.148210578,583751938.30498302,2664.2039168104529,527968693.97640198,198171.27759817973,41191942.319112577,583787154.77133858,2664.3748188093305,528003910.44275755,198171.78375778024,41191944.651650421,583753497.80995047,2666.7073566541076,527970253.48136944,197985.82404025341,41191944.822552428,583788714.27630615,2666.8782586604357,528005469.94772512,197986.34160861193,41191940.912893407,583750292.39696252,2662.968599639833,528001340.59622926,198275.46621001899,41191942.319112577,583784584.92481029,2664.3748188093305,528001340.59622926,198170.81923638101,41191943.416333251,583751851.90192997,2665.4720394834876,527968607.57334894,198076.96338681463,41191944.822552428,583786144.42977786,2666.8782586604357,528002900.10119683,197985.37799262383,null,null,null,65902408666470.086,65902788927625.703,65906523685198.617,65906523923425.352,65906527689142.859,65906527927369.609,65906521710337.055,65906523925995.203,65906525714281.305,65906527929939.453,0,0,0,0,0,0,0,0,0,1,null,0,0,0,0,0,0,0,0,1]
[null,232,1389945.3622205351,0.26303900095110144,0.15197027488382447,0.22545119023344984,0.50081316532093967,0.2725163427363424,0.54287175562701173,3.0174915343333119E-2,0.58772481312541558,640.5889230537199,3766.6455572207797,14470.38898330237,461424.32990302687,20.79721967799275,2643.1987043442437,10178.210112337243,22107.18811318605,565.65370086468772,875.80558209208971,0.94974479508935139,null,39345756.657787293,68398830.563884765,39346017.044669122,144554347.92257109,39348587.166980311,896275073.06591427,2570.1223111897707,751720725.14334321,292484.41674176737,39348603.833232053,896445133.31037283,2586.7885629311204,751890785.38780177,290665.72976332688,39348632.828814514,895346638.63463163,2615.7841453924775,750792290.71206057,287023.79438858863,39348649.495066255,895516698.87909019,2632.4503971338272,750962350.95651913,285271.22553730005,39348556.380884521,896698933.6889379,2539.3362153992057,751645779.57699096,296000.88992501755,39348603.833232053,896200127.49956203,2586.7885629311204,751645779.57699096,290571.01548542967,39348602.042718723,895770499.25765538,2584.9980496019125,751216151.33508432,290606.08051552338,39348649.495066255,895271693.06827939,2632.4503971338272,750717345.14570832,285178.15414986666,null,null,null,62953142253629.109,62953482717122.672,62956843192095.438,62956869688037.969,62956917179464.586,62956943675407.125,62956793510481.547,62956869933043.781,62956867497850.703,62956943920412.938,0,0,0,0,0,0,0,0,0,1,null,0,0,0,0,0,0,0,0,1]
[null,233,1959456.0088108352,0.19926482920958311,0.14858294610630121,0.23836251805166175,0.56724667991057309,0.29022223140999559,0.36926757978022018,4.9492475780711698E-2,0.49782755253075844,765.47927574596554,169.43897302751486,1135.3619878553411,20364.93766355528,787.75176111105839,4517.1954698554973,12006.566454539665,350.91945234432109,7854.5539416454649,1339.3166605042168,0.76615389232404096,null,55468255.991545491,2983409.1593116131,55468540.523254916,139564211.58288017,55471348.917699419,1489312537.1949625,2808.3944445028901,1349748325.6120822,480612.09074603452,55471348.941393465,1489312533.8937163,2808.4181385487318,1349748322.3108361,480608.03474525601,55471349.00367938,1489312692.0157595,2808.4804244637489,1349748480.4328792,480597.43221838551,55471349.027373433,1489312688.7145131,2808.5041185170412,1349748477.1316328,480593.37646417017,55471348.83482945,1489311994.4588797,2808.3115745335817,1349747704.9171174,480626.05202248262,55471348.941393465,1489311916.4999976,2808.4181385487318,1349747704.9171174,480607.81490843388,55471348.920809425,1489312149.2796767,2808.3975545093417,1349747937.6967964,480611.42039151659,55471349.027373433,1489312071.3207946,2808.5041185170412,1349747859.7379143,480593.1566340783,null,null,null,88749206603063.625,88749525272996.281,88752668955781.891,88752668993695.656,88752669093194.984,88752669131108.781,88752668823732.672,88752668994313.047,88752668961145.797,88752669131726.172,0,0,0,0,0,0,0,0,0,1,null,0,0,0,0,0,0,0,0,1]
[null,234,1744698.2382361097,0.1937698505209966,0.21605198969418038,0.18799174139275099,0.55503426410934631,0.27703095448381498,0.27900447044257065,3.8516431075466276E-2,0.51345421248197565,1068.4542908132005,213.86080885731562,436.21589381017264,691779.82956112735,306.9873661907896,1135.3688611282864,8614.7595063038352,19.758416493421901,4727.1637492759291,262.72290283200869,0.78041362493932198,null,49388546.940041982,101386711.25594956,49388827.72648938,262286666.67777711,49391597.39719969,1855014367.5025902,2769.6707103103399,1592727700.8248131,575060.31128384534,49391597.711406834,1855004724.8498509,2769.9849174544215,1592718058.1720738,574991.59946176177,49391599.716349043,1854944114.9701142,2771.98985966295,1592657448.2923372,574553.85081603099,49391600.030556187,1854934472.3173749,2772.3040668070316,1592647805.6395979,574485.2538754564,49391595.776109055,1855056206.8137567,2768.0496196746826,1592710053.3706944,575390.71628270845,49391597.711406834,1854996720.0484715,2769.9849174544215,1592710053.3706944,574988.70962603413,49391598.095258407,1854985954.2812808,2770.3687690272927,1592699287.6035037,574905.15537493525,49391600.030556187,1854926467.5159955,2772.3040668070316,1592639800.8382185,574482.3664571984,null,null,null,79021573717355.922,79021862075716.344,79024700821152,79024701333526.094,79024704602043.5,79024705114417.594,79024698185567.672,79024701341530.891,79024701966459.172,79024705122422.391,0,0,0,0,0,0,0,0,0,1,null,0,0,0,0,0,0,0,0,1]
[null,235,1425567.3791661628,0.21618817678648505,0.15646141726325441,0.17574514415368794,0.52491139275477849,0.30456431474572432,0.42531052925491375,5.0241992824005877E-2,0.5053118056071999,46.311226872122425,165.36209891601854,1217.0057720807129,1433034.2846640293,133.2797258981154,9466.593026663917,13786.674490448977,5522.5365279042308,268.10218601824306,54.144208294117455,0.84843673743380454,null,40354130.749278598,209942151.06892568,40354406.548905581,198524452.67214513,40357129.775668122,80601018.719000086,2723.2267625406384,-117923433.95314504,-43302.8330858236,40357129.850182056,80597086.907255173,2723.3012764751911,-117927365.76488996,-43303.092016879265,40357130.0664443,80583654.749768376,2723.5175387188792,-117940797.92237675,-43304.585428833023,40357130.140958227,80579722.938023478,2723.5920526459813,-117944729.73412165,-43304.84428442132,40357129.535816155,80614341.992422268,2722.9869105741382,-117929671.33670042,-43308.938019035544,40357129.850182056,80594781.335444704,2723.3012764751911,-117929671.33670042,-43303.938626040865,40357129.826592326,80596978.023190573,2723.2776867449284,-117927474.64895456,-43303.507102101867,40357130.140958227,80577417.366213024,2723.5920526459813,-117947035.3059321,-43305.69080319722,null,null,null,64566399256694.688,64566851953796.258,64571327040050.273,64571327163204.383,64571327522656.133,64571327645810.227,64571326642963.859,64571327165509.953,64571327125569.695,64571327648115.797,0,0,0,0,0,0,0,0,0,1,null,0,0,0,0,0,0,0,0,1]
[null,236,1700543.1896643061,0.19447866626142252,0.10100021311948201,0.20926450830034149,0.51586706693001261,0.24158045646139312,0.39719178290141355,3.8488966032788438E-2,0.41461209448774122,56.435006639294024,1038.8138532548853,2941.0881971802373,425024.85790265811,18.647135915058993,2242.2448480627327,1449.0926344467723,8431.8913393882431,1942.7863741864332,908.29855422996025,0.9413892891139759,null,48138715.594802469,62128219.409253918,48138984.491163202,65768757.733189479,48141647.905071728,101371731.35140581,2663.4139085263014,35602973.618216336,13367.420476495103,48141650.548486061,101368373.53999066,2666.0573228597641,35599615.806801185,13352.907119271922,48141653.12966717,101280613.8235728,2668.6385039687157,35511856.090383321,13307.106240718329,48141655.773081504,101277256.01215765,2671.2819183021784,35508498.27896817,13292.680954295072,48141640.359757252,101513802.11192517,2655.8685940504074,35591127.940525964,13400.937087119475,48141650.548486061,101359885.67371544,2666.0573228597641,35591127.940525964,13349.723441935939,48141645.584352702,101422684.58409216,2661.0931895002723,35653926.850902677,13398.225583222864,48141655.773081504,101268768.14588243,2671.2819183021784,35500010.412692949,13289.503503717106,null,null,null,77021882823464.547,77022309417103.391,77026535276383.422,77026539509204.156,77026543726853.641,77026547959674.391,77026523061809.5,77026539517692.031,77026531512279.75,77026547968162.266,0,0,0,0,0,0,0,0,0,1,null,0,0,0,0,0,0,0,0,1]
[null,237,1326817.3315909691,0.18660110272987548,0.21843116046101319,0.21452889716481416,0.54362788839901954,0.29188444283598958,0.48029956760669834,3.2486045089197856E-2,0.4748344995009291,379.67823288932453,493.67586595364008,14925.533460303281,498547.9792225656,68.803397054765327,5059.1883113938393,21260.498859341144,28876.04896757731,3264.7756315579022,1425.0645913087612,0.73682211783938256,null,37558416.929744951,73258243.271214157,37558700.550726108,114241081.26419763,37561501.796987996,512643415.09321409,2801.2462618872523,398402333.82901645,142223.24514968038,37561505.528049685,512771135.41382241,2804.977323576808,398530054.14962476,142079.59928939224,37561518.948590964,512305417.63938773,2818.3978648558259,398064336.37519008,141237.8079542552,37561522.679652654,512433137.95999599,2822.1289265453815,398192056.69579834,141096.33792784667,37561493.078987911,512679805.89116752,2792.5282618030906,398376012.00503689,142657.82640559989,37561505.528049685,512617093.26923454,2804.977323576808,398376012.00503689,142024.68185983118,37561510.23059088,512341808.43734115,2809.6798647716641,398100727.17314351,141688.99886588901,37561522.679652654,512279095.81540805,2822.1289265453815,398038014.5512104,141041.75426119028,null,null,null,60093393829348.648,60093806640080.508,60097890231765.695,60097896073744.086,60097918012327.898,60097923854306.281,60097876246574.766,60097896227786.234,60097904027136.969,60097924008348.43,0,0,0,0,0,0,0,0,0,1,null,0,0,0,0,0,0,0,0,1]
[null,238,1618831.1668404758,0.17641424373890416,0.23033415878411578,0.18942974077178673,0.64651993426828169,0.28953897063773737,0.40731396738165093,4.9958779013879573E-2,0.46300806089006336,423.83894738908799,1549.3161103232615,429.20198161804399,725822.38554456865,216.14818999822438,8324.1732671928221,13429.981590906182,10318.846730082152,333.42826563962632,47.654897234760419,0.83031991180587439,null,45825341.494664118,106497767.39282227,45825617.02307985,160247973.14768502,45828335.372284457,688482009.98301959,2718.3492046073079,528234036.83533454,194321.62576464974,45828337.430022821,688451921.57151437,2720.4069429710507,528203948.42382932,194163.57901474825,45828343.927462406,688231560.43091702,2726.9043825566769,527983587.28323197,193620.13228648959,45828345.985200763,688201472.01941168,2728.9621209129691,527953498.87172663,193463.10995885159,45828329.949499205,688611199.96903765,2712.9264193549752,528155259.64161193,194681.0115724355,45828337.430022821,688403232.78929698,2720.4069429710507,528155259.64161193,194145.68140485455,45828338.504677154,688360750.41693497,2721.4815973043442,528112777.26924992,194053.4074499534,45828345.985200763,688152783.23719442,2728.9621209129691,527904810.08950937,193445.26845718906,null,null,null,73320439893695.203,73320826988954.625,73324648113645.141,73324651436114.938,73324662052379.406,73324665374849.203,73324639307998.766,73324651484803.719,73324653246733.031,73324665423537.984,0,0,0,0,0,0,0,0,0,1,null,0,0,0,0,0,0,0,0,1]
[null,239,1594579.6646464644,0.21219219367427355,0.1845815380283703,0.21297992307780955,0.51775567573460479,0.26326090722973688,0.36591569234097099,4.0756247956132419E-2,0.49837607507900628,419.38310624222214,417.44380231175552,1393.9264376895842,394738.21988286549,26.615284815640859,13019.90720698816,6222.2370349589482,35249.650796150039,13065.531662622285,950.11529685613937,0.54784640893541214,null,45138430.183623984,58741551.756813161,45138725.373246051,115364745.73377374,45141638.327775806,674948674.6352396,2912.9545297548175,559583928.90146589,192101.84133858274,45141659.327139467,676152571.88810837,2933.9538934156299,560787826.15433466,191137.23205155096,45141736.088021427,673927102.22362876,3010.7147753760219,558562356.48985505,185524.8331918435,45141757.087385096,675130999.47649741,3031.7141390442848,559766253.7427237,184636.88463688202,45141564.296008945,675881823.48199487,2838.9227628931403,560514928.21813989,197439.30181704566,45141659.327139467,675879673.9519136,2933.9538934156299,560514928.21813989,191044.21834168755,45141662.056254558,674860251.07038391,2936.6830085068941,559495505.3366102,190519.5432111265,45141757.087385096,674858101.54030263,3031.7141390442848,559493355.80652893,184546.87023457402,null,null,null,72221429552246.625,72221845232447.953,72225946375766.656,72225978770851.25,72226103813732.062,72226136208816.688,72225826991790.828,72225979043749.188,72225984429756.219,72226136481714.609,0,0,0,0,0,0,0,0,0,1,null,0,0,0,0,0,0,0,0,1]
[null,240,1746952.1837757539,0.20887911533443382,0.17442129211211799,0.22582057690976676,0.44717489124116039,0.26301639839927382,0.40908578001571561,4.7811266764909655E-2,0.71388541325582122,593.34811685005639,508.50514985050421,7984.4143672102255,575047.80696669454,48.207778585076511,1370.0976983656808,36840.871326347871,10405.091243626326,359.28509470577973,105.84915382719521,0.94455349976753444,null,49452535.845458813,84242953.317411482,49452802.1834222,172686846.62929007,49455429.014417067,1035573880.4622953,2626.8309948667884,862887033.83300519,328489.74125827377,49455429.014450781,1035573880.598848,2626.8310285806656,862887033.96955788,328489.7370942792,49455429.014683858,1035573873.3896362,2626.8312616571784,862887026.76034606,328489.70520321128,49455429.014717579,1035573873.5261887,2626.8312953785062,862887026.89689863,328489.70103828586,49455429.014298804,1035573879.9485786,2626.8308766037226,862887030.25958049,328489.75468691875,49455429.014450781,1035573876.8888706,2626.8310285806656,862887030.25958049,328489.73568193964,49455429.014565594,1035573872.8759195,2626.8311433941126,862887026.24662936,328489.71979664377,49455429.014717579,1035573869.8162115,2626.8312953785062,862887023.18692136,328489.69962594646,null,null,null,79123973109780.781,79124310806628.891,79127650849186.844,79127650849240.656,79127650849620.781,79127650849674.594,79127650848998.141,79127650849244.359,79127650849432.078,79127650849678.312,0,0,0,0,0,0,0,0,0,1,null,0,0,0,0,0,0,0,0,1]
[null,241,1406499.8453747602,0.18324650086252411,9.7933173544906285E-2,0.17815155104403005,0.64244141896520135,0.27479473499526474,0.28027153912191666,3.8504879479661303E-2,0.680210474655773,124.64687842402881,271.46506501433907,8676.5492503115966,398492.92917890265,26.442129920404991,2835.0692825263131,4739.872503260649,19586.487506151432,1171.160831124859,968.98475530067128,0.90311898451620776,null,39814395.377413578,58366818.259178147,39814670.1074249,69766994.202047557,39817392.923921421,180977794.94759417,2722.8164965212345,111210800.74554661,40844.030762863898,39817393.088979289,180982679.89210197,2722.9815543889999,111215685.69005442,40843.348905831903,39817393.506244548,180968192.62904847,2723.3988196477294,111201198.42700091,40831.771543980009,39817393.671302415,180973077.57355624,2723.5638775154948,111206083.37150869,40831.090575688548,39817392.183244534,180989549.28162313,2722.0758196339011,111213766.13695118,40856.233810529418,39817393.088979289,180980760.33899873,2722.9815543889999,111213766.13695118,40842.643960511894,39817392.765567653,180979946.9630774,2722.6581427529454,111212952.76102984,40847.196720988162,39817393.671302415,180971158.02045301,2723.5638775154948,111204163.81840545,40830.385781092366,null,null,null,63702974237043.469,63703402404885.641,63707647700479.328,63707647959686.969,63707648641798.641,63707648901006.297,63707646503641.977,63707647961606.523,63707647444961.281,63707648902925.844,0,0,0,0,0,0,0,0,0,1,null,0,0,0,0,0,0,0,0,1]
[null,242,1703201.4901714923,0.20424110160562758,0.16427619940154792,0.22119467192347142,0.55682001686596849,0.274534676706648,0.31262316271487189,3.4990260800674251E-2,0.53034105285857525,1755.9198736688647,5561.6767455987238,1150.4323510575325,759726.33961680124,208.59620741949541,324.60108062543037,2874.9878920607248,20836.243593300016,4110.4434759958458,59.853058073766142,0.94922775188064734,null,48213972.919100128,111297898.79863079,48214239.752638601,373408554.36835289,48216874.921827041,2972070945.4914937,2635.169188439846,2598662391.1231408,986146.31748243875,48216874.922743283,2972070962.5852647,2635.1701046824455,2598662408.2169118,986145.98108840757,48216874.926255859,2972070787.8698359,2635.1736172586679,2598662233.501483,986144.60029576067,48216874.927172109,2972070804.9636073,2635.174533508718,2598662250.5952544,986144.26390010386,48216874.917853199,2972071080.7374496,2635.1652145981789,2598662401.3367305,986147.80847165419,48216874.922743283,2972070955.7050834,2635.1701046824455,2598662401.3367305,986145.97847750154,48216874.922282018,2972070923.1157923,2635.1696434170008,2598662368.7474394,986146.13872743968,48216874.927172109,2972070798.083426,2635.174533508718,2598662243.7150731,986144.26128920238,null,null,null,77142245372661.406,77142410195667.391,77144027803977.781,77144027805426.672,77144027811221.5,77144027812670.406,77144027797484.391,77144027805433.547,77144027804728.125,77144027812677.297,0,0,0,0,0,0,0,0,0,1,null,0,0,0,0,0,0,0,0,1]
[null,243,1438023.46107164,0.17633524055676944,0.27407970728546682,0.18290173938299717,0.53520648606590782,0.3498661859028146,0.37512786238132567,3.6266181547887633E-2,0.49748398827466661,66.360296070668312,312.26562368047502,13343.480994795205,242989.80274410077,93.026700557491608,696.38016545536959,3275.1086725512396,139.14687285999864,395.66330481677642,136.31719234574186,0.55429997007841503,null,40706381.924465127,36157492.630369671,40706679.043809973,42462159.203521758,40709609.015183501,103922829.41967432,2929.9713735282421,61460670.216152564,20976.542901216897,40709615.239701912,103863205.78666489,2936.1958919391036,61401046.58314313,20911.767757631813,40709678.24185425,103241848.51532786,2999.1980442777276,60779689.311806098,20265.313732039049,40709684.466372661,103182224.88231844,3005.4225626885891,60720065.678796679,20203.503637930287,40709579.073990561,104154922.65270844,2900.0301805883646,61332285.590119854,21148.843898471645,40709615.239701912,103794444.79364161,2936.1958919391036,61332285.590119854,20888.349363371384,40709648.300661318,103473941.74836196,2969.2568513453007,61011782.544840202,20547.82917052029,40709684.466372661,103113463.88929516,3005.4225626885891,60651304.685773402,20180.624661151141,null,null,null,65130174921651.57,65130644007936.75,65135270501464.18,65135280520317.273,65135381945118.281,65135391963971.375,65135222363462.242,65135280589078.266,65135333807116.359,65135392032732.367,0,0,0,0,0,0,0,0,0,1,null,0,0,0,0,0,0,0,0,1]
[null,244,1723035.9691120377,0.20898498027770085,0.19548646859327534,0.21509016632785105,0.68153687903081739,0.26975359865404758,0.32297831864938897,3.2795142510784192E-2,0.55131118641132282,2345.0146994875749,4102.305039183706,540.39398011434162,100945.07476538989,66.852398875954748,11505.709924960334,33090.631263665025,13975.787908531383,2372.6659490455186,2780.9368379806328,0.85780689921693876,null,48775380.900902055,14788180.902008886,48775654.791827805,381418638.57400554,48778357.039729483,4004302156.0207138,2702.2479016780853,3622883517.4467082,1340692.5083360826,48778357.039729543,4004302156.0217695,2702.24790173769,3622883517.4477639,1340692.508306901,48778357.039729707,4004302156.0207734,2702.2479019016027,3622883517.4467678,1340692.5082252088,48778357.039729759,4004302156.0218291,2702.2479019537568,3622883517.4478235,1340692.5081997239,48778357.039729282,4004302156.0185084,2702.2479014769197,3622883517.4446383,1340692.5084351229,48778357.039729543,4004302156.0186439,2702.24790173769,3622883517.4446383,1340692.5083057445,48778357.039729506,4004302156.0185671,2702.2479017004371,3622883517.4445615,1340692.5083241987,48778357.039729759,4004302156.0187025,2702.2479019537568,3622883517.4446969,1340692.5081985667,null,null,null,78040594653262.375,78040666248285.906,78041366961411.156,78041366961411.25,78041366961411.516,78041366961411.594,78041366961410.844,78041366961411.25,78041366961411.188,78041366961411.594,0,0,0,0,0,1,0,0,0,1,null,0,0,0,0,1,0,0,0,1]
[null,245,1593336.9627620943,0.17188508661003421,0.1622363036316099,0.21344666378108779,0.54700745675202045,0.28326131690486211,0.36705266280231141,3.9146052916624874E-2,0.53273105981944602,38.172679005663618,1433.305875929447,5501.5435898057822,1245580.0031853265,61.597754122805625,2690.1921535156148,3226.3206641025909,53614.378683219307,1915.4148516619439,1754.4840358154991,0.89058350819190035,null,45103705.077327259,181011330.71714497,45103956.218288526,172606796.95585951,45106441.623326056,88549803.866002634,2485.4050375297666,-84056993.089856878,-33820.239285183379,45106472.204285562,91337876.157806531,2515.9859970360994,-81268920.798052981,-32301.022697976063,45106600.461351782,79651563.013256595,2644.2430632561445,-92955233.942602918,-35153.815938591142,45106631.042311288,82439635.305060491,2674.8240227624774,-90167161.650799021,-33709.567763518549,45106332.253520392,94560316.073541701,2376.0352318659425,-81542431.708631605,-34318.696379175693,45106472.204285562,91064365.247227907,2515.9859970360994,-81542431.708631605,-32409.731932010283,45106491.091546118,85662075.220795661,2534.8732575923204,-86944721.735063851,-34299.435474594851,45106631.042311288,82166124.394481868,2674.8240227624774,-90440672.561377645,-33811.821559750031,null,null,null,72165747112392.891,72166157342464.688,72170218047517.828,72170264188980.75,72170481086599.828,72170527228062.75,72170037045316.547,72170264462491.656,72170300084398.578,72170527501573.672,0,0,0,0,0,0,0,0,0,1,null,0,0,0,0,0,0,0,0,1]
[null,246,1539496.2170905075,0.15660532033271618,9.485945898723816E-2,0.18960781681127653,0.64530487389065616,0.24790160017626828,0.52374423626538347,3.3744459717744438E-2,0.56115725292175278,448.51729741986838,6061.0922085479933,1335.4055724159571,192571.07029658614,40.339777968903725,14128.824851407408,18649.189582693612,11776.544880444902,3435.134681304326,91.047558604251776,0.84673211217374689,null,43579435.169994362,28057758.103529479,43579713.238134816,89310885.123356372,43582475.523905389,689475053.26485562,2762.285770572722,600164168.14149928,217270.84667893124,43582481.13933529,689518109.23967361,2767.9012004733086,600207224.11631727,216845.60995662792,43582484.694363356,689505414.31469655,2771.4562285393476,600194529.19134021,216562.87514512299,43582490.309793256,689548470.28951454,2777.0716584399343,600237585.1661582,216140.47420848749,43582467.232321426,689401611.40856302,2753.9941866099834,600061220.96933675,217887.6135203391,43582481.13933529,689372106.09269309,2767.9012004733086,600061220.96933675,216792.8612721895,43582476.402779393,689431972.45840383,2763.1646445766091,600121087.33504748,217186.14868387696,43582490.309793256,689402467.1425339,2777.0716584399343,600091582.01917756,216087.8997109815,null,null,null,69727068214232.875,69727451870130.578,69731271363195.359,69731280304827.219,69731286005567.055,69731294947198.922,69731258170102.875,69731280450830.367,69731272812474.57,69731295093202.07,0,0,0,0,0,0,0,0,0,1,null,0,0,0,0,0,0,0,0,1]
[null,247,1268463.2345058145,0.18561026047526671,0.1157187424580198,0.21473074678267623,0.53157430768976877,0.25939945038639756,0.41738073066405512,5.3414275989175919E-2,0.48798814588094197,147.14837486630753,484.628515846992,152.97720246221022,921944.91356963781,43.181139891621314,153.67588656876754,37059.240671985746,12080.299327010316,6794.6620760997648,420.44746212497284,0.81305467018960875,null,35906525.136287123,135039990.78171694,35906807.101050749,141916175.63320273,35909596.761603706,195694045.36912945,2789.6605529561639,53777869.735926718,19277.567544531204,35909596.996150069,195690367.14250571,2789.8950993195176,53774191.509302974,19274.628469872943,35909597.389747843,195668101.42704746,2790.2886970937252,53751925.79384473,19263.929875726124,35909597.624294207,195664423.20042372,2790.5232434570789,53748247.567220986,19260.992608910943,35909596.122167617,195702011.43823075,2789.0211168676615,53755669.061438262,19274.027269399467,35909596.996150069,195671844.69464099,2789.8950993195176,53755669.061438262,19267.98935004753,35909596.750311755,195676067.49614874,2789.6492610052228,53759891.862946004,19271.201084101216,35909597.624294207,195645900.75255898,2790.5232434570789,53729725.119356245,19254.354983545101,null,null,null,57450305178068.617,57450749445505.562,57455159124520.562,57455159503472.969,57455160155495.117,57455160534447.523,57455158093456.75,57455159521995.414,57455159124431.305,57455160552969.977,0,0,0,0,0,0,0,0,0,1,null,0,0,0,0,0,0,0,0,1]
[null,248,1845756.0254537682,0.15557778436979838,8.9336176819073881E-2,0.22790382047070346,0.58205573421014689,0.32262923755454231,0.37946971641052785,4.2718683144570058E-2,0.55618360956277257,192.70307328101705,183.89719762641121,2256.3539986866244,1525687.7365034255,94.75901547825255,2570.1474100969372,14481.906468931214,11411.142422374522,25.383051990100153,599.31096536354619,0.91222223990119711,null,52249784.479206786,210816370.67981118,52250030.975350425,226228354.06589115,52252476.544509701,374360960.33328897,2445.5691592767835,148132606.26739782,60571.83282079186,52252501.766298369,373445942.76393294,2470.7909479439259,147217588.6980418,59583.182794379769,52252558.368827961,368755943.17700255,2527.3934775367379,142527589.1111114,56393.114241167714,52252583.590616629,367840925.60764652,2552.6152662038803,141612571.54175538,55477.444414235753,52252384.008241341,379813868.05269432,2353.0328909158707,146109253.68803793,62094.012477304488,52252501.766298369,372337607.75392908,2470.7909479439259,146109253.68803793,59134.607810354442,52252465.8325596,374208850.89640784,2434.8572091758251,147980496.8305167,60775.841915019984,52252583.590616629,366732590.5976426,2552.6152662038803,140504236.53175145,55043.248542778725,null,null,null,83599444350360.172,83599823332206.609,83603588110255.188,83603629380134.625,83603724634181.562,83603765904061,83603434599318.094,83603630488469.641,83603571123244.469,83603767012396.016,0,0,0,0,0,0,0,0,0,1,null,0,0,0,0,0,0,0,0,1]
[null,249,1996109.4422627217,0.1476857604615798,0.14667677938496873,0.18662419582372813,0.42487929380609585,0.2899968723940245,0.51017706781363237,4.140238141609176E-2,0.39547488822312621,1173.3099528589396,5352.4717610318403,364.10368925351207,58692.697479962437,30.395095872140864,4190.0683442497138,6513.8944165817402,971.36136304105355,14869.332940288659,3955.3573973511234,0.95455088425712442,null,56506189.003384061,8375113.7979685403,56506439.198930219,221168895.38481119,56508920.457761608,2329346247.7163382,2481.2588313892484,2108177352.331527,849640.24134119274,56508935.057725638,2329371648.2286501,2495.8587954193354,2108202752.8438389,844680.29870641569,56509003.790787637,2329399469.5472131,2564.5918574184179,2108230574.1624019,822053.05614773312,56509018.390751667,2329424870.059525,2579.1918214485049,2108255974.6747139,817409.5300483281,56508876.30273214,2329027117.2777438,2437.10380192101,2107761391.5295465,864863.19945343968,56508935.057725638,2328930286.9143577,2495.8587954193354,2107761391.5295465,844503.46125266922,56508959.635758176,2329080339.1086183,2520.4368279576302,2107911443.7238071,836327.82236081583,56509018.390751667,2328983508.7452331,2579.1918214485049,2107814613.3604219,817238.40616734279,null,null,null,90409894030300.703,90410081549392.953,90411943386170.859,90411966720712.781,90412076665790.672,90412100000332.609,90411873057254.141,90411967162074.094,90412006336873.969,90412100441693.922,0,0,0,0,0,0,0,0,0,1,null,0,0,0,0,0,0,0,0,1]
[null,250,1964587.156599419,0.19374895368368039,0.14523489641584436,0.16572351759220952,0.57664285764023049,0.24056594063673606,0.37962692566111866,4.2253819357969236E-2,0.50472658158715167,131.71449084181302,1531.0942934082482,4183.5744524405127,1594129.3694807296,416.97597104222245,92.329914853848905,36387.011012578914,151.60130482733604,1965.2049498751776,1029.6241032715366,0.76575902866824419,null,55613518.967755616,233375781.09773913,55613801.26117187,238590696.19979671,55616594.249178804,276750398.70241791,2792.9880069345236,38159702.502621204,13662.680401017486,55616600.7038671,276297018.72669262,2799.4426952302456,37706322.526895911,13469.224639297245,55616613.390300006,275401792.3766855,2812.1291281357408,36811096.176888794,13090.115887136435,55616619.844988301,274948412.40096027,2818.5838164314628,36357716.20116356,12899.285091048007,55616576.15080978,277606279.33365047,2774.8896379098296,37286056.645462543,13436.951198372004,55616600.7038671,275876752.84525925,2799.4426952302456,37286056.645462543,13319.099801182349,55616595.291930966,276257673.00791806,2794.0307590961456,37666976.808121353,13481.231974807044,55616619.844988301,274528146.51952684,2818.5838164314628,35937450.319730133,12750.17975702054,null,null,null,88981396972627.891,88981843427178.781,88986274048287.391,88986284829168.625,88986306022687.641,88986316803568.875,88986244235016.312,88986285249434.516,88986276209416.531,88986317223834.766,0,0,0,0,0,0,0,0,0,1,null,0,0,0,0,0,0,0,0,1]
[null,251,1793918.3062952124,0.25237338933485332,0.19492168975799706,0.21377180779006033,0.46162543570426878,0.25804454811530597,0.36157091270506292,3.8242097042611979E-2,0.59128702917066756,923.74994030039431,1368.5105158837769,1276.5156577267105,148881.28904078717,46.353208379508423,745.60594270602644,17015.231216021479,3065.9442967270784,1950.8215136470772,2793.757647220124,0.78178385684079366,null,50781943.735874735,21879176.480894547,50782222.179754093,171170165.02282676,50784962.537828229,1645180273.8605857,2740.3580741360784,1474010108.837759,537889.60017659504,50784964.342197195,1645181570.376616,2742.1624431014061,1474011405.3537893,537536.13651227439,50784973.732460178,1645109382.6615169,2751.5527060851455,1473939217.6386902,535675.4440425681,50784975.536829144,1645110679.177547,2753.3570750504732,1473940514.1547203,535324.86850718432,50784955.313503549,1645154611.4301765,2733.1337494552135,1473937915.9350722,539284.95677493548,50784964.342197195,1645108080.9578989,2742.1624431014061,1473937915.9350722,537509.3367072877,50784966.50813549,1645083720.2311075,2744.3283813968301,1473913555.2082808,537076.23519094917,50784975.536829144,1645037189.7588298,2753.3570750504732,1473867024.7360032,535298.17766516353,null,null,null,81251088098223.094,81251384317441.531,81254294880251.312,81254297765945.141,81254312862553.625,81254315748247.453,81254283346994.234,81254297839434.562,81254301329296.547,81254315821736.859,0,0,0,0,0,0,0,0,0,1,null,0,0,0,0,0,0,0,0,1]
[null,252,1718692.012863786,0.21287235439730778,0.34119668846765883,0.22182081371871121,0.68184296537298505,0.23046228849462533,0.3943285683232487,4.0446375088990294E-2,0.50953041940640953,1644.122344190703,1696.6466486367544,4935.7908948646436,2119802.9061403004,448.53676975932325,4776.5129357036685,2232.5765852489426,4302.2112598047916,170.38640189437214,660.08369311667229,0.75614834623859006,null,48652253.235470138,314356787.80303544,48652529.650274195,545076474.36988544,48655241.321032047,2835071059.0493474,2711.6707578524947,2289994584.679462,844495.80689250829,48655248.343683697,2834449828.531858,2718.6934095025063,2289373354.1619725,842085.88808140194,48655273.543261193,2832098363.5248876,2743.892986997962,2287021889.1550021,833495.29299872101,48655280.56591285,2831477133.0073986,2750.9156386554241,2286400658.6375132,831141.68479373876,48655225.027269803,2836575750.6961188,2695.3769956082106,2289355108.8160696,849363.60017403716,48655248.343683697,2834431583.185955,2718.6934095025063,2289355108.8160696,842079.17700988532,48655257.249498956,2833603055.1716595,2727.5992247611284,2288526580.801774,839025.96834114939,48655280.56591285,2831458887.6614952,2750.9156386554241,2286382413.2916098,831135.05233084282,null,null,null,77843290819964.422,77843502363964.344,77845551042592.234,77845562900065.391,77845605570854.375,77845617428327.562,77845523467880.984,77845562918310.734,77845577996143.156,77845617446572.906,0,0,0,0,0,0,0,0,0,1,null,0,0,0,0,0,0,0,0,1]
[null,253,1829987.9110704525,0.13111234034605204,0.13689353372069513,0.22827656137113939,0.42640355920775491,0.23182991940709513,0.37119693832709133,4.5423149819047826E-2,0.5482912911326796,296.08678015866525,2310.4888836053215,1184.1504056747522,1106859.5330327551,132.7998401737064,4529.1104312697271,62770.977699105628,7.8702409001666842,818.0448683816511,347.79398055850112,0.88461619615132392,null,51803232.283360533,159748954.18166983,51803500.160989799,197684704.8296527,51806156.652967334,550613296.41729534,2656.4919775351882,352928591.58764267,132855.13171965443,51806161.959978528,550343089.90883565,2661.7989887297153,352658385.07918298,132488.73659219526,51806198.717137672,548586834.66763425,2698.5561478734016,350902129.83798158,130033.28839924645,51806204.024148859,548316628.15917456,2703.8631590604782,350631923.32952189,129678.13188125886,51806136.951567575,549997738.43459213,2636.7905777767301,351038976.44283426,133131.15550451516,51806161.959978528,548723681.27248693,2661.7989887297153,351038976.44283426,131880.34781332599,51806179.015737899,547971276.68493104,2678.8547481000423,350286571.85527837,130759.82268307623,51806204.024148859,546697219.52282584,2703.8631590604782,349012514.69317317,129079.20784513588,null,null,null,82885011904422.672,82885402572878.844,82889300031451.312,82889308792875.734,82889369360585.609,82889378122010.016,82889269124769.688,82889310412284.375,82889338453903.953,82889379741418.656,0,0,0,0,0,0,0,0,0,1,null,0,0,0,0,0,0,0,0,1]
[null,254,1366704.4289742524,0.16327057981634699,0.11023591935777149,0.20232241204499934,0.39851964038242466,0.18586160344282807,0.32928711419483392,4.6722586050982673E-2,0.52103365725340955,372.39573881045953,237.33201326573845,17619.461690822725,646941.1454583517,317.92898082655671,2011.1175190557526,4869.8285391813342,53483.263739078029,6185.1645095909289,1116.6725683057168,0.96641146793220711,null,38687869.316799514,94747059.678372011,38688138.204152964,133753113.90303652,38690802.707327478,518719038.92588675,2664.5031745135784,384965925.02285022,144479.43943363029,38690802.841097444,518744577.65347898,2664.6369444802403,384991463.75044245,144481.77060216293,38690803.379348822,518699562.38809156,2665.1751958578825,384946448.48505503,144435.70129398047,38690803.513118796,518725101.11568385,2665.308965831995,384971987.21264732,144438.03406952319,38690802.196718462,518731985.58781332,2663.992565497756,384988765.15866679,144515.70554091738,38690802.841097444,518741879.06170332,2664.6369444802403,384988765.15866679,144480.75785940213,38690802.868739814,518712509.05001813,2664.6645868495107,384959395.1469816,144468.23703321221,38690803.513118796,518722402.5239082,2665.308965831995,384969288.62087166,144437.02158211169,null,null,null,61900496159819.539,61900887373530.836,61904765612685.031,61904765801178.258,61904766707395.727,61904766895888.953,61904764782763.953,61904765803876.852,61904765877474.656,61904766898587.547,0,0,0,0,0,0,0,0,0,1,null,0,0,0,0,0,0,0,0,1]
[null,255,1888415.3289296869,0.20652951233389938,9.7262349135062737E-2,0.21091353053477324,0.58120144792807316,0.29027186570786334,0.40267546343274652,3.989232223815542E-2,0.54453699793247168,1759.2929362695579,3551.5397868126011,160.61327536365962,408463.81002655264,271.53132420916347,2446.9544955925426,4064.9980116923052,1838.7557450512629,3438.996306519658,79.676905199119844,0.92534905125718925,null,53457294.674311422,59767007.418443032,53457565.139801838,356241724.97049248,53460242.546005286,3294939548.3894987,2677.4062034487724,2938697823.4190063,1097591.3253781453,53460244.523101084,3294908860.9172382,2679.3832992464304,2938667135.9467459,1096769.96821367,53460246.873880103,3294866352.9873533,2681.7340782657266,2938624628.016861,1095792.7006384113,53460248.850975893,3294835665.5150928,2683.711174055934,2938593940.5446005,1094973.9930856486,53460236.687029488,3295035768.3720279,2671.5472276508808,2938651628.2056427,1099981.1636456188,53460244.523101084,3294893353.1761351,2679.3832992464304,2938651628.2056427,1096764.180411265,53460241.014904298,3294962572.9698825,2675.8751024603844,2938720847.9993901,1098227.9573875952,53460248.850975893,3294820157.7739897,2683.711174055934,2938578432.8034973,1094968.2146169173,null,null,null,85531611711890.859,85531747981957.969,85533093134060.062,85533096328100.812,85533100131855.188,85533103325895.906,85533083663478.812,85533096343608.562,85533090661273.906,85533103341403.641,0,0,0,0,0,0,0,0,0,1,null,0,0,0,0,0,0,0,0,1]
[null,256,1912529.4539212855,0.15771344280576885,0.13598889082751756,0.19705872769433241,0.59445104860380549,0.24406550408757838,0.32296582853806005,3.371465781809152E-2,0.44800741205885464,235.30634625255456,1865.6203852336405,5209.362287028388,11011.570479731881,22.969365401006801,920.11913139395529,52644.849827651422,72.99191893390595,2041.7460631942688,275.78014131663787,0.87032701554842906,null,54139895.963622868,1612169.9436869766,54140172.957876906,44533581.168596454,54142918.75130412,449384463.12001151,2745.7934272140265,404850881.95141506,147444.04219883002,54142919.371019691,449384266.61822343,2746.41314278543,404850685.44962698,147410.70057617946,54142920.866787262,449384859.59292263,2747.908910356462,404851278.42432618,147330.67639123759,54142921.486502834,449384663.09113455,2748.5286259278655,404851081.9225381,147297.38599170162,54142916.547280028,449301834.61921185,2743.5894031226635,404766945.15760344,147531.89551501803,54142919.371019691,449300526.32619989,2746.41314278543,404766945.15760344,147380.20979141039,54142918.662763178,449302231.09212297,2745.7048862725496,404768649.92352653,147418.84750513846,54142921.486502834,449300922.79911101,2748.5286259278655,404767341.63051456,147266.91867503134,null,null,null,86623831929626.656,86624232199021.875,86628220617623.469,86628221609364.875,86628224002000.031,86628224993741.438,86628217173813.422,86628221693105.172,86628220558189.984,86628225077481.734,0,0,0,0,0,0,0,0,0,1,null,0,0,0,0,0,0,0,0,1]
[null,257,1329535.1806045573,0.16929905217594898,0.10842714054328237,0.15600968075903146,0.50164705513927121,0.25849626368202422,0.28899035979626914,4.1474602346284417E-2,0.52713973381456458,193.44740076507546,3229.9211475178245,2194.3397180307879,389680.63261120202,179.32439101233345,2832.3111927936757,10632.543041059855,13447.230220823643,5974.8174104986392,1265.959081018884,0.76416861980606565,null,37635407.499682814,56929796.441504106,37635693.967209801,76172500.169891879,37638534.566371262,262850916.16240588,2840.5991614609957,186678415.99251401,65717.971942405391,37638536.038516507,262899121.4662818,2842.0713067054749,186726621.29638994,65700.892463828844,37638541.639325514,262744562.65301424,2847.6721157133579,186572062.48312235,65517.396280851317,37638543.111470766,262792767.95689017,2849.1442609652877,186620267.78699827,65500.462838540676,37638527.093880706,262921479.47898257,2833.1266709044576,186668453.2660473,65887.789339985495,37638536.038516507,262840953.43593916,2842.0713067054749,186668453.2660473,65680.425690104559,37638534.166834965,262815125.96959093,2840.1996251642704,186642625.79969907,65714.615320007346,37638543.111470766,262734599.92654753,2849.1442609652877,186562099.75665563,65480.046873249077,null,null,null,{"$f":"cRatio*X264-Y264","v":60216595069696.055},{"$f":"cRatio*Z264-AA264","v":60217034175035.508},{"$f":"cRatio*AB264-AC264","v":60221392455277.852},{"$f":"cRatio*AG264-AH264","v":60221394762504.945},{"$f":"cRatio*AL264-AM264","v":60221403878358.164},{"$f":"cRatio*AQ264-AR264","v":60221406185585.273},{"$f":"cRatio*AV264-AW264","v":60221380428729.648},{"$f":"cRatio*BA264-BB264","v":60221394820672.977},{"$f":"cRatio*BF264-BG264","v":60221391851809.977},{"$f":"cRatio*BK264-BL264","v":60221406243753.297},0,0,0,0,0,0,0,0,0,1,null,0,0,0,0,0,0,0,0,1]
[null,258,1785186.7658191964,0.22223599209413825,0.25514061225690499,0.18360159728043918,0.55813102886604371,0.2635309286561191,0.37952214740833201,3.8391167999451095E-2,0.53794431599333592,668.56244130404343,61.314683784126913,5647.4350039141245,21002.945327474379,13.277262209319943,12371.691254174973,6808.6939798032108,19179.797205879866,5864.8074839625851,990.78636189468989,0.37812617900220918,null,50534323.911937073,3079155.5105188009,50534638.673036516,111731397.41373499,50537736.427913159,1186581502.5926912,3097.7548766434193,1074850105.1789563,346977.13278838026,50537736.92471002,1186596134.9974382,3098.2516735047102,1074864737.5837033,346926.21867216728,50537739.172085285,1186588944.3093312,3100.499048769474,1074857546.8955963,346672.43240154698,50537739.668882146,1186603576.7140779,3100.995845630765,1074872179.300343,346621.61215559649,50537734.889151774,1186577430.5802763,3096.2161152586341,1074859397.8919117,347152.57523363363,50537736.92471002,1186590795.3056467,3098.2516735047102,1074859397.8919117,346924.49521895743,50537737.633323893,1186584872.2969162,3098.9602873772383,1074853474.8831813,346843.25554648152,50537739.668882146,1186598237.0222867,3100.995845630765,1074866839.6085517,346619.8902275266,null,null,null,80854915179943.797,80855310145461.016,80859191703158.453,80859192483401.031,80859196086392.141,80859196866634.719,80859189245212.266,80859192488740.719,80859193628445.938,80859196871974.422,{"$f":"IF(BS265=MAX($BS265:$CB265),1,0)","v":0},{"$f":"IF(BT265=MAX($BS265:$CB265),1,0)","v":0},{"$f":"IF(BU265=MAX($BS265:$CB265),1,0)","v":0},{"$f":"IF(BV265=MAX($BS265:$CB265),1,0)","v":0},{"$f":"IF(BW265=MAX($BS265:$CB265),1,0)","v":0},{"$f":"IF(BX265=MAX($BS265:$CB265),1,0)","v":0},{"$f":"IF(BY265=MAX($BS265:$CB265),1,0)","v":0},{"$f":"IF(BZ265=MAX($BS265:$CB265),1,0)","v":0},{"$f":"IF(CA265=MAX($BS265:$CB265),1,0)","v":0},{"$f":"IF(CB265=MAX($BS265:$CB265),1,0)","v":1},null,{"$f":"IF(BT265=MAX($BT265:$CB265),1,0)","v":0},{"$f":"IF(BU265=MAX($BT265:$CB265),1,0)","v":0},{"$f":"IF(BV265=MAX($BT265:$CB265),1,0)","v":0},{"$f":"IF(BW265=MAX($BT265:$CB265),1,0)","v":0},{"$f":"IF(BX265=MAX($BT265:$CB265),1,0)","v":0},{"$f":"IF(BY265=MAX($BT265:$CB265),1,0)","v":0},{"$f":"IF(BZ265=MAX($BT265:$CB265),1,0)","v":0},{"$f":"IF(CA265=MAX($BT265:$CB265),1,0)","v":0},{"$f":"IF(CB265=MAX($BT265:$CB265),1,0)","v":1}]
[null,259,1725879.0955868873,0.1936313525763369,0.12001470474741027,0.23283115333403415,0.54626237630550301,0.26446404127478407,0.23796351171947855,3.2004742815681136E-2,0.58259189542931722,937.16845611849249,1670.6559498276074,1268.5133287891001,1267056.4970391307,196.37202252669721,805.46599072067477,579.52760729107979,54259.530314468284,3057.0536637846453,213.27168073864129,0.91580851457641088,null,48855935.358756267,185431856.68382961,48856206.623844586,316333688.1750595,48858890.544397347,1614657353.3794482,2683.9205527603626,1298323665.2043886,483741.46688846161,48858891.709737897,1614815243.0376666,2685.0858933106065,1298481554.862607,483590.32316155435,48858896.819593258,1614290743.2864928,2690.1957486718893,1297957055.1114333,482476.80703243095,48858897.984933816,1614448632.9447112,2691.3610892295837,1298114944.7696517,482326.56330081815,48858883.310353689,1615081438.8983598,2676.6865091025829,1298479134.6681225,485106.91493097774,48858891.709737897,1614812822.8431821,2685.0858933106065,1298479134.6681225,483589.42181441659,48858889.5855496,1614714828.8054044,2682.9617050141096,1298381140.6303449,483935.77075805364,48858897.984933816,1614446212.7502265,2691.3610892295837,1298112524.5751669,482325.66405526747,null,null,null,78169311142153.344,78169614264463.172,78172610213682.375,78172611920337.609,78172620620605.938,78172622327261.172,78172598215127.016,78172611922757.797,78172608622050.547,78172622329681.359,0,0,0,0,0,0,0,0,0,1,null,0,0,0,0,0,0,0,0,1]
[null,260,1890862.3143735135,0.14882478357140666,0.12018819735899815,0.24401897749023016,0.58180212859628511,0.31702452320238073,0.43020459275616685,4.0587846112450143E-2,0.45355157181605255,657.66252641787719,3538.3898099593043,687.27096907905025,431800.62129815639,191.53053771818097,4894.9751635218436,9648.8321854828318,7005.5036259653552,8241.8044448306555,1130.0969025033683,0.94378212265963501,null,53526584.386516795,63257539.160516396,53526855.672782555,171357388.81110585,53529545.999956548,1239578709.1166079,2690.3271739929914,1068221320.3055021,397060.00468338758,53529546.000821441,1239578708.3625417,2690.3280388861895,1068221319.5514358,397059.8767552842,53529546.002737656,1239578664.4249837,2690.3299551010132,1068221275.6138779,397059.57761369448,53529546.003602549,1239578663.6709175,2690.3308199942112,1068221274.8598117,397059.4496858606,53529545.997439459,1239578737.0555651,2690.3246569037437,1068221296.421111,397060.36729801662,53529546.000821441,1239578685.2322168,2690.3280388861895,1068221296.421111,397059.86815769889,53529546.000220567,1239578692.363941,2690.3274380117655,1068221303.5528351,397059.95949038956,53529546.003602549,1239578640.5405927,2690.3308199942112,1068221251.7294868,397059.44108828419,null,null,null,85642471760887.719,85642797719063.281,85646034021221.375,85646034022605.953,85646034025715.828,85646034027100.406,85646034017166.078,85646034022629.078,85646034021660.547,85646034027123.531,0,0,0,0,0,0,0,0,0,1,null,0,0,0,0,0,0,0,0,1]
[null,261,1549936.8345922278,0.17596811185324654,0.25257885700329097,0.16476495075777325,0.45300783735370315,0.31140265019812963,0.41399854227955879,4.0036098303564582E-2,0.50078225679773314,320.98952246271557,2466.5185295158167,4856.8398259295918,912152.15922181203,250.85412806432223,1552.8948194716322,10273.94504865242,16433.464272454334,7493.7590500547485,66.949038336004179,0.66092591401823098,null,43874785.482130185,133627828.55324845,43875076.606467716,168306060.13285133,43877949.400496364,508699423.13080508,2872.794028647244,340393362.99795377,118488.60712030927,43877949.400496483,508699423.13419336,2872.7940287664533,340393363.00134206,118488.6071165719,43877949.400497794,508699423.07589626,2872.7940300777555,340393362.9430449,118488.60704219431,43877949.400497906,508699423.07928455,2872.7940301895142,340393362.94643319,118488.60703876425,43877949.400495835,508699423.14640391,2872.7940281182528,340393362.99638569,118488.60714158171,43877949.400496483,508699423.12923706,2872.7940287664533,340393362.99638569,118488.60711484663,43877949.400497273,508699423.09149516,2872.7940295562148,340393362.95864379,118488.60706913516,43877949.400497906,508699423.07432836,2872.7940301895142,340393362.94147706,118488.60703703905,null,null,null,70199523143579.742,70199954264288.211,70204210341371.047,70204210341371.242,70204210341373.391,70204210341373.57,70204210341370.188,70204210341371.242,70204210341372.539,70204210341373.57,0,0,0,0,0,1,0,0,0,1,null,0,0,0,0,1,0,0,0,1]
[null,262,1661899.6942160474,0.19986813429937089,0.28228590482684623,0.18108980101977473,0.61013271184859197,0.24127879191487603,0.46701614916852452,4.5352072899149665E-2,0.59592699920821746,943.32966260303749,3745.5479608861365,1066.195738044164,216283.46873864051,111.55781575646152,3597.1409350381191,2237.9875883507684,10911.058464897078,379.40672262234261,581.36398611982372,0.98546160230006508,null,47044769.031666122,31714754.08700452,47045027.557150684,171480739.13993549,47047572.225663804,1556881591.7168293,2544.6685131192207,1385400852.5768938,544432.74062392034,47047572.918965176,1556884918.2720115,2545.3618144914508,1385404179.132076,544285.75585780607,47047575.61312598,1556850111.0886445,2548.0559752956033,1385369371.948709,543696.60061647219,47047576.30642736,1556853437.6438267,2548.7492766752839,1385372698.5038912,543550.01144366805,47047570.916861296,1556892940.3914773,2543.359710611403,1385402030.2793856,544713.36653608712,47047572.918965176,1556882769.4193211,2545.3618144914508,1385402030.2793856,544284.91163492261,47047574.30432348,1556861459.7632926,2546.7471727952361,1385380720.6233571,543980.46866301342,47047576.30642736,1556851288.7911363,2548.7492766752839,1385370549.6512008,543549.16834281455,null,null,null,75271598735911.703,75271872610701.953,75274558679470.359,75274559785426.016,75274564130890.469,75274565236846.141,75274556574037.688,75274559787574.859,75274562025457.797,75274565238994.984,0,0,0,0,0,0,0,0,0,1,null,0,0,0,0,0,0,0,0,1]
[null,263,1528016.0482739815,0.17021236674486112,0.11109561309762143,0.19624322334706232,0.60531956133394682,0.28386237373898304,0.38274852451992636,4.5182507216818268E-2,0.45336830944125917,54.230712485137836,1709.6384743506364,10376.582833980518,2518859.2825389672,9.0247199405996401,2783.7440175632692,44576.374099220855,15375.966289448927,9507.0374366287397,484.54189608372229,0.94045739972654019,null,43254665.747639149,351776456.52207011,43254906.661082983,333236699.43100184,43257294.375346556,136211913.32967877,2387.7142635732889,-197024786.10132307,-82516.065304426054,43257337.974985227,132560082.7800056,2431.3139022439718,-200676616.65099624,-82538.341291835051,43257399.233736061,124087961.73246261,2492.5726530775428,-209148737.69853923,-83908.782935697527,43257442.833374724,120436131.18278943,2536.1722917407751,-212800568.2482124,-83906.195545630922,43257161.973796517,147508457.55099675,2255.3127135336399,-205032060.03619063,-90910.701121772581,43257337.974985227,128204639.39481123,2431.3139022439718,-205032060.03619063,-84329.736216683945,43257266.832186006,135384505.95378059,2360.1711030229926,-197852193.47722125,-83829.597449017572,43257442.833374724,116080687.79759508,2536.1722917407751,-217156011.63340676,-85623.525002852024,null,null,null,69207113419766.117,69207517421033.344,69211534788641.164,69211608199893.578,69211714686015.961,69211788097268.375,69211311649616.875,69211612555336.961,69211491546991.656,69211792452711.758,0,0,0,0,0,0,0,0,0,1,null,0,0,0,0,0,0,0,0,1]
[null,264,1436467.7111018903,0.16641773248920574,0.13469238503226344,0.21878981333020731,0.51108567256431991,0.2627764109096537,0.3178522053823698,4.2671212218763244E-2,0.52616511737801674,423.37854914163739,690.52321853133174,4862.4447029349758,894378.60555787769,5.3805034831905036,1231.1365680985789,28400.588319610972,118.93667714307415,4041.0411579738247,198.09893896311459,0.70353961477430083,null,40662568.316843644,130611651.02128738,40662858.202519566,175898484.05212709,40665727.962323993,614210889.28363132,2869.7598044276237,438312405.2315042,152734.87507743738,40665730.816700742,614101357.18575025,2872.614181175828,438202873.13362312,152544.98011085376,40665743.36366877,613625439.23766243,2885.1611492037773,437726955.18553531,151716.63992021227,40665746.21804551,613515907.13978136,2888.015525944531,437617423.08765423,151528.76400985781,40665715.353768528,614432155.38088143,2857.1512489616871,437935357.57308722,153276.92495531577,40665730.816700742,613833841.62521434,2872.614181175828,437935357.57308722,152451.85393947686,40665730.755113304,613846705.33491254,2872.5525937378407,437948221.28278542,152459.60064839604,40665746.21804551,613248391.57924545,2888.015525944531,437349907.52711833,151436.13446609923,null,null,null,65059978695298.805,65060397225547.25,65064550528829.109,65064555205364,65064575756430.797,65064580432965.68,65064530133874.258,65064555472879.562,65064555361475.953,65064580700481.242,0,0,0,0,0,0,0,0,0,1,null,0,0,0,0,0,0,0,0,1]
[null,265,1499977.2245286328,0.18063642606628771,0.19607260933084181,0.23997824925450129,0.48555225256299589,0.33179312824034057,0.34797117054217352,4.3700274306921694E-2,0.447229396120502,830.99312961331475,54.862546762730929,11542.258856690512,238356.59767999829,150.39980861335602,1123.1235543664852,33377.345569174882,11241.227675955797,5016.3519349070057,265.75154504630518,0.94430539386567935,null,42460752.033101223,34942219.980208442,42461018.335107222,146793584.59317303,42463646.327220477,1243050932.5586317,2627.9921132549644,1096257347.9654586,417146.36145070544,42463646.97569111,1243079114.9278135,2628.6405838876963,1096285530.3346405,417054.17509504495,42463652.210887536,1242988566.9483099,2633.8757803142071,1096194982.3551369,416190.84337544831,42463652.859358169,1243016749.317492,2634.524250946939,1096223164.724319,416099.09809344081,42463642.490069188,1242988668.2418089,2624.1549619659781,1096180283.3866754,417726.96326036833,42463646.97569111,1242973867.9798484,2628.6405838876963,1096180283.3866754,417014.13654865324,42463648.373736247,1242926302.6314869,2630.0386290252209,1096132718.0383139,416774.37963889405,42463652.859358169,1242911502.3695266,2634.524250946939,1096117917.7763536,416059.1489648922,null,null,null,67937168310741.984,67937482542586.961,67940591072620.203,67940592081990.844,67940600548853.109,67940601558223.75,67940584995442.461,67940592187237.797,67940594471675.359,67940601663470.703,0,0,0,0,0,0,0,0,0,1,null,0,0,0,0,0,0,0,0,1]
[null,266,1140211.0591656847,0.19170651812502904,0.15314356939356921,0.173334007480129,0.4929871758757734,0.3152289886652011,0.37359421907570867,4.0242928706956338E-2,0.60801184296297694,36.604893717666734,111.38568207053099,1141.4227002823682,212580.86941154458,56.691216410904637,6650.9002501054438,16516.239217467977,5291.3501174588764,2288.5951270956266,650.157401965708,0.93201087386106418,null,32275876.634543609,31142523.322944496,32276146.042366337,33002355.529219143,32278810.919965908,44960175.195798412,2664.8775995709002,11957819.666579269,4487.1928333611731,32278810.920006469,44960175.581165761,2664.877640131861,11957820.051946618,4487.1929096733056,32278810.920262557,44960173.236405805,2664.877896219492,11957817.707186662,4487.1915985908872,32278810.920303117,44960173.621773154,2664.8779367804527,11957818.09255401,4487.1916749030297,32278810.9197773,44960174.609722994,2664.8774109631777,11957817.589693516,4487.1923715888879,32278810.920006469,44960173.11891266,2664.877640131861,11957817.589693516,4487.1919857085186,32278810.920073949,44960172.650330387,2664.8777076117694,11957817.121111244,4487.1916962477399,32278810.920303117,44960171.159520052,2664.8779367804527,11957815.630300909,4487.1907509383454,null,null,null,51641371472746.453,51641800665430.609,51646052511770.258,51646052511834.773,51646052512246.859,51646052512311.359,51646052511469.07,51646052511837.234,51646052511945.672,51646052512313.828,0,0,0,0,0,0,0,0,0,1,null,0,0,0,0,0,0,0,0,1]
[null,267,1900054.9131169352,0.27342035460612624,8.9802083589967899E-2,0.2316536407727765,0.49100888836597095,0.257503500759929,0.36490586334878095,4.4081035212088282E-2,0.59330036965101629,46.267804752382219,2540.3140476386047,2937.2302730515894,523608.65865810064,45.832865840905725,3054.3296034080731,9243.5372884606113,18568.927591093339,2224.8072651261205,12.635545019305132,0.85262669444292993,null,53786714.137370646,76953291.781116739,53786985.145680048,79085119.765294641,53789657.021661632,97188421.955196425,2671.8759815841913,18103302.189901784,6775.5024240189814,53789671.089771651,97363576.771706775,2685.9440916031599,18278457.006412134,6805.2261636995827,53789689.194412723,96505327.763191611,2704.048732675612,17420207.997896969,6442.2685092143138,53789703.262522742,96680482.57970196,2718.1168426945806,17595362.814407319,6473.3651394339304,53789605.536098622,98161801.41844587,2620.390418574214,18024296.017809436,6878.4773024840597,53789671.089771651,97109415.783104077,2685.9440916031599,18024296.017809436,6710.599849846938,53789637.708849721,97478707.226441056,2652.5631696730852,18393587.461146414,6934.2693404784513,53789703.262522742,96426321.591099262,2718.1168426945806,17341201.825804621,6379.8588616277357,null,null,null,86058665666501.25,86059097147968.312,86063354046236.656,86063376380057.875,86063406205732.594,86063428539553.812,86063270695956.375,86063376634218.859,86063322855452.328,86063428793714.797,0,0,0,0,0,0,0,0,0,1,null,0,0,0,0,0,0,0,0,1]
[null,268,1729997.9314112836,0.18369094983281448,0.19028130085010286,0.24003480823954215,0.60495522112008282,0.36737699518907141,0.33051019599827247,4.2978157964412955E-2,0.38724059689476154,68.955372445693783,103.22198693183064,6015.1259170692092,176054.04783988348,135.24481454842262,2776.3248945313744,9316.2010269224556,26937.002698991393,945.31804545394323,279.35725875965949,0.97026281093404187,null,48972594.20772218,25793658.558978304,48972858.683411643,35011795.83558628,48975468.555988774,122845080.78797103,2609.8725771307945,87833284.952384755,33654.242633157861,48975468.690211691,122855848.28537993,2610.0068000480533,87844052.449793652,33656.637388138734,48975469.241673388,122840580.88195443,2610.558261744678,87828785.046368152,33643.679336109039,48975469.375896305,122851348.37936333,2610.6924846619368,87839552.543777049,33646.074005208451,48975467.863675967,122846749.76956509,2609.1802643239498,87839940.897065982,33665.723330091838,48975468.690211691,122851736.73265226,2610.0068000480533,87839940.897065982,33655.062084684512,48975468.549360581,122842249.86354849,2609.8659489378333,87830454.027962208,33653.243402676511,48975469.375896305,122847236.82663566,2610.6924846619368,87835440.991049379,33644.49911549937,null,null,null,78356124938696.922,78356538881662.797,78360626844501.25,78360627048490.422,78360627946096.547,78360628150085.719,78360625735131.781,78360627052601.969,78360626836727.062,78360628154197.266,0,0,0,0,0,0,0,0,0,1,null,0,0,0,0,0,0,0,0,1]
[null,269,1718084.5583948966,0.17820972016931064,0.14508065255582425,0.17678187604374876,0.53353067700860335,0.24674791233157473,0.28768158848690212,4.5980365888600994E-2,0.48363066273025662,33.35929890132131,1871.4558141370769,1842.2887094498767,246073.46070336711,51.122488163674433,1964.1052962997626,25277.50572749105,7374.5148556949125,4908.6816719358685,1873.172777842052,0.92352295476257606,null,48635286.04678493,35976720.606113747,48635554.418224119,39401231.195610575,48638209.488876291,63697262.892168976,2655.0706521719694,24296031.696558401,9150.8042080473952,48638213.142445259,63740816.386150427,2658.7242211401463,24339585.190539852,9154.6106952387327,48638226.924766846,63519855.386919431,2672.5065427273512,24118624.191308856,9024.7203536105371,48638230.578335814,63563408.880900882,2676.160111695528,24162177.685290307,9028.6741737518605,48638192.65881259,63597420.918213412,2638.2405884712934,24046519.421466231,9114.6044551606974,48638213.142445259,63447750.617076807,2658.7242211401463,24046519.421466231,9044.382726973583,48638210.094703145,63420013.412963875,2655.6764790266752,24018782.217353299,9044.3178629033755,48638230.578335814,63270343.111827262,2676.160111695528,23869111.916216686,8919.164369838094,null,null,null,77816421698135.281,77816847667927.391,77821071484939.172,77821077287096.031,77821099559771.562,77821105361928.422,77821044656679.219,77821077580161.812,77821072731511.625,77821105654994.188,0,0,0,0,0,0,0,0,0,1,null,0,0,0,0,0,0,0,0,1]
[null,270,1875281.257364349,0.19186601030011008,0.18506056983489783,0.26236745394843775,0.60691639220229598,0.27036196243521549,0.21261498989018687,3.8655811134652052E-2,0.63566440100579236,1256.6821287078174,329.11373419197679,22438.824974708823,143681.61770609146,175.78611646728518,9863.6401286071759,2646.2243366156217,4839.8553344236234,168.2421208892369,48.570500003032045,0.86424527680219865,null,53085402.921785407,21049000.489160407,53085677.414767429,233842127.78054553,53088383.569610387,2343212163.4373908,2706.1548429578543,2109370035.6568453,779471.30081857508,53088383.571685746,2343212183.251029,2706.1569183170795,2109370055.4704835,779470.71036156721,53088383.58739271,2343212114.7980633,2706.1726252809167,2109369987.0175178,779466.16092111007,53088383.589468069,2343212134.6117015,2706.174700640142,2109370006.831156,779465.5704719238,53088383.555750467,2343212236.1882215,2706.1409830376506,2109370037.1839664,779475.29356589285,53088383.571685746,2343212164.9645119,2706.1569183170795,2109370037.1839664,779470.70360419212,53088383.57353279,2343212187.5488939,2706.158765360713,2109370059.7683485,779470.17993498372,53088383.589468069,2343212116.3251848,2706.174700640142,2109369988.5446393,779465.56371459342,null,null,null,84936623625856.172,84936850021500.109,84939070499213.188,84939070502513.938,84939070527713.547,84939070531014.297,84939070476964.562,84939070502532.219,84939070505464.922,84939070531032.578,0,0,0,0,0,0,0,0,0,1,null,0,0,0,0,0,0,0,0,1]
[null,271,1766880.8057690486,0.17942890622163579,0.14561386447694197,0.22932084389876706,0.39821908750072388,0.2645634067738224,0.34076110936258225,3.4566869140816477E-2,0.51056541622465368,707.4907563520178,4869.906281070068,809.18300665722177,650739.41401526402,57.424710270243956,273.20800789984867,13991.750213376692,41556.936154700998,550.89272308858278,1549.957716280903,0.7812535669974735,null,50016530.660364829,95329273.19336994,50016815.046451293,201238241.76539829,50019629.094238497,1246190373.110487,2814.0477872043848,1044952131.3450887,371334.1813513395,50019629.121804535,1246195807.8780353,2814.0753532424569,1044957566.112637,371332.47512672591,50019629.345021777,1246183158.62098,2814.298570483923,1044944916.8555818,371298.5281003436,50019629.372587807,1246188593.3885283,2814.3261365145445,1044950351.6231301,371296.82237797382,50019628.935346603,1246192871.704371,2813.8888953104615,1044955467.7723973,371356.33518220537,50019629.121804535,1246193709.5377955,2814.0753532424569,1044955467.7723973,371331.72946785885,50019629.186129875,1246185657.2148645,2814.1396785825491,1044947415.4494662,371320.38022213406,50019629.372587807,1246186495.0482891,2814.3261365145445,1044948253.2828908,371296.0767855522,null,null,null,80026353727310.531,80026702836080.297,80030160360408.484,80030160399079.375,80030160768876.219,80030160807547.094,80030160103682.859,80030160401177.719,80030160512150.578,80030160809645.438,0,0,0,0,0,0,0,0,0,1,null,0,0,0,0,0,0,0,0,1]
[null,272,1623948.3606348031,0.15179070456769619,0.14291196597956421,0.21334182053763184,0.4493920492883603,0.31235181499462095,0.38898745774644072,3.5580358333763128E-2,0.42344163781589289,358.07925882781723,2799.4791530242492,1060.0790323004044,1296909.5230997601,75.867912108253762,4286.7553486317429,18911.551437744445,75311.278264456807,1963.4693807545559,302.3159514278035,0.67194388892268231,null,45970049.161232956,189480051.80845174,45970343.110317171,226760301.99899307,45973256.936481804,589178987.03556108,2913.8261646330357,362418685.03656805,124378.96585440631,45973258.27595792,589639370.22995353,2915.1656407490373,362879068.23096049,124479.74247450328,45973266.954187326,588651992.38124251,2923.8438701555133,361891690.38224947,123772.57694098461,45973268.29366345,589112375.57563508,2925.1833462789655,362352073.57664204,123873.2861095968,45973250.036836058,589428598.29489565,2906.9265188872814,362744743.67215598,124786.34781969241,45973258.27595792,589505045.67114902,2915.1656407490373,362744743.67215598,124433.66462666956,45973260.05454158,588901603.64057732,2916.944224409759,362141301.64158428,124150.91746050208,45973268.29366345,588978051.01683056,2925.1833462789655,362217749.01783752,123827.36606189264,null,null,null,73551889177920.922,73552322216205.469,73556621919383.859,73556623602162.438,73556638474707.344,73556640157485.938,73556610630339.391,73556623736487,73556627185662.891,73556640291810.5,0,0,0,0,0,0,0,0,0,1,null,0,0,0,0,0,0,0,0,1]
[null,273,1424594.9932017711,0.1600278045376802,0.14267694136809564,0.26525081955030683,0.48020557921376245,0.28253219149024722,0.36606483388983313,3.964893370784861E-2,0.54020801454409106,340.76474690423282,2210.6832930261712,12515.184697023893,673756.19284298609,72.562494189309874,1699.6541715683727,110432.1470677506,264.63870186240331,1785.896638375264,434.9197067971096,0.7624577145361221,null,40326582.602563947,96516280.012103528,40326848.097982347,137260108.30623105,40329476.657958396,505213219.70367938,2628.5599760487676,367953111.3974483,139982.77184093505,40329494.661246821,504695453.68451118,2646.5632644742727,367435345.37828016,138834.8997019988,40329596.48780141,501762726.45608222,2748.3898190632463,364502618.1498512,132624.06068513502,40329614.491089836,501244960.43691403,2766.3931074887514,363984852.13068295,131573.79952449977,40329400.919289313,499881932.54315561,2552.8213069662452,359849372.36354661,140961.44190804687,40329494.661246821,497109480.66977769,2646.5632644742727,359849372.36354661,135968.55106164597,40329520.749132328,496431439.29555839,2672.6511499807239,359171330.98932731,134387.65885772926,40329614.491089836,493658987.42218053,2766.3931074887514,356398879.11594951,128831.61042845342,null,null,null,64522435647822.297,64522819696663.453,64526657439513.727,64526686762541.227,64526852617755.805,64526881940783.297,64526541588930.352,64526694348514.242,64526736767172.43,64526889526756.312,0,0,0,0,0,0,0,0,0,1,null,0,0,0,0,0,0,0,0,1]
[null,274,1640673.1715246036,0.16879356598040823,0.25375728711172385,0.18158232028729004,0.43800477561416185,0.24912391955827165,0.4360245890783303,4.1128867815940495E-2,0.51829304409544985,704.15697137113978,1393.8360715426152,1411.2496904330112,958888.63029797166,138.98081939797899,1339.4305579536656,4084.5070861596805,11564.855497738799,2424.7831986096699,46.362144772602925,0.80055430947148087,null,46443654.204378799,140475162.32198903,46443932.587028138,233616925.6555281,46446679.950019285,1156278262.2191195,2747.3629911467433,922661336.56359148,335835.24985115806,46446679.952310659,1156278249.2021389,2747.3652825206518,922661323.54661083,335834.96501786169,46446679.971698068,1156277341.9624584,2747.3846699297428,922660416.3069303,335832.26491924952,46446679.973989442,1156277328.9454777,2747.3869613036513,922660403.28994966,335831.98009069019,46446679.943146445,1156278526.9756269,2747.3561183065176,922661293.42183757,335836.07428023202,46446679.952310659,1156278219.0773656,2747.3652825206518,922661293.42183757,335834.95405289339,46446679.964825235,1156277606.7189658,2747.3777970969677,922660681.0634377,335833.20140330622,46446679.973989442,1156277298.8207045,2747.3869613036513,922660373.16517639,335831.96912580839,null,null,null,74309706251843.75,74310058522319.359,74313531641768.641,74313531645447.844,74313531677374.938,74313531681054.156,74313531630507.344,74313531645477.969,74313531666113.656,74313531681084.281,0,0,0,0,0,0,0,0,0,1,null,0,0,0,0,0,0,0,0,1]
[null,275,1333958.3906782791,0.22974605412037674,0.17224698150795414,0.23622183575991695,0.48292317292375764,0.2248665249848471,0.33373287758143244,5.0754368939195604E-2,0.55353915380837238,537.48059025538021,13.95683963714596,2539.3666759282405,1027887.9889045608,252.47216429888996,12800.509105176034,12597.865615126118,92979.099411741074,7203.3035833140893,728.6133528482269,0.84714901708337043,null,37760708.160719514,150600034.81168562,37760982.750275835,203618219.90344945,37763684.810759909,725400391.51093471,2702.0604840740561,521782171.60748529,193105.28934598959,37763684.935826801,725421260.45550489,2702.1855509653687,521803040.55205548,193104.07472412058,37763685.41343081,725375913.41583467,2702.6631549745798,521757693.51238525,193053.17148088798,37763685.538497709,725396782.36040485,2702.788221873343,521778562.45695543,193051.95954098945,37763684.343504056,725418601.51337385,2701.5932282209396,521799421.33231962,193145.07301898161,37763684.935826801,725417641.23576903,2702.1855509653687,521799421.33231962,193102.73535653547,37763684.946174957,725394123.41827393,2702.1958991214633,521775903.51482451,193093.29263820735,37763685.538497709,725393163.14066911,2702.788221873343,521774943.23721969,193050.62047205816,null,null,null,60416982457116.406,60417368782221.43,60421170296824.344,60421170476062.43,60421171285575.883,60421171464813.977,60421169531004.977,60421170479681.648,60421170519756.508,60421171468433.195,0,0,0,0,0,0,0,0,0,1,null,0,0,0,0,0,0,0,0,1]
[null,276,1817336.8433832049,0.20458228873749895,0.15640168465225918,0.17904678315120942,0.5095878139709078,0.28605582556900888,0.30265204003279605,3.3409781333809556E-2,0.54920883995051384,465.03092937248692,1430.4789154281966,508.59558663695429,1571973.3482390819,63.736203984798145,6161.5783849233831,1367.9200222276904,4811.2435505738849,1933.9905498517458,850.59181729574891,0.84620003586886616,null,51444995.544236973,230291949.82139385,51445272.412075177,287364699.73750156,51448009.43192365,853448621.25449753,2737.0198484733701,566083921.51699591,206824.92376982249,51448009.45957116,853447083.23870802,2737.047495983541,566082383.5012064,206822.27266128905,51448009.603510395,853436925.09902179,2737.1914352178574,566072225.36152029,206807.68545385491,51448009.631157905,853435387.08323216,2737.2190827280283,566070687.34573054,206805.03468562721,51448009.286698639,853458869.63299775,2736.8746234625578,566082259.34633446,206835.29106282382,51448009.45957116,853446959.08383596,2737.047495983541,566082259.34633446,206822.2273004131,51448009.458285384,853447173.4775219,2737.0462102070451,566082473.74002028,206822.40278917275,51448009.631157905,853435262.92835999,2737.2190827280283,566070563.19085836,206804.98932759467,null,null,null,82311762578829.328,82312148494620.547,82315961642456.594,82315961688230.625,82315961928691.531,82315961974465.562,82315961399848.188,82315961688354.781,82315961686083.125,82315961974589.719,0,0,0,0,0,0,0,0,0,1,null,0,0,0,0,0,0,0,0,1]
[null,277,1960469.1236378676,0.21314423704479557,0.15945018025843949,0.22379596334293061,0.37366276984786612,0.27703896539049377,0.35637930794633221,4.1387962794063315E-2,0.55046440104755012,331.09024178185388,1028.8818479737554,417.21162856456903,184457.18278261839,127.28127301119359,914.94370422943916,727.9649955640715,78964.155229417505,943.75355854095244,801.43255634375737,0.76024657857619271,null,55496930.210556231,27024859.073111858,55497214.283343591,83710562.549175054,55500017.656248763,645698899.9545114,2803.3729051724076,561988337.40533638,200468.63418292688,55500017.735523909,645735911.4046464,2803.4521803185344,562025348.85547137,200476.16749132951,55500018.604276583,645691615.40667367,2804.3209329918027,561981052.85749865,200398.26620626712,55500018.683551729,645728626.85680854,2804.4002081379294,562018064.30763352,200405.79895720491,55500017.102579713,645703061.95628309,2802.8192361220717,562025001.69751477,200521.31598580081,55500017.735523909,645735564.2466898,2803.4521803185344,562025001.69751477,200476.04365902054,55500018.050607532,645695777.40844536,2803.7672639414668,561985214.85927033,200439.32393634034,55500018.683551729,645728279.69885206,2804.4002081379294,562017717.14967704,200405.67516675752,null,null,null,88795061312030.891,88795459142787.203,88799382551098.062,88799382640926.844,88799384075227.125,88799384165055.906,88799381661065.594,88799382641274,88799383185194.641,88799384165403.062,0,0,0,0,0,0,0,0,0,1,null,0,0,0,0,0,0,0,0,1]
[null,278,1238588.4303295135,0.20465253760709035,0.15425919081959749,0.20931987574843236,0.52659965168142142,0.31577820744796725,0.26921335287988263,3.6184814378067642E-2,0.43311659221183013,256.4991459835208,630.8531870191531,2431.8380328841977,856445.53324434161,228.24876241085298,5904.5403045163212,226.44393800540024,28.742544797857061,450.46864548375919,603.83214993229092,0.63602607538294509,null,35060585.424390338,125466958.73440057,35060882.051639266,143658743.36611697,35063811.998681724,324408237.90924376,2929.9470424577594,180749494.54312679,61690.36229115825,35063811.998694941,324408237.43040723,2929.9470556750894,180749494.06429026,61690.361849437497,35063811.998757757,324408235.4319784,2929.9471184909344,180749492.06586143,61690.359844772982,35063811.998770975,324408234.95314187,2929.9471317082644,180749491.5870249,61690.359403052251,35063811.998592094,324408241.15445697,2929.9469528272748,180749494.05335876,61690.364011178819,35063811.998694941,324408237.41947573,2929.9470556750894,180749494.05335876,61690.361845706546,35063811.998668127,324408238.67719167,2929.9470288604498,180749495.3110747,61690.362839554124,35063811.998770975,324408234.9422105,2929.9471317082644,180749491.57609352,61690.359399321336,null,null,null,56096811212065.805,56097267623879.461,56101774789652.852,56101774789674.477,56101774789776.984,56101774789798.609,56101774789506.195,56101774789674.484,56101774789630.32,56101774789798.617,0,0,0,0,0,1,0,0,0,1,null,0,0,0,0,1,0,0,0,1]
[null,279,2022469.5707256168,0.14195041750261764,0.11826908779079269,0.22354410476684095,0.48277127933406272,0.29203853000397983,0.30289883900255626,4.350515825459067E-2,0.3889343519269704,487.45083823354662,23.479063180331437,2337.777692723128,239221.36511973417,33.508939974604296,2330.269707289242,6327.7462005138141,55301.669754541246,1871.6496497028879,843.15485745412036,0.9976451709243972,null,57252440.877135016,34601182.58429645,57252701.503493071,121413937.99862713,57255285.891263463,979973656.03775537,2584.3877703920007,858559718.0391283,332210.09938028833,57255289.330714092,981044979.72454083,2587.8272210210562,859631041.72591376,332182.54864277097,57255305.183255665,979799446.89048505,2603.6797625944018,858385508.89185786,329681.67638117337,57255308.622706287,980870770.57727039,2607.1192132160068,859456832.57864332,329657.66514315316,57255265.855613619,980076095.87333393,2564.3521205484867,859503949.79322863,335173.91894268803,57255289.330714092,980917887.79185569,2587.8272210210562,859503949.79322863,332133.43719836971,57255285.147605821,979901886.72606373,2583.6441127508879,858487948.72743654,332277.9420317983,57255308.622706287,980743678.64458537,2607.1192132160068,859329740.64595819,329608.917110443,null,null,null,91603870802233.453,91604200991650.906,91607477452365.516,91607481884162.828,91607508493762.172,91607512925559.484,91607445292885.922,91607482011254.75,91607476334282.594,91607513052651.422,0,0,0,0,0,0,0,0,0,1,null,0,0,0,0,0,0,0,0,1]
[null,280,1480785.6014794183,0.3074975525713276,0.20433091527757552,0.20147159089623701,0.45232519064568888,0.26149495108051346,0.34260963005193673,4.7485764536045916E-2,0.64856624480368508,215.11116678069527,52.350716994060441,47.921136439635461,217268.20370707475,756.26445914296357,5535.4007474676355,20395.107671556332,10785.097981096093,4499.5746413517909,699.55763195426744,0.78056845098361793,null,41917266.733981475,31830635.194450036,41917542.753105946,59005251.46511627,41920247.193706498,320725577.77991319,2704.4406005516648,261720326.31479692,96774.292717469914,41920247.210707791,320725818.98793077,2704.4576018452644,261720567.52281451,96773.773544921278,41920247.305774577,320724703.56860822,2704.5526686310768,261719452.10349196,96769.959460971644,41920247.322775863,320724944.77662581,2704.5696699172258,261719693.31150955,96769.44033744176,41920247.116383396,320725557.89418793,2704.3632774502039,261719800.90234417,96776.865402900105,41920247.210707791,320725052.36746043,2704.4576018452644,261719800.90234417,96773.490079405019,41920247.228451468,320724683.68288296,2704.4753455221653,261719432.2177667,96772.718838461195,41920247.322775863,320724178.15615553,2704.5696699172258,261718926.69103926,96769.156883671356,null,null,null,67067594943735.164,67068009399718.047,67072074784352.617,67072074811313.484,67072074964535.75,67072074991496.609,67072074660655.547,67072074812080.102,67072074840838.672,67072074992263.227,0,0,0,0,0,0,0,0,0,1,null,0,0,0,0,0,0,0,0,1]
[null,281,1710531.0248924121,0.16743115922877333,7.7858104493852123E-2,0.20518477784905498,0.58611795602057337,0.23388381690041743,0.38470166314811405,3.6464125078653396E-2,0.62395495538709267,1371.8767968426623,358.73166442882632,273.69335635981247,1235600.5228042684,230.09617997078439,161.99003940673896,44155.19389695405,1779.2770668309763,622.3992658303348,58.125797365781523,0.85562340186273178,null,48421368.286555097,180972452.28839415,48421648.943044148,379574443.72337836,48424434.990302071,2331488050.9341221,2786.0472579225898,1951913607.2107437,700603.19388343184,48424435.137920946,2331480264.720427,2786.1948767974973,1951905820.9970486,700563.27978056017,48424435.306389458,2331470296.9168816,2786.363345310092,1951895853.1935031,700517.34511899354,48424435.454008333,2331462510.7031865,2786.5109641849995,1951888066.9798081,700477.44009171613,48424434.597424574,2331497082.4733658,2785.6543804258108,1951892725.6534956,700694.50803697051,48424435.137920946,2331467169.376874,2786.1948767974973,1951892725.6534956,700558.57969886018,48424434.913511962,2331479328.4561243,2785.970467813313,1951904884.7327459,700619.37385315541,48424435.454008333,2331449415.359633,2786.5109641849995,1951874971.6362545,700472.74054316885,null,null,null,77474008286035.875,77474258734426.922,77476764496432.375,77476764740408.797,77476765019926.219,77476765263902.625,77476763858796.844,77476764753504.141,77476764382290.688,77476765276997.969,0,0,0,0,0,0,0,0,0,1,null,0,0,0,0,0,0,0,0,1]
[null,282,1507608.0709708561,0.21214524123212142,0.11105985047535155,0.2104693227108797,0.5331713590994549,0.26817139996706429,0.36646725345539999,3.5785337307748917E-2,0.51999355772580969,182.20862391894133,181.88224564071771,4948.6975247704222,850353.42901887931,51.307309126951743,8221.532613631236,19580.291195070058,2608.974169140884,6671.0313620369161,90.891599560994564,0.31277384875771336,null,42676143.822372682,122880906.72479492,42676449.300036602,138932615.2484147,42679472.514309324,292086590.8807677,3023.2142727226019,153153975.63235301,50659.318796622327,42679514.385751724,290920226.8859213,3065.0857151225209,151987611.6375066,49586.741045325449,42679589.884739101,288888190.58314037,3140.5847024992108,149955575.33472568,47747.661515193082,42679631.756181501,287721826.58829397,3182.4561448991299,148789211.33987927,46752.949472174187,42679326.876941375,295321619.76240784,2877.5769047737122,150455925.96180141,52285.631606302115,42679514.385751724,289388541.2102161,3065.0857151225209,150455925.96180141,49087.020705320545,42679444.247371159,292123219.46478051,2994.9473345577717,153190604.21636581,51149.682149247426,42679631.756181501,286190140.91258878,3182.4561448991299,147257525.66417408,46271.659045545624,null,null,null,68281707234889.562,68282179947443.312,68286863936304.039,68286932096975.875,68287054927391.977,68287123088063.812,68286627681486.438,68286933628661.547,68286818672574.391,68287124619749.484,0,0,0,0,0,0,0,0,0,1,null,0,0,0,0,0,0,0,0,1]
[null,283,2008406.8680705738,0.20128546329392605,8.3053862010302543E-2,0.21746621505634001,0.40184070848115333,0.22593038442043142,0.27486698430296919,3.4813469352988395E-2,0.43371488767571842,363.45646254885077,96.37244038659351,6463.0957584839362,218438.38967250127,285.18523691338686,8447.4235683167572,1675.9347521372117,34411.981877011203,1287.8018997485169,789.45767294330471,0.76832593552680073,null,56854058.499140181,31835262.394757379,56854343.045914352,95652066.255693927,56857161.149529688,727927582.29939055,2818.1036153361201,632275516.04369664,224362.05418525182,56857163.641710766,728293575.18024075,2820.5957964137197,632641508.92454684,224293.5729142497,56857170.373490244,727934144.70875978,2827.32757589221,632282078.45306587,223632.40957445081,56857172.865671314,728300137.5896101,2829.819756962359,632648071.33391619,223564.79411007639,56857146.130658366,728053818.91580391,2803.0847440138459,632622510.60358512,225687.97177987147,56857163.641710766,728274576.85927904,2820.5957964137197,632622510.60358512,224286.83734406065,56857155.354618914,728060381.32517338,2812.3087045624852,632408315.06947947,224871.58470316796,56857172.865671314,728281139.26864839,2829.819756962359,632629073.01295447,223558.08049486644,null,null,null,90966461763361.891,90966853221396.719,90970729911665.203,90970733533162.031,90970744663439.688,90970748284936.516,90970705755234.469,90970733552160.359,90970720507008.938,90970748303934.844,0,0,0,0,0,0,0,0,0,1,null,0,0,0,0,0,0,0,0,1]
[null,284,1474760.3645313135,0.21505750755368613,9.5870273637126607E-2,0.13245862710360709,0.464952173768935,0.23025437415352568,0.26716621744010544,3.9177699273508559E-2,0.63306922145812661,155.64774986604692,1950.2382198991136,2981.166343862842,16863.465740701075,41.471962790677551,1868.6758508858125,13827.625498078214,5835.4187365270982,4964.8041780375906,1109.6269997288355,0.67291303905994437,null,41746607.841013096,2448085.8813886484,41746894.048032492,23960694.083910909,41749728.769810662,232296593.81447437,2834.7217781692743,208335899.73056346,73494.30245147775,41749739.589628294,232489719.84288621,2845.5415958017111,208529025.7589753,73282.719207702787,41749777.467677705,232325700.01886231,2883.4196452125907,208365005.93495139,72263.156797486867,41749788.287495345,232518826.04727417,2894.239462852478,208558131.96336326,72059.736120733578,41749669.974438287,231862959.79167259,2775.9264057949185,208052837.12538025,74948.974400422521,41749739.589628294,232013531.20929116,2845.5415958017111,208052837.12538025,73115.373689261731,41749718.672305331,231892065.99606052,2824.6242728382349,207931371.91214961,73613.816149507315,41749788.287495345,232042637.41367909,2894.239462852478,208081943.32976818,71895.206322938015,null,null,null,66794570097535.07,66795006516157.898,66799333735103.25,66799350853685.43,66799411622584.312,66799428741166.508,66799240096141.469,66799351329874.062,66799317983622.539,66799429217355.141,0,0,0,0,0,0,0,0,0,1,null,0,0,0,0,0,0,0,0,1]
[null,285,1729495.984525549,0.14244993192654098,0.15414263182681881,0.22368313861552525,0.48346693452697437,0.28570403812642486,0.28338428265175813,3.9215545772295912E-2,0.56929489776397235,1260.0145834085761,4961.6093420048228,1830.2932128520783,245528.82380776841,129.4884694468611,10033.025686962539,70495.366333292463,2.1757948195344752,72.42466481991066,227.18833029879221,0.91153351387705284,null,48958349.634022407,35636467.715554431,48958615.104039162,233009429.33090308,48961244.963963345,2164230639.3125744,2629.8599241822958,1931221209.9816713,734343.75429031544,48961249.296949454,2164181263.7096291,2634.1929102912545,1931171834.378726,733117.08752765658,48961292.592203908,2163940311.0620351,2677.4881647452712,1930930881.731132,721172.51801739912,48961296.925190017,2163890935.4590898,2681.8211508542299,1930881506.1281867,719988.91705106827,48961218.177225381,2162758473.6813993,2603.0731862187386,1929394087.0844331,741198.55611401331,48961249.296949454,2162403516.4153361,2634.1929102912545,1929394087.0844331,732442.2139117769,48961265.805465944,2162468145.43086,2650.701426781714,1929458716.099957,727904.96002507664,48961296.925190017,2162113188.1647968,2681.8211508542299,1929103758.8338938,719326.02896334976,null,null,null,78333323777968.141,78333551157033.328,78335827711702.031,78335834693855.422,78335904207215.188,78335911189368.578,78335786325086.922,78335836471602.703,78335862820600.078,78335912967115.859,0,0,0,0,0,0,0,0,0,1,null,0,0,0,0,0,0,0,0,1]
[null,286,1757348.314747907,0.13511845024060784,0.23497017925795882,0.20152607707445802,0.40942191462519789,0.28477952128346729,0.451126506438151,4.8800304782158355E-2,0.66985222821774404,297.24628394822452,5507.1646103353924,1926.1639935640985,319140.06255535991,347.82116064798856,1706.0280305995564,44081.946836196308,5187.8714804464562,1368.2405155199808,1672.7015842673079,0.52045897701647348,null,49746384.363071412,46753174.697429955,49746691.132513344,92114194.896016151,49749723.992124453,524596757.36202627,3032.8596111088991,432482562.46601009,142598.93892941595,49749723.992534943,524596763.47184229,3032.8600215986371,432482568.57582617,142598.92164355883,49749724.000628322,524596650.06474274,3032.868114978075,432482455.16872656,142598.50371761154,49749724.001038812,524596656.17455876,3032.868525467813,432482461.27854264,142598.48643186179,49749723.990483925,524596681.31635225,3032.8579705804586,432482471.10314775,142598.9859394487,49749723.992534943,524596665.99916393,3032.8600215986371,432482471.10314775,142598.88950469394,49749723.998987794,524596574.01906872,3032.8664744496346,432482379.1230526,142598.55577767693,49749724.001038812,524596558.7018804,3032.868525467813,432482363.80586421,142598.45429308704,null,null,null,79594168227739.562,79594613697826.453,79599033790641.766,79599033791292.438,79599033804355.25,79599033805005.922,79599033788092.969,79599033791389.906,79599033801806.453,79599033805103.391,0,0,0,0,0,0,0,0,0,1,null,0,0,0,0,0,0,0,0,1]
[null,287,1950509.0965460488,0.17206980942980829,0.17655652644405728,0.2373890814428512,0.5563510625076783,0.23515589142600443,0.41416767785687003,3.2571663261227346E-2,0.66117802484505073,630.12052011209551,91.811363325084926,6633.366645754737,268807.90361666167,104.5528152019283,4334.6134547795973,7817.2605307408003,964.33218132957666,637.75409240484282,69.08500516600887,0.66177939109956896,null,55214856.772858709,39393072.91960223,55215140.808411099,148115936.19582006,55217950.862852246,1223568201.6546905,2810.0544411465526,1075452265.4588704,382715.81137768511,55217967.911624417,1223402922.0752959,2827.1032133176923,1075286985.8794758,380349.39114146936,55218037.808011197,1222706731.0346451,2896.999600097537,1074590794.838825,370932.3241890145,55218054.856783368,1222541451.4552505,2914.0483722686768,1074425515.2594304,368705.44960204518,55217909.092306651,1223799399.0564225,2768.2838955521584,1075037978.6364357,388340.9430527392,55217967.911624417,1223153914.8322558,2827.1032133176923,1075037978.6364357,380261.31255917106,55217996.037465602,1222937928.4363773,2855.2290545031428,1074821992.2405572,376439.84833559842,55218054.856783368,1222292444.2122107,2914.0483722686768,1074176508.0163906,368619.99898104329,null,null,null,88343731443501.016,88344077177521.562,88347497812361.938,88347525255676.984,88347637786086.891,88347665229401.938,88347430748291.578,88347525504684.234,88347570722016.531,88347665478409.172,0,0,0,0,0,0,0,0,0,1,null,0,0,0,0,0,0,0,0,1]
[null,288,1520540.971402888,0.2310771461637976,0.2037017565058471,0.21343408551774723,0.59663607335795232,0.24686190542682945,0.26792781895616119,3.775798834248683E-2,0.58375588457957561,376.64980834969259,381.69437596070844,6453.7635478329566,1041402.5936985486,134.65694691221788,54.799278914556318,11368.608635690514,60.553463162378016,2188.6317677968591,24.086522960146276,0.81604819095398906,null,43042752.165966615,153270690.66689682,43043027.695798397,193033496.52965617,43045740.304472141,583871723.0442816,2712.6086737439036,390838226.51462543,144082.05293216737,43045743.817743227,583707606.13762343,2716.1219448298216,390674109.60796726,143835.26128185121,43045759.596379615,582968505.65175748,2731.9005812183022,389935009.12210131,142733.96762784399,43045763.109650701,582804388.74509931,2735.4138523042202,389770892.21544313,142490.64794605513,43045723.929916173,584555738.05848312,2696.2341177761555,390591153.7359519,144865.44442146222,43045743.817743227,583624650.26560807,2716.1219448298216,390591153.7359519,143804.7192540261,43045743.221823655,583652520.66595888,2715.5260252580047,390619024.13630271,143846.54041354277,43045763.109650701,582721432.87308395,2735.4138523042202,389687936.34342778,142460.32132036175,null,null,null,68868250194855.922,68868651279780.906,68872600615432.375,68872606400783.023,68872632385701.734,68872638171052.383,68872573732127.82,68872606483738.898,68872605502397.188,68872638254008.25,0,0,0,0,0,0,0,0,0,1,null,0,0,0,0,0,0,0,0,1]
[null,289,1733752.3707519155,0.15748419508765821,0.18773174152840322,0.25098150738040448,0.58043457013352306,0.26201320011084095,0.47424720038278823,3.4611435578347262E-2,0.62078045222576694,242.04548653313998,906.09859836050862,528.68902248057475,3142454.0988987898,123.12064990343637,477.52501573144605,10380.514373011707,11504.367654349799,884.57799880481571,2004.8972291156585,0.830244286693543,null,49078728.843326248,460342081.57885039,49079006.709120624,459471418.25268358,49081756.272751868,447612354.24547863,2749.5636312440038,-11859064.00720495,-4313.0713079149482,49081757.816671684,447426849.32205164,2751.107551060617,-12044568.930631936,-4378.0799939967701,49081763.838580944,446539306.34277183,2757.1294603198767,-12932111.909911752,-4690.4260739397396,49081765.38250076,446353801.41934484,2758.6733801364899,-13117616.833338737,-4755.0452792964279,49081753.152766027,448024978.86124372,2746.4436454027891,-12075024.025374711,-4396.6036024758141,49081757.816671684,447396394.22730887,2751.107551060617,-12075024.025374711,-4389.1501154578646,49081760.718595102,446951930.95853704,2754.009474478662,-12519487.294146538,-4545.9129353636281,49081765.38250076,446323346.32460201,2758.6733801364899,-13148071.928081572,-4766.0850402779652,null,null,null,78525505807240.422,78525951263174.75,78530362424048.734,78530365079825.359,78530375602423.172,78530378258199.797,78530357019446.781,78530365110280.453,78530370197821.203,78530378288654.891,0,0,0,0,0,0,0,0,0,1,null,0,0,0,0,0,0,0,0,1]
[null,290,1972809.0066271608,0.16972025902670246,5.5630180199335924E-2,0.20677836945870764,0.586663203076498,0.25219708955175563,0.36331409029780048,4.2649988389880877E-2,0.63646389439094886,656.0999586237831,1710.159503081971,5324.7941735934319,505210.22068705229,105.97712954806084,6209.8606370524303,24212.851966327369,7339.509597226076,3104.7551668960914,255.65946292017802,0.57482498283133387,null,55846078.824294321,73749771.918190032,55846385.458558202,185919401.88410395,55849429.645456359,1288748817.0790617,3044.1868981570005,1102829415.1949577,362273.88530665718,55849431.631210156,1288736476.4782901,3046.1726519539952,1102817074.5941861,362033.67326759169,55849433.054570854,1288702024.718152,3047.5960126519203,1102782622.834048,361853.28313067387,55849435.040324643,1288689684.1173804,3049.5817664414644,1102770282.2332764,361613.61350218568,55849423.541588522,1288780128.7444303,3038.083030320704,1102720055.8714418,362965.74019408459,55849431.631210156,1288639457.7555459,3046.1726519539952,1102720055.8714418,362001.82388351887,55849426.95070301,1288733336.3835206,3041.4921448081732,1102813934.4994166,362589.76909801323,55849435.040324643,1288592665.3946359,3049.5817664414644,1102673263.5105319,361581.79972240375,null,null,null,89353652369098.984,89354030814291.234,89357798683913.094,89357801873459.766,89357804185288.641,89357807374835.297,89357788886412.891,89357801970478.5,89357794387788.422,89357807471854.031,0,0,0,0,0,0,0,0,0,1,null,0,0,0,0,0,0,0,0,1]
[null,291,1510510.4771530649,0.18332052662856718,0.12537060440674191,0.20556978504983858,0.50900701160628903,0.27841770816271671,0.31577377102363957,3.1286288478843655E-2,0.5575427028655866,244.92173629217405,2113.3036388294904,3258.9058172317309,213633.19906187031,245.39038595977351,1297.9170156617431,16349.769452323835,3179.171265134742,1882.5345473937043,986.81117427929019,0.83753773303334444,null,42758830.745979927,31295909.241750721,42759110.625963792,63035258.017348424,42761882.771198153,371347253.76590121,2772.1452343612909,308311995.7485528,111217.83661511105,42761882.797425538,371347282.9204101,2772.1714617460966,308312024.90306169,111216.79490519913,42761882.908539869,371346040.07265127,2772.2825760766864,308310782.05530286,111211.88897403885,42761882.934767246,371346069.22716016,2772.3088034540415,308310811.20981175,111210.84737230025,42761882.645750314,371347012.52886331,2772.0197865217924,308310569.55230927,111222.35528454279,42761882.797425538,371345827.56965768,2772.1714617460966,308310569.55230927,111216.26991936311,42761882.783092029,371345798.83561343,2772.1571282371879,308310540.81826502,111216.83460068492,42761882.934767246,371344613.87640774,2772.3088034540415,308309355.85905933,111210.32241247233,null,null,null,68414097897658.641,68414513966284.055,68418641086663.281,68418641128597.938,68418641307623.719,68418641349558.367,68418640886187.969,68418641130053.289,68418641107148.414,68418641351013.719,0,0,0,0,0,0,0,0,0,1,null,0,0,0,0,0,0,0,0,1]
[null,292,1094300.77211312,0.24662059158936189,0.3275528758949966,0.21093983622319756,0.52321294834610188,0.25782092141101437,0.41889599022842705,3.7243559021969644E-2,0.48875651837740924,2546.2270977089879,3117.0383798801568,3230.8596262548549,1163356.9021779052,8.435097418194573,2326.3868212884304,35049.917690458504,3016.0474795527084,3995.475586231275,248.21442027467563,0.84990572212178739,null,30976068.914844908,171103053.65858543,30976336.259084985,411194671.73020118,30978956.87423268,2780032162.5704975,2620.6151476949453,2368837490.8402963,903924.21524537506,30978958.321599096,2779962804.8525372,2622.0625141113997,2368768133.1223359,903398.80165866157,30978965.325640526,2779590463.8036828,2629.0665555410087,2368395792.0734816,900850.45092596125,30978966.773006938,2779521106.0857224,2630.5139219537377,2368326434.3555212,900328.41666031384,30978952.91585917,2780157481.7660451,2616.6567741855979,2368683957.7301764,905232.96027901862,30978958.321599096,2779878629.4603777,2622.0625141113997,2368683957.7301764,903366.69891827821,30978961.367267016,2779715782.9992309,2625.1081820316613,2368521111.2690296,902256.57269330125,30978966.773006938,2779436930.6935625,2630.5139219537377,2368242258.9633613,900296.41706074611,null,null,null,49561539160698.195,49561726819864.25,49563550966609.719,49563553351753.703,49563564930561.039,49563567315705.016,49563544507892.906,49563553435929.094,49563558471844.227,49563567399880.406,0,0,0,0,0,0,0,0,0,1,null,0,0,0,0,0,0,0,0,1]
[null,293,2033667.3272551496,0.21316528549916769,0.21823575565500275,0.21610565033216322,0.58732346820917547,0.25881764245832362,0.40334806806544965,4.4870999130138256E-2,0.54951254917779346,525.27963709669154,566.12344299228778,3862.1899646308757,464531.63651160477,263.95392100041192,127.72569191075944,7067.6330982065228,4463.7947877887873,707.12923526428438,526.28982029444433,0.9358742890801226,null,57569322.016241357,68435558.301983088,57569585.812617615,160018954.25761342,57572184.321684189,1065914432.581257,2598.5090665742755,905895478.32364357,348621.24976840045,57572189.868543088,1065834771.8147873,2604.0559254735708,905815817.55717385,347848.06604813726,57572207.872779101,1065402978.026852,2622.060161486268,905384023.76923859,345294.90858670376,57572213.419638,1065323317.2603823,2627.6070203855634,905304363.00276887,344535.67675044824,57572169.651942492,1066168707.8289568,2583.8393248766661,905750780.76590192,350544.54510600655,57572189.868543088,1065769735.0235153,2604.0559254735708,905750780.76590192,347823.09085822845,57572193.203037396,1065657253.2745519,2607.390419781208,905638299.01693845,347335.1332988838,57572213.419638,1065258280.4691101,2627.6070203855634,905239326.21149671,344510.92541177099,null,null,null,92110846790427.875,92111177281233.938,92114429000262.125,92114437954897.125,92114467193468.531,92114476148103.531,92114405274400.156,92114438019933.906,92114443467606.547,92114476213140.328,0,0,0,0,0,0,0,0,0,1,null,0,0,0,0,0,0,0,0,1]
[null,294,1642363.0007254153,0.19575954535897644,0.1601529592197688,0.19353627676765342,0.56295957031554378,0.28976560430079112,0.34011287101841375,3.6124759299297461E-2,0.57731750224527367,72.361009401391911,2200.9158343649369,6241.7329778576304,165232.26388148125,20.793535970714807,13555.665780866677,42944.567915208048,2630.015683615703,859.29748280860065,328.40603298761948,0.92787163200479261,null,46491631.525413468,24206756.289812822,46491900.791869842,34818956.795212835,46494562.711556599,123102217.89289325,2661.9196867570281,88283261.09768042,33165.26097195458,46494562.882431209,123102053.083955,2662.0905613675714,88283096.28874217,33163.070246336516,46494563.580137163,123101462.19248249,2662.7882673218846,88282505.397269651,33154.158924569812,46494563.751011774,123101297.38354421,2662.9591419324279,88282340.588331372,33151.969625890531,46494562.028384335,123088641.4800003,2661.2365144938231,88264245.249075234,33166.629410187321,46494562.882431209,123083202.04428807,2662.0905613675714,88264245.249075234,33155.988954685316,46494562.8969649,123087885.77958953,2662.1050950586796,88268928.984376699,33157.567350822799,46494563.751011774,123082446.3438773,2662.9591419324279,88263489.548664466,33144.890643952713,null,null,null,74386586233905.25,74387006448034.953,74391177236272.672,74391177509836.859,74391178626757.281,74391178900321.453,74391176156773.453,74391177528687.891,74391177547258.062,74391178919172.5,0,0,0,0,0,0,0,0,0,1,null,0,0,0,0,0,0,0,0,1]
[null,295,1606366.7482599332,0.16262386783944632,0.18437962903450589,0.19390411108187483,0.52838368667761382,0.31376160563855737,0.47718071706932519,3.5258432541697894E-2,0.64415805338058074,385.23316800077731,2480.0209361752063,3110.4982020644538,758807.4293759095,305.45274977675621,3305.7236461045513,25975.407387196825,0.14836270868703708,3373.2004227167854,457.98634822563071,0.9900203283065987,null,45472657.107274063,111163239.4507155,45472920.95969189,159006634.8440775,45475532.822834298,623345020.20367408,2611.8631424084306,464338385.35959661,177780.51913218721,45475532.823344089,623345001.7287848,2611.8636521995068,464338366.88470733,177780.47735902216,45475532.826469757,623344893.28623128,2611.8667778670788,464338258.44215381,177780.22308677819,45475532.826979548,623344874.811342,2611.867287658155,464338239.96726453,177780.18131372906,45475532.821459182,623345032.06512737,2611.8617672920227,464338328.91159785,177780.59111950005,45475532.823344089,623344963.75567532,2611.8636521995068,464338328.91159785,177780.46282031931,45475532.82509464,623344905.14768457,2611.8654027506709,464338270.30360711,177780.32122734655,45475532.826979548,623344836.8382324,2611.867287658155,464338201.99415493,177780.16677504641,null,null,null,72756140208399.047,72756514528872.172,72760229171514.672,72760229172348.812,72760229177458.328,72760229178292.469,72760229169302.625,72760229172386.797,72760229175246.281,72760229178330.438,0,0,0,0,0,0,0,0,0,1,null,0,0,0,0,0,0,0,0,1]
[null,296,1475588.4912958262,0.15258662411120991,8.8742174626342887E-2,0.21682766940436382,0.57943367241786525,0.2357332178054371,0.37334359807615669,3.759914298721248E-2,0.45553016344518948,556.3836724467119,3262.0889257604467,1580.4428805235593,705985.59892758902,6.0114657365057722,584.84024898987957,19681.995723196789,1078.9300446007555,3967.3740224755716,5651.7389518613518,0.68995911396562781,null,41770049.369554937,103125323.81767234,41770344.641397305,169816354.06820998,41773276.063682787,823372252.90688598,2931.4222854822874,653555898.83867598,222948.39678178634,41773277.775257319,823324177.13246381,2933.133860014379,653507823.06425381,222801.90889789467,41773279.597448424,823266797.15847433,2934.9560511186719,653450443.09026432,222644.02999874519,41773281.309022963,823218721.38405192,2936.6676256582141,653402367.31584191,222497.89578055864,41773271.220395707,823445562.99943697,2926.5789984017611,653433574.41427886,223275.56330142688,41773277.775257319,823249928.48248887,2933.133860014379,653433574.41427886,222776.59513673731,41773274.75416135,823340107.2510252,2930.1127640455961,653523753.18281519,223037.06574094348,41773281.309022963,823144472.73407722,2936.6676256582141,653328118.66586721,222472.61248008366,null,null,null,66831975865964.078,66832381609881.617,66836418329639.555,66836421116234.578,66836424089120.32,66836426875715.359,66836410507070.133,66836421190483.227,66836416266550.914,66836426949964.008,0,0,0,0,0,0,0,0,0,1,null,0,0,0,0,0,0,0,0,1]
[null,297,1465759.3282723005,0.14545020634263681,0.21956837066406154,0.20006849810290492,0.4780483740351521,0.27400133968401286,0.33713680079270786,3.6181727830138503E-2,0.58026616036669432,196.87365017412424,1955.2794167513282,7189.8542540395238,65113.077330547407,246.53295593073284,7391.9925358981782,1.0445318600227167,1078.3716767743852,3258.6432146130742,1626.5280855839876,0.96395047433017089,null,41492077.792739488,9539419.570207091,41492343.389017493,35407637.048570819,41494969.924899668,291970777.27044874,2626.5358821749687,256563140.22187793,97681.186068329815,41494970.015411004,291970959.99424922,2626.6263935118914,256563322.94567841,97677.889622758375,41494971.077421591,291970390.32949758,2627.6884040981531,256562753.28092676,97638.195183565331,41494971.167932928,291970573.05329812,2627.7789154350758,256562936.0047273,97634.901664567442,41494969.507970519,291972061.4682458,2626.1189530268312,256563322.49855596,97696.763584469139,41494970.015411004,291970959.54712677,2626.6263935118914,256563322.49855596,97677.889452531468,41494970.660492435,291971674.5272947,2627.271474942565,256564037.47872388,97654.17846069092,41494971.167932928,291970572.6061756,2627.7789154350758,256562935.55760479,97634.901494415186,null,null,null,66387314928963.609,66387714014790.938,66391659909062.195,66391660053697.617,66391661753484.219,66391661898119.633,66391659240691.359,66391660053698.062,66391661085113.375,66391661898120.078,0,0,0,0,0,0,0,0,0,1,null,0,0,0,0,0,0,0,0,1]
[null,298,1835465.3682302076,0.1734022975721258,0.16138195110348741,0.16640537457503587,0.57909199105666476,0.27692343188197288,0.32129450721079655,3.7743316841338005E-2,0.51748992511976222,154.6880075934005,101.7130413666751,10547.075850995507,261668.66094717768,271.25418904052526,3477.1503525415601,61604.058512104573,9900.7540428969623,4151.7261051177256,2017.5413162982813,0.95648688236741586,null,51958329.665867865,38320141.046325475,51958596.313390814,63633046.720123559,51961235.654492944,290522641.38408476,2639.3411021307111,226889594.6639612,85964.483514766514,51961237.065667808,290544383.51686335,2640.752276994288,226911336.79673979,85926.778809790878,51961242.655012481,290449942.13628232,2646.3416216671467,226816895.41615877,85709.605123947782,51961244.066187352,290471684.26906091,2647.7527965381742,226838637.54893735,85672.13595072749,51961229.941585585,290349473.24443358,2633.6281947717071,226667614.77167895,86066.67228945253,51961237.065667808,290300661.49180251,2640.752276994288,226667614.77167895,85834.486160009183,51961236.942105129,290276773.99663115,2640.6287143155932,226643727.27650759,85829.456465351599,51961244.066187352,290227962.24400008,2647.7527965381742,226594915.52387652,85580.087317871919,null,null,null,83133289145247.531,83133690468378.578,83137686524547.328,83137688760684.984,83137697798077.828,83137700034215.5,83137677557063.688,83137689004407.016,83137688830594.203,83137700277937.516,0,0,0,0,0,0,0,0,0,1,null,0,0,0,0,0,0,0,0,1]
[null,299,1743063.3111076802,0.23818958352866137,0.20614538213046074,0.22593639629486961,0.63382494514045939,0.2942001990547104,0.3850164017985872,4.2874393852153636E-2,0.57112651777455392,1333.1342380850094,97.121027353908104,3564.2710806905034,13476.774754485434,46.442950464313569,3291.1736783348629,31849.666911131237,9171.7145518784237,7795.2486199463756,2563.4493879276151,0.92600874785323817,null,49342411.838727377,1981263.6077745254,49342676.719225466,214160180.32419401,49345283.014912821,2305914889.9531426,2606.2956873551011,2091754709.6289487,802577.66598681116,49345286.344806716,2305958583.7768221,2609.6255812495947,2091798403.4526281,801570.31663177907,49345295.60228312,2305923399.5179811,2618.883057653904,2091763219.1937871,798723.41496136482,49345298.932177022,2305967093.341661,2622.2129515558481,2091806913.017467,797725.79560188914,49345273.088674486,2305762128.634727,2596.3694490194321,2091639395.3582034,805601.60502125404,49345286.344806716,2305799575.6823974,2609.6255812495947,2091639395.3582034,801509.38524929748,49345285.676044784,2305770638.1995659,2608.9568193182349,2091610457.8753719,801703.74702558154,49345298.932177022,2305808085.2472363,2622.2129515558481,2091647904.9230423,797665.15670742781,null,null,null,78947856960700.188,78948068590580.422,78950146908970.562,78950152193106.969,78950167040253.484,78950172324389.891,78950131179750.531,78950152352115.062,78950151311033.453,78950172483397.984,0,0,0,0,0,0,0,0,0,1,null,0,0,0,0,0,0,0,0,1]
[null,300,1598055.338654703,0.29319686721670235,0.27258364545165104,0.18164698276922756,0.47286892090785149,0.2293902743745265,0.34609054793981769,4.4753428890903169E-2,0.57451603473411317,2278.3115778813126,5142.5181626412705,6012.0246132782677,985737.80246944318,57.663496198190757,808.02557317257754,8352.132488121164,9691.2477770364003,4986.5642531452359,623.23168948296973,0.89667201725683343,null,45237260.958492458,144453532.38846612,45237524.293051817,463456459.63025302,45240102.51337,3625281807.624382,2578.2203181833029,3161825347.9941292,1226359.6426165989,45240102.61974486,3625278889.3634791,2578.3266930431128,3161822429.7332263,1226307.9144565009,45240103.187635571,3625251244.973598,2578.8945837542415,3161794785.3433452,1226027.153362951,45240103.294010423,3625248326.7126946,2579.0009586066008,3161791867.0824418,1225975.4524444672,45240102.123026691,3625297931.6597791,2577.8299748748541,3161820767.4529696,1226543.5650411609,45240102.61974486,3625277227.0832224,2578.3266930431128,3161820767.4529696,1226307.2697436872,45240102.797292255,3625267369.0089946,2578.5042404383421,3161810909.3787417,1226219.0070477598,45240103.294010423,3625246664.4324379,2579.0009586066008,3161790204.8021851,1225974.8079002101,null,null,null,72379473080055.547,72379575412423.281,72380538739584.375,72380538912702.422,72380539848971.938,72380540022089.953,72380538098911.047,72380538914364.703,72380539208298.594,72380540023752.234,0,0,0,0,0,0,0,0,0,1,null,0,0,0,0,0,0,0,0,1]
[null,301,1718390.0216643261,0.19667844880919849,0.17468663913252391,0.1726922458896421,0.53476454354146485,0.29159449497809786,0.3281404667769014,4.0367047337896644E-2,0.49047169585022049,60.604115294842458,1190.5112171646226,628.49147442643687,343143.80049260287,43.729811660473878,1560.1452470078646,9640.9921158796187,1094.735943198511,1772.8285549693251,608.28652539112898,0.79651870263466706,null,48643782.929529652,50359271.180698298,48644062.000579022,56029900.917314202,48646819.406703562,108694546.9170578,2757.4061245396733,52664645.999743596,19099.343230963314,48646822.969749428,108651019.80873938,2760.9691704064608,52621118.891425177,19058.930268199434,48646838.858889177,108412108.41244327,2776.8583101555705,52382207.495129064,18863.838786284494,48646842.421935044,108368581.30412485,2780.4213560223579,52338680.386810645,18824.010351325247,48646803.363443315,108842734.7126898,2741.3628642931581,52523310.512329444,19159.56154380614,48646822.969749428,108553211.42964365,2760.9691704064608,52523310.512329444,19023.504889262178,48646822.815628931,108560296.20807527,2760.8150499090552,52530395.290761068,19027.133053513124,48646842.421935044,108270772.92502911,2780.4213560223579,52240872.007714912,18788.832812897886,null,null,null,77830002327976.25,77830443171025.516,77834802356178.781,77834808100579.266,77834833762114.281,77834839506514.781,77834776538774.578,77834808198387.656,77834807944710.094,77834839604323.156,0,0,0,0,0,0,0,0,0,1,null,0,0,0,0,0,0,0,0,1]
[null,302,1822956.2327010683,0.20787505427782649,0.1403103987897871,0.17423475878665601,0.51701890691264918,0.2574323097807969,0.29220095042214372,3.320728608620753E-2,0.55002980881606556,145.45468776585997,2086.1459277381423,1840.9829305970527,837031.51697488851,16.71676031131458,8928.0951223624452,65470.548215633396,11837.292469352611,559.25301751382244,1640.1160378776672,0.95037695880592399,null,51604191.255064555,122664332.60745923,51604449.539435871,139132824.40274984,51607004.557776384,279670292.58536583,2555.0183405131102,140537468.182616,55004.485077157071,51607019.626011819,279609051.76308852,2570.0865759477019,140476227.36033869,54658.169368687137,51607078.309507318,277164784.5223574,2628.7700714468956,138031960.11960757,52508.190662576169,51607093.377742752,277103543.70008016,2643.8383068814874,137970719.29733032,52185.763001547653,51606931.861041091,279589425.76499486,2482.321605220437,137529617.30168402,55403.625788235047,51607019.626011819,276662441.70443386,2570.0865759477019,137529617.30168402,53511.667112214272,51607005.612772025,277083917.70198643,2556.0733361542225,137951093.2992366,53969.927759112317,51607093.377742752,274156933.64142543,2643.8383068814874,135024109.23867559,51071.24323270053,null,null,null,82566583343770.672,82566980130272.984,82570927622149.641,82570951792567.141,82571048130427.188,82571072300844.703,82570811388239.984,82570954739177.203,82570931896517.531,82571075247454.766,0,0,0,0,0,0,0,0,0,1,null,0,0,0,0,0,0,0,0,1]
[null,303,1874173.5184957366,0.17003371578196233,0.19787146458204063,0.16704657547775967,0.46485686883744987,0.25736346825735484,0.46186616892569565,3.8975330305806577E-2,0.52567651608796662,1494.8186361633104,1627.598069474883,2729.7572911327411,482971.11185980646,96.911109641368668,5520.4755609172271,38589.005461651097,4093.095757626696,2105.5168583933323,2777.5378052773867,0.800945496047196,null,53053972.287004076,70794231.557174996,53054252.088490419,320491829.63587356,53057019.767715685,2781781363.9569621,2767.6792252659798,2461289534.3210888,889297.25376124599,53057021.143415451,2781767094.4877415,2769.05492503196,2461275264.8518677,888850.28700666165,53057028.549240284,2781612422.9754286,2776.4607498645782,2461120593.3395548,886423.69371135382,53057029.924940057,2781598153.5062084,2777.8364496380091,2461106323.8703346,885979.56304844772,53057016.17673745,2781713185.5562916,2764.0882470309734,2461129473.6037149,890394.68122890813,53057021.143415451,2781621303.2395883,2769.05492503196,2461129473.6037149,888797.63682380156,53057024.958262056,2781544244.5747585,2772.8697716370225,2461052414.9388847,887547.06049031299,53057029.924940057,2781452362.2580543,2777.8364496380091,2460960532.6221809,885927.0793076671,null,null,null,84886284864974.953,84886482849755.031,84888449846981.141,84888452062370.234,84888464066361.484,84888466281750.594,84888444169594.359,84888452208161.484,84888458388974.719,84888466427541.828,0,0,0,0,0,0,0,0,0,1,null,0,0,0,0,0,0,0,0,1]
[null,304,1707382.262373006,0.14712447701851183,0.1876479760709886,0.2196575921025774,0.53869400426002256,0.22895838463785365,0.34489900388473788,4.6712103977204933E-2,0.50955810105285348,132.6349800910898,198.67868861558475,3353.5837337574262,585264.08454093942,96.626209308269026,10926.543788011706,24688.862805017914,114952.88386355023,156.4595080086803,851.39644140413009,0.77236088343208631,null,48332138.494374007,85682914.92654337,48332421.245516501,99946867.327633336,48335217.815250367,231983913.52397659,2796.5697338655591,132037046.19634326,47213.929478466831,48335220.42493996,232762311.67263323,2799.1794234588742,132815444.34499989,47447.992519494612,48335233.691884086,231652436.39967999,2812.4463675841689,131705569.07204665,46829.539787874754,48335236.301573679,232430834.54833663,2815.056057177484,132483967.22070329,47062.639084188733,48335209.19427976,232025853.99180642,2787.9487632587552,132633723.49803539,47573.94585078513,48335220.42493996,232580590.82566872,2799.1794234588742,132633723.49803539,47383.073191551004,48335225.070913479,231694376.86750984,2803.825396977365,131747509.53987651,46988.485688839806,48335236.301573679,232249113.70137212,2815.056057177484,132302246.37373878,46998.085894741162,null,null,null,77331335908083.484,77331774045959.078,77336116520487.062,77336119917592.266,77336142254578.125,77336145651683.344,77336102684993.625,77336120099313.109,77336128419084.688,77336145833404.188,0,0,0,0,0,0,0,0,0,1,null,0,0,0,0,0,0,0,0,1]
[null,305,2002715.2920207314,0.14215332052006333,0.21726696313316662,0.17911619019250202,0.55188906539827809,0.28794642375909019,0.24542703163089677,4.0848745648558449E-2,0.50382774317687207,1485.0841153423671,1447.9225955031725,12275.224153310046,716285.81137312716,108.65846144623666,794.50882398027443,2093.1309255846113,395.51595707682327,366.78766123592743,1057.7769477666266,0.91946097737884613,null,56693053.946859367,105789086.28781377,56693303.336974263,367752999.10433167,56695770.592600308,2965266030.5084257,2467.2556260451674,2597513031.4040942,1052794.4506373343,56695788.678948112,2964698643.346817,2485.3419738486409,2596945644.2424855,1044904.7541819857,56695985.592218049,2958163737.7769585,2682.2552437856793,2590410738.672627,965758.47681690985,56696003.678565852,2957596350.6153502,2700.3415915891528,2589843351.5110188,959079.90291957627,56695654.321453281,2968954708.719039,2350.9844790175557,2596754105.7868791,1104539.0256561912,56695788.678948112,2964507104.8912106,2485.3419738486409,2596754105.7868791,1044827.6869382737,56695869.321071021,2961852415.9875727,2565.9840967580676,2594099416.8832412,1010956.9346749636,56696003.678565852,2957404812.1597438,2700.3415915891528,2589651813.0554123,959008.97172472184,null,null,null,90708780525888.703,90708917586159.719,90710267682129.984,90710297187673.641,90710618783811.094,90710648289354.75,90710077959616.531,90710297379212.094,90710429061297.656,90710648480893.203,0,0,0,0,0,0,0,0,0,1,null,0,0,0,0,0,0,0,0,1]
[null,306,1755603.9199221772,0.16572463295949866,0.2107278542147113,0.21006945170903768,0.55310700558342629,0.26517072572356248,0.35710316126197916,3.7506964960984643E-2,0.49319799657975499,524.13943514478183,915.79309249411597,1259.5392727507585,939502.77181235352,4.1798460794715409,1174.9762759594516,6473.6970472628936,269.73785664139905,312.99291276402789,265.50409790222778,0.99966848205146563,null,49697523.05023893,137669445.76276651,49697784.631227776,209653974.30532971,49700369.281838,921406164.71943581,2584.6506102234125,711752190.41410613,275376.55867250217,49700369.704884894,921387438.08316648,2585.073657117784,711733463.7778368,275324.24920200562,49700371.862045377,921291389.59012079,2587.2308176010847,711637415.28479111,275057.56751329626,49700372.285092272,921272662.95385134,2587.6538644954562,711618688.64852166,275005.36235253932,49700367.818822667,921464334.32668066,2583.1875948905945,711725761.54614866,275522.28996217845,49700369.704884894,921379735.85147834,2585.073657117784,711725761.54614866,275321.26970017713,49700370.399030037,921349559.19736528,2585.7678022608161,711695584.8920356,275235.6898673494,49700372.285092272,921264960.7221632,2587.6538644954562,711610986.41683352,275002.38582163857,null,null,null,79515899210936.516,79516245755990.125,79519669444776.078,79519670140377.75,79519673687883.016,79519674383484.688,79519667045781.938,79519670148079.984,79519671288888.859,79519674391186.922,0,0,0,0,0,0,0,0,0,1,null,0,0,0,0,0,0,0,0,1]
[null,307,1853090.3573304659,0.30575624146013969,9.143388216008419E-2,0.21244691249960779,0.62340883549223236,0.26689680667650478,0.26062298409039192,3.9672174891642431E-2,0.62517615316134312,149.70452233904874,542.70394627460394,4497.7836804274239,181313.77295500188,7.7703713169022874,1526.6021866710796,142.75077871462977,14113.450920180701,1393.4671629029783,1730.0446321209711,0.62292120095845127,null,52456906.187863782,26686706.897159871,52457200.59060663,49889373.070513994,52460098.091782458,280110041.40490258,2897.5011758282781,230220668.33438858,79454.900745149076,52460106.786691412,280225919.6716131,2906.1960847824812,230336546.6010991,79257.056262375016,52460115.586718962,279995775.76755011,2914.996112331748,230106402.69703612,78938.836907391495,52460124.281627916,280111654.03426063,2923.6910212859511,230222280.96374664,78743.711044570664,52460054.958050273,280438581.30586421,2854.3674436435103,230334700.92905095,80695.532539789609,52460106.786691412,280224073.99956495,2906.1960847824812,230334700.92905095,79256.421180641264,52460072.452986777,280324315.66851175,2871.8623801469803,230434942.59799775,80238.85273576522,52460124.281627916,280109808.36221242,2923.6910212859511,230220435.29169843,78743.079763072456,null,null,null,83931023213875.156,83931471055597.531,83935876836810.531,83935890632786.594,83935904942974.578,83935918738950.641,83935807494299.125,83935890634632.266,83935835600463.172,83935918740796.312,0,0,0,0,0,0,0,0,0,1,null,0,0,0,0,0,0,0,0,1]
[null,308,1867956.8963808524,0.16942046179685877,0.21925991380770249,0.20779502257793137,0.5034162726927045,0.2875358312576014,0.49601939718083021,3.719965366838323E-2,0.52318314249762488,137.74125931469069,4.1230727817410662,6471.223887958834,556571.35781131266,37.193249415143335,1794.061989498088,43044.422912828864,39165.409117389041,2294.7971466507074,1185.2738466902983,0.9059000224731012,null,52878097.682782665,81546091.505751356,52878367.525931351,99838834.392251149,52881034.199293248,264428340.28831682,2666.6733618974686,164589505.89606565,61720.909747623598,52881034.356728233,264440038.02656901,2666.8307968825102,164601203.63431787,61721.652467316075,52881035.194782123,264403369.15094635,2667.6688507720828,164564534.75869519,61688.516815371047,52881035.352217108,264415066.88919854,2667.8262857571244,164576232.49694741,61689.261169507132,52881033.82627476,264420645.65656075,2666.3003434091806,164583881.56712592,61727.435160843859,52881034.356728233,264422715.95937708,2666.8307968825102,164583881.56712592,61715.157091901849,52881034.821763635,264395674.51919025,2667.2958322837949,164556840.12693912,61694.259082631295,52881035.352217108,264397744.82200655,2667.8262857571244,164558910.42975539,61682.768217816651,null,null,null,84604874746360.766,84605288202655.766,84609390290528.922,84609390530727.141,84609391908282.234,84609392148480.484,84609389701393.953,84609390548049.219,84609391319147.297,84609392165802.547,0,0,0,0,0,0,0,0,0,1,null,0,0,0,0,0,0,0,0,1]
[null,309,2061252.6024287154,0.20986954799883173,0.2057256543080247,0.23474687060609911,0.48724573893413675,0.28635358771240127,0.39869395838916466,4.6811624847998168E-2,0.51687520134498111,218.79594881429691,3645.5055467334637,3872.1940511950088,444966.92915683228,246.2795369523306,184.79315181238948,2595.3833517549397,13780.280660338092,16086.735077898848,556.69924357909736,0.89011966003186116,null,58350204.197678424,65509575.319812864,58350472.802599847,101875742.14778739,58353118.876211651,461886632.38898325,2646.0736118033528,360010890.24119586,136054.75245862157,58353122.51290419,461949501.8660838,2649.7103043422103,360073759.71829641,135891.74602530166,58353141.881553039,461416352.45034379,2669.078953191638,359540610.3025564,134705.87292767194,58353145.51824557,461479221.92744428,2672.7156457230449,359603479.77965689,134546.10495325402,58353105.573273301,462133742.68629968,2632.7706734538078,360047862.35369271,136756.25681494045,58353122.51290419,461923604.5014801,2649.7103043422103,360047862.35369271,135881.97236643743,58353128.578614689,461663462.74766016,2655.776014842093,359787720.59987277,135473.66893486498,58353145.51824557,461453324.56284058,2672.7156457230449,359577582.41505319,134536.4154209444,null,null,null,93360261206710.172,93360654608417.609,93364528315306.25,93364534071144.844,93364565594132.406,93364571349970.984,93364506783494.594,93364534097042.203,93364544062320.75,93364571375868.344,0,0,0,0,0,0,0,0,0,1,null,0,0,0,0,0,0,0,0,1]
[null,310,1959181.7546261635,0.1964444691075653,0.16429069565545673,0.20190025628221031,0.40421357680585351,0.29418808576506017,0.34755674958121535,4.2219779629231735E-2,0.57672896892276038,474.32121751878122,4661.2070604320152,2186.4643129548967,386944.56052182091,26.609530707232963,417.50629672827682,19287.899246048739,18609.905333378429,1790.6422052114378,207.18546139970903,0.71230345278330631,null,55460432.647327624,56695724.596802346,55460721.52972611,137121395.18144995,55463575.191197857,927286312.46191812,2853.6614717468619,790164917.28046823,276895.11355976318,55463575.481578901,927312697.30979991,2853.9518527910113,790191302.12835002,276876.1853342359,55463578.853837132,927225411.07026017,2857.3241110220551,790104015.88881016,276518.86352024402,55463579.144218177,927251795.91814184,2857.6144920662045,790130400.73669195,276499.99778850027,55463573.188557982,927287587.36422312,2851.658831872046,790158894.10219908,277087.45705161325,55463575.481578901,927280289.28364897,2853.9518527910113,790158894.10219908,276864.82984268502,55463576.851197258,927226685.97256505,2855.3214711472392,790105290.79111505,276713.25235181267,55463579.144218177,927219387.8919909,2857.6144920662045,790097992.71054101,276488.65685142117,null,null,null,88736635539999.609,88737017326166.594,88740793019604.109,88740793457828.938,88740798940728.344,88740799378953.156,88740789814105.406,88740793490236.969,88740795735229.641,88740799411361.188,0,0,0,0,0,0,0,0,0,1,null,0,0,0,0,0,0,0,0,1]
[null,311,1591754.3580227944,0.19481674512905967,0.22918538249124976,0.24585399605538893,0.56371237057438417,0.2229278379810278,0.41333016217896557,3.6365474959311937E-2,0.59640602527727338,1012.0724886090039,356.24057523428741,6159.8464232591614,463144.14522911649,41.371912700323101,3165.7816270001385,52044.292467132524,15437.147136604066,7242.2090597623419,128.18653349918583,0.90785059707709836,null,45058850.844656236,68807436.601521388,45059114.063744843,211597862.09376073,45061709.737963438,1608659068.4980986,2595.6742185950279,1397061206.4043379,538226.71442972205,45061724.708423547,1608728126.5218613,2610.6446787044406,1397130264.4281006,535166.76391267497,45061784.307394385,1607136597.1121373,2670.2436495423317,1395538735.0183766,522625.99154858617,45061799.277854495,1607205655.1359003,2685.2141096517444,1395607793.0421395,519737.99334129866,45061674.589244492,1608096950.3795776,2560.5254996493459,1395812745.1082625,545127.45344633888,45061724.708423547,1607410607.2020233,2610.6446787044406,1395812745.1082625,534662.09189407923,45061749.15867544,1606574478.9936163,2635.0949305966496,1394976616.8998556,529383.81866341294,45061799.277854495,1605888135.816062,2685.2141096517444,1394290273.7223012,519247.33625920507,null,null,null,72094092544013.391,72094370904129.656,72097126921673,72097150805351.156,72097247755233.906,72097271638912.047,72097071245840.812,72097152122870.469,72097192079401.703,72097272956431.375,0,0,0,0,0,0,0,0,0,1,null,0,0,0,0,0,0,0,0,1]
[null,312,2070509.7641725151,0.15659234420466889,0.18988450877802332,0.25263540259200779,0.48405475760062483,0.28529837703110705,0.27588306114865763,4.3041500892322393E-2,0.55223182645418534,142.47271405722088,1240.6130222662061,5656.6170376866003,55430.132185565162,90.682068754759584,4764.3084123952794,55.43046731957098,2885.2190917197045,6682.9803331099411,1184.6531440390854,0.9536305827179723,null,58612356.513104662,8120284.1073918762,58612623.351249136,34714703.097400576,58615259.376130551,298462174.21446586,2636.0248814150691,263747471.11706528,100055.00060966061,58615259.746094242,298467068.66414154,2636.3948451057076,263752365.56674096,100042.81644548796,58615263.894205488,298460044.96899033,2640.5429563522339,263745341.87158975,99882.996122865414,58615264.264169179,298464939.41866606,2640.9129200428724,263750236.32126549,99870.856899357284,58615257.011211999,298468242.31799865,2633.65996286273,263752252.95923486,100146.66155783528,58615259.746094242,298466956.05663544,2636.3948451057076,263752252.95923486,100042.77373280161,58615261.529286943,298466113.07252312,2638.1780378073454,263751409.97512254,99974.833462844239,58615264.264169179,298464826.81115997,2640.9129200428724,263750123.71375939,99870.814259743813,null,null,null,93779762300683.344,93780162647295.531,93784116539634.656,93784117126682.109,93784123770683.812,93784124357731.266,93784112749696.891,93784117126794.719,93784119980746.031,93784124357843.875,0,0,0,0,0,0,0,0,0,1,null,0,0,0,0,0,0,0,0,1]
[null,313,2145000.251276854,0.28192103919043277,0.11438745704127602,0.22038832113671358,0.57478038385456209,0.27415607447756429,0.34276551970805041,3.473064678885307E-2,0.42013250985207595,140.76167322052109,3701.5804611677863,3053.7024238981503,305413.89599192003,138.53464883495812,113.0178982040256,9494.7162979437653,345.63241537969236,4353.0238902362571,91.84929937214207,0.93955038645406264,null,60721076.051050104,45698578.833046116,60721336.488630466,70106072.103187367,60723905.36289876,309160550.20053983,2568.8742682933807,239054478.09735245,93058.068683200734,60723942.453572296,308649772.92250359,2605.964941829443,238543700.81931621,91537.570974325325,60723966.722241946,308288086.52664495,2630.2336114794016,238182014.42345756,90555.459934788712,60724003.812915474,307777309.24860883,2667.3242850080132,237671237.14542145,89104.740087764556,60723769.38579911,310540236.02312684,2432.8971686437726,237974935.78279734,97815.451820126589,60723942.453572296,308081007.88598472,2605.964941829443,237974935.78279734,91319.31591364152,60723830.745142296,309667772.34923196,2494.2565118297935,239561700.24604458,96045.334194718191,60724003.812915474,307208544.2120899,2667.3242850080132,237102472.10890251,88891.505784115856,null,null,null,97153675983101.344,97154068275736.641,97157939420087.812,97157999275942.75,97158038467500.578,97158098323355.516,97157720477042.562,97157999844707.781,97157819524455.328,97158098892120.547,0,0,0,0,0,0,0,0,0,1,null,0,0,0,0,0,0,0,0,1]
[null,314,1832511.0793586811,0.15998662022960963,0.24935227768845547,0.21567568862895647,0.5724373767230041,0.28946711345435983,0.33859479856907432,3.9981631517599925E-2,0.51780767920288273,243.62887651417591,421.77144776473472,2763.505607273868,322818.26739809301,490.69239273461409,5308.2523227963693,26322.949260891179,2653.460788567857,4518.1610385049626,1566.4625687565272,0.84767992854905394,null,51874552.181814007,47625593.016175047,51874823.850869253,85430603.703046814,51877504.852247439,450508679.11343753,2681.0013781860471,365078075.41039073,136172.2818872256,51877510.121970996,450472814.52723354,2686.2711017429829,365042210.82418674,135891.79833239081,51877549.24017974,449940249.08034754,2725.3893104866147,364509645.37730074,133745.89970495555,51877554.509903304,449904384.49414355,2730.6590340510011,364473780.79109675,133474.6580390122,51877484.028334416,450402896.3118161,2660.1774651631713,364630840.09043074,137070.11839079121,51877510.121970996,450061443.79347754,2686.2711017429829,364630840.09043074,135738.66012772894,51877528.416266717,449834466.2787261,2704.5653974637389,364403862.5756793,134736.56910548601,51877554.509903304,449493013.76038748,2730.6590340510011,364062410.05734068,133324.00915585749,null,null,null,82999235865309.391,82999632730787.109,83003557254916.797,83003565722339.062,83003628844038.5,83003637311460.781,83003524042438.75,83003566133709.797,83003595631560.469,83003637722831.516,0,0,0,0,0,0,0,0,0,1,null,0,0,0,0,0,0,0,0,1]
[null,315,1909867.606017113,0.11206730205071112,0.17023038041769789,0.19434116510410687,0.49436643117811963,0.20613898234260669,0.51070390476229166,3.2962060435157856E-2,0.51944597827764172,2469.3224049752725,1094.7249247767686,16972.137286949543,110323.79648187898,91.826043817332177,5183.8103429358243,28537.941146305307,10769.957833192748,1052.5421296105962,218.98982507294843,0.87659570937629616,null,54064544.868890829,16161650.38836983,54064822.167188734,444074824.19206816,54067575.117761761,4676441653.1920824,2752.9505730271339,4232366829.0000143,1537392.9595641522,54067575.14080856,4676442227.2282848,2752.973619826138,4232367403.0362167,1537380.2976373993,54067575.241300941,4676441359.9778271,2753.0741122066975,4232366535.785759,1537323.8653547727,54067575.264347732,4676441934.0140285,2753.097158998251,4232367109.8219604,1537311.2045787589,54067575.079889007,4676440014.6448822,2752.9127002730966,4232365572.6736841,1537413.6536381345,54067575.14080856,4676440396.8657522,2752.973619826138,4232365572.6736841,1537379.6327699558,54067575.203428179,4676439721.4306259,2753.0362394452095,4232364897.2385578,1537344.4187176635,54067575.264347732,4676440103.6514969,2753.097158998251,4232365279.4594288,1537310.5397411503,null,null,null,86503255628574.938,86503271392677.781,86503443746765.625,86503443783066.469,86503443944721.516,86503443981022.359,86503443687807.766,86503443784896.844,86503443885763.656,86503443982852.719,0,0,0,0,0,0,0,0,0,1,null,0,0,0,0,0,0,0,0,1]
[null,316,2048424.9684460985,0.12127645291331099,0.17596791064905248,0.1838812616190813,0.60049389250783447,0.23890964760606367,0.45773912161109553,4.3323395097480288E-2,0.41569716835234988,371.48496239774607,89.457812391926737,1499.9954405948652,144996.8709383714,668.38308529595849,4255.3251410832991,26441.382066702117,71276.614365225076,1528.7439546274397,209.41281281549144,0.80296334074257836,null,57986982.651453935,21215950.004250214,57987265.169791602,89480088.791919678,57990067.023609504,756063711.96864986,2801.8538179025054,666583623.17673016,237908.0660516904,57990068.520870656,756292075.33497965,2803.3510790541768,666811986.54305995,237862.46094015302,57990072.479982927,756042497.38477695,2807.3101913258433,666562408.59285724,237438.10379502506,57990073.977244087,756270860.75110674,2808.8074524849653,666790771.95918703,237392.83779287685,57990064.077920489,755994516.42930603,2798.9081288874149,666723664.42410457,238208.48478121779,57990068.520870656,756203753.21602428,2803.3510790541768,666723664.42410457,237830.95503294957,57990069.534293905,755973301.845433,2804.3645023033023,666493213.05351329,237662.83323943944,57990073.977244087,756182538.63215137,2808.8074524849653,666702449.84023166,237361.3930888701,null,null,null,92779151026376.297,92779534791577.766,92783351174063.234,92783353341317.719,92783359925475.297,92783362092729.781,92783346530156.359,92783353429639.828,92783355281568.406,92783362181051.906,0,0,0,0,0,0,0,0,0,1,null,0,0,0,0,0,0,0,0,1]
[null,317,1715177.9761292501,0.20906022698355886,0.12085389156773603,0.19772837938012636,0.66684292241817333,0.30027704625818463,0.35772809261534777,3.2863103125496521E-2,0.54935429140398495,2094.2624262777049,2724.3523444826014,10847.355043819074,293741.86959187419,331.01103035407209,5393.7353868971131,25267.789319688109,916.56546497242095,7809.7233001210489,529.74514453310894,0.91389367187711978,null,48552984.969646767,43030521.19680313,48553256.611726902,366707840.98261726,48555944.666562319,3566745394.9974971,2688.0548354163766,3200037554.0148797,1190465.8758641721,48555944.871312283,3566742916.5995693,2688.2595853805542,3200035075.6169519,1190374.2826844417,48555945.162423946,3566740495.1735473,2688.5506970435381,3200032654.1909299,1190244.4903530525,48555945.367173925,3566738016.7756195,2688.7554470226169,3200030175.7930021,1190152.9309169948,48555943.997816257,3566745753.9908595,2687.3860893547535,3200026300.0675545,1190757.9311895177,48555944.871312283,3566734141.0501719,2688.2595853805542,3200026300.0675545,1190371.0182863735,48555944.493677892,3566740854.1669092,2687.8819509893656,3200033013.1842918,1190540.7571959817,48555945.367173925,3566729241.2262216,2688.7554470226169,3200021400.2436042,1190149.6671209484,null,null,null,77684732920913.625,77684843870922.062,77685944721104.703,77685945051183.062,77685945519383.141,77685945849461.5,77685943650752.031,77685945059958.609,77685944449030.453,77685945858237.062,0,0,0,0,0,0,0,0,0,1,null,0,0,0,0,0,0,0,0,1]
[null,318,1601658.8151546107,0.22450660892503804,0.15545938699271594,0.153850190376535,0.56406706063780554,0.2879434963537546,0.4289130701842494,3.40188705885799E-2,0.53303049747469677,611.9950350436377,587.5670497891798,896.46659655456699,302458.30130413943,6.8255331931481713,48.317614286467233,10342.092107877528,21605.153121371251,16.295466516538884,7355.8373563320229,0.86087246779102833,null,45339236.166233644,44309337.486174829,45339510.776409924,130094295.85679013,45342225.278806552,976859802.78442907,2714.5023966282606,846765506.92763901,311941.33701242035,45342225.279522881,976859819.4694134,2714.5031129568815,846765523.61262321,311941.26084101258,45342225.281038985,976859772.01187396,2714.504629060626,846765476.15508389,311941.06913279172,45342225.281755306,976859788.69685805,2714.5053453817964,846765492.84006786,311940.99296237336,45342225.276858196,976859816.97066307,2714.5004482716322,846765510.89003396,311941.5623707794,45342225.279522881,976859806.74682415,2714.5031129568815,846765510.89003396,311941.25615411822,45342225.279090621,976859786.19810772,2714.502680696547,846765490.34131765,311941.2982580057,45342225.281755306,976859775.97426879,2714.5053453817964,846765480.11747861,311940.9882754829,null,null,null,72542733556636.344,72543087147960.016,72546583586287.703,72546583587417.141,72546583589890.359,72546583591019.781,72546583583156.141,72546583587429.859,72546583586758.797,72546583591032.516,0,0,0,0,0,0,0,0,0,1,null,0,0,0,0,0,0,0,0,1]
[null,319,1611488.6283649446,0.23588156172327879,0.11373275381675654,0.22223527708468604,0.6013369568628868,0.25375753066483914,0.46283172506584336,3.8779516486185238E-2,0.43680096243465583,1028.6430576183157,4936.7285270387911,9.3041163577717239,2608764.8173201946,297.69985595369252,3401.8856233609331,9853.0297121272088,36023.548233767477,7216.4140542116493,2430.9950234660446,0.87992548209322852,null,45617535.595783286,382200434.95145202,45617808.581533916,500663430.6059891,45620506.266667016,1672757210.3017337,2697.685133099556,1172093779.6957445,434481.31337293814,45620509.097032771,1672541343.5956297,2700.5154988542199,1171877912.9896407,433946.005304116,45620509.972113334,1672324591.7732751,2701.3905794173479,1171661161.1672859,433725.19697614288,45620512.802479088,1672108725.0671716,2704.2209451720119,1171445294.4611826,433191.41379798332,45620500.583457984,1673404846.0981135,2692.0019240677357,1171844135.8399367,435305.83145692101,45620509.097032771,1672507566.4459257,2700.5154988542199,1171844135.8399367,433933.49763670273,45620504.288904302,1672972227.5696554,2695.7073703855276,1172308796.9636664,434879.84261289024,45620512.802479088,1672074947.9174678,2704.2209451720119,1171411517.3114786,433178.92326914385,null,null,null,72987674752818.297,72987993067023.656,72991137269456.922,72991142013908.844,72991143630789.562,72991148375241.484,72991127528686.688,72991142047685.984,72991133890019.328,72991148409018.625,0,0,0,0,0,0,0,0,0,1,null,0,0,0,0,0,0,0,0,1]
[null,320,1857792.6446725666,0.27685227903013532,0.13365619506743803,0.22139878515312039,0.43263841267868225,0.31293279854734424,0.32802747089307516,3.5351925444973377E-2,0.50516089329664771,739.09875526768428,588.2749318434918,1045.2234823469696,132101.9687857122,21.509676999161602,12232.703575475098,22899.911155134399,5137.4566478112047,1909.7724755618251,948.50525830138065,0.99177272876428302,null,52590409.079278857,19579649.977495458,52590668.160885178,143430714.21708271,52593220.97790847,1363288162.8060763,2552.8170232921839,1219857448.5889935,477847.58463253721,52593226.782117464,1363382604.3529611,2558.6212322860956,1219951890.1358783,476800.50284186332,52593257.026559711,1363372706.7840323,2588.8656745329499,1219941992.5669496,471226.45433778095,52593262.830768704,1363467148.3309169,2594.6698835268617,1220036434.1138341,470208.73131478019,52593178.004984729,1362975154.9024205,2509.8440995514393,1219367591.376461,485833.99725679657,52593226.782117464,1362798305.5935438,2558.6212322860956,1219367591.376461,476572.13814604812,52593214.053635962,1363059698.8803768,2545.8927507847548,1219628984.6632941,479057.48751095327,52593262.830768704,1362882849.5714998,2594.6698835268617,1219452135.3544171,469983.53936912009,null,null,null,84144634947196.188,84144925626702.062,84147790276490.734,84147799468783.578,84147847869788.75,84147857062081.594,84147721832820.656,84147800053082.344,84147779426118.672,84147857646380.344,0,0,0,0,0,0,0,0,0,1,null,0,0,0,0,0,0,0,0,1]
[null,321,1274502.6979855574,0.17668773069053154,0.14378738267658617,0.21518659914162486,0.39575833145973316,0.2256261149047844,0.31680006259535298,3.3730652208162876E-2,0.39354216060115632,677.38416637481453,785.97902884364112,1851.2228229215657,691636.1740146206,137.90724003865762,2751.540484715063,5838.7055563804925,1445.598477402033,2508.5088520418167,32.602049236621909,0.70265548061516026,null,36077380.165551685,101300958.41085286,36077672.006053969,171224492.36404777,36080560.838374436,862522483.45224202,2888.8323204666376,691297991.08819425,239300.144279931,36080561.083435334,862516750.99388361,2889.0773813650012,691292258.62983584,239277.8618837898,36080562.29453025,862481911.08858001,2890.2884762808681,691257418.72453225,239165.54503030801,36080562.539591141,862476178.63022161,2890.5335371717811,691251686.26617384,239143.28527131479,36080559.609011598,862552816.51651323,2887.6029576286674,691285748.09538591,239397.78364234592,36080561.083435334,862510240.45943367,2889.0773813650012,691285748.09538591,239275.60838428439,36080561.065167412,862512244.15285134,2889.0591134428978,691287751.78880358,239277.81490251145,36080562.539591141,862469668.09577167,2890.5335371717811,691245175.7317239,239141.03290704839,null,null,null,{"$f":"cRatio*X328-Y328","v":57723706963924.281},{"$f":"cRatio*Z328-AA328","v":57724103985193.984},{"$f":"cRatio*AB328-AC328","v":57728034818915.641},{"$f":"cRatio*AG328-AH328","v":57728035216745.539},{"$f":"cRatio*AL328-AM328","v":57728037189337.312},{"$f":"cRatio*AQ328-AR328","v":57728037587167.195},{"$f":"cRatio*AV328-AW328","v":57728032821602.039},{"$f":"cRatio*BA328-BB328","v":57728035223256.07},{"$f":"cRatio*BF328-BG328","v":57728035192023.703},{"$f":"cRatio*BK328-BL328","v":57728037593677.734},0,0,0,0,0,0,0,0,0,1,null,0,0,0,0,0,0,0,0,1]
[null,322,1516010.6843850957,0.25061265900448781,0.10332306474966166,0.17108477571353278,0.52481610663286915,0.18895210797723044,0.33538905008781922,3.7907507023193447E-2,0.5454047810022582,429.098916818992,422.0706422596798,7656.1794937478862,843013.5795443086,4.5947797188363362,222.15689055781417,7877.5162885659502,18329.22770216929,336.89570332788071,122.03079335485631,0.83732403809506906,null,42914530.56363824,123841438.54845814,42914797.88378261,173205100.51512763,42917440.289700143,660402687.28819621,2642.405917532742,487197586.77306855,184376.51215524561,42917475.353530116,660094956.39393342,2677.4697475060821,486889855.87880576,181847.00549177718,42917510.283606783,657742236.3856343,2712.3998241722584,484537135.87050664,178637.79946910025,42917545.347436756,657434505.49137151,2747.4636541455984,484229404.97624385,176245.97298879598,42917331.716743305,664105677.20298052,2533.8329606950283,486446625.56685841,191980.54217174067,42917475.353530116,659651726.08198607,2677.4697475060821,486446625.56685841,181681.46475602838,42917401.710649945,661445226.30041862,2603.8268673345447,488240125.78529096,187508.67498540215,42917545.347436756,656991275.17942405,2747.4636541455984,483786174.66429639,176084.64954006585,null,null,null,68663125060382.641,68663503408951.664,68667244060832.938,68667300470691.797,68667358711534.469,68667415121393.32,68667066641112.086,68667300913922.109,68667181291813.617,68667415564623.633,{"$f":"IF(BS329=MAX($BS329:$CB329),1,0)","v":0},{"$f":"IF(BT329=MAX($BS329:$CB329),1,0)","v":0},{"$f":"IF(BU329=MAX($BS329:$CB329),1,0)","v":0},{"$f":"IF(BV329=MAX($BS329:$CB329),1,0)","v":0},{"$f":"IF(BW329=MAX($BS329:$CB329),1,0)","v":0},{"$f":"IF(BX329=MAX($BS329:$CB329),1,0)","v":0},{"$f":"IF(BY329=MAX($BS329:$CB329),1,0)","v":0},{"$f":"IF(BZ329=MAX($BS329:$CB329),1,0)","v":0},{"$f":"IF(CA329=MAX($BS329:$CB329),1,0)","v":0},{"$f":"IF(CB329=MAX($BS329:$CB329),1,0)","v":1},null,{"$f":"IF(BT329=MAX($BT329:$CB329),1,0)","v":0},{"$f":"IF(BU329=MAX($BT329:$CB329),1,0)","v":0},{"$f":"IF(BV329=MAX($BT329:$CB329),1,0)","v":0},{"$f":"IF(BW329=MAX($BT329:$CB329),1,0)","v":0},{"$f":"IF(BX329=MAX($BT329:$CB329),1,0)","v":0},{"$f":"IF(BY329=MAX($BT329:$CB329),1,0)","v":0},{"$f":"IF(BZ329=MAX($BT329:$CB329),1,0)","v":0},{"$f":"IF(CA329=MAX($BT329:$CB329),1,0)","v":0},{"$f":"IF(CB329=MAX($BT329:$CB329),1,0)","v":1}]
[null,323,1895466.6682274044,0.15228684572406015,0.20056350227057995,0.18946152384797499,0.52655711746355505,0.2088567863326817,0.4560778867254851,4.4863152191868871E-2,0.50384788732068408,208.22644021269133,2091.9233106342353,585.99727660818485,353886.80039498513,10.111238749306212,625.20906923744656,33127.623010987445,2971.1928829192843,1990.3567276336407,1116.2091196400268,0.97615681890907346,null,53656967.465456769,51843512.442192987,53657232.331864633,84593143.7907902,53659852.683058493,396338364.1890381,2620.3511938601732,311745220.3982479,118970.77808833712,53659852.694245122,396338247.63327384,2620.362380489707,311745103.84248364,118970.22570756916,53659852.734289333,396337517.62376356,2620.4024247005582,311744373.83297336,118968.12905315388,53659852.745475955,396337401.06799918,2620.4136113226414,311744257.27720898,118967.57669483236,53659852.66094666,396337937.90924376,2620.3290820270777,311744305.67353696,118971.43294397688,53659852.694245122,396337449.46432716,2620.362380489707,311744305.67353696,118969.92110506355,53659852.7121775,396337091.34396917,2620.3803128674626,311743947.55317897,118968.97027593674,53659852.745475955,396336602.89905262,2620.4136113226414,311743459.10826242,118967.27209828199,null,null,null,85851096101218.391,85851487137839.609,85855367954529.406,85855367972544.562,85855368037345.312,85855368055360.469,85855367919576.75,85855367973342.734,85855368002392.656,85855368056158.625,0,0,0,0,0,0,0,0,0,1,null,0,0,0,0,0,0,0,0,1]
[null,324,1855803.8676954799,0.2855156347027491,0.16683184453918343,0.157271178630146,0.51241648499127079,0.27129032629557892,0.31022666050999426,3.4800166754059642E-2,0.61626273596875647,310.96241286067027,1179.0310846889552,5100.7189005145892,1483210.0161229551,175.66074974464419,1448.2055364401399,7974.9004668001062,30429.603175450931,25.556073545710529,2535.155863580726,0.87694575042771139,null,52533922.982722029,223767829.81115162,52534190.208859421,258514381.33647788,52536823.23004014,601415436.00356269,2633.0211807191372,342901054.66708481,130231.02783147033,52536841.403808087,601366667.57971227,2651.1949486657977,342852286.2432344,129319.90777055958,52536910.715624534,595514319.62813699,2720.5067651122808,336999938.29165912,123873.95709260456,52536928.889392473,595465551.20428669,2738.6805330514908,336951169.86780882,123034.12749364064,52536737.358148411,606951670.65067625,2547.1492889896035,342540715.90133357,134480.0312184339,52536841.403808087,601055097.23781145,2651.1949486657977,342540715.90133357,129202.38704955125,52536824.843732797,601050554.27525067,2634.6348733752966,342536172.9387728,130012.76814496164,52536928.889392473,595153980.86238575,2738.6805330514908,336639599.52590787,122920.36090489807,null,null,null,84054053004525.438,84054445819793.734,84058315752628.219,84058344879425.359,84058461630679.625,84058490757476.75,84058172821366.797,84058345190995.703,84058318699418.188,84058491069047.094,0,0,0,0,0,0,0,0,0,1,null,0,0,0,0,0,0,0,0,1]
[null,325,1477583.8847290806,0.1576008432227744,0.20529579227105577,0.18293931494496168,0.45154930986818209,0.25779913403179883,0.31266509008220617,3.2523472777131066E-2,0.42942054802935564,10.853047201299596,1896.2231252403599,290.46584656251611,33774.448883309597,81.997057801334108,295.35740957222424,87348.250517367196,1259.216700549945,798.74067433476114,1756.1061533122702,0.38855027789581326,null,41826199.240648627,4948484.3738241941,41826518.736185983,9335580.4933880363,41829679.073641203,18282053.268508118,3160.3374552205205,8946472.7751200814,2830.8599641286783,41829679.339183293,18283078.365294784,3160.6029973104596,8947497.871906748,2830.9464616469368,41829681.525617123,18279118.210886996,3162.7894311398268,8943537.71749896,2827.7373224545745,41829681.791159205,18280143.307673659,3163.0549732223153,8944562.8142856229,2827.8240150766278,41829677.713182226,18188276.105831601,3158.976996243,8851912.8864246067,2802.1454087675429,41829679.339183293,18187493.379812643,3160.6029973104596,8851912.8864246067,2800.7038194791348,41829680.165158138,18185341.048210472,3161.4289721548557,8849760.5548224356,2799.2912802309033,41829681.791159205,18184558.322191518,3163.0549732223153,8848977.8288034815,2797.6048167726649,null,null,null,66921913836553.43,66922420642317.078,66927468235772.656,66927468659614.898,66927472161869.188,66927472585711.422,66927466152815.453,66927468755199.883,66927470078911.977,66927472681296.406,0,0,0,0,0,0,0,0,0,1,null,0,0,0,0,0,0,0,0,1]
[null,326,2066278.3264418247,0.23303031702157706,0.18805276839771623,0.20783178165633176,0.51811987987928598,0.26924115634843498,0.42802873457464441,3.9883532497963392E-2,0.46893267335347888,682.19647629548763,272.88813338882539,823.87792768127076,348375.05143982469,9.1496771110583044,3563.5979163146339,6055.9714719045578,29344.850438220452,158.45453074910034,1576.8316090005774,0.83850991774536643,null,58492440.195372365,51037232.730974302,58492714.893150926,174828024.57623324,58495422.570920482,1400345858.1162412,2707.6777695566416,1225517833.5400081,452608.44821305154,58495422.595489249,1400346786.403686,2707.7023383229971,1225518761.8274529,452604.68423071655,58495422.658197612,1400344640.0511768,2707.7650466859341,1225516615.4749436,452593.409821457,58495422.682766378,1400345568.3386219,2707.7896154522896,1225517543.7623887,452589.64609689114,58495422.502572276,1400346665.5509996,2707.6094213500619,1225518490.2060981,452620.11593793053,58495422.595489249,1400346514.7823312,2707.7023383229971,1225518490.2060981,452604.58391638327,58495422.589849405,1400345447.4859354,2707.6966984793544,1225517422.9097023,452605.13247216883,58495422.682766378,1400345296.7172673,2707.7896154522896,1225517272.1410341,452589.54578579124,null,null,null,93587853275363.047,93588169001016.906,93591275767614.656,93591275805996.391,93591275908476.125,93591275946857.859,93591275657450.094,93591275806268.016,93591275798311.562,93591275947129.484,0,0,0,0,0,0,0,0,0,1,null,0,0,0,0,0,0,0,0,1]
[null,327,1371625.4328813651,0.23616432382577279,0.10882140027932094,0.1842327382053783,0.67095909265519227,0.25637902313548649,0.36415045343587804,3.8717472730485522E-2,0.51406409716360724,136.15274466596406,4841.9801531110024,736.90004514601753,1211422.4444566092,88.891134165964388,1519.9731444516681,69933.425974666126,12447.82302490779,777.33649734294966,140.15656631757469,0.78737822215197484,null,38826985.464935243,177452975.31399983,38827266.892402254,181986028.18915167,38830048.675598234,200111491.29232806,2781.7831959798932,18125463.103176385,6515.7712971199489,38830053.596829161,199922445.04442132,2786.7044269070029,17936416.855269641,6436.426009907871,38830056.397099748,199704123.64781874,2789.5046974942088,17718095.45866707,6351.6994520866383,38830061.318330675,199515077.399912,2794.4259284213185,17529049.210760325,6272.8623551897745,38830034.768552653,200431999.84283409,2767.8761503994465,17506389.78008455,6324.8457766284491,38830053.596829161,199492417.96923622,2786.7044269070029,17506389.78008455,6282.1121648394928,38830042.490054168,200024632.19832477,2775.5976519137621,18038604.009173095,6498.9981515280351,38830061.318330675,199085050.32472691,2794.4259284213185,17099022.135575235,6118.9749070339994,null,null,null,62122999290921.078,62123445041815.422,62127877769465.883,62127885832481.609,62127890531235.945,62127898594251.68,62127855197684.398,62127886262508.688,62127867959454.477,62127899024278.75,0,0,0,0,0,0,0,0,0,1,null,0,0,0,0,0,0,0,0,1]
[null,328,1615736.6784539567,0.23073738880881289,0.16561139638823075,0.20368648298505443,0.58830704079593332,0.29300446657483636,0.23014471952334339,3.2611744295828443E-2,0.4554605843955829,99.544442424917975,3595.1064347389683,3971.8160402391072,87260.620303281132,76.76075846322253,6150.8595958689621,6900.2441434352468,34084.24827560658,1415.2498990517811,156.37333883820676,0.7558066023550335,null,45737550.297777526,13210606.507627854,45737823.529596679,27333850.020685066,45740521.51119265,165349217.6106196,2697.9815959706903,138015367.58993453,51155.044124857654,45740554.796136312,168410733.39513808,2731.2665396332741,141076883.37445301,51652.550685659313,45740681.615355119,165308869.92698342,2858.0857584401965,137975019.90629834,48275.32536378417,45740714.900298774,168370385.71150193,2891.3707020953298,141036535.69081685,48778.434252173181,45740299.69527024,165556850.66301125,2476.1656735613942,140431166.08196396,56713.154366600218,45740554.796136312,167765016.10264903,2731.2665396332741,140431166.08196396,51416.133886669144,45740459.79943271,165516502.97937509,2636.2698360309005,138182652.95869002,52415.974673796758,45740714.900298774,167724668.41901287,2891.3707020953298,140390818.3983278,48555.108584516274,null,null,null,73180067265837.547,73180490313504.672,73184669068690.625,73184719263084.703,73184925275698.266,73184975470092.312,73184313955581.734,73184719908801.984,73184570162589.344,73184976115809.609,0,0,0,0,0,0,0,0,0,1,null,0,0,0,0,0,0,0,0,1]
[null,329,1541535.7945085084,0.21776757386635626,0.12741461265788093,0.22080112540747798,0.42713074548873881,0.33181829308276556,0.4298132071964218,4.1310353118265253E-2,0.64430901761674642,267.78655686758293,2444.647594663068,5641.3226511416033,298894.01079648535,18.991188201274888,4432.2410419633143,1341.8478798380752,17200.752493943452,1785.9299410418937,707.87488093727904,0.64748700142721871,null,43636940.296002991,43784521.425218262,43637234.972298861,77898593.919277459,43640147.087024242,415818706.51268369,2912.1147253811359,337920112.5934062,116039.42305163799,43640147.973002493,415880158.44733536,2913.0007036328316,337981564.52805793,116025.22584582896,43640155.239957683,415733699.91538537,2920.2676588222384,337835105.99610794,115686.34983697312,43640156.125935942,415795151.85003704,2921.1536370813847,337896557.93075955,115672.29934142133,43640141.819923207,415880057.17462265,2906.8476243466139,337975891.09649503,116268.87087776522,43640147.973002493,415874485.01577246,2913.0007036328316,337975891.09649503,116023.27822132071,43640149.972856648,415795050.57732421,2915.0005577877164,337896456.65804672,115916.42950301414,43640156.125935942,415789478.41847402,2921.1536370813847,337890884.49919653,115670.35715272881,null,null,null,69819060689083.367,69819498057084.258,69823819520532.273,69823820876645.547,69823832650232.375,69823834006345.656,69823811031819.961,69823820882318.977,69823824161520.062,69823834012019.086,0,0,0,0,0,0,0,0,0,1,null,0,0,0,0,0,0,0,0,1]
[null,330,2069101.6664826456,0.16003757622738607,0.177436409287271,0.2094174910832225,0.52650040247451557,0.25067718551555207,0.27777506891760839,5.1707187440210745E-2,0.55622488576755935,121.74108031198634,1133.1245729209832,2016.8751739540162,1602976.2399961944,272.08002467620389,5877.7884889325042,6479.5303850587479,44645.794844999546,2882.5919494104969,1098.0683215473589,0.72436596678616461,null,58572246.212101035,234649858.73441261,58572532.399068885,237977975.46068093,58575360.418858401,269193900.5653798,2828.0197895169258,31215925.104698867,11038.085808455775,58575363.516958714,269469441.70608586,2831.11788982898,31491466.245404929,11123.332715511624,58575385.355765156,267514385.20832506,2852.9566962718964,29536409.747644126,10352.912046033105,58575388.453865469,267789926.34903112,2856.0547965839505,29811950.888350189,10438.157882687494,58575345.04288657,270197999.4523623,2812.6438176855445,31420024.841410309,11170.993157343712,58575363.516958714,269398000.30209124,2831.11788982898,31420024.841410309,11098.098371067235,58575369.979793325,268518484.09530753,2837.580724440515,30540508.634626597,10762.86865482858,58575388.453865469,267718484.94503656,2856.0547965839505,29740509.484355628,10413.143865421434,null,null,null,93715359289502.922,93715813860534.766,93720307476272.875,93720312157692.234,93720349054839.047,93720353736258.406,93720281870619.062,93720312229133.641,93720323449185.219,93720353807699.812,0,0,0,0,0,0,0,0,0,1,null,0,0,0,0,0,0,0,0,1]
[null,331,1656788.2959631854,0.16069342655847338,0.1482999314255449,0.1578772401898233,0.60211284505189777,0.23876243286276078,0.43359577372155955,3.7072917689641931E-2,0.64926762588756848,474.57997533386538,1528.3774229797821,18.330461152627652,873052.58013542811,80.229452604713316,773.50050665436447,3049.9873144367921,36496.1134680861,6922.3782272681892,2098.590276805689,0.99122847335588071,null,46900116.316944927,126225418.81597799,46900365.540788881,187617615.37417978,46902836.217425257,795429569.45210195,2470.6766363754869,607811954.07792211,246010.32167835196,46902861.265618056,796109981.97063041,2495.7248291745782,608492366.59645057,243813.88504184567,46902931.482187264,791492211.30002439,2565.9413983821869,603874595.92584467,235342.31775775726,46902956.530380063,792172623.81855297,2590.9895911812782,604555008.44437313,233329.77118165331,46902781.996106356,797547203.33918989,2416.4553174749017,608348184.11823726,251752.30004001752,46902861.265618056,795965799.49241698,2495.7248291745782,608348184.11823726,243756.11325686047,46902877.260868371,793609845.18711245,2511.7200794890523,605992229.81293273,241265.83004273588,46902956.530380063,792028441.34033954,2590.9895911812782,604410825.96615982,233274.12353308537,null,null,null,75040059881693.078,75040397247646.828,75043742518310.953,75043781915006.922,75043898879288.328,75043938275984.281,75043653646566.828,75043782059189.391,75043810007544.203,75043938420166.75,0,0,0,0,0,0,0,0,0,1,null,0,0,0,0,0,0,0,0,1]
[null,332,1431894.1220551648,0.11801548075963229,0.1743547088146129,0.18472392529774262,0.4438610709477121,0.27045655580063971,0.34759699859671639,3.2776975317102768E-2,0.49536027642802322,178.23760740926278,3796.9601047084475,392.63587417231497,385936.71032305213,145.57806076777973,7447.1311455716441,7682.7140218247496,1466.0051570749672,3019.3058392675425,387.94607281852905,0.96434121928496364,null,40533378.072077639,56305878.586117439,40533643.512847506,75163211.39973323,40536276.895305134,259188425.54226223,2633.3824576288462,184025214.14252901,69881.68908371526,40536278.45192311,259175176.23088512,2634.9390756040812,184011964.8311519,69835.377422897596,40536295.795291841,258920337.55633536,2652.2824443355203,183757126.15660214,69282.638637921933,40536297.351909809,258907088.24495828,2653.8390623033047,183743876.84522504,69237.008172511836,40536269.41690623,259245454.13949314,2625.9040587246418,183932397.69620878,70045.360981521051,40536278.45192311,259095609.09594199,2634.9390756040812,183932397.69620878,69805.180468561986,40536288.316892929,258977366.1535663,2644.8040454238653,183814154.75383306,69500.103446935842,40536297.351909809,258827521.11001515,2653.8390623033047,183664309.71028191,69207.026273430849,null,null,null,64853348609445.641,64853754457344.609,64857783844062.68,64857786347900.742,64857814352129.391,64857816855967.453,64857771821595.828,64857786427467.883,64857802329662.531,64857816935534.586,0,0,0,0,0,0,0,0,0,1,null,0,0,0,0,0,0,0,0,1]
[null,333,1471760.8952471386,0.18836785806764944,8.3186352803763727E-2,0.21618472929848265,0.51281880513400235,0.31028569028139241,0.32891036745413293,3.8441967502748156E-2,0.50529661565884088,306.60069480166999,3017.3885250854296,2451.8084765450835,38099.300853312321,961.45530962295186,475.00433468471391,16663.150088416915,11718.752355823079,621.86406570975873,1930.7951263010932,0.82889963444702086,null,41661842.977511324,5564408.4846900776,41662123.432036527,46931675.18725352,41664902.621600732,450662610.57853371,2779.1895642057061,403730935.39128017,145269.30461710578,41664904.166976318,450725143.67130804,2780.7349397912621,403793468.48405451,145211.06010714042,41664907.79829023,450656343.99674714,2784.3662537038326,403724668.8094936,144996.96951593531,41664909.343665823,450718877.08952147,2785.9116292968392,403787201.90226793,144938.9843008708,41664894.637887754,450583651.64563692,2771.2058512270451,403700769.58185297,145676.93316723505,41664904.166976318,450632444.76910651,2780.7349397912621,403700769.58185297,145177.72399125429,41664899.814577259,450577385.0638504,2776.3825407326221,403645709.87659687,145385.48055055997,41664909.343665823,450626178.18731993,2785.9116292968392,403694503.0000664,144905.71012906049,null,null,null,66658943199609.633,66659350559583.258,66663393531950.594,66663395942018.438,66663401820920.367,66663404230988.234,66663380836968.758,66663396034717.344,66663389125938.555,66663404323687.133,0,0,0,0,0,0,0,0,0,1,null,0,0,0,0,0,0,0,0,1]
[null,334,1566599.4627794072,0.17030549977626402,0.13268248982196029,0.1885443455045954,0.50399563901917876,0.28187631377477251,0.25788578671015083,3.3915947989642842E-2,0.513136487518151,118.89434932224556,4851.8281964805819,42.845914640443659,445722.13454818341,54.594345423241663,657.4835325092705,5959.189322612393,2.6737352444597544,3043.6351014677348,552.39056223588796,0.9694624218625324,null,44346837.347211242,65261396.490555413,44347104.647244126,77036144.307395697,44349752.696176924,191513493.92919075,2648.0489327982068,114477349.62179506,43230.828631563942,44349753.047067404,191506083.12188798,2648.3998232781887,114469938.81449229,43222.302693254758,44349755.145102955,191462862.05688894,2650.4978588297963,114426717.74949324,43171.782753302439,44349755.495993435,191455451.24958619,2650.8487493097782,114419306.9421905,43163.272507336653,44349750.405017242,191551750.20170069,2645.757773116231,114459776.01841864,43261.623260244807,44349753.047067404,191495920.32581434,2648.3998232781887,114459776.01841864,43218.465358731351,44349752.853943273,191501118.32939887,2648.2066991478205,114464974.02200317,43223.579964070566,44349755.495993435,191445288.45351252,2650.8487493097782,114409144.14611682,43159.438717847035,null,null,null,70954874494141.5,70955290399446.281,70959412800389.156,70959413369224.719,70959416769302.672,70959417338138.25,70959409096277.391,70959413379387.516,70959413065190.906,70959417348301.047,0,0,0,0,0,0,0,0,0,1,null,0,0,0,0,0,0,0,0,1]
[null,335,1809756.6043474984,0.23012563884887893,0.17458633107824173,0.20682013848072678,0.54136932183615505,0.22350288538403276,0.34763189372131059,3.9409411956240148E-2,0.58661552737091394,307.41245704753715,125.19495786725081,3077.2038348615229,83590.914106870463,104.90217795502967,1224.7923406622085,16055.43877211494,527.14800973594163,707.48617125934402,1039.4645269483535,0.92616660041792231,null,51230440.955151126,12432134.748102775,51230702.306369685,62620264.313912682,51233280.012384199,554614337.38414705,2577.7060145139694,491994073.07023436,190865.08325620703,51233299.840313986,554556131.63872719,2597.5339443013072,491935867.3248145,189385.7319570609,51233359.869178161,554347204.78266716,2657.5628084763885,491726940.46875447,185029.28280768168,51233379.697107948,554288999.03724742,2677.3907382637262,491668734.72333473,183637.27329623143,51233216.640087448,554277091.45569897,2514.3337177634239,491351239.66575533,195420.0574865723,51233299.840313986,553971503.97966802,2597.5339443013072,491351239.66575533,189160.66168980152,51233296.496881418,554009958.85421908,2594.1905117332935,491389694.54030639,189419.27831352185,51233379.697107948,553704371.37818837,2677.3907382637262,491084107.06427568,183418.91605359819,null,null,null,81968693096107.047,81969061069927.188,81972693405477.328,81972725188370.734,81972821443480.281,81972853226373.688,81972592347048.469,81972725772998.391,81972720385051.406,81972853811001.344,0,0,0,0,0,0,0,0,0,1,null,0,0,0,0,0,0,0,0,1]
[null,336,1498870.6086747367,0.23015313760119294,0.12091221532800096,0.203571167448377,0.72474671818603342,0.32568884058598258,0.32530276569888439,4.5261014232847119E-2,0.48008995331236098,1109.8037104864977,731.30009816571226,6570.5763475177855,190577.95458352749,20.13567075338948,258.71134796688398,3128.3086669307131,11477.061104313312,1475.1189408488683,2054.9446873506017,0.71609416365155165,null,42429173.459899284,27950796.450932954,42429453.679769382,176943735.10525495,42432220.60154184,1653521842.5909119,2766.9217724576592,1476578107.485657,533653.72385433142,42432247.980063438,1653752476.3074601,2794.3002940565348,1476808741.2022052,528507.52810761658,42432273.795492388,1653090969.5025151,2820.1157230064273,1476147234.3972602,523434.98614432424,42432301.174013987,1653321603.2190633,2847.4942446053028,1476377868.1138084,518483.17899531074,42432117.472368538,1654252437.3859572,2663.7925991564989,1476683982.6223569,554353.96250066732,42432247.980063438,1653627717.7276118,2794.3002940565348,1476683982.6223569,528462.88058704988,42432170.66631908,1653821564.2975605,2716.9865496978164,1476877829.1923056,543572.00603608589,42432301.174013987,1653196844.639215,2847.4942446053028,1476253109.5339601,518439.3655336735,null,null,null,67886649585042.398,67886948943895.906,67889899440624.352,67889943015625.195,67889984981818.32,67890028556819.164,67889733703352.281,67889943140383.773,67889819244546.234,67890028681577.742,0,0,0,0,0,0,0,0,0,1,null,0,0,0,0,0,0,0,0,1]
[null,337,1886022.222314598,0.22207318034735546,0.21929542887528453,0.17180233440342918,0.55538458915616529,0.29624129323156922,0.23636089394669715,3.8987313349971915E-2,0.6855395553434156,307.84325987373876,670.640464554392,577.71794886857299,524008.96224214818,284.87939700978615,1017.6597677850185,1266.2669179992547,9446.070323721462,163.10096526542699,454.25229576435373,0.93066647992415996,null,53389535.347099781,77091473.839948028,53389800.076560609,123367954.52941413,53392407.599065527,582244608.63890803,2607.5225049182773,458876654.10949391,175981.8575847251,53392409.402739048,582258987.18771458,2609.3261784389615,458891032.65830046,175865.72213552604,53392427.533701733,581762339.6545434,2627.4571411237121,458394385.12512928,174463.12556370872,53392429.337375261,581776718.20335007,2629.2608146518469,458408763.67393595,174348.91248498528,53392395.110161893,582542847.33159852,2595.0336012840271,458883179.20557576,176831.30537443506,53392409.402739048,582251133.73498988,2609.3261784389615,458883179.20557576,175862.71237277979,53392415.044798099,582060578.34723389,2614.9682374894619,458692623.81781977,175410.39972944156,53392429.337375261,581768864.75062525,2629.2608146518469,458400910.22121114,174345.92554178016,null,null,null,85423179463885.812,85423556754542.438,85427269913896.203,85427272785395.297,85427302291583.109,85427305163082.219,85427249633411.703,85427272793248.75,85427282011098.609,85427305170935.672,0,0,0,0,0,0,0,0,0,1,null,0,0,0,0,0,0,0,0,1]
[null,338,1670785.262654434,0.20463784485808312,0.224623271286717,0.2152811801598763,0.57355052239888527,0.25745597309920026,0.26741238669727768,3.8734885492990576E-2,0.46525796379546636,1112.8896063922248,1087.9955963370026,3370.3710932021436,1309927.7005086949,28.182046749071748,1122.1327245148591,47730.614811648018,48502.818218871827,1337.297410068498,458.20202183934259,0.92495338707854868,null,47296218.150034994,194062235.05530027,47296482.976673648,348407895.99718219,47299092.126248419,1862096237.5189214,2609.1495747715235,1513688341.5217392,580146.2500110938,47299099.129438676,1862584667.0207472,2616.1527650281787,1514176771.0235651,578779.95171557029,47299134.43790292,1859530225.1807878,2651.4612292721868,1511122329.1836057,569920.58284721791,47299141.441093169,1860018654.6826141,2658.4644195213914,1511610758.685432,568602.96778302197,47299057.314274572,1863322818.1152196,2574.3376009240746,1513274713.1385431,587830.71520819329,47299099.129438676,1861682609.1357253,2616.1527650281787,1513274713.1385431,578435.14850029931,47299099.625929072,1860756805.7770865,2616.6492554247379,1512348909.7799044,577971.58203169948,47299141.441093169,1859116596.7975919,2658.4644195213914,1510708700.8004098,568263.65239538753,null,null,null,75673754977820.922,75674024354781.844,75676685305759.953,75676696022434.859,75676755570419.484,75676766287094.391,75676628380021.203,75676696924492.734,75676698644680.734,75676767189152.281,0,0,0,0,0,0,0,0,0,1,null,0,0,0,0,0,0,0,0,1]
[null,339,1441223.7857659932,0.15993260129862263,8.8598913171202567E-2,0.19204951192845088,0.56232489367636118,0.29081084564948168,0.29096977832817955,3.9811930928777994E-2,0.64013983537744545,1647.3356575719167,819.94583581032487,349.94919786440533,261490.75889375317,38.019149795006861,1112.8365499527608,70766.945746896192,951.92016092954793,98.887416330315375,643.76194066344942,0.2901032054678781,null,40796755.1797956,38252376.663162015,40797088.897056848,252795125.56185237,40800400.317072436,2352498598.6086354,3311.4200155884027,2099703473.046783,634079.47743339615,40800400.983599894,2352493853.8064909,3312.086543045938,2099698728.2446384,633950.44210217544,40800403.308951989,2352470925.405117,3314.4118951410055,2099675799.8432646,633498.75219837087,40800403.975479454,2352466180.602972,3315.0784226059914,2099671055.0411196,633369.95008116972,40800396.953274377,2352389476.1634583,3308.0562175288796,2099555968.5413446,634679.65188019525,40800400.983599894,2352351094.1031971,3312.086543045938,2099555968.5413446,633907.33945330488,40800399.945153929,2352361802.95994,3311.0480970814824,2099566677.3980875,634109.38646549615,40800403.975479454,2352323420.8996787,3315.0784226059914,2099528295.3378263,633326.88633271668,null,null,null,65274770035296.297,65275089440165.391,65278288008717.289,65278289079906.023,65278292823397.773,65278293894586.523,65278282735762.836,65278289222665.727,65278287550443.328,65278294037346.227,0,0,0,0,0,0,0,0,0,1,null,0,0,0,0,0,0,0,0,1]
[null,340,1523508.1639505189,0.12675169969230329,0.17008748612479219,0.1772678747327481,0.58222389088768611,0.27898080070142772,0.40940799002339523,2.9754539551294944E-2,0.72978687078819771,76.834630924375546,2462.3050914064788,1659.5582090605033,6142.3548235221815,27.266864519000222,2857.276288471417,31127.004778156421,2230.2203029715824,654.60611944306697,3407.957565304851,0.70163756077016781,null,43126646.346774541,898881.0337199854,43126938.413803197,12874732.315965889,43129836.179025754,119378131.67201711,2897.7652225568891,106503399.35605122,36753.632946866637,43129837.237496391,119384348.15665916,2898.8236931934953,106509615.84069327,36742.357284708378,43129844.528251477,119384235.33293855,2906.1144482791424,106509503.01697266,36650.140561409178,43129845.586722113,119390451.81758061,2907.1729189157486,106515719.50161472,36638.934962747429,43129833.247395635,119288218.06246108,2894.8335924372077,106418922.21114843,36761.671720671373,43129837.237496391,119293654.52711432,2898.8236931934953,106418922.21114843,36711.070928881432,43129841.596621349,119294321.7233825,2903.1828181520104,106419589.40741661,36656.179122455971,43129845.586722113,119299758.18803577,2907.1729189157486,106425025.87206988,36607.738459452172,null,null,null,69002633255958.234,69003088587352.805,69007618508309.531,69007620195646.07,69007631860967.023,69007633548303.562,69007613907614.953,69007620286339.703,69007627260272.43,69007633638997.195,0,0,0,0,0,0,0,0,0,1,null,0,0,0,0,0,0,0,0,1]
[null,341,1726996.2638167019,0.23505548700665291,7.2711997557044661E-2,0.19371906875792638,0.58613941409560999,0.26749270483023602,0.35639987188474131,3.6070167773372984E-2,0.4490182505569526,732.11668318271575,68.529720341800925,1078.5461838153087,732302.15652462374,25.272134764625925,4107.6594106681787,21732.186317166488,5771.7505743593711,2171.5064201007199,84.122961588942658,0.97436878439361307,null,48887622.864423446,107274933.26433955,48887889.683236964,213537267.9823381,48890530.450462431,1258927451.4574275,2640.7672254666686,1045390183.4750894,395866.08520194399,48890530.548621103,1258925045.4350972,2640.8653841391206,1045387777.4527591,395850.46012996178,48890530.570517741,1258923993.2231524,2640.8872807770967,1045386725.2408143,395846.77954645723,48890530.668676414,1258921587.2008221,2640.9854394495487,1045384319.218484,395831.15590230963,48890530.12440151,1258934996.6695428,2640.4411645457149,1045383981.9922243,395912.62097751821,48890530.548621103,1258921249.9745624,2640.8653841391206,1045383981.9922243,395849.02292662777,48890530.24445682,1258931538.4352674,2640.561219856143,1045394270.4529294,395898.51679707778,48890530.668676414,1258917791.7402873,2640.9854394495487,1045380523.7579492,395829.71876430878,null,null,null,78220089308144.25,78220409955911.156,78223589793288.438,78223589952748.328,78223589988835.172,78223590148295.062,78223589264045.75,78223589956543.797,78223589459592.469,78223590152090.531,0,0,0,0,0,0,0,0,0,1,null,0,0,0,0,0,0,0,0,1]
[null,342,1343156.3839481152,0.19497986633421227,0.17974308775381542,0.19808590640548876,0.60075826521955822,0.24926614573784542,0.2901042563930572,4.2758981001897345E-2,0.48818862868552815,643.13664309941828,2230.6025802161089,684.98716366469625,1085666.0695147456,384.10726402459636,6725.9345602547246,1328.719535780333,8406.1417007433956,2517.1738342327126,1346.5678884055419,0.97641249499521221,null,38021239.337126195,159171679.88248545,38021502.694813482,224207590.59378451,38024102.35194733,869285702.57405829,2599.6571338474751,645078111.98027372,248139.68872332116,38024103.988597669,869234138.8833369,2601.293784186244,645026548.28955245,247963.74489140388,38024109.575258128,868939286.462484,2606.8804446458817,644731695.86869955,247319.24212054911,38024111.211908475,868887722.77176249,2608.5170949921012,644680132.17797804,247144.30026763162,38024095.506835617,869633720.03671575,2592.8120221346617,645021349.60447288,248772.89371461142,38024103.988597669,869228940.19825745,2601.293784186244,645021349.60447288,247961.74639161461,38024102.730146423,869287303.92514157,2600.0353329405189,645079713.331357,248104.21041540304,38024111.211908475,868882524.08668315,2608.5170949921012,644674933.4928987,247142.30730193885,null,null,null,60833823767722.031,60834180104110.977,60837694477413.156,60837697147617.391,60837706381126.547,60837709051330.789,60837683177216.945,60837697152816.078,60837695080930.352,60837709056529.477,0,0,0,0,0,0,0,0,0,1,null,0,0,0,0,0,0,0,0,1]
[null,343,1727009.2373111141,0.20654443756240615,0.24626504701760932,0.19857096068862515,0.53980017069222463,0.27337089855070074,0.45188739295897418,4.4278022260185734E-2,0.5535514116299195,1230.269038276404,77.659297737478752,11897.865346293744,1797743.8533789327,53.340763935313269,13657.265579324252,5701.6690864437451,5644.9529276433386,1012.4956251064453,49.25889752170967,0.67501693835809939,null,48887491.4240667,276647421.38416857,48887769.401244663,448492802.48411423,48890509.824668966,2152093440.5865059,2740.4234243035316,1703600638.1023917,621655.99045532732,48890547.903980643,2149524571.7959824,2778.5027359798551,1701031769.3118682,612211.65892139729,48890718.573552199,2136874034.0448864,2949.172307536006,1688381231.5607722,572493.24742622185,48890756.652863875,2134305165.2543631,2987.2516192123294,1685812362.7702489,564335.57586111862,48890416.24538134,2158943761.9934373,2646.8441366776824,1700656784.0780525,642522.45174236677,48890547.903980643,2149149586.5621667,2778.5027359798551,1700656784.0780525,612076.69945961237,48890624.994264573,2143724355.4518175,2855.5930199101567,1695231552.9677033,593653.06650771934,48890756.652863875,2133930180.0205469,2987.2516192123294,1685437377.5364327,564210.04735478037,null,null,null,78219709631085.328,78219982549188.969,78222663626029.75,78222727121797.234,78223012843649.469,78223076339416.953,78222507048848.141,78222727496782.469,78222856266467.859,78223076714402.188,0,0,0,0,0,0,0,0,0,1,null,0,0,0,0,0,0,0,0,1]
[null,344,2001291.3850870582,0.19735202370898819,8.2834972391732972E-2,0.18528317206360534,0.44532214635713691,0.20010142280939622,0.30005352062630353,3.6909006497755296E-2,0.52525948687285584,86.38060299844075,5553.7799416334074,1018.7805252161888,56042.420040439829,36.0731874366409,444.15123187415918,5519.2105143726694,38947.631948556256,1685.6384827688171,426.09696003479547,0.77575748575047032,null,56652613.214853495,8208225.6057118094,56652900.022195637,23697258.665587764,56655742.273420155,175122490.75922641,2842.2512245178223,151425232.09363866,53276.512219403623,56655742.424111806,175140052.68747452,2842.4019161686301,151442794.02188677,53279.866285068383,56655742.724942587,175121572.34102198,2842.7027469500899,151424313.67543423,53267.726932721336,56655742.875634223,175139134.26927006,2842.8534385859966,151441875.60368231,53271.080931631775,56655741.63505026,175121536.64170817,2841.6128546223044,151440252.23790509,53293.766598629038,56655742.424111806,175137510.90349284,2842.4019161686301,151440252.23790509,53278.972047006122,56655742.086572677,175120618.22350374,2842.0643770396709,151423359.55791599,53279.355943245879,56655742.875634223,175136592.48528838,2842.8534385859966,151439333.81970063,53270.186835598834,null,null,null,90644172935539.984,90644616338254.344,90649012514981.484,90649012738526.203,90649013238335.797,90649013461880.484,90649011494543.781,90649012741067.984,90649012217898.062,90649013464422.266,0,0,0,0,0,0,0,0,0,1,null,0,0,0,0,0,0,0,0,1]
[null,345,1891191.243811202,0.16714058167490642,9.9069423995478051E-2,0.21296651044230908,0.43081621791009045,0.25996183282148305,0.37142256303408483,3.9811110423254914E-2,0.44465542054736729,210.48428885329619,292.23310285608318,1324.2198846220751,232077.57443186047,7.5937471936181424,270.59140884280043,24821.262907307326,6363.6336008356948,587.25767051611592,948.14399147006191,0.78187277337791283,null,53535719.96719221,33995571.809540585,53536006.779171154,68144821.963956371,53538850.885826237,396965597.69205123,2844.1066550835967,328820775.72809488,115614.78369327534,53538850.923638575,396966216.2803188,2844.144467420876,328821394.31636244,115613.46411300404,53538851.042869903,396964019.89053309,2844.2636987492442,328819197.92657673,115607.8453876038,53538851.08068224,396964638.47880065,2844.3015110865235,328819816.5148443,115606.52597242937,53538850.724468447,396963328.04975528,2843.945297293365,328817459.45431203,115620.17728233157,53538850.923638575,396962281.41826838,2844.144467420876,328817459.45431203,115612.08061716004,53538850.881512113,396961750.24823713,2844.1023409590125,328816928.28428078,115613.60628584339,53538851.08068224,396960703.6167503,2844.3015110865235,328815881.65279394,115605.14255297296,null,null,null,85657117951935.719,85657542701851.875,85661764451724.297,85661764511605.438,85661764704571.953,85661764764453.094,85661764195821.469,85661764515540.297,85661764448669.125,85661764768387.969,0,0,0,0,0,0,0,0,0,1,null,0,0,0,0,0,0,0,0,1]
[null,346,1795527.1723167391,0.15710639445895599,0.19498624012693766,0.22714037860873326,0.54686195511422331,0.226015689323464,0.27838368020427651,3.8074644813961452E-2,0.42859842403584369,643.50056832190046,527.09152472250139,506.68067618150582,535799.57255066512,44.372044036555494,2430.9114315972488,21048.134013712228,3421.1848458829641,2127.152621541175,490.1780394819844,0.79755091688657076,null,50827517.754596539,78493197.380433351,50827799.571961775,177397052.21292034,50830585.242864251,1150113594.7706418,2785.6709024757147,972716542.5577215,349185.73536207643,50830585.243606813,1150113585.0784562,2785.6716450378299,972716532.86553586,349185.63880213752,50830585.24728664,1150113494.6030934,2785.6753248646855,972716442.39017308,349185.14505541773,50830585.24802921,1150113484.910908,2785.6760674342513,972716432.69798768,349185.04849485558,50830585.23958344,1150113623.5589461,2785.6676216647029,972716483.0774616,349186.1252621985,50830585.243606813,1150113535.2903819,2785.6716450378299,972716483.0774616,349185.62092922186,50830585.244005837,1150113523.3913977,2785.6720440611243,972716471.17847741,349185.56663992343,50830585.24802921,1150113435.1228337,2785.6760674342513,972716382.90991342,349185.03062196833,null,null,null,81323949914157.094,81324301918086.625,81327786274988.031,81327786276185.828,81327786282164.016,81327786283361.828,81327786269709.938,81327786276235.609,81327786276885.953,81327786283411.609,0,0,0,0,0,0,0,0,0,1,null,0,0,0,0,0,0,0,0,1]
[null,347,1380295.1599356334,0.12271013843251337,5.2328369459376703E-2,0.19188727431918071,0.52349822394162782,0.24464482405202972,0.40294903302497775,4.7213283015016594E-2,0.5920863045083089,54.04141177993484,411.40683956776797,7120.7370998445795,384155.1893267273,27.774441264264535,4229.8499459459417,9806.3061858145447,12653.029779407234,412.69916489894797,3208.0352117755847,0.97324441513851101,null,39072625.102642208,56276987.025535561,39072897.518717133,58840704.542789638,39075608.87642353,80195891.272445574,2711.3577063977718,21355186.729655936,7876.1967405723808,39075608.87936075,80195965.670636788,2711.3606436178088,21355261.12784715,7876.2156477098188,39075608.883023649,80195813.676712066,2711.3643065169454,21355109.133922428,7876.1489492924266,39075608.885960869,80195888.074903294,2711.3672437369823,21355183.532113656,7876.1678564356171,39075608.868253253,80195941.106924623,2711.3495361208916,21355161.95054765,7876.2113353707718,39075608.87936075,80195866.493337288,2711.3606436178088,21355161.95054765,7876.1790692857221,39075608.87485338,80195863.51119113,2711.3561362475157,21355158.968401492,7876.1910628076967,39075608.885960869,80195788.897603795,2711.3672437369823,21355084.354814157,7876.1312781005618,null,null,null,62516143887240.508,62516577189242.875,62520894006386.375,62520894011011.531,62520894017024.156,62520894021649.312,62520893993264.094,62520894011110.711,62520894003901.898,62520894021748.492,0,0,0,0,0,0,0,0,0,1,null,0,0,0,0,0,0,0,0,1]
[null,348,1593638.772073023,0.20630014832919041,0.29911175013562641,0.15240862816859094,0.52264368497270342,0.27309116366052799,0.44503723894415614,4.4894877202537264E-2,0.44595187509690237,1380.860799971837,9426.9852139027971,7149.9884322366406,516304.99583698576,98.950513860805657,5717.8299041148921,29954.356896598161,63376.484690077879,958.40189192192236,2389.9065856080188,0.94166481116480916,null,45112279.459841028,75637327.241158843,45112541.3186839,270631418.8562361,45115117.382424392,2193046184.1169944,2576.0637404918671,1922414765.2607584,746260.5583251979,45115117.382645547,2193046207.4781995,2576.0639616474509,1922414788.6219635,746260.50332715188,45115117.383711919,2193046155.4964914,2576.0650280192494,1922414736.6402555,746260.17423108709,45115117.383933075,2193046178.8576965,2576.0652491748333,1922414760.0014606,746260.11923310161,45115117.381846823,2193046184.5428829,2576.0631629228592,1922414775.0465999,746260.72944010608,45115117.382645547,2193046193.9028358,2576.0639616474509,1922414775.0465999,746260.49805734341,45115117.38313435,2193046155.92238,2576.0644504502416,1922414737.066144,746260.34171239252,45115117.383933075,2193046165.2823329,2576.0652491748333,1922414746.4260969,746260.11396329571,null,null,null,72179571498418.406,72179795478475.375,72181994765694.922,72181994766025.391,72181994767783.578,72181994768114.062,72181994764770.375,72181994766038.969,72181994766859.031,72181994768127.641,0,0,0,0,0,0,0,0,0,1,null,0,0,0,0,0,0,0,0,1]
[null,349,1844934.7420947333,0.18347733745233025,0.17264620114659857,0.18003233938495322,0.48030182264186361,0.23929066457625631,0.33581162563698641,4.6696088225839483E-2,0.50099532914983802,1244.2843049023995,3051.3292663475581,10708.144934378215,43195.840503216874,57.948694844143887,3956.1922273306609,4592.4766901529974,3548.1436680688685,921.94358400752799,521.47206826098318,0.71371201891192437,null,52226135.995832667,6333094.3256132612,52226422.660408862,214648411.33986303,52229255.666901194,2278807703.209558,2833.006492331624,2064159291.8696949,728610.85827263619,52229259.826425172,2278843109.8799543,2837.1660163104534,2064194698.5400913,727555.13307058427,52229279.894982927,2278810382.6813593,2857.2345740646124,2064161971.3414962,722433.49918767228,52229284.054506913,2278845789.3517551,2861.3940980508924,2064197378.0118921,721395.69289598032,52229239.271718517,2278782559.4669547,2816.6113096550107,2064138757.3689764,732844.73093371198,52229259.826425172,2278787168.7088394,2837.1660163104534,2064138757.3689764,727535.41579961975,52229263.49980025,2278785238.938755,2840.8393913879991,2064136827.598892,726593.98973990581,52229284.054506913,2278789848.1806407,2861.3940980508924,2064141436.8407776,721376.14257568272,null,null,null,83561811260237.938,83562061608242.828,83564530259338.703,83564536879170.406,83564569021590,83564575641421.703,83564504052190.156,83564536935111.578,83564542814441.469,83564575697362.875,0,0,0,0,0,0,0,0,0,1,null,0,0,0,0,0,0,0,0,1]
[null,350,1516213.7643471353,0.15020714827684045,0.12616101480739078,0.2323185754158984,0.57304673988306909,0.22063962939214643,0.34640656290161176,3.2242836027915577E-2,0.49517190899605018,745.19721902601793,3950.9622510428976,2861.612494100752,594570.75844596361,31.173305709341303,4071.649652465187,15757.098593032122,17077.844427045566,3388.1734539519762,80.137000777010726,0.62308537674263831,null,42920149.248304844,84734730.749256298,42920431.754760578,181025598.14231649,42923233.571703106,1130539263.0290463,2801.8169425278902,949513664.88672984,338892.11335486028,42923256.543352589,1130866098.9138329,2824.7885920107365,949840500.77151644,336251.88924152462,42923311.833889931,1128788904.1661232,2880.0791293531656,947763306.02380669,329075.43975594308,42923334.805539414,1129115740.0509098,2903.0507788360119,948090141.9085933,326584.07108150318,42923163.092800088,1131475654.62202,2731.3380395099521,949006545.55768073,347451.15098530555,42923256.543352589,1130032143.6999972,2824.7885920107365,949006545.55768073,335956.66176284023,42923241.354986921,1129725295.7590969,2809.6002263426781,948699697.6167804,337663.58954623406,42923334.805539414,1128281784.837074,2903.0507788360119,947256186.69475758,326296.8025225391,null,null,null,68672154062557,68672509782018.781,68676043175461.938,68676079603265.227,68676170145319.727,68676206573123.008,68675929472825.516,68676080437220.438,68676056442683.312,68676207407078.227,0,0,0,0,0,0,0,0,0,1,null,0,0,0,0,0,0,0,0,1]
[null,351,1879628.4446045589,0.16684375409463512,0.10253522769192445,0.20794074224065007,0.53540861049473032,0.33515588262970442,0.39634256471289253,3.2682018732735733E-2,0.53610027811895145,220.67651861560796,8.484621681294465,3578.7770350016649,105825.47416312894,33.597733083784391,4.8455885986989564,4978.5542840138651,3577.6312927628383,19951.479421415272,108.46628710503538,0.84896064038745211,null,53208456.924147651,15487739.344158925,53208736.733893521,52788934.477207169,53211512.90450719,420739712.07696593,2776.170613668859,367950777.59975874,132538.96420778404,53211513.417157091,420743543.66766071,2776.6832635700703,367954609.19045353,132515.87389098265,53211515.03255266,420729478.8342939,2778.2986591383815,367940544.35708672,132433.76234835535,53211515.545202561,420733310.42498869,2778.8113090395927,367944375.9477815,132410.70912258152,53211510.816905551,420740993.85816044,2774.0830120295286,367945843.84421438,132636.92623784317,53211513.417157091,420734778.32142156,2776.6832635700703,367945843.84421438,132512.71712249046,53211512.944951013,420730760.61548835,2776.2110574916005,367941826.13828117,132533.80903638102,53211515.545202561,420724545.07874954,2778.8113090395927,367935610.60154235,132407.55477157875,null,null,null,85133515590896.891,85133925985295.156,85137999907499.422,85138000723907.672,85138003322605.422,85138004139013.672,85137996566055.016,85138000732673.016,85137999981161.016,85138004147779.016,0,0,0,0,0,0,0,0,0,1,null,0,0,0,0,0,0,0,0,1]
[null,352,1728372.0171881118,0.17004904252660138,9.3867247372343823E-2,0.19234815742774619,0.41173626105402655,0.19496639164994728,0.43691951566148524,4.6346563742506675E-2,0.4806035697896659,2067.8807519933671,1900.7960687129571,3569.785293170552,267283.44926872791,175.37815894542686,5219.0607909792889,1430.4412600129472,36127.493038402055,1965.8743908393078,79.601517140665649,0.79082394159715785,null,48926374.214034818,39101738.879990749,48926659.443560794,360063104.61220342,48929488.403459027,3542537719.8970742,2828.9598982334137,3182474615.2848706,1124962.7883633892,48929489.236443482,3542611126.9212408,2829.7928826883435,3182548022.3090372,1124657.5824607953,48929490.736720562,3542521944.33641,2831.2931597679853,3182458839.7242064,1124030.1375167374,48929491.569705017,3542595351.3605762,2832.1261442229152,3182532246.7483726,1123725.4573706859,48929486.364417225,3542558727.4736733,2826.9208564311266,3182544722.6439853,1125799.0174729615,48929489.236443482,3542607827.2561889,2829.7928826883435,3182544722.6439853,1124656.4164160744,48929488.69767876,3542542951.9130087,2829.2541179656982,3182479847.3008051,1124847.6505140106,48929491.569705017,3542592051.6955242,2832.1261442229152,3182528947.0833206,1123724.292286617,null,null,null,78282159640716.828,78282295046592.656,78283638907814.547,78283640167182.656,78283642656808.562,78283643916176.672,78283635624340.094,78283640170482.328,78283639373334.109,78283643919476.328,0,0,0,0,0,0,0,0,0,1,null,0,0,0,0,0,0,0,0,1]
[null,353,1585010.4174953909,0.20330532975048277,0.29396078655396696,0.23128392465510883,0.42135487763552193,0.24547658549800902,0.23798645108477623,4.4096706568059529E-2,0.61085830846417377,515.66306550245883,1097.8135728828238,4505.755219818333,683173.05812305631,73.692078084072023,1603.7148101943817,10396.308664724955,819.52205698104501,6800.2785815650859,671.71604635553433,0.88881396241216515,null,44867837.689052284,103805305.72654347,44868102.019438058,170437611.40548652,44870698.447763063,828260220.86975396,2596.4283250048757,657822609.46426749,253356.73745703427,44870704.748918675,828089743.88848257,2602.7294806167483,657652132.48299599,252677.86659378727,44870831.412615053,824127295.46556723,2729.3931769952178,653689684.06008077,239500.00665705706,44870837.713770665,823956818.48429585,2735.6943326070905,653519207.07880926,238886.04779029233,44870650.112236775,829427639.35762894,2548.09279871732,657297244.76563215,257956.55680064237,44870704.748918675,827734856.17111874,2602.7294806167483,657297244.76563215,252541.5144603801,44870783.077088773,825294713.95344222,2681.0576507151127,654857102.54795575,244253.27160469195,44870837.713770665,823601930.76693201,2735.6943326070905,653164319.36144543,238756.32287434177,null,null,null,71788436497177.938,71788792793489.484,71792289256200.031,71792299508525.984,71792506132888.609,71792516385214.578,71792210751939.484,71792299863413.703,71792427628628.078,71792516740102.297,0,0,0,0,0,0,0,0,0,1,null,0,0,0,0,0,0,0,0,1]
[null,354,1739525.4738031346,0.2268549226294696,0.22537276002929862,0.22351916790316217,0.50640372586673554,0.24156567312477165,0.23595708157889037,3.5956986398963275E-2,0.68163929981290439,156.80913265539468,1233.4681929900971,4234.5901924461823,660024.66752129945,255.42396017535864,4067.191522742125,85002.367128020298,2128.7970383314587,3550.5381421075235,944.05395616315604,0.92761762260295644,null,49242218.563099325,98265973.51418446,49242481.123407975,118364740.48470141,49245064.812974282,286388575.24699432,2583.6895663067698,168023834.76229292,65032.516658908433,49245071.28984651,286234283.35443443,2590.1664385348558,167869542.86973304,64810.330476171839,49245135.000472948,284310943.37967235,2653.8770649731159,165946202.89497095,62529.724939106025,49245141.477345176,284156651.48711246,2660.3539372012019,165791911.00241107,62319.493915471547,49245024.710924186,285810723.39369023,2543.5875162109733,166055017.62484533,65283.783855099013,49245071.28984651,284419758.10954672,2590.1664385348558,166055017.62484533,64109.786596870355,49245094.898422852,283733091.52636826,2613.7750148773193,165368351.04166687,63268.012778608885,49245141.477345176,282342126.24222469,2660.3539372012019,163977385.7575233,61637.43232226988,null,null,null,78787451434985.406,78787851432712.281,78791817312183.594,78791827829471.062,78791931689813.344,78791942207100.797,78791753726755.312,78791829643996.312,78791868104385.031,78791944021626.031,0,0,0,0,0,0,0,0,0,1,null,0,0,0,0,0,0,0,0,1]
[null,355,1935735.6849676089,0.20323944601340882,0.20481610024419938,0.1796311894806614,0.55653815526015427,0.29654747700954109,0.39880028818647928,4.696165758441162E-2,0.53629511875050306,110.68474932147565,3215.5622364090841,3106.0038027582,1304021.1112691506,13.179040931576631,8631.9180845770788,20355.027308212379,18148.114263469372,4219.8522313664407,441.75378977621079,0.66742922992363884,null,54796606.280206755,192561278.8268953,54796894.062196448,197054651.47231379,54799733.218095563,234734503.34332761,2839.1558991149068,37679851.87101382,13271.498012053629,54799742.104241841,234565915.65215591,2848.042045392096,37511264.179842114,13170.895507154586,54799779.53719981,232302595.74638048,2885.475003361702,35247944.274066687,12215.647071279884,54799788.423346087,232134008.0552088,2894.3611496388912,35079356.582895011,12119.896159907899,54799704.542402349,235968866.04409045,2810.4802059009671,37143507.872814059,13216.071685837336,54799742.104241841,234198159.34512785,2848.042045392096,37143507.872814059,13041.769496665009,54799750.861506589,233536958.44714332,2856.7993101403117,36482306.974829525,12770.34296575691,54799788.423346087,231766251.74818075,2894.3611496388912,34711600.275866956,11992.836581640018,null,null,null,87674377487051.984,87674833444862.844,87679338414449.562,87679352800871.281,87679414956923.953,87679429343345.672,87679291298977.719,87679353168627.594,87679367841452.094,87679429711101.984,0,0,0,0,0,0,0,0,0,1,null,0,0,0,0,0,0,0,0,1]
[null,356,1687229.5574998767,0.18598628794601516,0.25164261019552214,0.21874993152175903,0.57229453486646298,0.23862250573314395,0.24868438620883518,3.7675899023979977E-2,0.57365360144216471,1278.4804837486813,1790.173455948335,4105.8106226867103,597287.1082626459,434.3747454226887,2302.6999277844375,6223.6991529256047,2306.8058970000425,9714.7521797838926,311.63679771705307,0.81306635215117995,null,47761664.127099179,87501172.805778205,47761940.844186664,276461085.92278332,47764666.436527364,2148447818.2143288,2725.5923407003284,1871986732.2915454,686818.31260596623,47764666.437867045,2148447791.2582164,2725.5936803817749,1871986705.335433,686817.96513162705,47764666.449058391,2148447490.8957152,2725.6048717275262,1871986404.9729319,686815.03485369135,47764666.450398073,2148447463.9396024,2725.6062114089727,1871986378.016819,686814.68738256057,47764666.429585509,2148447980.2407207,2725.5853988453746,1871986681.0604734,686820.04308266891,47764666.437867045,2148447766.9832568,2725.5936803817749,1871986681.0604734,686817.95622532535,47764666.442116536,2148447652.9221067,2725.5979298725724,1871986566.9993234,686816.84355654125,47764666.450398073,2148447439.6646428,2725.6062114089727,1871986353.7418594,686814.67847629986,null,null,null,76418575102185.875,76418828889612.734,76421317850625.562,76421317852796,76421317871002.531,76421317873172.984,76421317839356.578,76421317852820.281,76421317859733.531,76421317873197.25,0,0,0,0,0,0,0,0,0,1,null,0,0,0,0,0,0,0,0,1]
[null,357,1635304.3617209177,0.20717643444455214,0.12654998137155343,0.22201763156903409,0.48149224882993524,0.24922546085856459,0.49048675385998897,3.8846255823411828E-2,0.47617338562461342,554.65082210155629,1671.1844438210228,216.08747745280797,175406.39596435809,39.838749471764373,1887.9204520431574,30685.493405725396,5527.2779876234335,661.64358068537638,352.47449066590491,0.92998710322731648,null,46291812.538588241,25643974.512425564,46292077.260495856,106928885.95916271,46294696.393299356,901565090.35435474,2619.1328034996986,794636204.39519203,303396.68280027463,46294706.995775387,901594231.2534858,2629.7352795302868,794665345.29432309,302184.5398203971,46294723.462769262,901382717.64398026,2646.2022734060884,794453831.68481755,300224.15129370574,46294734.065245301,901411858.54311156,2656.8047494441271,794482972.58394885,299037.01909226691,46294673.561629206,901107787.97306538,2596.3011333495378,794020772.34745705,305827.68776250375,46294706.995775387,900949658.30661976,2629.7352795302868,794020772.34745705,301939.43037843792,46294700.63109912,900925415.26269114,2623.3706032633781,793996529.30352843,302662.73789750692,46294734.065245301,900767285.59624553,2656.8047494441271,793838399.63708282,298794.40700456989,null,null,null,74066874417766.672,74067216687907.422,74070612664188.609,74070629599009.375,74070656157713.172,74070673092533.938,74070576590818.766,74070630243582.312,74070620084343.328,74070673737106.891,0,0,0,0,0,0,0,0,0,1,null,0,0,0,0,0,0,0,0,1]
[null,358,1684626.4596840336,0.13430665499926123,0.14536536304606132,0.24555003179456747,0.60754228996055404,0.22604904019406655,0.32616770489561964,3.9469971824433236E-2,0.57432189073213924,598.39773715417789,562.8010329319427,797.05031943319466,735983.07356749394,3.0414045356187858,1074.6181725810864,20186.024484761001,209.6717987872893,2403.5867396661347,6.8251300745438579,0.5238186259564177,null,47687682.506046854,107013370.96778227,47687987.171974279,190091331.58633268,47691007.121861458,1006334561.9795122,3019.9498871788383,816243230.39317954,270283.70035493985,47691013.34966059,1006149985.1248085,3026.1776863113046,816058653.53847587,269666.46976146114,47691038.233691335,1005412897.6930549,3051.061717055738,815321566.10672224,267225.52400333097,47691044.46149046,1005228320.8383512,3057.2895161807537,815136989.25201857,266620.80412662687,47690986.632184267,1006644179.5084552,2999.4602099880576,815750475.21358657,271965.75987145182,47691013.34966059,1005841806.7999192,3026.1776863113046,815750475.21358657,269564.63227641082,47691017.744014136,1005722515.2219979,3030.5720398575068,815631183.63566518,269134.39869062311,47691044.46149046,1004920142.5134619,3057.2895161807537,814828810.92712927,266520.00296819612,null,null,null,76300184996304,76300589383827.25,76304605060416.344,76304615209471.812,76304655761008.453,76304665910063.891,76304571967315.312,76304615517650.141,76304622667907.406,76304666218242.219,0,0,0,0,0,0,0,0,0,1,null,0,0,0,0,0,0,0,0,1]
[null,359,1932184.0760479467,0.23505663767153073,0.10414058629247923,0.24685849396510773,0.5390299619336425,0.30653269648583992,0.39024989734163407,3.346785542978907E-2,0.45743024186945064,218.97211337111477,1460.9051200354095,117.61381299579678,170984.91270172875,184.23899479095431,918.34770063933638,8263.648744076585,7.0845845783960009,502.30680245988412,1989.4726308129004,0.99874787780831875,null,54696450.179916926,25048029.887719046,54696713.242660597,61713697.665256105,54699312.995389566,422134259.40491188,2599.7527289688587,360420561.73965579,138636.47789403787,54699313.241141677,422132250.21636981,2599.998481079936,360418552.55111372,138622.60119529386,54699313.544309475,422130269.84931374,2600.3016488775611,360416572.18405765,138605.67766806364,54699313.790061586,422128260.66077161,2600.5474009886384,360414562.99551553,138591.80680901965,54699312.10516125,422136989.88260841,2598.8625006526709,360413990.64709926,138681.43872813045,54699313.241141677,422127688.31235534,2599.998481079936,360413990.64709926,138620.84661580171,54699312.654081166,422133000.32701021,2599.4114205688238,360419302.66175413,138654.19679616715,54699313.790061586,422123698.75675714,2600.5474009886384,360410001.09150106,138590.05259988172,null,null,null,87514295239837.188,87514679474559.281,87518478658363.906,87518479053576.469,87518479540625.312,87518479935837.875,87518477231268.125,87518479058138.375,87518478113529.531,87518479940399.781,0,0,0,0,0,0,0,0,0,1,null,0,0,0,0,0,0,0,0,1]
[null,360,1961041.9350594131,0.13837547071961348,0.20337868095417178,0.19714116052084266,0.60087002170916226,0.28351341748686276,0.29669053499105658,4.0493285987521777E-2,0.53416435298660425,368.9142312802316,1048.0012252445931,1104.7333939581085,515943.58824200253,56.984077023983566,279.27321874756677,3250.6441746638625,137769.56352823213,1077.1414386734382,71.850977989943274,0.99565345193034149,null,55513403.65571595,75577719.37981768,55513666.75014466,134914851.32072672,55516269.979932554,722237483.01992905,2603.2297878935933,587322631.6992023,225613.05745292472,55516270.589114815,722530704.79689336,2603.8389701545238,587615853.47616661,225672.88538633968,55516275.059388973,722112692.59553027,2608.309244312346,587197841.27480352,225125.85214166666,55516275.668571241,722405914.3724947,2608.9184265807271,587491063.05176795,225185.67735432772,55516267.245778248,722297717.78857267,2600.4956335872412,587608580.07696855,225960.22561529733,55516270.589114815,722523431.3976953,2603.8389701545238,587608580.07696855,225670.0920495468,55516272.325234674,722172927.36417401,2605.5750900134444,587258076.04344726,225385.2050912941,55516275.668571241,722398640.97329664,2608.9184265807271,587483789.65256989,225182.88945604622,null,null,null,88821370271426.141,88821731885380.125,88825309730409.078,88825310411878.906,88825317982329.766,88825318663799.609,88825305295527.422,88825310419152.312,88825313547448.125,88825318671073.016,0,0,0,0,0,0,0,0,0,1,null,0,0,0,0,0,0,0,0,1]
[null,361,1559128.7628564355,0.21751763676390456,0.16000947332121251,0.22664895803384721,0.56061982848288583,0.28033675938206093,0.41940085357569767,4.1385710750844518E-2,0.50573185289882649,368.90243589363502,3351.9974359438743,2206.75354046963,86855.011911841633,184.44919631117605,1830.4722820840727,15519.0153967899,51335.657451741477,316.0869699993213,944.3127532839012,0.80833457253659124,null,44135095.686874673,13001100.923447527,44135355.009300895,64961093.660713136,44137916.746458538,575671892.7768929,2561.7371576428413,510710799.11617976,199361.12399060704,44137973.041098364,580522870.44865239,2618.0317974686623,515561776.78793925,196927.24025981221,44138094.907358572,575158496.31376278,2739.8980576768517,510197402.65304965,186210.35962397954,44138151.201998398,580009473.98552215,2796.1926975026727,515048380.32480901,184196.31121446224,44137760.868138097,574746475.79151487,2405.8588372021914,514028993.25184017,213657.17111217216,44137973.041098364,578990086.91255331,2618.0317974686623,514028993.25184017,196341.76855638175,44137939.029038131,574233079.32838464,2584.0197372362018,509271985.6676715,197085.17637422349,44138151.201998398,578476690.44942331,2796.1926975026727,513515596.78871018,183648.14315098515,null,null,null,70616140097898.547,70616503053787.781,70620091122440.875,70620176342886.922,70620376693277.406,70620461913723.453,70619842642545.156,70620177875670.469,70620128213381.688,70620463446506.984,0,0,0,0,0,0,0,0,0,1,null,0,0,0,0,0,0,0,0,1]
[null,362,1688157.8665519385,0.16046290751616996,0.15592998640338679,0.18816886999663462,0.68217769406896545,0.27975830632062526,0.29248300686776779,3.8256658555877981E-2,0.51029212887303999,82.41131270034407,221.38647553693258,2272.1181438911708,287267.16083652084,232.46627404163817,552.59341765309864,21069.469671771585,105.06886399145742,1770.1460033892592,102.38638438075486,0.8594848940972899,null,47787995.125818893,42080875.14213749,47788272.571606547,51989905.53010194,47791019.800987668,141960143.13766178,2747.229381121695,89970237.607559845,32749.445032079904,47791019.932616517,141958450.75468278,2747.3610099703074,89968545.224580839,32747.259969869483,47791020.355543636,141953048.05068344,2747.7839370891452,89963142.520581499,32740.253447978019,47791020.487172484,141951355.6677044,2747.9155659377575,89961450.137602463,32738.069267023529,47791019.26122117,141960518.0836252,2746.689614623785,89961843.215491429,32752.824613498797,47791019.932616517,141951748.74559337,2747.3610099703074,89961843.215491429,32744.820534693295,47791019.815777145,141953422.99664679,2747.2441705986857,89963517.466544852,32746.822590195832,47791020.487172484,141944653.65861499,2747.9155659377575,89954748.128513053,32735.630324148977,null,null,null,76460750120435.094,76461184124664.938,76465489721437.125,76465489933735.672,76465490615821.766,76465490828120.297,76465488857435.797,76465489940437.672,76465489751820.438,76465490834822.312,0,0,0,0,0,0,0,0,0,1,null,0,0,0,0,0,0,0,0,1]
[null,363,1484073.2173885007,0.22995014081134668,7.4226572175368613E-2,0.19547194522303205,0.55279664019052688,0.23236229758391094,0.22457343977084943,4.774595234193324E-2,0.48905487560178823,528.88415967650599,6316.3940909094263,2519.899477087281,67713.81055865348,115.10470221032188,7853.7575484155741,10750.748332384395,11121.343938975349,3573.1405847273977,703.8164609306649,0.97982075224116305,null,42010570.317820936,9872366.2766162548,42010833.646307684,81065723.508688286,42013435.451985702,783034887.2673682,2601.8056780174375,701969163.75867987,269800.76555662556,42013440.793206125,783188502.50793898,2607.1468984410167,702122778.99925065,269306.94983819121,42013447.16925396,783117766.18205345,2613.5229462757707,702052042.67336512,268622.87307397788,42013452.510474384,783271381.42262447,2618.8641666993499,702205657.91393614,268133.66910852486,42013403.635726057,782972274.81103301,2569.9894183725119,701957645.20467246,273136.39510982839,42013440.793206125,783023368.71336079,2607.1468984410167,701957645.20467246,269243.61094667076,42013415.352994315,783055153.72571838,2581.7066866308451,701989430.21703005,271909.05684686196,42013452.510474384,783106247.62804604,2618.8641666993499,702040524.11935771,268070.61360657169,null,null,null,67216902636147.227,67217252768368.789,67220713688289.859,67220722080627.297,67220732353040.156,67220740745377.594,67220662844886.875,67220722245761.094,67220681509637.18,67220740910511.391,0,0,0,0,0,0,0,0,0,1,null,0,0,0,0,0,0,0,0,1]
[null,364,2169793.5219997047,0.13264934462720535,0.18447468075676188,0.17616737723479026,0.49212760563945718,0.22861048066119602,0.37131358462900088,3.3268997828625205E-2,0.59946959086585516,513.76960806743955,372.36505063401933,772.45695996442828,718997.18804052554,3.874740652697982,2865.6017363151841,15375.57144194196,4457.3119769706655,1285.4002715428933,189.61877748407815,0.87630878174993276,null,61422963.303711437,105331036.6257157,61423239.261307172,197949462.74782646,61425974.526031069,1110412179.7503028,2735.2647238969803,912462717.00247633,333592.10500930034,61425974.527387671,1110412156.3619246,2735.2660804986954,912462693.61409819,333591.9310079469,61425974.537589498,1110411812.0199051,2735.276282325387,912462349.27207863,333590.56091268099,61425974.538946092,1110411788.6315267,2735.2776389196515,912462325.88370025,333590.38691373728,61425974.521741524,1110412247.5558519,2735.2604343518615,912462619.84564698,333592.59264168062,61425974.527387671,1110412082.5934734,2735.2660804986954,912462619.84564698,333591.9040385593,61425974.533299945,1110411879.825454,2735.2719927728176,912462417.07762754,333591.10885080218,61425974.538946092,1110411714.8630757,2735.2776389196515,912462252.11524928,333590.35994446365,null,null,null,98276635954901.672,98276984868628.719,98280448829469.969,98280448831663.922,98280448848331.188,98280448850525.125,98280448822538.875,98280448831737.688,98280448841400.078,98280448850598.891,0,0,0,0,0,0,0,0,0,1,null,0,0,0,0,0,0,0,0,1]
[null,365,1942780.835703505,0.19566195116348706,0.21068501370730597,0.14836128325352521,0.5877144886652208,0.2555458385704325,0.24551240067311034,3.8159587474484627E-2,0.45986123197197404,1333.4727625153066,1839.5231307809991,5431.5567089260712,149972.33033853665,52.034141704463757,2103.3437714621491,5912.6767793185973,44847.957289994374,235.51024710713864,2673.6013607927671,0.77668968066182353,null,54996188.828155547,22036348.319808807,54996469.451735057,255638774.8995873,54999239.586119026,2570104100.856214,2770.1343839690089,2314465325.9566269,835506.51526172319,54999242.091962837,2570400070.619772,2772.6402277797461,2314761295.7201848,834858.15163757536,54999254.801260233,2570017468.4077096,2785.3495251759887,2314378693.5081224,830911.40720010409,54999257.307104044,2570313438.1712675,2787.8553689867258,2314674663.2716804,830270.71239817305,54999225.960996144,2570153591.3235645,2756.5092610865831,2314720076.1494613,839728.74999049562,54999242.091962837,2570358851.0490484,2772.6402277797461,2314720076.1494613,834843.285096179,54999241.17613735,2570066958.8750601,2771.7244022935629,2314428183.9754729,835013.8210207033,54999257.307104044,2570272218.6005445,2787.8553689867258,2314633443.7009573,830255.92699316901,null,null,null,87993880088700.562,87994095484001.188,87996213233689.578,87996216947069.906,87996237664547.969,87996241377928.297,87996191384002.5,87996216988289.484,87996215814860.891,87996241419147.875,0,0,0,0,0,0,0,0,0,1,null,0,0,0,0,0,0,0,0,1]
[null,366,1620557.0387712116,0.12670064671984621,0.16869006056222835,0.17263864813302079,0.51103203643492456,0.28121002689578356,0.35362499302230194,3.2162758163062952E-2,0.54914853226962679,1681.5346570201559,2856.445811297539,10416.677504077743,808069.70417475363,53.139925005483782,1761.8898321481022,9918.8784119352968,465.52376414689417,1316.6635511244629,1427.9326226996184,0.79609546796076347,null,45874228.899225667,116185852.43203655,45874496.21463079,354535403.35655415,45877147.982269399,2714824589.9967585,2651.7676386088133,2360289186.6402044,890081.45068037487,45877159.353523687,2714437018.5064292,2663.1388928964734,2359901615.1498752,886135.3876226889,45877250.281953275,2711218161.4035382,2754.0673224851489,2356682758.0469842,855709.93083800783,45877261.65320757,2710830589.913209,2765.4385767802596,2356295186.5566549,852051.17421195388,45877101.764765739,2716003804.7373524,2605.5501349493861,2359412224.1768594,905533.2279080064,45877159.353523687,2713947627.5334134,2663.1388928964734,2359412224.1768594,885951.62290267332,45877204.064449616,2712397376.1441321,2707.8498188257217,2357861972.7875781,870750.6437007949,45877261.65320757,2710341198.9401927,2765.4385767802596,2355805795.5836387,851874.20735500567,null,null,null,73398650052908.625,73398839408005.906,73400721947041.031,73400740528619.406,73400889232963.828,73400907814542.203,73400646819820.453,73400741018010.375,73400814105743.25,73400908303933.172,0,0,0,0,0,0,0,0,0,1,null,0,0,0,0,0,0,0,0,1]
[null,367,1720558.0171509269,0.15489862646810554,0.12638975974738681,0.1587053566191069,0.42624824134922601,0.2695134873915439,0.42489681691450965,4.250768042281905E-2,0.50631099927025935,659.2199633701664,3892.3056548303762,4650.8288033329991,99566.14638355338,55.005300978589588,6368.8139130327154,38124.076535159853,549.76022078619405,612.28142221941914,93.583706393314372,0.91480642961669278,null,48705334.940049745,14392183.809468593,48705599.803914733,117726577.84013592,48708227.303372897,1128441752.6355939,2627.4994581639767,1010715174.795458,384668.08115032595,48708233.473420635,1128428472.3710806,2633.6695059016347,1010701894.5309447,383761.85480605008,48708265.578921504,1128441678.2045407,2665.7750067710876,1010715100.3644048,379144.93826267455,48708271.748969242,1128428397.9400272,2671.9450545087457,1010701820.0998913,378264.44761444221,48708204.591752961,1127486248.2979777,2604.7878382280469,1009641204.4685,387609.76600509865,48708233.473420635,1127367782.308636,2633.6695059016347,1009641204.4685,383359.11252571916,48708242.867301568,1127486173.8669243,2643.0633868351579,1009759596.0267884,382041.38465097087,48708271.748969242,1127367707.8775828,2671.9450545087457,1009641130.0374469,377867.47460758541,null,null,null,77928521511895.781,77928841959685.734,77932035243644,77932045129000.641,77932096484596.203,77932106369952.844,77931999860556.438,77932046189690.703,77932061101508.656,77932107430642.906,0,0,0,0,0,0,0,0,0,1,null,0,0,0,0,0,0,0,0,1]
[null,368,1571423.3132615425,0.12825738505505707,0.24157730359996532,0.24770810418378675,0.51501384544182971,0.28797715050162842,0.29847752034810388,3.7688552588614706E-2,0.50067555493488392,341.85947365853133,1215.8129097008896,2085.1706313863174,328417.18604920368,254.00365674995805,11846.08990528221,734.17693244666157,16.728884877092092,2522.2238334706508,159.61264562449034,0.81532555521786854,null,44483216.426278412,48300564.230363876,44483490.199857987,93215716.670765445,44486196.299499355,538507421.44907618,2706.0996413677931,445291704.77831072,164551.11185530436,44486200.89498537,538439954.64121437,2710.6951273828745,445224237.97044891,164247.25653316261,44486260.251465544,537844645.98045814,2770.0516075566411,444628929.30969268,160512.86845947366,44486264.846951559,537777179.17259622,2774.6470935717225,444561462.50183076,160222.70490967546,44486171.79847388,538851788.77580905,2681.5986158922315,445206782.65413648,166022.90141994483,44486200.89498537,538422499.32490194,2710.6951273828745,445206782.65413648,164240.81710877435,44486235.750440069,538189013.30719101,2745.5505820810795,444973296.63642555,162070.69705455709,44486264.846951559,537759723.85628378,2774.6470935717225,444544007.18551832,160216.41390554997,null,null,null,71173097981481.219,71173491104056.109,71177375571777.516,71177382992021.953,71177478557698.891,71177485977943.328,71177336025769.422,71177383009477.266,71177439011690.797,71177485995398.641,0,0,0,0,0,0,0,0,0,1,null,0,0,0,0,0,0,0,0,1]
[null,369,1616121.1196209441,0.19808223051334339,0.18929159572033749,0.27892968933731033,0.53375039504489186,0.23321281676135797,0.33274311238398158,4.3557006696219092E-2,0.50651135834550232,143.98644074521567,1276.8345938139396,7078.462079103183,418325.67102913558,1.1559254593688206,6640.1628357665422,1102.9248991998281,3443.7332138111665,741.95719149543356,759.04534452622397,0.93090997199787795,null,45748735.056696072,61296903.522108413,45749002.466173291,77562922.692938894,45751637.201534159,238776571.75966591,2634.7353608682752,161213649.06672701,61187.795731256731,45751637.516863301,238772965.76801863,2635.05069001019,161210043.07507974,61179.10508752161,45751638.727803737,238751650.54596195,2636.2616304457188,161188727.85302305,61142.917679900573,45751639.043132871,238748044.55431467,2636.576959580183,161185121.86137578,61134.237434526076,45751636.078514092,238797725.45222002,2633.6123408004642,161209221.81133235,61212.20625900248,45751637.516863301,238772144.50427124,2635.05069001019,161209221.81133235,61178.793418470799,45751637.604783669,238772804.23851612,2635.1386103779078,161209881.54557723,61177.002572345889,45751639.043132871,238747223.29056728,2636.576959580183,161184300.59762838,61133.925945895186,null,null,null,73197914793810.203,73198326382954.578,73202380745882.891,73202381254015.516,73202383212835.438,73202383720968.047,73202378927897.094,73202381254836.781,73202381394849.641,73202383721789.297,0,0,0,0,0,0,0,0,0,1,null,0,0,0,0,0,0,0,0,1]
[null,370,1619507.5071793362,0.19722098345036165,0.15961408260786469,0.11623765417298448,0.47809720311944714,0.23087917476378814,0.38072426558292005,4.279208057715822E-2,0.52675203326230535,63.059841889888894,344.73268633763576,1256.0472398903783,679887.67254188959,230.4402807070559,6454.6503746713497,2067.3275624808812,4961.08425395221,1824.1033219533349,3225.8514014582674,0.94790981231803983,null,45844620.716205932,99637026.019811258,45844887.167422324,100703470.50089118,45847523.704526886,110658832.77008313,2636.5371045619249,9955362.2691919506,3775.9234459346208,45847525.694513455,110620194.80420746,2638.5270911306143,9916724.3033162802,3758.4318677838337,45847532.717825428,110403038.78462341,2645.5504031032324,9699568.2837322354,3666.370624560634,45847534.707812004,110364400.81874771,2647.5403896793723,9660930.3178565353,3649.0209386480833,45847517.444737583,110848667.83476201,2630.2773152589798,9906295.8327333182,3766.2552823856654,45847525.694513455,110609766.3336245,2638.5270911306143,9906295.8327333182,3754.4794844188809,45847526.458036125,110592873.84930226,2639.2906138002872,9889403.3484110832,3746.9929596617758,45847534.707812004,110353972.34816475,2647.5403896793723,9650501.8472735733,3645.0820107950412,null,null,null,73351293508903.469,73351718764405.219,73355927268410.25,73355930491026.734,73355941945481.906,73355945168098.391,73355917062912.312,73355930501455.203,73355931739983.953,73355945178526.859,0,0,0,0,0,0,0,0,0,1,null,0,0,0,0,0,0,0,0,1]
[null,371,1433529.8621787219,0.22845485399030196,0.1689956668392304,0.17910436790840203,0.51392651016130075,0.25330534285859185,0.45829073969709588,4.3577534074196844E-2,0.54912132396899493,889.5454931302188,391.33167706899258,4623.9081599119145,70023.450821394756,220.56558266836623,8236.500779188771,17260.715979015931,5783.0634279062642,104.64348361690006,317.55633154769606,0.98156924416681157,null,40579646.08174929,10409328.279302435,40579901.2766755,125996352.17862171,40582420.861801833,1266180707.9006104,2519.5851263329387,1140184355.7219887,452528.61028809089,40582443.979738928,1266336925.5121975,2542.7030634284019,1140340573.3335757,448475.71457912226,40582499.48338744,1266250837.4635384,2598.2067119404674,1140254485.2849166,438862.11210397462,40582522.601324528,1266407055.0751257,2621.3246490284801,1140410702.8965039,435051.30252338829,40582366.97708679,1265664046.1590781,2465.7004112899303,1139644245.4960616,462198.99233413237,40582443.979738928,1265640597.6746833,2542.7030634284019,1139644245.4960616,448201.86119548127,40582445.59867239,1265734175.7220061,2544.3219968900084,1139737823.5433843,447953.45280059514,40582522.601324528,1265710727.2376113,2621.3246490284801,1139714375.0589895,434785.66284469666,null,null,null,64927423321470.586,64927716046328.617,64930607198175.031,64930644030656.773,64930732922582.445,64930769755064.164,64930521499292.711,64930644726984.617,64930647223700.102,64930770451392.008,0,0,0,0,0,0,0,0,0,1,null,0,0,0,0,0,0,0,0,1]
[null,372,1448144.1123614158,0.27567549143309888,0.13136072038686619,0.19065436175093092,0.64196527390425884,0.2304940759939805,0.38909651364803377,3.5245160791244068E-2,0.57260222115539516,150.87348467743703,1045.124698131455,4731.0017401909108,315380.60457204701,137.68771488887907,2952.0135564279635,35139.65711750144,9592.0470334887104,2624.006645838675,263.89533214683172,0.93970133571169256,null,40993370.433454245,46202407.430617318,40993636.412093349,63673653.167575449,40996259.2202176,223214467.60012367,2622.8081242516637,159540814.43254822,60828.244718842405,40996259.220235795,223214467.51641339,2622.8081424459815,159540814.34883794,60828.244264962967,40996259.22024861,223214467.19836524,2622.8081552609801,159540814.03078979,60828.243846494683,40996259.220266804,223214467.11465496,2622.8081734552979,159540813.94707951,60828.243392615252,40996259.220173031,223214467.57995713,2622.8080796822906,159540813.66912776,60828.245461426777,40996259.220235795,223214466.83670321,2622.8081424459815,159540813.66912776,60828.244005809363,40996259.22020404,223214467.1781987,2622.808110691607,159540814.01062325,60828.244872460004,40996259.220266804,223214466.43494478,2622.8081734552979,159540813.26736933,60828.243133461656,null,null,null,65589346491119.359,65589754585696.195,65593791537880.562,65593791537909.758,65593791537930.578,65593791537959.766,65593791537809.273,65593791537910.438,65593791537859.281,65593791537960.445,0,0,0,0,0,0,0,0,0,1,null,0,0,0,0,0,0,0,0,1]
[null,373,1384336.342588352,0.21268126128270959,0.12459544884762566,0.20829866190076884,0.58572808245431296,0.27662571366675459,0.32619679245248101,3.6187449760937969E-2,0.53501012990890662,2769.7175563731166,217.74873271367159,2536.884588385833,178633.63123937079,67.252902713034359,1734.9673277348641,5236.8466708679307,4083.0536991099998,1820.8632972682276,335.53653828921415,0.77526035019988793,null,39186817.085126773,26142380.061208472,39187098.036215708,371878600.32187164,39189875.880901724,3798681956.3230996,2777.8446860164404,3426803356.0012279,1233619.4940097334,39189882.830190115,3798685585.3743258,2784.7939744070172,3426806985.052454,1230542.3728095163,39189897.482867442,3798535683.1043067,2799.4466517344117,3426657082.7824349,1224048.0027220494,39189904.43215584,3798539312.1555333,2806.3959401324391,3426660711.8336616,1221018.2686025233,39189848.67974101,3798822256.145802,2750.6435253024101,3426731684.5975838,1245792.7219852465,39189882.830190115,3798610284.9194555,2784.7939744070172,3426731684.5975838,1230515.3329438879,39189870.281706735,3798675982.9270091,2772.245491027832,3426797382.6051373,1236108.9209796586,39189904.43215584,3798464011.7006626,2806.3959401324391,3426585411.3787909,1220991.4368736879,null,null,null,62698881193822.773,62698984979344.812,62700002727486.438,62700013842718.805,62700037436904.805,62700048552137.188,62699959065329.469,62700013918019.258,62699993774747.844,62700048627437.641,0,0,0,0,0,0,0,0,0,1,null,0,0,0,0,0,0,0,0,1]
[null,374,1671639.9061687235,0.21349655450692395,0.12634244686817869,0.19122508978021677,0.67616498855482299,0.31676491459503442,0.39105973835536378,3.6878355421347528E-2,0.49315041322782999,136.47482064983956,714.91122130936265,611.69971968405889,1089076.7956011267,266.21594664958781,7653.3131288275608,18195.880001732447,4940.3063744290885,311.08920116341744,4170.7209480335569,0.38625440185380983,null,47319861.123204157,159523337.33768207,47320181.10787484,167396008.98264068,47323346.053284034,238659796.9782466,3164.945409193635,71263787.995605916,22516.593110451944,47323348.169250749,238582888.35094303,3167.0613759085536,71186879.368302345,22477.265489646707,47323350.446933247,238492879.61731794,3169.339058406651,71096870.634677261,22432.71209689392,47323352.562899962,238415970.99001437,3171.4550251215696,71019962.007373691,22393.494924195344,47323339.854379691,238874785.42161879,3158.7465048506856,71136429.51590091,22520.461647258249,47323348.169250749,238532438.49854159,3167.0613759085536,71136429.51590091,22461.335942848149,47323344.248028904,238707868.06069008,3163.1401540637016,71311859.078049392,22544.640959533423,47323352.562899962,238365521.13761288,3171.4550251215696,70969512.154972196,22377.587445766083,null,null,null,75711618273789.312,75712122376590.766,75717115025457.469,75717118487912.859,75717122222213.578,75717125684668.953,75717104892222.078,75717118538362.703,75717112088978.188,75717125735118.797,0,0,0,0,0,0,0,0,0,1,null,0,0,0,0,0,0,0,0,1]
[null,375,1913451.0561423402,0.22576486425720133,0.16132417330267146,0.16877493245878888,0.57052529864028911,0.23300140332135127,0.35754598909876878,4.0122406553389278E-2,0.6260699578681026,1294.7825515215929,4935.4376904015253,14298.326547660869,631494.17743108259,561.59796508338445,11061.158988449455,3357.7311959721201,51.793509399933292,4808.5805479188302,298.11557751354917,0.88023338509104387,null,54165992.327937476,92591426.514724299,54166264.18539948,310354276.62671924,54168948.196733817,2468982177.2992411,2684.0113343372941,2158627900.6725216,804254.39082786348,54168949.948078722,2468931494.6532707,2685.7626792415977,2158577218.0265512,803711.07794084307,54168954.689073101,2468826408.3172669,2690.503673620522,2158472131.6905479,802255.78312850371,54168956.440418005,2468775725.6712966,2692.2550185248256,2158421449.0445776,801715.0805525278,54168942.877461791,2469126657.0226965,2678.6920623108745,2158567297.0961056,805828.83246159181,54168949.948078722,2468921573.7228246,2685.7626792415977,2158567297.0961056,803707.38404393906,54168949.369801082,2468970888.0407219,2685.184401601553,2158616611.4140024,803898.83470443066,54168956.440418005,2468765804.7408509,2692.2550185248256,2158411528.1141319,801711.3955634099,null,null,null,86665495133273.453,86665712342362.547,86667848132596.812,86667850985431.297,86667858676108.656,86667861528943.141,86667839477281.844,86667850995352.234,86667850020793.688,86667861538864.078,0,0,0,0,0,0,0,0,0,1,null,0,0,0,0,0,0,0,0,1]
[null,376,1654379.3168150119,0.23146053188476845,0.22128498128104457,0.15061035152584837,0.56441341773128728,0.28442977923221269,0.39651335443283564,3.5547238251499295E-2,0.51665460756801351,28.564622823040619,7053.8231757556696,1767.5375664960343,148925.7588817564,55.853431327771268,7404.0375241632337,8711.0939276259323,39166.74249706282,218.94217098415209,1650.1542652137623,0.67750055887412175,null,46831535.337189175,21824950.932338934,46831823.785383098,24986811.000716817,46834667.135228083,53000760.991687149,2843.3498449847102,28013949.990970332,9852.4457130673527,46834667.411578692,53017097.246016748,2843.6261955946684,28030286.245299932,9857.2330950967862,46834668.364775419,52996312.96721682,2844.5793923214078,28009501.966500003,9846.623385555069,46834668.641126029,53012649.221546426,2844.855742931366,28025838.22082961,9851.4092640604413,46834666.287346996,53002161.681065634,2842.5019638985395,28026259.450455982,9859.7150701762384,46834667.411578692,53013070.451172799,2843.6261955946684,28026259.450455982,9855.8170176776839,46834667.516894333,52997713.656595312,2843.7315112352371,28010902.655878495,9850.0517876637896,46834668.641126029,53008622.426702477,2844.855742931366,28021811.42598566,9849.9937986703408,null,null,null,74930434714551.75,74930893069801.953,74935414415603.953,74935414841428.656,74935416387327.703,74935416813152.422,74935413057593.5,74935414845455.453,74935415029317.281,74935416817179.219,0,0,0,0,0,0,0,0,0,1,null,0,0,0,0,0,0,0,0,1]
[null,377,1723353.5830226678,0.22365534687420807,0.22453561079728601,0.22824865637051805,0.51086965730644562,0.28669922674763049,0.38289674107348692,3.3392156312049968E-2,0.59762256130846381,442.93978868774775,47.342375469945672,4547.3183976471173,974263.70041457808,53.886248402128103,6281.1541050756896,33036.847883764087,3530.0711808329911,1061.6920680893741,305.63610743811211,0.85212372638419143,null,48784257.002705052,147572665.65924552,48784522.837574601,206406673.76533037,48787142.804686487,779019790.05595648,2619.9671118855476,572613116.29062605,218557.36802685502,48787162.325950429,778317343.75547111,2639.4883758276701,571910669.99014068,216674.82047948227,48787279.256988153,773258189.39525604,2756.4194135516882,566851515.62992573,205647.77364542248,48787298.778252095,772555743.09477055,2775.9406774938107,566149069.32944012,203948.5475750778,48787071.105226226,780670589.50925517,2548.2676516249776,570381214.89658403,223830.96788630649,48787162.325950429,776787888.66191435,2639.4883758276701,570381214.89658403,216095.36913293978,48787207.557527892,774908988.84855473,2684.7199532911181,568502315.0832243,211754.7919239451,48787298.778252095,771026288.00121379,2775.9406774938107,564619614.23588347,203397.57935520305,null,null,null,78054663631662.422,78055030133445.594,78058649467708.312,78058681404176.938,78058873552991.656,78058905489460.266,78058533097772.453,78058682933632.031,78058757183055.781,78058907018915.359,0,0,0,0,0,0,0,0,0,1,null,0,0,0,0,0,0,0,0,1]
[null,378,1629583.1639264533,0.18351017047467527,0.18765798587795801,0.20191861253501286,0.65381853465255069,0.25126864151188472,0.48186721871212002,4.6015974983297792E-2,0.56009102113151599,358.28253295194492,1141.0729676683261,14409.527383920691,376147.00197981269,27.860563231866106,150.2014016426015,411.6040083365026,2223.4962187488281,5855.5637367447443,1373.0784684376922,0.99012819866060719,null,46129905.641696356,55119290.557386473,46130167.891334608,104188177.62152115,46132759.250050902,590821430.13122857,2591.3587162941694,486633252.50970745,187790.771478226,46132760.396046817,590804260.89083493,2592.5047122091055,486616083.26931381,187701.1374280829,46132762.633826032,590760870.5461936,2594.7424914240837,486572692.92467248,187522.53625662279,46132763.77982194,590743701.30579984,2595.8884873315692,486555523.68427873,187433.13746286192,46132757.24864918,590856753.02022922,2589.3573145717382,486615450.37334657,187929.04619030125,46132760.396046817,590803627.99486768,2592.5047122091055,486615450.37334657,187700.89330279193,46132760.632424302,590796193.43519413,2592.7410896942019,486608015.81367302,187680.9133576332,46132763.77982194,590743068.40983248,2595.8884873315692,486554890.78831136,187432.89365579147,null,null,null,73807793907423.609,73808164437957.75,73811823978651.312,73811825829414.016,73811829453251.109,73811831304013.797,73811820741085.672,73811825830046.906,73811826215685.453,73811831304646.703,0,0,0,0,0,0,0,0,0,1,null,0,0,0,0,0,0,0,0,1]
[null,379,1356956.3017247263,0.15635105625435294,0.2692599776314597,0.21214023401197568,0.57310714252039685,0.29088222845969447,0.31118335814213133,4.1716066276576869E-2,0.53879839782388816,523.45380983866153,1452.5135233950168,3905.4076360106124,743944.23317876039,17.191496684172819,7202.3069692629215,20680.868673026689,1.4743427502789896,931.36050541886755,766.85254472122926,0.84606084179625674,null,38411769.122755557,109042037.83536226,38412043.088274226,165187303.41800421,38414744.484983213,714329096.9658072,2701.3967089876533,549141793.54780293,203280.69243617074,38414744.758737892,714319845.36116767,2701.6704636663198,549132541.94316339,203256.67002257539,38414747.377308384,714237859.80441022,2704.2890341579914,549050556.38640594,203029.53916956534,38414747.651063055,714228608.19977093,2704.5627888292074,549041304.78176665,203005.56786830749,38414743.254461482,714351956.2496388,2700.1661872565746,549113809.44870162,203362.96782036693,38414744.758737892,714301112.86670578,2701.6704636663198,549113809.44870162,203249.7363514583,38414746.146786645,714260719.08824205,2703.0585124194622,549073415.67023778,203130.42176019025,38414747.651063055,714209875.70530891,2704.5627888292074,549022572.28730464,202998.6416122267,null,null,null,61458721554371.055,61459103753935.336,61462876846876.172,61462877294135.266,61462881565833.609,61462882013092.688,61462874855182.125,61462877312867.758,61462879574139.547,61462882031825.188,0,0,0,0,0,0,0,0,0,1,null,0,0,0,0,0,0,0,0,1]
[null,380,1356320.3696520582,0.18930186246472236,0.33645555988230935,0.17288537663401593,0.54276070188159586,0.24116894225745111,0.39741972802107028,4.5664572526418423E-2,0.49834709618107226,113.14299330244607,1356.9703263249985,4606.9646428791411,835739.03803975903,138.41684410897562,889.50968512400357,41219.664368947058,71.168029287381586,1791.3989820172499,2273.5491618058895,0.94072959375134091,null,38393867.82065247,122558906.82016803,38394128.931581795,128103057.23877721,38396694.798355363,167685209.89370593,2565.8667735680938,39582152.654928729,15426.425511518588,38396695.180278666,167670284.43608278,2566.2486968711019,39567227.197305575,15418.313605204323,38396697.620712809,167575200.20078528,2568.6891310140491,39472142.962008074,15366.648492192411,38396698.002636112,167560274.7431621,2569.0710543170571,39457217.50438489,15358.554384115276,38396693.75620456,167693523.82113755,2564.8246227651834,39534660.729542002,15414.177007907454,38396695.180278666,167637717.96831921,2566.2486968711019,39534660.729542002,15405.62330445394,38396696.578562014,167583514.12821689,2567.6469802185893,39480456.889439687,15376.123428805089,38396698.002636112,167527708.27539852,2569.0710543170571,39424651.036621317,15345.878024810674,null,null,null,61430065954137.133,61430478187473.633,61434543992158.688,61434544618161.43,61434548617940.289,61434549243943.039,61434542316403.477,61434544650727.898,61434546942185.094,61434549276509.508,0,0,0,0,0,0,0,0,0,1,null,0,0,0,0,0,0,0,0,1]
[null,381,1799470.8753352121,0.13745539385393193,0.13941810669550458,0.19029942481020365,0.52391269550450348,0.2282293860140967,0.47568716248645482,3.6263659626763298E-2,0.58611871449160713,2.861165846451645,96.682751995184333,2259.6905402735069,2807176.9108945662,891.32581729902279,258.71719460642669,13995.74873025946,117692.30656227832,9138.6301785570176,199.61158097812128,0.48173271801635126,null,50938829.000330158,410020425.6031121,50939141.430570893,375978922.25656968,50942242.283755518,32634605.894372806,3100.8531846255064,-343344316.36219686,-110725.75704794709,50942245.071542889,33004499.41506464,3103.6409719958901,-342974422.84150505,-110507.11919843775,50942254.066715099,31298206.547443256,3112.6361442059278,-344680715.70912641,-110735.94848236229,50942256.854502469,31668100.068135083,3115.4239315763116,-344310822.1884346,-110518.12843147275,50942236.839220203,33171181.625085976,3095.4086493104696,-343056052.49145347,-110827.38706176075,50942245.071542889,32922869.7651162,3103.6409719958901,-343056052.49145347,-110533.42045257281,50942248.622179784,31834782.278156418,3107.1916088908911,-344144139.97841328,-110757.29575018233,50942256.854502469,31586470.41818665,3115.4239315763116,-344392451.83838302,-110544.33021066597,null,null,null,81501716380102.641,81502250309991.172,81507555019402.938,81507559109969.203,81507575208537.609,81507579299103.891,81507545771570.703,81507559191598.859,81507565960705.375,81507579380733.531,0,0,0,0,0,0,0,0,0,1,null,0,0,0,0,0,0,0,0,1]
[null,382,1316832.1750663132,0.1941782507337263,0.12157391712423239,0.16224089425342764,0.56011996211295934,0.30797416864053195,0.47500033304469391,4.0167993602054253E-2,0.65603360256587295,1080.9299326945329,1006.5175552360038,1256.261298384668,715003.07946106954,67.504069361384282,521.00389909373985,25848.523585320865,47.522209819303626,311.93959183830128,1060.8269852717583,0.64595016703168029,null,37275666.320300944,104292821.50873636,37275957.104248017,225560230.08422986,37278837.935487621,1418516026.2320895,2880.8312396034598,1192955796.1478596,414101.24263720057,37278848.312108442,1418201214.0787761,2891.2078604251146,1192640983.9945462,412506.13638660481,37278873.521245234,1417443201.8221564,2916.4169972166419,1191882971.7379265,408680.57375726133,37278883.897866055,1417128389.668843,2926.7936180382967,1191568159.5846131,407124.08016772626,37278812.458364569,1418800414.0192981,2855.354116551578,1192150216.230866,417513.96414208348,37278848.312108442,1417710446.3150959,2891.2078604251146,1192150216.230866,412336.39149541315,37278848.044122189,1417727589.6093652,2890.9398741722107,1192167359.5251353,412380.54453363526,37278883.897866055,1416637621.905163,2926.7936180382967,1191077391.8209331,406956.39913936291,null,null,null,59640961819660,59641305806566.742,59644722180753.961,59644739098159.43,59644780190790.555,59644797108196.016,59644681132969.297,59644739588927.195,59644739143005.891,59644797598963.781,0,0,0,0,0,0,0,0,0,1,null,0,0,0,0,0,0,0,0,1]
[null,383,1565715.7590715098,0.15946653972404803,0.11875220984583752,0.20897375692524212,0.53966869332156353,0.27301113992575277,0.45093684543156731,4.38451772000783E-2,0.57886281655052574,248.10854168724956,1035.3493874243356,3255.393518561707,420297.76463227445,141.94069008665574,1964.8516867230262,9860.2397233097126,13692.045820652767,2073.5112139759699,825.00686942201389,0.84751057090474846,null,44321687.394725241,61531859.663682774,44321966.934790909,92037481.328822121,44324738.590024494,390679330.64407378,2771.6552335843444,298641849.31525165,107748.55606014306,44324739.146389589,390686759.69304162,2772.2115986794233,298649278.36421949,107729.61144325515,44324740.584542878,390643816.73240989,2773.6497519686818,298606335.40358776,107658.27054827052,44324741.140907966,390651245.78137773,2774.2061170563102,298613764.4525556,107639.35765862001,44324737.219017133,390692519.1332792,2770.2842262238264,298636273.703529,107799.86792568213,44324739.146389589,390673755.03235114,2772.2115986794233,298636273.703529,107724.92036530978,44324739.213535517,390657005.22161531,2772.2787446081638,298619523.89279318,107716.26932305479,44324741.140907966,390638241.12068725,2774.2061170563102,298600759.79186511,107634.66995333,null,null,null,70914638299700.734,70915055058184.125,70919191064708.547,70919191947463.656,70919194291451.875,70919195174206.969,70919188857908.266,70919191960468.312,70919192084651.609,70919195187211.625,0,0,0,0,0,0,0,0,0,1,null,0,0,0,0,0,0,0,0,1]
[null,384,1622947.7700291441,0.19173765971432288,0.20473838642194742,0.22211844322884799,0.67929150399071481,0.29854625316205807,0.34576891676430099,4.5411095929468348E-2,0.58963521132341945,424.66911586565294,940.00329112778661,1911.4916486318639,499956.97953339684,1.0351907077497295,677.073476044156,15942.1901083142,1825.1517871122089,4295.1450028129157,1512.089244673077,0.99361682881122082,null,45942064.393263638,73242705.997865573,45942325.821176566,130375042.82379977,45944903.604012825,690996648.67902648,2577.7828362584114,560621605.85522676,217482.09273864017,45944903.611227319,690996501.138412,2577.790050752461,560621458.31461227,217481.4268334095,45944903.638516106,690995833.0183531,2577.8173395395279,560620790.19455338,217478.86539342478,45944903.645730592,690995685.47773874,2577.8245540261269,560620642.65393901,217478.19950676791,45944903.579658709,690997013.05240774,2577.7584821432829,560621240.42240906,217484.00569950964,45944903.611227319,690996283.24620879,2577.790050752461,560621240.42240906,217481.34230666413,45944903.614161983,690996197.39173436,2577.7929854169488,560621154.56793463,217481.06141163083,45944903.645730592,690995467.58553553,2577.8245540261269,560620424.7617358,217478.11498115389,null,null,null,73507229786515.828,73507590938839.672,73511154769771.844,73511154781462.562,73511154825792.75,73511154837483.469,73511154730440.891,73511154781680.453,73511154786461.781,73511154837701.375,0,0,0,0,0,0,0,0,0,1,null,0,0,0,0,0,0,0,0,1]
[null,385,1994984.587364492,0.20868788990772202,0.18531392332822827,0.18087343644613196,0.51921286156761481,0.24093676385388654,0.47443729409924273,3.3546285446080376E-2,0.58397377903594161,227.79560455202281,1928.8568742538291,12507.33680113463,369562.32437351823,234.97331001856523,1174.5983634828899,10590.557855467858,11942.794793210749,2477.6876420595172,834.06685889630683,0.69857149696366416,null,56473983.248856388,54165864.883948177,56474271.982949458,91794129.760818124,56477124.786157407,460943384.00256944,2852.8032079488039,369149254.24175131,129398.77984334348,56477125.684702545,460945868.80046558,2853.7017530873418,369151739.03964746,129358.90677442809,56477128.315463468,460888598.80561244,2856.3325140103698,369094469.04479432,129219.71347326628,56477129.214008607,460891083.60350859,2857.2310591489077,369096953.84269047,129179.94596931007,56477122.928972468,460958138.79959548,2850.9460230097175,369136792.55171198,129478.70270866007,56477125.684702545,460930922.3125301,2853.7017530873418,369136792.55171198,129353.66919558184,56477126.458278529,460903353.60263842,2854.4753290712833,369109223.8418203,129308.95568885918,56477129.214008607,460876137.11557311,2857.2310591489077,369082007.35475498,129174.71486002067,null,null,null,{"$f":"cRatio*X392-Y392","v":90358319032305.328},{"$f":"cRatio*Z392-AA392","v":90358743378589.375},{"$f":"cRatio*AB392-AC392","v":90362938714467.844},{"$f":"cRatio*AG392-AH392","v":90362940149655.281},{"$f":"cRatio*AL392-AM392","v":90362944416142.734},{"$f":"cRatio*AQ392-AR392","v":90362945851330.156},{"$f":"cRatio*AV392-AW392","v":90362935728217.156},{"$f":"cRatio*BA392-BB392","v":90362940164601.766},{"$f":"cRatio*BF392-BG392","v":90362941429892.031},{"$f":"cRatio*BK392-BL392","v":90362945866276.656},0,0,0,0,0,0,0,0,0,1,null,0,0,0,0,0,0,0,0,1]
[null,386,1696502.2370602177,0.1918990510030576,0.1056688819753076,0.26014070472691964,0.58955277568766884,0.25542480556844588,0.30511174719770873,3.6253925760803662E-2,0.4712443737935631,238.90902168932158,4235.5092605966438,9339.6170945003614,832327.16349984426,177.77208244711017,767.59181700734564,26832.019158949464,36876.968358804115,5046.8414037395851,585.53783691189017,0.88123418126080544,null,48024356.888498314,117653858.55056682,48024606.572391227,146532974.65184456,48027077.98538176,425083035.32041168,2471.4129905328155,278550060.66856712,112708.82759603611,48027119.484053805,427091677.91672528,2512.9116625785828,280558703.26488072,111646.86265851067,48027183.614316978,421115372.57063967,2577.0419257506728,274582397.91879511,106549.4492639313,48027225.112989023,423124015.16695327,2618.5405977964401,276591040.5151087,105627.93670178961,48026911.222229153,428848143.01523978,2304.6498379260302,277941609.21544766,120600.36394317029,48027119.484053805,424474583.86729223,2512.9116625785828,277941609.21544766,110605.4038247578,48027016.851164378,424880480.2654677,2410.2787731513381,278347505.61362314,115483.53191099779,48027225.112989023,420506921.11752021,2618.5405977964401,273973946.46567565,104628.48912719963,null,null,null,76838853367738.75,76839223982851.312,76842899693575.484,76842964082808.172,76843072667534.594,76843137056767.266,76842629107423.625,76842966699902.219,76842802081382.734,76843139673861.312,{"$f":"IF(BS393=MAX($BS393:$CB393),1,0)","v":0},{"$f":"IF(BT393=MAX($BS393:$CB393),1,0)","v":0},{"$f":"IF(BU393=MAX($BS393:$CB393),1,0)","v":0},{"$f":"IF(BV393=MAX($BS393:$CB393),1,0)","v":0},{"$f":"IF(BW393=MAX($BS393:$CB393),1,0)","v":0},{"$f":"IF(BX393=MAX($BS393:$CB393),1,0)","v":0},{"$f":"IF(BY393=MAX($BS393:$CB393),1,0)","v":0},{"$f":"IF(BZ393=MAX($BS393:$CB393),1,0)","v":0},{"$f":"IF(CA393=MAX($BS393:$CB393),1,0)","v":0},{"$f":"IF(CB393=MAX($BS393:$CB393),1,0)","v":1},null,{"$f":"IF(BT393=MAX($BT393:$CB393),1,0)","v":0},{"$f":"IF(BU393=MAX($BT393:$CB393),1,0)","v":0},{"$f":"IF(BV393=MAX($BT393:$CB393),1,0)","v":0},{"$f":"IF(BW393=MAX($BT393:$CB393),1,0)","v":0},{"$f":"IF(BX393=MAX($BT393:$CB393),1,0)","v":0},{"$f":"IF(BY393=MAX($BT393:$CB393),1,0)","v":0},{"$f":"IF(BZ393=MAX($BT393:$CB393),1,0)","v":0},{"$f":"IF(CA393=MAX($BT393:$CB393),1,0)","v":0},{"$f":"IF(CB393=MAX($BT393:$CB393),1,0)","v":1}]
[null,387,1595073.3249266385,0.18501216132132231,0.16338581712459799,0.1757922557887111,0.45647514324567534,0.31917801713573957,0.38629628894815726,3.9845654840131139E-2,0.48073512397402768,479.85227409002783,184.84646229330585,659.66144869469554,1067276.4425041615,432.69387966532616,931.46350107119406,65105.146631400159,10448.345289699797,615.40858124625595,75.693259526340256,0.5914338178383165,null,45152507.213498972,156440177.32297993,45152793.706368811,215478682.6330505,45155628.433679,779428249.59390032,2834.7273101881146,563949566.96084976,198943.14523093429,45155642.854279913,779426751.63237095,2849.1479111015797,563948068.99932051,197935.69396728111,45155743.864373095,774332141.0600096,2950.158004283905,558853458.42695904,189431.70420548716,45155758.284973994,774330643.09848022,2964.5786051824689,558851960.46542978,188509.74620422744,45155552.264853649,778826485.99129152,2758.5584848374128,559945770.40067339,202984.91892720415,45155642.854279913,775424453.03372383,2849.1479111015797,559945770.40067339,196530.95868377676,45155667.695547737,773730377.45740068,2873.9891789257526,558251694.82435012,194242.79636049809,45155758.284973994,770328344.49983299,2964.5786051824689,554849661.86678243,187159.70657577878,null,null,null,72243855101421.031,72244254451507.453,72248226065636.812,72248249140096.234,72248415850855.891,72248438925315.297,72248104797279.859,72248253142394.828,72248294582498.922,72248442927613.891,0,0,0,0,0,0,0,0,0,1,null,0,0,0,0,0,0,0,0,1]
[null,388,1805292.6721938078,0.18016745091988928,0.10035841515143991,0.19304798295131823,0.54485962569193092,0.29311586855793403,0.35550711597156581,3.5788064503671072E-2,0.52310162709754116,405.12310005192523,3917.6561536779427,771.38354536567556,342174.31221955112,627.98113363266373,685.3789664686426,33812.508944324909,23.454641597035454,2017.9823923886215,568.50209606517308,0.6361103462596136,null,51103867.627883606,49143210.49113673,51104153.986134909,112818345.86486603,51106993.073908046,732262998.38809538,2839.0877731367946,619444652.52322936,218184.39654608836,51107008.510702543,732039881.17910337,2854.5245676338673,619221535.31423736,216926.32893592989,51107043.33288525,731561308.60965538,2889.3467503413558,618742962.74478936,214146.31617741598,51107058.769679755,731338191.40066326,2904.7835448458791,618519845.53579724,212931.4752671578,51106932.504564136,731768993.15177536,2778.5184292271733,617848347.71746802,222366.114695636,51107008.510702543,730666693.58233404,2854.5245676338673,617848347.71746802,216445.2724362454,51106982.763541348,731067303.37333524,2828.7774064391851,618248957.50846922,218556.94834847754,51107058.769679755,729965003.80389392,2904.7835448458791,617146657.93902791,212458.74207531434,null,null,null,81766139061403.281,81766533559470,81770456655254.484,81770481577242.891,81770537771307.797,81770562693296.203,81770360238309.469,81770482950430.484,81770441354362.781,81770564066483.812,0,0,0,0,0,0,0,0,0,1,null,0,0,0,0,0,0,0,0,1]
[null,389,1647801.3934302554,0.13085854007312572,0.25680931384531624,0.19684409534292824,0.58829784507004734,0.33353929658030179,0.31784509759063584,3.5328332001088369E-2,0.42770032280844511,43.581593898316349,4048.8706297239,844.27816077319267,223579.73130970879,211.67885048964814,3640.342893536621,6219.3815714477014,9274.9781711658179,1393.2857228411299,2084.3215669241622,0.91625436324542209,null,46645577.922867455,32755506.60939445,46645847.182281375,37014265.24099005,46648508.521210261,76875224.342668012,2661.3389288857579,39860959.101677962,14977.783802368547,46648508.560913607,76876428.591041178,2661.3786322325468,39862163.350051127,14978.012849157059,46648508.932768293,76871576.831590757,2661.7504869177938,39857311.590600707,14974.097604751061,46648508.97247164,76872781.079963908,2661.7901902645826,39858515.838973857,14974.326671108482,46648508.324438363,76876187.245663956,2661.1421569883823,39861078.817036442,14978.936285819196,46648508.560913607,76875344.058026493,2661.3786322325468,39861078.817036442,14977.605341182978,46648508.735996403,76872539.734586701,2661.5537150278687,39858274.493596651,14975.566440213401,46648508.97247164,76871696.546949223,2661.7901902645826,39857431.305959173,14973.919226142063,null,null,null,74632891921081.312,74633318477384.969,74637536758712.078,74637536821033.172,74637537420852.438,74637537483173.547,74637536442914.125,74637536822117.703,74637537105054.516,74637537484258.078,0,0,0,0,0,0,0,0,0,1,null,0,0,0,0,0,0,0,0,1]
[null,390,1607411.7380333007,0.22069131286342869,0.24001181859002962,0.2292310990928812,0.54690899113934521,0.25297008505804158,0.3389754339742686,4.2151601424502028E-2,0.52784565044783904,148.21403808826571,2999.3143964652409,11105.107494313474,388295.26797372941,19.059175969334301,1879.5830701011466,20548.672150059592,3233.4857605987686,6444.2913643742077,253.81761110271248,0.81878931858741,null,45501946.162663147,58763211.466935158,45502217.232492842,77133635.330427855,45504884.748119764,252347625.56589735,2667.5156269222498,175213990.23546949,65684.335067093678,45504904.325116888,252135008.9324519,2687.0926240459085,175001373.60202405,65126.662190947303,45504997.539293148,250451322.71692097,2780.3068003058434,173317687.38649312,62337.612297832588,45505017.116290271,250238706.08347547,2799.883797429502,173105070.75304762,61825.805382341481,45504813.716218226,252765706.61245641,2596.4837253838778,174177787.80633861,67082.179681518028,45504904.325116888,251311423.13676646,2687.0926240459085,174177787.80633861,64820.165202970245,45504926.507391602,250869403.76347998,2709.2748987600207,173735768.43305212,64126.297598138677,45505017.116290271,249415120.28779006,2799.883797429502,172281484.9573622,61531.655390673426,null,null,null,72803055097049.562,72803470438353.219,72807563249366.062,72807594785178.078,72807745611546.312,72807777147358.359,72807449180242.547,72807595608763.875,72807631542422.797,72807777970944.156,0,0,0,0,0,0,0,0,0,1,null,0,0,0,0,0,0,0,0,1]
[null,391,1613432.812280349,0.20751431881347404,0.14211065194330083,0.25518132482637079,0.59929068123810525,0.24669174982925943,0.31964069329820127,3.6450420707904087E-2,0.6415629867478847,102.39554783170904,1103.6862064443555,1087.3928047902621,1719937.6848840315,204.75489271583078,2465.9452319055617,52288.47379682459,2286.9772467440225,4457.8208662138231,1177.1503196641183,0.67029132690049487,null,45672346.33463154,251967000.37693253,45672639.950107187,247485515.16963726,45675539.405309267,183211791.06813291,2899.4552020803094,-64273724.101504356,-22167.517558260275,45675539.498497978,183205308.4854607,2899.5483907908201,-64280206.684176564,-22169.040836957662,45675539.768586442,183185418.04042217,2899.8184792548418,-64300097.129215091,-22173.835220795649,45675539.861775152,183178935.45774996,2899.9116679653525,-64306579.7118873,-22175.358105650968,45675539.06818027,183227722.31196949,2899.1180730834603,-64289141.201259434,-22175.41320518982,45675539.498497978,183196373.96837783,2899.5483907908201,-64289141.201259434,-22172.12218476729,45675539.431457445,183201349.28425872,2899.4813502579927,-64284165.88537854,-22170.918905775547,45675539.861775152,183170000.94066706,2899.9116679653525,-64315514.2289702,-22178.439067454598,null,null,null,73075502168410.094,73075976434656.328,73080679836703.766,73080679992288.281,73080680444320.266,73080680599904.797,73080679281366.125,73080680001222.797,73080679888982.625,73080680608839.312,0,0,0,0,0,0,0,0,0,1,null,0,0,0,0,0,0,0,0,1]
[null,392,1693192.8056608303,0.15581265031562533,0.16602783656584985,0.19558903544209744,0.57229025981668713,0.30125577740412945,0.50689293453133766,4.7382427197140364E-2,0.5631499949831742,80.240565103143553,260.20526253912027,135.40262632863588,509101.78409425204,46.011186887087902,5490.6223209988339,1586.3225066143029,15040.312105305926,1831.9396681406611,888.287607289123,0.84305056488882679,null,47930518.248394512,74494815.867098793,47930794.675652236,80599573.46381855,47933532.252634108,140610322.23190114,2737.5769818723202,60010748.768082589,21921.118260951785,47933535.255243294,140636693.46573809,2740.5795910581946,60037120.001919538,21906.723744789313,47933545.367392719,140342236.9802942,2750.6917404830456,59742663.516475648,21719.141638889829,47933548.370001905,140368608.21413115,2753.69434966892,59769034.750312597,21705.035912028037,47933526.085042596,140742736.63417709,2731.409390360117,60027020.904099435,21976.574114430096,47933535.255243294,140626594.36791798,2740.5795910581946,60027020.904099435,21903.038722156489,47933539.199801199,140474651.38257015,2744.5241489633918,59875077.918751597,21816.196422015979,47933548.370001905,140358509.11631104,2753.69434966892,59758935.652492493,21701.368439702605,null,null,null,76688754702615.359,76689190881470.109,76693510993892.344,76693515771695.797,76693532245591.359,76693537023394.828,76693500993331.516,76693515781794.891,76693522245030.547,76693537033493.938,0,0,0,0,0,0,0,0,0,1,null,0,0,0,0,0,0,0,0,1]
[null,393,1389571.4926352692,0.25801337655779621,0.21074393572350281,0.19049132007500746,0.61006155300734455,0.2271101675608688,0.36877775554776848,3.4072932754359339E-2,0.45509833276543615,750.7063694428125,275.12782679135017,3526.832049653779,42086.566872438925,6.0631332304704211,2716.1976789280457,50294.998888492206,10461.377448292102,1414.4231779134,340.88409896163017,0.96570604760115475,null,39335223.368479177,6172461.5986561524,39335484.45377671,102251680.35329421,39338054.056697033,1035231002.5845015,2569.6029203236103,932979322.23120725,363083.07203889301,39338055.031473033,1035242311.5278915,2570.5776963233948,932990631.17459726,362949.78848879779,39338056.622448437,1035229330.1638339,2572.1686717271805,932977649.8105396,362720.24461912765,39338057.597224437,1035240639.1072239,2573.143447726965,932988958.75392962,362587.23141848273,39338051.398712695,1035172590.4888552,2566.9449359849095,932926922.23408139,363438.61886391701,39338055.031473033,1035178602.5873756,2570.5776963233948,932926922.23408139,362925.00458881806,39338053.964464098,1035170918.0681875,2569.5106873884797,932919237.71489322,363072.72131374746,39338057.597224437,1035176930.1667079,2573.143447726965,932925249.81341362,362562.47223120451,null,null,null,62936351217105.086,62936672874362.383,62939851259712.664,62939852808045.32,62939855366587.336,62939856914919.992,62939847065349.82,62939852871754.266,62939851172224.484,62939856978628.938,0,0,0,0,0,0,0,0,0,1,null,0,0,0,0,0,0,0,0,1]
[null,394,1851415.9902045755,0.19038776244257716,0.17161226386450057,0.1984300928501746,0.51186497354020422,0.26740192701584919,0.32747766857421901,3.852852579109952E-2,0.46511149729627405,126.4058892736402,688.53184161695026,2479.8505416351168,5603.7965529528419,99.778874032877781,9660.8449465134454,7779.1964796281836,6052.4250104769726,153.22641554895745,938.97834137892426,0.96106761142487429,null,52409888.934427053,821362.0071988696,52410154.056811012,22413145.568722568,52412773.902275898,233495484.70553067,2619.8454648852348,211082339.1368081,80570.530577479993,52412775.43616572,233523872.32370678,2621.3793547078967,211110726.7549842,80534.214315771373,52412781.935051262,233539317.50746524,2627.878240250051,211126171.93874267,80340.926267060742,52412783.468941085,233567705.12564135,2629.4121300727129,211154559.55691877,80304.854892062722,52412767.306568541,233460223.01477179,2613.2497575283051,211073717.81263322,80770.587351847105,52412775.43616572,233486863.38135579,2621.3793547078967,211073717.81263322,80520.096198038984,52412775.339343898,233504055.81670636,2621.2825328856707,211090910.24798378,80529.629141350815,52412783.468941085,233530696.18329036,2629.4121300727129,211117550.61456779,80290.779904757495,null,null,null,83855821473721.281,83856224077752.062,83860204748156.734,83860207173992.828,83860217556764.516,83860219982600.609,83860194230286.656,83860207211001.781,83860207038894.422,83860220019609.547,0,0,0,0,0,0,0,0,0,1,null,0,0,0,0,0,0,0,0,1]
[null,395,1776293.522400687,0.24451398921170386,0.17133289223723203,0.17640742482136984,0.53700880483195679,0.23487376846903998,0.44053059994586063,3.7490137515871595E-2,0.41933024195162605,169.04174089884091,2886.3066404994374,3844.0725081244186,848628.77853988006,302.75767992984112,9268.8238358732087,14174.425078989789,3666.3258529383688,9283.302283290679,1205.2809225206768,0.63214319808436303,null,50282824.505827747,124839558.47814712,50283117.649138428,142682438.60413918,50286009.818555869,314665926.5031237,2892.1694174408913,171983487.89898452,59465.219036567534,50286016.234439984,314465869.50793254,2898.5853015556931,171783430.90379336,59264.576692497496,50286023.982120216,314234100.1751045,2906.332981787622,171551661.57096532,59026.843326619666,50286030.398004338,314034043.17991334,2912.7488659098744,171351604.57577416,58828.14223403635,50285995.336271033,315068238.78216457,2877.6871326044202,171665040.65691742,59653.82362520897,50286016.234439984,314347479.2610566,2898.5853015556931,171665040.65691742,59223.732544556638,50286009.499835387,314636412.45414537,2891.8506969586015,171953973.85000619,59461.566958091062,50286030.398004338,313915652.93303746,2912.7488659098744,171233214.32889828,58787.496695294067,null,null,null,80452394369765.906,80452845556182.875,80457301043762.891,80457311509234.453,80457324137292.172,80457334602763.75,80457277469794.875,80457311627624.703,80457300563324.172,80457334721154,0,0,0,0,0,0,0,0,0,1,null,0,0,0,0,0,0,0,0,1]
[null,396,1612927.5965722094,0.14590763588598088,0.14889509895796049,0.19843133854568121,0.39403421919266424,0.30562907418926344,0.26424958647028735,4.4824974393951389E-2,0.58865105670858764,140.3334716696711,749.10384168062205,776.93350885506345,164848.1841049194,111.6443504744183,284.03047221005687,6672.699741870425,92598.052324755496,700.7798018615149,1056.8368913898937,0.83903271388038514,null,45658227.972774304,24149358.52891878,45658508.330743439,42944430.728864953,45661285.213596955,226717223.41594371,2776.8828535154462,183772792.68707877,66179.526606399042,45661285.21732904,226721791.0016652,2776.8865856006742,183777360.27280027,66181.082520893455,45661285.30956354,226716520.4597415,2776.9788201004267,183772089.73087656,66176.986443213362,45661285.313295625,226721088.045463,2776.9825521856546,183776657.31659806,66178.542307352502,45661285.167281687,226717238.32485402,2776.8365382477641,183777029.11895299,66182.15605694952,45661285.21732904,226721459.84781796,2776.8865856006742,183777029.11895299,66180.963267248386,45661285.263248272,226716535.36865181,2776.9325048327446,183772104.63978684,66178.095549663165,45661285.313295625,226720756.89161575,2776.9825521856546,183776326.16275078,66178.423057828579,null,null,null,73053140607080.359,73053570384758.766,73057829624531.703,73057829625935.469,73057829778781.203,73057829780184.953,73057829550412.375,73057829626266.625,73057829704661.859,73057829780516.109,0,0,0,0,0,0,0,0,0,1,null,0,0,0,0,0,0,0,0,1]
[null,397,1583162.6900001033,0.13976523634843588,0.11565330674879534,0.1796409269834269,0.51661620623099802,0.25852536429801493,0.27859134363833432,4.6812871627786912E-2,0.3618009470082636,168.98404756952306,450.19846515591291,8985.8703408017045,75552.129407240354,163.11272206021187,302.86313679641347,4533.1642921236917,59354.687728868506,1681.5730111031523,707.76764346253515,0.77514583891918731,null,44815523.342815146,11068109.258663705,44815811.469563104,34958856.603938743,44818670.023910187,270085548.35083228,2858.5543470829725,235126691.74689353,82253.707013417414,44818670.026175722,270086134.45744038,2858.5566126182675,235127277.85350162,82253.84685949565,44818670.033343367,270085519.75839913,2858.5637802630663,235126663.15446037,82253.425576120004,44818670.03560891,270086105.86500722,2858.5660458058119,235127249.26106846,82253.565421745414,44818670.012167186,270085542.37221318,2858.5426040813327,235127232.5100798,82254.234089207879,44818670.026175722,270086089.11401856,2858.5566126182675,235127232.5100798,82253.830997146943,44818670.021600373,270085513.77978003,2858.552037268877,235126657.17584127,82253.761383503239,44818670.03560891,270086060.5215854,2858.5660458058119,235127203.91764665,82253.549559449049,null,null,null,71704826280394.969,71705263392444.359,71709601952707.953,71709601955746.703,71709601967829.625,71709601970868.391,71709601933925.125,71709601955792.047,71709601949046.812,71709601970913.734,0,0,0,0,0,0,0,0,0,1,null,0,0,0,0,0,0,0,0,1]
[null,398,1695715.822089646,0.23458991899545523,0.10374089293025543,0.21003638491666599,0.53862524497020048,0.25437316803461807,0.45082274031368508,4.122569641438012E-2,0.56556543633033252,38.914109871422966,103.31290483952367,879.49528083551263,6664.9636244112671,102.831112690472,20150.203395050452,9803.1018693048754,24434.409732472133,12425.519655630073,2178.8379313102328,0.48651250669925034,null,48001552.043864228,976211.54885852046,48001862.361848727,7805991.6829241905,48004929.915839225,71679728.257934421,3067.5539904981852,63873736.575010233,20822.367519157124,48004932.143854104,71752481.615031913,3069.7820053771138,63946489.932107724,20830.954712776773,48004934.264265619,71739047.481100112,3071.9024168923497,63933055.798175924,20812.202707549863,48004936.492280498,71811800.838197604,3074.1304317712784,64005809.155273415,20820.785121467343,48004924.772941619,71651686.695011616,3062.4110928922892,63917059.908879302,20871.482622704629,48004932.143854104,71723051.591803491,3069.7820053771138,63917059.908879302,20821.367705237844,48004929.121368021,71711005.918177322,3066.7595192939043,63905014.235253133,20837.960666040985,48004936.492280498,71782370.814969182,3074.1304317712784,63976379.132044993,20811.211674965445,null,null,null,76802482293971.219,76802971972966.281,76807816185614.5,76807819677684.953,76807823083777.5,76807826575847.953,76807807985019.906,76807819707114.969,76807814883182.906,76807826605277.984,0,0,0,0,0,0,0,0,0,1,null,0,0,0,0,0,0,0,0,1]
[null,399,1555105.9813584287,0.18929704857740703,0.11993379470806363,0.21100748169261196,0.5706008041964159,0.25093737791174542,0.25494816407185283,3.2163730854833698E-2,0.49108202560351399,1137.1562613761125,3060.9410743130602,3339.5393772075072,17524.017460317755,87.054885999333536,5014.6911045710858,27882.626291309167,6147.0744052422706,2552.2171937220205,777.91543653884639,0.86982084923679681,null,44021384.000202127,2540107.4208663432,44021651.198348604,164022817.90743002,44024296.722922847,1755488452.672338,2645.5245742425323,1591465634.7649081,601569.02349719324,44024309.648894824,1755713976.6410859,2658.450546219945,1591691158.7336559,598728.89529462345,44024346.070989408,1755641287.0204141,2694.8726408034563,1591618469.1129842,590609.90304849984,44024358.996961385,1755866810.9891615,2707.798612780869,1591843993.0817316,587873.84909948357,44024229.295394599,1754472554.6639495,2578.097045995295,1590621141.2490222,616974.88995607232,44024309.648894824,1754643959.1564522,2658.450546219945,1590621141.2490222,598326.39862747455,44024278.64346116,1754625389.0120251,2627.4451125562191,1590602571.1045952,605379.94247846014,44024358.996961385,1754796793.5045283,2707.798612780869,1590773975.5970984,587478.68770174053,null,null,null,70434211860215.984,70434477894539.859,70437119268223.875,70437139724255.078,70437198072296.031,70437218528327.234,70437012400076.703,70437140794272.562,70437091204148.844,70437219598344.719,0,0,0,0,0,0,0,0,0,1,null,0,0,0,0,0,0,0,0,1]
[null,400,2336650.095489799,0.22253553845481056,0.11827682827698788,0.20579117744463926,0.59947740981910913,0.25907991443469269,0.3270058715794178,3.4433335841880935E-2,0.67640113632860543,586.03213109572835,355.69088855188107,681.97199644994839,1065738.3094482385,146.5285398656514,12933.154133152346,24862.896156560022,1085.2396478917076,1954.7819163307306,477.60211393047285,0.99712942580745345,null,66146755.584666215,155886925.64978942,66147010.702208407,268059508.93405777,66149533.215180896,1371849822.2204652,2522.5129724889994,1103790313.2864075,437575.6736732584,66149550.566243589,1371000826.3497639,2539.8640351817012,1102941317.4157062,434252.11040354054,66149589.25397668,1369424023.4691315,2578.5517682731152,1101364514.5350738,427125.22900894476,66149606.605039373,1368575027.5984302,2595.902830965817,1100515518.6643724,423943.2637988691,66149470.32711044,1374225020.7249792,2459.6249020323157,1102107451.8176136,448079.48191896034,66149550.566243589,1370166960.7516713,2539.8640351817012,1102107451.8176136,433923.79928666895,66149526.365906216,1371799221.9736454,2515.6636978089809,1103739713.0395877,438746.92551348999,66149606.605039373,1367741162.0003376,2595.902830965817,1099681653.0662799,423622.04006578261,null,null,null,105834653048540.28,105834949064024.52,105837881294467.22,105837909905163.41,105837973382339.22,105838001993035.41,105837778298355.98,105837910739029,105837870386227.98,105838002826901,0,0,0,0,0,0,0,0,0,1,null,0,0,0,0,0,0,0,0,1]
[null,401,1977724.0459121144,0.1518325163013407,0.13290827933214627,0.19023915419893808,0.56190393374457248,0.26150761569346764,0.40915280687877709,5.0265793887841359E-2,0.46117603307176747,638.62648189555,42.449464464448887,1955.0017900428895,149989.66238076432,119.73576818727312,1330.8138443389626,2195.2084599616446,434.84481261232355,2239.0354988198983,179.11976811684983,0.87358840376621805,null,55985543.066480733,21920470.521285232,55985818.688318677,134779657.366088,55988550.429967463,1253180053.6799309,2731.7416487857699,1118400396.313843,409409.28539525694,55988552.580873333,1253167556.919029,2733.8925546556711,1118387899.5529411,409082.60920802719,55988557.494692102,1253138492.5331385,2738.8063734248281,1118358835.1670506,408338.04317775229,55988559.645597972,1253125995.7722368,2740.9572792947292,1118346338.4061489,408013.04962108296,55988544.619935624,1253208415.1628149,2725.9316169470549,1118376295.9390104,410273.05636945931,55988552.580873333,1253155953.3050983,2733.8925546556711,1118376295.9390104,409078.36485178472,55988551.684660263,1253166854.0160227,2732.996341586113,1118387196.6499348,409216.49971945118,55988559.645597972,1253114392.1583061,2740.9572792947292,1118334734.7922182,408008.81620452506,null,null,null,89576846985898.656,89577175121652.531,89580427507894.25,89580430961840.406,89580438853014.828,89580442306960.984,89580418183481.844,89580430973444.016,89580429528602.406,89580442318564.594,0,0,0,0,0,0,0,0,0,1,null,0,0,0,0,0,0,0,0,1]
[null,402,1650173.9226006789,0.19318263448303685,0.2662020755230039,0.17968839579983881,0.64546479280999214,0.30379432955126406,0.23543431753923252,3.7790887183353793E-2,0.62205717993285736,244.33200294900428,155.80818654122942,2248.8395786007077,668625.04753258964,38.504699129474325,1298.3926434365583,3416.5359091080427,9120.305675603664,5239.153607592486,1540.3644898490486,0.70058999155468871,null,46712505.245283619,98042423.877960637,46712791.291255467,126776143.82698914,46715607.997394584,410963639.21177363,2816.7061391174793,284187495.38478446,100893.5548646992,46715608.405144237,410962196.22035372,2817.1138887703419,284186052.39336455,100878.4392871708,46715612.342397347,410839312.44603533,2821.0511418804526,284063168.61904621,100694.08682527313,46715612.750147,410837869.45461541,2821.4588915333152,284061725.6276263,100679.02335208352,46715605.49587588,411032184.40896583,2814.2046204134822,284182170.44953918,100981.34598605882,46715608.405144237,410958314.2765283,2817.1138887703419,284182170.44953918,100877.06130105499,46715609.840878636,410907857.64322758,2818.5496231690049,284131713.8162384,100807.77414050921,46715612.750147,410833987.51079011,2821.4588915333152,284057843.68380094,100677.64748804487,null,null,null,74739910350029.922,74740339289864.922,74744561832192.109,74744562486034.562,74744568908523.297,74744569562365.75,74744557761217,74744562489916.5,74744564837548.172,74744569566247.688,0,0,0,0,0,0,0,0,0,1,null,0,0,0,0,0,0,0,0,1]
[null,403,1864706.7763097561,0.13936567597022381,0.17848685805287745,0.17655351176103506,0.65730772245637559,0.24702061336287182,0.42613278124489518,4.1748027506655627E-2,0.59393253158205761,131.56200056483709,5352.9925766777087,910.30203588827862,73381.104116930612,59.642038689845336,4584.2557908832314,17292.239716558372,27975.238840728845,2200.2622618912596,266.18016534822209,0.92516369100138807,null,52786109.824414715,10748089.243202528,52786380.72183682,33020635.154637124,52789064.911321215,247062634.72202361,2684.1894843950868,214041999.56738648,79741.762201122445,52789065.378128134,247086055.19528124,2684.6562913134694,214065420.04064411,79736.620562296448,52789066.9422374,247059777.4490166,2686.2204005792737,214039142.29437947,79680.409786264267,52789067.409044325,247083197.92227423,2686.6872075051069,214062562.7676371,79675.282693744768,52789063.904193327,247050619.50888214,2683.1823565065861,214049954.7683332,79774.657972564746,52789065.378128134,247070589.92297032,2684.6562913134694,214049954.7683332,79730.859946920493,52789065.935109518,247047762.23587513,2685.2132726982236,214027127.081238,79705.82048634591,52789067.409044325,247067732.64996326,2686.6872075051069,214047097.49532613,79669.526432923725,null,null,null,84457764970974.297,84458176134303.75,84462256795479.219,84462257518949.828,84462260047802.391,84462260771273,84462255196089.812,84462257534415.094,84462258448413,84462260786738.266,0,0,0,0,0,0,0,0,0,1,null,0,0,0,0,0,0,0,0,1]
[null,404,1520664.1508569783,0.13945596968920643,0.10649660004101645,0.18251834171593145,0.57347477840234917,0.26067795102453717,0.33826497700087577,4.1900074976896073E-2,0.53633933308210024,1395.147073828454,0.88906063815272207,3671.655515728678,362360.52226479526,97.914762658229407,1866.303551351547,8103.0366515214682,8379.8337635837142,2713.4973422240569,543.54591356423487,0.9230004735449141,null,43046397.284686878,52642474.58330176,43046667.46276141,240960714.90151924,43049349.93658793,2105377074.9507635,2682.4738265201449,1864416360.0492442,695036.17952085275,43049353.525418952,2105411486.0853009,2686.0626575425267,1864450771.1837816,694120.35715114849,43049363.828816406,2105163424.4537885,2696.3660549968481,1864202709.5522692,691375.97474852065,43049367.417647436,2105197835.588326,2699.9548860266805,1864237120.6868067,690469.72982213914,43049337.065001428,2105502713.6756172,2669.6022400185466,1864358837.3055122,698365.7750049535,43049353.525418952,2105319552.2070315,2686.0626575425267,1864358837.3055122,694086.13089138072,43049350.957229912,2105289063.1786425,2683.4944685027003,1864328348.2771232,694739.0315722751,43049367.417647436,2105105901.7100568,2699.9548860266805,1864145186.8085375,690435.67966865515,null,null,null,68874183013024.422,68874426979703.359,68876854521465.734,68876860229184.234,68876876962681.797,68876882670400.312,68876833801288.609,68876860321118.109,68876856242504.68,68876882762334.188,0,0,0,0,0,0,0,0,0,1,null,0,0,0,0,0,0,0,0,1]
[null,405,2179845.5844975766,0.17025540542435477,0.1722659120837291,0.19265932977056208,0.50107335161565902,0.27046467548511971,0.2744331689167851,3.6999884124117491E-2,0.41315536116228552,859.72973234732547,3992.674383693447,890.12308573849998,570901.55861115805,151.3109567907741,2388.6500980626934,10252.740489571599,130137.91444024975,1911.5858463929717,6328.4850453210393,0.94880496959880423,null,61707613.085491449,83633912.392731979,61707881.028694957,247221910.83189866,61710531.278776906,1865683809.2760468,2650.250081948936,1618461898.4441481,610682.70857441751,61710531.411130086,1865755495.6958954,2650.3824351280928,1618533584.8639967,610679.26025014312,61710532.153023556,1865661697.4546621,2651.1243285983801,1618439786.6227634,610472.98656054144,61710532.285376742,1865733383.8745108,2651.2566817849874,1618511473.0426121,610469.5498411461,61710530.518449098,1865698312.9994164,2649.489754140377,1618527656.942744,610882.77635852678,61710531.411130086,1865749567.7746427,2650.3824351280928,1618527656.942744,610677.02362150641,61710531.392695755,1865676201.1780317,2650.3640007972717,1618454290.346133,610653.58941612404,61710532.285376742,1865727455.953258,2651.2566817849874,1618505545.1213593,610467.31395003328,null,null,null,98732097302873.922,98732362424001.109,98734984362233.766,98734984502312.438,98734985783140.234,98734985923218.906,98734983131205.562,98734984508240.359,98734984552112.031,98734985929146.828,0,0,0,0,0,0,0,0,0,1,null,0,0,0,0,0,0,0,0,1]
[null,406,1421498.0903234046,0.13256642049967302,8.8156464650485558E-2,0.19089022585653262,0.42415553153578234,0.30124173932862452,0.39419140295745581,4.5405261879984282E-2,0.50873695787736428,147.92900570972492,1487.1036753885687,6729.9260973434712,2006583.2431238722,243.96949649515898,4460.1066532912946,4196.2331658055064,6664.8911128398522,1209.5535622602201,1072.0169089159419,0.97670908609324847,null,40239125.93708735,288672460.26078606,40239388.641534545,283226294.21103996,40241999.08230152,227141586.12779889,2610.4407669752836,-56084708.083241075,-21484.765635278673,40242001.73060105,227019611.54039758,2613.0890665054321,-56206682.670642376,-21509.669682177875,40242017.573849186,225465238.84737244,2628.9323146417737,-57761055.363667518,-21971.298021622217,40242020.222148716,225343264.25997117,2631.5806141719222,-57883029.951068789,-21995.537449755386,40241985.037360996,228398978.71076009,2596.3958264514804,-56288924.876638979,-21679.63925345297,40242001.73060105,226937369.33440098,2613.0890665054321,-56288924.876638979,-21541.142855844544,40242003.528908662,226722631.4303337,2614.8873741179705,-56503662.780706257,-21608.449885825597,40242020.222148716,225261022.0539746,2631.5806141719222,-57965272.157065362,-22026.789468239513,null,null,null,64382312826879.5,64382738600161.062,64386971390096.305,64386975749350.141,64387002652919.852,64387007012173.688,64386947660798.883,64386975831592.344,64386978923622.43,64387007094415.891,0,0,0,0,0,0,0,0,0,1,null,0,0,0,0,0,0,0,0,1]
[null,407,1656063.0070113132,0.13718953781866827,0.17197323867014902,0.21917592147142384,0.43785152776675823,0.28172877434648091,0.43418746620516513,3.4852440496558237E-2,0.51538154234691969,153.51164195975525,1419.723645622802,5203.9171627704909,181305.50219733408,20.062529240675552,3974.7075542747334,2226.4163352511841,30540.869390480137,2175.1373008059054,2730.0928214237806,0.79442303052746621,null,46879375.507552065,26182691.191616427,46879643.060440175,47573208.759263158,46882294.977808863,258950671.88742277,2651.9173686876893,211377463.12815961,79707.40929713074,46882305.729982041,260440398.92575887,2662.6695418655872,212867190.16649571,79945.027657225277,46882397.453652933,258326240.30292687,2754.3932127580047,210753031.54366371,76515.23049341033,46882408.205826111,259815967.34126297,2765.1453859359026,212242758.58199981,76756.455433233306,46882255.681460135,259153866.8769722,2612.6210199594498,212752243.86220714,81432.493360827837,46882305.729982041,260325452.6214703,2662.6695418655872,212752243.86220714,79901.858085304586,46882358.157304205,258529435.2924763,2715.0968640297651,210956226.53321314,77697.495558265451,46882408.205826111,259701021.0369744,2765.1453859359026,212127812.27771124,76714.885718717313,null,null,null,75006974629392.109,75007381323495.516,75011413013822.297,75011428727572.344,75011577599604.391,75011593313354.438,75011349936469.344,75011428842518.641,75011514522251.438,75011593428300.75,0,0,0,0,0,0,0,0,0,1,null,0,0,0,0,0,0,0,0,1]
[null,408,1877035.8421438599,0.19745490857742809,0.28422383841680166,0.18330796928142148,0.44162824881343121,0.23428988922854957,0.24798494828636608,4.8985624859043342E-2,0.52594397209805033,320.31239435221011,980.51959620589844,1288.5261227419749,404370.63572325773,60.429018604328007,3636.136875014216,1972.1887600080538,18637.316472531496,2134.6855705349353,249.82425381879972,0.98506944604057001,null,53135202.107808471,59322895.269461766,53135461.00867413,109086553.37767564,53138005.659982592,602265419.59083474,2544.6513084620237,493178866.21315908,193809.99847528589,53138005.968094684,602286445.55254447,2544.9594205543399,493199892.17486882,193794.79617299384,53138010.196638227,602183220.1845125,2549.1879640966654,493096666.80683684,193432.83969315753,53138010.504750319,602204246.14622235,2549.4960761889815,493117692.7685467,193417.71002278425,53138003.66982647,602300933.5342803,2542.6611523404717,493197038.65683651,193968.84174002419,53138005.968094684,602283592.03451216,2544.9594205543399,493197038.65683651,193793.67492995583,53138008.206482112,602218734.12795794,2547.197807982564,493132180.75028229,193597.91344232261,53138010.504750319,602201392.62819004,2549.4960761889815,493114839.25051439,193416.59077492231,null,null,null,85016264049598.281,85016628527325.234,85020206790552.547,85020207262505.953,85020214131400.969,85020214603354.375,85020203570788.828,85020207265359.469,85020210911637.25,85020214606207.891,0,0,0,0,0,0,0,0,0,1,null,0,0,0,0,0,0,0,0,1]
[null,409,1867868.4275887678,0.22129557466192762,0.12554051424730847,0.21325064478475952,0.62856229562635613,0.26960694176331995,0.35529914308723881,3.7272600580434447E-2,0.47374834745206795,150.034046531939,605.74833573851095,8721.3222588618955,83500.805674918825,2.2438747432110526,212.6291575157619,25094.240250475796,50754.727777814107,8381.3013560068066,235.6767953617582,0.64362487107492417,null,52875307.856565133,12231225.329189438,52875592.241192065,38195288.716712371,52878403.343008809,287035529.76073319,2811.1018167436123,248840241.04402083,88520.536524812895,52878437.095400333,289496667.47071427,2844.8542082682252,251301378.75400192,88335.415580743924,52878474.469082758,286793802.35062736,2882.2278906926513,248598513.63391501,86252.205953836747,52878508.221474282,289254940.06060845,2915.9802822172642,251059651.34389609,86097.856310946794,52878296.098138444,286140221.05187094,2703.8569463789463,250025286.72886169,92469.864969631642,52878437.095400333,288220575.44557405,2844.8542082682252,250025286.72886169,87886.854096843832,52878367.224212393,285898493.64176506,2774.9830203279853,247703204.9250527,89262.962371487141,52878508.221474282,287978848.03546816,2915.9802822172642,249783559.31875581,85660.236059217947,null,null,null,84600480339278.891,84600909390618.578,84605158313284.328,84605209855973.062,84605272356730.062,84605323899418.797,84604987616800.469,84605211132065.078,84605101660246.188,84605325175510.828,0,0,0,0,0,0,0,0,0,1,null,0,0,0,0,0,0,0,0,1]
[null,410,2096009.1733165954,0.16650326274510133,0.16845811293146551,0.20176342961079663,0.51998714204903529,0.22809225357954613,0.25709954539396168,4.4547131543666296E-2,0.54091576738140401,1118.9398385655186,2615.8322708757782,539.03207789263763,81869.156929289937,62.128542224584564,6809.5286387734914,41393.365857925528,26248.521117127548,4710.2580592305394,110.14257011540438,0.89641175439691412,null,59334176.540966384,11984437.031283082,59334447.634143323,225396397.2818867,59337127.873000331,2325808799.8922153,2680.2388570085168,2100412402.6103287,783666.12629243522,59337130.210364081,2326026899.5760307,2682.5762207582593,2100630502.2941442,783064.61007112707,59337144.918013051,2325803175.4688363,2697.283869728446,2100406778.1869497,778711.80032615992,59337147.255376793,2326021275.1526518,2699.6212334707379,2100624877.8707652,778118.37150581321,59337115.841446064,2325496441.5457559,2668.2073027417064,2100272615.6941552,787147.46546718013,59337130.210364081,2325669012.9760418,2682.5762207582593,2100272615.6941552,782931.19854036812,59337132.886458777,2325490817.1223769,2685.252315454185,2100094419.8404903,782084.5764675485,59337147.255376793,2325663388.5526624,2699.6212334707379,2100266991.2707758,777985.8023159015,null,null,null,94934670481109.188,94934890818232.031,94937078788000.641,94937082309682.953,94937106065645.406,94937109587327.719,94937059849872.156,94937082667569.562,94937087127516.922,94937109945214.328,0,0,0,0,0,0,0,0,0,1,null,0,0,0,0,0,0,0,0,1]
[null,411,1306125.4099962458,0.25285712419241468,0.10376046505801426,0.18578172024249584,0.45866186368328837,0.26625877941341475,0.37796773323145538,4.5035200398635844E-2,0.58549615344037464,452.66245237994644,618.87527626924339,2037.9421156459325,575954.69926986808,73.415696113275288,15217.674847314711,23858.939399501742,3594.21190080211,4722.0810677697191,901.46729656345565,0.90818247664029561,null,36972832.028906316,84385680.30708085,36973102.637967281,131923674.56383429,36975774.262703352,594261773.31989002,2671.6247360706329,462338098.75605571,173055.02996504382,36975774.937346019,594249860.28973866,2672.2993787378073,462326185.72590435,173006.88291304861,36975776.491589114,594228107.28309917,2673.8536218330264,462304432.71926486,172898.18296124152,36975777.166231781,594216194.25294769,2674.5282645002007,462292519.68911338,172850.11559805062,36975771.615955353,594291895.25782776,2668.9779880717397,462285561.52948236,173206.95921642668,36975774.937346019,594209236.09331667,2672.2993787378073,462285561.52948236,172991.68094999564,36975773.844841115,594258229.22103691,2671.2068738341331,462334554.6572026,173080.77453154643,36975777.166231781,594175570.05652571,2674.5282645002007,462251895.4926914,172834.926303938,null,null,null,59156446860569.797,59156832297073.086,59160644558552.039,59160645649893.344,59160648158435.305,59160649249776.602,59160640293633.305,59160645690517.539,59160643893516.562,59160649290400.797,0,0,0,0,0,0,0,0,0,1,null,0,0,0,0,0,0,0,0,1]
[null,412,1602957.4477780587,0.20077691906056105,0.22962583586895913,0.17109929532142748,0.63182445740399862,0.30301126726283667,0.19851598612154617,3.6123545015930243E-2,0.44087901752003755,1768.9925333403783,403.6252044675166,335.97148700483473,463613.19590327411,107.83841712912586,4721.2208357632717,36261.713199890393,3426.2462363730201,3588.2945894496188,1884.4991721700476,0.89761533094266821,null,45375866.87533731,71631941.130902693,45376129.261952884,324632788.96060973,45378718.950175717,2822852805.5128884,2589.6882228329778,2498220016.5522785,964679.83849397977,45378744.599121831,2822613017.5162621,2615.3371689468622,2497980228.5556521,955127.41462758812,45378917.080615625,2819032631.248764,2787.8186627402902,2494399842.2881541,894749.67494344863,45378942.729561739,2818792843.2521381,2813.4676088541746,2494160054.2915282,886507.47086699575,45378519.967115097,2823836966.1361623,2390.7051622122526,2494698684.7384033,1043499.0998345943,45378744.599121831,2819331473.6990132,2615.3371689468622,2494698684.7384033,953872.68393503642,45378718.097555004,2820016791.8720384,2588.835602119565,2495384002.9114285,963902.07275748812,45378942.729561739,2815511299.4348893,2813.4676088541746,2490878510.4742794,885341.10100834805,null,null,null,72601315368598.578,72601482186335.656,72603127467475.625,72603168745577.422,72603448296353.75,72603489574455.531,72602808110418.016,72603172027121.234,72603128939296.125,72603492855999.344,0,0,0,0,0,0,0,0,0,1,null,0,0,0,0,0,0,0,0,1]
[null,413,1827413.6537093061,0.19432862078048341,0.18207213344944551,0.18842238019272167,0.5104869161332295,0.25524316146184384,0.30487886364158295,4.1605837401146428E-2,0.56180235928665967,145.25877268347261,2296.4311508100227,414.14159788038506,3204875.5605349625,310.69164438566872,1889.8603611456867,10652.598154673562,11912.124478892811,120.66741241799704,356.65537443828305,0.71997519878381144,null,51730122.091205858,470489935.80609471,51730407.943684071,455155339.71310163,51733230.636076085,300655396.27548343,2822.692392013967,-154499943.4376182,-54734.955843836673,51733234.063184932,300294426.36640406,2826.1195008605719,-154860913.34669757,-54796.307551588463,51733253.817266159,297436745.28571981,2845.8735820874572,-157718594.42738181,-55420.098566604189,51733257.244375005,297075775.37664044,2849.300690934062,-158079564.33646119,-55480.127049925119,51733215.008537985,302732626.10346973,2807.0648539140821,-154966110.04946059,-55205.746256051323,51733234.063184932,300189229.66364104,2826.1195008605719,-154966110.04946059,-54833.530571609728,51733238.189728066,299513975.11370605,2830.2460439950228,-155641364.59939557,-54992.167528905229,51733257.244375005,296970578.67387736,2849.300690934062,-158184761.03922427,-55517.047232866076,null,null,null,82767724855993.562,82768197554554.797,82772868362325.453,82772874206669.531,82772908670880.578,82772914515224.641,82772841281034.672,82772874311866.234,82772881589589.797,82772914620421.344,0,0,0,0,0,0,0,0,0,1,null,0,0,0,0,0,0,0,0,1]
[null,414,1388435.5887648517,0.14059665496721369,0.15498807710419799,0.18512916068643415,0.57673963779417736,0.26106265664736827,0.37692367345842293,4.2666483535604094E-2,0.47905189666612236,75.763910342456626,2178.7456466099525,1271.5660646211372,421641.1456195229,90.39003700448211,2949.3087461895561,11808.487579471524,121.07210665854912,1079.0841817505507,760.8234943117784,0.94693450958784775,null,39303108.44931113,60595747.032848708,39303362.837752506,65717149.465602808,39305884.604967959,112440924.80596069,2521.7672154530883,46723775.340357877,18528.18731802054,39305902.658908531,112088997.89972769,2539.8211560249329,46371848.43412488,18257.918800354168,39305964.732459068,111001434.53573287,2601.8947065621614,45284285.070130058,17404.349590288919,39305982.786399633,110649507.62949987,2619.9486471265554,44932358.16389706,17150.091171892585,39305830.07983543,112922901.53032823,2467.2420829236507,45772400.334687181,18552.050749899445,39305902.658908531,111489549.80028999,2539.8211560249329,45772400.334687181,18021.898993205268,39305910.207326531,111483411.26010041,2547.3695740252733,45766261.794497602,17966.086374416096,39305982.786399633,110050059.53006218,2619.9486471265554,44332910.064459376,16921.289702789312,null,null,null,62884912923150.773,62885314823254.539,62889302927023.93,62889332165255.75,62889432570499.969,62889461808731.781,62889215204835.156,62889332764703.852,62889344848311.195,62889462408179.883,0,0,0,0,0,0,0,0,0,1,null,0,0,0,0,0,0,0,0,1]
[null,415,1530826.3520238858,0.18953697212033804,0.10604744790470093,0.19181768813320771,0.62452620764420996,0.28714468720471897,0.39548374365318784,3.7304165326587931E-2,0.67830582523963612,824.12021649119993,1611.0937971679562,460.11857060816459,1275595.2481502264,217.94951082955708,2985.3770301323261,28656.730828332569,0.92654376376904501,3619.8201926677702,3549.1114787484407,0.79179598050249678,null,43333917.050636902,186847653.20647025,43334201.583379216,286422458.95080435,43337020.941237323,1262700515.9111629,2819.3578581064939,976278056.9603585,346276.74317868805,43337021.132567964,1262689627.5471997,2819.5491887480021,976267168.59639537,346249.38358670694,43337021.485447198,1262670552.4525685,2819.9020679816604,976248093.50176418,346199.28989254293,43337021.67677784,1262659664.0886054,2820.0933986231685,976237205.13780105,346171.94083515869,43337020.399868503,1262721652.7135968,2818.8164892867208,976257495.95718396,346335.95328662853,43337021.132567964,1262679954.9079883,2819.5491887480021,976257495.95718396,346245.95302438515,43337020.944078378,1262691689.2550025,2819.3606991618872,976269230.30419815,346273.26350772154,43337021.67677784,1262649991.4493937,2820.0933986231685,976227532.4985894,346168.51093485241,null,null,null,69334080433365.844,69334436110947.797,69337970805463.805,69337971122481.195,69337971706163.062,69337972023180.461,69337969918136.891,69337971132153.836,69337970818836.148,69337972032853.094,0,0,0,0,0,0,0,0,0,1,null,0,0,0,0,0,0,0,0,1]
[null,416,1744082.9864154125,0.226369809314102,0.19729126784601614,0.19318350760457417,0.59502569729518284,0.29110868312845783,0.37750263938446893,3.3155156560202535E-2,0.52197798279604857,1387.3258859389789,484.30424073357142,7141.9855143192435,812479.94388342847,93.762072380309576,7756.7151673961725,979.74685986697557,536.45960576063487,4613.9586568083378,487.15477226375077,0.82937713959293247,null,49371117.828246199,121460986.37378688,49371388.060639791,331408493.98701763,49374054.336626157,2413651982.7795248,2666.2759863659739,2082243488.7925072,780955.72230334661,49374075.513274476,2412894418.4444895,2687.4526346847415,2081485924.4574718,774520.04087195604,49374138.306550421,2410855460.2635303,2750.2459106296301,2079446966.2765126,756094.92163573566,49374159.48319874,2410097895.9284945,2771.4225589483976,2078689401.9414768,750044.19489542767,49373985.968220174,2416125474.5404396,2597.907580383122,2081449832.4375348,801202.41695841099,49374075.513274476,2412858326.4245524,2687.4526346847415,2081449832.4375348,774506.61104645091,49374069.938144438,2413328952.0244451,2681.8775046467781,2081920458.0374274,776292.15146112011,49374159.48319874,2410061803.9085579,2771.4225589483976,2078653309.9215403,750031.17197338352,null,null,null,78993667064207.547,78993889488529.688,78996073286619.062,78996107926820.719,78996210435020.406,78996245075222.062,78995961423677.734,78996107962912.734,78996098572079.062,78996245111314.078,0,0,0,0,0,0,0,0,0,1,null,0,0,0,0,0,0,0,0,1]
[null,417,1524035.495618674,0.19243273342177725,0.24488416140936731,0.22937015416111961,0.4424009242096244,0.23428241625134744,0.3338008660097726,4.6430258492647702E-2,0.57837000144685757,2275.736031467969,410.33744544020254,1846.9165157466132,1064358.46830533,42.911901531246031,1376.8677142427823,3145.9693363503216,1673.7773671128855,484.66116832182797,337.53259020250334,0.96392520003665472,null,43141857.148183152,155940202.51646096,43142119.65915326,457375100.62312555,43144703.551454477,3446502533.1821103,2583.8923012167215,2989127432.5589848,1156831.2778173622,43144703.591766424,3446500741.6723595,2583.9326131641865,2989125641.0492339,1156812.5367591779,43144703.978548072,3446481218.69592,2584.3193948119879,2989106118.0727944,1156631.8482434542,43144704.018860012,3446479427.1861701,2584.3597067520022,2989104326.5630445,1156613.1133965563,43144703.380431041,3446510698.022471,2583.7212777808309,2989125192.138658,1156906.9844507494,43144703.591766424,3446500292.7617836,2583.9326131641865,2989125192.138658,1156812.3630276441,43144703.807524629,3446489383.5362806,2584.1483713686466,2989114282.9131551,1156711.5557416796,43144704.018860012,3446478978.2755933,2584.3597067520022,2989103877.6524677,1156612.9396937334,null,null,null,69026815496890.531,69026934079544.594,69028079179793.984,69028079246084.609,69028079884458.219,69028079950748.836,69028078897991.641,69028079246533.516,69028079602655.867,69028079951197.75,0,0,0,0,0,0,0,0,0,1,null,0,0,0,0,0,0,0,0,1]
[null,418,1591326.5286480195,0.16825648258041356,0.15877049135422594,0.22185755665171536,0.53423445549324788,0.3074225188436378,0.30854734389458194,3.4938194146519164E-2,0.48787893504800939,5.5198304527253832,1983.2522968666399,1779.3236072770201,772899.10199424205,128.66027757992961,9112.9060318978136,3007.1960456819897,5679.5185254359394,1222.0319699834931,1195.7491423773176,0.27482991331292883,null,45046122.969320953,112352230.38528427,45046439.010531224,104192617.50605865,45049567.045143127,22420510.981572796,3128.034611903131,-81772106.524485856,-26141.688526500926,45049583.415556721,22239399.493341126,3144.4050254970789,-81953218.012717515,-26063.187581810347,45049674.736781262,19733674.82773592,3235.7262500375509,-84458942.678322732,-26102.00497565039,45049691.107194856,19552563.339504249,3252.0966636314988,-84640054.166554391,-26026.303311673368,45049480.634691171,24804278.314647019,3041.6241599470377,-82112406.479993179,-26996.236931989311,45049583.415556721,22080211.026065473,3144.4050254970789,-82112406.479993179,-26113.813524074416,45049588.326329306,22117442.160810143,3149.3157980814576,-82075175.345248505,-26061.27191031403,45049691.107194856,19393374.872228596,3252.0966636314988,-84799242.633830056,-26075.252799877668,null,null,null,72073684398683.141,72074198224232.453,72079284851718.016,72079311225491.25,72079459845175.188,72079486218948.422,72079144211227.562,72079311384679.719,72079319204684.734,72079486378136.891,0,0,0,0,0,0,0,0,0,1,null,0,0,0,0,0,0,0,0,1]
[null,419,1320594.8560302681,0.16228867358880411,0.11372813354490321,0.17293222646078149,0.54612406230702859,0.30181890444877102,0.38917835727459027,3.8712414517382637E-2,0.44285672348947064,957.72464125134741,295.91337446164124,2838.9955909749428,29829.660855089758,389.63452689235481,4186.1646336429758,5186.7175265276064,1046.1038340949729,2550.9712285538935,155.11945792948447,0.60336514918950301,null,37382125.281816676,4369935.3236300582,37382428.737382546,119061300.81517422,37385439.047228962,1254420456.1631701,3010.3098464161158,1135359155.3479958,377156.90851547476,37385439.052026369,1254420463.8106232,3010.3146438226104,1135359162.9954491,377156.30999745842,37385439.062888093,1254420491.1975369,3010.3255055472255,1135359190.3823628,377154.95825624146,37385439.0676855,1254420498.84499,3010.3303029537201,1135359198.0298157,377154.35974444641,37385439.030397177,1254420409.5361969,3010.2930146306753,1135359095.2875986,377158.99740307929,37385439.052026369,1254420396.1027727,3010.3146438226104,1135359095.2875986,377156.28750550706,37385439.046056308,1254420444.570564,3010.308673761785,1135359143.7553897,377157.05158454931,37385439.0676855,1254420431.1371393,3010.3303029537201,1135359130.3219652,377154.33725261205,null,null,null,59811396080971.359,59811766918511.258,59815448055110.172,59815448062778.375,59815448080129.758,59815448087797.953,59815448028225.945,59815448062846.086,59815448053245.523,59815448087865.656,0,0,0,0,0,0,0,0,0,1,null,0,0,0,0,0,0,0,0,1]
[null,420,1565253.064049399,0.18837771805819048,0.21532019566144456,0.18335633656995079,0.52404368146624114,0.28780745242419381,0.40911490817889606,3.7004225596518607E-2,0.45088306684792984,1098.0795691057451,629.69899768185405,41.584674571093871,83641.292430648115,30.635170436127741,5687.0330672296914,49495.1188152615,42426.249201976847,171.07720403136952,641.98671529278761,0.85249761775514732,null,44308591.89230758,12253485.594232671,44308866.264159441,168885972.40400916,44311575.44599326,1702647206.1351373,2709.1818338185549,1533761233.7311282,566134.47446947952,44311575.466831438,1702649337.8199728,2709.2026719972491,1533763365.4159636,566130.90680486418,44311575.557111979,1702647079.3279259,2709.2929525375366,1533761106.9239168,566111.2082720286,44311575.577950157,1702649211.0127614,2709.3137907162309,1533763238.6087523,566107.64093268372,44311575.379229844,1702644880.9586678,2709.1150704026222,1533760785.97611,566148.26100692956,44311575.466831438,1702646758.3801191,2709.2026719972491,1533760785.97611,566129.95470191515,44311575.490348555,1702644754.1514568,2709.2261891141534,1533758781.7474477,566124.30069891911,44311575.577950157,1702646631.5729079,2709.3137907162309,1533760659.1688988,566106.68886878388,null,null,null,70893734774206.531,70894017136682.703,70896818066383.078,70896818097592.484,70896818244299.844,70896818275509.234,70896817961886.797,70896818100171.922,70896818139803.531,70896818278088.672,0,0,0,0,0,0,0,0,0,1,null,0,0,0,0,0,0,0,0,1]
[null,421,1866500.12164855,0.13402018744256164,0.18083193159953648,0.21910604332801376,0.46004604664106918,0.24184689765024212,0.33208545032974063,3.6687396586892129E-2,0.44714729648190182,75.181526034226295,7079.5988782202585,14622.168593879765,613071.22694533016,224.0232486893623,723.41659614067021,2026.8515070317283,69.910530226857233,178.62034074656177,438.20343457910451,0.76659020743702755,null,52836707.70549304,89747657.864211857,52836993.18373771,95633963.212307751,52839820.984754741,153302392.49302942,2827.8010170310736,57668429.280721664,20393.383032752467,52839821.668882608,153284053.52934113,2828.4851448982954,57650090.31703338,20381.96679979605,52839826.681015819,153150137.06218091,2833.4972781091928,57516173.849873155,20298.651526587662,52839827.365143687,153131798.09849262,2834.1814059764147,57497834.886184871,20287.281105203663,52839818.083695605,153374765.83150128,2824.8999578952789,57643772.856695533,20405.597973686694,52839821.668882608,153277736.06900328,2828.4851448982954,57643772.856695533,20379.733286090228,52839823.779956676,153222510.40065277,2830.5962189659476,57588547.188345015,20345.023710016412,52839827.365143687,153125480.63815477,2834.1814059764147,57491517.425847024,20285.052080510846,null,null,null,84538642581131,84539093460017.125,84543560273215.078,84543561386158.641,84543569539488.25,84543570652431.812,84543555559147.141,84543561392476.109,84543564825420.281,84543570658749.266,0,0,0,0,0,0,0,0,0,1,null,0,0,0,0,0,0,0,0,1]
[null,422,1698406.1693593587,0.21960506668236601,0.16591325250136191,0.19220737503868018,0.56392282051169473,0.28593236743161221,0.43602209708146444,3.9825650463349627E-2,0.55758128268263929,333.42500057721492,274.41978127684052,7910.3376254824834,454501.0907986263,245.0699365280673,810.83078011130578,11953.621255287089,15.582291650878549,2623.5124902595289,1540.7096338773467,0.76146655735404223,null,48078014.109179474,66583557.736373022,48078297.567261472,113128906.92878877,48081096.497513771,570229621.15901518,2798.9302522987127,457100714.2302264,163312.64912900832,48081096.509704791,570229376.7375108,2798.942443318665,457100469.80872202,163311.8504811927,48081096.539882816,570228786.99633276,2798.9726213440299,457099880.06754398,163309.87898268565,48081096.552073836,570228542.57482851,2798.9848123639822,457099635.64603972,163309.08035902487,48081096.465526029,570230021.5030874,2798.8982645571232,457100227.99387109,163314.34185450798,48081096.509704791,570229134.92265987,2798.942443318665,457100227.99387109,163311.76408611462,48081096.507895075,570229187.34040523,2798.9406336024404,457100280.41161644,163311.888406613,48081096.552073836,570228300.75997758,2798.9848123639822,457099393.8311888,163308.99396525457,null,null,null,76924755991129.422,76925162978711.438,76929184166400.875,76929184186150.938,76929184235025.5,76929184254775.562,76929184114820.141,76929184186392.75,76929184183444.781,76929184255017.375,0,0,0,0,0,0,0,0,0,1,null,0,0,0,0,0,0,0,0,1]
[null,423,1921707.1119397951,0.19781212073513865,9.180608261419379E-2,0.23234376573321569,0.54923156922527316,0.27739027339363798,0.32416404909069707,4.1550228244133458E-2,0.54463339235025354,603.60537670776887,486.07827989584973,281.26457616124691,242024.03708726098,49.962816719747657,6136.7216419368879,64097.180623833374,3901.8290991984577,1429.4424395066408,920.49353833236626,0.90629377737227557,null,54399749.760522969,35455867.784115978,54400023.767370507,139992564.8123183,54402735.341936164,1151330917.6918783,2711.5745656564832,1011338352.87956,372970.88034704694,54402735.341940843,1151330917.687933,2711.5745703354478,1011338352.8756146,372970.87970201107,54402735.341949582,1151330917.6176403,2711.5745790749788,1011338352.8053219,372970.87847398536,54402735.341954261,1151330917.6136949,2711.5745837539434,1011338352.8013766,372970.87782894948,54402735.341916464,1151330917.1152852,2711.5745459571481,1011338352.0778396,372970.88276097947,54402735.341940843,1151330916.8901579,2711.5745703354478,1011338352.0778396,372970.87940780009,54402735.341929875,1151330917.0410476,2711.5745593681931,1011338352.2287292,372970.88097196736,54402735.341954261,1151330916.8159201,2711.5745837539434,1011338352.0036018,372970.87753473857,null,null,null,87039564160968.969,87039898035228,87043225216180.172,87043225216187.656,87043225216201.703,87043225216209.203,87043225216149.234,87043225216188.453,87043225216170.75,87043225216210,0,0,0,0,0,0,0,0,0,1,null,0,0,0,0,0,0,0,0,1]
[null,424,1481243.7836523417,0.18415560252006841,0.15291587270963544,0.17921365736317393,0.43987092160818753,0.36087927874496895,0.46297047893944954,4.3787339668361014E-2,0.61581400452978374,785.21637788493558,510.70304402041512,2768.5746048840483,556264.45169948041,141.30334884753117,700.27869241162318,2703.1851018307029,61686.942144204622,1792.4933041735287,13.441496344083989,0.88106109717663639,null,41930347.504958957,81490790.605635449,41930621.863749191,180205547.63415834,41933336.965346918,1158255844.657495,2715.1015977263451,978050297.02333665,360226.04010191234,41933336.976396047,1158260215.2741764,2715.1126468554139,978054667.64001799,360226.18390171777,41933337.119840629,1158251946.156564,2715.2560914382339,978046398.52240562,360204.10804210661,41933337.130889758,1158256316.7732453,2715.2671405673027,978050769.13908696,360204.25192297733,41933336.893976703,1158257466.110882,2715.0302275121212,978054463.73163557,360237.04407440859,41933336.976396047,1158260011.3657939,2715.1126468554139,978054463.73163557,360226.10880045715,41933337.048470408,1158253567.609951,2715.1847212165594,978048019.97579265,360214.17339795973,41933337.130889758,1158256112.8648629,2715.2671405673027,978050565.23070455,360204.17682598985,null,null,null,67088474517143.719,67088814776451.07,67092180888710.414,67092180902018.398,67092181139798.852,67092181153106.844,67092180772896.617,67092180902222.305,67092181023985.047,67092181153310.75,0,0,0,0,0,0,0,0,0,1,null,0,0,0,0,0,0,0,0,1]
[null,425,1745686.2764872077,0.21543654752353614,0.12773485163093029,0.1873678596557603,0.58767137245671264,0.25447001823549087,0.25265021138727128,3.3297149717208083E-2,0.47273487911246076,550.16960864311852,769.16099080202287,10258.376619039816,170719.84910243293,150.90445444362646,7533.8587527545596,16489.707357834945,69043.505716559448,694.58908454682546,399.37392926692434,0.93959346710431157,null,49416694.210887715,25000363.600489821,49416960.593704306,110987078.5611037,49419594.503155425,957474023.20189607,2633.9094511196017,846486944.64079237,321380.42721285438,49419599.659312062,958353691.09966969,2639.0656077563763,847366612.53856599,321085.84570542822,49419611.670667134,957437007.45579922,2651.0769628286362,846449928.89469552,319285.30961679574,49419616.826823778,958316675.35357273,2656.2331194728613,847329596.79246902,318996.69896466937,49419567.602793083,957469536.17347515,2607.0090887770057,847146657.11614347,324949.6370239181,49419599.659312062,958133735.67724717,2639.0656077563763,847146657.11614347,321002.49975837179,49419584.770304784,957432520.42737818,2624.1766004785895,846445441.86627448,322556.58468713664,49419616.826823778,958096719.9311502,2656.2331194728613,847109641.3700465,318913.89169116237,null,null,null,79066685737056.75,79067025962848.328,79070393731025.484,79070401101208.203,79070421236059.969,79070428606242.688,79070350694932.766,79070401321163.625,79070378199967.234,79070428826198.109,0,0,0,0,0,0,0,0,0,1,null,0,0,0,0,0,0,0,0,1]
[null,426,1880098.0286072358,0.18405353813283798,0.19600160323196036,0.2068885217997658,0.39802568545767908,0.24916368006868669,0.24637920256230147,4.1148802018069142E-2,0.52243149518839305,58.233856179927471,450.76768898343715,494.98443610408998,91434.144697255673,395.33809373374044,7515.8929839017355,20894.505471487217,5120.1751226308279,700.4162008967337,1680.5773356650514,0.82082947863152478,null,53221716.42444244,13396441.42559744,53221994.778766289,23075071.365121637,53224741.809040442,110833107.50663467,2747.0302741527557,87758036.141513035,31946.512190725505,53224741.883335948,110835340.12580439,2747.104569658637,87760268.760682762,31946.460913786075,53224742.936028808,110832191.87725021,2748.157262519002,87757120.512128577,31933.078106195819,53224743.010324314,110834424.49641991,2748.2315580248833,87759353.131298274,31933.027213460038,53224741.201411292,110825250.6017769,2746.4226450026035,87749909.012581423,31950.620991365384,53224741.883335948,110824980.37770306,2747.104569658637,87749909.012581423,31942.689762073918,53224742.328399651,110824334.97239242,2747.5496333613992,87749263.607270792,31937.280601521597,53224743.010324314,110824064.74831858,2748.2315580248833,87748993.38319695,31929.257608212956,null,null,null,85154732882666.484,85155168570954.703,85159476061357.203,85159476177997.391,85159477865454.219,85159477982094.406,85159475097007.453,85159476188357.141,85159476901104.469,85159477992454.156,0,0,0,0,0,0,0,0,0,1,null,0,0,0,0,0,0,0,0,1]
[null,427,1577830.2856230938,0.12337137566876834,0.19781149344964544,0.17692204652683594,0.52160876314087823,0.31871664074317219,0.30073610023133551,3.8501217838117059E-2,0.46935776331573531,79.146469089039357,7890.9841446183882,1350.8979766889126,1583215.8249111027,202.57724745616426,977.17437648661894,27120.982660094531,31085.776048469932,2155.6266413801095,1287.6668844669557,0.93993256699179928,null,44664745.585517786,231850233.46733984,44665014.867427252,224638594.97107378,44667682.771659181,142603683.86087787,2667.9042319282889,-82034911.110195905,-30748.821538808868,44667683.089519292,142641662.05377957,2668.2220920398831,-81996932.917294204,-30730.924971319277,44667686.692023247,142314374.37928742,2671.8245959952474,-82324220.591786355,-30811.985455624868,44667687.009883359,142352352.57218915,2672.1424561068416,-82286242.398884624,-30794.107631062067,44667680.87158189,142691104.98638508,2666.0041546374559,-82050669.39181453,-30776.647234059699,44667683.089519292,142587925.57925925,2668.2220920398831,-82050669.39181453,-30751.0644022462,44667684.791945957,142401795.50479463,2669.9245187044144,-82236799.466279149,-30801.170179217166,44667687.009883359,142298616.0976688,2672.1424561068416,-82339978.87340498,-30814.217514948516,null,null,null,71463361086594.984,71463799149288.641,71468149830970.828,71468150301568.828,71468156392862.828,71468156863460.797,71468146703426.047,71468150355305.297,71468153265318.031,71468156917197.281,0,0,0,0,0,0,0,0,0,1,null,0,0,0,0,0,0,0,0,1]
[null,428,1797491.6202201238,0.17144975217512082,0.18720330182004263,0.23218801414563606,0.39043831357567982,0.28321127005946545,0.37578926154290004,4.385062924259675E-2,0.51304619239299476,8.3452312038221663,456.25483741451944,5605.6687699101749,201663.7787730647,190.96959870231126,9806.4372296852962,1528.8242737357523,2172.9608064974072,533.51527864740353,109.38159642828873,0.99628583617483812,null,50883347.157372139,29545717.812303588,50883609.649502099,28679230.605463784,50886202.816733241,19577629.751346845,2593.1672311425209,-9101600.854116939,-3509.8395293645885,50886202.96411822,19578426.017129306,2593.3146161213517,-9100804.5883344784,-3509.3330102561745,50886204.865712963,19567865.205453843,2595.2162108644843,-9111365.4000099413,-3510.8309519132063,50886205.013097949,19568661.471236303,2595.3635958507657,-9110569.1342274807,-3510.324776379171,50886201.925301246,19584673.451846708,2592.2757991477847,-9102365.7727597319,-3511.3415693469619,50886202.96411822,19576864.832704052,2593.3146161213517,-9102365.7727597319,-3509.9350137367965,50886203.974280976,19574908.905953705,2594.3247788771987,-9104321.6995100789,-3509.3222612823174,50886205.013097949,19567100.286811046,2595.3635958507657,-9112130.3186527379,-3510.9263045919247,null,null,null,81413325906077.609,81413746759972.75,81417904929143.438,81417905164163.141,81417908217275.531,81417908452295.25,81417903495808.547,81417905165724.328,81417906783940.656,81417908453856.438,0,0,0,0,0,0,0,0,0,1,null,0,0,0,0,0,0,0,0,1]
[null,429,1993995.5136967679,0.19358819969919716,9.656101281485284E-2,0.18251173610168478,0.59220154179876849,0.24102969976570579,0.35914786986789793,4.2449538180762802E-2,0.59254898175612369,1061.863183131099,1458.9305858286129,1956.1151932173441,851147.72148788662,16.430757182165713,10424.241578138723,32030.374341681389,23034.933891292734,5479.240715287875,107.81751236258519,0.71582525424811061,null,56446022.141293541,123994356.41482174,56446309.728188448,306803714.07186967,56449158.660274036,2107598896.9694369,2848.9320855885744,1800795182.8975673,632094.80914162705,56449166.235649265,2107629322.0308661,2856.5074608176947,1800825607.9589965,630429.16311638057,56449176.41272641,2107082109.1938193,2866.684537962079,1800278395.1219497,628000.17625998158,56449183.988101631,2107112534.2552485,2874.2599131837487,1800308820.1833789,626355.60963908094,56449135.865329772,2108010735.513217,2826.1371413245797,1800393146.0754402,637050.87759174185,56449166.235649265,2107196860.1473098,2856.5074608176947,1800393146.0754402,630277.76778852358,56449153.617782146,2107493947.7375994,2843.8895936980844,1800690233.6657298,633178.67109045596,56449183.988101631,2106680072.3716924,2874.2599131837487,1799876358.2998228,626205.14938266075,null,null,null,90313511431713.25,90313788761387.438,90316546257541.484,90316558347716.797,90316575178253.062,90316587268428.359,90316509373792.125,90316558780178.688,90316538294503.703,90316587700890.234,0,0,0,0,0,0,0,0,0,1,null,0,0,0,0,0,0,0,0,1]
[null,430,1736322.6195925605,0.23036809797025437,0.21620828410064752,0.22288695509905276,0.645521576964456,0.31870155017711144,0.32124166602051174,4.3919102077856542E-2,0.569288078060594,228.37210012829271,353.06369012351098,5560.6015992972671,582711.28120611142,58.301911583278084,1366.1268894964167,20478.860749823925,4979.483417730873,11538.276607878486,2138.1778045927795,0.99004907197404424,null,49151665.306879424,85383193.658108562,49151924.984493904,115569233.66294298,49154478.773250416,407406658.7931478,2553.7887565121055,291837425.1302048,114276.25890591998,49154478.917638823,407404060.18987417,2553.9331449195743,291834826.52693117,114268.78072649051,49154479.508058421,407386598.37175047,2554.523564517498,291817364.70880747,114235.53446997712,49154479.652446821,407383999.76847684,2554.6679529175162,291814766.10553384,114228.06074357789,49154478.170666233,407417589.88072008,2553.1861723288894,291828987.50739586,114299.92480383989,49154478.917638823,407398221.17033881,2553.9331449195743,291828987.50739586,114266.49444129667,49154478.905474231,407397529.45932275,2553.9209803268313,291828295.7963798,114266.76786179729,49154479.652446821,407378160.74894148,2554.6679529175162,291808927.08599854,114225.77511599618,null,null,null,78642579107813.422,78642964405956.594,78646758630541.875,78646758864161.938,78646759826295.094,78646760059915.156,78646757655476.094,78646758870000.953,78646758851229.312,78646760065754.172,0,0,0,0,0,0,0,0,0,1,null,0,0,0,0,0,0,0,0,1]
[null,431,1798044.6324714795,0.19698583711704998,0.16229420241757542,0.1865707498404344,0.55126885762221967,0.28191135147075808,0.39923747945069976,3.3460323600240677E-2,0.46712856402612501,9.5592226012012649,3005.0432215978881,10556.647298981674,874629.55189104809,106.29772691174104,302.4200485545457,31877.930851851805,15339.652078386069,313.99092982690752,934.26851861178363,0.73088526519104002,null,50898708.287774727,128331062.98885974,50898992.01349315,120746285.99223427,50901798.258488961,33727863.471884847,2806.2449958100915,-87018422.520349428,-31008.847285348806,50901806.855419666,33671286.547599666,2814.8419265151024,-87074999.444634616,-30934.24132432093,50901829.02565296,32556466.091560755,2837.0121598094702,-88189819.900673524,-31085.457140443217,50901837.622583672,32499889.167275578,2845.6090905219316,-88246396.824958697,-31011.426382803991,50901771.782674544,34174755.937175378,2779.7691813930869,-87640738.399078563,-31528.063188022406,50901806.855419666,33105547.593155708,2814.8419265151024,-87640738.399078563,-31135.225595982803,50901802.549838543,33003358.556851298,2810.5363453924656,-87742927.435382977,-31219.282248111431,50901837.622583672,31934150.212831624,2845.6090905219316,-88812135.779402643,-31210.23758154815,null,null,null,81437804929376.578,81438266475303.047,81442843485718.875,81442857297384.922,81442893884578.641,81442907696244.703,81442800677523.328,81442857863123.875,81442851076383.109,81442908261983.656,0,0,0,0,0,0,0,0,0,1,null,0,0,0,0,0,0,0,0,1]
[null,432,1467341.6901754977,0.23184781618766293,0.14701969767335846,0.19655815607922747,0.50627453323173999,0.34858669878330784,0.31384632813947205,3.1316877267764394E-2,0.55830405936646443,120.59772453873666,1245.0806607160696,6934.9356788564692,79471.10106870062,98.425915527467097,8077.2569978484589,41763.714812651859,19988.261423749958,3158.6078357072943,279.64297473695848,0.65741072967624403,null,41536532.495223291,11666928.104707778,41536824.522054069,28665329.542610798,41539708.663400315,181090775.49478084,2884.1413462460041,152425445.95217004,52849.50619724892,41539711.132045396,181266061.53049147,2886.6099913269281,152600731.98788068,52865.032840038279,41539726.323238336,181105055.86301056,2901.8011842668056,152439726.32039976,52532.79485407492,41539728.791883416,181280341.89872122,2904.2698293477297,152615012.35611042,52548.496291195588,41539691.335302606,180765836.73318034,2866.8132485374808,152216980.60354373,53096.231741358803,41539711.132045396,180882310.14615452,2886.6099913269281,152216980.60354373,52732.090951286438,41539708.995140627,180780117.10141006,2884.4730865582824,152114787.55879927,52735.72780680743,41539728.791883416,180896590.51438424,2904.2698293477297,152231260.97177345,52416.362775067319,null,null,null,66458440325429.164,66458890569956.969,66463352770665.008,66463356545211.102,66463381012125.477,66463384786671.57,66463325370647.438,66463356928962.484,66463353612107.898,66463385170422.953,0,0,0,0,0,0,0,0,0,1,null,0,0,0,0,0,0,0,0,1]
[null,433,2017765.3044935348,0.18299511893824155,0.12289088671030526,0.23028870635594256,0.40747895354317426,0.22778519000593833,0.38082376204161028,3.4274992011020723E-2,0.46798609162272847,660.71092956933887,5785.9099348610962,8548.2033156710695,238742.77884149889,239.15526191306975,1549.8043461483028,22393.884593935978,113862.09553615222,1451.4810458059701,1244.5414569182792,0.82005021551436674,null,57119032.162148193,34974874.487584256,57119313.686577633,154272152.09684482,57122101.609769575,1328524584.8537409,2787.9231919422746,1174252432.756896,421192.5336217116,57122101.61768014,1328527739.1863751,2787.9311025068164,1174255587.0895302,421192.46994076646,57122101.646099418,1328524238.3146746,2787.9595217853785,1174252086.2178297,421186.92077202455,57122101.654009983,1328527392.6473088,2787.9674323499203,1174255240.5504639,421186.85710783512,57122101.580604047,1328524261.3431094,2787.8940264135599,1174254949.9809239,421197.84283605812,57122101.61768014,1328527102.0777688,2787.9311025068164,1174254949.9809239,421192.24141696771,57122101.61693389,1328523914.8040433,2787.9303562566638,1174251762.7071984,421191.21091814456,57122101.654009983,1328526755.5387025,2787.9674323499203,1174254603.4418576,421186.62858701422,null,null,null,91390416484562.625,91390747626372.125,91394034051046.469,91394034060549.031,91394034109520.75,91394034119023.328,91394034004705.125,91394034061186.141,91394034063179.422,91394034119660.438,0,0,0,0,0,0,0,0,0,1,null,0,0,0,0,0,0,0,0,1]
[null,434,1310137.2348959111,0.17036526953676115,0.159613880242096,0.19543479905179384,0.43557167866020158,0.29624917948521112,0.27547674815286038,3.4112347655002311E-2,0.53245324705157049,87.04716782063656,538.24897529939415,3987.9270366115907,259169.06482728614,440.33317773710803,741.91942338477838,14758.504649334012,3877.1868744295857,4461.0785813392049,328.55035032269922,0.91195346755710804,null,37086409.980453916,37967568.113666207,37086682.029414915,45922474.144917421,37089374.528043367,119021322.90184854,2692.4986284524202,73098848.756931126,27149.07557778274,37089374.528047152,119021322.96045543,2692.4986322373152,73098848.815538019,27149.075561385514,37089374.528092481,119021322.33032492,2692.4986775666475,73098848.18540749,27149.074870287684,37089374.528096259,119021322.38893181,2692.4986813440919,73098848.244014382,27149.074853965587,37089374.528012298,119021322.87970911,2692.4985973834991,73098848.419239879,27149.075765638452,37089374.528047152,119021322.56415731,2692.4986322373152,73098848.419239879,27149.075414199502,37089374.528061412,119021322.30818549,2692.4986464977264,73098848.163268059,27149.075175340033,37089374.528096259,119021321.99263369,2692.4986813440919,73098847.847716272,27149.074706779586,null,null,null,59338218001158.148,59338645324589.711,59342880223546.492,59342880223552.484,59342880223625.641,59342880223631.625,59342880223496.797,59342880223552.883,59342880223575.953,59342880223632.023,0,0,0,0,0,0,0,0,0,1,null,0,0,0,0,0,0,0,0,1]
[null,435,1585759.4175255089,0.13266016157615407,0.27276350116196779,0.2051861265283772,0.46343954873458831,0.24949892302856663,0.30216572248217793,4.3848865170377449E-2,0.54714750480511221,404.45075517145983,1271.9451185907585,1991.7283235998536,610199.84054602042,81.00173653019823,2820.5820410177821,1588.0568629406328,164.11622063736129,1096.6990498075127,1354.4212392796446,0.79895501709934724,null,44889028.242586233,90308646.592827976,44889302.395242654,141245605.5191111,44892009.121745177,646136787.41255713,2706.7265025228262,504891181.89344603,186532.02731153596,44892013.767811388,646013978.22991705,2711.3725687339902,504768372.71080595,186167.10168551101,44892089.974922962,643998741.4278475,2787.5796803086996,502753135.90873641,180354.71396931011,44892094.620989166,643875932.24520743,2792.225746512413,502630326.72609633,180010.63393742396,44891985.878737427,646732584.82889283,2683.4834947735071,504729897.21632558,188087.57281323473,44892013.767811388,645975502.73543668,2711.3725687339902,504729897.21632558,186152.91127327329,44892066.731915213,644594538.84418309,2764.3366725593805,503348933.32507199,182086.69671883449,44892094.620989166,643837456.75072694,2792.225746512413,502591851.23161584,179996.85443033054,null,null,null,71822354879491.375,71822742586782.734,71826568458004.875,71826576014519.984,71826699961135.312,71826707517650.422,71826530673395.062,71826576052995.484,71826662176525.5,71826707556125.922,0,0,0,0,0,0,0,0,0,1,null,0,0,0,0,0,0,0,0,1]
[null,436,1537425.6492341668,0.21691662585990756,0.21588250706954804,0.22789470912904175,0.53556747586937559,0.28283533510510384,0.3432401519218114,4.3972503848206279E-2,0.53425696198693107,341.93341928684526,1070.9013124916708,10168.611641932044,13642.248561160324,378.54170173179074,1287.4203087602548,14803.688787549661,0.4115971818051094,1470.0707742349925,999.81562197050403,0.82617018950677623,null,43520771.293339171,2002747.0003992841,43521046.268039085,50546200.223210871,43523752.861778438,526149066.60489446,2706.5937393531203,475602866.38168359,175720.07925184714,43523754.269471206,526148201.31371236,2708.0014321208,475602001.09050149,175628.41564600973,43523761.490056239,526148100.91756928,2715.2220171540976,475601900.69435841,175161.33034043768,43523762.897749007,526147235.62638718,2716.6297099217772,475601035.40317631,175070.2473974161,43523747.153960586,526102601.28076118,2700.8859215006232,475552021.6074217,176072.6055927616,43523754.269471206,526098221.83063257,2708.0014321208,475552021.6074217,175609.95942125042,43523755.782238394,526101635.593436,2709.514199309051,475555435.37022513,175513.17335465367,43523762.897749007,526097256.14330739,2716.6297099217772,475551055.92009652,175051.84979140552,null,null,null,69633232066595.672,69633623482662.312,69637478429778.898,69637480682952.617,69637492235989.07,69637494489162.789,69637469343735.656,69637480732932.102,69637483149945.836,69637494539142.273,0,0,0,0,0,0,0,0,0,1,null,0,0,0,0,0,0,0,0,1]
[null,437,1648017.9781435579,0.20843846838850499,0.22843929309060207,0.19085489000984471,0.48491681387177721,0.27148570300478125,0.37308225712906296,4.09297350929273E-2,0.60513578349525265,114.16334605969342,1086.5301208197905,729.58309713904669,438504.01700574515,12.375852623396264,4203.2328718053313,3619.767048531261,2891.1598334821028,2236.4483455241016,33.769721427985637,0.96966616832206975,null,46651758.046842143,64442203.982945815,46652019.367248692,76348435.617303833,46654594.609217808,193345449.62186885,2575.2419691160321,116997014.00456502,45431.46446340534,46654596.30395183,193324210.12980276,2576.9367031380534,116975774.51249893,45393.344108938414,46654608.724351518,193072314.49773616,2589.3571028262377,116723878.88043232,45078.324172834356,46654610.41908554,193051075.0056701,2591.051836848259,116702639.38836627,45040.642463688688,46654588.139027834,193462454.00376636,2568.7717791423202,116958249.02585001,45530.805802024523,46654596.30395183,193306684.64315385,2576.9367031380534,116958249.02585001,45386.543209782612,46654602.254161552,193189318.87963372,2582.8869128599763,116840883.26232989,45236.546238470211,46654610.41908554,193033549.51902121,2591.051836848259,116685113.90171738,45033.87861342539,null,null,null,74642748432743.438,74643154639162.281,74647158029298.875,74647160762112.797,74647180886647.922,74647183619461.859,74647147559990.531,74647160779638.281,74647170417339.609,74647183636987.344,0,0,0,0,0,0,0,0,0,1,null,0,0,0,0,0,0,0,0,1]
[null,438,2290740.9484750577,0.18000114745075055,0.18459254043509943,0.18794588946734059,0.56873841862464491,0.24045453646895196,0.33188755060171637,4.2844032131679644E-2,0.54711036001977331,1354.5082063031346,6402.0545566276542,8371.8357779317994,479501.62729629671,119.40291568870636,973.8491726125709,45326.273169082357,17216.357244961619,5513.2287559206407,852.98047896831861,0.78563561302480711,null,64846846.422135994,70258600.732125938,64847128.389705919,347993677.81825787,64849914.474187359,3084646684.9841866,2786.0844814404845,2736653007.1659288,982257.72599365038,64849915.113452815,3084658023.2205601,2786.7237468957901,2736664345.4023023,982036.46789558872,64849917.766147211,3084577817.8854327,2789.3764412924647,2736584140.0671749,981073.7982712622,64849918.405412674,3084589156.1218061,2790.0157067552209,2736595478.3035483,980853.07250338024,64849912.244711109,3084628500.6026969,2783.8550051897764,2736598563.6690717,983024.81938441214,64849915.113452815,3084592241.4873295,2786.7237468957901,2736598563.6690717,982012.86249397544,64849915.536670968,3084559633.503943,2787.1469650492072,2736565955.6856852,981852.04799107928,64849918.405412674,3084523374.3885751,2790.0157067552209,2736529696.5703173,980829.49495395215,null,null,null,103754884016816.86,103755057429851.66,103756778512014.8,103756779523501.28,103756783848017.64,103756784859504.16,103756774963037.17,103756779589283.02,103756780299040.05,103756784925285.89,0,0,0,0,0,0,0,0,0,1,null,0,0,0,0,0,0,0,0,1]
[null,439,1463278.9670847673,0.17532918270558551,0.12545461125993673,0.20947269314853856,0.53130732098906108,0.2883543166838588,0.45333308697056762,3.4857984985983331E-2,0.49906192605014049,1019.9171324523788,9541.1683499864357,1877.8946962614066,186787.35412749532,14.238211017872281,1351.5191793016975,33887.615698567497,8596.9781266791706,2701.6463351831917,74.876985999953106,0.5064103773419979,null,41421360.780110441,27362943.206680339,41421672.101094648,162057798.37723368,41424757.523572296,1484424374.0589149,3085.4224776476622,1322366575.6816812,428585.25380610389,41424757.569877565,1484424861.6778948,3085.4687829166651,1322367063.3006611,428578.9798367818,41424757.673705786,1484423363.3362417,3085.5726111382246,1322365564.959008,428564.0727382545,41424757.720011063,1484423850.9552219,3085.6189164146781,1322366052.5779881,428557.79939102323,41424757.401460022,1484421992.0975187,3085.3003653734922,1322363751.8405833,428601.30141024507,41424757.569877565,1484421550.2178171,3085.4687829166651,1322363751.8405833,428577.9065930348,41424757.551593512,1484420981.374846,3085.4504988640547,1322363182.9976122,428580.26193726197,41424757.720011063,1484420539.4951441,3085.6189164146781,1322362741.1179104,428556.7261994959,null,null,null,66274149885233.5,66274513303953.062,66278127613341.609,66278127686942.422,66278127854565.922,66278127928166.75,66278127420343.938,66278127690253.883,66278127661568.242,66278127931478.211,0,0,0,0,0,0,0,0,0,1,null,0,0,0,0,0,0,0,0,1]
[null,440,1790305.9914154056,0.20996455050547935,0.22256398261534716,0.17471855614051651,0.58952594624052979,0.25435315439091272,0.40555107814260649,3.4377027717355235E-2,0.63570754532712503,991.53705999469469,391.38294288693595,297.04501946576215,747531.40310002782,58.869932332945467,9.5965211637163534,11249.403559334562,19543.058382209259,1415.7858989388239,358.15635601731287,0.68447411158766669,null,50679584.338203549,109515424.42018278,50679873.064207278,261657192.49486044,50682721.153478362,1766507140.9348738,2848.0892710834742,1504849948.4400134,528371.76268268318,50682721.193429925,1766507032.8843708,2848.1292226463556,1504849840.3895104,528364.31311612704,50682721.351533309,1766500763.5901718,2848.2873260304332,1504843571.0953114,528332.78347397759,50682721.391484872,1766500655.5396688,2848.3272775933146,1504843463.0448084,528325.33497215295,50682721.050478436,1766509779.4497402,2847.9862711578608,1504849162.0187759,528390.59557930147,50682721.193429925,1766506354.5136364,2848.1292226463556,1504849162.0187759,528364.07493496267,50682721.24853339,1766503402.1050379,2848.1843261122704,1504846209.6101775,528352.81614805828,50682721.391484872,1766499977.1689341,2848.3272775933146,1504842784.6740737,528325.09680755017,null,null,null,81087225425701.25,81087535245539.141,81090587338424.438,81090587402454.984,81090587661689.703,81090587725720.25,81090587170986.047,81090587403133.359,81090587494251.312,81090587726398.625,0,0,0,0,0,0,0,0,0,1,null,0,0,0,0,0,0,0,0,1]
[null,441,1592980.3798847878,0.14406053854757941,0.20431946424710434,0.18755494170035453,0.51923566774214147,0.26848634897465679,0.27217186606076593,4.3508362204938256E-2,0.54762514093083459,17.714994070602213,925.51165883733393,690.94757072844732,304367.69529320573,60.055035271904714,12153.864663539567,2890.9192427179241,70.361529302530172,420.83254855867307,1683.8722363805259,0.92022724558632474,null,45093617.203922845,44589092.409014657,45093887.682859644,43558409.281746469,45096562.684270322,32294772.059849776,2675.0014106780291,-11263637.221896693,-4210.7032829719947,45096562.709095836,32294428.203962617,2675.0262361913919,-11263981.077783853,-4210.7927486427616,45096562.966799572,32292194.748783957,2675.2839399278164,-11266214.532962512,-4211.2219808961636,45096562.991625085,32291850.892896805,2675.3087654411793,-11266558.388849664,-4211.3114323055424,45096562.546800077,32296381.807627972,2674.8639404326677,-11264321.266098235,-4211.1754156273819,45096562.709095836,32294088.015648235,2675.0262361913919,-11264321.266098235,-4210.9199205971072,45096562.829329327,32293804.496562153,2675.1464696824551,-11264604.785184316,-4210.8366449637597,45096562.991625085,32291510.704582419,2675.3087654411793,-11266898.57716405,-4211.43859082974,null,null,null,72149742937184.141,72150176734166.156,72154468000060.453,72154468040125.141,72154468454684.562,72154468494749.25,72154467778498.312,72154468040465.328,72154468233122.422,72154468495089.438,0,0,0,0,0,0,0,0,0,1,null,0,0,0,0,0,0,0,0,1]
[null,442,1755897.5812788985,0.14243491371242645,0.14209219703412851,0.19991137272492487,0.54585633204358897,0.31080125065520248,0.30461760195014281,3.9548823829057667E-2,0.57994160338313516,1045.3680561589083,35.807314922705373,4367.4153266099956,437500.22683981154,39.202012239968191,557.20450148533916,14336.077989338251,22779.958844908997,2720.2897992849921,493.58642736933598,0.67052265761223651,null,49705482.594833709,64011172.144560605,49705778.346886285,225675563.04043731,49708710.305743463,1823306254.6812155,2931.958857178688,1597630691.6407783,544902.15226898412,49708710.970476195,1823357459.4655826,2932.6235899105668,1597681896.4251454,544796.10063897364,49708715.676809117,1823207034.7029579,2937.3299228325486,1597531471.6625206,543871.99042386655,49708716.341541849,1823258239.487325,2937.9946555644274,1597582676.4468877,543766.36574921582,49708706.781836219,1823332300.0333247,2928.4349499344826,1597641822.5504353,545561.6566064338,49708710.970476195,1823317385.5908725,2932.6235899105668,1597641822.5504353,544782.43578445644,49708712.152901866,1823233080.0550668,2933.8060155808926,1597557517.0146296,544534.13365788397,49708716.341541849,1823218165.6126149,2937.9946555644274,1597542602.5721776,543752.72587596613,null,null,null,79528708140561.797,79529019679455.016,79532113182934.859,79532114195302.438,79532121875859.891,79532122888227.469,79532107518637.922,79532114235376.312,79532116211562.922,79532122928301.344,0,0,0,0,0,0,0,0,0,1,null,0,0,0,0,0,0,0,0,1]
[null,443,1466100.7824974596,0.17881716571773548,0.15054282693043941,0.19856950758642,0.4901252209578974,0.34013485945801691,0.45811559758216969,5.5787784937667118E-2,0.5626398339194052,719.29322585194336,696.08458732120232,616.0894087249925,215734.62043645757,115.42970105702827,2424.0161744078405,18978.130518941744,23199.551017309881,1068.3055244386051,1844.0585160281521,0.84555166640304891,null,41501615.276105091,31604538.580917336,41501893.125583418,125336476.02922794,41504640.892273039,1047439569.71597,2747.7666896209121,922103093.68674207,335582.74695220118,41504640.892328016,1047439573.8932278,2747.7667445987463,922103097.86399984,335582.74175803585,41504640.892652079,1047439566.4941101,2747.7670686617494,922103090.46488214,335582.69948768837,41504640.892707065,1047439570.6713678,2747.7671236470342,922103094.64213979,335582.69429261464,41504640.892060503,1047439567.9408062,2747.76647708565,922103094.006037,335582.77302518178,41504640.892328016,1047439570.035265,2747.7667445987463,922103094.006037,335582.74035400001,41504640.892439552,1047439564.7189462,2747.7668561339378,922103088.68971825,335582.72479751136,41504640.892707065,1047439566.8134049,2747.7671236470342,922103090.78417695,335582.6928885791,null,null,null,66402552837229.57,66402903664457.438,66406377988067.141,66406377988150.938,66406377988676.836,66406377988760.633,66406377987728.867,66406377988154.789,66406377988338.562,66406377988764.492,0,0,0,0,0,0,0,0,0,1,null,0,0,0,0,0,0,0,0,1]
[null,444,1860460.4938703007,0.19873661499804218,0.16510088526223032,0.15716590959073209,0.39556403528697259,0.30802682005178472,0.50210661380486976,4.9908370772110966E-2,0.61604552648320321,390.30958152146786,1055.037794919087,3728.3696234744075,450983.40962982137,267.18040014092492,1790.4053413594611,58800.169375278922,7889.7632874767451,6409.6229445736772,961.76869611084396,0.83509206965362248,null,52665799.845399231,66072900.707569733,52666077.163886666,128839461.65751235,52668819.042756878,728179094.89444566,2741.8788702115417,599339633.23693335,218587.20301188692,52668819.164514691,728181587.41974759,2742.0006280243397,599342125.76223528,218578.40572198262,52668820.460483499,728151282.97421098,2743.2965968325734,599311821.31669867,218464.09972901497,52668820.582241304,728153775.49951303,2743.4183546379209,599314313.84200072,218455.31244945645,52668818.49717325,728153132.12010503,2741.3332865834236,599305025.39858687,218618.08205944643,52668819.164514691,728144487.05609918,2742.0006280243397,599305025.39858687,218564.875322584,52668819.914899871,728125320.19987023,2742.7510132044554,599285858.54235792,218498.09029591444,52668820.582241304,728116675.13586438,2743.4183546379209,599277213.47835207,218441.78904221309,null,null,null,84265213679738.062,84265594622757.016,84269382289316.109,84269382481636.078,84269384585490.625,84269384777810.594,84269381442345.078,84269382518736.438,84269383738519.594,84269384814910.953,0,0,0,0,0,0,0,0,0,1,null,0,0,0,0,0,0,0,0,1]
[null,445,1666547.0396826025,0.24481662428284112,0.13109838008967842,0.1987359302116303,0.54057818638133781,0.30454005813841323,0.50023447909729934,3.1622972770941969E-2,0.58456220437636319,99.908356970845361,2277.0623063965609,5328.9602166096674,50667.044055487269,23.734398877997712,6717.0717757399743,36121.215934250526,20.216297548860485,6329.7318380927127,812.64939240715466,0.93868932964878304,null,47176239.861056022,7531649.8301334661,47176491.800330579,23884035.952189524,47178982.853992827,174277966.07057071,2491.0536622479558,150393930.11838117,60373.621169872327,47179026.229575336,174176308.72677127,2534.4292447566986,150292272.77458173,59300.244063041326,47179097.848391779,174477438.37689468,2606.0480611994863,150593402.42470515,57786.118631822734,47179141.22397428,174375781.03309524,2649.4236437007785,150491745.08090571,56801.691733487824,47178883.607688688,171971588.08096325,2391.8073581084609,147750040.27461249,61773.386461800692,47179026.229575336,171634076.22680202,2534.4292447566986,147750040.27461249,58297.165162642472,47178998.602087639,172171060.38728726,2506.8017570599914,148287024.43509772,59153.869673767345,47179141.22397428,171833548.533126,2649.4236437007785,147949512.58093646,55842.150021080444,null,null,null,75481976246039.812,75482362996492.969,75486198288422.453,75486267791011.797,75486382079988.469,75486451582577.812,75486041800713.828,75486270333244.297,75486225592279.828,75486454124810.312,0,0,0,0,0,0,0,0,0,1,null,0,0,0,0,0,0,0,0,1]
[null,446,1385793.8902975668,0.19360046301477607,0.19961143793687808,0.20005084072244533,0.54579575704814043,0.23832281601102487,0.37270591490691496,4.5215292355166414E-2,0.63226453810586569,129.15916813451517,482.95382682001946,91.880438130957927,917542.60611579695,205.64414432768723,36.478999215720684,19177.505581929527,226.81110480620319,4554.2455227895598,994.32092111803888,0.62124783774067027,null,39227878.775836371,135564960.67565906,39228168.579871871,141493898.56239218,39231028.659172952,193711924.09972382,2860.0793010815978,52218025.537331641,18257.544648354444,39231042.076250143,193197924.41291285,2873.4963782727718,51704025.85052067,17993.419529416427,39231104.983430266,190755976.65750495,2936.403558395803,49262078.095112771,16776.331016989134,39231118.400507458,190241976.97069398,2949.820635586977,48748078.4083018,16525.777133768526,39230988.573786125,194775189.35846886,2819.9939142540097,51214342.689809859,18161.153621977905,39231042.076250143,192708241.25220203,2873.4963782727718,51214342.689809859,17823.005825604785,39231064.898043439,191819241.91625002,2896.3181715682149,50325343.353857845,17375.626700090455,39231118.400507458,189752293.80998316,2949.820635586977,48258395.247590989,16359.772748687203,null,null,null,62764470476377.523,62764928233896.43,62769452142752.625,62769474124075.812,62769577217511.773,62769599198834.961,62769386942868.438,62769474613758.977,62769512017627.586,62769599688518.117,0,0,0,0,0,0,0,0,0,1,null,0,0,0,0,0,0,0,0,1]
[null,447,2340625.3144686944,0.18224209226852944,0.15988640253192654,0.2289739014988933,0.51622001367292591,0.29102941598977361,0.39302235683317421,3.7544432869447135E-2,0.57454249322287065,938.70107413659787,955.9970938621758,28.497776769008379,624517.5434686474,109.00159594451202,2948.0750850832633,40610.706352390043,9747.862166845478,843.75167745102601,268.69511904436354,0.35030589255367284,null,66258587.010628954,91380206.176341131,66258900.684844673,284524031.07442403,66262003.063916199,2185397365.1643233,3102.3790715262294,1900873334.0898993,612714.723205877,66262016.7305087,2185386644.6071696,3116.0456640273333,1900862613.5327456,610023.99145716487,66262080.899417847,2183603232.3831162,3180.214573174715,1899079201.3086922,597154.42389564833,66262094.566010348,2183592511.8259625,3193.8811656758189,1899068480.7515385,594595.84819891048,66261954.680083387,2185234205.0404429,3053.9952387139201,1899523775.3157313,621979.93999350409,66262016.7305087,2184047806.3901553,3116.0456640273333,1899523775.3157313,609594.33208712726,66262032.51558502,2183440072.2592359,3131.8307403475046,1898916041.1848118,606327.79949471669,66262094.566010348,2182253673.6089487,3193.8811656758189,1897729642.5345247,594176.65971080947,null,null,null,106013647836800.16,106013956571720.39,106017019504900.75,106017041382169.31,106017145835836.17,106017167713104.73,106016942253928.38,106017042721007.53,106017068584863.77,106017169051942.95,0,0,0,0,0,0,0,0,0,1,null,0,0,0,0,0,0,0,0,1]
[null,448,1485316.5566434439,0.20589923844464508,0.15110450323159272,0.21494307238909238,0.45896755505929321,0.26069598612685102,0.42158641481707393,4.4596846625622355E-2,0.48625011883557878,150.12858105305264,8873.6394018280334,1309.4748699920278,936122.99853685673,60.267708492778802,2404.7487340832595,39782.077666419827,84.239326674031318,880.7879621544563,467.85429139028679,0.97185973467285891,null,42045745.096201479,137153821.53618002,42046009.730806008,147499201.50923955,42048623.782403,234826894.59857592,2614.0515969917178,87327693.089336365,33407.027309573437,42048624.312312283,234803478.07936338,2614.5815062746406,87304276.570123821,33391.300428235038,42048626.044633567,234729915.38692859,2616.3138275593519,87230713.877689034,33341.074361504587,42048626.574542858,234706498.86771604,2616.8437368497252,87207297.35847649,33325.374431207179,42048622.099438518,234843531.63811466,2612.3686325103045,87246153.067798167,33397.336035213637,42048624.312312283,234745354.57703772,2614.5815062746406,87246153.067798167,33369.069909818929,42048624.361669086,234746552.42646733,2614.6308630779386,87247350.917227775,33368.898129856985,42048626.574542858,234648375.36539042,2616.8437368497252,87149173.856150866,33303.163130812303,null,null,null,67273055000100.828,67273468070088.102,67277563224950.195,67277564096221.57,67277566941498.32,67277567812769.703,67277560515569.992,67277564154345.07,67277564232118.109,67277567870893.203,0,0,0,0,0,0,0,0,0,1,null,0,0,0,0,0,0,0,0,1]
[null,449,1358989.0850703395,0.24842253119618429,0.19094724755386516,0.19014470122736429,0.54374630618536934,0.2810930214279761,0.29477325519639608,4.4947575759261116E-2,0.5420010831496318,785.78507282181101,1095.4938421295999,133.24717112941696,193745.81070401016,39.129657001200826,10382.985563291555,32473.002456246089,30.609967305334866,2251.7328923822515,1547.1970994077142,0.8019001878887565,null,38469269.847391613,28385056.398110505,38469547.316770621,124155694.64738993,38472277.076252826,1061238907.3994823,2729.7594822049141,937083212.75209236,343284.16802317702,38472277.117375232,1061238553.6738261,2729.8006046116352,937082859.02643621,343278.86712434574,38472277.297526717,1061237982.0363667,2729.9807560965419,937082287.38897681,343256.00475252519,38472277.338649124,1061237628.3107107,2730.021878503263,937081933.66332078,343250.70470756694,38472276.872580186,1061237565.8849111,2729.5558095648885,937079751.05562806,343308.5148037349,38472277.117375232,1061235445.703018,2729.8006046116352,937079751.05562806,343277.72859034332,38472277.093854077,1061236640.5217957,2729.7770834565163,937080945.87440586,343281.12414507085,38472277.338649124,1061234520.3399025,2730.021878503263,937078825.69251263,343249.56626584509,null,null,null,{"$f":"cRatio*X456-Y456","v":61550803370770.18},{"$f":"cRatio*Z456-AA456","v":61551151551138.344},{"$f":"cRatio*AB456-AC456","v":61554582083097.125},{"$f":"cRatio*AG456-AH456","v":61554582149246.703},{"$f":"cRatio*AL456-AM456","v":61554582438060.711},{"$f":"cRatio*AQ456-AR456","v":61554582504210.289},{"$f":"cRatio*AV456-AW456","v":61554581758562.414},{"$f":"cRatio*BA456-BB456","v":61554582152354.672},{"$f":"cRatio*BF456-BG456","v":61554582113526},{"$f":"cRatio*BK456-BL456","v":61554582507318.258},0,0,0,0,0,0,0,0,0,1,null,0,0,0,0,0,0,0,0,1]
[null,450,1807253.3202898577,0.1827744004282883,0.14871595681021141,0.19772455408860362,0.55059722244665354,0.28096581095640805,0.44263325035998002,4.0968768327209637E-2,0.51391947131143401,703.39018407639776,1263.1938456083949,2223.3744339524837,259846.30974873045,178.78738033689095,1013.6401004687247,6993.7079789360087,3.1798916868063722,697.14399084110948,60.68467625910155,0.71891256185744856,null,51159429.54082156,37680845.77037295,51159693.747828186,150356937.15620339,51162309.292212889,1265690562.1593897,2615.5443847030401,1115333625.0031862,426425.04234536912,51162353.962478824,1265185226.9366581,2660.2146506384015,1114828289.7804546,419074.56208953547,51162465.80192484,1264009461.4570973,2772.0540966540575,1113652524.3008938,401742.70972745511,51162510.472190775,1263504126.2343655,2816.7243625894189,1113147189.0781622,395192.09045177721,51162194.429494306,1266366827.37131,2500.6816661208868,1114204433.814374,445560.28418553277,51162353.962478824,1264561370.9705775,2660.2146506384015,1114204433.814374,418840.04869568924,51162350.939206257,1264685726.6690176,2657.1913780719042,1114328789.512814,419363.39200429997,51162510.472190775,1262880270.2682848,2816.7243625894189,1112523333.1120815,394970.60766334168,null,null,null,81855049584468.734,81855359639587.938,81858429176978.469,81858501154739.188,81858681273618.297,81858753251379,81858244720363.516,81858501778595.156,81858496817003.344,81858753875234.969,{"$f":"IF(BS457=MAX($BS457:$CB457),1,0)","v":0},{"$f":"IF(BT457=MAX($BS457:$CB457),1,0)","v":0},{"$f":"IF(BU457=MAX($BS457:$CB457),1,0)","v":0},{"$f":"IF(BV457=MAX($BS457:$CB457),1,0)","v":0},{"$f":"IF(BW457=MAX($BS457:$CB457),1,0)","v":0},{"$f":"IF(BX457=MAX($BS457:$CB457),1,0)","v":0},{"$f":"IF(BY457=MAX($BS457:$CB457),1,0)","v":0},{"$f":"IF(BZ457=MAX($BS457:$CB457),1,0)","v":0},{"$f":"IF(CA457=MAX($BS457:$CB457),1,0)","v":0},{"$f":"IF(CB457=MAX($BS457:$CB457),1,0)","v":1},null,{"$f":"IF(BT457=MAX($BT457:$CB457),1,0)","v":0},{"$f":"IF(BU457=MAX($BT457:$CB457),1,0)","v":0},{"$f":"IF(BV457=MAX($BT457:$CB457),1,0)","v":0},{"$f":"IF(BW457=MAX($BT457:$CB457),1,0)","v":0},{"$f":"IF(BX457=MAX($BT457:$CB457),1,0)","v":0},{"$f":"IF(BY457=MAX($BT457:$CB457),1,0)","v":0},{"$f":"IF(BZ457=MAX($BT457:$CB457),1,0)","v":0},{"$f":"IF(CA457=MAX($BT457:$CB457),1,0)","v":0},{"$f":"IF(CB457=MAX($BT457:$CB457),1,0)","v":1}]
[null,451,1509503.0847279192,0.31004822715206803,0.1184528955369967,0.19369102273558733,0.60689372848567391,0.313932199131433,0.33097901505562644,3.577983558819834E-2,0.5776309601837204,171.63862308229579,1893.4450931414781,9743.9880409448069,1759399.6281129941,292.63925159656077,369.13396775412366,19264.863837935154,4362.6402152515948,73.884864209287912,120.32120652310375,0.56239769564453068,null,42730003.815182284,258314555.61043054,42730303.50562086,261089308.28171864,42733253.76274953,282625597.95935124,2950.2571286708117,21536289.6776326,7299.8009117040619,42733256.465901375,282444699.86983526,2952.9602805152535,21355391.588116616,7231.8587313983026,42733259.914890528,282178255.45528948,2956.4092696681619,21088947.173570842,7133.297608669026,42733262.618042372,281997357.3657735,2959.1124215126038,20908049.084054857,7065.648784430884,42733242.443652622,283379369.37677807,2938.9380317628384,21283582.532011122,7241.9296705091701,42733256.465901375,282372890.81372976,2952.9602805152535,21283582.532011122,7207.5410808767838,42733248.595793612,282932026.87271631,2945.090172752738,21842718.590997666,7416.6552837944373,42733262.618042372,281925548.30966806,2959.1124215126038,20836240.027949423,7041.3816915068746,null,null,null,68367747789736.047,68368224519685.094,68372923394801.289,68372927900742.336,68372933685569.391,68372938191510.43,68372904530474.82,68372927972551.391,68372914821242.906,68372938263319.484,0,0,0,0,0,0,0,0,0,1,null,0,0,0,0,0,0,0,0,1]
[null,452,2155441.1936764107,0.18017936118830716,0.27144364156843448,0.20685013691541221,0.55041851141321185,0.21362996198410489,0.377525468944647,4.9549147964771834E-2,0.4796365581058768,67.289272937598128,5350.2246168959273,6725.0986491157364,1034711.7522029,268.43540391723241,139.95302125855667,9600.821362941193,3516.1119110800582,3472.0170353165577,2327.1049820137573,0.88421565655466627,null,61016618.501842722,153660749.86260337,61016885.751553662,155105995.06158784,61019517.521248557,166687882.32228842,2631.7696948945522,11581887.260700583,4400.7981713478302,61019526.52091527,166322846.01796651,2640.7693616077304,11216850.956378669,4247.5693331846751,61019568.667023249,164254571.34139615,2682.9154695868492,9148576.2798083127,3409.9383240043458,61019577.666689962,163889535.03707421,2691.9151363000274,8783539.9754863679,3262.9334621444018,61019493.269811891,167669269.84256747,2607.518258228898,11043252.406667471,4235.1582282566133,61019526.52091527,166149247.46825531,2640.7693616077304,11043252.406667471,4181.8314644275533,61019544.415586591,165235958.8616752,2658.6640329286456,10129963.800087363,3810.1707002553171,61019577.666689962,163715936.48736304,2691.9151363000274,8609941.4257752001,3198.4445979264256,null,null,null,97626435942198.5,97626862096490.797,97631061346115.359,97631076110618.422,97631145612665.859,97631160377168.906,97631021562429.188,97631076284216.969,97631105828979.688,97631160550767.453,0,0,0,0,0,0,0,0,0,1,null,0,0,0,0,0,0,0,0,1]
[null,453,1915346.8490181775,0.11996583286525066,8.5518316489395951E-2,0.19072886315612045,0.62430325082299731,0.23918373270572282,0.33241658579916589,4.9454775888988056E-2,0.49946871314358798,418.17055729180436,1897.6865993116016,325.51010861515226,67403.987758098054,237.1699676426212,16264.449536994485,458.03120721769773,18436.206535423178,2237.4267346811062,2240.8708164762488,0.82236934967545161,null,54219621.222190604,9813750.3960120473,54219904.30667378,81845919.398033366,54222718.228044704,796005478.9304359,2813.9213709235191,714159559.53240252,253795.13689041632,54222720.266926736,796109600.77862465,2815.9602529555559,714263681.38059127,253648.35339238876,54222723.89857588,796085572.53601027,2819.5919020995498,714239653.13797688,253313.13109749442,54222725.937457904,796189694.38419902,2821.630784124136,714343774.98616564,253166.99087825749,54222711.590384468,796022903.84694946,2807.2837106883526,714260940.67493844,254431.33444456884,54222720.266926736,796106860.07297182,2815.9602529555559,714260940.67493844,253647.38011670066,54222717.260915637,796102997.45252383,2812.9542418569326,714257078.05449045,253917.06250542618,54222725.937457904,796186953.67854607,2821.630784124136,714341034.28051269,253166.01955852692,null,null,null,86751384141754.578,86751765044758.656,86755553159392.594,86755556317482,86755562152148.875,86755565310238.25,86755542521711.312,86755556320222.703,86755551514467.562,86755565312978.969,0,0,0,0,0,0,0,0,0,1,null,0,0,0,0,0,0,0,0,1]
[null,454,2029303.215680493,0.1792314314839282,0.17196652821507818,0.23385195890439203,0.47250259342140355,0.22307294638295821,0.34146729539323195,3.9436736927576765E-2,0.61100911572363348,200.12968727881153,1326.0817523017461,6362.2516270283222,499285.12966513028,27.494339851291986,5655.5489914701702,4008.7982775366877,66126.484409665762,1161.0744145078199,1212.4340628411057,0.9414733129901921,null,57445799.124492116,73143933.426177025,57446067.334058285,104194890.54758406,57448717.659913011,410767049.22392815,2650.3258547261357,306572158.6763441,115673.38338025718,57448717.66142609,410767321.4740141,2650.3273678049445,306572430.92643005,115673.4200652124,57448717.670327611,410766831.4137041,2650.336269326508,306571940.86612004,115672.84665504908,57448717.67184069,410767103.66379011,2650.3377824053168,306572213.11620605,115672.88334016659,57448717.654385284,410767160.14432108,2650.3203269988298,306572412.27157378,115673.72032298085,57448717.66142609,410767302.81915784,2650.3273678049445,306572412.27157378,115673.41302651353,57448717.664799877,410766942.33409709,2650.3307415917516,306572051.78651303,115673.12976281223,57448717.67184069,410767085.00893384,2650.3377824053168,306572194.46134979,115672.87630149537,null,null,null,91913205455253.969,91913603539602.703,91917537488811.594,91917537490960.281,91917537505692.766,91917537507841.453,91917537479856.312,91917537490978.938,91917537496737.469,91917537507860.094,0,0,0,0,0,0,0,0,0,1,null,0,0,0,0,0,0,0,0,1]
[null,455,1704330.8876308398,0.19856555649609609,0.14916670789754152,0.18697130904901452,0.61420404076490165,0.28760212214493419,0.29233392962034771,4.0871455359813513E-2,0.53037877783628185,285.33086121955336,909.68245374408025,1929.1930204180792,392381.94654586376,586.36440110821468,6705.6230041025992,4198.4694749731652,59478.545237197781,4920.7135014277992,553.74534874553683,0.97091887997839788,null,48245969.176310077,57488146.000574872,48246230.113159589,97197971.77538316,48248809.335659042,489592226.56820369,2579.2224994525313,392394254.79282051,152136.64384368178,48248817.973242216,490716947.07582819,2587.8600826263428,393518975.30044502,152063.46662338646,48248845.380939752,489066223.02190453,2615.267780162394,391868251.24652135,149838.67205452608,48248854.018522926,490190943.52952915,2623.9053633362055,392992971.75414598,149774.06473778799,48248770.013683498,490233407.59597689,2539.9005239084363,393428234.71083045,154899.07223036329,48248817.973242216,490626206.48621362,2587.8600826263428,393428234.71083045,152028.4026760642,48248806.0589642,489707404.04967773,2575.9458046108484,392509432.27429456,152374.87977104064,48248854.018522926,490100202.93991446,2623.9053633362055,392902231.16453129,149739.48247316724,null,null,null,77193493193950.125,77193870983083.562,77197605344827.906,77197618040240.469,77197663543280.594,77197676238693.156,77197541788486,77197618130981.062,77197599986938.672,77197676329433.75,0,0,0,0,0,0,0,0,0,1,null,0,0,0,0,0,0,0,0,1]
[null,456,1734171.174426215,0.14196833375138501,0.13798596061307616,0.20010401183919338,0.5737742583553529,0.26532423387512871,0.44353455762723615,3.5778247757121261E-2,0.53699794493429587,82.240790949837816,3192.7633125827574,3788.2991234683027,339735.03158630454,77.586348022563641,8819.3072012954199,3046.7098274287191,733.69289088537994,1911.2537746114492,1003.6867853221122,0.6840914368588189,null,49090426.063117459,49761812.561369188,49090721.532664321,58849359.650328144,49093653.137775429,147744296.35602406,2931.6051111072302,88894936.705695912,30322.957334496328,49093653.2947914,147742254.13210669,2931.7621270790696,88892894.481778547,30320.636746318509,49093653.736804061,147738601.45000991,2932.204139739275,88889241.799681768,30314.820375223124,49093653.893820025,147736559.22609255,2932.3611557036638,88887199.575764403,30312.500696877698,49093652.77132874,147748597.87178057,2931.2386644184589,88891833.563351557,30325.689491745015,49093653.2947914,147741193.2136797,2931.7621270790696,88891833.563351557,30320.274875750227,49093653.370357379,147742902.96576643,2931.8376930579543,88893543.315438285,30320.076560145753,49093653.893820025,147735498.30766556,2932.3611557036638,88886138.657337412,30312.138900233065,null,null,null,78544631939175.375,78545095602903.266,78549697276144.328,78549697529412.109,78549698240285.047,78549698493552.828,78549696685528.109,78549697530473.016,78549697649668.844,78549698494613.734,0,0,0,0,0,0,0,0,0,1,null,0,0,0,0,0,0,0,0,1]
[null,457,1794381.8116201609,0.26310718303607927,0.22207008504158621,0.17417241342951614,0.45038822855659377,0.25441220819727806,0.46484292955327833,4.4215314792941274E-2,0.59225918410865153,345.1953755829889,39.492793425014483,2021.6930316013074,170877.41629644018,91.851825282696609,2657.4364078166313,10174.21118208844,24075.385903227667,802.62686817462236,1530.3513190826973,0.91171149866465306,null,50795217.435704961,25033491.887876835,50795482.623143546,79620528.787582055,50798090.746832609,617107001.13907373,2608.1236890628934,537486472.35149169,206081.66499366146,50798090.755302422,617107329.19838536,2608.1321588754654,537486800.41080332,206081.12153432771,50798090.793309122,617106675.75318801,2608.1701655760407,537486146.96560597,206077.86794727665,50798090.801778935,617107003.81249964,2608.1786353886127,537486475.0249176,206077.32450995763,50798090.724423088,617107012.01223373,2608.1012795418501,537486633.35401309,206083.49743550995,50798090.755302422,617107162.14159513,2608.1321588754654,537486633.35401309,206081.0574820558,50798090.770899601,617106686.62634802,2608.1477560549974,537486157.83876598,206079.64276216878,50798090.801778935,617106836.75570953,2608.1786353886127,537486307.96812749,206077.26045882714,null,null,null,81272322863636.047,81272692576500.891,81276328087931.031,81276328101154.672,81276328162618.844,81276328175842.484,81276328052064.922,81276328101321.734,81276328126752.734,81276328176009.547,0,0,0,0,0,0,0,0,0,1,null,0,0,0,0,0,0,0,0,1]
[null,458,2035425.8939564012,0.29330102143970016,0.15901845139263049,0.20029061807380033,0.43850867071690236,0.28976440695274897,0.3264622701678615,3.3005668276300554E-2,0.45708152767780991,436.42934161797717,2005.1846653406803,1115.6753522023951,1976655.1477518077,31.792641218722348,3329.2729753965991,10218.367656499122,5300.7270761345126,1689.0208337667189,1913.3372444535705,0.95744753608629996,null,57619147.542780757,289579649.30380023,57619410.104675606,346239415.91000146,57621993.6094888,905992761.80020082,2583.5048131942749,559753345.89019942,216664.33251119591,57621993.616322488,905992244.13661397,2583.5116468816996,559752828.22661257,216663.55903687706,57621993.644363403,905989582.60878098,2583.5396877974272,559750166.69877958,216660.17725316595,57621993.651197091,905989064.94519413,2583.5465214848518,559749649.03519273,216659.40380027902,57621993.567924373,905996409.24813688,2583.4632487669587,559752596.74935317,216667.52837165893,57621993.616322488,905992012.65935469,2583.5116468816996,559752596.74935317,216663.4694389611,57621993.602798976,905993230.05671704,2583.498123370111,559753814.14671564,216665.07480041453,57621993.651197091,905988833.46793485,2583.5465214848518,559749417.55793333,216659.31420357252,null,null,null,92190346488799.922,92190709928065.062,92194283782420.281,92194283793871.844,92194283841398.828,92194283852850.406,92194283712269.75,92194283794103.328,92194283771248.297,92194283853081.875,0,0,0,0,0,0,0,0,0,1,null,0,0,0,0,0,0,0,0,1]
[null,459,1709646.7696633805,0.1960605617635901,0.12751730246684645,0.21518589499289675,0.55486163722329396,0.30100132127184076,0.31134093849659467,3.6347697215971919E-2,0.5270913142153455,436.03929543169698,466.61178351500592,2645.1488567335723,88926.076546311859,178.55890066962957,5099.9703801940841,10704.069053442025,1306.8094525538056,5741.3104614653948,1745.2047746679336,0.54024380783578363,null,48396050.480412856,12808146.272614459,48396330.218991995,80153731.306818724,48399098.607049383,744860440.92630243,2768.3880573883653,664706709.61948371,240106.04577110949,48399135.635471262,744853436.33206117,2805.41647926718,664699705.02524245,236934.41239030319,48399259.215684235,744774151.52938235,2928.9966922402382,664620420.22256362,226910.60798509466,48399296.244106114,744767146.93514097,2966.0251141190529,664613415.62832224,224075.45117018366,48398919.590524547,744462759.80364108,2589.3715325519443,663646564.64177787,256296.38555102356,48399135.635471262,743800295.9485966,2805.41647926718,663646564.64177787,236559.01701095485,48399080.199159406,744376470.40672088,2749.9801674112678,664222739.09990215,241537.28342163918,48399296.244106114,743714006.55167639,2966.0251141190529,663560275.24485767,223720.38324494884,null,null,null,77433667960514.297,77434048196655.875,77437812910838.094,77437872163317.688,77438069970943.25,77438129223422.844,77437526882079.484,77437873216458.062,77437783942184.641,77438130276563.234,0,0,0,0,0,0,0,0,0,1,null,0,0,0,0,0,0,0,0,1]
[null,460,1863498.6281942055,0.25921767398525097,0.22861008555804596,0.18277190815210637,0.55859452780459051,0.26688342929575559,0.42443846718934553,4.8992490087215068E-2,0.53572512180953769,474.14444815357052,771.24729601970967,387.35474263061934,470530.13920833694,72.285121954510103,2994.9114452865797,42657.367404921744,1648.5657972427643,1964.4431343536448,710.59704605339061,0.62383990558082503,null,52751485.92046994,70767497.869784266,52751775.392055236,146813454.40549585,52754621.295163102,885654024.33207035,2845.9031078666449,738840569.92657447,259615.50408524854,52754641.109359704,885303062.76232016,2865.7173044681549,738489608.35682428,257697.99666051837,52754696.90556854,884228779.4111495,2921.5135133042932,737415325.00565362,252408.66477171329,52754716.719765142,883877817.84139919,2941.3277099058032,737064363.43590331,250588.9979391341,52754569.843760893,885564191.78659737,2794.4517056569457,737376757.46613991,263871.71264167206,52754641.109359704,884190211.87163579,2865.7173044681549,737376757.46613991,257309.66425628951,52754645.454166338,884138946.86567652,2870.0621111020446,737325492.46018064,256902.277343769,52754716.719765142,882764966.95071495,2941.3277099058032,735951512.54521906,250210.64809156818,null,null,null,84402306705254.031,84402693813833.969,84406508418236.641,84406540471912.766,84406630820130.266,84406662873806.391,84406426185825.641,84406541584763.656,84406548587719.281,84406663986657.281,0,0,0,0,0,0,0,0,0,1,null,0,0,0,0,0,0,0,0,1]
[null,461,1815559.8435802981,0.17514272170464448,0.14086007303727119,0.12551690988196174,0.43012130384661057,0.30719965192287302,0.31787200166162749,3.6017976544757586E-2,0.58334705787306906,472.7909757519447,310.07947880890947,4616.7149122929213,243802.7409927109,203.45475676737931,458.12067739859708,41795.617544316556,1484.8302208087478,1307.8363291039336,289.62336100312308,0.7119237002508273,null,51394548.438823476,35656862.21740786,51394837.826594181,112177656.38442524,51397705.874398068,854790656.27394831,2868.0478038862348,742612999.88952303,258926.29784038977,51397707.036321014,854789301.35893571,2869.2097268328071,742611644.97451043,258820.97011926919,51397719.82585267,854646206.71599126,2881.9992584884167,742468550.33156598,257622.74162450139,51397720.987775616,854644851.80097866,2883.161181434989,742467195.41655338,257518.44891551198,51397697.14963799,854574685.82137871,2859.323043808341,742303226.64509296,259608.03143684563,51397707.036321014,854480883.02951825,2869.2097268328071,742303226.64509296,258713.47768797941,51397711.101092599,854430236.26342165,2873.2744984179735,742252579.87899637,258329.85337380087,51397720.987775616,854336433.47156119,2883.161181434989,742158777.08713591,257411.4766340442,null,null,null,82231241845255.344,82231628344894.297,82235474608380.625,82235476468812.266,82235497075157.547,82235498935589.188,82235460864734.953,82235476777230.594,82235483331511.891,82235499244007.516,0,0,0,0,0,0,0,0,0,1,null,0,0,0,0,0,0,0,0,1]
[null,462,1613684.1601464071,0.17911020689799889,0.14999831909887421,0.18707078825348364,0.51033737705493154,0.24780807582307424,0.34023839982458587,3.6197368030515542E-2,0.44182498328263992,478.13196978761414,4652.9184020524153,2397.0778320152276,277287.3964547005,40.06504789822295,751.46027383309638,32080.749617650476,10810.087615999721,2746.4768523884818,677.697179283124,0.69638795870504377,null,45679490.397773378,40621736.836175375,45679782.686944403,108623740.15360102,45682675.797893703,770349217.51708651,2893.1109493002295,661725477.36348546,228724.54218305735,45682675.806105636,770349358.99696016,2893.1191612333059,661725618.84335911,228723.94186531621,45682675.831911042,770348826.29366374,2893.1449666395783,661725086.14006269,228721.71763610729,45682675.840122968,770348967.77353752,2893.1531785652041,661725227.61993647,228721.11733403089,45682675.76693888,770348876.60751784,2893.0799944773316,661724906.75302935,228726.79221321622,45682675.806105636,770348646.9066304,2893.1191612333059,661724906.75302935,228723.69573292759,45682675.800956212,770348485.38409507,2893.1140118092299,661724745.23049402,228724.04700590408,45682675.840122968,770348255.68320763,2893.1531785652041,661724515.52960658,228720.8712045362,null,null,null,73087144014700.562,73087543675370.891,73091510927412.406,73091510940410.016,73091510982231.375,73091510995228.969,73091510878225.594,73091510941122.109,73091510933044.547,73091510995941.062,0,0,0,0,0,0,0,0,0,1,null,0,0,0,0,0,0,0,0,1]
[null,463,1718565.6972145417,0.20657645113436418,0.1918811409392045,0.20778192546024521,0.55689726923676419,0.25385238366937135,0.32563629122741883,4.092408347955101E-2,0.61075629787976027,541.35831011706762,749.80931703336717,2068.8832737797866,127198.71684932186,477.46552954748779,1821.8963545830916,6656.92035931596,12405.000234432468,5038.5600350067662,2211.1941488939206,0.9521513213435806,null,48648833.846792072,19221751.437247515,48649082.663306132,102707975.61467476,48651538.766852528,928648905.91706967,2456.1035463958979,825940930.30239487,336280.98925812222,48651575.390310116,929479611.20701444,2492.7270039841533,826771635.59233963,331673.55842452915,48651749.308985509,927541113.18283594,2666.6456793770194,824833137.56816113,309314.86096827767,48651785.932443097,928371818.47278059,2703.2691369652748,825663842.85810578,305431.60929399979,48651399.390574306,928920770.11634111,2316.7272681742907,826208045.96080482,356627.23761692608,48651575.390310116,928916021.57547963,2492.7270039841533,826208045.96080482,331447.4648207635,48651609.932707287,927812977.3821075,2527.2694011554122,825105001.76743269,326480.82606081205,48651785.932443097,927808228.84124565,2703.2691369652748,825100253.22657084,305223.12482464808,null,null,null,77838114933115.875,77838429553314.203,77841533378058.125,77841591144884.984,77841871353263.625,77841929120090.484,77841310104148.781,77841591708474.609,77841648079354.281,77841929683680.109,0,0,0,0,0,0,0,0,0,1,null,0,0,0,0,0,0,0,0,1]
[null,464,1599600.6403214515,0.24985944867032261,0.29228134571380548,0.18307187205282663,0.55679045723068565,0.28208306184172838,0.30478323721703821,3.835866109355502E-2,0.58007919155354415,829.72408514825122,3230.5212263571739,10414.789002590896,350453.31903115776,183.6389414710504,6285.6522151615418,12392.606552674764,2899.481634644897,537.16710190999004,744.75194142437874,0.93997577396368948,null,45281054.288017258,51371679.77225922,45281314.871050552,168418420.06238884,45283871.30542475,1324740278.7659321,2556.4343741983175,1156321858.7035432,452318.22509277548,45283871.496952742,1324738374.7656195,2556.6259021908045,1156319954.7032306,452283.59523087274,45283872.857681081,1324717452.5410688,2557.9866305291653,1156299032.4786799,452034.82249611244,45283873.049209081,1324715548.5407565,2558.1781585291028,1156297128.4783676,452000.23486371001,45283870.419936396,1324749516.4897361,2555.5488858446479,1156314630.7142236,452472.12335444876,45283871.496952742,1324733050.7766125,2556.6259021908045,1156314630.7142236,452281.51280301245,45283871.972192734,1324726690.264873,2557.1011421829462,1156308270.2024841,452194.96840682917,45283873.049209081,1324710224.5517495,2558.1781585291028,1156291804.4893606,451998.15369942936,null,null,null,72449635489147.844,72449935375260.812,72452869348400.828,72452869656749.625,72452871854837.188,72452872163185.984,72452867922381.75,72452869662073.609,72452870428818.109,72452872168509.984,0,0,0,0,0,0,0,0,0,1,null,0,0,0,0,0,0,0,0,1]
[null,465,1574115.3108827402,0.20133480236874002,0.17456018706064746,0.2113251795205614,0.53769909895764911,0.32477972814723988,0.4162300684474185,4.3100431738682943E-2,0.65616948204670611,278.37859039263589,1303.5009819964957,8776.4445769181602,918204.83173739479,31.227917575351711,1235.3688839107322,43136.273253170315,36552.493924147195,7568.6433024051576,4069.8153808424463,0.95899679006087879,null,44559515.123711027,137999859.93203518,44559749.573340148,169926309.37849891,44562066.716124155,475129172.49593294,2317.1427840068936,305202863.11743402,131715.1731969082,44562113.626978308,477634041.79285598,2364.0536381602287,307707732.41435707,130161.06210425227,44562367.855183706,462220831.10846865,2618.2818435579538,292294521.72996974,111636.00375915757,44562414.766037859,464725700.40539163,2665.1926977112889,294799391.02689272,110610.91052817649,44561900.564057849,476978668.58374798,2150.9907177016139,302350459.72409552,140563.34936078402,44562113.626978308,472276769.10259444,2364.0536381602287,302350459.72409552,127894.92372067875,44562201.703117393,464070327.19628364,2452.1297772452235,294144017.81778473,119954.50670976826,44562414.766037859,459368427.71513009,2665.1926977112889,289442118.33663118,108600.82221641501,null,null,null,71295086198077.703,71295429391034.859,71298831616626.141,71298904169123.5,71299326347462.812,71299398899960.172,71298563923823.984,71298909526396.188,71299058654660.625,71299404257232.859,0,0,0,0,0,0,0,0,0,1,null,0,0,0,0,0,0,0,0,1]
[null,466,1890385.7587727385,0.21564786730973329,0.14520224052000624,0.2021049116272946,0.60319042542822232,0.25749102729864948,0.29365149218130271,2.5966168502070713E-2,0.57304657903835454,183.51030456274356,1570.0178284249164,3277.6663693056626,1394500.1012534907,92.681644864402827,4740.8991088134908,12362.947574388771,1915.3895217578397,2763.8586041408503,442.2025841552333,0.88892902757603376,null,53513022.721131399,204977942.34982988,53513288.469694301,220093749.00858653,53515916.512830272,365990518.11485302,2628.0431359708309,145896769.1062665,55515.363164832706,53515932.582493015,365022226.48896462,2644.1127987131476,144928477.48037809,54811.760508444546,53515977.59212324,362224196.77299166,2689.1224289387465,142130447.76440513,52853.840433176731,53515993.661785975,361255905.14710319,2705.1920916736126,141162156.13851666,52181.934352463795,53515849.06788633,369908141.01680821,2560.5981920287013,144510093.76207608,56436.068029706825,53515932.582493015,364603842.77066261,2644.1127987131476,144510093.76207608,54653.528333740942,53515910.147179298,366141819.67494678,2621.6774849966168,146048070.66636026,55707.870820177843,53515993.661785975,360837521.42880124,2705.1920916736126,140743772.42021471,52027.274829544993,null,null,null,85620631375867.891,85621041457761.859,85625100430010.328,85625127109762.344,85625201923200.422,85625228602952.422,85624988600477.109,85625127528146.062,85625090093667.203,85625229021336.141,0,0,0,0,0,0,0,0,0,1,null,0,0,0,0,0,0,0,0,1]
[null,467,1895913.8382584481,0.18567374136034881,0.17762142149564564,0.21144592861523182,0.54935264748814128,0.32306419176735657,0.26825177559846947,3.8799537029714476E-2,0.57561666773908526,340.6485826907662,6508.2335592242862,170.51154091558749,97844.753095066568,250.45397636755442,2101.2150687137337,841.57368393439253,1988.7922107063921,1237.0578323805696,99.412021993521378,0.95281795456850527,null,53669594.78313493,14363818.321027348,53669857.687584028,72048404.943917498,53672454.620760292,643847408.78476775,2596.9331762641668,571799003.84085023,220182.40941548406,53672458.866754539,643863141.76166701,2601.179170511663,571814736.8177495,219829.04649558268,53672493.137774251,643707079.88727403,2635.4501902237535,571658674.94335651,216911.20441734543,53672497.383768491,643722812.86417329,2639.696184463799,571674407.92025578,216568.25936443132,53672426.502574496,643962146.01018929,2568.8149904683232,571799792.76081109,222592.82777564519,53672458.866754539,643848197.7047286,2601.179170511663,571799792.76081109,219823.30138693817,53672465.019588448,643821817.11269557,2607.3320044204593,571773412.16877806,219294.44014011102,53672497.383768491,643707868.80723488,2639.696184463799,571659463.86331737,216562.59808529384,null,null,null,85871337289197.562,85871700251729.5,85875283545807.688,85875290323665.5,85875345313358.906,85875352091216.734,85875238441973.172,85875290338609.562,85875300209524.406,85875352106160.781,0,0,0,0,0,0,0,0,0,1,null,0,0,0,0,0,0,0,0,1]
[null,468,1882298.7882637472,0.21374278789865975,0.12754834360161646,0.18844463612797629,0.62222306284928752,0.29831252462115965,0.30918243659764716,3.9632687831943403E-2,0.6338628053794706,279.55110775082068,2200.7604676415071,489.58296621254283,1627031.5396370417,110.28110082716118,10964.985472694987,4447.0819122903858,116.6917951527074,1163.2790845841778,356.34069858238018,0.50836193554175435,null,53283678.770832174,238355727.55683959,53283988.11764019,265862660.36891434,53287045.848240763,537561678.95694828,3057.7306005731225,271699018.58803391,88856.427880568779,53287045.848241538,537561678.90616024,3057.7306013479829,271699018.53724587,88856.427841441924,53287045.848243669,537561678.78052449,3057.7306034788489,271699018.41161013,88856.427738431914,53287045.848244429,537561678.72973657,3057.7306042388082,271699018.3608222,88856.427699738109,53287045.84823747,537561679.16916096,3057.7305972799659,271699018.53073919,88856.427957528926,53287045.848241538,537561678.89965355,3057.7306013479829,271699018.53073919,88856.427839313983,53287045.848240368,537561678.99273717,3057.7306001782417,271699018.62382281,88856.427903748248,53287045.848244429,537561678.72322977,3057.7306042388082,271699018.3543154,88856.427697610139,null,null,null,85253647677603.922,85254115125563.922,85258735795506.266,85258735795507.547,85258735795511.094,85258735795512.344,85258735795500.781,85258735795507.547,85258735795505.594,85258735795512.359,0,0,0,0,0,0,0,0,0,1,null,0,0,0,0,0,0,0,0,1]
[null,469,1806327.1635343181,0.18841634875104019,0.12720964006113197,0.19419712582468432,0.52475959419105589,0.28654240029209987,0.35002094182291676,3.4823558849806979E-2,0.51892934679648994,508.07877492147668,652.22022214247852,3472.5600946233549,25729.025783000678,4.3078779789097066,4652.2042853794037,12014.924756335873,1.1837450823976308,307.55722758789415,253.49968908615105,0.84586380188145993,null,51133314.810610555,3769128.7394280653,51133593.54609108,87257350.748779073,51136353.519576423,910465732.04857981,2759.9734853431582,823208381.29980075,298266.771645253,51136353.561306953,910465683.41318619,2760.0152158737183,823208332.66440713,298262.24432745017,51136353.694922663,910466088.49324727,2760.1488315835595,823208737.74446821,298247.95254688308,51136353.736653201,910466039.85785353,2760.1905621215701,823208689.10907447,298243.42580040201,51136353.348871306,910464481.68312871,2759.802780225873,823206882.76410425,298284.6776814718,51136353.561306953,910464233.51288331,2760.0152158737183,823206882.76410425,298261.71900414961,51136353.524217546,910464838.12779605,2759.9781264662743,823207487.379017,298265.94619900378,51136353.736653201,910464589.95755064,2760.1905621215701,823207239.20877159,298242.90051047358,null,null,null,81813299927848.156,81813662416394.984,81817255165590.234,81817255232407.719,81817255445787.766,81817255512605.266,81817254893712.406,81817255233857.609,81817255173909.953,81817255514055.172,0,0,0,0,0,0,0,0,0,1,null,0,0,0,0,0,0,0,0,1]
[null,470,2049043.6858088127,0.22115488872508005,0.15480615463762445,0.21668620490342194,0.53855955438400271,0.28174690264146995,0.27272864391655216,2.7844004177107751E-2,0.4629373195130988,759.35937419737047,1608.5947322093011,14935.234771551481,429863.9646882129,35.732950064864468,5958.2298191097234,6264.7426576525631,18769.40676978718,4758.6142336805387,260.81976694921707,0.58270608914537381,null,58004254.116714098,62974134.022089206,58004555.001259081,199664323.19097584,58007526.791197151,1552981600.9599338,2971.78993806988,1353317277.7689579,455387.93318881455,58007526.797508366,1552981806.8145924,2971.7962492853403,1353317483.6236165,455387.03534909675,58007526.820396923,1552981178.6044176,2971.8191378414631,1353316855.4134417,455383.31662955886,58007526.826708138,1552981384.4590764,2971.8254490569234,1353317061.2681005,455382.41880846705,58007526.755903572,1552982127.3839478,2971.7546444907784,1353317377.1391237,455393.37497057056,58007526.797508366,1552981700.3300996,2971.7962492853403,1353317377.1391237,455386.99951740314,58007526.785103336,1552981705.0284317,2971.7838442549109,1353317381.8374557,455388.90200702369,58007526.826708138,1552981277.9745836,2971.8254490569234,1353316954.7836077,455382.38297712547,null,null,null,92806743612608.547,92807088337691.344,92810489884314.484,92810489894206.578,92810489931456.469,92810489941348.562,92810489827318.328,92810489894313.062,92810489874460.312,92810489941455.047,0,0,0,0,0,0,0,0,0,1,null,0,0,0,0,0,0,0,0,1]
[null,471,1410208.9927040215,0.17492255857252667,0.14102458603626064,0.23060799044977265,0.51465077351884947,0.33994642905592731,0.33833577402075332,3.5227935140171411E-2,0.57583866004130546,323.87528537280076,1134.0996774399866,7986.8077315434339,370265.56269004883,130.50384909029728,782.84510861057595,23005.877754192919,146.26524498211134,1773.1831823649636,417.09914500307138,0.94155216919854434,null,39919456.218345702,53986189.031462818,39919720.050767452,92060180.318193987,39922331.660258047,461082739.08620048,2611.609490595758,369022558.7680065,141300.81855531372,39922336.262433164,461005791.09791172,2616.211665712297,368945610.77971774,141022.84444911976,39922367.806349777,460470731.97660035,2647.7555823251605,368410551.65840638,139140.69490314584,39922372.408524901,460393783.98831159,2652.3577574491501,368333603.67011762,138870.25708943381,39922305.147079319,461062870.16776651,2585.0963118672371,368464834.31570333,142534.27720437929,39922336.262433164,460525014.6338973,2616.211665712297,368464834.31570333,140839.07626617211,39922341.293171048,460450863.05816633,2621.2424035966396,368390682.73997235,140540.48653970304,39922372.408524901,459913007.52429718,2652.3577574491501,367852827.20610321,138688.99328267013,null,null,null,63871075963164.094,63871460021047.602,63875269573673.789,63875277014101.961,63875328019427.664,63875335459855.852,63875227172456.742,63875277494878.43,63875285618210.625,63875335940632.32,0,0,0,0,0,0,0,0,0,1,null,0,0,0,0,0,0,0,0,1]
[null,472,1797484.382735129,0.15300272260575146,0.16406946897053487,0.14229652868069576,0.45320519852631896,0.25647845114040507,0.3470644799224456,3.1667509067044811E-2,0.55526358559222566,955.59389213469296,854.51605779741055,18816.072972652179,39180.213190957787,140.89929861513616,2817.4160270442821,9031.0999551248478,21295.968147457799,4681.446075869093,873.28418527989572,0.95253558236694102,null,50883094.895591609,5739628.7972801114,50883363.667460553,162222682.17187351,50886028.038012989,1710517381.1571803,2664.3705524355173,1548294698.9853067,581110.8734744126,50886028.067491867,1710520159.0580697,2664.4000313133001,1548297476.8861961,581105.48667237116,50886028.2950911,1710517281.1458519,2664.627630546689,1548294598.9739783,581054.77149027458,50886028.324569963,1710520059.046741,2664.6571094095707,1548297376.8748674,581049.38583183638,50886027.910250776,1710516415.9597929,2664.242790222168,1548296275.7612526,581139.33213727199,50886028.067491867,1710518957.9331262,2664.4000313133001,1548296275.7612526,581105.0358673383,50886028.167328872,1710516315.9484644,2664.4998683184385,1548293633.7765908,581082.27070535242,50886028.324569963,1710518857.9217978,2664.6571094095707,1548296175.7499242,581048.93507029593,null,null,null,81412946093317.781,81413219645254.719,81415934343439.625,81415934387827.922,81415934754864.625,81415934799252.891,81415934139985.281,81415934389029.047,81415934551410.234,81415934800454.016,0,0,0,0,0,0,0,0,0,1,null,0,0,0,0,0,0,0,0,1]
[null,473,1637135.9102896308,0.15477730812681864,0.156894152801271,0.16107718272292298,0.45221299369461587,0.26839912530489213,0.31358349137088037,3.8765263100553206E-2,0.47705195883151713,1535.7994788755532,4758.5997394215574,3454.1094297235277,1123129.6522794513,132.79258104509424,1859.0503913737155,15944.374800775693,8321.87673682477,638.56895316947202,312.2084938541571,0.72207866083716754,null,46343431.129886664,164474886.1308355,46343721.461183928,379128882.42742318,46346598.143335618,2501720089.0771871,2876.6821516901255,2122591206.6497638,737860.87399425975,46346598.435861573,2501717661.1552978,2876.97467764467,2122588778.7278745,737785.00562458951,46346600.597468548,2501602558.7066064,2879.1362846195698,2122473676.2791831,737191.11096529174,46346600.889994495,2501600130.7847166,2879.4288105666637,2122471248.3572934,737115.37530236656,46346596.56803412,2501774441.1968746,2875.1068501919508,2122565982.2620366,738256.38240899728,46346598.435861573,2501694864.6894598,2876.97467764467,2122565982.2620366,737777.08186147304,46346599.022167049,2501656910.8262939,2877.5609831213951,2122528028.3988707,737613.56956421037,46346600.889994495,2501577334.3188787,2879.4288105666637,2122448451.8914554,737107.45829266158,null,null,null,74149325332932.531,74149575209011.859,74152055309247.906,74152055779717.359,74152059353390.969,74152059823860.406,74152052734413.391,74152055802513.828,74152056778556.453,74152059846656.875,0,0,0,0,0,0,0,0,0,1,null,0,0,0,0,0,0,0,0,1]
[null,474,2191123.1473310017,0.13664801632258378,0.12918811666948185,0.28064110926274977,0.51401773946328766,0.25393760986719782,0.37958026506695008,4.6919759384789872E-2,0.61431253103434402,919.56280047834537,2599.0481030835349,8.9238622657862479,33372.106876612699,141.75806331625091,1231.8313060559649,32713.168412917115,1.2115517035913002,1157.6827360553173,1484.9584547320642,0.94116556036767107,null,62026927.918869764,4796398.026349768,62027187.598796472,188461409.84395012,62029760.943523608,1997975075.4360893,2573.3447271361947,1809513665.5921392,703175.77218109358,62029770.158755049,1997960677.5234392,2582.5599585771561,1809499267.6794891,700661.08694584598,62029815.156600818,1997929646.5408576,2627.5578043460846,1809468236.6969075,688650.21112151199,62029824.371832266,1997915248.6282077,2636.7730357944965,1809453838.7842577,686237.99402554345,62029731.174872197,1996972665.1118524,2543.5760757252574,1808450221.1943481,710987.27435494505,62029770.158755049,1996911631.0382981,2582.5599585771561,1808450221.1943481,700254.88282978779,62029785.387949415,1996927236.2166207,2597.7891529425979,1808465826.3726707,696155.73855336348,62029824.371832266,1996866202.1430664,2636.7730357944965,1808404792.2991164,685840.14162380074,null,null,null,99243079873793.594,99243311696664.516,99245619534562.328,99245634293330.547,99245706320914.766,99245721079683,99245572907130.406,99245635342377.047,99245659693482.844,99245722128729.484,0,0,0,0,0,0,0,0,0,1,null,0,0,0,0,0,0,0,0,1]
[null,475,1655896.2317225456,0.19041434292378001,0.2036206948798539,0.21940855078983801,0.58562723258217575,0.3454735977346145,0.35396388283679309,3.0946609393836817E-2,0.56547803380826911,1059.4599858805857,1067.2011114736397,10825.685423023819,391275.30461302685,47.325092647199085,274.41953695800743,8941.5554840775858,799.82511289190973,2125.0630266212806,798.3741435258205,0.76663148426935879,null,46874573.684255183,57380584.283726417,46874855.857888892,212413413.94227338,46877642.362051614,1746591190.0550032,2786.5041627213359,1534177776.1127298,550574.37079671607,46877643.483788937,1746574223.1021597,2787.6259000450373,1534160809.1598864,550346.73380495573,46877650.341650285,1746453889.4617355,2794.4837613925338,1534040475.5194621,548953.08275293978,46877651.463387601,1746436922.5088916,2795.6054987087846,1534023508.5666182,548726.74605738989,46877637.369516648,1746650203.4008181,2781.5116277560592,1534133392.2305636,551546.63993556681,46877643.483788937,1746546806.172837,2787.6259000450373,1534133392.2305636,550336.89857946069,46877645.34911532,1746512902.8075504,2789.4912264272571,1534099488.8652771,549956.7355980291,46877651.463387601,1746409505.5795689,2795.6054987087846,1533996091.6372955,548716.93890493747,null,null,null,74999260514224.016,74999556959208.297,75002481188092.516,75002482999839.188,75002494092750.984,75002495904497.641,75002473141023.234,75002483027256.125,75002486045681.703,75002495931914.578,0,0,0,0,0,0,0,0,0,1,null,0,0,0,0,0,0,0,0,1]
[null,476,1827744.2743763989,0.19522152771587575,0.18278455233062718,0.20782830156855114,0.60439070576119991,0.25649677467022686,0.41165016601476967,3.2497128393571835E-2,0.51624647363398946,284.55087862945152,3222.0227937408599,1265.4909892602107,1421588.6136773264,420.7216663198343,205.50439694369342,1881.3524175298344,9208.5725303945001,3015.9519442926985,560.38655783348918,0.924208973108541,null,51739711.678878762,208258900.33195072,51739980.42599497,237965629.77749783,51742636.26090496,532449703.62072313,2655.8349099904299,294484073.8432253,110881.91993239762,51742636.260991246,532449699.22266221,2655.8349962756038,294484069.44516438,110881.91467396604,51742636.261196196,532449684.32970566,2655.8352012261748,294484054.55220783,110881.90050958254,51742636.261282481,532449679.93164474,2655.8352875113487,294484050.15414691,110881.89525115215,51742636.260690711,532449717.56339985,2655.8346957415342,294484069.17419481,110881.92711932775,51742636.260991246,532449698.95169264,2655.8349962756038,294484069.17419481,110881.91457193802,51742636.260981947,532449698.27238238,2655.8349869772792,294484068.49488455,110881.91470436558,51742636.261282481,532449679.66067505,2655.8352875113487,294484049.88317722,110881.8951491241,null,null,null,82783330427305.688,82783730715962.172,82787685567744.312,82787685567886.781,82787685568229.578,82787685568372.031,82787685567387.578,82787685567887.047,82787685567872.844,82787685568372.312,0,0,0,0,0,0,0,0,0,1,null,0,0,0,0,0,0,0,0,1]
[null,477,1864434.9791306257,0.22439323481767559,0.16798946284171989,0.21602494786667115,0.49669815341061235,0.26941208376055564,0.41823121458095436,4.5984263955907156E-2,0.4557841107938263,327.43854508854059,133.50557498599755,1119.0933450362238,364118.19563970808,10.211718670728448,15384.560999740857,53349.016125811002,6582.1410373980834,3045.2964982719391,0.3160214106146616,0.66490755346477759,null,52778128.810337052,53374186.775422528,52778420.507950291,106271609.66088523,52781296.929587953,610045671.45655477,2876.4216376617551,503774061.79566956,175139.15734731706,52781297.83591117,610043516.59329379,2877.3279608786106,503771906.93240857,175083.24173744122,52781300.182896897,610022943.40768147,2879.6749466061592,503751333.74679625,174933.4015425916,52781301.089220114,610020788.54442048,2880.5812698230147,503749178.88353527,174877.61382079875,52781294.174491517,609991576.29974711,2873.6665412262082,503674865.43268049,175272.55100995812,52781297.83591117,609946475.0935657,2877.3279608786106,503674865.43268049,175049.51548132877,52781297.427800462,609968848.25087392,2876.9198501706123,503697238.58998871,175082.1242239743,52781301.089220114,609923747.0446924,2880.5812698230147,503652137.38380718,174843.92565489118,null,null,null,84444952722352.5,84445366541110.812,84449465041669.266,84449466493941.281,84449470269691.625,84449471721963.641,84449460687610.125,84449466590982.781,84449465915632.484,84449471819005.141,0,0,0,0,0,0,0,0,0,1,null,0,0,0,0,0,0,0,0,1]
[null,478,2166062.4689180353,0.11284739702610713,0.12317716628346009,0.20664642819845158,0.61576656237773597,0.29867638074009495,0.41705536044636982,3.6562211947063203E-2,0.53265663528054463,115.08998023245087,133.44202506712665,3216.9174919283014,265194.63925585535,39.745039680488908,5291.760964742959,7312.524152632288,6490.9404107972014,2201.9089618294847,2032.3613915800051,0.79161151891162584,null,61317246.022191837,38850091.247771889,61317533.390881009,58599466.239186347,61320389.37733686,251483957.91941029,2855.9864558503032,192884491.68022394,67536.907006373425,61320389.37955077,251483974.68561473,2855.9886697605252,192884508.44642839,67536.860523540439,61320389.387070358,251483877.78600684,2855.9961893483996,192884411.54682049,67536.648776421294,61320389.389284275,251483894.55221131,2855.9984032660723,192884428.31302497,67536.602293770731,61320389.371327527,251483980.6188916,2855.9804465174675,192884460.05037874,67537.038037350241,61320389.37955077,251483926.28956509,2855.9886697605252,192884460.05037874,67536.843578077678,61320389.381061025,251483900.48548815,2855.990180015564,192884434.2463018,67536.798829347041,61320389.389284275,251483846.15616164,2855.9984032660723,192884379.91697529,67536.585348365712,null,null,null,98107554785415.688,98107994825943.375,98112371519781.047,98112371523306.547,98112371535434.797,98112371538960.297,98112371510143.422,98112371523354.938,98112371525797.156,98112371539008.688,0,0,0,0,0,0,0,0,0,1,null,0,0,0,0,0,0,0,0,1]
[null,479,1656557.3177670208,0.13955976173122001,9.3944297182458184E-2,0.18172872277599297,0.43619434393332568,0.29868428631806498,0.42933181398739517,3.5442967880508235E-2,0.52911610102101325,157.75303063269371,1252.0789136770409,602.04616989182523,1381485.7927269689,221.48221052316214,6512.2135328566137,7185.9098766018669,55.956598438767287,3931.895864882481,872.79945879801016,0.83726907615497514,null,46893371.408394597,202253377.35273871,46893654.195242263,208763795.06442404,46896464.733389109,270102069.07513899,2810.5381468459964,61338274.010714948,21824.387646027557,46896464.875645734,270093210.44215846,2810.680403470993,61329415.377734423,21820.131275685737,46896465.591623932,270053454.19605786,2811.3963816687465,61289659.131633818,21800.433240671107,46896465.733880565,270044595.56307739,2811.5386383011937,61280800.498653352,21796.179381579062,46896464.133586094,270133984.42024744,2809.9383438304067,61323795.141377628,21823.893494326014,46896464.875645734,270087590.20580167,2810.680403470993,61323795.141377628,21818.131675749064,46896464.991820917,270085369.54116631,2810.7965786531568,61321574.476742268,21816.439845720033,46896465.733880565,270038975.3267206,2811.5386383011937,61275180.262296557,21794.180392029273,null,null,null,75029192000054,75029637948592.562,75034073471353.5,75034073707822.734,75034074893144.094,75034075129613.344,75034072479753.328,75034073713442.969,75034073901543.922,75034075135233.578,0,0,0,0,0,0,0,0,0,1,null,0,0,0,0,0,0,0,0,1]
[null,480,1556316.3999589381,0.24315107390809643,9.0090717320686048E-2,0.18053216522634102,0.65601418330694605,0.18514089679194176,0.25963310250422555,3.2342438467586762E-2,0.58150705179514028,1750.4368509067629,2502.8158468307588,1501.2134906108754,455982.24131914199,397.43590641503033,801.98444951194961,1475.976251100873,22554.278256071342,1896.0742087354683,620.76635687242754,0.55415668787770433,null,44055277.373856381,66707472.852879234,44055579.611020729,308293197.64879835,44058568.592287526,2703742673.9296923,2988.9812667965889,2395449476.2808938,801426.72785908531,44058578.474482633,2703866387.5747762,2998.8634619042277,2395573189.9259777,798827.02909215784,44058586.008276731,2703425319.0441723,3006.3972560018301,2395132121.3953738,796678.52164707927,44058595.890471838,2703549032.6892562,3016.2794511094689,2395255835.0404577,794109.39001670352,44058529.332356669,2704462632.4288816,2949.721335940063,2395552900.3815832,812128.54624388821,44058578.474482633,2703846098.0303817,2998.8634619042277,2395552900.3815832,798820.26334751747,44058546.748345882,2704145277.5433617,2967.1373251527548,2395852079.8945632,807462.48567083746,44058595.890471838,2703528743.1448617,3016.2794511094689,2395235545.4960632,794102.66333745408,null,null,null,70488377090697.344,70488619084435.516,70491006004986.109,70491021692784.641,70491034187923.719,70491049875722.25,70490942469138.25,70491021713074.188,70490970652075.859,70491049896011.797,0,0,0,0,0,0,0,0,0,1,null,0,0,0,0,0,0,0,0,1]
[null,481,1744610.7268994234,0.24483499473763803,0.13910508646488956,0.19848110685403286,0.496075190303986,0.29167347391989817,0.40028135966604905,3.9973980932243247E-2,0.53176164792457536,591.98267732971669,1012.4325079814631,182.67028540013376,77405.18833213867,223.38492956740021,9549.5322306314865,165149.10237193928,393.22441002499897,3005.0899102075227,1471.9028506075306,0.67107072026330217,null,49385951.61884395,11339740.950575311,49386243.535769165,110225853.35796824,49389124.140608914,1025407044.4223323,2880.6048397496343,915181191.06436408,317704.52456224657,49389124.154467449,1025407010.0775396,2880.61869828403,915181156.71957135,317702.98417653824,49389124.191783465,1025407157.8950911,2880.6560143008828,915181304.53712285,317698.91996605904,49389124.205642007,1025407123.5502981,2880.6698728427291,915181270.19232988,317697.37963385659,49389124.090216808,1025402310.8886204,2880.5544476434588,915176255.8713299,317708.36917178315,49389124.154467449,1025402109.2292981,2880.61869828403,915176255.8713299,317701.28285860806,49389124.141391359,1025402424.3613791,2880.6056221947074,915176571.00341094,317702.8344151277,49389124.205642007,1025402222.7020568,2880.6698728427291,915176369.34408855,317695.67834615003,null,null,null,79017511250409.375,79017879431377.297,79021573217929.844,79021573240137.844,79021573299695.656,79021573321903.672,79021573142036,79021573245038.688,79021573223801.812,79021573326804.516,0,0,0,0,0,0,0,0,0,1,null,0,0,0,0,0,0,0,0,1]
[null,482,1683720.430416045,0.20762423288739729,0.16873701463913326,0.15208237325608617,0.51900523584066149,0.29734977011571984,0.37768560050933875,4.3210232965772422E-2,0.57097358139289189,465.36118780155391,3131.8990162077016,7515.4564719508926,232062.15147175302,35.161090421079514,1527.2363993702356,3593.9616047823984,20.616525320438555,3128.2105621538471,651.75262889416967,0.81336095593510027,null,47662322.200925723,33996478.836459346,47662601.391597413,102784104.9095891,47665359.942469671,783646071.60103118,2758.550872258842,680861966.69144213,246818.70961252844,47665359.942481138,783646071.48207521,2758.5508837252855,680861966.57248616,246818.70854345671,47665359.942533225,783646070.98355067,2758.5509358122945,680861966.07396162,246818.70370230163,47665359.942544691,783646070.8645947,2758.550947278738,680861965.95500565,246818.70263322996,47665359.942425437,783646071.95579684,2758.550828024745,680861966.46595085,246818.71348858951,47665359.942481138,783646071.3755399,2758.5508837252855,680861966.46595085,246818.70850483666,47665359.942488983,783646071.33831632,2758.5508915707469,680861966.42872727,246818.7077893776,47665359.942544691,783646070.75805938,2758.550947278738,680861965.84847033,246818.70259460993,null,null,null,76259681525002.312,76260059442450.953,76263792261879.875,76263792261898.344,76263792261982.172,76263792262000.641,76263792261808.75,76263792261898.453,76263792261911.031,76263792262000.734,0,0,0,0,0,0,0,0,0,1,null,0,0,0,0,0,0,0,0,1]
[null,483,1442898.565600672,0.16325258157820707,7.9096235507830209E-2,0.17122946762669605,0.52046696460237996,0.25036657743996765,0.3996607376905017,3.3824606503084553E-2,0.57718926574783835,1098.3029922978749,2810.8489606473295,220.36734278721374,26036.715548544304,91.601372761676984,451.37322719340062,8979.4595374371384,27664.409473097447,233.6147064727368,254.39015911721307,0.82741861045848131,null,40844748.305115841,3814208.9836524865,40845031.959494621,147610453.03297606,40847849.825786665,1570099283.8853207,2817.8662920445204,1422488830.8523445,504810.62031522044,40847849.839178972,1570100217.3201411,2817.8796843513846,1422489764.2871649,504808.55239729356,40847849.860480525,1570099258.5884466,2817.900985904038,1422488805.5554705,504804.39613427658,40847849.873872839,1570100192.023267,2817.9143782183528,1422489738.9902909,504802.3282700557,40847849.787022658,1570099021.3644242,2817.8275280371308,1422489456.1980157,504817.7867681302,40847849.839178972,1570099909.2309918,2817.8796843513846,1422489456.1980157,504808.44306361582,40847849.821716525,1570098996.0675504,2817.862221904099,1422488543.0345743,504811.24732683477,40847849.873872839,1570099883.9341183,2817.9143782183528,1422489430.9011421,504802.2189377243,null,null,null,65351593473976.359,65351903524738.359,65354989621974.781,65354989642469.031,65354989677510.25,65354989698004.516,65354989560214.883,65354989642777.117,65354989615750.367,65354989698312.602,0,0,0,0,0,0,0,0,0,1,null,0,0,0,0,0,0,0,0,1]
[null,484,1618284.1017612452,0.16284960110490995,0.11172697313971319,0.17256489194026847,0.56009575939598755,0.26443591830783886,0.32759717515690651,3.6515939144929177E-2,0.42386496959177539,44.138317786842258,704.00403513310675,3601.9130683894291,732818.71526285727,147.94560401275723,5472.3351097778605,38649.4335869145,8474.2895245258405,2145.8385227339108,238.72011724742737,0.81083121284661541,null,45809844.406829886,107147932.95088455,45810127.16601713,105975550.15646441,45812932.064238228,79127826.605290592,2804.8982210978866,-26847723.551173821,-9571.7282535353988,45812933.356640317,79116478.88785094,2806.1906231865287,-26859071.268613473,-9571.3637721852429,45812935.944526799,79020287.18978624,2808.7785096690059,-26955262.966678172,-9596.7919413676573,45812937.236928888,79008939.472346589,2810.070911757648,-26966610.684117824,-9596.4164360716077,45812927.038996249,79150984.589436427,2799.8729791194201,-27001256.403836265,-9643.7433430742112,45812933.356640317,78974293.752628148,2806.1906231865287,-27001256.403836265,-9622.0321530314941,45812930.919284821,79043445.173932061,2803.7532676905394,-26932104.982532352,-9605.7328912955363,45812937.236928888,78866754.337123796,2810.070911757648,-27108795.819340616,-9647.014851445354,null,null,null,73295643902994.859,73296097490077.25,73300612174954.562,73300614254145.609,73300618490955.688,73300620570146.75,73300604111409.406,73300614396330.75,73300610427410.547,73300620712331.875,0,0,0,0,0,0,0,0,0,1,null,0,0,0,0,0,0,0,0,1]
[null,485,1690998.572704338,0.21353194622315752,0.17184323890336273,0.17784439727895596,0.62679314676909892,0.27858898486835282,0.31120472562155682,3.8591029085965581E-2,0.52835708687180361,360.89923940792426,591.85974959265127,1099.7579023430042,341709.9580925451,291.48643663803335,136.8738457972718,64106.493245391321,6717.7214356265513,425.43191272350771,798.71172409199494,0.50618757311851514,null,47868024.171374522,50126843.572020061,47868330.68700137,103636586.68878073,47871356.845563449,609360968.88796604,3026.158562079072,505724382.19918531,167117.6086198655,47871359.595492929,609355210.49980056,3028.9084915593266,505718623.81101984,166963.98231254204,47871367.635988288,609211383.69736814,3036.9489869177341,505574797.00858742,166474.57668418274,47871370.385917768,609205625.30920267,3039.6989163979888,505569038.62042195,166322.07745743316,47871345.889467835,609203072.65832245,3015.2024664655328,505408172.71316844,167619.97853683628,47871359.595492929,609044759.40194917,3028.9084915593266,505408172.71316844,166861.48628180474,47871356.679892674,609053487.46772456,3025.9928913041949,505416900.77894384,167025.14478185389,47871370.385917768,608895174.21135128,3039.6989163979888,505258587.52257055,166219.94527053248,null,null,null,76588788547355.656,76589225462615.5,76593561591932.625,76593565997578.188,76593579006197.562,76593583411843.109,76593544220075.875,76593566308029.281,76593561634340.812,76593583722294.203,0,0,0,0,0,0,0,0,0,1,null,0,0,0,0,0,0,0,0,1]
[null,486,1526565.9657384423,0.2058614756177648,0.12981244670384506,0.19468418158218356,0.47343729163932702,0.23738221293814638,0.32372366215642701,4.1628004012414621E-2,0.5607799633216064,109.79946604610397,3303.9409478895095,1840.487440360359,210893.57318642095,5.3864727434798372,2479.8793444653707,4174.7106195531451,17875.577297092608,2825.5350849108413,289.00615794850177,0.8616664739798181,null,43213382.900932647,30893287.425666235,43213659.078676954,43887736.191378795,43216389.26601436,171186937.03529489,2730.1873374059796,127299200.84391609,46626.544303317401,43216389.540606439,171198543.56249708,2730.4619294852018,127310807.37111828,46626.106006583766,43216390.536687814,171176674.3631756,2731.4580108597875,127288938.1717968,46601.096434841318,43216390.811279893,171188280.89037779,2731.7326029390097,127300544.69899899,46600.660899986768,43216388.115513705,171194690.91367978,2729.0368367508054,127307479.02767771,46649.234379426758,43216389.540606439,171195215.21905652,2730.4619294852018,127307479.02767771,46624.887039417583,43216389.386187159,171184428.24156049,2730.3075102046132,127296692.05018169,46623.573196208177,43216390.811279893,171184952.54693723,2731.7326029390097,127297216.35555843,46599.442499826742,null,null,null,69141381748204.812,69141810638146.938,69146051638685.938,69146052066426.742,69146053682026.141,69146054109766.938,69146049790131.016,69146052069755.086,69146051833471.211,69146054113095.281,0,0,0,0,0,0,0,0,0,1,null,0,0,0,0,0,0,0,0,1]
[null,487,1956773.7860534193,0.17771509658351323,0.1740559610313448,0.23236504307600481,0.57577350307340869,0.27704727917141314,0.16284204469698399,4.2847398688597549E-2,0.6293938807107694,1307.2090241209107,1082.1694580674978,3325.0842676439975,537153.82335021882,102.60364083881301,9357.9015415257709,1059.1243247327229,1284.200017541353,3365.3176400440211,1256.8449777213061,0.33065100546260057,null,55391848.082170114,78691780.966309533,55392173.772871904,304206234.18898207,55395388.020254016,2540587115.9390445,3214.2473821118474,2236380881.7500625,695771.23845417891,55395388.036862031,2540586866.2474518,3214.2639901265502,2236380632.0584698,695767.56574074063,55395388.230711721,2540583437.8381596,3214.4578398168087,2236377203.6491776,695724.54052675585,55395388.247319728,2540583188.1465673,3214.4744478240609,2236376953.9575853,695720.86829666095,55395387.855689272,2540590457.1179352,3214.0828173682094,2236380553.3397598,695806.76056473784,55395388.036862031,2540586787.5287418,3214.2639901265502,2236380553.3397598,695767.54125030979,55395388.066146977,2540586779.0170498,3214.2932750731707,2236380544.8280678,695761.19956793881,55395388.247319728,2540583109.4278569,3214.4744478240609,2236376875.2388749,695720.84380783339,null,null,null,88626878239691.219,88627173830360.859,88630080245290.484,88630080272113,88630080585700.906,88630080612523.422,88630079978645.703,88630080272191.719,88630080319056.141,88630080612602.141,0,0,0,0,0,0,0,0,0,1,null,0,0,0,0,0,0,0,0,1]
[null,488,1799065.0831264884,0.15274510395638924,0.14154638647224888,0.18775393047898592,0.66441119863814657,0.25175755493286617,0.30388470645173521,3.5304595058987795E-2,0.51250294152677089,835.67345607578716,551.1890971833958,1184.9120314263266,112533.95132207121,185.78025759213585,1596.4059079314536,3601.0011684037554,6874.975703900207,3663.936320474349,72.336093622401023,0.93190023774741304,null,50927821.420883544,16485888.263983013,50928093.054071501,151696212.83795059,50930785.687334381,1491183045.4617834,2692.6332628801465,1339486832.6238327,497463.52430893795,50930785.689390123,1491183069.1633594,2692.6353186219931,1339486856.3254089,497463.15331365285,50930785.695120156,1491183012.4811957,2692.6410486549139,1339486799.6432452,497462.07364415488,50930785.69717589,1491183036.1827717,2692.6431043893099,1339486823.344821,497461.70265242632,50930785.679752238,1491183067.3029058,2692.6256807371974,1339486838.2409496,497464.92719857732,50930785.689390123,1491183051.0789001,2692.6353186219931,1339486838.2409496,497463.14659738523,50930785.687538005,1491183034.3223181,2692.6334665045142,1339486821.4843674,497463.4825523594,50930785.69717589,1491183018.0983121,2692.6431043893099,1339486805.2603617,497461.69593617815,null,null,null,81484497787525.406,81484797190301.562,81487765916689.547,81487765919955.047,81487765929179.766,81487765932445.234,81487765904536.281,81487765919973.125,81487765917026.484,81487765932463.328,0,0,0,0,0,0,0,0,0,1,null,0,0,0,0,0,0,0,0,1]
[null,489,1853161.707173039,0.12444469406473645,0.18289635251185343,0.19791861309604583,0.59728972537564651,0.21910819797555406,0.49920738659302988,3.9965436727927628E-2,0.52384893334867988,911.41085384434405,2093.1435772105078,10370.264741183921,186378.06366371963,549.20468013280197,1236.5064933949852,28505.263651776415,28617.985746518745,2929.555996792677,26.532070381455718,0.69379063087388471,null,52459036.625606261,27167308.703019153,52459323.664344899,179603749.55744904,52462169.676648267,1680533399.2687151,2846.0123033672571,1500929649.711266,527379.88797007035,52462179.090044804,1680953033.6410389,2855.425699904561,1501349284.0835898,525788.25081450038,52462208.06502635,1680245663.6131179,2884.400681450963,1500641914.0556688,520261.25347494683,52462217.478422895,1680665297.9854414,2893.8140779957175,1501061548.4279923,518713.88692242507,52462154.762172326,1680160016.6592088,2831.0978274270892,1500855794.9238076,530132.08529349556,52462179.090044804,1680459544.4812567,2855.425699904561,1500855794.9238076,525615.42573983688,52462193.15055041,1679872281.0036113,2869.4862055107951,1500268531.4461622,522835.24784504081,52462217.478422895,1680171808.8256593,2893.8140779957175,1500568059.2682102,518543.35448790045,null,null,null,83934431433661.312,83934738259202.281,83937790949237.969,83937805591038.047,83937852658378.547,83937867300178.641,83937767459459.062,83937806084527.203,83937829168599.656,83937867793667.797,0,0,0,0,0,0,0,0,0,1,null,0,0,0,0,0,0,0,0,1]
[null,490,2285530.0610970319,0.21079828474468021,0.13979235609689403,0.20269353925158196,0.56397988290928325,0.23863527834846893,0.3507941980825654,3.8837641822629991E-2,0.48394137867866921,37.057163395599588,424.81974468687764,2180.8953825940621,584562.97583230399,19.68025005379528,4588.4610564189379,32625.50224772139,38040.421664284615,6851.6448718516285,2420.5929425375766,0.95604189424566499,null,64699513.221223995,85668375.165749043,64699777.072674014,87693015.645716429,64702384.722712994,95552113.796064943,2607.6500389799476,7859098.1503485143,3013.862302405737,64702392.22697001,95905038.131331399,2615.1542959958315,8212022.4856149703,3140.1674838799108,64702405.824575968,95037554.803506687,2628.7519019544125,7344539.1577902585,2793.9263314768405,64702413.328832984,95390479.138773158,2636.2561589702964,7697463.4930567294,2919.846566072436,64702360.648189791,95735986.949142262,2583.5755157768726,7731796.1681565195,2992.6727981982731,64702392.22697001,95424811.813872948,2615.1542959958315,7731796.1681565195,2956.5353677199796,64702381.750052758,95221427.956584021,2604.6773787438869,7528412.3108675927,2890.3434921749085,64702413.328832984,94910252.821314692,2636.2561589702964,7217237.1755982637,2737.6843297417909,null,null,null,103519135485583.22,103519555623262.78,103523720004227,103523731658113.89,103523754281766.75,103523765935653.64,103523681301116.72,103523732138340.2,103523715578656.45,103523766415879.95,0,0,0,0,0,0,0,0,0,1,null,0,0,0,0,0,0,0,0,1]
[null,491,1362536.989054821,0.23691721851317904,0.17744811603425448,0.25823379474823238,0.48836040584672308,0.27220854016012364,0.32470530798133523,3.896586376761977E-2,0.49648701629649461,391.3646294291778,1524.6358556737232,7387.8513456192259,46181.49294549819,169.34839093824513,2111.4150365169962,14930.19655691144,550.91369236633864,1070.7483906706809,2642.2620012992738,0.71123978825404421,null,38569611.182627395,6765465.7763336739,38569898.022752032,55547123.373032719,38572721.445143729,533442185.35210967,2823.4223916977644,477895061.97907698,169260.91660401964,38572721.445346616,533442185.23706019,2823.4225945845246,477895061.8640275,169260.90440044497,38572721.446218692,533442184.31443876,2823.4234666600823,477895060.94140601,169260.85179377053,38572721.446421586,533442184.19938922,2823.4236695542932,477895060.82635653,169260.83958975851,38572721.444190398,533442179.34945148,2823.4214383661747,477895053.94834065,169260.97091084055,38572721.445346616,533442177.3213734,2823.4225945845246,477895053.94834065,169260.90159686649,38572721.44526536,533442178.31178057,2823.4225133284926,477895054.93874788,169260.90681885375,38572721.446421586,533442176.28370249,2823.4236695542932,477895052.9106698,169260.83678618111,null,null,null,61711371126738.055,61711781289279.875,61715820870044.617,61715820870369.352,61715820871765.594,61715820872090.336,61715820868525.281,61715820870377.266,61715820870246.266,61715820872098.258,0,0,0,0,0,0,0,0,0,1,null,0,0,0,0,0,0,0,0,1]
[null,492,1623945.9679145776,0.16206907628050332,0.1280107774163842,0.21304861451959034,0.50399080739527657,0.23479551404147098,0.40540560296951578,4.418154343692382E-2,0.45223764889087509,801.16882775820568,1440.9290349216064,3234.9628770158838,907736.46864364005,220.97075193518788,619.85781849545663,21711.517712618919,25648.896521558971,1054.0749795001304,234.07078016061226,0.86842227919676884,null,45970211.443876289,131944709.61827132,45970483.351877503,239614856.99685931,45973177.441798247,1299297076.7035406,2694.0899207442999,1059682219.7066813,393335.87626277946,45973184.710031882,1299477557.3659849,2701.3581543788314,1059862700.3691256,392344.38375049073,45973201.231268056,1298320138.887141,2717.87939055264,1058705281.8902817,389533.57738034497,45973208.499501698,1298500619.5495853,2725.147624194622,1058885762.552726,388560.88130846282,45973157.483886495,1299718002.3158438,2674.1320089921355,1059454251.8969972,396186.21980307519,45973184.710031882,1299069108.8938565,2701.3581543788314,1059454251.8969972,392193.18259581737,45973181.273356304,1298741064.4994442,2697.9214788004756,1059126207.5025849,392571.17593114078,45973208.499501698,1298092171.077457,2725.147624194622,1058477314.0805976,388411.00008056086,null,null,null,73552206365492.438,73552533748147,73555784609800.5,73555796058493.656,73555823649890,73555835098583.172,73555752256216.078,73555796466942.125,73555791296305.578,73555835507031.641,0,0,0,0,0,0,0,0,0,1,null,0,0,0,0,0,0,0,0,1]
[null,493,1998159.7171368266,0.24198285021404431,0.14480474666672996,0.20514190718937564,0.47943194922005944,0.25080079125868504,0.28550813661295854,3.4322585749009996E-2,0.57392769026656842,170.84569627086941,737.05738179807065,3314.7679430021108,1014152.61751218,67.941953800595144,3090.0715735730605,4042.369402705192,9666.0186709749469,4875.7699048811955,455.77340096769757,0.35712883319702804,null,56563497.507922053,148642774.70657051,56563818.53849566,167393332.85891819,56566985.654340073,352405889.84859306,3167.1158444136381,185012556.98967487,58416.731840109947,56566986.338325731,352395164.65740001,3167.7998300716281,185001831.79848182,58400.732913196312,56566989.253063589,352268822.83664626,3170.7145679295063,184875489.97772807,58307.200480191052,56566989.937049255,352258097.64545327,3171.3985535949469,184864764.78653508,58291.243330795231,56566982.064977311,352540979.13952136,3163.5264816507697,184995007.6682747,58477.464545117975,56566986.338325731,352388340.52719289,3167.7998300716281,184995007.6682747,58398.578695577402,56566985.663700834,352403912.1275745,3167.1252051740885,185010579.26865631,58415.934730463799,56566989.937049255,352251273.51524603,3171.3985535949469,184857940.65632784,58289.091557660468,null,null,null,90501447369900.578,90501942268260.203,90506824641054.281,90506825746156.516,90506830536078.906,90506831641181.172,90506818762984.562,90506825752980.641,90506824658009.203,90506831648005.297,0,0,0,0,0,0,0,0,0,1,null,0,0,0,0,0,0,0,0,1]
[null,509,1586020.7367551432,0.2583576107867338,0.19921164311289008,0.208401612300816,0.60101961839176776,0.22170828019717426,0.29598926936611875,4.194078059658346E-2,0.72048538272907847,1031.0454395167112,245.03310606604887,163.35112339121858,1932808.0317861044,71.827532526408604,188.38429417968004,13716.438118907387,159.73078405790625,1846.1431416053213,282.48800944871846,0.99073580341424705,null,44896668.864725962,283151158.10324126,44896928.117057107,408057910.10546255,44899476.215617359,1643461068.6896274,2548.0985602512956,1235403158.5841649,484833.34901391272,44899476.215617441,1643461068.6826646,2548.098560333252,1235403158.5772021,484833.3489955861,44899476.215617731,1643461068.6550992,2548.0985606238246,1235403158.5496366,484833.34892948007,44899476.215617813,1643461068.6481364,2548.098560705781,1235403158.5426738,484833.34891115344,44899476.215617076,1643461068.7142351,2548.0985599681735,1235403158.5754938,484833.34906438011,44899476.215617441,1643461068.6809564,2548.098560333252,1235403158.5754938,484833.34899491572,44899476.215617448,1643461068.6797068,2548.0985603407025,1235403158.5742443,484833.34899300768,44899476.215617813,1643461068.6464281,2548.098560705781,1235403158.5409656,484833.34891048307,null,null,null,71834387032403.438,71834676929381.266,71837518483919.094,71837518483919.219,71837518483919.719,71837518483919.859,71837518483918.609,71837518483919.219,71837518483919.234,71837518483919.859,0,0,0,0,0,1,0,0,0,1,null,0,0,0,0,1,0,0,0,1]
[null,513,1689907.9600160599,0.20624016845485926,6.4883135060558636E-2,0.16447223083392692,0.48480804172578329,0.29229064584485198,0.40603099910640972,3.0301524657805896E-2,0.53200264909156658,218.34117080439376,5856.4623926166896,7620.7272215737521,316971.52282140625,186.21378617508145,1296.2079083592614,7505.8410103780379,42374.753731976569,423.16073357606228,542.94266304333883,0.51897272996310095,null,47837253.704532385,45324890.281179577,47837550.387826465,75746277.699358106,47840494.369339958,374765824.32355708,2943.981513492763,299019546.62419897,101569.77727398832,47840511.450797528,376381004.85888511,2961.0629710629582,300634727.159527,101529.32581896614,47840530.942974642,374347776.498344,2980.5551481768489,298601498.7989859,100183.18197589298,47840548.02443222,375962957.03367203,2997.6366057544947,300216679.33431393,100151.12530918351,47840431.443452209,375256420.43266809,2881.055625744164,300309398.42749375,104235.8903951829,47840511.450797528,376055676.12685186,2961.0629710629582,300309398.42749375,101419.45691877302,47840468.017086901,374838372.60745507,2917.6292604357004,299092094.90809697,102512.02884612983,47840548.02443222,375637628.30163884,2997.6366057544947,299891350.60228074,100042.59690003323,null,null,null,{"$f":"cRatio*X520-Y520","v":76539560602361.531},{"$f":"cRatio*Z520-AA520","v":76540004874244.641},{"$f":"cRatio*AB520-AC520","v":76544416225119.609},{"$f":"cRatio*AG520-AH520","v":76544441940271.188},{"$f":"cRatio*AL520-AM520","v":76544475160982.922},{"$f":"cRatio*AQ520-AR520","v":76544500876134.516},{"$f":"cRatio*AV520-AW520","v":76544315053103.094},{"$f":"cRatio*BA520-BB520","v":76544442265599.922},{"$f":"cRatio*BF520-BG520","v":76544373988966.438},{"$f":"cRatio*BK520-BL520","v":76544501201463.25},0,0,0,0,0,0,0,0,0,1,null,0,0,0,0,0,0,0,0,1]
[null,532,1704226.1719957092,0.23102008941285657,0.11342468304835461,0.18726460077663445,0.52797390428591195,0.28163968764378733,0.35971535401885579,4.0267877429776888E-2,0.49609533030089992,1259.9430647612185,819.35514123402425,3465.9547327549008,334229.36761254998,226.87144417577815,4063.0059417539924,30808.949390293568,2854.5703915775139,3445.4814091421536,455.56836947458055,0.75077289364861255,null,48242765.787466593,48950066.828902416,48243049.099241383,240878339.65159243,48245849.314099081,2132620080.881916,2800.2148576974869,1891741741.2303236,675570.2106322773,48245855.909472354,2132563536.4702075,2806.8102309703827,1891685196.818615,673962.62702256616,48245867.443298638,2132410998.4352682,2818.3440572544932,1891532658.7836757,671150.37069899961,48245874.038671911,2132354454.02356,2824.939430527389,1891476114.3719676,669563.422823139,48245824.152327888,2132553337.0930922,2775.0530865043402,1891248296.7365327,681517.880120588,48245855.909472354,2132126636.3881252,2806.8102309703827,1891248296.7365327,673806.96987223183,48245842.281527445,2132344254.6464446,2793.1822860613465,1891465914.9948521,677172.38664791884,48245874.038671911,2131917553.9414778,2824.939430527389,1891039214.2898853,669408.764610874,null,null,null,77188376309879.719,77188637680446.562,77191226282477.656,77191236891619.297,77191255498279.391,77191266107421.031,77191186090387.531,77191237328519.375,77191215306189.266,77191266544321.125,0,0,0,0,0,0,0,0,0,1,null,0,0,0,0,0,0,0,0,1]
[null,557,1766534.8389376784,0.15323873864726756,0.35730384032720663,0.22591149553370926,0.486375755919012,0.24398693484970935,0.40722226645248605,3.7636468853211522E-2,0.47434133290745761,204.25110231856459,1583.7369938461907,11471.366419708427,669646.27709110768,221.01024100660166,1879.2046404901616,5130.3647477794057,2904.7426013965719,5977.698846139011,894.4546223483751,0.9238638099507267,null,50006888.738510609,98201054.564511389,50007152.046688266,123609162.67615432,50009742.029987283,374220554.97802579,2589.9832990169525,250611392.30187148,96761.779273631953,50009742.307736829,374214365.07909471,2590.2610485628247,250605202.40294039,96749.013981423108,50009745.142200455,374124918.14664006,2593.095512188971,250515755.47048575,96608.765197010405,50009745.419949993,374118728.24770898,2593.3732617273927,250509565.57155466,96596.031612007675,50009741.218703017,374241509.17090911,2589.1720147505403,250600806.47642386,96788.009853632131,50009742.307736829,374209969.15257818,2590.2610485628247,250600806.47642386,96747.316883549909,50009744.330916181,374145872.33952332,2592.2842279151082,250536709.663369,96647.083281013402,50009745.419949993,374114332.32119238,2593.3732617273927,250505169.64503807,96594.336550760039,null,null,null,80010923780562.406,80011319665538.547,80015213027424.672,80015213478013.844,80015218102602.594,80015218553191.734,80015211708415.656,80015213482409.766,80015216783593.547,80015218557587.656,0,0,0,0,0,0,0,0,0,1,null,0,0,0,0,0,0,0,0,1]
[null,586,1578700.3485765406,0.21070341265106018,0.14410051052924538,0.20828880587291276,0.55613444195107142,0.18526303920392115,0.30790359087237629,4.1086726375205829E-2,0.50391918724678919,77.326498946942166,1969.5176806603677,5642.3774141589402,497176.71459099581,424.22590075707961,4534.7191617014469,60888.441714632798,1864.1763351383354,3147.7221165905016,762.04064467317346,0.67153549702464344,null,44689082.198602423,72849109.694688976,44689374.822636247,80327876.763775021,44692264.646975704,130801984.60872905,2889.8243394568563,50474107.844954029,17466.150850691727,44692266.596362121,130766885.08103929,2891.773725874722,50439008.317264274,17442.238950423813,44692270.530190147,130692261.59640646,2895.7075539007783,50364384.832631439,17392.773232499287,44692272.479576558,130657162.06871669,2897.6569403111935,50329285.304941669,17368.959245926664,44692258.076357663,130730495.6369987,2883.2537214159966,50227372.766436815,17420.379064583194,44692266.596362121,130555249.53021184,2891.773725874722,50227372.766436815,17369.053573250694,44692263.959572107,130620772.62467609,2889.1369358599186,50292895.860901073,17407.584679239844,44692272.479576558,130445526.51788926,2897.6569403111935,50117649.75411424,17295.922459589667,null,null,null,71502458668654.188,71502919388341.234,71507492633176.516,71507495787294.312,71507502156042.641,71507505310160.438,71507482191676.625,71507495998929.859,71507491714542.75,71507505521795.984,0,0,0,0,0,0,0,0,0,1,null,0,0,0,0,0,0,0,0,1]
[null,594,2239840.3398293494,0.17813113285142848,7.2195611287988071E-2,0.22924636221839323,0.64871558716818511,0.24502139261431513,0.38124425847305565,4.1573463871621863E-2,0.53576845433358122,1134.695590568125,860.32653867245233,10484.650831355153,868407.83080048393,127.83411837557252,292.55331651968169,14274.576110949609,6648.100467009881,5710.8096621328586,2047.0988802569184,0.686219715983587,null,63405758.840601973,127216870.00371115,63406055.38050507,347770183.03879303,63408996.036940426,2529386634.421936,2940.6564353555441,2181616451.3831429,741880.76687692746,63408996.054957919,2529386148.3327651,2940.6744528487325,2181615965.293972,741876.05607977638,63408996.062361076,2529385691.189508,2940.6818560063839,2181615508.1507149,741874.03295420576,63408996.08037857,2529385205.100337,2940.6998734995723,2181615022.0615439,741869.32223903504,63408995.989949703,2529387988.9693718,2940.6094446331263,2181615560.9329062,741892.31926550076,63408996.054957919,2529385743.9716992,2940.6744528487325,2181615560.9329062,741875.91857354366,63408996.015370354,2529387045.7369437,2940.6348652839661,2181616862.6981506,741886.34857509925,63408996.08037857,2529384800.7392707,2940.6998734995723,2181614617.7004776,741869.18473399081,null,null,null,101449086928093.16,101449340838625.08,101451864272470.27,101451864301784.34,101451864314086.53,101451864343400.62,101451864195930.56,101451864302188.7,101451864237546.83,101451864343804.98,0,0,0,0,0,0,0,0,0,1,null,0,0,0,0,0,0,0,0,1]
[null,619,1799887.6413280207,0.18596520710626283,0.17110610713109631,0.21166404717736631,0.54986496961559639,0.30003015066777883,0.28696770973853281,4.1468931828480105E-2,0.5652809337924406,82.516963674167314,2370.4054439323359,1497.7539556116703,2685274.4116336,535.69020980730602,1034.2886254005048,59516.111781631669,5250.6656379340575,77.660653455212326,251.99072885909709,0.56053159537095154,null,50950702.581505217,393397425.84438199,50951006.214263581,375422499.02000028,50954005.258209355,174916476.01653406,2999.043945774436,-200506023.00346622,-66856.647194507852,50954005.394245125,174903560.92154089,2999.1799815446138,-200518938.09845939,-66857.920942507,50954006.245091505,174807117.11970472,3000.0308279246092,-200615381.90029556,-66871.106800952184,50954006.381127283,174794202.02471158,3000.1668637022376,-200628296.9952887,-66872.379474157395,50954004.514278799,174974082.86674604,2998.3000152185559,-200544097.6589705,-66885.934243092139,50954005.394245125,174878401.36102977,2999.1799815446138,-200544097.6589705,-66866.309755671246,50954005.501160949,174864723.9699167,2999.2868973687291,-200557775.05008358,-66868.486381223716,50954006.381127283,174769042.46420047,3000.1668637022376,-200653456.55579981,-66880.765527885116,null,null,null,81520730732982.5,81521234520322.719,81526233496658.953,81526233727231.281,81526235185029.281,81526235415601.625,81526232248763.219,81526233752390.844,81526233937133.547,81526235440761.188,0,0,0,0,0,0,0,0,0,1,null,0,0,0,0,0,0,0,0,1]
[null,638,1575283.5382076162,0.16223550579002574,5.2043650594140817E-2,0.20002415322411429,0.55464367037302065,0.2897992840213327,0.45185658208069446,3.0394600628913537E-2,0.53095751725686746,3562.9732024345008,120.87198080218755,774.32401080551608,1924223.5984023574,302.50880020027358,2934.9459787219762,5136.4529439179469,6748.5524986482824,95.883143573806834,186.02541335453478,0.61522711715138134,null,44592292.900613323,281872283.84292328,44592597.983400278,766210149.20354676,44595631.766253024,5566787998.4885721,3033.7828527465463,4800577849.2850256,1582373.5851558931,44595631.802312262,5566785602.5843058,3033.8189119845629,4800575453.3807592,1582353.9877139465,44595631.817575403,5566784066.3667612,3033.8341751247644,4800573917.1632147,1582345.5205707788,44595631.853634641,5566781670.4624958,3033.870234362781,4800571521.2589493,1582325.9237939152,44595631.674645014,5566795025.1449957,3033.6912447363138,4800575051.3437424,1582420.4456116313,44595631.802312262,5566785200.5472889,3033.8189119845629,4800575051.3437424,1582353.8551954841,44595631.7259674,5566791093.0231857,3033.7425671219826,4800580943.8196392,1582395.6178238951,44595631.853634641,5566781268.4254789,3033.870234362781,4800571119.2219324,1582325.7912776947,null,null,null,71347386768697.469,71347390563291.234,71347444038006.359,71347444098097.047,71347444124054.281,71347444184144.953,71347443884406.875,71347444098499.078,71347443970454.828,71347444184547,0,0,0,0,0,0,0,0,0,1,null,0,0,0,0,0,0,0,0,1]
[null,645,1925445.0542202792,0.16014378771249979,0.14747327372418392,0.20968403128883706,0.55851068263340253,0.21881115810363141,0.28344420831725414,4.3083241901683667E-2,0.53334404008502556,109.1379420096476,362.7889830294107,8505.6885288034955,1574345.8727426326,130.22079765103004,8028.7109551904086,198.60028679113861,5916.2244497746678,517.39538951358463,418.66158174310021,0.70684573655581429,null,54505353.794259876,230524823.87768319,54505645.532973677,230017449.68402088,54508533.154784434,225290676.06200337,2887.6218107566237,-4726773.6220175028,-1636.9088238667164,54508533.759432063,225259438.06781656,2888.2264583855867,-4758011.6162043214,-1647.3817703560117,54508536.239041038,225093647.30070868,2890.7060673609376,-4923802.3833121955,-1703.321703616642,54508536.843688674,225062409.30652186,2891.3107149973512,-4955040.3774990141,-1713.7695896179575,54508530.641617551,225462015.60937133,2885.108643874526,-4758349.526483804,-1649.2791481479981,54508533.759432063,225259100.15753707,2888.2264583855867,-4758349.526483804,-1647.4987661263749,54508533.725874163,225264986.84807664,2888.1929004862905,-4752462.8359442353,-1645.4797167959434,54508536.843688674,225062071.39624241,2891.3107149973512,-4955378.2877784669,-1713.8864605850592,null,null,null,87208335545991.922,87208802835308.203,87213427756979.031,87213428755653.234,87213432888818.359,87213433887492.562,87213423564572.469,87213428755991.141,87213428696411.812,87213433887830.484,0,0,0,0,0,0,0,0,0,1,null,0,0,0,0,0,0,0,0,1]
[null,662,1790582.942208648,0.25880189310749369,0.22501248387330608,0.21009162407175197,0.45162568852192886,0.27039107030121368,0.28862219864722971,2.8703524486776696E-2,0.49489741883863986,96.390533413465562,3356.3378085025975,2105.2606147203214,191540.56388007,173.22907974475919,2482.5819815872705,6522.353421034496,9368.1440503756767,4473.8886198744849,1073.1851895654622,0.97482764303357428,null,50687568.410245232,29635673.433069013,50687828.153521962,43572121.389075421,50690385.720710233,179730462.97777349,2557.56718827039,136158341.58869806,53237.444636118467,50690401.852355763,180113976.25689039,2573.6988338008523,136541854.86781496,53052.771005910283,50690518.418025434,178663613.75856462,2690.2645034715533,135091492.36948919,50214.948082303927,50690534.549670957,179047127.03768152,2706.396148994565,135475005.64860609,50057.344967378667,50690286.640543684,180262764.38665947,2458.4870217218995,136172652.14766282,55388.802521434045,50690401.852355763,179744773.53673825,2573.6988338008523,136172652.14766282,52909.318821333232,50690419.337858893,179195915.16745061,2591.1843369305134,135623793.77837518,52340.46526347621,50690534.549670957,178677924.31752938,2706.396148994565,135105802.92845395,49920.926387161096,null,null,null,81100079820718.938,81100481473513.75,81104437422673.391,81104462849792.969,81104650805226.922,81104676232346.5,81104278362105.5,81104463218995.688,81104491744659.062,81104676601549.219,0,0,0,0,0,0,0,0,0,1,null,0,0,0,0,0,0,0,0,1]
[null,681,1575827.3385872554,0.1972191093738983,0.20980331603510116,0.28314679242393659,0.4959346125301598,0.23923198090647421,0.26870870866457064,3.7385844252150809E-2,0.48069074883052365,446.53989720977842,8455.7700124060193,1897.8512317207274,257808.92959215833,259.16429462985366,5060.8756667572634,2031.8324751801756,365.60099132338576,4730.0439701599616,1325.0355471590838,0.85033313110415309,null,44607923.760813624,38004565.642738149,44608196.330298759,99299250.258873627,44610881.27387701,706607876.75318897,2684.9435782507062,607308626.49431539,226190.46128708185,44610885.57782913,706562653.54446113,2689.2475303709507,607263403.28558755,225811.64300700225,44610913.180767909,706306455.26269567,2716.8504691496491,607007205.00382209,223423.11875331518,44610917.484720021,706261232.05396771,2721.1544212624431,606961981.79509413,223053.11931305326,44610858.64462547,706844073.20051742,2662.314326710999,607234155.01326799,228085.07204460716,44610885.57782913,706533405.27214158,2689.2475303709507,607234155.01326799,225800.76700098597,44610890.551516369,706542651.710024,2694.221217609942,607243401.45115042,225387.35775744476,44610917.484720021,706231983.78164816,2721.1544212624431,606932733.52277458,223042.37083362445,null,null,null,71372640012736.156,71373014829227.75,71376703430326.469,71376710361873.062,71376754782773.391,71376761714319.984,71376666987327.547,71376710391121.344,71376718339774.484,71376761743568.25,0,0,0,0,0,0,0,0,0,1,null,0,0,0,0,0,0,0,0,1]
[null,706,1723579.9043515858,0.27800948344909082,0.21056388273028803,0.19586352064645157,0.55096719340529865,0.27390975107674742,0.46284358094725453,4.5123763115478721E-2,0.54712128313615294,841.88678385068943,456.0660285695032,5892.3711498558187,72418.36060207519,110.24939106913953,11136.151386957208,32020.835953322476,1128.8911786244139,806.11738443259151,2241.5090403617523,0.63745125954469561,null,48790387.236594252,11076043.087696096,48790673.926944695,143263235.5804958,48793493.543272264,1442928501.4588439,2819.6163275688887,1299665265.8783481,460936.92009470559,48793529.56455709,1442866202.8463242,2855.6376123949885,1299602967.2658284,455100.8018751606,48793609.945961103,1443048277.7287869,2936.0190164074302,1299785042.1482911,442703.20964703197,48793645.967245921,1442985979.1162672,2972.0403012260795,1299722743.5357714,437316.66189034731,48793410.408704385,1441810938.4439051,2736.4817596897483,1298229903.0156519,474415.69760831888,48793529.56455709,1441493138.5961478,2855.6376123949885,1298229903.0156519,454619.97607141838,48793526.811393216,1441930714.7138481,2852.8844485208392,1298667479.1333523,455212.08537088986,48793645.967245921,1441612914.866091,2972.0403012260795,1298349679.2855952,436854.66807094665,null,null,null,78064608502507.703,78064935019875.938,78068146740734.172,78068204437088.5,78068332865260.031,78068390561614.359,78068014842988.578,78068205810152.75,78068200967514.422,78068391934678.609,{"$f":"IF(BS713=MAX($BS713:$CB713),1,0)","v":0},{"$f":"IF(BT713=MAX($BS713:$CB713),1,0)","v":0},{"$f":"IF(BU713=MAX($BS713:$CB713),1,0)","v":0},{"$f":"IF(BV713=MAX($BS713:$CB713),1,0)","v":0},{"$f":"IF(BW713=MAX($BS713:$CB713),1,0)","v":0},{"$f":"IF(BX713=MAX($BS713:$CB713),1,0)","v":0},{"$f":"IF(BY713=MAX($BS713:$CB713),1,0)","v":0},{"$f":"IF(BZ713=MAX($BS713:$CB713),1,0)","v":0},{"$f":"IF(CA713=MAX($BS713:$CB713),1,0)","v":0},{"$f":"IF(CB713=MAX($BS713:$CB713),1,0)","v":1},null,{"$f":"IF(BT713=MAX($BT713:$CB713),1,0)","v":0},{"$f":"IF(BU713=MAX($BT713:$CB713),1,0)","v":0},{"$f":"IF(BV713=MAX($BT713:$CB713),1,0)","v":0},{"$f":"IF(BW713=MAX($BT713:$CB713),1,0)","v":0},{"$f":"IF(BX713=MAX($BT713:$CB713),1,0)","v":0},{"$f":"IF(BY713=MAX($BT713:$CB713),1,0)","v":0},{"$f":"IF(BZ713=MAX($BT713:$CB713),1,0)","v":0},{"$f":"IF(CA713=MAX($BT713:$CB713),1,0)","v":0},{"$f":"IF(CB713=MAX($BT713:$CB713),1,0)","v":1}]
[null,736,1714488.3930889505,0.17786471801384207,0.11733038993793339,0.17768949883126192,0.51698292004822866,0.23735642337083043,0.39200898531649431,4.3559181304314576E-2,0.60008567470777363,3076.8910923048147,1746.4049826423832,4663.6967470228674,465984.22399838391,81.253851611324478,4961.3381816227165,11648.414926771855,1005.0270683210966,291.66053896471561,867.74631433502236,0.95079887041246436,null,48533518.08837492,67938972.689880311,48533783.757955886,541073398.5667671,48536416.138541356,5228823992.0276384,2632.3805854693055,4687750593.4608717,1780802.7529670948,48536421.387918174,5228721518.8861837,2637.6299622878432,4687648120.319417,1777219.7720461958,48536435.095443606,5228470825.5302906,2651.3374877199531,4687397426.9635239,1767936.9181305179,48536440.344820417,5228368352.3888359,2656.5868645310402,4687294953.8220692,1764404.9273914874,48536401.086106308,5229006653.482482,2617.328150421381,4687500394.8953991,1790948.6795305845,48536421.387918174,5228573793.4621658,2637.6299622878432,4687500394.8953991,1777163.7651664857,48536420.043008558,5228653486.9851341,2636.2850526720285,4687580088.4183674,1778100.6206696928,48536440.344820417,5228220626.964818,2656.5868645310402,4687147228.3980513,1764349.3201662954,null,null,null,77653561002427.188,77653512939330.859,77653036997674.141,77653045499150.188,77653067681884.234,77653076183360.281,77653012731116.609,77653045646875.609,77653043415326.703,77653076331085.703,1,0,0,0,0,0,0,0,0,0,null,1,0,0,0,0,0,0,0,0]
[null,743,1353365.4738694078,0.21781381466216132,0.27743702215014376,0.23582366744466055,0.30982056901952315,0.2734737360493491,0.46283219053001745,4.7749817519315951E-2,0.58513967321059246,76.963379259891866,197.04753425993596,20916.020581256795,287771.58587257017,56.630200181155509,514.32816970304737,20324.741908494187,9146.7954211144024,6.8678573507116427,4226.7992899421233,0.97839711304596477,null,38310242.198240921,42400842.092194371,38310500.338211931,49981006.906949624,38313036.559376679,117523304.69236411,2536.2211647480726,67542297.785414487,26631.075682283245,38313036.972626239,117566713.76066825,2536.6344143077731,67585706.853718624,26643.850005544537,38313054.868215688,117275465.66119348,2554.5300037562847,67294458.754243851,26343.185891452184,38313055.281465247,117318874.72949764,2554.9432533159852,67337867.822548017,26355.915238098612,38313032.471079156,117470236.14663889,2532.1328672245145,67476680.682102486,26648.159563626716,38313036.972626239,117457687.58905211,2536.6344143077731,67476680.682102486,26600.869365133298,38313050.779918164,117222397.11546828,2550.4417062327266,67241390.208518654,26364.605803063554,38313055.281465247,117209848.5578815,2554.9432533159852,67228841.65093188,26313.242598902169,null,null,null,61296345116343.383,61296750560132.188,61300740971697.992,61300741589488.227,61300770513679.438,61300771131469.672,61300734483490.5,61300741698514.398,61300764025471.945,61300771240495.844,0,0,0,0,0,0,0,0,0,1,null,0,0,0,0,0,0,0,0,1]
[null,768,1657761.1746976203,0.24395884071434559,7.2803361906173064E-2,0.18192864859015856,0.50563591162100685,0.30225226813186112,0.41679468990230917,4.0402547488818441E-2,0.57154662739391804,98.307754718262444,1609.4865220520132,4814.3299752467938,1357166.5131771946,191.60736748398384,3155.00677932384,12496.284574861806,19422.629123595802,97.588321360682556,206.04294833491161,0.79028318362763683,null,46927399.407763697,198788805.92068294,46927682.933599196,197114214.09381005,46930488.299484789,175945059.42189044,2805.3658855929971,-21169154.671919614,-7545.951414264413,46930488.642400272,175938667.9787674,2805.7088010758162,-21175546.115042657,-7547.3071570802867,46930488.989463091,175905635.41800022,2806.0558638945222,-21208578.67580983,-7558.1455624958462,46930489.332378566,175899243.97487718,2806.3987793698907,-21214970.118932873,-7559.4994820002676,46930487.106573164,176008013.37272739,2804.1729739680886,-21184786.131339222,-7554.7358625888764,46930488.642400272,175929427.96247083,2805.7088010758162,-21184786.131339222,-7550.6004483487968,46930487.796551459,175968589.36883718,2804.8629522621632,-21145624.724972874,-7538.9154781764355,46930489.332378566,175890003.95858061,2806.3987793698907,-21224210.135229439,-7562.7919635836015,null,null,null,75083640263616,75084095579544.625,75088605334116.234,75088605889172.453,75088606477505.531,75088607032561.734,75088603362503.688,75088605898412.469,75088604505892.953,75088607041801.75,0,0,0,0,0,0,0,0,0,1,null,0,0,0,0,0,0,0,0,1]
[null,787,1567237.4096177442,0.16156077580747222,0.1131754423273969,0.18897617782570983,0.61332066094290494,0.24911676386821105,0.40891322683294817,4.0205485671844787E-2,0.5159005513813355,849.21893418990282,3823.2817628150701,4525.522065149893,251825.68207133227,159.30662427089081,645.07728708038621,32855.288908937662,2475.3904931586212,6296.5485286704534,395.37100327259952,0.77050860461638004,null,44364709.934329994,36543456.519336738,44364991.041707389,155821789.1938118,44367779.223150864,1326276504.9739912,2788.1814434751868,1170454715.7801793,419791.4445343003,44367788.98018185,1326212123.3010943,2797.9384744614363,1170390334.1072824,418304.5284198274,44367802.900015965,1326023949.154253,2811.8583085760474,1170202159.9604411,416166.83045208023,44367812.657046951,1325959567.4813559,2821.6153395622969,1170137778.287544,414704.92518270109,44367755.472212456,1325951235.7956188,2764.4305050671101,1169800094.0186038,423161.33173700649,44367788.98018185,1325621883.2124157,2797.9384744614363,1169800094.0186038,418093.57307035633,44367779.149077564,1325698679.9758804,2788.1073701754212,1169876890.7820685,419595.35106012167,44367812.657046951,1325369327.3926773,2821.6153395622969,1169547538.1988654,414495.74001121341,null,null,null,70983499351471.469,70983829844942.641,70987120480536.406,70987136156167.656,70987158616076.391,70987174291707.641,70987082804304.141,70987136746407.734,70987120939844.141,70987174881947.734,0,0,0,0,0,0,0,0,0,1,null,0,0,0,0,0,0,0,0,1]
[null,795,1518704.9246440581,0.18975108170851229,0.19166938710969783,0.22547335954720349,0.50338022278649697,0.26539632908021416,0.40423384286371933,4.0348846338577493E-2,0.56947128136008551,822.20085581256706,1166.561227990494,6255.6876592141598,369921.46774343052,161.99332854319269,5336.7126331425661,44540.956716353205,1895.5964820417751,2.4681342007746245,2053.0901950199182,0.93519167202457942,null,42990918.328530394,54210203.18608579,42991185.505208328,164758052.08213037,42993823.391922727,1243669084.1836579,2637.8867143988609,1078911032.1015275,409005.82508426515,42993823.90379706,1243662703.8179796,2638.398588731885,1078904651.7358491,408924.05580553768,42993826.452641591,1243623054.2117691,2640.9474332630634,1078865002.1296387,408514.37955227692,42993826.964515932,1243616673.8460908,2641.459307603538,1078858621.7639604,408432.80025492958,42993821.796208568,1243638226.6350143,2636.2910002395511,1078846141.4106433,409228.77683556639,42993823.90379706,1243604193.4927738,2638.398588731885,1078846141.4106433,408901.87935143564,42993824.85692744,1243592196.6631255,2639.3517191112041,1078834144.5809951,408749.67014411028,42993826.964515932,1243558163.520885,2641.459307603538,1078800111.4387546,408410.64949718839,null,null,null,68785415115445.445,68785732050281.242,68788873757992.18,68788874583371.477,68788878701172.336,68788879526551.648,68788871235707.078,68788874641881.805,68788876178887.242,68788879585061.969,0,0,0,0,0,0,0,0,0,1,null,0,0,0,0,0,0,0,0,1]
[null,830,1854276.8977452442,0.1681751798030291,0.16262879781524386,0.18210678435294847,0.55011020426079793,0.24649630927692415,0.41375912824567351,3.3163639705905273E-2,0.64258929790314823,448.52976194725295,42.441119317850429,16919.158033128937,278529.7231888916,332.50242233571993,4878.4372089913759,22549.629109740577,9.5035618123131691,1084.8258916933587,452.92449800454528,0.86403952306590903,null,52490776.299373239,40800758.920028917,52491052.53420344,114192382.82675976,52493788.3591258,833143977.58044171,2735.8249223604798,718951594.7536819,262791.52181030932,52493788.65447019,833140223.30998373,2736.1202667504549,718947840.48322392,262761.78325197677,52493789.820052862,833128494.45769739,2737.2858494222164,718936111.63093758,262645.6099872397,52493790.115397245,833124740.18723941,2737.5811938047409,718932357.36047959,262615.90304150729,52493787.600923173,833139221.05569601,2735.0667197331786,718933430.47428846,262857.73041193839,52493788.65447019,833125813.30104828,2736.1202667504549,718933430.47428846,262756.51666734944,52493789.061850227,833123737.93295181,2736.5276467874646,718931355.10619211,262716.64236616745,52493790.115397245,833110330.17830408,2737.5811938047409,718917947.35154438,262610.63926742534,null,null,null,83985201278238.266,83985569862342.672,83989228230623.703,83989228706928.984,83989230583590.125,83989231059895.406,83989227022256.016,83989228721339,83989229375222.422,83989231074305.422,0,0,0,0,0,0,0,0,0,1,null,0,0,0,0,0,0,0,0,1]
[null,849,1401724.1350552039,0.22726761068844215,0.13117094744126268,0.27063086001096115,0.50060877558512462,0.22091564433218419,0.43767473139975177,4.162267593614033E-2,0.57647191565872435,221.0123679846005,1414.7897878608462,42229.818696498172,129229.82067182577,187.82555764643919,2197.6779849138829,4678.3407870746305,7787.6262894901101,103.79436655843124,316.06356670865387,0.96763316999370619,null,39679264.1303965,18945206.337199323,39679527.293992996,47200792.978953473,39682124.363884792,325679312.03720933,2597.069891795516,278478519.05825585,107227.96484530739,39682129.431223013,325715493.15682214,2602.1372300162911,278514700.17786866,107033.05612214963,39682138.13676852,325613944.3662461,2610.8427755236626,278413151.38729262,106637.27207068249,39682143.204106741,325650125.48585892,2615.9101137444377,278449332.50690544,106444.53379490571,39682112.711020865,325710289.53033215,2585.4170278683305,278474324.72269708,107709.63512694833,39682129.431223013,325675117.70165056,2602.1372300162911,278474324.72269708,107017.53985548012,39682126.483904585,325644921.85936892,2599.1899115890265,278444128.88041544,107127.27363203229,39682143.204106741,325609750.03068733,2615.9101137444377,278408957.05173385,106429.09922207407,null,null,null,63486803663428.062,63487196469595.82,63491073302903.625,63491081374463.664,63491095404885.266,63491103476445.297,63491054627343.852,63491081414839.117,63491076729325.477,63491103516820.75,0,0,0,0,0,0,0,0,0,1,null,0,0,0,0,0,0,0,0,1]
[null,855,1832247.0789271318,0.20790160235908539,0.21821862853245477,0.18122705830638899,0.60763633054976984,0.30515391512679213,0.40201266548237657,4.1618477059948034E-2,0.37062999880206293,76.286785471998954,4569.3439732822999,882.10672162123592,611768.02227940853,28.991015695882627,2504.2378518200853,4673.6020296297538,19282.474638693915,2130.9908020614325,1119.5101504031122,0.62292407424921992,null,51866854.895609036,89650558.402038589,51867149.465904713,95208210.779579461,51870054.107229754,148903243.53884834,2904.6413250416517,53695032.75926888,18485.942583117008,51870054.435705595,148905338.2083793,2904.9698008820415,53697127.428799838,18484.573372327548,51870055.158073433,148877460.02494535,2905.6921687200665,53669249.245365888,18470.383691403465,51870055.486549273,148879554.69447628,2906.0206445604563,53671343.914896816,18469.016734399269,51870053.125709467,148926044.73027807,2903.6598047539592,53694562.17057991,18492.02929443372,51870054.435705595,148902772.95015937,2904.9698008820415,53694562.17057991,18483.690313846473,51870054.176553145,148900261.21637508,2904.710648432374,53692050.436795622,18484.474681074469,51870055.486549273,148876989.43625635,2906.0206445604563,53668778.656676888,18468.13399524023,null,null,null,82986878182416.047,82987343937236.766,82991937668324.078,82991938191790.75,82991939375457.469,82991939898924.156,82991936075090.406,82991938194356,82991937782223.812,82991939901489.406,0,0,0,0,0,0,0,0,0,1,null,0,0,0,0,0,0,0,0,1]
[null,874,1948263.2678485508,0.24190773346700656,0.12780049802954274,0.18897359059074667,0.50226650640702231,0.32301812738151736,0.18297307478076633,4.2144829129457051E-2,0.59342768874500673,70.6682258758904,235.39402750141599,1689.8614853524853,437414.96412926336,166.99404166690189,2027.012479360202,27601.796883999341,1456.5596123822368,1175.1014556376242,1241.1916949363886,0.87204349919190327,null,55151484.853927843,64556386.212256223,55151752.258922331,72847695.936256558,55154390.261140645,145651384.5034951,2638.0022183135152,72803688.567238539,27598.039175942093,55154398.118888363,145559961.86464897,2645.859966032207,72712265.92839241,27481.524669437971,55154465.372610018,144237448.23183706,2713.1136876866221,71389752.295580506,26312.849557163994,55154473.230357736,144146025.59299093,2720.971435405314,71298329.656734377,26203.262823343026,55154291.944677867,146369577.79245701,2539.6857555359602,71459253.886983842,28137.045589683006,55154398.118888363,144306949.8232404,2645.859966032207,71459253.886983842,27007.950082160165,55154367.056147233,144955641.52079898,2614.7972249016166,72107945.584542423,27576.878580806788,55154473.230357736,142893013.55158237,2720.971435405314,70045317.615325809,25742.761097707706,null,null,null,88242311209898.328,88242730766579.797,88246878766440.531,88246891430259.516,88247000358727.797,88247013022546.781,88246720741906.797,88246892683271.547,88246842334194.062,88247014275558.828,0,0,0,0,0,0,0,0,0,1,null,0,0,0,0,0,0,0,0,1]
[null,894,1480132.6894267795,0.18208339473506649,0.14506281804687313,0.19979921527904052,0.6268739294454313,0.29508471654420421,0.29591488077767752,3.7046526111711789E-2,0.46503365343150288,812.07750877472574,301.87774230979289,3936.3358108174521,235703.09789337093,329.29680099406841,6372.0335228042331,4686.0337400402441,40215.707209265194,2011.7530222267226,637.46872965679313,0.85590560378421954,null,41898880.815317601,34363472.803510264,41899150.06091135,140872719.45601478,41901814.352871738,1195506451.6425278,2664.291960388422,1054633732.1865131,395840.1511044458,41901827.369347945,1196701394.675369,2677.3084365949035,1055828675.2193543,394361.98713144718,41901863.470174812,1195190198.1831894,2713.4092634618282,1054317478.7271746,388558.22191085649,41901876.486651018,1196385141.2160308,2726.4257396683097,1055512421.7600161,387141.45278294914,41901755.837531343,1195979643.6877606,2605.7766199931502,1055673140.9743363,405128.02704366553,41901827.369347945,1196545860.430351,2677.3084365949035,1055673140.9743363,394303.89362122922,41901804.954834417,1195663390.2284222,2654.8939230665565,1054790670.7724074,397300.49536369537,41901876.486651018,1196229606.9710126,2726.4257396683097,1055356887.5149978,387084.40584315715,null,null,null,67038174941035.359,67038499224738.703,67041707458143.141,67041727089562.039,67041786362081.516,67041805993500.414,67041613360406.461,67041727245096.281,67041692264344.844,67041806149034.664,0,0,0,0,0,0,0,0,0,1,null,0,0,0,0,0,0,0,0,1]
[null,917,1606993.3096989815,0.19754167672762746,0.21382340201241756,0.20579613194173552,0.50821016306339317,0.2933497685522426,0.35616261643276215,3.8051335792175935E-2,0.54215138991119272,130.35273451171392,941.77480258749119,2256.0503997442111,125794.80725351244,7.8623488761687863,250.4305008892814,39460.469368918122,4066.6269276846301,815.32638356164011,1357.9818204620888,0.74659098517990186,null,45490129.199160606,18429326.416217972,45490413.05909691,37485124.28945484,45493213.003637515,210891168.39277354,2799.944540604949,173406044.10331869,61931.956718633082,45493213.032740176,210891351.59506014,2799.9736432656646,173406227.30560529,61931.378433747748,45493213.226812243,210889955.59251687,2800.1677153334022,173404831.30306202,61926.587594563265,45493213.255914897,210890138.79480347,2800.1968179866672,173405014.50534862,61926.009411733525,45493212.879201107,210888517.28408819,2799.8201041966677,173402888.15530545,61933.582052429294,45493213.032740176,210888012.44476029,2799.9736432656646,173402888.15530545,61930.185868843473,45493213.102375828,210887304.48383158,2800.0432789176702,173402180.19437674,61928.392857343148,45493213.255914897,210886799.64450368,2800.1968179866672,173401675.35504884,61924.816941876285,null,null,null,72784188289330.547,72784623409430.766,72788929914651.641,72788929961032.688,72788930272944,72788930319325.031,72788929718204.484,72788929964371.844,72788930076496.844,72788930322664.188,0,0,0,0,0,0,0,0,0,1,null,0,0,0,0,0,0,0,0,1]
[null,936,2019082.1269231322,0.18818406590985648,0.12970999581566647,0.16556341840468644,0.52958357856853866,0.23621724320122728,0.28558534905971672,3.5699923636117889E-2,0.47489142381877347,228.59179330328749,93.380207699024822,1197.637584525155,621135.45159488264,104.12131775757334,1484.2396740084114,16462.730581047115,3348.2753934189509,3145.494880744121,962.04356591408964,0.98061453833824208,null,57156490.999288335,90849626.84501785,57156755.326199487,125680385.11012918,57159372.756909914,464811072.32528067,2617.4307104274631,339130687.21515149,129566.25207464106,57159375.243272595,464762694.17499167,2619.9170731082559,339082309.06486249,129424.82513867396,57159382.471024111,464535003.96231824,2627.1448246240616,338854618.85218906,128982.08567572151,57159384.957386792,464486625.81202924,2629.6311873048544,338806240.70190006,128841.73352429217,57159361.528890818,465019463.07933867,2606.2026913315058,338958729.30173385,130058.46798836673,57159375.243272595,464639114.41186303,2619.9170731082559,338958729.30173385,129377.65579717186,57159371.243005008,464743394.71637625,2615.9168055206537,339063009.60624707,129615.36425420163,57159384.957386792,464363046.0489006,2629.6311873048544,338682660.93877143,128794.7384309402,null,null,null,91450294749234.5,91450682841534.062,91454531599983.531,91454535626541.984,91454547418634.609,91454551445193.047,91454513426762.234,91454535750121.75,91454529245413.297,91454551568772.812,0,0,0,0,0,0,0,0,0,1,null,0,0,0,0,0,0,0,0,1]
[null,961,1559309.7677096073,0.19976336876106493,0.16813008170550414,0.18860950140423657,0.52297949335750316,0.30686944673582439,0.3916838782059503,3.2149002469739146E-2,0.54764379906153238,191.34396108931114,812.62743805045636,1031.9182772829749,11072.611324300282,350.45044786854112,737.98541632419983,23276.184346862945,31606.223410787665,4336.424229186131,2149.2861457151066,0.79900336557708673,null,44140275.475825995,1624748.1339457992,44140553.952063568,29703409.51356598,44143307.395162575,299183134.99890065,2753.4430990070105,269479725.48533469,97870.090572243411,44143311.483219303,299522839.58198887,2757.5311557352543,269819430.06842291,97848.189133688909,44143329.65561597,299180091.07838905,2775.7035524025559,269476681.56482309,97084.100112770728,44143333.743672699,299519795.66147727,2779.7916091307998,269816386.14791131,97063.529964492176,44143292.030598365,298939079.41709226,2738.078534796834,269567766.16187853,98451.436924135021,44143311.483219303,299271175.67544448,2757.5311557352543,269567766.16187853,97756.924922214457,44143314.29105176,298936035.49658066,2760.3389881923795,269232625.9830147,97536.073335443085,44143333.743672699,299268131.75493282,2779.7916091307998,269564722.24136686,96972.996592955329,null,null,null,{"$f":"cRatio*X968-Y968","v":70624439136573.453},{"$f":"cRatio*Z968-AA968","v":70624856619892.188},{"$f":"cRatio*AB968-AC968","v":70628992649125.125},{"$f":"cRatio*AG968-AH968","v":70628998850311.312},{"$f":"cRatio*AL968-AM968","v":70629028268894.469},{"$f":"cRatio*AQ968-AR968","v":70629034470080.656},{"$f":"cRatio*AV968-AW968","v":70628968309877.969},{"$f":"cRatio*BA968-BB968","v":70628999101975.219},{"$f":"cRatio*BF968-BG968","v":70629003929647.312},{"$f":"cRatio*BK968-BL968","v":70629034721744.562},0,0,0,0,0,0,0,0,0,1,null,0,0,0,0,0,0,0,0,1]
[null,967,1825118.8169734622,0.137403897442062,0.13824059535447181,0.19016436525599686,0.5694843225511832,0.25057674008807523,0.3902053315365015,3.7329247659170367E-2,0.59359520851632985,591.70335253392648,886.02061526100931,8503.2799136489648,780648.61801886617,81.227612182933356,5147.9006154671551,8970.8643827272135,16172.960456404026,3162.5393216303178,2549.1304197717623,0.78130291039262301,null,51665230.951778427,114328044.07845794,51665517.354855552,203180376.37113136,51668359.150572158,1080741528.7280719,2841.7957166060805,877561152.35694051,308805.14993702655,51668359.376523592,1080743188.5192275,2842.0216680392623,877562812.14809608,308781.18278159894,51668360.234958351,1080706917.0083582,2842.8801027983427,877526540.63722682,308675.18463879213,51668360.460909784,1080708576.7995141,2843.1060542315245,877528200.42838264,308651.23695344303,51668358.520017937,1080758143.0423758,2841.16516238451,877557541.56342053,308872.41374834796,51668359.376523592,1080737917.934552,2842.0216680392623,877557541.56342053,308779.32826207334,51668359.604404129,1080723531.3226624,2842.2495485767722,877543154.95153093,308749.50983489532,51668360.460909784,1080703306.2148383,2843.1060542315245,877522929.84370685,308649.38314124773,null,null,null,82664255194801.406,82664624587392.516,82668293899386.719,82668294259249.234,82668295669016.344,82668296028878.859,82668292873885.656,82668294264519.812,82668294643515.281,82668296034149.438,0,0,0,0,0,0,0,0,0,1,null,0,0,0,0,0,0,0,0,1]
[null,998,1722223.3748265989,0.21126750302356001,0.21709087774538782,0.1859862524198867,0.50012960623267499,0.29970822683635945,0.22900913675385917,2.9390643935953933E-2,0.4230158007305404,1040.51917764564,447.75530210148912,1966.7212560374999,265570.59100469266,227.57974899204629,12578.662542666572,2395.8352008487641,51365.991593695158,1107.4612975266716,1824.6587315561346,0.92237849512700321,null,48752447.038104318,38905552.474329285,48752714.1068561,198355610.38090765,48755347.759691365,1778889849.1143756,2633.652835264802,1580534238.7334681,600130.06177959382,48755347.761304699,1778890227.7066686,2633.6544485986233,1580534617.3257608,600129.83790138783,48755347.774970353,1778889757.4789488,2633.6681142523885,1580534147.0980411,600126.54538542812,48755347.776583694,1778890136.0712423,2633.6697275936604,1580534525.6903348,600126.32150897768,48755347.746137574,1778889998.3959038,2633.6392814740539,1580534598.7352738,600133.28698934242,48755347.761304699,1778890209.1161816,2633.6544485986233,1580534598.7352738,600129.83084257005,48755347.761416554,1778889906.7604775,2633.6545604541898,1580534296.37957,600129.69054946874,48755347.776583694,1778890117.4807549,2633.6697275936604,1580534507.0998473,600126.31445020065,null,null,null,78003876355414.438,78004144215359.391,78006777525657.078,78006777527859.812,78006777550195.078,78006777552397.828,78006777503821.734,78006777527878.406,78006777528359.719,78006777552416.422,0,0,0,0,0,0,0,0,0,1,null,0,0,0,0,0,0,0,0,1]
[null,1004]
[null,1023]
[null,1044]
[null,1066]
[null,1085]
[null,1110]
[null,1117]
[null,1147]
[null,1153]
[null,1172]
[null,1197]
[null,1216]
[null,1234]
[null,1259]
[null,1278]
[null,1293]
[null,1302]
[null,{"$f":"B1327+1","v":1321}]
[null,1346]
[null,1366]
[null,1383]
[null,1408]
[null,1427]
[null,1443]
[null,1451]
[null,1470]
[null,1495]
[null,1514]
[null,1542]
[null,1557]
[null,1576]
[null,1582]
[null,1615]
[null,1619]
[null,1644]
[null,1663]
[null,1692]
[null,1706]
[null,1725]
[null,1750]
[null,1765]
[null,1787]
[null,1793]
[null,1812]
[null,1837]
[null,1846]
[null,1874]
[null,1899]
[null,1918]
[null,1923]
[null,1942]
[null,{"$f":"B1967+1","v":1961}]
[null,1986]
[null,1996]
[null,2023]
[null,2048]
[null,2067]
[null,2073]
[null,2091]
[null,2110]
[null,2135]
[null,2146]
[null,2172]
[null,2197]
[null,2216]
[null,2222]
[null,2245]
[null,2259]
[null,2284]
[null,2303]
[null,2322]
[null,2346]
[null,2365]
[null,2371]
[null,2395]
[null,2408]
[null,2433]
[null,2452]
[null,2472]
[null,2495]
[null,2514]
[null,2520]
[null,2539]
[null,2571]
[null,2582]
[null,{"$f":"B2607+1","v":2601}]
[null,2626]
[null,2644]
[null,2663]
[null,2688]
[null,2707]
[null,2721]
[null,2731]
[null,2750]
[null,2775]
[null,2794]
[null,2812]
[null,2837]
[null,2856]
[null,2862]
[null,2893]
[null,2899]
[null,2924]
[null,2943]
[null,2952]
[null,2986]
[null,3005]
[null,3011]
[null,3043]
[null,3048]
[null,3073]
[null,3092]
[null,3102]
[null,3135]
[null,3154]
[null,3160]
[null,3179]
[null,3201]
[null,3222]
[null,{"$f":"B3247+1","v":3241}]
[null,3266]
[null,3274]
[null,3303]
[null,3309]
[null,3328]
[null,3351]
[null,3371]
[null,3390]
[null,3415]
[null,3424]
[null,3452]
[null,3458]
[null,3477]
[null,3502]
[null,3523]
[null,3539]
[null,3564]
[null,3583]
[null,3600]
[null,3626]
[null,3645]
[null,3651]
[null,3673]
[null,3688]
[null,3713]
[null,3732]
[null,3750]
[null,3775]
[null,3794]
[null,3800]
[null,3823]
[null,3837]
[null,3862]
[null,{"$f":"B3887+1","v":3881}]
[null,3906]
[null,3922]
[null,3943]
[null,3949]
[null,3968]
[null,3999]
[null,4011]
[null,4030]
[null,4055]
[null,4072]
[null,4092]
[null,4098]
[null,4117]
[null,4149]
[null,4160]
[null,4179]
[null,4204]
[null,4223]
[null,4230]
[null,4247]
[null,4266]
[null,4291]
[null,4303]
[null,4328]
[null,4353]
[null,4372]
[null,4380]
[null,4396]
[null,4415]
[null,4440]
[null,4453]
[null,4477]
[null,4502]
[null,{"$f":"B4527+1","v":4521}]
[null,4546]
[null,4552]
[null,4583]
[null,4589]
[null,4608]
[null,4629]
[null,4651]
[null,4670]
[null,4695]
[null,4702]
[null,4732]
[null,4738]
[null,4757]
[null,4779]
[null,4800]
[null,4819]
[null,4844]
[null,4863]
[null,4874]
[null,4887]
[null,4906]
[null,4931]
[null,4951]
[null,4968]
[null,4993]
[null,5012]
[null,5028]
[null,5036]
[null,5055]
[null,5080]
[null,5101]
[null,5117]
[null,5142]
[null,{"$f":"B5167+1","v":5161}]
[null,5167]
[null,5200]
[null,5204]
[null,5229]
[null,5248]
[null,5277]
[null,5291]
[null,5310]
[null,5316]
[null,5350]
[null,{"$f":"B5359+1","v":5353}]
[null,5378]
[null,5397]
[null,5427]
[null,5440]
[null,5459]
[null,5484]
[null,5500]
[null,5521]
[null,5527]
[null,5546]
[null,5571]
[null,5581]
[null,5608]
[null,5633]
[null,5652]
[null,5658]
[null,5676]
[null,5695]
[null,5720]
[null,5731]
[null,5757]
[null,5782]
[null,{"$f":"B5807+1","v":5801}]
[null,5808]
[null,5825]
[null,5844]
[null,5869]
[null,5888]
[null,5907]
[null,5931]
[null,5950]
[null,5956]
[null,5980]
[null,{"$f":"B5999+1","v":5993}]
[null,6018]
[null,6037]
[null,{"$f":"B6063+1","v":6057}]
[null,6080]
[null,6099]
[null,6105]
[null,6130]
[null,6142]
[null,6167]
[null,6186]
[null,6211]
[null,6229]
[null,6248]
[null,6254]
[null,6273]
[null,6306]
[null,6316]
[null,6335]
[null,6360]
[null,6379]
[null,6397]
[null,6422]
[null,{"$f":"B6447+1","v":6441}]
[null,6456]
[null,6465]
[null,6484]
[null,6509]
[null,6528]
[null,6551]
[null,6571]
[null,6590]
[null,6596]
[null,6628]
[null,{"$f":"B6639+1","v":6633}]
[null,6658]
[null,6677]
[null,6687]
[null,6720]
[null,6739]
[null,6745]
[null,6778]
[null,6782]
[null,6807]
[null,6826]
[null,6837]
[null,6869]
[null,6888]
[null,6894]
[null,6913]
[null,6936]
[null,6956]
[null,6975]
[null,7000]
[null,7009]
[null,7037]
[null,7043]
[null,7062]
[null,7086]
[null,7105]
[null,7124]
[null,7149]
[null,7159]
[null,7186]
[null,7192]
[null,7211]
[null,7236]
[null,7258]
[null,{"$f":"B7279+1","v":7273}]
[null,7298]
[null,7317]
[null,7335]
[null,7360]
[null,7379]
[null,7385]
[null,7408]
[null,7422]
[null,7447]
[null,7466]
[null,7485]
[null,7509]
[null,7528]
[null,7534]
[null,7553]
[null,7584]
[null,7596]
[null,7615]
[null,7640]
[null,{"$f":"B7663+1","v":7657}]
[null,7677]
[null,7683]
[null,7702]
[null,7734]
[null,7745]
[null,7764]
[null,7789]
[null,7807]
[null,7826]
[null,7832]
[null,7851]
[null,7876]
[null,7888]
[null,{"$f":"B7919+1","v":7913}]
[null,7938]
[null,7957]
[null,7965]
[null,7981]
[null,8000]
[null,8025]
[null,8038]
[null,8062]
[null,8087]
[null,8106]
[null,8115]
[null,8130]
[null,8149]
[null,8174]
[null,8193]
[null,8210]
[null,8236]
[null,8255]
[null,8280]
[null,8287]
[null,8317]
[null,8323]
[null,8342]
[null,8364]
[null,8385]
[null,8404]
[null,8429]
[null,8437]
[null,8466]
[null,8472]
[null,8491]
[null,8514]
[null,8534]
[null,{"$f":"B8559+1","v":8553}]
[null,8578]
[null,8597]
[null,8613]
[null,8621]
[null,8640]
[null,8665]
[null,8686]
[null,8702]
[null,8727]
[null,8746]
[null,8763]
[null,8770]
[null,8789]
[null,8814]
[null,8836]
[null,8851]
[null,8876]
[null,8895]
[null,8901]
[null,8935]
[null,8938]
[null,8963]
[null,8982]
[null,8994]
[null,9025]
[null,9044]
[null,9050]
[null,9085]
[null,9087]
[null,9112]
[null,9131]
[null,9144]
[null,9174]
[null,{"$f":"B9199+1","v":9193}]
[null,9218]
[null,9237]
[null,9239]
[null,9261]
[null,9280]
[null,9305]
[null,9316]
[null,9342]
[null,9367]
[null,9386]
[null,9393]
[null,9410]
[null,9429]
[null,9454]
[null,9466]
[null,9491]
[null,9516]
[null,9535]
[null,9541]
[null,9565]
[null,9578]
[null,9603]
[null,9622]
[null,9642]
[null,9665]
[null,9684]
[null,9690]
[null,9715]
[null,9727]
[null,9752]
[null,9771]
[null,9792]
[null,9814]
[null,{"$f":"B9839+1","v":9833}]
[null,9839]
[null,9858]
[null,9876]
[null,9877]
[null,9878]
[null,9879]
[null,9880]
[null,9881]
[null,9882]
[null,9883]
[null,9884]
[null,9885]
[null,9886]
[null,9887]
[null,9888]
[null,9889]
[null,9890]
[null,9891]
[null,9892]
[null,9893]
[null,9894]
[null,9895]
[null,9896]
[null,{"$f":"B9903+1","v":9897}]
[null,9898]
[null,9899]
[null,9900]
[null,9901]
[null,9902]
[null,9903]
[null,9904]
[null,9905]
[null,9906]
[null,9907]
[null,9908]
[null,9909]
[null,9910]
[null,9911]
[null,9912]
[null,9913]
[null,9914]
[null,9915]
[null,9916]
[null,9917]
[null,9918]
[null,9919]
[null,9920]
[null,9921]
[null,9922]
[null,9923]
[null,9924]
[null,9925]
[null,9926]
[null,9927]
[null,9928]
[null,9929]
[null,9930]
[null,9931]
[null,9932]
[null,9933]
[null,9934]
[null,9935]
[null,9936]
[null,9937]
[null,9938]
[null,9939]
[null,9940]
[null,9941]
[null,9942]
[null,9943]
[null,9944]
[null,9945]
[null,9946]
[null,9947]
[null,9948]
[null,9949]
[null,9950]
[null,9951]
[null,9952]
[null,9953]
[null,9954]
[null,9955]
[null,9956]
[null,9957]
[null,9958]
[null,9959]
[null,9960]
[null,{"$f":"B9967+1","v":9961}]
[null,9962]
[null,9963]
[null,9964]
[null,9965]
[null,9966]
[null,9967]
[null,9968]
[null,9969]
[null,9970]
[null,9971]
[null,9972]
[null,9973]
[null,9974]
[null,9975]
[null,9976]
[null,9977]
[null,9978]
[null,9979]
[null,9980]
[null,9981]
[null,9982]
[null,9983]
[null,9984]
[null,9985]
[null,9986]
[null,9987]
[null,9988]
[null,9989]
[null,9990]
[null,9991]
[null,9992]
[null,9993]
[null,9994]
[null,9995]
[null,9996]
[null,9997]
[null,9998]
[null,9999]
[null,10000]

{"sheet":"BIA","index":17,"n_rows":348,"n_cols":31,"rows_kept":348,"cut":false,"hidden":false,"merged":[[212,2,212,5],[212,6,212,9],[126,1,126,7],[126,9,126,15],[126,17,126,23],[126,25,126,31],[168,1,168,7],[168,9,168,15],[168,17,168,23],[168,25,168,31],[84,1,84,7],[84,9,84,15],[84,17,84,23],[84,25,84,31],[1,1,1,7],[1,9,1,15],[1,17,1,23],[1,25,1,31],[42,1,42,7],[42,9,42,15],[42,17,42,23],[42,25,42,31],[275,2,275,3],[275,4,275,5],[275,6,275,7],[275,8,275,9],[286,2,286,3],[286,4,286,5],[286,6,286,7],[286,8,286,9],[317,2,317,3],[317,4,317,5],[317,6,317,7],[317,8,317,9],[326,2,326,3],[326,4,326,5],[326,6,326,7],[326,8,326,9],[288,2,288,3],[288,4,288,5],[288,6,288,7],[288,8,288,9],[303,2,303,3],[303,4,303,5],[303,6,303,7],[303,8,303,9],[337,2,337,3],[337,4,337,5],[337,6,337,7],[337,8,337,9],[339,8,339,9],[339,4,339,5],[340,8,340,9],[341,8,341,9],[339,6,339,7],[340,6,340,7],[341,6,341,7],[340,4,340,5],[341,4,341,5],[339,2,339,3],[340,2,340,3],[341,2,341,3]]}
["Budget Impact Analysis"]
[null,"Status Quo Scenario",null,null,null,null,null,null,null,"URNDNPSF Scenario",null,null,null,null,null,null,null,"UCSNPSF Scenario",null,null,null,null,null,null,null,"UCSNP Scenario"]
[null,null,null,"Parameter","Value",null,null,null,null,null,null,"Parameter","Value",null,null,null,null,null,null,"Parameter","Value",null,null,null,null,null,null,"Parameter","Value"]
[null,"Screening tests",null,"HIV+ population",{"$f":"pwhiv","v":422},"HIV- population",{"$f":"pop-pwhiv","v":1700196},null,null,"Screening tests",null,"HIV+ population",{"$f":"pwhiv","v":422},"HIV- population",{"$f":"pop-pwhiv","v":1700196},null,null,"Screening tests",null,"HIV+ population",{"$f":"pwhiv","v":422},"HIV- population",{"$f":"pop-pwhiv","v":1700196},null,null,"Screening tests",null,"HIV+ population",{"$f":"pwhiv","v":422},"HIV- population",{"$f":"pop-pwhiv","v":1700196}]
[null,"Coverage of screening",{"$f":"percentsqs","v":9.1598465969429943E-2},null,{"$f":"E4*C5","v":38.654552639099435},null,{"$f":"C5*G4","v":155735.34544736092},null,null,"Coverage of screening",{"$f":"percentus","v":1},null,{"$f":"M4*K5","v":422},null,{"$f":"K5*O4","v":1700196},null,null,"Coverage of screening",{"$f":"percentus","v":1},null,{"$f":"U4*S5","v":422},null,{"$f":"S5*W4","v":1700196},null,null,"Coverage of screening",{"$f":"percentus","v":1},null,{"$f":"AC4*AA5","v":422},null,{"$f":"AA5*AE4","v":1700196}]
[null,"Acceptance to HIV test",{"$f":"acceptHIV","v":0.99},null,{"$f":"E5*C6","v":38.268007112708439},null,{"$f":"G5*C6","v":154177.99199288731},null,null,"Acceptance to HIV test",{"$f":"acceptHIV","v":0.99},null,{"$f":"M5*K6","v":417.78},null,{"$f":"O5*K6","v":1683194.04},null,null,"Acceptance to HIV test",{"$f":"acceptHIV","v":0.99},null,{"$f":"U5*S6","v":417.78},null,{"$f":"W5*S6","v":1683194.04},null,null,"Acceptance to HIV test",{"$f":"acceptHIV","v":0.99},null,{"$f":"AC5*AA6","v":417.78},null,{"$f":"AE5*AA6","v":1683194.04}]
[null,"HIV- screening test",{"$f":"hivnegtest","v":566.66999999999996},null,null,null,{"$f":"G6*C7","v":87368042.722609445},null,null,"HIV- screening test",{"$f":"hivnegtest","v":566.66999999999996},null,null,null,{"$f":"O6*K7","v":953815566.64679992},null,null,"HIV- screening test",{"$f":"hivnegtest","v":566.66999999999996},null,null,null,{"$f":"W6*S7","v":953815566.64679992},null,null,"HIV- screening test",{"$f":"hivnegtest","v":566.66999999999996},null,null,null,{"$f":"AE6*AA7","v":953815566.64679992}]
[null,"HIV+ screening test",{"$f":"hivpostest","v":1920.8333333333335},null,{"$f":"E6*C8","v":73506.463662327471},null,null,null,null,"HIV+ screening test",{"$f":"hivpostest","v":1920.8333333333335},null,{"$f":"M6*K8","v":802485.75},null,null,null,null,"HIV+ screening test",{"$f":"hivpostest","v":1920.8333333333335},null,{"$f":"U6*S8","v":802485.75},null,null,null,null,"HIV+ screening test",{"$f":"hivpostest","v":1920.8333333333335},null,{"$f":"AC6*AA8","v":802485.75}]
[null,"CD4 test",{"$f":"cd4test","v":931.03349841269846},null,{"$f":"E6*C9","v":35628.796539426963},null,null,null,null,"CD4 test",{"$f":"cd4test","v":931.03349841269846},null,{"$f":"M6*K9","v":388967.17496685713},null,null,null,null,"CD4 test",{"$f":"cd4test","v":931.03349841269846},null,{"$f":"U6*S9","v":388967.17496685713},null,null,null,null,"CD4 test",{"$f":"cd4test","v":931.03349841269846},null,{"$f":"AC6*AA9","v":388967.17496685713}]
[]
[null,"Acceptance to PMTCT",{"$f":"acceptsq","v":0.95},null,{"$f":"E6*C11","v":36.354606757073014},null,null,null,null,"Acceptance to PMTCT",{"$f":"acceptsq","v":0.95},null,{"$f":"M6*K11","v":396.89099999999996},null,null,null,null,"Acceptance to PMTCT",{"$f":"acceptsq","v":0.95},null,{"$f":"U6*S11","v":396.89099999999996},null,null,null,null,"Acceptance to PMTCT",{"$f":"acceptsq","v":0.95},null,{"$f":"AC6*AA11","v":396.89099999999996}]
[null,"Viral load test",{"$f":"vltest","v":2658.3333333333335},null,{"$f":"E11*C12","v":96642.662962552437},null,null,null,null,"Viral load test",{"$f":"vltest","v":2658.3333333333335},null,{"$f":"M11*K12","v":1055068.575},null,null,null,null,"Viral load test",{"$f":"vltest","v":2658.3333333333335},null,{"$f":"U11*S12","v":1055068.575},null,null,null,null,"Viral load test",{"$f":"vltest","v":2658.3333333333335},null,{"$f":"AC11*AA12","v":1055068.575}]
[]
[]
[null,"TOTAL SCREENING COSTS",null,null,{"$f":"E8+E9+E12+G7","v":87573820.645773754},null,null,null,null,"TOTAL SCREENING COSTS",null,null,{"$f":"M8+M9+M12+O7","v":956062088.14676678},null,null,null,null,"TOTAL SCREENING COSTS",null,null,{"$f":"U8+U9+U12+W7","v":956062088.14676678},null,null,null,null,"TOTAL SCREENING COSTS",null,null,{"$f":"AC8+AC9+AC12+AE7","v":956062088.14676678}]
[]
[null,"PMTCT",null,"HIV+ population",{"$f":"pwhiv","v":422},null,null,null,null,"PMTCT",null,"HIV+ population",{"$f":"pwhiv","v":422},null,null,null,null,"PMTCT",null,"HIV+ population",{"$f":"pwhiv","v":422},null,null,null,null,"PMTCT",null,"HIV+ population",{"$f":"pwhiv","v":422}]
[null,"Coverage of screening",{"$f":"percentsqs","v":9.1598465969429943E-2},null,{"$f":"E17*C18","v":38.654552639099435},null,null,null,null,"Coverage of screening",{"$f":"percentus","v":1},null,{"$f":"M17*K18","v":422},null,null,null,null,"Coverage of screening",{"$f":"percentus","v":1},null,{"$f":"U17*S18","v":422},null,null,null,null,"Coverage of screening",{"$f":"percentus","v":1},null,{"$f":"AC17*AA18","v":422}]
[null,"Acceptance to HIV test",{"$f":"acceptHIV","v":0.99},null,{"$f":"E18*C19","v":38.268007112708439},null,null,null,null,"Acceptance to HIV test",{"$f":"acceptHIV","v":0.99},null,{"$f":"M18*K19","v":417.78},null,null,null,null,"Acceptance to HIV test",{"$f":"acceptHIV","v":0.99},null,{"$f":"U18*S19","v":417.78},null,null,null,null,"Acceptance to HIV test",{"$f":"acceptHIV","v":0.99},null,{"$f":"AC18*AA19","v":417.78}]
[null,"Acceptance to PMTCT",{"$f":"acceptsq","v":0.95},null,{"$f":"E19*C20","v":36.354606757073014},null,null,null,null,"Acceptance to PMTCT",{"$f":"acceptsq","v":0.95},null,{"$f":"M19*K20","v":396.89099999999996},null,null,null,null,"Acceptance to PMTCT",{"$f":"acceptsq","v":0.95},null,{"$f":"U19*S20","v":396.89099999999996},null,null,null,null,"Acceptance to PMTCT",{"$f":"acceptsq","v":0.95},null,{"$f":"AC19*AA20","v":396.89099999999996}]
[null,"Outpatient HIV treatment",{"$f":"outhivcost","v":3918.889333333334},null,{"$f":"E20*C21","v":142469.68063782138},null,null,null,null,"Outpatient HIV treatment",{"$f":"outhivcost","v":3918.889333333334},null,{"$f":"M20*K21","v":1555371.9063960002},null,null,null,null,"Outpatient HIV treatment",{"$f":"outhivcost","v":3918.889333333334},null,{"$f":"U20*S21","v":1555371.9063960002},null,null,null,null,"Outpatient HIV treatment",{"$f":"outhivcost","v":3918.889333333334},null,{"$f":"AC20*AA21","v":1555371.9063960002}]
[null,"Neonatal Prophylaxis",{"$f":"npcost","v":156.55000000000001},null,{"$f":"E20*C22","v":5691.3136878197811},null,null,null,null,"Neonatal Prophylaxis",{"$f":"npcost","v":156.55000000000001},null,{"$f":"M20*K22","v":62133.286049999995},null,null,null,null,"Neonatal Prophylaxis",{"$f":"npcost","v":156.55000000000001},null,{"$f":"U20*S22","v":62133.286049999995},null,null,null,null,"Neonatal Prophylaxis",{"$f":"npcost","v":156.55000000000001},null,{"$f":"AC20*AA22","v":62133.286049999995}]
[null,"Cesarean section",{"$f":"cscost","v":19000},null,{"$f":"E20*C23","v":690737.52838438726}]
[null,null,null,null,null,null,null,null,null,"Late antenatal care",{"$f":"lateanc","v":4.0000000000000036E-2},null,{"$f":"M20*K24","v":15.875640000000013},null,null,null,null,"Late antenatal care",{"$f":"lateanc","v":4.0000000000000036E-2},null,{"$f":"U20*S24","v":15.875640000000013},null,null,null,null,"Late antenatal care",{"$f":"lateanc","v":4.0000000000000036E-2},null,{"$f":"AC20*AA24","v":15.875640000000013}]
[null,null,null,null,null,null,null,null,null,"Substitute feeding",{"$f":"sfcost","v":3798.3114674586955},null,{"$f":"K25*M24","v":60300.625465246012},null,null,null,null,"Cesarean section",{"$f":"cscost","v":19000},null,{"$f":"U24*S25","v":301637.16000000027},null,null,null,null,"Cesarean section",{"$f":"cscost","v":19000},null,{"$f":"AC24*AA25","v":301637.16000000027}]
[null,null,null,null,null,null,null,null,null,"Raltegravir ",{"$f":"rcost","v":15557.749292740251},null,{"$f":"M24*K26","v":246989.22698179903},null,null,null,null,"Substitute feeding",{"$f":"sfcost","v":3798.3114674586955},null,{"$f":"U24*S26","v":60300.625465246012}]
[]
[null,"TOTAL PMTCT COSTS",null,null,{"$f":"E21+E22+E23","v":838898.52271002845},null,null,null,null,"TOTAL PMTCT COSTS",null,null,{"$f":"M21+M22+M25+M26","v":1924795.0448930452},null,null,null,null,"TOTAL PMTCT COSTS",null,null,{"$f":"U21+U22+U25+U26","v":1979442.9779112465},null,null,null,null,"TOTAL PMTCT COSTS",null,null,{"$f":"AC21+AC22+AC25+AC26","v":1919142.3524460006}]
[]
[null,"Pediatric HIV",null,"Pediatric HIV Cases",134.13999999999999,null,null,null,null,"Pediatric HIV",null,"Pediatric HIV Cases",10,null,null,null,null,"Pediatric HIV",null,"Pediatric HIV Cases",10.28,null,null,null,null,"Pediatric HIV",null,"Pediatric HIV Cases",11.48]
[null,"Pediatric HIV cost",{"$f":"lifecost","v":542974.1822178018},null,null,null,null,null,null,"Pediatric HIV cost",{"$f":"lifecost","v":542974.1822178018},null,null,null,null,null,null,"Pediatric HIV cost",{"$f":"lifecost","v":542974.1822178018},null,null,null,null,null,null,"Pediatric HIV cost",{"$f":"lifecost","v":542974.1822178018}]
[null,"Total cost",null,null,{"$f":"C31*E30","v":72834556.80269593},null,null,null,null,"Total cost",null,null,{"$f":"K31*M30","v":5429741.8221780183},null,null,null,null,"Total cost",null,null,{"$f":"S31*U30","v":5581774.5931990026},null,null,null,null,"Total cost",null,null,{"$f":"AA31*AC30","v":6233343.6118603647}]
[]
[]
[]
[]
[null,"TOTAL CONSEQUENCE COSTS",null,null,{"$f":"E32","v":72834556.80269593},null,null,null,null,"TOTAL CONSEQUENCE COSTS",null,null,{"$f":"M32","v":5429741.8221780183},null,null,null,null,"TOTAL CONSEQUENCE COSTS",null,null,{"$f":"U32","v":5581774.5931990026},null,null,null,null,"TOTAL CONSEQUENCE COSTS",null,null,{"$f":"AC32","v":6233343.6118603647}]
[]
[]
["YEAR 1","Total Budget for 2019 undiscounted",{"$f":"E15+E28+E37","v":161247275.97117972},null,null,null,null,null,null,"Total Budget for 2019 undiscounted",{"$f":"M15+M28+M37","v":963416625.01383781},null,null,null,null,null,null,"Total Budget for 2019 undiscounted",{"$f":"U15+U28+U37","v":963623305.71787703},null,null,null,null,null,null,"Total Budget for 2019 undiscounted",{"$f":"AC15+AC28+AC37","v":964214574.11107314}]
[null,"Total Budget for 2019 discounted",{"$f":"E15+E28+E37","v":161247275.97117972},null,null,null,null,null,null,"Total Budget for 2019 discounted",{"$f":"M15+M28+M37","v":963416625.01383781},null,null,null,null,null,null,"Total Budget for 2019 discounted",{"$f":"U15+U28+U37","v":963623305.71787703},null,null,null,null,null,null,"Total Budget for 2019 discounted",{"$f":"AC15+AC28+AC37","v":964214574.11107314}]
[]
[null,"Status Quo Scenario",null,null,null,null,null,null,null,"URNDNPSF Scenario",null,null,null,null,null,null,null,"UCSNPSF Scenario",null,null,null,null,null,null,null,"UCSNP Scenario"]
[null,null,null,"Parameter","Value",null,null,null,null,null,null,"Parameter","Value",null,null,null,null,null,null,"Parameter","Value",null,null,null,null,null,null,"Parameter","Value"]
[null,"Screening tests",null,"HIV+ population",{"$f":"'Lifetime HIV Markov'!$C$93","v":491},"HIV- population",{"$f":"'Lifetime HIV Markov'!$C$115","v":0},null,null,"Screening tests",null,"HIV+ population",{"$f":"'Lifetime HIV Markov'!C93","v":491},"HIV- population",{"$f":"'Lifetime HIV Markov'!C115","v":0},null,null,"Screening tests",null,"HIV+ population",{"$f":"'Lifetime HIV Markov'!C93","v":491},"HIV- population",{"$f":"'Lifetime HIV Markov'!C115","v":0},null,null,"Screening tests",null,"HIV+ population",{"$f":"'Lifetime HIV Markov'!C93","v":491},"HIV- population",{"$f":"'Lifetime HIV Markov'!C115","v":0}]
[null,"Coverage of screening",{"$f":"percentsqs","v":9.1598465969429943E-2},null,{"$f":"E45*C46","v":44.9748467909901},null,{"$f":"C46*G45","v":0},null,null,"Coverage of screening",{"$f":"percentus","v":1},null,{"$f":"M45*K46","v":491},null,{"$f":"K46*O45","v":0},null,null,"Coverage of screening",{"$f":"percentus","v":1},null,{"$f":"U45*S46","v":491},null,{"$f":"S46*W45","v":0},null,null,"Coverage of screening",{"$f":"percentus","v":1},null,{"$f":"AC45*AA46","v":491},null,{"$f":"AA46*AE45","v":0}]
[null,"Acceptance to HIV test",{"$f":"acceptHIV","v":0.99},null,{"$f":"E46*C47","v":44.525098323080201},null,{"$f":"G46*C47","v":0},null,null,"Acceptance to HIV test",{"$f":"acceptHIV","v":0.99},null,{"$f":"M46*K47","v":486.09},null,{"$f":"O46*K47","v":0},null,null,"Acceptance to HIV test",{"$f":"acceptHIV","v":0.99},null,{"$f":"U46*S47","v":486.09},null,{"$f":"W46*S47","v":0},null,null,"Acceptance to HIV test",{"$f":"acceptHIV","v":0.99},null,{"$f":"AC46*AA47","v":486.09},null,{"$f":"AE46*AA47","v":0}]
[null,"HIV- screening test",{"$f":"hivnegtest","v":566.66999999999996},null,null,null,{"$f":"G47*C48","v":0},null,null,"HIV- screening test",{"$f":"hivnegtest","v":566.66999999999996},null,null,null,{"$f":"O47*K48","v":0},null,null,"HIV- screening test",{"$f":"hivnegtest","v":566.66999999999996},null,null,null,{"$f":"W47*S48","v":0},null,null,"HIV- screening test",{"$f":"hivnegtest","v":566.66999999999996},null,null,null,{"$f":"AE47*AA48","v":0}]
[null,"HIV+ screening test",{"$f":"hivpostest","v":1920.8333333333335},null,{"$f":"E47*C49","v":85525.293028916552},null,null,null,null,"HIV+ screening test",{"$f":"hivpostest","v":1920.8333333333335},null,{"$f":"M47*K49","v":933697.875},null,null,null,null,"HIV+ screening test",{"$f":"hivpostest","v":1920.8333333333335},null,{"$f":"U47*S49","v":933697.875},null,null,null,null,"HIV+ screening test",{"$f":"hivpostest","v":1920.8333333333335},null,{"$f":"AC47*AA49","v":933697.875}]
[null,"CD4 test",{"$f":"cd4test","v":931.03349841269846},null,{"$f":"E47*C50","v":41454.358058906735},null,null,null,null,"CD4 test",{"$f":"cd4test","v":931.03349841269846},null,{"$f":"M47*K50","v":452566.07324342855},null,null,null,null,"CD4 test",{"$f":"cd4test","v":931.03349841269846},null,{"$f":"U47*S50","v":452566.07324342855},null,null,null,null,"CD4 test",{"$f":"cd4test","v":931.03349841269846},null,{"$f":"AC47*AA50","v":452566.07324342855}]
[]
[null,"Acceptance to PMTCT",{"$f":"acceptsq","v":0.95},null,{"$f":"E47*C52","v":42.298843406926188},null,null,null,null,"Acceptance to PMTCT",{"$f":"acceptsq","v":0.95},null,{"$f":"M47*K52","v":461.78549999999996},null,null,null,null,"Acceptance to PMTCT",{"$f":"acceptsq","v":0.95},null,{"$f":"U47*S52","v":461.78549999999996},null,null,null,null,"Acceptance to PMTCT",{"$f":"acceptsq","v":0.95},null,{"$f":"AC47*AA52","v":461.78549999999996}]
[null,"Viral load test",{"$f":"vltest","v":2658.3333333333335},null,{"$f":"E52*C53","v":112444.42539007879},null,null,null,null,"Viral load test",{"$f":"vltest","v":2658.3333333333335},null,{"$f":"M52*K53","v":1227579.7874999999},null,null,null,null,"Viral load test",{"$f":"vltest","v":2658.3333333333335},null,{"$f":"U52*S53","v":1227579.7874999999},null,null,null,null,"Viral load test",{"$f":"vltest","v":2658.3333333333335},null,{"$f":"AC52*AA53","v":1227579.7874999999}]
[]
[]
[null,"TOTAL SCREENING COSTS",null,null,{"$f":"E49+E50+E53+G48","v":239424.07647790207},null,null,null,null,"TOTAL SCREENING COSTS",null,null,{"$f":"M49+M50+M53+O48","v":2613843.7357434286},null,null,null,null,"TOTAL SCREENING COSTS",null,null,{"$f":"U49+U50+U53+W48","v":2613843.7357434286},null,null,null,null,"TOTAL SCREENING COSTS",null,null,{"$f":"AC49+AC50+AC53+AE48","v":2613843.7357434286}]
[]
[null,"PMTCT",null,"HIV+ population",{"$f":"'Lifetime HIV Markov'!$C$93","v":491},null,null,null,null,"PMTCT",null,"HIV+ population",{"$f":"'Lifetime HIV Markov'!$C$93","v":491},null,null,null,null,"PMTCT",null,"HIV+ population",{"$f":"'Lifetime HIV Markov'!$C$93","v":491},null,null,null,null,"PMTCT",null,"HIV+ population",{"$f":"'Lifetime HIV Markov'!$C$93","v":491}]
[null,"Coverage of screening",{"$f":"percentsqs","v":9.1598465969429943E-2},null,{"$f":"E58*C59","v":44.9748467909901},null,null,null,null,"Coverage of screening",{"$f":"percentus","v":1},null,{"$f":"M58*K59","v":491},null,null,null,null,"Coverage of screening",{"$f":"percentus","v":1},null,{"$f":"U58*S59","v":491},null,null,null,null,"Coverage of screening",{"$f":"percentus","v":1},null,{"$f":"AC58*AA59","v":491}]
[null,"Acceptance to HIV test",{"$f":"acceptHIV","v":0.99},null,{"$f":"E59*C60","v":44.525098323080201},null,null,null,null,"Acceptance to HIV test",{"$f":"acceptHIV","v":0.99},null,{"$f":"M59*K60","v":486.09},null,null,null,null,"Acceptance to HIV test",{"$f":"acceptHIV","v":0.99},null,{"$f":"U59*S60","v":486.09},null,null,null,null,"Acceptance to HIV test",{"$f":"acceptHIV","v":0.99},null,{"$f":"AC59*AA60","v":486.09}]
[null,"Acceptance to PMTCT",{"$f":"acceptsq","v":0.95},null,{"$f":"E60*C61","v":42.298843406926188},null,null,null,null,"Acceptance to PMTCT",{"$f":"acceptsq","v":0.95},null,{"$f":"M60*K61","v":461.78549999999996},null,null,null,null,"Acceptance to PMTCT",{"$f":"acceptsq","v":0.95},null,{"$f":"U60*S61","v":461.78549999999996},null,null,null,null,"Acceptance to PMTCT",{"$f":"acceptsq","v":0.95},null,{"$f":"AC60*AA61","v":461.78549999999996}]
[null,"Outpatient HIV treatment",{"$f":"outhivcost","v":3918.889333333334},null,{"$f":"E61*C62","v":165764.48623974007},null,null,null,null,"Outpatient HIV treatment",{"$f":"outhivcost","v":3918.889333333334},null,{"$f":"M61*K62","v":1809686.2702380002},null,null,null,null,"Outpatient HIV treatment",{"$f":"outhivcost","v":3918.889333333334},null,{"$f":"U61*S62","v":1809686.2702380002},null,null,null,null,"Outpatient HIV treatment",{"$f":"outhivcost","v":3918.889333333334},null,{"$f":"AC61*AA62","v":1809686.2702380002}]
[null,"Neonatal Prophylaxis",{"$f":"npcost","v":156.55000000000001},null,{"$f":"E61*C63","v":6621.8839353542953},null,null,null,null,"Neonatal Prophylaxis",{"$f":"npcost","v":156.55000000000001},null,{"$f":"M61*K63","v":72292.520025000005},null,null,null,null,"Neonatal Prophylaxis",{"$f":"npcost","v":156.55000000000001},null,{"$f":"U61*S63","v":72292.520025000005},null,null,null,null,"Neonatal Prophylaxis",{"$f":"npcost","v":156.55000000000001},null,{"$f":"AC61*AA63","v":72292.520025000005}]
[null,"Cesarean section",{"$f":"cscost","v":19000},null,{"$f":"E61*C64","v":803678.02473159763}]
[null,null,null,null,null,null,null,null,null,"Late antenatal care",{"$f":"lateanc","v":4.0000000000000036E-2},null,{"$f":"M61*K65","v":18.471420000000016},null,null,null,null,"Late antenatal care",{"$f":"lateanc","v":4.0000000000000036E-2},null,{"$f":"U61*S65","v":18.471420000000016},null,null,null,null,"Late antenatal care",{"$f":"lateanc","v":4.0000000000000036E-2},null,{"$f":"AC61*AA65","v":18.471420000000016}]
[null,null,null,null,null,null,null,null,null,"Substitute feeding",{"$f":"sfcost","v":3798.3114674586955},null,{"$f":"K66*M65","v":70160.206406245954},null,null,null,null,"Cesarean section",{"$f":"cscost","v":19000},null,{"$f":"U65*S66","v":350956.98000000033},null,null,null,null,"Cesarean section",{"$f":"cscost","v":19000},null,{"$f":"AC65*AA66","v":350956.98000000033}]
[null,null,null,null,null,null,null,null,null,"Raltegravir ",{"$f":"rcost","v":15557.749292740251},null,{"$f":"M65*K67","v":287373.72144090838},null,null,null,null,"Substitute feeding",{"$f":"sfcost","v":3798.3114674586955},null,{"$f":"U65*S67","v":70160.206406245954}]
[]
[null,"TOTAL PMTCT COSTS",null,null,{"$f":"E62+E63+E64","v":976064.39490669197},null,null,null,null,"TOTAL PMTCT COSTS",null,null,{"$f":"M62+M63+M66+M67","v":2239512.7181101544},null,null,null,null,"TOTAL PMTCT COSTS",null,null,{"$f":"U62+U63+U66+U67","v":2303095.9766692463},null,null,null,null,"TOTAL PMTCT COSTS",null,null,{"$f":"AC62+AC63+AC66+AC67","v":2232935.7702630004}]
[]
[null,"Pediatric HIV",null,"Pediatric HIV Cases",{"$f":"'Cases averted 2019-2023'!E20","v":156.07094554422457},null,null,null,null,"Pediatric HIV",null,"Pediatric HIV Cases",{"$f":"'Cases averted 2019-2023'!E28","v":11.631151885037678},null,null,null,null,"Pediatric HIV",null,"Pediatric HIV Cases",{"$f":"'Cases averted 2019-2023'!E23","v":11.958726126525988},null,null,null,null,"Pediatric HIV",null,"Pediatric HIV Cases",{"$f":"'Cases averted 2019-2023'!E21","v":13.358383080719536}]
[null,"Pediatric HIV cost",{"$f":"lifecost","v":542974.1822178018},null,null,null,null,null,null,"Pediatric HIV cost",{"$f":"lifecost","v":542974.1822178018},null,null,null,null,null,null,"Pediatric HIV cost",{"$f":"lifecost","v":542974.1822178018},null,null,null,null,null,null,"Pediatric HIV cost",{"$f":"lifecost","v":542974.1822178018}]
[null,"Total cost",null,null,{"$f":"C72*E71","v":84742494.024834409},null,null,null,null,"Total cost",null,null,{"$f":"K72*M71","v":6315415.1830293769},null,null,null,null,"Total cost",null,null,{"$f":"S72*U71","v":6493279.5389171094},null,null,null,null,"Total cost",null,null,{"$f":"AA72*AC71","v":7253257.1290058102}]
[]
[]
[]
[]
[null,"TOTAL CONSEQUENCE COSTS",null,null,{"$f":"E73","v":84742494.024834409},null,null,null,null,"TOTAL CONSEQUENCE COSTS",null,null,{"$f":"M73","v":6315415.1830293769},null,null,null,null,"TOTAL CONSEQUENCE COSTS",null,null,{"$f":"U73","v":6493279.5389171094},null,null,null,null,"TOTAL CONSEQUENCE COSTS",null,null,{"$f":"AC73","v":7253257.1290058102}]
[]
[]
["YEAR 2","Total Budget for 2020 undiscounted",{"$f":"E56+E69+E78","v":85957982.496219009},null,null,null,null,null,null,"Total Budget for 2020 undiscounted",{"$f":"M56+M69+M78","v":11168771.636882961},null,null,null,null,null,null,"Total Budget for 2020 undiscounted",{"$f":"U56+U69+U78","v":11410219.251329783},null,null,null,null,null,null,"Total Budget for 2020 undiscounted",{"$f":"AC56+AC69+AC78","v":12100036.635012239}]
[null,"Total Budget for 2020 discounted",{"$f":"C81*E82","v":83454351.938076705},"discount factor",{"$f":"(1+'Lifetime HIV Markov'!$C$86)^(-1)","v":0.970873786407767},null,null,null,null,"Total Budget for 2020 discounted",{"$f":"K81*M82","v":10843467.608624235},"discount factor",{"$f":"(1+'Lifetime HIV Markov'!$C$86)^(-1)","v":0.970873786407767},null,null,null,null,"Total Budget for 2020 discounted",{"$f":"S81*U82","v":11077882.768281342},"discount factor",{"$f":"(1+'Lifetime HIV Markov'!$C$86)^(-1)","v":0.970873786407767},null,null,null,null,"Total Budget for 2020 discounted",{"$f":"AA81*AC82","v":11747608.383507028},"discount factor",{"$f":"(1+'Lifetime HIV Markov'!$C$86)^(-1)","v":0.970873786407767}]
[]
[]
[null,"Status Quo Scenario",null,null,null,null,null,null,null,"URNDNPSF Scenario",null,null,null,null,null,null,null,"UCSNPSF Scenario",null,null,null,null,null,null,null,"UCSNP Scenario"]
[null,null,null,"Parameter","Value",null,null,null,null,null,null,"Parameter","Value",null,null,null,null,null,null,"Parameter","Value",null,null,null,null,null,null,"Parameter","Value"]
[null,"Screening tests",null,"HIV+ population",{"$f":"'Lifetime HIV Markov'!$C$94","v":569},"HIV- population",{"$f":"'Lifetime HIV Markov'!$C$116","v":0},null,null,"Screening tests",null,"HIV+ population",{"$f":"'Lifetime HIV Markov'!$C$94","v":569},"HIV- population",{"$f":"'Lifetime HIV Markov'!$C$116","v":0},null,null,"Screening tests",null,"HIV+ population",{"$f":"'Lifetime HIV Markov'!$C$94","v":569},"HIV- population",{"$f":"'Lifetime HIV Markov'!$C$116","v":0},null,null,"Screening tests",null,"HIV+ population",{"$f":"'Lifetime HIV Markov'!$C$94","v":569},"HIV- population",{"$f":"'Lifetime HIV Markov'!$C$116","v":0}]
[null,"Coverage of screening",{"$f":"percentsqs","v":9.1598465969429943E-2},null,{"$f":"E87*C88","v":52.11952713660564},null,{"$f":"C88*G87","v":0},null,null,"Coverage of screening",{"$f":"percentus","v":1},null,{"$f":"M87*K88","v":569},null,{"$f":"K88*O87","v":0},null,null,"Coverage of screening",{"$f":"percentus","v":1},null,{"$f":"U87*S88","v":569},null,{"$f":"S88*W87","v":0},null,null,"Coverage of screening",{"$f":"percentus","v":1},null,{"$f":"AC87*AA88","v":569},null,{"$f":"AA88*AE87","v":0}]
[null,"Acceptance to HIV test",{"$f":"acceptHIV","v":0.99},null,{"$f":"E88*C89","v":51.598331865239587},null,{"$f":"G88*C89","v":0},null,null,"Acceptance to HIV test",{"$f":"acceptHIV","v":0.99},null,{"$f":"M88*K89","v":563.30999999999995},null,{"$f":"O88*K89","v":0},null,null,"Acceptance to HIV test",{"$f":"acceptHIV","v":0.99},null,{"$f":"U88*S89","v":563.30999999999995},null,{"$f":"W88*S89","v":0},null,null,"Acceptance to HIV test",{"$f":"acceptHIV","v":0.99},null,{"$f":"AC88*AA89","v":563.30999999999995},null,{"$f":"AE88*AA89","v":0}]
[null,"HIV- screening test",{"$f":"hivnegtest","v":566.66999999999996},null,null,null,{"$f":"G89*C90","v":0},null,null,"HIV- screening test",{"$f":"hivnegtest","v":566.66999999999996},null,null,null,{"$f":"O89*K90","v":0},null,null,"HIV- screening test",{"$f":"hivnegtest","v":566.66999999999996},null,null,null,{"$f":"W89*S90","v":0},null,null,"HIV- screening test",{"$f":"hivnegtest","v":566.66999999999996},null,null,null,{"$f":"AE89*AA90","v":0}]
[null,"HIV+ screening test",{"$f":"hivpostest","v":1920.8333333333335},null,{"$f":"E89*C91","v":99111.795791147713},null,null,null,null,"HIV+ screening test",{"$f":"hivpostest","v":1920.8333333333335},null,{"$f":"M89*K91","v":1082024.625},null,null,null,null,"HIV+ screening test",{"$f":"hivpostest","v":1920.8333333333335},null,{"$f":"U89*S91","v":1082024.625},null,null,null,null,"HIV+ screening test",{"$f":"hivpostest","v":1920.8333333333335},null,{"$f":"AC89*AA91","v":1082024.625}]
[null,"CD4 test",{"$f":"cd4test","v":931.03349841269846},null,{"$f":"E89*C92","v":48039.775428753426},null,null,null,null,"CD4 test",{"$f":"cd4test","v":931.03349841269846},null,{"$f":"M89*K92","v":524460.47999085707},null,null,null,null,"CD4 test",{"$f":"cd4test","v":931.03349841269846},null,{"$f":"U89*S92","v":524460.47999085707},null,null,null,null,"CD4 test",{"$f":"cd4test","v":931.03349841269846},null,{"$f":"AC89*AA92","v":524460.47999085707}]
[]
[null,"Acceptance to PMTCT",{"$f":"acceptsq","v":0.95},null,{"$f":"E89*C94","v":49.018415271977602},null,null,null,null,"Acceptance to PMTCT",{"$f":"acceptsq","v":0.95},null,{"$f":"M89*K94","v":535.14449999999988},null,null,null,null,"Acceptance to PMTCT",{"$f":"acceptsq","v":0.95},null,{"$f":"U89*S94","v":535.14449999999988},null,null,null,null,"Acceptance to PMTCT",{"$f":"acceptsq","v":0.95},null,{"$f":"AC89*AA94","v":535.14449999999988}]
[null,"Viral load test",{"$f":"vltest","v":2658.3333333333335},null,{"$f":"E94*C95","v":130307.2872646738},null,null,null,null,"Viral load test",{"$f":"vltest","v":2658.3333333333335},null,{"$f":"M94*K95","v":1422592.4624999997},null,null,null,null,"Viral load test",{"$f":"vltest","v":2658.3333333333335},null,{"$f":"U94*S95","v":1422592.4624999997},null,null,null,null,"Viral load test",{"$f":"vltest","v":2658.3333333333335},null,{"$f":"AC94*AA95","v":1422592.4624999997}]
[]
[]
[null,"TOTAL SCREENING COSTS",null,null,{"$f":"E91+E92+E95+G90","v":277458.85848457494},null,null,null,null,"TOTAL SCREENING COSTS",null,null,{"$f":"M91+M92+M95+O90","v":3029077.5674908571},null,null,null,null,"TOTAL SCREENING COSTS",null,null,{"$f":"U91+U92+U95+W90","v":3029077.5674908571},null,null,null,null,"TOTAL SCREENING COSTS",null,null,{"$f":"AC91+AC92+AC95+AE90","v":3029077.5674908571}]
[]
[null,"PMTCT",null,"HIV+ population",{"$f":"'Lifetime HIV Markov'!$C$94","v":569},null,null,null,null,"PMTCT",null,"HIV+ population",{"$f":"'Lifetime HIV Markov'!$C$94","v":569},null,null,null,null,"PMTCT",null,"HIV+ population",{"$f":"'Lifetime HIV Markov'!$C$94","v":569},null,null,null,null,"PMTCT",null,"HIV+ population",{"$f":"'Lifetime HIV Markov'!$C$94","v":569}]
[null,"Coverage of screening",{"$f":"percentsqs","v":9.1598465969429943E-2},null,{"$f":"E100*C101","v":52.11952713660564},null,null,null,null,"Coverage of screening",{"$f":"percentus","v":1},null,{"$f":"M100*K101","v":569},null,null,null,null,"Coverage of screening",{"$f":"percentus","v":1},null,{"$f":"U100*S101","v":569},null,null,null,null,"Coverage of screening",{"$f":"percentus","v":1},null,{"$f":"AC100*AA101","v":569}]
[null,"Acceptance to HIV test",{"$f":"acceptHIV","v":0.99},null,{"$f":"E101*C102","v":51.598331865239587},null,null,null,null,"Acceptance to HIV test",{"$f":"acceptHIV","v":0.99},null,{"$f":"M101*K102","v":563.30999999999995},null,null,null,null,"Acceptance to HIV test",{"$f":"acceptHIV","v":0.99},null,{"$f":"U101*S102","v":563.30999999999995},null,null,null,null,"Acceptance to HIV test",{"$f":"acceptHIV","v":0.99},null,{"$f":"AC101*AA102","v":563.30999999999995}]
[null,"Acceptance to PMTCT",{"$f":"acceptsq","v":0.95},null,{"$f":"E102*C103","v":49.018415271977602},null,null,null,null,"Acceptance to PMTCT",{"$f":"acceptsq","v":0.95},null,{"$f":"M102*K103","v":535.14449999999988},null,null,null,null,"Acceptance to PMTCT",{"$f":"acceptsq","v":0.95},null,{"$f":"U102*S103","v":535.14449999999988},null,null,null,null,"Acceptance to PMTCT",{"$f":"acceptsq","v":0.95},null,{"$f":"AC102*AA103","v":535.14449999999988}]
[null,"Outpatient HIV treatment",{"$f":"outhivcost","v":3918.889333333334},null,{"$f":"E103*C104","v":192097.74474625682},null,null,null,null,"Outpatient HIV treatment",{"$f":"outhivcost","v":3918.889333333334},null,{"$f":"M103*K104","v":2097172.0728420001},null,null,null,null,"Outpatient HIV treatment",{"$f":"outhivcost","v":3918.889333333334},null,{"$f":"U103*S104","v":2097172.0728420001},null,null,null,null,"Outpatient HIV treatment",{"$f":"outhivcost","v":3918.889333333334},null,{"$f":"AC103*AA104","v":2097172.0728420001}]
[null,"Neonatal Prophylaxis",{"$f":"npcost","v":156.55000000000001},null,{"$f":"E103*C105","v":7673.8329108280941},null,null,null,null,"Neonatal Prophylaxis",{"$f":"npcost","v":156.55000000000001},null,{"$f":"M103*K105","v":83776.871474999993},null,null,null,null,"Neonatal Prophylaxis",{"$f":"npcost","v":156.55000000000001},null,{"$f":"U103*S105","v":83776.871474999993},null,null,null,null,"Neonatal Prophylaxis",{"$f":"npcost","v":156.55000000000001},null,{"$f":"AC103*AA105","v":83776.871474999993}]
[null,"Cesarean section",{"$f":"cscost","v":19000},null,{"$f":"E103*C106","v":931349.8901675744}]
[null,null,null,null,null,null,null,null,null,"Late antenatal care",{"$f":"lateanc","v":4.0000000000000036E-2},null,{"$f":"M103*K107","v":21.405780000000014},null,null,null,null,"Late antenatal care",{"$f":"lateanc","v":4.0000000000000036E-2},null,{"$f":"U103*S107","v":21.405780000000014},null,null,null,null,"Late antenatal care",{"$f":"lateanc","v":4.0000000000000036E-2},null,{"$f":"AC103*AA107","v":21.405780000000014}]
[null,null,null,null,null,null,null,null,null,"Substitute feeding",{"$f":"sfcost","v":3798.3114674586955},null,{"$f":"K108*M107","v":81305.819643898052},null,null,null,null,"Cesarean section",{"$f":"cscost","v":19000},null,{"$f":"U107*S108","v":406709.8200000003},null,null,null,null,"Cesarean section",{"$f":"cscost","v":19000},null,{"$f":"AC107*AA108","v":406709.8200000003}]
[null,null,null,null,null,null,null,null,null,"Raltegravir ",{"$f":"rcost","v":15557.749292740251},null,{"$f":"M107*K109","v":333025.75865555363},null,null,null,null,"Substitute feeding",{"$f":"sfcost","v":3798.3114674586955},null,{"$f":"U107*S109","v":81305.819643898052}]
[]
[null,"TOTAL PMTCT COSTS",null,null,{"$f":"E104+E105+E106","v":1131121.4678246593},null,null,null,null,"TOTAL PMTCT COSTS",null,null,{"$f":"M104+M105+M108+M109","v":2595280.5226164516},null,null,null,null,"TOTAL PMTCT COSTS",null,null,{"$f":"U104+U105+U108+U109","v":2668964.5839608982},null,null,null,null,"TOTAL PMTCT COSTS",null,null,{"$f":"AC104+AC105+AC108+AC109","v":2587658.7643170003}]
[]
[null,"Pediatric HIV",null,"Pediatric HIV Cases",{"$f":"'Cases averted 2019-2023'!E33","v":180.86429330888754},null,null,null,null,"Pediatric HIV",null,"Pediatric HIV Cases",{"$f":"'Cases averted 2019-2023'!E41","v":13.478870514432664},null,null,null,null,"Pediatric HIV",null,"Pediatric HIV Cases",{"$f":"'Cases averted 2019-2023'!E36","v":13.858483026462906},null,null,null,null,"Pediatric HIV",null,"Pediatric HIV Cases",{"$f":"'Cases averted 2019-2023'!E34","v":15.480488743237101}]
[null,"Pediatric HIV cost",{"$f":"lifecost","v":542974.1822178018},null,null,null,null,null,null,"Pediatric HIV cost",{"$f":"lifecost","v":542974.1822178018},null,null,null,null,null,null,"Pediatric HIV cost",{"$f":"lifecost","v":542974.1822178018},null,null,null,null,null,null,"Pediatric HIV cost",{"$f":"lifecost","v":542974.1822178018}]
[null,"Total cost",null,null,{"$f":"C114*E113","v":98204641.751793861},null,null,null,null,"Total cost",null,null,{"$f":"K114*M113","v":7318678.694793717},null,null,null,null,"Total cost",null,null,{"$f":"S114*U113","v":7524798.4880729839},null,null,null,null,"Total cost",null,null,{"$f":"AA114*AC113","v":8405505.7156910524}]
[]
[]
[]
[]
[null,"TOTAL CONSEQUENCE COSTS",null,null,{"$f":"E115","v":98204641.751793861},null,null,null,null,"TOTAL CONSEQUENCE COSTS",null,null,{"$f":"M115","v":7318678.694793717},null,null,null,null,"TOTAL CONSEQUENCE COSTS",null,null,{"$f":"U115","v":7524798.4880729839},null,null,null,null,"TOTAL CONSEQUENCE COSTS",null,null,{"$f":"AC115","v":8405505.7156910524}]
[]
[]
["YEAR 3","Total Budget for 2021 undiscounted",{"$f":"E98+E111+E120","v":99613222.078103095},null,null,null,null,null,null,"Total Budget for 2021 undiscounted",{"$f":"M98+M111+M120","v":12943036.784901027},null,null,null,null,null,null,"Total Budget for 2021 undiscounted",{"$f":"U98+U111+U120","v":13222840.639524739},null,null,null,null,null,null,"Total Budget for 2021 undiscounted",{"$f":"AC98+AC111+AC120","v":14022242.04749891}]
[null,"Total Budget for 2021 discounted",{"$f":"C123*E124","v":93895015.626452163},"discount factor",{"$f":"(1+'Lifetime HIV Markov'!$C$86)^(-2)","v":0.94259590913375435},null,null,null,null,"Total Budget for 2021 discounted",{"$f":"K123*M124","v":12200053.525215408},"discount factor",{"$f":"(1+'Lifetime HIV Markov'!$C$86)^(-2)","v":0.94259590913375435},null,null,null,null,"Total Budget for 2021 discounted",{"$f":"S123*U124","v":12463795.493943576},"discount factor",{"$f":"(1+'Lifetime HIV Markov'!$C$86)^(-2)","v":0.94259590913375435},null,null,null,null,"Total Budget for 2021 discounted",{"$f":"AA123*AC124","v":13217307.990855793},"discount factor",{"$f":"(1+'Lifetime HIV Markov'!$C$86)^(-2)","v":0.94259590913375435}]
[]
[]
[null,"Status Quo Scenario",null,null,null,null,null,null,null,"URNDNPSF Scenario",null,null,null,null,null,null,null,"UCSNPSF Scenario",null,null,null,null,null,null,null,"UCSNP Scenario"]
[null,null,null,"Parameter","Value",null,null,null,null,null,null,"Parameter","Value",null,null,null,null,null,null,"Parameter","Value",null,null,null,null,null,null,"Parameter","Value"]
[null,"Screening tests",null,"HIV+ population",{"$f":"'Lifetime HIV Markov'!$C$95","v":653},"HIV- population",{"$f":"'Lifetime HIV Markov'!$C$117","v":0},null,null,"Screening tests",null,"HIV+ population",{"$f":"'Lifetime HIV Markov'!$C$95","v":653},"HIV- population",{"$f":"'Lifetime HIV Markov'!$C$117","v":0},null,null,"Screening tests",null,"HIV+ population",{"$f":"'Lifetime HIV Markov'!$C$95","v":653},"HIV- population",{"$f":"'Lifetime HIV Markov'!$C$117","v":0},null,null,"Screening tests",null,"HIV+ population",{"$f":"'Lifetime HIV Markov'!$C$95","v":653},"HIV- population",{"$f":"'Lifetime HIV Markov'!$C$117","v":0}]
[null,"Coverage of screening",{"$f":"percentsqs","v":9.1598465969429943E-2},null,{"$f":"E129*C130","v":59.813798278037751},null,{"$f":"C130*G129","v":0},null,null,"Coverage of screening",{"$f":"percentus","v":1},null,{"$f":"M129*K130","v":653},null,{"$f":"K130*O129","v":0},null,null,"Coverage of screening",{"$f":"percentus","v":1},null,{"$f":"U129*S130","v":653},null,{"$f":"S130*W129","v":0},null,null,"Coverage of screening",{"$f":"percentus","v":1},null,{"$f":"AC129*AA130","v":653},null,{"$f":"AA130*AE129","v":0}]
[null,"Acceptance to HIV test",{"$f":"acceptHIV","v":0.99},null,{"$f":"E130*C131","v":59.215660295257372},null,{"$f":"G130*C131","v":0},null,null,"Acceptance to HIV test",{"$f":"acceptHIV","v":0.99},null,{"$f":"M130*K131","v":646.47},null,{"$f":"O130*K131","v":0},null,null,"Acceptance to HIV test",{"$f":"acceptHIV","v":0.99},null,{"$f":"U130*S131","v":646.47},null,{"$f":"W130*S131","v":0},null,null,"Acceptance to HIV test",{"$f":"acceptHIV","v":0.99},null,{"$f":"AC130*AA131","v":646.47},null,{"$f":"AE130*AA131","v":0}]
[null,"HIV- screening test",{"$f":"hivnegtest","v":566.66999999999996},null,null,null,{"$f":"G131*C132","v":0},null,null,"HIV- screening test",{"$f":"hivnegtest","v":566.66999999999996},null,null,null,{"$f":"O131*K132","v":0},null,null,"HIV- screening test",{"$f":"hivnegtest","v":566.66999999999996},null,null,null,{"$f":"W131*S132","v":0},null,null,"HIV- screening test",{"$f":"hivnegtest","v":566.66999999999996},null,null,null,{"$f":"AE131*AA132","v":0}]
[null,"HIV+ screening test",{"$f":"hivpostest","v":1920.8333333333335},null,{"$f":"E131*C133","v":113743.41415047355},null,null,null,null,"HIV+ screening test",{"$f":"hivpostest","v":1920.8333333333335},null,{"$f":"M131*K133","v":1241761.1250000002},null,null,null,null,"HIV+ screening test",{"$f":"hivpostest","v":1920.8333333333335},null,{"$f":"U131*S133","v":1241761.1250000002},null,null,null,null,"HIV+ screening test",{"$f":"hivpostest","v":1920.8333333333335},null,{"$f":"AC131*AA133","v":1241761.1250000002}]
[null,"CD4 test",{"$f":"cd4test","v":931.03349841269846},null,{"$f":"E131*C134","v":55131.763365511397},null,null,null,null,"CD4 test",{"$f":"cd4test","v":931.03349841269846},null,{"$f":"M131*K134","v":601885.22571885725},null,null,null,null,"CD4 test",{"$f":"cd4test","v":931.03349841269846},null,{"$f":"U131*S134","v":601885.22571885725},null,null,null,null,"CD4 test",{"$f":"cd4test","v":931.03349841269846},null,{"$f":"AC131*AA134","v":601885.22571885725}]
[]
[null,"Acceptance to PMTCT",{"$f":"acceptsq","v":0.95},null,{"$f":"E131*C136","v":56.254877280494497},null,null,null,null,"Acceptance to PMTCT",{"$f":"acceptsq","v":0.95},null,{"$f":"M131*K136","v":614.14649999999995},null,null,null,null,"Acceptance to PMTCT",{"$f":"acceptsq","v":0.95},null,{"$f":"U131*S136","v":614.14649999999995},null,null,null,null,"Acceptance to PMTCT",{"$f":"acceptsq","v":0.95},null,{"$f":"AC131*AA136","v":614.14649999999995}]
[null,"Viral load test",{"$f":"vltest","v":2658.3333333333335},null,{"$f":"E136*C137","v":149544.21543731456},null,null,null,null,"Viral load test",{"$f":"vltest","v":2658.3333333333335},null,{"$f":"M136*K137","v":1632606.1125},null,null,null,null,"Viral load test",{"$f":"vltest","v":2658.3333333333335},null,{"$f":"U136*S137","v":1632606.1125},null,null,null,null,"Viral load test",{"$f":"vltest","v":2658.3333333333335},null,{"$f":"AC136*AA137","v":1632606.1125}]
[]
[]
[null,"TOTAL SCREENING COSTS",null,null,{"$f":"E133+E134+E137+G132","v":318419.39295329951},null,null,null,null,"TOTAL SCREENING COSTS",null,null,{"$f":"M133+M134+M137+O132","v":3476252.4632188575},null,null,null,null,"TOTAL SCREENING COSTS",null,null,{"$f":"U133+U134+U137+W132","v":3476252.4632188575},null,null,null,null,"TOTAL SCREENING COSTS",null,null,{"$f":"AC133+AC134+AC137+AE132","v":3476252.4632188575}]
[]
[null,"PMTCT",null,"HIV+ population",{"$f":"'Lifetime HIV Markov'!$C$95","v":653},null,null,null,null,"PMTCT",null,"HIV+ population",{"$f":"'Lifetime HIV Markov'!$C$95","v":653},null,null,null,null,"PMTCT",null,"HIV+ population",{"$f":"'Lifetime HIV Markov'!$C$95","v":653},null,null,null,null,"PMTCT",null,"HIV+ population",{"$f":"'Lifetime HIV Markov'!$C$95","v":653}]
[null,"Coverage of screening",{"$f":"percentsqs","v":9.1598465969429943E-2},null,{"$f":"E142*C143","v":59.813798278037751},null,null,null,null,"Coverage of screening",{"$f":"percentus","v":1},null,{"$f":"M142*K143","v":653},null,null,null,null,"Coverage of screening",{"$f":"percentus","v":1},null,{"$f":"U142*S143","v":653},null,null,null,null,"Coverage of screening",{"$f":"percentus","v":1},null,{"$f":"AC142*AA143","v":653}]
[null,"Acceptance to HIV test",{"$f":"acceptHIV","v":0.99},null,{"$f":"E143*C144","v":59.215660295257372},null,null,null,null,"Acceptance to HIV test",{"$f":"acceptHIV","v":0.99},null,{"$f":"M143*K144","v":646.47},null,null,null,null,"Acceptance to HIV test",{"$f":"acceptHIV","v":0.99},null,{"$f":"U143*S144","v":646.47},null,null,null,null,"Acceptance to HIV test",{"$f":"acceptHIV","v":0.99},null,{"$f":"AC143*AA144","v":646.47}]
[null,"Acceptance to PMTCT",{"$f":"acceptsq","v":0.95},null,{"$f":"E144*C145","v":56.254877280494497},null,null,null,null,"Acceptance to PMTCT",{"$f":"acceptsq","v":0.95},null,{"$f":"M144*K145","v":614.14649999999995},null,null,null,null,"Acceptance to PMTCT",{"$f":"acceptsq","v":0.95},null,{"$f":"U144*S145","v":614.14649999999995},null,null,null,null,"Acceptance to PMTCT",{"$f":"acceptsq","v":0.95},null,{"$f":"AC144*AA145","v":614.14649999999995}]
[null,"Outpatient HIV treatment",{"$f":"outhivcost","v":3918.889333333334},null,{"$f":"E145*C146","v":220456.63852250559},null,null,null,null,"Outpatient HIV treatment",{"$f":"outhivcost","v":3918.889333333334},null,{"$f":"M145*K146","v":2406772.1679540002},null,null,null,null,"Outpatient HIV treatment",{"$f":"outhivcost","v":3918.889333333334},null,{"$f":"U145*S146","v":2406772.1679540002},null,null,null,null,"Outpatient HIV treatment",{"$f":"outhivcost","v":3918.889333333334},null,{"$f":"AC145*AA146","v":2406772.1679540002}]
[null,"Neonatal Prophylaxis",{"$f":"npcost","v":156.55000000000001},null,{"$f":"E145*C147","v":8806.7010382614135},null,null,null,null,"Neonatal Prophylaxis",{"$f":"npcost","v":156.55000000000001},null,{"$f":"M145*K147","v":96144.634575000004},null,null,null,null,"Neonatal Prophylaxis",{"$f":"npcost","v":156.55000000000001},null,{"$f":"U145*S147","v":96144.634575000004},null,null,null,null,"Neonatal Prophylaxis",{"$f":"npcost","v":156.55000000000001},null,{"$f":"AC145*AA147","v":96144.634575000004}]
[null,"Cesarean section",{"$f":"cscost","v":19000},null,{"$f":"E145*C148","v":1068842.6683293954}]
[null,null,null,null,null,null,null,null,null,"Late antenatal care",{"$f":"lateanc","v":4.0000000000000036E-2},null,{"$f":"M145*K149","v":24.565860000000018},null,null,null,null,"Late antenatal care",{"$f":"lateanc","v":4.0000000000000036E-2},null,{"$f":"U145*S149","v":24.565860000000018},null,null,null,null,"Late antenatal care",{"$f":"lateanc","v":4.0000000000000036E-2},null,{"$f":"AC145*AA149","v":24.565860000000018}]
[null,null,null,null,null,null,null,null,null,"Substitute feeding",{"$f":"sfcost","v":3798.3114674586955},null,{"$f":"K150*M149","v":93308.787745984941},null,null,null,null,"Cesarean section",{"$f":"cscost","v":19000},null,{"$f":"U149*S150","v":466751.34000000037},null,null,null,null,"Cesarean section",{"$f":"cscost","v":19000},null,{"$f":"AC149*AA150","v":466751.34000000037}]
[null,null,null,null,null,null,null,null,null,"Raltegravir ",{"$f":"rcost","v":15557.749292740251},null,{"$f":"M149*K151","v":382189.49104055628},null,null,null,null,"Substitute feeding",{"$f":"sfcost","v":3798.3114674586955},null,{"$f":"U149*S151","v":93308.787745984941}]
[]
[null,"TOTAL PMTCT COSTS",null,null,{"$f":"E146+E147+E148","v":1298106.0078901623},null,null,null,null,"TOTAL PMTCT COSTS",null,null,{"$f":"M146+M147+M150+M151","v":2978415.0813155412},null,null,null,null,"TOTAL PMTCT COSTS",null,null,{"$f":"U146+U147+U150+U151","v":3062976.9302749853},null,null,null,null,"TOTAL PMTCT COSTS",null,null,{"$f":"AC146+AC147+AC150+AC151","v":2969668.1425290005}]
[]
[null,"Pediatric HIV",null,"Pediatric HIV Cases",{"$f":"'Cases averted 2019-2023'!E46","v":207.56482167083229},null,null,null,null,"Pediatric HIV",null,"Pediatric HIV Cases",{"$f":"'Cases averted 2019-2023'!E54","v":15.468721346088804},null,null,null,null,"Pediatric HIV",null,"Pediatric HIV Cases",{"$f":"'Cases averted 2019-2023'!E49","v":15.904375072548818},null,null,null,null,"Pediatric HIV",null,"Pediatric HIV Cases",{"$f":"'Cases averted 2019-2023'!E47","v":17.765833302871403}]
[null,"Pediatric HIV cost",{"$f":"lifecost","v":542974.1822178018},null,null,null,null,null,null,"Pediatric HIV cost",{"$f":"lifecost","v":542974.1822178018},null,null,null,null,null,null,"Pediatric HIV cost",{"$f":"lifecost","v":542974.1822178018},null,null,null,null,null,null,"Pediatric HIV cost",{"$f":"lifecost","v":542974.1822178018}]
[null,"Total cost",null,null,{"$f":"C156*E155","v":112702339.30390403},null,null,null,null,"Total cost",null,null,{"$f":"K156*M155","v":8399116.3228476234},null,null,null,null,"Total cost",null,null,{"$f":"S156*U155","v":8635665.0487023871},null,null,null,null,"Total cost",null,null,{"$f":"AA156*AC155","v":9646388.8090443891}]
[]
[]
[]
[]
[null,"TOTAL CONSEQUENCE COSTS",null,null,{"$f":"E157","v":112702339.30390403},null,null,null,null,"TOTAL CONSEQUENCE COSTS",null,null,{"$f":"M157","v":8399116.3228476234},null,null,null,null,"TOTAL CONSEQUENCE COSTS",null,null,{"$f":"U157","v":8635665.0487023871},null,null,null,null,"TOTAL CONSEQUENCE COSTS",null,null,{"$f":"AC157","v":9646388.8090443891}]
[]
[]
["YEAR 4","Total Budget for 2022 undiscounted",{"$f":"E140+E153+E162","v":114318864.70474748},null,null,null,null,null,null,"Total Budget for 2022 undiscounted",{"$f":"M140+M153+M162","v":14853783.867382022},null,null,null,null,null,null,"Total Budget for 2022 undiscounted",{"$f":"U140+U153+U162","v":15174894.442196229},null,null,null,null,null,null,"Total Budget for 2022 undiscounted",{"$f":"AC140+AC153+AC162","v":16092309.414792247}]
[null,"Total Budget for 2022 discounted",{"$f":"C165*E166","v":104617955.54127197},"discount factor",{"$f":"(1+'Lifetime HIV Markov'!$C$86)^(-3)","v":0.91514165935315961},null,null,null,null,"Total Budget for 2022 discounted",{"$f":"K165*M166","v":13593316.416069176},"discount factor",{"$f":"(1+'Lifetime HIV Markov'!$C$86)^(-3)","v":0.91514165935315961},null,null,null,null,"Total Budget for 2022 discounted",{"$f":"S165*U166","v":13887178.080340497},"discount factor",{"$f":"(1+'Lifetime HIV Markov'!$C$86)^(-3)","v":0.91514165935315961},null,null,null,null,"Total Budget for 2022 discounted",{"$f":"AA165*AC166","v":14726742.74067745},"discount factor",{"$f":"(1+'Lifetime HIV Markov'!$C$86)^(-3)","v":0.91514165935315961}]
[]
[]
[null,"Status Quo Scenario",null,null,null,null,null,null,null,"URNDNPSF Scenario",null,null,null,null,null,null,null,"UCSNPSF Scenario",null,null,null,null,null,null,null,"UCSNP Scenario"]
[null,null,null,"Parameter","Value",null,null,null,null,null,null,"Parameter","Value",null,null,null,null,null,null,"Parameter","Value",null,null,null,null,null,null,"Parameter","Value"]
[null,"Screening tests",null,"HIV+ population",{"$f":"'Lifetime HIV Markov'!$C$96","v":717.7},"HIV- population",{"$f":"'Lifetime HIV Markov'!$C$118","v":0},null,null,"Screening tests",null,"HIV+ population",{"$f":"'Lifetime HIV Markov'!$C$96","v":717.7},"HIV- population",{"$f":"'Lifetime HIV Markov'!$C$118","v":0},null,null,"Screening tests",null,"HIV+ population",{"$f":"'Lifetime HIV Markov'!$C$96","v":717.7},"HIV- population",{"$f":"'Lifetime HIV Markov'!$C$118","v":0},null,null,"Screening tests",null,"HIV+ population",{"$f":"'Lifetime HIV Markov'!$C$96","v":717.7},"HIV- population",{"$f":"'Lifetime HIV Markov'!$C$118","v":0}]
[null,"Coverage of screening",{"$f":"percentsqs","v":9.1598465969429943E-2},null,{"$f":"E171*C172","v":65.740219026259879},null,{"$f":"C172*G171","v":0},null,null,"Coverage of screening",{"$f":"percentus","v":1},null,{"$f":"M171*K172","v":717.7},null,{"$f":"K172*O171","v":0},null,null,"Coverage of screening",{"$f":"percentus","v":1},null,{"$f":"U171*S172","v":717.7},null,{"$f":"S172*W171","v":0},null,null,"Coverage of screening",{"$f":"percentus","v":1},null,{"$f":"AC171*AA172","v":717.7},null,{"$f":"AA172*AE171","v":0}]
[null,"Acceptance to HIV test",{"$f":"acceptHIV","v":0.99},null,{"$f":"E172*C173","v":65.082816835997278},null,{"$f":"G172*C173","v":0},null,null,"Acceptance to HIV test",{"$f":"acceptHIV","v":0.99},null,{"$f":"M172*K173","v":710.52300000000002},null,{"$f":"O172*K173","v":0},null,null,"Acceptance to HIV test",{"$f":"acceptHIV","v":0.99},null,{"$f":"U172*S173","v":710.52300000000002},null,{"$f":"W172*S173","v":0},null,null,"Acceptance to HIV test",{"$f":"acceptHIV","v":0.99},null,{"$f":"AC172*AA173","v":710.52300000000002},null,{"$f":"AE172*AA173","v":0}]
[null,"HIV- screening test",{"$f":"hivnegtest","v":566.66999999999996},null,null,null,{"$f":"G173*C174","v":0},null,null,"HIV- screening test",{"$f":"hivnegtest","v":566.66999999999996},null,null,null,{"$f":"O173*K174","v":0},null,null,"HIV- screening test",{"$f":"hivnegtest","v":566.66999999999996},null,null,null,{"$f":"W173*S174","v":0},null,null,"HIV- screening test",{"$f":"hivnegtest","v":566.66999999999996},null,null,null,{"$f":"AE173*AA174","v":0}]
[null,"HIV+ screening test",{"$f":"hivpostest","v":1920.8333333333335},null,{"$f":"E173*C175","v":125013.24400581144},null,null,null,null,"HIV+ screening test",{"$f":"hivpostest","v":1920.8333333333335},null,{"$f":"M173*K175","v":1364796.2625000002},null,null,null,null,"HIV+ screening test",{"$f":"hivpostest","v":1920.8333333333335},null,{"$f":"U173*S175","v":1364796.2625000002},null,null,null,null,"HIV+ screening test",{"$f":"hivpostest","v":1920.8333333333335},null,{"$f":"AC173*AA175","v":1364796.2625000002}]
[null,"CD4 test",{"$f":"cd4test","v":931.03349841269846},null,{"$f":"E173*C176","v":60594.282645371415},null,null,null,null,"CD4 test",{"$f":"cd4test","v":931.03349841269846},null,{"$f":"M173*K176","v":661520.7143926858},null,null,null,null,"CD4 test",{"$f":"cd4test","v":931.03349841269846},null,{"$f":"U173*S176","v":661520.7143926858},null,null,null,null,"CD4 test",{"$f":"cd4test","v":931.03349841269846},null,{"$f":"AC173*AA176","v":661520.7143926858}]
[]
[null,"Acceptance to PMTCT",{"$f":"acceptsq","v":0.95},null,{"$f":"E173*C178","v":61.828675994197411},null,null,null,null,"Acceptance to PMTCT",{"$f":"acceptsq","v":0.95},null,{"$f":"M173*K178","v":674.99684999999999},null,null,null,null,"Acceptance to PMTCT",{"$f":"acceptsq","v":0.95},null,{"$f":"U173*S178","v":674.99684999999999},null,null,null,null,"Acceptance to PMTCT",{"$f":"acceptsq","v":0.95},null,{"$f":"AC173*AA178","v":674.99684999999999}]
[null,"Viral load test",{"$f":"vltest","v":2658.3333333333335},null,{"$f":"E178*C179","v":164361.23035124145},null,null,null,null,"Viral load test",{"$f":"vltest","v":2658.3333333333335},null,{"$f":"M178*K179","v":1794366.6262500002},null,null,null,null,"Viral load test",{"$f":"vltest","v":2658.3333333333335},null,{"$f":"U178*S179","v":1794366.6262500002},null,null,null,null,"Viral load test",{"$f":"vltest","v":2658.3333333333335},null,{"$f":"AC178*AA179","v":1794366.6262500002}]
[]
[]
[null,"TOTAL SCREENING COSTS",null,null,{"$f":"E175+E176+E179+G174","v":349968.75700242433},null,null,null,null,"TOTAL SCREENING COSTS",null,null,{"$f":"M175+M176+M179+O174","v":3820683.6031426862},null,null,null,null,"TOTAL SCREENING COSTS",null,null,{"$f":"U175+U176+U179+W174","v":3820683.6031426862},null,null,null,null,"TOTAL SCREENING COSTS",null,null,{"$f":"AC175+AC176+AC179+AE174","v":3820683.6031426862}]
[]
[null,"PMTCT",null,"HIV+ population",{"$f":"'Lifetime HIV Markov'!$C$96","v":717.7},null,null,null,null,"PMTCT",null,"HIV+ population",{"$f":"'Lifetime HIV Markov'!$C$96","v":717.7},null,null,null,null,"PMTCT",null,"HIV+ population",{"$f":"'Lifetime HIV Markov'!$C$96","v":717.7},null,null,null,null,"PMTCT",null,"HIV+ population",{"$f":"'Lifetime HIV Markov'!$C$96","v":717.7}]
[null,"Coverage of screening",{"$f":"percentsqs","v":9.1598465969429943E-2},null,{"$f":"E184*C185","v":65.740219026259879},null,null,null,null,"Coverage of screening",{"$f":"percentus","v":1},null,{"$f":"M184*K185","v":717.7},null,null,null,null,"Coverage of screening",{"$f":"percentus","v":1},null,{"$f":"U184*S185","v":717.7},null,null,null,null,"Coverage of screening",{"$f":"percentus","v":1},null,{"$f":"AC184*AA185","v":717.7}]
[null,"Acceptance to HIV test",{"$f":"acceptHIV","v":0.99},null,{"$f":"E185*C186","v":65.082816835997278},null,null,null,null,"Acceptance to HIV test",{"$f":"acceptHIV","v":0.99},null,{"$f":"M185*K186","v":710.52300000000002},null,null,null,null,"Acceptance to HIV test",{"$f":"acceptHIV","v":0.99},null,{"$f":"U185*S186","v":710.52300000000002},null,null,null,null,"Acceptance to HIV test",{"$f":"acceptHIV","v":0.99},null,{"$f":"AC185*AA186","v":710.52300000000002}]
[null,"Acceptance to PMTCT",{"$f":"acceptsq","v":0.95},null,{"$f":"E186*C187","v":61.828675994197411},null,null,null,null,"Acceptance to PMTCT",{"$f":"acceptsq","v":0.95},null,{"$f":"M186*K187","v":674.99684999999999},null,null,null,null,"Acceptance to PMTCT",{"$f":"acceptsq","v":0.95},null,{"$f":"U186*S187","v":674.99684999999999},null,null,null,null,"Acceptance to PMTCT",{"$f":"acceptsq","v":0.95},null,{"$f":"AC186*AA187","v":674.99684999999999}]
[null,"Outpatient HIV treatment",{"$f":"outhivcost","v":3918.889333333334},null,{"$f":"E187*C188","v":242299.73884778301},null,null,null,null,"Outpatient HIV treatment",{"$f":"outhivcost","v":3918.889333333334},null,{"$f":"M187*K188","v":2645237.9554986004},null,null,null,null,"Outpatient HIV treatment",{"$f":"outhivcost","v":3918.889333333334},null,{"$f":"U187*S188","v":2645237.9554986004},null,null,null,null,"Outpatient HIV treatment",{"$f":"outhivcost","v":3918.889333333334},null,{"$f":"AC187*AA188","v":2645237.9554986004}]
[null,"Neonatal Prophylaxis",{"$f":"npcost","v":156.55000000000001},null,{"$f":"E187*C189","v":9679.2792268916055},null,null,null,null,"Neonatal Prophylaxis",{"$f":"npcost","v":156.55000000000001},null,{"$f":"M187*K189","v":105670.75686750001},null,null,null,null,"Neonatal Prophylaxis",{"$f":"npcost","v":156.55000000000001},null,{"$f":"U187*S189","v":105670.75686750001},null,null,null,null,"Neonatal Prophylaxis",{"$f":"npcost","v":156.55000000000001},null,{"$f":"AC187*AA189","v":105670.75686750001}]
[null,"Cesarean section",{"$f":"cscost","v":19000},null,{"$f":"E187*C190","v":1174744.8438897508}]
[null,null,null,null,null,null,null,null,null,"Late antenatal care",{"$f":"lateanc","v":4.0000000000000036E-2},null,{"$f":"M187*K191","v":26.999874000000023},null,null,null,null,"Late antenatal care",{"$f":"lateanc","v":4.0000000000000036E-2},null,{"$f":"U187*S191","v":26.999874000000023},null,null,null,null,"Late antenatal care",{"$f":"lateanc","v":4.0000000000000036E-2},null,{"$f":"AC187*AA191","v":26.999874000000023}]
[null,null,null,null,null,null,null,null,null,"Substitute feeding",{"$f":"sfcost","v":3798.3114674586955},null,{"$f":"K192*M191","v":102553.93103413997},null,null,null,null,"Cesarean section",{"$f":"cscost","v":19000},null,{"$f":"U191*S192","v":512997.60600000044},null,null,null,null,"Cesarean section",{"$f":"cscost","v":19000},null,{"$f":"AC191*AA192","v":512997.60600000044}]
[null,null,null,null,null,null,null,null,null,"Raltegravir ",{"$f":"rcost","v":15557.749292740251},null,{"$f":"M191*K193","v":420057.27062757628},null,null,null,null,"Substitute feeding",{"$f":"sfcost","v":3798.3114674586955},null,{"$f":"U191*S193","v":102553.93103413997}]
[]
[null,"TOTAL PMTCT COSTS",null,null,{"$f":"E188+E189+E190","v":1426723.8619644253},null,null,null,null,"TOTAL PMTCT COSTS",null,null,{"$f":"M188+M189+M192+M193","v":3273519.9140278166},null,null,null,null,"TOTAL PMTCT COSTS",null,null,{"$f":"U188+U189+U192+U193","v":3366460.2494002408},null,null,null,null,"TOTAL PMTCT COSTS",null,null,{"$f":"AC188+AC189+AC192+AC193","v":3263906.318366101}]
[]
[null,"Pediatric HIV",null,"Pediatric HIV Cases",{"$f":"'Cases averted 2019-2023'!E59","v":228.22594480805139},null,null,null,null,"Pediatric HIV",null,"Pediatric HIV Cases",{"$f":"'Cases averted 2019-2023'!E67","v":17.008486870584626},null,null,null,null,"Pediatric HIV",null,"Pediatric HIV Cases",{"$f":"'Cases averted 2019-2023'!E62","v":17.487505822496249},null,null,null,null,"Pediatric HIV",null,"Pediatric HIV Cases",{"$f":"'Cases averted 2019-2023'!E60","v":19.534254688302703}]
[null,"Pediatric HIV cost",{"$f":"lifecost","v":542974.1822178018},null,null,null,null,null,null,"Pediatric HIV cost",{"$f":"lifecost","v":542974.1822178018},null,null,null,null,null,null,"Pediatric HIV cost",{"$f":"lifecost","v":542974.1822178018},null,null,null,null,null,null,"Pediatric HIV cost",{"$f":"lifecost","v":542974.1822178018}]
[null,"Total cost",null,null,{"$f":"C198*E197","v":123920795.74303688},null,null,null,null,"Total cost",null,null,{"$f":"K198*M197","v":9235169.2493179068},null,null,null,null,"Total cost",null,null,{"$f":"S198*U197","v":9495264.172998948},null,null,null,null,"Total cost",null,null,{"$f":"AA198*AC197","v":10606595.964615421}]
[]
[]
[]
[]
[null,"TOTAL CONSEQUENCE COSTS",null,null,{"$f":"E199","v":123920795.74303688},null,null,null,null,"TOTAL CONSEQUENCE COSTS",null,null,{"$f":"M199","v":9235169.2493179068},null,null,null,null,"TOTAL CONSEQUENCE COSTS",null,null,{"$f":"U199","v":9495264.172998948},null,null,null,null,"TOTAL CONSEQUENCE COSTS",null,null,{"$f":"AC199","v":10606595.964615421}]
[]
[]
["YEAR 5","Total Budget for 2023 undiscounted",{"$f":"E182+E195+E204","v":125697488.36200373},null,null,null,null,null,null,"Total Budget for 2023 undiscounted",{"$f":"M182+M195+M204","v":16329372.766488411},null,null,null,null,null,null,"Total Budget for 2023 undiscounted",{"$f":"U182+U195+U204","v":16682408.025541876},null,null,null,null,null,null,"Total Budget for 2023 undiscounted",{"$f":"AC182+AC195+AC204","v":17691185.886124209}]
[null,"Total Budget for 2023 discounted",{"$f":"C207*E208","v":111680590.36517337},"discount factor",{"$f":"(1+'Lifetime HIV Markov'!$C$86)^(-4)","v":0.888487047915689},null,null,null,null,"Total Budget for 2023 discounted",{"$f":"K207*M208","v":14508436.203612136},"discount factor",{"$f":"(1+'Lifetime HIV Markov'!$C$86)^(-4)","v":0.888487047915689},null,null,null,null,"Total Budget for 2023 discounted",{"$f":"S207*U208","v":14822103.4587387},"discount factor",{"$f":"(1+'Lifetime HIV Markov'!$C$86)^(-4)","v":0.888487047915689},null,null,null,null,"Total Budget for 2023 discounted",{"$f":"AA207*AC208","v":15718389.5220902},"discount factor",{"$f":"(1+'Lifetime HIV Markov'!$C$86)^(-4)","v":0.888487047915689}]
[]
[]
[]
[]
[null,null,"Undiscounted"]
[null,"Budget Impact Analysis","Status Quo","URNDNPSF","UCSNPSF","UCSNP"]
[null,2019,{"$f":"C40","v":161247275.97117972},{"$f":"K40","v":963416625.01383781},{"$f":"S40","v":963623305.71787703},{"$f":"AA40","v":964214574.11107314}]
[null,2020,{"$f":"C81","v":85957982.496219009},{"$f":"K81","v":11168771.636882961},{"$f":"S81","v":11410219.251329783},{"$f":"AA81","v":12100036.635012239}]
[null,2021,{"$f":"C123","v":99613222.078103095},{"$f":"K123","v":12943036.784901027},{"$f":"S123","v":13222840.639524739},{"$f":"AA123","v":14022242.04749891}]
[null,2022,{"$f":"C165","v":114318864.70474748},{"$f":"K165","v":14853783.867382022},{"$f":"S165","v":15174894.442196229},{"$f":"AA165","v":16092309.414792247}]
[null,2023,{"$f":"C207","v":125697488.36200373},{"$f":"K207","v":16329372.766488411},{"$f":"S207","v":16682408.025541876},{"$f":"AA207","v":17691185.886124209}]
[null,"Total",{"$f":"SUM(C215:C219)","v":586834833.61225307},1018711590.0694923,1020113668.0764697,1024120348.0945009]
[]
[]
[]
[]
[]
[]
[]
[]
[]
[]
[]
[]
[]
[null,"Budget Impact Analysis","Status Quo","URNDNPSF","UCSNPSF","UCSNP"]
[null,2019,161246749.40864801,963410876.41831017,963617557.12234938,964208825.51554549]
[null,2020,184412848.50663626,1086021554.0325577,1086263001.6470044,1086952819.0306871]
[null,2021,197735885.89871997,1084169096.9829433,1084448900.8375669,1085248302.2455413]
[null,2022,212109326.1559068,1082453119.906436,1082774230.4812503,1083691645.4538462]
[null,2023,223155748.02160281,1080301990.9555836,1080655026.214637,1081663804.0752194]
[]
[]
[]
[]
[]
[]
[]
[]
[]
[]
[null,"Budget Impact Analysis - 5 years (2019-2023)"]
[null,"SQ",2019,2020,2021,2022,2023]
[null,"TOTAL SCREENING COSTS",87573306.719133794,98694304.788845181,98400139.716595456,98108900.396807805,97808249.906600535]
[null,"TOTAL PMTCT COSTS",838885.88681817579,976049.69295669289,1131104.4303306686,1298086.4551949496,1426702.3719654144]
[null,"TOTAL CONSEQUENCE COSTS",72834556.80269593,84742494.024834409,98204641.751793861,112702339.30390403,123920795.74303688]
[null,"TOTAL COST undiscounted",{"$f":"SUM(C252:C254)","v":161246749.40864789},{"$f":"SUM(D252:D254)","v":184412848.50663626},{"$f":"SUM(E252:E254)","v":197735885.89871997},{"$f":"SUM(F252:F254)","v":212109326.1559068},{"$f":"SUM(G252:G254)","v":223155748.02160281},{"$f":"SUM(C255:G255)","v":978660557.99151373}]
[]
[null,"URNDNPSF",2019,2020,2021,2022,2023]
[null,"TOTAL SCREENING COSTS",956056477.49996698,1077466786.6357436,1074255323.7674909,1071075801.963219,1067793536.4031429]
[null,"TOTAL PMTCT COSTS",1924657.0961652049,2239352.2137846341,2595094.520658771,2978201.6203693808,3273285.3031226723]
[null,"TOTAL CONSEQUENCE COSTS",5429741.8221780183,6315415.1830293769,7318678.694793717,8399116.3228476234,9235169.2493179068]
[null,"TOTAL COST undiscounted",{"$f":"SUM(C258:C260)","v":963410876.41831017},{"$f":"SUM(D258:D260)","v":1086021554.0325577},{"$f":"SUM(E258:E260)","v":1084169096.9829433},{"$f":"SUM(F258:F260)","v":1082453119.906436},{"$f":"SUM(G258:G260)","v":1080301990.9555836},{"$f":"SUM(C261:G261)","v":5296356638.2958307}]
[]
[null,"UCSNPSF",2019,2020,2021,2022,2023]
[null,"TOTAL SCREENING COSTS",956056477.49996698,1077466786.6357436,1074255323.7674909,1071075801.963219,1067793536.4031429]
[null,"TOTAL PMTCT COSTS",1979305.0291834059,2302935.4723437261,2668778.5820032177,3062763.4693288249,3366225.6384950965]
[null,"TOTAL CONSEQUENCE COSTS",5581774.5931990026,6493279.5389171094,7524798.4880729839,8635665.0487023871,9495264.172998948]
[null,"TOTAL COST undiscounted",{"$f":"SUM(C264:C266)","v":963617557.12234938},{"$f":"SUM(D264:D266)","v":1086263001.6470044},{"$f":"SUM(E264:E266)","v":1084448900.8375669},{"$f":"SUM(F264:F266)","v":1082774230.4812503},{"$f":"SUM(G264:G266)","v":1080655026.214637},{"$f":"SUM(C267:G267)","v":5297758716.3028078}]
[]
[null,"UCSNP",2019,2020,2021,2022,2023]
[null,"TOTAL SCREENING COSTS",956056477.49996698,1077466786.6357436,1074255323.7674909,1071075801.963219,1067793536.4031429]
[null,"TOTAL PMTCT COSTS",1919004.40371816,2232775.2659374801,2587472.7623593197,2969454.6815828402,3263671.7074609566]
[null,"TOTAL CONSEQUENCE COSTS",6233343.6118603647,7253257.1290058102,8405505.7156910524,9646388.8090443891,10606595.964615421]
[null,"TOTAL COST undiscounted",{"$f":"SUM(C270:C272)","v":964208825.51554549},{"$f":"SUM(D270:D272)","v":1086952819.0306871},{"$f":"SUM(E270:E272)","v":1085248302.2455413},{"$f":"SUM(F270:F272)","v":1083691645.4538462},{"$f":"SUM(G270:G272)","v":1081663804.0752194},{"$f":"SUM(C273:G273)","v":5301765396.3208389}]
[]
[]
[null,"Policy option","SQ",null,"URNDNPSF",null,"UCSNPSF",null,"UCSNP"]
[null,{"$f":"pop","v":1700618},"HIV+","HIV-","HIV+","HIV-","HIV+","HIV-","HIV+","HIV-"]
[null,null,422,1700196,422,1700196,422,1700196,422,1700196]
[null,"Screened / unscreened (9.16%; 100%)",38.65,155735.35,422,1700196,422,1700196,422,1700196]
[null,"Accepted HIV test (99%)",38.270000000000003,154177.99,417.78,1683194.04,417.78,1683194.04,417.78,1683194.04]
[null,"Cost of HIV- screening (₱566.67)",null,87367528.799999997,null,953809956,null,953809956,null,953809956]
[null,"Cost of HIV+ screening (₱1920.83)",73506.460000000006,null,802485.75,null,802485.75,null,802485.75]
[null,"CD4 for HIV+ (₱931.03)",35628.800000000003,null,388967.17,null,388967.17,null,388967.17]
[]
[null,"Acceptance to PMTCT (95%)",36.35,null,396.89,null,396.89,null,396.89]
[null,"Viral load test for HIV+ (₱2658,33)",96642.66,null,1055068.58,null,1055068.58,null,1055068.58]
[null,"TOTAL SCREENING COST",87573306.719999999,null,956056477.5,null,956056477.5,null,956056477.5]
[]
[null,"Policy option","SQ",null,"URNDNPSF",null,"UCSNPSF",null,"UCSNP"]
[null,null,"HIV+","HIV-","HIV+","HIV-","HIV+","HIV-","HIV+","HIV-"]
[null,null,422,1700196,422,1700196,422,1700196,422,1700196]
[null,"Screened / unscreened (9.16%; 100%)",38.65,155735.35,422,1700196,422,1700196,422,1700196]
[null,"Accepted HIV test (99%)",38.270000000000003,154177.99,417.78,1683194.04,417.78,1683194.04,417.78,1683194.04]
[null,"Acceptance to PMTCT (95%)",36.35,null,396.89,null,396.89,null,396.89]
[null,"Outpatient HIV treatment (₱3918.54)",142457.04,null,1555233.96,null,1555233.96,null,1555233.96]
[null,"Neonatal Prophylaxis (₱156.55)",5691.31,null,62133.29,null,62133.29,null,62133.29]
[null,"Cesarean section (₱19000)",690737.53]
[]
[null,"Late antenatal care (4%)",null,null,15.88,null,15.88,null,15.88]
[null,"Raltegravir ",null,null,246989.23]
[null,"Cesarean section",null,null,null,null,301637.15999999997,null,301637.15999999997]
[null,"Substitute feeding",null,null,60300.63,null,60300.63]
[]
[null,"TOTAL PMTCT COST",838885.89,null,1924657.1,null,1979305.03,null,1919004.4]
[]
[null,"Policy option","SQ","URNDNPSF","UCSNPSF","UCSNP"]
[]
[null,"Pediatric HIV cases",134.13999999999999,10,10.28,11.48]
[null,"Pediatric HIV cost (₱542,974.18)",72834556.799999997,5429741.8200000003,5581774.5899999999,6233343.6100000003]
[null,"TOTAL PED HIV COST",72834556.799999997,5429741.8200000003,5581774.5899999999,6233343.6100000003]
[]
[]
[null,"TOTAL COST",978660557.99000001,5296356638.3000002,5297758716.3000002,5301765396.3199997]
[]
[]
[]
[]
[null,"Policy option","SQ",null,"URNDNPSF",null,"UCSNPSF",null,"UCSNP"]
[null,null,"HIV+","HIV-","HIV+","HIV-","HIV+","HIV-","HIV+","HIV-"]
[null,"Starting population",422,1700196,422,1700196,422,1700196,422,1700196]
[null,"Screening coverage + HIV test acceptance",38.270000000000003,154177.99,417.78,1683194.04,417.78,1683194.04,417.78,1683194.04]
[null,"Cost of HIV- screening (₱566.67)",null,87367528.799999997,null,953809956,null,953809956,null,953809956]
[null,"CD4 for HIV+ (₱931.03)",35628.800000000003,null,388967.17,null,388967.17,null,388967.17]
[]
[null,"Acceptance to PMTCT (95%)",36.35,null,396.89,null,396.89,null,396.89]
[null,"Viral load test for HIV+ (₱2658,33)",96642.66,null,1055068.58,null,1055068.58,null,1055068.58]
[null,"TOTAL SCREENING COST",87573306.719999999,null,956056477.5,null,956056477.5,null,956056477.5]
[]
[]
[null,"Outpatient HIV treatment (₱3918.54)",142457.04,null,1555233.96,null,1555233.96,null,1555233.96]
[null,"Neonatal Prophylaxis (₱156.55)",5691.31,null,62133.29,null,62133.29,null,62133.29]
[null,"Cesarean section (₱19000)",690737.53]
[]
[null,"Late antenatal care (4%)",null,null,15.88,null,15.88,null,15.88]
[null,"Raltegravir ",null,null,246989.23]
[null,"Cesarean section",null,null,null,null,301637.15999999997,null,301637.15999999997]
[null,"Substitute feeding",null,null,60300.63,null,60300.63]
[null,"TOTAL PMTCT COST",838885.89,null,1924657.1,null,1979305.03,null,1919004.4]
[]
[null,"Pediatric HIV cases",134.13999999999999,null,10,null,10.28,null,11.48]
[null,"Pediatric HIV cost (₱542,974.18)",72834556.799999997,null,5429741.8200000003,null,5581774.5899999999,null,6233343.6100000003]
[]
[]
[]
[null,null,"SQ","URNDNPSF","UCSNPSF","UCSNP"]
[null,"TOTAL SCREENING COSTS",87573306.719133794,956056477.49996698,956056477.49996698,956056477.49996698]
[null,"TOTAL PMTCT COSTS",838885.88681817579,1924657.0961652049,1979305.0291834059,1919004.40371816]
[null,"TOTAL CONSEQUENCE COSTS",72834556.80269593,5429741.8221780183,5581774.5931990026,6233343.6118603647]

{"sheet":"BIA v2","index":18,"n_rows":135,"n_cols":15,"rows_kept":135,"cut":false,"hidden":false,"merged":[[1,1,1,7],[1,9,1,15],[1,8,35,8],[60,1,60,7],[60,9,60,15],[101,8,107,8],[42,8,48,8],[72,1,72,7],[72,8,99,8],[72,9,72,15]]}
["Budget Impact Analysis"]
[null,"Status Quo Scenario",null,null,null,null,null,null,2019,"URNDNPSF Scenario"]
[null,null,null,"Parameter","Value",null,null,null,null,null,null,"Parameter","Value"]
[null,"Screening tests",null,"HIV+ population",{"$f":"pwhiv","v":422},"HIV- population",{"$f":"pop-pwhiv","v":1700196},null,null,"Screening tests",null,"HIV+ population",{"$f":"pwhiv","v":422},"HIV- population",{"$f":"pop-pwhiv","v":1700196}]
[null,"Coverage of screening",{"$f":"percentsqs","v":9.1598465969429943E-2},null,{"$f":"ROUNDDOWN(E4*C5,0)","v":38},null,{"$f":"C5*G4","v":155735.34544736092},null,null,"Coverage of screening",{"$f":"percentus","v":1},null,{"$f":"ROUNDDOWN(M4*K5,0)","v":422},null,{"$f":"K5*O4","v":1700196}]
[null,"Acceptance to HIV test",{"$f":"acceptHIV","v":0.99},null,{"$f":"ROUNDDOWN(E5*C6,0)","v":37},null,{"$f":"G5*C6","v":154177.99199288731},null,null,"Acceptance to HIV test",{"$f":"acceptHIV","v":0.99},null,{"$f":"ROUNDDOWN(K6*M5,0)","v":417},null,{"$f":"O5*K6","v":1683194.04}]
[null,"HIV- screening test",{"$f":"hivnegtest","v":566.66999999999996},null,null,null,{"$f":"G6*C7","v":87368042.722609445},null,null,"HIV- screening test",{"$f":"hivnegtest","v":566.66999999999996},null,null,null,{"$f":"O6*K7","v":953815566.64679992}]
[null,"HIV+ screening test",{"$f":"hivpostest","v":1920.8333333333335},null,{"$f":"E6*C8","v":71070.833333333343},null,null,null,null,"HIV+ screening test",{"$f":"hivpostest","v":1920.8333333333335},null,{"$f":"M6*K8","v":800987.50000000012}]
[null,"CD4 test",{"$f":"cd4test","v":931.03349841269846},null,{"$f":"E6*C9","v":34448.239441269841},null,null,null,null,"CD4 test",{"$f":"cd4test","v":931.03349841269846},null,{"$f":"M6*K9","v":388240.96883809526}]
[null,null,null,null,null,null,null,null,null,null,null,null,null,{"$f":"SUM(M8:M9,M12)","v":2242327.2188380957}]
[null,"Acceptance to PMTCT",{"$f":"acceptsq","v":0.95},null,{"$f":"E6*C11","v":35.15},null,null,null,null,"Acceptance to PMTCT",{"$f":"acceptsq","v":0.95},null,{"$f":"M6*K11","v":396.15}]
[null,"Viral load test",{"$f":"vltest","v":2658.3333333333335},null,{"$f":"E11*C12","v":93440.416666666672},null,null,null,null,"Viral load test",{"$f":"vltest","v":2658.3333333333335},null,{"$f":"M11*K12","v":1053098.75}]
[]
[]
[null,"TOTAL SCREENING COSTS",null,null,{"$f":"E8+E9+E12+G7","v":87567002.212050721},null,null,null,null,"TOTAL SCREENING COSTS",null,null,{"$f":"M8+M9+M12+O7","v":956057893.86563802}]
[]
[null,"PMTCT",null,"HIV+ population",{"$f":"pwhiv","v":422},null,null,null,null,"PMTCT",null,"HIV+ population",{"$f":"pwhiv","v":422}]
[null,"Coverage of screening",{"$f":"percentsqs","v":9.1598465969429943E-2},null,{"$f":"ROUNDDOWN(E17*C18,0)","v":38},null,null,null,null,"Coverage of screening",{"$f":"percentus","v":1},null,{"$f":"ROUNDDOWN(M17*K18,0)","v":422}]
[null,"Acceptance to HIV test",{"$f":"acceptHIV","v":0.99},null,{"$f":"ROUNDDOWN(C19*E18,0)","v":37},null,null,null,null,"Acceptance to HIV test",{"$f":"acceptHIV","v":0.99},null,{"$f":"ROUNDDOWN(K19*M18,0)","v":417}]
[null,"Acceptance to PMTCT",{"$f":"acceptsq","v":0.95},null,{"$f":"ROUNDDOWN(E19*C20,0)","v":35},null,null,null,null,"Acceptance to PMTCT",{"$f":"acceptsq","v":0.95},null,{"$f":"ROUNDDOWN(K20*M19,0)","v":396}]
[null,"Outpatient HIV treatment",{"$f":"outhivcost","v":3918.889333333334},null,{"$f":"E20*C21","v":137161.12666666668},null,null,null,null,"Outpatient HIV treatment",{"$f":"outhivcost","v":3918.889333333334},null,{"$f":"M20*K21","v":1551880.1760000002}]
[null,"Neonatal Prophylaxis",{"$f":"npcost","v":156.55000000000001},null,{"$f":"E20*C22","v":5479.25},null,null,null,null,"Neonatal Prophylaxis",{"$f":"npcost","v":156.55000000000001},null,{"$f":"M20*K22","v":61993.8}]
[null,"Cesarean section",{"$f":"cscost","v":19000},null,{"$f":"E20*C23","v":665000}]
[null,null,null,null,null,null,null,null,null,"Late antenatal care",{"$f":"lateanc","v":4.0000000000000036E-2},null,{"$f":"M20*K24","v":15.840000000000014}]
[null,null,null,null,null,null,null,null,null,"Substitute feeding",{"$f":"sfcost","v":3798.3114674586955},null,{"$f":"K25*M24","v":60165.253644545788}]
[null,null,null,null,null,null,null,null,null,"Raltegravir ",{"$f":"rcost","v":15557.749292740251},null,{"$f":"M24*K26","v":246434.7487970058}]
[]
[null,"TOTAL PMTCT COSTS",null,null,{"$f":"E21+E22+E23","v":807640.37666666671},null,null,null,null,"TOTAL PMTCT COSTS",null,null,{"$f":"M21+M22+M25+M26","v":1920473.9784415518}]
[]
[null,"Pediatric HIV",null,"Pediatric HIV Cases",{"$f":"ROUNDUP(134.14,0)","v":135},null,null,null,null,"Pediatric HIV",null,"Pediatric HIV Cases",{"$f":"ROUNDUP(10,0)","v":10}]
[null,"Pediatric HIV cost",57030.170647914652,null,null,null,null,null,null,"Pediatric HIV cost",57030.170647914652]
[null,"Total cost year 1",null,null,{"$f":"C31*E30","v":7699073.0374684781},null,null,null,null,"Total cost",null,null,{"$f":"K31*M30","v":570301.70647914649}]
[]
[]
[]
[]
[null,"TOTAL CONSEQUENCE COSTS",null,null,{"$f":"E32","v":7699073.0374684781},null,null,null,null,"TOTAL CONSEQUENCE COSTS",null,null,{"$f":"M32","v":570301.70647914649}]
[]
[]
["YEAR 1","Total Budget for 2019 undiscounted",{"$f":"E15+E28+E37","v":96073715.626185864},null,null,null,null,null,null,"Total Budget for 2019 undiscounted",{"$f":"M15+M28+M37","v":958548669.55055881}]
[]
[]
[null,"Pediatric HIV",null,"Pediatric HIV Cases",{"$f":"ROUNDUP(134.14,0)","v":135},null,null,null,"2020 - 2023","Pediatric HIV",null,"Pediatric HIV Cases",{"$f":"ROUNDUP(10,0)","v":10}]
[null,"Pediatric HIV cost",{"$f":"lifecost","v":542974.1822178018},null,null,null,null,null,null,"Pediatric HIV cost",{"$f":"lifecost","v":542974.1822178018}]
[null,"Total cost year 2-5",null,null,{"$f":"C44*E43","v":73301514.599403247},null,null,null,null,"Total cost",null,null,{"$f":"K44*M43","v":5429741.8221780183}]
[]
[]
[]
[]
[null,"TOTAL CONSEQUENCE COSTS",null,null,{"$f":"E45","v":73301514.599403247},null,null,null,null,"TOTAL CONSEQUENCE COSTS",null,null,{"$f":"M45","v":5429741.8221780183}]
[]
[null,null,null,null,null,null,null,null,"Status Quo",null,"URNDNPSF Scenario"]
[null,null,null,null,null,null,null,"TOTAL SCREENING COSTS",87567002.212050721,"TOTAL SCREENING COSTS",956057893.86563802]
[null,null,null,null,null,null,null,"TOTAL PMTCT COSTS",807628.21160000004,"TOTAL PMTCT COSTS",1920336.3394015515]
[null,null,null,null,null,null,null,"TOTAL CONSEQUENCE COSTS",73301514.599403247,"TOTAL CONSEQUENCE COSTS",5429741.8221780183]
[null,null,null,null,null,null,null,"Total",{"$f":"E50+E28+E15","v":161676157.18812063},"total",{"$f":"M50+M28+M15","v":963408109.66625762}]
[]
[]
[]
[]
[null,"Status Quo Scenario",null,null,null,null,null,null,null,"URNDNPSF Scenario"]
[null,"TOTAL SCREENING COSTS",null,null,87567002.212050721,null,null,null,null,"TOTAL SCREENING COSTS",null,null,956057893.86563802]
[null,"TOTAL PMTCT COSTS",null,null,807628.21160000004,null,null,null,null,"TOTAL PMTCT COSTS",null,null,1920336.3394015515]
[null,"TOTAL CONSEQUENCE COSTS",null,null,73301514.599403247,null,null,null,null,"TOTAL CONSEQUENCE COSTS",null,null,5429741.8221780183]
[]
[]
[]
[]
[]
[]
[]
["Budget Impact Analysis"]
[null,"Status Quo Scenario",null,null,null,null,null,null,2019,"URNDNPSF Scenario"]
[null,null,null,"Parameter","Value",null,null,null,null,null,null,"Parameter","Value"]
[null,"Screening tests",null,"HIV+ population",{"$f":"pwhiv","v":422},"HIV- population",{"$f":"pop-pwhiv","v":1700196},null,null,"Screening tests",null,"HIV+ population",{"$f":"pwhiv","v":422},"HIV- population",{"$f":"pop-pwhiv","v":1700196}]
[null,"Coverage of screening",{"$f":"percentsqs","v":9.1598465969429943E-2},null,{"$f":"ROUNDDOWN(E75*C76,0)","v":38},null,{"$f":"C76*G75","v":155735.34544736092},null,null,"Coverage of screening",{"$f":"percentus","v":1},null,{"$f":"ROUNDDOWN(M75*K76,0)","v":422},null,{"$f":"K76*O75","v":1700196}]
[null,"Acceptance to HIV test",{"$f":"acceptHIV","v":0.99},null,{"$f":"ROUNDDOWN(E76*C77,0)","v":37},null,{"$f":"G76*C77","v":154177.99199288731},null,null,"Acceptance to HIV test",{"$f":"acceptHIV","v":0.99},null,{"$f":"ROUNDDOWN(K77*M76,0)","v":417},null,{"$f":"O76*K77","v":1683194.04}]
[null,"HIV- screening test",288.88888888888903,null,null,null,{"$f":"G77*C78","v":44540308.797945246},null,null,"HIV- screening test",288.88888888888903,null,null,null,{"$f":"O77*K78","v":486256056.00000024}]
[null,"HIV+ screening test",{"$f":"hivpostest","v":1920.8333333333335},null,{"$f":"E77*C79","v":71070.833333333343},null,null,null,null,"HIV+ screening test",{"$f":"hivpostest","v":1920.8333333333335},null,{"$f":"M77*K79","v":800987.50000000012}]
[null,"CD4 test",{"$f":"cd4test","v":931.03349841269846},null,{"$f":"E77*C80","v":34448.239441269841},{"$f":"SUM(E79:E80)","v":105519.07277460318},null,null,null,"CD4 test",{"$f":"cd4test","v":931.03349841269846},null,{"$f":"M77*K80","v":388240.96883809526},{"$f":"SUM(M79:M80)","v":1189228.4688380954}]
[]
[null,"Acceptance to PMTCT",{"$f":"acceptsq","v":0.95},null,{"$f":"E77*C82","v":35.15},null,null,null,null,"Acceptance to PMTCT",{"$f":"acceptsq","v":0.95},null,{"$f":"M77*K82","v":396.15}]
[null,"Viral load test",{"$f":"vltest","v":2658.3333333333335},null,{"$f":"E82*C83","v":93440.416666666672},null,null,null,null,"Viral load test",{"$f":"vltest","v":2658.3333333333335},null,{"$f":"M82*K83","v":1053098.75}]
[]
[]
[null,"TOTAL SCREENING COSTS",null,null,{"$f":"E79+E80+E83+G78","v":44739268.287386514},null,null,null,null,"TOTAL SCREENING COSTS",null,null,{"$f":"M79+M80+M83+O78","v":488498383.21883833}]
[]
[null,"PMTCT",null,"HIV+ population",{"$f":"pwhiv","v":422},null,null,null,null,"PMTCT",null,"HIV+ population",{"$f":"pwhiv","v":422}]
[null,"Coverage of screening",{"$f":"percentsqs","v":9.1598465969429943E-2},null,{"$f":"ROUNDDOWN(E88*C89,0)","v":38},null,null,null,null,"Coverage of screening",{"$f":"percentus","v":1},null,{"$f":"ROUNDDOWN(M88*K89,0)","v":422}]
[null,"Acceptance to HIV test",{"$f":"acceptHIV","v":0.99},null,{"$f":"ROUNDDOWN(C90*E89,0)","v":37},null,null,null,null,"Acceptance to HIV test",{"$f":"acceptHIV","v":0.99},null,{"$f":"ROUNDDOWN(K90*M89,0)","v":417}]
[null,"Acceptance to PMTCT",{"$f":"acceptsq","v":0.95},null,{"$f":"ROUNDDOWN(E90*C91,0)","v":35},null,null,null,null,"Acceptance to PMTCT",{"$f":"acceptsq","v":0.95},null,{"$f":"ROUNDDOWN(K91*M90,0)","v":396}]
[null,"Outpatient HIV treatment",{"$f":"outhivcost","v":3918.889333333334},null,{"$f":"E91*C92","v":137161.12666666668},null,null,null,null,"Outpatient HIV treatment",{"$f":"outhivcost","v":3918.889333333334},null,{"$f":"M91*K92","v":1551880.1760000002}]
[null,"Neonatal Prophylaxis",{"$f":"npcost","v":156.55000000000001},null,{"$f":"E91*C93","v":5479.25},null,null,null,null,"Neonatal Prophylaxis",{"$f":"npcost","v":156.55000000000001},null,{"$f":"M91*K93","v":61993.8}]
[null,"Cesarean section",{"$f":"cscost","v":19000},null,{"$f":"E91*C94","v":665000}]
[null,null,null,null,null,null,null,null,null,"Late antenatal care",{"$f":"lateanc","v":4.0000000000000036E-2},null,{"$f":"M91*K95","v":15.840000000000014}]
[null,null,null,null,null,null,null,null,null,"Substitute feeding",{"$f":"sfcost","v":3798.3114674586955},null,{"$f":"K96*M95","v":60165.253644545788}]
[null,null,null,null,null,null,null,null,null,"Raltegravir ",{"$f":"rcost","v":15557.749292740251},null,{"$f":"M95*K97","v":246434.7487970058}]
[]
[null,"TOTAL PMTCT COSTS",null,null,{"$f":"E92+E93+E94","v":807640.37666666671},null,null,null,null,"TOTAL PMTCT COSTS",null,null,{"$f":"M92+M93+M96+M97","v":1920473.9784415518}]
[]
[]
[null,"Pediatric HIV",null,"Pediatric HIV Cases",{"$f":"ROUNDUP(134.14,0)","v":135},null,null,null,"2020 - 2023","Pediatric HIV",null,"Pediatric HIV Cases",{"$f":"ROUNDUP(10,0)","v":10}]
[null,"Pediatric HIV cost",{"$f":"lifecost","v":542974.1822178018},null,null,null,null,null,null,"Pediatric HIV cost",{"$f":"lifecost","v":542974.1822178018}]
[null,"Total cost year 2-5",null,null,{"$f":"C103*E102","v":73301514.599403247},null,null,null,null,"Total cost",null,null,{"$f":"K103*M102","v":5429741.8221780183}]
[]
[]
[]
[]
[null,"TOTAL CONSEQUENCE COSTS",null,null,{"$f":"E104","v":73301514.599403247},null,null,null,null,"TOTAL CONSEQUENCE COSTS",null,null,{"$f":"M104","v":5429741.8221780183}]
[]
[]
[null,null,null,null,null,null,null,null,null,"Total Budget for 2019 undiscounted",{"$f":"M109","v":5429741.8221780183}]
[]
[]
[null,null,null,null,{"$f":"SUM(E109+E99+E86)","v":118848423.26345643},null,null,null,null,null,null,null,{"$f":"SUM(M109+M99+M86)","v":495848599.01945788}]
[null,null,null,null,null,null,null,null,{"$f":"M115-E115","v":377000175.75600147}]
[]
[]
[]
[]
[]
[]
[]
[null,null,null,null,null,null,null,"Status Quo",null,"URNDNPSF Scenario"]
[null,null,null,null,null,null,"TOTAL SCREENING COSTS",87567002.212050721,"TOTAL SCREENING COSTS",956057893.86563802]
[null,null,null,null,null,null,"TOTAL PMTCT COSTS",807628.21160000004,"TOTAL PMTCT COSTS",1920336.3394015515]
[null,null,null,null,null,7699073.0374684781,"TOTAL CONSEQUENCE COSTS",73301514.599403247,"TOTAL CONSEQUENCE COSTS",5429741.8221780183,570301.70647914649,{"$f":"K127+J126+J125-H125-H126-F127","v":862474828.45039964}]
[null,null,null,null,null,null,"Total",161676145.02305397,"total",963407972.02721763,null,{"$f":"J128-H128","v":801731827.00416362}]
[null,null,null,null,null,{"$f":"F127+H126+H125","v":96073703.461119205}]
[]
[]
[null,null,null,null,null,null,"TOTAL SCREENING COSTS",44739268.287386514,"TOTAL SCREENING COSTS",488498383.21883833]
[null,null,null,null,null,null,"TOTAL PMTCT COSTS",807628.21160000004,"TOTAL PMTCT COSTS",1920336.3394015515]
[null,null,null,null,null,null,"TOTAL CONSEQUENCE COSTS",73301514.599403247,"TOTAL CONSEQUENCE COSTS",5429741.8221780183,null,{"$f":"K127+J133+J132-H132-H133-F127","v":437743051.72826397}]
[null,null,null,null,null,null,"Total",{"$f":"SUM(H132:H134)","v":118848411.09838976},null,{"$f":"SUM(J132:J134)","v":495848461.38041788},null,{"$f":"J135-H135","v":377000050.28202814}]

{"sheet":"DSA","index":19,"n_rows":169,"n_cols":72,"rows_kept":169,"cut":false,"hidden":true,"merged":[]}
["Name of input parameter","Value",null,null,null,null,"pop",null,"pwhiv",null,"earlyanc",null,"lateanc",null,"percentsqs",null,"percentus",null,"base",null,"pmore4",null,"pless4",null,"pless4r",null,"pnp",null,"pcs",null,"psf",null,"sens",null,"spec",null,"acceptHIV",null,"acceptouthiv",null,"acceptr",null,"acceptcs",null,"acceptnp",null,"acceptsf",null,"reqHIVtestcost",null,"allHIVtestcost",null,"outhivcost",null,"lifecost",null,"npcost",null,"sfcost",null,"cscost",null,"rcost",null,"vltest",null,"cd4test",null,"qwohiv",null,"qwhiv"]
[null,null,-0.25,"25% or maximum probability for those over 1","Base Case",null,"ICER if -25%","ICER if +25%","ICER if -25%","ICER if +25%","ICER if -25%","ICER if +25%","ICER if -25%","ICER if +25%","ICER if -25%","ICER if +25%","ICER if -25%","ICER if +25%","ICER if -25%","ICER if +25%","ICER if -25%","ICER if +25%","ICER if -25%","ICER if +25%","ICER if -25%","ICER if +25%","ICER if -25%","ICER if +25%","ICER if -25%","ICER if +25%","ICER if -25%","ICER if +25%","ICER if -25%","ICER if +25%","ICER if -25%","ICER if +25%","ICER if -25%","ICER if +25%","ICER if -25%","ICER if +25%","ICER if -25%","ICER if +25%","ICER if -25%","ICER if +25%","ICER if -25%","ICER if +25%","ICER if -25%","ICER if +25%","ICER if -25%","ICER if +25%","ICER if -25%","ICER if +25%","ICER if -25%","ICER if +25%","ICER if -25%","ICER if +25%","ICER if -25%","ICER if +25%","ICER if -25%","ICER if +25%","ICER if -25%","ICER if +25%","ICER if -25%","ICER if +25%","ICER if -25%","ICER if +25%","ICER if -25%","ICER if +25%","ICER if -25%","ICER if +25%","ICER if -25%","ICER if +25%"]
["pop",1700618,{"$f":"B3*0.75","v":1275463.5},{"$f":"B3*1.25","v":2125772.5},389093.23620509612,"ucs",269185.94566545484,509000.53,548969.62359280896,293167.40377387154,390429.4700208531,388888.52531816543,null,null,null,null,null,null,550911.35815728246,292002.36303518858,388599.44612608908,389588.03286969068,389023.05551789462,389163.43718979083,389093.23620509612,389093.23620509612,389093.23620509612,389093.23620509612,388529.40812748985,389658.37704323459,389093.23620509612,389093.23620509612,548969.62359280896,null,6256384.7164848531,null,389093.23620617663,389093.23620617663,549129.61128943029,384292.14495222765,389093.23620509612,389093.23620509612,388105.56498724408,389093.23620509612,389093.23620509612,389093.23620509612,389093.23620509612,389093.23620509612,269215.70007038751,508970.77233980468,388992.37752367009,389194.09488652216,388882.78460473585,389303.68780545628,413183.51861681452,365002.95379337756,389093.23620509612,389093.23620509612,389093.23620509612,389093.23620509612,388105.56498724408,390080.90742294828,389093.23620509612,389093.23620509612,388955.04887242295,389231.4235377693,389044.34970912378,389142.12270106835,571269.52661764494,295014.05918364157,364013.68816153455,417884.3237798101]
["pwhiv",422,316.5,{"$f":"B4*1.25","v":527.5},394044.04471781623,"und",271818.92280396726,516269.17,557010.8739370699,296263.94718749187,401111.21336496412,392975.67928491818,null,null,null,null,null,null,557512.43617342238,295963.00984567992,391473.3844338588,396641.94088449556,393677.35526549746,394411.28336069884,394044.04471781623,394044.04471781623,394044.04471781623,394044.04471781623,394102.66328227456,393985.44016513915,394044.04471781623,394044.04471781623,557010.87394022325,null,1909602.2935268395,null,394044.04472060472,394044.04472060472,557173.9542303069,389150.14743350167,394044.04471781623,394044.04471781623,394145.56144990004,394044.04471781623,394044.04471781623,394044.04471781623,394044.04471781623,394044.04471781623,271849.25236736587,516238.8370682667,393941.23641835514,394146.85301727732,393829.52504686691,394258.56438876555,418134.32712947502,369953.76230615744,394044.04471781623,394044.04471781623,394044.04471781623,394044.04471781623,394145.56144990004,393942.52798573242,394044.04471781623,394044.04471781623,393903.18619697972,394184.9032386528,393994.21323631698,394093.87619931548,578538.33977960295,298767.80759179522,368645.38539744978,423201.46906983154]
["earlyanc",0.96299999999999997,0.72224999999999995,1,389144.0465183112,"urcs",269273.1866669943,509014.91,548971.85965342948,293247.35863766633,390808.13361895562,388888.52531816543,null,null,null,null,null,null,550979.1052415804,292043.0112847811,388650.35464484256,389638.74447110103,389151.12288919504,389136.97035532171,389103.67376261955,389184.42598798731,389144.0465183112,389144.0465183112,388617.12476450525,389672.11450298055,389144.0465183112,389144.0465183112,548971.85965038138,null,6454388.5725535052,null,389144.04651723098,389144.04651723098,549131.79873893084,384344.41395191901,389094.47079166345,389154.48351339507,388156.6753784882,389144.0465183112,389144.0465183112,389144.0465183112,389144.0465183112,389144.0465183112,269302.93203295174,508985.16100367071,389043.21848015371,389244.8745564688,388933.65885815729,389354.43417846516,413234.32893003809,365053.76410658436,389144.0465183112,389144.0465183112,389144.0465183112,389144.0465183112,388156.6753784882,390131.41765813431,389094.47079166345,389193.62224495917,389005.90117023949,389282.19186638296,389095.17487522017,389192.91816140217,571344.12668985792,295052.58402902819,364061.22342509869,417938.89381951228]
["lateanc",3.7000000000000033E-2,2.7750000000000025E-2,0,386710.72771720606,"ucsnp",267399.84333538776,506021.61,545791.90688922396,291262.02021239663,386612.14777684485,386725.88167887781,null,null,null,null,null,null,547734.68017263594,290096.35624416173,386747.30451790412,386674.15645464801,386715.92137868685,386705.53416900313,386710.72771720606,386710.72771720606,386696.13727893837,386725.3190368904,386752.49896591692,386668.96369277296,386710.72771720606,386710.72771720606,545791.90689224016,null,6257140.8703081701,null,386710.72771774034,386710.72771774034,545951.09882700909,381933.51658444124,386710.72771720606,386710.72771720606,385727.96907134756,386710.72771720606,386702.70519376517,386714.29328317987,386710.72771720606,386710.72771720606,267429.44974617107,505992.00568824116,386610.37069617549,386811.08473823679,386501.32288080867,386920.1325536035,410801.01012890937,362620.44530550274,386702.70519376517,386718.750240647,386710.72771720606,386710.72771720606,385727.96907134756,387693.48636306473,386710.72771720606,386710.72771720606,386573.22771368467,386848.22772072762,386662.08437748515,386759.3710569269,567771.51028069365,293207.61940316251,361784.74758531392,415325.52075974928]
["percentsqs",9.1598465969429943E-2,6.8698849477072457E-2,{"$f":"B7*1.25","v":0.11449808246178743},388355.95613364631,"ucssf",268844.73098927404,507867.18,547704.25632389635,292746.97601928451,388737.50100875262,388297.37107830745,null,null,null,null,null,null,549928.31805972313,291412.53897778544,388214.58105198044,388497.41373020195,388335.87549037987,388376.03844244691,388355.95613364631,388355.95613364631,388355.95613364631,388355.95613364631,388194.51212041109,388517.50776402594,388137.91104365507,388574.19757105439,547704.25632692827,null,7108748.4922904288,null,388355.9561352586,388355.9561352586,547863.7155686894,383570.72335115692,388355.95613364631,388355.95613364631,387371.54728950496,388355.95613364631,388355.95613364631,388355.95613364631,388139.40045209962,388727.19444486912,268874.38711364096,507837.5251536516,388255.43059821549,388456.48166907718,388146.19967530895,388565.71259198349,412446.23854536307,364265.67372192937,388355.95613364631,388355.95613364631,388139.40045209962,388572.51181519293,387371.54728950496,389340.3649777876,388355.95613364631,388355.95613364631,388218.22524711944,388493.68702017306,388307.23111450591,388404.68115278659,570187.04664025211,294455.0466745579,363323.93050744332,417092.48841575813]
["percentus",1,0.75,1.25,393532.38679404382,"urnd",271485.10785626731,515579.67,556262.09204519866,295894.56364457536,397174.55686543783,392975.67928491818,null,null,null,null,null,null,556830.22560842405,295553.68350663979,390968.12553783623,396123.77639438841,393539.65677059069,393525.11703493062,393337.35122216592,393727.57778413052,393532.38679404382,393532.38679404382,393590.85898578441,393473.92855876411,393532.38679404382,393532.38679404382,556262.09204519854,null,2110247.5733937984,null,393532.38679460005,393532.38679460005,556424.93504622276,388645.61034717772,393481.91095240653,393543.01328702003,393633.75581477769,393532.38679404382,393532.38679404382,393532.38679404382,393532.38679404382,393532.38679404382,271515.39328880532,515549.38029928243,393429.72808522056,393635.04550286726,393318.17925873492,393746.59432935272,417622.66920572787,369442.10438235995,393532.38679404382,393532.38679404382,393532.38679404382,393532.38679404382,393633.75581477769,393431.01777330996,393481.91095240653,393582.86263568111,393391.73322860565,393673.04035948205,393482.6278195614,393582.14576852624,577787.11987926147,298379.86386233411,368166.70709925203,422651.95084122772]
["base",0.21770699145098957,{"$f":"B9*0.75","v":0.16328024358824217},0.27213373931373697,382597.6288212082,"undnp",263233.33224781312,501961.93,541750.02425464778,287106.19156273018,382626.36855647661,382593.21222057607,null,null,null,null,null,null,542250.54831278755,286805.87712784746,382586.96917680156,382608.28894011513,382596.11509682634,382599.14255674457,382597.6288212082,382597.6288212082,382529.5612165606,382665.71577831981,382653.53901568661,382541.73167837557,382597.6288212082,382597.6288212082,541750.0242546479,null,1895018.8401049844,null,382597.62882279465,382597.62882279465,541909.28745525633,377818.2790621444,382597.6288212082,382597.6288212082,382696.76943261334,382597.6288212082,382589.60270630487,382601.19598338736,382597.6288212082,382597.6288212082,263262.95191146125,501932.30573095498,382497.22687310679,382698.03076930955,382388.13024004019,382807.12740237598,406687.9112329043,358507.34640951199,382589.60270630487,382605.65493611147,382597.6288212082,382597.6288212082,382696.76943261334,382498.48820980289,382597.6288212082,382597.6288212082,382460.06726272701,382735.19037968933,382548.96370520547,382646.29393721069,561732.62849179865,290089.03010948561,357936.76422514266,410908.07169942569]
["pmore4",1.9801326693244747E-2,1.4850995019933561E-2,2.4751658366555934E-2,387245.61862263607,"undsf",266932.22871712892,507559.01,547663.47182997898,290994.90669823036,389555.20766556438,386892.61117806146,null,null,null,null,null,null,548447.86804882367,290524.26896875724,386394.4880380751,388099.75570865703,387124.57314669079,387366.72472526721,387245.61862263607,387245.61862263607,387245.61862263607,387245.61862263607,387302.52031187603,387188.73032209167,386217.20828243729,388278.42156167951,547663.47182997898,null,2757436.3327790229,null,387245.61862263613,387245.61862263613,547824.00136940065,382428.26714040892,387245.61862263607,387245.61862263607,387345.5475241408,387245.61862263607,387245.61862263607,387245.61862263607,387027.60940953554,387619.34870223713,266962.08389362367,507529.15335164842,387144.41835525323,387346.81889001897,387034.45426943927,387456.78297583287,411335.90103432554,363155.33621094655,387245.61862263607,387245.61862263607,387027.60940953554,387463.62783573667,387345.5475241408,387145.68972113129,387245.61862263607,387245.61862263607,387106.96328015369,387384.27396511845,387196.56655895786,387294.67068631417,568556.84101158229,293613.17859293759,362285.16135145159,415899.99110163399]
["pless4",7.3183793440617761E-2,5.4887845080463321E-2,9.1479741800772202E-2,386904.63860601612,"urcsnp",267594.60983431729,506214.67,545984.67696828151,291456.61558962351,388067.43001842941,386725.88167887781,null,null,null,null,null,null,547993.2280236138,290251.48495642003,386941.2298266578,386868.05292565824,386911.64938144613,386897.62803559552,386903.68999265396,386905.58722310269,386890.90877020016,386918.36922202032,386947.29287925072,386861.99186260672,386904.63860601612,386904.63860601612,545984.67696828139,null,6456093.8626673492,null,386904.63860601623,386904.63860601623,546143.86776144383,382127.46173214534,386855.29482571693,386915.02677028975,385921.8870077724,386904.63860601612,386896.61614010704,386908.20414642029,386904.63860601612,386904.63860601612,267624.21603167715,506185.06118035532,386804.28230467153,387004.99490736093,386695.23527131457,387114.04194071778,410994.92101771035,362814.35619432206,386896.61614010704,386912.66107192548,386904.63860601612,386904.63860601612,385921.8870077724,387887.39020426001,386855.29482571693,386953.98238631547,386767.13958854269,387042.13762348978,386855.99561512918,386953.28159690317,568056.21166118607,293354.64441801293,361966.1596781495,415533.78015157115]
["pless4r",3.8249290853633267E-2,2.868696814022495E-2,4.7811613567041583E-2,388501.85558935581,"urcssf",269003.39907693909,508000.31,547833.13094000274,292903.09038015205,389832.52666417341,388297.37107830745,null,null,null,null,null,null,550122.85067185306,291529.25854286726,388360.45305861824,388643.34064379748,388508.90064469783,388494.8107403497,388487.6764192704,388516.03558717872,388501.85558935581,388501.85558935581,388353.32269414677,388650.47954669711,388296.70760171372,388707.17732394481,547833.13094000274,null,7307291.5309990449,null,388501.85558989347,388501.85558989347,547992.57314506941,383717.13406304171,388452.43387984025,388512.26015978004,387517.55191987992,388501.85558935581,388501.85558935581,388501.85558935581,388285.32304471161,388873.05423731729,269033.05203171691,507970.65914699476,388401.34079411655,388602.37038459518,388292.12154148903,388711.58963722253,412592.13800103514,364411.57317767642,388501.85558935581,388501.85558935581,388285.32304471161,388718.38813400007,387517.55191987992,389486.15925883164,388452.43387984025,388551.27729887131,388364.13941805629,388639.57176065532,388453.1357760175,388550.57540269406,570401.25728686666,294565.66897909442,363460.42580988607,417249.18375370075]
["pnp",2.3714290242090708E-2,1.7785717681568031E-2,2.9642862802613384E-2,387537.65782377054,"ucsnpsf",268236.10273860587,506839.21,546606.39793508616,292096.41375677031,387416.59638141113,387556.26869143319,null,null,null,null,null,null,548837.25364962872,290757.90032889735,387582.57893119834,387492.7450517813,387544.03622562444,387531.27958845702,387537.65782377054,387537.65782377054,387532.5025603656,387542.81319541606,387588.95852056274,387486.36800199479,387532.5025603656,387542.81319541606,546606.39793508616,null,7128459.3828676594,null,387537.65782323526,387537.65782323526,546765.57742213213,382760.82023525774,387537.65782377054,387537.65782377054,386554.97602292913,387537.65782377054,387529.63592763635,387541.22311094141,387321.48206672492,387908.24483584886,268265.70683437341,506809.60881316767,387437.30864997394,387638.00699756731,387328.26936140173,387747.04628613935,411627.94023551559,363447.37541202543,387529.63592763635,387545.6797199049,387321.48206672492,387753.83358081634,386554.97602292913,388520.33962461207,387537.65782377054,387537.65782377054,387400.1685718107,387675.14707573038,387489.01828762674,387586.29735991429,568985.6150943567,293834.60539242986,362558.37675692374,416213.63984319469]
["pcs",0.2125984251968504,0.15944881889763779,0.26574803149606302,382778.92426938785,"urndnp",263418.65572437097,502139.19,541925.94899757509,287290.70943385089,383987.08497496846,382593.21222057607,null,null,null,null,null,null,542492.27557622071,286950.91348666378,382768.2609515253,382789.58806348563,382785.87811972509,382771.97062247695,382774.49853512354,382783.35008700058,382714.87430950301,382842.99135944067,382834.85373932921,382723.00785515172,382778.92426938785,382778.92426938785,541925.94899757509,null,2094033.9900946205,null,382778.924270446,382778.924270446,542085.20682373969,377999.73579344491,382729.55971111747,382789.31680797116,382878.06153522647,382778.92426938785,382770.89842533116,382782.49131119088,382778.92426938785,382778.92426938785,263448.27438848367,502109.57415029214,382678.52570941771,382879.32282935811,382569.43275789032,382988.41578088538,406869.20668104081,358688.64185773482,382770.89842533116,382786.95011344459,382778.92426938785,382778.92426938785,382878.06153522647,382679.78700354917,382729.55971111747,382828.28882765834,382641.36735301389,382916.48118576186,382730.26079562225,382827.58774315339,561998.80779258907,290226.48998098134,358106.37402228365,411102.78216794092]
["psf",0.35274847903318918,0.26456135927489188,0.44093559879148647,387199.98479240277,"urndsf",266947.43941525515,507452.53,547536.71196345764,290997.948491171,389203.36400360696,386892.61117806146,null,null,null,null,null,null,548387.02294029854,290487.76190506684,386349.36415526376,388053.6086074725,387207.05527031032,387192.91452287114,387133.05682230851,387266.93129576824,387199.98479240277,387199.98479240277,387256.8523354964,387143.13062320498,386233.07476551417,388170.77713663958,547536.71196345764,null,2956563.7079745303,null,387199.98479348107,387199.98479348107,547697.16032036045,382385.06952641811,387150.25120973069,387210.4550203337,387299.86315816175,387199.98479240277,387199.98479240277,387199.98479240277,386982.08583027049,387573.52587034373,266977.27949347917,507422.69009132631,387098.83570371696,387301.13388108852,386988.9272286123,387411.04235619318,411290.2672040785,363109.70238072681,387199.98479240277,387199.98479240277,386982.08583027049,387417.883754535,387299.86315816175,387100.10642664373,387150.25120973069,387249.71837507474,387061.39957028616,387338.57001451933,387150.95753518777,387249.01204961765,568489.84108746925,293578.57860400196,362242.46891351498,415850.98058043432]
["sens",1,0.75,0,383286.28069412109,"undnpsf",263965.89294413145,502606.67,542380.13102893939,287829.97049460665,383210.93106497359,383297.86300583481,null,null,null,null,null,null,543168.75080923794,287356.79862642789,383314.23639012635,383258.32825646701,383290.25027676777,383282.31118035555,383286.28069412109,383286.28069412109,383262.2420619445,383310.32173763058,383342.25067800545,383230.32377103518,383262.2420619445,383310.32173763058,542380.1310289395,null,1862657.9905236124,null,383286.28069518029,383286.28069518029,542539.3356436895,378508.68904671445,383286.28069412109,383286.28069412109,383385.38483609847,383286.28069412109,383278.25753166905,383289.84654409991,383070.07081207325,383656.926206203,263995.50171202084,502577.05967622134,383185.91567943728,383386.64570880501,383076.85917817673,383495.70221006533,407376.56310580275,359195.99828243931,383278.25753166905,383294.30385657318,383070.07081207325,383502.49057616881,383385.38483609847,383187.1765521437,383286.28069412109,383286.28069412109,383148.76973842771,383423.7916498144,383237.63347985328,383334.92790838884,562743.71219416102,290611.17227333377,358581.02808028867,411647.6806032196]
["spec",1,0.75,0,387733.79442137713,"urcsnpsf",268432.54110685748,507035.05,546802.1321755806,292292.79177121498,388888.55585164408,387556.26869143319,null,null,null,null,null,null,549098.76911522751,290914.80960924434,387778.73362601368,387688.86356194242,387740.81670889072,387726.77233919513,387733.45924970799,387734.12959511706,387728.94320194126,387738.6457396521,387785.42197374726,387682.17788177897,387728.94320194126,387738.6457396521,546802.1321755806,null,7327425.0261814697,null,387733.79442244838,387733.79442244838,546961.31125998776,382956.96891739086,387684.45427039743,387744.1818215833,386751.1151061983,387733.79442137713,387725.7725455339,387737.3596995296,387517.61921114114,388104.38049606723,268462.14512663067,507005.44371612347,387633.44550141046,387834.14334134368,387524.40648864984,387943.1823541043,411824.07683300716,363643.51200974698,387725.7725455339,387741.81629722018,387517.61921114114,387949.969631613,386751.1151061983,388716.47373655578,387684.45427039743,387783.13457235671,387596.30551719188,387871.28332556225,387685.15500826552,387782.43383448862,569273.58428036596,293983.31796097802,362741.87109732057,416424.28963598993]
["acceptHIV",0.98,0.73499999999999999,1,383478.16952064919,"urndnpsf",264159.13737241499,502797.2,542570.21238200192,288022.94380246021,384651.06750004791,383297.86300583481,null,null,null,null,null,null,543424.61987760477,287510.29930689995,383506.13608292211,383450.20621636737,383485.13111331908,383471.20813156274,383476.55496787216,383479.78408278897,383455.49725205079,383500.84393160284,383534.16125980637,383422.19084721885,383455.49725205079,383500.84393160284,542570.21238500054,null,2965220.2334276345,null,383478.1695217088,383478.1695217088,542729.41519102175,378700.63215015904,383428.93100630835,383488.53551893012,383577.27253670112,383478.16952064919,383470.24971422518,383481.68943112675,383262.04236742755,383848.67299784737,264188.74580501311,502767.59323628503,383377.80564621545,383578.53339508269,383268.75038394937,383687.58865734865,407568.46490707732,359387.87413422082,383470.14644934837,383486.19259194983,383261.96209496888,383694.37694632914,383577.27253670112,383379.06650459714,383428.82201676862,383527.51702452957,383340.66012722225,383615.67891407583,383429.52285906393,383526.81618223427,563025.58674481115,290756.62627580838,358760.49079570215,411853.84427999577]
["acceptouthiv",0.99,0.74249999999999994,1]
["acceptr",0.95,0.71249999999999991,1]
["acceptcs",1,0.75,1]
["acceptnp",0.9,0.67500000000000004,1]
["acceptsf",0.7,0.52499999999999991,1]
["reqHIVtestcost",566.66666666666697,{"$f":"B24*0.75","v":425.00000000000023},{"$f":"B24*1.25","v":708.33333333333371}]
["allHIVtestcost",1920.8333333333301,1440.6249999999975,2401.0416666666624]
["outhivcost",4048.4933999999998,3036.37005,5060.6167500000001]
["lifecost",2138582.5357716898,1603936.9018287673,2673228.1697146124]
["npcost",156.55000000000001,117.41250000000001,195.6875]
["sfcost",5424.0975983052203,4068.0731987289155,6780.1219978815252]
["cscost",19000,14250,23750]
["rcost",24654.42,18490.814999999999,30818.024999999998]
["vltest",2658.3333333333298,1993.7499999999973,3322.9166666666624]
["cd4test",931.03349841269801,698.27512380952351,1163.7918730158726]
["qwohiv",28.309677443975801,21.232258082981851,35.387096804969751]
["qwhiv",6.1162624891161999,4.5871968668371501,7.6453281113952496]
["exchangerate",52.195,39.146250000000002,65.243750000000006]
[]
[]
[]
[]
[]
["Parameter",null,"Base Case ICER","Lower limit -25% ICER","% ICER change","Upper limit +25% ICER","% iCER change",null,"Base Case ICER","Lower limit -25% ICER","% ICER change","Upper limit +25% ICER","% iCER change",null,"Base Case ICER","Lower limit -25% ICER","% ICER change","Upper limit +25% ICER","% iCER change",null,"Base Case ICER","Lower limit -25% ICER","% ICER change","Upper limit +25% ICER","% iCER change"]
["pop","ucs",{"$f":"$E$3","v":389093.23620509612},{"$f":"$G3","v":269185.94566545484},{"$f":"(D43-C$43)/C$43","v":-0.30817109983489044},{"$f":"$H3","v":509000.53},{"$f":"(F43-C$43)/C$43","v":0.30817110820116955},"und",{"$f":"$E$4","v":394044.04471781623},{"$f":"$G4","v":271818.92280396726},{"$f":"(J43-I$43)/I$43","v":-0.31018137071803004},{"$f":"$H4","v":516269.17},{"$f":"(L43-I$43)/I$43","v":0.31018137926614753},"urcs",{"$f":"$E$5","v":389144.0465183112},{"$f":"$G5","v":269273.1866669943},{"$f":"(P43-O$43)/O$43","v":-0.30803724462395538},{"$f":"$H5","v":509014.91},{"$f":"(R43-O$43)/O$43","v":0.30803725395307635},"ucsnp",{"$f":"$E$6","v":386710.72771720606},{"$f":"$G6","v":267399.84333538776},{"$f":"(V43-U$43)/U$43","v":-0.30852747500986832},{"$f":"$H6","v":506021.61},{"$f":"(X43-U$43)/U$43","v":0.30852746958197558}]
["pwhiv",null,null,{"$f":"$I3","v":548969.62359280896},{"$f":"(D44-C$43)/C$43","v":0.41089479978377191},{"$f":"$J3","v":293167.40377387154},{"$f":"(F44-C$43)/C$43","v":-0.24653687986665701},null,null,{"$f":"$I4","v":557010.8739370699},{"$f":"(J44-I$43)/I$43","v":0.41357516095937413},{"$f":"$J4","v":296263.94718749187},{"$f":"(L44-I$43)/I$43","v":-0.24814509657250849},null,null,{"$f":"$I5","v":548971.85965342948},{"$f":"(P44-O$43)/O$43","v":0.41071632616534859},{"$f":"$J5","v":293247.35863766633},{"$f":"(R44-O$43)/O$43","v":-0.24642979569811418},null,null,{"$f":"$I6","v":545791.90688922396},{"$f":"(V44-U$43)/U$43","v":0.41136996667015363},{"$f":"$J6","v":291262.02021239663},{"$f":"(X44-U$43)/U$43","v":-0.24682198000622621}]
["earlyanc",null,null,{"$f":"$K3","v":390429.4700208531},3.4342252483994078E-3,{"$f":"$L3","v":388888.52531816543},-5.2612296458114691E-4,null,null,{"$f":"$K4","v":401111.21336496412},1.793497133603135E-2,{"$f":"$L4","v":392975.67928491818},{"$f":"(L45-I$43)/I$43","v":-2.7112843024010898E-3},null,null,{"$f":"$K5","v":390808.13361895562},4.2762753677798269E-3,{"$f":"$L5","v":388888.52531816543},{"$f":"(R45-O$43)/O$43","v":-6.5662369097491981E-4},null,null,{"$f":"$K6","v":386612.14777684485},-2.5491907334231805E-4,{"$f":"$L6","v":386725.88167887781},{"$f":"(X45-U$43)/U$43","v":3.9186814809106932E-5}]
["base",null,null,{"$f":"$S3","v":550911.35815728246},0.41588520923784422,{"$f":"$T3","v":292002.36303518858},-0.24953112553909745,null,null,{"$f":"$S4","v":557512.43617342238},0.41484801926817477,{"$f":"$T4","v":295963.00984567992},-0.24890881155779004,null,null,{"$f":"$S5","v":550979.1052415804},0.41587443048715395,{"$f":"$T5","v":292043.0112847811},-0.2495246582911837,null,null,{"$f":"$S6","v":547734.68017263594},0.41639380786245872,{"$f":"$T6","v":290096.35624416173},-0.24983628471692287]
["pmore4",null,null,{"$f":"$U3","v":388599.44612608908},-1.2690790614174501E-3,{"$f":"$V3","v":389588.03286969068},1.2716660649781701E-3,null,null,{"$f":"$U4","v":391473.3844338588},-6.5237892017841323E-3,{"$f":"$V4","v":396641.94088449556},6.5929080809728887E-3,null,null,{"$f":"$U5","v":388650.35464484256},-1.2686609955509175E-3,{"$f":"$V5","v":389638.74447110103},1.2712463603540148E-3,null,null,{"$f":"$U6","v":386747.30451790412},9.4584396233282392E-5,{"$f":"$V6","v":386674.15645464801},-9.4570075089287162E-5]
["pless4",null,null,{"$f":"$W3","v":389023.05551789462},-1.8036984627640057E-4,{"$f":"$X3","v":389163.43718979083},1.8042201241889514E-4,null,null,{"$f":"$W4","v":393677.35526549746},-9.3057986089184583E-4,{"$f":"$X4","v":394411.28336069884},9.3197358976863042E-4,null,null,{"$f":"$W5","v":389151.12288919504},1.8184451097638648E-5,{"$f":"$X5","v":389136.97035532171},-1.8183916862649925E-5,null,null,{"$f":"$W6","v":386715.92137868685},1.3430352737953575E-5,{"$f":"$X6","v":386705.53416900313},-1.3430059811322436E-5]
["pless4r",null,null,{"$f":"$Y3","v":389093.23620509612},0,{"$f":"$Z3","v":389093.23620509612},0,null,null,{"$f":"$Y4","v":394044.04471781623},0,{"$f":"$Z4","v":394044.04471781623},0,null,null,{"$f":"$Y5","v":389103.67376261955},-1.0374758666580859E-4,{"$f":"$Z5","v":389184.42598798731},1.0376483987714771E-4,null,null,{"$f":"$Y6","v":386710.72771720606},0,{"$f":"$Z6","v":386710.72771720606},0]
["pnp",null,null,{"$f":"$AA3","v":389093.23620509612},0,{"$f":"$AB3","v":389093.23620509612},0,null,null,{"$f":"$AA4","v":394044.04471781623},0,{"$f":"$AB4","v":394044.04471781623},0,null,null,{"$f":"$AA5","v":389144.0465183112},0,{"$f":"$AB5","v":389144.0465183112},0,null,null,{"$f":"$AA6","v":386696.13727893837},-3.772959274704023E-5,{"$f":"$AB6","v":386725.3190368904},3.7731872013173158E-5]
["pcs",null,null,{"$f":"$AC3","v":388529.40812748985},-1.4490821868439615E-3,{"$f":"$AD3","v":389658.37704323459},1.4524560839206545E-3,null,null,{"$f":"$AC4","v":394102.66328227456},1.4876145254348193E-4,{"$f":"$AD4","v":393985.44016513915},-1.4872589362197793E-4,null,null,{"$f":"$AC5","v":388617.12476450525},-1.3540532317539934E-3,{"$f":"$AD5","v":389672.11450298055},1.3569987499333479E-3,null,null,{"$f":"$AC6","v":386752.49896591692},1.0801678287397321E-4,{"$f":"$AD6","v":386668.96369277296},-1.0799810152574565E-4]
["psf",null,null,{"$f":"$AE3","v":389093.23620509612},0,{"$f":"$AF3","v":389093.23620509612},0,null,null,{"$f":"$AE4","v":394044.04471781623},0,{"$f":"$AF4","v":394044.04471781623},0,null,null,{"$f":"$AE5","v":389144.0465183112},0,{"$f":"$AF5","v":389144.0465183112},0,null,null,{"$f":"$AE6","v":386710.72771720606},0,{"$f":"$AF6","v":386710.72771720606},0]
["sens",null,null,{"$f":"$AG3","v":548969.62359280896},0.41089479978377191,{"$f":"$E$3","v":389093.23620509612},0,null,null,{"$f":"$AG4","v":557010.87394022325},0.41357516096737668,{"$f":"$E$4","v":394044.04471781623},0,null,null,{"$f":"$AG5","v":548971.85965038138},0.41071632615751574,{"$f":"$E$5","v":389144.0465183112},0,null,null,{"$f":"$AG6","v":545791.90689224016},0.41136996667795322,{"$f":"$E$6","v":386710.72771720606},0]
["spec",null,null,{"$f":"$AI3","v":6256384.7164848531},15.079397260935758,{"$f":"$E$3","v":389093.23620509612},0,null,null,{"$f":"$AI4","v":1909602.2935268395},3.8461645826784379,{"$f":"$E$4","v":394044.04471781623},0,null,null,{"$f":"$AI5","v":6454388.5725535052},15.586116709997755,{"$f":"$E$5","v":389144.0465183112},0,null,null,{"$f":"$AI6","v":6257140.8703081701},15.180417096894955,{"$f":"$E$6","v":386710.72771720606},0]
["acceptHIV",null,null,{"$f":"$AK3","v":389093.23620617663},2.7769920137268722E-12,{"$f":"$AL3","v":389093.23620617663},2.7769920137268722E-12,null,null,{"$f":"$AK4","v":394044.04472060472},7.0766104477418869E-12,{"$f":"$AL4","v":394044.04472060472},7.0766104477418869E-12,null,null,{"$f":"$AK5","v":389144.04651723098},-2.7758815299806941E-12,{"$f":"$AL5","v":389144.04651723098},-2.7758815299806941E-12,null,null,{"$f":"$AK6","v":386710.72771774034},1.3816221822411706E-12,{"$f":"$AL6","v":386710.72771774034},1.3816221822411706E-12]
["acceptouthiv",null,null,{"$f":"$AM3","v":549129.61128943029},0.41130598065697782,{"$f":"$AN3","v":384292.14495222765},-1.2339179420579167E-2,null,null,{"$f":"$AM4","v":557173.9542303069},0.41398902406788474,{"$f":"$AN4","v":389150.14743350167},-1.2419670719346082E-2,null,null,{"$f":"$AM5","v":549131.79873893084},0.411127328432844,{"$f":"$AN5","v":384344.41395191901},-1.2333819852403529E-2,null,null,{"$f":"$AM6","v":545951.09882700909},0.41178162304887589,{"$f":"$AN6","v":381933.51658444124},-1.2353448690097619E-2]
["acceptr",null,null,{"$f":"$AO3","v":389093.23620509612},0,{"$f":"$AP3","v":389093.23620509612},0,null,null,{"$f":"$AO4","v":394044.04471781623},0,{"$f":"$AP4","v":394044.04471781623},0,null,null,{"$f":"$AO5","v":389094.47079166345},-1.2739685237716234E-4,{"$f":"$AP5","v":389154.48351339507},2.6820389974493704E-5,null,null,{"$f":"$AO6","v":386710.72771720606},0,{"$f":"$AP6","v":386710.72771720606},0]
["acceptcs",null,null,{"$f":"$AQ3","v":388105.56498724408},-2.538392153728997E-3,{"$f":"$AR3","v":389093.23620509612},0,null,null,{"$f":"$AQ4","v":394145.56144990004},2.5762788054951212E-4,{"$f":"$AR4","v":394044.04471781623},0,null,null,{"$f":"$AQ5","v":388156.6753784882},-2.5372895940643219E-3,{"$f":"$AR5","v":389144.0465183112},0,null,null,{"$f":"$AQ6","v":385727.96907134756},-2.5413276007620125E-3,{"$f":"$AR6","v":386710.72771720606},0]
["acceptnp",null,null,{"$f":"$AS3","v":389093.23620509612},0,{"$f":"$AT3","v":389093.23620509612},0,null,null,{"$f":"$AS4","v":394044.04471781623},0,{"$f":"$AT4","v":394044.04471781623},0,null,null,{"$f":"$AS5","v":389144.0465183112},0,{"$f":"$AT5","v":389144.0465183112},0,null,null,{"$f":"$AS6","v":386702.70519376517},-2.0745541475521212E-5,{"$f":"$AT6","v":386714.29328317987},9.2202406560046235E-6]
["acceptsf",null,null,{"$f":"$AU3","v":389093.23620509612},0,{"$f":"$AV3","v":389093.23620509612},0,null,null,{"$f":"$AU4","v":394044.04471781623},0,{"$f":"$AV4","v":394044.04471781623},0,null,null,{"$f":"$AU5","v":389144.0465183112},0,{"$f":"$AV5","v":389144.0465183112},0,null,null,{"$f":"$AU6","v":386710.72771720606},0,{"$f":"$AV6","v":386710.72771720606},0]
["reqHIVtestcost",null,null,{"$f":"$AW3","v":269215.70007038751},-0.30809462869079429,{"$f":"$AX3","v":508970.77233980468},0.30809462869079418,null,null,{"$f":"$AW4","v":271849.25236736587},-0.31010440073509243,{"$f":"$AX4","v":516238.8370682667},0.31010440073509271,null,null,{"$f":"$AW5","v":269302.93203295174},-0.30796080669249126,{"$f":"$AX5","v":508985.16100367071},0.30796080669249143,null,null,{"$f":"$AW6","v":267429.44974617107},-0.30845091543015851,{"$f":"$AX6","v":505992.00568824116},0.30845091543015885]
["allHIVtestcost",null,null,{"$f":"$AY3","v":388992.37752367009},-2.5921468697253421E-4,{"$f":"$AZ3","v":389194.09488652216},2.5921468697253421E-4,null,null,{"$f":"$AY4","v":393941.23641835514},-2.6090560392737807E-4,{"$f":"$AZ4","v":394146.85301727732},2.6090560392737807E-4,null,null,{"$f":"$AY5","v":389043.21848015371},-2.5910209615077147E-4,{"$f":"$AZ5","v":389244.8745564688},2.5910209615107065E-4,null,null,{"$f":"$AY6","v":386610.37069617549},-2.5951444797764074E-4,{"$f":"$AZ6","v":386811.08473823679},2.5951444797809231E-4]
["outhivcost",null,null,{"$f":"$BA3","v":388882.78460473585},-5.4087704636773706E-4,{"$f":"$BB3","v":389303.68780545628},5.4087704636743782E-4,null,null,{"$f":"$BA4","v":393829.52504686691},-5.4440531160149838E-4,{"$f":"$BB4","v":394258.56438876555},5.4440531160149838E-4,null,null,{"$f":"$BA5","v":388933.65885815729},-5.4064211449784787E-4,{"$f":"$BB5","v":389354.43417846516},5.4064211449799749E-4,null,null,{"$f":"$BA6","v":386501.32288080867},-5.4150252731162624E-4,{"$f":"$BB6","v":386920.1325536035},5.4150252731177673E-4]
["lifecost",null,null,{"$f":"$BC3","v":413183.51861681452},6.1913906925434421E-2,{"$f":"$BD3","v":365002.95379337756},-6.1913906925434872E-2,null,null,{"$f":"$BC4","v":418134.32712947502},6.1136014449629301E-2,{"$f":"$BD4","v":369953.76230615744},-6.1136014449629301E-2,null,null,{"$f":"$BC5","v":413234.32893003809},6.1905822862417401E-2,{"$f":"$BD5","v":365053.76410658436},-6.1905822862417255E-2,null,null,{"$f":"$BC6","v":410801.01012890937},6.2295355895376311E-2,{"$f":"$BD6","v":362620.44530550274},-6.2295355895376311E-2]
["npcost",null,null,{"$f":"$BE3","v":389093.23620509612},0,{"$f":"$BF3","v":389093.23620509612},0,null,null,{"$f":"$BE4","v":394044.04471781623},0,{"$f":"$BF4","v":394044.04471781623},0,null,null,{"$f":"$BE5","v":389144.0465183112},0,{"$f":"$BF5","v":389144.0465183112},0,null,null,{"$f":"$BE6","v":386702.70519376517},-2.0745541475521212E-5,{"$f":"$BF6","v":386718.750240647},2.0745541475671733E-5]
["sfcost",null,null,{"$f":"$BG3","v":389093.23620509612},0,{"$f":"$BH3","v":389093.23620509612},0,null,null,{"$f":"$BG4","v":394044.04471781623},0,{"$f":"$BH4","v":394044.04471781623},0,null,null,{"$f":"$BG5","v":389144.0465183112},0,{"$f":"$BH5","v":389144.0465183112},0,null,null,{"$f":"$BG6","v":386710.72771720606},0,{"$f":"$BH6","v":386710.72771720606},0]
["cscost",null,null,{"$f":"$BI3","v":388105.56498724408},-2.538392153728997E-3,{"$f":"$BJ3","v":390080.90742294828},2.5383921537292962E-3,null,null,{"$f":"$BI4","v":394145.56144990004},2.5762788054951212E-4,{"$f":"$BJ4","v":393942.52798573242},-2.5762788054951212E-4,null,null,{"$f":"$BI5","v":388156.6753784882},-2.5372895940643219E-3,{"$f":"$BJ5","v":390131.41765813431},2.5372895940646211E-3,null,null,{"$f":"$BI6","v":385727.96907134756},-2.5413276007620125E-3,{"$f":"$BJ6","v":387693.48636306473},2.5413276007624644E-3]
["rcost",null,null,{"$f":"$BK3","v":389093.23620509612},0,{"$f":"$BL3","v":389093.23620509612},0,null,null,{"$f":"$BK4","v":394044.04471781623},0,{"$f":"$BL4","v":394044.04471781623},0,null,null,{"$f":"$BK5","v":389094.47079166345},-1.2739685237716234E-4,{"$f":"$BL5","v":389193.62224495917},1.2739685237776066E-4,null,null,{"$f":"$BK6","v":386710.72771720606},0,{"$f":"$BL6","v":386710.72771720606},0]
["vltest",null,null,{"$f":"$BM3","v":388955.04887242295},-3.5515223554370034E-4,{"$f":"$BN3","v":389231.4235377693},3.5515223554370034E-4,null,null,{"$f":"$BM4","v":393903.18619697972},-3.5746897516845635E-4,{"$f":"$BN4","v":394184.9032386528},3.5746897516860407E-4,null,null,{"$f":"$BM5","v":389005.90117023949},-3.5499797390630853E-4,{"$f":"$BN5","v":389282.19186638296},3.549979739064581E-4,null,null,{"$f":"$BM6","v":386573.22771368467},-3.5556294063282339E-4,{"$f":"$BN6","v":386848.22772072762},3.5556294063327496E-4]
["cd4test",null,null,{"$f":"$BO3","v":389044.34970912378},-1.2564211202729451E-4,{"$f":"$BP3","v":389142.12270106835},1.2564211202699532E-4,null,null,{"$f":"$BO4","v":393994.21323631698},-1.2646170438874066E-4,{"$f":"$BP4","v":394093.87619931548},1.2646170438874066E-4,null,null,{"$f":"$BO5","v":389095.17487522017},-1.2558753892879723E-4,{"$f":"$BP5","v":389192.91816140217},1.2558753892864767E-4,null,null,{"$f":"$BO6","v":386662.08437748515},-1.2578740705759735E-4,{"$f":"$BP6","v":386759.3710569269},1.2578740705744684E-4]
["qwohiv",null,null,{"$f":"$BQ3","v":571269.52661764494},0.46820729188034849,{"$f":"$BR3","v":295014.05918364157},-0.24179083126457687,null,null,{"$f":"$BQ4","v":578538.33977960295},0.46820729188765486,{"$f":"$BR4","v":298767.80759179522},-0.2417908312616435,null,null,{"$f":"$BQ5","v":571344.12668985792},0.46820729187995758,{"$f":"$BR5","v":295052.58402902819},-0.24179083126447246,null,null,{"$f":"$BQ6","v":567771.51028069365},0.46820729187501048,{"$f":"$BR6","v":293207.61940316251},-0.24179083126553585]
["qwhiv",null,null,{"$f":"$BS3","v":364013.68816153455},-6.4456396847622971E-2,{"$f":"$BT3","v":417884.3237798101},7.3995343264044361E-2,null,null,{"$f":"$BS4","v":368645.38539744978},-6.4456396844050773E-2,{"$f":"$BT4","v":423201.46906983154},7.3995343269038866E-2,null,null,{"$f":"$BS5","v":364061.22342509869},-6.4456396847464625E-2,{"$f":"$BT5","v":417938.89381951228},7.3995343263837235E-2,null,null,{"$f":"$BS6","v":361784.74758531392},-6.4456396849998987E-2,{"$f":"$BT6","v":415325.52075974928},7.3995343267199615E-2]
[]
["Parameter",null,"Base Case ICER","Lower limit -25% ICER","% ICER change","Upper limit +25% ICER","% iCER change",null,"Base Case ICER","Lower limit -25% ICER","% ICER change","Upper limit +25% ICER","% iCER change",null,"Base Case ICER","Lower limit -25% ICER","% ICER change","Upper limit +25% ICER","% iCER change",null,"Base Case ICER","Lower limit -25% ICER","% ICER change","Upper limit +25% ICER","% iCER change"]
["pop","ucssf",{"$f":"$E$7","v":388355.95613364631},{"$f":"$G7","v":268844.73098927404},{"$f":"(D75-C$75)/C$75","v":-0.30773630031116206},{"$f":"$H7","v":507867.18},{"$f":"(F75-C$75)/C$75","v":0.30773629702031879},"urnd",{"$f":"$E$8","v":393532.38679404382},{"$f":"$G8","v":271485.10785626731},{"$f":"(J75-I$75)/I$75","v":-0.31013274391988038},{"$f":"$H8","v":515579.67},{"$f":"(L75-I$75)/I$75","v":0.31013275476569585},"undnp",{"$f":"$E$9","v":382597.6288212082},{"$f":"$G9","v":263233.33224781312},{"$f":"(P75-O$75)/O$75","v":-0.31198389007574129},{"$f":"$H9","v":501961.93},{"$f":"(R75-O$75)/O$75","v":0.31198390211292176},"undsf",{"$f":"$E$10","v":387245.61862263607},{"$f":"$G10","v":266932.22871712892},{"$f":"(V75-U$75)/U$75","v":-0.31069012564542503},{"$f":"$H10","v":507559.01},{"$f":"(X75-U$75)/U$75","v":0.31069012944626029}]
["pwhiv",null,null,{"$f":"$I7","v":547704.25632389635},{"$f":"(D76-C$75)/C$75","v":0.41031506707576526},{"$f":"$J7","v":292746.97601928451},{"$f":"(F76-C$75)/C$75","v":-0.24618904024600446},null,null,{"$f":"$I8","v":556262.09204519866},{"$f":"(J76-I$75)/I$75","v":0.41351032522850489},{"$f":"$J8","v":295894.56364457536},{"$f":"(L76-I$75)/I$75","v":-0.24810619513399151},null,null,{"$f":"$I9","v":541750.02425464778},{"$f":"(P76-O$75)/O$75","v":0.41597852010685915},{"$f":"$J9","v":287106.19156273018},{"$f":"(R76-O$75)/O$75","v":-0.24958711205997083},null,null,{"$f":"$I10","v":547663.47182997898},{"$f":"(V76-U$75)/U$75","v":0.41425350086056684},{"$f":"$J10","v":290994.90669823036},{"$f":"(X76-U$75)/U$75","v":-0.24855210051634}]
["earlyanc",null,null,{"$f":"$K7","v":388737.50100875262},9.8246175726221193E-4,{"$f":"$L7","v":388297.37107830745},-1.5085401527535221E-4,null,null,{"$f":"$K8","v":397174.55686543783},9.2550707225531274E-3,{"$f":"$L8","v":392975.67928491818},-1.4146421687447936E-3,null,null,{"$f":"$K9","v":382626.36855647661},7.5117389924640678E-5,{"$f":"$L9","v":382593.21222057607},-1.1543721914167832E-5,null,null,{"$f":"$K10","v":389555.20766556438},5.9641450590018318E-3,{"$f":"$L10","v":386892.61117806146},-9.1158538043683711E-4]
["base",null,null,{"$f":"$S7","v":549928.31805972313},0.41604193105377363,{"$f":"$T7","v":291412.53897778544},-0.24962515863281723,null,null,{"$f":"$S8","v":556830.22560842405},0.41495400199385007,{"$f":"$T8","v":295553.68350663979},-0.24897240119319947,null,null,{"$f":"$S9","v":542250.54831278755},0.41728674582608771,{"$f":"$T9","v":286805.87712784746},-0.25037204749150499,null,null,{"$f":"$S10","v":548447.86804882367},0.41627907889456667,{"$f":"$T10","v":290524.26896875724},-0.24976744733200471]
["pmore4",null,null,{"$f":"$U7","v":388214.58105198044},-3.6403479702837419E-4,{"$f":"$V7","v":388497.41373020195},3.6424726934524711E-4,null,null,{"$f":"$U8","v":390968.12553783623},-6.516010733189307E-3,{"$f":"$V8","v":396123.77639438841},6.5849462135902795E-3,null,null,{"$f":"$U9","v":382586.96917680156},-2.7861240121849968E-5,{"$f":"$V9","v":382608.28894011513},2.786248032894875E-5,null,null,{"$f":"$U10","v":386394.4880380751},-2.1979088816764291E-3,{"$f":"$V10","v":388099.75570865703},2.2056726918150069E-3]
["pless4",null,null,{"$f":"$W7","v":388335.87549037987},-5.1706798748128419E-5,{"$f":"$X7","v":388376.03844244691},5.1711087427455365E-5,null,null,{"$f":"$W8","v":393539.65677059069},1.8473642299423342E-5,{"$f":"$X8","v":393525.11703493062},-1.8473089781569919E-5,null,null,{"$f":"$W9","v":382596.11509682634},-3.9564395276693947E-6,{"$f":"$X9","v":382599.14255674457},3.9564686823421986E-6,null,null,{"$f":"$W10","v":387124.57314669079},-3.1258062099145603E-4,{"$f":"$X10","v":387366.72472526721},3.1273717973075903E-4]
["pless4r",null,null,{"$f":"$Y7","v":388355.95613364631},0,{"$f":"$Z7","v":388355.95613364631},0,null,null,{"$f":"$Y8","v":393337.35122216592},-4.9560234029728085E-4,{"$f":"$Z8","v":393727.57778413052},4.9599727147452491E-4,null,null,{"$f":"$Y9","v":382597.6288212082},0,{"$f":"$Z9","v":382597.6288212082},0,null,null,{"$f":"$Y10","v":387245.61862263607},0,{"$f":"$Z10","v":387245.61862263607},0]
["pnp",null,null,{"$f":"$AA7","v":388355.95613364631},0,{"$f":"$AB7","v":388355.95613364631},0,null,null,{"$f":"$AA8","v":393532.38679404382},0,{"$f":"$AB8","v":393532.38679404382},0,null,null,{"$f":"$AA9","v":382529.5612165606},-1.7790911265529245E-4,{"$f":"$AB9","v":382665.71577831981},1.7795969442200378E-4,null,null,{"$f":"$AA10","v":387245.61862263607},0,{"$f":"$AB10","v":387245.61862263607},0]
["pcs",null,null,{"$f":"$AC7","v":388194.51212041109},-4.1571143865670268E-4,{"$f":"$AD7","v":388517.50776402594},4.1598854820714217E-4,null,null,{"$f":"$AC8","v":393590.85898578441},1.4858292151488325E-4,{"$f":"$AD8","v":393473.92855876411},-1.4854745693474377E-4,null,null,{"$f":"$AC9","v":382653.53901568661},1.4613314423998322E-4,{"$f":"$AD9","v":382541.73167837557},-1.4609903099727369E-4,null,null,{"$f":"$AC10","v":387302.52031187603},1.4693953011616105E-4,{"$f":"$AD10","v":387188.73032209167},-1.4690495594694983E-4]
["psf",null,null,{"$f":"$AE7","v":388137.91104365507},-5.6145679381882003E-4,{"$f":"$AF7","v":388574.19757105439},5.6196238003101311E-4,null,null,{"$f":"$AE8","v":393532.38679404382},0,{"$f":"$AF8","v":393532.38679404382},0,null,null,{"$f":"$AE9","v":382597.6288212082},0,{"$f":"$AF9","v":382597.6288212082},0,null,null,{"$f":"$AE10","v":386217.20828243729},-2.6557055541561823E-3,{"$f":"$AF10","v":388278.42156167951},2.6670487395491658E-3]
["sens",null,null,{"$f":"$AG7","v":547704.25632692827},0.41031506708357235,{"$f":"$E$7","v":388355.95613364631},0,null,null,{"$f":"$AG8","v":556262.09204519854},0.41351032522850456,{"$f":"$E$8","v":393532.38679404382},0,null,null,{"$f":"$AG9","v":541750.0242546479},0.41597852010685943,{"$f":"$E$9","v":382597.6288212082},0,null,null,{"$f":"$AG10","v":547663.47182997898},0.41425350086056684,{"$f":"$E$10","v":387245.61862263607},0]
["spec",null,null,{"$f":"$AI7","v":7108748.4922904288},17.304723746387118,{"$f":"$E$7","v":388355.95613364631},0,null,null,{"$f":"$AI8","v":2110247.5733937984},4.3623225030731767,{"$f":"$E$8","v":393532.38679404382},0,null,null,{"$f":"$AI9","v":1895018.8401049844},3.9530334151405473,{"$f":"$E$9","v":382597.6288212082},0,null,null,{"$f":"$AI10","v":2757436.3327790229},6.1206392020308318,{"$f":"$E$10","v":387245.61862263607},0]
["acceptHIV",null,null,{"$f":"$AK7","v":388355.9561352586},4.1515881865019971E-12,{"$f":"$AL7","v":388355.9561352586},4.1515881865019971E-12,null,null,{"$f":"$AK8","v":393532.38679460005},1.4134348946995312E-12,{"$f":"$AL8","v":393532.38679460005},1.4134348946995312E-12,null,null,{"$f":"$AK9","v":382597.62882279465},4.146522818461895E-12,{"$f":"$AL9","v":382597.62882279465},4.146522818461895E-12,null,null,{"$f":"$AK10","v":387245.61862263613},1.5031199351073803E-16,{"$f":"$AL10","v":387245.61862263613},1.5031199351073803E-16]
["acceptouthiv",null,null,{"$f":"$AM7","v":547863.7155686894},0.41072566782045472,{"$f":"$AN7","v":383570.72335115692},-1.2321770033166759E-2,null,null,{"$f":"$AM8","v":556424.93504622276},0.41392412344813989,{"$f":"$AN8","v":388645.61034717772},-1.2417723701667308E-2,null,null,{"$f":"$AM9","v":541909.28745525633},0.41639478823977788,{"$f":"$AN9","v":377818.2790621444},-1.2491843647304043E-2,null,null,{"$f":"$AM10","v":547824.00136940065},0.41466804277324915,{"$f":"$AN10","v":382428.26714040892},-1.2440041282743541E-2]
["acceptr",null,null,{"$f":"$AO7","v":388355.95613364631},0,{"$f":"$AP7","v":388355.95613364631},0,null,null,{"$f":"$AO8","v":393481.91095240653},-1.2826350087346178E-4,{"$f":"$AP8","v":393543.01328702003},2.7002842288994153E-5,null,null,{"$f":"$AO9","v":382597.6288212082},0,{"$f":"$AP9","v":382597.6288212082},0,null,null,{"$f":"$AO10","v":387245.61862263607},0,{"$f":"$AP10","v":387245.61862263607},0]
["acceptcs",null,null,{"$f":"$AQ7","v":387371.54728950496},-2.53481072864653E-3,{"$f":"$AR7","v":388355.95613364631},0,null,null,{"$f":"$AQ8","v":393633.75581477769},2.5758749250520425E-4,{"$f":"$AR8","v":393532.38679404382},0,null,null,{"$f":"$AQ9","v":382696.76943261334},2.5912500218725756E-4,{"$f":"$AR9","v":382597.6288212082},0,null,null,{"$f":"$AQ10","v":387345.5475241408},2.5805043801439142E-4,{"$f":"$AR10","v":387245.61862263607},0]
["acceptnp",null,null,{"$f":"$AS7","v":388355.95613364631},0,{"$f":"$AT7","v":388355.95613364631},0,null,null,{"$f":"$AS8","v":393532.38679404382},0,{"$f":"$AT8","v":393532.38679404382},0,null,null,{"$f":"$AS9","v":382589.60270630487},-2.0977952550466238E-5,{"$f":"$AT9","v":382601.19598338736},9.3235344666034162E-6,null,null,{"$f":"$AS10","v":387245.61862263607},0,{"$f":"$AT10","v":387245.61862263607},0]
["acceptsf",null,null,{"$f":"$AU7","v":388139.40045209962},-5.5762163068811101E-4,{"$f":"$AV7","v":388727.19444486912},9.5592279546514037E-4,null,null,{"$f":"$AU8","v":393532.38679404382},0,{"$f":"$AV8","v":393532.38679404382},0,null,null,{"$f":"$AU9","v":382597.6288212082},0,{"$f":"$AV9","v":382597.6288212082},0,null,null,{"$f":"$AU10","v":387027.60940953554},-5.6297399535715036E-4,{"$f":"$AV10","v":387619.34870223713},9.6509827775545845E-4]
["reqHIVtestcost",null,null,{"$f":"$AW7","v":268874.38711364096},-0.30765993705755795,{"$f":"$AX7","v":507837.5251536516},0.30765993705755779,null,null,{"$f":"$AW8","v":271515.39328880532},-0.31005578600344375,{"$f":"$AX8","v":515549.38029928243},0.31005578600344402,null,null,{"$f":"$AW9","v":263262.95191146125},-0.31190647280648276,{"$f":"$AX9","v":501932.30573095498},0.31190647280648226,null,null,{"$f":"$AW10","v":266962.08389362367},-0.31061302941745239,{"$f":"$AX10","v":507529.15335164842},0.31061302941745222]
["allHIVtestcost",null,null,{"$f":"$AY7","v":388255.43059821549},-2.5884896019522666E-4,{"$f":"$AZ7","v":388456.48166907718},2.5884896019537655E-4,null,null,{"$f":"$AY8","v":393429.72808522056},-2.6086470203782596E-4,{"$f":"$AZ8","v":393635.04550286726},2.6086470203826967E-4,null,null,{"$f":"$AY9","v":382497.22687310679},-2.6242177300144734E-4,{"$f":"$AZ9","v":382698.03076930955},2.6242177300129523E-4,null,null,{"$f":"$AY10","v":387144.41835525323},-2.613335374659386E-4,{"$f":"$AZ10","v":387346.81889001897},2.6133353746608887E-4]
["outhivcost",null,null,{"$f":"$BA7","v":388146.19967530895},-5.4011392132525008E-4,{"$f":"$BB7","v":388565.71259198349},5.4011392132480047E-4,null,null,{"$f":"$BA8","v":393318.17925873492},-5.4431996576944557E-4,{"$f":"$BB8","v":393746.59432935272},5.4431996576944557E-4,null,null,{"$f":"$BA9","v":382388.13024004019},-5.4756894812306803E-4,{"$f":"$BB9","v":382807.12740237598},5.4756894812245946E-4,null,null,{"$f":"$BA10","v":387034.45426943927},-5.4529823719600583E-4,{"$f":"$BB10","v":387456.78297583287},5.4529823719600583E-4]
["lifecost",null,null,{"$f":"$BC7","v":412446.23854536307},6.2031448291799823E-2,{"$f":"$BD7","v":364265.67372192937},-6.2031448291800274E-2,null,null,{"$f":"$BC8","v":417622.66920572787},6.1215501493887874E-2,{"$f":"$BD8","v":369442.10438235995},-6.121550149388743E-2,null,null,{"$f":"$BC9","v":406687.9112329043},6.2965059365158102E-2,{"$f":"$BD9","v":358507.34640951199},-6.2965059365158407E-2,null,null,{"$f":"$BC10","v":411335.90103432554},6.2209309165005715E-2,{"$f":"$BD10","v":363155.33621094655},-6.2209309165005867E-2]
["npcost",null,null,{"$f":"$BE7","v":388355.95613364631},0,{"$f":"$BF7","v":388355.95613364631},0,null,null,{"$f":"$BE8","v":393532.38679404382},0,{"$f":"$BF8","v":393532.38679404382},0,null,null,{"$f":"$BE9","v":382589.60270630487},-2.0977952550466238E-5,{"$f":"$BF9","v":382605.65493611147},2.0977952550314101E-5,null,null,{"$f":"$BE10","v":387245.61862263607},0,{"$f":"$BF10","v":387245.61862263607},0]
["sfcost",null,null,{"$f":"$BG7","v":388139.40045209962},-5.5762163068811101E-4,{"$f":"$BH7","v":388572.51181519293},5.5762163068796106E-4,null,null,{"$f":"$BG8","v":393532.38679404382},0,{"$f":"$BH8","v":393532.38679404382},0,null,null,{"$f":"$BG9","v":382597.6288212082},0,{"$f":"$BH9","v":382597.6288212082},0,null,null,{"$f":"$BG10","v":387027.60940953554},-5.6297399535715036E-4,{"$f":"$BH10","v":387463.62783573667},5.6297399535730063E-4]
["cscost",null,null,{"$f":"$BI7","v":387371.54728950496},-2.53481072864653E-3,{"$f":"$BJ7","v":389340.3649777876},2.53481072864638E-3,null,null,{"$f":"$BI8","v":393633.75581477769},2.5758749250520425E-4,{"$f":"$BJ8","v":393431.01777330996},-2.5758749250520425E-4,null,null,{"$f":"$BI9","v":382696.76943261334},2.5912500218725756E-4,{"$f":"$BJ9","v":382498.48820980289},-2.5912500218771396E-4,null,null,{"$f":"$BI10","v":387345.5475241408},2.5805043801439142E-4,{"$f":"$BJ10","v":387145.68972113129},-2.5805043801454175E-4]
["rcost",null,null,{"$f":"$BK7","v":388355.95613364631},0,{"$f":"$BL7","v":388355.95613364631},0,null,null,{"$f":"$BK8","v":393481.91095240653},-1.2826350087346178E-4,{"$f":"$BL8","v":393582.86263568111},1.2826350087346178E-4,null,null,{"$f":"$BK9","v":382597.6288212082},0,{"$f":"$BL9","v":382597.6288212082},0,null,null,{"$f":"$BK10","v":387245.61862263607},0,{"$f":"$BL10","v":387245.61862263607},0]
["vltest",null,null,{"$f":"$BM7","v":388218.22524711944},-3.5465115019241177E-4,{"$f":"$BN7","v":388493.68702017306},3.5465115019211199E-4,null,null,{"$f":"$BM8","v":393391.73322860565},-3.5741293514372085E-4,{"$f":"$BN8","v":393673.04035948205},3.5741293514386874E-4,null,null,{"$f":"$BM9","v":382460.06726272701},-3.5954629124341321E-4,{"$f":"$BN9","v":382735.19037968933},3.5954629124326104E-4,null,null,{"$f":"$BM10","v":387106.96328015369},-3.580552905299538E-4,{"$f":"$BN10","v":387384.27396511845},3.580552905299538E-4]
["cd4test",null,null,{"$f":"$BO7","v":388307.23111450591},-1.2546484319564277E-4,{"$f":"$BP7","v":388404.68115278659},1.2546484319534299E-4,null,null,{"$f":"$BO8","v":393482.6278195614},-1.2644187912407638E-4,{"$f":"$BP8","v":393582.14576852624},1.2644187912407638E-4,null,null,{"$f":"$BO9","v":382548.96370520547},-1.2719659594510107E-4,{"$f":"$BP9","v":382646.29393721069},1.271965959444925E-4,null,null,{"$f":"$BO10","v":387196.56655895786},-1.2666912501860226E-4,{"$f":"$BP10","v":387294.67068631417},1.2666912501830161E-4]
["qwohiv",null,null,{"$f":"$BQ7","v":570187.04664025211},0.46820729187949323,{"$f":"$BR7","v":294455.0466745579},-0.24179083126196205,null,null,{"$f":"$BQ8","v":577787.11987926147},0.46820729187315357,{"$f":"$BR8","v":298379.86386233411},-0.24179083126265799,null,null,{"$f":"$BQ9","v":561732.62849179865},0.46820729188131499,{"$f":"$BR9","v":290089.03010948561},-0.24179083126245093,null,null,{"$f":"$BQ10","v":568556.84101158229},0.46820729188321886,{"$f":"$BR10","v":293613.17859293759},-0.24179083126293965]
["qwhiv",null,null,{"$f":"$BS7","v":363323.93050744332},-6.4456396846373137E-2,{"$f":"$BT7","v":417092.48841575813},7.3995343262413138E-2,null,null,{"$f":"$BS8","v":368166.70709925203},-6.4456396845596814E-2,{"$f":"$BT8","v":422651.95084122772},7.3995343266178751E-2,null,null,{"$f":"$BS9","v":357936.76422514266},-6.4456396847116418E-2,{"$f":"$BT9","v":410908.07169942569},7.3995343268181246E-2,null,null,{"$f":"$BS10","v":362285.16135145159},-6.445639684695309E-2,{"$f":"$BT10","v":415899.99110163399},7.3995343267966293E-2]
[]
["Parameter",null,"Base Case ICER","Lower limit -25% ICER","% ICER change","Upper limit +25% ICER","% iCER change",null,"Base Case ICER","Lower limit -25% ICER","% ICER change","Upper limit +25% ICER","% iCER change",null,"Base Case ICER","Lower limit -25% ICER","% ICER change","Upper limit +25% ICER","% iCER change",null,"Base Case ICER","Lower limit -25% ICER","% ICER change","Upper limit +25% ICER","% iCER change"]
["pop","urcsnp",{"$f":"$E$11","v":386904.63860601612},{"$f":"$G11","v":267594.60983431729},{"$f":"(D107-C$107)/C$107","v":-0.30837063417373989},{"$f":"$H11","v":506214.67},{"$f":"(F107-C$107)/C$107","v":0.30837064095134026},"urcssf",{"$f":"$E$12","v":388501.85558935581},{"$f":"$G12","v":269003.39907693909},{"$f":"(J107-I$107)/I$107","v":-0.30758786552290213},{"$f":"$H12","v":508000.31},{"$f":"(L107-I$107)/I$107","v":0.30758786011296008},"ucsnpsf",{"$f":"$E$13","v":387537.65782377054},{"$f":"$G13","v":268236.10273860587},{"$f":"(P107-O$107)/O$107","v":-0.30784506402579342},{"$f":"$H13","v":506839.21},{"$f":"(R107-O$107)/O$107","v":0.30784505651959337},"urndnp",{"$f":"$E$14","v":382778.92426938785},{"$f":"$G14","v":263418.65572437097},{"$f":"(V107-U$107)/U$107","v":-0.31182560213533295},{"$f":"$H14","v":502139.19},{"$f":"(X107-U$107)/U$107","v":0.31182559478277372}]
["pwhiv",null,null,{"$f":"$I11","v":545984.67696828151},{"$f":"(D108-C$107)/C$107","v":0.41116084556498722},{"$f":"$J11","v":291456.61558962351},{"$f":"(F108-C$107)/C$107","v":-0.24669650733649398},null,null,{"$f":"$I12","v":547833.13094000274},{"$f":"(J108-I$107)/I$107","v":0.41011715403248722},{"$f":"$J12","v":292903.09038015205},{"$f":"(L108-I$107)/I$107","v":-0.24607029241644368},null,null,{"$f":"$I13","v":546606.39793508616},{"$f":"(P108-O$107)/O$107","v":0.41046008536195155},{"$f":"$J13","v":292096.41375677031},{"$f":"(R108-O$107)/O$107","v":-0.24627605121771501},null,null,{"$f":"$I14","v":541925.94899757509},{"$f":"(V108-U$107)/U$107","v":0.41576746951769095},{"$f":"$J14","v":287290.70943385089},{"$f":"(X108-U$107)/U$107","v":-0.2494604817070214}]
["earlyanc",null,null,{"$f":"$K11","v":388067.43001842941},{"$f":"(D109-C$107)/C$107","v":3.0053695313727218E-3},{"$f":"$L11","v":386725.88167887781},{"$f":"(F109-C$107)/C$107","v":-4.6201805122408603E-4},null,null,{"$f":"$K12","v":389832.52666417341},{"$f":"(J109-I$107)/I$107","v":3.4251344122899351E-3},{"$f":"$L12","v":388297.37107830745},{"$f":"(L109-I$107)/I$107","v":-5.2634114382325457E-4},null,null,{"$f":"$K13","v":387416.59638141113},{"$f":"(P109-O$107)/O$107","v":-3.1238626728363132E-4},{"$f":"$L13","v":387556.26869143319},{"$f":"(R109-O$107)/O$107","v":4.8023378597982538E-5},null,null,{"$f":"$K14","v":383987.08497496846},{"$f":"(V109-U$107)/U$107","v":3.1562884709147236E-3},{"$f":"$L14","v":382593.21222057607},{"$f":"(X109-U$107)/U$107","v":-4.8516790511977481E-4}]
["base",null,null,{"$f":"$S11","v":547993.2280236138},0.41635217917775791,{"$f":"$T11","v":290251.48495642003},-0.249811307504167,null,null,{"$f":"$S12","v":550122.85067185306},0.41601087036590551,{"$f":"$T12","v":291529.25854286726},-0.24960652221179611,null,null,{"$f":"$S13","v":548837.25364962872},0.41621657294323589,{"$f":"$T13","v":290757.90032889735},-0.24972994376428564,null,null,{"$f":"$S14","v":542492.27557622071},0.41724698299855084,{"$f":"$T14","v":286950.91348666378},-0.25034818979553669]
["pmore4",null,null,{"$f":"$U11","v":386941.2298266578},9.4574261951260955E-5,{"$f":"$V11","v":386868.05292565824},-9.4559942443941911E-5,null,null,{"$f":"$U12","v":388360.45305861824},-3.6396873966808573E-4,{"$f":"$V12","v":388643.34064379748},3.6418115488029575E-4,null,null,{"$f":"$U13","v":387582.57893119834},1.1591417381230765E-4,{"$f":"$V13","v":387492.7450517813},-1.1589266509337752E-4,null,null,{"$f":"$U14","v":382768.2609515253},-2.7857641020602157E-5,{"$f":"$V14","v":382789.58806348563},2.7858885172781356E-5]
["pless4",null,null,{"$f":"$W11","v":386911.64938144613},1.8120163809022241E-5,{"$f":"$X11","v":386897.62803559552},-1.8119633938355031E-5,null,null,{"$f":"$W12","v":388508.90064469783},1.8133903971542014E-5,{"$f":"$X12","v":388494.8107403497},-1.8133372864906557E-5,null,null,{"$f":"$W13","v":387544.03622562444},1.6458792391219416E-5,{"$f":"$X13","v":387531.27958845702},-1.6458362651347693E-5,null,null,{"$f":"$W14","v":382785.87811972509},1.8166753434815719E-5,{"$f":"$X14","v":382771.97062247695},-1.8166221988771137E-5]
["pless4r",null,null,{"$f":"$Y11","v":386903.68999265396},-2.4518014712146224E-6,{"$f":"$Z11","v":386905.58722310269},2.4518110974036412E-6,null,null,{"$f":"$Y12","v":388487.6764192704},-3.649704597652053E-5,{"$f":"$Z12","v":388516.03558717872},3.6499176564804509E-5,null,null,{"$f":"$Y13","v":387537.65782377054},0,{"$f":"$Z13","v":387537.65782377054},0,null,null,{"$f":"$Y14","v":382774.49853512354},-1.1562115842082663E-5,{"$f":"$Z14","v":382783.35008700058},1.1562333587672853E-5]
["pnp",null,null,{"$f":"$AA11","v":386890.90877020016},-3.5486356186961082E-5,{"$f":"$AB11","v":386918.36922202032},3.5488372674146422E-5,null,null,{"$f":"$AA12","v":388501.85558935581},0,{"$f":"$AB12","v":388501.85558935581},0,null,null,{"$f":"$AA13","v":387532.5025603656},-1.3302612793537326E-5,{"$f":"$AB13","v":387542.81319541606},1.330289209692252E-5,null,null,{"$f":"$AA14","v":382714.87430950301},-1.6732885700823931E-4,{"$f":"$AB14","v":382842.99135944067},1.6737360912726706E-4]
["pcs",null,null,{"$f":"$AC11","v":386947.29287925072},1.1024492595456714E-4,{"$f":"$AD11","v":386861.99186260672},-1.1022546424629682E-4,null,null,{"$f":"$AC12","v":388353.32269414677},-3.8232222850959383E-4,{"$f":"$AD12","v":388650.47954669711},3.825566215529192E-4,null,null,{"$f":"$AC13","v":387588.95852056274},1.3237603044895826E-4,{"$f":"$AD13","v":387486.36800199479},-1.3234796861746567E-4,null,null,{"$f":"$AC14","v":382834.85373932921},1.4611428789636582E-4,{"$f":"$AD14","v":382723.00785515172},-1.4608018020546444E-4]
["psf",null,null,{"$f":"$AE11","v":386904.63860601612},0,{"$f":"$AF11","v":386904.63860601612},0,null,null,{"$f":"$AE12","v":388296.70760171372},-5.2804892612645031E-4,{"$f":"$AF12","v":388707.17732394481},5.2849614907894953E-4,null,null,{"$f":"$AE13","v":387532.5025603656},-1.3302612793537326E-5,{"$f":"$AF13","v":387542.81319541606},1.330289209692252E-5,null,null,{"$f":"$AE14","v":382778.92426938785},0,{"$f":"$AF14","v":382778.92426938785},0]
["sens",null,null,{"$f":"$AG11","v":545984.67696828139},0.41116084556498694,{"$f":"$E$11","v":386904.63860601612},0,null,null,{"$f":"$AG12","v":547833.13094000274},0.41011715403248722,{"$f":"$E$12","v":388501.85558935581},0,null,null,{"$f":"$AG13","v":546606.39793508616},0.41046008536195155,{"$f":"$E$13","v":387537.65782377054},0,null,null,{"$f":"$AG14","v":541925.94899757509},0.41576746951769095,{"$f":"$E$14","v":382778.92426938785},0]
["spec",null,null,{"$f":"$AI11","v":6456093.8626673492},15.68652483962998,386904.63860601612,0,null,null,{"$f":"$AI12","v":7307291.5309990449},17.808897372996874,388501.85558935581,0,null,null,{"$f":"$AI13","v":7128459.3828676594},17.394236634699553,387537.65782377054,0,null,null,{"$f":"$AI14","v":2094033.9900946205},{"$f":"(V118-U$107)/U$107","v":4.4706094231585878},382778.92426938785,0]
["acceptHIV",null,null,{"$f":"$AK11","v":386904.63860601623},3.0088892768608079E-16,{"$f":"$AL11","v":386904.63860601623},3.0088892768608079E-16,null,null,{"$f":"$AK12","v":388501.85558989347},1.3839423316062775E-12,{"$f":"$AL12","v":388501.85558989347},1.3839423316062775E-12,null,null,{"$f":"$AK13","v":387537.65782323526},-1.3812274470721481E-12,{"$f":"$AL13","v":387537.65782323526},-1.3812274470721481E-12,null,null,{"$f":"$AK14","v":382778.924270446},2.7644078622291811E-12,{"$f":"$AL14","v":382778.924270446},2.7644078622291811E-12]
["acceptouthiv",null,null,{"$f":"$AM11","v":546143.86776144383},0.41157229266920359,{"$f":"$AN11","v":382127.46173214534},-1.2347168778028949E-2,null,null,{"$f":"$AM12","v":547992.57314506941},0.41052755671853047,{"$f":"$AN12","v":383717.13406304171},-1.2315826700636199E-2,null,null,{"$f":"$AM13","v":546765.57742213213},0.41087083121808293,{"$f":"$AN13","v":382760.82023525774},-1.2326124937992558E-2,null,null,{"$f":"$AM14","v":542085.20682373969},0.4161835264530841,{"$f":"$AN14","v":377999.73579344491},-1.2485505791796138E-2]
["acceptr",null,null,{"$f":"$AO11","v":386855.29482571693},-1.27534734339098E-4,{"$f":"$AP11","v":386915.02677028975},2.6849417755924221E-5,null,null,{"$f":"$AO12","v":388452.43387984025},-1.2721099990781068E-4,{"$f":"$AP12","v":388512.26015978004},2.678126313823412E-5,null,null,{"$f":"$AO13","v":387537.65782377054},0,{"$f":"$AP13","v":387537.65782377054},0,null,null,{"$f":"$AO14","v":382729.55971111747},-1.289636266275582E-4,{"$f":"$AP14","v":382789.31680797116},2.7150237184949181E-5]
["acceptcs",null,null,{"$f":"$AQ11","v":385921.8870077724},-2.5400357095342325E-3,{"$f":"$AR11","v":386904.63860601612},0,null,null,{"$f":"$AQ12","v":387517.55191987992},-2.5335880776752207E-3,{"$f":"$AR12","v":388501.85558935581},0,null,null,{"$f":"$AQ13","v":386554.97602292913},-2.535706610706406E-3,{"$f":"$AR13","v":387537.65782377054},0,null,null,{"$f":"$AQ14","v":382878.06153522647},2.5899353269736116E-4,{"$f":"$AR14","v":382778.92426938785},0]
["acceptnp",null,null,{"$f":"$AS11","v":386896.61614010704},-2.0734995418971393E-5,{"$f":"$AT11","v":386908.20414642029},9.2155535199105934E-6,null,null,{"$f":"$AS12","v":388501.85558935581},0,{"$f":"$AT12","v":388501.85558935581},0,null,null,{"$f":"$AS13","v":387529.63592763635},-2.0699655819865519E-5,{"$f":"$AT13","v":387541.22311094141},9.1998470313684284E-6,null,null,{"$f":"$AS14","v":382770.89842533116},-2.0967309190290708E-5,{"$f":"$AT14","v":382782.49131119088},9.3188040847426095E-6]
["acceptsf",null,null,{"$f":"$AU11","v":386904.63860601612},0,{"$f":"$AV11","v":386904.63860601612},0,null,null,{"$f":"$AU12","v":388285.32304471161},-5.5735266519054642E-4,{"$f":"$AV12","v":388873.05423731729},9.5546171175522247E-4,null,null,{"$f":"$AU13","v":387321.48206672492},-5.5781871175969401E-4,{"$f":"$AV13","v":387908.24483584886},9.5626064873118293E-4,null,null,{"$f":"$AU14","v":382778.92426938785},0,{"$f":"$AV14","v":382778.92426938785},0]
["reqHIVtestcost",null,null,{"$f":"$AW11","v":267624.21603167715},-0.30829411351617803,{"$f":"$AX11","v":506185.06118035532},0.30829411351617864,null,null,{"$f":"$AW12","v":269033.05203171691},-0.30751153910553447,{"$f":"$AX12","v":507970.65914699476},0.30751153910553464,null,null,{"$f":"$AW13","v":268265.70683437341},-0.30776867378301348,{"$f":"$AX13","v":506809.60881316767},0.30776867378301348,null,null,{"$f":"$AW14","v":263448.27438848367},-0.31174822414444897,{"$f":"$AX14","v":502109.57415029214},0.31174822414444925]
["allHIVtestcost",null,null,{"$f":"$AY11","v":386804.28230467153},-2.5938252305828365E-4,{"$f":"$AZ11","v":387004.99490736093},2.5938252305888543E-4,null,null,{"$f":"$AY12","v":388401.34079411655},-2.5872410592937204E-4,{"$f":"$AZ12","v":388602.37038459518},2.5872410592967172E-4,null,null,{"$f":"$AY13","v":387437.30864997394},-2.5894044558175285E-4,{"$f":"$AZ13","v":387638.00699756731},2.5894044558220344E-4,null,null,{"$f":"$AY14","v":382678.52570941771},-2.6228863086381307E-4,{"$f":"$AZ14","v":382879.32282935811},2.6228863086411719E-4]
["outhivcost",null,null,{"$f":"$BA11","v":386695.23527131457},-5.4122725293760307E-4,{"$f":"$BB11","v":387114.04194071778},5.4122725293790394E-4,null,null,{"$f":"$BA12","v":388292.12154148903},-5.3985340056770105E-4,{"$f":"$BB12","v":388711.58963722253},5.3985340056755121E-4,null,null,{"$f":"$BA13","v":387328.26936140173},-5.4030481462016779E-4,{"$f":"$BB13","v":387747.04628613935},5.4030481462016779E-4,null,null,{"$f":"$BA14","v":382569.43275789032},-5.4729113390291197E-4,{"$f":"$BB14","v":382988.41578088538},5.4729113390291197E-4]
["lifecost",null,null,{"$f":"$BC11","v":410994.92101771035},6.2264134383318417E-2,{"$f":"$BD11","v":362814.35619432206},-6.2264134383317966E-2,null,null,{"$f":"$BC12","v":412592.13800103514},6.2008152767081305E-2,{"$f":"$BD12","v":364411.57317767642},-6.2008152767081451E-2,null,null,{"$f":"$BC13","v":411627.94023551559},6.2162429703024893E-2,{"$f":"$BD13","v":363447.37541202543},-6.2162429703025046E-2,null,null,{"$f":"$BC14","v":406869.20668104081},6.2935237245974857E-2,{"$f":"$BD14","v":358688.64185773482},-6.2935237245975009E-2]
["npcost",null,null,{"$f":"$BE11","v":386896.61614010704},-2.0734995418971393E-5,{"$f":"$BF11","v":386912.66107192548},2.0734995419723616E-5,null,null,{"$f":"$BE12","v":388501.85558935581},0,{"$f":"$BF12","v":388501.85558935581},0,null,null,{"$f":"$BE13","v":387529.63592763635},-2.0699655819865519E-5,{"$f":"$BF13","v":387545.6797199049},2.0699655820316117E-5,null,null,{"$f":"$BE14","v":382770.89842533116},-2.0967309190290708E-5,{"$f":"$BF14","v":382786.95011344459},2.0967309190442774E-5]
["sfcost",null,null,{"$f":"$BG11","v":386904.63860601612},0,{"$f":"$BH11","v":386904.63860601612},0,null,null,{"$f":"$BG12","v":388285.32304471161},-5.5735266519054642E-4,{"$f":"$BH12","v":388718.38813400007},5.5735266519069625E-4,null,null,{"$f":"$BG13","v":387321.48206672492},-5.5781871175969401E-4,{"$f":"$BH13","v":387753.83358081634},5.578187117601446E-4,null,null,{"$f":"$BG14","v":382778.92426938785},0,{"$f":"$BH14","v":382778.92426938785},0]
["cscost",null,null,{"$f":"$BI11","v":385921.8870077724},-2.5400357095342325E-3,{"$f":"$BJ11","v":387887.39020426001},2.540035709534684E-3,null,null,{"$f":"$BI12","v":387517.55191987992},-2.5335880776752207E-3,{"$f":"$BJ12","v":389486.15925883164},2.5335880776750706E-3,null,null,{"$f":"$BI13","v":386554.97602292913},-2.535706610706406E-3,{"$f":"$BJ13","v":388520.33962461207},2.5357066107067061E-3,null,null,{"$f":"$BI14","v":382878.06153522647},2.5899353269736116E-4,{"$f":"$BJ14","v":382679.78700354917},-2.5899353269751328E-4]
["rcost",null,null,{"$f":"$BK11","v":386855.29482571693},-1.27534734339098E-4,{"$f":"$BL11","v":386953.98238631547},1.2753473433954932E-4,null,null,{"$f":"$BK12","v":388452.43387984025},-1.2721099990781068E-4,{"$f":"$BL12","v":388551.27729887131},1.2721099990766084E-4,null,null,{"$f":"$BK13","v":387537.65782377054},0,{"$f":"$BL13","v":387537.65782377054},0,null,null,{"$f":"$BK14","v":382729.55971111747},-1.289636266275582E-4,{"$f":"$BL14","v":382828.28882765834},1.2896362662786234E-4]
["vltest",null,null,{"$f":"$BM11","v":386767.13958854269},-3.553821891844556E-4,{"$f":"$BN11","v":387042.13762348978},3.5538218918505738E-4,null,null,{"$f":"$BM12","v":388364.13941805629},-3.544800863064088E-4,{"$f":"$BN12","v":388639.57176065532},3.544800863064088E-4,null,null,{"$f":"$BM13","v":387400.1685718107},-3.5477649509446689E-4,{"$f":"$BN13","v":387675.14707573038},3.5477649509446689E-4,null,null,{"$f":"$BM14","v":382641.36735301389},-3.5936387207449337E-4,{"$f":"$BN14","v":382916.48118576186},3.5936387207464543E-4]
["cd4test",null,null,{"$f":"$BO11","v":386855.99561512918},-1.257234626656034E-4,{"$f":"$BP11","v":386953.28159690317},1.2572346266590429E-4,null,null,{"$f":"$BO12","v":388453.1357760175},-1.254043259700742E-4,{"$f":"$BP12","v":388550.57540269406},1.2540432596992436E-4,null,null,{"$f":"$BO13","v":387489.01828762674},-1.2550918642833633E-4,{"$f":"$BP13","v":387586.29735991429},1.2550918642818614E-4,null,null,{"$f":"$BO14","v":382730.26079562225},-1.2713206156395062E-4,{"$f":"$BP14","v":382827.58774315339},1.2713206156379856E-4]
["qwohiv",null,null,{"$f":"$BQ11","v":568056.21166118607},0.46820729187389265,{"$f":"$BR11","v":293354.64441801293},-0.24179083126285511,null,null,{"$f":"$BQ12","v":570401.25728686666},0.46820729188428245,{"$f":"$BR12","v":294565.66897909442},-0.24179083126323955,null,null,{"$f":"$BQ13","v":568985.6150943567},0.46820729187845295,{"$f":"$BR13","v":293834.60539242986},-0.24179083126407125,null,null,{"$f":"$BQ14","v":561998.80779258907},0.46820729188598659,{"$f":"$BR14","v":290226.48998098134},-0.24179083126131312]
["qwhiv",null,null,{"$f":"$BS11","v":361966.1596781495},-6.4456396846824568E-2,{"$f":"$BT11","v":415533.78015157115},7.3995343267796804E-2,null,null,{"$f":"$BS12","v":363460.42580988607},-6.4456396846501493E-2,{"$f":"$BT12","v":417249.18375370075},7.3995343267370908E-2,null,null,{"$f":"$BS13","v":362558.37675692374},-6.4456396849582848E-2,{"$f":"$BT13","v":416213.63984319469},7.3995343266651803E-2,null,null,{"$f":"$BS14","v":358106.37402228365},-6.4456396846291439E-2,{"$f":"$BT14","v":411102.78216794092},7.3995343271876776E-2]
[]
["Parameter",null,"Base Case ICER","Lower limit -25% ICER","% ICER change","Upper limit +25% ICER","% iCER change",null,"Base Case ICER","Lower limit -25% ICER","% ICER change","Upper limit +25% ICER","% iCER change",null,"Base Case ICER","Lower limit -25% ICER","% ICER change","Upper limit +25% ICER","% iCER change",null,"Base Case ICER","Lower limit -25% ICER","% ICER change","Upper limit +25% ICER","% iCER change"]
[null,"urndsf",{"$f":"$E$15","v":387199.98479240277},{"$f":"$G15","v":266947.43941525515},{"$f":"(D139-C$139)/C$139","v":-0.31056960253141797},{"$f":"$H15","v":507452.53},{"$f":"(F139-C$139)/C$139","v":0.31056960209352963},"undnpsf",{"$f":"$E$16","v":383286.28069412109},{"$f":"$G16","v":263965.89294413145},{"$f":"(J139-I$139)/I$139","v":-0.31130878865244965},{"$f":"$H16","v":502606.67},{"$f":"(L139-I$139)/I$139","v":0.31130879271178946},"urcsnpsf",{"$f":"$E$17","v":387733.79442137713},{"$f":"$G17","v":268432.54110685748},{"$f":"(P139-O$139)/O$139","v":-0.30768856114942289},{"$f":"$H17","v":507035.05},{"$f":"(R139-O$139)/O$139","v":0.30768856698874675},"urndnpsf",{"$f":"$E$18","v":383478.16952064919},{"$f":"$G18","v":264159.13737241499},{"$f":"(V139-U$139)/U$139","v":-0.31114947768052598},{"$f":"$H18","v":502797.2},{"$f":"(X139-U$139)/U$139","v":0.31114947332856152}]
["pop",null,null,{"$f":"$I15","v":547536.71196345764},{"$f":"(D140-C$139)/C$139","v":0.41409280337916177},{"$f":"$J15","v":290997.948491171},{"$f":"(F140-C$139)/C$139","v":-0.24845568202387838},null,null,{"$f":"$I16","v":542380.13102893939},{"$f":"(J140-I$139)/I$139","v":0.41507838487384324},{"$f":"$J16","v":287829.97049460665},{"$f":"(L140-I$139)/I$139","v":-0.24904703092071451},null,null,{"$f":"$I17","v":546802.1321755806},{"$f":"(P140-O$139)/O$139","v":0.41025141486979316},{"$f":"$J17","v":292292.79177121498},{"$f":"(R140-O$139)/O$139","v":-0.24615084891578939},null,null,{"$f":"$I18","v":542570.21238200192},{"$f":"(V140-U$139)/U$139","v":0.41486597023298372},{"$f":"$J18","v":288022.94380246021},{"$f":"(X140-U$139)/U$139","v":-0.24891958214338192}]
["pwhiv",null,null,{"$f":"$K15","v":389203.36400360696},5.1740167610757944E-3,{"$f":"$L15","v":386892.61117806146},-7.93836845076608E-4,null,null,{"$f":"$K16","v":383210.93106497359},-1.9658838039035987E-4,{"$f":"$L16","v":383297.86300583481},3.0218435402236564E-5,null,null,{"$f":"$K17","v":388888.55585164408},2.9782326092834569E-3,{"$f":"$L17","v":387556.26869143319},-4.578546737430126E-4,null,null,{"$f":"$K18","v":384651.06750004791},3.0585782258866407E-3,{"$f":"$L18","v":383297.86300583481},-4.7018716877616324E-4]
["earlyanc",null,null,{"$f":"$S15","v":548387.02294029854},0.4162888545419654,{"$f":"$T15","v":290487.76190506684},-0.24977331272155956,null,null,{"$f":"$S16","v":543168.75080923794},0.41713590641849752,{"$f":"$T16","v":287356.79862642789},-0.25028154384750612,null,null,{"$f":"$S17","v":549098.76911522751},0.4161746461503531,{"$f":"$T17","v":290914.80960924434},-0.24970478767943785,null,null,{"$f":"$S18","v":543424.61987760477},0.41709401752097114,{"$f":"$T18","v":287510.29930689995},-0.25025641051147668]
["base",null,null,{"$f":"$U15","v":386349.36415526376},-2.1968509053404911E-3,{"$f":"$V15","v":388053.6086074725},2.204607046995113E-3,null,null,{"$f":"$U16","v":383314.23639012635},7.2936855330774612E-5,{"$f":"$V16","v":383258.32825646701},-7.2928354240747403E-5,null,null,{"$f":"$U17","v":387778.73362601368},1.1590221250540577E-4,{"$f":"$V17","v":387688.86356194242},-1.1588068948635399E-4,null,null,{"$f":"$U18","v":383506.13608292211},7.2928694501387217E-5,{"$f":"$V18","v":383450.20621636737},-7.2920198604189585E-5]
["pmore4",null,null,{"$f":"$W15","v":387207.05527031032},1.8260532503214586E-5,{"$f":"$X15","v":387192.91452287114},-1.8259994342250057E-5,null,null,{"$f":"$W16","v":383290.25027676777},1.035670423551015E-5,{"$f":"$X16","v":383282.31118035555},-1.0356524523516904E-5,null,null,{"$f":"$W17","v":387740.81670889072},1.811110513096898E-5,{"$f":"$X17","v":387726.77233919513},-1.811057556248317E-5,null,null,{"$f":"$W18","v":383485.13111331908},1.8153817409193969E-5,{"$f":"$X18","v":383471.20813156274},-1.8153286522525809E-5]
["pless4",null,null,{"$f":"$Y15","v":387133.05682230851},-1.7285116922238636E-4,{"$f":"$Z15","v":387266.93129576824},1.7289903407760701E-4,null,null,{"$f":"$Y16","v":383286.28069412109},0,{"$f":"$Z16","v":383286.28069412109},0,null,null,{"$f":"$Y17","v":387733.45924970799},-8.6443759600503777E-7,{"$f":"$Z17","v":387734.12959511706},8.6444293677175569E-7,null,null,{"$f":"$Y18","v":383476.55496787216},-4.2102860223983948E-6,{"$f":"$Z18","v":383479.78408278897},4.2103104377659692E-6]
["pless4r",null,null,{"$f":"$AA15","v":387199.98479240277},0,{"$f":"$AB15","v":387199.98479240277},0,null,null,{"$f":"$AA16","v":383262.2420619445},-6.2717173526405175E-5,{"$f":"$AB16","v":383310.32173763058},6.272346473231104E-5,null,null,{"$f":"$AA17","v":387728.94320194126},-1.2511727132535101E-5,{"$f":"$AB17","v":387738.6457396521},1.2511982047408611E-5,null,null,{"$f":"$AA18","v":383455.49725205079},{"$f":"(V146-U$139)/U$139","v":-5.9122709975222785E-5},{"$f":"$AB18","v":383500.84393160284},5.9128296617237195E-5]
["pnp",null,null,{"$f":"$AC15","v":387256.8523354964},1.4686866045234183E-4,{"$f":"$AD15","v":387143.13062320498},-1.4683412043073904E-4,null,null,{"$f":"$AC16","v":383342.25067800545},1.4602657779194732E-4,{"$f":"$AD16","v":383230.32377103518},-1.4599250196111553E-4,null,null,{"$f":"$AC17","v":387785.42197374726},1.3315205719217273E-4,{"$f":"$AD17","v":387682.17788177897},-1.3312365427207594E-4,null,null,{"$f":"$AC18","v":383534.16125980637},1.4601023893268805E-4,{"$f":"$AD18","v":383422.19084721885},-1.4597616730127846E-4]
["pcs",null,null,{"$f":"$AE15","v":386233.07476551417},-2.4971850848780498E-3,{"$f":"$AF15","v":388170.77713663958},2.5072117313157819E-3,null,null,{"$f":"$AE16","v":383262.2420619445},-6.2717173526405175E-5,{"$f":"$AF16","v":383310.32173763058},6.272346473231104E-5,null,null,{"$f":"$AE17","v":387728.94320194126},-1.2511727132535101E-5,{"$f":"$AF17","v":387738.6457396521},1.2511982047408611E-5,null,null,{"$f":"$AE18","v":383455.49725205079},-5.9122709975222785E-5,{"$f":"$AF18","v":383500.84393160284},5.9128296617237195E-5]
["psf",null,null,{"$f":"$AG15","v":547536.71196345764},0.41409280337916177,{"$f":"$E$15","v":387199.98479240277},0,null,null,{"$f":"$AG16","v":542380.1310289395},0.41507838487384352,{"$f":"$E$16","v":383286.28069412109},0,null,null,{"$f":"$AG17","v":546802.1321755806},0.41025141486979316,{"$f":"$E$17","v":387733.79442137713},0,null,null,{"$f":"$AG18","v":542570.21238500054},0.41486597024080329,{"$f":"$E$18","v":383478.16952064919},0]
["sens",null,null,{"$f":"$AI15","v":2956563.7079745303},6.6357536779338755,387199.98479240277,0,null,null,{"$f":"$AI16","v":1862657.9905236124},3.8597043107057973,383286.28069412109,0,null,null,{"$f":"$AI17","v":7327425.0261814697},17.898081961404298,387733.79442137713,0,null,null,{"$f":"$AI18","v":2965220.2334276345},6.7324355572422387,383478.16952064919,0]
["spec",null,null,{"$f":"$AK15","v":387199.98479348107},2.7848578532360027E-12,{"$f":"$AL15","v":387199.98479348107},2.7848578532360027E-12,null,null,{"$f":"$AK16","v":383286.28069518029},2.7634821776667175E-12,{"$f":"$AL16","v":383286.28069518029},2.7634821776667175E-12,null,null,{"$f":"$AK17","v":387733.79442244838},2.7628589688709172E-12,{"$f":"$AL17","v":387733.79442244838},2.7628589688709172E-12,null,null,{"$f":"$AK18","v":383478.1695217088},2.7631618785321848E-12,{"$f":"$AL18","v":383478.1695217088},2.7631618785321848E-12]
["acceptHIV",null,null,{"$f":"$AM15","v":547697.16032036045},0.41450718448247931,{"$f":"$AN15","v":382385.06952641811},-1.243521553485126E-2,null,null,{"$f":"$AM16","v":542539.3356436895},0.41549375224483753,{"$f":"$AN16","v":378508.68904671445},-1.2464812564526294E-2,null,null,{"$f":"$AM17","v":546961.31125998776},0.41066195191014765,{"$f":"$AN17","v":382956.96891739086},-1.2319858554281611E-2,null,null,{"$f":"$AM18","v":542729.41519102175},0.415281125049277,{"$f":"$AN18","v":378700.63215015904},-1.2458433752466544E-2]
["acceptouthiv",null,null,{"$f":"$AO15","v":387150.25120973069},{"$f":"(D153-C$139)/C$139","v":-1.2844417516892623E-4},{"$f":"$AP15","v":387210.4550203337},2.7040878982836893E-5,null,null,{"$f":"$AO16","v":383286.28069412109},{"$f":"(J153-I$139)/I$139","v":0},{"$f":"$AP16","v":383286.28069412109},0,null,null,{"$f":"$AO17","v":387684.45427039743},{"$f":"(P153-O$139)/O$139","v":-1.2725264521584471E-4},{"$f":"$AP17","v":387744.1818215833},2.6790030571567151E-5,null,null,{"$f":"$AO18","v":383428.93100630835},{"$f":"(V153-U$139)/U$139","v":-1.2839978453631516E-4},{"$f":"$AP18","v":383488.53551893012},2.7031521230767084E-5]
["acceptr",null,null,{"$f":"$AQ15","v":387299.86315816175},2.5795033492196766E-4,{"$f":"$AR15","v":387199.98479240277},0,null,null,{"$f":"$AQ16","v":383385.38483609847},2.5856428202415151E-4,{"$f":"$AR16","v":383286.28069412109},{"$f":"(L154-I$139)/I$139","v":0},null,null,{"$f":"$AQ17","v":386751.1151061983},-2.53441750323905E-3,{"$f":"$AR17","v":387733.79442137713},0,null,null,{"$f":"$AQ18","v":383577.27253670112},2.5843196283065867E-4,{"$f":"$AR18","v":383478.16952064919},{"$f":"(X154-U$139)/U$139","v":0}]
["acceptcs",null,null,{"$f":"$AS15","v":387199.98479240277},0,{"$f":"$AT15","v":387199.98479240277},0,null,null,{"$f":"$AS16","v":383278.25753166905},-2.0932558393451095E-5,{"$f":"$AT16","v":383289.84654409991},9.3033592863494905E-6,null,null,{"$f":"$AS17","v":387725.7725455339},-2.0689132488960129E-5,{"$f":"$AT17","v":387737.3596995296},9.1951699948932257E-6,null,null,{"$f":"$AS18","v":383470.24971422518},-2.0652561354155605E-5,{"$f":"$AT18","v":383481.68943112675},9.1789070599960894E-6]
["acceptnp",null,null,{"$f":"$AU15","v":386982.08583027049},-5.6275560612201463E-4,{"$f":"$AV15","v":387573.52587034373},9.6472389620891026E-4,null,null,{"$f":"$AU16","v":383070.07081207325},-5.6409501967117639E-4,{"$f":"$AV16","v":383656.926206203},9.6702003372175626E-4,null,null,{"$f":"$AU17","v":387517.61921114114},-5.5753512679644613E-4,{"$f":"$AV17","v":388104.38049606723},{"$f":"(R156-O$139)/O$139","v":9.5577450307919294E-4},null,null,{"$f":"$AU18","v":383262.04236742755},-5.6359701907358873E-4,{"$f":"$AV18","v":383848.67299784737},9.6616576026040948E-4]
["acceptsf",null,null,{"$f":"$AW15","v":266977.27949347917},-0.31049253621066381,{"$f":"$AX15","v":507422.69009132631},0.31049253621066364,null,null,{"$f":"$AW16","v":263995.50171202084},-0.31123153890629185,{"$f":"$AX16","v":502577.05967622134},0.31123153890629185,null,null,{"$f":"$AW17","v":268462.14512663067},-0.30761220974493059,{"$f":"$AX17","v":507005.44371612347},0.30761220974493031,null,null,{"$f":"$AW18","v":264188.74580501311},-0.3110722674637485,{"$f":"$AX18","v":502767.59323628503},0.31107226746374789]
["reqHIVtestcost",null,null,{"$f":"$AY15","v":387098.83570371696},-2.612321607916367E-4,{"$f":"$AZ15","v":387301.13388108852},2.6123216079148638E-4,null,null,{"$f":"$AY16","v":383185.91567943728},-2.6185391896116437E-4,{"$f":"$AZ16","v":383386.64570880501},2.6185391896146805E-4,null,null,{"$f":"$AY17","v":387633.44550141046},-2.5880880493385483E-4,{"$f":"$AZ17","v":387834.14334134368},2.5880880493355456E-4,null,null,{"$f":"$AY18","v":383377.80564621545},-2.6171991631020988E-4,{"$f":"$AZ18","v":383578.53339508269},2.6171991630960273E-4]
["allHIVtestcost",null,null,{"$f":"$BA15","v":386988.9272286123},-5.4508670475188138E-4,{"$f":"$BB15","v":387411.04235619318},5.4508670475173111E-4,null,null,{"$f":"$BA16","v":383076.85917817673},-5.4638406458248109E-4,{"$f":"$BB16","v":383495.70221006533},5.4638406458217741E-4,null,null,{"$f":"$BA17","v":387524.40648864984},-5.4003013340573464E-4,{"$f":"$BB17","v":387943.1823541043},5.4003013340543442E-4,null,null,{"$f":"$BA18","v":383268.75038394937},-5.4610445481574231E-4,{"$f":"$BB18","v":383687.58865734865},5.4610445481483158E-4]
["outhivcost",null,null,{"$f":"$BC15","v":411290.2672040785},6.2216640903515863E-2,{"$f":"$BD15","v":363109.70238072681},-6.221664090351646E-2,null,null,{"$f":"$BC16","v":407376.56310580275},6.2851929810936125E-2,{"$f":"$BD16","v":359195.99828243931},-6.285192981093643E-2,null,null,{"$f":"$BC17","v":411824.07683300716},6.213098460396118E-2,{"$f":"$BD17","v":363643.51200974698},-6.2130984603961485E-2,null,null,{"$f":"$BC18","v":407568.46490707732},6.282051313779137E-2,{"$f":"$BD18","v":359387.87413422082},-6.2820513137791981E-2]
["lifecost",null,null,{"$f":"$BE15","v":387199.98479240277},0,{"$f":"$BF15","v":387199.98479240277},0,null,null,{"$f":"$BE16","v":383278.25753166905},-2.0932558393451095E-5,{"$f":"$BF16","v":383294.30385657318},2.0932558393602962E-5,null,null,{"$f":"$BE17","v":387725.7725455339},-2.0689132488960129E-5,{"$f":"$BF17","v":387741.81629722018},2.0689132488509758E-5,null,null,{"$f":"$BE18","v":383470.14644934837},-2.092184624446641E-5,{"$f":"$BF18","v":383486.19259194983},2.0921846244011045E-5]
["npcost",null,null,{"$f":"$BG15","v":386982.08583027049},-5.6275560612201463E-4,{"$f":"$BH15","v":387417.883754535},5.6275560612186436E-4,null,null,{"$f":"$BG16","v":383070.07081207325},-5.6409501967117639E-4,{"$f":"$BH16","v":383502.49057616881},5.640950196708726E-4,null,null,{"$f":"$BG17","v":387517.61921114114},-5.5753512679644613E-4,{"$f":"$BH17","v":387949.969631613},5.575351267961458E-4,null,null,{"$f":"$BG18","v":383261.96209496888},-5.638063463966243E-4,{"$f":"$BH18","v":383694.37694632914},5.6380634639571357E-4]
["sfcost",null,null,{"$f":"$BI15","v":387299.86315816175},2.5795033492196766E-4,{"$f":"$BJ15","v":387100.10642664373},-2.5795033492211804E-4,null,null,{"$f":"$BI16","v":383385.38483609847},2.5856428202415151E-4,{"$f":"$BJ16","v":383187.1765521437},-2.5856428202415151E-4,null,null,{"$f":"$BI17","v":386751.1151061983},-2.53441750323905E-3,{"$f":"$BJ17","v":388716.47373655578},2.5344175032385998E-3,null,null,{"$f":"$BI18","v":383577.27253670112},2.5843196283065867E-4,{"$f":"$BJ18","v":383379.06650459714},-2.5843196283096225E-4]
["cscost",null,null,{"$f":"$BK15","v":387150.25120973069},-1.2844417516892623E-4,{"$f":"$BL15","v":387249.71837507474},1.2844417516862558E-4,null,null,{"$f":"$BK16","v":383286.28069412109},0,{"$f":"$BL16","v":383286.28069412109},0,null,null,{"$f":"$BK17","v":387684.45427039743},-1.2725264521584471E-4,{"$f":"$BL17","v":387783.13457235671},1.2725264521554447E-4,null,null,{"$f":"$BK18","v":383428.82201676862},-1.2868399768948389E-4,{"$f":"$BL18","v":383527.51702452957},1.2868399768902852E-4]
["rcost",null,null,{"$f":"$BM15","v":387061.39957028616},-3.579163934908617E-4,{"$f":"$BN15","v":387338.57001451933},3.5791639349071138E-4,null,null,{"$f":"$BM16","v":383148.76973842771},-3.5876826961911141E-4,{"$f":"$BN16","v":383423.7916498144},3.5876826961895957E-4,null,null,{"$f":"$BM17","v":387596.30551719188},-3.5459613312897143E-4,{"$f":"$BN17","v":387871.28332556225},3.5459613312867116E-4,null,null,{"$f":"$BM18","v":383340.66012722225},-3.5858467145294544E-4,{"$f":"$BN18","v":383615.67891407583},3.585846714521865E-4]
["vltest",null,null,{"$f":"$BO15","v":387150.95753518777},-1.2661998744985692E-4,{"$f":"$BP15","v":387249.01204961765},1.2661998744955625E-4,null,null,{"$f":"$BO16","v":383237.63347985328},-1.2692135544145109E-4,{"$f":"$BP16","v":383334.92790838884},1.2692135544129925E-4,null,null,{"$f":"$BO17","v":387685.15500826552},-1.2544537982353565E-4,{"$f":"$BP17","v":387782.43383448862},1.2544537982323541E-4,null,null,{"$f":"$BO18","v":383429.52285906393},-1.2685640396704662E-4,{"$f":"$BP18","v":383526.81618223427},1.2685640396659125E-4]
["cd4test",null,null,{"$f":"$BQ15","v":568489.84108746925},0.46820729187854959,{"$f":"$BR15","v":293578.57860400196},-0.24179083126409706,null,null,{"$f":"$BQ16","v":562743.71219416102},0.46820729188388216,{"$f":"$BR16","v":290611.17227333377},-0.24179083126313627,null,null,{"$f":"$BQ17","v":569273.58428036596},0.46820729188670357,{"$f":"$BR17","v":293983.31796097802},-0.24179083125912409,null,null,{"$f":"$BQ18","v":563025.58674481115},0.46820766211697967,{"$f":"$BR18","v":290756.62627580838},-0.24179093000455146]
["qwohiv",null,null,{"$f":"$BS15","v":362242.46891351498},-6.4456396846887171E-2,{"$f":"$BT15","v":415850.98058043432},7.399534326787946E-2,null,null,{"$f":"$BS16","v":358581.02808028867},-6.4456396845438538E-2,{"$f":"$BT16","v":411647.6806032196},7.3995343265970251E-2,null,null,{"$f":"$BS17","v":362741.87109732057},-6.4456396846585162E-2,{"$f":"$BT17","v":416424.28963598993},7.3995343267481251E-2,null,null,{"$f":"$BS18","v":358760.49079570215},-6.4456547176712398E-2,{"$f":"$BT18","v":411853.84427999577},7.3995541375448851E-2]
["qwhiv"]

{"sheet":"Markov cheat sheet","index":20,"n_rows":174,"n_cols":18,"rows_kept":174,"cut":false,"hidden":true,"merged":[[108,1,109,1],[108,2,109,2]]}
[null,"Simple markov model for lifetime HIV+/- patient"]
[null,null,null,"Analysis"]
[null,null,null,null,"Undiscounted life years","Discounted QALY","costs"]
[null,null,null,"Borne with HIV",{"$f":"'Life years with HIV'!G19","v":8.9863097354257828},{"$f":"'Life years with HIV'!K19","v":6.179983883985118},{"$f":"'Lifetime HIV cost'!G18","v":542974.1822178018}]
[null,null,null,"Borne without HIV",{"$f":"'Life years without HIV'!G102","v":70.814756530079052},{"$f":"'Life years borne without HIV'!K102","v":28.309677443975772},0]
[]
[]
[]
[]
[null,null,"Value","Source"]
[null,"Utility"]
[null,"Utility of a healthy person using Filipino value set (11111)",1,"Lam, et.al"]
[null,"Utility of HIV infection with HAART",0.83,"Sanders, 2005"]
[]
[null,"Life expectancy"]
[null,"Life expectancy of healthy person",69.03,"World Bank 2016"]
[null,"Life expectancy of HIV+ infant with treatment",15,"Soorapanth, 2006"]
[null,"Life expectancy of HIV+ infant without treatment",2,"Soorapanth, 2006"]
[]
[null,"Transitional probabilities for mortality"]
[null,"Death risk of HIV+infant from <1 years",{"$f":"1-EXP(-$C$80)","v":0.166565713609377},"Davies, 2015"]
[null,"Death risk of HIV+infant from 1 year",{"$f":"1-EXP(-$C$81)","v":0.13645704356711907},"Davies, 2015"]
[null,"Death risk of HIV+infant from 2-4 years",{"$f":"1-EXP(-$C$82)","v":5.5204828013800555E-2},"Davies, 2015"]
[null,"Death risk of HIV+infant from 5-10 years",{"$f":"1-EXP(-$C$83)","v":3.7883509891454836E-2},"Davies, 2015"]
[null,"Death risk of HIV+infant from 11-15 years",{"$f":"1-EXP(-$C$84)","v":1.2915864979712421E-2},"Walker, 2012"]
[null,"Natural Death Risk for Age <1",{"$f":"1-EXP(-$C$89)","v":1.0096837622326937E-2},"WHO, 2016"]
[null,"Natural Death Risk for Age 1-4",{"$f":"1-EXP(-$C$90)","v":1.0987911082522839E-3},"WHO, 2016"]
[null,"Natural Death Risk for Age 5-9",{"$f":"1-EXP(-$C$91)","v":3.9984005331727968E-4},"WHO, 2016"]
[null,"Natural Death Risk for Age 10-14",{"$f":"1-EXP(-$C$92)","v":3.9984005331727968E-4},"WHO, 2016"]
[null,"Natural Death Risk for Age 15-19",{"$f":"1-EXP(-$C$93)","v":6.9951028568338014E-4},"WHO, 2016"]
[null,"Natural Death Risk for Age 20-24",{"$f":"1-EXP(-$C$94)","v":1.1985614387051147E-3},"WHO, 2016"]
[null,"Natural Death Risk for Age 25-29",{"$f":"1-EXP(-$C$95)","v":1.4977528093391701E-3},"WHO, 2016"]
[null,"Natural Death Risk for Age 30-34",{"$f":"1-EXP(-$C$96)","v":1.9960066566805379E-3},"WHO, 2016"]
[null,"Natural Death Risk for Age 35-39",{"$f":"1-EXP(-$C$97)","v":2.5932546181570704E-3},"WHO, 2016"]
[null,"Natural Death Risk for Age 40-44",{"$f":"1-EXP(-$C$98)","v":3.5870787752854127E-3},"WHO, 2016"]
[null,"Natural Death Risk  for Age 45-49",{"$f":"1-EXP(-$C$99)","v":5.2720335728175804E-3},"WHO, 2016"]
[null,"Natural Death Risk for Age 50-54",{"$f":"1-EXP(-$C$100)","v":7.7395531590068734E-3},"WHO, 2016"]
[null,"Natural Death Risk for Age 55-59",{"$f":"1-EXP(-$C$101)","v":1.1759781868410424E-2},"WHO, 2016"]
[null,"Natural Death Risk for Age 60-64",{"$f":"1-EXP(-$C$102)","v":1.9029637133310962E-2},"WHO, 2016"]
[null,"Natural Death Risk for Age 65-69",{"$f":"1-EXP(-$C$103)","v":2.9498729291051795E-2},"WHO, 2016"]
[null,"Natural Death Risk for Age >70",{"$f":"1-EXP(-$C$104)","v":6.69373947780183E-2},"WHO, 2016"]
[]
[null,"Cost (2011 USD)"]
[null,"Pre and post HIV test counselling",null,null,null,null,null,null,null,null,null,"Resource category"]
[null,"HIV positive result ",9.5299999999999994,"Collins, 2017",null,null,null,null,null,null,null,"non-tradable","M2"]
[null,"HIV negative result ",3.62,"Collins, 2017",null,null,null,null,null,null,null,"non-tradable","M2"]
[null,"Cost of HIV diagnosis per test"]
[null,"Early infant HIV diagnosis using DNA PCR and dried blood spots ",57.14,"Collins, 2017",null,null,null,null,null,null,null,"tradable","M1"]
[null,"HIV rapid test by serology",1,"Collins, 2017",null,null,null,null,null,null,null,"tradable","M1"]
[null,"Mean cost of antiretroviral drugs per child per month",null,null,null,null,null,null,null,null,null,null,null,"annual cost"]
[null,"Mean cost during the first five years of therapy (includes first and second line therapy)",61.1,"Collins, 2017",null,null,null,null,null,null,null,"tradable","M1",{"$f":"C51*12","v":733.2}]
[null,"Mean cost after five years of therapy (includes first and second line therapy)",86.3,"Collins, 2017",null,null,null,null,null,null,null,"tradable","M1",1035.5999999999999]
[null,"Third line ART",148.30000000000001,"Collins, 2017",null,null,null,null,null,null,null,"tradable","M1",1779.6000000000001]
[null,"Laboratory monitoring on ART",26.09,"Collins, 2017",null,null,null,null,null,null,null,"tradable","M1",313.08]
[null,"Hospitalization during first year of ART in disease stage A or B",24.9,"Collins, 2017",null,null,null,null,null,null,null,"non-tradable","M2",298.79999999999995]
[null,"Hospitalization during first year of ART in CDC stage C",43,"Collins, 2017",null,null,null,null,null,null,null,"non-tradable","M2",516]
[null,"Hospitalization after first year of ART (all disease states)",5.2,"Collins, 2017",null,null,null,null,null,null,null,"non-tradable","M2",62.400000000000006]
[]
[null,"Exchange rates"]
[null,"IMF Exchange rate August 15, 2019 for 1 USD",52.195,"IMF"]
[null,"IMF Exchange rate December 29, 2011 for 1USD",42.927999999999997,"IMF",null,null,null,null,null,null,null,null,null,"Adjusted"]
[null,"Exchange rate December 29, 2003 for 1 USD",55.587000000000003,"Pacific Exchange Rate",null,null,null,null,null,null,null,"Total M1",{"$f":"SUM(C48,C49,N51:N54)","v":3919.62},{"$f":"M62*(PRODUCT(J113:R113))*C60","v":240152.11612478169}]
[null,null,null,null,null,null,null,null,null,null,null,"Total M2",{"$f":"SUM(C45,N55:N57)","v":886.7299999999999},{"$f":"(M63*C61)*PRODUCT(J114:R114)","v":50061.639064622046}]
[null,"Discount rate"]
[null,"Discount rate for costs and outcomes",0.03,"Draft PH Methods Guide"]
[]
[]
[]
[]
[]
[]
[]
[]
[]
[]
[]
[]
[]
[]
[null,"Death risk of HIV+infant from <1 years",{"$f":"260/1427","v":0.18220042046250876},{"$f":"1-EXP(-$C$80)","v":0.166565713609377},null,"Davies, 2015","Death/population"]
[null,"Death risk of HIV+infant from 1 year",{"$f":"261/1779","v":0.14671163575042159},{"$f":"1-EXP(-$C$81)","v":0.13645704356711907},null,"Davies, 2015","Death/population"]
[null,"Death risk of HIV+infant from 2-4 years",{"$f":"187/3293","v":5.678712420285454E-2},{"$f":"1-EXP(-$C$82)","v":5.5204828013800555E-2},null,"Davies, 2015","Death/population"]
[null,"Death risk of HIV+infant from 5-10 years",{"$f":"169/4376","v":3.8619744058500917E-2},{"$f":"1-EXP(-$C$83)","v":3.7883509891454836E-2},null,"Davies, 2015","Death/population"]
[null,"Death risk of HIV+infant from 11-15 years",1.2999999999999999E-2,{"$f":"1-EXP(-$C$84)","v":1.2915864979712421E-2},null,"Walker, 2012","2.8-9.1%"]
[null,null,null,null,null,"Walker, 2012","1.3-10.1%"]
[]
[]
[null,"PH life table",null,"Yearly transitional probability of dying"]
[1,"Natural Death Risk for Age <1",1.0148156417905119E-2,{"$f":"1-EXP(-$C$89)","v":1.0096837622326937E-2}]
[4,"Natural Death Risk for Age 1-4",1.0993952217723799E-3,{"$f":"1-EXP(-$C$90)","v":1.0987911082522839E-3}]
[5,"Natural Death Risk for Age 5-9",3.9992001066557759E-4,{"$f":"1-EXP(-$C$91)","v":3.9984005331727968E-4}]
[5,"Natural Death Risk for Age 10-14",3.9992001066557759E-4,{"$f":"1-EXP(-$C$92)","v":3.9984005331727968E-4}]
[5,"Natural Death Risk for Age 15-19",6.9975505715669239E-4,{"$f":"1-EXP(-$C$93)","v":6.9951028568338014E-4}]
[5,"Natural Death Risk for Age 20-24",1.1992802879136066E-3,{"$f":"1-EXP(-$C$94)","v":1.1985614387051147E-3}]
[5,"Natural Death Risk for Age 25-29",1.4988755622891148E-3,{"$f":"1-EXP(-$C$95)","v":1.4977528093391701E-3}]
[5,"Natural Death Risk for Age 30-34",1.998001332666921E-3,{"$f":"1-EXP(-$C$96)","v":1.9960066566805379E-3}]
[5,"Natural Death Risk for Age 35-39",2.5966229274302366E-3,{"$f":"1-EXP(-$C$97)","v":2.5932546181570704E-3}]
[5,"Natural Death Risk for Age 40-44",3.5935277690066769E-3,{"$f":"1-EXP(-$C$98)","v":3.5870787752854127E-3}]
[5,"Natural Death Risk  for Age 45-49",5.2859797799911235E-3,{"$f":"1-EXP(-$C$99)","v":5.2720335728175804E-3}]
[5,"Natural Death Risk for Age 50-54",7.7696589380108483E-3,{"$f":"1-EXP(-$C$100)","v":7.7395531590068734E-3}]
[5,"Natural Death Risk for Age 55-59",1.1829475026259972E-2,{"$f":"1-EXP(-$C$101)","v":1.1759781868410424E-2}]
[5,"Natural Death Risk for Age 60-64",1.9213031018207039E-2,{"$f":"1-EXP(-$C$102)","v":1.9029637133310962E-2}]
[5,"Natural Death Risk for Age 65-69",2.994256703961895E-2,{"$f":"1-EXP(-$C$103)","v":2.9498729291051795E-2}]
[5,"Natural Death Risk for Age >70",6.9282979397773392E-2,{"$f":"1-EXP(-$C$104)","v":6.69373947780183E-2}]
[]
[]
[]
[]
[null,"AgeGR\n(yr)","Individual mortality rate","Yearly Prob of Dying",null,null,null,null,null,"IMF"]
[null,null,null,"Both sexes",null,null,null,null,null,2011,2012,2013,2014,2015,2016,2017,2018,2019]
[null,"< 1",{"$f":"10.2/1000","v":1.0199999999999999E-2},{"$f":"1-EXP(-C111)","v":1.0148156417905119E-2},null,null,null,null,"US CPI %",3.1,2.1,1.5,1.6,0.1,1.3,2.1,2.4,2]
[null,"1-4",{"$f":"1.1/1000","v":1.1000000000000001E-3},{"$f":"1-EXP(-C112)","v":1.0993952217723812E-3},null,null,null,null,"PH CPI %",4.8,3,2.6,3.6,0.7,1.3,2.9,5.2,3.8]
[null,"5-9",{"$f":"0.4/1000","v":4.0000000000000002E-4},3.9992001066557759E-4,null,null,null,null,"US CPI inflation",{"$f":"J111/100+1","v":1.0309999999999999},{"$f":"K111/100+1","v":1.0209999999999999},1.0149999999999999,1.016,1.0009999999999999,1.0129999999999999,1.0209999999999999,1.024,1.02]
[null,"10-14",{"$f":"0.4/1000","v":4.0000000000000002E-4},3.9992001066557759E-4,null,null,null,null,"PH CPI inflation",{"$f":"J112/100+1","v":1.048},1.03,1.026,1.036,1.0069999999999999,1.0129999999999999,1.0289999999999999,1.052,1.038]
[null,"15-19",{"$f":"0.7/1000","v":6.9999999999999999E-4},6.9975505715669239E-4]
[null,"20-24",{"$f":"1.2/1000","v":1.1999999999999999E-3},1.1992802879136066E-3]
[null,"25-29",{"$f":"1.5/1000","v":1.5E-3},1.4988755622891148E-3,null,null,null,null,null,2003,{"$f":"J117+1","v":2004},2005,2006,2007,2008,2009,2010]
[null,"30-34",{"$f":"2/1000","v":2E-3},1.998001332666921E-3,null,null,null,null,"US CPI %",2.2999999999999998,2.7,3.4,3.2,2.9,3.8,-0.3,1.6]
[null,"35-39",{"$f":"2.6/1000","v":2.5999999999999999E-3},2.5966229274302366E-3,null,null,null,null,"PH CPI %",3.4,6,7.7,6.3,2.8,9.3000000000000007,3.2,4.0999999999999996]
[null,"40-44",{"$f":"3.6/1000","v":3.5999999999999999E-3},3.5935277690066769E-3,null,null,null,null,"US CPI inflation",{"$f":"J118/100+1","v":1.0229999999999999},{"$f":"K118/100+1","v":1.0269999999999999},1.034,1.032,1.0289999999999999,1.038,0.997,1.016,1]
[null,"45-49",{"$f":"5.3/1000","v":5.3E-3},5.2859797799911235E-3,null,null,null,null,"PH CPI inflation",{"$f":"J119/100+1","v":1.034},1.06,1.077,1.0629999999999999,1.028,1.093,1.032,1.0409999999999999,1]
[null,"50-54",{"$f":"7.8/1000","v":7.7999999999999996E-3},7.7696589380108483E-3]
[null,"55-59",{"$f":"11.9/1000","v":1.1900000000000001E-2},1.1829475026259972E-2,null,null,null,null,"Inflation rate from 2003 to 2019",null,null,{"$f":"PRODUCT(J120:Q120,J113:R113)","v":1.4238408831082017}]
[null,"60-64",{"$f":"19.4/1000","v":1.9399999999999997E-2},1.9213031018207039E-2]
[null,"65-69",{"$f":"30.4/1000","v":3.04E-2},2.994256703961895E-2]
[null,"70+",{"$f":"71.8/1000","v":7.1800000000000003E-2},6.9282979397773392E-2]
[]
[]
[]
[]
[]
[]
[]
[]
[null,"Computations (Sample)"]
[null,"Start to First year"]
[null,null,"Nevirapine 6 weeks",156.55000000000001,"First year and Second year"]
[null,null,"AZT+3TC+LPV/r 6 weeks to 1 yr",{"$f":"C172*46*7","v":7148.4},null,"AZT+3TC+LPV/r 1yr",{"$f":"C172*365","v":8103}]
[null,null,"Doctor's visit",{"$f":"C163*C162","v":4500},null,"Doctor's visit",{"$f":"$C$162*$C$164","v":2000}]
[null,null,"PCR (4weeks, 9 months)",{"$f":"2*C170","v":6000},null,"Viral load test",{"$f":"$C$167*4","v":10633.32}]
[null,null,"Viral load test",{"$f":"$C$167*4","v":10633.32},null,"CD4 count test",{"$f":"$C$166*4","v":3724.1339936507939}]
[null,null,"CD4 count test",{"$f":"$C$166*4","v":3724.1339936507939},null,"laboratory tests",{"$f":"$C$165*4","v":2000}]
[null,null,"Pnemonia",{"$f":"C168*1","v":15000},null,"TOTAL",{"$f":"SUM(G138:G142)","v":26460.453993650794}]
[null,null,"laboratory tests",{"$f":"$C$165*4","v":2000}]
[null,null,"TOTAL",{"$f":"SUM(D137:D144)","v":49162.403993650791}]
[null,null,null,null,"Third year to tenth year (annual cost)"]
[null,null,null,null,null,"ABC+3TC+EFV 1yr",{"$f":"C173*365","v":7197.8000000000011}]
[null,null,null,null,null,"Doctor's visit",{"$f":"$C$162*$C$164","v":2000}]
[null,null,null,null,null,"Viral load test",{"$f":"$C$167*4","v":10633.32}]
[null,null,null,null,null,"CD4 count test",{"$f":"$C$166*4","v":3724.1339936507939}]
[null,null,null,null,null,"laboratory tests",{"$f":"$C$165*4","v":2000}]
[null,null,null,null,null,"TOTAL",{"$f":"SUM(G147:G151)","v":25555.253993650796}]
[]
[]
[null,null,null,null,"Tenth year onwards (annual cost)"]
[null,null,null,null,null,"TDF 3TC EFV 1yr",{"$f":"C174*365","v":6858.3499999999995}]
[null,null,null,null,null,"Doctor's visit",{"$f":"$C$162*$C$164","v":2000}]
[null,null,null,null,null,"Viral load test",{"$f":"$C$167*4","v":10633.32}]
[null,null,null,null,null,"CD4 count test",{"$f":"$C$166*4","v":3724.1339936507939}]
[null,null,null,null,null,"laboratory tests",{"$f":"$C$165*4","v":2000}]
[null,null,null,null,null,"TOTAL",{"$f":"SUM(G156:G160)","v":25215.803993650792}]
[null,"Cost of doctor per visit",500,"assumption"]
[null,"Number of Visits on first year",9,"stakeholder consultation"]
[null,"Number of visits on succeeding years",4,"stakeholder consultation"]
[null,"laboratory tests per visit",500,"assumption"]
[null,"CD4 count test (weighted cost)",{"$f":"'Cost computations'!B19","v":931.03349841269846},"PPMP 2018"]
[null,"Viral load test",2658.33,"PPMP 2018"]
[null,"Pneumonia case rate moderate risk",15000,"PhilHealth Case Rate Annex 1 2013"]
[null,"Frequency of CD4 and Viral Load test per year",4]
[null,"PCR test (4th week, 9 months, 18 months)",3000,null,null,"assumption"]
[null,"Nevirapine prophylaxis for 6 weeks (buy once)",156.55000000000001,null,null,"AO 2018-0024","per bottle"]
[null,"Drug cost from 6 weeks to 3 years  (daily)",{"$f":"5.83+1.93+14.44","v":22.2},null,null,"AO 2018-0024","AZT+3TC+LPV/r"]
[null,"Drug cost from 3 years to 10 years (daily)",{"$f":"15.4+1.93+2.39","v":19.720000000000002},null,null,"AO 2018-0024","ABC+3TC+EFV"]
[null,"Drug cost from 10 years onwards (daily)",18.79,"Yearly transitional probability of dying",null,"PPMP 2018","TDF 3TC EFV"]

{"sheet":"Formula sheet","index":21,"n_rows":102,"n_cols":59,"rows_kept":102,"cut":false,"hidden":true,"merged":[[30,2,31,2],[30,3,31,3],[95,5,95,7],[95,8,95,9],[95,11,95,12]]}
[null,"Survival Computations",null,null,null,null,null,null,null,"Pediatric Lifetime Cost Adjustment"]
[null,null,"Death risk of HIV+infant from <1 years",{"$f":"260/1427","v":0.18220042046250876},{"$f":"1-EXP(-$D$2)","v":0.166565713609377},null,"Davies, 2015","Death/population",null,null,"Resource category",null,null,"annual adjusted",null,"Article price"]
[null,null,"Death risk of HIV+infant from 1 year",{"$f":"261/1779","v":0.14671163575042159},{"$f":"1-EXP(-$D$3)","v":0.13645704356711907},null,"Davies, 2015","Death/population",null,null,"non-tradable","M2",9.5299999999999994,{"$f":"(M3*'Lifetime HIV Markov'!$C$72)*($AG$9/$Y$9)","v":405.20017740458007},null,9.5299999999999994]
[null,null,"Death risk of HIV+infant from 2-4 years",{"$f":"187/3293","v":5.678712420285454E-2},{"$f":"1-EXP(-$D$4)","v":5.5204828013800555E-2},null,"Davies, 2015","Death/population",null,null,"non-tradable","M2",null,null,null,3.62,null,null,null,null,null,null,null,null,"IMF",null,null,null,null,null,null,null,null,null,null,null,null,null,null,null,null,null,null,null,null,null,null,null,null,null,null,null,"Computations (Sample)"]
[null,null,"Death risk of HIV+infant from 5-10 years",{"$f":"169/4376","v":3.8619744058500917E-2},{"$f":"1-EXP(-$D$5)","v":3.7883509891454836E-2},null,"Davies, 2015","Death/population",null,null,null,null,null,null,null,null,null,null,null,null,null,null,null,null,2011,2012,2013,2014,2015,2016,2017,2018,2019,null,null,null,null,null,null,null,null,null,null,null,null,null,null,null,null,null,null,null,null,"Start to First year"]
[null,null,"Death risk of HIV+infant from 11-15 years",1.2999999999999999E-2,{"$f":"1-EXP(-$D$6)","v":1.2915864979712421E-2},null,"Walker, 2012","2.8-9.1%",null,null,"tradable","M1",57.14,{"$f":"M6*($AG$8/$Y$8)*'Lifetime HIV Markov'!$C$71","v":2950.6020814742969},null,57.14,null,null,null,null,null,null,null,"US CPI %",3.1,2.1,1.5,1.6,0.1,1.3,2.1,2.4,2,null,null,null,null,null,null,null,null,null,null,null,null,null,null,null,null,null,null,null,null,null,"Nevirapine 6 weeks",156.55000000000001,"First year and Second year"]
[null,null,null,null,null,null,"Walker, 2012","1.3-10.1%",null,null,"tradable","M1",1,{"$f":"M7*($AG$8/$Y$8)*'Lifetime HIV Markov'!$C$71","v":51.638118331716782},null,1,null,null,null,null,null,null,null,"PH CPI %",4.8,3,2.6,3.6,0.7,1.3,2.9,5.2,3.8,null,null,null,null,null,null,null,null,null,null,null,null,null,null,null,null,null,null,null,null,null,"AZT+3TC+LPV/r 6 weeks to 1 yr",{"$f":"BC41*46*7","v":7148.4},null,"AZT+3TC+LPV/r 1yr",{"$f":"BC41*365","v":8103}]
[null,null,null,null,null,null,null,null,null,null,null,null,"annual cost",null,null,null,null,null,null,null,null,null,null,"US CPI inflation",{"$f":"Y6/100+1","v":1.0309999999999999},{"$f":"Z6/100+1","v":1.0209999999999999},1.0149999999999999,1.016,1.0009999999999999,1.0129999999999999,1.0209999999999999,1.024,1.02,null,null,null,null,null,null,null,null,null,null,null,null,null,null,null,null,null,null,null,null,null,"Doctor's visit",{"$f":"BC32*BC31","v":4500},null,"Doctor's visit",{"$f":"$BC$31*$BC$33","v":2000}]
[null,null,null,null,null,null,null,null,null,null,"tradable","M1",733.2,{"$f":"M9*($AG$8/$Y$8)*'Lifetime HIV Markov'!$C$71","v":37861.068360814745},null,61.1,null,null,null,null,null,null,null,"PH CPI inflation",{"$f":"Y7/100+1","v":1.048},1.03,1.026,1.036,1.0069999999999999,1.0129999999999999,1.0289999999999999,1.052,1.038,null,null,null,null,null,null,null,null,null,null,null,null,null,null,null,null,null,null,null,null,null,"PCR (4weeks, 9 months)",{"$f":"2*BC39","v":6000},null,"Viral load test",{"$f":"$BC$36*4","v":10633.32}]
[null,null,"PH life table",null,"Yearly transitional probability of dying",null,null,null,null,null,"tradable","M1",1035.5999999999999,{"$f":"M10*($AG$8/$Y$8)*'Lifetime HIV Markov'!$C$71","v":53476.435344325895},null,86.3,null,null,null,null,"Adjusted",null,null,"Thailand CPI inflation rate",null,null,null,null,null,null,null,1.0109999999999999,null,null,null,null,null,null,null,null,null,null,null,null,null,null,null,null,null,null,null,null,null,null,"Viral load test",{"$f":"$BC$36*4","v":10633.32},null,"CD4 count test",{"$f":"$BC$35*4","v":3724.1339936507939}]
[null,1,"Natural Death Risk for Age <1",1.0148156417905119E-2,{"$f":"1-EXP(-$D$11)","v":1.0096837622326937E-2},null,null,null,null,null,"tradable","M1",1779.6000000000001,{"$f":"M11*($AG$8/$Y$8)*'Lifetime HIV Markov'!$C$71","v":91895.195383123195},null,148.30000000000001,null,null,"Total M1",null,{"$f":"SUM(N6:N7,N9:N12)","v":202401.80137536372},null,null,null,null,null,null,null,null,null,null,null,null,null,null,null,null,null,null,null,null,null,null,null,null,null,null,null,null,null,null,null,null,null,"CD4 count test",{"$f":"$BC$35*4","v":3724.1339936507939},null,"laboratory tests",{"$f":"$BC$34*4","v":2000}]
[null,4,"Natural Death Risk for Age 1-4",1.0993952217723799E-3,{"$f":"1-EXP(-$D$12)","v":1.0987911082522839E-3},null,null,null,null,null,"tradable","M1",313.08,{"$f":"M12*($AG$8/$Y$8)*'Lifetime HIV Markov'!$C$71","v":16166.862087293888},null,26.09,null,null,"Total M2",null,{"$f":"SUM(N3,N13:N15)","v":37702.324586564879},null,null,null,2003,{"$f":"Y12+1","v":2004},2005,2006,2007,2008,2009,2010,null,null,null,null,null,null,null,null,null,null,null,null,null,null,null,null,null,null,null,null,null,null,"Pnemonia",{"$f":"BC37*1","v":15000},null,"TOTAL",{"$f":"SUM(BG7:BG11)","v":26460.453993650794}]
[null,5,"Natural Death Risk for Age 5-9",3.9992001066557759E-4,{"$f":"1-EXP(-$D$13)","v":3.9984005331727968E-4},null,null,null,null,null,"non-tradable","M2",298.79999999999995,{"$f":"(M13*'Lifetime HIV Markov'!$C$72)*($AG$9/$Y$9)","v":12704.492445801525},null,24.9,null,null,"total",null,{"$f":"SUM(U11,U12)","v":240104.1259619286},null,null,"US CPI %",2.2999999999999998,2.7,3.4,3.2,2.9,3.8,-0.3,1.6,null,null,null,null,null,null,null,null,null,null,null,null,null,null,null,null,null,null,null,null,null,null,"laboratory tests",{"$f":"$BC$34*4","v":2000}]
[null,5,"Natural Death Risk for Age 10-14",3.9992001066557759E-4,{"$f":"1-EXP(-$D$14)","v":3.9984005331727968E-4},null,null,null,null,null,"non-tradable","M2",516,{"$f":"(M14*'Lifetime HIV Markov'!$C$72)*($AG$9/$Y$9)","v":21939.484946564884},null,43,null,null,null,null,null,null,null,"PH CPI %",3.4,6,7.7,6.3,2.8,9.3000000000000007,3.2,4.0999999999999996,null,null,null,null,null,null,null,null,null,null,null,null,null,null,null,null,null,null,null,null,null,null,"TOTAL",{"$f":"SUM(BD6:BD13)","v":49162.403993650791}]
[null,5,"Natural Death Risk for Age 15-19",6.9975505715669239E-4,{"$f":"1-EXP(-$D$15)","v":6.9951028568338014E-4},null,null,null,null,null,"non-tradable","M2",62.400000000000006,{"$f":"(M15*'Lifetime HIV Markov'!$C$72)*($AG$9/$Y$9)","v":2653.1470167938933},null,5.2,null,null,null,null,null,null,null,"US CPI inflation",{"$f":"Y13/100+1","v":1.0229999999999999},{"$f":"Z13/100+1","v":1.0269999999999999},1.034,1.032,1.0289999999999999,1.038,0.997,1.016,1,null,null,null,null,null,null,null,null,null,null,null,null,null,null,null,null,null,null,null,null,null,null,null,"Third year to tenth year (annual cost)"]
[null,5,"Natural Death Risk for Age 20-24",1.1992802879136066E-3,{"$f":"1-EXP(-$D$16)","v":1.1985614387051147E-3},null,null,null,null,null,null,null,null,null,null,null,null,null,null,null,null,null,null,"PH CPI inflation",{"$f":"Y14/100+1","v":1.034},1.06,1.077,1.0629999999999999,1.028,1.093,1.032,1.0409999999999999,1,null,null,null,null,null,null,null,null,null,null,null,null,null,null,null,null,null,null,null,null,null,null,null,null,"ABC+3TC+EFV 1yr",{"$f":"BC42*365","v":7197.8000000000011}]
[null,5,"Natural Death Risk for Age 25-29",1.4988755622891148E-3,{"$f":"1-EXP(-$D$17)","v":1.4977528093391701E-3},null,null,null,null,null,null,null,null,null,null,null,null,null,null,null,null,null,null,null,null,null,null,null,null,null,null,null,null,null,null,null,null,null,null,null,null,null,null,null,null,null,null,null,null,null,null,null,null,null,null,null,null,"Doctor's visit",{"$f":"$BC$31*$BC$33","v":2000}]
[null,5,"Natural Death Risk for Age 30-34",1.998001332666921E-3,{"$f":"1-EXP(-$D$18)","v":1.9960066566805379E-3},null,null,null,null,null,null,null,null,null,null,null,null,"Adjusted",null,null,null,null,null,null,null,null,null,null,null,null,null,null,null,null,null,null,null,null,null,null,null,null,null,null,null,null,null,null,null,null,null,null,null,null,null,null,null,"Viral load test",{"$f":"$BC$36*4","v":10633.32}]
[null,5,"Natural Death Risk for Age 35-39",2.5966229274302366E-3,{"$f":"1-EXP(-$D$19)","v":2.5932546181570704E-3},null,null,null,null,null,null,null,null,null,null,"Total M1",{"$f":"SUM(M6:M7,M9:M12)","v":3919.62},{"$f":"Q19*(AG8/Y8)*'Lifetime HIV Markov'!C71","v":202401.80137536375},null,null,null,null,null,null,null,null,null,null,null,null,null,null,null,null,null,null,null,null,null,null,null,null,null,null,null,null,null,null,null,null,null,null,null,null,null,null,null,"CD4 count test",{"$f":"$BC$35*4","v":3724.1339936507939}]
[null,5,"Natural Death Risk for Age 40-44",3.5935277690066769E-3,{"$f":"1-EXP(-$D$20)","v":3.5870787752854127E-3},null,null,null,null,null,null,null,null,null,null,"Total M2",{"$f":"SUM(M13:M15,M3:M4)","v":886.7299999999999},{"$f":"Q20*'Lifetime HIV Markov'!C72*'Formula sheet'!AG9/'Formula sheet'!Y9","v":37702.324586564879},null,null,null,null,null,null,null,null,null,null,null,null,null,null,null,null,null,null,null,null,null,null,null,null,null,null,null,null,null,null,null,null,null,null,null,null,null,null,null,"laboratory tests",{"$f":"$BC$34*4","v":2000}]
[null,5,"Natural Death Risk  for Age 45-49",5.2859797799911235E-3,{"$f":"1-EXP(-$D$21)","v":5.2720335728175804E-3},null,null,null,null,null,null,null,null,null,null,"total",null,{"$f":"SUM(R19:R20)","v":240104.12596192863},null,null,null,null,null,null,null,null,null,null,null,null,null,null,null,null,null,null,null,null,null,null,null,null,null,null,null,null,null,null,null,null,null,null,null,null,null,null,null,"TOTAL",{"$f":"SUM(BG16:BG20)","v":25555.253993650796}]
[null,5,"Natural Death Risk for Age 50-54",7.7696589380108483E-3,{"$f":"1-EXP(-$D$22)","v":7.7395531590068734E-3}]
[null,5,"Natural Death Risk for Age 55-59",1.1829475026259972E-2,{"$f":"1-EXP(-$D$23)","v":1.1759781868410424E-2}]
[null,5,"Natural Death Risk for Age 60-64",1.9213031018207039E-2,{"$f":"1-EXP(-$D$24)","v":1.9029637133310962E-2},null,null,null,null,null,null,null,null,null,null,null,null,null,null,null,null,null,null,null,null,null,null,null,null,null,null,null,null,null,null,null,null,null,null,null,null,null,null,null,null,null,null,null,null,null,null,null,null,null,null,null,"Tenth year onwards (annual cost)"]
[null,5,"Natural Death Risk for Age 65-69",2.994256703961895E-2,{"$f":"1-EXP(-$D$25)","v":2.9498729291051795E-2},null,null,null,null,null,null,null,null,null,null,null,null,null,null,null,null,null,null,null,null,null,null,null,null,null,null,null,null,null,null,null,null,null,null,null,null,null,null,null,null,null,null,null,null,null,null,null,null,null,null,null,null,"TDF 3TC EFV 1yr",{"$f":"BC43*365","v":6858.3499999999995}]
[null,5,"Natural Death Risk for Age >70",6.9282979397773392E-2,{"$f":"1-EXP(-$D$26)","v":6.69373947780183E-2},null,null,null,null,null,null,null,null,null,null,null,null,null,null,null,null,null,null,null,null,null,null,null,null,null,null,null,null,null,null,null,null,null,null,null,null,null,null,null,null,null,null,null,null,null,null,null,null,null,null,null,null,"Doctor's visit",{"$f":"$BC$31*$BC$33","v":2000}]
[null,null,null,null,null,null,null,null,null,null,null,null,null,null,null,null,null,null,null,null,null,null,null,null,null,null,null,null,null,null,null,null,null,null,null,null,null,null,null,null,null,null,null,null,null,null,null,null,null,null,null,null,null,null,null,null,null,"Viral load test",{"$f":"$BC$36*4","v":10633.32}]
[null,null,null,null,null,null,null,null,null,null,null,null,null,null,null,null,null,null,null,null,null,null,null,null,null,null,null,null,null,null,null,null,null,null,null,null,null,null,null,null,null,null,null,null,null,null,null,null,null,null,null,null,null,null,null,null,null,"CD4 count test",{"$f":"$BC$35*4","v":3724.1339936507939}]
[null,null,null,null,null,null,null,null,null,null,null,null,null,null,null,null,null,null,null,null,null,null,null,null,null,null,null,null,null,null,null,null,null,null,null,null,null,null,null,null,null,null,null,null,null,null,null,null,null,null,null,null,null,null,null,null,null,"laboratory tests",{"$f":"$BC$34*4","v":2000}]
[null,null,null,null,null,null,null,null,null,null,null,null,null,null,null,null,null,null,null,null,null,null,null,null,null,null,null,null,null,null,null,null,null,null,null,null,null,null,null,null,null,null,null,null,null,null,null,null,null,null,null,null,null,null,null,null,null,"TOTAL",{"$f":"SUM(BG25:BG29)","v":25215.803993650792}]
[null,null,null,null,null,null,null,null,null,null,null,null,null,null,null,null,null,null,null,null,null,null,null,null,null,null,null,null,null,null,null,null,null,null,null,null,null,null,null,null,null,null,null,null,null,null,null,null,null,null,null,null,null,"Cost of doctor per visit",500,"assumption"]
[null,null,null,null,null,null,null,null,null,null,null,null,null,null,null,null,null,null,null,null,null,null,null,null,null,null,null,null,null,null,null,null,null,null,null,null,null,null,null,null,null,null,null,null,null,null,null,null,null,null,null,null,null,"Number of Visits on first year",9,"stakeholder consultation"]
[null,null,null,null,null,null,null,null,null,null,null,null,null,null,null,null,null,null,null,null,null,null,null,null,null,null,null,null,null,null,null,null,null,null,null,null,null,null,null,null,null,null,null,null,null,null,null,null,null,null,null,null,null,"Number of visits on succeeding years",4,"stakeholder consultation"]
[null,"Intervention effect",null,null,null,null,null,null,null,null,null,null,null,null,null,null,null,null,null,null,null,null,null,null,null,null,null,null,null,null,null,null,null,null,null,null,null,null,null,null,null,null,null,null,null,null,null,null,null,null,null,null,null,"laboratory tests per visit",500,"assumption"]
[null,null,null,null,null,null,null,null,null,null,null,null,null,null,null,null,null,null,null,null,null,null,null,null,null,null,null,null,null,null,null,null,null,null,null,null,null,null,null,null,null,null,null,null,null,null,null,null,null,null,null,null,null,"CD4 count test (weighted cost)",{"$f":"'Cost computations'!B19","v":931.03349841269846},"PPMP 2018"]
[null,"Odds","Probability","Rate","Time (year)",null,null,null,null,"Minimum",null,null,null,null,"Maximum",null,null,null,null,null,null,null,null,null,null,null,null,null,null,null,null,null,null,null,null,null,null,null,null,null,null,null,null,null,null,null,null,null,null,null,null,null,null,"Viral load test",2658.33,"PPMP 2018"]
["base",null,{"$f":"71/213","v":0.33333333333333331},{"$f":"71/213","v":0.33333333333333331},null,null,null,null,null,{"$f":"1-EXP(-K37*L37)","v":0.24118706923875866},0.184,1.5,null,null,{"$f":"1-EXP(-P37*Q37)","v":0.3858401237762622},0.32500000000000001,1.5,null,null,null,null,null,null,null,null,null,null,null,null,null,null,null,null,null,null,null,null,null,null,null,null,null,null,null,null,null,null,null,null,null,null,null,null,"Pneumonia case rate moderate risk",15000,"PhilHealth Case Rate Annex 1 2013"]
["pmore4",null,{"$f":"1-EXP(-D38)","v":4.2283234966103977E-3},{"$f":"2/472","v":4.2372881355932203E-3},1,null,{"$f":"3/247/(79/396)","v":6.0882488597345359E-2},"unknown source",null,null,null,null,null,null,null,null,null,null,null,null,null,null,null,null,null,null,null,null,null,null,null,null,null,null,null,null,null,null,null,null,null,null,null,null,null,null,null,null,null,null,null,null,null,"Frequency of CD4 and Viral Load test per year",4]
["pless4",null,{"$f":"1-EXP(-D39)","v":7.3183793440617761E-2},7.5999999999999998E-2,null,null,null,null,null,null,null,null,null,null,null,null,null,null,null,null,null,null,null,null,null,null,null,null,null,null,null,null,null,null,null,null,null,null,null,null,null,null,null,null,null,null,null,null,null,null,null,null,null,"PCR test (4th week, 9 months, 18 months)",3000,null,null,"assumption"]
["pless4r",null,{"$f":"1-EXP(-D40*E40)","v":3.8249290853633267E-2},3.9E-2,1,null,null,null,null,{"$f":"1-EXP(-K40*L40)","v":1.3902455737138109E-2},1.4E-2,1,null,null,{"$f":"1-EXP(-P40*Q40)","v":7.8728041303651297E-2},8.2000000000000003E-2,1,null,null,null,null,null,null,null,null,null,null,null,null,null,null,null,null,null,null,null,null,null,null,null,null,null,null,null,null,null,null,null,null,null,null,null,null,"Nevirapine prophylaxis for 6 weeks (buy once)",156.55000000000001,null,null,"AO 2018-0024","per bottle"]
["pnp",{"$f":"5/1527/(12/1700)","v":0.46387251691770354},{"$f":"1-EXP(-D41)","v":2.9554466451491845E-2},0.03,null,null,"0.43 (0.13 to 1.43) NMA Veroniki, 2018",null,null,{"$f":"1-EXP(-K41*L41)","v":1.2915864979712421E-2},1.2999999999999999E-2,1,null,null,{"$f":"1-EXP(-P41*Q41)","v":2.5664910391250628E-2},2.5999999999999999E-2,1,null,null,null,null,null,null,null,null,null,null,null,null,null,null,null,null,null,null,null,null,null,null,null,null,null,null,null,null,null,null,null,null,null,null,null,null,"Drug cost from 6 weeks to 3 years  (daily)",{"$f":"5.83+1.93+14.44","v":22.2},null,null,"AO 2018-0024","AZT+3TC+LPV/r"]
["pcs",0.27,{"$f":"B42/(1+B42)","v":0.2125984251968504},null,null,null,null,null,0.16,{"$f":"I42/(1+I42)","v":0.13793103448275865},null,null,null,0.45,{"$f":"N42/(1+N42)","v":0.31034482758620691},null,null,null,null,null,null,null,null,null,null,null,null,null,null,null,null,null,null,null,null,null,null,null,null,null,null,null,null,null,null,null,null,null,null,null,null,null,null,"Drug cost from 3 years to 10 years (daily)",{"$f":"15.4+1.93+2.39","v":19.720000000000002},null,null,"AO 2018-0024","ABC+3TC+EFV"]
["psf",null,{"$f":"1-EXP(-D43)","v":0.64725152096681082},1.042,0.5,null,null,"Coovodia, 2007",null,null,1.7999999999999999E-2,1,null,null,null,6.7000000000000004E-2,1,null,null,null,null,null,null,null,null,null,null,null,null,null,null,null,null,null,null,null,null,null,null,null,null,null,null,null,null,null,null,null,null,null,null,null,null,"Drug cost from 10 years onwards (daily)",18.79,"Yearly transitional probability of dying",null,"PPMP 2018","TDF 3TC EFV"]
["sens",null,null,{"$f":"175/1034+1","v":1.1692456479690523}]
["spec",null,{"$f":"1-EXP(-D45)","v":4.1130219427515491E-2},4.2000000000000003E-2]
["phivneg"]
[]
[null,null,0.98]
[null,null,0.99,null,null,null,7.13,"Kassa, 2018"]
[null,null,0.95]
[null,null,1]
[null,null,{"$f":"0.9","v":0.9}]
[null,null,0.7,null,null,null,null,null,null,null,null,null,null,null,null,null,"18.4 to 32.5 percent"]
[]
[]
[]
[]
[]
[]
[]
[]
[]
[]
[]
[]
[]
[null,null,null,null,null,null,null,null,{"$f":"'Lifetime HIV Markov'!$F$5","v":28.309677443975772}]
[null,null,null,null,null,null,null,null,{"$f":"'Lifetime HIV Markov'!$F$4","v":6.179983883985118}]
[]
[]
[null,null,null,null,null,"drate ",0,6]
[]
[]
[]
[null,null,{"$f":"1-EXP(-D75)","v":2.3390733680967446E-2},{"$f":"4/169","v":2.3668639053254437E-2},"cs"]
[null,null,{"$f":"1-EXP(-D76)","v":9.6786579286665453E-2},{"$f":"17/167","v":0.10179640718562874},"nd"]
[null,null,{"$f":"1-EXP(-D77)","v":6.7606180094051727E-2},7.0000000000000007E-2]
[null,null,{"$f":"1-EXP(-D78)","v":6.0255164962243479E-2},{"$f":"22/354","v":6.2146892655367235E-2}]
[]
[]
[null,0.64,{"$f":"B81/(1+B81)","v":0.39024390243902435},null,null,"a","b","c","d","e","f","g","h"]
[null,null,0.39024390243902435,{"$f":"-LN(1-C82)/1","v":0.49469624183610689},null,"ART>4","ART<4","ART+RAL","ND","CS","NP","SF","BF","Rate"]
[null,null,null,null,null,0,1,0,1,0,0,1,0,7.5999999999999998E-2,null,"Mayh, 2017"]
[null,null,null,null,null,0,0,1,0.52,0.48,1,1,0,{"$f":"6/155","v":3.870967741935484E-2},null,"Puthanakit, 2018"]
[null,null,null,null,null,0,0,0,0.75,0.25,0,1,0,{"$f":"40/183","v":0.21857923497267759},"AZT NP","Connor, 1994"]
[null,null,null,null,null,1,0,0,1,0,1,0,1,{"$f":"2/325","v":6.1538461538461538E-3},null,"Siemieniuk, 2017"]
[null,null,null,null,null,0,0,0,1,0,0,0,1,7.0000000000000007E-2,null,"Read, 2005"]
[null,null,null,null,null,1,0,0,1,0,1,0,1,2.4E-2,"infant","Fowler 2014"]
[null,null,null,null,null,{"$f":"56/188","v":0.2978723404255319},0,0,0,1,0,1,0,{"$f":"4/169","v":2.3668639053254437E-2},null,"European, 1999"]
[null,null,null,null,null,{"$f":"91/220","v":0.41363636363636364},0,0,1,0,0,1,0,{"$f":"17/167","v":0.10179640718562874}]
[null,null,null,null,null,1,0,0,0.8,0.2,0,1,0,{"$f":"22/354","v":6.2146892655367235E-2},"AZT","Lallemant, 2004"]
[null,null,null,null,null,0,0,0,{"$f":"174/198","v":0.87878787878787878},{"$f":"24/198","v":0.12121212121212122},0,1,0,0.189,null,"Shaffer 1999","PERINATAL HIV TRANSMISSION"]
[null,null,null,null,null,1,0,0,{"$f":"163/194","v":0.84020618556701032},{"$f":"31/194","v":0.15979381443298968},0,1,0,9.4E-2,"AZT","Shaffer 1999"]
[null,null,null,null,null,0,0,0,1,0,1,0,1,2.53E-2,"NVP+NVP","SVEN 2008"]
[]
[null,null,null,null,null,"Treatment",null,null,"Mode of delivery",null,"Prophylaxis","Artificial feeding"]
[]
[null,null,null,null,null,null,null,"none",null,"no","no","yes",null,0.21859999999999999,"transmission without breastfeeding"]
[null,null,null,null,null,null,null,"none",null,"no","no","no",null,7.0000000000000007E-2,"transmission through breastfeeding"]
[null,null,null,null,null,null,null,"none",null,"no","yes","no",null,2.53E-2,"transmission after breastfeeding and prophylaxis"]
[null,null,null,null,null,null,null,"yes",50,50,"yes","yes",null,3.8699999999999998E-2,"transmission after provision of RAL and neonatal prophylaxis and substitute feeding"]
[null,null,null,null,null,null,"yes",null,null,"no",null,"yes",null,7.5999999999999998E-2,"transmission through late therapy alone"]

{"sheet":"Life years borne without HIV","index":22,"n_rows":102,"n_cols":11,"rows_kept":102,"cut":false,"hidden":true,"merged":[]}
["years in model","Age","Total alive","Progress to death","Total death","Check","Total life years (undiscounted)","Total QALYs (undiscounted)","Discount factor","Total life years (discounted)","Total QALYs (discounted)"]
[0,0,{"$f":"1-D2","v":0.98985184358209488},{"$f":"1*'Formula sheet'!$D$11","v":1.0148156417905119E-2},{"$f":"0+D2","v":1.0148156417905119E-2},{"$f":"E2+C2","v":1},{"$f":"C2","v":0.98985184358209488},{"$f":"C2*'Lifetime HIV Markov'!$C$12","v":0.98985184358209488},{"$f":"(1+'Lifetime HIV Markov'!$C$86)^-A2","v":1},{"$f":"G2*$I2","v":0.98985184358209488},{"$f":"H2*$I2","v":0.98985184358209488}]
[{"$f":"A2+1","v":1},{"$f":"B2+1","v":1},{"$f":"C2-D3","v":0.98876360519499817},{"$f":"C2*'Formula sheet'!$D$12","v":1.0882383870967364E-3},{"$f":"E2+D3","v":1.1236394805001855E-2},{"$f":"E3+C3","v":1},{"$f":"C3","v":0.98876360519499817},{"$f":"C3*'Lifetime HIV Markov'!$C$12","v":0.98876360519499817},{"$f":"(1+'Lifetime HIV Markov'!$C$86)^-A3","v":0.970873786407767},{"$f":"G3*$I3","v":0.95996466523786228},{"$f":"H3*$I3","v":0.95996466523786228}]
[{"$f":"A3+1","v":2},{"$f":"B3+1","v":2},{"$f":"C3-D4","v":0.98767656321198438},{"$f":"C3*'Formula sheet'!$D$12","v":1.0870419830138129E-3},{"$f":"E3+D4","v":1.2323436788015668E-2},1,{"$f":"C4","v":0.98767656321198438},{"$f":"C4*'Lifetime HIV Markov'!$C$12","v":0.98767656321198438},{"$f":"(1+'Lifetime HIV Markov'!$C$86)^-A4","v":0.94259590913375435},{"$f":"G4*$I4","v":0.93097988803090237},{"$f":"H4*$I4","v":0.93097988803090237}]
[3,3,0.98659071631773254,{"$f":"C4*'Formula sheet'!$D$12","v":1.0858468942518216E-3},1.340928368226749E-2,1,0.98659071631773254,{"$f":"C5*'Lifetime HIV Markov'!$C$12","v":0.98659071631773254},{"$f":"(1+'Lifetime HIV Markov'!$C$86)^-A5","v":0.91514165935315961},0.90287026523343217,0.90287026523343217]
[4,4,0.98550606319836787,{"$f":"C5*'Formula sheet'!$D$12","v":1.0846531193647048E-3},1.4493936801632195E-2,1,0.98550606319836787,{"$f":"C6*'Lifetime HIV Markov'!$C$12","v":0.98550606319836787},{"$f":"(1+'Lifetime HIV Markov'!$C$86)^-A6","v":0.888487047915689},0.87560937279413031,0.87560937279413031]
[5,5,0.98511193960306254,{"$f":"C6*'Formula sheet'!$D$13","v":3.9412359530528263E-4},1.4888060396937478E-2,1,0.98511193960306254,{"$f":"C7*'Lifetime HIV Markov'!$C$12","v":0.98511193960306254},{"$f":"(1+'Lifetime HIV Markov'!$C$86)^-A7","v":0.86260878438416411},0.84976621270332386,0.84976621270332386]
[6,6,0.98471797362566971,{"$f":"C7*'Formula sheet'!$D$13","v":3.9396597739284458E-4},1.5282026374330323E-2,1,0.98471797362566971,{"$f":"C8*'Lifetime HIV Markov'!$C$12","v":0.98471797362566971},{"$f":"(1+'Lifetime HIV Markov'!$C$86)^-A8","v":0.83748425668365445},0.82468580018492843,0.82468580018492843]
[7,7,0.98432416520315469,{"$f":"C8*'Formula sheet'!$D$13","v":3.9380842251496377E-4},1.5675834796845287E-2,1,0.98432416520315469,{"$f":"C9*'Lifetime HIV Markov'!$C$12","v":0.98432416520315469},{"$f":"(1+'Lifetime HIV Markov'!$C$86)^-A9","v":0.81309151134335378},0.80034562313681812,0.80034562313681812]
[8,8,0.98393051427250822,{"$f":"C9*'Formula sheet'!$D$13","v":3.9365093064643139E-4},1.6069485727491718E-2,0.99999999999999989,0.98393051427250822,{"$f":"C10*'Lifetime HIV Markov'!$C$12","v":0.98393051427250822},{"$f":"(1+'Lifetime HIV Markov'!$C$86)^-A10","v":0.78940923431393573},0.77672383388997768,0.77672383388997768]
[9,9,0.98353702077074612,{"$f":"C10*'Formula sheet'!$D$13","v":3.9349350176204871E-4},1.6462979229253768E-2,0.99999999999999989,0.98353702077074612,{"$f":"C11*'Lifetime HIV Markov'!$C$12","v":0.98353702077074612},{"$f":"(1+'Lifetime HIV Markov'!$C$86)^-A11","v":0.76641673234362695},0.75379922959810119,0.75379922959810119]
[10,10,0.98314368463490953,{"$f":"C11*'Formula sheet'!$D$14","v":3.933361358366272E-4},1.6856315365090396E-2,0.99999999999999989,0.98314368463490953,{"$f":"C12*'Lifetime HIV Markov'!$C$12","v":0.98314368463490953},{"$f":"(1+'Lifetime HIV Markov'!$C$86)^-A12","v":0.74409391489672516},0.73155123320598114,0.73155123320598114]
[11,11,0.98275050580206458,{"$f":"C12*'Formula sheet'!$D$14","v":3.9317883284498828E-4},1.7249494197935384E-2,1,0.98275050580206458,{"$f":"C13*'Lifetime HIV Markov'!$C$12","v":0.98275050580206458},{"$f":"(1+'Lifetime HIV Markov'!$C$86)^-A13","v":0.72242127659876232},0.70995987497960689,0.70995987497960689]
[12,12,0.98235748420930258,{"$f":"C13*'Formula sheet'!$D$14","v":3.9302159276196345E-4},1.7642515790697349E-2,0.99999999999999989,0.98235748420930258,{"$f":"C14*'Lifetime HIV Markov'!$C$12","v":0.98235748420930258},{"$f":"(1+'Lifetime HIV Markov'!$C$86)^-A14","v":0.70137988019297326},0.68900577458139123,0.68900577458139123]
[13,13,0.98196461979374017,{"$f":"C14*'Formula sheet'!$D$14","v":3.9286441556239427E-4},1.8035380206259742E-2,0.99999999999999989,0.98196461979374017,{"$f":"C15*'Lifetime HIV Markov'!$C$12","v":0.98196461979374017},{"$f":"(1+'Lifetime HIV Markov'!$C$86)^-A15","v":0.68095133999317792},0.6686701236744389,0.6686701236744389]
[14,14,0.98157191249251907,{"$f":"C15*'Formula sheet'!$D$14","v":3.9270730122113241E-4},1.8428087507480876E-2,1,0.98157191249251907,{"$f":"C16*'Lifetime HIV Markov'!$C$12","v":0.98157191249251907},{"$f":"(1+'Lifetime HIV Markov'!$C$86)^-A16","v":0.66111780581861923},0.64893466904023989,0.64893466904023989]
[15,15,0.98088505258278946,{"$f":"C16*'Formula sheet'!$D$15","v":6.8685990972960659E-4},1.9114947417210482E-2,1,0.98088505258278946,{"$f":"C17*'Lifetime HIV Markov'!$C$12","v":0.98088505258278946},{"$f":"(1+'Lifetime HIV Markov'!$C$86)^-A17","v":0.64186194739671765},0.62959279002312107,0.62959279002312107]
[16,16,0.98019867330675525,{"$f":"C17*'Formula sheet'!$D$15","v":6.8637927603421511E-4},1.9801326693244695E-2,1,0.98019867330675525,{"$f":"C18*'Lifetime HIV Markov'!$C$12","v":0.98019867330675525},{"$f":"(1+'Lifetime HIV Markov'!$C$86)^-A18","v":0.62316693922011435},0.61082740707218752,0.61082740707218752]
[17,17,0.97951277432809059,{"$f":"C18*'Formula sheet'!$D$15","v":6.858989786646826E-4},2.0487225671909377E-2,1,0.97951277432809059,{"$f":"C19*'Lifetime HIV Markov'!$C$12","v":0.97951277432809059},{"$f":"(1+'Lifetime HIV Markov'!$C$86)^-A19","v":0.60501644584477121},0.59262133738353284,0.59262133738353284]
[18,18,0.97882735531070497,{"$f":"C19*'Formula sheet'!$D$15","v":6.8541901738566338E-4},2.1172644689295039E-2,1,0.97882735531070497,{"$f":"C20*'Lifetime HIV Markov'!$C$12","v":0.97882735531070497},{"$f":"(1+'Lifetime HIV Markov'!$C$86)^-A20","v":0.5873946076162827},0.57495791029681531,0.57495791029681531]
[19,19,0.97814241591874296,{"$f":"C20*'Formula sheet'!$D$15","v":6.8493939196197641E-4},2.1857584081257014E-2,1,0.97814241591874296,{"$f":"C21*'Lifetime HIV Markov'!$C$12","v":0.97814241591874296},{"$f":"(1+'Lifetime HIV Markov'!$C$86)^-A21","v":0.57028602681192497},0.55782095203051729,0.55782095203051729]
[20,20,0.97696934900055943,{"$f":"C21*'Formula sheet'!$D$16","v":1.1730669181835409E-3},2.3030650999440554E-2,1,0.97696934900055943,{"$f":"C22*'Lifetime HIV Markov'!$C$12","v":0.97696934900055943},{"$f":"(1+'Lifetime HIV Markov'!$C$86)^-A22","v":0.55367575418633497},0.54092424112481741,0.54092424112481741]
[21,21,0.97579768891840724,{"$f":"C22*'Formula sheet'!$D$16","v":1.1716600821521598E-3},2.4202311081592716E-2,1,0.97579768891840724,{"$f":"C23*'Lifetime HIV Markov'!$C$12","v":0.97579768891840724},{"$f":"(1+'Lifetime HIV Markov'!$C$86)^-A23","v":0.5375492759090631},0.52453934111182698,0.52453934111182698]
[22,22,0.97462743398509577,{"$f":"C23*'Formula sheet'!$D$16","v":1.1702549333114994E-3},2.5372566014904216E-2,1,0.97462743398509577,{"$f":"C24*'Lifetime HIV Markov'!$C$12","v":0.97462743398509577},{"$f":"(1+'Lifetime HIV Markov'!$C$86)^-A24","v":0.52189250088258554},0.50865074895125872,0.50865074895125872]
[23,23,0.97345858251545758,{"$f":"C24*'Formula sheet'!$D$16","v":1.1688514696381453E-3},2.6541417484542362E-2,1,0.97345858251545758,{"$f":"C25*'Lifetime HIV Markov'!$C$12","v":0.97345858251545758},{"$f":"(1+'Lifetime HIV Markov'!$C$86)^-A25","v":0.50669174842969467},0.49324343119864938,0.49324343119864938]
[24,24,0.97229113282634649,{"$f":"C25*'Formula sheet'!$D$16","v":1.1674496891111094E-3},2.7708867173653472E-2,1,0.97229113282634649,{"$f":"C26*'Lifetime HIV Markov'!$C$12","v":0.97229113282634649},{"$f":"(1+'Lifetime HIV Markov'!$C$86)^-A26","v":0.49193373633950943},0.4783028097810389,0.4783028097810389]
[25,25,0.97083378940792264,{"$f":"C26*'Formula sheet'!$D$17","v":1.4573434184238104E-3},2.9166210592077281E-2,0.99999999999999989,0.97083378940792264,{"$f":"C27*'Lifetime HIV Markov'!$C$12","v":0.97083378940792264},{"$f":"(1+'Lifetime HIV Markov'!$C$86)^-A27","v":0.47760556926165965},0.46367562464862511,0.46367562464862511]
[26,26,0.96937863036593452,{"$f":"C27*'Formula sheet'!$D$17","v":1.455159041988072E-3},3.0621369634065351E-2,0.99999999999999989,0.96937863036593452,{"$f":"C28*'Lifetime HIV Markov'!$C$12","v":0.96937863036593452},{"$f":"(1+'Lifetime HIV Markov'!$C$86)^-A28","v":0.46369472743850448},0.44949575979224282,0.44949575979224282]
[27,27,0.96792565242627371,{"$f":"C28*'Formula sheet'!$D$17","v":1.4529779396607921E-3},3.2074347573726146E-2,0.99999999999999989,0.96792565242627371,{"$f":"C29*'Lifetime HIV Markov'!$C$12","v":0.96792565242627371},{"$f":"(1+'Lifetime HIV Markov'!$C$86)^-A29","v":0.45018905576553836},0.43574953551702683,0.43574953551702683]
[28,28,0.96647485231973917,{"$f":"C29*'Formula sheet'!$D$17","v":1.4508001065344893E-3},3.3525147680260638E-2,0.99999999999999978,0.96647485231973917,{"$f":"C30*'Lifetime HIV Markov'!$C$12","v":0.96647485231973917},{"$f":"(1+'Lifetime HIV Markov'!$C$86)^-A30","v":0.4370767531704256},0.42242369047277817,0.42242369047277817]
[29,29,0.96502622678203009,{"$f":"C30*'Formula sheet'!$D$17","v":1.4486255377090381E-3},3.4973773217969677E-2,0.99999999999999978,0.96502622678203009,{"$f":"C31*'Lifetime HIV Markov'!$C$12","v":0.96502622678203009},{"$f":"(1+'Lifetime HIV Markov'!$C$86)^-A31","v":0.42434636230138412},0.40950536886038502,0.40950536886038502]
[30,30,0.9630981030948611,{"$f":"C31*'Formula sheet'!$D$18","v":1.9281236871690264E-3},3.6901896905138704E-2,0.99999999999999978,0.9630981030948611,{"$f":"C32*'Lifetime HIV Markov'!$C$12","v":0.9630981030948611},{"$f":"(1+'Lifetime HIV Markov'!$C$86)^-A32","v":0.41198675951590691},0.39678366658996866,0.39678366658996866]
[31,31,0.9611738318013886,{"$f":"C32*'Formula sheet'!$D$18","v":1.9242712934725162E-3},3.8826168198611219E-2,0.99999999999999978,0.9611738318013886,{"$f":"C33*'Lifetime HIV Markov'!$C$12","v":0.9611738318013886},{"$f":"(1+'Lifetime HIV Markov'!$C$86)^-A33","v":0.39998714516107459},0.38445717698576831,0.38445717698576831]
[32,32,0.95925340520452484,{"$f":"C33*'Formula sheet'!$D$18","v":1.9204265968637455E-3},4.0746594795474968E-2,0.99999999999999978,0.95925340520452484,{"$f":"C34*'Lifetime HIV Markov'!$C$12","v":0.95925340520452484},{"$f":"(1+'Lifetime HIV Markov'!$C$86)^-A34","v":0.38833703413696569},0.37251362236291014,0.37251362236291014]
[33,33,0.9573368156225609,{"$f":"C34*'Formula sheet'!$D$18","v":1.9165895819639226E-3},4.2663184377438892E-2,0.99999999999999978,0.9573368156225609,{"$f":"C35*'Lifetime HIV Markov'!$C$12","v":0.9573368156225609},{"$f":"(1+'Lifetime HIV Markov'!$C$86)^-A35","v":0.37702624673491814},0.36094110645533245,0.36094110645533245]
[34,34,0.95542405538913588,{"$f":"C35*'Formula sheet'!$D$18","v":1.9127602334249832E-3},4.4575944610863873E-2,0.99999999999999978,0.95542405538913588,{"$f":"C36*'Lifetime HIV Markov'!$C$12","v":0.95542405538913588},{"$f":"(1+'Lifetime HIV Markov'!$C$86)^-A36","v":0.36604489974263904},0.34972810256662185,0.34972810256662185]
[35,35,0.95294317938149409,{"$f":"C36*'Formula sheet'!$D$19","v":2.4808760076418064E-3},4.7056820618505676E-2,0.99999999999999978,0.95294317938149409,{"$f":"C37*'Lifetime HIV Markov'!$C$12","v":0.95294317938149409},{"$f":"(1+'Lifetime HIV Markov'!$C$86)^-A37","v":0.35538339780838735},0.33866018500692291,0.33866018500692291]
[36,36,0.95046874527337388,{"$f":"C37*'Formula sheet'!$D$19","v":2.4744341081202521E-3},4.953125472662593E-2,0.99999999999999978,0.95046874527337388,{"$f":"C38*'Lifetime HIV Markov'!$C$12","v":0.95046874527337388},{"$f":"(1+'Lifetime HIV Markov'!$C$86)^-A38","v":0.34503242505668674},0.32794253612225843,0.32794253612225843]
[37,37,0.94800073633759119,{"$f":"C38*'Formula sheet'!$D$19","v":2.4680089357826921E-3},5.1999263662408625E-2,0.99999999999999978,0.94800073633759119,{"$f":"C39*'Lifetime HIV Markov'!$C$12","v":0.94800073633759119},{"$f":"(1+'Lifetime HIV Markov'!$C$86)^-A39","v":0.33498293694823961},0.31756407088746003,0.31756407088746003]
[38,38,0.94553913589039629,{"$f":"C39*'Formula sheet'!$D$19","v":2.461600447194936E-3},5.446086410960356E-2,0.99999999999999989,0.94553913589039629,{"$f":"C40*'Lifetime HIV Markov'!$C$12","v":0.94553913589039629},{"$f":"(1+'Lifetime HIV Markov'!$C$86)^-A40","v":0.3252261523769317},0.30751405508744234,0.30751405508744234]
[39,39,0.9430839272913607,{"$f":"C40*'Formula sheet'!$D$19","v":2.4552085990355772E-3},5.6916072708639139E-2,0.99999999999999989,0.9430839272913607,{"$f":"C41*'Lifetime HIV Markov'!$C$12","v":0.9430839272913607},{"$f":"(1+'Lifetime HIV Markov'!$C$86)^-A41","v":0.31575354599702099},0.29778209421504387,0.29778209421504387]
[40,40,0.93969492901013529,{"$f":"C41*'Formula sheet'!$D$20","v":3.3889982812253783E-3},6.0305070989864519E-2,0.99999999999999978,0.93969492901013529,{"$f":"C42*'Lifetime HIV Markov'!$C$12","v":0.93969492901013529},{"$f":"(1+'Lifetime HIV Markov'!$C$86)^-A42","v":0.30655684077380685},0.28806990872851379,0.28806990872851379]
[41,41,0.93631810918834257,{"$f":"C42*'Formula sheet'!$D$20","v":3.3768198217926791E-3},6.3681890811657205E-2,0.99999999999999978,0.93631810918834257,{"$f":"C43*'Lifetime HIV Markov'!$C$12","v":0.93631810918834257},{"$f":"(1+'Lifetime HIV Markov'!$C$86)^-A43","v":0.29762800075126877},0.27867448690493457,0.27867448690493457]
[42,42,0.93295342406235049,{"$f":"C43*'Formula sheet'!$D$20","v":3.3646851259921348E-3},6.7046575937649344E-2,0.99999999999999978,0.93295342406235049,{"$f":"C44*'Lifetime HIV Markov'!$C$12","v":0.93295342406235049},{"$f":"(1+'Lifetime HIV Markov'!$C$86)^-A44","v":0.28895922403035801},0.26958549747352234,0.26958549747352234]
[43,43,0.92960083002579252,{"$f":"C44*'Formula sheet'!$D$20","v":3.3525940365579186E-3},7.0399169974207268E-2,0.99999999999999978,0.92960083002579252,{"$f":"C45*'Lifetime HIV Markov'!$C$12","v":0.92960083002579252},{"$f":"(1+'Lifetime HIV Markov'!$C$86)^-A45","v":0.28054293595180391},0.26079294611866966,0.26079294611866966]
[44,44,0.92626028362900314,{"$f":"C45*'Formula sheet'!$D$20","v":3.3405463967893412E-3},7.3739716370996605E-2,0.99999999999999978,0.92626028362900314,{"$f":"C46*'Lifetime HIV Markov'!$C$12","v":0.92626028362900314},{"$f":"(1+'Lifetime HIV Markov'!$C$86)^-A46","v":0.27237178247747956},0.25228716449012739,0.25228716449012739]
[45,45,0.92136409049873136,{"$f":"C46*'Formula sheet'!$D$21","v":4.8961931302717535E-3},7.8635909501268364E-2,0.99999999999999978,0.92136409049873136,{"$f":"C47*'Lifetime HIV Markov'!$C$12","v":0.92136409049873136},{"$f":"(1+'Lifetime HIV Markov'!$C$86)^-A47","v":0.26443862376454325},0.24364425207755461,0.24364425207755461]
[46,46,0.91649377854634517,{"$f":"C47*'Formula sheet'!$D$21","v":4.8703119523862059E-3},8.3506221453654564E-2,0.99999999999999978,0.91649377854634517,{"$f":"C48*'Lifetime HIV Markov'!$C$12","v":0.91649377854634517},{"$f":"(1+'Lifetime HIV Markov'!$C$86)^-A48","v":0.25673652792674101},0.23529743057044814,0.23529743057044814]
[47,47,0.9116492109644615,{"$f":"C48*'Formula sheet'!$D$21","v":4.844567581883643E-3},8.835078903553821E-2,0.99999999999999967,0.9116492109644615,{"$f":"C49*'Lifetime HIV Markov'!$C$12","v":0.9116492109644615},{"$f":"(1+'Lifetime HIV Markov'!$C$86)^-A49","v":0.24925876497741845},0.22723655641763968,0.22723655641763968]
[48,48,0.90683025166885844,{"$f":"C49*'Formula sheet'!$D$21","v":4.8189592956030059E-3},9.3169748331141222E-2,0.99999999999999967,0.90683025166885844,{"$f":"C50*'Lifetime HIV Markov'!$C$12","v":0.90683025166885844},{"$f":"(1+'Lifetime HIV Markov'!$C$86)^-A50","v":0.24199880094894996},0.21945183356809828,0.21945183356809828]
[49,49,0.9020367652946526,{"$f":"C50*'Formula sheet'!$D$21","v":4.7934863742058473E-3},9.7963234705347069E-2,0.99999999999999967,0.9020367652946526,{"$f":"C51*'Lifetime HIV Markov'!$C$12","v":0.9020367652946526},{"$f":"(1+'Lifetime HIV Markov'!$C$86)^-A51","v":0.2349502921834466},0.21193380156618966,0.21193380156618966]
[50,50,0.89502824727876662,{"$f":"C51*'Formula sheet'!$D$22","v":7.0085180158859913E-3},0.10497175272123306,0.99999999999999967,0.89502824727876662,{"$f":"C52*'Lifetime HIV Markov'!$C$12","v":0.89502824727876662},{"$f":"(1+'Lifetime HIV Markov'!$C$86)^-A52","v":0.22810707978975397},0.20416227981610127,0.20416227981610127]
[51,51,0.88807418305752495,{"$f":"C52*'Formula sheet'!$D$22","v":6.9540642212416529E-3},0.11192581694247472,0.99999999999999967,0.88807418305752495,{"$f":"C53*'Lifetime HIV Markov'!$C$12","v":0.88807418305752495},{"$f":"(1+'Lifetime HIV Markov'!$C$86)^-A53","v":0.22146318426189707},0.19667573644070235,0.19667573644070235]
[52,52,0.88117414954351536,{"$f":"C53*'Formula sheet'!$D$22","v":6.9000335140095813E-3},0.11882585045648431,0.99999999999999967,0.88117414954351536,{"$f":"C54*'Lifetime HIV Markov'!$C$12","v":0.88117414954351536},{"$f":"(1+'Lifetime HIV Markov'!$C$86)^-A54","v":0.215012800254269},0.18946372140502524,0.18946372140502524]
[53,53,0.87432772693657046,{"$f":"C54*'Formula sheet'!$D$22","v":6.846422606944882E-3},0.12567227306342918,0.99999999999999967,0.87432772693657046,{"$f":"C55*'Lifetime HIV Markov'!$C$12","v":0.87432772693657046},{"$f":"(1+'Lifetime HIV Markov'!$C$86)^-A55","v":0.20875029150899907},0.18251616787240962,0.18251616787240962]
[54,54,0.86753449869822707,{"$f":"C55*'Formula sheet'!$D$22","v":6.7932282383434328E-3},0.13246550130177262,0.99999999999999967,0.86753449869822707,{"$f":"C56*'Lifetime HIV Markov'!$C$12","v":0.86753449869822707},{"$f":"(1+'Lifetime HIV Markov'!$C$86)^-A56","v":0.20267018593106703},0.1758233781527847,0.1758233781527847]
[55,55,0.85727202101145739,{"$f":"C56*'Formula sheet'!$D$23","v":1.0262477686769642E-2},0.14272797898854225,0.99999999999999967,0.85727202101145739,{"$f":"C57*'Lifetime HIV Markov'!$C$12","v":0.85727202101145739},{"$f":"(1+'Lifetime HIV Markov'!$C$86)^-A57","v":0.19676717080686118},0.16868299018630453,0.16868299018630453]
[56,56,0.84713094304819092,{"$f":"C57*'Formula sheet'!$D$23","v":1.0141077963266449E-2},0.15286905695180869,0.99999999999999956,0.84713094304819092,{"$f":"C58*'Lifetime HIV Markov'!$C$12","v":0.84713094304819092},{"$f":"(1+'Lifetime HIV Markov'!$C$86)^-A58","v":0.19103608816200118},0.1618325815209134,0.1618325815209134]
[57,57,0.83710982871343032,{"$f":"C58*'Formula sheet'!$D$23","v":1.0021114334760634E-2},0.16289017128656932,0.99999999999999967,0.83710982871343032,{"$f":"C59*'Lifetime HIV Markov'!$C$12","v":0.83710982871343032},{"$f":"(1+'Lifetime HIV Markov'!$C$86)^-A59","v":0.18547193025437006},0.15526037576638502,0.15526037576638502]
[58,58,0.82720725890042801,{"$f":"C59*'Formula sheet'!$D$23","v":9.902569813002287E-3},0.1727927410995716,0.99999999999999956,0.82720725890042801,{"$f":"C60*'Lifetime HIV Markov'!$C$12","v":0.82720725890042801},{"$f":"(1+'Lifetime HIV Markov'!$C$86)^-A60","v":0.18006983519841754},0.14895507478513478,0.14895507478513478]
[59,59,0.81742183128972445,{"$f":"C60*'Formula sheet'!$D$23","v":9.7854276107035808E-3},0.18257816871027518,0.99999999999999967,0.81742183128972445,{"$f":"C61*'Lifetime HIV Markov'!$C$12","v":0.81742183128972445},{"$f":"(1+'Lifetime HIV Markov'!$C$86)^-A61","v":0.17482508271691022},0.1429058392698343,0.1429058392698343]
[60,60,0.80171668029019538,{"$f":"C61*'Formula sheet'!$D$24","v":1.5705150999529075E-2},0.19828331970980426,0.99999999999999967,0.80171668029019538,{"$f":"C62*'Lifetime HIV Markov'!$C$12","v":0.80171668029019538},{"$f":"(1+'Lifetime HIV Markov'!$C$86)^-A62","v":0.1697330900164177},0.1360778494633593,0.1360778494633593]
[61,61,0.7863132728439659,{"$f":"C62*'Formula sheet'!$D$24","v":1.5403407446229499E-2},0.21368672715603376,0.99999999999999967,0.7863132728439659,{"$f":"C63*'Lifetime HIV Markov'!$C$12","v":0.7863132728439659},{"$f":"(1+'Lifetime HIV Markov'!$C$86)^-A63","v":0.16478940778292983},0.12957609856381447,0.12957609856381447]
[62,62,0.77120581154278689,{"$f":"C63*'Formula sheet'!$D$24","v":1.5107461301179011E-2},0.22879418845721278,0.99999999999999967,0.77120581154278689,{"$f":"C64*'Lifetime HIV Markov'!$C$12","v":0.77120581154278689},{"$f":"(1+'Lifetime HIV Markov'!$C$86)^-A64","v":0.15998971629410663},0.12338499899309674,0.12338499899309674]
[63,63,0.7563886103641938,{"$f":"C64*'Formula sheet'!$D$24","v":1.4817201178593096E-2},0.24361138963580586,0.99999999999999967,0.7563886103641938,{"$f":"C65*'Lifetime HIV Markov'!$C$12","v":0.7563886103641938},{"$f":"(1+'Lifetime HIV Markov'!$C$86)^-A65","v":0.15532982164476369},0.11748970794200088,0.11748970794200088]
[64,64,0.74185609253144802,{"$f":"C65*'Formula sheet'!$D$24","v":1.4532517832745773E-2},0.25814390746855165,0.99999999999999967,0.74185609253144802,{"$f":"C66*'Lifetime HIV Markov'!$C$12","v":0.74185609253144802},{"$f":"(1+'Lifetime HIV Markov'!$C$86)^-A66","v":0.15080565208229488},0.1118760917854283,0.1118760917854283]
[65,65,0.71964301674707543,{"$f":"C66*'Formula sheet'!$D$25","v":2.2213075784372642E-2},0.2803569832529243,{"$f":"E67+C67","v":0.99999999999999978},0.71964301674707543,{"$f":"C67*'Lifetime HIV Markov'!$C$12","v":0.71964301674707543},{"$f":"(1+'Lifetime HIV Markov'!$C$86)^-A67","v":0.14641325444882999},0.10536527612331317,0.10536527612331317]
[{"$f":"A67+1","v":66},{"$f":"B67+1","v":66},{"$f":"C67-D68","v":0.69809505747353251},{"$f":"C67*'Formula sheet'!$D$25","v":2.154795927354293E-2},{"$f":"E67+D68","v":0.30190494252646721},0.99999999999999978,{"$f":"C68","v":0.69809505747353251},{"$f":"C68*'Lifetime HIV Markov'!$C$12","v":0.69809505747353251},{"$f":"(1+'Lifetime HIV Markov'!$C$86)^-A68","v":0.14214879072701941},{"$f":"G68*$I68","v":9.9233368232371763E-2},{"$f":"H68*$I68","v":9.9233368232371763E-2}]
[67,67,0.67719229941510461,{"$f":"C68*'Formula sheet'!$D$25","v":2.0902758058427891E-2},0.32280770058489511,0.99999999999999978,0.67719229941510461,{"$f":"C69*'Lifetime HIV Markov'!$C$12","v":0.67719229941510461},{"$f":"(1+'Lifetime HIV Markov'!$C$86)^-A69","v":0.1380085346864266},9.3458316943210454E-2,9.3458316943210454E-2]
[68,68,0.65691542359115418,{"$f":"C69*'Formula sheet'!$D$25","v":2.0276875823950477E-2},0.3430845764088456,0.99999999999999978,0.65691542359115418,{"$f":"C70*'Lifetime HIV Markov'!$C$12","v":0.65691542359115418},{"$f":"(1+'Lifetime HIV Markov'!$C$86)^-A70","v":0.13398886862759865},8.8019354390998478E-2,8.8019354390998478E-2]
[69,69,0.63724568948091642,{"$f":"C70*'Formula sheet'!$D$25","v":1.9669734110237813E-2},0.36275431051908341,0.99999999999999978,0.63724568948091642,{"$f":"C71*'Lifetime HIV Markov'!$C$12","v":0.63724568948091642},{"$f":"(1+'Lifetime HIV Markov'!$C$86)^-A71","v":0.13008628022096957},8.289692133141946E-2,8.289692133141946E-2]
[70,70,0.59309540950529016,{"$f":"C71*'Formula sheet'!$D$26","v":4.4150279975626233E-2},0.40690459049470962,0.99999999999999978,0.59309540950529016,{"$f":"C72*'Lifetime HIV Markov'!$C$12","v":0.59309540950529016},{"$f":"(1+'Lifetime HIV Markov'!$C$86)^-A72","v":0.12629735943783454},7.4906384115219299E-2,7.4906384115219299E-2]
[71,71,0.55200399246762122,{"$f":"C72*'Formula sheet'!$D$26","v":4.1091417037668991E-2},0.44799600753237862,0.99999999999999978,0.55200399246762122,{"$f":"C73*'Lifetime HIV Markov'!$C$12","v":0.55200399246762122},{"$f":"(1+'Lifetime HIV Markov'!$C$86)^-A73","v":0.12261879557071313},6.7686064706604723E-2,6.7686064706604723E-2]
[72,72,0.51375951122999841,{"$f":"C73*'Formula sheet'!$D$26","v":3.8244481237622863E-2},0.48624048877000148,0.99999999999999989,0.51375951122999841,{"$f":"C74*'Lifetime HIV Markov'!$C$12","v":0.51375951122999841},{"$f":"(1+'Lifetime HIV Markov'!$C$86)^-A74","v":0.1190473743404982},6.1161720854389007E-2,6.1161720854389007E-2]
[73,73,0.4781647215980403,{"$f":"C74*'Formula sheet'!$D$26","v":3.5594789631958106E-2},0.52183527840195953,0.99999999999999978,0.4781647215980403,{"$f":"C75*'Lifetime HIV Markov'!$C$12","v":0.4781647215980403},{"$f":"(1+'Lifetime HIV Markov'!$C$86)^-A75","v":0.11557997508786232},5.5266266610196117E-2,5.5266266610196117E-2]
[74,74,0.44503604504282124,{"$f":"C75*'Formula sheet'!$D$26","v":3.3128676555219075E-2},0.55496395495717865,0.99999999999999989,0.44503604504282124,{"$f":"C76*'Lifetime HIV Markov'!$C$12","v":0.44503604504282124},{"$f":"(1+'Lifetime HIV Markov'!$C$86)^-A76","v":0.11221356804646829},4.9939082523543746E-2,4.9939082523543746E-2]
[75,75,0.4142026219028529,{"$f":"C76*'Formula sheet'!$D$26","v":3.0833423139968334E-2},0.58579737809714694,0.99999999999999978,0.4142026219028529,{"$f":"C77*'Lifetime HIV Markov'!$C$12","v":0.4142026219028529},{"$f":"(1+'Lifetime HIV Markov'!$C$86)^-A77","v":0.10894521169560026},4.5125392328078981E-2,4.5125392328078981E-2]
[76,76,0.38550543018305383,{"$f":"C77*'Formula sheet'!$D$26","v":2.8697191719799078E-2},0.61449456981694606,0.99999999999999989,0.38550543018305383,{"$f":"C78*'Lifetime HIV Markov'!$C$12","v":0.38550543018305383},{"$f":"(1+'Lifetime HIV Markov'!$C$86)^-A78","v":0.10577205018990318},4.0775699709802188E-2,4.0775699709802188E-2]
[77,77,0.35879646540595156,{"$f":"C78*'Formula sheet'!$D$26","v":2.6708964777102287E-2},0.64120353459404833,0.99999999999999989,0.35879646540595156,{"$f":"C79*'Lifetime HIV Markov'!$C$12","v":0.35879646540595156},{"$f":"(1+'Lifetime HIV Markov'!$C$86)^-A79","v":0.10269131086398368},3.6845279365901137E-2,3.6845279365901137E-2]
[78,78,0.33393797728523711,{"$f":"C79*'Formula sheet'!$D$26","v":2.4858488120714454E-2},0.66606202271476278,0.99999999999999989,0.33393797728523711,{"$f":"C80*'Lifetime HIV Markov'!$C$12","v":0.33393797728523711},{"$f":"(1+'Lifetime HIV Markov'!$C$86)^-A80","v":9.9700301809692873E-2},3.3293717121056506E-2,3.3293717121056506E-2]
[79,79,0.31080175928484993,{"$f":"C80*'Formula sheet'!$D$26","v":2.3136218000387201E-2},0.68919824071515001,1,0.31080175928484993,{"$f":"C81*'Lifetime HIV Markov'!$C$12","v":0.31080175928484993},{"$f":"(1+'Lifetime HIV Markov'!$C$86)^-A81","v":9.679640952397367E-2},3.008449437250782E-2,3.008449437250782E-2]
[80,80,0.28926848739952593,{"$f":"C81*'Formula sheet'!$D$26","v":2.1533271885323984E-2},0.71073151260047396,0.99999999999999989,0.28926848739952593,{"$f":"C82*'Lifetime HIV Markov'!$C$12","v":0.28926848739952593},{"$f":"(1+'Lifetime HIV Markov'!$C$86)^-A82","v":9.3977096625217166E-2},2.7184612590975661E-2,2.7184612590975661E-2]
[81,81,0.2692271047465995,{"$f":"C82*'Formula sheet'!$D$26","v":2.0041382652926428E-2},0.73077289525340039,0.99999999999999989,0.2692271047465995,{"$f":"C83*'Lifetime HIV Markov'!$C$12","v":0.2692271047465995},{"$f":"(1+'Lifetime HIV Markov'!$C$86)^-A83","v":9.1239899636133173E-2},2.456425401640645E-2,2.456425401640645E-2]
[82,82,0.25057424879511869,{"$f":"C83*'Formula sheet'!$D$26","v":1.8652855951480831E-2},0.7494257512048812,0.99999999999999989,0.25057424879511869,{"$f":"C84*'Lifetime HIV Markov'!$C$12","v":0.25057424879511869},{"$f":"(1+'Lifetime HIV Markov'!$C$86)^-A84","v":8.8582426831197242E-2},2.2196475059675817E-2,2.2196475059675817E-2]
[83,83,0.23321371827823395,{"$f":"C84*'Formula sheet'!$D$26","v":1.7360530516884753E-2},0.76678628172176599,1,0.23321371827823395,{"$f":"C85*'Lifetime HIV Markov'!$C$12","v":0.23321371827823395},{"$f":"(1+'Lifetime HIV Markov'!$C$86)^-A85","v":8.6002356146793454E-2},2.005692925768263E-2,2.005692925768263E-2]
[84,84,0.21705597703948493,{"$f":"C85*'Formula sheet'!$D$26","v":1.615774123874901E-2},0.78294402296051502,1,0.21705597703948493,{"$f":"C86*'Lifetime HIV Markov'!$C$12","v":0.21705597703948493},{"$f":"(1+'Lifetime HIV Markov'!$C$86)^-A86","v":8.3497433152226644E-2},1.8123616933145632E-2,1.8123616933145632E-2]
[85,85,0.20201769225409472,{"$f":"C86*'Formula sheet'!$D$26","v":1.5038284785390208E-2},0.79798230774590517,0.99999999999999989,0.20201769225409472,{"$f":"C87*'Lifetime HIV Markov'!$C$12","v":0.20201769225409472},{"$f":"(1+'Lifetime HIV Markov'!$C$86)^-A87","v":8.1065469079831712E-2},1.6376658985003272E-2,1.6376658985003272E-2]
[86,86,0.18802130464366854,{"$f":"C87*'Formula sheet'!$D$26","v":1.399638761042617E-2},0.81197869535633138,0.99999999999999989,0.18802130464366854,{"$f":"C88*'Lifetime HIV Markov'!$C$12","v":0.18802130464366854},{"$f":"(1+'Lifetime HIV Markov'!$C$86)^-A88","v":7.8704338912457969E-2},1.4798092483437796E-2,1.4798092483437796E-2]
[87,87,0.17499462846769878,{"$f":"C88*'Formula sheet'!$D$26","v":1.3026676175969762E-2},0.82500537153230113,0.99999999999999989,0.17499462846769878,{"$f":"C89*'Lifetime HIV Markov'!$C$12","v":0.17499462846769878},{"$f":"(1+'Lifetime HIV Markov'!$C$86)^-A89","v":7.6411979526658208E-2},1.3371685967748959E-2,1.3371685967748959E-2]
[88,88,0.1628704792288502,{"$f":"C89*'Formula sheet'!$D$26","v":1.2124149238848584E-2},0.83712952077114977,1,0.1628704792288502,{"$f":"C90*'Lifetime HIV Markov'!$C$12","v":0.1628704792288502},{"$f":"(1+'Lifetime HIV Markov'!$C$86)^-A90","v":7.4186387889959446E-2},1.2082772547895065E-2,1.2082772547895065E-2]
[89,89,0.15158632717193229,{"$f":"C90*'Formula sheet'!$D$26","v":1.1284152056917908E-2},0.84841367282806768,1,0.15158632717193229,{"$f":"C91*'Lifetime HIV Markov'!$C$12","v":0.15158632717193229},{"$f":"(1+'Lifetime HIV Markov'!$C$86)^-A91","v":7.2025619310640235E-2},1.0918099093583756E-2,1.0918099093583756E-2]
[90,90,0.14108397478949516,{"$f":"C91*'Formula sheet'!$D$26","v":1.0502352382437121E-2},0.85891602521050481,1,0.14108397478949516,{"$f":"C92*'Lifetime HIV Markov'!$C$12","v":0.14108397478949516},{"$f":"(1+'Lifetime HIV Markov'!$C$86)^-A92","v":6.9927785738485654E-2},9.8656899602137301E-3,9.8656899602137301E-3]
[91,91,0.1313092566707986,{"$f":"C92*'Formula sheet'!$D$26","v":9.7747181186965734E-3},0.86869074332920138,1,0.1313092566707986,{"$f":"C93*'Lifetime HIV Markov'!$C$12","v":0.1313092566707986},{"$f":"(1+'Lifetime HIV Markov'!$C$86)^-A93","v":6.7891054115034627E-2},8.9147238504421588E-3,8.9147238504421588E-3]
[92,92,0.12221176014613871,{"$f":"C93*'Formula sheet'!$D$26","v":9.0974965246598781E-3},0.87778823985386123,1,0.12221176014613871,{"$f":"C94*'Lifetime HIV Markov'!$C$12","v":0.12221176014613871},{"$f":"(1+'Lifetime HIV Markov'!$C$86)^-A94","v":6.5913644771878277E-2},8.0554225452185782E-3,8.0554225452185782E-3]
[93,93,0.11374456528576816,{"$f":"C94*'Formula sheet'!$D$26","v":8.4671948603705516E-3},0.88625543471423174,0.99999999999999989,0.11374456528576816,{"$f":"C95*'Lifetime HIV Markov'!$C$12","v":0.11374456528576816},{"$f":"(1+'Lifetime HIV Markov'!$C$86)^-A95","v":6.3993829875609989E-2},7.2789503601726618E-3,7.2789503601726618E-3]
[94,94,0.1058640029124656,{"$f":"C95*'Formula sheet'!$D$26","v":7.8805623733025666E-3},0.89413599708753433,0.99999999999999989,0.1058640029124656,{"$f":"C96*'Lifetime HIV Markov'!$C$12","v":0.1058640029124656},{"$f":"(1+'Lifetime HIV Markov'!$C$86)^-A96","v":6.212993191806794E-2},6.5773232935256339E-3,6.5773232935256339E-3]
[95,95,9.8529429379715427E-2,{"$f":"C96*'Formula sheet'!$D$26","v":7.3345735327501769E-3},0.90147057062028446,0.99999999999999989,9.8529429379715427E-2,{"$f":"C97*'Lifetime HIV Markov'!$C$12","v":9.8529429379715427E-2},{"$f":"(1+'Lifetime HIV Markov'!$C$86)^-A97","v":6.0320322250551395E-2},5.9433269313473808E-3,5.9433269313473808E-3]
[96,96,9.1703016953926242E-2,{"$f":"C97*'Formula sheet'!$D$26","v":6.8264124257891926E-3},0.90829698304607365,0.99999999999999989,9.1703016953926242E-2,{"$f":"C98*'Lifetime HIV Markov'!$C$12","v":9.1703016953926242E-2},{"$f":"(1+'Lifetime HIV Markov'!$C$86)^-A98","v":5.8563419660729518E-2},5.3704422660277766E-3,5.3704422660277766E-3]
[97,97,8.534955871959371E-2,{"$f":"C98*'Formula sheet'!$D$26","v":6.3534582343325362E-3},0.91465044128040618,0.99999999999999989,8.534955871959371E-2,{"$f":"C99*'Lifetime HIV Markov'!$C$12","v":8.534955871959371E-2},{"$f":"(1+'Lifetime HIV Markov'!$C$86)^-A99","v":5.6857688990999529E-2},4.8527786651977114E-3,4.8527786651977114E-3]
[98,98,7.943628700121505E-2,{"$f":"C99*'Formula sheet'!$D$26","v":5.9132717183786616E-3},0.92056371299878481,0.99999999999999989,7.943628700121505E-2,{"$f":"C100*'Lifetime HIV Markov'!$C$12","v":7.943628700121505E-2},{"$f":"(1+'Lifetime HIV Markov'!$C$86)^-A100","v":5.5201639797086935E-2},4.3850133018590925E-3,4.3850133018590925E-3]
[{"$f":"A100+1","v":99},99,7.393270436547425E-2,{"$f":"C100*'Formula sheet'!$D$26","v":5.5035826357407967E-3},0.92606729563452561,0.99999999999999989,7.393270436547425E-2,{"$f":"C101*'Lifetime HIV Markov'!$C$12","v":7.393270436547425E-2},{"$f":"(1+'Lifetime HIV Markov'!$C$86)^-A101","v":5.3593825045715457E-2},3.9623364229198306E-3,3.9623364229198306E-3]
[null,null,null,null,null,"TOTAL",{"$f":"SUM(G3:G101)","v":70.5579710874147},{"$f":"SUM(H3:H101)","v":70.5579710874147},null,{"$f":"SUM(J3:J101)","v":28.309677443975772},{"$f":"SUM(K3:K101)","v":28.309677443975772}]

{"sheet":"Sample Cost borne with HIV","index":23,"n_rows":18,"n_cols":7,"rows_kept":18,"cut":false,"hidden":true,"merged":[]}
["years in model","drug cost","Cost alive","Cost death","Total cost undiscounted","discount factor","Total cost discounted"]
[0,null,{"$f":"'Formula sheet'!BD14*'Life years with HIV'!G2","v":40973.633089695861},null,{"$f":"C2","v":40973.633089695861},{"$f":"(1+'Lifetime HIV Markov'!$C$86)^(-'Sample Cost borne with HIV'!A2)","v":1},{"$f":"E2*F2","v":40973.633089695861}]
[{"$f":"A2+1","v":1},null,{"$f":"'Formula sheet'!BG12*'Life years with HIV'!G3","v":19043.755642838227},null,{"$f":"C3","v":19043.755642838227},{"$f":"(1+'Lifetime HIV Markov'!$C$86)^(-'Sample Cost borne with HIV'!A3)","v":0.970873786407767},{"$f":"E3*F3","v":18489.083148386628}]
[{"$f":"A3+1","v":2},null,{"$f":"'Formula sheet'!BG12*'Life years with HIV'!G4","v":17992.4483878385},null,17992.4483878385,{"$f":"(1+'Lifetime HIV Markov'!$C$86)^(-'Sample Cost borne with HIV'!A4)","v":0.94259590913375435},16959.608245676784]
[3,null,{"$f":"'Formula sheet'!$BG$21*'Life years with HIV'!G5","v":16417.644270519635},null,16417.644270519635,{"$f":"(1+'Lifetime HIV Markov'!$C$86)^(-'Sample Cost borne with HIV'!A5)","v":0.91514165935315961},15024.470220393232]
[4,null,{"$f":"'Formula sheet'!$BG$21*'Life years with HIV'!G6","v":15511.31104217384},null,15511.31104217384,{"$f":"(1+'Lifetime HIV Markov'!$C$86)^(-'Sample Cost borne with HIV'!A6)","v":0.888487047915689},13781.598957163065]
[5,null,{"$f":"'Formula sheet'!$BG$21*'Life years with HIV'!G7","v":14923.688136878214},null,14923.688136878214,{"$f":"(1+'Lifetime HIV Markov'!$C$86)^(-'Sample Cost borne with HIV'!A7)","v":0.86260878438416411},12873.304482280888]
[6,null,{"$f":"'Formula sheet'!$BG$21*'Life years with HIV'!G8","v":14358.326449727803},null,14358.326449727803,{"$f":"(1+'Lifetime HIV Markov'!$C$86)^(-'Sample Cost borne with HIV'!A8)","v":0.83748425668365445},12024.872353971545]
[7,null,{"$f":"'Formula sheet'!$BG$21*'Life years with HIV'!G9","v":13814.382647644803},null,13814.382647644803,{"$f":"(1+'Lifetime HIV Markov'!$C$86)^(-'Sample Cost borne with HIV'!A9)","v":0.81309151134335378},11232.357265248915]
[8,null,{"$f":"'Formula sheet'!$BG$21*'Life years with HIV'!G10","v":13291.04534596841},null,13291.04534596841,{"$f":"(1+'Lifetime HIV Markov'!$C$86)^(-'Sample Cost borne with HIV'!A10)","v":0.78940923431393573},10492.073929792721]
[9,null,{"$f":"'Formula sheet'!$BG$21*'Life years with HIV'!G11","v":12787.53389813664},null,12787.53389813664,{"$f":"(1+'Lifetime HIV Markov'!$C$86)^(-'Sample Cost borne with HIV'!A11)","v":0.76641673234362695},9800.5799449432452]
[10,null,{"$f":"'Formula sheet'!$BG$21*'Life years with HIV'!G12","v":12303.097231219266},null,12303.097231219266,{"$f":"(1+'Lifetime HIV Markov'!$C$86)^(-'Sample Cost borne with HIV'!A12)","v":0.74409391489672516},9154.659784133004]
[11]
[12]
[13]
[14]
[15]
[null,null,null,"TOTAL",{"$f":"SUM(E2:E17)","v":191416.86614264123},null,{"$f":"SUM(G2:G17)","v":170806.24142168587}]

{"sheet":"Model Template","index":24,"n_rows":254,"n_cols":34,"rows_kept":254,"cut":false,"hidden":true,"merged":[]}
[]
["Plant-A-Tree"]
["Supported by iDSI",null,null,null,null,null,null,null,null,null,null,null,null,null,null,null,null,null,null,null,null,null,null,null,null,null,null,null,null,null,null,{"$f":"base*pmore4","v":3.8074324324324331E-2},"HIV+ infant"]
[]
[null,null,null,null,null,null,null,null,null,null,null,null,null,null,null,null,null,null,null,null,null,null,null,null,null,null,null,null,null,null,null,"Cost1",{"$f":"HIVtestcost+outhivcost+lifecost+ndcost","v":548813.90488446841},0]
[null,null,null,null,null,null,null,null,null,null,null,null,null,null,null,null,null,null,null,null,null,null,null,null,null,null,null,null,null,null,null,"OutC1",{"$f":"qwhiv","v":6.179983883985118},0]
[null,null,null,null,null,null,null,null,null,null,null,null,null,null,null,null,null,null,null,null,null,null,null,null,null,null,{"$f":"acceptouthiv","v":{"$error":"#NAME?"}},"Accept VTP"]
[]
[null,null,null,null,null,null,null,null,null,null,null,null,null,null,null,null,null,null,null,null,null,null,null,null,null,null,"Cost1",{"$f":"($AF$4*$AG$6+$AF$12*$AG$14)","v":0},0]
[null,null,null,null,null,null,null,null,null,null,null,null,null,null,null,null,null,null,null,null,null,null,null,null,null,null,"OutC1",{"$f":"($AF$4*$AG$7+$AF$12*$AG$15)","v":0},0]
[null,null,null,null,null,null,null,null,null,null,null,null,null,null,null,null,null,null,null,null,null,null,null,null,null,null,null,null,null,null,null,{"$f":"1-base*pmore4","v":0.96192567567567566},"HIV- infant"]
[]
[null,null,null,null,null,null,null,null,null,null,null,null,null,null,null,null,null,null,null,null,null,null,null,null,null,null,null,null,null,null,null,"Cost2",{"$f":"HIVtestcost+outhivcost+ndcost","v":5839.7226666666675},0]
[null,null,null,null,null,null,null,null,null,null,null,null,null,null,null,null,null,null,null,null,null,null,null,null,null,null,null,null,null,null,null,"OutC2",{"$f":"qwohiv","v":28.309677443975772},0]
[null,null,null,null,null,null,null,null,null,null,null,null,null,null,null,null,null,null,null,null,null,{"$f":"sens","v":1},"HIV+result"]
[]
[null,null,null,null,null,null,null,null,null,null,null,null,null,null,null,null,null,null,null,null,null,"Cost1",{"$f":"($AA$8*$AB$10+$AA$24*$AB$26)","v":0},0]
[null,null,null,null,null,null,null,null,null,null,null,null,null,null,null,null,null,null,null,null,null,"OutC1",{"$f":"($AA$8*$AB$11+$AA$24*$AB$27)","v":0},0]
[null,null,null,null,null,null,null,null,null,null,null,null,null,null,null,null,null,null,null,null,null,null,null,null,null,null,null,null,null,null,null,{"$f":"base","v":0.1891891891891892},"HIV+ infant"]
[]
[null,null,null,null,null,null,null,null,null,null,null,null,null,null,null,null,null,null,null,null,null,null,null,null,null,null,null,null,null,null,null,"Cost1",{"$f":"HIVtestcost+lifecost+ndcost","v":544895.01555113518},0]
[null,null,null,null,null,null,null,null,null,null,null,null,null,null,null,null,null,null,null,null,null,null,null,null,null,null,null,null,null,null,null,"OutC1",{"$f":"qwhiv","v":6.179983883985118},0]
[null,null,null,null,null,null,null,null,null,null,null,null,null,null,null,null,null,null,null,null,null,null,null,null,null,null,{"$f":"1-acceptouthiv","v":{"$error":"#NAME?"}},"Reject VTP"]
[]
[null,null,null,null,null,null,null,null,null,null,null,null,null,null,null,null,null,null,null,null,null,null,null,null,null,null,"Cost2",{"$f":"($AF$20*$AG$22+$AF$28*$AG$30)","v":0},0]
[null,null,null,null,null,null,null,null,null,null,null,null,null,null,null,null,null,null,null,null,null,null,null,null,null,null,"OutC2",{"$f":"($AF$20*$AG$23+$AF$28*$AG$31)","v":0},0]
[null,null,null,null,null,null,null,null,null,null,null,null,null,null,null,null,{"$f":"acceptHIV*percentsqs","v":9.0682481309735649E-2},"Accept HIV Test",null,null,null,null,null,null,null,null,null,null,null,null,null,{"$f":"1-base","v":0.81081081081081074},"HIV- infant"]
[]
[null,null,null,null,null,null,null,null,null,null,null,null,null,null,null,null,"Cost1",{"$f":"($V$16*$W$18+$V$40*$W$42)","v":0},0,null,null,null,null,null,null,null,null,null,null,null,null,"Cost2",{"$f":"HIVtestcost+ndcost","v":1920.8333333333335},0]
[null,null,null,null,null,null,null,null,null,null,null,null,null,null,null,null,"OutC1",{"$f":"($V$16*$W$19+$V$40*$W$43)","v":0},0,null,null,null,null,null,null,null,null,null,null,null,null,"OutC2",{"$f":"qwohiv","v":28.309677443975772},0]
[]
[]
[]
[]
[null,null,null,null,null,null,null,null,null,null,null,null,null,null,null,null,null,null,null,null,null,null,null,null,null,null,{"$f":"base","v":0.1891891891891892},"HIV+ infant"]
[]
[null,null,null,null,null,null,null,null,null,null,null,null,null,null,null,null,null,null,null,null,null,null,null,null,null,null,"Cost1",{"$f":"HIVtestcost+lifecost+ndcost","v":544895.01555113518},0]
[null,null,null,null,null,null,null,null,null,null,null,null,null,null,null,null,null,null,null,null,null,null,null,null,null,null,"OutC1",{"$f":"qwhiv","v":6.179983883985118},0]
[null,null,null,null,null,null,null,null,null,null,null,null,null,null,null,null,null,null,null,null,null,{"$f":"(1-sens)","v":0},"HIV- result"]
[]
[null,null,null,null,null,null,null,null,null,null,null,{"$f":"earlyanc","v":0.96},"Early ANC",null,null,null,null,null,null,null,null,"Cost2",{"$f":"($AA$36*$AB$38+$AA$44*$AB$46)","v":0},0]
[null,null,null,null,null,null,null,null,null,null,null,null,null,null,null,null,null,null,null,null,null,"OutC2",{"$f":"($AA$36*$AB$39+$AA$44*$AB$47)","v":0},0]
[null,null,null,null,null,null,null,null,null,null,null,"Cost1",{"$f":"($Q$28*$R$30+$Q$56*$R$58)","v":0},0,null,null,null,null,null,null,null,null,null,null,null,null,{"$f":"1-base","v":0.81081081081081074},"HIV- infant"]
[null,null,null,null,null,null,null,null,null,null,null,"OutC1",{"$f":"($Q$28*$R$31+$Q$56*$R$59)","v":0},0]
[null,null,null,null,null,null,null,null,null,null,null,null,null,null,null,null,null,null,null,null,null,null,null,null,null,null,"Cost2",{"$f":"HIVtestcost+ndcost","v":1920.8333333333335},0]
[null,null,null,null,null,null,null,null,null,null,null,null,null,null,null,null,null,null,null,null,null,null,null,null,null,null,"OutC2",{"$f":"qwohiv","v":28.309677443975772},0]
[]
[]
[]
[]
[null,null,null,null,null,null,null,null,null,null,null,null,null,null,null,null,null,null,null,null,null,{"$f":"base","v":0.1891891891891892},"HIV+ infant"]
[]
[null,null,null,null,null,null,null,null,null,null,null,null,null,null,null,null,null,null,null,null,null,"Cost1",{"$f":"lifecost+ndcost","v":542974.1822178018},0]
[null,null,null,null,null,null,null,null,null,null,null,null,null,null,null,null,null,null,null,null,null,"OutC1",{"$f":"qwhiv","v":6.179983883985118},0]
[null,null,null,null,null,null,null,null,null,null,null,null,null,null,null,null,{"$f":"1-acceptHIV*percentsqs","v":0.90931751869026434},"Reject HIV Test"]
[]
[null,null,null,null,null,null,null,null,null,null,null,null,null,null,null,null,"Cost2",{"$f":"($V$52*$W$54+$V$60*$W$62)","v":0},0]
[null,null,null,null,null,null,null,null,null,null,null,null,null,null,null,null,"OutC2",{"$f":"($V$52*$W$55+$V$60*$W$63)","v":0},0]
[null,null,null,null,null,null,null,null,null,null,null,null,null,null,null,null,null,null,null,null,null,{"$f":"1-base","v":0.81081081081081074},"HIV- infant"]
[]
[null,null,null,null,null,null,null,null,null,null,null,null,null,null,null,null,null,null,null,null,null,"Cost2",{"$f":"ndcost","v":0},0]
[null,null,null,null,null,null,null,null,null,null,null,null,null,null,null,null,null,null,null,null,null,"OutC2",{"$f":"qwohiv","v":28.309677443975772},0]
[]
[]
[]
[]
[null,null,null,null,null,null,null,null,null,null,null,null,null,null,null,null,null,null,null,null,null,null,null,null,null,null,null,null,null,null,null,{"$f":"base*pless4r","v":5.1371377223927858E-2},"HIV+ infant"]
[]
[null,null,null,null,null,null,null,null,null,null,null,null,null,null,null,null,null,null,null,null,null,null,null,null,null,null,null,null,null,null,null,"Cost1",{"$f":"HIVtestcost+outhivcost+lifecost+ndcost","v":548813.90488446841},0]
[null,null,null,null,null,null,null,null,null,null,null,null,null,null,null,null,null,null,null,null,null,null,null,null,null,null,null,null,null,null,null,"OutC1",{"$f":"qwhiv","v":6.179983883985118},0]
[null,null,null,null,null,null,null,null,null,null,null,null,null,null,null,null,null,null,null,null,null,null,null,null,null,null,{"$f":"acceptouthiv","v":{"$error":"#NAME?"}},"Accept VTP"]
[]
[null,null,null,null,null,null,{"$f":"(pwhiv/pop)","v":2.4814508608047192E-4},"HIV+ pregnant",null,null,null,null,null,null,null,null,null,null,null,null,null,null,null,null,null,null,"Cost1",{"$f":"($AF$68*$AG$70+$AF$76*$AG$78)","v":0},0]
[null,null,null,null,null,null,null,null,null,null,null,null,null,null,null,null,null,null,null,null,null,null,null,null,null,null,"OutC1",{"$f":"($AF$68*$AG$71+$AF$76*$AG$79)","v":0},0]
[null,null,null,null,null,null,"Cost1",{"$f":"($L$42*$M$44+$L$106*$M$108)","v":0},0,null,null,null,null,null,null,null,null,null,null,null,null,null,null,null,null,null,null,null,null,null,null,{"$f":"1-base*pless4","v":0.89914086271702165},"HIV- infant"]
[null,null,null,null,null,null,"OutC1",{"$f":"($L$42*$M$45+$L$106*$M$109)","v":0},0]
[null,null,null,null,null,null,null,null,null,null,null,null,null,null,null,null,null,null,null,null,null,null,null,null,null,null,null,null,null,null,null,"Cost2",{"$f":"HIVtestcost+outhivcost+ndcost","v":5839.7226666666675},0]
[null,null,null,null,null,null,null,null,null,null,null,null,null,null,null,null,null,null,null,null,null,null,null,null,null,null,null,null,null,null,null,"OutC2",{"$f":"qwohiv","v":28.309677443975772},0]
[null,null,null,null,null,null,null,null,null,null,null,null,null,null,null,null,null,null,null,null,null,{"$f":"sens","v":1},"HIV+ result"]
[]
[null,null,null,null,null,null,null,null,null,null,null,null,null,null,null,null,null,null,null,null,null,"Cost1",{"$f":"($AA$72*$AB$74+$AA$88*$AB$90)","v":0},0]
[null,null,null,null,null,null,null,null,null,null,null,null,null,null,null,null,null,null,null,null,null,"OutC1",{"$f":"($AA$72*$AB$75+$AA$88*$AB$91)","v":0},0]
[null,null,null,null,null,null,null,null,null,null,null,null,null,null,null,null,null,null,null,null,null,null,null,null,null,null,null,null,null,null,null,{"$f":"base","v":0.1891891891891892},"HIV+ infant"]
[]
[null,null,null,null,null,null,null,null,null,null,null,null,null,null,null,null,null,null,null,null,null,null,null,null,null,null,null,null,null,null,null,"Cost1",{"$f":"HIVtestcost+lifecost+ndcost","v":544895.01555113518},0]
[null,null,null,null,null,null,null,null,null,null,null,null,null,null,null,null,null,null,null,null,null,null,null,null,null,null,null,null,null,null,null,"OutC1",{"$f":"qwhiv","v":6.179983883985118},0]
[null,null,null,null,null,null,null,null,null,null,null,null,null,null,null,null,null,null,null,null,null,null,null,null,null,null,{"$f":"1-acceptouthiv","v":{"$error":"#NAME?"}},"Reject VTP"]
[]
[null,null,null,null,null,null,null,null,null,null,null,null,null,null,null,null,null,null,null,null,null,null,null,null,null,null,"Cost2",{"$f":"($AF$84*$AG$86+$AF$92*$AG$94)","v":0},0]
[null,null,null,null,null,null,null,null,null,null,null,null,null,null,null,null,null,null,null,null,null,null,null,null,null,null,"OutC2",{"$f":"($AF$84*$AG$87+$AF$92*$AG$95)","v":0},0]
[null,null,null,null,null,null,null,null,null,null,null,null,null,null,null,null,{"$f":"acceptHIV*percentsqs","v":9.0682481309735649E-2},"Accept HIV Test",null,null,null,null,null,null,null,null,null,null,null,null,null,{"$f":"1-base","v":0.81081081081081074},"HIV- infant"]
[]
[null,null,null,null,null,null,null,null,null,null,null,null,null,null,null,null,"Cost1",{"$f":"($V$80*$W$82+$V$104*$W$106)","v":0},0,null,null,null,null,null,null,null,null,null,null,null,null,"Cost2",{"$f":"HIVtestcost+ndcost","v":1920.8333333333335},0]
[null,null,null,null,null,null,null,null,null,null,null,null,null,null,null,null,"OutC1",{"$f":"($V$80*$W$83+$V$104*$W$107)","v":0},0,null,null,null,null,null,null,null,null,null,null,null,null,"OutC2",{"$f":"qwohiv","v":28.309677443975772},0]
[]
[]
[]
[]
[null,null,null,null,null,null,null,null,null,null,null,null,null,null,null,null,null,null,null,null,null,null,null,null,null,null,{"$f":"base","v":0.1891891891891892},"HIV+ infant"]
[]
[null,null,null,null,null,null,null,null,null,null,null,null,null,null,null,null,null,null,null,null,null,null,null,null,null,null,"Cost1",{"$f":"HIVtestcost+lifecost+ndcost","v":544895.01555113518},0]
[null,null,null,null,null,null,null,null,null,null,null,null,null,null,null,null,null,null,null,null,null,null,null,null,null,null,"OutC1",{"$f":"qwhiv","v":6.179983883985118},0]
[null,null,null,null,null,null,null,null,null,null,null,null,null,null,null,null,null,null,null,null,null,{"$f":"(1-sens)","v":0},"HIV- result"]
[]
[null,null,null,null,null,null,null,null,null,null,null,{"$f":"lateanc","v":4.0000000000000036E-2},"Late ANC",null,null,null,null,null,null,null,null,"Cost2",{"$f":"($AA$100*$AB$102+$AA$108*$AB$110)","v":0},0]
[null,null,null,null,null,null,null,null,null,null,null,null,null,null,null,null,null,null,null,null,null,"OutC2",{"$f":"($AA$100*$AB$103+$AA$108*$AB$111)","v":0},0]
[null,null,null,null,null,null,null,null,null,null,null,"Cost2",{"$f":"($Q$92*$R$94+$Q$120*$R$122)","v":0},0,null,null,null,null,null,null,null,null,null,null,null,null,{"$f":"1-base","v":0.81081081081081074},"HIV- infant"]
[null,null,null,null,null,null,null,null,null,null,null,"OutC2",{"$f":"($Q$92*$R$95+$Q$120*$R$123)","v":0},0]
[null,null,null,null,null,null,null,null,null,null,null,null,null,null,null,null,null,null,null,null,null,null,null,null,null,null,"Cost2",{"$f":"HIVtestcost+ndcost","v":1920.8333333333335},0]
[null,null,null,null,null,null,null,null,null,null,null,null,null,null,null,null,null,null,null,null,null,null,null,null,null,null,"OutC2",{"$f":"qwohiv","v":28.309677443975772},0]
[]
[]
[]
[]
[null,null,null,null,null,null,null,null,null,null,null,null,null,null,null,null,null,null,null,null,null,{"$f":"base","v":0.1891891891891892},"HIV+ infant"]
[]
[null,null,null,null,null,null,null,null,null,null,null,null,null,null,null,null,null,null,null,null,null,"Cost1",{"$f":"lifecost+ndcost","v":542974.1822178018},0]
[null,null,null,null,null,null,null,null,null,null,null,null,null,null,null,null,null,null,null,null,null,"OutC1",{"$f":"qwhiv","v":6.179983883985118},0]
[null,null,null,null,null,null,null,null,null,null,null,null,null,null,null,null,{"$f":"1-acceptHIV*percentsqs","v":0.90931751869026434},"Reject HIV Test"]
[]
[null,null,null,null,null,null,null,null,null,null,null,null,null,null,null,null,"Cost2",{"$f":"($V$116*$W$118+$V$124*$W$126)","v":0},0]
[null,null,null,null,null,null,null,null,null,null,null,null,null,null,null,null,"OutC2",{"$f":"($V$116*$W$119+$V$124*$W$127)","v":0},0]
[null,null,null,null,null,null,null,null,null,null,null,null,null,null,null,null,null,null,null,null,null,{"$f":"1-base","v":0.81081081081081074},"HIV- infant"]
[]
[null,null,null,null,null,null,null,null,null,null,null,null,null,null,null,null,null,null,null,null,null,"Cost2",{"$f":"0+ndcost","v":0},0]
[null,null,null,null,null,null,null,null,null,null,null,null,null,null,null,null,null,null,null,null,null,"OutC2",{"$f":"qwohiv","v":28.309677443975772},0]
[]
[]
[]
[]
[null,null,null,null,null,null,null,null,null,null,null,null,null,null,null,null,null,null,null,null,null,null,null,null,null,null,null,null,null,null,null,{"$f":"base*pmore4","v":3.8074324324324331E-2},"HIV+ infant"]
[]
[null,null,null,null,null,null,null,null,null,null,null,null,null,null,null,null,null,null,null,null,null,null,null,null,null,null,null,null,null,null,null,"Cost1",{"$f":"HIVtestcost+outhivcost+lifecost+ndcost","v":548813.90488446841},0]
[null,null,null,null,null,null,null,null,null,null,null,null,null,null,null,null,null,null,null,null,null,null,null,null,null,null,null,null,null,null,null,"OutC1",{"$f":"qwhiv","v":6.179983883985118},0]
[null,null,null,null,null,null,null,null,null,null,null,null,null,null,null,null,null,null,null,null,null,null,null,null,null,null,{"$f":"acceptouthiv","v":{"$error":"#NAME?"}},"Accept VTP"]
[]
[null,null,"sq",null,null,null,null,null,null,null,null,null,null,null,null,null,null,null,null,null,null,null,null,null,null,null,"Cost1",{"$f":"($AF$132*$AG$134+$AF$140*$AG$142)","v":0},0]
[null,null,null,null,null,null,null,null,null,null,null,null,null,null,null,null,null,null,null,null,null,null,null,null,null,null,"OutC1",{"$f":"($AF$132*$AG$135+$AF$140*$AG$143)","v":0},0]
[null,"Cost1",{"$f":"($G$74*$H$76+$G$202*$H$204)","v":0},null,null,null,null,null,null,null,null,null,null,null,null,null,null,null,null,null,null,null,null,null,null,null,null,null,null,null,null,{"$f":"1-base*pmore4","v":0.96192567567567566},"HIV- infant"]
[null,"OutC1",{"$f":"($G$74*$H$77+$G$202*$H$205)","v":0}]
[null,null,null,null,null,null,null,null,null,null,null,null,null,null,null,null,null,null,null,null,null,null,null,null,null,null,null,null,null,null,null,"Cost2",{"$f":"HIVtestcost+outhivcost+ndcost","v":5839.7226666666675},0]
[null,null,null,null,null,null,null,null,null,null,null,null,null,null,null,null,null,null,null,null,null,null,null,null,null,null,null,null,null,null,null,"OutC2",{"$f":"qwohiv","v":28.309677443975772},0]
[null,null,null,null,null,null,null,null,null,null,null,null,null,null,null,null,null,null,null,null,null,{"$f":"1-(spec)","v":0},"HIV+ result"]
[]
[null,null,null,null,null,null,null,null,null,null,null,null,null,null,null,null,null,null,null,null,null,"Cost1",{"$f":"($AA$136*$AB$138+$AA$152*$AB$154)","v":0},0]
[null,null,null,null,null,null,null,null,null,null,null,null,null,null,null,null,null,null,null,null,null,"OutC1",{"$f":"($AA$136*$AB$139+$AA$152*$AB$155)","v":0},0]
[null,null,null,null,null,null,null,null,null,null,null,null,null,null,null,null,null,null,null,null,null,null,null,null,null,null,null,null,null,null,null,{"$f":"base","v":0.1891891891891892},"HIV+ infant"]
[]
[null,null,null,null,null,null,null,null,null,null,null,null,null,null,null,null,null,null,null,null,null,null,null,null,null,null,null,null,null,null,null,"Cost1",{"$f":"HIVtestcost+lifecost+ndcost","v":544895.01555113518},0]
[null,null,null,null,null,null,null,null,null,null,null,null,null,null,null,null,null,null,null,null,null,null,null,null,null,null,null,null,null,null,null,"OutC1",{"$f":"qwhiv","v":6.179983883985118},0]
[null,null,null,null,null,null,null,null,null,null,null,null,null,null,null,null,null,null,null,null,null,null,null,null,null,null,{"$f":"1-acceptouthiv","v":{"$error":"#NAME?"}},"Reject VTP"]
[]
[null,null,null,null,null,null,null,null,null,null,null,null,null,null,null,null,null,null,null,null,null,null,null,null,null,null,"Cost2",{"$f":"($AF$148*$AG$150+$AF$156*$AG$158)","v":0},0]
[null,null,null,null,null,null,null,null,null,null,null,null,null,null,null,null,null,null,null,null,null,null,null,null,null,null,"OutC2",{"$f":"($AF$148*$AG$151+$AF$156*$AG$159)","v":0},0]
[null,null,null,null,null,null,null,null,null,null,null,null,null,null,null,null,{"$f":"acceptHIV*percentsqs","v":9.0682481309735649E-2},"Accept HIV Test",null,null,null,null,null,null,null,null,null,null,null,null,null,{"$f":"1-base","v":0.81081081081081074},"HIV- infant"]
[]
[null,null,null,null,null,null,null,null,null,null,null,null,null,null,null,null,"Cost1",{"$f":"($V$144*$W$146+$V$168*$W$170)","v":0},0,null,null,null,null,null,null,null,null,null,null,null,null,"Cost2",{"$f":"HIVtestcost+ndcost","v":1920.8333333333335},0]
[null,null,null,null,null,null,null,null,null,null,null,null,null,null,null,null,"OutC1",{"$f":"($V$144*$W$147+$V$168*$W$171)","v":0},0,null,null,null,null,null,null,null,null,null,null,null,null,"OutC2",{"$f":"qwohiv","v":28.309677443975772},0]
[]
[]
[]
[]
[null,null,null,null,null,null,null,null,null,null,null,null,null,null,null,null,null,null,null,null,null,null,null,null,null,null,{"$f":"base","v":0.1891891891891892},"HIV+ infant"]
[]
[null,null,null,null,null,null,null,null,null,null,null,null,null,null,null,null,null,null,null,null,null,null,null,null,null,null,"Cost1",{"$f":"HIVtestcost+lifecost+ndcost","v":544895.01555113518},0]
[null,null,null,null,null,null,null,null,null,null,null,null,null,null,null,null,null,null,null,null,null,null,null,null,null,null,"OutC1",{"$f":"qwhiv","v":6.179983883985118},0]
[null,null,null,null,null,null,null,null,null,null,null,null,null,null,null,null,null,null,null,null,null,{"$f":"spec","v":1},"HIV- result"]
[]
[null,null,null,null,null,null,null,null,null,null,null,{"$f":"earlyanc","v":0.96},"Early ANC",null,null,null,null,null,null,null,null,"Cost2",{"$f":"($AA$164*$AB$166+$AA$172*$AB$174)","v":0},0]
[null,null,null,null,null,null,null,null,null,null,null,null,null,null,null,null,null,null,null,null,null,"OutC2",{"$f":"($AA$164*$AB$167+$AA$172*$AB$175)","v":0},0]
[null,null,null,null,null,null,null,null,null,null,null,"Cost1",{"$f":"($Q$156*$R$158+$Q$184*$R$186)","v":0},0,null,null,null,null,null,null,null,null,null,null,null,null,{"$f":"1-base","v":0.81081081081081074},"HIV- infant"]
[null,null,null,null,null,null,null,null,null,null,null,"OutC1",{"$f":"($Q$156*$R$159+$Q$184*$R$187)","v":0},0]
[null,null,null,null,null,null,null,null,null,null,null,null,null,null,null,null,null,null,null,null,null,null,null,null,null,null,"Cost2",{"$f":"HIVtestcost+ndcost","v":1920.8333333333335},0]
[null,null,null,null,null,null,null,null,null,null,null,null,null,null,null,null,null,null,null,null,null,null,null,null,null,null,"OutC2",{"$f":"qwohiv","v":28.309677443975772},0]
[]
[]
[]
[]
[null,null,null,null,null,null,null,null,null,null,null,null,null,null,null,null,null,null,null,null,null,{"$f":"base","v":0.1891891891891892},"HIV+ infant"]
[]
[null,null,null,null,null,null,null,null,null,null,null,null,null,null,null,null,null,null,null,null,null,"Cost1",{"$f":"lifecost+ndcost","v":542974.1822178018},0]
[null,null,null,null,null,null,null,null,null,null,null,null,null,null,null,null,null,null,null,null,null,"OutC1",{"$f":"qwhiv","v":6.179983883985118},0]
[null,null,null,null,null,null,null,null,null,null,null,null,null,null,null,null,{"$f":"1-acceptHIV*percentsqs","v":0.90931751869026434},"Reject HIV Test"]
[]
[null,null,null,null,null,null,null,null,null,null,null,null,null,null,null,null,"Cost2",{"$f":"($V$180*$W$182+$V$188*$W$190)","v":0},0]
[null,null,null,null,null,null,null,null,null,null,null,null,null,null,null,null,"OutC2",{"$f":"($V$180*$W$183+$V$188*$W$191)","v":0},0]
[null,null,null,null,null,null,null,null,null,null,null,null,null,null,null,null,null,null,null,null,null,{"$f":"1-base","v":0.81081081081081074},"HIV- infant"]
[]
[null,null,null,null,null,null,null,null,null,null,null,null,null,null,null,null,null,null,null,null,null,"Cost2",{"$f":"0+ndcost","v":0},0]
[null,null,null,null,null,null,null,null,null,null,null,null,null,null,null,null,null,null,null,null,null,"OutC2",{"$f":"qwohiv","v":28.309677443975772},0]
[]
[]
[]
[]
[null,null,null,null,null,null,null,null,null,null,null,null,null,null,null,null,null,null,null,null,null,null,null,null,null,null,null,null,null,null,null,{"$f":"base*pless4","v":0.10085913728297836},"HIV+ infant"]
[]
[null,null,null,null,null,null,null,null,null,null,null,null,null,null,null,null,null,null,null,null,null,null,null,null,null,null,null,null,null,null,null,"Cost1",{"$f":"HIVtestcost+outhivcost+lifecost+ndcost","v":548813.90488446841},0]
[null,null,null,null,null,null,null,null,null,null,null,null,null,null,null,null,null,null,null,null,null,null,null,null,null,null,null,null,null,null,null,"OutC1",{"$f":"qwhiv","v":6.179983883985118},0]
[null,null,null,null,null,null,null,null,null,null,null,null,null,null,null,null,null,null,null,null,null,null,null,null,null,null,{"$f":"acceptouthiv","v":{"$error":"#NAME?"}},"Accept VTP"]
[]
[null,null,null,null,null,null,{"$f":"1-(pwhiv/pop)","v":0.99975185491391949},"HIV- pregnant",null,null,null,null,null,null,null,null,null,null,null,null,null,null,null,null,null,null,"Cost1",{"$f":"($AF$196*$AG$198+$AF$204*$AG$206)","v":0},0]
[null,null,null,null,null,null,null,null,null,null,null,null,null,null,null,null,null,null,null,null,null,null,null,null,null,null,"OutC1",{"$f":"($AF$196*$AG$199+$AF$204*$AG$207)","v":0},0]
[null,null,null,null,null,null,"Cost2",{"$f":"($L$170*$M$172+$L$234*$M$236)","v":0},0,null,null,null,null,null,null,null,null,null,null,null,null,null,null,null,null,null,null,null,null,null,null,{"$f":"1-base*pless4","v":0.89914086271702165},"HIV- infant"]
[null,null,null,null,null,null,"OutC2",{"$f":"($L$170*$M$173+$L$234*$M$237)","v":0},0]
[null,null,null,null,null,null,null,null,null,null,null,null,null,null,null,null,null,null,null,null,null,null,null,null,null,null,null,null,null,null,null,"Cost2",{"$f":"HIVtestcost+outhivcost+ndcost","v":5839.7226666666675},0]
[null,null,null,null,null,null,null,null,null,null,null,null,null,null,null,null,null,null,null,null,null,null,null,null,null,null,null,null,null,null,null,"OutC2",{"$f":"qwohiv","v":28.309677443975772},0]
[null,null,null,null,null,null,null,null,null,null,null,null,null,null,null,null,null,null,null,null,null,{"$f":"1-spec","v":0},"HIV+ result"]
[]
[null,null,null,null,null,null,null,null,null,null,null,null,null,null,null,null,null,null,null,null,null,"Cost1",{"$f":"($AA$200*$AB$202+$AA$216*$AB$218)","v":0},0]
[null,null,null,null,null,null,null,null,null,null,null,null,null,null,null,null,null,null,null,null,null,"OutC1",{"$f":"($AA$200*$AB$203+$AA$216*$AB$219)","v":0},0]
[null,null,null,null,null,null,null,null,null,null,null,null,null,null,null,null,null,null,null,null,null,null,null,null,null,null,null,null,null,null,null,{"$f":"base","v":0.1891891891891892},"HIV+ infant"]
[]
[null,null,null,null,null,null,null,null,null,null,null,null,null,null,null,null,null,null,null,null,null,null,null,null,null,null,null,null,null,null,null,"Cost1",{"$f":"HIVtestcost+lifecost+ndcost","v":544895.01555113518},0]
[null,null,null,null,null,null,null,null,null,null,null,null,null,null,null,null,null,null,null,null,null,null,null,null,null,null,null,null,null,null,null,"OutC1",{"$f":"qwhiv","v":6.179983883985118},0]
[null,null,null,null,null,null,null,null,null,null,null,null,null,null,null,null,null,null,null,null,null,null,null,null,null,null,{"$f":"1-acceptouthiv","v":{"$error":"#NAME?"}},"Reject VTP"]
[]
[null,null,null,null,null,null,null,null,null,null,null,null,null,null,null,null,null,null,null,null,null,null,null,null,null,null,"Cost2",{"$f":"($AF$212*$AG$214+$AF$220*$AG$222)","v":0},0]
[null,null,null,null,null,null,null,null,null,null,null,null,null,null,null,null,null,null,null,null,null,null,null,null,null,null,"OutC2",{"$f":"($AF$212*$AG$215+$AF$220*$AG$223)","v":0},0]
[null,null,null,null,null,null,null,null,null,null,null,null,null,null,null,null,{"$f":"acceptHIV*percentsqs","v":9.0682481309735649E-2},"Accept HIV Test",null,null,null,null,null,null,null,null,null,null,null,null,null,{"$f":"1-base","v":0.81081081081081074},"HIV- infant"]
[]
[null,null,null,null,null,null,null,null,null,null,null,null,null,null,null,null,"Cost1",{"$f":"($V$208*$W$210+$V$232*$W$234)","v":0},0,null,null,null,null,null,null,null,null,null,null,null,null,"Cost2",{"$f":"HIVtestcost+ndcost","v":1920.8333333333335},0]
[null,null,null,null,null,null,null,null,null,null,null,null,null,null,null,null,"OutC1",{"$f":"($V$208*$W$211+$V$232*$W$235)","v":0},0,null,null,null,null,null,null,null,null,null,null,null,null,"OutC2",{"$f":"qwohiv","v":28.309677443975772},0]
[]
[]
[]
[]
[null,null,null,null,null,null,null,null,null,null,null,null,null,null,null,null,null,null,null,null,null,null,null,null,null,null,{"$f":"base","v":0.1891891891891892},"HIV+ infant"]
[]
[null,null,null,null,null,null,null,null,null,null,null,null,null,null,null,null,null,null,null,null,null,null,null,null,null,null,"Cost1",{"$f":"HIVtestcost+lifecost+ndcost","v":544895.01555113518},0]
[null,null,null,null,null,null,null,null,null,null,null,null,null,null,null,null,null,null,null,null,null,null,null,null,null,null,"OutC1",{"$f":"qwhiv","v":6.179983883985118},0]
[null,null,null,null,null,null,null,null,null,null,null,null,null,null,null,null,null,null,null,null,null,{"$f":"spec","v":1},"HIV- result"]
[]
[null,null,null,null,null,null,null,null,null,null,null,{"$f":"lateanc","v":4.0000000000000036E-2},"Late ANC",null,null,null,null,null,null,null,null,"Cost2",{"$f":"($AA$228*$AB$230+$AA$236*$AB$238)","v":0},0]
[null,null,null,null,null,null,null,null,null,null,null,null,null,null,null,null,null,null,null,null,null,"OutC2",{"$f":"($AA$228*$AB$231+$AA$236*$AB$239)","v":0},0]
[null,null,null,null,null,null,null,null,null,null,null,"Cost2",{"$f":"($Q$220*$R$222+$Q$248*$R$250)","v":0},0,null,null,null,null,null,null,null,null,null,null,null,null,{"$f":"1-base","v":0.81081081081081074},"HIV- infant"]
[null,null,null,null,null,null,null,null,null,null,null,"OutC2",{"$f":"($Q$220*$R$223+$Q$248*$R$251)","v":0},0]
[null,null,null,null,null,null,null,null,null,null,null,null,null,null,null,null,null,null,null,null,null,null,null,null,null,null,"Cost2",{"$f":"HIVtestcost+ndcost","v":1920.8333333333335},0]
[null,null,null,null,null,null,null,null,null,null,null,null,null,null,null,null,null,null,null,null,null,null,null,null,null,null,"OutC2",{"$f":"qwohiv","v":28.309677443975772},0]
[]
[]
[]
[]
[null,null,null,null,null,null,null,null,null,null,null,null,null,null,null,null,null,null,null,null,null,{"$f":"base","v":0.1891891891891892},"HIV+ infant"]
[]
[null,null,null,null,null,null,null,null,null,null,null,null,null,null,null,null,null,null,null,null,null,"Cost1",{"$f":"lifecost+ndcost","v":542974.1822178018},0]
[null,null,null,null,null,null,null,null,null,null,null,null,null,null,null,null,null,null,null,null,null,"OutC1",{"$f":"qwhiv","v":6.179983883985118},0]
[null,null,null,null,null,null,null,null,null,null,null,null,null,null,null,null,{"$f":"1-acceptHIV*percentsqs","v":0.90931751869026434},"Reject HIV Test"]
[]
[null,null,null,null,null,null,null,null,null,null,null,null,null,null,null,null,"Cost2",{"$f":"($V$244*$W$246+$V$252*$W$254)","v":0},0]
[null,null,null,null,null,null,null,null,null,null,null,null,null,null,null,null,"OutC2",{"$f":"($V$244*$W$247+$V$252*$W$255)","v":0},0]
[null,null,null,null,null,null,null,null,null,null,null,null,null,null,null,null,null,null,null,null,null,{"$f":"1-base","v":0.81081081081081074},"HIV- infant"]
[]
[null,null,null,null,null,null,null,null,null,null,null,null,null,null,null,null,null,null,null,null,null,"Cost2",{"$f":"+ndcost","v":0},0]
[null,null,null,null,null,null,null,null,null,null,null,null,null,null,null,null,null,null,null,null,null,"OutC2",{"$f":"qwohiv","v":28.309677443975772},0]

{"sheet":"Tree for Do Nothing","index":25,"n_rows":253,"n_cols":34,"rows_kept":253,"cut":false,"hidden":false,"merged":[]}
["Plant-A-Tree"]
["Supported by iDSI",null,null,null,null,null,null,null,null,null,null,null,null,null,null,null,null,null,null,null,null,null,null,null,null,null,null,null,null,null,null,{"$f":"newbase","v":0.35118918918918918},"HIV+ infant"]
[]
[null,null,null,null,null,null,null,null,null,null,null,null,null,null,null,null,null,null,null,null,null,null,null,null,null,null,null,null,null,null,null,"Cost1",{"$f":"lifecost","v":542974.1822178018},0]
[null,null,null,null,null,null,null,null,null,null,null,null,null,null,null,null,null,null,null,null,null,null,null,null,null,null,null,null,null,null,null,"OutC1",{"$f":"qwhiv","v":6.179983883985118},0]
[null,null,null,null,null,null,null,null,null,null,null,null,null,null,null,null,null,null,null,null,null,null,null,null,null,null,{"$f":"acceptsq","v":0.95},"Accept VTP"]
[]
[null,null,null,null,null,null,null,null,null,null,null,null,null,null,null,null,null,null,null,null,null,null,null,null,null,null,"Cost1",{"$f":"($AF$2*$AG$4+$AF$10*$AG$12)","v":190686.66280373288},0]
[null,null,null,null,null,null,null,null,null,null,null,null,null,null,null,null,null,null,null,null,null,null,null,null,null,null,"OutC1",{"$f":"($AF$2*$AG$5+$AF$10*$AG$13)","v":20.537968305637431},0]
[null,null,null,null,null,null,null,null,null,null,null,null,null,null,null,null,null,null,null,null,null,null,null,null,null,null,null,null,null,null,null,{"$f":"1-AF2","v":0.64881081081081082},"HIV- infant"]
[]
[null,null,null,null,null,null,null,null,null,null,null,null,null,null,null,null,null,null,null,null,null,null,null,null,null,null,null,null,null,null,null,"Cost2",{"$f":"0","v":0},0]
[null,null,null,null,null,null,null,null,null,null,null,null,null,null,null,null,null,null,null,null,null,null,null,null,null,null,null,null,null,null,null,"OutC2",{"$f":"qwohiv","v":28.309677443975772},0]
[null,null,null,null,null,null,null,null,null,null,null,null,null,null,null,null,null,null,null,null,null,{"$f":"sens","v":1},"HIV+result"]
[]
[null,null,null,null,null,null,null,null,null,null,null,null,null,null,null,null,null,null,null,null,null,"Cost1",{"$f":"($AA$6*$AB$8+$AA$22*$AB24)","v":190686.66280373288},0]
[null,null,null,null,null,null,null,null,null,null,null,null,null,null,null,null,null,null,null,null,null,"OutC1",{"$f":"($AA$6*$AB$9+$AA$22*$AB$25)","v":20.537968305637431},0]
[null,null,null,null,null,null,null,null,null,null,null,null,null,null,null,null,null,null,null,null,null,null,null,null,null,null,null,null,null,null,null,{"$f":"newbase","v":0.35118918918918918},"HIV+ infant"]
[]
[null,null,null,null,null,null,null,null,null,null,null,null,null,null,null,null,null,null,null,null,null,null,null,null,null,null,null,null,null,null,null,"Cost1",{"$f":"lifecost","v":542974.1822178018},0]
[null,null,null,null,null,null,null,null,null,null,null,null,null,null,null,null,null,null,null,null,null,null,null,null,null,null,null,null,null,null,null,"OutC1",{"$f":"qwhiv","v":6.179983883985118},0]
[null,null,null,null,null,null,null,null,null,null,null,null,null,null,null,null,null,null,null,null,null,null,null,null,null,null,{"$f":"1-AA6","v":5.0000000000000044E-2},"Reject VTP"]
[]
[null,null,null,null,null,null,null,null,null,null,null,null,null,null,null,null,null,null,null,null,null,null,null,null,null,null,"Cost2",{"$f":"($AF$18*$AG$20+$AF$26*$AG$28)","v":190686.66280373288},0]
[null,null,null,null,null,null,null,null,null,null,null,null,null,null,null,null,null,null,null,null,null,null,null,null,null,null,"OutC2",{"$f":"($AF$18*$AG$21+$AF$26*$AG$29)","v":20.537968305637431},0]
[null,null,null,null,null,null,null,null,null,null,null,null,null,null,null,null,{"$f":"0","v":0},"Accept HIV Test",null,null,null,null,null,null,null,null,null,null,null,null,null,{"$f":"1-AF18","v":0.64881081081081082},"HIV- infant"]
[]
[null,null,null,null,null,null,null,null,null,null,null,null,null,null,null,null,"Cost1",{"$f":"($V$14*$W$16+$V$38*$W$40)","v":190686.66280373288},0,null,null,null,null,null,null,null,null,null,null,null,null,"Cost2",{"$f":"0","v":0},0]
[null,null,null,null,null,null,null,null,null,null,null,null,null,null,null,null,"OutC1",{"$f":"($V$14*$W$17+$V$38*$W$41)","v":20.537968305637431},0,null,null,null,null,null,null,null,null,null,null,null,null,"OutC2",{"$f":"qwohiv","v":28.309677443975772},0]
[]
[]
[]
[]
[null,null,null,null,null,null,null,null,null,null,null,null,null,null,null,null,null,null,null,null,null,null,null,null,null,null,{"$f":"newbase","v":0.35118918918918918},"HIV+ infant"]
[]
[null,null,null,null,null,null,null,null,null,null,null,null,null,null,null,null,null,null,null,null,null,null,null,null,null,null,"Cost1",{"$f":"lifecost","v":542974.1822178018},0]
[null,null,null,null,null,null,null,null,null,null,null,null,null,null,null,null,null,null,null,null,null,null,null,null,null,null,"OutC1",{"$f":"qwhiv","v":6.179983883985118},0]
[null,null,null,null,null,null,null,null,null,null,null,null,null,null,null,null,null,null,null,null,null,{"$f":"(1-sens)","v":0},"HIV- result"]
[]
[null,null,null,null,null,null,null,null,null,null,null,{"$f":"earlyanc","v":0.96},"Early ANC",null,null,null,null,null,null,null,null,"Cost2",{"$f":"($AA$34*$AB$36+$AA$42*$AB$44)","v":190686.66280373288},0]
[null,null,null,null,null,null,null,null,null,null,null,null,null,null,null,null,null,null,null,null,null,"OutC2",{"$f":"($AA$34*$AB$37+$AA$42*$AB$45)","v":20.537968305637431},0]
[null,null,null,null,null,null,null,null,null,null,null,"Cost1",{"$f":"($Q$26*$R$28+$Q$54*$R$56)","v":188493.4873569099},0,null,null,null,null,null,null,null,null,null,null,null,null,{"$f":"1-AA34","v":0.64881081081081082},"HIV- infant"]
[null,null,null,null,null,null,null,null,null,null,null,"OutC1",{"$f":"($Q$26*$R$29+$Q$54*$R$57)","v":20.627354324625014},0]
[null,null,null,null,null,null,null,null,null,null,null,null,null,null,null,null,null,null,null,null,null,null,null,null,null,null,"Cost2",{"$f":"0","v":0},0]
[null,null,null,null,null,null,null,null,null,null,null,null,null,null,null,null,null,null,null,null,null,null,null,null,null,null,"OutC2",{"$f":"qwohiv","v":28.309677443975772},0]
[]
[]
[]
[]
[null,null,null,null,null,null,null,null,null,null,null,null,null,null,null,null,null,null,null,null,null,0.34715000000000001,"HIV+ infant"]
[]
[null,null,null,null,null,null,null,null,null,null,null,null,null,null,null,null,null,null,null,null,null,"Cost1",{"$f":"lifecost","v":542974.1822178018},0]
[null,null,null,null,null,null,null,null,null,null,null,null,null,null,null,null,null,null,null,null,null,"OutC1",{"$f":"qwhiv","v":6.179983883985118},0]
[null,null,null,null,null,null,null,null,null,null,null,null,null,null,null,null,{"$f":"1-Q26","v":1},"Reject HIV Test"]
[]
[null,null,null,null,null,null,null,null,null,null,null,null,null,null,null,null,"Cost2",{"$f":"($V$50*$W$52+$V$58*$W$60)","v":188493.4873569099},0]
[null,null,null,null,null,null,null,null,null,null,null,null,null,null,null,null,"OutC2",{"$f":"($V$50*$W$53+$V$58*$W$61)","v":20.627354324625014},0]
[null,null,null,null,null,null,null,null,null,null,null,null,null,null,null,null,null,null,null,null,null,{"$f":"1-V50","v":0.65284999999999993},"HIV- infant"]
[]
[null,null,null,null,null,null,null,null,null,null,null,null,null,null,null,null,null,null,null,null,null,"Cost2",{"$f":"0","v":0},0]
[null,null,null,null,null,null,null,null,null,null,null,null,null,null,null,null,null,null,null,null,null,"OutC2",{"$f":"qwohiv","v":28.309677443975772},0]
[]
[]
[]
[]
[null,null,null,null,null,null,null,null,null,null,null,null,null,null,null,null,null,null,null,null,null,null,null,null,null,null,null,null,null,null,null,{"$f":"newbase","v":0.35118918918918918},"HIV+ infant"]
[]
[null,null,null,null,null,null,null,null,null,null,null,null,null,null,null,null,null,null,null,null,null,null,null,null,null,null,null,null,null,null,null,"Cost1",{"$f":"lifecost","v":542974.1822178018},0]
[null,null,null,null,null,null,null,null,null,null,null,null,null,null,null,null,null,null,null,null,null,null,null,null,null,null,null,null,null,null,null,"OutC1",{"$f":"qwhiv","v":6.179983883985118},0]
[null,null,null,null,null,null,null,null,null,null,null,null,null,null,null,null,null,null,null,null,null,null,null,null,null,null,{"$f":"acceptsq","v":0.95},"Accept VTP"]
[]
[null,null,null,null,null,null,{"$f":"pwhiv/pop","v":2.4814508608047192E-4},"HIV+ pregnant",null,null,null,null,null,null,null,null,null,null,null,null,null,null,null,null,null,null,"Cost1",{"$f":"($AF$66*$AG$68+$AF$74*$AG$76)","v":190686.66280373288},0]
[null,null,null,null,null,null,null,null,null,null,null,null,null,null,null,null,null,null,null,null,null,null,null,null,null,null,"OutC1",{"$f":"($AF$66*$AG$69+$AF$74*$AG$77)","v":20.537968305637431},0]
[null,null,null,null,null,null,"Cost1",{"$f":"($L$40*$M$42+$L$104*$M$106)","v":188581.21437478281},0,null,null,null,null,null,null,null,null,null,null,null,null,null,null,null,null,null,null,null,null,null,null,{"$f":"1-AF66","v":0.64881081081081082},"HIV- infant"]
[null,null,null,null,null,null,"OutC1",{"$f":"($L$40*$M$43+$L$104*$M$107)","v":20.623778883865512},0]
[null,null,null,null,null,null,null,null,null,null,null,null,null,null,null,null,null,null,null,null,null,null,null,null,null,null,null,null,null,null,null,"Cost2",{"$f":"0","v":0},0]
[null,null,null,null,null,null,null,null,null,null,null,null,null,null,null,null,null,null,null,null,null,null,null,null,null,null,null,null,null,null,null,"OutC2",{"$f":"qwohiv","v":28.309677443975772},0]
[null,null,null,null,null,null,null,null,null,null,null,null,null,null,null,null,null,null,null,null,null,{"$f":"sens","v":1},"HIV+ result"]
[]
[null,null,null,null,null,null,null,null,null,null,null,null,null,null,null,null,null,null,null,null,null,"Cost1",{"$f":"($AA$70*$AB$72+$AA$86*$AB$88)","v":190686.66280373288},0]
[null,null,null,null,null,null,null,null,null,null,null,null,null,null,null,null,null,null,null,null,null,"OutC1",{"$f":"($AA$70*$AB$73+$AA$86*$AB$89)","v":20.537968305637431},0]
[null,null,null,null,null,null,null,null,null,null,null,null,null,null,null,null,null,null,null,null,null,null,null,null,null,null,null,null,null,null,null,{"$f":"newbase","v":0.35118918918918918},"HIV+ infant"]
[]
[null,null,null,null,null,null,null,null,null,null,null,null,null,null,null,null,null,null,null,null,null,null,null,null,null,null,null,null,null,null,null,"Cost1",{"$f":"lifecost","v":542974.1822178018},0]
[null,null,null,null,null,null,null,null,null,null,null,null,null,null,null,null,null,null,null,null,null,null,null,null,null,null,null,null,null,null,null,"OutC1",{"$f":"qwhiv","v":6.179983883985118},0]
[null,null,null,null,null,null,null,null,null,null,null,null,null,null,null,null,null,null,null,null,null,null,null,null,null,null,{"$f":"1-AA70","v":5.0000000000000044E-2},"Reject VTP"]
[]
[null,null,null,null,null,null,null,null,null,null,null,null,null,null,null,null,null,null,null,null,null,null,null,null,null,null,"Cost2",{"$f":"($AF$82*$AG$84+$AF$90*$AG$92)","v":190686.66280373288},0]
[null,null,null,null,null,null,null,null,null,null,null,null,null,null,null,null,null,null,null,null,null,null,null,null,null,null,"OutC2",{"$f":"($AF$82*$AG$85+$AF$90*$AG$93)","v":20.537968305637431},0]
[null,null,null,null,null,null,null,null,null,null,null,null,null,null,null,null,0,"Accept HIV Test",null,null,null,null,null,null,null,null,null,null,null,null,null,{"$f":"1-AF82","v":0.64881081081081082},"HIV- infant"]
[]
[null,null,null,null,null,null,null,null,null,null,null,null,null,null,null,null,"Cost1",{"$f":"($V$78*$W$80+$V$102*$W$104)","v":190686.66280373288},0,null,null,null,null,null,null,null,null,null,null,null,null,"Cost2",{"$f":"0","v":0},0]
[null,null,null,null,null,null,null,null,null,null,null,null,null,null,null,null,"OutC1",{"$f":"($V$78*$W$81+$V$102*$W$105)","v":20.537968305637431},0,null,null,null,null,null,null,null,null,null,null,null,null,"OutC2",{"$f":"qwohiv","v":28.309677443975772},0]
[]
[]
[]
[]
[null,null,null,null,null,null,null,null,null,null,null,null,null,null,null,null,null,null,null,null,null,null,null,null,null,null,{"$f":"newbase","v":0.35118918918918918},"HIV+ infant"]
[]
[null,null,null,null,null,null,null,null,null,null,null,null,null,null,null,null,null,null,null,null,null,null,null,null,null,null,"Cost1",{"$f":"lifecost","v":542974.1822178018},0]
[null,null,null,null,null,null,null,null,null,null,null,null,null,null,null,null,null,null,null,null,null,null,null,null,null,null,"OutC1",{"$f":"qwhiv","v":6.179983883985118},0]
[null,null,null,null,null,null,null,null,null,null,null,null,null,null,null,null,null,null,null,null,null,{"$f":"(1-sens)","v":0},"HIV- result"]
[]
[null,null,null,null,null,null,null,null,null,null,null,{"$f":"lateanc","v":4.0000000000000036E-2},"Late ANC",null,null,null,null,null,null,null,null,"Cost2",{"$f":"($AA$98*$AB$100+$AA$106*$AB$108)","v":190686.66280373288},0]
[null,null,null,null,null,null,null,null,null,null,null,null,null,null,null,null,null,null,null,null,null,"OutC2",{"$f":"($AA$98*$AB$101+$AA$106*$AB$109)","v":20.537968305637431},0]
[null,null,null,null,null,null,null,null,null,null,null,"Cost2",{"$f":"($Q$90*$R$92+$Q$118*$R$120)","v":190686.66280373288},0,null,null,null,null,null,null,null,null,null,null,null,null,{"$f":"1-AA98","v":0.64881081081081082},"HIV- infant"]
[null,null,null,null,null,null,null,null,null,null,null,"OutC2",{"$f":"($Q$90*$R$93+$Q$118*$R$121)","v":20.537968305637431},0]
[null,null,null,null,null,null,null,null,null,null,null,null,null,null,null,null,null,null,null,null,null,null,null,null,null,null,"Cost2",{"$f":"0","v":0},0]
[null,null,null,null,null,null,null,null,null,null,null,null,null,null,null,null,null,null,null,null,null,null,null,null,null,null,"OutC2",{"$f":"qwohiv","v":28.309677443975772},0]
[]
[]
[]
[]
[null,null,null,null,null,null,null,null,null,null,null,null,null,null,null,null,null,null,null,null,null,{"$f":"newbase","v":0.35118918918918918},"HIV+ infant"]
[]
[null,null,null,null,null,null,null,null,null,null,null,null,null,null,null,null,null,null,null,null,null,"Cost1",{"$f":"ndcost+lifecost","v":542974.1822178018},0]
[null,null,null,null,null,null,null,null,null,null,null,null,null,null,null,null,null,null,null,null,null,"OutC1",{"$f":"qwhiv","v":6.179983883985118},0]
[null,null,null,null,null,null,null,null,null,null,null,null,null,null,null,null,{"$f":"1-Q90","v":1},"Reject HIV Test"]
[]
[null,null,null,null,null,null,null,null,null,null,null,null,null,null,null,null,"Cost2",{"$f":"($V$114*$W$116+$V$122*$W$124)","v":190686.66280373288},0]
[null,null,null,null,null,null,null,null,null,null,null,null,null,null,null,null,"OutC2",{"$f":"($V$114*$W$117+$V$122*$W$125)","v":20.537968305637431},0]
[null,null,null,null,null,null,null,null,null,null,null,null,null,null,null,null,null,null,null,null,null,{"$f":"1-V114","v":0.64881081081081082},"HIV- infant"]
[]
[null,null,null,null,null,null,null,null,null,null,null,null,null,null,null,null,null,null,null,null,null,"Cost2",{"$f":"0+ndcost","v":0},0]
[null,null,null,null,null,null,null,null,null,null,null,null,null,null,null,null,null,null,null,null,null,"OutC2",{"$f":"qwohiv","v":28.309677443975772},0]
[]
[]
[]
[]
[null,null,null,null,null,null,null,null,null,null,null,null,null,null,null,null,null,null,null,null,null,null,null,null,null,null,null,null,null,null,null,0,"HIV+ infant"]
[]
[null,null,null,null,null,null,null,null,null,null,null,null,null,null,null,null,null,null,null,null,null,null,null,null,null,null,null,null,null,null,null,"Cost1",{"$f":"lifecost","v":542974.1822178018},0]
[null,null,null,null,null,null,null,null,null,null,null,null,null,null,null,null,null,null,null,null,null,null,null,null,null,null,null,null,null,null,null,"OutC1",{"$f":"qwhiv","v":6.179983883985118},0]
[null,null,null,null,null,null,null,null,null,null,null,null,null,null,null,null,null,null,null,null,null,null,null,null,null,null,{"$f":"acceptsq","v":0.95},"Accept VTP"]
[]
[null,null,"sq",null,null,null,null,null,null,null,null,null,null,null,null,null,null,null,null,null,null,null,null,null,null,null,"Cost1",{"$f":"($AF$130*$AG$132+$AF$138*$AG$140)","v":0},0]
[null,null,null,null,null,null,null,null,null,null,null,null,null,null,null,null,null,null,null,null,null,null,null,null,null,null,"OutC1",{"$f":"($AF$130*$AG$133+$AF$138*$AG$141)","v":28.309677443975772},0]
[null,"Cost1",{"$f":"($G$72*$H$74+$G$200*$H$202)","v":46.795501674190412},null,null,null,null,null,null,null,null,null,null,null,null,null,null,null,null,null,null,null,null,null,null,null,null,null,null,null,null,{"$f":"1-AF130","v":1},"HIV- infant"]
[null,"OutC1",{"$f":"($G$72*$H$75+$G$200*$H$203)","v":28.307770226015968}]
[null,null,null,null,null,null,null,null,null,null,null,null,null,null,null,null,null,null,null,null,null,null,null,null,null,null,null,null,null,null,null,"Cost2",{"$f":"0","v":0},0]
[null,null,null,null,null,null,null,null,null,null,null,null,null,null,null,null,null,null,null,null,null,null,null,null,null,null,null,null,null,null,null,"OutC2",{"$f":"qwohiv","v":28.309677443975772},0]
[null,null,null,null,null,null,null,null,null,null,null,null,null,null,null,null,null,null,null,null,null,{"$f":"1-(spec)","v":0},"HIV+ result"]
[]
[null,null,null,null,null,null,null,null,null,null,null,null,null,null,null,null,null,null,null,null,null,"Cost1",{"$f":"($AA$134*$AB$136+$AA$150*$AB$152)","v":0},0]
[null,null,null,null,null,null,null,null,null,null,null,null,null,null,null,null,null,null,null,null,null,"OutC1",{"$f":"($AA$134*$AB$137+$AA$150*$AB$153)","v":28.309677443975772},0]
[null,null,null,null,null,null,null,null,null,null,null,null,null,null,null,null,null,null,null,null,null,null,null,null,null,null,null,null,null,null,null,0,"HIV+ infant"]
[]
[null,null,null,null,null,null,null,null,null,null,null,null,null,null,null,null,null,null,null,null,null,null,null,null,null,null,null,null,null,null,null,"Cost1",{"$f":"lifecost","v":542974.1822178018},0]
[null,null,null,null,null,null,null,null,null,null,null,null,null,null,null,null,null,null,null,null,null,null,null,null,null,null,null,null,null,null,null,"OutC1",{"$f":"qwhiv","v":6.179983883985118},0]
[null,null,null,null,null,null,null,null,null,null,null,null,null,null,null,null,null,null,null,null,null,null,null,null,null,null,{"$f":"1-AA134","v":5.0000000000000044E-2},"Reject VTP"]
[]
[null,null,null,null,null,null,null,null,null,null,null,null,null,null,null,null,null,null,null,null,null,null,null,null,null,null,"Cost2",{"$f":"($AF$146*$AG$148+$AF$154*$AG$156)","v":0},0]
[null,null,null,null,null,null,null,null,null,null,null,null,null,null,null,null,null,null,null,null,null,null,null,null,null,null,"OutC2",{"$f":"($AF$146*$AG$149+$AF$154*$AG$157)","v":28.309677443975772},0]
[null,null,null,null,null,null,null,null,null,null,null,null,null,null,null,null,{"$f":"0","v":0},"Accept HIV Test",null,null,null,null,null,null,null,null,null,null,null,null,null,{"$f":"1-AF146","v":1},"HIV- infant"]
[]
[null,null,null,null,null,null,null,null,null,null,null,null,null,null,null,null,"Cost1",{"$f":"($V$142*$W$144+$V$166*$W$168)","v":0},0,null,null,null,null,null,null,null,null,null,null,null,null,"Cost2",{"$f":"0","v":0},0]
[null,null,null,null,null,null,null,null,null,null,null,null,null,null,null,null,"OutC1",{"$f":"($V$142*$W$145+$V$166*$W$169)","v":28.309677443975772},0,null,null,null,null,null,null,null,null,null,null,null,null,"OutC2",{"$f":"qwohiv","v":28.309677443975772},0]
[]
[]
[]
[]
[null,null,null,null,null,null,null,null,null,null,null,null,null,null,null,null,null,null,null,null,null,null,null,null,null,null,0,"HIV+ infant"]
[]
[null,null,null,null,null,null,null,null,null,null,null,null,null,null,null,null,null,null,null,null,null,null,null,null,null,null,"Cost1",{"$f":"lifecost","v":542974.1822178018},0]
[null,null,null,null,null,null,null,null,null,null,null,null,null,null,null,null,null,null,null,null,null,null,null,null,null,null,"OutC1",{"$f":"qwhiv","v":6.179983883985118},0]
[null,null,null,null,null,null,null,null,null,null,null,null,null,null,null,null,null,null,null,null,null,{"$f":"spec","v":1},"HIV- result"]
[]
[null,null,null,null,null,null,null,null,null,null,null,{"$f":"earlyanc","v":0.96},"Early ANC",null,null,null,null,null,null,null,null,"Cost2",{"$f":"($AA$162*$AB$164+$AA$170*$AB$172)","v":0},0]
[null,null,null,null,null,null,null,null,null,null,null,null,null,null,null,null,null,null,null,null,null,"OutC2",{"$f":"($AA$162*$AB$165+$AA$170*$AB$173)","v":28.309677443975772},0]
[null,null,null,null,null,null,null,null,null,null,null,"Cost1",{"$f":"($Q$154*$R$156+$Q$182*$R$184)","v":0},0,null,null,null,null,null,null,null,null,null,null,null,null,{"$f":"1-AA162","v":1},"HIV- infant"]
[null,null,null,null,null,null,null,null,null,null,null,"OutC1",{"$f":"($Q$154*$R$157+$Q$182*$R$185)","v":28.309677443975772},0]
[null,null,null,null,null,null,null,null,null,null,null,null,null,null,null,null,null,null,null,null,null,null,null,null,null,null,"Cost2",{"$f":"0","v":0},0]
[null,null,null,null,null,null,null,null,null,null,null,null,null,null,null,null,null,null,null,null,null,null,null,null,null,null,"OutC2",{"$f":"qwohiv","v":28.309677443975772},0]
[]
[]
[]
[]
[null,null,null,null,null,null,null,null,null,null,null,null,null,null,null,null,null,null,null,null,null,0,"HIV+ infant"]
[]
[null,null,null,null,null,null,null,null,null,null,null,null,null,null,null,null,null,null,null,null,null,"Cost1",{"$f":"lifecost","v":542974.1822178018},0]
[null,null,null,null,null,null,null,null,null,null,null,null,null,null,null,null,null,null,null,null,null,"OutC1",{"$f":"qwhiv","v":6.179983883985118},0]
[null,null,null,null,null,null,null,null,null,null,null,null,null,null,null,null,{"$f":"1-Q154","v":1},"Reject HIV Test"]
[]
[null,null,null,null,null,null,null,null,null,null,null,null,null,null,null,null,"Cost2",{"$f":"($V$178*$W$180+$V$186*$W$188)","v":0},0]
[null,null,null,null,null,null,null,null,null,null,null,null,null,null,null,null,"OutC2",{"$f":"($V$178*$W$181+$V$186*$W$189)","v":28.309677443975772},0]
[null,null,null,null,null,null,null,null,null,null,null,null,null,null,null,null,null,null,null,null,null,{"$f":"1-V178","v":1},"HIV- infant"]
[]
[null,null,null,null,null,null,null,null,null,null,null,null,null,null,null,null,null,null,null,null,null,"Cost2",{"$f":"0+ndcost","v":0},0]
[null,null,null,null,null,null,null,null,null,null,null,null,null,null,null,null,null,null,null,null,null,"OutC2",{"$f":"qwohiv","v":28.309677443975772},0]
[]
[]
[]
[]
[null,null,null,null,null,null,null,null,null,null,null,null,null,null,null,null,null,null,null,null,null,null,null,null,null,null,null,null,null,null,null,0,"HIV+ infant"]
[]
[null,null,null,null,null,null,null,null,null,null,null,null,null,null,null,null,null,null,null,null,null,null,null,null,null,null,null,null,null,null,null,"Cost1",{"$f":"lifecost","v":542974.1822178018},0]
[null,null,null,null,null,null,null,null,null,null,null,null,null,null,null,null,null,null,null,null,null,null,null,null,null,null,null,null,null,null,null,"OutC1",{"$f":"qwhiv","v":6.179983883985118},0]
[null,null,null,null,null,null,null,null,null,null,null,null,null,null,null,null,null,null,null,null,null,null,null,null,null,null,{"$f":"acceptsq","v":0.95},"Accept VTP"]
[]
[null,null,null,null,null,null,{"$f":"1-G72","v":0.99975185491391949},"HIV- pregnant",null,null,null,null,null,null,null,null,null,null,null,null,null,null,null,null,null,null,"Cost1",{"$f":"($AF$194*$AG$196+$AF$202*$AG$204)","v":0},0]
[null,null,null,null,null,null,null,null,null,null,null,null,null,null,null,null,null,null,null,null,null,null,null,null,null,null,"OutC1",{"$f":"($AF$194*$AG$197+$AF$202*$AG$205)","v":28.309677443975772},0]
[null,null,null,null,null,null,"Cost2",{"$f":"($L$168*$M$170+$L$232*$M$234)","v":0},0,null,null,null,null,null,null,null,null,null,null,null,null,null,null,null,null,null,null,null,null,null,null,{"$f":"1-AF194","v":1},"HIV- infant"]
[null,null,null,null,null,null,"OutC2",{"$f":"($L$168*$M$171+$L$232*$M$235)","v":28.309677443975772},0]
[null,null,null,null,null,null,null,null,null,null,null,null,null,null,null,null,null,null,null,null,null,null,null,null,null,null,null,null,null,null,null,"Cost2",{"$f":"0","v":0},0]
[null,null,null,null,null,null,null,null,null,null,null,null,null,null,null,null,null,null,null,null,null,null,null,null,null,null,null,null,null,null,null,"OutC2",{"$f":"qwohiv","v":28.309677443975772},0]
[null,null,null,null,null,null,null,null,null,null,null,null,null,null,null,null,null,null,null,null,null,{"$f":"1-spec","v":0},"HIV+ result"]
[]
[null,null,null,null,null,null,null,null,null,null,null,null,null,null,null,null,null,null,null,null,null,"Cost1",{"$f":"($AA$198*$AB$200+$AA$214*$AB$216)","v":0},0]
[null,null,null,null,null,null,null,null,null,null,null,null,null,null,null,null,null,null,null,null,null,"OutC1",{"$f":"($AA$198*$AB$201+$AA$214*$AB$217)","v":28.309677443975772},0]
[null,null,null,null,null,null,null,null,null,null,null,null,null,null,null,null,null,null,null,null,null,null,null,null,null,null,null,null,null,null,null,0,"HIV+ infant"]
[]
[null,null,null,null,null,null,null,null,null,null,null,null,null,null,null,null,null,null,null,null,null,null,null,null,null,null,null,null,null,null,null,"Cost1",{"$f":"lifecost","v":542974.1822178018},0]
[null,null,null,null,null,null,null,null,null,null,null,null,null,null,null,null,null,null,null,null,null,null,null,null,null,null,null,null,null,null,null,"OutC1",{"$f":"qwhiv","v":6.179983883985118},0]
[null,null,null,null,null,null,null,null,null,null,null,null,null,null,null,null,null,null,null,null,null,null,null,null,null,null,{"$f":"1-AA198","v":5.0000000000000044E-2},"Reject VTP"]
[]
[null,null,null,null,null,null,null,null,null,null,null,null,null,null,null,null,null,null,null,null,null,null,null,null,null,null,"Cost2",{"$f":"($AF$210*$AG$212+$AF$218*$AG$220)","v":0},0]
[null,null,null,null,null,null,null,null,null,null,null,null,null,null,null,null,null,null,null,null,null,null,null,null,null,null,"OutC2",{"$f":"($AF$210*$AG$213+$AF$218*$AG$221)","v":28.309677443975772},0]
[null,null,null,null,null,null,null,null,null,null,null,null,null,null,null,null,{"$f":"0","v":0},"Accept HIV Test",null,null,null,null,null,null,null,null,null,null,null,null,null,{"$f":"1-AF210","v":1},"HIV- infant"]
[]
[null,null,null,null,null,null,null,null,null,null,null,null,null,null,null,null,"Cost1",{"$f":"($V$206*$W$208+$V$230*$W$232)","v":0},0,null,null,null,null,null,null,null,null,null,null,null,null,"Cost2",{"$f":"0","v":0},0]
[null,null,null,null,null,null,null,null,null,null,null,null,null,null,null,null,"OutC1",{"$f":"($V$206*$W$209+$V$230*$W$233)","v":28.309677443975772},0,null,null,null,null,null,null,null,null,null,null,null,null,"OutC2",{"$f":"qwohiv","v":28.309677443975772},0]
[]
[]
[]
[]
[null,null,null,null,null,null,null,null,null,null,null,null,null,null,null,null,null,null,null,null,null,null,null,null,null,null,0,"HIV+ infant"]
[]
[null,null,null,null,null,null,null,null,null,null,null,null,null,null,null,null,null,null,null,null,null,null,null,null,null,null,"Cost1",{"$f":"lifecost","v":542974.1822178018},0]
[null,null,null,null,null,null,null,null,null,null,null,null,null,null,null,null,null,null,null,null,null,null,null,null,null,null,"OutC1",{"$f":"qwhiv","v":6.179983883985118},0]
[null,null,null,null,null,null,null,null,null,null,null,null,null,null,null,null,null,null,null,null,null,{"$f":"spec","v":1},"HIV- result"]
[]
[null,null,null,null,null,null,null,null,null,null,null,{"$f":"lateanc","v":4.0000000000000036E-2},"Late ANC",null,null,null,null,null,null,null,null,"Cost2",{"$f":"($AA$226*$AB$228+$AA$234*$AB$236)","v":0},0]
[null,null,null,null,null,null,null,null,null,null,null,null,null,null,null,null,null,null,null,null,null,"OutC2",{"$f":"($AA$226*$AB$229+$AA$234*$AB$237)","v":28.309677443975772},0]
[null,null,null,null,null,null,null,null,null,null,null,"Cost2",{"$f":"($Q$218*$R$220+$Q$246*$R$248)","v":0},0,null,null,null,null,null,null,null,null,null,null,null,null,{"$f":"1-AA226","v":1},"HIV- infant"]
[null,null,null,null,null,null,null,null,null,null,null,"OutC2",{"$f":"($Q$218*$R$221+$Q$246*$R$249)","v":28.309677443975772},0]
[null,null,null,null,null,null,null,null,null,null,null,null,null,null,null,null,null,null,null,null,null,null,null,null,null,null,"Cost2",{"$f":"0","v":0},0]
[null,null,null,null,null,null,null,null,null,null,null,null,null,null,null,null,null,null,null,null,null,null,null,null,null,null,"OutC2",{"$f":"qwohiv","v":28.309677443975772},0]
[]
[]
[]
[]
[null,null,null,null,null,null,null,null,null,null,null,null,null,null,null,null,null,null,null,null,null,0,"HIV+ infant"]
[]
[null,null,null,null,null,null,null,null,null,null,null,null,null,null,null,null,null,null,null,null,null,"Cost1",{"$f":"lifecost","v":542974.1822178018},0]
[null,null,null,null,null,null,null,null,null,null,null,null,null,null,null,null,null,null,null,null,null,"OutC1",{"$f":"qwhiv","v":6.179983883985118},0]
[null,null,null,null,null,null,null,null,null,null,null,null,null,null,null,null,{"$f":"1-Q218","v":1},"Reject HIV Test"]
[]
[null,null,null,null,null,null,null,null,null,null,null,null,null,null,null,null,"Cost2",{"$f":"($V$242*$W$244+$V$250*$W$252)","v":0},0]
[null,null,null,null,null,null,null,null,null,null,null,null,null,null,null,null,"OutC2",{"$f":"($V$242*$W$245+$V$250*$W$253)","v":28.309677443975772},0]
[null,null,null,null,null,null,null,null,null,null,null,null,null,null,null,null,null,null,null,null,null,{"$f":"1-V242","v":1},"HIV- infant"]
[]
[null,null,null,null,null,null,null,null,null,null,null,null,null,null,null,null,null,null,null,null,null,"Cost2",{"$f":"+ndcost","v":0},0]
[null,null,null,null,null,null,null,null,null,null,null,null,null,null,null,null,null,null,null,null,null,"OutC2",{"$f":"qwohiv","v":28.309677443975772},0]

{"sheet":"Tree for Status Quo","index":26,"n_rows":253,"n_cols":34,"rows_kept":253,"cut":false,"hidden":false,"merged":[]}
["Plant-A-Tree"]
["Supported by iDSI",null,null,null,null,null,null,null,null,null,null,null,null,null,null,null,null,null,null,null,null,null,null,null,null,null,null,null,null,null,null,{"$f":"sqearly","v":5.3544023005561798E-4},"HIV+ infant"]
[]
[null,null,null,null,null,null,null,null,null,null,null,null,null,null,null,null,null,null,null,null,null,null,null,null,null,null,null,null,null,null,null,"Cost1",{"$f":"HIVtestcost+outhivcost+cscost+lifecost+cd4test+vltest+npcost","v":571559.82171621465},0]
[null,null,null,null,null,null,null,null,null,null,null,null,null,null,null,null,null,null,null,null,null,null,null,null,null,null,null,null,null,null,null,"OutC1",{"$f":"qwhiv","v":6.179983883985118},0]
[null,null,null,null,null,null,null,null,null,null,null,null,null,null,null,null,null,null,null,null,null,null,null,null,null,null,{"$f":"acceptsq","v":0.95},"Accept VTP"]
[]
[null,null,null,null,null,null,null,null,null,null,null,null,null,null,null,null,null,null,null,null,null,null,null,null,null,null,"Cost1",{"$f":"($AF$2*$AG$4+$AF$10*$AG$12)","v":28876.369719453662},0]
[null,null,null,null,null,null,null,null,null,null,null,null,null,null,null,null,null,null,null,null,null,null,null,null,null,null,"OutC1",{"$f":"($AF$2*$AG$5+$AF$10*$AG$13)","v":28.297828315764953},0]
[null,null,null,null,null,null,null,null,null,null,null,null,null,null,null,null,null,null,null,null,null,null,null,null,null,null,null,null,null,null,null,{"$f":"1-AF2","v":0.99946455976994442},"HIV- infant"]
[]
[null,null,null,null,null,null,null,null,null,null,null,null,null,null,null,null,null,null,null,null,null,null,null,null,null,null,null,null,null,null,null,"Cost2",{"$f":"HIVtestcost+outhivcost+cscost+cd4test+vltest+npcost","v":28585.639498412696},0]
[null,null,null,null,null,null,null,null,null,null,null,null,null,null,null,null,null,null,null,null,null,null,null,null,null,null,null,null,null,null,null,"OutC2",{"$f":"qwohiv","v":28.309677443975772},0]
[null,null,null,null,null,null,null,null,null,null,null,null,null,null,null,null,null,null,null,null,null,{"$f":"sens","v":1},"HIV+result"]
[]
[null,null,null,null,null,null,null,null,null,null,null,null,null,null,null,null,null,null,null,null,null,"Cost1",{"$f":"($AA$6*$AB$8+$AA$22*$AB24)","v":37109.477715254929},0]
[null,null,null,null,null,null,null,null,null,null,null,null,null,null,null,null,null,null,null,null,null,"OutC1",{"$f":"($AA$6*$AB$9+$AA$22*$AB$25)","v":27.909835315258579},0]
[null,null,null,null,null,null,null,null,null,null,null,null,null,null,null,null,null,null,null,null,null,null,null,null,null,null,null,null,null,null,null,{"$f":"newbase","v":0.35118918918918918},"HIV+ infant"]
[]
[null,null,null,null,null,null,null,null,null,null,null,null,null,null,null,null,null,null,null,null,null,null,null,null,null,null,null,null,null,null,null,"Cost1",{"$f":"HIVtestcost+lifecost+ndcost+cd4test","v":545826.04904954787},0]
[null,null,null,null,null,null,null,null,null,null,null,null,null,null,null,null,null,null,null,null,null,null,null,null,null,null,null,null,null,null,null,"OutC1",{"$f":"qwhiv","v":6.179983883985118},0]
[null,null,null,null,null,null,null,null,null,null,null,null,null,null,null,null,null,null,null,null,null,null,null,null,null,null,{"$f":"1-AA6","v":5.0000000000000044E-2},"Reject VTP"]
[]
[null,null,null,null,null,null,null,null,null,null,null,null,null,null,null,null,null,null,null,null,null,null,null,null,null,null,"Cost2",{"$f":"($AF$18*$AG$20+$AF$26*$AG$28)","v":193538.52963547892},0]
[null,null,null,null,null,null,null,null,null,null,null,null,null,null,null,null,null,null,null,null,null,null,null,null,null,null,"OutC2",{"$f":"($AF$18*$AG$21+$AF$26*$AG$29)","v":20.537968305637431},0]
[null,null,null,null,null,null,null,null,null,null,null,null,null,null,null,null,{"$f":"acceptHIV*percentsqs","v":9.0682481309735649E-2},"Accept HIV Test",null,null,null,null,null,null,null,null,null,null,null,null,null,{"$f":"1-AF18","v":0.64881081081081082},"HIV- infant"]
[]
[null,null,null,null,null,null,null,null,null,null,null,null,null,null,null,null,"Cost1",{"$f":"($V$14*$W$16+$V$38*$W$40)","v":37109.477715254929},0,null,null,null,null,null,null,null,null,null,null,null,null,"Cost2",{"$f":"HIVtestcost+ndcost+cd4test","v":2851.8668317460319},0]
[null,null,null,null,null,null,null,null,null,null,null,null,null,null,null,null,"OutC1",{"$f":"($V$14*$W$17+$V$38*$W$41)","v":27.909835315258579},0,null,null,null,null,null,null,null,null,null,null,null,null,"OutC2",{"$f":"qwohiv","v":28.309677443975772},0]
[]
[]
[]
[]
[null,null,null,null,null,null,null,null,null,null,null,null,null,null,null,null,null,null,null,null,null,null,null,null,null,null,{"$f":"newbase","v":0.35118918918918918},"HIV+ infant"]
[]
[null,null,null,null,null,null,null,null,null,null,null,null,null,null,null,null,null,null,null,null,null,null,null,null,null,null,"Cost1",{"$f":"reqHIVtestcost+lifecost+ndcost","v":543540.85221780185},0]
[null,null,null,null,null,null,null,null,null,null,null,null,null,null,null,null,null,null,null,null,null,null,null,null,null,null,"OutC1",{"$f":"qwhiv","v":6.179983883985118},0]
[null,null,null,null,null,null,null,null,null,null,null,null,null,null,null,null,null,null,null,null,null,{"$f":"(1-sens)","v":0},"HIV- result"]
[]
[null,null,null,null,null,null,null,null,null,null,null,{"$f":"earlyanc","v":0.96},"Early ANC",null,null,null,null,null,null,null,null,"Cost2",{"$f":"($AA$34*$AB$36+$AA$42*$AB$44)","v":191253.33280373289},0]
[null,null,null,null,null,null,null,null,null,null,null,null,null,null,null,null,null,null,null,null,null,"OutC2",{"$f":"($AA$34*$AB$37+$AA$42*$AB$45)","v":20.537968305637431},0]
[null,null,null,null,null,null,null,null,null,null,null,"Cost1",{"$f":"($Q$26*$R$28+$Q$54*$R$56)","v":174765.60973198767},0,null,null,null,null,null,null,null,null,null,null,null,null,{"$f":"1-AA34","v":0.64881081081081082},"HIV- infant"]
[null,null,null,null,null,null,null,null,null,null,null,"OutC1",{"$f":"($Q$26*$R$29+$Q$54*$R$57)","v":21.287747770946645},0]
[null,null,null,null,null,null,null,null,null,null,null,null,null,null,null,null,null,null,null,null,null,null,null,null,null,null,"Cost2",{"$f":"reqHIVtestcost+ndcost","v":566.66999999999996},0]
[null,null,null,null,null,null,null,null,null,null,null,null,null,null,null,null,null,null,null,null,null,null,null,null,null,null,"OutC2",{"$f":"qwohiv","v":28.309677443975772},0]
[]
[]
[]
[]
[null,null,null,null,null,null,null,null,null,null,null,null,null,null,null,null,null,null,null,null,null,0.34715000000000001,"HIV+ infant"]
[]
[null,null,null,null,null,null,null,null,null,null,null,null,null,null,null,null,null,null,null,null,null,"Cost1",{"$f":"ndcost+lifecost","v":542974.1822178018},0]
[null,null,null,null,null,null,null,null,null,null,null,null,null,null,null,null,null,null,null,null,null,"OutC1",{"$f":"qwhiv","v":6.179983883985118},0]
[null,null,null,null,null,null,null,null,null,null,null,null,null,null,null,null,{"$f":"1-Q26","v":0.90931751869026434},"Reject HIV Test"]
[]
[null,null,null,null,null,null,null,null,null,null,null,null,null,null,null,null,"Cost2",{"$f":"($V$50*$W$52+$V$58*$W$60)","v":188493.4873569099},0]
[null,null,null,null,null,null,null,null,null,null,null,null,null,null,null,null,"OutC2",{"$f":"($V$50*$W$53+$V$58*$W$61)","v":20.627354324625014},0]
[null,null,null,null,null,null,null,null,null,null,null,null,null,null,null,null,null,null,null,null,null,{"$f":"1-V50","v":0.65284999999999993},"HIV- infant"]
[]
[null,null,null,null,null,null,null,null,null,null,null,null,null,null,null,null,null,null,null,null,null,"Cost2",{"$f":"ndcost","v":0},0]
[null,null,null,null,null,null,null,null,null,null,null,null,null,null,null,null,null,null,null,null,null,"OutC2",{"$f":"qwohiv","v":28.309677443975772},0]
[]
[]
[]
[]
[null,null,null,null,null,null,null,null,null,null,null,null,null,null,null,null,null,null,null,null,null,null,null,null,null,null,null,null,null,null,null,{"$f":"sqlate","v":0.12349111490443733},"HIV+ infant"]
[]
[null,null,null,null,null,null,null,null,null,null,null,null,null,null,null,null,null,null,null,null,null,null,null,null,null,null,null,null,null,null,null,"Cost1",{"$f":"HIVtestcost+outhivcost+lifecost+cscost+cd4test+vltest+npcost","v":571559.82171621453},0]
[null,null,null,null,null,null,null,null,null,null,null,null,null,null,null,null,null,null,null,null,null,null,null,null,null,null,null,null,null,null,null,"OutC1",{"$f":"qwhiv","v":6.179983883985118},0]
[null,null,null,null,null,null,null,null,null,null,null,null,null,null,null,null,null,null,null,null,null,null,null,null,null,null,{"$f":"acceptsq","v":0.95},"Accept VTP"]
[]
[null,null,null,null,null,null,{"$f":"pwhiv/pop","v":2.4814508608047192E-4},"HIV+ pregnant",null,null,null,null,null,null,null,null,null,null,null,null,null,null,null,null,null,null,"Cost1",{"$f":"($AF$66*$AG$68+$AF$74*$AG$76)","v":95638.126624814162},0]
[null,null,null,null,null,null,null,null,null,null,null,null,null,null,null,null,null,null,null,null,null,null,null,null,null,null,"OutC1",{"$f":"($AF$66*$AG$69+$AF$74*$AG$77)","v":25.576856913758981},0]
[null,null,null,null,null,null,"Cost1",{"$f":"($L$40*$M$42+$L$104*$M$106)","v":175075.43807356743},0,null,null,null,null,null,null,null,null,null,null,null,null,null,null,null,null,null,null,null,null,null,null,{"$f":"1-AF66","v":0.87650888509556268},"HIV- infant"]
[null,null,null,null,null,null,"OutC1",{"$f":"($L$40*$M$43+$L$104*$M$107)","v":21.275120271371335},0]
[null,null,null,null,null,null,null,null,null,null,null,null,null,null,null,null,null,null,null,null,null,null,null,null,null,null,null,null,null,null,null,"Cost2",{"$f":"HIVtestcost+outhivcost+cscost+cd4test+vltest+npcost","v":28585.639498412696},0]
[null,null,null,null,null,null,null,null,null,null,null,null,null,null,null,null,null,null,null,null,null,null,null,null,null,null,null,null,null,null,null,"OutC2",{"$f":"qwohiv","v":28.309677443975772},0]
[null,null,null,null,null,null,null,null,null,null,null,null,null,null,null,null,null,null,null,null,null,{"$f":"sens","v":1},"HIV+ result"]
[]
[null,null,null,null,null,null,null,null,null,null,null,null,null,null,null,null,null,null,null,null,null,"Cost1",{"$f":"($AA$70*$AB$72+$AA$86*$AB$88)","v":100533.14677534741},0]
[null,null,null,null,null,null,null,null,null,null,null,null,null,null,null,null,null,null,null,null,null,"OutC1",{"$f":"($AA$70*$AB$73+$AA$86*$AB$89)","v":25.324912483352904},0]
[null,null,null,null,null,null,null,null,null,null,null,null,null,null,null,null,null,null,null,null,null,null,null,null,null,null,null,null,null,null,null,{"$f":"newbase","v":0.35118918918918918},"HIV+ infant"]
[]
[null,null,null,null,null,null,null,null,null,null,null,null,null,null,null,null,null,null,null,null,null,null,null,null,null,null,null,null,null,null,null,"Cost1",{"$f":"HIVtestcost+lifecost+ndcost+cd4test","v":545826.04904954787},0]
[null,null,null,null,null,null,null,null,null,null,null,null,null,null,null,null,null,null,null,null,null,null,null,null,null,null,null,null,null,null,null,"OutC1",{"$f":"qwhiv","v":6.179983883985118},0]
[null,null,null,null,null,null,null,null,null,null,null,null,null,null,null,null,null,null,null,null,null,null,null,null,null,null,{"$f":"1-AA70","v":5.0000000000000044E-2},"Reject VTP"]
[]
[null,null,null,null,null,null,null,null,null,null,null,null,null,null,null,null,null,null,null,null,null,null,null,null,null,null,"Cost2",{"$f":"($AF$82*$AG$84+$AF$90*$AG$92)","v":193538.52963547892},0]
[null,null,null,null,null,null,null,null,null,null,null,null,null,null,null,null,null,null,null,null,null,null,null,null,null,null,"OutC2",{"$f":"($AF$82*$AG$85+$AF$90*$AG$93)","v":20.537968305637431},0]
[null,null,null,null,null,null,null,null,null,null,null,null,null,null,null,null,{"$f":"acceptHIV*percentsqs","v":9.0682481309735649E-2},"Accept HIV Test",null,null,null,null,null,null,null,null,null,null,null,null,null,{"$f":"1-AF82","v":0.64881081081081082},"HIV- infant"]
[]
[null,null,null,null,null,null,null,null,null,null,null,null,null,null,null,null,"Cost1",{"$f":"($V$78*$W$80+$V$102*$W$104)","v":100533.14677534741},0,null,null,null,null,null,null,null,null,null,null,null,null,"Cost2",{"$f":"HIVtestcost+ndcost+cd4test","v":2851.8668317460319},0]
[null,null,null,null,null,null,null,null,null,null,null,null,null,null,null,null,"OutC1",{"$f":"($V$78*$W$81+$V$102*$W$105)","v":25.324912483352904},0,null,null,null,null,null,null,null,null,null,null,null,null,"OutC2",{"$f":"qwohiv","v":28.309677443975772},0]
[]
[]
[]
[]
[null,null,null,null,null,null,null,null,null,null,null,null,null,null,null,null,null,null,null,null,null,null,null,null,null,null,{"$f":"newbase","v":0.35118918918918918},"HIV+ infant"]
[]
[null,null,null,null,null,null,null,null,null,null,null,null,null,null,null,null,null,null,null,null,null,null,null,null,null,null,"Cost1",{"$f":"reqHIVtestcost+ndcost+lifecost","v":543540.85221780185},0]
[null,null,null,null,null,null,null,null,null,null,null,null,null,null,null,null,null,null,null,null,null,null,null,null,null,null,"OutC1",{"$f":"qwhiv","v":6.179983883985118},0]
[null,null,null,null,null,null,null,null,null,null,null,null,null,null,null,null,null,null,null,null,null,{"$f":"(1-sens)","v":0},"HIV- result"]
[]
[null,null,null,null,null,null,null,null,null,null,null,{"$f":"lateanc","v":4.0000000000000036E-2},"Late ANC",null,null,null,null,null,null,null,null,"Cost2",{"$f":"($AA$98*$AB$100+$AA$106*$AB$108)","v":191253.33280373289},0]
[null,null,null,null,null,null,null,null,null,null,null,null,null,null,null,null,null,null,null,null,null,"OutC2",{"$f":"($AA$98*$AB$101+$AA$106*$AB$109)","v":20.537968305637431},0]
[null,null,null,null,null,null,null,null,null,null,null,"Cost2",{"$f":"($Q$90*$R$92+$Q$118*$R$120)","v":182511.31827148187},0,null,null,null,null,null,null,null,null,null,null,null,null,{"$f":"1-AA98","v":0.64881081081081082},"HIV- infant"]
[null,null,null,null,null,null,null,null,null,null,null,"OutC2",{"$f":"($Q$90*$R$93+$Q$118*$R$121)","v":20.972060281563863},0]
[null,null,null,null,null,null,null,null,null,null,null,null,null,null,null,null,null,null,null,null,null,null,null,null,null,null,"Cost2",{"$f":"reqHIVtestcost+ndcost","v":566.66999999999996},0]
[null,null,null,null,null,null,null,null,null,null,null,null,null,null,null,null,null,null,null,null,null,null,null,null,null,null,"OutC2",{"$f":"qwohiv","v":28.309677443975772},0]
[]
[]
[]
[]
[null,null,null,null,null,null,null,null,null,null,null,null,null,null,null,null,null,null,null,null,null,{"$f":"newbase","v":0.35118918918918918},"HIV+ infant"]
[]
[null,null,null,null,null,null,null,null,null,null,null,null,null,null,null,null,null,null,null,null,null,"Cost1",{"$f":"ndcost+lifecost","v":542974.1822178018},0]
[null,null,null,null,null,null,null,null,null,null,null,null,null,null,null,null,null,null,null,null,null,"OutC1",{"$f":"qwhiv","v":6.179983883985118},0]
[null,null,null,null,null,null,null,null,null,null,null,null,null,null,null,null,{"$f":"1-acceptHIV*percentsqs","v":0.90931751869026434},"Reject HIV Test"]
[]
[null,null,null,null,null,null,null,null,null,null,null,null,null,null,null,null,"Cost2",{"$f":"($V$114*$W$116+$V$122*$W$124)","v":190686.66280373288},0]
[null,null,null,null,null,null,null,null,null,null,null,null,null,null,null,null,"OutC2",{"$f":"($V$114*$W$117+$V$122*$W$125)","v":20.537968305637431},0]
[null,null,null,null,null,null,null,null,null,null,null,null,null,null,null,null,null,null,null,null,null,{"$f":"1-V114","v":0.64881081081081082},"HIV- infant"]
[]
[null,null,null,null,null,null,null,null,null,null,null,null,null,null,null,null,null,null,null,null,null,"Cost2",{"$f":"0+ndcost","v":0},0]
[null,null,null,null,null,null,null,null,null,null,null,null,null,null,null,null,null,null,null,null,null,"OutC2",{"$f":"qwohiv","v":28.309677443975772},0]
[]
[]
[]
[]
[null,null,null,null,null,null,null,null,null,null,null,null,null,null,null,null,null,null,null,null,null,null,null,null,null,null,null,null,null,null,null,0,"HIV+ infant"]
[]
[null,null,null,null,null,null,null,null,null,null,null,null,null,null,null,null,null,null,null,null,null,null,null,null,null,null,null,null,null,null,null,"Cost1",{"$f":"HIVtestcost+outhivcost+cscost+lifecost+cd4test+vltest+npcost","v":571559.82171621465},0]
[null,null,null,null,null,null,null,null,null,null,null,null,null,null,null,null,null,null,null,null,null,null,null,null,null,null,null,null,null,null,null,"OutC1",{"$f":"qwhiv","v":6.179983883985118},0]
[null,null,null,null,null,null,null,null,null,null,null,null,null,null,null,null,null,null,null,null,null,null,null,null,null,null,{"$f":"acceptsq","v":0.95},"Accept VTP"]
[]
[null,null,"sq",null,null,null,null,null,null,null,null,null,null,null,null,null,null,null,null,null,null,null,null,null,null,null,"Cost1",{"$f":"($AF$130*$AG$132+$AF$138*$AG$140)","v":9585.6394984126982},0]
[null,null,null,null,null,null,null,null,null,null,null,null,null,null,null,null,null,null,null,null,null,null,null,null,null,null,"OutC1",{"$f":"($AF$130*$AG$133+$AF$138*$AG$141)","v":28.309677443975772},0]
[null,"Cost1",{"$f":"($G$72*$H$74+$G$200*$H$202)","v":94.818399893247573},null,null,null,null,null,null,null,null,null,null,null,null,null,null,null,null,null,null,null,null,null,null,null,null,null,null,null,null,{"$f":"1-AF130","v":1},"HIV- infant"]
[null,"OutC1",{"$f":"($G$72*$H$75+$G$200*$H$203)","v":28.307931853180637}]
[null,null,null,null,null,null,null,null,null,null,null,null,null,null,null,null,null,null,null,null,null,null,null,null,null,null,null,null,null,null,null,"Cost2",{"$f":"HIVtestcost+outhivcost+ndcost+cd4test+vltest+npcost","v":9585.6394984126982},0]
[null,null,null,null,null,null,null,null,null,null,null,null,null,null,null,null,null,null,null,null,null,null,null,null,null,null,null,null,null,null,null,"OutC2",{"$f":"qwohiv","v":28.309677443975772},0]
[null,null,null,null,null,null,null,null,null,null,null,null,null,null,null,null,null,null,null,null,null,{"$f":"1-(spec)","v":0},"HIV+ result"]
[]
[null,null,null,null,null,null,null,null,null,null,null,null,null,null,null,null,null,null,null,null,null,"Cost1",{"$f":"($AA$134*$AB$136+$AA$150*$AB$152)","v":9248.950865079365},0]
[null,null,null,null,null,null,null,null,null,null,null,null,null,null,null,null,null,null,null,null,null,"OutC1",{"$f":"($AA$134*$AB$137+$AA$150*$AB$153)","v":28.309677443975772},0]
[null,null,null,null,null,null,null,null,null,null,null,null,null,null,null,null,null,null,null,null,null,null,null,null,null,null,null,null,null,null,null,0,"HIV+ infant"]
[]
[null,null,null,null,null,null,null,null,null,null,null,null,null,null,null,null,null,null,null,null,null,null,null,null,null,null,null,null,null,null,null,"Cost1",{"$f":"HIVtestcost+lifecost+ndcost+cd4test","v":545826.04904954787},0]
[null,null,null,null,null,null,null,null,null,null,null,null,null,null,null,null,null,null,null,null,null,null,null,null,null,null,null,null,null,null,null,"OutC1",{"$f":"qwhiv","v":6.179983883985118},0]
[null,null,null,null,null,null,null,null,null,null,null,null,null,null,null,null,null,null,null,null,null,null,null,null,null,null,{"$f":"1-AA134","v":5.0000000000000044E-2},"Reject VTP"]
[]
[null,null,null,null,null,null,null,null,null,null,null,null,null,null,null,null,null,null,null,null,null,null,null,null,null,null,"Cost2",{"$f":"($AF$146*$AG$148+$AF$154*$AG$156)","v":2851.8668317460319},0]
[null,null,null,null,null,null,null,null,null,null,null,null,null,null,null,null,null,null,null,null,null,null,null,null,null,null,"OutC2",{"$f":"($AF$146*$AG$149+$AF$154*$AG$157)","v":28.309677443975772},0]
[null,null,null,null,null,null,null,null,null,null,null,null,null,null,null,null,{"$f":"acceptHIV*percentsqs","v":9.0682481309735649E-2},"Accept HIV Test",null,null,null,null,null,null,null,null,null,null,null,null,null,{"$f":"1-AF146","v":1},"HIV- infant"]
[]
[null,null,null,null,null,null,null,null,null,null,null,null,null,null,null,null,"Cost1",{"$f":"($V$142*$W$144+$V$166*$W$168)","v":566.66999999999996},0,null,null,null,null,null,null,null,null,null,null,null,null,"Cost2",{"$f":"HIVtestcost+ndcost+cd4test","v":2851.8668317460319},0]
[null,null,null,null,null,null,null,null,null,null,null,null,null,null,null,null,"OutC1",{"$f":"($V$142*$W$145+$V$166*$W$169)","v":28.309677443975772},0,null,null,null,null,null,null,null,null,null,null,null,null,"OutC2",{"$f":"qwohiv","v":28.309677443975772},0]
[]
[]
[]
[]
[null,null,null,null,null,null,null,null,null,null,null,null,null,null,null,null,null,null,null,null,null,null,null,null,null,null,0,"HIV+ infant"]
[]
[null,null,null,null,null,null,null,null,null,null,null,null,null,null,null,null,null,null,null,null,null,null,null,null,null,null,"Cost1",{"$f":"reqHIVtestcost+ndcost+lifecost","v":543540.85221780185},0]
[null,null,null,null,null,null,null,null,null,null,null,null,null,null,null,null,null,null,null,null,null,null,null,null,null,null,"OutC1",{"$f":"qwhiv","v":6.179983883985118},0]
[null,null,null,null,null,null,null,null,null,null,null,null,null,null,null,null,null,null,null,null,null,{"$f":"spec","v":1},"HIV- result"]
[]
[null,null,null,null,null,null,null,null,null,null,null,{"$f":"earlyanc","v":0.96},"Early ANC",null,null,null,null,null,null,null,null,"Cost2",{"$f":"($AA$162*$AB$164+$AA$170*$AB$172)","v":566.66999999999996},0]
[null,null,null,null,null,null,null,null,null,null,null,null,null,null,null,null,null,null,null,null,null,"OutC2",{"$f":"($AA$162*$AB$165+$AA$170*$AB$173)","v":28.309677443975772},0]
[null,null,null,null,null,null,null,null,null,null,null,"Cost1",{"$f":"($Q$154*$R$156+$Q$182*$R$184)","v":51.387041683787899},0,null,null,null,null,null,null,null,null,null,null,null,null,{"$f":"1-AA162","v":1},"HIV- infant"]
[null,null,null,null,null,null,null,null,null,null,null,"OutC1",{"$f":"($Q$154*$R$157+$Q$182*$R$185)","v":28.309677443975772},0]
[null,null,null,null,null,null,null,null,null,null,null,null,null,null,null,null,null,null,null,null,null,null,null,null,null,null,"Cost2",{"$f":"reqHIVtestcost+ndcost","v":566.66999999999996},0]
[null,null,null,null,null,null,null,null,null,null,null,null,null,null,null,null,null,null,null,null,null,null,null,null,null,null,"OutC2",{"$f":"qwohiv","v":28.309677443975772},0]
[]
[]
[]
[]
[null,null,null,null,null,null,null,null,null,null,null,null,null,null,null,null,null,null,null,null,null,0,"HIV+ infant"]
[]
[null,null,null,null,null,null,null,null,null,null,null,null,null,null,null,null,null,null,null,null,null,"Cost1",{"$f":"ndcost+lifecost","v":542974.1822178018},0]
[null,null,null,null,null,null,null,null,null,null,null,null,null,null,null,null,null,null,null,null,null,"OutC1",{"$f":"qwhiv","v":6.179983883985118},0]
[null,null,null,null,null,null,null,null,null,null,null,null,null,null,null,null,{"$f":"1-acceptHIV*percentsqs","v":0.90931751869026434},"Reject HIV Test"]
[]
[null,null,null,null,null,null,null,null,null,null,null,null,null,null,null,null,"Cost2",{"$f":"($V$178*$W$180+$V$186*$W$188)","v":0},0]
[null,null,null,null,null,null,null,null,null,null,null,null,null,null,null,null,"OutC2",{"$f":"($V$178*$W$181+$V$186*$W$189)","v":28.309677443975772},0]
[null,null,null,null,null,null,null,null,null,null,null,null,null,null,null,null,null,null,null,null,null,{"$f":"1-V178","v":1},"HIV- infant"]
[]
[null,null,null,null,null,null,null,null,null,null,null,null,null,null,null,null,null,null,null,null,null,"Cost2",{"$f":"0+ndcost","v":0},0]
[null,null,null,null,null,null,null,null,null,null,null,null,null,null,null,null,null,null,null,null,null,"OutC2",{"$f":"qwohiv","v":28.309677443975772},0]
[]
[]
[]
[]
[null,null,null,null,null,null,null,null,null,null,null,null,null,null,null,null,null,null,null,null,null,null,null,null,null,null,null,null,null,null,null,0,"HIV+ infant"]
[]
[null,null,null,null,null,null,null,null,null,null,null,null,null,null,null,null,null,null,null,null,null,null,null,null,null,null,null,null,null,null,null,"Cost1",{"$f":"HIVtestcost+outhivcost+lifecost+cscost+cd4test+vltest+npcost","v":571559.82171621453},0]
[null,null,null,null,null,null,null,null,null,null,null,null,null,null,null,null,null,null,null,null,null,null,null,null,null,null,null,null,null,null,null,"OutC1",{"$f":"qwhiv","v":6.179983883985118},0]
[null,null,null,null,null,null,null,null,null,null,null,null,null,null,null,null,null,null,null,null,null,null,null,null,null,null,{"$f":"acceptsq","v":0.95},"Accept VTP"]
[]
[null,null,null,null,null,null,{"$f":"1-G72","v":0.99975185491391949},"HIV- pregnant",null,null,null,null,null,null,null,null,null,null,null,null,null,null,null,null,null,null,"Cost1",{"$f":"($AF$194*$AG$196+$AF$202*$AG$204)","v":28585.639498412696},0]
[null,null,null,null,null,null,null,null,null,null,null,null,null,null,null,null,null,null,null,null,null,null,null,null,null,null,"OutC1",{"$f":"($AF$194*$AG$197+$AF$202*$AG$205)","v":28.309677443975772},0]
[null,null,null,null,null,null,"Cost2",{"$f":"($L$168*$M$170+$L$232*$M$234)","v":51.387041683787899},0,null,null,null,null,null,null,null,null,null,null,null,null,null,null,null,null,null,null,null,null,null,null,{"$f":"1-AF194","v":1},"HIV- infant"]
[null,null,null,null,null,null,"OutC2",{"$f":"($L$168*$M$171+$L$232*$M$235)","v":28.309677443975772},0]
[null,null,null,null,null,null,null,null,null,null,null,null,null,null,null,null,null,null,null,null,null,null,null,null,null,null,null,null,null,null,null,"Cost2",{"$f":"HIVtestcost+outhivcost+cscost+cd4test+vltest+npcost","v":28585.639498412696},0]
[null,null,null,null,null,null,null,null,null,null,null,null,null,null,null,null,null,null,null,null,null,null,null,null,null,null,null,null,null,null,null,"OutC2",{"$f":"qwohiv","v":28.309677443975772},0]
[null,null,null,null,null,null,null,null,null,null,null,null,null,null,null,null,null,null,null,null,null,{"$f":"1-spec","v":0},"HIV+ result"]
[]
[null,null,null,null,null,null,null,null,null,null,null,null,null,null,null,null,null,null,null,null,null,"Cost1",{"$f":"($AA$198*$AB$200+$AA$214*$AB$216)","v":27298.950865079361},0]
[null,null,null,null,null,null,null,null,null,null,null,null,null,null,null,null,null,null,null,null,null,"OutC1",{"$f":"($AA$198*$AB$201+$AA$214*$AB$217)","v":28.309677443975772},0]
[null,null,null,null,null,null,null,null,null,null,null,null,null,null,null,null,null,null,null,null,null,null,null,null,null,null,null,null,null,null,null,0,"HIV+ infant"]
[]
[null,null,null,null,null,null,null,null,null,null,null,null,null,null,null,null,null,null,null,null,null,null,null,null,null,null,null,null,null,null,null,"Cost1",{"$f":"HIVtestcost+lifecost+ndcost+cd4test","v":545826.04904954787},0]
[null,null,null,null,null,null,null,null,null,null,null,null,null,null,null,null,null,null,null,null,null,null,null,null,null,null,null,null,null,null,null,"OutC1",{"$f":"qwhiv","v":6.179983883985118},0]
[null,null,null,null,null,null,null,null,null,null,null,null,null,null,null,null,null,null,null,null,null,null,null,null,null,null,{"$f":"1-AA198","v":5.0000000000000044E-2},"Reject VTP"]
[]
[null,null,null,null,null,null,null,null,null,null,null,null,null,null,null,null,null,null,null,null,null,null,null,null,null,null,"Cost2",{"$f":"($AF$210*$AG$212+$AF$218*$AG$220)","v":2851.8668317460319},0]
[null,null,null,null,null,null,null,null,null,null,null,null,null,null,null,null,null,null,null,null,null,null,null,null,null,null,"OutC2",{"$f":"($AF$210*$AG$213+$AF$218*$AG$221)","v":28.309677443975772},0]
[null,null,null,null,null,null,null,null,null,null,null,null,null,null,null,null,{"$f":"acceptHIV*percentsqs","v":9.0682481309735649E-2},"Accept HIV Test",null,null,null,null,null,null,null,null,null,null,null,null,null,{"$f":"1-AF210","v":1},"HIV- infant"]
[]
[null,null,null,null,null,null,null,null,null,null,null,null,null,null,null,null,"Cost1",{"$f":"($V$206*$W$208+$V$230*$W$232)","v":566.66999999999996},0,null,null,null,null,null,null,null,null,null,null,null,null,"Cost2",{"$f":"HIVtestcost+ndcost+cd4test","v":2851.8668317460319},0]
[null,null,null,null,null,null,null,null,null,null,null,null,null,null,null,null,"OutC1",{"$f":"($V$206*$W$209+$V$230*$W$233)","v":28.309677443975772},0,null,null,null,null,null,null,null,null,null,null,null,null,"OutC2",{"$f":"qwohiv","v":28.309677443975772},0]
[]
[]
[]
[]
[null,null,null,null,null,null,null,null,null,null,null,null,null,null,null,null,null,null,null,null,null,null,null,null,null,null,0,"HIV+ infant"]
[]
[null,null,null,null,null,null,null,null,null,null,null,null,null,null,null,null,null,null,null,null,null,null,null,null,null,null,"Cost1",{"$f":"reqHIVtestcost+ndcost+lifecost","v":543540.85221780185},0]
[null,null,null,null,null,null,null,null,null,null,null,null,null,null,null,null,null,null,null,null,null,null,null,null,null,null,"OutC1",{"$f":"qwhiv","v":6.179983883985118},0]
[null,null,null,null,null,null,null,null,null,null,null,null,null,null,null,null,null,null,null,null,null,{"$f":"spec","v":1},"HIV- result"]
[]
[null,null,null,null,null,null,null,null,null,null,null,{"$f":"lateanc","v":4.0000000000000036E-2},"Late ANC",null,null,null,null,null,null,null,null,"Cost2",{"$f":"($AA$226*$AB$228+$AA$234*$AB$236)","v":566.66999999999996},0]
[null,null,null,null,null,null,null,null,null,null,null,null,null,null,null,null,null,null,null,null,null,"OutC2",{"$f":"($AA$226*$AB$229+$AA$234*$AB$237)","v":28.309677443975772},0]
[null,null,null,null,null,null,null,null,null,null,null,"Cost2",{"$f":"($Q$218*$R$220+$Q$246*$R$248)","v":51.387041683787899},0,null,null,null,null,null,null,null,null,null,null,null,null,{"$f":"1-AA226","v":1},"HIV- infant"]
[null,null,null,null,null,null,null,null,null,null,null,"OutC2",{"$f":"($Q$218*$R$221+$Q$246*$R$249)","v":28.309677443975772},0]
[null,null,null,null,null,null,null,null,null,null,null,null,null,null,null,null,null,null,null,null,null,null,null,null,null,null,"Cost2",{"$f":"reqHIVtestcost+ndcost","v":566.66999999999996},0]
[null,null,null,null,null,null,null,null,null,null,null,null,null,null,null,null,null,null,null,null,null,null,null,null,null,null,"OutC2",{"$f":"qwohiv","v":28.309677443975772},0]
[]
[]
[]
[]
[null,null,null,null,null,null,null,null,null,null,null,null,null,null,null,null,null,null,null,null,null,0,"HIV+ infant"]
[]
[null,null,null,null,null,null,null,null,null,null,null,null,null,null,null,null,null,null,null,null,null,"Cost1",{"$f":"ndcost+lifecost","v":542974.1822178018},0]
[null,null,null,null,null,null,null,null,null,null,null,null,null,null,null,null,null,null,null,null,null,"OutC1",{"$f":"qwhiv","v":6.179983883985118},0]
[null,null,null,null,null,null,null,null,null,null,null,null,null,null,null,null,{"$f":"1-Q218","v":0.90931751869026434},"Reject HIV Test"]
[]
[null,null,null,null,null,null,null,null,null,null,null,null,null,null,null,null,"Cost2",{"$f":"($V$242*$W$244+$V$250*$W$252)","v":0},0]
[null,null,null,null,null,null,null,null,null,null,null,null,null,null,null,null,"OutC2",{"$f":"($V$242*$W$245+$V$250*$W$253)","v":28.309677443975772},0]
[null,null,null,null,null,null,null,null,null,null,null,null,null,null,null,null,null,null,null,null,null,{"$f":"1-V242","v":1},"HIV- infant"]
[]
[null,null,null,null,null,null,null,null,null,null,null,null,null,null,null,null,null,null,null,null,null,"Cost2",{"$f":"+ndcost","v":0},0]
[null,null,null,null,null,null,null,null,null,null,null,null,null,null,null,null,null,null,null,null,null,"OutC2",{"$f":"qwohiv","v":28.309677443975772},0]

{"sheet":"Tree for UCSNP","index":27,"n_rows":253,"n_cols":34,"rows_kept":253,"cut":false,"hidden":false,"merged":[]}
["Plant-A-Tree"]
["Supported by iDSI",null,null,null,null,null,null,null,null,null,null,null,null,null,null,null,null,null,null,null,null,null,null,null,null,null,null,null,null,null,null,{"$f":"ucsnpearly","v":1.4941676690065557E-3},"HIV+ infant"]
[]
[null,null,null,null,null,null,null,null,null,null,null,null,null,null,null,null,null,null,null,null,null,null,null,null,null,null,null,null,null,null,null,"Cost1",{"$f":"HIVtestcost+outhivcost+lifecost+ndcost+npcost+cd4test+vltest","v":552559.82171621453},0]
[null,null,null,null,null,null,null,null,null,null,null,null,null,null,null,null,null,null,null,null,null,null,null,null,null,null,null,null,null,null,null,"OutC1",{"$f":"qwhiv","v":6.179983883985118},0]
[null,null,null,null,null,null,null,null,null,null,null,null,null,null,null,null,null,null,null,null,null,null,null,null,null,null,{"$f":"acceptucsnp","v":0.95},"Accept VTP"]
[]
[null,null,null,null,null,null,null,null,null,null,null,null,null,null,null,null,null,null,null,null,null,null,null,null,null,null,"Cost1",{"$f":"($AF$2*$AG$4+$AF$10*$AG$12)","v":10396.933966587814},0]
[null,null,null,null,null,null,null,null,null,null,null,null,null,null,null,null,null,null,null,null,null,null,null,null,null,null,"OutC1",{"$f":"($AF$2*$AG$5+$AF$10*$AG$13)","v":28.276611971333413},0]
[null,null,null,null,null,null,null,null,null,null,null,null,null,null,null,null,null,null,null,null,null,null,null,null,null,null,null,null,null,null,null,{"$f":"1-AF2","v":0.99850583233099344},"HIV- infant"]
[]
[null,null,null,null,null,null,null,null,null,null,null,null,null,null,null,null,null,null,null,null,null,null,null,null,null,null,null,null,null,null,null,"Cost2",{"$f":"HIVtestcost+outhivcost+ndcost+npcost+cd4test+vltest","v":9585.6394984127},0]
[null,null,null,null,null,null,null,null,null,null,null,null,null,null,null,null,null,null,null,null,null,null,null,null,null,null,null,null,null,null,null,"OutC2",{"$f":"qwohiv","v":28.309677443975772},0]
[null,null,null,null,null,null,null,null,null,null,null,null,null,null,null,null,null,null,null,null,null,{"$f":"sens","v":1},"HIV+result"]
[]
[null,null,null,null,null,null,null,null,null,null,null,null,null,null,null,null,null,null,null,null,null,"Cost1",{"$f":"($AA$6*$AB$8+$AA$22*$AB24)","v":19554.013750032376},0]
[null,null,null,null,null,null,null,null,null,null,null,null,null,null,null,null,null,null,null,null,null,"OutC1",{"$f":"($AA$6*$AB$9+$AA$22*$AB$25)","v":27.889679788048614},0]
[null,null,null,null,null,null,null,null,null,null,null,null,null,null,null,null,null,null,null,null,null,null,null,null,null,null,null,null,null,null,null,{"$f":"newbase","v":0.35118918918918918},"HIV+ infant"]
[]
[null,null,null,null,null,null,null,null,null,null,null,null,null,null,null,null,null,null,null,null,null,null,null,null,null,null,null,null,null,null,null,"Cost1",{"$f":"HIVtestcost+lifecost+ndcost+cd4test","v":545826.04904954787},0]
[null,null,null,null,null,null,null,null,null,null,null,null,null,null,null,null,null,null,null,null,null,null,null,null,null,null,null,null,null,null,null,"OutC1",{"$f":"qwhiv","v":6.179983883985118},0]
[null,null,null,null,null,null,null,null,null,null,null,null,null,null,null,null,null,null,null,null,null,null,null,null,null,null,{"$f":"1-AA6","v":5.0000000000000044E-2},"Reject VTP"]
[]
[null,null,null,null,null,null,null,null,null,null,null,null,null,null,null,null,null,null,null,null,null,null,null,null,null,null,"Cost2",{"$f":"($AF$18*$AG$20+$AF$26*$AG$28)","v":193538.52963547892},0]
[null,null,null,null,null,null,null,null,null,null,null,null,null,null,null,null,null,null,null,null,null,null,null,null,null,null,"OutC2",{"$f":"($AF$18*$AG$21+$AF$26*$AG$29)","v":20.537968305637431},0]
[null,null,null,null,null,null,null,null,null,null,null,null,null,null,null,null,{"$f":"acceptHIV*percentus","v":0.99},"Accept HIV Test",null,null,null,null,null,null,null,null,null,null,null,null,null,{"$f":"1-AF18","v":0.64881081081081082},"HIV- infant"]
[]
[null,null,null,null,null,null,null,null,null,null,null,null,null,null,null,null,"Cost1",{"$f":"($V$14*$W$16+$V$38*$W$40)","v":19554.013750032376},0,null,null,null,null,null,null,null,null,null,null,null,null,"Cost2",{"$f":"HIVtestcost+ndcost+cd4test","v":2851.8668317460319},0]
[null,null,null,null,null,null,null,null,null,null,null,null,null,null,null,null,"OutC1",{"$f":"($V$14*$W$17+$V$38*$W$41)","v":27.889679788048614},0,null,null,null,null,null,null,null,null,null,null,null,null,"OutC2",{"$f":"qwohiv","v":28.309677443975772},0]
[]
[]
[]
[]
[null,null,null,null,null,null,null,null,null,null,null,null,null,null,null,null,null,null,null,null,null,null,null,null,null,null,{"$f":"newbase","v":0.35118918918918918},"HIV+ infant"]
[]
[null,null,null,null,null,null,null,null,null,null,null,null,null,null,null,null,null,null,null,null,null,null,null,null,null,null,"Cost1",{"$f":"reqHIVtestcost+ndcost+lifecost","v":543540.85221780185},0]
[null,null,null,null,null,null,null,null,null,null,null,null,null,null,null,null,null,null,null,null,null,null,null,null,null,null,"OutC1",{"$f":"qwhiv","v":6.179983883985118},0]
[null,null,null,null,null,null,null,null,null,null,null,null,null,null,null,null,null,null,null,null,null,{"$f":"(1-sens)","v":0},"HIV- result"]
[]
[null,null,null,null,null,null,null,null,null,null,null,{"$f":"earlyanc","v":0.96},"Early ANC",null,null,null,null,null,null,null,null,"Cost2",{"$f":"($AA$34*$AB$36+$AA$42*$AB$44)","v":191253.33280373289},0]
[null,null,null,null,null,null,null,null,null,null,null,null,null,null,null,null,null,null,null,null,null,"OutC2",{"$f":"($AA$34*$AB$37+$AA$42*$AB$45)","v":20.537968305637431},0]
[null,null,null,null,null,null,null,null,null,null,null,"Cost1",{"$f":"($Q$26*$R$28+$Q$54*$R$56)","v":21265.340240569381},0,null,null,null,null,null,null,null,null,null,null,null,null,{"$f":"1-AA34","v":0.64881081081081082},"HIV- infant"]
[null,null,null,null,null,null,null,null,null,null,null,"OutC1",{"$f":"($Q$26*$R$29+$Q$54*$R$57)","v":27.816162673224504},0]
[null,null,null,null,null,null,null,null,null,null,null,null,null,null,null,null,null,null,null,null,null,null,null,null,null,null,"Cost2",{"$f":"reqHIVtestcost+ndcost","v":566.66999999999996},0]
[null,null,null,null,null,null,null,null,null,null,null,null,null,null,null,null,null,null,null,null,null,null,null,null,null,null,"OutC2",{"$f":"qwohiv","v":28.309677443975772},0]
[]
[]
[]
[]
[null,null,null,null,null,null,null,null,null,null,null,null,null,null,null,null,null,null,null,null,null,{"$f":"newbase","v":0.35118918918918918},"HIV+ infant"]
[]
[null,null,null,null,null,null,null,null,null,null,null,null,null,null,null,null,null,null,null,null,null,"Cost1",{"$f":"ndcost+lifecost","v":542974.1822178018},0]
[null,null,null,null,null,null,null,null,null,null,null,null,null,null,null,null,null,null,null,null,null,"OutC1",{"$f":"qwhiv","v":6.179983883985118},0]
[null,null,null,null,null,null,null,null,null,null,null,null,null,null,null,null,{"$f":"1-Q26","v":1.0000000000000009E-2},"Reject HIV Test"]
[]
[null,null,null,null,null,null,null,null,null,null,null,null,null,null,null,null,"Cost2",{"$f":"($V$50*$W$52+$V$58*$W$60)","v":190686.66280373288},0]
[null,null,null,null,null,null,null,null,null,null,null,null,null,null,null,null,"OutC2",{"$f":"($V$50*$W$53+$V$58*$W$61)","v":20.537968305637431},0]
[null,null,null,null,null,null,null,null,null,null,null,null,null,null,null,null,null,null,null,null,null,{"$f":"1-V50","v":0.64881081081081082},"HIV- infant"]
[]
[null,null,null,null,null,null,null,null,null,null,null,null,null,null,null,null,null,null,null,null,null,"Cost2",{"$f":"ndcost","v":0},0]
[null,null,null,null,null,null,null,null,null,null,null,null,null,null,null,null,null,null,null,null,null,"OutC2",{"$f":"qwohiv","v":28.309677443975772},0]
[]
[]
[]
[]
[null,null,null,null,null,null,null,null,null,null,null,null,null,null,null,null,null,null,null,null,null,null,null,null,null,null,null,null,null,null,null,{"$f":"ucsnplate","v":0.12349111490443733},"HIV+ infant"]
[]
[null,null,null,null,null,null,null,null,null,null,null,null,null,null,null,null,null,null,null,null,null,null,null,null,null,null,null,null,null,null,null,"Cost1",{"$f":"HIVtestcost+outhivcost+lifecost+cscost+npcost+cd4test+vltest","v":571559.82171621453},0]
[null,null,null,null,null,null,null,null,null,null,null,null,null,null,null,null,null,null,null,null,null,null,null,null,null,null,null,null,null,null,null,"OutC1",{"$f":"qwhiv","v":6.179983883985118},0]
[null,null,null,null,null,null,null,null,null,null,null,null,null,null,null,null,null,null,null,null,null,null,null,null,null,null,{"$f":"acceptucsnp","v":0.95},"Accept VTP"]
[]
[null,null,null,null,null,null,{"$f":"(pwhiv/pop)","v":2.4814508608047192E-4},"HIV+ pregnant",null,null,null,null,null,null,null,null,null,null,null,null,null,null,null,null,null,null,"Cost1",{"$f":"($AF$66*$AG$68+$AF$74*$AG$76)","v":95638.126624814162},0]
[null,null,null,null,null,null,null,null,null,null,null,null,null,null,null,null,null,null,null,null,null,null,null,null,null,null,"OutC1",{"$f":"($AF$66*$AG$69+$AF$74*$AG$77)","v":25.576856913758981},0]
[null,null,null,null,null,null,"Cost1",{"$f":"($L$40*$M$42+$L$104*$M$106)","v":24472.113908371859},0,null,null,null,null,null,null,null,null,null,null,null,null,null,null,null,null,null,null,null,null,null,null,{"$f":"1-AF66","v":0.87650888509556268},"HIV- infant"]
[null,null,null,null,null,null,"OutC1",{"$f":"($L$40*$M$43+$L$104*$M$107)","v":27.714597887958554},0]
[null,null,null,null,null,null,null,null,null,null,null,null,null,null,null,null,null,null,null,null,null,null,null,null,null,null,null,null,null,null,null,"Cost2",{"$f":"HIVtestcost+outhivcost+cscost+npcost+cd4test+vltest","v":28585.6394984127},0]
[null,null,null,null,null,null,null,null,null,null,null,null,null,null,null,null,null,null,null,null,null,null,null,null,null,null,null,null,null,null,null,"OutC2",{"$f":"qwohiv","v":28.309677443975772},0]
[null,null,null,null,null,null,null,null,null,null,null,null,null,null,null,null,null,null,null,null,null,{"$f":"sens","v":1},"HIV+ result"]
[]
[null,null,null,null,null,null,null,null,null,null,null,null,null,null,null,null,null,null,null,null,null,"Cost1",{"$f":"($AA$70*$AB$72+$AA$86*$AB$88)","v":100533.14677534741},0]
[null,null,null,null,null,null,null,null,null,null,null,null,null,null,null,null,null,null,null,null,null,"OutC1",{"$f":"($AA$70*$AB$73+$AA$86*$AB$89)","v":25.324912483352904},0]
[null,null,null,null,null,null,null,null,null,null,null,null,null,null,null,null,null,null,null,null,null,null,null,null,null,null,null,null,null,null,null,{"$f":"newbase","v":0.35118918918918918},"HIV+ infant"]
[]
[null,null,null,null,null,null,null,null,null,null,null,null,null,null,null,null,null,null,null,null,null,null,null,null,null,null,null,null,null,null,null,"Cost1",{"$f":"HIVtestcost+lifecost+ndcost+cd4test","v":545826.04904954787},0]
[null,null,null,null,null,null,null,null,null,null,null,null,null,null,null,null,null,null,null,null,null,null,null,null,null,null,null,null,null,null,null,"OutC1",{"$f":"qwhiv","v":6.179983883985118},0]
[null,null,null,null,null,null,null,null,null,null,null,null,null,null,null,null,null,null,null,null,null,null,null,null,null,null,{"$f":"1-AA70","v":5.0000000000000044E-2},"Reject VTP"]
[]
[null,null,null,null,null,null,null,null,null,null,null,null,null,null,null,null,null,null,null,null,null,null,null,null,null,null,"Cost2",{"$f":"($AF$82*$AG$84+$AF$90*$AG$92)","v":193538.52963547892},0]
[null,null,null,null,null,null,null,null,null,null,null,null,null,null,null,null,null,null,null,null,null,null,null,null,null,null,"OutC2",{"$f":"($AF$82*$AG$85+$AF$90*$AG$93)","v":20.537968305637431},0]
[null,null,null,null,null,null,null,null,null,null,null,null,null,null,null,null,{"$f":"acceptHIV*percentus","v":0.99},"Accept HIV Test",null,null,null,null,null,null,null,null,null,null,null,null,null,{"$f":"1-AF82","v":0.64881081081081082},"HIV- infant"]
[]
[null,null,null,null,null,null,null,null,null,null,null,null,null,null,null,null,"Cost1",{"$f":"($V$78*$W$80+$V$102*$W$104)","v":100533.14677534741},0,null,null,null,null,null,null,null,null,null,null,null,null,"Cost2",{"$f":"HIVtestcost+ndcost+cd4test","v":2851.8668317460319},0]
[null,null,null,null,null,null,null,null,null,null,null,null,null,null,null,null,"OutC1",{"$f":"($V$78*$W$81+$V$102*$W$105)","v":25.324912483352904},0,null,null,null,null,null,null,null,null,null,null,null,null,"OutC2",{"$f":"qwohiv","v":28.309677443975772},0]
[]
[]
[]
[]
[null,null,null,null,null,null,null,null,null,null,null,null,null,null,null,null,null,null,null,null,null,null,null,null,null,null,{"$f":"newbase","v":0.35118918918918918},"HIV+ infant"]
[]
[null,null,null,null,null,null,null,null,null,null,null,null,null,null,null,null,null,null,null,null,null,null,null,null,null,null,"Cost1",{"$f":"reqHIVtestcost+ndcost+lifecost","v":543540.85221780185},0]
[null,null,null,null,null,null,null,null,null,null,null,null,null,null,null,null,null,null,null,null,null,null,null,null,null,null,"OutC1",{"$f":"qwhiv","v":6.179983883985118},0]
[null,null,null,null,null,null,null,null,null,null,null,null,null,null,null,null,null,null,null,null,null,{"$f":"(1-sens)","v":0},"HIV- result"]
[]
[null,null,null,null,null,null,null,null,null,null,null,{"$f":"lateanc","v":4.0000000000000036E-2},"Late ANC",null,null,null,null,null,null,null,null,"Cost2",{"$f":"($AA$98*$AB$100+$AA$106*$AB$108)","v":191253.33280373289},0]
[null,null,null,null,null,null,null,null,null,null,null,null,null,null,null,null,null,null,null,null,null,"OutC2",{"$f":"($AA$98*$AB$101+$AA$106*$AB$109)","v":20.537968305637431},0]
[null,null,null,null,null,null,null,null,null,null,null,"Cost2",{"$f":"($Q$90*$R$92+$Q$118*$R$120)","v":101434.68193563126},0,null,null,null,null,null,null,null,null,null,null,null,null,{"$f":"1-AA98","v":0.64881081081081082},"HIV- infant"]
[null,null,null,null,null,null,null,null,null,null,null,"OutC2",{"$f":"($Q$90*$R$93+$Q$118*$R$121)","v":25.277043041575748},0]
[null,null,null,null,null,null,null,null,null,null,null,null,null,null,null,null,null,null,null,null,null,null,null,null,null,null,"Cost2",{"$f":"reqHIVtestcost+ndcost","v":566.66999999999996},0]
[null,null,null,null,null,null,null,null,null,null,null,null,null,null,null,null,null,null,null,null,null,null,null,null,null,null,"OutC2",{"$f":"qwohiv","v":28.309677443975772},0]
[]
[]
[]
[]
[null,null,null,null,null,null,null,null,null,null,null,null,null,null,null,null,null,null,null,null,null,{"$f":"newbase","v":0.35118918918918918},"HIV+ infant"]
[]
[null,null,null,null,null,null,null,null,null,null,null,null,null,null,null,null,null,null,null,null,null,"Cost1",{"$f":"ndcost+lifecost","v":542974.1822178018},0]
[null,null,null,null,null,null,null,null,null,null,null,null,null,null,null,null,null,null,null,null,null,"OutC1",{"$f":"qwhiv","v":6.179983883985118},0]
[null,null,null,null,null,null,null,null,null,null,null,null,null,null,null,null,{"$f":"1-Q90","v":1.0000000000000009E-2},"Reject HIV Test"]
[]
[null,null,null,null,null,null,null,null,null,null,null,null,null,null,null,null,"Cost2",{"$f":"($V$114*$W$116+$V$122*$W$124)","v":190686.66280373288},0]
[null,null,null,null,null,null,null,null,null,null,null,null,null,null,null,null,"OutC2",{"$f":"($V$114*$W$117+$V$122*$W$125)","v":20.537968305637431},0]
[null,null,null,null,null,null,null,null,null,null,null,null,null,null,null,null,null,null,null,null,null,{"$f":"1-V114","v":0.64881081081081082},"HIV- infant"]
[]
[null,null,null,null,null,null,null,null,null,null,null,null,null,null,null,null,null,null,null,null,null,"Cost2",{"$f":"0+ndcost","v":0},0]
[null,null,null,null,null,null,null,null,null,null,null,null,null,null,null,null,null,null,null,null,null,"OutC2",{"$f":"qwohiv","v":28.309677443975772},0]
[]
[]
[]
[]
[null,null,null,null,null,null,null,null,null,null,null,null,null,null,null,null,null,null,null,null,null,null,null,null,null,null,null,null,null,null,null,{"$f":"phivneg","v":0},"HIV+ infant"]
[]
[null,null,null,null,null,null,null,null,null,null,null,null,null,null,null,null,null,null,null,null,null,null,null,null,null,null,null,null,null,null,null,"Cost1",{"$f":"HIVtestcost+outhivcost+lifecost+ndcost+npcost+cd4test+vltest","v":552559.82171621453},0]
[null,null,null,null,null,null,null,null,null,null,null,null,null,null,null,null,null,null,null,null,null,null,null,null,null,null,null,null,null,null,null,"OutC1",{"$f":"qwhiv","v":6.179983883985118},0]
[null,null,null,null,null,null,null,null,null,null,null,null,null,null,null,null,null,null,null,null,null,null,null,null,null,null,{"$f":"acceptucsnp","v":0.95},"Accept VTP"]
[]
[null,null,"UCSNP",null,null,null,null,null,null,null,null,null,null,null,null,null,null,null,null,null,null,null,null,null,null,null,"Cost1",{"$f":"($AF$130*$AG$132+$AF$138*$AG$140)","v":9585.6394984127},0]
[null,null,null,null,null,null,null,null,null,null,null,null,null,null,null,null,null,null,null,null,null,null,null,null,null,null,"OutC1",{"$f":"($AF$130*$AG$133+$AF$138*$AG$141)","v":28.309677443975772},0]
[null,"Cost1",{"$f":"($G$72*$H$74+$G$200*$H$202)","v":566.93672460019411},null,null,null,null,null,null,null,null,null,null,null,null,null,null,null,null,null,null,null,null,null,null,null,null,null,null,null,null,{"$f":"1-AF130","v":1},"HIV- infant"]
[null,"OutC1",{"$f":"($G$72*$H$75+$G$200*$H$203)","v":28.309529777908121}]
[null,null,null,null,null,null,null,null,null,null,null,null,null,null,null,null,null,null,null,null,null,null,null,null,null,null,null,null,null,null,null,"Cost2",{"$f":"HIVtestcost+outhivcost+ndcost+npcost+cd4test+vltest","v":9585.6394984127},0]
[null,null,null,null,null,null,null,null,null,null,null,null,null,null,null,null,null,null,null,null,null,null,null,null,null,null,null,null,null,null,null,"OutC2",{"$f":"qwohiv","v":28.309677443975772},0]
[null,null,null,null,null,null,null,null,null,null,null,null,null,null,null,null,null,null,null,null,null,{"$f":"1-(spec)","v":0},"HIV+ result"]
[]
[null,null,null,null,null,null,null,null,null,null,null,null,null,null,null,null,null,null,null,null,null,"Cost1",{"$f":"($AA$134*$AB$136+$AA$150*$AB$152)","v":9248.9508650793668},0]
[null,null,null,null,null,null,null,null,null,null,null,null,null,null,null,null,null,null,null,null,null,"OutC1",{"$f":"($AA$134*$AB$137+$AA$150*$AB$153)","v":28.309677443975772},0]
[null,null,null,null,null,null,null,null,null,null,null,null,null,null,null,null,null,null,null,null,null,null,null,null,null,null,null,null,null,null,null,{"$f":"phivneg","v":0},"HIV+ infant"]
[]
[null,null,null,null,null,null,null,null,null,null,null,null,null,null,null,null,null,null,null,null,null,null,null,null,null,null,null,null,null,null,null,"Cost1",{"$f":"HIVtestcost+lifecost+ndcost+cd4test","v":545826.04904954787},0]
[null,null,null,null,null,null,null,null,null,null,null,null,null,null,null,null,null,null,null,null,null,null,null,null,null,null,null,null,null,null,null,"OutC1",{"$f":"qwhiv","v":6.179983883985118},0]
[null,null,null,null,null,null,null,null,null,null,null,null,null,null,null,null,null,null,null,null,null,null,null,null,null,null,{"$f":"1-AA134","v":5.0000000000000044E-2},"Reject VTP"]
[]
[null,null,null,null,null,null,null,null,null,null,null,null,null,null,null,null,null,null,null,null,null,null,null,null,null,null,"Cost2",{"$f":"($AF$146*$AG$148+$AF$154*$AG$156)","v":2851.8668317460319},0]
[null,null,null,null,null,null,null,null,null,null,null,null,null,null,null,null,null,null,null,null,null,null,null,null,null,null,"OutC2",{"$f":"($AF$146*$AG$149+$AF$154*$AG$157)","v":28.309677443975772},0]
[null,null,null,null,null,null,null,null,null,null,null,null,null,null,null,null,{"$f":"acceptHIV*percentus","v":0.99},"Accept HIV Test",null,null,null,null,null,null,null,null,null,null,null,null,null,{"$f":"1-AF146","v":1},"HIV- infant"]
[]
[null,null,null,null,null,null,null,null,null,null,null,null,null,null,null,null,"Cost1",{"$f":"($V$142*$W$144+$V$166*$W$168)","v":566.66999999999996},0,null,null,null,null,null,null,null,null,null,null,null,null,"Cost2",{"$f":"HIVtestcost+ndcost+cd4test","v":2851.8668317460319},0]
[null,null,null,null,null,null,null,null,null,null,null,null,null,null,null,null,"OutC1",{"$f":"($V$142*$W$145+$V$166*$W$169)","v":28.309677443975772},0,null,null,null,null,null,null,null,null,null,null,null,null,"OutC2",{"$f":"qwohiv","v":28.309677443975772},0]
[]
[]
[]
[]
[null,null,null,null,null,null,null,null,null,null,null,null,null,null,null,null,null,null,null,null,null,null,null,null,null,null,{"$f":"phivneg","v":0},"HIV+ infant"]
[]
[null,null,null,null,null,null,null,null,null,null,null,null,null,null,null,null,null,null,null,null,null,null,null,null,null,null,"Cost1",{"$f":"reqHIVtestcost+ndcost+lifecost","v":543540.85221780185},0]
[null,null,null,null,null,null,null,null,null,null,null,null,null,null,null,null,null,null,null,null,null,null,null,null,null,null,"OutC1",{"$f":"qwhiv","v":6.179983883985118},0]
[null,null,null,null,null,null,null,null,null,null,null,null,null,null,null,null,null,null,null,null,null,{"$f":"spec","v":1},"HIV- result"]
[]
[null,null,null,null,null,null,null,null,null,null,null,{"$f":"earlyanc","v":0.96},"Early ANC",null,null,null,null,null,null,null,null,"Cost2",{"$f":"($AA$162*$AB$164+$AA$170*$AB$172)","v":566.66999999999996},0]
[null,null,null,null,null,null,null,null,null,null,null,null,null,null,null,null,null,null,null,null,null,"OutC2",{"$f":"($AA$162*$AB$165+$AA$170*$AB$173)","v":28.309677443975772},0]
[null,null,null,null,null,null,null,null,null,null,null,"Cost1",{"$f":"($Q$154*$R$156+$Q$182*$R$184)","v":561.00329999999997},0,null,null,null,null,null,null,null,null,null,null,null,null,{"$f":"1-AA162","v":1},"HIV- infant"]
[null,null,null,null,null,null,null,null,null,null,null,"OutC1",{"$f":"($Q$154*$R$157+$Q$182*$R$185)","v":28.309677443975772},0]
[null,null,null,null,null,null,null,null,null,null,null,null,null,null,null,null,null,null,null,null,null,null,null,null,null,null,"Cost2",{"$f":"reqHIVtestcost+ndcost","v":566.66999999999996},0]
[null,null,null,null,null,null,null,null,null,null,null,null,null,null,null,null,null,null,null,null,null,null,null,null,null,null,"OutC2",{"$f":"qwohiv","v":28.309677443975772},0]
[]
[]
[]
[]
[null,null,null,null,null,null,null,null,null,null,null,null,null,null,null,null,null,null,null,null,null,{"$f":"phivneg","v":0},"HIV+ infant"]
[]
[null,null,null,null,null,null,null,null,null,null,null,null,null,null,null,null,null,null,null,null,null,"Cost1",{"$f":"ndcost+lifecost","v":542974.1822178018},0]
[null,null,null,null,null,null,null,null,null,null,null,null,null,null,null,null,null,null,null,null,null,"OutC1",{"$f":"qwhiv","v":6.179983883985118},0]
[null,null,null,null,null,null,null,null,null,null,null,null,null,null,null,null,{"$f":"1-Q154","v":1.0000000000000009E-2},"Reject HIV Test"]
[]
[null,null,null,null,null,null,null,null,null,null,null,null,null,null,null,null,"Cost2",{"$f":"($V$178*$W$180+$V$186*$W$188)","v":0},0]
[null,null,null,null,null,null,null,null,null,null,null,null,null,null,null,null,"OutC2",{"$f":"($V$178*$W$181+$V$186*$W$189)","v":28.309677443975772},0]
[null,null,null,null,null,null,null,null,null,null,null,null,null,null,null,null,null,null,null,null,null,{"$f":"1-V178","v":1},"HIV- infant"]
[]
[null,null,null,null,null,null,null,null,null,null,null,null,null,null,null,null,null,null,null,null,null,"Cost2",{"$f":"0+ndcost","v":0},0]
[null,null,null,null,null,null,null,null,null,null,null,null,null,null,null,null,null,null,null,null,null,"OutC2",{"$f":"qwohiv","v":28.309677443975772},0]
[]
[]
[]
[]
[null,null,null,null,null,null,null,null,null,null,null,null,null,null,null,null,null,null,null,null,null,null,null,null,null,null,null,null,null,null,null,{"$f":"phivneg","v":0},"HIV+ infant"]
[]
[null,null,null,null,null,null,null,null,null,null,null,null,null,null,null,null,null,null,null,null,null,null,null,null,null,null,null,null,null,null,null,"Cost1",{"$f":"HIVtestcost+outhivcost+lifecost+cscost+npcost+cd4test+vltest","v":571559.82171621453},0]
[null,null,null,null,null,null,null,null,null,null,null,null,null,null,null,null,null,null,null,null,null,null,null,null,null,null,null,null,null,null,null,"OutC1",{"$f":"qwhiv","v":6.179983883985118},0]
[null,null,null,null,null,null,null,null,null,null,null,null,null,null,null,null,null,null,null,null,null,null,null,null,null,null,{"$f":"acceptucsnp","v":0.95},"Accept VTP"]
[]
[null,null,null,null,null,null,{"$f":"1-(pwhiv/pop)","v":0.99975185491391949},"HIV- pregnant",null,null,null,null,null,null,null,null,null,null,null,null,null,null,null,null,null,null,"Cost1",{"$f":"($AF$194*$AG$196+$AF$202*$AG$204)","v":28585.6394984127},0]
[null,null,null,null,null,null,null,null,null,null,null,null,null,null,null,null,null,null,null,null,null,null,null,null,null,null,"OutC1",{"$f":"($AF$194*$AG$197+$AF$202*$AG$205)","v":28.309677443975772},0]
[null,null,null,null,null,null,"Cost2",{"$f":"($L$168*$M$170+$L$232*$M$234)","v":561.00329999999997},0,null,null,null,null,null,null,null,null,null,null,null,null,null,null,null,null,null,null,null,null,null,null,{"$f":"1-AF194","v":1},"HIV- infant"]
[null,null,null,null,null,null,"OutC2",{"$f":"($L$168*$M$171+$L$232*$M$235)","v":28.309677443975772},0]
[null,null,null,null,null,null,null,null,null,null,null,null,null,null,null,null,null,null,null,null,null,null,null,null,null,null,null,null,null,null,null,"Cost2",{"$f":"HIVtestcost+outhivcost+cscost+npcost+cd4test+vltest","v":28585.6394984127},0]
[null,null,null,null,null,null,null,null,null,null,null,null,null,null,null,null,null,null,null,null,null,null,null,null,null,null,null,null,null,null,null,"OutC2",{"$f":"qwohiv","v":28.309677443975772},0]
[null,null,null,null,null,null,null,null,null,null,null,null,null,null,null,null,null,null,null,null,null,{"$f":"1-spec","v":0},"HIV+ result"]
[]
[null,null,null,null,null,null,null,null,null,null,null,null,null,null,null,null,null,null,null,null,null,"Cost1",{"$f":"($AA$198*$AB$200+$AA$214*$AB$216)","v":27298.950865079365},0]
[null,null,null,null,null,null,null,null,null,null,null,null,null,null,null,null,null,null,null,null,null,"OutC1",{"$f":"($AA$198*$AB$201+$AA$214*$AB$217)","v":28.309677443975772},0]
[null,null,null,null,null,null,null,null,null,null,null,null,null,null,null,null,null,null,null,null,null,null,null,null,null,null,null,null,null,null,null,{"$f":"phivneg","v":0},"HIV+ infant"]
[]
[null,null,null,null,null,null,null,null,null,null,null,null,null,null,null,null,null,null,null,null,null,null,null,null,null,null,null,null,null,null,null,"Cost1",{"$f":"HIVtestcost+lifecost+ndcost+cd4test","v":545826.04904954787},0]
[null,null,null,null,null,null,null,null,null,null,null,null,null,null,null,null,null,null,null,null,null,null,null,null,null,null,null,null,null,null,null,"OutC1",{"$f":"qwhiv","v":6.179983883985118},0]
[null,null,null,null,null,null,null,null,null,null,null,null,null,null,null,null,null,null,null,null,null,null,null,null,null,null,{"$f":"1-AA198","v":5.0000000000000044E-2},"Reject VTP"]
[]
[null,null,null,null,null,null,null,null,null,null,null,null,null,null,null,null,null,null,null,null,null,null,null,null,null,null,"Cost2",{"$f":"($AF$210*$AG$212+$AF$218*$AG$220)","v":2851.8668317460319},0]
[null,null,null,null,null,null,null,null,null,null,null,null,null,null,null,null,null,null,null,null,null,null,null,null,null,null,"OutC2",{"$f":"($AF$210*$AG$213+$AF$218*$AG$221)","v":28.309677443975772},0]
[null,null,null,null,null,null,null,null,null,null,null,null,null,null,null,null,{"$f":"acceptHIV*percentus","v":0.99},"Accept HIV Test",null,null,null,null,null,null,null,null,null,null,null,null,null,{"$f":"1-AF210","v":1},"HIV- infant"]
[]
[null,null,null,null,null,null,null,null,null,null,null,null,null,null,null,null,"Cost1",{"$f":"($V$206*$W$208+$V$230*$W$232)","v":566.66999999999996},0,null,null,null,null,null,null,null,null,null,null,null,null,"Cost2",{"$f":"HIVtestcost+ndcost+cd4test","v":2851.8668317460319},0]
[null,null,null,null,null,null,null,null,null,null,null,null,null,null,null,null,"OutC1",{"$f":"($V$206*$W$209+$V$230*$W$233)","v":28.309677443975772},0,null,null,null,null,null,null,null,null,null,null,null,null,"OutC2",{"$f":"qwohiv","v":28.309677443975772},0]
[]
[]
[]
[]
[null,null,null,null,null,null,null,null,null,null,null,null,null,null,null,null,null,null,null,null,null,null,null,null,null,null,{"$f":"phivneg","v":0},"HIV+ infant"]
[]
[null,null,null,null,null,null,null,null,null,null,null,null,null,null,null,null,null,null,null,null,null,null,null,null,null,null,"Cost1",{"$f":"reqHIVtestcost+ndcost+lifecost","v":543540.85221780185},0]
[null,null,null,null,null,null,null,null,null,null,null,null,null,null,null,null,null,null,null,null,null,null,null,null,null,null,"OutC1",{"$f":"qwhiv","v":6.179983883985118},0]
[null,null,null,null,null,null,null,null,null,null,null,null,null,null,null,null,null,null,null,null,null,{"$f":"spec","v":1},"HIV- result"]
[]
[null,null,null,null,null,null,null,null,null,null,null,{"$f":"lateanc","v":4.0000000000000036E-2},"Late ANC",null,null,null,null,null,null,null,null,"Cost2",{"$f":"($AA$226*$AB$228+$AA$234*$AB$236)","v":566.66999999999996},0]
[null,null,null,null,null,null,null,null,null,null,null,null,null,null,null,null,null,null,null,null,null,"OutC2",{"$f":"($AA$226*$AB$229+$AA$234*$AB$237)","v":28.309677443975772},0]
[null,null,null,null,null,null,null,null,null,null,null,"Cost2",{"$f":"($Q$218*$R$220+$Q$246*$R$248)","v":561.00329999999997},0,null,null,null,null,null,null,null,null,null,null,null,null,{"$f":"1-AA226","v":1},"HIV- infant"]
[null,null,null,null,null,null,null,null,null,null,null,"OutC2",{"$f":"($Q$218*$R$221+$Q$246*$R$249)","v":28.309677443975772},0]
[null,null,null,null,null,null,null,null,null,null,null,null,null,null,null,null,null,null,null,null,null,null,null,null,null,null,"Cost2",{"$f":"reqHIVtestcost+ndcost","v":566.66999999999996},0]
[null,null,null,null,null,null,null,null,null,null,null,null,null,null,null,null,null,null,null,null,null,null,null,null,null,null,"OutC2",{"$f":"qwohiv","v":28.309677443975772},0]
[]
[]
[]
[]
[null,null,null,null,null,null,null,null,null,null,null,null,null,null,null,null,null,null,null,null,null,{"$f":"phivneg","v":0},"HIV+ infant"]
[]
[null,null,null,null,null,null,null,null,null,null,null,null,null,null,null,null,null,null,null,null,null,"Cost1",{"$f":"ndcost+lifecost","v":542974.1822178018},0]
[null,null,null,null,null,null,null,null,null,null,null,null,null,null,null,null,null,null,null,null,null,"OutC1",{"$f":"qwhiv","v":6.179983883985118},0]
[null,null,null,null,null,null,null,null,null,null,null,null,null,null,null,null,{"$f":"1-Q218","v":1.0000000000000009E-2},"Reject HIV Test"]
[]
[null,null,null,null,null,null,null,null,null,null,null,null,null,null,null,null,"Cost2",{"$f":"($V$242*$W$244+$V$250*$W$252)","v":0},0]
[null,null,null,null,null,null,null,null,null,null,null,null,null,null,null,null,"OutC2",{"$f":"($V$242*$W$245+$V$250*$W$253)","v":28.309677443975772},0]
[null,null,null,null,null,null,null,null,null,null,null,null,null,null,null,null,null,null,null,null,null,{"$f":"1-V242","v":1},"HIV- infant"]
[]
[null,null,null,null,null,null,null,null,null,null,null,null,null,null,null,null,null,null,null,null,null,"Cost2",{"$f":"+ndcost","v":0},0]
[null,null,null,null,null,null,null,null,null,null,null,null,null,null,null,null,null,null,null,null,null,"OutC2",{"$f":"qwohiv","v":28.309677443975772},0]

{"sheet":"Tree for UNDNP","index":28,"n_rows":253,"n_cols":34,"rows_kept":253,"cut":false,"hidden":false,"merged":[]}
["Plant-A-Tree"]
["Supported by iDSI",null,null,null,null,null,null,null,null,null,null,null,null,null,null,null,null,null,null,null,null,null,null,null,null,null,null,null,null,null,null,{"$f":"undnpearly","v":1.4941676690065557E-3},"HIV+ infant"]
[]
[null,null,null,null,null,null,null,null,null,null,null,null,null,null,null,null,null,null,null,null,null,null,null,null,null,null,null,null,null,null,null,"Cost1",{"$f":"HIVtestcost+outhivcost+lifecost+ndcost+npcost+cd4test+vltest","v":552559.82171621453},0]
[null,null,null,null,null,null,null,null,null,null,null,null,null,null,null,null,null,null,null,null,null,null,null,null,null,null,null,null,null,null,null,"OutC1",{"$f":"qwhiv","v":6.179983883985118},0]
[null,null,null,null,null,null,null,null,null,null,null,null,null,null,null,null,null,null,null,null,null,null,null,null,null,null,{"$f":"acceptundnp","v":0.95},"Accept VTP"]
[]
[null,null,null,null,null,null,null,null,null,null,null,null,null,null,null,null,null,null,null,null,null,null,null,null,null,null,"Cost1",{"$f":"($AF$2*$AG$4+$AF$10*$AG$12)","v":10396.933966587814},0]
[null,null,null,null,null,null,null,null,null,null,null,null,null,null,null,null,null,null,null,null,null,null,null,null,null,null,"OutC1",{"$f":"($AF$2*$AG$5+$AF$10*$AG$13)","v":28.276611971333413},0]
[null,null,null,null,null,null,null,null,null,null,null,null,null,null,null,null,null,null,null,null,null,null,null,null,null,null,null,null,null,null,null,{"$f":"1-AF2","v":0.99850583233099344},"HIV- infant"]
[]
[null,null,null,null,null,null,null,null,null,null,null,null,null,null,null,null,null,null,null,null,null,null,null,null,null,null,null,null,null,null,null,"Cost2",{"$f":"HIVtestcost+outhivcost+ndcost+npcost+cd4test+vltest","v":9585.6394984127},0]
[null,null,null,null,null,null,null,null,null,null,null,null,null,null,null,null,null,null,null,null,null,null,null,null,null,null,null,null,null,null,null,"OutC2",{"$f":"qwohiv","v":28.309677443975772},0]
[null,null,null,null,null,null,null,null,null,null,null,null,null,null,null,null,null,null,null,null,null,{"$f":"sens","v":1},"HIV+result"]
[]
[null,null,null,null,null,null,null,null,null,null,null,null,null,null,null,null,null,null,null,null,null,"Cost1",{"$f":"($AA$6*$AB$8+$AA$22*$AB24)","v":19554.013750032376},0]
[null,null,null,null,null,null,null,null,null,null,null,null,null,null,null,null,null,null,null,null,null,"OutC1",{"$f":"($AA$6*$AB$9+$AA$22*$AB$25)","v":27.889679788048614},0]
[null,null,null,null,null,null,null,null,null,null,null,null,null,null,null,null,null,null,null,null,null,null,null,null,null,null,null,null,null,null,null,{"$f":"newbase","v":0.35118918918918918},"HIV+ infant"]
[]
[null,null,null,null,null,null,null,null,null,null,null,null,null,null,null,null,null,null,null,null,null,null,null,null,null,null,null,null,null,null,null,"Cost1",{"$f":"HIVtestcost+lifecost+ndcost+cd4test","v":545826.04904954787},0]
[null,null,null,null,null,null,null,null,null,null,null,null,null,null,null,null,null,null,null,null,null,null,null,null,null,null,null,null,null,null,null,"OutC1",{"$f":"qwhiv","v":6.179983883985118},0]
[null,null,null,null,null,null,null,null,null,null,null,null,null,null,null,null,null,null,null,null,null,null,null,null,null,null,{"$f":"1-AA6","v":5.0000000000000044E-2},"Reject VTP"]
[]
[null,null,null,null,null,null,null,null,null,null,null,null,null,null,null,null,null,null,null,null,null,null,null,null,null,null,"Cost2",{"$f":"($AF$18*$AG$20+$AF$26*$AG$28)","v":193538.52963547892},0]
[null,null,null,null,null,null,null,null,null,null,null,null,null,null,null,null,null,null,null,null,null,null,null,null,null,null,"OutC2",{"$f":"($AF$18*$AG$21+$AF$26*$AG$29)","v":20.537968305637431},0]
[null,null,null,null,null,null,null,null,null,null,null,null,null,null,null,null,{"$f":"acceptHIV*percentus","v":0.99},"Accept HIV Test",null,null,null,null,null,null,null,null,null,null,null,null,null,{"$f":"1-AF18","v":0.64881081081081082},"HIV- infant"]
[]
[null,null,null,null,null,null,null,null,null,null,null,null,null,null,null,null,"Cost1",{"$f":"($V$14*$W$16+$V$38*$W$40)","v":19554.013750032376},0,null,null,null,null,null,null,null,null,null,null,null,null,"Cost2",{"$f":"HIVtestcost+ndcost+cd4test","v":2851.8668317460319},0]
[null,null,null,null,null,null,null,null,null,null,null,null,null,null,null,null,"OutC1",{"$f":"($V$14*$W$17+$V$38*$W$41)","v":27.889679788048614},0,null,null,null,null,null,null,null,null,null,null,null,null,"OutC2",{"$f":"qwohiv","v":28.309677443975772},0]
[]
[]
[]
[]
[null,null,null,null,null,null,null,null,null,null,null,null,null,null,null,null,null,null,null,null,null,null,null,null,null,null,{"$f":"newbase","v":0.35118918918918918},"HIV+ infant"]
[]
[null,null,null,null,null,null,null,null,null,null,null,null,null,null,null,null,null,null,null,null,null,null,null,null,null,null,"Cost1",{"$f":"reqHIVtestcost+ndcost+lifecost","v":543540.85221780185},0]
[null,null,null,null,null,null,null,null,null,null,null,null,null,null,null,null,null,null,null,null,null,null,null,null,null,null,"OutC1",{"$f":"qwhiv","v":6.179983883985118},0]
[null,null,null,null,null,null,null,null,null,null,null,null,null,null,null,null,null,null,null,null,null,{"$f":"(1-sens)","v":0},"HIV- result"]
[]
[null,null,null,null,null,null,null,null,null,null,null,{"$f":"earlyanc","v":0.96},"Early ANC",null,null,null,null,null,null,null,null,"Cost2",{"$f":"($AA$34*$AB$36+$AA$42*$AB$44)","v":191253.33280373289},0]
[null,null,null,null,null,null,null,null,null,null,null,null,null,null,null,null,null,null,null,null,null,"OutC2",{"$f":"($AA$34*$AB$37+$AA$42*$AB$45)","v":20.537968305637431},0]
[null,null,null,null,null,null,null,null,null,null,null,"Cost1",{"$f":"($Q$26*$R$28+$Q$54*$R$56)","v":21265.340240569381},0,null,null,null,null,null,null,null,null,null,null,null,null,{"$f":"1-AA34","v":0.64881081081081082},"HIV- infant"]
[null,null,null,null,null,null,null,null,null,null,null,"OutC1",{"$f":"($Q$26*$R$29+$Q$54*$R$57)","v":27.816162673224504},0]
[null,null,null,null,null,null,null,null,null,null,null,null,null,null,null,null,null,null,null,null,null,null,null,null,null,null,"Cost2",{"$f":"reqHIVtestcost+ndcost","v":566.66999999999996},0]
[null,null,null,null,null,null,null,null,null,null,null,null,null,null,null,null,null,null,null,null,null,null,null,null,null,null,"OutC2",{"$f":"qwohiv","v":28.309677443975772},0]
[]
[]
[]
[]
[null,null,null,null,null,null,null,null,null,null,null,null,null,null,null,null,null,null,null,null,null,{"$f":"newbase","v":0.35118918918918918},"HIV+ infant"]
[]
[null,null,null,null,null,null,null,null,null,null,null,null,null,null,null,null,null,null,null,null,null,"Cost1",{"$f":"ndcost+lifecost","v":542974.1822178018},0]
[null,null,null,null,null,null,null,null,null,null,null,null,null,null,null,null,null,null,null,null,null,"OutC1",{"$f":"qwhiv","v":6.179983883985118},0]
[null,null,null,null,null,null,null,null,null,null,null,null,null,null,null,null,{"$f":"1-Q26","v":1.0000000000000009E-2},"Reject HIV Test"]
[]
[null,null,null,null,null,null,null,null,null,null,null,null,null,null,null,null,"Cost2",{"$f":"($V$50*$W$52+$V$58*$W$60)","v":190686.66280373288},0]
[null,null,null,null,null,null,null,null,null,null,null,null,null,null,null,null,"OutC2",{"$f":"($V$50*$W$53+$V$58*$W$61)","v":20.537968305637431},0]
[null,null,null,null,null,null,null,null,null,null,null,null,null,null,null,null,null,null,null,null,null,{"$f":"1-V50","v":0.64881081081081082},"HIV- infant"]
[]
[null,null,null,null,null,null,null,null,null,null,null,null,null,null,null,null,null,null,null,null,null,"Cost2",{"$f":"ndcost","v":0},0]
[null,null,null,null,null,null,null,null,null,null,null,null,null,null,null,null,null,null,null,null,null,"OutC2",{"$f":"qwohiv","v":28.309677443975772},0]
[]
[]
[]
[]
[null,null,null,null,null,null,null,null,null,null,null,null,null,null,null,null,null,null,null,null,null,null,null,null,null,null,null,null,null,null,null,{"$f":"undnplate","v":0.18820702623613048},"HIV+ infant"]
[]
[null,null,null,null,null,null,null,null,null,null,null,null,null,null,null,null,null,null,null,null,null,null,null,null,null,null,null,null,null,null,null,"Cost1",{"$f":"HIVtestcost+outhivcost+lifecost+ndcost+npcost+cd4test+vltest","v":552559.82171621453},0]
[null,null,null,null,null,null,null,null,null,null,null,null,null,null,null,null,null,null,null,null,null,null,null,null,null,null,null,null,null,null,null,"OutC1",{"$f":"qwhiv","v":6.179983883985118},0]
[null,null,null,null,null,null,null,null,null,null,null,null,null,null,null,null,null,null,null,null,null,null,null,null,null,null,{"$f":"acceptundnp","v":0.95},"Accept VTP"]
[]
[null,null,null,null,null,null,{"$f":"(pwhiv/pop)","v":2.4814508608047192E-4},"HIV+ pregnant",null,null,null,null,null,null,null,null,null,null,null,null,null,null,null,null,null,null,"Cost1",{"$f":"($AF$66*$AG$68+$AF$74*$AG$76)","v":111777.19565662002},0]
[null,null,null,null,null,null,null,null,null,null,null,null,null,null,null,null,null,null,null,null,null,null,null,null,null,null,"OutC1",{"$f":"($AF$66*$AG$69+$AF$74*$AG$77)","v":24.144713627533083},0]
[null,null,null,null,null,null,"Cost1",{"$f":"($L$40*$M$42+$L$104*$M$106)","v":25079.265685348397},0,null,null,null,null,null,null,null,null,null,null,null,null,null,null,null,null,null,null,null,null,null,null,{"$f":"1-AF66","v":0.8117929737638695},"HIV- infant"]
[null,null,null,null,null,null,"OutC1",{"$f":"($L$40*$M$43+$L$104*$M$107)","v":27.660720657530735},0]
[null,null,null,null,null,null,null,null,null,null,null,null,null,null,null,null,null,null,null,null,null,null,null,null,null,null,null,null,null,null,null,"Cost2",{"$f":"HIVtestcost+outhivcost+ndcost+npcost+cd4test+vltest","v":9585.6394984127},0]
[null,null,null,null,null,null,null,null,null,null,null,null,null,null,null,null,null,null,null,null,null,null,null,null,null,null,null,null,null,null,null,"OutC2",{"$f":"qwohiv","v":28.309677443975772},0]
[null,null,null,null,null,null,null,null,null,null,null,null,null,null,null,null,null,null,null,null,null,{"$f":"sens","v":1},"HIV+ result"]
[]
[null,null,null,null,null,null,null,null,null,null,null,null,null,null,null,null,null,null,null,null,null,"Cost1",{"$f":"($AA$70*$AB$72+$AA$86*$AB$88)","v":115865.26235556298},0]
[null,null,null,null,null,null,null,null,null,null,null,null,null,null,null,null,null,null,null,null,null,"OutC1",{"$f":"($AA$70*$AB$73+$AA$86*$AB$89)","v":23.964376361438301},0]
[null,null,null,null,null,null,null,null,null,null,null,null,null,null,null,null,null,null,null,null,null,null,null,null,null,null,null,null,null,null,null,{"$f":"newbase","v":0.35118918918918918},"HIV+ infant"]
[]
[null,null,null,null,null,null,null,null,null,null,null,null,null,null,null,null,null,null,null,null,null,null,null,null,null,null,null,null,null,null,null,"Cost1",{"$f":"HIVtestcost+lifecost+ndcost+cd4test","v":545826.04904954787},0]
[null,null,null,null,null,null,null,null,null,null,null,null,null,null,null,null,null,null,null,null,null,null,null,null,null,null,null,null,null,null,null,"OutC1",{"$f":"qwhiv","v":6.179983883985118},0]
[null,null,null,null,null,null,null,null,null,null,null,null,null,null,null,null,null,null,null,null,null,null,null,null,null,null,{"$f":"1-AA70","v":5.0000000000000044E-2},"Reject VTP"]
[]
[null,null,null,null,null,null,null,null,null,null,null,null,null,null,null,null,null,null,null,null,null,null,null,null,null,null,"Cost2",{"$f":"($AF$82*$AG$84+$AF$90*$AG$92)","v":193538.52963547892},0]
[null,null,null,null,null,null,null,null,null,null,null,null,null,null,null,null,null,null,null,null,null,null,null,null,null,null,"OutC2",{"$f":"($AF$82*$AG$85+$AF$90*$AG$93)","v":20.537968305637431},0]
[null,null,null,null,null,null,null,null,null,null,null,null,null,null,null,null,{"$f":"acceptHIV*percentus","v":0.99},"Accept HIV Test",null,null,null,null,null,null,null,null,null,null,null,null,null,{"$f":"1-AF82","v":0.64881081081081082},"HIV- infant"]
[]
[null,null,null,null,null,null,null,null,null,null,null,null,null,null,null,null,"Cost1",{"$f":"($V$78*$W$80+$V$102*$W$104)","v":115865.26235556298},0,null,null,null,null,null,null,null,null,null,null,null,null,"Cost2",{"$f":"HIVtestcost+ndcost+cd4test","v":2851.8668317460319},0]
[null,null,null,null,null,null,null,null,null,null,null,null,null,null,null,null,"OutC1",{"$f":"($V$78*$W$81+$V$102*$W$105)","v":23.964376361438301},0,null,null,null,null,null,null,null,null,null,null,null,null,"OutC2",{"$f":"qwohiv","v":28.309677443975772},0]
[]
[]
[]
[]
[null,null,null,null,null,null,null,null,null,null,null,null,null,null,null,null,null,null,null,null,null,null,null,null,null,null,{"$f":"newbase","v":0.35118918918918918},"HIV+ infant"]
[]
[null,null,null,null,null,null,null,null,null,null,null,null,null,null,null,null,null,null,null,null,null,null,null,null,null,null,"Cost1",{"$f":"reqHIVtestcost+ndcost+lifecost","v":543540.85221780185},0]
[null,null,null,null,null,null,null,null,null,null,null,null,null,null,null,null,null,null,null,null,null,null,null,null,null,null,"OutC1",{"$f":"qwhiv","v":6.179983883985118},0]
[null,null,null,null,null,null,null,null,null,null,null,null,null,null,null,null,null,null,null,null,null,{"$f":"(1-sens)","v":0},"HIV- result"]
[]
[null,null,null,null,null,null,null,null,null,null,null,{"$f":"lateanc","v":4.0000000000000036E-2},"Late ANC",null,null,null,null,null,null,null,null,"Cost2",{"$f":"($AA$98*$AB$100+$AA$106*$AB$108)","v":191253.33280373289},0]
[null,null,null,null,null,null,null,null,null,null,null,null,null,null,null,null,null,null,null,null,null,"OutC2",{"$f":"($AA$98*$AB$101+$AA$106*$AB$109)","v":20.537968305637431},0]
[null,null,null,null,null,null,null,null,null,null,null,"Cost2",{"$f":"($Q$90*$R$92+$Q$118*$R$120)","v":116613.47636004467},0,null,null,null,null,null,null,null,null,null,null,null,null,{"$f":"1-AA98","v":0.64881081081081082},"HIV- infant"]
[null,null,null,null,null,null,null,null,null,null,null,"OutC2",{"$f":"($Q$90*$R$93+$Q$118*$R$121)","v":23.930112280880294},0]
[null,null,null,null,null,null,null,null,null,null,null,null,null,null,null,null,null,null,null,null,null,null,null,null,null,null,"Cost2",{"$f":"reqHIVtestcost+ndcost","v":566.66999999999996},0]
[null,null,null,null,null,null,null,null,null,null,null,null,null,null,null,null,null,null,null,null,null,null,null,null,null,null,"OutC2",{"$f":"qwohiv","v":28.309677443975772},0]
[]
[]
[]
[]
[null,null,null,null,null,null,null,null,null,null,null,null,null,null,null,null,null,null,null,null,null,{"$f":"newbase","v":0.35118918918918918},"HIV+ infant"]
[]
[null,null,null,null,null,null,null,null,null,null,null,null,null,null,null,null,null,null,null,null,null,"Cost1",{"$f":"+ndcost+lifecost","v":542974.1822178018},0]
[null,null,null,null,null,null,null,null,null,null,null,null,null,null,null,null,null,null,null,null,null,"OutC1",{"$f":"qwhiv","v":6.179983883985118},0]
[null,null,null,null,null,null,null,null,null,null,null,null,null,null,null,null,{"$f":"1-Q90","v":1.0000000000000009E-2},"Reject HIV Test"]
[]
[null,null,null,null,null,null,null,null,null,null,null,null,null,null,null,null,"Cost2",{"$f":"($V$114*$W$116+$V$122*$W$124)","v":190686.66280373288},0]
[null,null,null,null,null,null,null,null,null,null,null,null,null,null,null,null,"OutC2",{"$f":"($V$114*$W$117+$V$122*$W$125)","v":20.537968305637431},0]
[null,null,null,null,null,null,null,null,null,null,null,null,null,null,null,null,null,null,null,null,null,{"$f":"1-V114","v":0.64881081081081082},"HIV- infant"]
[]
[null,null,null,null,null,null,null,null,null,null,null,null,null,null,null,null,null,null,null,null,null,"Cost2",{"$f":"0+ndcost","v":0},0]
[null,null,null,null,null,null,null,null,null,null,null,null,null,null,null,null,null,null,null,null,null,"OutC2",{"$f":"qwohiv","v":28.309677443975772},0]
[]
[]
[]
[]
[null,null,null,null,null,null,null,null,null,null,null,null,null,null,null,null,null,null,null,null,null,null,null,null,null,null,null,null,null,null,null,{"$f":"phivneg","v":0},"HIV+ infant"]
[]
[null,null,null,null,null,null,null,null,null,null,null,null,null,null,null,null,null,null,null,null,null,null,null,null,null,null,null,null,null,null,null,"Cost1",{"$f":"HIVtestcost+outhivcost+lifecost+ndcost+npcost+cd4test+vltest","v":552559.82171621453},0]
[null,null,null,null,null,null,null,null,null,null,null,null,null,null,null,null,null,null,null,null,null,null,null,null,null,null,null,null,null,null,null,"OutC1",{"$f":"qwhiv","v":6.179983883985118},0]
[null,null,null,null,null,null,null,null,null,null,null,null,null,null,null,null,null,null,null,null,null,null,null,null,null,null,{"$f":"acceptundnp","v":0.95},"Accept VTP"]
[]
[null,null,"UNDNP",null,null,null,null,null,null,null,null,null,null,null,null,null,null,null,null,null,null,null,null,null,null,null,"Cost1",{"$f":"($AF$130*$AG$132+$AF$138*$AG$140)","v":9585.6394984127},0]
[null,null,null,null,null,null,null,null,null,null,null,null,null,null,null,null,null,null,null,null,null,null,null,null,null,null,"OutC1",{"$f":"($AF$130*$AG$133+$AF$138*$AG$141)","v":28.309677443975772},0]
[null,"Cost1",{"$f":"($G$72*$H$74+$G$200*$H$202)","v":567.08738633015582},null,null,null,null,null,null,null,null,null,null,null,null,null,null,null,null,null,null,null,null,null,null,null,null,null,null,null,null,{"$f":"1-AF130","v":1},"HIV- infant"]
[null,"OutC1",{"$f":"($G$72*$H$75+$G$200*$H$203)","v":28.309516408538137}]
[null,null,null,null,null,null,null,null,null,null,null,null,null,null,null,null,null,null,null,null,null,null,null,null,null,null,null,null,null,null,null,"Cost2",{"$f":"HIVtestcost+outhivcost+ndcost+npcost+cd4test+vltest","v":9585.6394984127},0]
[null,null,null,null,null,null,null,null,null,null,null,null,null,null,null,null,null,null,null,null,null,null,null,null,null,null,null,null,null,null,null,"OutC2",{"$f":"qwohiv","v":28.309677443975772},0]
[null,null,null,null,null,null,null,null,null,null,null,null,null,null,null,null,null,null,null,null,null,{"$f":"1-(spec)","v":0},"HIV+ result"]
[]
[null,null,null,null,null,null,null,null,null,null,null,null,null,null,null,null,null,null,null,null,null,"Cost1",{"$f":"($AA$134*$AB$136+$AA$150*$AB$152)","v":9248.9508650793668},0]
[null,null,null,null,null,null,null,null,null,null,null,null,null,null,null,null,null,null,null,null,null,"OutC1",{"$f":"($AA$134*$AB$137+$AA$150*$AB$153)","v":28.309677443975772},0]
[null,null,null,null,null,null,null,null,null,null,null,null,null,null,null,null,null,null,null,null,null,null,null,null,null,null,null,null,null,null,null,{"$f":"phivneg","v":0},"HIV+ infant"]
[]
[null,null,null,null,null,null,null,null,null,null,null,null,null,null,null,null,null,null,null,null,null,null,null,null,null,null,null,null,null,null,null,"Cost1",{"$f":"HIVtestcost+lifecost+ndcost+cd4test","v":545826.04904954787},0]
[null,null,null,null,null,null,null,null,null,null,null,null,null,null,null,null,null,null,null,null,null,null,null,null,null,null,null,null,null,null,null,"OutC1",{"$f":"qwhiv","v":6.179983883985118},0]
[null,null,null,null,null,null,null,null,null,null,null,null,null,null,null,null,null,null,null,null,null,null,null,null,null,null,{"$f":"1-AA134","v":5.0000000000000044E-2},"Reject VTP"]
[]
[null,null,null,null,null,null,null,null,null,null,null,null,null,null,null,null,null,null,null,null,null,null,null,null,null,null,"Cost2",{"$f":"($AF$146*$AG$148+$AF$154*$AG$156)","v":2851.8668317460319},0]
[null,null,null,null,null,null,null,null,null,null,null,null,null,null,null,null,null,null,null,null,null,null,null,null,null,null,"OutC2",{"$f":"($AF$146*$AG$149+$AF$154*$AG$157)","v":28.309677443975772},0]
[null,null,null,null,null,null,null,null,null,null,null,null,null,null,null,null,{"$f":"acceptHIV*percentus","v":0.99},"Accept HIV Test",null,null,null,null,null,null,null,null,null,null,null,null,null,{"$f":"1-phivneg","v":1},"HIV- infant"]
[]
[null,null,null,null,null,null,null,null,null,null,null,null,null,null,null,null,"Cost1",{"$f":"($V$142*$W$144+$V$166*$W$168)","v":566.66999999999996},0,null,null,null,null,null,null,null,null,null,null,null,null,"Cost2",{"$f":"HIVtestcost+ndcost+cd4test","v":2851.8668317460319},0]
[null,null,null,null,null,null,null,null,null,null,null,null,null,null,null,null,"OutC1",{"$f":"($V$142*$W$145+$V$166*$W$169)","v":28.309677443975772},0,null,null,null,null,null,null,null,null,null,null,null,null,"OutC2",{"$f":"qwohiv","v":28.309677443975772},0]
[]
[]
[]
[]
[null,null,null,null,null,null,null,null,null,null,null,null,null,null,null,null,null,null,null,null,null,null,null,null,null,null,{"$f":"phivneg","v":0},"HIV+ infant"]
[]
[null,null,null,null,null,null,null,null,null,null,null,null,null,null,null,null,null,null,null,null,null,null,null,null,null,null,"Cost1",{"$f":"reqHIVtestcost+ndcost+lifecost","v":543540.85221780185},0]
[null,null,null,null,null,null,null,null,null,null,null,null,null,null,null,null,null,null,null,null,null,null,null,null,null,null,"OutC1",{"$f":"qwhiv","v":6.179983883985118},0]
[null,null,null,null,null,null,null,null,null,null,null,null,null,null,null,null,null,null,null,null,null,{"$f":"spec","v":1},"HIV- result"]
[]
[null,null,null,null,null,null,null,null,null,null,null,{"$f":"earlyanc","v":0.96},"Early ANC",null,null,null,null,null,null,null,null,"Cost2",{"$f":"($AA$162*$AB$164+$AA$170*$AB$172)","v":566.66999999999996},0]
[null,null,null,null,null,null,null,null,null,null,null,null,null,null,null,null,null,null,null,null,null,"OutC2",{"$f":"($AA$162*$AB$165+$AA$170*$AB$173)","v":28.309677443975772},0]
[null,null,null,null,null,null,null,null,null,null,null,"Cost1",{"$f":"($Q$154*$R$156+$Q$182*$R$184)","v":561.00329999999997},0,null,null,null,null,null,null,null,null,null,null,null,null,{"$f":"1-phivneg","v":1},"HIV- infant"]
[null,null,null,null,null,null,null,null,null,null,null,"OutC1",{"$f":"($Q$154*$R$157+$Q$182*$R$185)","v":28.309677443975772},0]
[null,null,null,null,null,null,null,null,null,null,null,null,null,null,null,null,null,null,null,null,null,null,null,null,null,null,"Cost2",{"$f":"reqHIVtestcost+ndcost","v":566.66999999999996},0]
[null,null,null,null,null,null,null,null,null,null,null,null,null,null,null,null,null,null,null,null,null,null,null,null,null,null,"OutC2",{"$f":"qwohiv","v":28.309677443975772},0]
[]
[]
[]
[]
[null,null,null,null,null,null,null,null,null,null,null,null,null,null,null,null,null,null,null,null,null,{"$f":"phivneg","v":0},"HIV+ infant"]
[]
[null,null,null,null,null,null,null,null,null,null,null,null,null,null,null,null,null,null,null,null,null,"Cost1",{"$f":"+ndcost+lifecost","v":542974.1822178018},0]
[null,null,null,null,null,null,null,null,null,null,null,null,null,null,null,null,null,null,null,null,null,"OutC1",{"$f":"qwhiv","v":6.179983883985118},0]
[null,null,null,null,null,null,null,null,null,null,null,null,null,null,null,null,{"$f":"1-Q154","v":1.0000000000000009E-2},"Reject HIV Test"]
[]
[null,null,null,null,null,null,null,null,null,null,null,null,null,null,null,null,"Cost2",{"$f":"($V$178*$W$180+$V$186*$W$188)","v":0},0]
[null,null,null,null,null,null,null,null,null,null,null,null,null,null,null,null,"OutC2",{"$f":"($V$178*$W$181+$V$186*$W$189)","v":28.309677443975772},0]
[null,null,null,null,null,null,null,null,null,null,null,null,null,null,null,null,null,null,null,null,null,{"$f":"1-phivneg","v":1},"HIV- infant"]
[]
[null,null,null,null,null,null,null,null,null,null,null,null,null,null,null,null,null,null,null,null,null,"Cost2",{"$f":"0+ndcost","v":0},0]
[null,null,null,null,null,null,null,null,null,null,null,null,null,null,null,null,null,null,null,null,null,"OutC2",{"$f":"qwohiv","v":28.309677443975772},0]
[]
[]
[]
[]
[null,null,null,null,null,null,null,null,null,null,null,null,null,null,null,null,null,null,null,null,null,null,null,null,null,null,null,null,null,null,null,{"$f":"phivneg","v":0},"HIV+ infant"]
[]
[null,null,null,null,null,null,null,null,null,null,null,null,null,null,null,null,null,null,null,null,null,null,null,null,null,null,null,null,null,null,null,"Cost1",{"$f":"HIVtestcost+outhivcost+lifecost+ndcost+npcost+cd4test+vltest","v":552559.82171621453},0]
[null,null,null,null,null,null,null,null,null,null,null,null,null,null,null,null,null,null,null,null,null,null,null,null,null,null,null,null,null,null,null,"OutC1",{"$f":"qwhiv","v":6.179983883985118},0]
[null,null,null,null,null,null,null,null,null,null,null,null,null,null,null,null,null,null,null,null,null,null,null,null,null,null,{"$f":"acceptundnp","v":0.95},"Accept VTP"]
[]
[null,null,null,null,null,null,{"$f":"1-(pwhiv/pop)","v":0.99975185491391949},"HIV- pregnant",null,null,null,null,null,null,null,null,null,null,null,null,null,null,null,null,null,null,"Cost1",{"$f":"($AF$194*$AG$196+$AF$202*$AG$204)","v":9585.6394984127},0]
[null,null,null,null,null,null,null,null,null,null,null,null,null,null,null,null,null,null,null,null,null,null,null,null,null,null,"OutC1",{"$f":"($AF$194*$AG$197+$AF$202*$AG$205)","v":28.309677443975772},0]
[null,null,null,null,null,null,"Cost2",{"$f":"($L$168*$M$170+$L$232*$M$234)","v":561.00329999999997},0,null,null,null,null,null,null,null,null,null,null,null,null,null,null,null,null,null,null,null,null,null,null,{"$f":"1-AF194","v":1},"HIV- infant"]
[null,null,null,null,null,null,"OutC2",{"$f":"($L$168*$M$171+$L$232*$M$235)","v":28.309677443975772},0]
[null,null,null,null,null,null,null,null,null,null,null,null,null,null,null,null,null,null,null,null,null,null,null,null,null,null,null,null,null,null,null,"Cost2",{"$f":"HIVtestcost+outhivcost+ndcost+npcost+cd4test+vltest","v":9585.6394984127},0]
[null,null,null,null,null,null,null,null,null,null,null,null,null,null,null,null,null,null,null,null,null,null,null,null,null,null,null,null,null,null,null,"OutC2",{"$f":"qwohiv","v":28.309677443975772},0]
[null,null,null,null,null,null,null,null,null,null,null,null,null,null,null,null,null,null,null,null,null,{"$f":"1-spec","v":0},"HIV+ result"]
[]
[null,null,null,null,null,null,null,null,null,null,null,null,null,null,null,null,null,null,null,null,null,"Cost1",{"$f":"($AA$198*$AB$200+$AA$214*$AB$216)","v":9248.9508650793668},0]
[null,null,null,null,null,null,null,null,null,null,null,null,null,null,null,null,null,null,null,null,null,"OutC1",{"$f":"($AA$198*$AB$201+$AA$214*$AB$217)","v":28.309677443975772},0]
[null,null,null,null,null,null,null,null,null,null,null,null,null,null,null,null,null,null,null,null,null,null,null,null,null,null,null,null,null,null,null,{"$f":"phivneg","v":0},"HIV+ infant"]
[]
[null,null,null,null,null,null,null,null,null,null,null,null,null,null,null,null,null,null,null,null,null,null,null,null,null,null,null,null,null,null,null,"Cost1",{"$f":"HIVtestcost+lifecost+ndcost+cd4test","v":545826.04904954787},0]
[null,null,null,null,null,null,null,null,null,null,null,null,null,null,null,null,null,null,null,null,null,null,null,null,null,null,null,null,null,null,null,"OutC1",{"$f":"qwhiv","v":6.179983883985118},0]
[null,null,null,null,null,null,null,null,null,null,null,null,null,null,null,null,null,null,null,null,null,null,null,null,null,null,{"$f":"1-AA198","v":5.0000000000000044E-2},"Reject VTP"]
[]
[null,null,null,null,null,null,null,null,null,null,null,null,null,null,null,null,null,null,null,null,null,null,null,null,null,null,"Cost2",{"$f":"($AF$210*$AG$212+$AF$218*$AG$220)","v":2851.8668317460319},0]
[null,null,null,null,null,null,null,null,null,null,null,null,null,null,null,null,null,null,null,null,null,null,null,null,null,null,"OutC2",{"$f":"($AF$210*$AG$213+$AF$218*$AG$221)","v":28.309677443975772},0]
[null,null,null,null,null,null,null,null,null,null,null,null,null,null,null,null,{"$f":"acceptHIV*percentus","v":0.99},"Accept HIV Test",null,null,null,null,null,null,null,null,null,null,null,null,null,{"$f":"1-phivneg","v":1},"HIV- infant"]
[]
[null,null,null,null,null,null,null,null,null,null,null,null,null,null,null,null,"Cost1",{"$f":"($V$206*$W$208+$V$230*$W$232)","v":566.66999999999996},0,null,null,null,null,null,null,null,null,null,null,null,null,"Cost2",{"$f":"HIVtestcost+ndcost+cd4test","v":2851.8668317460319},0]
[null,null,null,null,null,null,null,null,null,null,null,null,null,null,null,null,"OutC1",{"$f":"($V$206*$W$209+$V$230*$W$233)","v":28.309677443975772},0,null,null,null,null,null,null,null,null,null,null,null,null,"OutC2",{"$f":"qwohiv","v":28.309677443975772},0]
[]
[]
[]
[]
[null,null,null,null,null,null,null,null,null,null,null,null,null,null,null,null,null,null,null,null,null,null,null,null,null,null,{"$f":"phivneg","v":0},"HIV+ infant"]
[]
[null,null,null,null,null,null,null,null,null,null,null,null,null,null,null,null,null,null,null,null,null,null,null,null,null,null,"Cost1",{"$f":"reqHIVtestcost+ndcost+lifecost","v":543540.85221780185},0]
[null,null,null,null,null,null,null,null,null,null,null,null,null,null,null,null,null,null,null,null,null,null,null,null,null,null,"OutC1",{"$f":"qwhiv","v":6.179983883985118},0]
[null,null,null,null,null,null,null,null,null,null,null,null,null,null,null,null,null,null,null,null,null,{"$f":"spec","v":1},"HIV- result"]
[]
[null,null,null,null,null,null,null,null,null,null,null,{"$f":"lateanc","v":4.0000000000000036E-2},"Late ANC",null,null,null,null,null,null,null,null,"Cost2",{"$f":"($AA$226*$AB$228+$AA$234*$AB$236)","v":566.66999999999996},0]
[null,null,null,null,null,null,null,null,null,null,null,null,null,null,null,null,null,null,null,null,null,"OutC2",{"$f":"($AA$226*$AB$229+$AA$234*$AB$237)","v":28.309677443975772},0]
[null,null,null,null,null,null,null,null,null,null,null,"Cost2",{"$f":"($Q$218*$R$220+$Q$246*$R$248)","v":561.00329999999997},0,null,null,null,null,null,null,null,null,null,null,null,null,{"$f":"1-phivneg","v":1},"HIV- infant"]
[null,null,null,null,null,null,null,null,null,null,null,"OutC2",{"$f":"($Q$218*$R$221+$Q$246*$R$249)","v":28.309677443975772},0]
[null,null,null,null,null,null,null,null,null,null,null,null,null,null,null,null,null,null,null,null,null,null,null,null,null,null,"Cost2",{"$f":"reqHIVtestcost+ndcost","v":566.66999999999996},0]
[null,null,null,null,null,null,null,null,null,null,null,null,null,null,null,null,null,null,null,null,null,null,null,null,null,null,"OutC2",{"$f":"qwohiv","v":28.309677443975772},0]
[]
[]
[]
[]
[null,null,null,null,null,null,null,null,null,null,null,null,null,null,null,null,null,null,null,null,null,{"$f":"phivneg","v":0},"HIV+ infant"]
[]
[null,null,null,null,null,null,null,null,null,null,null,null,null,null,null,null,null,null,null,null,null,"Cost1",{"$f":"+ndcost+lifecost","v":542974.1822178018},0]
[null,null,null,null,null,null,null,null,null,null,null,null,null,null,null,null,null,null,null,null,null,"OutC1",{"$f":"qwhiv","v":6.179983883985118},0]
[null,null,null,null,null,null,null,null,null,null,null,null,null,null,null,null,{"$f":"1-Q218","v":1.0000000000000009E-2},"Reject HIV Test"]
[]
[null,null,null,null,null,null,null,null,null,null,null,null,null,null,null,null,"Cost2",{"$f":"($V$242*$W$244+$V$250*$W$252)","v":0},0]
[null,null,null,null,null,null,null,null,null,null,null,null,null,null,null,null,"OutC2",{"$f":"($V$242*$W$245+$V$250*$W$253)","v":28.309677443975772},0]
[null,null,null,null,null,null,null,null,null,null,null,null,null,null,null,null,null,null,null,null,null,{"$f":"1-phivneg","v":1},"HIV- infant"]
[]
[null,null,null,null,null,null,null,null,null,null,null,null,null,null,null,null,null,null,null,null,null,"Cost2",{"$f":"+ndcost","v":0},0]
[null,null,null,null,null,null,null,null,null,null,null,null,null,null,null,null,null,null,null,null,null,"OutC2",{"$f":"qwohiv","v":28.309677443975772},0]

{"sheet":"Tree for URCSNP","index":29,"n_rows":253,"n_cols":34,"rows_kept":253,"cut":false,"hidden":false,"merged":[]}
["Plant-A-Tree"]
["Supported by iDSI",null,null,null,null,null,null,null,null,null,null,null,null,null,null,null,null,null,null,null,null,null,null,null,null,null,null,null,null,null,null,{"$f":"urcsnpearly","v":1.4941676690065557E-3},"HIV+ infant"]
[]
[null,null,null,null,null,null,null,null,null,null,null,null,null,null,null,null,null,null,null,null,null,null,null,null,null,null,null,null,null,null,null,"Cost1",{"$f":"HIVtestcost+outhivcost+lifecost+ndcost+npcost+cd4test+vltest","v":552559.82171621453},0]
[null,null,null,null,null,null,null,null,null,null,null,null,null,null,null,null,null,null,null,null,null,null,null,null,null,null,null,null,null,null,null,"OutC1",{"$f":"qwhiv","v":6.179983883985118},0]
[null,null,null,null,null,null,null,null,null,null,null,null,null,null,null,null,null,null,null,null,null,null,null,null,null,null,{"$f":"accepturcsnp","v":0.95},"Accept VTP"]
[]
[null,null,null,null,null,null,null,null,null,null,null,null,null,null,null,null,null,null,null,null,null,null,null,null,null,null,"Cost1",{"$f":"($AF$2*$AG$4+$AF$10*$AG$12)","v":10396.933966587814},0]
[null,null,null,null,null,null,null,null,null,null,null,null,null,null,null,null,null,null,null,null,null,null,null,null,null,null,"OutC1",{"$f":"($AF$2*$AG$5+$AF$10*$AG$13)","v":28.276611971333413},0]
[null,null,null,null,null,null,null,null,null,null,null,null,null,null,null,null,null,null,null,null,null,null,null,null,null,null,null,null,null,null,null,{"$f":"1-AF2","v":0.99850583233099344},"HIV- infant"]
[]
[null,null,null,null,null,null,null,null,null,null,null,null,null,null,null,null,null,null,null,null,null,null,null,null,null,null,null,null,null,null,null,"Cost2",{"$f":"HIVtestcost+outhivcost+ndcost+npcost+cd4test+vltest","v":9585.6394984127},0]
[null,null,null,null,null,null,null,null,null,null,null,null,null,null,null,null,null,null,null,null,null,null,null,null,null,null,null,null,null,null,null,"OutC2",{"$f":"qwohiv","v":28.309677443975772},0]
[null,null,null,null,null,null,null,null,null,null,null,null,null,null,null,null,null,null,null,null,null,{"$f":"sens","v":1},"HIV+result"]
[]
[null,null,null,null,null,null,null,null,null,null,null,null,null,null,null,null,null,null,null,null,null,"Cost1",{"$f":"($AA$6*$AB$8+$AA$22*$AB24)","v":19554.013750032376},0]
[null,null,null,null,null,null,null,null,null,null,null,null,null,null,null,null,null,null,null,null,null,"OutC1",{"$f":"($AA$6*$AB$9+$AA$22*$AB$25)","v":27.889679788048614},0]
[null,null,null,null,null,null,null,null,null,null,null,null,null,null,null,null,null,null,null,null,null,null,null,null,null,null,null,null,null,null,null,{"$f":"newbase","v":0.35118918918918918},"HIV+ infant"]
[]
[null,null,null,null,null,null,null,null,null,null,null,null,null,null,null,null,null,null,null,null,null,null,null,null,null,null,null,null,null,null,null,"Cost1",{"$f":"HIVtestcost+lifecost+ndcost+cd4test","v":545826.04904954787},0]
[null,null,null,null,null,null,null,null,null,null,null,null,null,null,null,null,null,null,null,null,null,null,null,null,null,null,null,null,null,null,null,"OutC1",{"$f":"qwhiv","v":6.179983883985118},0]
[null,null,null,null,null,null,null,null,null,null,null,null,null,null,null,null,null,null,null,null,null,null,null,null,null,null,{"$f":"1-AA6","v":5.0000000000000044E-2},"Reject VTP"]
[]
[null,null,null,null,null,null,null,null,null,null,null,null,null,null,null,null,null,null,null,null,null,null,null,null,null,null,"Cost2",{"$f":"($AF$18*$AG$20+$AF$26*$AG$28)","v":193538.52963547892},0]
[null,null,null,null,null,null,null,null,null,null,null,null,null,null,null,null,null,null,null,null,null,null,null,null,null,null,"OutC2",{"$f":"($AF$18*$AG$21+$AF$26*$AG$29)","v":20.537968305637431},0]
[null,null,null,null,null,null,null,null,null,null,null,null,null,null,null,null,{"$f":"acceptHIV*percentus","v":0.99},"Accept HIV Test",null,null,null,null,null,null,null,null,null,null,null,null,null,{"$f":"1-AF18","v":0.64881081081081082},"HIV- infant"]
[]
[null,null,null,null,null,null,null,null,null,null,null,null,null,null,null,null,"Cost1",{"$f":"($V$14*$W$16+$V$38*$W$40)","v":19554.013750032376},0,null,null,null,null,null,null,null,null,null,null,null,null,"Cost2",{"$f":"HIVtestcost+ndcost+cd4test","v":2851.8668317460319},0]
[null,null,null,null,null,null,null,null,null,null,null,null,null,null,null,null,"OutC1",{"$f":"($V$14*$W$17+$V$38*$W$41)","v":27.889679788048614},0,null,null,null,null,null,null,null,null,null,null,null,null,"OutC2",{"$f":"qwohiv","v":28.309677443975772},0]
[]
[]
[]
[]
[null,null,null,null,null,null,null,null,null,null,null,null,null,null,null,null,null,null,null,null,null,null,null,null,null,null,{"$f":"newbase","v":0.35118918918918918},"HIV+ infant"]
[]
[null,null,null,null,null,null,null,null,null,null,null,null,null,null,null,null,null,null,null,null,null,null,null,null,null,null,"Cost1",{"$f":"reqHIVtestcost+ndcost+lifecost","v":543540.85221780185},0]
[null,null,null,null,null,null,null,null,null,null,null,null,null,null,null,null,null,null,null,null,null,null,null,null,null,null,"OutC1",{"$f":"qwhiv","v":6.179983883985118},0]
[null,null,null,null,null,null,null,null,null,null,null,null,null,null,null,null,null,null,null,null,null,{"$f":"(1-sens)","v":0},"HIV- result"]
[]
[null,null,null,null,null,null,null,null,null,null,null,{"$f":"earlyanc","v":0.96},"Early ANC",null,null,null,null,null,null,null,null,"Cost2",{"$f":"($AA$34*$AB$36+$AA$42*$AB$44)","v":191253.33280373289},0]
[null,null,null,null,null,null,null,null,null,null,null,null,null,null,null,null,null,null,null,null,null,"OutC2",{"$f":"($AA$34*$AB$37+$AA$42*$AB$45)","v":20.537968305637431},0]
[null,null,null,null,null,null,null,null,null,null,null,"Cost1",{"$f":"($Q$26*$R$28+$Q$54*$R$56)","v":21265.340240569381},0,null,null,null,null,null,null,null,null,null,null,null,null,{"$f":"1-AA34","v":0.64881081081081082},"HIV- infant"]
[null,null,null,null,null,null,null,null,null,null,null,"OutC1",{"$f":"($Q$26*$R$29+$Q$54*$R$57)","v":27.816162673224504},0]
[null,null,null,null,null,null,null,null,null,null,null,null,null,null,null,null,null,null,null,null,null,null,null,null,null,null,"Cost2",{"$f":"reqHIVtestcost+ndcost","v":566.66999999999996},0]
[null,null,null,null,null,null,null,null,null,null,null,null,null,null,null,null,null,null,null,null,null,null,null,null,null,null,"OutC2",{"$f":"qwohiv","v":28.309677443975772},0]
[]
[]
[]
[]
[null,null,null,null,null,null,null,null,null,null,null,null,null,null,null,null,null,null,null,null,null,{"$f":"newbase","v":0.35118918918918918},"HIV+ infant"]
[]
[null,null,null,null,null,null,null,null,null,null,null,null,null,null,null,null,null,null,null,null,null,"Cost1",{"$f":"ndcost++lifecost","v":542974.1822178018},0]
[null,null,null,null,null,null,null,null,null,null,null,null,null,null,null,null,null,null,null,null,null,"OutC1",{"$f":"qwhiv","v":6.179983883985118},0]
[null,null,null,null,null,null,null,null,null,null,null,null,null,null,null,null,{"$f":"1-Q26","v":1.0000000000000009E-2},"Reject HIV Test"]
[]
[null,null,null,null,null,null,null,null,null,null,null,null,null,null,null,null,"Cost2",{"$f":"($V$50*$W$52+$V$58*$W$60)","v":190686.66280373288},0]
[null,null,null,null,null,null,null,null,null,null,null,null,null,null,null,null,"OutC2",{"$f":"($V$50*$W$53+$V$58*$W$61)","v":20.537968305637431},0]
[null,null,null,null,null,null,null,null,null,null,null,null,null,null,null,null,null,null,null,null,null,{"$f":"1-V50","v":0.64881081081081082},"HIV- infant"]
[]
[null,null,null,null,null,null,null,null,null,null,null,null,null,null,null,null,null,null,null,null,null,"Cost2",{"$f":"ndcost","v":0},0]
[null,null,null,null,null,null,null,null,null,null,null,null,null,null,null,null,null,null,null,null,null,"OutC2",{"$f":"qwohiv","v":28.309677443975772},0]
[]
[]
[]
[]
[null,null,null,null,null,null,null,null,null,null,null,null,null,null,null,null,null,null,null,null,null,null,null,null,null,null,null,null,null,null,null,{"$f":"urcsnplate","v":0.10575700234090349},"HIV+ infant"]
[]
[null,null,null,null,null,null,null,null,null,null,null,null,null,null,null,null,null,null,null,null,null,null,null,null,null,null,null,null,null,null,null,"Cost1",{"$f":"HIVtestcost+outhivcost+lifecost+cscost+rcost+npcost+cd4test+vltest","v":587117.57100895478},0]
[null,null,null,null,null,null,null,null,null,null,null,null,null,null,null,null,null,null,null,null,null,null,null,null,null,null,null,null,null,null,null,"OutC1",{"$f":"qwhiv","v":6.179983883985118},0]
[null,null,null,null,null,null,null,null,null,null,null,null,null,null,null,null,null,null,null,null,null,null,null,null,null,null,{"$f":"accepturcsnp","v":0.95},"Accept VTP"]
[]
[null,null,null,null,null,null,{"$f":"(pwhiv/pop)","v":2.4814508608047192E-4},"HIV+ pregnant",null,null,null,null,null,null,null,null,null,null,null,null,null,null,null,null,null,null,"Cost1",{"$f":"($AF$66*$AG$68+$AF$74*$AG$76)","v":101566.71065101118},0]
[null,null,null,null,null,null,null,null,null,null,null,null,null,null,null,null,null,null,null,null,null,null,null,null,null,null,"OutC1",{"$f":"($AF$66*$AG$69+$AF$74*$AG$77)","v":25.969307390348366},0]
[null,null,null,null,null,null,"Cost1",{"$f":"($L$40*$M$42+$L$104*$M$106)","v":24695.147239437392},0,null,null,null,null,null,null,null,null,null,null,null,null,null,null,null,null,null,null,null,null,null,null,{"$f":"1-AF66","v":0.89424299765909654},"HIV- infant"]
[null,null,null,null,null,null,"OutC1",{"$f":"($L$40*$M$43+$L$104*$M$107)","v":27.729361874887847},0]
[null,null,null,null,null,null,null,null,null,null,null,null,null,null,null,null,null,null,null,null,null,null,null,null,null,null,null,null,null,null,null,"Cost2",{"$f":"HIVtestcost+outhivcost+cscost+rcost+npcost+cd4test+vltest","v":44143.388791152953},0]
[null,null,null,null,null,null,null,null,null,null,null,null,null,null,null,null,null,null,null,null,null,null,null,null,null,null,null,null,null,null,null,"OutC2",{"$f":"qwohiv","v":28.309677443975772},0]
[null,null,null,null,null,null,null,null,null,null,null,null,null,null,null,null,null,null,null,null,null,{"$f":"sens","v":1},"HIV+ result"]
[]
[null,null,null,null,null,null,null,null,null,null,null,null,null,null,null,null,null,null,null,null,null,"Cost1",{"$f":"($AA$70*$AB$72+$AA$86*$AB$88)","v":106165.30160023457},0]
[null,null,null,null,null,null,null,null,null,null,null,null,null,null,null,null,null,null,null,null,null,"OutC1",{"$f":"($AA$70*$AB$73+$AA$86*$AB$89)","v":25.69774043611282},0]
[null,null,null,null,null,null,null,null,null,null,null,null,null,null,null,null,null,null,null,null,null,null,null,null,null,null,null,null,null,null,null,{"$f":"newbase","v":0.35118918918918918},"HIV+ infant"]
[]
[null,null,null,null,null,null,null,null,null,null,null,null,null,null,null,null,null,null,null,null,null,null,null,null,null,null,null,null,null,null,null,"Cost1",{"$f":"HIVtestcost+lifecost+ndcost+cd4test","v":545826.04904954787},0]
[null,null,null,null,null,null,null,null,null,null,null,null,null,null,null,null,null,null,null,null,null,null,null,null,null,null,null,null,null,null,null,"OutC1",{"$f":"qwhiv","v":6.179983883985118},0]
[null,null,null,null,null,null,null,null,null,null,null,null,null,null,null,null,null,null,null,null,null,null,null,null,null,null,{"$f":"1-AA70","v":5.0000000000000044E-2},"Reject VTP"]
[]
[null,null,null,null,null,null,null,null,null,null,null,null,null,null,null,null,null,null,null,null,null,null,null,null,null,null,"Cost2",{"$f":"($AF$82*$AG$84+$AF$90*$AG$92)","v":193538.52963547892},0]
[null,null,null,null,null,null,null,null,null,null,null,null,null,null,null,null,null,null,null,null,null,null,null,null,null,null,"OutC2",{"$f":"($AF$82*$AG$85+$AF$90*$AG$93)","v":20.537968305637431},0]
[null,null,null,null,null,null,null,null,null,null,null,null,null,null,null,null,{"$f":"acceptHIV*percentus","v":0.99},"Accept HIV Test",null,null,null,null,null,null,null,null,null,null,null,null,null,{"$f":"1-AF82","v":0.64881081081081082},"HIV- infant"]
[]
[null,null,null,null,null,null,null,null,null,null,null,null,null,null,null,null,"Cost1",{"$f":"($V$78*$W$80+$V$102*$W$104)","v":106165.30160023457},0,null,null,null,null,null,null,null,null,null,null,null,null,"Cost2",{"$f":"HIVtestcost+ndcost+cd4test","v":2851.8668317460319},0]
[null,null,null,null,null,null,null,null,null,null,null,null,null,null,null,null,"OutC1",{"$f":"($V$78*$W$81+$V$102*$W$105)","v":25.69774043611282},0,null,null,null,null,null,null,null,null,null,null,null,null,"OutC2",{"$f":"qwohiv","v":28.309677443975772},0]
[]
[]
[]
[]
[null,null,null,null,null,null,null,null,null,null,null,null,null,null,null,null,null,null,null,null,null,null,null,null,null,null,{"$f":"newbase","v":0.35118918918918918},"HIV+ infant"]
[]
[null,null,null,null,null,null,null,null,null,null,null,null,null,null,null,null,null,null,null,null,null,null,null,null,null,null,"Cost1",{"$f":"reqHIVtestcost+ndcost+lifecost","v":543540.85221780185},0]
[null,null,null,null,null,null,null,null,null,null,null,null,null,null,null,null,null,null,null,null,null,null,null,null,null,null,"OutC1",{"$f":"qwhiv","v":6.179983883985118},0]
[null,null,null,null,null,null,null,null,null,null,null,null,null,null,null,null,null,null,null,null,null,{"$f":"(1-sens)","v":0},"HIV- result"]
[]
[null,null,null,null,null,null,null,null,null,null,null,{"$f":"lateanc","v":4.0000000000000036E-2},"Late ANC",null,null,null,null,null,null,null,null,"Cost2",{"$f":"($AA$98*$AB$100+$AA$106*$AB$108)","v":191253.33280373289},0]
[null,null,null,null,null,null,null,null,null,null,null,null,null,null,null,null,null,null,null,null,null,"OutC2",{"$f":"($AA$98*$AB$101+$AA$106*$AB$109)","v":20.537968305637431},0]
[null,null,null,null,null,null,null,null,null,null,null,"Cost2",{"$f":"($Q$90*$R$92+$Q$118*$R$120)","v":107010.51521226956},0,null,null,null,null,null,null,null,null,null,null,null,null,{"$f":"1-AA98","v":0.64881081081081082},"HIV- infant"]
[null,null,null,null,null,null,null,null,null,null,null,"OutC2",{"$f":"($Q$90*$R$93+$Q$118*$R$121)","v":25.646142714808068},0]
[null,null,null,null,null,null,null,null,null,null,null,null,null,null,null,null,null,null,null,null,null,null,null,null,null,null,"Cost2",{"$f":"reqHIVtestcost+ndcost","v":566.66999999999996},0]
[null,null,null,null,null,null,null,null,null,null,null,null,null,null,null,null,null,null,null,null,null,null,null,null,null,null,"OutC2",{"$f":"qwohiv","v":28.309677443975772},0]
[]
[]
[]
[]
[null,null,null,null,null,null,null,null,null,null,null,null,null,null,null,null,null,null,null,null,null,{"$f":"newbase","v":0.35118918918918918},"HIV+ infant"]
[]
[null,null,null,null,null,null,null,null,null,null,null,null,null,null,null,null,null,null,null,null,null,"Cost1",{"$f":"ndcost++lifecost","v":542974.1822178018},0]
[null,null,null,null,null,null,null,null,null,null,null,null,null,null,null,null,null,null,null,null,null,"OutC1",{"$f":"qwhiv","v":6.179983883985118},0]
[null,null,null,null,null,null,null,null,null,null,null,null,null,null,null,null,{"$f":"1-Q90","v":1.0000000000000009E-2},"Reject HIV Test"]
[]
[null,null,null,null,null,null,null,null,null,null,null,null,null,null,null,null,"Cost2",{"$f":"($V$114*$W$116+$V$122*$W$124)","v":190686.66280373288},0]
[null,null,null,null,null,null,null,null,null,null,null,null,null,null,null,null,"OutC2",{"$f":"($V$114*$W$117+$V$122*$W$125)","v":20.537968305637431},0]
[null,null,null,null,null,null,null,null,null,null,null,null,null,null,null,null,null,null,null,null,null,{"$f":"1-V114","v":0.64881081081081082},"HIV- infant"]
[]
[null,null,null,null,null,null,null,null,null,null,null,null,null,null,null,null,null,null,null,null,null,"Cost2",{"$f":"0+ndcost","v":0},0]
[null,null,null,null,null,null,null,null,null,null,null,null,null,null,null,null,null,null,null,null,null,"OutC2",{"$f":"qwohiv","v":28.309677443975772},0]
[]
[]
[]
[]
[null,null,null,null,null,null,null,null,null,null,null,null,null,null,null,null,null,null,null,null,null,null,null,null,null,null,null,null,null,null,null,{"$f":"phivneg","v":0},"HIV+ infant"]
[]
[null,null,null,null,null,null,null,null,null,null,null,null,null,null,null,null,null,null,null,null,null,null,null,null,null,null,null,null,null,null,null,"Cost1",{"$f":"HIVtestcost+outhivcost+lifecost+ndcost+npcost+cd4test+vltest","v":552559.82171621453},0]
[null,null,null,null,null,null,null,null,null,null,null,null,null,null,null,null,null,null,null,null,null,null,null,null,null,null,null,null,null,null,null,"OutC1",{"$f":"qwhiv","v":6.179983883985118},0]
[null,null,null,null,null,null,null,null,null,null,null,null,null,null,null,null,null,null,null,null,null,null,null,null,null,null,{"$f":"accepturcsnp","v":0.95},"Accept VTP"]
[]
[null,null,"URCSNP",null,null,null,null,null,null,null,null,null,null,null,null,null,null,null,null,null,null,null,null,null,null,null,"Cost1",{"$f":"($AF$130*$AG$132+$AF$138*$AG$140)","v":9585.6394984127},0]
[null,null,null,null,null,null,null,null,null,null,null,null,null,null,null,null,null,null,null,null,null,null,null,null,null,null,"OutC1",{"$f":"($AF$130*$AG$133+$AF$138*$AG$141)","v":28.309677443975772},0]
[null,"Cost1",{"$f":"($G$72*$H$74+$G$200*$H$202)","v":566.99206922533017},null,null,null,null,null,null,null,null,null,null,null,null,null,null,null,null,null,null,null,null,null,null,null,null,null,null,null,null,{"$f":"1-AF130","v":1},"HIV- infant"]
[null,"OutC1",{"$f":"($G$72*$H$75+$G$200*$H$203)","v":28.309533441518926}]
[null,null,null,null,null,null,null,null,null,null,null,null,null,null,null,null,null,null,null,null,null,null,null,null,null,null,null,null,null,null,null,"Cost2",{"$f":"HIVtestcost+outhivcost+ndcost+npcost+cd4test+vltest","v":9585.6394984127},0]
[null,null,null,null,null,null,null,null,null,null,null,null,null,null,null,null,null,null,null,null,null,null,null,null,null,null,null,null,null,null,null,"OutC2",{"$f":"qwohiv","v":28.309677443975772},0]
[null,null,null,null,null,null,null,null,null,null,null,null,null,null,null,null,null,null,null,null,null,{"$f":"1-(spec)","v":0},"HIV+ result"]
[]
[null,null,null,null,null,null,null,null,null,null,null,null,null,null,null,null,null,null,null,null,null,"Cost1",{"$f":"($AA$134*$AB$136+$AA$150*$AB$152)","v":9248.9508650793668},0]
[null,null,null,null,null,null,null,null,null,null,null,null,null,null,null,null,null,null,null,null,null,"OutC1",{"$f":"($AA$134*$AB$137+$AA$150*$AB$153)","v":28.309677443975772},0]
[null,null,null,null,null,null,null,null,null,null,null,null,null,null,null,null,null,null,null,null,null,null,null,null,null,null,null,null,null,null,null,{"$f":"phivneg","v":0},"HIV+ infant"]
[]
[null,null,null,null,null,null,null,null,null,null,null,null,null,null,null,null,null,null,null,null,null,null,null,null,null,null,null,null,null,null,null,"Cost1",{"$f":"HIVtestcost+lifecost+ndcost+cd4test","v":545826.04904954787},0]
[null,null,null,null,null,null,null,null,null,null,null,null,null,null,null,null,null,null,null,null,null,null,null,null,null,null,null,null,null,null,null,"OutC1",{"$f":"qwhiv","v":6.179983883985118},0]
[null,null,null,null,null,null,null,null,null,null,null,null,null,null,null,null,null,null,null,null,null,null,null,null,null,null,{"$f":"1-AA134","v":5.0000000000000044E-2},"Reject VTP"]
[]
[null,null,null,null,null,null,null,null,null,null,null,null,null,null,null,null,null,null,null,null,null,null,null,null,null,null,"Cost2",{"$f":"($AF$146*$AG$148+$AF$154*$AG$156)","v":2851.8668317460319},0]
[null,null,null,null,null,null,null,null,null,null,null,null,null,null,null,null,null,null,null,null,null,null,null,null,null,null,"OutC2",{"$f":"($AF$146*$AG$149+$AF$154*$AG$157)","v":28.309677443975772},0]
[null,null,null,null,null,null,null,null,null,null,null,null,null,null,null,null,{"$f":"acceptHIV*percentus","v":0.99},"Accept HIV Test",null,null,null,null,null,null,null,null,null,null,null,null,null,{"$f":"1-phivneg","v":1},"HIV- infant"]
[]
[null,null,null,null,null,null,null,null,null,null,null,null,null,null,null,null,"Cost1",{"$f":"($V$142*$W$144+$V$166*$W$168)","v":566.66999999999996},0,null,null,null,null,null,null,null,null,null,null,null,null,"Cost2",{"$f":"HIVtestcost+ndcost+cd4test","v":2851.8668317460319},0]
[null,null,null,null,null,null,null,null,null,null,null,null,null,null,null,null,"OutC1",{"$f":"($V$142*$W$145+$V$166*$W$169)","v":28.309677443975772},0,null,null,null,null,null,null,null,null,null,null,null,null,"OutC2",{"$f":"qwohiv","v":28.309677443975772},0]
[]
[]
[]
[]
[null,null,null,null,null,null,null,null,null,null,null,null,null,null,null,null,null,null,null,null,null,null,null,null,null,null,{"$f":"phivneg","v":0},"HIV+ infant"]
[]
[null,null,null,null,null,null,null,null,null,null,null,null,null,null,null,null,null,null,null,null,null,null,null,null,null,null,"Cost1",{"$f":"reqHIVtestcost+ndcost+lifecost","v":543540.85221780185},0]
[null,null,null,null,null,null,null,null,null,null,null,null,null,null,null,null,null,null,null,null,null,null,null,null,null,null,"OutC1",{"$f":"qwhiv","v":6.179983883985118},0]
[null,null,null,null,null,null,null,null,null,null,null,null,null,null,null,null,null,null,null,null,null,{"$f":"spec","v":1},"HIV- result"]
[]
[null,null,null,null,null,null,null,null,null,null,null,{"$f":"earlyanc","v":0.96},"Early ANC",null,null,null,null,null,null,null,null,"Cost2",{"$f":"($AA$162*$AB$164+$AA$170*$AB$172)","v":566.66999999999996},0]
[null,null,null,null,null,null,null,null,null,null,null,null,null,null,null,null,null,null,null,null,null,"OutC2",{"$f":"($AA$162*$AB$165+$AA$170*$AB$173)","v":28.309677443975772},0]
[null,null,null,null,null,null,null,null,null,null,null,"Cost1",{"$f":"($Q$154*$R$156+$Q$182*$R$184)","v":561.00329999999997},0,null,null,null,null,null,null,null,null,null,null,null,null,{"$f":"1-phivneg","v":1},"HIV- infant"]
[null,null,null,null,null,null,null,null,null,null,null,"OutC1",{"$f":"($Q$154*$R$157+$Q$182*$R$185)","v":28.309677443975772},0]
[null,null,null,null,null,null,null,null,null,null,null,null,null,null,null,null,null,null,null,null,null,null,null,null,null,null,"Cost2",{"$f":"reqHIVtestcost+ndcost","v":566.66999999999996},0]
[null,null,null,null,null,null,null,null,null,null,null,null,null,null,null,null,null,null,null,null,null,null,null,null,null,null,"OutC2",{"$f":"qwohiv","v":28.309677443975772},0]
[]
[]
[]
[]
[null,null,null,null,null,null,null,null,null,null,null,null,null,null,null,null,null,null,null,null,null,{"$f":"phivneg","v":0},"HIV+ infant"]
[]
[null,null,null,null,null,null,null,null,null,null,null,null,null,null,null,null,null,null,null,null,null,"Cost1",{"$f":"ndcost++lifecost","v":542974.1822178018},0]
[null,null,null,null,null,null,null,null,null,null,null,null,null,null,null,null,null,null,null,null,null,"OutC1",{"$f":"qwhiv","v":6.179983883985118},0]
[null,null,null,null,null,null,null,null,null,null,null,null,null,null,null,null,{"$f":"1-Q154","v":1.0000000000000009E-2},"Reject HIV Test"]
[]
[null,null,null,null,null,null,null,null,null,null,null,null,null,null,null,null,"Cost2",{"$f":"($V$178*$W$180+$V$186*$W$188)","v":0},0]
[null,null,null,null,null,null,null,null,null,null,null,null,null,null,null,null,"OutC2",{"$f":"($V$178*$W$181+$V$186*$W$189)","v":28.309677443975772},0]
[null,null,null,null,null,null,null,null,null,null,null,null,null,null,null,null,null,null,null,null,null,{"$f":"1-phivneg","v":1},"HIV- infant"]
[]
[null,null,null,null,null,null,null,null,null,null,null,null,null,null,null,null,null,null,null,null,null,"Cost2",{"$f":"0+ndcost","v":0},0]
[null,null,null,null,null,null,null,null,null,null,null,null,null,null,null,null,null,null,null,null,null,"OutC2",{"$f":"qwohiv","v":28.309677443975772},0]
[]
[]
[]
[]
[null,null,null,null,null,null,null,null,null,null,null,null,null,null,null,null,null,null,null,null,null,null,null,null,null,null,null,null,null,null,null,{"$f":"phivneg","v":0},"HIV+ infant"]
[]
[null,null,null,null,null,null,null,null,null,null,null,null,null,null,null,null,null,null,null,null,null,null,null,null,null,null,null,null,null,null,null,"Cost1",{"$f":"HIVtestcost+outhivcost+lifecost+cscost+rcost+npcost+cd4test+vltest","v":587117.57100895478},0]
[null,null,null,null,null,null,null,null,null,null,null,null,null,null,null,null,null,null,null,null,null,null,null,null,null,null,null,null,null,null,null,"OutC1",{"$f":"qwhiv","v":6.179983883985118},0]
[null,null,null,null,null,null,null,null,null,null,null,null,null,null,null,null,null,null,null,null,null,null,null,null,null,null,{"$f":"accepturcsnp","v":0.95},"Accept VTP"]
[]
[null,null,null,null,null,null,{"$f":"1-(pwhiv/pop)","v":0.99975185491391949},"HIV- pregnant",null,null,null,null,null,null,null,null,null,null,null,null,null,null,null,null,null,null,"Cost1",{"$f":"($AF$194*$AG$196+$AF$202*$AG$204)","v":44143.388791152953},0]
[null,null,null,null,null,null,null,null,null,null,null,null,null,null,null,null,null,null,null,null,null,null,null,null,null,null,"OutC1",{"$f":"($AF$194*$AG$197+$AF$202*$AG$205)","v":28.309677443975772},0]
[null,null,null,null,null,null,"Cost2",{"$f":"($L$168*$M$170+$L$232*$M$234)","v":561.00329999999997},0,null,null,null,null,null,null,null,null,null,null,null,null,null,null,null,null,null,null,null,null,null,null,{"$f":"1-AF194","v":1},"HIV- infant"]
[null,null,null,null,null,null,"OutC2",{"$f":"($L$168*$M$171+$L$232*$M$235)","v":28.309677443975772},0]
[null,null,null,null,null,null,null,null,null,null,null,null,null,null,null,null,null,null,null,null,null,null,null,null,null,null,null,null,null,null,null,"Cost2",{"$f":"HIVtestcost+outhivcost+cscost+rcost+npcost+cd4test+vltest","v":44143.388791152953},0]
[null,null,null,null,null,null,null,null,null,null,null,null,null,null,null,null,null,null,null,null,null,null,null,null,null,null,null,null,null,null,null,"OutC2",{"$f":"qwohiv","v":28.309677443975772},0]
[null,null,null,null,null,null,null,null,null,null,null,null,null,null,null,null,null,null,null,null,null,{"$f":"1-spec","v":0},"HIV+ result"]
[]
[null,null,null,null,null,null,null,null,null,null,null,null,null,null,null,null,null,null,null,null,null,"Cost1",{"$f":"($AA$198*$AB$200+$AA$214*$AB$216)","v":42078.812693182605},0]
[null,null,null,null,null,null,null,null,null,null,null,null,null,null,null,null,null,null,null,null,null,"OutC1",{"$f":"($AA$198*$AB$201+$AA$214*$AB$217)","v":28.309677443975772},0]
[null,null,null,null,null,null,null,null,null,null,null,null,null,null,null,null,null,null,null,null,null,null,null,null,null,null,null,null,null,null,null,{"$f":"phivneg","v":0},"HIV+ infant"]
[]
[null,null,null,null,null,null,null,null,null,null,null,null,null,null,null,null,null,null,null,null,null,null,null,null,null,null,null,null,null,null,null,"Cost1",{"$f":"HIVtestcost+lifecost+ndcost+cd4test","v":545826.04904954787},0]
[null,null,null,null,null,null,null,null,null,null,null,null,null,null,null,null,null,null,null,null,null,null,null,null,null,null,null,null,null,null,null,"OutC1",{"$f":"qwhiv","v":6.179983883985118},0]
[null,null,null,null,null,null,null,null,null,null,null,null,null,null,null,null,null,null,null,null,null,null,null,null,null,null,{"$f":"1-AA198","v":5.0000000000000044E-2},"Reject VTP"]
[]
[null,null,null,null,null,null,null,null,null,null,null,null,null,null,null,null,null,null,null,null,null,null,null,null,null,null,"Cost2",{"$f":"($AF$210*$AG$212+$AF$218*$AG$220)","v":2851.8668317460319},0]
[null,null,null,null,null,null,null,null,null,null,null,null,null,null,null,null,null,null,null,null,null,null,null,null,null,null,"OutC2",{"$f":"($AF$210*$AG$213+$AF$218*$AG$221)","v":28.309677443975772},0]
[null,null,null,null,null,null,null,null,null,null,null,null,null,null,null,null,{"$f":"acceptHIV*percentus","v":0.99},"Accept HIV Test",null,null,null,null,null,null,null,null,null,null,null,null,null,{"$f":"1-phivneg","v":1},"HIV- infant"]
[]
[null,null,null,null,null,null,null,null,null,null,null,null,null,null,null,null,"Cost1",{"$f":"($V$206*$W$208+$V$230*$W$232)","v":566.66999999999996},0,null,null,null,null,null,null,null,null,null,null,null,null,"Cost2",{"$f":"HIVtestcost+ndcost+cd4test","v":2851.8668317460319},0]
[null,null,null,null,null,null,null,null,null,null,null,null,null,null,null,null,"OutC1",{"$f":"($V$206*$W$209+$V$230*$W$233)","v":28.309677443975772},0,null,null,null,null,null,null,null,null,null,null,null,null,"OutC2",{"$f":"qwohiv","v":28.309677443975772},0]
[]
[]
[]
[]
[null,null,null,null,null,null,null,null,null,null,null,null,null,null,null,null,null,null,null,null,null,null,null,null,null,null,{"$f":"phivneg","v":0},"HIV+ infant"]
[]
[null,null,null,null,null,null,null,null,null,null,null,null,null,null,null,null,null,null,null,null,null,null,null,null,null,null,"Cost1",{"$f":"reqHIVtestcost+ndcost+lifecost","v":543540.85221780185},0]
[null,null,null,null,null,null,null,null,null,null,null,null,null,null,null,null,null,null,null,null,null,null,null,null,null,null,"OutC1",{"$f":"qwhiv","v":6.179983883985118},0]
[null,null,null,null,null,null,null,null,null,null,null,null,null,null,null,null,null,null,null,null,null,{"$f":"spec","v":1},"HIV- result"]
[]
[null,null,null,null,null,null,null,null,null,null,null,{"$f":"lateanc","v":4.0000000000000036E-2},"Late ANC",null,null,null,null,null,null,null,null,"Cost2",{"$f":"($AA$226*$AB$228+$AA$234*$AB$236)","v":566.66999999999996},0]
[null,null,null,null,null,null,null,null,null,null,null,null,null,null,null,null,null,null,null,null,null,"OutC2",{"$f":"($AA$226*$AB$229+$AA$234*$AB$237)","v":28.309677443975772},0]
[null,null,null,null,null,null,null,null,null,null,null,"Cost2",{"$f":"($Q$218*$R$220+$Q$246*$R$248)","v":561.00329999999997},0,null,null,null,null,null,null,null,null,null,null,null,null,{"$f":"1-phivneg","v":1},"HIV- infant"]
[null,null,null,null,null,null,null,null,null,null,null,"OutC2",{"$f":"($Q$218*$R$221+$Q$246*$R$249)","v":28.309677443975772},0]
[null,null,null,null,null,null,null,null,null,null,null,null,null,null,null,null,null,null,null,null,null,null,null,null,null,null,"Cost2",{"$f":"reqHIVtestcost+ndcost","v":566.66999999999996},0]
[null,null,null,null,null,null,null,null,null,null,null,null,null,null,null,null,null,null,null,null,null,null,null,null,null,null,"OutC2",{"$f":"qwohiv","v":28.309677443975772},0]
[]
[]
[]
[]
[null,null,null,null,null,null,null,null,null,null,null,null,null,null,null,null,null,null,null,null,null,{"$f":"phivneg","v":0},"HIV+ infant"]
[]
[null,null,null,null,null,null,null,null,null,null,null,null,null,null,null,null,null,null,null,null,null,"Cost1",{"$f":"ndcost++lifecost","v":542974.1822178018},0]
[null,null,null,null,null,null,null,null,null,null,null,null,null,null,null,null,null,null,null,null,null,"OutC1",{"$f":"qwhiv","v":6.179983883985118},0]
[null,null,null,null,null,null,null,null,null,null,null,null,null,null,null,null,{"$f":"1-Q218","v":1.0000000000000009E-2},"Reject HIV Test"]
[]
[null,null,null,null,null,null,null,null,null,null,null,null,null,null,null,null,"Cost2",{"$f":"($V$242*$W$244+$V$250*$W$252)","v":0},0]
[null,null,null,null,null,null,null,null,null,null,null,null,null,null,null,null,"OutC2",{"$f":"($V$242*$W$245+$V$250*$W$253)","v":28.309677443975772},0]
[null,null,null,null,null,null,null,null,null,null,null,null,null,null,null,null,null,null,null,null,null,{"$f":"1-phivneg","v":1},"HIV- infant"]
[]
[null,null,null,null,null,null,null,null,null,null,null,null,null,null,null,null,null,null,null,null,null,"Cost2",{"$f":"+ndcost","v":0},0]
[null,null,null,null,null,null,null,null,null,null,null,null,null,null,null,null,null,null,null,null,null,"OutC2",{"$f":"qwohiv","v":28.309677443975772},0]

{"sheet":"Tree for UCSNPSF","index":30,"n_rows":253,"n_cols":34,"rows_kept":253,"cut":false,"hidden":false,"merged":[]}
["Plant-A-Tree"]
["Supported by iDSI",null,null,null,null,null,null,null,null,null,null,null,null,null,null,null,null,null,null,null,null,null,null,null,null,null,null,null,null,null,null,{"$f":"ucsnpsfearly","v":1.4941676690065557E-3},"HIV+ infant"]
[]
[null,null,null,null,null,null,null,null,null,null,null,null,null,null,null,null,null,null,null,null,null,null,null,null,null,null,null,null,null,null,null,"Cost1",{"$f":"HIVtestcost+outhivcost+lifecost+ndcost+npcost+cd4test+vltest","v":552559.82171621453},0]
[null,null,null,null,null,null,null,null,null,null,null,null,null,null,null,null,null,null,null,null,null,null,null,null,null,null,null,null,null,null,null,"OutC1",{"$f":"qwhiv","v":6.179983883985118},0]
[null,null,null,null,null,null,null,null,null,null,null,null,null,null,null,null,null,null,null,null,null,null,null,null,null,null,{"$f":"acceptucsnpsf","v":0.95},"Accept VTP"]
[]
[null,null,null,null,null,null,null,null,null,null,null,null,null,null,null,null,null,null,null,null,null,null,null,null,null,null,"Cost1",{"$f":"($AF$2*$AG$4+$AF$10*$AG$12)","v":10396.933966587814},0]
[null,null,null,null,null,null,null,null,null,null,null,null,null,null,null,null,null,null,null,null,null,null,null,null,null,null,"OutC1",{"$f":"($AF$2*$AG$5+$AF$10*$AG$13)","v":28.276611971333413},0]
[null,null,null,null,null,null,null,null,null,null,null,null,null,null,null,null,null,null,null,null,null,null,null,null,null,null,null,null,null,null,null,{"$f":"1-AF2","v":0.99850583233099344},"HIV- infant"]
[]
[null,null,null,null,null,null,null,null,null,null,null,null,null,null,null,null,null,null,null,null,null,null,null,null,null,null,null,null,null,null,null,"Cost2",{"$f":"HIVtestcost+outhivcost+ndcost+npcost+cd4test+vltest","v":9585.6394984127},0]
[null,null,null,null,null,null,null,null,null,null,null,null,null,null,null,null,null,null,null,null,null,null,null,null,null,null,null,null,null,null,null,"OutC2",{"$f":"qwohiv","v":28.309677443975772},0]
[null,null,null,null,null,null,null,null,null,null,null,null,null,null,null,null,null,null,null,null,null,{"$f":"sens","v":1},"HIV+result"]
[]
[null,null,null,null,null,null,null,null,null,null,null,null,null,null,null,null,null,null,null,null,null,"Cost1",{"$f":"($AA$6*$AB$8+$AA$22*$AB24)","v":19554.013750032376},0]
[null,null,null,null,null,null,null,null,null,null,null,null,null,null,null,null,null,null,null,null,null,"OutC1",{"$f":"($AA$6*$AB$9+$AA$22*$AB$25)","v":27.889679788048614},0]
[null,null,null,null,null,null,null,null,null,null,null,null,null,null,null,null,null,null,null,null,null,null,null,null,null,null,null,null,null,null,null,{"$f":"newbase","v":0.35118918918918918},"HIV+ infant"]
[]
[null,null,null,null,null,null,null,null,null,null,null,null,null,null,null,null,null,null,null,null,null,null,null,null,null,null,null,null,null,null,null,"Cost1",{"$f":"HIVtestcost+lifecost+ndcost+cd4test","v":545826.04904954787},0]
[null,null,null,null,null,null,null,null,null,null,null,null,null,null,null,null,null,null,null,null,null,null,null,null,null,null,null,null,null,null,null,"OutC1",{"$f":"qwhiv","v":6.179983883985118},0]
[null,null,null,null,null,null,null,null,null,null,null,null,null,null,null,null,null,null,null,null,null,null,null,null,null,null,{"$f":"1-AA6","v":5.0000000000000044E-2},"Reject VTP"]
[]
[null,null,null,null,null,null,null,null,null,null,null,null,null,null,null,null,null,null,null,null,null,null,null,null,null,null,"Cost2",{"$f":"($AF$18*$AG$20+$AF$26*$AG$28)","v":193538.52963547892},0]
[null,null,null,null,null,null,null,null,null,null,null,null,null,null,null,null,null,null,null,null,null,null,null,null,null,null,"OutC2",{"$f":"($AF$18*$AG$21+$AF$26*$AG$29)","v":20.537968305637431},0]
[null,null,null,null,null,null,null,null,null,null,null,null,null,null,null,null,{"$f":"acceptHIV*percentus","v":0.99},"Accept HIV Test",null,null,null,null,null,null,null,null,null,null,null,null,null,{"$f":"1-AF18","v":0.64881081081081082},"HIV- infant"]
[]
[null,null,null,null,null,null,null,null,null,null,null,null,null,null,null,null,"Cost1",{"$f":"($V$14*$W$16+$V$38*$W$40)","v":19554.013750032376},0,null,null,null,null,null,null,null,null,null,null,null,null,"Cost2",{"$f":"HIVtestcost+ndcost+cd4test","v":2851.8668317460319},0]
[null,null,null,null,null,null,null,null,null,null,null,null,null,null,null,null,"OutC1",{"$f":"($V$14*$W$17+$V$38*$W$41)","v":27.889679788048614},0,null,null,null,null,null,null,null,null,null,null,null,null,"OutC2",{"$f":"qwohiv","v":28.309677443975772},0]
[]
[]
[]
[]
[null,null,null,null,null,null,null,null,null,null,null,null,null,null,null,null,null,null,null,null,null,null,null,null,null,null,{"$f":"newbase","v":0.35118918918918918},"HIV+ infant"]
[]
[null,null,null,null,null,null,null,null,null,null,null,null,null,null,null,null,null,null,null,null,null,null,null,null,null,null,"Cost1",{"$f":"reqHIVtestcost+ndcost+lifecost","v":543540.85221780185},0]
[null,null,null,null,null,null,null,null,null,null,null,null,null,null,null,null,null,null,null,null,null,null,null,null,null,null,"OutC1",{"$f":"qwhiv","v":6.179983883985118},0]
[null,null,null,null,null,null,null,null,null,null,null,null,null,null,null,null,null,null,null,null,null,{"$f":"(1-sens)","v":0},"HIV- result"]
[]
[null,null,null,null,null,null,null,null,null,null,null,{"$f":"earlyanc","v":0.96},"Early ANC",null,null,null,null,null,null,null,null,"Cost2",{"$f":"($AA$34*$AB$36+$AA$42*$AB$44)","v":191253.33280373289},0]
[null,null,null,null,null,null,null,null,null,null,null,null,null,null,null,null,null,null,null,null,null,"OutC2",{"$f":"($AA$34*$AB$37+$AA$42*$AB$45)","v":20.537968305637431},0]
[null,null,null,null,null,null,null,null,null,null,null,"Cost1",{"$f":"($Q$26*$R$28+$Q$54*$R$56)","v":21265.340240569381},0,null,null,null,null,null,null,null,null,null,null,null,null,{"$f":"1-AA34","v":0.64881081081081082},"HIV- infant"]
[null,null,null,null,null,null,null,null,null,null,null,"OutC1",{"$f":"($Q$26*$R$29+$Q$54*$R$57)","v":27.816162673224504},0]
[null,null,null,null,null,null,null,null,null,null,null,null,null,null,null,null,null,null,null,null,null,null,null,null,null,null,"Cost2",{"$f":"reqHIVtestcost+ndcost","v":566.66999999999996},0]
[null,null,null,null,null,null,null,null,null,null,null,null,null,null,null,null,null,null,null,null,null,null,null,null,null,null,"OutC2",{"$f":"qwohiv","v":28.309677443975772},0]
[]
[]
[]
[]
[null,null,null,null,null,null,null,null,null,null,null,null,null,null,null,null,null,null,null,null,null,{"$f":"newbase","v":0.35118918918918918},"HIV+ infant"]
[]
[null,null,null,null,null,null,null,null,null,null,null,null,null,null,null,null,null,null,null,null,null,"Cost1",{"$f":"ndcost+lifecost","v":542974.1822178018},0]
[null,null,null,null,null,null,null,null,null,null,null,null,null,null,null,null,null,null,null,null,null,"OutC1",{"$f":"qwhiv","v":6.179983883985118},0]
[null,null,null,null,null,null,null,null,null,null,null,null,null,null,null,null,{"$f":"1-Q26","v":1.0000000000000009E-2},"Reject HIV Test"]
[]
[null,null,null,null,null,null,null,null,null,null,null,null,null,null,null,null,"Cost2",{"$f":"($V$50*$W$52+$V$58*$W$60)","v":190686.66280373288},0]
[null,null,null,null,null,null,null,null,null,null,null,null,null,null,null,null,"OutC2",{"$f":"($V$50*$W$53+$V$58*$W$61)","v":20.537968305637431},0]
[null,null,null,null,null,null,null,null,null,null,null,null,null,null,null,null,null,null,null,null,null,{"$f":"1-V50","v":0.64881081081081082},"HIV- infant"]
[]
[null,null,null,null,null,null,null,null,null,null,null,null,null,null,null,null,null,null,null,null,null,"Cost2",{"$f":"ndcost","v":0},0]
[null,null,null,null,null,null,null,null,null,null,null,null,null,null,null,null,null,null,null,null,null,"OutC2",{"$f":"qwohiv","v":28.309677443975772},0]
[]
[]
[]
[]
[null,null,null,null,null,null,null,null,null,null,null,null,null,null,null,null,null,null,null,null,null,null,null,null,null,null,null,null,null,null,null,{"$f":"ucsnpsflate","v":3.6143225951285218E-2},"HIV+ infant"]
[]
[null,null,null,null,null,null,null,null,null,null,null,null,null,null,null,null,null,null,null,null,null,null,null,null,null,null,null,null,null,null,null,"Cost1",{"$f":"HIVtestcost+outhivcost+lifecost+cscost+npcost+sfcost+cd4test+vltest","v":575358.13318367326},0]
[null,null,null,null,null,null,null,null,null,null,null,null,null,null,null,null,null,null,null,null,null,null,null,null,null,null,null,null,null,null,null,"OutC1",{"$f":"qwhiv","v":6.179983883985118},0]
[null,null,null,null,null,null,null,null,null,null,null,null,null,null,null,null,null,null,null,null,null,null,null,null,null,null,{"$f":"acceptucsnpsf","v":0.95},"Accept VTP"]
[]
[null,null,null,null,null,null,{"$f":"(pwhiv/pop)","v":2.4814508608047192E-4},"HIV+ pregnant",null,null,null,null,null,null,null,null,null,null,null,null,null,null,null,null,null,null,"Cost1",{"$f":"($AF$66*$AG$68+$AF$74*$AG$76)","v":52008.789519483718},0]
[null,null,null,null,null,null,null,null,null,null,null,null,null,null,null,null,null,null,null,null,null,null,null,null,null,null,"OutC1",{"$f":"($AF$66*$AG$69+$AF$74*$AG$77)","v":27.509838929404328},0]
[null,null,null,null,null,null,"Cost1",{"$f":"($L$40*$M$42+$L$104*$M$106)","v":22830.778246469326},0,null,null,null,null,null,null,null,null,null,null,null,null,null,null,null,null,null,null,null,null,null,null,{"$f":"1-AF66","v":0.96385677404871473},"HIV- infant"]
[null,null,null,null,null,null,"OutC1",{"$f":"($L$40*$M$43+$L$104*$M$107)","v":27.787316671387131},0]
[null,null,null,null,null,null,null,null,null,null,null,null,null,null,null,null,null,null,null,null,null,null,null,null,null,null,null,null,null,null,null,"Cost2",{"$f":"HIVtestcost+outhivcost+cscost+npcost+sfcost+cd4test+vltest","v":32383.950965871391},0]
[null,null,null,null,null,null,null,null,null,null,null,null,null,null,null,null,null,null,null,null,null,null,null,null,null,null,null,null,null,null,null,"OutC2",{"$f":"qwohiv","v":28.309677443975772},0]
[null,null,null,null,null,null,null,null,null,null,null,null,null,null,null,null,null,null,null,null,null,{"$f":"sens","v":1},"HIV+ result"]
[]
[null,null,null,null,null,null,null,null,null,null,null,null,null,null,null,null,null,null,null,null,null,"Cost1",{"$f":"($AA$70*$AB$72+$AA$86*$AB$88)","v":59085.27652528348},0]
[null,null,null,null,null,null,null,null,null,null,null,null,null,null,null,null,null,null,null,null,null,"OutC1",{"$f":"($AA$70*$AB$73+$AA$86*$AB$89)","v":27.161245398215986},0]
[null,null,null,null,null,null,null,null,null,null,null,null,null,null,null,null,null,null,null,null,null,null,null,null,null,null,null,null,null,null,null,{"$f":"newbase","v":0.35118918918918918},"HIV+ infant"]
[]
[null,null,null,null,null,null,null,null,null,null,null,null,null,null,null,null,null,null,null,null,null,null,null,null,null,null,null,null,null,null,null,"Cost1",{"$f":"HIVtestcost+lifecost+ndcost+cd4test","v":545826.04904954787},0]
[null,null,null,null,null,null,null,null,null,null,null,null,null,null,null,null,null,null,null,null,null,null,null,null,null,null,null,null,null,null,null,"OutC1",{"$f":"qwhiv","v":6.179983883985118},0]
[null,null,null,null,null,null,null,null,null,null,null,null,null,null,null,null,null,null,null,null,null,null,null,null,null,null,{"$f":"1-AA70","v":5.0000000000000044E-2},"Reject VTP"]
[]
[null,null,null,null,null,null,null,null,null,null,null,null,null,null,null,null,null,null,null,null,null,null,null,null,null,null,"Cost2",{"$f":"($AF$82*$AG$84+$AF$90*$AG$92)","v":193538.52963547892},0]
[null,null,null,null,null,null,null,null,null,null,null,null,null,null,null,null,null,null,null,null,null,null,null,null,null,null,"OutC2",{"$f":"($AF$82*$AG$85+$AF$90*$AG$93)","v":20.537968305637431},0]
[null,null,null,null,null,null,null,null,null,null,null,null,null,null,null,null,{"$f":"acceptHIV*percentus","v":0.99},"Accept HIV Test",null,null,null,null,null,null,null,null,null,null,null,null,null,{"$f":"1-AF82","v":0.64881081081081082},"HIV- infant"]
[]
[null,null,null,null,null,null,null,null,null,null,null,null,null,null,null,null,"Cost1",{"$f":"($V$78*$W$80+$V$102*$W$104)","v":59085.27652528348},0,null,null,null,null,null,null,null,null,null,null,null,null,"Cost2",{"$f":"HIVtestcost+ndcost+cd4test","v":2851.8668317460319},0]
[null,null,null,null,null,null,null,null,null,null,null,null,null,null,null,null,"OutC1",{"$f":"($V$78*$W$81+$V$102*$W$105)","v":27.161245398215986},0,null,null,null,null,null,null,null,null,null,null,null,null,"OutC2",{"$f":"qwohiv","v":28.309677443975772},0]
[]
[]
[]
[]
[null,null,null,null,null,null,null,null,null,null,null,null,null,null,null,null,null,null,null,null,null,null,null,null,null,null,{"$f":"newbase","v":0.35118918918918918},"HIV+ infant"]
[]
[null,null,null,null,null,null,null,null,null,null,null,null,null,null,null,null,null,null,null,null,null,null,null,null,null,null,"Cost1",{"$f":"reqHIVtestcost+ndcost+lifecost","v":543540.85221780185},0]
[null,null,null,null,null,null,null,null,null,null,null,null,null,null,null,null,null,null,null,null,null,null,null,null,null,null,"OutC1",{"$f":"qwhiv","v":6.179983883985118},0]
[null,null,null,null,null,null,null,null,null,null,null,null,null,null,null,null,null,null,null,null,null,{"$f":"(1-sens)","v":0},"HIV- result"]
[]
[null,null,null,null,null,null,null,null,null,null,null,{"$f":"lateanc","v":4.0000000000000036E-2},"Late ANC",null,null,null,null,null,null,null,null,"Cost2",{"$f":"($AA$98*$AB$100+$AA$106*$AB$108)","v":191253.33280373289},0]
[null,null,null,null,null,null,null,null,null,null,null,null,null,null,null,null,null,null,null,null,null,"OutC2",{"$f":"($AA$98*$AB$101+$AA$106*$AB$109)","v":20.537968305637431},0]
[null,null,null,null,null,null,null,null,null,null,null,"Cost2",{"$f":"($Q$90*$R$92+$Q$118*$R$120)","v":60401.290388067973},0,null,null,null,null,null,null,null,null,null,null,null,null,{"$f":"1-AA98","v":0.64881081081081082},"HIV- infant"]
[null,null,null,null,null,null,null,null,null,null,null,"OutC2",{"$f":"($Q$90*$R$93+$Q$118*$R$121)","v":27.095012627290199},0]
[null,null,null,null,null,null,null,null,null,null,null,null,null,null,null,null,null,null,null,null,null,null,null,null,null,null,"Cost2",{"$f":"reqHIVtestcost+ndcost","v":566.66999999999996},0]
[null,null,null,null,null,null,null,null,null,null,null,null,null,null,null,null,null,null,null,null,null,null,null,null,null,null,"OutC2",{"$f":"qwohiv","v":28.309677443975772},0]
[]
[]
[]
[]
[null,null,null,null,null,null,null,null,null,null,null,null,null,null,null,null,null,null,null,null,null,{"$f":"newbase","v":0.35118918918918918},"HIV+ infant"]
[]
[null,null,null,null,null,null,null,null,null,null,null,null,null,null,null,null,null,null,null,null,null,"Cost1",{"$f":"ndcost++lifecost","v":542974.1822178018},0]
[null,null,null,null,null,null,null,null,null,null,null,null,null,null,null,null,null,null,null,null,null,"OutC1",{"$f":"qwhiv","v":6.179983883985118},0]
[null,null,null,null,null,null,null,null,null,null,null,null,null,null,null,null,{"$f":"1-Q90","v":1.0000000000000009E-2},"Reject HIV Test"]
[]
[null,null,null,null,null,null,null,null,null,null,null,null,null,null,null,null,"Cost2",{"$f":"($V$114*$W$116+$V$122*$W$124)","v":190686.66280373288},0]
[null,null,null,null,null,null,null,null,null,null,null,null,null,null,null,null,"OutC2",{"$f":"($V$114*$W$117+$V$122*$W$125)","v":20.537968305637431},0]
[null,null,null,null,null,null,null,null,null,null,null,null,null,null,null,null,null,null,null,null,null,{"$f":"1-V114","v":0.64881081081081082},"HIV- infant"]
[]
[null,null,null,null,null,null,null,null,null,null,null,null,null,null,null,null,null,null,null,null,null,"Cost2",{"$f":"0+ndcost","v":0},0]
[null,null,null,null,null,null,null,null,null,null,null,null,null,null,null,null,null,null,null,null,null,"OutC2",{"$f":"qwohiv","v":28.309677443975772},0]
[]
[]
[]
[]
[null,null,null,null,null,null,null,null,null,null,null,null,null,null,null,null,null,null,null,null,null,null,null,null,null,null,null,null,null,null,null,{"$f":"phivneg","v":0},"HIV+ infant"]
[]
[null,null,null,null,null,null,null,null,null,null,null,null,null,null,null,null,null,null,null,null,null,null,null,null,null,null,null,null,null,null,null,"Cost1",{"$f":"HIVtestcost+outhivcost+lifecost+ndcost+npcost+cd4test+vltest","v":552559.82171621453},0]
[null,null,null,null,null,null,null,null,null,null,null,null,null,null,null,null,null,null,null,null,null,null,null,null,null,null,null,null,null,null,null,"OutC1",{"$f":"qwhiv","v":6.179983883985118},0]
[null,null,null,null,null,null,null,null,null,null,null,null,null,null,null,null,null,null,null,null,null,null,null,null,null,null,{"$f":"acceptucsnpsf","v":0.95},"Accept VTP"]
[]
[null,null,"UCSNPSF",null,null,null,null,null,null,null,null,null,null,null,null,null,null,null,null,null,null,null,null,null,null,null,"Cost1",{"$f":"($AF$130*$AG$132+$AF$138*$AG$140)","v":9585.6394984127},0]
[null,null,null,null,null,null,null,null,null,null,null,null,null,null,null,null,null,null,null,null,null,null,null,null,null,null,"OutC1",{"$f":"($AF$130*$AG$133+$AF$138*$AG$141)","v":28.309677443975772},0]
[null,"Cost1",{"$f":"($G$72*$H$74+$G$200*$H$202)","v":566.52943522108433},null,null,null,null,null,null,null,null,null,null,null,null,null,null,null,null,null,null,null,null,null,null,null,null,null,null,null,null,{"$f":"1-AF130","v":1},"HIV- infant"]
[null,"OutC1",{"$f":"($G$72*$H$75+$G$200*$H$203)","v":28.309547822716894}]
[null,null,null,null,null,null,null,null,null,null,null,null,null,null,null,null,null,null,null,null,null,null,null,null,null,null,null,null,null,null,null,"Cost2",{"$f":"HIVtestcost+outhivcost+ndcost+npcost+cd4test+vltest","v":9585.6394984127},0]
[null,null,null,null,null,null,null,null,null,null,null,null,null,null,null,null,null,null,null,null,null,null,null,null,null,null,null,null,null,null,null,"OutC2",{"$f":"qwohiv","v":28.309677443975772},0]
[null,null,null,null,null,null,null,null,null,null,null,null,null,null,null,null,null,null,null,null,null,{"$f":"1-(spec)","v":0},"HIV+ result"]
[]
[null,null,null,null,null,null,null,null,null,null,null,null,null,null,null,null,null,null,null,null,null,"Cost1",{"$f":"($AA$134*$AB$136+$AA$150*$AB$152)","v":9248.9508650793668},0]
[null,null,null,null,null,null,null,null,null,null,null,null,null,null,null,null,null,null,null,null,null,"OutC1",{"$f":"($AA$134*$AB$137+$AA$150*$AB$153)","v":28.309677443975772},0]
[null,null,null,null,null,null,null,null,null,null,null,null,null,null,null,null,null,null,null,null,null,null,null,null,null,null,null,null,null,null,null,{"$f":"phivneg","v":0},"HIV+ infant"]
[]
[null,null,null,null,null,null,null,null,null,null,null,null,null,null,null,null,null,null,null,null,null,null,null,null,null,null,null,null,null,null,null,"Cost1",{"$f":"HIVtestcost+lifecost+ndcost+cd4test","v":545826.04904954787},0]
[null,null,null,null,null,null,null,null,null,null,null,null,null,null,null,null,null,null,null,null,null,null,null,null,null,null,null,null,null,null,null,"OutC1",{"$f":"qwhiv","v":6.179983883985118},0]
[null,null,null,null,null,null,null,null,null,null,null,null,null,null,null,null,null,null,null,null,null,null,null,null,null,null,{"$f":"1-AA134","v":5.0000000000000044E-2},"Reject VTP"]
[]
[null,null,null,null,null,null,null,null,null,null,null,null,null,null,null,null,null,null,null,null,null,null,null,null,null,null,"Cost2",{"$f":"($AF$146*$AG$148+$AF$154*$AG$156)","v":2851.8668317460319},0]
[null,null,null,null,null,null,null,null,null,null,null,null,null,null,null,null,null,null,null,null,null,null,null,null,null,null,"OutC2",{"$f":"($AF$146*$AG$149+$AF$154*$AG$157)","v":28.309677443975772},0]
[null,null,null,null,null,null,null,null,null,null,null,null,null,null,null,null,{"$f":"acceptHIV*percentus","v":0.99},"Accept HIV Test",null,null,null,null,null,null,null,null,null,null,null,null,null,{"$f":"1-phivneg","v":1},"HIV- infant"]
[]
[null,null,null,null,null,null,null,null,null,null,null,null,null,null,null,null,"Cost1",{"$f":"($V$142*$W$144+$V$166*$W$168)","v":566.66999999999996},0,null,null,null,null,null,null,null,null,null,null,null,null,"Cost2",{"$f":"HIVtestcost+ndcost+cd4test","v":2851.8668317460319},0]
[null,null,null,null,null,null,null,null,null,null,null,null,null,null,null,null,"OutC1",{"$f":"($V$142*$W$145+$V$166*$W$169)","v":28.309677443975772},0,null,null,null,null,null,null,null,null,null,null,null,null,"OutC2",{"$f":"qwohiv","v":28.309677443975772},0]
[]
[]
[]
[]
[null,null,null,null,null,null,null,null,null,null,null,null,null,null,null,null,null,null,null,null,null,null,null,null,null,null,{"$f":"phivneg","v":0},"HIV+ infant"]
[]
[null,null,null,null,null,null,null,null,null,null,null,null,null,null,null,null,null,null,null,null,null,null,null,null,null,null,"Cost1",{"$f":"reqHIVtestcost+ndcost+lifecost","v":543540.85221780185},0]
[null,null,null,null,null,null,null,null,null,null,null,null,null,null,null,null,null,null,null,null,null,null,null,null,null,null,"OutC1",{"$f":"qwhiv","v":6.179983883985118},0]
[null,null,null,null,null,null,null,null,null,null,null,null,null,null,null,null,null,null,null,null,null,{"$f":"spec","v":1},"HIV- result"]
[]
[null,null,null,null,null,null,null,null,null,null,null,{"$f":"earlyanc","v":0.96},"Early ANC",null,null,null,null,null,null,null,null,"Cost2",{"$f":"($AA$162*$AB$164+$AA$170*$AB$172)","v":566.66999999999996},0]
[null,null,null,null,null,null,null,null,null,null,null,null,null,null,null,null,null,null,null,null,null,"OutC2",{"$f":"($AA$162*$AB$165+$AA$170*$AB$173)","v":28.309677443975772},0]
[null,null,null,null,null,null,null,null,null,null,null,"Cost1",{"$f":"($Q$154*$R$156+$Q$182*$R$184)","v":561.00329999999997},0,null,null,null,null,null,null,null,null,null,null,null,null,{"$f":"1-phivneg","v":1},"HIV- infant"]
[null,null,null,null,null,null,null,null,null,null,null,"OutC1",{"$f":"($Q$154*$R$157+$Q$182*$R$185)","v":28.309677443975772},0]
[null,null,null,null,null,null,null,null,null,null,null,null,null,null,null,null,null,null,null,null,null,null,null,null,null,null,"Cost2",{"$f":"reqHIVtestcost+ndcost","v":566.66999999999996},0]
[null,null,null,null,null,null,null,null,null,null,null,null,null,null,null,null,null,null,null,null,null,null,null,null,null,null,"OutC2",{"$f":"qwohiv","v":28.309677443975772},0]
[]
[]
[]
[]
[null,null,null,null,null,null,null,null,null,null,null,null,null,null,null,null,null,null,null,null,null,{"$f":"phivneg","v":0},"HIV+ infant"]
[]
[null,null,null,null,null,null,null,null,null,null,null,null,null,null,null,null,null,null,null,null,null,"Cost1",{"$f":"ndcost+lifecost","v":542974.1822178018},0]
[null,null,null,null,null,null,null,null,null,null,null,null,null,null,null,null,null,null,null,null,null,"OutC1",{"$f":"qwhiv","v":6.179983883985118},0]
[null,null,null,null,null,null,null,null,null,null,null,null,null,null,null,null,{"$f":"1-Q154","v":1.0000000000000009E-2},"Reject HIV Test"]
[]
[null,null,null,null,null,null,null,null,null,null,null,null,null,null,null,null,"Cost2",{"$f":"($V$178*$W$180+$V$186*$W$188)","v":0},0]
[null,null,null,null,null,null,null,null,null,null,null,null,null,null,null,null,"OutC2",{"$f":"($V$178*$W$181+$V$186*$W$189)","v":28.309677443975772},0]
[null,null,null,null,null,null,null,null,null,null,null,null,null,null,null,null,null,null,null,null,null,{"$f":"1-phivneg","v":1},"HIV- infant"]
[]
[null,null,null,null,null,null,null,null,null,null,null,null,null,null,null,null,null,null,null,null,null,"Cost2",{"$f":"0+ndcost","v":0},0]
[null,null,null,null,null,null,null,null,null,null,null,null,null,null,null,null,null,null,null,null,null,"OutC2",{"$f":"qwohiv","v":28.309677443975772},0]
[]
[]
[]
[]
[null,null,null,null,null,null,null,null,null,null,null,null,null,null,null,null,null,null,null,null,null,null,null,null,null,null,null,null,null,null,null,{"$f":"phivneg","v":0},"HIV+ infant"]
[]
[null,null,null,null,null,null,null,null,null,null,null,null,null,null,null,null,null,null,null,null,null,null,null,null,null,null,null,null,null,null,null,"Cost1",{"$f":"HIVtestcost+outhivcost+lifecost+cscost+npcost+sfcost+cd4test+vltest","v":575358.13318367326},0]
[null,null,null,null,null,null,null,null,null,null,null,null,null,null,null,null,null,null,null,null,null,null,null,null,null,null,null,null,null,null,null,"OutC1",{"$f":"qwhiv","v":6.179983883985118},0]
[null,null,null,null,null,null,null,null,null,null,null,null,null,null,null,null,null,null,null,null,null,null,null,null,null,null,{"$f":"acceptucsnpsf","v":0.95},"Accept VTP"]
[]
[null,null,null,null,null,null,{"$f":"1-(pwhiv/pop)","v":0.99975185491391949},"HIV- pregnant",null,null,null,null,null,null,null,null,null,null,null,null,null,null,null,null,null,null,"Cost1",{"$f":"($AF$194*$AG$196+$AF$202*$AG$204)","v":32383.950965871391},0]
[null,null,null,null,null,null,null,null,null,null,null,null,null,null,null,null,null,null,null,null,null,null,null,null,null,null,"OutC1",{"$f":"($AF$194*$AG$197+$AF$202*$AG$205)","v":28.309677443975772},0]
[null,null,null,null,null,null,"Cost2",{"$f":"($L$168*$M$170+$L$232*$M$234)","v":561.00329999999997},0,null,null,null,null,null,null,null,null,null,null,null,null,null,null,null,null,null,null,null,null,null,null,{"$f":"1-AF194","v":1},"HIV- infant"]
[null,null,null,null,null,null,"OutC2",{"$f":"($L$168*$M$171+$L$232*$M$235)","v":28.309677443975772},0]
[null,null,null,null,null,null,null,null,null,null,null,null,null,null,null,null,null,null,null,null,null,null,null,null,null,null,null,null,null,null,null,"Cost2",{"$f":"HIVtestcost+outhivcost+cscost+npcost+sfcost+cd4test+vltest","v":32383.950965871391},0]
[null,null,null,null,null,null,null,null,null,null,null,null,null,null,null,null,null,null,null,null,null,null,null,null,null,null,null,null,null,null,null,"OutC2",{"$f":"qwohiv","v":28.309677443975772},0]
[null,null,null,null,null,null,null,null,null,null,null,null,null,null,null,null,null,null,null,null,null,{"$f":"1-spec","v":0},"HIV+ result"]
[]
[null,null,null,null,null,null,null,null,null,null,null,null,null,null,null,null,null,null,null,null,null,"Cost1",{"$f":"($AA$198*$AB$200+$AA$214*$AB$216)","v":30907.346759165121},0]
[null,null,null,null,null,null,null,null,null,null,null,null,null,null,null,null,null,null,null,null,null,"OutC1",{"$f":"($AA$198*$AB$201+$AA$214*$AB$217)","v":28.309677443975772},0]
[null,null,null,null,null,null,null,null,null,null,null,null,null,null,null,null,null,null,null,null,null,null,null,null,null,null,null,null,null,null,null,{"$f":"phivneg","v":0},"HIV+ infant"]
[]
[null,null,null,null,null,null,null,null,null,null,null,null,null,null,null,null,null,null,null,null,null,null,null,null,null,null,null,null,null,null,null,"Cost1",{"$f":"HIVtestcost+lifecost+ndcost+cd4test","v":545826.04904954787},0]
[null,null,null,null,null,null,null,null,null,null,null,null,null,null,null,null,null,null,null,null,null,null,null,null,null,null,null,null,null,null,null,"OutC1",{"$f":"qwhiv","v":6.179983883985118},0]
[null,null,null,null,null,null,null,null,null,null,null,null,null,null,null,null,null,null,null,null,null,null,null,null,null,null,{"$f":"1-AA198","v":5.0000000000000044E-2},"Reject VTP"]
[]
[null,null,null,null,null,null,null,null,null,null,null,null,null,null,null,null,null,null,null,null,null,null,null,null,null,null,"Cost2",{"$f":"($AF$210*$AG$212+$AF$218*$AG$220)","v":2851.8668317460319},0]
[null,null,null,null,null,null,null,null,null,null,null,null,null,null,null,null,null,null,null,null,null,null,null,null,null,null,"OutC2",{"$f":"($AF$210*$AG$213+$AF$218*$AG$221)","v":28.309677443975772},0]
[null,null,null,null,null,null,null,null,null,null,null,null,null,null,null,null,{"$f":"acceptHIV*percentus","v":0.99},"Accept HIV Test",null,null,null,null,null,null,null,null,null,null,null,null,null,{"$f":"1-phivneg","v":1},"HIV- infant"]
[]
[null,null,null,null,null,null,null,null,null,null,null,null,null,null,null,null,"Cost1",{"$f":"($V$206*$W$208+$V$230*$W$232)","v":566.66999999999996},0,null,null,null,null,null,null,null,null,null,null,null,null,"Cost2",{"$f":"HIVtestcost+ndcost+cd4test","v":2851.8668317460319},0]
[null,null,null,null,null,null,null,null,null,null,null,null,null,null,null,null,"OutC1",{"$f":"($V$206*$W$209+$V$230*$W$233)","v":28.309677443975772},0,null,null,null,null,null,null,null,null,null,null,null,null,"OutC2",{"$f":"qwohiv","v":28.309677443975772},0]
[]
[]
[]
[]
[null,null,null,null,null,null,null,null,null,null,null,null,null,null,null,null,null,null,null,null,null,null,null,null,null,null,{"$f":"phivneg","v":0},"HIV+ infant"]
[]
[null,null,null,null,null,null,null,null,null,null,null,null,null,null,null,null,null,null,null,null,null,null,null,null,null,null,"Cost1",{"$f":"reqHIVtestcost+ndcost+lifecost","v":543540.85221780185},0]
[null,null,null,null,null,null,null,null,null,null,null,null,null,null,null,null,null,null,null,null,null,null,null,null,null,null,"OutC1",{"$f":"qwhiv","v":6.179983883985118},0]
[null,null,null,null,null,null,null,null,null,null,null,null,null,null,null,null,null,null,null,null,null,{"$f":"spec","v":1},"HIV- result"]
[]
[null,null,null,null,null,null,null,null,null,null,null,{"$f":"lateanc","v":4.0000000000000036E-2},"Late ANC",null,null,null,null,null,null,null,null,"Cost2",{"$f":"($AA$226*$AB$228+$AA$234*$AB$236)","v":566.66999999999996},0]
[null,null,null,null,null,null,null,null,null,null,null,null,null,null,null,null,null,null,null,null,null,"OutC2",{"$f":"($AA$226*$AB$229+$AA$234*$AB$237)","v":28.309677443975772},0]
[null,null,null,null,null,null,null,null,null,null,null,"Cost2",{"$f":"($Q$218*$R$220+$Q$246*$R$248)","v":561.00329999999997},0,null,null,null,null,null,null,null,null,null,null,null,null,{"$f":"1-phivneg","v":1},"HIV- infant"]
[null,null,null,null,null,null,null,null,null,null,null,"OutC2",{"$f":"($Q$218*$R$221+$Q$246*$R$249)","v":28.309677443975772},0]
[null,null,null,null,null,null,null,null,null,null,null,null,null,null,null,null,null,null,null,null,null,null,null,null,null,null,"Cost2",{"$f":"reqHIVtestcost+ndcost","v":566.66999999999996},0]
[null,null,null,null,null,null,null,null,null,null,null,null,null,null,null,null,null,null,null,null,null,null,null,null,null,null,"OutC2",{"$f":"qwohiv","v":28.309677443975772},0]
[]
[]
[]
[]
[null,null,null,null,null,null,null,null,null,null,null,null,null,null,null,null,null,null,null,null,null,{"$f":"phivneg","v":0},"HIV+ infant"]
[]
[null,null,null,null,null,null,null,null,null,null,null,null,null,null,null,null,null,null,null,null,null,"Cost1",{"$f":"ndcost+lifecost","v":542974.1822178018},0]
[null,null,null,null,null,null,null,null,null,null,null,null,null,null,null,null,null,null,null,null,null,"OutC1",{"$f":"qwhiv","v":6.179983883985118},0]
[null,null,null,null,null,null,null,null,null,null,null,null,null,null,null,null,{"$f":"1-Q218","v":1.0000000000000009E-2},"Reject HIV Test"]
[]
[null,null,null,null,null,null,null,null,null,null,null,null,null,null,null,null,"Cost2",{"$f":"($V$242*$W$244+$V$250*$W$252)","v":0},0]
[null,null,null,null,null,null,null,null,null,null,null,null,null,null,null,null,"OutC2",{"$f":"($V$242*$W$245+$V$250*$W$253)","v":28.309677443975772},0]
[null,null,null,null,null,null,null,null,null,null,null,null,null,null,null,null,null,null,null,null,null,{"$f":"1-phivneg","v":1},"HIV- infant"]
[]
[null,null,null,null,null,null,null,null,null,null,null,null,null,null,null,null,null,null,null,null,null,"Cost2",{"$f":"+ndcost","v":0},0]
[null,null,null,null,null,null,null,null,null,null,null,null,null,null,null,null,null,null,null,null,null,"OutC2",{"$f":"qwohiv","v":28.309677443975772},0]

{"sheet":"Tree for URNDNP","index":31,"n_rows":253,"n_cols":34,"rows_kept":253,"cut":false,"hidden":false,"merged":[]}
["Plant-A-Tree"]
["Supported by iDSI",null,null,null,null,null,null,null,null,null,null,null,null,null,null,null,null,null,null,null,null,null,null,null,null,null,null,null,null,null,null,{"$f":"urndnpearly","v":1.4941676690065557E-3},"HIV+ infant"]
[]
[null,null,null,null,null,null,null,null,null,null,null,null,null,null,null,null,null,null,null,null,null,null,null,null,null,null,null,null,null,null,null,"Cost1",{"$f":"HIVtestcost+outhivcost+lifecost+ndcost+npcost+cd4test+vltest","v":552559.82171621453},0]
[null,null,null,null,null,null,null,null,null,null,null,null,null,null,null,null,null,null,null,null,null,null,null,null,null,null,null,null,null,null,null,"OutC1",{"$f":"qwhiv","v":6.179983883985118},0]
[null,null,null,null,null,null,null,null,null,null,null,null,null,null,null,null,null,null,null,null,null,null,null,null,null,null,{"$f":"accepturndnp","v":0.95},"Accept VTP"]
[]
[null,null,null,null,null,null,null,null,null,null,null,null,null,null,null,null,null,null,null,null,null,null,null,null,null,null,"Cost1",{"$f":"($AF$2*$AG$4+$AF$10*$AG$12)","v":10396.933966587814},0]
[null,null,null,null,null,null,null,null,null,null,null,null,null,null,null,null,null,null,null,null,null,null,null,null,null,null,"OutC1",{"$f":"($AF$2*$AG$5+$AF$10*$AG$13)","v":28.276611971333413},0]
[null,null,null,null,null,null,null,null,null,null,null,null,null,null,null,null,null,null,null,null,null,null,null,null,null,null,null,null,null,null,null,{"$f":"1-AF2","v":0.99850583233099344},"HIV- infant"]
[]
[null,null,null,null,null,null,null,null,null,null,null,null,null,null,null,null,null,null,null,null,null,null,null,null,null,null,null,null,null,null,null,"Cost2",{"$f":"HIVtestcost+outhivcost+ndcost+npcost+cd4test+vltest","v":9585.6394984127},0]
[null,null,null,null,null,null,null,null,null,null,null,null,null,null,null,null,null,null,null,null,null,null,null,null,null,null,null,null,null,null,null,"OutC2",{"$f":"qwohiv","v":28.309677443975772},0]
[null,null,null,null,null,null,null,null,null,null,null,null,null,null,null,null,null,null,null,null,null,{"$f":"sens","v":1},"HIV+result"]
[]
[null,null,null,null,null,null,null,null,null,null,null,null,null,null,null,null,null,null,null,null,null,"Cost1",{"$f":"($AA$6*$AB$8+$AA$22*$AB24)","v":19554.013750032376},0]
[null,null,null,null,null,null,null,null,null,null,null,null,null,null,null,null,null,null,null,null,null,"OutC1",{"$f":"($AA$6*$AB$9+$AA$22*$AB$25)","v":27.889679788048614},0]
[null,null,null,null,null,null,null,null,null,null,null,null,null,null,null,null,null,null,null,null,null,null,null,null,null,null,null,null,null,null,null,{"$f":"newbase","v":0.35118918918918918},"HIV+ infant"]
[]
[null,null,null,null,null,null,null,null,null,null,null,null,null,null,null,null,null,null,null,null,null,null,null,null,null,null,null,null,null,null,null,"Cost1",{"$f":"HIVtestcost+lifecost+ndcost+cd4test","v":545826.04904954787},0]
[null,null,null,null,null,null,null,null,null,null,null,null,null,null,null,null,null,null,null,null,null,null,null,null,null,null,null,null,null,null,null,"OutC1",{"$f":"qwhiv","v":6.179983883985118},0]
[null,null,null,null,null,null,null,null,null,null,null,null,null,null,null,null,null,null,null,null,null,null,null,null,null,null,{"$f":"1-AA6","v":5.0000000000000044E-2},"Reject VTP"]
[]
[null,null,null,null,null,null,null,null,null,null,null,null,null,null,null,null,null,null,null,null,null,null,null,null,null,null,"Cost2",{"$f":"($AF$18*$AG$20+$AF$26*$AG$28)","v":193538.52963547892},0]
[null,null,null,null,null,null,null,null,null,null,null,null,null,null,null,null,null,null,null,null,null,null,null,null,null,null,"OutC2",{"$f":"($AF$18*$AG$21+$AF$26*$AG$29)","v":20.537968305637431},0]
[null,null,null,null,null,null,null,null,null,null,null,null,null,null,null,null,{"$f":"acceptHIV*percentus","v":0.99},"Accept HIV Test",null,null,null,null,null,null,null,null,null,null,null,null,null,{"$f":"1-AF18","v":0.64881081081081082},"HIV- infant"]
[]
[null,null,null,null,null,null,null,null,null,null,null,null,null,null,null,null,"Cost1",{"$f":"($V$14*$W$16+$V$38*$W$40)","v":19554.013750032376},0,null,null,null,null,null,null,null,null,null,null,null,null,"Cost2",{"$f":"HIVtestcost+ndcost+cd4test","v":2851.8668317460319},0]
[null,null,null,null,null,null,null,null,null,null,null,null,null,null,null,null,"OutC1",{"$f":"($V$14*$W$17+$V$38*$W$41)","v":27.889679788048614},0,null,null,null,null,null,null,null,null,null,null,null,null,"OutC2",{"$f":"qwohiv","v":28.309677443975772},0]
[]
[]
[]
[]
[null,null,null,null,null,null,null,null,null,null,null,null,null,null,null,null,null,null,null,null,null,null,null,null,null,null,{"$f":"newbase","v":0.35118918918918918},"HIV+ infant"]
[]
[null,null,null,null,null,null,null,null,null,null,null,null,null,null,null,null,null,null,null,null,null,null,null,null,null,null,"Cost1",{"$f":"reqHIVtestcost+ndcost+lifecost","v":543540.85221780185},0]
[null,null,null,null,null,null,null,null,null,null,null,null,null,null,null,null,null,null,null,null,null,null,null,null,null,null,"OutC1",{"$f":"qwhiv","v":6.179983883985118},0]
[null,null,null,null,null,null,null,null,null,null,null,null,null,null,null,null,null,null,null,null,null,{"$f":"(1-sens)","v":0},"HIV- result"]
[]
[null,null,null,null,null,null,null,null,null,null,null,{"$f":"earlyanc","v":0.96},"Early ANC",null,null,null,null,null,null,null,null,"Cost2",{"$f":"($AA$34*$AB$36+$AA$42*$AB$44)","v":191253.33280373289},0]
[null,null,null,null,null,null,null,null,null,null,null,null,null,null,null,null,null,null,null,null,null,"OutC2",{"$f":"($AA$34*$AB$37+$AA$42*$AB$45)","v":20.537968305637431},0]
[null,null,null,null,null,null,null,null,null,null,null,"Cost1",{"$f":"($Q$26*$R$28+$Q$54*$R$56)","v":21265.340240569381},0,null,null,null,null,null,null,null,null,null,null,null,null,{"$f":"1-AA34","v":0.64881081081081082},"HIV- infant"]
[null,null,null,null,null,null,null,null,null,null,null,"OutC1",{"$f":"($Q$26*$R$29+$Q$54*$R$57)","v":27.816162673224504},0]
[null,null,null,null,null,null,null,null,null,null,null,null,null,null,null,null,null,null,null,null,null,null,null,null,null,null,"Cost2",{"$f":"reqHIVtestcost+ndcost","v":566.66999999999996},0]
[null,null,null,null,null,null,null,null,null,null,null,null,null,null,null,null,null,null,null,null,null,null,null,null,null,null,"OutC2",{"$f":"qwohiv","v":28.309677443975772},0]
[]
[]
[]
[]
[null,null,null,null,null,null,null,null,null,null,null,null,null,null,null,null,null,null,null,null,null,{"$f":"newbase","v":0.35118918918918918},"HIV+ infant"]
[]
[null,null,null,null,null,null,null,null,null,null,null,null,null,null,null,null,null,null,null,null,null,"Cost1",{"$f":"ndcost+lifecost","v":542974.1822178018},0]
[null,null,null,null,null,null,null,null,null,null,null,null,null,null,null,null,null,null,null,null,null,"OutC1",{"$f":"qwhiv","v":6.179983883985118},0]
[null,null,null,null,null,null,null,null,null,null,null,null,null,null,null,null,{"$f":"1-Q26","v":1.0000000000000009E-2},"Reject HIV Test"]
[]
[null,null,null,null,null,null,null,null,null,null,null,null,null,null,null,null,"Cost2",{"$f":"($V$50*$W$52+$V$58*$W$60)","v":190686.66280373288},0]
[null,null,null,null,null,null,null,null,null,null,null,null,null,null,null,null,"OutC2",{"$f":"($V$50*$W$53+$V$58*$W$61)","v":20.537968305637431},0]
[null,null,null,null,null,null,null,null,null,null,null,null,null,null,null,null,null,null,null,null,null,{"$f":"1-V50","v":0.64881081081081082},"HIV- infant"]
[]
[null,null,null,null,null,null,null,null,null,null,null,null,null,null,null,null,null,null,null,null,null,"Cost2",{"$f":"ndcost","v":0},0]
[null,null,null,null,null,null,null,null,null,null,null,null,null,null,null,null,null,null,null,null,null,"OutC2",{"$f":"qwohiv","v":28.309677443975772},0]
[]
[]
[]
[]
[null,null,null,null,null,null,null,null,null,null,null,null,null,null,null,null,null,null,null,null,null,null,null,null,null,null,null,null,null,null,null,{"$f":"urndnplate","v":0.10575700234090349},"HIV+ infant"]
[]
[null,null,null,null,null,null,null,null,null,null,null,null,null,null,null,null,null,null,null,null,null,null,null,null,null,null,null,null,null,null,null,"Cost1",{"$f":"HIVtestcost+outhivcost+lifecost+ndcost+rcost+npcost+cd4test+vltest","v":568117.57100895478},0]
[null,null,null,null,null,null,null,null,null,null,null,null,null,null,null,null,null,null,null,null,null,null,null,null,null,null,null,null,null,null,null,"OutC1",{"$f":"qwhiv","v":6.179983883985118},0]
[null,null,null,null,null,null,null,null,null,null,null,null,null,null,null,null,null,null,null,null,null,null,null,null,null,null,{"$f":"accepturndnp","v":0.95},"Accept VTP"]
[]
[null,null,null,null,null,null,{"$f":"(pwhiv/pop)","v":2.4814508608047192E-4},"HIV+ pregnant",null,null,null,null,null,null,null,null,null,null,null,null,null,null,null,null,null,null,"Cost1",{"$f":"($AF$66*$AG$68+$AF$74*$AG$76)","v":82566.710651011177},0]
[null,null,null,null,null,null,null,null,null,null,null,null,null,null,null,null,null,null,null,null,null,null,null,null,null,null,"OutC1",{"$f":"($AF$66*$AG$69+$AF$74*$AG$77)","v":25.969307390348366},0]
[null,null,null,null,null,null,"Cost1",{"$f":"($L$40*$M$42+$L$104*$M$106)","v":23980.367239437393},0,null,null,null,null,null,null,null,null,null,null,null,null,null,null,null,null,null,null,null,null,null,null,{"$f":"1-AF66","v":0.89424299765909654},"HIV- infant"]
[null,null,null,null,null,null,"OutC1",{"$f":"($L$40*$M$43+$L$104*$M$107)","v":27.729361874887847},0]
[null,null,null,null,null,null,null,null,null,null,null,null,null,null,null,null,null,null,null,null,null,null,null,null,null,null,null,null,null,null,null,"Cost2",{"$f":"HIVtestcost+outhivcost+ndcost+rcost+npcost+cd4test+vltest","v":25143.388791152949},0]
[null,null,null,null,null,null,null,null,null,null,null,null,null,null,null,null,null,null,null,null,null,null,null,null,null,null,null,null,null,null,null,"OutC2",{"$f":"qwohiv","v":28.309677443975772},0]
[null,null,null,null,null,null,null,null,null,null,null,null,null,null,null,null,null,null,null,null,null,{"$f":"sens","v":1},"HIV+ result"]
[]
[null,null,null,null,null,null,null,null,null,null,null,null,null,null,null,null,null,null,null,null,null,"Cost1",{"$f":"($AA$70*$AB$72+$AA$86*$AB$88)","v":88115.301600234568},0]
[null,null,null,null,null,null,null,null,null,null,null,null,null,null,null,null,null,null,null,null,null,"OutC1",{"$f":"($AA$70*$AB$73+$AA$86*$AB$89)","v":25.69774043611282},0]
[null,null,null,null,null,null,null,null,null,null,null,null,null,null,null,null,null,null,null,null,null,null,null,null,null,null,null,null,null,null,null,{"$f":"newbase","v":0.35118918918918918},"HIV+ infant"]
[]
[null,null,null,null,null,null,null,null,null,null,null,null,null,null,null,null,null,null,null,null,null,null,null,null,null,null,null,null,null,null,null,"Cost1",{"$f":"HIVtestcost+lifecost+ndcost+cd4test","v":545826.04904954787},0]
[null,null,null,null,null,null,null,null,null,null,null,null,null,null,null,null,null,null,null,null,null,null,null,null,null,null,null,null,null,null,null,"OutC1",{"$f":"qwhiv","v":6.179983883985118},0]
[null,null,null,null,null,null,null,null,null,null,null,null,null,null,null,null,null,null,null,null,null,null,null,null,null,null,{"$f":"1-AA70","v":5.0000000000000044E-2},"Reject VTP"]
[]
[null,null,null,null,null,null,null,null,null,null,null,null,null,null,null,null,null,null,null,null,null,null,null,null,null,null,"Cost2",{"$f":"($AF$82*$AG$84+$AF$90*$AG$92)","v":193538.52963547892},0]
[null,null,null,null,null,null,null,null,null,null,null,null,null,null,null,null,null,null,null,null,null,null,null,null,null,null,"OutC2",{"$f":"($AF$82*$AG$85+$AF$90*$AG$93)","v":20.537968305637431},0]
[null,null,null,null,null,null,null,null,null,null,null,null,null,null,null,null,{"$f":"acceptHIV*percentus","v":0.99},"Accept HIV Test",null,null,null,null,null,null,null,null,null,null,null,null,null,{"$f":"1-AF82","v":0.64881081081081082},"HIV- infant"]
[]
[null,null,null,null,null,null,null,null,null,null,null,null,null,null,null,null,"Cost1",{"$f":"($V$78*$W$80+$V$102*$W$104)","v":88115.301600234568},0,null,null,null,null,null,null,null,null,null,null,null,null,"Cost2",{"$f":"HIVtestcost+ndcost+cd4test","v":2851.8668317460319},0]
[null,null,null,null,null,null,null,null,null,null,null,null,null,null,null,null,"OutC1",{"$f":"($V$78*$W$81+$V$102*$W$105)","v":25.69774043611282},0,null,null,null,null,null,null,null,null,null,null,null,null,"OutC2",{"$f":"qwohiv","v":28.309677443975772},0]
[]
[]
[]
[]
[null,null,null,null,null,null,null,null,null,null,null,null,null,null,null,null,null,null,null,null,null,null,null,null,null,null,{"$f":"newbase","v":0.35118918918918918},"HIV+ infant"]
[]
[null,null,null,null,null,null,null,null,null,null,null,null,null,null,null,null,null,null,null,null,null,null,null,null,null,null,"Cost1",{"$f":"reqHIVtestcost+ndcost+lifecost","v":543540.85221780185},0]
[null,null,null,null,null,null,null,null,null,null,null,null,null,null,null,null,null,null,null,null,null,null,null,null,null,null,"OutC1",{"$f":"qwhiv","v":6.179983883985118},0]
[null,null,null,null,null,null,null,null,null,null,null,null,null,null,null,null,null,null,null,null,null,{"$f":"(1-sens)","v":0},"HIV- result"]
[]
[null,null,null,null,null,null,null,null,null,null,null,{"$f":"lateanc","v":4.0000000000000036E-2},"Late ANC",null,null,null,null,null,null,null,null,"Cost2",{"$f":"($AA$98*$AB$100+$AA$106*$AB$108)","v":191253.33280373289},0]
[null,null,null,null,null,null,null,null,null,null,null,null,null,null,null,null,null,null,null,null,null,"OutC2",{"$f":"($AA$98*$AB$101+$AA$106*$AB$109)","v":20.537968305637431},0]
[null,null,null,null,null,null,null,null,null,null,null,"Cost2",{"$f":"($Q$90*$R$92+$Q$118*$R$120)","v":89141.015212269558},0,null,null,null,null,null,null,null,null,null,null,null,null,{"$f":"1-AA98","v":0.64881081081081082},"HIV- infant"]
[null,null,null,null,null,null,null,null,null,null,null,"OutC2",{"$f":"($Q$90*$R$93+$Q$118*$R$121)","v":25.646142714808068},0]
[null,null,null,null,null,null,null,null,null,null,null,null,null,null,null,null,null,null,null,null,null,null,null,null,null,null,"Cost2",{"$f":"reqHIVtestcost+ndcost","v":566.66999999999996},0]
[null,null,null,null,null,null,null,null,null,null,null,null,null,null,null,null,null,null,null,null,null,null,null,null,null,null,"OutC2",{"$f":"qwohiv","v":28.309677443975772},0]
[]
[]
[]
[]
[null,null,null,null,null,null,null,null,null,null,null,null,null,null,null,null,null,null,null,null,null,{"$f":"newbase","v":0.35118918918918918},"HIV+ infant"]
[]
[null,null,null,null,null,null,null,null,null,null,null,null,null,null,null,null,null,null,null,null,null,"Cost1",{"$f":"ndcost+lifecost","v":542974.1822178018},0]
[null,null,null,null,null,null,null,null,null,null,null,null,null,null,null,null,null,null,null,null,null,"OutC1",{"$f":"qwhiv","v":6.179983883985118},0]
[null,null,null,null,null,null,null,null,null,null,null,null,null,null,null,null,{"$f":"1-Q90","v":1.0000000000000009E-2},"Reject HIV Test"]
[]
[null,null,null,null,null,null,null,null,null,null,null,null,null,null,null,null,"Cost2",{"$f":"($V$114*$W$116+$V$122*$W$124)","v":190686.66280373288},0]
[null,null,null,null,null,null,null,null,null,null,null,null,null,null,null,null,"OutC2",{"$f":"($V$114*$W$117+$V$122*$W$125)","v":20.537968305637431},0]
[null,null,null,null,null,null,null,null,null,null,null,null,null,null,null,null,null,null,null,null,null,{"$f":"1-V114","v":0.64881081081081082},"HIV- infant"]
[]
[null,null,null,null,null,null,null,null,null,null,null,null,null,null,null,null,null,null,null,null,null,"Cost2",{"$f":"0+ndcost","v":0},0]
[null,null,null,null,null,null,null,null,null,null,null,null,null,null,null,null,null,null,null,null,null,"OutC2",{"$f":"qwohiv","v":28.309677443975772},0]
[]
[]
[]
[]
[null,null,null,null,null,null,null,null,null,null,null,null,null,null,null,null,null,null,null,null,null,null,null,null,null,null,null,null,null,null,null,{"$f":"phivneg","v":0},"HIV+ infant"]
[]
[null,null,null,null,null,null,null,null,null,null,null,null,null,null,null,null,null,null,null,null,null,null,null,null,null,null,null,null,null,null,null,"Cost1",{"$f":"HIVtestcost+outhivcost+lifecost+ndcost+npcost+cd4test+vltest","v":552559.82171621453},0]
[null,null,null,null,null,null,null,null,null,null,null,null,null,null,null,null,null,null,null,null,null,null,null,null,null,null,null,null,null,null,null,"OutC1",{"$f":"qwhiv","v":6.179983883985118},0]
[null,null,null,null,null,null,null,null,null,null,null,null,null,null,null,null,null,null,null,null,null,null,null,null,null,null,{"$f":"accepturndnp","v":0.95},"Accept VTP"]
[]
[null,null,"URNDNP",null,null,null,null,null,null,null,null,null,null,null,null,null,null,null,null,null,null,null,null,null,null,null,"Cost1",{"$f":"($AF$130*$AG$132+$AF$138*$AG$140)","v":9585.6394984127},0]
[null,null,null,null,null,null,null,null,null,null,null,null,null,null,null,null,null,null,null,null,null,null,null,null,null,null,"OutC1",{"$f":"($AF$130*$AG$133+$AF$138*$AG$141)","v":28.309677443975772},0]
[null,"Cost1",{"$f":"($G$72*$H$74+$G$200*$H$202)","v":566.81470008070153},null,null,null,null,null,null,null,null,null,null,null,null,null,null,null,null,null,null,null,null,null,null,null,null,null,null,null,null,{"$f":"1-AF130","v":1},"HIV- infant"]
[null,"OutC1",{"$f":"($G$72*$H$75+$G$200*$H$203)","v":28.309533441518926}]
[null,null,null,null,null,null,null,null,null,null,null,null,null,null,null,null,null,null,null,null,null,null,null,null,null,null,null,null,null,null,null,"Cost2",{"$f":"HIVtestcost+outhivcost+ndcost+npcost+cd4test+vltest","v":9585.6394984127},0]
[null,null,null,null,null,null,null,null,null,null,null,null,null,null,null,null,null,null,null,null,null,null,null,null,null,null,null,null,null,null,null,"OutC2",{"$f":"qwohiv","v":28.309677443975772},0]
[null,null,null,null,null,null,null,null,null,null,null,null,null,null,null,null,null,null,null,null,null,{"$f":"1-(spec)","v":0},"HIV+ result"]
[]
[null,null,null,null,null,null,null,null,null,null,null,null,null,null,null,null,null,null,null,null,null,"Cost1",{"$f":"($AA$134*$AB$136+$AA$150*$AB$152)","v":9248.9508650793668},0]
[null,null,null,null,null,null,null,null,null,null,null,null,null,null,null,null,null,null,null,null,null,"OutC1",{"$f":"($AA$134*$AB$137+$AA$150*$AB$153)","v":28.309677443975772},0]
[null,null,null,null,null,null,null,null,null,null,null,null,null,null,null,null,null,null,null,null,null,null,null,null,null,null,null,null,null,null,null,{"$f":"phivneg","v":0},"HIV+ infant"]
[]
[null,null,null,null,null,null,null,null,null,null,null,null,null,null,null,null,null,null,null,null,null,null,null,null,null,null,null,null,null,null,null,"Cost1",{"$f":"HIVtestcost+lifecost+ndcost+cd4test","v":545826.04904954787},0]
[null,null,null,null,null,null,null,null,null,null,null,null,null,null,null,null,null,null,null,null,null,null,null,null,null,null,null,null,null,null,null,"OutC1",{"$f":"qwhiv","v":6.179983883985118},0]
[null,null,null,null,null,null,null,null,null,null,null,null,null,null,null,null,null,null,null,null,null,null,null,null,null,null,{"$f":"1-AA134","v":5.0000000000000044E-2},"Reject VTP"]
[]
[null,null,null,null,null,null,null,null,null,null,null,null,null,null,null,null,null,null,null,null,null,null,null,null,null,null,"Cost2",{"$f":"($AF$146*$AG$148+$AF$154*$AG$156)","v":2851.8668317460319},0]
[null,null,null,null,null,null,null,null,null,null,null,null,null,null,null,null,null,null,null,null,null,null,null,null,null,null,"OutC2",{"$f":"($AF$146*$AG$149+$AF$154*$AG$157)","v":28.309677443975772},0]
[null,null,null,null,null,null,null,null,null,null,null,null,null,null,null,null,{"$f":"acceptHIV*percentus","v":0.99},"Accept HIV Test",null,null,null,null,null,null,null,null,null,null,null,null,null,{"$f":"1-phivneg","v":1},"HIV- infant"]
[]
[null,null,null,null,null,null,null,null,null,null,null,null,null,null,null,null,"Cost1",{"$f":"($V$142*$W$144+$V$166*$W$168)","v":566.66999999999996},0,null,null,null,null,null,null,null,null,null,null,null,null,"Cost2",{"$f":"HIVtestcost+ndcost+cd4test","v":2851.8668317460319},0]
[null,null,null,null,null,null,null,null,null,null,null,null,null,null,null,null,"OutC1",{"$f":"($V$142*$W$145+$V$166*$W$169)","v":28.309677443975772},0,null,null,null,null,null,null,null,null,null,null,null,null,"OutC2",{"$f":"qwohiv","v":28.309677443975772},0]
[]
[]
[]
[]
[null,null,null,null,null,null,null,null,null,null,null,null,null,null,null,null,null,null,null,null,null,null,null,null,null,null,{"$f":"phivneg","v":0},"HIV+ infant"]
[]
[null,null,null,null,null,null,null,null,null,null,null,null,null,null,null,null,null,null,null,null,null,null,null,null,null,null,"Cost1",{"$f":"reqHIVtestcost+ndcost+lifecost","v":543540.85221780185},0]
[null,null,null,null,null,null,null,null,null,null,null,null,null,null,null,null,null,null,null,null,null,null,null,null,null,null,"OutC1",{"$f":"qwhiv","v":6.179983883985118},0]
[null,null,null,null,null,null,null,null,null,null,null,null,null,null,null,null,null,null,null,null,null,{"$f":"spec","v":1},"HIV- result"]
[]
[null,null,null,null,null,null,null,null,null,null,null,{"$f":"earlyanc","v":0.96},"Early ANC",null,null,null,null,null,null,null,null,"Cost2",{"$f":"($AA$162*$AB$164+$AA$170*$AB$172)","v":566.66999999999996},0]
[null,null,null,null,null,null,null,null,null,null,null,null,null,null,null,null,null,null,null,null,null,"OutC2",{"$f":"($AA$162*$AB$165+$AA$170*$AB$173)","v":28.309677443975772},0]
[null,null,null,null,null,null,null,null,null,null,null,"Cost1",{"$f":"($Q$154*$R$156+$Q$182*$R$184)","v":561.00329999999997},0,null,null,null,null,null,null,null,null,null,null,null,null,{"$f":"1-phivneg","v":1},"HIV- infant"]
[null,null,null,null,null,null,null,null,null,null,null,"OutC1",{"$f":"($Q$154*$R$157+$Q$182*$R$185)","v":28.309677443975772},0]
[null,null,null,null,null,null,null,null,null,null,null,null,null,null,null,null,null,null,null,null,null,null,null,null,null,null,"Cost2",{"$f":"reqHIVtestcost+ndcost","v":566.66999999999996},0]
[null,null,null,null,null,null,null,null,null,null,null,null,null,null,null,null,null,null,null,null,null,null,null,null,null,null,"OutC2",{"$f":"qwohiv","v":28.309677443975772},0]
[]
[]
[]
[]
[null,null,null,null,null,null,null,null,null,null,null,null,null,null,null,null,null,null,null,null,null,{"$f":"phivneg","v":0},"HIV+ infant"]
[]
[null,null,null,null,null,null,null,null,null,null,null,null,null,null,null,null,null,null,null,null,null,"Cost1",{"$f":"ndcost+lifecost","v":542974.1822178018},0]
[null,null,null,null,null,null,null,null,null,null,null,null,null,null,null,null,null,null,null,null,null,"OutC1",{"$f":"qwhiv","v":6.179983883985118},0]
[null,null,null,null,null,null,null,null,null,null,null,null,null,null,null,null,{"$f":"1-Q154","v":1.0000000000000009E-2},"Reject HIV Test"]
[]
[null,null,null,null,null,null,null,null,null,null,null,null,null,null,null,null,"Cost2",{"$f":"($V$178*$W$180+$V$186*$W$188)","v":0},0]
[null,null,null,null,null,null,null,null,null,null,null,null,null,null,null,null,"OutC2",{"$f":"($V$178*$W$181+$V$186*$W$189)","v":28.309677443975772},0]
[null,null,null,null,null,null,null,null,null,null,null,null,null,null,null,null,null,null,null,null,null,{"$f":"1-phivneg","v":1},"HIV- infant"]
[]
[null,null,null,null,null,null,null,null,null,null,null,null,null,null,null,null,null,null,null,null,null,"Cost2",{"$f":"0+ndcost","v":0},0]
[null,null,null,null,null,null,null,null,null,null,null,null,null,null,null,null,null,null,null,null,null,"OutC2",{"$f":"qwohiv","v":28.309677443975772},0]
[]
[]
[]
[]
[null,null,null,null,null,null,null,null,null,null,null,null,null,null,null,null,null,null,null,null,null,null,null,null,null,null,null,null,null,null,null,{"$f":"phivneg","v":0},"HIV+ infant"]
[]
[null,null,null,null,null,null,null,null,null,null,null,null,null,null,null,null,null,null,null,null,null,null,null,null,null,null,null,null,null,null,null,"Cost1",{"$f":"HIVtestcost+outhivcost+lifecost+ndcost+rcost+npcost+cd4test+vltest","v":568117.57100895478},0]
[null,null,null,null,null,null,null,null,null,null,null,null,null,null,null,null,null,null,null,null,null,null,null,null,null,null,null,null,null,null,null,"OutC1",{"$f":"qwhiv","v":6.179983883985118},0]
[null,null,null,null,null,null,null,null,null,null,null,null,null,null,null,null,null,null,null,null,null,null,null,null,null,null,{"$f":"accepturndnp","v":0.95},"Accept VTP"]
[]
[null,null,null,null,null,null,{"$f":"1-(pwhiv/pop)","v":0.99975185491391949},"HIV- pregnant",null,null,null,null,null,null,null,null,null,null,null,null,null,null,null,null,null,null,"Cost1",{"$f":"($AF$194*$AG$196+$AF$202*$AG$204)","v":25143.388791152949},0]
[null,null,null,null,null,null,null,null,null,null,null,null,null,null,null,null,null,null,null,null,null,null,null,null,null,null,"OutC1",{"$f":"($AF$194*$AG$197+$AF$202*$AG$205)","v":28.309677443975772},0]
[null,null,null,null,null,null,"Cost2",{"$f":"($L$168*$M$170+$L$232*$M$234)","v":561.00329999999997},0,null,null,null,null,null,null,null,null,null,null,null,null,null,null,null,null,null,null,null,null,null,null,{"$f":"1-AF194","v":1},"HIV- infant"]
[null,null,null,null,null,null,"OutC2",{"$f":"($L$168*$M$171+$L$232*$M$235)","v":28.309677443975772},0]
[null,null,null,null,null,null,null,null,null,null,null,null,null,null,null,null,null,null,null,null,null,null,null,null,null,null,null,null,null,null,null,"Cost2",{"$f":"HIVtestcost+outhivcost+ndcost+rcost+npcost+cd4test+vltest","v":25143.388791152949},0]
[null,null,null,null,null,null,null,null,null,null,null,null,null,null,null,null,null,null,null,null,null,null,null,null,null,null,null,null,null,null,null,"OutC2",{"$f":"qwohiv","v":28.309677443975772},0]
[null,null,null,null,null,null,null,null,null,null,null,null,null,null,null,null,null,null,null,null,null,{"$f":"1-spec","v":0},"HIV+ result"]
[]
[null,null,null,null,null,null,null,null,null,null,null,null,null,null,null,null,null,null,null,null,null,"Cost1",{"$f":"($AA$198*$AB$200+$AA$214*$AB$216)","v":24028.812693182601},0]
[null,null,null,null,null,null,null,null,null,null,null,null,null,null,null,null,null,null,null,null,null,"OutC1",{"$f":"($AA$198*$AB$201+$AA$214*$AB$217)","v":28.309677443975772},0]
[null,null,null,null,null,null,null,null,null,null,null,null,null,null,null,null,null,null,null,null,null,null,null,null,null,null,null,null,null,null,null,{"$f":"phivneg","v":0},"HIV+ infant"]
[]
[null,null,null,null,null,null,null,null,null,null,null,null,null,null,null,null,null,null,null,null,null,null,null,null,null,null,null,null,null,null,null,"Cost1",{"$f":"HIVtestcost+lifecost+ndcost+cd4test","v":545826.04904954787},0]
[null,null,null,null,null,null,null,null,null,null,null,null,null,null,null,null,null,null,null,null,null,null,null,null,null,null,null,null,null,null,null,"OutC1",{"$f":"qwhiv","v":6.179983883985118},0]
[null,null,null,null,null,null,null,null,null,null,null,null,null,null,null,null,null,null,null,null,null,null,null,null,null,null,{"$f":"1-AA198","v":5.0000000000000044E-2},"Reject VTP"]
[]
[null,null,null,null,null,null,null,null,null,null,null,null,null,null,null,null,null,null,null,null,null,null,null,null,null,null,"Cost2",{"$f":"($AF$210*$AG$212+$AF$218*$AG$220)","v":2851.8668317460319},0]
[null,null,null,null,null,null,null,null,null,null,null,null,null,null,null,null,null,null,null,null,null,null,null,null,null,null,"OutC2",{"$f":"($AF$210*$AG$213+$AF$218*$AG$221)","v":28.309677443975772},0]
[null,null,null,null,null,null,null,null,null,null,null,null,null,null,null,null,{"$f":"acceptHIV*percentus","v":0.99},"Accept HIV Test",null,null,null,null,null,null,null,null,null,null,null,null,null,{"$f":"1-phivneg","v":1},"HIV- infant"]
[]
[null,null,null,null,null,null,null,null,null,null,null,null,null,null,null,null,"Cost1",{"$f":"($V$206*$W$208+$V$230*$W$232)","v":566.66999999999996},0,null,null,null,null,null,null,null,null,null,null,null,null,"Cost2",{"$f":"HIVtestcost+ndcost+cd4test","v":2851.8668317460319},0]
[null,null,null,null,null,null,null,null,null,null,null,null,null,null,null,null,"OutC1",{"$f":"($V$206*$W$209+$V$230*$W$233)","v":28.309677443975772},0,null,null,null,null,null,null,null,null,null,null,null,null,"OutC2",{"$f":"qwohiv","v":28.309677443975772},0]
[]
[]
[]
[]
[null,null,null,null,null,null,null,null,null,null,null,null,null,null,null,null,null,null,null,null,null,null,null,null,null,null,{"$f":"phivneg","v":0},"HIV+ infant"]
[]
[null,null,null,null,null,null,null,null,null,null,null,null,null,null,null,null,null,null,null,null,null,null,null,null,null,null,"Cost1",{"$f":"reqHIVtestcost+ndcost+lifecost","v":543540.85221780185},0]
[null,null,null,null,null,null,null,null,null,null,null,null,null,null,null,null,null,null,null,null,null,null,null,null,null,null,"OutC1",{"$f":"qwhiv","v":6.179983883985118},0]
[null,null,null,null,null,null,null,null,null,null,null,null,null,null,null,null,null,null,null,null,null,{"$f":"spec","v":1},"HIV- result"]
[]
[null,null,null,null,null,null,null,null,null,null,null,{"$f":"lateanc","v":4.0000000000000036E-2},"Late ANC",null,null,null,null,null,null,null,null,"Cost2",{"$f":"($AA$226*$AB$228+$AA$234*$AB$236)","v":566.66999999999996},0]
[null,null,null,null,null,null,null,null,null,null,null,null,null,null,null,null,null,null,null,null,null,"OutC2",{"$f":"($AA$226*$AB$229+$AA$234*$AB$237)","v":28.309677443975772},0]
[null,null,null,null,null,null,null,null,null,null,null,"Cost2",{"$f":"($Q$218*$R$220+$Q$246*$R$248)","v":561.00329999999997},0,null,null,null,null,null,null,null,null,null,null,null,null,{"$f":"1-phivneg","v":1},"HIV- infant"]
[null,null,null,null,null,null,null,null,null,null,null,"OutC2",{"$f":"($Q$218*$R$221+$Q$246*$R$249)","v":28.309677443975772},0]
[null,null,null,null,null,null,null,null,null,null,null,null,null,null,null,null,null,null,null,null,null,null,null,null,null,null,"Cost2",{"$f":"reqHIVtestcost+ndcost","v":566.66999999999996},0]
[null,null,null,null,null,null,null,null,null,null,null,null,null,null,null,null,null,null,null,null,null,null,null,null,null,null,"OutC2",{"$f":"qwohiv","v":28.309677443975772},0]
[]
[]
[]
[]
[null,null,null,null,null,null,null,null,null,null,null,null,null,null,null,null,null,null,null,null,null,{"$f":"phivneg","v":0},"HIV+ infant"]
[]
[null,null,null,null,null,null,null,null,null,null,null,null,null,null,null,null,null,null,null,null,null,"Cost1",{"$f":"ndcost+lifecost","v":542974.1822178018},0]
[null,null,null,null,null,null,null,null,null,null,null,null,null,null,null,null,null,null,null,null,null,"OutC1",{"$f":"qwhiv","v":6.179983883985118},0]
[null,null,null,null,null,null,null,null,null,null,null,null,null,null,null,null,{"$f":"1-Q218","v":1.0000000000000009E-2},"Reject HIV Test"]
[]
[null,null,null,null,null,null,null,null,null,null,null,null,null,null,null,null,"Cost2",{"$f":"($V$242*$W$244+$V$250*$W$252)","v":0},0]
[null,null,null,null,null,null,null,null,null,null,null,null,null,null,null,null,"OutC2",{"$f":"($V$242*$W$245+$V$250*$W$253)","v":28.309677443975772},0]
[null,null,null,null,null,null,null,null,null,null,null,null,null,null,null,null,null,null,null,null,null,{"$f":"1-phivneg","v":1},"HIV- infant"]
[]
[null,null,null,null,null,null,null,null,null,null,null,null,null,null,null,null,null,null,null,null,null,"Cost2",{"$f":"+ndcost","v":0},0]
[null,null,null,null,null,null,null,null,null,null,null,null,null,null,null,null,null,null,null,null,null,"OutC2",{"$f":"qwohiv","v":28.309677443975772},0]

{"sheet":"Tree for UNDNPSF","index":32,"n_rows":253,"n_cols":34,"rows_kept":253,"cut":false,"hidden":false,"merged":[]}
["Plant-A-Tree"]
["Supported by iDSI",null,null,null,null,null,null,null,null,null,null,null,null,null,null,null,null,null,null,null,null,null,null,null,null,null,null,null,null,null,null,{"$f":"undnpsfearly","v":1.4941676690065557E-3},"HIV+ infant"]
[]
[null,null,null,null,null,null,null,null,null,null,null,null,null,null,null,null,null,null,null,null,null,null,null,null,null,null,null,null,null,null,null,"Cost1",{"$f":"HIVtestcost+outhivcost+lifecost+ndcost+npcost+cd4test+vltest","v":552559.82171621453},0]
[null,null,null,null,null,null,null,null,null,null,null,null,null,null,null,null,null,null,null,null,null,null,null,null,null,null,null,null,null,null,null,"OutC1",{"$f":"qwhiv","v":6.179983883985118},0]
[null,null,null,null,null,null,null,null,null,null,null,null,null,null,null,null,null,null,null,null,null,null,null,null,null,null,{"$f":"acceptundnpsf","v":0.95},"Accept VTP"]
[]
[null,null,null,null,null,null,null,null,null,null,null,null,null,null,null,null,null,null,null,null,null,null,null,null,null,null,"Cost1",{"$f":"($AF$2*$AG$4+$AF$10*$AG$12)","v":10396.933966587814},0]
[null,null,null,null,null,null,null,null,null,null,null,null,null,null,null,null,null,null,null,null,null,null,null,null,null,null,"OutC1",{"$f":"($AF$2*$AG$5+$AF$10*$AG$13)","v":28.276611971333413},0]
[null,null,null,null,null,null,null,null,null,null,null,null,null,null,null,null,null,null,null,null,null,null,null,null,null,null,null,null,null,null,null,{"$f":"1-AF2","v":0.99850583233099344},"HIV- infant"]
[]
[null,null,null,null,null,null,null,null,null,null,null,null,null,null,null,null,null,null,null,null,null,null,null,null,null,null,null,null,null,null,null,"Cost2",{"$f":"HIVtestcost+outhivcost+ndcost+npcost+cd4test+vltest","v":9585.6394984127},0]
[null,null,null,null,null,null,null,null,null,null,null,null,null,null,null,null,null,null,null,null,null,null,null,null,null,null,null,null,null,null,null,"OutC2",{"$f":"qwohiv","v":28.309677443975772},0]
[null,null,null,null,null,null,null,null,null,null,null,null,null,null,null,null,null,null,null,null,null,{"$f":"sens","v":1},"HIV+result"]
[]
[null,null,null,null,null,null,null,null,null,null,null,null,null,null,null,null,null,null,null,null,null,"Cost1",{"$f":"($AA$6*$AB$8+$AA$22*$AB24)","v":19554.013750032376},0]
[null,null,null,null,null,null,null,null,null,null,null,null,null,null,null,null,null,null,null,null,null,"OutC1",{"$f":"($AA$6*$AB$9+$AA$22*$AB$25)","v":27.889679788048614},0]
[null,null,null,null,null,null,null,null,null,null,null,null,null,null,null,null,null,null,null,null,null,null,null,null,null,null,null,null,null,null,null,{"$f":"newbase","v":0.35118918918918918},"HIV+ infant"]
[]
[null,null,null,null,null,null,null,null,null,null,null,null,null,null,null,null,null,null,null,null,null,null,null,null,null,null,null,null,null,null,null,"Cost1",{"$f":"HIVtestcost+lifecost+ndcost+cd4test","v":545826.04904954787},0]
[null,null,null,null,null,null,null,null,null,null,null,null,null,null,null,null,null,null,null,null,null,null,null,null,null,null,null,null,null,null,null,"OutC1",{"$f":"qwhiv","v":6.179983883985118},0]
[null,null,null,null,null,null,null,null,null,null,null,null,null,null,null,null,null,null,null,null,null,null,null,null,null,null,{"$f":"1-AA6","v":5.0000000000000044E-2},"Reject VTP"]
[]
[null,null,null,null,null,null,null,null,null,null,null,null,null,null,null,null,null,null,null,null,null,null,null,null,null,null,"Cost2",{"$f":"($AF$18*$AG$20+$AF$26*$AG$28)","v":193538.52963547892},0]
[null,null,null,null,null,null,null,null,null,null,null,null,null,null,null,null,null,null,null,null,null,null,null,null,null,null,"OutC2",{"$f":"($AF$18*$AG$21+$AF$26*$AG$29)","v":20.537968305637431},0]
[null,null,null,null,null,null,null,null,null,null,null,null,null,null,null,null,{"$f":"acceptHIV*percentus","v":0.99},"Accept HIV Test",null,null,null,null,null,null,null,null,null,null,null,null,null,{"$f":"1-AF18","v":0.64881081081081082},"HIV- infant"]
[]
[null,null,null,null,null,null,null,null,null,null,null,null,null,null,null,null,"Cost1",{"$f":"($V$14*$W$16+$V$38*$W$40)","v":19554.013750032376},0,null,null,null,null,null,null,null,null,null,null,null,null,"Cost2",{"$f":"HIVtestcost+ndcost+cd4test","v":2851.8668317460319},0]
[null,null,null,null,null,null,null,null,null,null,null,null,null,null,null,null,"OutC1",{"$f":"($V$14*$W$17+$V$38*$W$41)","v":27.889679788048614},0,null,null,null,null,null,null,null,null,null,null,null,null,"OutC2",{"$f":"qwohiv","v":28.309677443975772},0]
[]
[]
[]
[]
[null,null,null,null,null,null,null,null,null,null,null,null,null,null,null,null,null,null,null,null,null,null,null,null,null,null,{"$f":"newbase","v":0.35118918918918918},"HIV+ infant"]
[]
[null,null,null,null,null,null,null,null,null,null,null,null,null,null,null,null,null,null,null,null,null,null,null,null,null,null,"Cost1",{"$f":"reqHIVtestcost+ndcost+lifecost","v":543540.85221780185},0]
[null,null,null,null,null,null,null,null,null,null,null,null,null,null,null,null,null,null,null,null,null,null,null,null,null,null,"OutC1",{"$f":"qwhiv","v":6.179983883985118},0]
[null,null,null,null,null,null,null,null,null,null,null,null,null,null,null,null,null,null,null,null,null,{"$f":"(1-sens)","v":0},"HIV- result"]
[]
[null,null,null,null,null,null,null,null,null,null,null,{"$f":"earlyanc","v":0.96},"Early ANC",null,null,null,null,null,null,null,null,"Cost2",{"$f":"($AA$34*$AB$36+$AA$42*$AB$44)","v":191253.33280373289},0]
[null,null,null,null,null,null,null,null,null,null,null,null,null,null,null,null,null,null,null,null,null,"OutC2",{"$f":"($AA$34*$AB$37+$AA$42*$AB$45)","v":20.537968305637431},0]
[null,null,null,null,null,null,null,null,null,null,null,"Cost1",{"$f":"($Q$26*$R$28+$Q$54*$R$56)","v":21265.340240569381},0,null,null,null,null,null,null,null,null,null,null,null,null,{"$f":"1-AA34","v":0.64881081081081082},"HIV- infant"]
[null,null,null,null,null,null,null,null,null,null,null,"OutC1",{"$f":"($Q$26*$R$29+$Q$54*$R$57)","v":27.816162673224504},0]
[null,null,null,null,null,null,null,null,null,null,null,null,null,null,null,null,null,null,null,null,null,null,null,null,null,null,"Cost2",{"$f":"reqHIVtestcost+ndcost","v":566.66999999999996},0]
[null,null,null,null,null,null,null,null,null,null,null,null,null,null,null,null,null,null,null,null,null,null,null,null,null,null,"OutC2",{"$f":"qwohiv","v":28.309677443975772},0]
[]
[]
[]
[]
[null,null,null,null,null,null,null,null,null,null,null,null,null,null,null,null,null,null,null,null,null,{"$f":"newbase","v":0.35118918918918918},"HIV+ infant"]
[]
[null,null,null,null,null,null,null,null,null,null,null,null,null,null,null,null,null,null,null,null,null,"Cost1",{"$f":"ndcost+lifecost","v":542974.1822178018},0]
[null,null,null,null,null,null,null,null,null,null,null,null,null,null,null,null,null,null,null,null,null,"OutC1",{"$f":"qwhiv","v":6.179983883985118},0]
[null,null,null,null,null,null,null,null,null,null,null,null,null,null,null,null,{"$f":"1-Q26","v":1.0000000000000009E-2},"Reject HIV Test"]
[]
[null,null,null,null,null,null,null,null,null,null,null,null,null,null,null,null,"Cost2",{"$f":"($V$50*$W$52+$V$58*$W$60)","v":190686.66280373288},0]
[null,null,null,null,null,null,null,null,null,null,null,null,null,null,null,null,"OutC2",{"$f":"($V$50*$W$53+$V$58*$W$61)","v":20.537968305637431},0]
[null,null,null,null,null,null,null,null,null,null,null,null,null,null,null,null,null,null,null,null,null,{"$f":"1-V50","v":0.64881081081081082},"HIV- infant"]
[]
[null,null,null,null,null,null,null,null,null,null,null,null,null,null,null,null,null,null,null,null,null,"Cost2",{"$f":"ndcost","v":0},0]
[null,null,null,null,null,null,null,null,null,null,null,null,null,null,null,null,null,null,null,null,null,"OutC2",{"$f":"qwohiv","v":28.309677443975772},0]
[]
[]
[]
[]
[null,null,null,null,null,null,null,null,null,null,null,null,null,null,null,null,null,null,null,null,null,null,null,null,null,null,null,null,null,null,null,{"$f":"undnpsflate","v":0.10085913728297836},"HIV+ infant"]
[]
[null,null,null,null,null,null,null,null,null,null,null,null,null,null,null,null,null,null,null,null,null,null,null,null,null,null,null,null,null,null,null,"Cost1",{"$f":"HIVtestcost+outhivcost+lifecost+ndcost+npcost+sfcost+cd4test+vltest","v":556358.13318367326},0]
[null,null,null,null,null,null,null,null,null,null,null,null,null,null,null,null,null,null,null,null,null,null,null,null,null,null,null,null,null,null,null,"OutC1",{"$f":"qwhiv","v":6.179983883985118},0]
[null,null,null,null,null,null,null,null,null,null,null,null,null,null,null,null,null,null,null,null,null,null,null,null,null,null,{"$f":"acceptundnpsf","v":0.95},"Accept VTP"]
[]
[null,null,null,null,null,null,{"$f":"(pwhiv/pop)","v":2.4814508608047192E-4},"HIV+ pregnant",null,null,null,null,null,null,null,null,null,null,null,null,null,null,null,null,null,null,"Cost1",{"$f":"($AF$66*$AG$68+$AF$74*$AG$76)","v":68147.858551289581},0]
[null,null,null,null,null,null,null,null,null,null,null,null,null,null,null,null,null,null,null,null,null,null,null,null,null,null,"OutC1",{"$f":"($AF$66*$AG$69+$AF$74*$AG$77)","v":26.077695643178433},0]
[null,null,null,null,null,null,"Cost1",{"$f":"($L$40*$M$42+$L$104*$M$106)","v":23437.930023445864},0,null,null,null,null,null,null,null,null,null,null,null,null,null,null,null,null,null,null,null,null,null,null,{"$f":"1-AF66","v":0.89914086271702165},"HIV- infant"]
[null,null,null,null,null,null,"OutC1",{"$f":"($L$40*$M$43+$L$104*$M$107)","v":27.733439440959312},0]
[null,null,null,null,null,null,null,null,null,null,null,null,null,null,null,null,null,null,null,null,null,null,null,null,null,null,null,null,null,null,null,"Cost2",{"$f":"HIVtestcost+outhivcost+ndcost+npcost+sfcost+cd4test+vltest","v":13383.950965871396},0]
[null,null,null,null,null,null,null,null,null,null,null,null,null,null,null,null,null,null,null,null,null,null,null,null,null,null,null,null,null,null,null,"OutC2",{"$f":"qwohiv","v":28.309677443975772},0]
[null,null,null,null,null,null,null,null,null,null,null,null,null,null,null,null,null,null,null,null,null,{"$f":"sens","v":1},"HIV+ result"]
[]
[null,null,null,null,null,null,null,null,null,null,null,null,null,null,null,null,null,null,null,null,null,"Cost1",{"$f":"($AA$70*$AB$72+$AA$86*$AB$88)","v":74417.39210549905},0]
[null,null,null,null,null,null,null,null,null,null,null,null,null,null,null,null,null,null,null,null,null,"OutC1",{"$f":"($AA$70*$AB$73+$AA$86*$AB$89)","v":25.800709276301383},0]
[null,null,null,null,null,null,null,null,null,null,null,null,null,null,null,null,null,null,null,null,null,null,null,null,null,null,null,null,null,null,null,{"$f":"newbase","v":0.35118918918918918},"HIV+ infant"]
[]
[null,null,null,null,null,null,null,null,null,null,null,null,null,null,null,null,null,null,null,null,null,null,null,null,null,null,null,null,null,null,null,"Cost1",{"$f":"HIVtestcost+lifecost+ndcost+cd4test","v":545826.04904954787},0]
[null,null,null,null,null,null,null,null,null,null,null,null,null,null,null,null,null,null,null,null,null,null,null,null,null,null,null,null,null,null,null,"OutC1",{"$f":"qwhiv","v":6.179983883985118},0]
[null,null,null,null,null,null,null,null,null,null,null,null,null,null,null,null,null,null,null,null,null,null,null,null,null,null,{"$f":"1-AA70","v":5.0000000000000044E-2},"Reject VTP"]
[]
[null,null,null,null,null,null,null,null,null,null,null,null,null,null,null,null,null,null,null,null,null,null,null,null,null,null,"Cost2",{"$f":"($AF$82*$AG$84+$AF$90*$AG$92)","v":193538.52963547892},0]
[null,null,null,null,null,null,null,null,null,null,null,null,null,null,null,null,null,null,null,null,null,null,null,null,null,null,"OutC2",{"$f":"($AF$82*$AG$85+$AF$90*$AG$93)","v":20.537968305637431},0]
[null,null,null,null,null,null,null,null,null,null,null,null,null,null,null,null,{"$f":"acceptHIV*percentus","v":0.99},"Accept HIV Test",null,null,null,null,null,null,null,null,null,null,null,null,null,{"$f":"1-AF82","v":0.64881081081081082},"HIV- infant"]
[]
[null,null,null,null,null,null,null,null,null,null,null,null,null,null,null,null,"Cost1",{"$f":"($V$78*$W$80+$V$102*$W$104)","v":74417.39210549905},0,null,null,null,null,null,null,null,null,null,null,null,null,"Cost2",{"$f":"HIVtestcost+ndcost+cd4test","v":2851.8668317460319},0]
[null,null,null,null,null,null,null,null,null,null,null,null,null,null,null,null,"OutC1",{"$f":"($V$78*$W$81+$V$102*$W$105)","v":25.800709276301383},0,null,null,null,null,null,null,null,null,null,null,null,null,"OutC2",{"$f":"qwohiv","v":28.309677443975772},0]
[]
[]
[]
[]
[null,null,null,null,null,null,null,null,null,null,null,null,null,null,null,null,null,null,null,null,null,null,null,null,null,null,{"$f":"newbase","v":0.35118918918918918},"HIV+ infant"]
[]
[null,null,null,null,null,null,null,null,null,null,null,null,null,null,null,null,null,null,null,null,null,null,null,null,null,null,"Cost1",{"$f":"reqHIVtestcost+ndcost+lifecost","v":543540.85221780185},0]
[null,null,null,null,null,null,null,null,null,null,null,null,null,null,null,null,null,null,null,null,null,null,null,null,null,null,"OutC1",{"$f":"qwhiv","v":6.179983883985118},0]
[null,null,null,null,null,null,null,null,null,null,null,null,null,null,null,null,null,null,null,null,null,{"$f":"(1-sens)","v":0},"HIV- result"]
[]
[null,null,null,null,null,null,null,null,null,null,null,{"$f":"lateanc","v":4.0000000000000036E-2},"Late ANC",null,null,null,null,null,null,null,null,"Cost2",{"$f":"($AA$98*$AB$100+$AA$106*$AB$108)","v":191253.33280373289},0]
[null,null,null,null,null,null,null,null,null,null,null,null,null,null,null,null,null,null,null,null,null,"OutC2",{"$f":"($AA$98*$AB$101+$AA$106*$AB$109)","v":20.537968305637431},0]
[null,null,null,null,null,null,null,null,null,null,null,"Cost2",{"$f":"($Q$90*$R$92+$Q$118*$R$120)","v":75580.084812481393},0,null,null,null,null,null,null,null,null,null,null,null,null,{"$f":"1-AA98","v":0.64881081081081082},"HIV- infant"]
[null,null,null,null,null,null,null,null,null,null,null,"OutC2",{"$f":"($Q$90*$R$93+$Q$118*$R$121)","v":25.748081866594745},0]
[null,null,null,null,null,null,null,null,null,null,null,null,null,null,null,null,null,null,null,null,null,null,null,null,null,null,"Cost2",{"$f":"reqHIVtestcost+ndcost","v":566.66999999999996},0]
[null,null,null,null,null,null,null,null,null,null,null,null,null,null,null,null,null,null,null,null,null,null,null,null,null,null,"OutC2",{"$f":"qwohiv","v":28.309677443975772},0]
[]
[]
[]
[]
[null,null,null,null,null,null,null,null,null,null,null,null,null,null,null,null,null,null,null,null,null,{"$f":"newbase","v":0.35118918918918918},"HIV+ infant"]
[]
[null,null,null,null,null,null,null,null,null,null,null,null,null,null,null,null,null,null,null,null,null,"Cost1",{"$f":"ndcost+lifecost","v":542974.1822178018},0]
[null,null,null,null,null,null,null,null,null,null,null,null,null,null,null,null,null,null,null,null,null,"OutC1",{"$f":"qwhiv","v":6.179983883985118},0]
[null,null,null,null,null,null,null,null,null,null,null,null,null,null,null,null,{"$f":"1-Q90","v":1.0000000000000009E-2},"Reject HIV Test"]
[]
[null,null,null,null,null,null,null,null,null,null,null,null,null,null,null,null,"Cost2",{"$f":"($V$114*$W$116+$V$122*$W$124)","v":190686.66280373288},0]
[null,null,null,null,null,null,null,null,null,null,null,null,null,null,null,null,"OutC2",{"$f":"($V$114*$W$117+$V$122*$W$125)","v":20.537968305637431},0]
[null,null,null,null,null,null,null,null,null,null,null,null,null,null,null,null,null,null,null,null,null,{"$f":"1-V114","v":0.64881081081081082},"HIV- infant"]
[]
[null,null,null,null,null,null,null,null,null,null,null,null,null,null,null,null,null,null,null,null,null,"Cost2",{"$f":"0+ndcost","v":0},0]
[null,null,null,null,null,null,null,null,null,null,null,null,null,null,null,null,null,null,null,null,null,"OutC2",{"$f":"qwohiv","v":28.309677443975772},0]
[]
[]
[]
[]
[null,null,null,null,null,null,null,null,null,null,null,null,null,null,null,null,null,null,null,null,null,null,null,null,null,null,null,null,null,null,null,{"$f":"phivneg","v":0},"HIV+ infant"]
[]
[null,null,null,null,null,null,null,null,null,null,null,null,null,null,null,null,null,null,null,null,null,null,null,null,null,null,null,null,null,null,null,"Cost1",{"$f":"HIVtestcost+outhivcost+lifecost+ndcost+npcost+cd4test+vltest","v":552559.82171621453},0]
[null,null,null,null,null,null,null,null,null,null,null,null,null,null,null,null,null,null,null,null,null,null,null,null,null,null,null,null,null,null,null,"OutC1",{"$f":"qwhiv","v":6.179983883985118},0]
[null,null,null,null,null,null,null,null,null,null,null,null,null,null,null,null,null,null,null,null,null,null,null,null,null,null,{"$f":"acceptundnpsf","v":0.95},"Accept VTP"]
[]
[null,null,"UNDNPSF",null,null,null,null,null,null,null,null,null,null,null,null,null,null,null,null,null,null,null,null,null,null,null,"Cost1",{"$f":"($AF$130*$AG$132+$AF$138*$AG$140)","v":9585.6394984127},0]
[null,null,null,null,null,null,null,null,null,null,null,null,null,null,null,null,null,null,null,null,null,null,null,null,null,null,"OutC1",{"$f":"($AF$130*$AG$133+$AF$138*$AG$141)","v":28.309677443975772},0]
[null,"Cost1",{"$f":"($G$72*$H$74+$G$200*$H$202)","v":566.68009695104604},null,null,null,null,null,null,null,null,null,null,null,null,null,null,null,null,null,null,null,null,null,null,null,null,null,null,null,null,{"$f":"1-AF130","v":1},"HIV- infant"]
[null,"OutC1",{"$f":"($G$72*$H$75+$G$200*$H$203)","v":28.30953445334691}]
[null,null,null,null,null,null,null,null,null,null,null,null,null,null,null,null,null,null,null,null,null,null,null,null,null,null,null,null,null,null,null,"Cost2",{"$f":"HIVtestcost+outhivcost+ndcost+npcost+cd4test+vltest","v":9585.6394984127},0]
[null,null,null,null,null,null,null,null,null,null,null,null,null,null,null,null,null,null,null,null,null,null,null,null,null,null,null,null,null,null,null,"OutC2",{"$f":"qwohiv","v":28.309677443975772},0]
[null,null,null,null,null,null,null,null,null,null,null,null,null,null,null,null,null,null,null,null,null,{"$f":"1-(spec)","v":0},"HIV+ result"]
[]
[null,null,null,null,null,null,null,null,null,null,null,null,null,null,null,null,null,null,null,null,null,"Cost1",{"$f":"($AA$134*$AB$136+$AA$150*$AB$152)","v":9248.9508650793668},0]
[null,null,null,null,null,null,null,null,null,null,null,null,null,null,null,null,null,null,null,null,null,"OutC1",{"$f":"($AA$134*$AB$137+$AA$150*$AB$153)","v":28.309677443975772},0]
[null,null,null,null,null,null,null,null,null,null,null,null,null,null,null,null,null,null,null,null,null,null,null,null,null,null,null,null,null,null,null,{"$f":"phivneg","v":0},"HIV+ infant"]
[]
[null,null,null,null,null,null,null,null,null,null,null,null,null,null,null,null,null,null,null,null,null,null,null,null,null,null,null,null,null,null,null,"Cost1",{"$f":"HIVtestcost+lifecost+ndcost+cd4test","v":545826.04904954787},0]
[null,null,null,null,null,null,null,null,null,null,null,null,null,null,null,null,null,null,null,null,null,null,null,null,null,null,null,null,null,null,null,"OutC1",{"$f":"qwhiv","v":6.179983883985118},0]
[null,null,null,null,null,null,null,null,null,null,null,null,null,null,null,null,null,null,null,null,null,null,null,null,null,null,{"$f":"1-AA134","v":5.0000000000000044E-2},"Reject VTP"]
[]
[null,null,null,null,null,null,null,null,null,null,null,null,null,null,null,null,null,null,null,null,null,null,null,null,null,null,"Cost2",{"$f":"($AF$146*$AG$148+$AF$154*$AG$156)","v":2851.8668317460319},0]
[null,null,null,null,null,null,null,null,null,null,null,null,null,null,null,null,null,null,null,null,null,null,null,null,null,null,"OutC2",{"$f":"($AF$146*$AG$149+$AF$154*$AG$157)","v":28.309677443975772},0]
[null,null,null,null,null,null,null,null,null,null,null,null,null,null,null,null,{"$f":"acceptHIV*percentus","v":0.99},"Accept HIV Test",null,null,null,null,null,null,null,null,null,null,null,null,null,{"$f":"1-phivneg","v":1},"HIV- infant"]
[]
[null,null,null,null,null,null,null,null,null,null,null,null,null,null,null,null,"Cost1",{"$f":"($V$142*$W$144+$V$166*$W$168)","v":566.66999999999996},0,null,null,null,null,null,null,null,null,null,null,null,null,"Cost2",{"$f":"HIVtestcost+ndcost+cd4test","v":2851.8668317460319},0]
[null,null,null,null,null,null,null,null,null,null,null,null,null,null,null,null,"OutC1",{"$f":"($V$142*$W$145+$V$166*$W$169)","v":28.309677443975772},0,null,null,null,null,null,null,null,null,null,null,null,null,"OutC2",{"$f":"qwohiv","v":28.309677443975772},0]
[]
[]
[]
[]
[null,null,null,null,null,null,null,null,null,null,null,null,null,null,null,null,null,null,null,null,null,null,null,null,null,null,{"$f":"phivneg","v":0},"HIV+ infant"]
[]
[null,null,null,null,null,null,null,null,null,null,null,null,null,null,null,null,null,null,null,null,null,null,null,null,null,null,"Cost1",{"$f":"reqHIVtestcost+ndcost+lifecost","v":543540.85221780185},0]
[null,null,null,null,null,null,null,null,null,null,null,null,null,null,null,null,null,null,null,null,null,null,null,null,null,null,"OutC1",{"$f":"qwhiv","v":6.179983883985118},0]
[null,null,null,null,null,null,null,null,null,null,null,null,null,null,null,null,null,null,null,null,null,{"$f":"spec","v":1},"HIV- result"]
[]
[null,null,null,null,null,null,null,null,null,null,null,{"$f":"earlyanc","v":0.96},"Early ANC",null,null,null,null,null,null,null,null,"Cost2",{"$f":"($AA$162*$AB$164+$AA$170*$AB$172)","v":566.66999999999996},0]
[null,null,null,null,null,null,null,null,null,null,null,null,null,null,null,null,null,null,null,null,null,"OutC2",{"$f":"($AA$162*$AB$165+$AA$170*$AB$173)","v":28.309677443975772},0]
[null,null,null,null,null,null,null,null,null,null,null,"Cost1",{"$f":"($Q$154*$R$156+$Q$182*$R$184)","v":561.00329999999997},0,null,null,null,null,null,null,null,null,null,null,null,null,{"$f":"1-phivneg","v":1},"HIV- infant"]
[null,null,null,null,null,null,null,null,null,null,null,"OutC1",{"$f":"($Q$154*$R$157+$Q$182*$R$185)","v":28.309677443975772},0]
[null,null,null,null,null,null,null,null,null,null,null,null,null,null,null,null,null,null,null,null,null,null,null,null,null,null,"Cost2",{"$f":"reqHIVtestcost+ndcost","v":566.66999999999996},0]
[null,null,null,null,null,null,null,null,null,null,null,null,null,null,null,null,null,null,null,null,null,null,null,null,null,null,"OutC2",{"$f":"qwohiv","v":28.309677443975772},0]
[]
[]
[]
[]
[null,null,null,null,null,null,null,null,null,null,null,null,null,null,null,null,null,null,null,null,null,{"$f":"phivneg","v":0},"HIV+ infant"]
[]
[null,null,null,null,null,null,null,null,null,null,null,null,null,null,null,null,null,null,null,null,null,"Cost1",{"$f":"ndcost+lifecost","v":542974.1822178018},0]
[null,null,null,null,null,null,null,null,null,null,null,null,null,null,null,null,null,null,null,null,null,"OutC1",{"$f":"qwhiv","v":6.179983883985118},0]
[null,null,null,null,null,null,null,null,null,null,null,null,null,null,null,null,{"$f":"1-Q154","v":1.0000000000000009E-2},"Reject HIV Test"]
[]
[null,null,null,null,null,null,null,null,null,null,null,null,null,null,null,null,"Cost2",{"$f":"($V$178*$W$180+$V$186*$W$188)","v":0},0]
[null,null,null,null,null,null,null,null,null,null,null,null,null,null,null,null,"OutC2",{"$f":"($V$178*$W$181+$V$186*$W$189)","v":28.309677443975772},0]
[null,null,null,null,null,null,null,null,null,null,null,null,null,null,null,null,null,null,null,null,null,{"$f":"1-phivneg","v":1},"HIV- infant"]
[]
[null,null,null,null,null,null,null,null,null,null,null,null,null,null,null,null,null,null,null,null,null,"Cost2",{"$f":"0+ndcost","v":0},0]
[null,null,null,null,null,null,null,null,null,null,null,null,null,null,null,null,null,null,null,null,null,"OutC2",{"$f":"qwohiv","v":28.309677443975772},0]
[]
[]
[]
[]
[null,null,null,null,null,null,null,null,null,null,null,null,null,null,null,null,null,null,null,null,null,null,null,null,null,null,null,null,null,null,null,{"$f":"phivneg","v":0},"HIV+ infant"]
[]
[null,null,null,null,null,null,null,null,null,null,null,null,null,null,null,null,null,null,null,null,null,null,null,null,null,null,null,null,null,null,null,"Cost1",{"$f":"HIVtestcost+outhivcost+lifecost+ndcost+npcost+sfcost+cd4test+vltest","v":556358.13318367326},0]
[null,null,null,null,null,null,null,null,null,null,null,null,null,null,null,null,null,null,null,null,null,null,null,null,null,null,null,null,null,null,null,"OutC1",{"$f":"qwhiv","v":6.179983883985118},0]
[null,null,null,null,null,null,null,null,null,null,null,null,null,null,null,null,null,null,null,null,null,null,null,null,null,null,{"$f":"acceptundnpsf","v":0.95},"Accept VTP"]
[]
[null,null,null,null,null,null,{"$f":"1-(pwhiv/pop)","v":0.99975185491391949},"HIV- pregnant",null,null,null,null,null,null,null,null,null,null,null,null,null,null,null,null,null,null,"Cost1",{"$f":"($AF$194*$AG$196+$AF$202*$AG$204)","v":13383.950965871396},0]
[null,null,null,null,null,null,null,null,null,null,null,null,null,null,null,null,null,null,null,null,null,null,null,null,null,null,"OutC1",{"$f":"($AF$194*$AG$197+$AF$202*$AG$205)","v":28.309677443975772},0]
[null,null,null,null,null,null,"Cost2",{"$f":"($L$168*$M$170+$L$232*$M$234)","v":561.00329999999997},0,null,null,null,null,null,null,null,null,null,null,null,null,null,null,null,null,null,null,null,null,null,null,{"$f":"1-AF194","v":1},"HIV- infant"]
[null,null,null,null,null,null,"OutC2",{"$f":"($L$168*$M$171+$L$232*$M$235)","v":28.309677443975772},0]
[null,null,null,null,null,null,null,null,null,null,null,null,null,null,null,null,null,null,null,null,null,null,null,null,null,null,null,null,null,null,null,"Cost2",{"$f":"HIVtestcost+outhivcost+ndcost+npcost+sfcost+cd4test+vltest","v":13383.950965871396},0]
[null,null,null,null,null,null,null,null,null,null,null,null,null,null,null,null,null,null,null,null,null,null,null,null,null,null,null,null,null,null,null,"OutC2",{"$f":"qwohiv","v":28.309677443975772},0]
[null,null,null,null,null,null,null,null,null,null,null,null,null,null,null,null,null,null,null,null,null,{"$f":"1-spec","v":0},"HIV+ result"]
[]
[null,null,null,null,null,null,null,null,null,null,null,null,null,null,null,null,null,null,null,null,null,"Cost1",{"$f":"($AA$198*$AB$200+$AA$214*$AB$216)","v":12857.346759165128},0]
[null,null,null,null,null,null,null,null,null,null,null,null,null,null,null,null,null,null,null,null,null,"OutC1",{"$f":"($AA$198*$AB$201+$AA$214*$AB$217)","v":28.309677443975772},0]
[null,null,null,null,null,null,null,null,null,null,null,null,null,null,null,null,null,null,null,null,null,null,null,null,null,null,null,null,null,null,null,{"$f":"phivneg","v":0},"HIV+ infant"]
[]
[null,null,null,null,null,null,null,null,null,null,null,null,null,null,null,null,null,null,null,null,null,null,null,null,null,null,null,null,null,null,null,"Cost1",{"$f":"HIVtestcost+lifecost+ndcost+cd4test","v":545826.04904954787},0]
[null,null,null,null,null,null,null,null,null,null,null,null,null,null,null,null,null,null,null,null,null,null,null,null,null,null,null,null,null,null,null,"OutC1",{"$f":"qwhiv","v":6.179983883985118},0]
[null,null,null,null,null,null,null,null,null,null,null,null,null,null,null,null,null,null,null,null,null,null,null,null,null,null,{"$f":"1-AA198","v":5.0000000000000044E-2},"Reject VTP"]
[]
[null,null,null,null,null,null,null,null,null,null,null,null,null,null,null,null,null,null,null,null,null,null,null,null,null,null,"Cost2",{"$f":"($AF$210*$AG$212+$AF$218*$AG$220)","v":2851.8668317460319},0]
[null,null,null,null,null,null,null,null,null,null,null,null,null,null,null,null,null,null,null,null,null,null,null,null,null,null,"OutC2",{"$f":"($AF$210*$AG$213+$AF$218*$AG$221)","v":28.309677443975772},0]
[null,null,null,null,null,null,null,null,null,null,null,null,null,null,null,null,{"$f":"acceptHIV*percentus","v":0.99},"Accept HIV Test",null,null,null,null,null,null,null,null,null,null,null,null,null,{"$f":"1-phivneg","v":1},"HIV- infant"]
[]
[null,null,null,null,null,null,null,null,null,null,null,null,null,null,null,null,"Cost1",{"$f":"($V$206*$W$208+$V$230*$W$232)","v":566.66999999999996},0,null,null,null,null,null,null,null,null,null,null,null,null,"Cost2",{"$f":"HIVtestcost+ndcost+cd4test","v":2851.8668317460319},0]
[null,null,null,null,null,null,null,null,null,null,null,null,null,null,null,null,"OutC1",{"$f":"($V$206*$W$209+$V$230*$W$233)","v":28.309677443975772},0,null,null,null,null,null,null,null,null,null,null,null,null,"OutC2",{"$f":"qwohiv","v":28.309677443975772},0]
[]
[]
[]
[]
[null,null,null,null,null,null,null,null,null,null,null,null,null,null,null,null,null,null,null,null,null,null,null,null,null,null,{"$f":"phivneg","v":0},"HIV+ infant"]
[]
[null,null,null,null,null,null,null,null,null,null,null,null,null,null,null,null,null,null,null,null,null,null,null,null,null,null,"Cost1",{"$f":"reqHIVtestcost+ndcost+lifecost","v":543540.85221780185},0]
[null,null,null,null,null,null,null,null,null,null,null,null,null,null,null,null,null,null,null,null,null,null,null,null,null,null,"OutC1",{"$f":"qwhiv","v":6.179983883985118},0]
[null,null,null,null,null,null,null,null,null,null,null,null,null,null,null,null,null,null,null,null,null,{"$f":"spec","v":1},"HIV- result"]
[]
[null,null,null,null,null,null,null,null,null,null,null,{"$f":"lateanc","v":4.0000000000000036E-2},"Late ANC",null,null,null,null,null,null,null,null,"Cost2",{"$f":"($AA$226*$AB$228+$AA$234*$AB$236)","v":566.66999999999996},0]
[null,null,null,null,null,null,null,null,null,null,null,null,null,null,null,null,null,null,null,null,null,"OutC2",{"$f":"($AA$226*$AB$229+$AA$234*$AB$237)","v":28.309677443975772},0]
[null,null,null,null,null,null,null,null,null,null,null,"Cost2",{"$f":"($Q$218*$R$220+$Q$246*$R$248)","v":561.00329999999997},0,null,null,null,null,null,null,null,null,null,null,null,null,{"$f":"1-phivneg","v":1},"HIV- infant"]
[null,null,null,null,null,null,null,null,null,null,null,"OutC2",{"$f":"($Q$218*$R$221+$Q$246*$R$249)","v":28.309677443975772},0]
[null,null,null,null,null,null,null,null,null,null,null,null,null,null,null,null,null,null,null,null,null,null,null,null,null,null,"Cost2",{"$f":"reqHIVtestcost+ndcost","v":566.66999999999996},0]
[null,null,null,null,null,null,null,null,null,null,null,null,null,null,null,null,null,null,null,null,null,null,null,null,null,null,"OutC2",{"$f":"qwohiv","v":28.309677443975772},0]
[]
[]
[]
[]
[null,null,null,null,null,null,null,null,null,null,null,null,null,null,null,null,null,null,null,null,null,{"$f":"phivneg","v":0},"HIV+ infant"]
[]
[null,null,null,null,null,null,null,null,null,null,null,null,null,null,null,null,null,null,null,null,null,"Cost1",{"$f":"ndcost+lifecost","v":542974.1822178018},0]
[null,null,null,null,null,null,null,null,null,null,null,null,null,null,null,null,null,null,null,null,null,"OutC1",{"$f":"qwhiv","v":6.179983883985118},0]
[null,null,null,null,null,null,null,null,null,null,null,null,null,null,null,null,{"$f":"1-Q218","v":1.0000000000000009E-2},"Reject HIV Test"]
[]
[null,null,null,null,null,null,null,null,null,null,null,null,null,null,null,null,"Cost2",{"$f":"($V$242*$W$244+$V$250*$W$252)","v":0},0]
[null,null,null,null,null,null,null,null,null,null,null,null,null,null,null,null,"OutC2",{"$f":"($V$242*$W$245+$V$250*$W$253)","v":28.309677443975772},0]
[null,null,null,null,null,null,null,null,null,null,null,null,null,null,null,null,null,null,null,null,null,{"$f":"1-phivneg","v":1},"HIV- infant"]
[]
[null,null,null,null,null,null,null,null,null,null,null,null,null,null,null,null,null,null,null,null,null,"Cost2",{"$f":"+ndcost","v":0},0]
[null,null,null,null,null,null,null,null,null,null,null,null,null,null,null,null,null,null,null,null,null,"OutC2",{"$f":"qwohiv","v":28.309677443975772},0]

{"sheet":"Tree for URCSNPSF","index":33,"n_rows":253,"n_cols":34,"rows_kept":253,"cut":false,"hidden":false,"merged":[]}
["Plant-A-Tree"]
["Supported by iDSI",null,null,null,null,null,null,null,null,null,null,null,null,null,null,null,null,null,null,null,null,null,null,null,null,null,null,null,null,null,null,{"$f":"urcsnpsfearly","v":1.4941676690065557E-3},"HIV+ infant"]
[]
[null,null,null,null,null,null,null,null,null,null,null,null,null,null,null,null,null,null,null,null,null,null,null,null,null,null,null,null,null,null,null,"Cost1",{"$f":"HIVtestcost+outhivcost+lifecost+ndcost+npcost+cd4test+vltest","v":552559.82171621453},0]
[null,null,null,null,null,null,null,null,null,null,null,null,null,null,null,null,null,null,null,null,null,null,null,null,null,null,null,null,null,null,null,"OutC1",{"$f":"qwhiv","v":6.179983883985118},0]
[null,null,null,null,null,null,null,null,null,null,null,null,null,null,null,null,null,null,null,null,null,null,null,null,null,null,{"$f":"accepturcsnpsf","v":0.95},"Accept VTP"]
[]
[null,null,null,null,null,null,null,null,null,null,null,null,null,null,null,null,null,null,null,null,null,null,null,null,null,null,"Cost1",{"$f":"($AF$2*$AG$4+$AF$10*$AG$12)","v":10396.933966587814},0]
[null,null,null,null,null,null,null,null,null,null,null,null,null,null,null,null,null,null,null,null,null,null,null,null,null,null,"OutC1",{"$f":"($AF$2*$AG$5+$AF$10*$AG$13)","v":28.276611971333413},0]
[null,null,null,null,null,null,null,null,null,null,null,null,null,null,null,null,null,null,null,null,null,null,null,null,null,null,null,null,null,null,null,{"$f":"1-AF2","v":0.99850583233099344},"HIV- infant"]
[]
[null,null,null,null,null,null,null,null,null,null,null,null,null,null,null,null,null,null,null,null,null,null,null,null,null,null,null,null,null,null,null,"Cost2",{"$f":"HIVtestcost+outhivcost+ndcost+npcost+cd4test+vltest","v":9585.6394984127},0]
[null,null,null,null,null,null,null,null,null,null,null,null,null,null,null,null,null,null,null,null,null,null,null,null,null,null,null,null,null,null,null,"OutC2",{"$f":"qwohiv","v":28.309677443975772},0]
[null,null,null,null,null,null,null,null,null,null,null,null,null,null,null,null,null,null,null,null,null,{"$f":"sens","v":1},"HIV+result"]
[]
[null,null,null,null,null,null,null,null,null,null,null,null,null,null,null,null,null,null,null,null,null,"Cost1",{"$f":"($AA$6*$AB$8+$AA$22*$AB24)","v":19554.013750032376},0]
[null,null,null,null,null,null,null,null,null,null,null,null,null,null,null,null,null,null,null,null,null,"OutC1",{"$f":"($AA$6*$AB$9+$AA$22*$AB$25)","v":27.889679788048614},0]
[null,null,null,null,null,null,null,null,null,null,null,null,null,null,null,null,null,null,null,null,null,null,null,null,null,null,null,null,null,null,null,{"$f":"newbase","v":0.35118918918918918},"HIV+ infant"]
[]
[null,null,null,null,null,null,null,null,null,null,null,null,null,null,null,null,null,null,null,null,null,null,null,null,null,null,null,null,null,null,null,"Cost1",{"$f":"HIVtestcost+lifecost+ndcost+cd4test","v":545826.04904954787},0]
[null,null,null,null,null,null,null,null,null,null,null,null,null,null,null,null,null,null,null,null,null,null,null,null,null,null,null,null,null,null,null,"OutC1",{"$f":"qwhiv","v":6.179983883985118},0]
[null,null,null,null,null,null,null,null,null,null,null,null,null,null,null,null,null,null,null,null,null,null,null,null,null,null,{"$f":"1-AA6","v":5.0000000000000044E-2},"Reject VTP"]
[]
[null,null,null,null,null,null,null,null,null,null,null,null,null,null,null,null,null,null,null,null,null,null,null,null,null,null,"Cost2",{"$f":"($AF$18*$AG$20+$AF$26*$AG$28)","v":193538.52963547892},0]
[null,null,null,null,null,null,null,null,null,null,null,null,null,null,null,null,null,null,null,null,null,null,null,null,null,null,"OutC2",{"$f":"($AF$18*$AG$21+$AF$26*$AG$29)","v":20.537968305637431},0]
[null,null,null,null,null,null,null,null,null,null,null,null,null,null,null,null,{"$f":"acceptHIV*percentus","v":0.99},"Accept HIV Test",null,null,null,null,null,null,null,null,null,null,null,null,null,{"$f":"1-AF18","v":0.64881081081081082},"HIV- infant"]
[]
[null,null,null,null,null,null,null,null,null,null,null,null,null,null,null,null,"Cost1",{"$f":"($V$14*$W$16+$V$38*$W$40)","v":19554.013750032376},0,null,null,null,null,null,null,null,null,null,null,null,null,"Cost2",{"$f":"HIVtestcost+ndcost+cd4test","v":2851.8668317460319},0]
[null,null,null,null,null,null,null,null,null,null,null,null,null,null,null,null,"OutC1",{"$f":"($V$14*$W$17+$V$38*$W$41)","v":27.889679788048614},0,null,null,null,null,null,null,null,null,null,null,null,null,"OutC2",{"$f":"qwohiv","v":28.309677443975772},0]
[]
[]
[]
[]
[null,null,null,null,null,null,null,null,null,null,null,null,null,null,null,null,null,null,null,null,null,null,null,null,null,null,{"$f":"newbase","v":0.35118918918918918},"HIV+ infant"]
[]
[null,null,null,null,null,null,null,null,null,null,null,null,null,null,null,null,null,null,null,null,null,null,null,null,null,null,"Cost1",{"$f":"reqHIVtestcost+ndcost+lifecost","v":543540.85221780185},0]
[null,null,null,null,null,null,null,null,null,null,null,null,null,null,null,null,null,null,null,null,null,null,null,null,null,null,"OutC1",{"$f":"qwhiv","v":6.179983883985118},0]
[null,null,null,null,null,null,null,null,null,null,null,null,null,null,null,null,null,null,null,null,null,{"$f":"(1-sens)","v":0},"HIV- result"]
[]
[null,null,null,null,null,null,null,null,null,null,null,{"$f":"earlyanc","v":0.96},"Early ANC",null,null,null,null,null,null,null,null,"Cost2",{"$f":"($AA$34*$AB$36+$AA$42*$AB$44)","v":191253.33280373289},0]
[null,null,null,null,null,null,null,null,null,null,null,null,null,null,null,null,null,null,null,null,null,"OutC2",{"$f":"($AA$34*$AB$37+$AA$42*$AB$45)","v":20.537968305637431},0]
[null,null,null,null,null,null,null,null,null,null,null,"Cost1",{"$f":"($Q$26*$R$28+$Q$54*$R$56)","v":21265.340240569381},0,null,null,null,null,null,null,null,null,null,null,null,null,{"$f":"1-AA34","v":0.64881081081081082},"HIV- infant"]
[null,null,null,null,null,null,null,null,null,null,null,"OutC1",{"$f":"($Q$26*$R$29+$Q$54*$R$57)","v":27.816162673224504},0]
[null,null,null,null,null,null,null,null,null,null,null,null,null,null,null,null,null,null,null,null,null,null,null,null,null,null,"Cost2",{"$f":"reqHIVtestcost+ndcost","v":566.66999999999996},0]
[null,null,null,null,null,null,null,null,null,null,null,null,null,null,null,null,null,null,null,null,null,null,null,null,null,null,"OutC2",{"$f":"qwohiv","v":28.309677443975772},0]
[]
[]
[]
[]
[null,null,null,null,null,null,null,null,null,null,null,null,null,null,null,null,null,null,null,null,null,{"$f":"newbase","v":0.35118918918918918},"HIV+ infant"]
[]
[null,null,null,null,null,null,null,null,null,null,null,null,null,null,null,null,null,null,null,null,null,"Cost1",{"$f":"ndcost+lifecost","v":542974.1822178018},0]
[null,null,null,null,null,null,null,null,null,null,null,null,null,null,null,null,null,null,null,null,null,"OutC1",{"$f":"qwhiv","v":6.179983883985118},0]
[null,null,null,null,null,null,null,null,null,null,null,null,null,null,null,null,{"$f":"1-Q26","v":1.0000000000000009E-2},"Reject HIV Test"]
[]
[null,null,null,null,null,null,null,null,null,null,null,null,null,null,null,null,"Cost2",{"$f":"($V$50*$W$52+$V$58*$W$60)","v":190686.66280373288},0]
[null,null,null,null,null,null,null,null,null,null,null,null,null,null,null,null,"OutC2",{"$f":"($V$50*$W$53+$V$58*$W$61)","v":20.537968305637431},0]
[null,null,null,null,null,null,null,null,null,null,null,null,null,null,null,null,null,null,null,null,null,{"$f":"1-V50","v":0.64881081081081082},"HIV- infant"]
[]
[null,null,null,null,null,null,null,null,null,null,null,null,null,null,null,null,null,null,null,null,null,"Cost2",{"$f":"ndcost","v":0},0]
[null,null,null,null,null,null,null,null,null,null,null,null,null,null,null,null,null,null,null,null,null,"OutC2",{"$f":"qwohiv","v":28.309677443975772},0]
[]
[]
[]
[]
[null,null,null,null,null,null,null,null,null,null,null,null,null,null,null,null,null,null,null,null,null,null,null,null,null,null,null,null,null,null,null,{"$f":"urcsnpsflate","v":1.8409113387751384E-2},"HIV+ infant"]
[]
[null,null,null,null,null,null,null,null,null,null,null,null,null,null,null,null,null,null,null,null,null,null,null,null,null,null,null,null,null,null,null,"Cost1",{"$f":"HIVtestcost+outhivcost+lifecost+cscost+rcost+npcost+sfcost+cd4test+vltest","v":590915.88247641351},0]
[null,null,null,null,null,null,null,null,null,null,null,null,null,null,null,null,null,null,null,null,null,null,null,null,null,null,null,null,null,null,null,"OutC1",{"$f":"qwhiv","v":6.179983883985118},0]
[null,null,null,null,null,null,null,null,null,null,null,null,null,null,null,null,null,null,null,null,null,null,null,null,null,null,{"$f":"accepturcsnpsf","v":0.95},"Accept VTP"]
[]
[null,null,null,null,null,null,{"$f":"(pwhiv/pop)","v":2.4814508608047192E-4},"HIV+ pregnant",null,null,null,null,null,null,null,null,null,null,null,null,null,null,null,null,null,null,"Cost1",{"$f":"($AF$66*$AG$68+$AF$74*$AG$76)","v":57937.373545680741},0]
[null,null,null,null,null,null,null,null,null,null,null,null,null,null,null,null,null,null,null,null,null,null,null,null,null,null,"OutC1",{"$f":"($AF$66*$AG$69+$AF$74*$AG$77)","v":27.902289405993709},0]
[null,null,null,null,null,null,"Cost1",{"$f":"($L$40*$M$42+$L$104*$M$106)","v":23053.81157753486},0,null,null,null,null,null,null,null,null,null,null,null,null,null,null,null,null,null,null,null,null,null,null,{"$f":"1-AF66","v":0.98159088661224858},"HIV- infant"]
[null,null,null,null,null,null,"OutC1",{"$f":"($L$40*$M$43+$L$104*$M$107)","v":27.802080658316424},0]
[null,null,null,null,null,null,null,null,null,null,null,null,null,null,null,null,null,null,null,null,null,null,null,null,null,null,null,null,null,null,null,"Cost2",{"$f":"HIVtestcost+outhivcost+cscost+rcost+npcost+sfcost+cd4test+vltest","v":47941.70025861165},0]
[null,null,null,null,null,null,null,null,null,null,null,null,null,null,null,null,null,null,null,null,null,null,null,null,null,null,null,null,null,null,null,"OutC2",{"$f":"qwohiv","v":28.309677443975772},0]
[null,null,null,null,null,null,null,null,null,null,null,null,null,null,null,null,null,null,null,null,null,{"$f":"sens","v":1},"HIV+ result"]
[]
[null,null,null,null,null,null,null,null,null,null,null,null,null,null,null,null,null,null,null,null,null,"Cost1",{"$f":"($AA$70*$AB$72+$AA$86*$AB$88)","v":64717.431350170657},0]
[null,null,null,null,null,null,null,null,null,null,null,null,null,null,null,null,null,null,null,null,null,"OutC1",{"$f":"($AA$70*$AB$73+$AA$86*$AB$89)","v":27.534073350975898},0]
[null,null,null,null,null,null,null,null,null,null,null,null,null,null,null,null,null,null,null,null,null,null,null,null,null,null,null,null,null,null,null,{"$f":"newbase","v":0.35118918918918918},"HIV+ infant"]
[]
[null,null,null,null,null,null,null,null,null,null,null,null,null,null,null,null,null,null,null,null,null,null,null,null,null,null,null,null,null,null,null,"Cost1",{"$f":"HIVtestcost+lifecost+ndcost+cd4test","v":545826.04904954787},0]
[null,null,null,null,null,null,null,null,null,null,null,null,null,null,null,null,null,null,null,null,null,null,null,null,null,null,null,null,null,null,null,"OutC1",{"$f":"qwhiv","v":6.179983883985118},0]
[null,null,null,null,null,null,null,null,null,null,null,null,null,null,null,null,null,null,null,null,null,null,null,null,null,null,{"$f":"1-AA70","v":5.0000000000000044E-2},"Reject VTP"]
[]
[null,null,null,null,null,null,null,null,null,null,null,null,null,null,null,null,null,null,null,null,null,null,null,null,null,null,"Cost2",{"$f":"($AF$82*$AG$84+$AF$90*$AG$92)","v":193538.52963547892},0]
[null,null,null,null,null,null,null,null,null,null,null,null,null,null,null,null,null,null,null,null,null,null,null,null,null,null,"OutC2",{"$f":"($AF$82*$AG$85+$AF$90*$AG$93)","v":20.537968305637431},0]
[null,null,null,null,null,null,null,null,null,null,null,null,null,null,null,null,{"$f":"acceptHIV*percentus","v":0.99},"Accept HIV Test",null,null,null,null,null,null,null,null,null,null,null,null,null,{"$f":"1-AF82","v":0.64881081081081082},"HIV- infant"]
[]
[null,null,null,null,null,null,null,null,null,null,null,null,null,null,null,null,"Cost1",{"$f":"($V$78*$W$80+$V$102*$W$104)","v":64717.431350170657},0,null,null,null,null,null,null,null,null,null,null,null,null,"Cost2",{"$f":"HIVtestcost+ndcost+cd4test","v":2851.8668317460319},0]
[null,null,null,null,null,null,null,null,null,null,null,null,null,null,null,null,"OutC1",{"$f":"($V$78*$W$81+$V$102*$W$105)","v":27.534073350975898},0,null,null,null,null,null,null,null,null,null,null,null,null,"OutC2",{"$f":"qwohiv","v":28.309677443975772},0]
[]
[]
[]
[]
[null,null,null,null,null,null,null,null,null,null,null,null,null,null,null,null,null,null,null,null,null,null,null,null,null,null,{"$f":"newbase","v":0.35118918918918918},"HIV+ infant"]
[]
[null,null,null,null,null,null,null,null,null,null,null,null,null,null,null,null,null,null,null,null,null,null,null,null,null,null,"Cost1",{"$f":"reqHIVtestcost+ndcost+lifecost","v":543540.85221780185},0]
[null,null,null,null,null,null,null,null,null,null,null,null,null,null,null,null,null,null,null,null,null,null,null,null,null,null,"OutC1",{"$f":"qwhiv","v":6.179983883985118},0]
[null,null,null,null,null,null,null,null,null,null,null,null,null,null,null,null,null,null,null,null,null,{"$f":"(1-sens)","v":0},"HIV- result"]
[]
[null,null,null,null,null,null,null,null,null,null,null,{"$f":"lateanc","v":4.0000000000000036E-2},"Late ANC",null,null,null,null,null,null,null,null,"Cost2",{"$f":"($AA$98*$AB$100+$AA$106*$AB$108)","v":191253.33280373289},0]
[null,null,null,null,null,null,null,null,null,null,null,null,null,null,null,null,null,null,null,null,null,"OutC2",{"$f":"($AA$98*$AB$101+$AA$106*$AB$109)","v":20.537968305637431},0]
[null,null,null,null,null,null,null,null,null,null,null,"Cost2",{"$f":"($Q$90*$R$92+$Q$118*$R$120)","v":65977.123664706276},0,null,null,null,null,null,null,null,null,null,null,null,null,{"$f":"1-AA98","v":0.64881081081081082},"HIV- infant"]
[null,null,null,null,null,null,null,null,null,null,null,"OutC2",{"$f":"($Q$90*$R$93+$Q$118*$R$121)","v":27.464112300522515},0]
[null,null,null,null,null,null,null,null,null,null,null,null,null,null,null,null,null,null,null,null,null,null,null,null,null,null,"Cost2",{"$f":"reqHIVtestcost+ndcost","v":566.66999999999996},0]
[null,null,null,null,null,null,null,null,null,null,null,null,null,null,null,null,null,null,null,null,null,null,null,null,null,null,"OutC2",{"$f":"qwohiv","v":28.309677443975772},0]
[]
[]
[]
[]
[null,null,null,null,null,null,null,null,null,null,null,null,null,null,null,null,null,null,null,null,null,{"$f":"newbase","v":0.35118918918918918},"HIV+ infant"]
[]
[null,null,null,null,null,null,null,null,null,null,null,null,null,null,null,null,null,null,null,null,null,"Cost1",{"$f":"ndcost+lifecost","v":542974.1822178018},0]
[null,null,null,null,null,null,null,null,null,null,null,null,null,null,null,null,null,null,null,null,null,"OutC1",{"$f":"qwhiv","v":6.179983883985118},0]
[null,null,null,null,null,null,null,null,null,null,null,null,null,null,null,null,{"$f":"1-Q90","v":1.0000000000000009E-2},"Reject HIV Test"]
[]
[null,null,null,null,null,null,null,null,null,null,null,null,null,null,null,null,"Cost2",{"$f":"($V$114*$W$116+$V$122*$W$124)","v":190686.66280373288},0]
[null,null,null,null,null,null,null,null,null,null,null,null,null,null,null,null,"OutC2",{"$f":"($V$114*$W$117+$V$122*$W$125)","v":20.537968305637431},0]
[null,null,null,null,null,null,null,null,null,null,null,null,null,null,null,null,null,null,null,null,null,{"$f":"1-V114","v":0.64881081081081082},"HIV- infant"]
[]
[null,null,null,null,null,null,null,null,null,null,null,null,null,null,null,null,null,null,null,null,null,"Cost2",{"$f":"0+ndcost","v":0},0]
[null,null,null,null,null,null,null,null,null,null,null,null,null,null,null,null,null,null,null,null,null,"OutC2",{"$f":"qwohiv","v":28.309677443975772},0]
[]
[]
[]
[]
[null,null,null,null,null,null,null,null,null,null,null,null,null,null,null,null,null,null,null,null,null,null,null,null,null,null,null,null,null,null,null,{"$f":"phivneg","v":0},"HIV+ infant"]
[]
[null,null,null,null,null,null,null,null,null,null,null,null,null,null,null,null,null,null,null,null,null,null,null,null,null,null,null,null,null,null,null,"Cost1",{"$f":"HIVtestcost+outhivcost+lifecost+ndcost+npcost+cd4test+vltest","v":552559.82171621453},0]
[null,null,null,null,null,null,null,null,null,null,null,null,null,null,null,null,null,null,null,null,null,null,null,null,null,null,null,null,null,null,null,"OutC1",{"$f":"qwhiv","v":6.179983883985118},0]
[null,null,null,null,null,null,null,null,null,null,null,null,null,null,null,null,null,null,null,null,null,null,null,null,null,null,{"$f":"accepturcsnpsf","v":0.95},"Accept VTP"]
[]
[null,null,"URCSNPSF",null,null,null,null,null,null,null,null,null,null,null,null,null,null,null,null,null,null,null,null,null,null,null,"Cost1",{"$f":"($AF$130*$AG$132+$AF$138*$AG$140)","v":9585.6394984127},0]
[null,null,null,null,null,null,null,null,null,null,null,null,null,null,null,null,null,null,null,null,null,null,null,null,null,null,"OutC1",{"$f":"($AF$130*$AG$133+$AF$138*$AG$141)","v":28.309677443975772},0]
[null,"Cost1",{"$f":"($G$72*$H$74+$G$200*$H$202)","v":566.58477984622039},null,null,null,null,null,null,null,null,null,null,null,null,null,null,null,null,null,null,null,null,null,null,null,null,null,null,null,null,{"$f":"1-AF130","v":1},"HIV- infant"]
[null,"OutC1",{"$f":"($G$72*$H$75+$G$200*$H$203)","v":28.309551486327702}]
[null,null,null,null,null,null,null,null,null,null,null,null,null,null,null,null,null,null,null,null,null,null,null,null,null,null,null,null,null,null,null,"Cost2",{"$f":"HIVtestcost+outhivcost+ndcost+npcost+cd4test+vltest","v":9585.6394984127},0]
[null,null,null,null,null,null,null,null,null,null,null,null,null,null,null,null,null,null,null,null,null,null,null,null,null,null,null,null,null,null,null,"OutC2",{"$f":"qwohiv","v":28.309677443975772},0]
[null,null,null,null,null,null,null,null,null,null,null,null,null,null,null,null,null,null,null,null,null,{"$f":"1-(spec)","v":0},"HIV+ result"]
[]
[null,null,null,null,null,null,null,null,null,null,null,null,null,null,null,null,null,null,null,null,null,"Cost1",{"$f":"($AA$134*$AB$136+$AA$150*$AB$152)","v":9248.9508650793668},0]
[null,null,null,null,null,null,null,null,null,null,null,null,null,null,null,null,null,null,null,null,null,"OutC1",{"$f":"($AA$134*$AB$137+$AA$150*$AB$153)","v":28.309677443975772},0]
[null,null,null,null,null,null,null,null,null,null,null,null,null,null,null,null,null,null,null,null,null,null,null,null,null,null,null,null,null,null,null,{"$f":"phivneg","v":0},"HIV+ infant"]
[]
[null,null,null,null,null,null,null,null,null,null,null,null,null,null,null,null,null,null,null,null,null,null,null,null,null,null,null,null,null,null,null,"Cost1",{"$f":"HIVtestcost+lifecost+ndcost+cd4test","v":545826.04904954787},0]
[null,null,null,null,null,null,null,null,null,null,null,null,null,null,null,null,null,null,null,null,null,null,null,null,null,null,null,null,null,null,null,"OutC1",{"$f":"qwhiv","v":6.179983883985118},0]
[null,null,null,null,null,null,null,null,null,null,null,null,null,null,null,null,null,null,null,null,null,null,null,null,null,null,{"$f":"1-AA134","v":5.0000000000000044E-2},"Reject VTP"]
[]
[null,null,null,null,null,null,null,null,null,null,null,null,null,null,null,null,null,null,null,null,null,null,null,null,null,null,"Cost2",{"$f":"($AF$146*$AG$148+$AF$154*$AG$156)","v":2851.8668317460319},0]
[null,null,null,null,null,null,null,null,null,null,null,null,null,null,null,null,null,null,null,null,null,null,null,null,null,null,"OutC2",{"$f":"($AF$146*$AG$149+$AF$154*$AG$157)","v":28.309677443975772},0]
[null,null,null,null,null,null,null,null,null,null,null,null,null,null,null,null,{"$f":"acceptHIV*percentus","v":0.99},"Accept HIV Test",null,null,null,null,null,null,null,null,null,null,null,null,null,{"$f":"1-phivneg","v":1},"HIV- infant"]
[]
[null,null,null,null,null,null,null,null,null,null,null,null,null,null,null,null,"Cost1",{"$f":"($V$142*$W$144+$V$166*$W$168)","v":566.66999999999996},0,null,null,null,null,null,null,null,null,null,null,null,null,"Cost2",{"$f":"HIVtestcost+ndcost+cd4test","v":2851.8668317460319},0]
[null,null,null,null,null,null,null,null,null,null,null,null,null,null,null,null,"OutC1",{"$f":"($V$142*$W$145+$V$166*$W$169)","v":28.309677443975772},0,null,null,null,null,null,null,null,null,null,null,null,null,"OutC2",{"$f":"qwohiv","v":28.309677443975772},0]
[]
[]
[]
[]
[null,null,null,null,null,null,null,null,null,null,null,null,null,null,null,null,null,null,null,null,null,null,null,null,null,null,{"$f":"phivneg","v":0},"HIV+ infant"]
[]
[null,null,null,null,null,null,null,null,null,null,null,null,null,null,null,null,null,null,null,null,null,null,null,null,null,null,"Cost1",{"$f":"reqHIVtestcost+ndcost+lifecost","v":543540.85221780185},0]
[null,null,null,null,null,null,null,null,null,null,null,null,null,null,null,null,null,null,null,null,null,null,null,null,null,null,"OutC1",{"$f":"qwhiv","v":6.179983883985118},0]
[null,null,null,null,null,null,null,null,null,null,null,null,null,null,null,null,null,null,null,null,null,{"$f":"spec","v":1},"HIV- result"]
[]
[null,null,null,null,null,null,null,null,null,null,null,{"$f":"earlyanc","v":0.96},"Early ANC",null,null,null,null,null,null,null,null,"Cost2",{"$f":"($AA$162*$AB$164+$AA$170*$AB$172)","v":566.66999999999996},0]
[null,null,null,null,null,null,null,null,null,null,null,null,null,null,null,null,null,null,null,null,null,"OutC2",{"$f":"($AA$162*$AB$165+$AA$170*$AB$173)","v":28.309677443975772},0]
[null,null,null,null,null,null,null,null,null,null,null,"Cost1",{"$f":"($Q$154*$R$156+$Q$182*$R$184)","v":561.00329999999997},0,null,null,null,null,null,null,null,null,null,null,null,null,{"$f":"1-phivneg","v":1},"HIV- infant"]
[null,null,null,null,null,null,null,null,null,null,null,"OutC1",{"$f":"($Q$154*$R$157+$Q$182*$R$185)","v":28.309677443975772},0]
[null,null,null,null,null,null,null,null,null,null,null,null,null,null,null,null,null,null,null,null,null,null,null,null,null,null,"Cost2",{"$f":"reqHIVtestcost+ndcost","v":566.66999999999996},0]
[null,null,null,null,null,null,null,null,null,null,null,null,null,null,null,null,null,null,null,null,null,null,null,null,null,null,"OutC2",{"$f":"qwohiv","v":28.309677443975772},0]
[]
[]
[]
[]
[null,null,null,null,null,null,null,null,null,null,null,null,null,null,null,null,null,null,null,null,null,{"$f":"phivneg","v":0},"HIV+ infant"]
[]
[null,null,null,null,null,null,null,null,null,null,null,null,null,null,null,null,null,null,null,null,null,"Cost1",{"$f":"ndcost+lifecost","v":542974.1822178018},0]
[null,null,null,null,null,null,null,null,null,null,null,null,null,null,null,null,null,null,null,null,null,"OutC1",{"$f":"qwhiv","v":6.179983883985118},0]
[null,null,null,null,null,null,null,null,null,null,null,null,null,null,null,null,{"$f":"1-Q154","v":1.0000000000000009E-2},"Reject HIV Test"]
[]
[null,null,null,null,null,null,null,null,null,null,null,null,null,null,null,null,"Cost2",{"$f":"($V$178*$W$180+$V$186*$W$188)","v":0},0]
[null,null,null,null,null,null,null,null,null,null,null,null,null,null,null,null,"OutC2",{"$f":"($V$178*$W$181+$V$186*$W$189)","v":28.309677443975772},0]
[null,null,null,null,null,null,null,null,null,null,null,null,null,null,null,null,null,null,null,null,null,{"$f":"1-phivneg","v":1},"HIV- infant"]
[]
[null,null,null,null,null,null,null,null,null,null,null,null,null,null,null,null,null,null,null,null,null,"Cost2",{"$f":"0+ndcost","v":0},0]
[null,null,null,null,null,null,null,null,null,null,null,null,null,null,null,null,null,null,null,null,null,"OutC2",{"$f":"qwohiv","v":28.309677443975772},0]
[]
[]
[]
[]
[null,null,null,null,null,null,null,null,null,null,null,null,null,null,null,null,null,null,null,null,null,null,null,null,null,null,null,null,null,null,null,{"$f":"phivneg","v":0},"HIV+ infant"]
[]
[null,null,null,null,null,null,null,null,null,null,null,null,null,null,null,null,null,null,null,null,null,null,null,null,null,null,null,null,null,null,null,"Cost1",{"$f":"HIVtestcost+outhivcost+lifecost+cscost+rcost+npcost+sfcost+cd4test+vltest","v":590915.88247641351},0]
[null,null,null,null,null,null,null,null,null,null,null,null,null,null,null,null,null,null,null,null,null,null,null,null,null,null,null,null,null,null,null,"OutC1",{"$f":"qwhiv","v":6.179983883985118},0]
[null,null,null,null,null,null,null,null,null,null,null,null,null,null,null,null,null,null,null,null,null,null,null,null,null,null,{"$f":"accepturcsnpsf","v":0.95},"Accept VTP"]
[]
[null,null,null,null,null,null,{"$f":"1-(pwhiv/pop)","v":0.99975185491391949},"HIV- pregnant",null,null,null,null,null,null,null,null,null,null,null,null,null,null,null,null,null,null,"Cost1",{"$f":"($AF$194*$AG$196+$AF$202*$AG$204)","v":47941.70025861165},0]
[null,null,null,null,null,null,null,null,null,null,null,null,null,null,null,null,null,null,null,null,null,null,null,null,null,null,"OutC1",{"$f":"($AF$194*$AG$197+$AF$202*$AG$205)","v":28.309677443975772},0]
[null,null,null,null,null,null,"Cost2",{"$f":"($L$168*$M$170+$L$232*$M$234)","v":561.00329999999997},0,null,null,null,null,null,null,null,null,null,null,null,null,null,null,null,null,null,null,null,null,null,null,{"$f":"1-AF194","v":1},"HIV- infant"]
[null,null,null,null,null,null,"OutC2",{"$f":"($L$168*$M$171+$L$232*$M$235)","v":28.309677443975772},0]
[null,null,null,null,null,null,null,null,null,null,null,null,null,null,null,null,null,null,null,null,null,null,null,null,null,null,null,null,null,null,null,"Cost2",{"$f":"HIVtestcost+outhivcost+cscost+rcost+npcost+sfcost+cd4test+vltest","v":47941.70025861165},0]
[null,null,null,null,null,null,null,null,null,null,null,null,null,null,null,null,null,null,null,null,null,null,null,null,null,null,null,null,null,null,null,"OutC2",{"$f":"qwohiv","v":28.309677443975772},0]
[null,null,null,null,null,null,null,null,null,null,null,null,null,null,null,null,null,null,null,null,null,{"$f":"1-spec","v":0},"HIV+ result"]
[]
[null,null,null,null,null,null,null,null,null,null,null,null,null,null,null,null,null,null,null,null,null,"Cost1",{"$f":"($AA$198*$AB$200+$AA$214*$AB$216)","v":45687.208587268367},0]
[null,null,null,null,null,null,null,null,null,null,null,null,null,null,null,null,null,null,null,null,null,"OutC1",{"$f":"($AA$198*$AB$201+$AA$214*$AB$217)","v":28.309677443975772},0]
[null,null,null,null,null,null,null,null,null,null,null,null,null,null,null,null,null,null,null,null,null,null,null,null,null,null,null,null,null,null,null,{"$f":"phivneg","v":0},"HIV+ infant"]
[]
[null,null,null,null,null,null,null,null,null,null,null,null,null,null,null,null,null,null,null,null,null,null,null,null,null,null,null,null,null,null,null,"Cost1",{"$f":"HIVtestcost+lifecost+ndcost+cd4test","v":545826.04904954787},0]
[null,null,null,null,null,null,null,null,null,null,null,null,null,null,null,null,null,null,null,null,null,null,null,null,null,null,null,null,null,null,null,"OutC1",{"$f":"qwhiv","v":6.179983883985118},0]
[null,null,null,null,null,null,null,null,null,null,null,null,null,null,null,null,null,null,null,null,null,null,null,null,null,null,{"$f":"1-AA198","v":5.0000000000000044E-2},"Reject VTP"]
[]
[null,null,null,null,null,null,null,null,null,null,null,null,null,null,null,null,null,null,null,null,null,null,null,null,null,null,"Cost2",{"$f":"($AF$210*$AG$212+$AF$218*$AG$220)","v":2851.8668317460319},0]
[null,null,null,null,null,null,null,null,null,null,null,null,null,null,null,null,null,null,null,null,null,null,null,null,null,null,"OutC2",{"$f":"($AF$210*$AG$213+$AF$218*$AG$221)","v":28.309677443975772},0]
[null,null,null,null,null,null,null,null,null,null,null,null,null,null,null,null,{"$f":"acceptHIV*percentus","v":0.99},"Accept HIV Test",null,null,null,null,null,null,null,null,null,null,null,null,null,{"$f":"1-phivneg","v":1},"HIV- infant"]
[]
[null,null,null,null,null,null,null,null,null,null,null,null,null,null,null,null,"Cost1",{"$f":"($V$206*$W$208+$V$230*$W$232)","v":566.66999999999996},0,null,null,null,null,null,null,null,null,null,null,null,null,"Cost2",{"$f":"HIVtestcost+ndcost+cd4test","v":2851.8668317460319},0]
[null,null,null,null,null,null,null,null,null,null,null,null,null,null,null,null,"OutC1",{"$f":"($V$206*$W$209+$V$230*$W$233)","v":28.309677443975772},0,null,null,null,null,null,null,null,null,null,null,null,null,"OutC2",{"$f":"qwohiv","v":28.309677443975772},0]
[]
[]
[]
[]
[null,null,null,null,null,null,null,null,null,null,null,null,null,null,null,null,null,null,null,null,null,null,null,null,null,null,{"$f":"phivneg","v":0},"HIV+ infant"]
[]
[null,null,null,null,null,null,null,null,null,null,null,null,null,null,null,null,null,null,null,null,null,null,null,null,null,null,"Cost1",{"$f":"reqHIVtestcost+ndcost+lifecost","v":543540.85221780185},0]
[null,null,null,null,null,null,null,null,null,null,null,null,null,null,null,null,null,null,null,null,null,null,null,null,null,null,"OutC1",{"$f":"qwhiv","v":6.179983883985118},0]
[null,null,null,null,null,null,null,null,null,null,null,null,null,null,null,null,null,null,null,null,null,{"$f":"spec","v":1},"HIV- result"]
[]
[null,null,null,null,null,null,null,null,null,null,null,{"$f":"lateanc","v":4.0000000000000036E-2},"Late ANC",null,null,null,null,null,null,null,null,"Cost2",{"$f":"($AA$226*$AB$228+$AA$234*$AB$236)","v":566.66999999999996},0]
[null,null,null,null,null,null,null,null,null,null,null,null,null,null,null,null,null,null,null,null,null,"OutC2",{"$f":"($AA$226*$AB$229+$AA$234*$AB$237)","v":28.309677443975772},0]
[null,null,null,null,null,null,null,null,null,null,null,"Cost2",{"$f":"($Q$218*$R$220+$Q$246*$R$248)","v":561.00329999999997},0,null,null,null,null,null,null,null,null,null,null,null,null,{"$f":"1-phivneg","v":1},"HIV- infant"]
[null,null,null,null,null,null,null,null,null,null,null,"OutC2",{"$f":"($Q$218*$R$221+$Q$246*$R$249)","v":28.309677443975772},0]
[null,null,null,null,null,null,null,null,null,null,null,null,null,null,null,null,null,null,null,null,null,null,null,null,null,null,"Cost2",{"$f":"reqHIVtestcost+ndcost","v":566.66999999999996},0]
[null,null,null,null,null,null,null,null,null,null,null,null,null,null,null,null,null,null,null,null,null,null,null,null,null,null,"OutC2",{"$f":"qwohiv","v":28.309677443975772},0]
[]
[]
[]
[]
[null,null,null,null,null,null,null,null,null,null,null,null,null,null,null,null,null,null,null,null,null,{"$f":"phivneg","v":0},"HIV+ infant"]
[]
[null,null,null,null,null,null,null,null,null,null,null,null,null,null,null,null,null,null,null,null,null,"Cost1",{"$f":"ndcost+lifecost","v":542974.1822178018},0]
[null,null,null,null,null,null,null,null,null,null,null,null,null,null,null,null,null,null,null,null,null,"OutC1",{"$f":"qwhiv","v":6.179983883985118},0]
[null,null,null,null,null,null,null,null,null,null,null,null,null,null,null,null,{"$f":"1-Q218","v":1.0000000000000009E-2},"Reject HIV Test"]
[]
[null,null,null,null,null,null,null,null,null,null,null,null,null,null,null,null,"Cost2",{"$f":"($V$242*$W$244+$V$250*$W$252)","v":0},0]
[null,null,null,null,null,null,null,null,null,null,null,null,null,null,null,null,"OutC2",{"$f":"($V$242*$W$245+$V$250*$W$253)","v":28.309677443975772},0]
[null,null,null,null,null,null,null,null,null,null,null,null,null,null,null,null,null,null,null,null,null,{"$f":"1-phivneg","v":1},"HIV- infant"]
[]
[null,null,null,null,null,null,null,null,null,null,null,null,null,null,null,null,null,null,null,null,null,"Cost2",{"$f":"+ndcost","v":0},0]
[null,null,null,null,null,null,null,null,null,null,null,null,null,null,null,null,null,null,null,null,null,"OutC2",{"$f":"qwohiv","v":28.309677443975772},0]

{"sheet":"Tree for URNDNPSF","index":34,"n_rows":253,"n_cols":34,"rows_kept":253,"cut":false,"hidden":false,"merged":[]}
["Plant-A-Tree"]
["Supported by iDSI",null,null,null,null,null,null,null,null,null,null,null,null,null,null,null,null,null,null,null,null,null,null,null,null,null,null,null,null,null,null,{"$f":"urndnpsfearly","v":1.4941676690065557E-3},"HIV+ infant"]
[]
[null,null,null,null,null,null,null,null,null,null,null,null,null,null,null,null,null,null,null,null,null,null,null,null,null,null,null,null,null,null,null,"Cost1",{"$f":"HIVtestcost+outhivcost+lifecost+ndcost+npcost+cd4test+vltest","v":552559.82171621453},0]
[null,null,null,null,null,null,null,null,null,null,null,null,null,null,null,null,null,null,null,null,null,null,null,null,null,null,null,null,null,null,null,"OutC1",{"$f":"qwhiv","v":6.179983883985118},0]
[null,null,null,null,null,null,null,null,null,null,null,null,null,null,null,null,null,null,null,null,null,null,null,null,null,null,{"$f":"accepturndnpsf","v":0.95},"Accept VTP"]
[]
[null,null,null,null,null,null,null,null,null,null,null,null,null,null,null,null,null,null,null,null,null,null,null,null,null,null,"Cost1",{"$f":"($AF$2*$AG$4+$AF$10*$AG$12)","v":10396.933966587814},0]
[null,null,null,null,null,null,null,null,null,null,null,null,null,null,null,null,null,null,null,null,null,null,null,null,null,null,"OutC1",{"$f":"($AF$2*$AG$5+$AF$10*$AG$13)","v":28.276611971333413},0]
[null,null,null,null,null,null,null,null,null,null,null,null,null,null,null,null,null,null,null,null,null,null,null,null,null,null,null,null,null,null,null,{"$f":"1-AF2","v":0.99850583233099344},"HIV- infant"]
[]
[null,null,null,null,null,null,null,null,null,null,null,null,null,null,null,null,null,null,null,null,null,null,null,null,null,null,null,null,null,null,null,"Cost2",{"$f":"HIVtestcost+outhivcost+ndcost+npcost+cd4test+vltest","v":9585.6394984127},0]
[null,null,null,null,null,null,null,null,null,null,null,null,null,null,null,null,null,null,null,null,null,null,null,null,null,null,null,null,null,null,null,"OutC2",{"$f":"qwohiv","v":28.309677443975772},0]
[null,null,null,null,null,null,null,null,null,null,null,null,null,null,null,null,null,null,null,null,null,{"$f":"sens","v":1},"HIV+result"]
[]
[null,null,null,null,null,null,null,null,null,null,null,null,null,null,null,null,null,null,null,null,null,"Cost1",{"$f":"($AA$6*$AB$8+$AA$22*$AB24)","v":19554.013750032376},0]
[null,null,null,null,null,null,null,null,null,null,null,null,null,null,null,null,null,null,null,null,null,"OutC1",{"$f":"($AA$6*$AB$9+$AA$22*$AB$25)","v":27.889679788048614},0]
[null,null,null,null,null,null,null,null,null,null,null,null,null,null,null,null,null,null,null,null,null,null,null,null,null,null,null,null,null,null,null,{"$f":"newbase","v":0.35118918918918918},"HIV+ infant"]
[]
[null,null,null,null,null,null,null,null,null,null,null,null,null,null,null,null,null,null,null,null,null,null,null,null,null,null,null,null,null,null,null,"Cost1",{"$f":"HIVtestcost+lifecost+ndcost+cd4test","v":545826.04904954787},0]
[null,null,null,null,null,null,null,null,null,null,null,null,null,null,null,null,null,null,null,null,null,null,null,null,null,null,null,null,null,null,null,"OutC1",{"$f":"qwhiv","v":6.179983883985118},0]
[null,null,null,null,null,null,null,null,null,null,null,null,null,null,null,null,null,null,null,null,null,null,null,null,null,null,{"$f":"1-AA6","v":5.0000000000000044E-2},"Reject VTP"]
[]
[null,null,null,null,null,null,null,null,null,null,null,null,null,null,null,null,null,null,null,null,null,null,null,null,null,null,"Cost2",{"$f":"($AF$18*$AG$20+$AF$26*$AG$28)","v":193538.52963547892},0]
[null,null,null,null,null,null,null,null,null,null,null,null,null,null,null,null,null,null,null,null,null,null,null,null,null,null,"OutC2",{"$f":"($AF$18*$AG$21+$AF$26*$AG$29)","v":20.537968305637431},0]
[null,null,null,null,null,null,null,null,null,null,null,null,null,null,null,null,{"$f":"acceptHIV*percentus","v":0.99},"Accept HIV Test",null,null,null,null,null,null,null,null,null,null,null,null,null,{"$f":"1-AF18","v":0.64881081081081082},"HIV- infant"]
[]
[null,null,null,null,null,null,null,null,null,null,null,null,null,null,null,null,"Cost1",{"$f":"($V$14*$W$16+$V$38*$W$40)","v":19554.013750032376},0,null,null,null,null,null,null,null,null,null,null,null,null,"Cost2",{"$f":"HIVtestcost+ndcost+cd4test","v":2851.8668317460319},0]
[null,null,null,null,null,null,null,null,null,null,null,null,null,null,null,null,"OutC1",{"$f":"($V$14*$W$17+$V$38*$W$41)","v":27.889679788048614},0,null,null,null,null,null,null,null,null,null,null,null,null,"OutC2",{"$f":"qwohiv","v":28.309677443975772},0]
[]
[]
[]
[]
[null,null,null,null,null,null,null,null,null,null,null,null,null,null,null,null,null,null,null,null,null,null,null,null,null,null,{"$f":"newbase","v":0.35118918918918918},"HIV+ infant"]
[]
[null,null,null,null,null,null,null,null,null,null,null,null,null,null,null,null,null,null,null,null,null,null,null,null,null,null,"Cost1",{"$f":"reqHIVtestcost+ndcost+lifecost","v":543540.85221780185},0]
[null,null,null,null,null,null,null,null,null,null,null,null,null,null,null,null,null,null,null,null,null,null,null,null,null,null,"OutC1",{"$f":"qwhiv","v":6.179983883985118},0]
[null,null,null,null,null,null,null,null,null,null,null,null,null,null,null,null,null,null,null,null,null,{"$f":"(1-sens)","v":0},"HIV- result"]
[]
[null,null,null,null,null,null,null,null,null,null,null,{"$f":"earlyanc","v":0.96},"Early ANC",null,null,null,null,null,null,null,null,"Cost2",{"$f":"($AA$34*$AB$36+$AA$42*$AB$44)","v":191253.33280373289},0]
[null,null,null,null,null,null,null,null,null,null,null,null,null,null,null,null,null,null,null,null,null,"OutC2",{"$f":"($AA$34*$AB$37+$AA$42*$AB$45)","v":20.537968305637431},0]
[null,null,null,null,null,null,null,null,null,null,null,"Cost1",{"$f":"($Q$26*$R$28+$Q$54*$R$56)","v":21265.340240569381},0,null,null,null,null,null,null,null,null,null,null,null,null,{"$f":"1-AA34","v":0.64881081081081082},"HIV- infant"]
[null,null,null,null,null,null,null,null,null,null,null,"OutC1",{"$f":"($Q$26*$R$29+$Q$54*$R$57)","v":27.816162673224504},0]
[null,null,null,null,null,null,null,null,null,null,null,null,null,null,null,null,null,null,null,null,null,null,null,null,null,null,"Cost2",{"$f":"reqHIVtestcost+ndcost","v":566.66999999999996},0]
[null,null,null,null,null,null,null,null,null,null,null,null,null,null,null,null,null,null,null,null,null,null,null,null,null,null,"OutC2",{"$f":"qwohiv","v":28.309677443975772},0]
[]
[]
[]
[]
[null,null,null,null,null,null,null,null,null,null,null,null,null,null,null,null,null,null,null,null,null,{"$f":"newbase","v":0.35118918918918918},"HIV+ infant"]
[]
[null,null,null,null,null,null,null,null,null,null,null,null,null,null,null,null,null,null,null,null,null,"Cost1",{"$f":"ndcost+lifecost","v":542974.1822178018},0]
[null,null,null,null,null,null,null,null,null,null,null,null,null,null,null,null,null,null,null,null,null,"OutC1",{"$f":"qwhiv","v":6.179983883985118},0]
[null,null,null,null,null,null,null,null,null,null,null,null,null,null,null,null,{"$f":"1-Q26","v":1.0000000000000009E-2},"Reject HIV Test"]
[]
[null,null,null,null,null,null,null,null,null,null,null,null,null,null,null,null,"Cost2",{"$f":"($V$50*$W$52+$V$58*$W$60)","v":190686.66280373288},0]
[null,null,null,null,null,null,null,null,null,null,null,null,null,null,null,null,"OutC2",{"$f":"($V$50*$W$53+$V$58*$W$61)","v":20.537968305637431},0]
[null,null,null,null,null,null,null,null,null,null,null,null,null,null,null,null,null,null,null,null,null,{"$f":"1-V50","v":0.64881081081081082},"HIV- infant"]
[]
[null,null,null,null,null,null,null,null,null,null,null,null,null,null,null,null,null,null,null,null,null,"Cost2",{"$f":"ndcost","v":0},0]
[null,null,null,null,null,null,null,null,null,null,null,null,null,null,null,null,null,null,null,null,null,"OutC2",{"$f":"qwohiv","v":28.309677443975772},0]
[]
[]
[]
[]
[null,null,null,null,null,null,null,null,null,null,null,null,null,null,null,null,null,null,null,null,null,null,null,null,null,null,null,null,null,null,null,{"$f":"urndnpsflate","v":1.8409113387751384E-2},"HIV+ infant"]
[]
[null,null,null,null,null,null,null,null,null,null,null,null,null,null,null,null,null,null,null,null,null,null,null,null,null,null,null,null,null,null,null,"Cost1",{"$f":"HIVtestcost+outhivcost+lifecost+ndcost+rcost+npcost+sfcost+cd4test+vltest","v":571915.88247641351},0]
[null,null,null,null,null,null,null,null,null,null,null,null,null,null,null,null,null,null,null,null,null,null,null,null,null,null,null,null,null,null,null,"OutC1",{"$f":"qwhiv","v":6.179983883985118},0]
[null,null,null,null,null,null,null,null,null,null,null,null,null,null,null,null,null,null,null,null,null,null,null,null,null,null,{"$f":"accepturndnpsf","v":0.95},"Accept VTP"]
[]
[null,null,null,null,null,null,{"$f":"(pwhiv/pop)","v":2.4814508608047192E-4},"HIV+ pregnant",null,null,null,null,null,null,null,null,null,null,null,null,null,null,null,null,null,null,"Cost1",{"$f":"($AF$66*$AG$68+$AF$74*$AG$76)","v":38937.373545680734},0]
[null,null,null,null,null,null,null,null,null,null,null,null,null,null,null,null,null,null,null,null,null,null,null,null,null,null,"OutC1",{"$f":"($AF$66*$AG$69+$AF$74*$AG$77)","v":27.902289405993709},0]
[null,null,null,null,null,null,"Cost1",{"$f":"($L$40*$M$42+$L$104*$M$106)","v":22339.031577534861},0,null,null,null,null,null,null,null,null,null,null,null,null,null,null,null,null,null,null,null,null,null,null,{"$f":"1-AF66","v":0.98159088661224858},"HIV- infant"]
[null,null,null,null,null,null,"OutC1",{"$f":"($L$40*$M$43+$L$104*$M$107)","v":27.802080658316424},0]
[null,null,null,null,null,null,null,null,null,null,null,null,null,null,null,null,null,null,null,null,null,null,null,null,null,null,null,null,null,null,null,"Cost2",{"$f":"HIVtestcost+outhivcost+ndcost+rcost+npcost+sfcost+cd4test+vltest","v":28941.70025861164},0]
[null,null,null,null,null,null,null,null,null,null,null,null,null,null,null,null,null,null,null,null,null,null,null,null,null,null,null,null,null,null,null,"OutC2",{"$f":"qwohiv","v":28.309677443975772},0]
[null,null,null,null,null,null,null,null,null,null,null,null,null,null,null,null,null,null,null,null,null,{"$f":"sens","v":1},"HIV+ result"]
[]
[null,null,null,null,null,null,null,null,null,null,null,null,null,null,null,null,null,null,null,null,null,"Cost1",{"$f":"($AA$70*$AB$72+$AA$86*$AB$88)","v":46667.431350170649},0]
[null,null,null,null,null,null,null,null,null,null,null,null,null,null,null,null,null,null,null,null,null,"OutC1",{"$f":"($AA$70*$AB$73+$AA$86*$AB$89)","v":27.534073350975898},0]
[null,null,null,null,null,null,null,null,null,null,null,null,null,null,null,null,null,null,null,null,null,null,null,null,null,null,null,null,null,null,null,{"$f":"newbase","v":0.35118918918918918},"HIV+ infant"]
[]
[null,null,null,null,null,null,null,null,null,null,null,null,null,null,null,null,null,null,null,null,null,null,null,null,null,null,null,null,null,null,null,"Cost1",{"$f":"HIVtestcost+lifecost+ndcost+cd4test","v":545826.04904954787},0]
[null,null,null,null,null,null,null,null,null,null,null,null,null,null,null,null,null,null,null,null,null,null,null,null,null,null,null,null,null,null,null,"OutC1",{"$f":"qwhiv","v":6.179983883985118},0]
[null,null,null,null,null,null,null,null,null,null,null,null,null,null,null,null,null,null,null,null,null,null,null,null,null,null,{"$f":"1-AA70","v":5.0000000000000044E-2},"Reject VTP"]
[]
[null,null,null,null,null,null,null,null,null,null,null,null,null,null,null,null,null,null,null,null,null,null,null,null,null,null,"Cost2",{"$f":"($AF$82*$AG$84+$AF$90*$AG$92)","v":193538.52963547892},0]
[null,null,null,null,null,null,null,null,null,null,null,null,null,null,null,null,null,null,null,null,null,null,null,null,null,null,"OutC2",{"$f":"($AF$82*$AG$85+$AF$90*$AG$93)","v":20.537968305637431},0]
[null,null,null,null,null,null,null,null,null,null,null,null,null,null,null,null,{"$f":"acceptHIV*percentus","v":0.99},"Accept HIV Test",null,null,null,null,null,null,null,null,null,null,null,null,null,{"$f":"1-AF82","v":0.64881081081081082},"HIV- infant"]
[]
[null,null,null,null,null,null,null,null,null,null,null,null,null,null,null,null,"Cost1",{"$f":"($V$78*$W$80+$V$102*$W$104)","v":46667.431350170649},0,null,null,null,null,null,null,null,null,null,null,null,null,"Cost2",{"$f":"HIVtestcost+ndcost+cd4test","v":2851.8668317460319},0]
[null,null,null,null,null,null,null,null,null,null,null,null,null,null,null,null,"OutC1",{"$f":"($V$78*$W$81+$V$102*$W$105)","v":27.534073350975898},0,null,null,null,null,null,null,null,null,null,null,null,null,"OutC2",{"$f":"qwohiv","v":28.309677443975772},0]
[]
[]
[]
[]
[null,null,null,null,null,null,null,null,null,null,null,null,null,null,null,null,null,null,null,null,null,null,null,null,null,null,{"$f":"newbase","v":0.35118918918918918},"HIV+ infant"]
[]
[null,null,null,null,null,null,null,null,null,null,null,null,null,null,null,null,null,null,null,null,null,null,null,null,null,null,"Cost1",{"$f":"reqHIVtestcost+ndcost+lifecost","v":543540.85221780185},0]
[null,null,null,null,null,null,null,null,null,null,null,null,null,null,null,null,null,null,null,null,null,null,null,null,null,null,"OutC1",{"$f":"qwhiv","v":6.179983883985118},0]
[null,null,null,null,null,null,null,null,null,null,null,null,null,null,null,null,null,null,null,null,null,{"$f":"(1-sens)","v":0},"HIV- result"]
[]
[null,null,null,null,null,null,null,null,null,null,null,{"$f":"lateanc","v":4.0000000000000036E-2},"Late ANC",null,null,null,null,null,null,null,null,"Cost2",{"$f":"($AA$98*$AB$100+$AA$106*$AB$108)","v":191253.33280373289},0]
[null,null,null,null,null,null,null,null,null,null,null,null,null,null,null,null,null,null,null,null,null,"OutC2",{"$f":"($AA$98*$AB$101+$AA$106*$AB$109)","v":20.537968305637431},0]
[null,null,null,null,null,null,null,null,null,null,null,"Cost2",{"$f":"($Q$90*$R$92+$Q$118*$R$120)","v":48107.623664706269},0,null,null,null,null,null,null,null,null,null,null,null,null,{"$f":"1-AA98","v":0.64881081081081082},"HIV- infant"]
[null,null,null,null,null,null,null,null,null,null,null,"OutC2",{"$f":"($Q$90*$R$93+$Q$118*$R$121)","v":27.464112300522515},0]
[null,null,null,null,null,null,null,null,null,null,null,null,null,null,null,null,null,null,null,null,null,null,null,null,null,null,"Cost2",{"$f":"reqHIVtestcost+ndcost","v":566.66999999999996},0]
[null,null,null,null,null,null,null,null,null,null,null,null,null,null,null,null,null,null,null,null,null,null,null,null,null,null,"OutC2",{"$f":"qwohiv","v":28.309677443975772},0]
[]
[]
[]
[]
[null,null,null,null,null,null,null,null,null,null,null,null,null,null,null,null,null,null,null,null,null,{"$f":"newbase","v":0.35118918918918918},"HIV+ infant"]
[]
[null,null,null,null,null,null,null,null,null,null,null,null,null,null,null,null,null,null,null,null,null,"Cost1",{"$f":"ndcost+lifecost","v":542974.1822178018},0]
[null,null,null,null,null,null,null,null,null,null,null,null,null,null,null,null,null,null,null,null,null,"OutC1",{"$f":"qwhiv","v":6.179983883985118},0]
[null,null,null,null,null,null,null,null,null,null,null,null,null,null,null,null,{"$f":"1-Q90","v":1.0000000000000009E-2},"Reject HIV Test"]
[]
[null,null,null,null,null,null,null,null,null,null,null,null,null,null,null,null,"Cost2",{"$f":"($V$114*$W$116+$V$122*$W$124)","v":190686.66280373288},0]
[null,null,null,null,null,null,null,null,null,null,null,null,null,null,null,null,"OutC2",{"$f":"($V$114*$W$117+$V$122*$W$125)","v":20.537968305637431},0]
[null,null,null,null,null,null,null,null,null,null,null,null,null,null,null,null,null,null,null,null,null,{"$f":"1-V114","v":0.64881081081081082},"HIV- infant"]
[]
[null,null,null,null,null,null,null,null,null,null,null,null,null,null,null,null,null,null,null,null,null,"Cost2",{"$f":"0+ndcost","v":0},0]
[null,null,null,null,null,null,null,null,null,null,null,null,null,null,null,null,null,null,null,null,null,"OutC2",{"$f":"qwohiv","v":28.309677443975772},0]
[]
[]
[]
[]
[null,null,null,null,null,null,null,null,null,null,null,null,null,null,null,null,null,null,null,null,null,null,null,null,null,null,null,null,null,null,null,{"$f":"phivneg","v":0},"HIV+ infant"]
[]
[null,null,null,null,null,null,null,null,null,null,null,null,null,null,null,null,null,null,null,null,null,null,null,null,null,null,null,null,null,null,null,"Cost1",{"$f":"HIVtestcost+outhivcost+lifecost+ndcost+npcost+cd4test+vltest","v":552559.82171621453},0]
[null,null,null,null,null,null,null,null,null,null,null,null,null,null,null,null,null,null,null,null,null,null,null,null,null,null,null,null,null,null,null,"OutC1",{"$f":"qwhiv","v":6.179983883985118},0]
[null,null,null,null,null,null,null,null,null,null,null,null,null,null,null,null,null,null,null,null,null,null,null,null,null,null,{"$f":"accepturndnpsf","v":0.95},"Accept VTP"]
[]
[null,null,"URNDNPSF",null,null,null,null,null,null,null,null,null,null,null,null,null,null,null,null,null,null,null,null,null,null,null,"Cost1",{"$f":"($AF$130*$AG$132+$AF$138*$AG$140)","v":9585.6394984127},0]
[null,null,null,null,null,null,null,null,null,null,null,null,null,null,null,null,null,null,null,null,null,null,null,null,null,null,"OutC1",{"$f":"($AF$130*$AG$133+$AF$138*$AG$141)","v":28.309677443975772},0]
[null,"Cost1",{"$f":"($G$72*$H$74+$G$200*$H$202)","v":566.40741070159186},null,null,null,null,null,null,null,null,null,null,null,null,null,null,null,null,null,null,null,null,null,null,null,null,null,null,null,null,{"$f":"1-AF130","v":1},"HIV- infant"]
[null,"OutC1",{"$f":"($G$72*$H$75+$G$200*$H$203)","v":28.309551486327702}]
[null,null,null,null,null,null,null,null,null,null,null,null,null,null,null,null,null,null,null,null,null,null,null,null,null,null,null,null,null,null,null,"Cost2",{"$f":"HIVtestcost+outhivcost+ndcost+npcost+cd4test+vltest","v":9585.6394984127},0]
[null,null,null,null,null,null,null,null,null,null,null,null,null,null,null,null,null,null,null,null,null,null,null,null,null,null,null,null,null,null,null,"OutC2",{"$f":"qwohiv","v":28.309677443975772},0]
[null,null,null,null,null,null,null,null,null,null,null,null,null,null,null,null,null,null,null,null,null,{"$f":"1-(spec)","v":0},"HIV+ result"]
[]
[null,null,null,null,null,null,null,null,null,null,null,null,null,null,null,null,null,null,null,null,null,"Cost1",{"$f":"($AA$134*$AB$136+$AA$150*$AB$152)","v":9248.9508650793668},0]
[null,null,null,null,null,null,null,null,null,null,null,null,null,null,null,null,null,null,null,null,null,"OutC1",{"$f":"($AA$134*$AB$137+$AA$150*$AB$153)","v":28.309677443975772},0]
[null,null,null,null,null,null,null,null,null,null,null,null,null,null,null,null,null,null,null,null,null,null,null,null,null,null,null,null,null,null,null,{"$f":"phivneg","v":0},"HIV+ infant"]
[]
[null,null,null,null,null,null,null,null,null,null,null,null,null,null,null,null,null,null,null,null,null,null,null,null,null,null,null,null,null,null,null,"Cost1",{"$f":"HIVtestcost+lifecost+ndcost+cd4test","v":545826.04904954787},0]
[null,null,null,null,null,null,null,null,null,null,null,null,null,null,null,null,null,null,null,null,null,null,null,null,null,null,null,null,null,null,null,"OutC1",{"$f":"qwhiv","v":6.179983883985118},0]
[null,null,null,null,null,null,null,null,null,null,null,null,null,null,null,null,null,null,null,null,null,null,null,null,null,null,{"$f":"1-AA134","v":5.0000000000000044E-2},"Reject VTP"]
[]
[null,null,null,null,null,null,null,null,null,null,null,null,null,null,null,null,null,null,null,null,null,null,null,null,null,null,"Cost2",{"$f":"($AF$146*$AG$148+$AF$154*$AG$156)","v":2851.8668317460319},0]
[null,null,null,null,null,null,null,null,null,null,null,null,null,null,null,null,null,null,null,null,null,null,null,null,null,null,"OutC2",{"$f":"($AF$146*$AG$149+$AF$154*$AG$157)","v":28.309677443975772},0]
[null,null,null,null,null,null,null,null,null,null,null,null,null,null,null,null,{"$f":"acceptHIV*percentus","v":0.99},"Accept HIV Test",null,null,null,null,null,null,null,null,null,null,null,null,null,{"$f":"1-phivneg","v":1},"HIV- infant"]
[]
[null,null,null,null,null,null,null,null,null,null,null,null,null,null,null,null,"Cost1",{"$f":"($V$142*$W$144+$V$166*$W$168)","v":566.66999999999996},0,null,null,null,null,null,null,null,null,null,null,null,null,"Cost2",{"$f":"HIVtestcost+ndcost+cd4test","v":2851.8668317460319},0]
[null,null,null,null,null,null,null,null,null,null,null,null,null,null,null,null,"OutC1",{"$f":"($V$142*$W$145+$V$166*$W$169)","v":28.309677443975772},0,null,null,null,null,null,null,null,null,null,null,null,null,"OutC2",{"$f":"qwohiv","v":28.309677443975772},0]
[]
[]
[]
[]
[null,null,null,null,null,null,null,null,null,null,null,null,null,null,null,null,null,null,null,null,null,null,null,null,null,null,{"$f":"phivneg","v":0},"HIV+ infant"]
[]
[null,null,null,null,null,null,null,null,null,null,null,null,null,null,null,null,null,null,null,null,null,null,null,null,null,null,"Cost1",{"$f":"reqHIVtestcost+ndcost+lifecost","v":543540.85221780185},0]
[null,null,null,null,null,null,null,null,null,null,null,null,null,null,null,null,null,null,null,null,null,null,null,null,null,null,"OutC1",{"$f":"qwhiv","v":6.179983883985118},0]
[null,null,null,null,null,null,null,null,null,null,null,null,null,null,null,null,null,null,null,null,null,{"$f":"spec","v":1},"HIV- result"]
[]
[null,null,null,null,null,null,null,null,null,null,null,{"$f":"earlyanc","v":0.96},"Early ANC",null,null,null,null,null,null,null,null,"Cost2",{"$f":"($AA$162*$AB$164+$AA$170*$AB$172)","v":566.66999999999996},0]
[null,null,null,null,null,null,null,null,null,null,null,null,null,null,null,null,null,null,null,null,null,"OutC2",{"$f":"($AA$162*$AB$165+$AA$170*$AB$173)","v":28.309677443975772},0]
[null,null,null,null,null,null,null,null,null,null,null,"Cost1",{"$f":"($Q$154*$R$156+$Q$182*$R$184)","v":561.00329999999997},0,null,null,null,null,null,null,null,null,null,null,null,null,{"$f":"1-phivneg","v":1},"HIV- infant"]
[null,null,null,null,null,null,null,null,null,null,null,"OutC1",{"$f":"($Q$154*$R$157+$Q$182*$R$185)","v":28.309677443975772},0]
[null,null,null,null,null,null,null,null,null,null,null,null,null,null,null,null,null,null,null,null,null,null,null,null,null,null,"Cost2",{"$f":"reqHIVtestcost+ndcost","v":566.66999999999996},0]
[null,null,null,null,null,null,null,null,null,null,null,null,null,null,null,null,null,null,null,null,null,null,null,null,null,null,"OutC2",{"$f":"qwohiv","v":28.309677443975772},0]
[]
[]
[]
[]
[null,null,null,null,null,null,null,null,null,null,null,null,null,null,null,null,null,null,null,null,null,{"$f":"phivneg","v":0},"HIV+ infant"]
[]
[null,null,null,null,null,null,null,null,null,null,null,null,null,null,null,null,null,null,null,null,null,"Cost1",{"$f":"ndcost+lifecost","v":542974.1822178018},0]
[null,null,null,null,null,null,null,null,null,null,null,null,null,null,null,null,null,null,null,null,null,"OutC1",{"$f":"qwhiv","v":6.179983883985118},0]
[null,null,null,null,null,null,null,null,null,null,null,null,null,null,null,null,{"$f":"1-Q154","v":1.0000000000000009E-2},"Reject HIV Test"]
[]
[null,null,null,null,null,null,null,null,null,null,null,null,null,null,null,null,"Cost2",{"$f":"($V$178*$W$180+$V$186*$W$188)","v":0},0]
[null,null,null,null,null,null,null,null,null,null,null,null,null,null,null,null,"OutC2",{"$f":"($V$178*$W$181+$V$186*$W$189)","v":28.309677443975772},0]
[null,null,null,null,null,null,null,null,null,null,null,null,null,null,null,null,null,null,null,null,null,{"$f":"1-phivneg","v":1},"HIV- infant"]
[]
[null,null,null,null,null,null,null,null,null,null,null,null,null,null,null,null,null,null,null,null,null,"Cost2",{"$f":"0+ndcost","v":0},0]
[null,null,null,null,null,null,null,null,null,null,null,null,null,null,null,null,null,null,null,null,null,"OutC2",{"$f":"qwohiv","v":28.309677443975772},0]
[]
[]
[]
[]
[null,null,null,null,null,null,null,null,null,null,null,null,null,null,null,null,null,null,null,null,null,null,null,null,null,null,null,null,null,null,null,{"$f":"phivneg","v":0},"HIV+ infant"]
[]
[null,null,null,null,null,null,null,null,null,null,null,null,null,null,null,null,null,null,null,null,null,null,null,null,null,null,null,null,null,null,null,"Cost1",{"$f":"HIVtestcost+outhivcost+lifecost+ndcost+rcost+npcost+sfcost+cd4test+vltest","v":571915.88247641351},0]
[null,null,null,null,null,null,null,null,null,null,null,null,null,null,null,null,null,null,null,null,null,null,null,null,null,null,null,null,null,null,null,"OutC1",{"$f":"qwhiv","v":6.179983883985118},0]
[null,null,null,null,null,null,null,null,null,null,null,null,null,null,null,null,null,null,null,null,null,null,null,null,null,null,{"$f":"accepturndnpsf","v":0.95},"Accept VTP"]
[]
[null,null,null,null,null,null,{"$f":"1-(pwhiv/pop)","v":0.99975185491391949},"HIV- pregnant",null,null,null,null,null,null,null,null,null,null,null,null,null,null,null,null,null,null,"Cost1",{"$f":"($AF$194*$AG$196+$AF$202*$AG$204)","v":28941.70025861164},0]
[null,null,null,null,null,null,null,null,null,null,null,null,null,null,null,null,null,null,null,null,null,null,null,null,null,null,"OutC1",{"$f":"($AF$194*$AG$197+$AF$202*$AG$205)","v":28.309677443975772},0]
[null,null,null,null,null,null,"Cost2",{"$f":"($L$168*$M$170+$L$232*$M$234)","v":561.00329999999997},0,null,null,null,null,null,null,null,null,null,null,null,null,null,null,null,null,null,null,null,null,null,null,{"$f":"1-AF194","v":1},"HIV- infant"]
[null,null,null,null,null,null,"OutC2",{"$f":"($L$168*$M$171+$L$232*$M$235)","v":28.309677443975772},0]
[null,null,null,null,null,null,null,null,null,null,null,null,null,null,null,null,null,null,null,null,null,null,null,null,null,null,null,null,null,null,null,"Cost2",{"$f":"HIVtestcost+outhivcost+ndcost+rcost+npcost+sfcost+cd4test+vltest","v":28941.70025861164},0]
[null,null,null,null,null,null,null,null,null,null,null,null,null,null,null,null,null,null,null,null,null,null,null,null,null,null,null,null,null,null,null,"OutC2",{"$f":"qwohiv","v":28.309677443975772},0]
[null,null,null,null,null,null,null,null,null,null,null,null,null,null,null,null,null,null,null,null,null,{"$f":"1-spec","v":0},"HIV+ result"]
[]
[null,null,null,null,null,null,null,null,null,null,null,null,null,null,null,null,null,null,null,null,null,"Cost1",{"$f":"($AA$198*$AB$200+$AA$214*$AB$216)","v":27637.208587268356},0]
[null,null,null,null,null,null,null,null,null,null,null,null,null,null,null,null,null,null,null,null,null,"OutC1",{"$f":"($AA$198*$AB$201+$AA$214*$AB$217)","v":28.309677443975772},0]
[null,null,null,null,null,null,null,null,null,null,null,null,null,null,null,null,null,null,null,null,null,null,null,null,null,null,null,null,null,null,null,{"$f":"phivneg","v":0},"HIV+ infant"]
[]
[null,null,null,null,null,null,null,null,null,null,null,null,null,null,null,null,null,null,null,null,null,null,null,null,null,null,null,null,null,null,null,"Cost1",{"$f":"HIVtestcost+lifecost+ndcost+cd4test","v":545826.04904954787},0]
[null,null,null,null,null,null,null,null,null,null,null,null,null,null,null,null,null,null,null,null,null,null,null,null,null,null,null,null,null,null,null,"OutC1",{"$f":"qwhiv","v":6.179983883985118},0]
[null,null,null,null,null,null,null,null,null,null,null,null,null,null,null,null,null,null,null,null,null,null,null,null,null,null,{"$f":"1-AA198","v":5.0000000000000044E-2},"Reject VTP"]
[]
[null,null,null,null,null,null,null,null,null,null,null,null,null,null,null,null,null,null,null,null,null,null,null,null,null,null,"Cost2",{"$f":"($AF$210*$AG$212+$AF$218*$AG$220)","v":2851.8668317460319},0]
[null,null,null,null,null,null,null,null,null,null,null,null,null,null,null,null,null,null,null,null,null,null,null,null,null,null,"OutC2",{"$f":"($AF$210*$AG$213+$AF$218*$AG$221)","v":28.309677443975772},0]
[null,null,null,null,null,null,null,null,null,null,null,null,null,null,null,null,{"$f":"acceptHIV*percentus","v":0.99},"Accept HIV Test",null,null,null,null,null,null,null,null,null,null,null,null,null,{"$f":"1-phivneg","v":1},"HIV- infant"]
[]
[null,null,null,null,null,null,null,null,null,null,null,null,null,null,null,null,"Cost1",{"$f":"($V$206*$W$208+$V$230*$W$232)","v":566.66999999999996},0,null,null,null,null,null,null,null,null,null,null,null,null,"Cost2",{"$f":"HIVtestcost+ndcost+cd4test","v":2851.8668317460319},0]
[null,null,null,null,null,null,null,null,null,null,null,null,null,null,null,null,"OutC1",{"$f":"($V$206*$W$209+$V$230*$W$233)","v":28.309677443975772},0,null,null,null,null,null,null,null,null,null,null,null,null,"OutC2",{"$f":"qwohiv","v":28.309677443975772},0]
[]
[]
[]
[]
[null,null,null,null,null,null,null,null,null,null,null,null,null,null,null,null,null,null,null,null,null,null,null,null,null,null,{"$f":"phivneg","v":0},"HIV+ infant"]
[]
[null,null,null,null,null,null,null,null,null,null,null,null,null,null,null,null,null,null,null,null,null,null,null,null,null,null,"Cost1",{"$f":"reqHIVtestcost+ndcost+lifecost","v":543540.85221780185},0]
[null,null,null,null,null,null,null,null,null,null,null,null,null,null,null,null,null,null,null,null,null,null,null,null,null,null,"OutC1",{"$f":"qwhiv","v":6.179983883985118},0]
[null,null,null,null,null,null,null,null,null,null,null,null,null,null,null,null,null,null,null,null,null,{"$f":"spec","v":1},"HIV- result"]
[]
[null,null,null,null,null,null,null,null,null,null,null,{"$f":"lateanc","v":4.0000000000000036E-2},"Late ANC",null,null,null,null,null,null,null,null,"Cost2",{"$f":"($AA$226*$AB$228+$AA$234*$AB$236)","v":566.66999999999996},0]
[null,null,null,null,null,null,null,null,null,null,null,null,null,null,null,null,null,null,null,null,null,"OutC2",{"$f":"($AA$226*$AB$229+$AA$234*$AB$237)","v":28.309677443975772},0]
[null,null,null,null,null,null,null,null,null,null,null,"Cost2",{"$f":"($Q$218*$R$220+$Q$246*$R$248)","v":561.00329999999997},0,null,null,null,null,null,null,null,null,null,null,null,null,{"$f":"1-phivneg","v":1},"HIV- infant"]
[null,null,null,null,null,null,null,null,null,null,null,"OutC2",{"$f":"($Q$218*$R$221+$Q$246*$R$249)","v":28.309677443975772},0]
[null,null,null,null,null,null,null,null,null,null,null,null,null,null,null,null,null,null,null,null,null,null,null,null,null,null,"Cost2",{"$f":"reqHIVtestcost+ndcost","v":566.66999999999996},0]
[null,null,null,null,null,null,null,null,null,null,null,null,null,null,null,null,null,null,null,null,null,null,null,null,null,null,"OutC2",{"$f":"qwohiv","v":28.309677443975772},0]
[]
[]
[]
[]
[null,null,null,null,null,null,null,null,null,null,null,null,null,null,null,null,null,null,null,null,null,{"$f":"phivneg","v":0},"HIV+ infant"]
[]
[null,null,null,null,null,null,null,null,null,null,null,null,null,null,null,null,null,null,null,null,null,"Cost1",{"$f":"ndcost+lifecost","v":542974.1822178018},0]
[null,null,null,null,null,null,null,null,null,null,null,null,null,null,null,null,null,null,null,null,null,"OutC1",{"$f":"qwhiv","v":6.179983883985118},0]
[null,null,null,null,null,null,null,null,null,null,null,null,null,null,null,null,{"$f":"1-Q218","v":1.0000000000000009E-2},"Reject HIV Test"]
[]
[null,null,null,null,null,null,null,null,null,null,null,null,null,null,null,null,"Cost2",{"$f":"($V$242*$W$244+$V$250*$W$252)","v":0},0]
[null,null,null,null,null,null,null,null,null,null,null,null,null,null,null,null,"OutC2",{"$f":"($V$242*$W$245+$V$250*$W$253)","v":28.309677443975772},0]
[null,null,null,null,null,null,null,null,null,null,null,null,null,null,null,null,null,null,null,null,null,{"$f":"1-phivneg","v":1},"HIV- infant"]
[]
[null,null,null,null,null,null,null,null,null,null,null,null,null,null,null,null,null,null,null,null,null,"Cost2",{"$f":"+ndcost","v":0},0]
[null,null,null,null,null,null,null,null,null,null,null,null,null,null,null,null,null,null,null,null,null,"OutC2",{"$f":"qwohiv","v":28.309677443975772},0]