Workbook

Sheet Coding Manual
A2: Study Characteristics
A3: Author(s) | C3: Insert author names as listed in Vancouver citation (e.g. Moltrecht B, Patalay P, Deighton J, Edbrooke-Childs J.)
A4: Publication Year | C4: Year this study was published (e.g. 2021)
A5: Title | C5: Full title of this paper
A6: Region, and Country | C6: Country and region this study was conducted (e.g. Berlin, Germany)
A7: Aims and Objectives | C7: List the aims of this paper. These are typically included at the end of the introduction, before the methodology.
A8: Study Design | C8: List the study design (e.g. Randomised Controlled Trial, Feasibility Study)
A9: Instrument and criteria used for mental health diagnosis (if any) | C9: What measure (s) were used to capture mental health diagnosis, or symptoms of mental health problems (e.g. PHQ-9)
A10: Instrument and criteria used to assess emotion (dys-)regulation | C10: What measure (s) were used to capture emotion dysregulation? (e.g. RSS). For a full list of validated measures, see those in: Adrian M, Zeman J, Erdley C, Lisa L, Sim L. Emotional dysregulation and interpersonal difficulties as risk factors for nonsuicidal self-injury in adolescent girls. Journal of abnormal child psychology. 2011 Apr;39:389-400.
A12: Participant Characteristics
A13: Mean age of participants (years) | C13: Please provide the mean age of participants in this study in years (e.g. 11.6 years)
A14: Range of ages of participants (years) | C14: Please provide the range of ages of participants in this study, if provided (e.g. 11-16 years)
A15: Gender of Participants (%) | C15: What was the % of male and female participants in this study? (e.g. 22% male, 78% female)
A16: Ethnicity of Participants (%) | C16: What was the ethnicity of the participants in this study (e.g. 65% White British, 23% White Other, 12%. Black Caribbean …)
A17: Mental Health Diagnoses | C17: Did the participants in this study have to be diagnosed with a mental health problem to take part? (Y/N)
A18: If yes, what mental health conditions were they? | C18: What mental health conditions were the participants in this study diagnosed with (e.g. depression)
A19: Sample Size | C19: What was the total sample size for this study? (e.g. n = 234)
A21: Intervention Characteristics
A22: Name | C22: Name of the intervention, and any abbreviations used (e.g. Eda - Emotion Dysregulation App)
A23: Focus | C23: What is the focus of the intervention (e.g. Promotion of well-being, prevention of anxiety, treatment for social anxiety etc.)
A24: Device | C24: What device(s) was the intervention delivered on (e.g. Mobile phone - app-based intervention)
A25: Setting | C25: Where did young people use the intervention (e.g. In school, in PSHE lessons)
A26: Duration | C26: How long did the participants have to complete the intervention? Were there regular sessions, or was it used when needed? (e.g. 6 weeks, sessions for 30 minutes once a week; offered for 3 months, used when needed)
A27: Adherence to the Intervention | C27: Was adherence to the intervention monitored somehow? (Y/N)
A28: If yes, how was this monitored? | C28: How was adherence monitored (e.g. in-app technologies, young people completed in classroom)?
A29: Is this intervention novel? | C29: Has this intervention been tested before in another study? (Y/N)
A30: If yes, how was this tested? | C30: Please provide the reference of the previous stud(is) and any detail on how this intervention was tested
A31: Intervention Development | C31: How was this intervention developed? Was it co-produced? Was is adapted from a similar intervention for adults? Is it an additional component to an existing intervention (e.g. CBT)?
A32: Emotion (dys)regulation component | C32: Describe how the intervention targets emotion dysregulation? (e.g. mood monitoring, targets specific strategies - cognitive reappraisal)
A33: Psychopathology component | C33: Describe how the intervention targets psychopathology (if at all) (e.g. CBT strategies for anxiety)
A35: Intervention Outcomes
A36: Emotion Dysregulation | C36: Emotion dysregulation as an outcome
A37: N | C37: Sample size with data on change in emotion dysregulation
A38: Effect | C38: Overall effect size for the change in emotion dysregulation
A39: Psychopathology | C39: Psychopathology as an outcome (if present)
A40: N | C40: Sample size with data on change in psychopathology
A41: Effect | C41: Overall effect size for the change in psychopathology
A42: Additional Outcomes (e.g. academic achievement) | C42: Any additional outcomes (e.g. functioning)?
A43: N | C43: Sample size with data on additional outcomes (e.g. functioning)
A44: Effect | C44: Overall effect size for additional outcomes (e.g. functioning)
A48: Quality Assessment
A49: A) Selection bias
A50: Q1. Are the individuals selected to participate in the study likely to be representative of the target population? | C50: 1: very likely, 2: somewhat likely, 3: not likely, 4: can't tell
A51: Q2. What percentage of selected individuals agreed to participate? | C51: 1: 80-100% agreement, 2: 60-79% agreement, 3: less than 60% agreement, 4: Not applicable, 5: Can't tell
A52: Overall Rating | C52: 1: Strong, 2: Moderate, 3: Weak
A53: B) Study Design
A54: Indicate the Study Design | C54: 1: Randomised Controlled Trial, 2: Controlled Clinical Trial, 3: Cohort analytic (two group pre+post), 4: Case-control, 5: Cohort (one group pre+post), 6: Interrupted time series, 7: Other specify, 8: Can't tell
A55: Was the study described as randomised (if NO go to C) | C55: Y/N
A56: If YES, was the method of randomisation described? | C56: Y/N
A57: If YES, was this method appropriate? | C57: Y/N
A58: Overall Rating | C58: 1: Strong, 2: Moderate, 3: Weak
A59: C) Confounders
A60: Q1. Were there important differences between the groups prior to the intervention? | C60: 1: Yes, 2: No. 3: Can't tell (Examples of confounders include, race, sex, marital status/family, age, SES, education, health status, pre-intervention score on outcome measure)
A61: Q2. If YES, indicate the percentage of relevant confounders that were controlled (either in the design (e.g. stratification, matching) or analysis)? | C61: 1: 80-100% (most), 2: 60-79% (some), 3: less than 60% (few or none), 4: Can't tell
A62: Overall Rating | C62: 1: Strong, 2: Moderate, 3: Weak
A63: D) Blinding
A64: Q1. Was (were) the outcome assessor(s) aware of the intervention or exposure status of participants? | C64: 1: Yes, 2: No. 3: Can't tell
A65: Q2. Were the study participants aware of the research question? | C65: 1: Yes, 2: No. 3: Can't tell
A66: Overall Rating | C66: 1: Strong, 2: Moderate, 3: Weak
A67: E) Data Collection Methods
A68: Q1. Were the data collection tools shown to be valid? | C68: 1: Yes, 2: No. 3: Can't tell
A69: Q2. Were the data collection tools shown to be reliable? | C69: 1: Yes, 2: No. 3: Can't tell
A70: Overall Rating | C70: 1: Strong, 2: Moderate, 3: Weak
A71: F) Withdrawals and Drop-outs
A72: Q1. Were withdrawals and drop-outs reported in terms of numbers and/or reasons per group? | C72: 1: Yes, 2: No. 3: Can't tell 4: Not applicable (i.e. one time surveys or interviews)
A73: Q2. Indicate the percentage of participants completing the study. (If the percentage differs by groups, record the lowest). | C73: 1: 80-100% (most), 2: 60-79% (some), 3: less than 60% (few or none), 4: Can't tell, 5: Not applicable (i.e. retrospective case control)
A74: Overall Rating | C74: 1: Strong, 2: Moderate, 3: Weak 4: Not applicable
A75: G) Intervention Integrity
A76: Q1. What percentage of participants receied the allocated intervention or exposure of interest? | C76: 1: 80-100% (most), 2: 60-79% (some), 3: less than 60% (few or none), 4: Can't tell
A77: Q2. Was the consistency of the intervention measured? | C77: 1: Yes, 2: No. 3: Can't tell
A78: Q3. Is it likely that subjects received an unintended intervention (contamination or co-intervention) that may influence the results? | C78: 1: Yes, 2: No. 3: Can't tell
A79: H) Analyses
A80: Q1. Indicate the unit of allocation | C80: Community, Organisation/Institution, Practice/Office, Individual
A81: Q2. Indicate the unit of analysis | C81: Community, Organisation/Institution, Practice/Office, Individual
A82: Q3. Are the statistical methods appropriate for the study design? | C82: 1: Yes, 2: No. 3: Can't tell
A83: Q4. Is the analysis performed by intervention allocation status (i.e. intention to treat) rather than the actual intervention received? | C83: 1: Yes, 2: No. 3: Can't tell
A85: Global Rating for the Paper | C85: Write total rating for the paper here
A86: 1 = Strong (no WEAK ratings)
A87: 2 = Moderate (one WEAK rating)
A88: 3 = Weak (two or more weak ratings)

Sheet Summary of Papers
A1: Article Title: Self-Directed Digital Interventions for the Improvement of Emotion Regulation – Effectiveness for Mental Health and Functioning in Adolescents: A Systematic Review Journal: European Child & Adolescent Psychiatry Authors: Abigail C. Thomson*(1), Erin G. Lawrence(1), Bonamy R Oliver (2), Ben Wright (3, 4, 5, 6) & Georgina M. Hosang (1). Author affiliations and addresses: 1 Centre for Psychiatry and Mental Health, Wolfson Institute of Population Health, Queen Mary, University of London, London, UK 2 UCL Institute of Education, University College London, London, UK 3 East London NHS Foundation Trust, London, UK 4 City, University of London, London, UK 5 Queen Mary, University of London, London, UK 6 NOVA Medical School, Lisbon, Portugal *Corresponding author: Abigail Thomson, Centre for Psychiatry and Mental Health, Wolfson Institute of Population Health, Queen Mary, University of London, Email: a.c.thomson@qmul.ac.uk | C1: Study One: [Hilt LM, Swords CM. Acceptability and preliminary effects of a mindfulness mobile application for ruminative adolescents. Behavior Therapy. 2021 Nov 1;52(6):1339-50.] | Z1: Study Two: [Hilt LM, Swords CM, Webb CA. Randomized controlled trial of a mindfulness mobile application for ruminative adolescents. Journal of Clinical Child & Adolescent Psychology. 2023 Jan 6:1-4.] | AW1: Study Three: [Houck C, Modrowski C, Hadley W, Barker D, Myers V, Bala K, Wickham B, Jerrod T. A Pilot Study of a Tablet-Based Emotion Regulation Intervention for Early Adolescents. Journal of developmental and behavioral pediatrics: JDBP. 2022 Oct;43(8):e505.] | BT1: Study Four: [Mrazek AJ, Mrazek MD, Reese JV, Kirk AC, Gougis LJ, Delegard AM, Cynman DJ, Cherolini CM, Carr PC, Schooler JW. Mindfulness-based attention training: Feasibility and preliminary outcomes of a digital course for high school students. Education Sciences. 2019 Aug 31;9(3):230.] | CQ1: Study Five: [Schnitker SA, Shubert J, Ratchford JL, Lumpkin M, Houltberg BJ. Mixed results on the efficacy of the CharacterMe smartphone app to improve self-control, patience, and emotional regulation competencies in adolescents. Frontiers in Psychology. 2021 May 20;12:586713.]
A5: Study Characteristics
A6: Author(s) | C6: =VLOOKUP(A6,'Study One'!A:AH,3,FALSE) -> Hilt, M., Swords, C. | Z6: =VLOOKUP(A6,'Study Two'!A:AH,3,FALSE) -> Hilt, M., Swords, C. & Webb, C. | AW6: =VLOOKUP(A6,'Study Three'!A:AH,3,FALSE) -> Houck C, Modrowski C, Hadley W, Barker D, Myers V, Bala K, Wickham B, Jerrod T. | BT6: =VLOOKUP(A6,'Study Four'!A:AH,3,FALSE) -> Mrazek AJ, Mrazek MD, Reese JV, Kirk AC, Gougis LJ, Delegard AM, Cynman DJ, Cherolini CM, Carr PC, Schooler JW. | CQ6: =VLOOKUP(A6,'Study Five'!A:AH,3,FALSE) -> Schnitker SA, Shubert J, Ratchford JL, Lumpkin M, Houltberg BJ.
A7: Publication Year | C7: =VLOOKUP(A7,'Study One'!A:AH,3,FALSE) -> 2021 | Z7: =VLOOKUP(A7,'Study Two'!A:AH,3,FALSE) -> 2023 | AW7: =VLOOKUP(A7,'Study Three'!A:AH,3,FALSE) -> 2022 | BT7: =VLOOKUP(A7,'Study Four'!A:AH,3,FALSE) -> 2019 | CQ7: =VLOOKUP(A7,'Study Five'!A:AH,3,FALSE) -> 2021
A8: Title | C8: =VLOOKUP(A8,'Study One'!A:AH,3,FALSE) -> Acceptability and Preliminary Effects of a Mindfulness Mobile Application for Ruminative Adolescents | Z8: =VLOOKUP(A8,'Study Two'!A:AH,3,FALSE) -> Randomized Controlled Trial of a Mindfulness Mobile Application for Ruminative Adolescents | AW8: =VLOOKUP(A8,'Study Three'!A:AH,3,FALSE) -> A Pilot Study of a Tablet-Based Emotion Regulation Intervention for Early Adolescents. | BT8: =VLOOKUP(A8,'Study Four'!A:AH,3,FALSE) -> Mindfulness-based attention training: Feasibility and preliminary outcomes of a digital course for high school students. | CQ8: =VLOOKUP(A8,'Study Five'!A:AH,3,FALSE) -> Mixed results on the efficacy of the CharacterMe smartphone app to improve self-control, patience, and emotional regulation competencies in adolescents
A9: Region, and Country | C9: =VLOOKUP(A9,'Study One'!A:AH,3,FALSE) -> Wisconsin, USA | Z9: =VLOOKUP(A9,'Study Two'!A:AH,3,FALSE) -> Wisconsin, USA | AW9: =VLOOKUP(A9,'Study Three'!A:AH,3,FALSE) -> Northeast Region, USA | BT9: =VLOOKUP(A9,'Study Four'!A:AH,3,FALSE) -> California, USA | CQ9: =VLOOKUP(A9,'Study Five'!A:AH,3,FALSE) -> Los Angeles, CA, USA
A10: Aims and Objectives | C10: =VLOOKUP(A10,'Study One'!A:AH,3,FALSE) -> This study aimed to determine both the acceptability and initial effects of a brief intervention (mindfulness mobile app) for ruminative adolescents, to reduce both repetitive negative thinking and internalising symptoms. | Z10: =VLOOKUP(A10,'Study Two'!A:AH,3,FALSE) -> This study aimed to to answer the question of whether the CARE app, which involves both mood monitoring and mindfulness, would uniquely reduce rumination, depression and anxiety, compared to a mood-monitoring only version of the app. | AW10: =VLOOKUP(A10,'Study Three'!A:AH,3,FALSE) -> The purpose of this study was to examine whether adolescents who completed the tablet-based iTRAC intervention, relative to adolescents assigned to a wait-list comparison, demonstrated differences in similar, yet distinct, constructs associated with ER abilities including emotional awareness, intentions to use ER strategies, the use of ER strategies, and other indicators implicated in ER processes, such as beliefs about emotions and emotional self-efficacy. | BT10: =VLOOKUP(A10,'Study Four'!A:AH,3,FALSE) -> The primary research question (RQ1) of the present research was whether a digital mindfulness course designed specifically for implementation in high schools could be feasibly delivered in a school setting. Although the intervention is still under active development, the secondary research question (RQ2) was whether the intervention would have beneficial outcomes for students. | CQ10: =VLOOKUP(A10,'Study Five'!A:AH,3,FALSE) -> Sought to examine the effectiveness of the CharacterMe intervention across a 6-month period.
A11: Study Design | C11: =VLOOKUP(A11,'Study One'!A:AH,3,FALSE) -> Within-subjects design - pre, post and follow-up assessments | Z11: =VLOOKUP(A11,'Study Two'!A:AH,3,FALSE) -> Small Randomised Controlled Trial | AW11: =VLOOKUP(A11,'Study Three'!A:AH,3,FALSE) -> Small randomised controlled trial | BT11: =VLOOKUP(A11,'Study Four'!A:AH,3,FALSE) -> Feasability study using one-group pre–post design. | CQ11: =VLOOKUP(A11,'Study Five'!A:AH,3,FALSE) -> Feasability study - within subjects pre-test, post-test
A12: Instrument and criteria used for mental health diagnosis (if any) | C12: =VLOOKUP(A12,'Study One'!A:AH,3,FALSE) -> Adolescent report (Children's Depression Inventory; Mulidimensional Anxiety Scale for Children); Parent report (Pediatric Symptom Checklist) | Z12: =VLOOKUP(A12,'Study Two'!A:AH,3,FALSE) -> Adolescent report (Children's Depression Inventory; Mulidimensional Anxiety Scale for Children); Parent report (Pediatric Symptom Checklist) | AW12: =VLOOKUP(A12,'Study Three'!A:AH,3,FALSE) -> N/A | BT12: =VLOOKUP(A12,'Study Four'!A:AH,3,FALSE) -> N/A | CQ12: =VLOOKUP(A12,'Study Five'!A:AH,3,FALSE) -> N/A
A13: Instrument and criteria used to assess emotion (dys-)regulation | C13: =VLOOKUP(A13,'Study One'!A:AH,3,FALSE) -> Children's Response Styles Questionnaire - Rumination | Z13: =VLOOKUP(A13,'Study Two'!A:AH,3,FALSE) -> Children's Response Styles Questionnaire - Rumination | AW13: =VLOOKUP(A13,'Study Three'!A:AH,3,FALSE) -> Adolescent report (The Emotion Regulation Behaviors Scale—Revised; Four subscales of the Difficulties in Emotion Regulation Scale; Affect Dysregulation Scale); Parent report (Adolescent Self-Regulatory Inventory; The Emotion Regulation Checklist) | BT13: =VLOOKUP(A13,'Study Four'!A:AH,3,FALSE) -> The Emotion Regulation Questionnaire for Children and Adolescents (ERQ-CA) | CQ13: =VLOOKUP(A13,'Study Five'!A:AH,3,FALSE) -> Children’s Emotion Management Scales
A15: Participant Characteristics
A16: Mean age of participants (years) | C16: =VLOOKUP(A16,'Study One'!A:AH,3,FALSE) -> 14.01 | Z16: =VLOOKUP(A16,'Study Two'!A:AH,3,FALSE) -> 13.71 | AW16: =VLOOKUP(A16,'Study Three'!A:AH,3,FALSE) -> No data provided | BT16: =VLOOKUP(A16,'Study Four'!A:AH,3,FALSE) -> There were 114 freshmen, five sophomores, four juniors, and 65 seniors | CQ16: =VLOOKUP(A16,'Study Five'!A:AH,3,FALSE) -> 16.07
A17: Range of ages of participants (years) | C17: =VLOOKUP(A17,'Study One'!A:AH,3,FALSE) -> 12-15 | Z17: =VLOOKUP(A17,'Study Two'!A:AH,3,FALSE) -> 12-15 | AW17: =VLOOKUP(A17,'Study Three'!A:AH,3,FALSE) -> 12 (34%), 13 (62%) and 14 (5%) | BT17: =VLOOKUP(A17,'Study Four'!A:AH,3,FALSE) -> Grades 10-12 | CQ17: =VLOOKUP(A17,'Study Five'!A:AH,3,FALSE) -> 15-19
A18: Gender of Participants (%) | C18: =VLOOKUP(A18,'Study One'!A:AH,3,FALSE) -> 53.8% M; 45% F; 1.2% Prefer not to say | Z18: =VLOOKUP(A18,'Study Two'!A:AH,3,FALSE) -> 58.55% female, 41.45.% male | AW18: =VLOOKUP(A18,'Study Three'!A:AH,3,FALSE) -> 56% F; 44% M | BT18: =VLOOKUP(A18,'Study Four'!A:AH,3,FALSE) -> Participants were asked what gender they identified with, and 106 said male, 78 said female, one said nonbinary, and three preferred not to say | CQ18: =VLOOKUP(A18,'Study Five'!A:AH,3,FALSE) -> 56.6% female; 43.4% male
A19: Ethnicity of Participants (%) | C19: =VLOOKUP(A19,'Study One'!A:AH,3,FALSE) -> 86.25% White, 2.5% Native American, 1.25% Black, 1.25% multiracial, and 8.75 % chose not to answer; 93.75% non-Hispanic, 3.75% Hispanic, and 2.5% chose not to answer. | Z19: =VLOOKUP(A19,'Study Two'!A:AH,3,FALSE) -> 82.24% White, 10.53% Multiracial, 3.29% Black or African American, 1.97% Asian or Asian American, 1.32% other, and .66% Native Hawaiian or Pacific Islander; 89.47% non-Hispanic and 10.53% Hispanic. | AW19: =VLOOKUP(A19,'Study Three'!A:AH,3,FALSE) -> 40% Black, 33% White, 10% multiracial, 4% other categories, and 14% did not respond; 30% endorsed Latino ethnicity | BT19: =VLOOKUP(A19,'Study Four'!A:AH,3,FALSE) -> The number of students identifying with specific races was as follows: African American/Black—3 students; Asian—94; Caucasian—71; American Indian/Alaskan Native—2; Native Hawaiian or Other Pacific Islander—1; Mix of two or more races—17. Six students identified as Hispanic. | CQ19: =VLOOKUP(A19,'Study Five'!A:AH,3,FALSE) -> 41.1% Asian, 29.5% Latinx, 12.9% White, 11.5% other, and 5.0% African American.
A20: Mental Health Diagnoses | C20: =VLOOKUP(A20,'Study One'!A:AH,3,FALSE) -> No | Z20: =VLOOKUP(A20,'Study Two'!A:AH,3,FALSE) -> No | AW20: =VLOOKUP(A20,'Study Three'!A:AH,3,FALSE) -> N | BT20: =VLOOKUP(A20,'Study Four'!A:AH,3,FALSE) -> N | CQ20: =VLOOKUP(A20,'Study Five'!A:AH,3,FALSE) -> N
A21: If yes, what mental health conditions were they? | C21: =VLOOKUP(A21,'Study One'!A:AH,3,FALSE) -> N/A | Z21: =VLOOKUP(A21,'Study Two'!A:AH,3,FALSE) -> N/A | AW21: =VLOOKUP(A21,'Study Three'!A:AH,3,FALSE) -> N/A | BT21: =VLOOKUP(A21,'Study Four'!A:AH,3,FALSE) -> N/A | CQ21: =VLOOKUP(A21,'Study Five'!A:AH,3,FALSE) -> N/A
A22: Sample Size | C22: =VLOOKUP(A22,'Study One'!A:AH,3,FALSE) -> 80 enrolled; 72 post; 65 6 wk FU; 57 12 wk FU | Z22: =VLOOKUP(A22,'Study Two'!A:AH,3,FALSE) -> 152 randomised (72 active; 80 control); 152 post (72 active; 80 control); 150 6 wk FU (70 active; 80 control); 145 12 wk FU (69 active; 76 control); 136 6mo FU (64 active; 72 control) | AW22: =VLOOKUP(A22,'Study Three'!A:AH,3,FALSE) -> 85 enrolled (42 intervention, 43 control); 80 completed follow-up (40 per group) | BT22: =VLOOKUP(A22,'Study Four'!A:AH,3,FALSE) -> n=346 - 317 completed pre-test, 214 completed post-test, final sample 190 students | CQ22: =VLOOKUP(A22,'Study Five'!A:AH,3,FALSE) -> 618
A24: Intervention Characteristics
A25: Name | C25: =VLOOKUP(A25,'Study One'!A:AH,3,FALSE) -> CARE App | Z25: =VLOOKUP(A25,'Study Two'!A:AH,3,FALSE) -> CARE App | AW25: =VLOOKUP(A25,'Study Three'!A:AH,3,FALSE) -> Internet-based Talking About Risk and Adolescent Choices (iTRAC), | BT25: =VLOOKUP(A25,'Study Four'!A:AH,3,FALSE) -> Finding Focus | CQ25: =VLOOKUP(A25,'Study Five'!A:AH,3,FALSE) -> CharacterMe
A26: Focus | C26: =VLOOKUP(A26,'Study One'!A:AH,3,FALSE) -> Reduce repetitive negative thinking, and internalising symptoms. Focus on reducing rumination. | Z26: =VLOOKUP(A26,'Study Two'!A:AH,3,FALSE) -> Reduce repetitive negative thinking, and internalising symptoms. Focus on reducing rumination. | AW26: =VLOOKUP(A26,'Study Three'!A:AH,3,FALSE) -> Improving constructs associated with ER abilities including emotional awareness, intentions to use ER strategies, the use of ER strategies, and other indicators implicated in ER processes, such as beliefs about emotions and emotional self-efficacy. | BT26: =VLOOKUP(A26,'Study Four'!A:AH,3,FALSE) -> A key objective of the course was to help students to train their ability to focus. Students also learned how to use attention to relate more effectively to thoughts, evaluations, and emotions. | CQ26: =VLOOKUP(A26,'Study Five'!A:AH,3,FALSE) -> The CharacterMe smartphone application was designed to engage adolescents in the use of research-informed strategies for building the character strengths of self-control and patience as well as underlying emotion regulation capacities.
A27: Device | C27: =VLOOKUP(A27,'Study One'!A:AH,3,FALSE) -> Mobile phone app | Z27: =VLOOKUP(A27,'Study Two'!A:AH,3,FALSE) -> Mobile phone app | AW27: =VLOOKUP(A27,'Study Three'!A:AH,3,FALSE) -> Tablet based | BT27: =VLOOKUP(A27,'Study Four'!A:AH,3,FALSE) -> Can be accessed on computers, tablets or phones. | CQ27: =VLOOKUP(A27,'Study Five'!A:AH,3,FALSE) -> Available for download in the Apple and Google Play stores. Accessed via a mobile app or accessed through an online browser.
A28: Setting | C28: =VLOOKUP(A28,'Study One'!A:AH,3,FALSE) -> Wherever the participant chose - given the app for 3 weeks to use at least three times a day | Z28: =VLOOKUP(A28,'Study Two'!A:AH,3,FALSE) -> Wherever the participant chose - given the app for 3 weeks to use at least three times a day | AW28: =VLOOKUP(A28,'Study Three'!A:AH,3,FALSE) -> Completed independently, in a designated classroom at school | BT28: =VLOOKUP(A28,'Study Four'!A:AH,3,FALSE) -> Completed in class | CQ28: =VLOOKUP(A28,'Study Five'!A:AH,3,FALSE) -> Wherever is convenient
A29: Duration | C29: =VLOOKUP(A29,'Study One'!A:AH,3,FALSE) -> Active intervention phase was 3 weeks - follow up time points at 6 and 12 weeks post-intervention | Z29: =VLOOKUP(A29,'Study Two'!A:AH,3,FALSE) -> Active intervention phase was 3 weeks - follow up time points at 6 and 12 weeks post-intervention, and 6 months post-intervention | AW29: =VLOOKUP(A29,'Study Three'!A:AH,3,FALSE) -> Participants were encouraged to complete 1 module per week for 4 weeks. Each module took 30 to 45 minutes to complete. Follow-up completed three months after baseline. | BT29: =VLOOKUP(A29,'Study Four'!A:AH,3,FALSE) -> 22- day digital course - 2.25 hours of content, including four 12-min lessons and daily 4-min exercises | CQ29: =VLOOKUP(A29,'Study Five'!A:AH,3,FALSE) -> 2 weeks to complete the intervention, followed by post-test, 1 month and 6 month FU
A30: Adherence to the Intervention | C30: =VLOOKUP(A30,'Study One'!A:AH,3,FALSE) -> Y | Z30: =VLOOKUP(A30,'Study Two'!A:AH,3,FALSE) -> Y | AW30: =VLOOKUP(A30,'Study Three'!A:AH,3,FALSE) -> Y | BT30: =VLOOKUP(A30,'Study Four'!A:AH,3,FALSE) -> Y | CQ30: =VLOOKUP(A30,'Study Five'!A:AH,3,FALSE) -> Y
A31: If yes, how was this monitored? | C31: =VLOOKUP(A31,'Study One'!A:AH,3,FALSE) -> Monitored electronically through in-app technologies. A small financial bonus was offered to those participants who used the app per protocol (three-times a day every day). Participants were send push notifications three times a day to remind them to use the app. A midweek message was sent to participants to inform them of whether they were on track to receive the bonus or not. | Z31: =VLOOKUP(A31,'Study Two'!A:AH,3,FALSE) -> Monitored electronically through in-app technologies. A small financial bonus was offered to those participants who used the app per protocol (three-times a day every day). Participants were send push notifications three times a day to remind them to use the app. There was a counter on the app so partiipants could see if they were on target to earn the bonus. | AW31: =VLOOKUP(A31,'Study Three'!A:AH,3,FALSE) -> In class completion | BT31: =VLOOKUP(A31,'Study Four'!A:AH,3,FALSE) -> Monitored by the learning platform. Teachers were encouraged to have students complete the lessons and at least some of the daily exercises in class. The digital learning platform provided teachers with an interface to track student progress throughout the course | CQ31: =VLOOKUP(A31,'Study Five'!A:AH,3,FALSE) -> Participants had the option to enable push notifications. App engagement was assessed through the number of days participants engaged the app across the 14-day period, and by summing the number of times participants engaged in each specific task.
A32: Is this intervention novel? | C32: =VLOOKUP(A32,'Study One'!A:AH,3,FALSE) -> Y | Z32: =VLOOKUP(A32,'Study Two'!A:AH,3,FALSE) -> N | AW32: =VLOOKUP(A32,'Study Three'!A:AH,3,FALSE) -> N | BT32: =VLOOKUP(A32,'Study Four'!A:AH,3,FALSE) -> Y | CQ32: =VLOOKUP(A32,'Study Five'!A:AH,3,FALSE) -> Y
A33: If no, how was this tested? | C33: =VLOOKUP(A33,'Study One'!A:AH,3,FALSE) -> N/A | Z33: =VLOOKUP(A33,'Study Two'!A:AH,3,FALSE) -> Previously tested in an acceptability and feasibility study (Hilt and Swords, 2021) | AW33: =VLOOKUP(A33,'Study Three'!A:AH,3,FALSE) -> Adapted from the face-to-face version of Project Talking about Risk and Adolescent Choices (TRAC) | BT33: =VLOOKUP(A33,'Study Four'!A:AH,3,FALSE) -> N/A | CQ33: =VLOOKUP(A33,'Study Five'!A:AH,3,FALSE) -> N/A
A34: Intervention Development | C34: =VLOOKUP(A34,'Study One'!A:AH,3,FALSE) -> Information not provided in the text | Z34: =VLOOKUP(A34,'Study Two'!A:AH,3,FALSE) -> Information not provided in the text - discusses pilot testing | AW34: =VLOOKUP(A34,'Study Three'!A:AH,3,FALSE) -> The adaptation of the intervention was created with guidance from 2 youth advisory boards (1 male group [n 8] and 1 female group [n 7]; 7 meetings each) and a group of experts in adolescent health and digital interventions (n 4; a middle school nurse, 2 child psychologists with intervention expertise, and an adult psychologist with digital intervention expertise; [3 meetings]). These groups, through iterative processes, contributed ideas for translating to a digital format, provided feedback about appeal, and advised on how adaptations might lead to learning the ER content. Adolescent advisory boards first reviewed paper prototypes of proposed activities and contributed suggestions to enhance engagement and understanding of concepts. They tested the initial digital translation for information about how enjoyable the games were and what they understood the activities to be teaching. The expert panel also reviewed materials to ensure that activities were developmentally and culturally informed and consistent with program aims. | BT34: =VLOOKUP(A34,'Study Four'!A:AH,3,FALSE) -> Not provided | CQ34: =VLOOKUP(A34,'Study Five'!A:AH,3,FALSE) -> The team engaged in an iterative participatory design process for building the smartphone app. Assembled an interdisciplinary team, which included a designer, personality/social psychologist, developmental psychologist, and developer.
A35: Emotion (dys)regulation component | C35: =VLOOKUP(A35,'Study One'!A:AH,3,FALSE) -> Mindfulness Based Stress Reduction Therapy. Mindfulness activities, including body scans and breathwork. | Z35: =VLOOKUP(A35,'Study Two'!A:AH,3,FALSE) -> Mindfulness Based Stress Reduction Therapy. Mindfulness activities, including body scans and breathwork. Mood monitoring | AW35: =VLOOKUP(A35,'Study Three'!A:AH,3,FALSE) -> Activities targeted increasing emotional awareness, recognizing somatic cues associated with emotions, identifying causes for emotions, drawing connections between one’s emotions and actions, learning 3 strategies for ER, and practicing these during the program activities. The strategies were tailored to the developmental stage of early adolescence and had been developed through qualitative work with youth in this age range14 for Project TRAC. | BT35: =VLOOKUP(A35,'Study Four'!A:AH,3,FALSE) -> The course lessons presented three fundamental skills: anchoring, focusing, and releasing. Anchoring was defined as deciding where you focus. Focusing was defined as directing your attention to a specific thing. Releasing was defined as letting something go by not giving it any more attention. | CQ35: =VLOOKUP(A35,'Study Five'!A:AH,3,FALSE) -> Targeted the development six emotion regulation strategies situated in interpersonal conflicts in our “Solve a Conflict” tasks, which we hypothesized would build patience and self-control, alongside the underlying socialemotional capacities for emotion regulation. Participants were asked to fill out a feeling thermometer task each day. They were given suggestions for basic self-control tasks and conflict resolution tasks to complete each day, but they were also allowed to choose their own tasks. For the conflict resolution tasks, adolescents detailed a recent conflict, indicated who was involved, and provided a reason for the conflict. Participants rated four emotions (anger, sadness, upset, and happiness) during the worst point of the conflict (e.g., “How angry were you?”) and following the task (e.g., “How do you feel now?”).
A36: Psychopathology component | C36: =VLOOKUP(A36,'Study One'!A:AH,3,FALSE) -> As above. Participants were prompted when they opened the app to complete nine brief questions about their current thoughts and behaviours. This determined the activities they would be shown - i.e. Participants had a 67% chance of receiving a mindfulness exercise, unless their sad or anxious mood rating was 90 or above, in which case their chance was 85%. | Z36: =VLOOKUP(A36,'Study Two'!A:AH,3,FALSE) -> The authors expected that the reduction in rumination resulting from the intervention would mediate decreases in internalizing psychopathology during the follow-up period. | AW36: =VLOOKUP(A36,'Study Three'!A:AH,3,FALSE) -> N/A | BT36: =VLOOKUP(A36,'Study Four'!A:AH,3,FALSE) -> N/A | CQ36: =VLOOKUP(A36,'Study Five'!A:AH,3,FALSE) -> N/A
A38: Intervention Outcomes
A39: Emotion Dysregulation | C39: =VLOOKUP(A39,'Study One'!A:AH,3,FALSE) -> Final follow-up time point (12 weeks) - repeated measures ANOVA. Measuring rumination. | Z39: =VLOOKUP(A39,'Study Two'!A:AH,3,FALSE) -> Final follow-up time point (6 months) - multilevel models. Measuring rumination. | AW39: =VLOOKUP(A39,'Study Three'!A:AH,3,FALSE) -> Final follow-up time point (12 weeks). Standardised difference scores. Multiple measures relating to emotion regulation. | BT39: =VLOOKUP(A39,'Study Four'!A:AH,3,FALSE) -> Paired sample t-test were used to compare pre-test and post-test scores. | CQ39: =VLOOKUP(A39,'Study Five'!A:AH,3,FALSE) -> Latent Growth Curve Models - unconditional model to estimate overall change over time, conditional model to estimate change with engagement and framings as predictors.
A40: N | C40: =VLOOKUP(A40,'Study One'!A:AH,3,FALSE) -> 57 | Z40: =VLOOKUP(A40,'Study Two'!A:AH,3,FALSE) -> 136 6mo FU (64 active; 72 control) | AW40: =VLOOKUP(A40,'Study Three'!A:AH,3,FALSE) -> 40 (intervention), 40 (control) | BT40: =VLOOKUP(A40,'Study Four'!A:AH,3,FALSE) -> 214 | CQ40: =VLOOKUP(A40,'Study Five'!A:AH,3,FALSE) -> 333
A41: Effect | C41: =VLOOKUP(A41,'Study One'!A:AH,3,FALSE) -> F = 2.94 (3,70), p = .039 | Z41: =VLOOKUP(A41,'Study Two'!A:AH,3,FALSE) -> The mindfulness intervention reduced rumination as hypothesized (d = .43) relative to the mood- monitoring only control. Specifically, there were reductions in rumination (b = 3.20; t(69.86) = 3.53, p < .001) | AW41: =VLOOKUP(A41,'Study Three'!A:AH,3,FALSE) -> Implicit Theories of Emotion Scale - controllability subscale ([d] 0.72 [0.27–1.16]) ; Emotion Regulation Behaviors Scale - use of emotion regulation strategies ([d] 0.45 [20.13 to 1.03]) ; Emotion Regulation Strategy Intentions - intentions to use these strategies ([d] 5 0.51 [–0.02 to 1.03]) ; Difficulties in Emotion Regulation Scale, Awareness ([d] 20.59 [–1.22 to 0.04]), Access ([d] 20.36 [–0.81 to 0.10]), Control ([d] 20.29 [–0.82 to 0.24]), Clarity ([d] 20.08 [–0.67 to 0.50]) ; Self-Efficacy Questionnaire for Children ([d] 0.63 [–0.01 to 1.28]) ; Affect Dysregulation Scale ([d] 20.19 [–0.62 to 0.24]) ; Emotion Regulation Checklist ([d] 0.34 [–0.15 to 0.82]), Negativity/Lability subscale ([d] 20.02 [–0.46 to 0.42]) ; Adolescent Self-Regulatory Inventory, short-term regulation ([d] 20.09 [–0.59 to 0.41]), long-term regulation ([d] 0.002 [–0.48 to 0.48]). | BT41: =VLOOKUP(A41,'Study Four'!A:AH,3,FALSE) -> t = 4.25, p<.001 ; There was a small effect size (d = 0.29) | CQ41: =VLOOKUP(A41,'Study Five'!A:AH,3,FALSE) -> The variance of the slope for sadness regulation (but not anger regulation) was significant suggesting interindividual differences in intraindividual change. The variance of the slope was similar in size to the variance of the intercept, which allows for solid grounding to make inferences about predictors of change in sadness regulation. Chi square (anger regulation) = 61.57 (54) ; Chi square (sadness regulation) = 83.37 (55), p<.01. More time in the app was associated with decreases in sadness regulation. Engagement with particular tasks was not a significant predictor of anger regulation. Greater engagement with Hand Swap and Watch Your Mouth was positively associated with changes in sadness regulation, whereas greater engagement with Mindfulness and Take Perspective was negatively associated with within-person changes in sadness regulation.
A42: Psychopathology | C42: =VLOOKUP(A42,'Study One'!A:AH,3,FALSE) -> Measured depressive symptoms, anxiety symptoms (self-report) and parent-reported internalising symptoms - final FU time point. Repeated measures ANOVA | Z42: =VLOOKUP(A42,'Study Two'!A:AH,3,FALSE) -> Measured depressive symptoms, anxiety symptoms (self-report) and parent-reported internalising symptoms - final FU time point. Repeated measures ANOVA | AW42: =VLOOKUP(A42,'Study Three'!A:AH,3,FALSE) -> Not measured | BT42: =VLOOKUP(A42,'Study Four'!A:AH,3,FALSE) -> Not measured | CQ42: =VLOOKUP(A42,'Study Five'!A:AH,3,FALSE) -> Not measured.
A43: N | C43: =VLOOKUP(A43,'Study One'!A:AH,3,FALSE) -> 57 | Z43: =VLOOKUP(A43,'Study Two'!A:AH,3,FALSE) -> 136 6mo FU (64 active; 72 control) | AW43: =VLOOKUP(A43,'Study Three'!A:AH,3,FALSE) -> 40 (intervention), 40 (control) | BT43: =VLOOKUP(A43,'Study Four'!A:AH,3,FALSE) -> 214 | CQ43: =VLOOKUP(A43,'Study Five'!A:AH,3,FALSE) -> 333
A44: Effect | C44: =VLOOKUP(A44,'Study One'!A:AH,3,FALSE) -> F = 2.94 (3,70), p = .039 | Z44: =VLOOKUP(A44,'Study Two'!A:AH,3,FALSE) -> The mindfulness intervention reduced rumination as hypothesized (d = .43) relative to the mood- monitoring only control. Specifically, there were reductions in rumination (b = 3.20; t(69.86) = 3.53, p < .001) | AW44: =VLOOKUP(A44,'Study Three'!A:AH,3,FALSE) -> Implicit Theories of Emotion Scale - controllability subscale ([d] 0.72 [0.27–1.16]) ; Emotion Regulation Behaviors Scale - use of emotion regulation strategies ([d] 0.45 [20.13 to 1.03]) ; Emotion Regulation Strategy Intentions - intentions to use these strategies ([d] 5 0.51 [–0.02 to 1.03]) ; Difficulties in Emotion Regulation Scale, Awareness ([d] 20.59 [–1.22 to 0.04]), Access ([d] 20.36 [–0.81 to 0.10]), Control ([d] 20.29 [–0.82 to 0.24]), Clarity ([d] 20.08 [–0.67 to 0.50]) ; Self-Efficacy Questionnaire for Children ([d] 0.63 [–0.01 to 1.28]) ; Affect Dysregulation Scale ([d] 20.19 [–0.62 to 0.24]) ; Emotion Regulation Checklist ([d] 0.34 [–0.15 to 0.82]), Negativity/Lability subscale ([d] 20.02 [–0.46 to 0.42]) ; Adolescent Self-Regulatory Inventory, short-term regulation ([d] 20.09 [–0.59 to 0.41]), long-term regulation ([d] 0.002 [–0.48 to 0.48]). | BT44: =VLOOKUP(A44,'Study Four'!A:AH,3,FALSE) -> t = 4.25, p<.001 ; There was a small effect size (d = 0.29) | CQ44: =VLOOKUP(A44,'Study Five'!A:AH,3,FALSE) -> The variance of the slope for sadness regulation (but not anger regulation) was significant suggesting interindividual differences in intraindividual change. The variance of the slope was similar in size to the variance of the intercept, which allows for solid grounding to make inferences about predictors of change in sadness regulation. Chi square (anger regulation) = 61.57 (54) ; Chi square (sadness regulation) = 83.37 (55), p<.01. More time in the app was associated with decreases in sadness regulation. Engagement with particular tasks was not a significant predictor of anger regulation. Greater engagement with Hand Swap and Watch Your Mouth was positively associated with changes in sadness regulation, whereas greater engagement with Mindfulness and Take Perspective was negatively associated with within-person changes in sadness regulation.
A45: Additional Outcomes (e.g. academic achievement) | C45: =VLOOKUP(A45,'Study One'!A:AH,3,FALSE) -> Also measured 'worry' | Z45: =VLOOKUP(A45,'Study Two'!A:AH,3,FALSE) -> N/A | AW45: =VLOOKUP(A45,'Study Three'!A:AH,3,FALSE) -> Behavioural tasks related to distress tolerance. Final follow-up time point (12 weeks). Standardised difference scores. | BT45: =VLOOKUP(A45,'Study Four'!A:AH,3,FALSE) -> Additional outcomes measured include pereceived level of demand, stress, stress management, and life satisfaction. Also measured mindsets, focus and mind wandering. Paired sample t-test were used to compare pre-test and post-test scores. | CQ45: =VLOOKUP(A45,'Study Five'!A:AH,3,FALSE) -> Also measured Life Hardships Patience, Interpersonal Patience, Daily hassles Paitence and Self-control. Latent Growth Curve Models - unconditional model to estimate overall change over time, conditional model to estimate change with engagement and framings as predictors.
A46: N | C46: =VLOOKUP(A46,'Study One'!A:AH,3,FALSE) -> 57 | Z46: =VLOOKUP(A46,'Study Two'!A:AH,3,FALSE) -> 136 6mo FU (64 active; 72 control) | AW46: =VLOOKUP(A46,'Study Three'!A:AH,3,FALSE) -> 40 (intervention), 40 (control) | BT46: =VLOOKUP(A46,'Study Four'!A:AH,3,FALSE) -> 214 | CQ46: =VLOOKUP(A46,'Study Five'!A:AH,3,FALSE) -> 333
A47: Effect | C47: =VLOOKUP(A47,'Study One'!A:AH,3,FALSE) -> F = 2.94 (3,70), p = .039 | Z47: =VLOOKUP(A47,'Study Two'!A:AH,3,FALSE) -> The mindfulness intervention reduced rumination as hypothesized (d = .43) relative to the mood- monitoring only control. Specifically, there were reductions in rumination (b = 3.20; t(69.86) = 3.53, p < .001) | AW47: =VLOOKUP(A47,'Study Three'!A:AH,3,FALSE) -> Implicit Theories of Emotion Scale - controllability subscale ([d] 0.72 [0.27–1.16]) ; Emotion Regulation Behaviors Scale - use of emotion regulation strategies ([d] 0.45 [20.13 to 1.03]) ; Emotion Regulation Strategy Intentions - intentions to use these strategies ([d] 5 0.51 [–0.02 to 1.03]) ; Difficulties in Emotion Regulation Scale, Awareness ([d] 20.59 [–1.22 to 0.04]), Access ([d] 20.36 [–0.81 to 0.10]), Control ([d] 20.29 [–0.82 to 0.24]), Clarity ([d] 20.08 [–0.67 to 0.50]) ; Self-Efficacy Questionnaire for Children ([d] 0.63 [–0.01 to 1.28]) ; Affect Dysregulation Scale ([d] 20.19 [–0.62 to 0.24]) ; Emotion Regulation Checklist ([d] 0.34 [–0.15 to 0.82]), Negativity/Lability subscale ([d] 20.02 [–0.46 to 0.42]) ; Adolescent Self-Regulatory Inventory, short-term regulation ([d] 20.09 [–0.59 to 0.41]), long-term regulation ([d] 0.002 [–0.48 to 0.48]). | BT47: =VLOOKUP(A47,'Study Four'!A:AH,3,FALSE) -> t = 4.25, p<.001 ; There was a small effect size (d = 0.29) | CQ47: =VLOOKUP(A47,'Study Five'!A:AH,3,FALSE) -> The variance of the slope for sadness regulation (but not anger regulation) was significant suggesting interindividual differences in intraindividual change. The variance of the slope was similar in size to the variance of the intercept, which allows for solid grounding to make inferences about predictors of change in sadness regulation. Chi square (anger regulation) = 61.57 (54) ; Chi square (sadness regulation) = 83.37 (55), p<.01. More time in the app was associated with decreases in sadness regulation. Engagement with particular tasks was not a significant predictor of anger regulation. Greater engagement with Hand Swap and Watch Your Mouth was positively associated with changes in sadness regulation, whereas greater engagement with Mindfulness and Take Perspective was negatively associated with within-person changes in sadness regulation.
A50: Quality Assessment
A51: A) Selection bias
A52: Q1. Are the individuals selected to participate in the study likely to be representative of the target population? | C52: =VLOOKUP(A52,'Study One'!A:AH,3,FALSE) -> 3 | Z52: =VLOOKUP(A52,'Study Two'!A:AH,3,FALSE) -> 3 | AW52: =VLOOKUP(A52,'Study Three'!A:AH,3,FALSE) -> 1 | BT52: =VLOOKUP(A52,'Study Four'!A:AH,3,FALSE) -> 2 | CQ52: =VLOOKUP(A52,'Study Five'!A:AH,3,FALSE) -> 1
A53: Q2. What percentage of selected individuals agreed to participate? | C53: =VLOOKUP(A53,'Study One'!A:AH,3,FALSE) -> 4 | Z53: =VLOOKUP(A53,'Study Two'!A:AH,3,FALSE) -> 1 | AW53: =VLOOKUP(A53,'Study Three'!A:AH,3,FALSE) -> 2 | BT53: =VLOOKUP(A53,'Study Four'!A:AH,3,FALSE) -> 5 | CQ53: =VLOOKUP(A53,'Study Five'!A:AH,3,FALSE) -> 5
A54: Overall Rating | C54: =VLOOKUP(A54,'Study One'!A:AH,3,FALSE) -> 3 | Z54: =VLOOKUP(A54,'Study Two'!A:AH,3,FALSE) -> 3 | AW54: =VLOOKUP(A54,'Study Three'!A:AH,3,FALSE) -> 2 | BT54: =VLOOKUP(A54,'Study Four'!A:AH,3,FALSE) -> 2 | CQ54: =VLOOKUP(A54,'Study Five'!A:AH,3,FALSE) -> 2
A55: B) Study Design
A56: Indicate the Study Design | C56: =VLOOKUP(A56,'Study One'!A:AH,3,FALSE) -> 5 | Z56: =VLOOKUP(A56,'Study Two'!A:AH,3,FALSE) -> 1 | AW56: =VLOOKUP(A56,'Study Three'!A:AH,3,FALSE) -> 1 | BT56: =VLOOKUP(A56,'Study Four'!A:AH,3,FALSE) -> 5 | CQ56: =VLOOKUP(A56,'Study Five'!A:AH,3,FALSE) -> 5
A57: Was the study described as randomised (if NO go to C) | C57: =VLOOKUP(A57,'Study One'!A:AH,3,FALSE) -> N | Z57: =VLOOKUP(A57,'Study Two'!A:AH,3,FALSE) -> Y | AW57: =VLOOKUP(A57,'Study Three'!A:AH,3,FALSE) -> Y | BT57: =VLOOKUP(A57,'Study Four'!A:AH,3,FALSE) -> N | CQ57: =VLOOKUP(A57,'Study Five'!A:AH,3,FALSE) -> N
A58: If YES, was the method of randomisation described? | C58: =VLOOKUP(A58,'Study One'!A:AH,3,FALSE) -> 0 | Z58: =VLOOKUP(A58,'Study Two'!A:AH,3,FALSE) -> Y | AW58: =VLOOKUP(A58,'Study Three'!A:AH,3,FALSE) -> Y | BT58: =VLOOKUP(A58,'Study Four'!A:AH,3,FALSE) -> 0 | CQ58: =VLOOKUP(A58,'Study Five'!A:AH,3,FALSE) -> 0
A59: If YES, was this method appropriate? | C59: =VLOOKUP(A59,'Study One'!A:AH,3,FALSE) -> 0 | Z59: =VLOOKUP(A59,'Study Two'!A:AH,3,FALSE) -> Y | AW59: =VLOOKUP(A59,'Study Three'!A:AH,3,FALSE) -> Y | BT59: =VLOOKUP(A59,'Study Four'!A:AH,3,FALSE) -> 0 | CQ59: =VLOOKUP(A59,'Study Five'!A:AH,3,FALSE) -> 0
A60: Overall Rating | C60: =VLOOKUP(A60,'Study One'!A:AH,3,FALSE) -> 3 | Z60: =VLOOKUP(A60,'Study Two'!A:AH,3,FALSE) -> 3 | AW60: =VLOOKUP(A60,'Study Three'!A:AH,3,FALSE) -> 2 | BT60: =VLOOKUP(A60,'Study Four'!A:AH,3,FALSE) -> 2 | CQ60: =VLOOKUP(A60,'Study Five'!A:AH,3,FALSE) -> 2
A61: C) Confounders
A62: Q1. Were there important differences between the groups prior to the intervention? | C62: =VLOOKUP(A62,'Study One'!A:AH,3,FALSE) -> 3 | Z62: =VLOOKUP(A62,'Study Two'!A:AH,3,FALSE) -> 1 | AW62: =VLOOKUP(A62,'Study Three'!A:AH,3,FALSE) -> 2 | BT62: =VLOOKUP(A62,'Study Four'!A:AH,3,FALSE) -> 3 | CQ62: =VLOOKUP(A62,'Study Five'!A:AH,3,FALSE) -> 1
A63: Q2. If YES, indicate the percentage of relevant confounders that were controlled (either in the design (e.g. stratification, matching) or analysis)? | C63: =VLOOKUP(A63,'Study One'!A:AH,3,FALSE) -> 4 | Z63: =VLOOKUP(A63,'Study Two'!A:AH,3,FALSE) -> 1 | AW63: =VLOOKUP(A63,'Study Three'!A:AH,3,FALSE) -> 0 | BT63: =VLOOKUP(A63,'Study Four'!A:AH,3,FALSE) -> 4 | CQ63: =VLOOKUP(A63,'Study Five'!A:AH,3,FALSE) -> 1
A64: Overall Rating | C64: =VLOOKUP(A64,'Study One'!A:AH,3,FALSE) -> 3 | Z64: =VLOOKUP(A64,'Study Two'!A:AH,3,FALSE) -> 3 | AW64: =VLOOKUP(A64,'Study Three'!A:AH,3,FALSE) -> 2 | BT64: =VLOOKUP(A64,'Study Four'!A:AH,3,FALSE) -> 2 | CQ64: =VLOOKUP(A64,'Study Five'!A:AH,3,FALSE) -> 2
A65: D) Blinding
A66: Q1. Was (were) the outcome assessor(s) aware of the intervention or exposure status of participants? | C66: =VLOOKUP(A66,'Study One'!A:AH,3,FALSE) -> 1 | Z66: =VLOOKUP(A66,'Study Two'!A:AH,3,FALSE) -> 3 | AW66: =VLOOKUP(A66,'Study Three'!A:AH,3,FALSE) -> 3 | BT66: =VLOOKUP(A66,'Study Four'!A:AH,3,FALSE) -> 3 | CQ66: =VLOOKUP(A66,'Study Five'!A:AH,3,FALSE) -> 3
A67: Q2. Were the study participants aware of the research question? | C67: =VLOOKUP(A67,'Study One'!A:AH,3,FALSE) -> 3 | Z67: =VLOOKUP(A67,'Study Two'!A:AH,3,FALSE) -> 3 | AW67: =VLOOKUP(A67,'Study Three'!A:AH,3,FALSE) -> 3 | BT67: =VLOOKUP(A67,'Study Four'!A:AH,3,FALSE) -> 3 | CQ67: =VLOOKUP(A67,'Study Five'!A:AH,3,FALSE) -> 3
A68: Overall Rating | C68: =VLOOKUP(A68,'Study One'!A:AH,3,FALSE) -> 3 | Z68: =VLOOKUP(A68,'Study Two'!A:AH,3,FALSE) -> 3 | AW68: =VLOOKUP(A68,'Study Three'!A:AH,3,FALSE) -> 2 | BT68: =VLOOKUP(A68,'Study Four'!A:AH,3,FALSE) -> 2 | CQ68: =VLOOKUP(A68,'Study Five'!A:AH,3,FALSE) -> 2
A69: E) Data Collection Methods
A70: Q1. Were the data collection tools shown to be valid? | C70: =VLOOKUP(A70,'Study One'!A:AH,3,FALSE) -> 1 | Z70: =VLOOKUP(A70,'Study Two'!A:AH,3,FALSE) -> 1 | AW70: =VLOOKUP(A70,'Study Three'!A:AH,3,FALSE) -> 1 | BT70: =VLOOKUP(A70,'Study Four'!A:AH,3,FALSE) -> 2 | CQ70: =VLOOKUP(A70,'Study Five'!A:AH,3,FALSE) -> 1
A71: Q2. Were the data collection tools shown to be reliable? | C71: =VLOOKUP(A71,'Study One'!A:AH,3,FALSE) -> 1 | Z71: =VLOOKUP(A71,'Study Two'!A:AH,3,FALSE) -> 1 | AW71: =VLOOKUP(A71,'Study Three'!A:AH,3,FALSE) -> 1 | BT71: =VLOOKUP(A71,'Study Four'!A:AH,3,FALSE) -> 3 | CQ71: =VLOOKUP(A71,'Study Five'!A:AH,3,FALSE) -> 1
A72: Overall Rating | C72: =VLOOKUP(A72,'Study One'!A:AH,3,FALSE) -> 3 | Z72: =VLOOKUP(A72,'Study Two'!A:AH,3,FALSE) -> 3 | AW72: =VLOOKUP(A72,'Study Three'!A:AH,3,FALSE) -> 2 | BT72: =VLOOKUP(A72,'Study Four'!A:AH,3,FALSE) -> 2 | CQ72: =VLOOKUP(A72,'Study Five'!A:AH,3,FALSE) -> 2
A73: F) Withdrawals and Drop-outs
A74: Q1. Were withdrawals and drop-outs reported in terms of numbers and/or reasons per group? | C74: =VLOOKUP(A74,'Study One'!A:AH,3,FALSE) -> 1 | Z74: =VLOOKUP(A74,'Study Two'!A:AH,3,FALSE) -> 1 | AW74: =VLOOKUP(A74,'Study Three'!A:AH,3,FALSE) -> 1 | BT74: =VLOOKUP(A74,'Study Four'!A:AH,3,FALSE) -> 1 | CQ74: =VLOOKUP(A74,'Study Five'!A:AH,3,FALSE) -> 2
A75: Q2. Indicate the percentage of participants completing the study. (If the percentage differs by groups, record the lowest). | C75: 2 | Z75: =VLOOKUP(A75,'Study Two'!A:AH,3,FALSE) -> 1 | AW75: =VLOOKUP(A75,'Study Three'!A:AH,3,FALSE) -> 1 | BT75: =VLOOKUP(A75,'Study Four'!A:AH,3,FALSE) -> 2 | CQ75: =VLOOKUP(A75,'Study Five'!A:AH,3,FALSE) -> 3
A76: Overall Rating | C76: =VLOOKUP(A76,'Study One'!A:AH,3,FALSE) -> 3 | Z76: =VLOOKUP(A76,'Study Two'!A:AH,3,FALSE) -> 3 | AW76: =VLOOKUP(A76,'Study Three'!A:AH,3,FALSE) -> 2 | BT76: =VLOOKUP(A76,'Study Four'!A:AH,3,FALSE) -> 2 | CQ76: =VLOOKUP(A76,'Study Five'!A:AH,3,FALSE) -> 2
A77: G) Intervention Integrity
A78: Q1. What percentage of participants received the allocated intervention or exposure of interest? | C78: =VLOOKUP(A78,'Study One'!A:AH,3,FALSE) -> 1 | Z78: =VLOOKUP(A78,'Study Two'!A:AH,3,FALSE) -> 1 | AW78: =VLOOKUP(A78,'Study Three'!A:AH,3,FALSE) -> 1 | BT78: =VLOOKUP(A78,'Study Four'!A:AH,3,FALSE) -> 1 | CQ78: =VLOOKUP(A78,'Study Five'!A:AH,3,FALSE) -> 1
A79: Q2. Was the consistency of the intervention measured? | C79: =VLOOKUP(A79,'Study One'!A:AH,3,FALSE) -> 1 | Z79: =VLOOKUP(A79,'Study Two'!A:AH,3,FALSE) -> 1 | AW79: =VLOOKUP(A79,'Study Three'!A:AH,3,FALSE) -> 3 | BT79: =VLOOKUP(A79,'Study Four'!A:AH,3,FALSE) -> 2 | CQ79: =VLOOKUP(A79,'Study Five'!A:AH,3,FALSE) -> 1
A80: Q3. Is it likely that subjects received an unintended intervention (contamination or co-intervention) that may influence the results? | C80: =VLOOKUP(A80,'Study One'!A:AH,3,FALSE) -> 3 | Z80: =VLOOKUP(A80,'Study Two'!A:AH,3,FALSE) -> 3 | AW80: =VLOOKUP(A80,'Study Three'!A:AH,3,FALSE) -> 3 | BT80: =VLOOKUP(A80,'Study Four'!A:AH,3,FALSE) -> 3 | CQ80: =VLOOKUP(A80,'Study Five'!A:AH,3,FALSE) -> 3
A81: H) Analyses
A82: Q1. Indicate the unit of allocation | C82: =VLOOKUP(A82,'Study One'!A:AH,3,FALSE) -> Individual | Z82: =VLOOKUP(A82,'Study Two'!A:AH,3,FALSE) -> Individual | AW82: =VLOOKUP(A82,'Study Three'!A:AH,3,FALSE) -> Individual | BT82: =VLOOKUP(A82,'Study Four'!A:AH,3,FALSE) -> Individual | CQ82: =VLOOKUP(A82,'Study Five'!A:AH,3,FALSE) -> Indvidual
A83: Q2. Indicate the unit of analysis | C83: =VLOOKUP(A83,'Study One'!A:AH,3,FALSE) -> Individual | Z83: =VLOOKUP(A83,'Study Two'!A:AH,3,FALSE) -> Individual | AW83: =VLOOKUP(A83,'Study Three'!A:AH,3,FALSE) -> Individual | BT83: =VLOOKUP(A83,'Study Four'!A:AH,3,FALSE) -> Individual | CQ83: =VLOOKUP(A83,'Study Five'!A:AH,3,FALSE) -> Indvidual
A84: Q3. Are the statistical methods appropriate for the study design? | C84: =VLOOKUP(A84,'Study One'!A:AH,3,FALSE) -> 1 | Z84: =VLOOKUP(A84,'Study Two'!A:AH,3,FALSE) -> 1 | AW84: =VLOOKUP(A84,'Study Three'!A:AH,3,FALSE) -> 1 | BT84: =VLOOKUP(A84,'Study Four'!A:AH,3,FALSE) -> 1 | CQ84: =VLOOKUP(A84,'Study Five'!A:AH,3,FALSE) -> 1
A85: Q4. Is the analysis performed by intervention allocation status (i.e. intention to treat) rather than the actual intervention received? | C85: =VLOOKUP(A85,'Study One'!A:AH,3,FALSE) -> 1 | Z85: =VLOOKUP(A85,'Study Two'!A:AH,3,FALSE) -> 1 | AW85: =VLOOKUP(A85,'Study Three'!A:AH,3,FALSE) -> 2 | BT85: =VLOOKUP(A85,'Study Four'!A:AH,3,FALSE) -> 2 | CQ85: =VLOOKUP(A85,'Study Five'!A:AH,3,FALSE) -> 2
A87: Global Rating for the Paper | C87: =VLOOKUP(A87,'Study One'!A:AH,3,FALSE) -> WEAK (3) | Z87: =VLOOKUP(A87,'Study Two'!A:AH,3,FALSE) -> MODERATE (2) | AW87: =VLOOKUP(A87,'Study Three'!A:AH,3,FALSE) -> STRONG (1) | BT87: =VLOOKUP(A87,'Study Four'!A:AH,3,FALSE) -> WEAK (3) | CQ87: =VLOOKUP(A87,'Study Five'!A:AH,3,FALSE) -> MODERATE (2)
A88: 1 = Strong (no WEAK ratings)
A89: 2 = Moderate (one WEAK rating)
A90: 3 = Weak (two or more weak ratings)

Sheet Study One
A2: Study Characteristics
A3: Author(s) | C3: Hilt, M., Swords, C.
A4: Publication Year | C4: 2021
A5: Title | C5: Acceptability and Preliminary Effects of a Mindfulness Mobile Application for Ruminative Adolescents
A6: Region, and Country | C6: Wisconsin, USA
A7: Aims and Objectives | C7: This study aimed to determine both the acceptability and initial effects of a brief intervention (mindfulness mobile app) for ruminative adolescents, to reduce both repetitive negative thinking and internalising symptoms.
A8: Study Design | C8: Within-subjects design - pre, post and follow-up assessments
A9: Instrument and criteria used for mental health diagnosis (if any) | C9: Adolescent report (Children's Depression Inventory; Mulidimensional Anxiety Scale for Children); Parent report (Pediatric Symptom Checklist)
A10: Instrument and criteria used to assess emotion (dys-)regulation | C10: Children's Response Styles Questionnaire - Rumination
A12: Participant Characteristics
A13: Mean age of participants (years) | C13: 14.01
A14: Range of ages of participants (years) | C14: 12-15
A15: Gender of Participants (%) | C15: 53.8% M; 45% F; 1.2% Prefer not to say
A16: Ethnicity of Participants (%) | C16: 86.25% White, 2.5% Native American, 1.25% Black, 1.25% multiracial, and 8.75 % chose not to answer; 93.75% non-Hispanic, 3.75% Hispanic, and 2.5% chose not to answer.
A17: Mental Health Diagnoses | C17: No
A18: If yes, what mental health conditions were they? | C18: N/A
A19: Sample Size | C19: 80 enrolled; 72 post; 65 6 wk FU; 57 12 wk FU
A21: Intervention Characteristics
A22: Name | C22: CARE App
A23: Focus | C23: Reduce repetitive negative thinking, and internalising symptoms. Focus on reducing rumination.
A24: Device | C24: Mobile phone app
A25: Setting | C25: Wherever the participant chose - given the app for 3 weeks to use at least three times a day
A26: Duration | C26: Active intervention phase was 3 weeks - follow up time points at 6 and 12 weeks post-intervention
A27: Adherence to the Intervention | C27: Y
A28: If yes, how was this monitored? | C28: Monitored electronically through in-app technologies. A small financial bonus was offered to those participants who used the app per protocol (three-times a day every day). Participants were send push notifications three times a day to remind them to use the app. A midweek message was sent to participants to inform them of whether they were on track to receive the bonus or not.
A29: Is this intervention novel? | C29: Y
A30: If no, how was this tested? | C30: N/A
A31: Intervention Development | C31: Information not provided in the text
A32: Emotion (dys)regulation component | C32: Mindfulness Based Stress Reduction Therapy. Mindfulness activities, including body scans and breathwork.
A33: Psychopathology component | C33: As above. Participants were prompted when they opened the app to complete nine brief questions about their current thoughts and behaviours. This determined the activities they would be shown - i.e. Participants had a 67% chance of receiving a mindfulness exercise, unless their sad or anxious mood rating was 90 or above, in which case their chance was 85%.
A35: Intervention Outcomes
A36: Emotion Dysregulation | C36: Final follow-up time point (12 weeks) - repeated measures ANOVA. Measuring rumination.
A37: N | C37: 57
A38: Effect | C38: F = 2.94 (3,70), p = .039
A39: Psychopathology | C39: Measured depressive symptoms, anxiety symptoms (self-report) and parent-reported internalising symptoms - final FU time point. Repeated measures ANOVA
A40: N | C40: 57
A41: Effect | C41: Depressive Symptoms: F=.57 (3,70), p=.634 ; Anxiety Symptoms: F=3.97 (3,70), p=.011 ; Internalising Symptoms: F=13.53 (3, 69), p<.001
A42: Additional Outcomes (e.g. academic achievement) | C42: Also measured 'worry'
A43: N | C43: 57
A44: Effect | C44: F=1.67 (3,70), p=.181
A48: Quality Assessment
A49: A) Selection bias
A50: Q1. Are the individuals selected to participate in the study likely to be representative of the target population? | C50: 3
A51: Q2. What percentage of selected individuals agreed to participate? | C51: 4
A52: Overall Rating | C52: 3
A53: B) Study Design
A54: Indicate the Study Design | C54: 5
A55: Was the study described as randomised (if NO go to C) | C55: N
A56: If YES, was the method of randomisation described?
A57: If YES, was this method appropriate?
A58: Overall Rating | C58: 2
A59: C) Confounders
A60: Q1. Were there important differences between the groups prior to the intervention? | C60: 3
A61: Q2. If YES, indicate the percentage of relevant confounders that were controlled (either in the design (e.g. stratification, matching) or analysis)? | C61: 4
A62: Overall Rating | C62: 3
A63: D) Blinding
A64: Q1. Was (were) the outcome assessor(s) aware of the intervention or exposure status of participants? | C64: 1
A65: Q2. Were the study participants aware of the research question? | C65: 3
A66: Overall Rating | C66: 2
A67: E) Data Collection Methods
A68: Q1. Were the data collection tools shown to be valid? | C68: 1
A69: Q2. Were the data collection tools shown to be reliable? | C69: 1
A70: Overall Rating | C70: 1
A71: F) Withdrawals and Drop-outs
A72: Q1. Were withdrawals and drop-outs reported in terms of numbers and/or reasons per group? | C72: 1
A73: Q2. Indicate the percentage of participants completing the study. (If the percentage differs by groups, record the lowest). | C73: 2 - 57/80 completed the study (71.2%)
A74: Overall Rating | C74: 2
A75: G) Intervention Integrity
A76: Q1. What percentage of participants received the allocated intervention or exposure of interest? | C76: 1
A77: Q2. Was the consistency of the intervention measured? | C77: 1
A78: Q3. Is it likely that subjects received an unintended intervention (contamination or co-intervention) that may influence the results? | C78: 3
A79: H) Analyses
A80: Q1. Indicate the unit of allocation | C80: Individual
A81: Q2. Indicate the unit of analysis | C81: Individual
A82: Q3. Are the statistical methods appropriate for the study design? | C82: 1
A83: Q4. Is the analysis performed by intervention allocation status (i.e. intention to treat) rather than the actual intervention received? | C83: 1
A85: Global Rating for the Paper | C85: WEAK (3)
A86: 1 = Strong (no WEAK ratings)
A87: 2 = Moderate (one WEAK rating)
A88: 3 = Weak (two or more weak ratings)

Sheet Study Two
A2: Study Characteristics
A3: Author(s) | C3: Hilt, M., Swords, C. & Webb, C.
A4: Publication Year | C4: 2023
A5: Title | C5: Randomized Controlled Trial of a Mindfulness Mobile Application for Ruminative Adolescents
A6: Region, and Country | C6: Wisconsin, USA
A7: Aims and Objectives | C7: This study aimed to to answer the question of whether the CARE app, which involves both mood monitoring and mindfulness, would uniquely reduce rumination, depression and anxiety, compared to a mood-monitoring only version of the app.
A8: Study Design | C8: Small Randomised Controlled Trial
A9: Instrument and criteria used for mental health diagnosis (if any) | C9: Adolescent report (Children's Depression Inventory; Mulidimensional Anxiety Scale for Children); Parent report (Pediatric Symptom Checklist)
A10: Instrument and criteria used to assess emotion (dys-)regulation | C10: Children's Response Styles Questionnaire - Rumination
A12: Participant Characteristics
A13: Mean age of participants (years) | C13: 13.71
A14: Range of ages of participants (years) | C14: 12-15
A15: Gender of Participants (%) | C15: 58.55% female, 41.45.% male
A16: Ethnicity of Participants (%) | C16: 82.24% White, 10.53% Multiracial, 3.29% Black or African American, 1.97% Asian or Asian American, 1.32% other, and .66% Native Hawaiian or Pacific Islander; 89.47% non-Hispanic and 10.53% Hispanic.
A17: Mental Health Diagnoses | C17: No
A18: If yes, what mental health conditions were they? | C18: N/A
A19: Sample Size | C19: 152 randomised (72 active; 80 control); 152 post (72 active; 80 control); 150 6 wk FU (70 active; 80 control); 145 12 wk FU (69 active; 76 control); 136 6mo FU (64 active; 72 control)
A21: Intervention Characteristics
A22: Name | C22: CARE App
A23: Focus | C23: Reduce repetitive negative thinking, and internalising symptoms. Focus on reducing rumination.
A24: Device | C24: Mobile phone app
A25: Setting | C25: Wherever the participant chose - given the app for 3 weeks to use at least three times a day
A26: Duration | C26: Active intervention phase was 3 weeks - follow up time points at 6 and 12 weeks post-intervention, and 6 months post-intervention
A27: Adherence to the Intervention | C27: Y
A28: If yes, how was this monitored? | C28: Monitored electronically through in-app technologies. A small financial bonus was offered to those participants who used the app per protocol (three-times a day every day). Participants were send push notifications three times a day to remind them to use the app. There was a counter on the app so partiipants could see if they were on target to earn the bonus.
A29: Is this intervention novel? | C29: N
A30: If no, how was this tested? | C30: Previously tested in an acceptability and feasibility study (Hilt and Swords, 2021)
A31: Intervention Development | C31: Information not provided in the text - discusses pilot testing
A32: Emotion (dys)regulation component | C32: Mindfulness Based Stress Reduction Therapy. Mindfulness activities, including body scans and breathwork. Mood monitoring
A33: Psychopathology component | C33: The authors expected that the reduction in rumination resulting from the intervention would mediate decreases in internalizing psychopathology during the follow-up period.
A35: Intervention Outcomes
A36: Emotion Dysregulation | C36: Final follow-up time point (6 months) - multilevel models. Measuring rumination.
A37: N | C37: 136 6mo FU (64 active; 72 control)
A38: Effect | C38: The mindfulness intervention reduced rumination as hypothesized (d = .43) relative to the mood- monitoring only control. Specifically, there were reductions in rumination (b = 3.20; t(69.86) = 3.53, p < .001)
A39: Psychopathology | C39: Measured depressive symptoms, anxiety symptoms (self-report) and parent-reported internalising symptoms - final FU time point. Repeated measures ANOVA
A40: N | C40: 57
A41: Effect | C41: The rumination intervention reduced depressive symptoms (d = .24) and anxiety symptoms (d = .25) relative to the mood- monitoring only control. See a reduction in depressive symptoms (b = 1.85; t(70.32) = 2.95, p = .005) but no significant reduction in anxiety symptoms (b = 2.50; t(70.59) = 1.60, p = .114). Also, participants in the mindfulness condition had a greater reduction in rumination following the intervention period, and this predicted a greater reduction in depressive symptoms, anxiety symotoms, and internalising symptoms.
A42: Additional Outcomes (e.g. academic achievement) | C42: N/A
A43: N | C43: N/A
A44: Effect | C44: N/A
A48: Quality Assessment
A49: A) Selection bias
A50: Q1. Are the individuals selected to participate in the study likely to be representative of the target population? | C50: 3
A51: Q2. What percentage of selected individuals agreed to participate? | C51: 1
A52: Overall Rating | C52: 3
A53: B) Study Design
A54: Indicate the Study Design | C54: 1
A55: Was the study described as randomised (if NO go to C) | C55: Y
A56: If YES, was the method of randomisation described? | C56: Y
A57: If YES, was this method appropriate? | C57: Y
A58: Overall Rating | C58: 1
A59: C) Confounders
A60: Q1. Were there important differences between the groups prior to the intervention? | C60: 1
A61: Q2. If YES, indicate the percentage of relevant confounders that were controlled (either in the design (e.g. stratification, matching) or analysis)? | C61: 1
A62: Overall Rating | C62: 1
A63: D) Blinding
A64: Q1. Was (were) the outcome assessor(s) aware of the intervention or exposure status of participants? | C64: 3
A65: Q2. Were the study participants aware of the research question? | C65: 3
A66: Overall Rating | C66: 2
A67: E) Data Collection Methods
A68: Q1. Were the data collection tools shown to be valid? | C68: 1
A69: Q2. Were the data collection tools shown to be reliable? | C69: 1
A70: Overall Rating | C70: 1
A71: F) Withdrawals and Drop-outs
A72: Q1. Were withdrawals and drop-outs reported in terms of numbers and/or reasons per group? | C72: 1
A73: Q2. Indicate the percentage of participants completing the study. (If the percentage differs by groups, record the lowest). | C73: 1
A74: Overall Rating | C74: 1
A75: G) Intervention Integrity
A76: Q1. What percentage of participants received the allocated intervention or exposure of interest? | C76: 1
A77: Q2. Was the consistency of the intervention measured? | C77: 1
A78: Q3. Is it likely that subjects received an unintended intervention (contamination or co-intervention) that may influence the results? | C78: 3
A79: H) Analyses
A80: Q1. Indicate the unit of allocation | C80: Individual
A81: Q2. Indicate the unit of analysis | C81: Individual
A82: Q3. Are the statistical methods appropriate for the study design? | C82: 1
A83: Q4. Is the analysis performed by intervention allocation status (i.e. intention to treat) rather than the actual intervention received? | C83: 1
A85: Global Rating for the Paper | C85: MODERATE (2)
A86: 1 = Strong (no WEAK ratings)
A87: 2 = Moderate (one WEAK rating)
A88: 3 = Weak (two or more weak ratings)

Sheet Study Three
A2: Study Characteristics
A3: Author(s) | C3: Houck C, Modrowski C, Hadley W, Barker D, Myers V, Bala K, Wickham B, Jerrod T.
A4: Publication Year | C4: 2022
A5: Title | C5: A Pilot Study of a Tablet-Based Emotion Regulation Intervention for Early Adolescents.
A6: Region, and Country | C6: Northeast Region, USA
A7: Aims and Objectives | C7: The purpose of this study was to examine whether adolescents who completed the tablet-based iTRAC intervention, relative to adolescents assigned to a wait-list comparison, demonstrated differences in similar, yet distinct, constructs associated with ER abilities including emotional awareness, intentions to use ER strategies, the use of ER strategies, and other indicators implicated in ER processes, such as beliefs about emotions and emotional self-efficacy.
A8: Study Design | C8: Small randomised controlled trial
A9: Instrument and criteria used for mental health diagnosis (if any) | C9: N/A
A10: Instrument and criteria used to assess emotion (dys-)regulation | C10: Adolescent report (The Emotion Regulation Behaviors Scale—Revised; Four subscales of the Difficulties in Emotion Regulation Scale; Affect Dysregulation Scale); Parent report (Adolescent Self-Regulatory Inventory; The Emotion Regulation Checklist)
A12: Participant Characteristics
A13: Mean age of participants (years) | C13: No data provided
A14: Range of ages of participants (years) | C14: 12 (34%), 13 (62%) and 14 (5%)
A15: Gender of Participants (%) | C15: 56% F; 44% M
A16: Ethnicity of Participants (%) | C16: 40% Black, 33% White, 10% multiracial, 4% other categories, and 14% did not respond; 30% endorsed Latino ethnicity
A17: Mental Health Diagnoses | C17: N
A18: If yes, what mental health conditions were they? | C18: N/A
A19: Sample Size | C19: 85 enrolled (42 intervention, 43 control); 80 completed follow-up (40 per group)
A21: Intervention Characteristics
A22: Name | C22: Internet-based Talking About Risk and Adolescent Choices (iTRAC),
A23: Focus | C23: Improving constructs associated with ER abilities including emotional awareness, intentions to use ER strategies, the use of ER strategies, and other indicators implicated in ER processes, such as beliefs about emotions and emotional self-efficacy.
A24: Device | C24: Tablet based
A25: Setting | C25: Completed independently, in a designated classroom at school
A26: Duration | C26: Participants were encouraged to complete 1 module per week for 4 weeks. Each module took 30 to 45 minutes to complete. Follow-up completed three months after baseline.
A27: Adherence to the Intervention | C27: Y
A28: If yes, how was this monitored? | C28: In class completion
A29: Is this intervention novel? | C29: N
A30: If no, how was this tested? | C30: Adapted from the face-to-face version of Project Talking about Risk and Adolescent Choices (TRAC)
A31: Intervention Development | C31: The adaptation of the intervention was created with guidance from 2 youth advisory boards (1 male group [n 8] and 1 female group [n 7]; 7 meetings each) and a group of experts in adolescent health and digital interventions (n 4; a middle school nurse, 2 child psychologists with intervention expertise, and an adult psychologist with digital intervention expertise; [3 meetings]). These groups, through iterative processes, contributed ideas for translating to a digital format, provided feedback about appeal, and advised on how adaptations might lead to learning the ER content. Adolescent advisory boards first reviewed paper prototypes of proposed activities and contributed suggestions to enhance engagement and understanding of concepts. They tested the initial digital translation for information about how enjoyable the games were and what they understood the activities to be teaching. The expert panel also reviewed materials to ensure that activities were developmentally and culturally informed and consistent with program aims.
A32: Emotion (dys)regulation component | C32: Activities targeted increasing emotional awareness, recognizing somatic cues associated with emotions, identifying causes for emotions, drawing connections between one’s emotions and actions, learning 3 strategies for ER, and practicing these during the program activities. The strategies were tailored to the developmental stage of early adolescence and had been developed through qualitative work with youth in this age range14 for Project TRAC.
A33: Psychopathology component | C33: N/A
A35: Intervention Outcomes
A36: Emotion Dysregulation | C36: Final follow-up time point (12 weeks). Standardised difference scores. Multiple measures relating to emotion regulation.
A37: N | C37: 40 (intervention), 40 (control)
A38: Effect | C38: Implicit Theories of Emotion Scale - controllability subscale ([d] 0.72 [0.27–1.16]) ; Emotion Regulation Behaviors Scale - use of emotion regulation strategies ([d] 0.45 [20.13 to 1.03]) ; Emotion Regulation Strategy Intentions - intentions to use these strategies ([d] 5 0.51 [–0.02 to 1.03]) ; Difficulties in Emotion Regulation Scale, Awareness ([d] 20.59 [–1.22 to 0.04]), Access ([d] 20.36 [–0.81 to 0.10]), Control ([d] 20.29 [–0.82 to 0.24]), Clarity ([d] 20.08 [–0.67 to 0.50]) ; Self-Efficacy Questionnaire for Children ([d] 0.63 [–0.01 to 1.28]) ; Affect Dysregulation Scale ([d] 20.19 [–0.62 to 0.24]) ; Emotion Regulation Checklist ([d] 0.34 [–0.15 to 0.82]), Negativity/Lability subscale ([d] 20.02 [–0.46 to 0.42]) ; Adolescent Self-Regulatory Inventory, short-term regulation ([d] 20.09 [–0.59 to 0.41]), long-term regulation ([d] 0.002 [–0.48 to 0.48]).
A39: Psychopathology | C39: Not measured
A40: N | C40: N/A
A41: Effect | C41: N/A
A42: Additional Outcomes (e.g. academic achievement) | C42: Behavioural tasks related to distress tolerance. Final follow-up time point (12 weeks). Standardised difference scores.
A43: N | C43: 40 (intervention), 40 (control)
A44: Effect | C44: Behavioral Indicator of Resilience to Distress ([d] 20.71 [–1.23 to 20.18]) ; The Mirror Tracing Persistence Task ([d] 20.26 [–0.69 to 0.17])
A47: Quality Assessment
A48: A) Selection bias
A49: Q1. Are the individuals selected to participate in the study likely to be representative of the target population? | C49: 1
A50: Q2. What percentage of selected individuals agreed to participate? | C50: 2
A51: Overall Rating | C51: 2
A52: B) Study Design
A53: Indicate the Study Design | C53: 1
A54: Was the study described as randomised (if NO go to C) | C54: Y
A55: If YES, was the method of randomisation described? | C55: Y
A56: If YES, was this method appropriate? | C56: Y
A57: Overall Rating | C57: 1
A58: C) Confounders
A59: Q1. Were there important differences between the groups prior to the intervention? | C59: 2
A60: Q2. If YES, indicate the percentage of relevant confounders that were controlled (either in the design (e.g. stratification, matching) or analysis)?
A61: Overall Rating | C61: 1
A62: D) Blinding
A63: Q1. Was (were) the outcome assessor(s) aware of the intervention or exposure status of participants? | C63: 3
A64: Q2. Were the study participants aware of the research question? | C64: 3
A65: Overall Rating | C65: 2
A66: E) Data Collection Methods
A67: Q1. Were the data collection tools shown to be valid? | C67: 1
A68: Q2. Were the data collection tools shown to be reliable? | C68: 1
A69: Overall Rating | C69: 1
A70: F) Withdrawals and Drop-outs
A71: Q1. Were withdrawals and drop-outs reported in terms of numbers and/or reasons per group? | C71: 1
A72: Q2. Indicate the percentage of participants completing the study. (If the percentage differs by groups, record the lowest). | C72: 1
A73: Overall Rating | C73: 1
A74: G) Intervention Integrity
A75: Q1. What percentage of participants received the allocated intervention or exposure of interest? | C75: 1
A76: Q2. Was the consistency of the intervention measured? | C76: 3
A77: Q3. Is it likely that subjects received an unintended intervention (contamination or co-intervention) that may influence the results? | C77: 3
A78: H) Analyses
A79: Q1. Indicate the unit of allocation | C79: Individual
A80: Q2. Indicate the unit of analysis | C80: Individual
A81: Q3. Are the statistical methods appropriate for the study design? | C81: 1
A82: Q4. Is the analysis performed by intervention allocation status (i.e. intention to treat) rather than the actual intervention received? | C82: 2
A84: Global Rating for the Paper | C84: STRONG (1)
A85: 1 = Strong (no WEAK ratings)
A86: 2 = Moderate (one WEAK rating)
A87: 3 = Weak (two or more weak ratings)

Sheet Study Four
A2: Study Characteristics
A3: Author(s) | C3: Mrazek AJ, Mrazek MD, Reese JV, Kirk AC, Gougis LJ, Delegard AM, Cynman DJ, Cherolini CM, Carr PC, Schooler JW.
A4: Publication Year | C4: 2019
A5: Title | C5: Mindfulness-based attention training: Feasibility and preliminary outcomes of a digital course for high school students.
A6: Region, and Country | C6: California, USA
A7: Aims and Objectives | C7: The primary research question (RQ1) of the present research was whether a digital mindfulness course designed specifically for implementation in high schools could be feasibly delivered in a school setting. Although the intervention is still under active development, the secondary research question (RQ2) was whether the intervention would have beneficial outcomes for students.
A8: Study Design | C8: Feasability study using one-group pre–post design.
A9: Instrument and criteria used for mental health diagnosis (if any) | C9: N/A
A10: Instrument and criteria used to assess emotion (dys-)regulation | C10: The Emotion Regulation Questionnaire for Children and Adolescents (ERQ-CA)
A12: Participant Characteristics
A13: Mean age of participants (years) | C13: There were 114 freshmen, five sophomores, four juniors, and 65 seniors
A14: Range of ages of participants (years) | C14: Grades 10-12
A15: Gender of Participants (%) | C15: Participants were asked what gender they identified with, and 106 said male, 78 said female, one said nonbinary, and three preferred not to say
A16: Ethnicity of Participants (%) | C16: The number of students identifying with specific races was as follows: African American/Black—3 students; Asian—94; Caucasian—71; American Indian/Alaskan Native—2; Native Hawaiian or Other Pacific Islander—1; Mix of two or more races—17. Six students identified as Hispanic.
A17: Mental Health Diagnoses | C17: N
A18: If yes, what mental health conditions were they? | C18: N/A
A19: Sample Size | C19: n=346 - 317 completed pre-test, 214 completed post-test, final sample 190 students
A21: Intervention Characteristics
A22: Name | C22: Finding Focus
A23: Focus | C23: A key objective of the course was to help students to train their ability to focus. Students also learned how to use attention to relate more effectively to thoughts, evaluations, and emotions.
A24: Device | C24: Can be accessed on computers, tablets or phones.
A25: Setting | C25: Completed in class
A26: Duration | C26: 22- day digital course - 2.25 hours of content, including four 12-min lessons and daily 4-min exercises
A27: Adherence to the Intervention | C27: Y
A28: If yes, how was this monitored? | C28: Monitored by the learning platform. Teachers were encouraged to have students complete the lessons and at least some of the daily exercises in class. The digital learning platform provided teachers with an interface to track student progress throughout the course
A29: Is this intervention novel? | C29: Y
A30: If no, how was this tested? | C30: N/A
A31: Intervention Development | C31: Not provided
A32: Emotion (dys)regulation component | C32: The course lessons presented three fundamental skills: anchoring, focusing, and releasing. Anchoring was defined as deciding where you focus. Focusing was defined as directing your attention to a specific thing. Releasing was defined as letting something go by not giving it any more attention.
A33: Psychopathology component | C33: N/A
A35: Intervention Outcomes
A36: Emotion Dysregulation | C36: Paired sample t-test were used to compare pre-test and post-test scores.
A37: N | C37: 214
A38: Effect | C38: t = 4.25, p<.001 ; There was a small effect size (d = 0.29)
A39: Psychopathology | C39: Not measured
A40: N | C40: N/A
A41: Effect | C41: N/A
A42: Additional Outcomes (e.g. academic achievement) | C42: Additional outcomes measured include pereceived level of demand, stress, stress management, and life satisfaction. Also measured mindsets, focus and mind wandering. Paired sample t-test were used to compare pre-test and post-test scores.
A43: N | C43: 214
A44: Effect | C44: Demands: t = 5.79, p<.001. Medium effect size d = .57 ; Stress: t = 1.79, p = .075 . Small effect size d = .13 ; Stress Management: t = 2.86, p = .005 . There is a small effext size d = .21 ; Life Satisfaction: t = 1.38, p = .168 . There is a small effect size d = .10 ; More likely to adopt growth mindset d = .15 ; More motivated to train this ability d = .15 ; Greater self-efficacy d = .86 ; Focus t(1,188) = .93, p = .355 ; Mind wandering t(1,188) = 0.75, p = 0.456 ; Paying attention in class t(1,188) = .46, p = .646
A47: Quality Assessment
A48: A) Selection bias
A49: Q1. Are the individuals selected to participate in the study likely to be representative of the target population? | C49: 2
A50: Q2. What percentage of selected individuals agreed to participate? | C50: 5
A51: Overall Rating | C51: 2
A52: B) Study Design
A53: Indicate the Study Design | C53: 5
A54: Was the study described as randomised (if NO go to C) | C54: N
A55: If YES, was the method of randomisation described?
A56: If YES, was this method appropriate?
A57: Overall Rating | C57: 2
A58: C) Confounders
A59: Q1. Were there important differences between the groups prior to the intervention? | C59: 3
A60: Q2. If YES, indicate the percentage of relevant confounders that were controlled (either in the design (e.g. stratification, matching) or analysis)? | C60: 4
A61: Overall Rating | C61: 3
A62: D) Blinding
A63: Q1. Was (were) the outcome assessor(s) aware of the intervention or exposure status of participants? | C63: 3
A64: Q2. Were the study participants aware of the research question? | C64: 3
A65: Overall Rating | C65: 2
A66: E) Data Collection Methods
A67: Q1. Were the data collection tools shown to be valid? | C67: 2
A68: Q2. Were the data collection tools shown to be reliable? | C68: 3
A69: Overall Rating | C69: 3
A70: F) Withdrawals and Drop-outs
A71: Q1. Were withdrawals and drop-outs reported in terms of numbers and/or reasons per group? | C71: 1
A72: Q2. Indicate the percentage of participants completing the study. (If the percentage differs by groups, record the lowest). | C72: 2
A73: Overall Rating | C73: 2
A74: G) Intervention Integrity
A75: Q1. What percentage of participants received the allocated intervention or exposure of interest? | C75: 1
A76: Q2. Was the consistency of the intervention measured? | C76: 2
A77: Q3. Is it likely that subjects received an unintended intervention (contamination or co-intervention) that may influence the results? | C77: 3
A78: H) Analyses
A79: Q1. Indicate the unit of allocation | C79: Individual
A80: Q2. Indicate the unit of analysis | C80: Individual
A81: Q3. Are the statistical methods appropriate for the study design? | C81: 1
A82: Q4. Is the analysis performed by intervention allocation status (i.e. intention to treat) rather than the actual intervention received? | C82: 2
A84: Global Rating for the Paper | C84: WEAK (3)
A85: 1 = Strong (no WEAK ratings)
A86: 2 = Moderate (one WEAK rating)
A87: 3 = Weak (two or more weak ratings)

Sheet Study Five
A2: Study Characteristics
A3: Author(s) | C3: Schnitker SA, Shubert J, Ratchford JL, Lumpkin M, Houltberg BJ.
A4: Publication Year | C4: 2021
A5: Title | C5: Mixed results on the efficacy of the CharacterMe smartphone app to improve self-control, patience, and emotional regulation competencies in adolescents
A6: Region, and Country | C6: Los Angeles, CA, USA
A7: Aims and Objectives | C7: Sought to examine the effectiveness of the CharacterMe intervention across a 6-month period.
A8: Study Design | C8: Feasability study - within subjects pre-test, post-test
A9: Instrument and criteria used for mental health diagnosis (if any) | C9: N/A
A10: Instrument and criteria used to assess emotion (dys-)regulation | C10: Children’s Emotion Management Scales
A12: Participant Characteristics
A13: Mean age of participants (years) | C13: 16.07
A14: Range of ages of participants (years) | C14: 15-19
A15: Gender of Participants (%) | C15: 56.6% female; 43.4% male
A16: Ethnicity of Participants (%) | C16: 41.1% Asian, 29.5% Latinx, 12.9% White, 11.5% other, and 5.0% African American.
A17: Mental Health Diagnoses | C17: N
A18: If yes, what mental health conditions were they? | C18: N/A
A19: Sample Size | C19: 618
A21: Intervention Characteristics
A22: Name | C22: CharacterMe
A23: Focus | C23: The CharacterMe smartphone application was designed to engage adolescents in the use of research-informed strategies for building the character strengths of self-control and patience as well as underlying emotion regulation capacities.
A24: Device | C24: Available for download in the Apple and Google Play stores. Accessed via a mobile app or accessed through an online browser.
A25: Setting | C25: Wherever is convenient
A26: Duration | C26: 2 weeks to complete the intervention, followed by post-test, 1 month and 6 month FU
A27: Adherence to the Intervention | C27: Y
A28: If yes, how was this monitored? | C28: Participants had the option to enable push notifications. App engagement was assessed through the number of days participants engaged the app across the 14-day period, and by summing the number of times participants engaged in each specific task.
A29: Is this intervention novel? | C29: Y
A30: If no, how was this tested? | C30: N/A
A31: Intervention Development | C31: The team engaged in an iterative participatory design process for building the smartphone app. Assembled an interdisciplinary team, which included a designer, personality/social psychologist, developmental psychologist, and developer.
A32: Emotion (dys)regulation component | C32: Targeted the development six emotion regulation strategies situated in interpersonal conflicts in our “Solve a Conflict” tasks, which we hypothesized would build patience and self-control, alongside the underlying socialemotional capacities for emotion regulation. Participants were asked to fill out a feeling thermometer task each day. They were given suggestions for basic self-control tasks and conflict resolution tasks to complete each day, but they were also allowed to choose their own tasks. For the conflict resolution tasks, adolescents detailed a recent conflict, indicated who was involved, and provided a reason for the conflict. Participants rated four emotions (anger, sadness, upset, and happiness) during the worst point of the conflict (e.g., “How angry were you?”) and following the task (e.g., “How do you feel now?”).
A33: Psychopathology component | C33: N/A
A35: Intervention Outcomes
A36: Emotion Dysregulation | C36: Latent Growth Curve Models - unconditional model to estimate overall change over time, conditional model to estimate change with engagement and framings as predictors.
A37: N | C37: 333
A38: Effect | C38: The variance of the slope for sadness regulation (but not anger regulation) was significant suggesting interindividual differences in intraindividual change. The variance of the slope was similar in size to the variance of the intercept, which allows for solid grounding to make inferences about predictors of change in sadness regulation. Chi square (anger regulation) = 61.57 (54) ; Chi square (sadness regulation) = 83.37 (55), p<.01. More time in the app was associated with decreases in sadness regulation. Engagement with particular tasks was not a significant predictor of anger regulation. Greater engagement with Hand Swap and Watch Your Mouth was positively associated with changes in sadness regulation, whereas greater engagement with Mindfulness and Take Perspective was negatively associated with within-person changes in sadness regulation.
A39: Psychopathology | C39: Not measured.
A40: N | C40: N/A
A41: Effect | C41: N/A
A42: Additional Outcomes (e.g. academic achievement) | C42: Also measured Life Hardships Patience, Interpersonal Patience, Daily hassles Paitence and Self-control. Latent Growth Curve Models - unconditional model to estimate overall change over time, conditional model to estimate change with engagement and framings as predictors.
A43: N | C43: 333
A44: Effect | C44: The variance of the slopes for self-control, and all three types of patience were significant, suggesting interindividual differences in intraindividual change. The size of effects for variance in slope for self-control and the three patience factors were quite small (i.e., all coefficients <0.01); thus, any inferences based on effects related to variability in these variables should be made with extreme caution. Chi square (Life hardships patience) = 8.19 (6) ; Chi square (Interpersonal patience) = 21.44 (5), p<.001 ; Chi square (Daily hassles patience) = 20.67 (6) ; Chi square (Self-control) = 9.87 (6). More time in the app was associated with increases in life hardships patience across time. Engagement with particular tasks was not a significant predictor of daily hassles patience, or self-control. Changes in life hardships patience was positively associated with greater engagement with Take Perspective and Watch Your Mouth but negatively associated with Hand Swap. Engagement with Take Perspective and Think Again positively predicted within-person change in interpersonal patience whereas engagement with Mindfulness was negatively related.
A47: Quality Assessment
A48: A) Selection bias
A49: Q1. Are the individuals selected to participate in the study likely to be representative of the target population? | C49: 1
A50: Q2. What percentage of selected individuals agreed to participate? | C50: 5
A51: Overall Rating | C51: 2
A52: B) Study Design
A53: Indicate the Study Design | C53: 5
A54: Was the study described as randomised (if NO go to C) | C54: N
A55: If YES, was the method of randomisation described?
A56: If YES, was this method appropriate?
A57: Overall Rating | C57: 2
A58: C) Confounders
A59: Q1. Were there important differences between the groups prior to the intervention? | C59: 1
A60: Q2. If YES, indicate the percentage of relevant confounders that were controlled (either in the design (e.g. stratification, matching) or analysis)? | C60: 1
A61: Overall Rating | C61: 1
A62: D) Blinding
A63: Q1. Was (were) the outcome assessor(s) aware of the intervention or exposure status of participants? | C63: 3
A64: Q2. Were the study participants aware of the research question? | C64: 3
A65: Overall Rating | C65: 2
A66: E) Data Collection Methods
A67: Q1. Were the data collection tools shown to be valid? | C67: 1
A68: Q2. Were the data collection tools shown to be reliable? | C68: 1
A69: Overall Rating | C69: 1
A70: F) Withdrawals and Drop-outs
A71: Q1. Were withdrawals and drop-outs reported in terms of numbers and/or reasons per group? | C71: 2
A72: Q2. Indicate the percentage of participants completing the study. (If the percentage differs by groups, record the lowest). | C72: 3
A73: Overall Rating | C73: 3
A74: G) Intervention Integrity
A75: Q1. What percentage of participants received the allocated intervention or exposure of interest? | C75: 1
A76: Q2. Was the consistency of the intervention measured? | C76: 1
A77: Q3. Is it likely that subjects received an unintended intervention (contamination or co-intervention) that may influence the results? | C77: 3
A78: H) Analyses
A79: Q1. Indicate the unit of allocation | C79: Indvidual
A80: Q2. Indicate the unit of analysis | C80: Indvidual
A81: Q3. Are the statistical methods appropriate for the study design? | C81: 1
A82: Q4. Is the analysis performed by intervention allocation status (i.e. intention to treat) rather than the actual intervention received? | C82: 2
A84: Global Rating for the Paper | C84: MODERATE (2)
A85: 1 = Strong (no WEAK ratings)
A86: 2 = Moderate (one WEAK rating)
A87: 3 = Weak (two or more weak ratings)
