Workbook

Sheet genotyping
G1: code for assigning haplotypes
G2: =IF(E3="BB","R or I",IF(E3="AA","S/S",IF(E3="AB","S/R","Unknown"))) | H2: =IF(E7="BB","R or A",IF(E7="AA","S or I",IF(E7="AB","S/R or R/I or S/A or I/A","Unknown")))
A3: Well ID | B3: Well | C3: F1-1 genotype | D3: marginal? | E3: F6-2 genotype | F3: marginal? | G3: F1 predicted haplotype | H3: F6 predicted haplotype | I3: Redo plate F1-1? | J3: Redo plate F6-2? | K3: genotype | L3: F1-1 predicted haplotype | M3: F6-2 predicted haplotype
A4: ='F6-2 plate 1'!A7 -> NTC | B4: A01 | C4: =VLOOKUP(B4,'F1-1 plate 1'!B$7:H$102,7,FALSE) -> NTC | D4: =VLOOKUP(B4,'F1-1 plate 1'!B$7:J$102,9,FALSE) -> #DIV/0! | E4: =VLOOKUP(B4,'F6-2 plate 1'!B$7:H$102,7,FALSE) -> NTC | F4: =VLOOKUP(genotyping!B4,'F6-2 plate 1'!B$7:J$102,9,FALSE) -> #DIV/0! | G4: =IF(C4="BB","R or I",IF(C4="AA","S/S",IF(C4="AB","S/R or S/I","Unknown"))) -> Unknown | H4: =IF(E4="BB","R or A",IF(E4="AA","S or I",IF(E4="AB","S/R or R/I or S/A or I/A","Unknown"))) -> Unknown | K4: AA | L4: S/S | M4: S or I
A5: ='F6-2 plate 1'!A8 -> NTC | B5: A02 | C5: =VLOOKUP(B5,'F1-1 plate 1'!B$7:H$102,7,FALSE) -> NTC | D5: =VLOOKUP(B5,'F1-1 plate 1'!B$7:J$102,9,FALSE) -> #DIV/0! | E5: =VLOOKUP(B5,'F6-2 plate 1'!B$7:H$102,7,FALSE) -> NTC | F5: =VLOOKUP(genotyping!B5,'F6-2 plate 1'!B$7:J$102,9,FALSE) -> #DIV/0! | G5: =IF(C5="BB","R or I",IF(C5="AA","S/S",IF(C5="AB","S/R or S/I","Unknown"))) -> Unknown | H5: =IF(E5="BB","R or A",IF(E5="AA","S or I",IF(E5="AB","S/R or R/I or S/A or I/A","Unknown"))) -> Unknown | K5: AB | L5: S/R | M5: S/R or R/I or S/A or I/A
A6: ='F6-2 plate 1'!A9 -> NTC | B6: A03 | C6: =VLOOKUP(B6,'F1-1 plate 1'!B$7:H$102,7,FALSE) -> NTC | D6: =VLOOKUP(B6,'F1-1 plate 1'!B$7:J$102,9,FALSE) -> #DIV/0! | E6: =VLOOKUP(B6,'F6-2 plate 1'!B$7:H$102,7,FALSE) -> NTC | F6: =VLOOKUP(genotyping!B6,'F6-2 plate 1'!B$7:J$102,9,FALSE) -> #DIV/0! | G6: =IF(C6="BB","R or I",IF(C6="AA","S/S",IF(C6="AB","S/R or S/I","Unknown"))) -> Unknown | H6: =IF(E6="BB","R or A",IF(E6="AA","S or I",IF(E6="AB","S/R or R/I or S/A or I/A","Unknown"))) -> Unknown | K6: BB | L6: R or I | M6: R or A
A7: ='F6-2 plate 1'!A10 -> AA | B7: A04 | C7: =VLOOKUP(B7,'F1-1 plate 1'!B$7:H$102,7,FALSE) -> AA | D7: =VLOOKUP(B7,'F1-1 plate 1'!B$7:J$102,9,FALSE) -> #DIV/0! | E7: =VLOOKUP(B7,'F6-2 plate 1'!B$7:H$102,7,FALSE) -> AA | F7: =VLOOKUP(genotyping!B7,'F6-2 plate 1'!B$7:J$102,9,FALSE) -> #DIV/0! | G7: =IF(C7="BB","R or I",IF(C7="AA","S/S",IF(C7="AB","S/R or S/I","Unknown"))) -> S/S | H7: =IF(E7="BB","R or A",IF(E7="AA","S or I",IF(E7="AB","S/R or R/I or S/A or I/A","Unknown"))) -> S or I
A8: ='F6-2 plate 1'!A11 -> AA | B8: A05 | C8: =VLOOKUP(B8,'F1-1 plate 1'!B$7:H$102,7,FALSE) -> AA | D8: =VLOOKUP(B8,'F1-1 plate 1'!B$7:J$102,9,FALSE) -> #DIV/0! | E8: =VLOOKUP(B8,'F6-2 plate 1'!B$7:H$102,7,FALSE) -> AA | F8: =VLOOKUP(genotyping!B8,'F6-2 plate 1'!B$7:J$102,9,FALSE) -> #DIV/0! | G8: =IF(C8="BB","R or I",IF(C8="AA","S/S",IF(C8="AB","S/R or S/I","Unknown"))) -> S/S | H8: =IF(E8="BB","R or A",IF(E8="AA","S or I",IF(E8="AB","S/R or R/I or S/A or I/A","Unknown"))) -> S or I
A9: ='F6-2 plate 1'!A12 -> AA | B9: A06 | C9: =VLOOKUP(B9,'F1-1 plate 1'!B$7:H$102,7,FALSE) -> AA | D9: =VLOOKUP(B9,'F1-1 plate 1'!B$7:J$102,9,FALSE) -> #DIV/0! | E9: =VLOOKUP(B9,'F6-2 plate 1'!B$7:H$102,7,FALSE) -> AA | F9: =VLOOKUP(genotyping!B9,'F6-2 plate 1'!B$7:J$102,9,FALSE) -> #DIV/0! | G9: =IF(C9="BB","R or I",IF(C9="AA","S/S",IF(C9="AB","S/R or S/I","Unknown"))) -> S/S | H9: =IF(E9="BB","R or A",IF(E9="AA","S or I",IF(E9="AB","S/R or R/I or S/A or I/A","Unknown"))) -> S or I
A10: ='F6-2 plate 1'!A13 -> AB | B10: A07 | C10: =VLOOKUP(B10,'F1-1 plate 1'!B$7:H$102,7,FALSE) -> AB | D10: =VLOOKUP(B10,'F1-1 plate 1'!B$7:J$102,9,FALSE) -> #DIV/0! | E10: =VLOOKUP(B10,'F6-2 plate 1'!B$7:H$102,7,FALSE) -> AB | F10: =VLOOKUP(genotyping!B10,'F6-2 plate 1'!B$7:J$102,9,FALSE) -> #DIV/0! | G10: =IF(C10="BB","R or I",IF(C10="AA","S/S",IF(C10="AB","S/R or S/I","Unknown"))) -> S/R or S/I | H10: =IF(E10="BB","R or A",IF(E10="AA","S or I",IF(E10="AB","S/R or R/I or S/A or I/A","Unknown"))) -> S/R or R/I or S/A or I/A
A11: ='F6-2 plate 1'!A14 -> AB | B11: A08 | C11: =VLOOKUP(B11,'F1-1 plate 1'!B$7:H$102,7,FALSE) -> AB | D11: =VLOOKUP(B11,'F1-1 plate 1'!B$7:J$102,9,FALSE) -> #DIV/0! | E11: =VLOOKUP(B11,'F6-2 plate 1'!B$7:H$102,7,FALSE) -> AB | F11: =VLOOKUP(genotyping!B11,'F6-2 plate 1'!B$7:J$102,9,FALSE) -> #DIV/0! | G11: =IF(C11="BB","R or I",IF(C11="AA","S/S",IF(C11="AB","S/R or S/I","Unknown"))) -> S/R or S/I | H11: =IF(E11="BB","R or A",IF(E11="AA","S or I",IF(E11="AB","S/R or R/I or S/A or I/A","Unknown"))) -> S/R or R/I or S/A or I/A
A12: ='F6-2 plate 1'!A15 -> AB | B12: A09 | C12: =VLOOKUP(B12,'F1-1 plate 1'!B$7:H$102,7,FALSE) -> AB | D12: =VLOOKUP(B12,'F1-1 plate 1'!B$7:J$102,9,FALSE) -> #DIV/0! | E12: =VLOOKUP(B12,'F6-2 plate 1'!B$7:H$102,7,FALSE) -> AB | F12: =VLOOKUP(genotyping!B12,'F6-2 plate 1'!B$7:J$102,9,FALSE) -> #DIV/0! | G12: =IF(C12="BB","R or I",IF(C12="AA","S/S",IF(C12="AB","S/R or S/I","Unknown"))) -> S/R or S/I | H12: =IF(E12="BB","R or A",IF(E12="AA","S or I",IF(E12="AB","S/R or R/I or S/A or I/A","Unknown"))) -> S/R or R/I or S/A or I/A
A13: ='F6-2 plate 1'!A16 -> BB | B13: A10 | C13: =VLOOKUP(B13,'F1-1 plate 1'!B$7:H$102,7,FALSE) -> BB | D13: =VLOOKUP(B13,'F1-1 plate 1'!B$7:J$102,9,FALSE) -> #DIV/0! | E13: =VLOOKUP(B13,'F6-2 plate 1'!B$7:H$102,7,FALSE) -> BB | F13: =VLOOKUP(genotyping!B13,'F6-2 plate 1'!B$7:J$102,9,FALSE) -> #DIV/0! | G13: =IF(C13="BB","R or I",IF(C13="AA","S/S",IF(C13="AB","S/R or S/I","Unknown"))) -> R or I | H13: =IF(E13="BB","R or A",IF(E13="AA","S or I",IF(E13="AB","S/R or R/I or S/A or I/A","Unknown"))) -> R or A
A14: ='F6-2 plate 1'!A17 -> BB | B14: A11 | C14: =VLOOKUP(B14,'F1-1 plate 1'!B$7:H$102,7,FALSE) -> BB | D14: =VLOOKUP(B14,'F1-1 plate 1'!B$7:J$102,9,FALSE) -> #DIV/0! | E14: =VLOOKUP(B14,'F6-2 plate 1'!B$7:H$102,7,FALSE) -> BB | F14: =VLOOKUP(genotyping!B14,'F6-2 plate 1'!B$7:J$102,9,FALSE) -> #DIV/0! | G14: =IF(C14="BB","R or I",IF(C14="AA","S/S",IF(C14="AB","S/R or S/I","Unknown"))) -> R or I | H14: =IF(E14="BB","R or A",IF(E14="AA","S or I",IF(E14="AB","S/R or R/I or S/A or I/A","Unknown"))) -> R or A
A15: ='F6-2 plate 1'!A18 -> BB | B15: A12 | C15: =VLOOKUP(B15,'F1-1 plate 1'!B$7:H$102,7,FALSE) -> BB | D15: =VLOOKUP(B15,'F1-1 plate 1'!B$7:J$102,9,FALSE) -> #DIV/0! | E15: =VLOOKUP(B15,'F6-2 plate 1'!B$7:H$102,7,FALSE) -> BB | F15: =VLOOKUP(genotyping!B15,'F6-2 plate 1'!B$7:J$102,9,FALSE) -> #DIV/0! | G15: =IF(C15="BB","R or I",IF(C15="AA","S/S",IF(C15="AB","S/R or S/I","Unknown"))) -> R or I | H15: =IF(E15="BB","R or A",IF(E15="AA","S or I",IF(E15="AB","S/R or R/I or S/A or I/A","Unknown"))) -> R or A
A16: plate 1 | B16: B01 | C16: =VLOOKUP(B16,'F1-1 plate 1'!B$7:H$102,7,FALSE) -> #DIV/0! | D16: =VLOOKUP(B16,'F1-1 plate 1'!B$7:J$102,9,FALSE) -> #DIV/0! | E16: =VLOOKUP(B16,'F6-2 plate 1'!B$7:H$102,7,FALSE) -> #DIV/0! | F16: =VLOOKUP(genotyping!B16,'F6-2 plate 1'!B$7:J$102,9,FALSE) -> #DIV/0! | G16: =IF(C16="BB","R or I",IF(C16="AA","S/S",IF(C16="AB","S/R or S/I","Unknown"))) -> #DIV/0! | H16: =IF(E16="BB","R or A",IF(E16="AA","S or I",IF(E16="AB","S/R or R/I or S/A or I/A","Unknown"))) -> #DIV/0! | I16: ='F1-1 plate 1'!$M$5 -> #DIV/0! | J16: ='F6-2 plate 1'!$M$5 -> #DIV/0!
A17: plate 1 | B17: B02 | C17: =VLOOKUP(B17,'F1-1 plate 1'!B$7:H$102,7,FALSE) -> #DIV/0! | D17: =VLOOKUP(B17,'F1-1 plate 1'!B$7:J$102,9,FALSE) -> #DIV/0! | E17: =VLOOKUP(B17,'F6-2 plate 1'!B$7:H$102,7,FALSE) -> #DIV/0! | F17: =VLOOKUP(genotyping!B17,'F6-2 plate 1'!B$7:J$102,9,FALSE) -> #DIV/0! | G17: =IF(C17="BB","R or I",IF(C17="AA","S/S",IF(C17="AB","S/R or S/I","Unknown"))) -> #DIV/0! | H17: =IF(E17="BB","R or A",IF(E17="AA","S or I",IF(E17="AB","S/R or R/I or S/A or I/A","Unknown"))) -> #DIV/0!
A18: plate 1 | B18: B03 | C18: =VLOOKUP(B18,'F1-1 plate 1'!B$7:H$102,7,FALSE) -> #DIV/0! | D18: =VLOOKUP(B18,'F1-1 plate 1'!B$7:J$102,9,FALSE) -> #DIV/0! | E18: =VLOOKUP(B18,'F6-2 plate 1'!B$7:H$102,7,FALSE) -> #DIV/0! | F18: =VLOOKUP(genotyping!B18,'F6-2 plate 1'!B$7:J$102,9,FALSE) -> #DIV/0! | G18: =IF(C18="BB","R or I",IF(C18="AA","S/S",IF(C18="AB","S/R or S/I","Unknown"))) -> #DIV/0! | H18: =IF(E18="BB","R or A",IF(E18="AA","S or I",IF(E18="AB","S/R or R/I or S/A or I/A","Unknown"))) -> #DIV/0!
A19: plate 1 | B19: B04 | C19: =VLOOKUP(B19,'F1-1 plate 1'!B$7:H$102,7,FALSE) -> #DIV/0! | D19: =VLOOKUP(B19,'F1-1 plate 1'!B$7:J$102,9,FALSE) -> #DIV/0! | E19: =VLOOKUP(B19,'F6-2 plate 1'!B$7:H$102,7,FALSE) -> #DIV/0! | F19: =VLOOKUP(genotyping!B19,'F6-2 plate 1'!B$7:J$102,9,FALSE) -> #DIV/0! | G19: =IF(C19="BB","R or I",IF(C19="AA","S/S",IF(C19="AB","S/R or S/I","Unknown"))) -> #DIV/0! | H19: =IF(E19="BB","R or A",IF(E19="AA","S or I",IF(E19="AB","S/R or R/I or S/A or I/A","Unknown"))) -> #DIV/0!
A20: plate 1 | B20: B05 | C20: =VLOOKUP(B20,'F1-1 plate 1'!B$7:H$102,7,FALSE) -> #DIV/0! | D20: =VLOOKUP(B20,'F1-1 plate 1'!B$7:J$102,9,FALSE) -> #DIV/0! | E20: =VLOOKUP(B20,'F6-2 plate 1'!B$7:H$102,7,FALSE) -> #DIV/0! | F20: =VLOOKUP(genotyping!B20,'F6-2 plate 1'!B$7:J$102,9,FALSE) -> #DIV/0! | G20: =IF(C20="BB","R or I",IF(C20="AA","S/S",IF(C20="AB","S/R or S/I","Unknown"))) -> #DIV/0! | H20: =IF(E20="BB","R or A",IF(E20="AA","S or I",IF(E20="AB","S/R or R/I or S/A or I/A","Unknown"))) -> #DIV/0!
A21: plate 1 | B21: B06 | C21: =VLOOKUP(B21,'F1-1 plate 1'!B$7:H$102,7,FALSE) -> #DIV/0! | D21: =VLOOKUP(B21,'F1-1 plate 1'!B$7:J$102,9,FALSE) -> #DIV/0! | E21: =VLOOKUP(B21,'F6-2 plate 1'!B$7:H$102,7,FALSE) -> #DIV/0! | F21: =VLOOKUP(genotyping!B21,'F6-2 plate 1'!B$7:J$102,9,FALSE) -> #DIV/0! | G21: =IF(C21="BB","R or I",IF(C21="AA","S/S",IF(C21="AB","S/R or S/I","Unknown"))) -> #DIV/0! | H21: =IF(E21="BB","R or A",IF(E21="AA","S or I",IF(E21="AB","S/R or R/I or S/A or I/A","Unknown"))) -> #DIV/0!
A22: plate 1 | B22: B07 | C22: =VLOOKUP(B22,'F1-1 plate 1'!B$7:H$102,7,FALSE) -> #DIV/0! | D22: =VLOOKUP(B22,'F1-1 plate 1'!B$7:J$102,9,FALSE) -> #DIV/0! | E22: =VLOOKUP(B22,'F6-2 plate 1'!B$7:H$102,7,FALSE) -> #DIV/0! | F22: =VLOOKUP(genotyping!B22,'F6-2 plate 1'!B$7:J$102,9,FALSE) -> #DIV/0! | G22: =IF(C22="BB","R or I",IF(C22="AA","S/S",IF(C22="AB","S/R or S/I","Unknown"))) -> #DIV/0! | H22: =IF(E22="BB","R or A",IF(E22="AA","S or I",IF(E22="AB","S/R or R/I or S/A or I/A","Unknown"))) -> #DIV/0!
A23: plate 1 | B23: B08 | C23: =VLOOKUP(B23,'F1-1 plate 1'!B$7:H$102,7,FALSE) -> #DIV/0! | D23: =VLOOKUP(B23,'F1-1 plate 1'!B$7:J$102,9,FALSE) -> #DIV/0! | E23: =VLOOKUP(B23,'F6-2 plate 1'!B$7:H$102,7,FALSE) -> #DIV/0! | F23: =VLOOKUP(genotyping!B23,'F6-2 plate 1'!B$7:J$102,9,FALSE) -> #DIV/0! | G23: =IF(C23="BB","R or I",IF(C23="AA","S/S",IF(C23="AB","S/R or S/I","Unknown"))) -> #DIV/0! | H23: =IF(E23="BB","R or A",IF(E23="AA","S or I",IF(E23="AB","S/R or R/I or S/A or I/A","Unknown"))) -> #DIV/0!
A24: plate 1 | B24: B09 | C24: =VLOOKUP(B24,'F1-1 plate 1'!B$7:H$102,7,FALSE) -> #DIV/0! | D24: =VLOOKUP(B24,'F1-1 plate 1'!B$7:J$102,9,FALSE) -> #DIV/0! | E24: =VLOOKUP(B24,'F6-2 plate 1'!B$7:H$102,7,FALSE) -> #DIV/0! | F24: =VLOOKUP(genotyping!B24,'F6-2 plate 1'!B$7:J$102,9,FALSE) -> #DIV/0! | G24: =IF(C24="BB","R or I",IF(C24="AA","S/S",IF(C24="AB","S/R or S/I","Unknown"))) -> #DIV/0! | H24: =IF(E24="BB","R or A",IF(E24="AA","S or I",IF(E24="AB","S/R or R/I or S/A or I/A","Unknown"))) -> #DIV/0!
A25: plate 1 | B25: B10 | C25: =VLOOKUP(B25,'F1-1 plate 1'!B$7:H$102,7,FALSE) -> #DIV/0! | D25: =VLOOKUP(B25,'F1-1 plate 1'!B$7:J$102,9,FALSE) -> #DIV/0! | E25: =VLOOKUP(B25,'F6-2 plate 1'!B$7:H$102,7,FALSE) -> #DIV/0! | F25: =VLOOKUP(genotyping!B25,'F6-2 plate 1'!B$7:J$102,9,FALSE) -> #DIV/0! | G25: =IF(C25="BB","R or I",IF(C25="AA","S/S",IF(C25="AB","S/R or S/I","Unknown"))) -> #DIV/0! | H25: =IF(E25="BB","R or A",IF(E25="AA","S or I",IF(E25="AB","S/R or R/I or S/A or I/A","Unknown"))) -> #DIV/0!
A26: plate 1 | B26: B11 | C26: =VLOOKUP(B26,'F1-1 plate 1'!B$7:H$102,7,FALSE) -> #DIV/0! | D26: =VLOOKUP(B26,'F1-1 plate 1'!B$7:J$102,9,FALSE) -> #DIV/0! | E26: =VLOOKUP(B26,'F6-2 plate 1'!B$7:H$102,7,FALSE) -> #DIV/0! | F26: =VLOOKUP(genotyping!B26,'F6-2 plate 1'!B$7:J$102,9,FALSE) -> #DIV/0! | G26: =IF(C26="BB","R or I",IF(C26="AA","S/S",IF(C26="AB","S/R or S/I","Unknown"))) -> #DIV/0! | H26: =IF(E26="BB","R or A",IF(E26="AA","S or I",IF(E26="AB","S/R or R/I or S/A or I/A","Unknown"))) -> #DIV/0!
A27: plate 1 | B27: B12 | C27: =VLOOKUP(B27,'F1-1 plate 1'!B$7:H$102,7,FALSE) -> #DIV/0! | D27: =VLOOKUP(B27,'F1-1 plate 1'!B$7:J$102,9,FALSE) -> #DIV/0! | E27: =VLOOKUP(B27,'F6-2 plate 1'!B$7:H$102,7,FALSE) -> #DIV/0! | F27: =VLOOKUP(genotyping!B27,'F6-2 plate 1'!B$7:J$102,9,FALSE) -> #DIV/0! | G27: =IF(C27="BB","R or I",IF(C27="AA","S/S",IF(C27="AB","S/R or S/I","Unknown"))) -> #DIV/0! | H27: =IF(E27="BB","R or A",IF(E27="AA","S or I",IF(E27="AB","S/R or R/I or S/A or I/A","Unknown"))) -> #DIV/0!
A28: plate 1 | B28: C01 | C28: =VLOOKUP(B28,'F1-1 plate 1'!B$7:H$102,7,FALSE) -> #DIV/0! | D28: =VLOOKUP(B28,'F1-1 plate 1'!B$7:J$102,9,FALSE) -> #DIV/0! | E28: =VLOOKUP(B28,'F6-2 plate 1'!B$7:H$102,7,FALSE) -> #DIV/0! | F28: =VLOOKUP(genotyping!B28,'F6-2 plate 1'!B$7:J$102,9,FALSE) -> #DIV/0! | G28: =IF(C28="BB","R or I",IF(C28="AA","S/S",IF(C28="AB","S/R or S/I","Unknown"))) -> #DIV/0! | H28: =IF(E28="BB","R or A",IF(E28="AA","S or I",IF(E28="AB","S/R or R/I or S/A or I/A","Unknown"))) -> #DIV/0!
... A99: plate 1 | B99: H12 | C99: =VLOOKUP(B99,'F1-1 plate 1'!B$7:H$102,7,FALSE) -> #DIV/0! | D99: =VLOOKUP(B99,'F1-1 plate 1'!B$7:J$102,9,FALSE) -> #DIV/0! | E99: =VLOOKUP(B99,'F6-2 plate 1'!B$7:H$102,7,FALSE) -> #DIV/0! | F99: =VLOOKUP(genotyping!B99,'F6-2 plate 1'!B$7:J$102,9,FALSE) -> #DIV/0! | G99: =IF(C99="BB","R or I",IF(C99="AA","S/S",IF(C99="AB","S/R or S/I","Unknown"))) -> #DIV/0! | H99: =IF(E99="BB","R or A",IF(E99="AA","S or I",IF(E99="AB","S/R or R/I or S/A or I/A","Unknown"))) -> #DIV/0!
A100: plate 2 | B100: B01 | C100: =VLOOKUP(B100,'F1-1 plate 2'!B$7:H$102,7,FALSE) -> #DIV/0! | D100: =VLOOKUP(B100,'F1-1 plate 2'!B$7:J$102,9,FALSE) -> #DIV/0! | E100: =VLOOKUP(B100,'F6-2 plate 2'!B$7:H$102,7,FALSE) -> #DIV/0! | F100: =VLOOKUP(genotyping!B100,'F6-2 plate 2'!B$7:J$102,9,FALSE) -> #DIV/0! | G100: =IF(C100="BB","R or I",IF(C100="AA","S/S",IF(C100="AB","S/R or S/I","Unknown"))) -> #DIV/0! | H100: =IF(E100="BB","R or A",IF(E100="AA","S or I",IF(E100="AB","S/R or R/I or S/A or I/A","Unknown"))) -> #DIV/0! | I100: ='F1-1 plate 2'!$M$5 -> #DIV/0! | J100: ='F6-2 plate 2'!$M$5 -> #DIV/0!
A101: plate 2 | B101: B02 | C101: =VLOOKUP(B101,'F1-1 plate 2'!B$7:H$102,7,FALSE) -> #DIV/0! | D101: =VLOOKUP(B101,'F1-1 plate 2'!B$7:J$102,9,FALSE) -> #DIV/0! | E101: =VLOOKUP(B101,'F6-2 plate 2'!B$7:H$102,7,FALSE) -> #DIV/0! | F101: =VLOOKUP(genotyping!B101,'F6-2 plate 2'!B$7:J$102,9,FALSE) -> #DIV/0! | G101: =IF(C101="BB","R or I",IF(C101="AA","S/S",IF(C101="AB","S/R or S/I","Unknown"))) -> #DIV/0! | H101: =IF(E101="BB","R or A",IF(E101="AA","S or I",IF(E101="AB","S/R or R/I or S/A or I/A","Unknown"))) -> #DIV/0!
A102: plate 2 | B102: B03 | C102: =VLOOKUP(B102,'F1-1 plate 2'!B$7:H$102,7,FALSE) -> #DIV/0! | D102: =VLOOKUP(B102,'F1-1 plate 2'!B$7:J$102,9,FALSE) -> #DIV/0! | E102: =VLOOKUP(B102,'F6-2 plate 2'!B$7:H$102,7,FALSE) -> #DIV/0! | F102: =VLOOKUP(genotyping!B102,'F6-2 plate 2'!B$7:J$102,9,FALSE) -> #DIV/0! | G102: =IF(C102="BB","R or I",IF(C102="AA","S/S",IF(C102="AB","S/R or S/I","Unknown"))) -> #DIV/0! | H102: =IF(E102="BB","R or A",IF(E102="AA","S or I",IF(E102="AB","S/R or R/I or S/A or I/A","Unknown"))) -> #DIV/0!
A103: plate 2 | B103: B04 | C103: =VLOOKUP(B103,'F1-1 plate 2'!B$7:H$102,7,FALSE) -> #DIV/0! | D103: =VLOOKUP(B103,'F1-1 plate 2'!B$7:J$102,9,FALSE) -> #DIV/0! | E103: =VLOOKUP(B103,'F6-2 plate 2'!B$7:H$102,7,FALSE) -> #DIV/0! | F103: =VLOOKUP(genotyping!B103,'F6-2 plate 2'!B$7:J$102,9,FALSE) -> #DIV/0! | G103: =IF(C103="BB","R or I",IF(C103="AA","S/S",IF(C103="AB","S/R or S/I","Unknown"))) -> #DIV/0! | H103: =IF(E103="BB","R or A",IF(E103="AA","S or I",IF(E103="AB","S/R or R/I or S/A or I/A","Unknown"))) -> #DIV/0!
A104: plate 2 | B104: B05 | C104: =VLOOKUP(B104,'F1-1 plate 2'!B$7:H$102,7,FALSE) -> #DIV/0! | D104: =VLOOKUP(B104,'F1-1 plate 2'!B$7:J$102,9,FALSE) -> #DIV/0! | E104: =VLOOKUP(B104,'F6-2 plate 2'!B$7:H$102,7,FALSE) -> #DIV/0! | F104: =VLOOKUP(genotyping!B104,'F6-2 plate 2'!B$7:J$102,9,FALSE) -> #DIV/0! | G104: =IF(C104="BB","R or I",IF(C104="AA","S/S",IF(C104="AB","S/R or S/I","Unknown"))) -> #DIV/0! | H104: =IF(E104="BB","R or A",IF(E104="AA","S or I",IF(E104="AB","S/R or R/I or S/A or I/A","Unknown"))) -> #DIV/0!
A105: plate 2 | B105: B06 | C105: =VLOOKUP(B105,'F1-1 plate 2'!B$7:H$102,7,FALSE) -> #DIV/0! | D105: =VLOOKUP(B105,'F1-1 plate 2'!B$7:J$102,9,FALSE) -> #DIV/0! | E105: =VLOOKUP(B105,'F6-2 plate 2'!B$7:H$102,7,FALSE) -> #DIV/0! | F105: =VLOOKUP(genotyping!B105,'F6-2 plate 2'!B$7:J$102,9,FALSE) -> #DIV/0! | G105: =IF(C105="BB","R or I",IF(C105="AA","S/S",IF(C105="AB","S/R or S/I","Unknown"))) -> #DIV/0! | H105: =IF(E105="BB","R or A",IF(E105="AA","S or I",IF(E105="AB","S/R or R/I or S/A or I/A","Unknown"))) -> #DIV/0!
A106: plate 2 | B106: B07 | C106: =VLOOKUP(B106,'F1-1 plate 2'!B$7:H$102,7,FALSE) -> #DIV/0! | D106: =VLOOKUP(B106,'F1-1 plate 2'!B$7:J$102,9,FALSE) -> #DIV/0! | E106: =VLOOKUP(B106,'F6-2 plate 2'!B$7:H$102,7,FALSE) -> #DIV/0! | F106: =VLOOKUP(genotyping!B106,'F6-2 plate 2'!B$7:J$102,9,FALSE) -> #DIV/0! | G106: =IF(C106="BB","R or I",IF(C106="AA","S/S",IF(C106="AB","S/R or S/I","Unknown"))) -> #DIV/0! | H106: =IF(E106="BB","R or A",IF(E106="AA","S or I",IF(E106="AB","S/R or R/I or S/A or I/A","Unknown"))) -> #DIV/0!
A107: plate 2 | B107: B08 | C107: =VLOOKUP(B107,'F1-1 plate 2'!B$7:H$102,7,FALSE) -> #DIV/0! | D107: =VLOOKUP(B107,'F1-1 plate 2'!B$7:J$102,9,FALSE) -> #DIV/0! | E107: =VLOOKUP(B107,'F6-2 plate 2'!B$7:H$102,7,FALSE) -> #DIV/0! | F107: =VLOOKUP(genotyping!B107,'F6-2 plate 2'!B$7:J$102,9,FALSE) -> #DIV/0! | G107: =IF(C107="BB","R or I",IF(C107="AA","S/S",IF(C107="AB","S/R or S/I","Unknown"))) -> #DIV/0! | H107: =IF(E107="BB","R or A",IF(E107="AA","S or I",IF(E107="AB","S/R or R/I or S/A or I/A","Unknown"))) -> #DIV/0!
A108: plate 2 | B108: B09 | C108: =VLOOKUP(B108,'F1-1 plate 2'!B$7:H$102,7,FALSE) -> #DIV/0! | D108: =VLOOKUP(B108,'F1-1 plate 2'!B$7:J$102,9,FALSE) -> #DIV/0! | E108: =VLOOKUP(B108,'F6-2 plate 2'!B$7:H$102,7,FALSE) -> #DIV/0! | F108: =VLOOKUP(genotyping!B108,'F6-2 plate 2'!B$7:J$102,9,FALSE) -> #DIV/0! | G108: =IF(C108="BB","R or I",IF(C108="AA","S/S",IF(C108="AB","S/R or S/I","Unknown"))) -> #DIV/0! | H108: =IF(E108="BB","R or A",IF(E108="AA","S or I",IF(E108="AB","S/R or R/I or S/A or I/A","Unknown"))) -> #DIV/0!
A109: plate 2 | B109: B10 | C109: =VLOOKUP(B109,'F1-1 plate 2'!B$7:H$102,7,FALSE) -> #DIV/0! | D109: =VLOOKUP(B109,'F1-1 plate 2'!B$7:J$102,9,FALSE) -> #DIV/0! | E109: =VLOOKUP(B109,'F6-2 plate 2'!B$7:H$102,7,FALSE) -> #DIV/0! | F109: =VLOOKUP(genotyping!B109,'F6-2 plate 2'!B$7:J$102,9,FALSE) -> #DIV/0! | G109: =IF(C109="BB","R or I",IF(C109="AA","S/S",IF(C109="AB","S/R or S/I","Unknown"))) -> #DIV/0! | H109: =IF(E109="BB","R or A",IF(E109="AA","S or I",IF(E109="AB","S/R or R/I or S/A or I/A","Unknown"))) -> #DIV/0!
A110: plate 2 | B110: B11 | C110: =VLOOKUP(B110,'F1-1 plate 2'!B$7:H$102,7,FALSE) -> #DIV/0! | D110: =VLOOKUP(B110,'F1-1 plate 2'!B$7:J$102,9,FALSE) -> #DIV/0! | E110: =VLOOKUP(B110,'F6-2 plate 2'!B$7:H$102,7,FALSE) -> #DIV/0! | F110: =VLOOKUP(genotyping!B110,'F6-2 plate 2'!B$7:J$102,9,FALSE) -> #DIV/0! | G110: =IF(C110="BB","R or I",IF(C110="AA","S/S",IF(C110="AB","S/R or S/I","Unknown"))) -> #DIV/0! | H110: =IF(E110="BB","R or A",IF(E110="AA","S or I",IF(E110="AB","S/R or R/I or S/A or I/A","Unknown"))) -> #DIV/0!
A111: plate 2 | B111: B12 | C111: =VLOOKUP(B111,'F1-1 plate 2'!B$7:H$102,7,FALSE) -> #DIV/0! | D111: =VLOOKUP(B111,'F1-1 plate 2'!B$7:J$102,9,FALSE) -> #DIV/0! | E111: =VLOOKUP(B111,'F6-2 plate 2'!B$7:H$102,7,FALSE) -> #DIV/0! | F111: =VLOOKUP(genotyping!B111,'F6-2 plate 2'!B$7:J$102,9,FALSE) -> #DIV/0! | G111: =IF(C111="BB","R or I",IF(C111="AA","S/S",IF(C111="AB","S/R or S/I","Unknown"))) -> #DIV/0! | H111: =IF(E111="BB","R or A",IF(E111="AA","S or I",IF(E111="AB","S/R or R/I or S/A or I/A","Unknown"))) -> #DIV/0!
A112: plate 2 | B112: C01 | C112: =VLOOKUP(B112,'F1-1 plate 2'!B$7:H$102,7,FALSE) -> #DIV/0! | D112: =VLOOKUP(B112,'F1-1 plate 2'!B$7:J$102,9,FALSE) -> #DIV/0! | E112: =VLOOKUP(B112,'F6-2 plate 2'!B$7:H$102,7,FALSE) -> #DIV/0! | F112: =VLOOKUP(genotyping!B112,'F6-2 plate 2'!B$7:J$102,9,FALSE) -> #DIV/0! | G112: =IF(C112="BB","R or I",IF(C112="AA","S/S",IF(C112="AB","S/R or S/I","Unknown"))) -> #DIV/0! | H112: =IF(E112="BB","R or A",IF(E112="AA","S or I",IF(E112="AB","S/R or R/I or S/A or I/A","Unknown"))) -> #DIV/0!
... A183: plate 2 | B183: H12 | C183: =VLOOKUP(B183,'F1-1 plate 2'!B$7:H$102,7,FALSE) -> #DIV/0! | D183: =VLOOKUP(B183,'F1-1 plate 2'!B$7:J$102,9,FALSE) -> #DIV/0! | E183: =VLOOKUP(B183,'F6-2 plate 2'!B$7:H$102,7,FALSE) -> #DIV/0! | F183: =VLOOKUP(genotyping!B183,'F6-2 plate 2'!B$7:J$102,9,FALSE) -> #DIV/0! | G183: =IF(C183="BB","R or I",IF(C183="AA","S/S",IF(C183="AB","S/R or S/I","Unknown"))) -> #DIV/0! | H183: =IF(E183="BB","R or A",IF(E183="AA","S or I",IF(E183="AB","S/R or R/I or S/A or I/A","Unknown"))) -> #DIV/0!
A184: plate 3 | B184: B01 | C184: =VLOOKUP(B184,'F1-1 plate 3'!B$7:H$102,7,FALSE) -> #DIV/0! | D184: =VLOOKUP(B184,'F1-1 plate 3'!B$7:J$102,9,FALSE) -> #DIV/0! | E184: =VLOOKUP(B184,'F6-2 plate 3'!B$7:H$102,7,FALSE) -> #DIV/0! | F184: =VLOOKUP(genotyping!B184,'F6-2 plate 3'!B$7:J$102,9,FALSE) -> #DIV/0! | G184: =IF(C184="BB","R or I",IF(C184="AA","S/S",IF(C184="AB","S/R or S/I","Unknown"))) -> #DIV/0! | H184: =IF(E184="BB","R or A",IF(E184="AA","S or I",IF(E184="AB","S/R or R/I or S/A or I/A","Unknown"))) -> #DIV/0! | I184: ='F1-1 plate 3'!$M$5 -> #DIV/0! | J184: ='F6-2 plate 3'!$M$5 -> #DIV/0!
A185: plate 3 | B185: B02 | C185: =VLOOKUP(B185,'F1-1 plate 3'!B$7:H$102,7,FALSE) -> #DIV/0! | D185: =VLOOKUP(B185,'F1-1 plate 3'!B$7:J$102,9,FALSE) -> #DIV/0! | E185: =VLOOKUP(B185,'F6-2 plate 3'!B$7:H$102,7,FALSE) -> #DIV/0! | F185: =VLOOKUP(genotyping!B185,'F6-2 plate 3'!B$7:J$102,9,FALSE) -> #DIV/0! | G185: =IF(C185="BB","R or I",IF(C185="AA","S/S",IF(C185="AB","S/R or S/I","Unknown"))) -> #DIV/0! | H185: =IF(E185="BB","R or A",IF(E185="AA","S or I",IF(E185="AB","S/R or R/I or S/A or I/A","Unknown"))) -> #DIV/0!
A186: plate 3 | B186: B03 | C186: =VLOOKUP(B186,'F1-1 plate 3'!B$7:H$102,7,FALSE) -> #DIV/0! | D186: =VLOOKUP(B186,'F1-1 plate 3'!B$7:J$102,9,FALSE) -> #DIV/0! | E186: =VLOOKUP(B186,'F6-2 plate 3'!B$7:H$102,7,FALSE) -> #DIV/0! | F186: =VLOOKUP(genotyping!B186,'F6-2 plate 3'!B$7:J$102,9,FALSE) -> #DIV/0! | G186: =IF(C186="BB","R or I",IF(C186="AA","S/S",IF(C186="AB","S/R or S/I","Unknown"))) -> #DIV/0! | H186: =IF(E186="BB","R or A",IF(E186="AA","S or I",IF(E186="AB","S/R or R/I or S/A or I/A","Unknown"))) -> #DIV/0!
A187: plate 3 | B187: B04 | C187: =VLOOKUP(B187,'F1-1 plate 3'!B$7:H$102,7,FALSE) -> #DIV/0! | D187: =VLOOKUP(B187,'F1-1 plate 3'!B$7:J$102,9,FALSE) -> #DIV/0! | E187: =VLOOKUP(B187,'F6-2 plate 3'!B$7:H$102,7,FALSE) -> #DIV/0! | F187: =VLOOKUP(genotyping!B187,'F6-2 plate 3'!B$7:J$102,9,FALSE) -> #DIV/0! | G187: =IF(C187="BB","R or I",IF(C187="AA","S/S",IF(C187="AB","S/R or S/I","Unknown"))) -> #DIV/0! | H187: =IF(E187="BB","R or A",IF(E187="AA","S or I",IF(E187="AB","S/R or R/I or S/A or I/A","Unknown"))) -> #DIV/0!
A188: plate 3 | B188: B05 | C188: =VLOOKUP(B188,'F1-1 plate 3'!B$7:H$102,7,FALSE) -> #DIV/0! | D188: =VLOOKUP(B188,'F1-1 plate 3'!B$7:J$102,9,FALSE) -> #DIV/0! | E188: =VLOOKUP(B188,'F6-2 plate 3'!B$7:H$102,7,FALSE) -> #DIV/0! | F188: =VLOOKUP(genotyping!B188,'F6-2 plate 3'!B$7:J$102,9,FALSE) -> #DIV/0! | G188: =IF(C188="BB","R or I",IF(C188="AA","S/S",IF(C188="AB","S/R or S/I","Unknown"))) -> #DIV/0! | H188: =IF(E188="BB","R or A",IF(E188="AA","S or I",IF(E188="AB","S/R or R/I or S/A or I/A","Unknown"))) -> #DIV/0!
A189: plate 3 | B189: B06 | C189: =VLOOKUP(B189,'F1-1 plate 3'!B$7:H$102,7,FALSE) -> #DIV/0! | D189: =VLOOKUP(B189,'F1-1 plate 3'!B$7:J$102,9,FALSE) -> #DIV/0! | E189: =VLOOKUP(B189,'F6-2 plate 3'!B$7:H$102,7,FALSE) -> #DIV/0! | F189: =VLOOKUP(genotyping!B189,'F6-2 plate 3'!B$7:J$102,9,FALSE) -> #DIV/0! | G189: =IF(C189="BB","R or I",IF(C189="AA","S/S",IF(C189="AB","S/R or S/I","Unknown"))) -> #DIV/0! | H189: =IF(E189="BB","R or A",IF(E189="AA","S or I",IF(E189="AB","S/R or R/I or S/A or I/A","Unknown"))) -> #DIV/0!
A190: plate 3 | B190: B07 | C190: =VLOOKUP(B190,'F1-1 plate 3'!B$7:H$102,7,FALSE) -> #DIV/0! | D190: =VLOOKUP(B190,'F1-1 plate 3'!B$7:J$102,9,FALSE) -> #DIV/0! | E190: =VLOOKUP(B190,'F6-2 plate 3'!B$7:H$102,7,FALSE) -> #DIV/0! | F190: =VLOOKUP(genotyping!B190,'F6-2 plate 3'!B$7:J$102,9,FALSE) -> #DIV/0! | G190: =IF(C190="BB","R or I",IF(C190="AA","S/S",IF(C190="AB","S/R or S/I","Unknown"))) -> #DIV/0! | H190: =IF(E190="BB","R or A",IF(E190="AA","S or I",IF(E190="AB","S/R or R/I or S/A or I/A","Unknown"))) -> #DIV/0!
A191: plate 3 | B191: B08 | C191: =VLOOKUP(B191,'F1-1 plate 3'!B$7:H$102,7,FALSE) -> #DIV/0! | D191: =VLOOKUP(B191,'F1-1 plate 3'!B$7:J$102,9,FALSE) -> #DIV/0! | E191: =VLOOKUP(B191,'F6-2 plate 3'!B$7:H$102,7,FALSE) -> #DIV/0! | F191: =VLOOKUP(genotyping!B191,'F6-2 plate 3'!B$7:J$102,9,FALSE) -> #DIV/0! | G191: =IF(C191="BB","R or I",IF(C191="AA","S/S",IF(C191="AB","S/R or S/I","Unknown"))) -> #DIV/0! | H191: =IF(E191="BB","R or A",IF(E191="AA","S or I",IF(E191="AB","S/R or R/I or S/A or I/A","Unknown"))) -> #DIV/0!
A192: plate 3 | B192: B09 | C192: =VLOOKUP(B192,'F1-1 plate 3'!B$7:H$102,7,FALSE) -> #DIV/0! | D192: =VLOOKUP(B192,'F1-1 plate 3'!B$7:J$102,9,FALSE) -> #DIV/0! | E192: =VLOOKUP(B192,'F6-2 plate 3'!B$7:H$102,7,FALSE) -> #DIV/0! | F192: =VLOOKUP(genotyping!B192,'F6-2 plate 3'!B$7:J$102,9,FALSE) -> #DIV/0! | G192: =IF(C192="BB","R or I",IF(C192="AA","S/S",IF(C192="AB","S/R or S/I","Unknown"))) -> #DIV/0! | H192: =IF(E192="BB","R or A",IF(E192="AA","S or I",IF(E192="AB","S/R or R/I or S/A or I/A","Unknown"))) -> #DIV/0!
A193: plate 3 | B193: B10 | C193: =VLOOKUP(B193,'F1-1 plate 3'!B$7:H$102,7,FALSE) -> #DIV/0! | D193: =VLOOKUP(B193,'F1-1 plate 3'!B$7:J$102,9,FALSE) -> #DIV/0! | E193: =VLOOKUP(B193,'F6-2 plate 3'!B$7:H$102,7,FALSE) -> #DIV/0! | F193: =VLOOKUP(genotyping!B193,'F6-2 plate 3'!B$7:J$102,9,FALSE) -> #DIV/0! | G193: =IF(C193="BB","R or I",IF(C193="AA","S/S",IF(C193="AB","S/R or S/I","Unknown"))) -> #DIV/0! | H193: =IF(E193="BB","R or A",IF(E193="AA","S or I",IF(E193="AB","S/R or R/I or S/A or I/A","Unknown"))) -> #DIV/0!
A194: plate 3 | B194: B11 | C194: =VLOOKUP(B194,'F1-1 plate 3'!B$7:H$102,7,FALSE) -> #DIV/0! | D194: =VLOOKUP(B194,'F1-1 plate 3'!B$7:J$102,9,FALSE) -> #DIV/0! | E194: =VLOOKUP(B194,'F6-2 plate 3'!B$7:H$102,7,FALSE) -> #DIV/0! | F194: =VLOOKUP(genotyping!B194,'F6-2 plate 3'!B$7:J$102,9,FALSE) -> #DIV/0! | G194: =IF(C194="BB","R or I",IF(C194="AA","S/S",IF(C194="AB","S/R or S/I","Unknown"))) -> #DIV/0! | H194: =IF(E194="BB","R or A",IF(E194="AA","S or I",IF(E194="AB","S/R or R/I or S/A or I/A","Unknown"))) -> #DIV/0!
A195: plate 3 | B195: B12 | C195: =VLOOKUP(B195,'F1-1 plate 3'!B$7:H$102,7,FALSE) -> #DIV/0! | D195: =VLOOKUP(B195,'F1-1 plate 3'!B$7:J$102,9,FALSE) -> #DIV/0! | E195: =VLOOKUP(B195,'F6-2 plate 3'!B$7:H$102,7,FALSE) -> #DIV/0! | F195: =VLOOKUP(genotyping!B195,'F6-2 plate 3'!B$7:J$102,9,FALSE) -> #DIV/0! | G195: =IF(C195="BB","R or I",IF(C195="AA","S/S",IF(C195="AB","S/R or S/I","Unknown"))) -> #DIV/0! | H195: =IF(E195="BB","R or A",IF(E195="AA","S or I",IF(E195="AB","S/R or R/I or S/A or I/A","Unknown"))) -> #DIV/0!
A196: plate 3 | B196: C01 | C196: =VLOOKUP(B196,'F1-1 plate 3'!B$7:H$102,7,FALSE) -> #DIV/0! | D196: =VLOOKUP(B196,'F1-1 plate 3'!B$7:J$102,9,FALSE) -> #DIV/0! | E196: =VLOOKUP(B196,'F6-2 plate 3'!B$7:H$102,7,FALSE) -> #DIV/0! | F196: =VLOOKUP(genotyping!B196,'F6-2 plate 3'!B$7:J$102,9,FALSE) -> #DIV/0! | G196: =IF(C196="BB","R or I",IF(C196="AA","S/S",IF(C196="AB","S/R or S/I","Unknown"))) -> #DIV/0! | H196: =IF(E196="BB","R or A",IF(E196="AA","S or I",IF(E196="AB","S/R or R/I or S/A or I/A","Unknown"))) -> #DIV/0!
... A267: plate 3 | B267: H12 | C267: =VLOOKUP(B267,'F1-1 plate 3'!B$7:H$102,7,FALSE) -> #DIV/0! | D267: =VLOOKUP(B267,'F1-1 plate 3'!B$7:J$102,9,FALSE) -> #DIV/0! | E267: =VLOOKUP(B267,'F6-2 plate 3'!B$7:H$102,7,FALSE) -> #DIV/0! | F267: =VLOOKUP(genotyping!B267,'F6-2 plate 3'!B$7:J$102,9,FALSE) -> #DIV/0! | G267: =IF(C267="BB","R or I",IF(C267="AA","S/S",IF(C267="AB","S/R or S/I","Unknown"))) -> #DIV/0! | H267: =IF(E267="BB","R or A",IF(E267="AA","S or I",IF(E267="AB","S/R or R/I or S/A or I/A","Unknown"))) -> #DIV/0!
A268: plate 4 | B268: B01 | C268: =VLOOKUP(B268,'F1-1 plate 4'!B$7:H$102,7,FALSE) -> #DIV/0! | D268: =VLOOKUP(B268,'F1-1 plate 3'!B$7:J$102,9,FALSE) -> #DIV/0! | E268: =VLOOKUP(B268,'F6-2 plate 4'!B$7:H$102,7,FALSE) -> #DIV/0! | F268: =VLOOKUP(genotyping!B268,'F6-2 plate 4'!B$7:J$102,9,FALSE) -> #DIV/0! | G268: =IF(C268="BB","R or I",IF(C268="AA","S/S",IF(C268="AB","S/R or S/I","Unknown"))) -> #DIV/0! | H268: =IF(E268="BB","R or A",IF(E268="AA","S or I",IF(E268="AB","S/R or R/I or S/A or I/A","Unknown"))) -> #DIV/0! | I268: ='F1-1 plate 4'!$M$5 -> #DIV/0! | J268: ='F6-2 plate 4'!$M$5 -> #DIV/0!
A269: plate 4 | B269: B02 | C269: =VLOOKUP(B269,'F1-1 plate 4'!B$7:H$102,7,FALSE) -> #DIV/0! | D269: =VLOOKUP(B269,'F1-1 plate 3'!B$7:J$102,9,FALSE) -> #DIV/0! | E269: =VLOOKUP(B269,'F6-2 plate 4'!B$7:H$102,7,FALSE) -> #DIV/0! | F269: =VLOOKUP(genotyping!B269,'F6-2 plate 4'!B$7:J$102,9,FALSE) -> #DIV/0! | G269: =IF(C269="BB","R or I",IF(C269="AA","S/S",IF(C269="AB","S/R or S/I","Unknown"))) -> #DIV/0! | H269: =IF(E269="BB","R or A",IF(E269="AA","S or I",IF(E269="AB","S/R or R/I or S/A or I/A","Unknown"))) -> #DIV/0!
A270: plate 4 | B270: B03 | C270: =VLOOKUP(B270,'F1-1 plate 4'!B$7:H$102,7,FALSE) -> #DIV/0! | D270: =VLOOKUP(B270,'F1-1 plate 3'!B$7:J$102,9,FALSE) -> #DIV/0! | E270: =VLOOKUP(B270,'F6-2 plate 4'!B$7:H$102,7,FALSE) -> #DIV/0! | F270: =VLOOKUP(genotyping!B270,'F6-2 plate 4'!B$7:J$102,9,FALSE) -> #DIV/0! | G270: =IF(C270="BB","R or I",IF(C270="AA","S/S",IF(C270="AB","S/R or S/I","Unknown"))) -> #DIV/0! | H270: =IF(E270="BB","R or A",IF(E270="AA","S or I",IF(E270="AB","S/R or R/I or S/A or I/A","Unknown"))) -> #DIV/0!
A271: plate 4 | B271: B04 | C271: =VLOOKUP(B271,'F1-1 plate 4'!B$7:H$102,7,FALSE) -> #DIV/0! | D271: =VLOOKUP(B271,'F1-1 plate 3'!B$7:J$102,9,FALSE) -> #DIV/0! | E271: =VLOOKUP(B271,'F6-2 plate 4'!B$7:H$102,7,FALSE) -> #DIV/0! | F271: =VLOOKUP(genotyping!B271,'F6-2 plate 4'!B$7:J$102,9,FALSE) -> #DIV/0! | G271: =IF(C271="BB","R or I",IF(C271="AA","S/S",IF(C271="AB","S/R or S/I","Unknown"))) -> #DIV/0! | H271: =IF(E271="BB","R or A",IF(E271="AA","S or I",IF(E271="AB","S/R or R/I or S/A or I/A","Unknown"))) -> #DIV/0!
A272: plate 4 | B272: B05 | C272: =VLOOKUP(B272,'F1-1 plate 4'!B$7:H$102,7,FALSE) -> #DIV/0! | D272: =VLOOKUP(B272,'F1-1 plate 3'!B$7:J$102,9,FALSE) -> #DIV/0! | E272: =VLOOKUP(B272,'F6-2 plate 4'!B$7:H$102,7,FALSE) -> #DIV/0! | F272: =VLOOKUP(genotyping!B272,'F6-2 plate 4'!B$7:J$102,9,FALSE) -> #DIV/0! | G272: =IF(C272="BB","R or I",IF(C272="AA","S/S",IF(C272="AB","S/R or S/I","Unknown"))) -> #DIV/0! | H272: =IF(E272="BB","R or A",IF(E272="AA","S or I",IF(E272="AB","S/R or R/I or S/A or I/A","Unknown"))) -> #DIV/0!
A273: plate 4 | B273: B06 | C273: =VLOOKUP(B273,'F1-1 plate 4'!B$7:H$102,7,FALSE) -> #DIV/0! | D273: =VLOOKUP(B273,'F1-1 plate 3'!B$7:J$102,9,FALSE) -> #DIV/0! | E273: =VLOOKUP(B273,'F6-2 plate 4'!B$7:H$102,7,FALSE) -> #DIV/0! | F273: =VLOOKUP(genotyping!B273,'F6-2 plate 4'!B$7:J$102,9,FALSE) -> #DIV/0! | G273: =IF(C273="BB","R or I",IF(C273="AA","S/S",IF(C273="AB","S/R or S/I","Unknown"))) -> #DIV/0! | H273: =IF(E273="BB","R or A",IF(E273="AA","S or I",IF(E273="AB","S/R or R/I or S/A or I/A","Unknown"))) -> #DIV/0!
A274: plate 4 | B274: B07 | C274: =VLOOKUP(B274,'F1-1 plate 4'!B$7:H$102,7,FALSE) -> #DIV/0! | D274: =VLOOKUP(B274,'F1-1 plate 3'!B$7:J$102,9,FALSE) -> #DIV/0! | E274: =VLOOKUP(B274,'F6-2 plate 4'!B$7:H$102,7,FALSE) -> #DIV/0! | F274: =VLOOKUP(genotyping!B274,'F6-2 plate 4'!B$7:J$102,9,FALSE) -> #DIV/0! | G274: =IF(C274="BB","R or I",IF(C274="AA","S/S",IF(C274="AB","S/R or S/I","Unknown"))) -> #DIV/0! | H274: =IF(E274="BB","R or A",IF(E274="AA","S or I",IF(E274="AB","S/R or R/I or S/A or I/A","Unknown"))) -> #DIV/0!
A275: plate 4 | B275: B08 | C275: =VLOOKUP(B275,'F1-1 plate 4'!B$7:H$102,7,FALSE) -> #DIV/0! | D275: =VLOOKUP(B275,'F1-1 plate 3'!B$7:J$102,9,FALSE) -> #DIV/0! | E275: =VLOOKUP(B275,'F6-2 plate 4'!B$7:H$102,7,FALSE) -> #DIV/0! | F275: =VLOOKUP(genotyping!B275,'F6-2 plate 4'!B$7:J$102,9,FALSE) -> #DIV/0! | G275: =IF(C275="BB","R or I",IF(C275="AA","S/S",IF(C275="AB","S/R or S/I","Unknown"))) -> #DIV/0! | H275: =IF(E275="BB","R or A",IF(E275="AA","S or I",IF(E275="AB","S/R or R/I or S/A or I/A","Unknown"))) -> #DIV/0!
A276: plate 4 | B276: B09 | C276: =VLOOKUP(B276,'F1-1 plate 4'!B$7:H$102,7,FALSE) -> #DIV/0! | D276: =VLOOKUP(B276,'F1-1 plate 3'!B$7:J$102,9,FALSE) -> #DIV/0! | E276: =VLOOKUP(B276,'F6-2 plate 4'!B$7:H$102,7,FALSE) -> #DIV/0! | F276: =VLOOKUP(genotyping!B276,'F6-2 plate 4'!B$7:J$102,9,FALSE) -> #DIV/0! | G276: =IF(C276="BB","R or I",IF(C276="AA","S/S",IF(C276="AB","S/R or S/I","Unknown"))) -> #DIV/0! | H276: =IF(E276="BB","R or A",IF(E276="AA","S or I",IF(E276="AB","S/R or R/I or S/A or I/A","Unknown"))) -> #DIV/0!
A277: plate 4 | B277: B10 | C277: =VLOOKUP(B277,'F1-1 plate 4'!B$7:H$102,7,FALSE) -> #DIV/0! | D277: =VLOOKUP(B277,'F1-1 plate 3'!B$7:J$102,9,FALSE) -> #DIV/0! | E277: =VLOOKUP(B277,'F6-2 plate 4'!B$7:H$102,7,FALSE) -> #DIV/0! | F277: =VLOOKUP(genotyping!B277,'F6-2 plate 4'!B$7:J$102,9,FALSE) -> #DIV/0! | G277: =IF(C277="BB","R or I",IF(C277="AA","S/S",IF(C277="AB","S/R or S/I","Unknown"))) -> #DIV/0! | H277: =IF(E277="BB","R or A",IF(E277="AA","S or I",IF(E277="AB","S/R or R/I or S/A or I/A","Unknown"))) -> #DIV/0!
A278: plate 4 | B278: B11 | C278: =VLOOKUP(B278,'F1-1 plate 4'!B$7:H$102,7,FALSE) -> #DIV/0! | D278: =VLOOKUP(B278,'F1-1 plate 3'!B$7:J$102,9,FALSE) -> #DIV/0! | E278: =VLOOKUP(B278,'F6-2 plate 4'!B$7:H$102,7,FALSE) -> #DIV/0! | F278: =VLOOKUP(genotyping!B278,'F6-2 plate 4'!B$7:J$102,9,FALSE) -> #DIV/0! | G278: =IF(C278="BB","R or I",IF(C278="AA","S/S",IF(C278="AB","S/R or S/I","Unknown"))) -> #DIV/0! | H278: =IF(E278="BB","R or A",IF(E278="AA","S or I",IF(E278="AB","S/R or R/I or S/A or I/A","Unknown"))) -> #DIV/0!
A279: plate 4 | B279: B12 | C279: =VLOOKUP(B279,'F1-1 plate 4'!B$7:H$102,7,FALSE) -> #DIV/0! | D279: =VLOOKUP(B279,'F1-1 plate 3'!B$7:J$102,9,FALSE) -> #DIV/0! | E279: =VLOOKUP(B279,'F6-2 plate 4'!B$7:H$102,7,FALSE) -> #DIV/0! | F279: =VLOOKUP(genotyping!B279,'F6-2 plate 4'!B$7:J$102,9,FALSE) -> #DIV/0! | G279: =IF(C279="BB","R or I",IF(C279="AA","S/S",IF(C279="AB","S/R or S/I","Unknown"))) -> #DIV/0! | H279: =IF(E279="BB","R or A",IF(E279="AA","S or I",IF(E279="AB","S/R or R/I or S/A or I/A","Unknown"))) -> #DIV/0!
A280: plate 4 | B280: C01 | C280: =VLOOKUP(B280,'F1-1 plate 4'!B$7:H$102,7,FALSE) -> #DIV/0! | D280: =VLOOKUP(B280,'F1-1 plate 3'!B$7:J$102,9,FALSE) -> #DIV/0! | E280: =VLOOKUP(B280,'F6-2 plate 4'!B$7:H$102,7,FALSE) -> #DIV/0! | F280: =VLOOKUP(genotyping!B280,'F6-2 plate 4'!B$7:J$102,9,FALSE) -> #DIV/0! | G280: =IF(C280="BB","R or I",IF(C280="AA","S/S",IF(C280="AB","S/R or S/I","Unknown"))) -> #DIV/0! | H280: =IF(E280="BB","R or A",IF(E280="AA","S or I",IF(E280="AB","S/R or R/I or S/A or I/A","Unknown"))) -> #DIV/0!
... A351: plate 4 | B351: H12 | C351: =VLOOKUP(B351,'F1-1 plate 4'!B$7:H$102,7,FALSE) -> #DIV/0! | D351: =VLOOKUP(B351,'F1-1 plate 3'!B$7:J$102,9,FALSE) -> #DIV/0! | E351: =VLOOKUP(B351,'F6-2 plate 4'!B$7:H$102,7,FALSE) -> #DIV/0! | F351: =VLOOKUP(genotyping!B351,'F6-2 plate 4'!B$7:J$102,9,FALSE) -> #DIV/0! | G351: =IF(C351="BB","R or I",IF(C351="AA","S/S",IF(C351="AB","S/R or S/I","Unknown"))) -> #DIV/0! | H351: =IF(E351="BB","R or A",IF(E351="AA","S or I",IF(E351="AB","S/R or R/I or S/A or I/A","Unknown"))) -> #DIV/0!
A352: plate 5 | B352: B01 | C352: =VLOOKUP(B352,'F1-1 plate 5'!B$7:H$102,7,FALSE) -> #DIV/0! | D352: =VLOOKUP(B352,'F1-1 plate 5'!B$7:J$102,9,FALSE) -> #DIV/0! | E352: =VLOOKUP(B352,'F6-2 plate 5'!B$7:H$102,7,FALSE) -> #DIV/0! | F352: =VLOOKUP(genotyping!B352,'F6-2 plate 5'!B$7:J$102,9,FALSE) -> #DIV/0! | G352: =IF(C352="BB","R or I",IF(C352="AA","S/S",IF(C352="AB","S/R or S/I","Unknown"))) -> #DIV/0! | H352: =IF(E352="BB","R or A",IF(E352="AA","S or I",IF(E352="AB","S/R or R/I or S/A or I/A","Unknown"))) -> #DIV/0! | I352: ='F1-1 plate 5'!$M$5 -> #DIV/0! | J352: ='F6-2 plate 5'!$M$5 -> #DIV/0!
A353: plate 5 | B353: B02 | C353: =VLOOKUP(B353,'F1-1 plate 5'!B$7:H$102,7,FALSE) -> #DIV/0! | D353: =VLOOKUP(B353,'F1-1 plate 5'!B$7:J$102,9,FALSE) -> #DIV/0! | E353: =VLOOKUP(B353,'F6-2 plate 5'!B$7:H$102,7,FALSE) -> #DIV/0! | F353: =VLOOKUP(genotyping!B353,'F6-2 plate 5'!B$7:J$102,9,FALSE) -> #DIV/0! | G353: =IF(C353="BB","R or I",IF(C353="AA","S/S",IF(C353="AB","S/R or S/I","Unknown"))) -> #DIV/0! | H353: =IF(E353="BB","R or A",IF(E353="AA","S or I",IF(E353="AB","S/R or R/I or S/A or I/A","Unknown"))) -> #DIV/0!
A354: plate 5 | B354: B03 | C354: =VLOOKUP(B354,'F1-1 plate 5'!B$7:H$102,7,FALSE) -> #DIV/0! | D354: =VLOOKUP(B354,'F1-1 plate 5'!B$7:J$102,9,FALSE) -> #DIV/0! | E354: =VLOOKUP(B354,'F6-2 plate 5'!B$7:H$102,7,FALSE) -> #DIV/0! | F354: =VLOOKUP(genotyping!B354,'F6-2 plate 5'!B$7:J$102,9,FALSE) -> #DIV/0! | G354: =IF(C354="BB","R or I",IF(C354="AA","S/S",IF(C354="AB","S/R or S/I","Unknown"))) -> #DIV/0! | H354: =IF(E354="BB","R or A",IF(E354="AA","S or I",IF(E354="AB","S/R or R/I or S/A or I/A","Unknown"))) -> #DIV/0!
A355: plate 5 | B355: B04 | C355: =VLOOKUP(B355,'F1-1 plate 5'!B$7:H$102,7,FALSE) -> #DIV/0! | D355: =VLOOKUP(B355,'F1-1 plate 5'!B$7:J$102,9,FALSE) -> #DIV/0! | E355: =VLOOKUP(B355,'F6-2 plate 5'!B$7:H$102,7,FALSE) -> #DIV/0! | F355: =VLOOKUP(genotyping!B355,'F6-2 plate 5'!B$7:J$102,9,FALSE) -> #DIV/0! | G355: =IF(C355="BB","R or I",IF(C355="AA","S/S",IF(C355="AB","S/R or S/I","Unknown"))) -> #DIV/0! | H355: =IF(E355="BB","R or A",IF(E355="AA","S or I",IF(E355="AB","S/R or R/I or S/A or I/A","Unknown"))) -> #DIV/0!
A356: plate 5 | B356: B05 | C356: =VLOOKUP(B356,'F1-1 plate 5'!B$7:H$102,7,FALSE) -> #DIV/0! | D356: =VLOOKUP(B356,'F1-1 plate 5'!B$7:J$102,9,FALSE) -> #DIV/0! | E356: =VLOOKUP(B356,'F6-2 plate 5'!B$7:H$102,7,FALSE) -> #DIV/0! | F356: =VLOOKUP(genotyping!B356,'F6-2 plate 5'!B$7:J$102,9,FALSE) -> #DIV/0! | G356: =IF(C356="BB","R or I",IF(C356="AA","S/S",IF(C356="AB","S/R or S/I","Unknown"))) -> #DIV/0! | H356: =IF(E356="BB","R or A",IF(E356="AA","S or I",IF(E356="AB","S/R or R/I or S/A or I/A","Unknown"))) -> #DIV/0!
A357: plate 5 | B357: B06 | C357: =VLOOKUP(B357,'F1-1 plate 5'!B$7:H$102,7,FALSE) -> #DIV/0! | D357: =VLOOKUP(B357,'F1-1 plate 5'!B$7:J$102,9,FALSE) -> #DIV/0! | E357: =VLOOKUP(B357,'F6-2 plate 5'!B$7:H$102,7,FALSE) -> #DIV/0! | F357: =VLOOKUP(genotyping!B357,'F6-2 plate 5'!B$7:J$102,9,FALSE) -> #DIV/0! | G357: =IF(C357="BB","R or I",IF(C357="AA","S/S",IF(C357="AB","S/R or S/I","Unknown"))) -> #DIV/0! | H357: =IF(E357="BB","R or A",IF(E357="AA","S or I",IF(E357="AB","S/R or R/I or S/A or I/A","Unknown"))) -> #DIV/0!
A358: plate 5 | B358: B07 | C358: =VLOOKUP(B358,'F1-1 plate 5'!B$7:H$102,7,FALSE) -> #DIV/0! | D358: =VLOOKUP(B358,'F1-1 plate 5'!B$7:J$102,9,FALSE) -> #DIV/0! | E358: =VLOOKUP(B358,'F6-2 plate 5'!B$7:H$102,7,FALSE) -> #DIV/0! | F358: =VLOOKUP(genotyping!B358,'F6-2 plate 5'!B$7:J$102,9,FALSE) -> #DIV/0! | G358: =IF(C358="BB","R or I",IF(C358="AA","S/S",IF(C358="AB","S/R or S/I","Unknown"))) -> #DIV/0! | H358: =IF(E358="BB","R or A",IF(E358="AA","S or I",IF(E358="AB","S/R or R/I or S/A or I/A","Unknown"))) -> #DIV/0!
A359: plate 5 | B359: B08 | C359: =VLOOKUP(B359,'F1-1 plate 5'!B$7:H$102,7,FALSE) -> #DIV/0! | D359: =VLOOKUP(B359,'F1-1 plate 5'!B$7:J$102,9,FALSE) -> #DIV/0! | E359: =VLOOKUP(B359,'F6-2 plate 5'!B$7:H$102,7,FALSE) -> #DIV/0! | F359: =VLOOKUP(genotyping!B359,'F6-2 plate 5'!B$7:J$102,9,FALSE) -> #DIV/0! | G359: =IF(C359="BB","R or I",IF(C359="AA","S/S",IF(C359="AB","S/R or S/I","Unknown"))) -> #DIV/0! | H359: =IF(E359="BB","R or A",IF(E359="AA","S or I",IF(E359="AB","S/R or R/I or S/A or I/A","Unknown"))) -> #DIV/0!
A360: plate 5 | B360: B09 | C360: =VLOOKUP(B360,'F1-1 plate 5'!B$7:H$102,7,FALSE) -> #DIV/0! | D360: =VLOOKUP(B360,'F1-1 plate 5'!B$7:J$102,9,FALSE) -> #DIV/0! | E360: =VLOOKUP(B360,'F6-2 plate 5'!B$7:H$102,7,FALSE) -> #DIV/0! | F360: =VLOOKUP(genotyping!B360,'F6-2 plate 5'!B$7:J$102,9,FALSE) -> #DIV/0! | G360: =IF(C360="BB","R or I",IF(C360="AA","S/S",IF(C360="AB","S/R or S/I","Unknown"))) -> #DIV/0! | H360: =IF(E360="BB","R or A",IF(E360="AA","S or I",IF(E360="AB","S/R or R/I or S/A or I/A","Unknown"))) -> #DIV/0!
A361: plate 5 | B361: B10 | C361: =VLOOKUP(B361,'F1-1 plate 5'!B$7:H$102,7,FALSE) -> #DIV/0! | D361: =VLOOKUP(B361,'F1-1 plate 5'!B$7:J$102,9,FALSE) -> #DIV/0! | E361: =VLOOKUP(B361,'F6-2 plate 5'!B$7:H$102,7,FALSE) -> #DIV/0! | F361: =VLOOKUP(genotyping!B361,'F6-2 plate 5'!B$7:J$102,9,FALSE) -> #DIV/0! | G361: =IF(C361="BB","R or I",IF(C361="AA","S/S",IF(C361="AB","S/R or S/I","Unknown"))) -> #DIV/0! | H361: =IF(E361="BB","R or A",IF(E361="AA","S or I",IF(E361="AB","S/R or R/I or S/A or I/A","Unknown"))) -> #DIV/0!
A362: plate 5 | B362: B11 | C362: =VLOOKUP(B362,'F1-1 plate 5'!B$7:H$102,7,FALSE) -> #DIV/0! | D362: =VLOOKUP(B362,'F1-1 plate 5'!B$7:J$102,9,FALSE) -> #DIV/0! | E362: =VLOOKUP(B362,'F6-2 plate 5'!B$7:H$102,7,FALSE) -> #DIV/0! | F362: =VLOOKUP(genotyping!B362,'F6-2 plate 5'!B$7:J$102,9,FALSE) -> #DIV/0! | G362: =IF(C362="BB","R or I",IF(C362="AA","S/S",IF(C362="AB","S/R or S/I","Unknown"))) -> #DIV/0! | H362: =IF(E362="BB","R or A",IF(E362="AA","S or I",IF(E362="AB","S/R or R/I or S/A or I/A","Unknown"))) -> #DIV/0!
A363: plate 5 | B363: B12 | C363: =VLOOKUP(B363,'F1-1 plate 5'!B$7:H$102,7,FALSE) -> #DIV/0! | D363: =VLOOKUP(B363,'F1-1 plate 5'!B$7:J$102,9,FALSE) -> #DIV/0! | E363: =VLOOKUP(B363,'F6-2 plate 5'!B$7:H$102,7,FALSE) -> #DIV/0! | F363: =VLOOKUP(genotyping!B363,'F6-2 plate 5'!B$7:J$102,9,FALSE) -> #DIV/0! | G363: =IF(C363="BB","R or I",IF(C363="AA","S/S",IF(C363="AB","S/R or S/I","Unknown"))) -> #DIV/0! | H363: =IF(E363="BB","R or A",IF(E363="AA","S or I",IF(E363="AB","S/R or R/I or S/A or I/A","Unknown"))) -> #DIV/0!
A364: plate 5 | B364: C01 | C364: =VLOOKUP(B364,'F1-1 plate 5'!B$7:H$102,7,FALSE) -> #DIV/0! | D364: =VLOOKUP(B364,'F1-1 plate 5'!B$7:J$102,9,FALSE) -> #DIV/0! | E364: =VLOOKUP(B364,'F6-2 plate 5'!B$7:H$102,7,FALSE) -> #DIV/0! | F364: =VLOOKUP(genotyping!B364,'F6-2 plate 5'!B$7:J$102,9,FALSE) -> #DIV/0! | G364: =IF(C364="BB","R or I",IF(C364="AA","S/S",IF(C364="AB","S/R or S/I","Unknown"))) -> #DIV/0! | H364: =IF(E364="BB","R or A",IF(E364="AA","S or I",IF(E364="AB","S/R or R/I or S/A or I/A","Unknown"))) -> #DIV/0!
... A435: plate 5 | B435: H12 | C435: =VLOOKUP(B435,'F1-1 plate 5'!B$7:H$102,7,FALSE) -> #DIV/0! | D435: =VLOOKUP(B435,'F1-1 plate 5'!B$7:J$102,9,FALSE) -> #DIV/0! | E435: =VLOOKUP(B435,'F6-2 plate 5'!B$7:H$102,7,FALSE) -> #DIV/0! | F435: =VLOOKUP(genotyping!B435,'F6-2 plate 5'!B$7:J$102,9,FALSE) -> #DIV/0! | G435: =IF(C435="BB","R or I",IF(C435="AA","S/S",IF(C435="AB","S/R or S/I","Unknown"))) -> #DIV/0! | H435: =IF(E435="BB","R or A",IF(E435="AA","S or I",IF(E435="AB","S/R or R/I or S/A or I/A","Unknown"))) -> #DIV/0!
A436: plate 6 | B436: B01 | C436: =VLOOKUP(B436,'F1-1 plate 6'!B$7:H$102,7,FALSE) -> #DIV/0! | D436: =VLOOKUP(B436,'F1-1 plate 6'!B$7:J$102,9,FALSE) -> #DIV/0! | E436: =VLOOKUP(B436,'F6-2 plate 6'!B$7:H$102,7,FALSE) -> #DIV/0! | F436: =VLOOKUP(genotyping!B436,'F6-2 plate 6'!B$7:J$102,9,FALSE) -> #DIV/0! | G436: =IF(C436="BB","R or I",IF(C436="AA","S/S",IF(C436="AB","S/R or S/I","Unknown"))) -> #DIV/0! | H436: =IF(E436="BB","R or A",IF(E436="AA","S or I",IF(E436="AB","S/R or R/I or S/A or I/A","Unknown"))) -> #DIV/0! | I436: ='F1-1 plate 6'!$M$5 -> #DIV/0! | J436: ='F6-2 plate 6'!$M$5 -> #DIV/0!
A437: plate 6 | B437: B02 | C437: =VLOOKUP(B437,'F1-1 plate 6'!B$7:H$102,7,FALSE) -> #DIV/0! | D437: =VLOOKUP(B437,'F1-1 plate 6'!B$7:J$102,9,FALSE) -> #DIV/0! | E437: =VLOOKUP(B437,'F6-2 plate 6'!B$7:H$102,7,FALSE) -> #DIV/0! | F437: =VLOOKUP(genotyping!B437,'F6-2 plate 6'!B$7:J$102,9,FALSE) -> #DIV/0! | G437: =IF(C437="BB","R or I",IF(C437="AA","S/S",IF(C437="AB","S/R or S/I","Unknown"))) -> #DIV/0! | H437: =IF(E437="BB","R or A",IF(E437="AA","S or I",IF(E437="AB","S/R or R/I or S/A or I/A","Unknown"))) -> #DIV/0!
A438: plate 6 | B438: B03 | C438: =VLOOKUP(B438,'F1-1 plate 6'!B$7:H$102,7,FALSE) -> #DIV/0! | D438: =VLOOKUP(B438,'F1-1 plate 6'!B$7:J$102,9,FALSE) -> #DIV/0! | E438: =VLOOKUP(B438,'F6-2 plate 6'!B$7:H$102,7,FALSE) -> #DIV/0! | F438: =VLOOKUP(genotyping!B438,'F6-2 plate 6'!B$7:J$102,9,FALSE) -> #DIV/0! | G438: =IF(C438="BB","R or I",IF(C438="AA","S/S",IF(C438="AB","S/R or S/I","Unknown"))) -> #DIV/0! | H438: =IF(E438="BB","R or A",IF(E438="AA","S or I",IF(E438="AB","S/R or R/I or S/A or I/A","Unknown"))) -> #DIV/0!
A439: plate 6 | B439: B04 | C439: =VLOOKUP(B439,'F1-1 plate 6'!B$7:H$102,7,FALSE) -> #DIV/0! | D439: =VLOOKUP(B439,'F1-1 plate 6'!B$7:J$102,9,FALSE) -> #DIV/0! | E439: =VLOOKUP(B439,'F6-2 plate 6'!B$7:H$102,7,FALSE) -> #DIV/0! | F439: =VLOOKUP(genotyping!B439,'F6-2 plate 6'!B$7:J$102,9,FALSE) -> #DIV/0! | G439: =IF(C439="BB","R or I",IF(C439="AA","S/S",IF(C439="AB","S/R or S/I","Unknown"))) -> #DIV/0! | H439: =IF(E439="BB","R or A",IF(E439="AA","S or I",IF(E439="AB","S/R or R/I or S/A or I/A","Unknown"))) -> #DIV/0!
A440: plate 6 | B440: B05 | C440: =VLOOKUP(B440,'F1-1 plate 6'!B$7:H$102,7,FALSE) -> #DIV/0! | D440: =VLOOKUP(B440,'F1-1 plate 6'!B$7:J$102,9,FALSE) -> #DIV/0! | E440: =VLOOKUP(B440,'F6-2 plate 6'!B$7:H$102,7,FALSE) -> #DIV/0! | F440: =VLOOKUP(genotyping!B440,'F6-2 plate 6'!B$7:J$102,9,FALSE) -> #DIV/0! | G440: =IF(C440="BB","R or I",IF(C440="AA","S/S",IF(C440="AB","S/R or S/I","Unknown"))) -> #DIV/0! | H440: =IF(E440="BB","R or A",IF(E440="AA","S or I",IF(E440="AB","S/R or R/I or S/A or I/A","Unknown"))) -> #DIV/0!
A441: plate 6 | B441: B06 | C441: =VLOOKUP(B441,'F1-1 plate 6'!B$7:H$102,7,FALSE) -> #DIV/0! | D441: =VLOOKUP(B441,'F1-1 plate 6'!B$7:J$102,9,FALSE) -> #DIV/0! | E441: =VLOOKUP(B441,'F6-2 plate 6'!B$7:H$102,7,FALSE) -> #DIV/0! | F441: =VLOOKUP(genotyping!B441,'F6-2 plate 6'!B$7:J$102,9,FALSE) -> #DIV/0! | G441: =IF(C441="BB","R or I",IF(C441="AA","S/S",IF(C441="AB","S/R or S/I","Unknown"))) -> #DIV/0! | H441: =IF(E441="BB","R or A",IF(E441="AA","S or I",IF(E441="AB","S/R or R/I or S/A or I/A","Unknown"))) -> #DIV/0!
A442: plate 6 | B442: B07 | C442: =VLOOKUP(B442,'F1-1 plate 6'!B$7:H$102,7,FALSE) -> #DIV/0! | D442: =VLOOKUP(B442,'F1-1 plate 6'!B$7:J$102,9,FALSE) -> #DIV/0! | E442: =VLOOKUP(B442,'F6-2 plate 6'!B$7:H$102,7,FALSE) -> #DIV/0! | F442: =VLOOKUP(genotyping!B442,'F6-2 plate 6'!B$7:J$102,9,FALSE) -> #DIV/0! | G442: =IF(C442="BB","R or I",IF(C442="AA","S/S",IF(C442="AB","S/R or S/I","Unknown"))) -> #DIV/0! | H442: =IF(E442="BB","R or A",IF(E442="AA","S or I",IF(E442="AB","S/R or R/I or S/A or I/A","Unknown"))) -> #DIV/0!
A443: plate 6 | B443: B08 | C443: =VLOOKUP(B443,'F1-1 plate 6'!B$7:H$102,7,FALSE) -> #DIV/0! | D443: =VLOOKUP(B443,'F1-1 plate 6'!B$7:J$102,9,FALSE) -> #DIV/0! | E443: =VLOOKUP(B443,'F6-2 plate 6'!B$7:H$102,7,FALSE) -> #DIV/0! | F443: =VLOOKUP(genotyping!B443,'F6-2 plate 6'!B$7:J$102,9,FALSE) -> #DIV/0! | G443: =IF(C443="BB","R or I",IF(C443="AA","S/S",IF(C443="AB","S/R or S/I","Unknown"))) -> #DIV/0! | H443: =IF(E443="BB","R or A",IF(E443="AA","S or I",IF(E443="AB","S/R or R/I or S/A or I/A","Unknown"))) -> #DIV/0!
A444: plate 6 | B444: B09 | C444: =VLOOKUP(B444,'F1-1 plate 6'!B$7:H$102,7,FALSE) -> #DIV/0! | D444: =VLOOKUP(B444,'F1-1 plate 6'!B$7:J$102,9,FALSE) -> #DIV/0! | E444: =VLOOKUP(B444,'F6-2 plate 6'!B$7:H$102,7,FALSE) -> #DIV/0! | F444: =VLOOKUP(genotyping!B444,'F6-2 plate 6'!B$7:J$102,9,FALSE) -> #DIV/0! | G444: =IF(C444="BB","R or I",IF(C444="AA","S/S",IF(C444="AB","S/R or S/I","Unknown"))) -> #DIV/0! | H444: =IF(E444="BB","R or A",IF(E444="AA","S or I",IF(E444="AB","S/R or R/I or S/A or I/A","Unknown"))) -> #DIV/0!
A445: plate 6 | B445: B10 | C445: =VLOOKUP(B445,'F1-1 plate 6'!B$7:H$102,7,FALSE) -> #DIV/0! | D445: =VLOOKUP(B445,'F1-1 plate 6'!B$7:J$102,9,FALSE) -> #DIV/0! | E445: =VLOOKUP(B445,'F6-2 plate 6'!B$7:H$102,7,FALSE) -> #DIV/0! | F445: =VLOOKUP(genotyping!B445,'F6-2 plate 6'!B$7:J$102,9,FALSE) -> #DIV/0! | G445: =IF(C445="BB","R or I",IF(C445="AA","S/S",IF(C445="AB","S/R or S/I","Unknown"))) -> #DIV/0! | H445: =IF(E445="BB","R or A",IF(E445="AA","S or I",IF(E445="AB","S/R or R/I or S/A or I/A","Unknown"))) -> #DIV/0!
A446: plate 6 | B446: B11 | C446: =VLOOKUP(B446,'F1-1 plate 6'!B$7:H$102,7,FALSE) -> #DIV/0! | D446: =VLOOKUP(B446,'F1-1 plate 6'!B$7:J$102,9,FALSE) -> #DIV/0! | E446: =VLOOKUP(B446,'F6-2 plate 6'!B$7:H$102,7,FALSE) -> #DIV/0! | F446: =VLOOKUP(genotyping!B446,'F6-2 plate 6'!B$7:J$102,9,FALSE) -> #DIV/0! | G446: =IF(C446="BB","R or I",IF(C446="AA","S/S",IF(C446="AB","S/R or S/I","Unknown"))) -> #DIV/0! | H446: =IF(E446="BB","R or A",IF(E446="AA","S or I",IF(E446="AB","S/R or R/I or S/A or I/A","Unknown"))) -> #DIV/0!
A447: plate 6 | B447: B12 | C447: =VLOOKUP(B447,'F1-1 plate 6'!B$7:H$102,7,FALSE) -> #DIV/0! | D447: =VLOOKUP(B447,'F1-1 plate 6'!B$7:J$102,9,FALSE) -> #DIV/0! | E447: =VLOOKUP(B447,'F6-2 plate 6'!B$7:H$102,7,FALSE) -> #DIV/0! | F447: =VLOOKUP(genotyping!B447,'F6-2 plate 6'!B$7:J$102,9,FALSE) -> #DIV/0! | G447: =IF(C447="BB","R or I",IF(C447="AA","S/S",IF(C447="AB","S/R or S/I","Unknown"))) -> #DIV/0! | H447: =IF(E447="BB","R or A",IF(E447="AA","S or I",IF(E447="AB","S/R or R/I or S/A or I/A","Unknown"))) -> #DIV/0!
A448: plate 6 | B448: C01 | C448: =VLOOKUP(B448,'F1-1 plate 6'!B$7:H$102,7,FALSE) -> #DIV/0! | D448: =VLOOKUP(B448,'F1-1 plate 6'!B$7:J$102,9,FALSE) -> #DIV/0! | E448: =VLOOKUP(B448,'F6-2 plate 6'!B$7:H$102,7,FALSE) -> #DIV/0! | F448: =VLOOKUP(genotyping!B448,'F6-2 plate 6'!B$7:J$102,9,FALSE) -> #DIV/0! | G448: =IF(C448="BB","R or I",IF(C448="AA","S/S",IF(C448="AB","S/R or S/I","Unknown"))) -> #DIV/0! | H448: =IF(E448="BB","R or A",IF(E448="AA","S or I",IF(E448="AB","S/R or R/I or S/A or I/A","Unknown"))) -> #DIV/0!
... A519: plate 6 | B519: H12 | C519: =VLOOKUP(B519,'F1-1 plate 6'!B$7:H$102,7,FALSE) -> #DIV/0! | D519: =VLOOKUP(B519,'F1-1 plate 6'!B$7:J$102,9,FALSE) -> #DIV/0! | E519: =VLOOKUP(B519,'F6-2 plate 6'!B$7:H$102,7,FALSE) -> #DIV/0! | F519: =VLOOKUP(genotyping!B519,'F6-2 plate 6'!B$7:J$102,9,FALSE) -> #DIV/0! | G519: =IF(C519="BB","R or I",IF(C519="AA","S/S",IF(C519="AB","S/R or S/I","Unknown"))) -> #DIV/0! | H519: =IF(E519="BB","R or A",IF(E519="AA","S or I",IF(E519="AB","S/R or R/I or S/A or I/A","Unknown"))) -> #DIV/0!
A520: plate 7 | B520: B01 | C520: =VLOOKUP(B520,'F1-1 plate 7'!B$7:H$102,7,FALSE) -> #DIV/0! | D520: =VLOOKUP(B520,'F1-1 plate 7'!B$7:J$102,9,FALSE) -> #DIV/0! | E520: =VLOOKUP(B520,'F6-2 plate 7'!B$7:H$102,7,FALSE) -> #DIV/0! | F520: =VLOOKUP(genotyping!B520,'F6-2 plate 7'!B$7:J$102,9,FALSE) -> #DIV/0! | G520: =IF(C520="BB","R or I",IF(C520="AA","S/S",IF(C520="AB","S/R or S/I","Unknown"))) -> #DIV/0! | H520: =IF(E520="BB","R or A",IF(E520="AA","S or I",IF(E520="AB","S/R or R/I or S/A or I/A","Unknown"))) -> #DIV/0! | I520: ='F1-1 plate 7'!$M$5 -> #DIV/0! | J520: ='F6-2 plate 7'!$M$5 -> #DIV/0!
...

Sheet F1-1 plate 1
A1: TO USE TEMPLATE: Cells you can change are in gray. Make a copy of this worksheet. Then paste your RFUs in columns C and D. You can change the dotted boundary for no amplification in the top chart in S9 and R13. You can change the lower and upper bounds for assigning heterozygotes in the bottom chart in S31 and S34. You can also change how close the values can be to the bounds before being flagged in cell S36.
V4: FOR GRAPHING: GENOTYPING | AD4: FOR GRAPHING: SCATTERPLOT
A5: F1-1 PLATE 1 | L5: BAD PLATE? | M5: =IF(OR(I7="",I8="",I9=""),"NTCs amplified",IF(OR(W103=0,X103=0,Y103=0),"Only two clusters","AOK!")) -> #DIV/0!
A6: Plate | B6: Well | C6: FAM | D6: HEX | E6: %FAM | F6: %HEX | G6: delta | H6: genotype | I6: No amplification | J6: Marginal? | U6: cell ID | V6: No amp | W6: AA | X6: AB | Y6: BB | Z6: Marginal | AC6: cell ID | AD6: No amp | AE6: AA | AF6: AB | AG6: BB | AH6: Marginal
A7: NTC | B7: A01 | E7: =(C7-MIN(C$7:C$102))/(MAX(C$7:C$102)-MIN(C$7:C$102))*100 -> #DIV/0! | F7: =(D7-MIN(D$7:D$102))/(MAX(D$7:D$102)-MIN(D$7:D$102))*100 -> #DIV/0! | G7: =F7-E7 -> #DIV/0! | H7: NTC | I7: =IF(AND(E7<$R$13,F7<$S$9),G7,"") -> #DIV/0! | J7: =IF(OR(AND(($S$31-$S$36)<G7,($S$31+$S$36)>G7),AND(($S$34-$S$36)<G7,($S$34+$S$36)>G7)),"CHECK","") -> #DIV/0! | R7: HEX bound for no amp | U7: NTC | V7: =IF(I7="",NA(),G7) -> #DIV/0! | W7: =IF(AND(I7="",G7<$S$31),G7,NA()) -> #DIV/0! | X7: =IF(AND(I7="",G7<$S$34,G7>$S$31),G7,NA()) -> #DIV/0! | Y7: =IF(AND(I7="",G7>$S$34),G7,NA()) -> #DIV/0! | Z7: =IF(J7="CHECK",G7,NA()) -> #DIV/0! | AC7: NTC | AD7: =IF(V7<>"#N/A",$F7,"") -> #DIV/0! | AE7: =IF(W7<>"#N/A",$F7,"") -> #DIV/0! | AF7: =IF(X7<>"#N/A",$F7,"") -> #DIV/0! | AG7: =IF(Y7<>"#N/A",$F7,"") -> #DIV/0! | AH7: =IF(Z7<>"#N/A",$F7,"") -> #DIV/0!
A8: NTC | B8: A02 | E8: =(C8-MIN(C$7:C$102))/(MAX(C$7:C$102)-MIN(C$7:C$102))*100 -> #DIV/0! | F8: =(D8-MIN(D$7:D$102))/(MAX(D$7:D$102)-MIN(D$7:D$102))*100 -> #DIV/0! | G8: =F8-E8 -> #DIV/0! | H8: NTC | I8: =IF(AND(E8<$R$13,F8<$S$9),G8,"") -> #DIV/0! | J8: =IF(OR(AND(($S$31-$S$36)<G8,($S$31+$S$36)>G8),AND(($S$34-$S$36)<G8,($S$34+$S$36)>G8)),"CHECK","") -> #DIV/0! | R8: x-coordinate | S8: y-coordinate | U8: NTC | V8: =IF(I8="",NA(),G8) -> #DIV/0! | W8: =IF(AND(I8="",G8<$S$31),G8,NA()) -> #DIV/0! | X8: =IF(AND(I8="",G8<$S$34,G8>$S$31),G8,NA()) -> #DIV/0! | Y8: =IF(AND(I8="",G8>$S$34),G8,NA()) -> #DIV/0! | Z8: =IF(J8="CHECK",G8,NA()) -> #DIV/0! | AC8: NTC | AD8: =IF(V8<>"#N/A",$F8,"") -> #DIV/0! | AE8: =IF(W8<>"#N/A",$F8,"") -> #DIV/0! | AF8: =IF(X8<>"#N/A",$F8,"") -> #DIV/0! | AG8: =IF(Y8<>"#N/A",$F8,"") -> #DIV/0! | AH8: =IF(Z8<>"#N/A",$F8,"") -> #DIV/0!
A9: NTC | B9: A03 | E9: =(C9-MIN(C$7:C$102))/(MAX(C$7:C$102)-MIN(C$7:C$102))*100 -> #DIV/0! | F9: =(D9-MIN(D$7:D$102))/(MAX(D$7:D$102)-MIN(D$7:D$102))*100 -> #DIV/0! | G9: =F9-E9 -> #DIV/0! | H9: NTC | I9: =IF(AND(E9<$R$13,F9<$S$9),G9,"") -> #DIV/0! | J9: =IF(OR(AND(($S$31-$S$36)<G9,($S$31+$S$36)>G9),AND(($S$34-$S$36)<G9,($S$34+$S$36)>G9)),"CHECK","") -> #DIV/0! | R9: 0 | S9: 20 | U9: NTC | V9: =IF(I9="",NA(),G9) -> #DIV/0! | W9: =IF(AND(I9="",G9<$S$31),G9,NA()) -> #DIV/0! | X9: =IF(AND(I9="",G9<$S$34,G9>$S$31),G9,NA()) -> #DIV/0! | Y9: =IF(AND(I9="",G9>$S$34),G9,NA()) -> #DIV/0! | Z9: =IF(J9="CHECK",G9,NA()) -> #DIV/0! | AC9: NTC | AD9: =IF(V9<>"#N/A",$F9,"") -> #DIV/0! | AE9: =IF(W9<>"#N/A",$F9,"") -> #DIV/0! | AF9: =IF(X9<>"#N/A",$F9,"") -> #DIV/0! | AG9: =IF(Y9<>"#N/A",$F9,"") -> #DIV/0! | AH9: =IF(Z9<>"#N/A",$F9,"") -> #DIV/0!
A10: AA | B10: A04 | E10: =(C10-MIN(C$7:C$102))/(MAX(C$7:C$102)-MIN(C$7:C$102))*100 -> #DIV/0! | F10: =(D10-MIN(D$7:D$102))/(MAX(D$7:D$102)-MIN(D$7:D$102))*100 -> #DIV/0! | G10: =F10-E10 -> #DIV/0! | H10: AA | I10: =IF(AND(E10<$R$13,F10<$S$9),G10,"") -> #DIV/0! | J10: =IF(OR(AND(($S$31-$S$36)<G10,($S$31+$S$36)>G10),AND(($S$34-$S$36)<G10,($S$34+$S$36)>G10)),"CHECK","") -> #DIV/0! | R10: =R13 -> 20 | S10: =S9 -> 20 | U10: AA | V10: =IF(I10="",NA(),G10) -> #DIV/0! | W10: =IF(AND(I10="",G10<$S$31),G10,NA()) -> #DIV/0! | X10: =IF(AND(I10="",G10<$S$34,G10>$S$31),G10,NA()) -> #DIV/0! | Y10: =IF(AND(I10="",G10>$S$34),G10,NA()) -> #DIV/0! | Z10: =IF(J10="CHECK",G10,NA()) -> #DIV/0! | AC10: AA | AD10: =IF(V10<>"#N/A",$F10,"") -> #DIV/0! | AE10: =IF(W10<>"#N/A",$F10,"") -> #DIV/0! | AF10: =IF(X10<>"#N/A",$F10,"") -> #DIV/0! | AG10: =IF(Y10<>"#N/A",$F10,"") -> #DIV/0! | AH10: =IF(Z10<>"#N/A",$F10,"") -> #DIV/0!
A11: AA | B11: A05 | E11: =(C11-MIN(C$7:C$102))/(MAX(C$7:C$102)-MIN(C$7:C$102))*100 -> #DIV/0! | F11: =(D11-MIN(D$7:D$102))/(MAX(D$7:D$102)-MIN(D$7:D$102))*100 -> #DIV/0! | G11: =F11-E11 -> #DIV/0! | H11: AA | I11: =IF(AND(E11<$R$13,F11<$S$9),G11,"") -> #DIV/0! | J11: =IF(OR(AND(($S$31-$S$36)<G11,($S$31+$S$36)>G11),AND(($S$34-$S$36)<G11,($S$34+$S$36)>G11)),"CHECK","") -> #DIV/0! | R11: FAM bound for no amp | U11: AA | V11: =IF(I11="",NA(),G11) -> #DIV/0! | W11: =IF(AND(I11="",G11<$S$31),G11,NA()) -> #DIV/0! | X11: =IF(AND(I11="",G11<$S$34,G11>$S$31),G11,NA()) -> #DIV/0! | Y11: =IF(AND(I11="",G11>$S$34),G11,NA()) -> #DIV/0! | Z11: =IF(J11="CHECK",G11,NA()) -> #DIV/0! | AC11: AA | AD11: =IF(V11<>"#N/A",$F11,"") -> #DIV/0! | AE11: =IF(W11<>"#N/A",$F11,"") -> #DIV/0! | AF11: =IF(X11<>"#N/A",$F11,"") -> #DIV/0! | AG11: =IF(Y11<>"#N/A",$F11,"") -> #DIV/0! | AH11: =IF(Z11<>"#N/A",$F11,"") -> #DIV/0!
A12: AA | B12: A06 | E12: =(C12-MIN(C$7:C$102))/(MAX(C$7:C$102)-MIN(C$7:C$102))*100 -> #DIV/0! | F12: =(D12-MIN(D$7:D$102))/(MAX(D$7:D$102)-MIN(D$7:D$102))*100 -> #DIV/0! | G12: =F12-E12 -> #DIV/0! | H12: AA | I12: =IF(AND(E12<$R$13,F12<$S$9),G12,"") -> #DIV/0! | J12: =IF(OR(AND(($S$31-$S$36)<G12,($S$31+$S$36)>G12),AND(($S$34-$S$36)<G12,($S$34+$S$36)>G12)),"CHECK","") -> #DIV/0! | R12: x-coordinate | S12: y-coordinate | U12: AA | V12: =IF(I12="",NA(),G12) -> #DIV/0! | W12: =IF(AND(I12="",G12<$S$31),G12,NA()) -> #DIV/0! | X12: =IF(AND(I12="",G12<$S$34,G12>$S$31),G12,NA()) -> #DIV/0! | Y12: =IF(AND(I12="",G12>$S$34),G12,NA()) -> #DIV/0! | Z12: =IF(J12="CHECK",G12,NA()) -> #DIV/0! | AC12: AA | AD12: =IF(V12<>"#N/A",$F12,"") -> #DIV/0! | AE12: =IF(W12<>"#N/A",$F12,"") -> #DIV/0! | AF12: =IF(X12<>"#N/A",$F12,"") -> #DIV/0! | AG12: =IF(Y12<>"#N/A",$F12,"") -> #DIV/0! | AH12: =IF(Z12<>"#N/A",$F12,"") -> #DIV/0!
A13: AB | B13: A07 | E13: =(C13-MIN(C$7:C$102))/(MAX(C$7:C$102)-MIN(C$7:C$102))*100 -> #DIV/0! | F13: =(D13-MIN(D$7:D$102))/(MAX(D$7:D$102)-MIN(D$7:D$102))*100 -> #DIV/0! | G13: =F13-E13 -> #DIV/0! | H13: AB | I13: =IF(AND(E13<$R$13,F13<$S$9),G13,"") -> #DIV/0! | J13: =IF(OR(AND(($S$31-$S$36)<G13,($S$31+$S$36)>G13),AND(($S$34-$S$36)<G13,($S$34+$S$36)>G13)),"CHECK","") -> #DIV/0! | R13: 20 | S13: 0 | U13: AB | V13: =IF(I13="",NA(),G13) -> #DIV/0! | W13: =IF(AND(I13="",G13<$S$31),G13,NA()) -> #DIV/0! | X13: =IF(AND(I13="",G13<$S$34,G13>$S$31),G13,NA()) -> #DIV/0! | Y13: =IF(AND(I13="",G13>$S$34),G13,NA()) -> #DIV/0! | Z13: =IF(J13="CHECK",G13,NA()) -> #DIV/0! | AC13: AB | AD13: =IF(V13<>"#N/A",$F13,"") -> #DIV/0! | AE13: =IF(W13<>"#N/A",$F13,"") -> #DIV/0! | AF13: =IF(X13<>"#N/A",$F13,"") -> #DIV/0! | AG13: =IF(Y13<>"#N/A",$F13,"") -> #DIV/0! | AH13: =IF(Z13<>"#N/A",$F13,"") -> #DIV/0!
A14: AB | B14: A08 | E14: =(C14-MIN(C$7:C$102))/(MAX(C$7:C$102)-MIN(C$7:C$102))*100 -> #DIV/0! | F14: =(D14-MIN(D$7:D$102))/(MAX(D$7:D$102)-MIN(D$7:D$102))*100 -> #DIV/0! | G14: =F14-E14 -> #DIV/0! | H14: AB | I14: =IF(AND(E14<$R$13,F14<$S$9),G14,"") -> #DIV/0! | J14: =IF(OR(AND(($S$31-$S$36)<G14,($S$31+$S$36)>G14),AND(($S$34-$S$36)<G14,($S$34+$S$36)>G14)),"CHECK","") -> #DIV/0! | R14: =R13 -> 20 | S14: =S9 -> 20 | U14: AB | V14: =IF(I14="",NA(),G14) -> #DIV/0! | W14: =IF(AND(I14="",G14<$S$31),G14,NA()) -> #DIV/0! | X14: =IF(AND(I14="",G14<$S$34,G14>$S$31),G14,NA()) -> #DIV/0! | Y14: =IF(AND(I14="",G14>$S$34),G14,NA()) -> #DIV/0! | Z14: =IF(J14="CHECK",G14,NA()) -> #DIV/0! | AC14: AB | AD14: =IF(V14<>"#N/A",$F14,"") -> #DIV/0! | AE14: =IF(W14<>"#N/A",$F14,"") -> #DIV/0! | AF14: =IF(X14<>"#N/A",$F14,"") -> #DIV/0! | AG14: =IF(Y14<>"#N/A",$F14,"") -> #DIV/0! | AH14: =IF(Z14<>"#N/A",$F14,"") -> #DIV/0!
A15: AB | B15: A09 | E15: =(C15-MIN(C$7:C$102))/(MAX(C$7:C$102)-MIN(C$7:C$102))*100 -> #DIV/0! | F15: =(D15-MIN(D$7:D$102))/(MAX(D$7:D$102)-MIN(D$7:D$102))*100 -> #DIV/0! | G15: =F15-E15 -> #DIV/0! | H15: AB | I15: =IF(AND(E15<$R$13,F15<$S$9),G15,"") -> #DIV/0! | J15: =IF(OR(AND(($S$31-$S$36)<G15,($S$31+$S$36)>G15),AND(($S$34-$S$36)<G15,($S$34+$S$36)>G15)),"CHECK","") -> #DIV/0! | U15: AB | V15: =IF(I15="",NA(),G15) -> #DIV/0! | W15: =IF(AND(I15="",G15<$S$31),G15,NA()) -> #DIV/0! | X15: =IF(AND(I15="",G15<$S$34,G15>$S$31),G15,NA()) -> #DIV/0! | Y15: =IF(AND(I15="",G15>$S$34),G15,NA()) -> #DIV/0! | Z15: =IF(J15="CHECK",G15,NA()) -> #DIV/0! | AC15: AB | AD15: =IF(V15<>"#N/A",$F15,"") -> #DIV/0! | AE15: =IF(W15<>"#N/A",$F15,"") -> #DIV/0! | AF15: =IF(X15<>"#N/A",$F15,"") -> #DIV/0! | AG15: =IF(Y15<>"#N/A",$F15,"") -> #DIV/0! | AH15: =IF(Z15<>"#N/A",$F15,"") -> #DIV/0!
A16: BB | B16: A10 | E16: =(C16-MIN(C$7:C$102))/(MAX(C$7:C$102)-MIN(C$7:C$102))*100 -> #DIV/0! | F16: =(D16-MIN(D$7:D$102))/(MAX(D$7:D$102)-MIN(D$7:D$102))*100 -> #DIV/0! | G16: =F16-E16 -> #DIV/0! | H16: BB | I16: =IF(AND(E16<$R$13,F16<$S$9),G16,"") -> #DIV/0! | J16: =IF(OR(AND(($S$31-$S$36)<G16,($S$31+$S$36)>G16),AND(($S$34-$S$36)<G16,($S$34+$S$36)>G16)),"CHECK","") -> #DIV/0! | U16: BB | V16: =IF(I16="",NA(),G16) -> #DIV/0! | W16: =IF(AND(I16="",G16<$S$31),G16,NA()) -> #DIV/0! | X16: =IF(AND(I16="",G16<$S$34,G16>$S$31),G16,NA()) -> #DIV/0! | Y16: =IF(AND(I16="",G16>$S$34),G16,NA()) -> #DIV/0! | Z16: =IF(J16="CHECK",G16,NA()) -> #DIV/0! | AC16: BB | AD16: =IF(V16<>"#N/A",$F16,"") -> #DIV/0! | AE16: =IF(W16<>"#N/A",$F16,"") -> #DIV/0! | AF16: =IF(X16<>"#N/A",$F16,"") -> #DIV/0! | AG16: =IF(Y16<>"#N/A",$F16,"") -> #DIV/0! | AH16: =IF(Z16<>"#N/A",$F16,"") -> #DIV/0!
A17: BB | B17: A11 | E17: =(C17-MIN(C$7:C$102))/(MAX(C$7:C$102)-MIN(C$7:C$102))*100 -> #DIV/0! | F17: =(D17-MIN(D$7:D$102))/(MAX(D$7:D$102)-MIN(D$7:D$102))*100 -> #DIV/0! | G17: =F17-E17 -> #DIV/0! | H17: BB | I17: =IF(AND(E17<$R$13,F17<$S$9),G17,"") -> #DIV/0! | J17: =IF(OR(AND(($S$31-$S$36)<G17,($S$31+$S$36)>G17),AND(($S$34-$S$36)<G17,($S$34+$S$36)>G17)),"CHECK","") -> #DIV/0! | U17: BB | V17: =IF(I17="",NA(),G17) -> #DIV/0! | W17: =IF(AND(I17="",G17<$S$31),G17,NA()) -> #DIV/0! | X17: =IF(AND(I17="",G17<$S$34,G17>$S$31),G17,NA()) -> #DIV/0! | Y17: =IF(AND(I17="",G17>$S$34),G17,NA()) -> #DIV/0! | Z17: =IF(J17="CHECK",G17,NA()) -> #DIV/0! | AC17: BB | AD17: =IF(V17<>"#N/A",$F17,"") -> #DIV/0! | AE17: =IF(W17<>"#N/A",$F17,"") -> #DIV/0! | AF17: =IF(X17<>"#N/A",$F17,"") -> #DIV/0! | AG17: =IF(Y17<>"#N/A",$F17,"") -> #DIV/0! | AH17: =IF(Z17<>"#N/A",$F17,"") -> #DIV/0!
A18: BB | B18: A12 | E18: =(C18-MIN(C$7:C$102))/(MAX(C$7:C$102)-MIN(C$7:C$102))*100 -> #DIV/0! | F18: =(D18-MIN(D$7:D$102))/(MAX(D$7:D$102)-MIN(D$7:D$102))*100 -> #DIV/0! | G18: =F18-E18 -> #DIV/0! | H18: BB | I18: =IF(AND(E18<$R$13,F18<$S$9),G18,"") -> #DIV/0! | J18: =IF(OR(AND(($S$31-$S$36)<G18,($S$31+$S$36)>G18),AND(($S$34-$S$36)<G18,($S$34+$S$36)>G18)),"CHECK","") -> #DIV/0! | U18: BB | V18: =IF(I18="",NA(),G18) -> #DIV/0! | W18: =IF(AND(I18="",G18<$S$31),G18,NA()) -> #DIV/0! | X18: =IF(AND(I18="",G18<$S$34,G18>$S$31),G18,NA()) -> #DIV/0! | Y18: =IF(AND(I18="",G18>$S$34),G18,NA()) -> #DIV/0! | Z18: =IF(J18="CHECK",G18,NA()) -> #DIV/0! | AC18: BB | AD18: =IF(V18<>"#N/A",$F18,"") -> #DIV/0! | AE18: =IF(W18<>"#N/A",$F18,"") -> #DIV/0! | AF18: =IF(X18<>"#N/A",$F18,"") -> #DIV/0! | AG18: =IF(Y18<>"#N/A",$F18,"") -> #DIV/0! | AH18: =IF(Z18<>"#N/A",$F18,"") -> #DIV/0!
B19: B01 | E19: =(C19-MIN(C$7:C$102))/(MAX(C$7:C$102)-MIN(C$7:C$102))*100 -> #DIV/0! | F19: =(D19-MIN(D$7:D$102))/(MAX(D$7:D$102)-MIN(D$7:D$102))*100 -> #DIV/0! | G19: =F19-E19 -> #DIV/0! | H19: =_xlfn.IFS(AND(E19<$R$13,F19<$S$9),"No amplification",G19>$S$34,"BB",G19<$S$31,"AA",AND(G19<$S$34,G19>$S$31),"AB") -> #DIV/0! | I19: =IF(AND(E19<$R$13,F19<$S$9),G19,"") -> #DIV/0! | J19: =IF(OR(AND(($S$31-$S$36)<G19,($S$31+$S$36)>G19),AND(($S$34-$S$36)<G19,($S$34+$S$36)>G19)),"CHECK","") -> #DIV/0! | U19: B01 | V19: =IF(I19="",NA(),G19) -> #DIV/0! | W19: =IF(AND(I19="",G19<$S$31),G19,NA()) -> #DIV/0! | X19: =IF(AND(I19="",G19<$S$34,G19>$S$31),G19,NA()) -> #DIV/0! | Y19: =IF(AND(I19="",G19>$S$34),G19,NA()) -> #DIV/0! | Z19: =IF(J19="CHECK",G19,NA()) -> #DIV/0! | AC19: B01 | AD19: =IF(V19<>"#N/A",$F19,"") -> #DIV/0! | AE19: =IF(W19<>"#N/A",$F19,"") -> #DIV/0! | AF19: =IF(X19<>"#N/A",$F19,"") -> #DIV/0! | AG19: =IF(Y19<>"#N/A",$F19,"") -> #DIV/0! | AH19: =IF(Z19<>"#N/A",$F19,"") -> #DIV/0!
B20: B02 | E20: =(C20-MIN(C$7:C$102))/(MAX(C$7:C$102)-MIN(C$7:C$102))*100 -> #DIV/0! | F20: =(D20-MIN(D$7:D$102))/(MAX(D$7:D$102)-MIN(D$7:D$102))*100 -> #DIV/0! | G20: =F20-E20 -> #DIV/0! | H20: =_xlfn.IFS(AND(E20<$R$13,F20<$S$9),"No amplification",G20>$S$34,"BB",G20<$S$31,"AA",AND(G20<$S$34,G20>$S$31),"AB") -> #DIV/0! | I20: =IF(AND(E20<$R$13,F20<$S$9),G20,"") -> #DIV/0! | J20: =IF(OR(AND(($S$31-$S$36)<G20,($S$31+$S$36)>G20),AND(($S$34-$S$36)<G20,($S$34+$S$36)>G20)),"CHECK","") -> #DIV/0! | U20: B02 | V20: =IF(I20="",NA(),G20) -> #DIV/0! | W20: =IF(AND(I20="",G20<$S$31),G20,NA()) -> #DIV/0! | X20: =IF(AND(I20="",G20<$S$34,G20>$S$31),G20,NA()) -> #DIV/0! | Y20: =IF(AND(I20="",G20>$S$34),G20,NA()) -> #DIV/0! | Z20: =IF(J20="CHECK",G20,NA()) -> #DIV/0! | AC20: B02 | AD20: =IF(V20<>"#N/A",$F20,"") -> #DIV/0! | AE20: =IF(W20<>"#N/A",$F20,"") -> #DIV/0! | AF20: =IF(X20<>"#N/A",$F20,"") -> #DIV/0! | AG20: =IF(Y20<>"#N/A",$F20,"") -> #DIV/0! | AH20: =IF(Z20<>"#N/A",$F20,"") -> #DIV/0!
B21: B03 | E21: =(C21-MIN(C$7:C$102))/(MAX(C$7:C$102)-MIN(C$7:C$102))*100 -> #DIV/0! | F21: =(D21-MIN(D$7:D$102))/(MAX(D$7:D$102)-MIN(D$7:D$102))*100 -> #DIV/0! | G21: =F21-E21 -> #DIV/0! | H21: =_xlfn.IFS(AND(E21<$R$13,F21<$S$9),"No amplification",G21>$S$34,"BB",G21<$S$31,"AA",AND(G21<$S$34,G21>$S$31),"AB") -> #DIV/0! | I21: =IF(AND(E21<$R$13,F21<$S$9),G21,"") -> #DIV/0! | J21: =IF(OR(AND(($S$31-$S$36)<G21,($S$31+$S$36)>G21),AND(($S$34-$S$36)<G21,($S$34+$S$36)>G21)),"CHECK","") -> #DIV/0! | U21: B03 | V21: =IF(I21="",NA(),G21) -> #DIV/0! | W21: =IF(AND(I21="",G21<$S$31),G21,NA()) -> #DIV/0! | X21: =IF(AND(I21="",G21<$S$34,G21>$S$31),G21,NA()) -> #DIV/0! | Y21: =IF(AND(I21="",G21>$S$34),G21,NA()) -> #DIV/0! | Z21: =IF(J21="CHECK",G21,NA()) -> #DIV/0! | AC21: B03 | AD21: =IF(V21<>"#N/A",$F21,"") -> #DIV/0! | AE21: =IF(W21<>"#N/A",$F21,"") -> #DIV/0! | AF21: =IF(X21<>"#N/A",$F21,"") -> #DIV/0! | AG21: =IF(Y21<>"#N/A",$F21,"") -> #DIV/0! | AH21: =IF(Z21<>"#N/A",$F21,"") -> #DIV/0!
B22: B04 | E22: =(C22-MIN(C$7:C$102))/(MAX(C$7:C$102)-MIN(C$7:C$102))*100 -> #DIV/0! | F22: =(D22-MIN(D$7:D$102))/(MAX(D$7:D$102)-MIN(D$7:D$102))*100 -> #DIV/0! | G22: =F22-E22 -> #DIV/0! | H22: =_xlfn.IFS(AND(E22<$R$13,F22<$S$9),"No amplification",G22>$S$34,"BB",G22<$S$31,"AA",AND(G22<$S$34,G22>$S$31),"AB") -> #DIV/0! | I22: =IF(AND(E22<$R$13,F22<$S$9),G22,"") -> #DIV/0! | J22: =IF(OR(AND(($S$31-$S$36)<G22,($S$31+$S$36)>G22),AND(($S$34-$S$36)<G22,($S$34+$S$36)>G22)),"CHECK","") -> #DIV/0! | U22: B04 | V22: =IF(I22="",NA(),G22) -> #DIV/0! | W22: =IF(AND(I22="",G22<$S$31),G22,NA()) -> #DIV/0! | X22: =IF(AND(I22="",G22<$S$34,G22>$S$31),G22,NA()) -> #DIV/0! | Y22: =IF(AND(I22="",G22>$S$34),G22,NA()) -> #DIV/0! | Z22: =IF(J22="CHECK",G22,NA()) -> #DIV/0! | AC22: B04 | AD22: =IF(V22<>"#N/A",$F22,"") -> #DIV/0! | AE22: =IF(W22<>"#N/A",$F22,"") -> #DIV/0! | AF22: =IF(X22<>"#N/A",$F22,"") -> #DIV/0! | AG22: =IF(Y22<>"#N/A",$F22,"") -> #DIV/0! | AH22: =IF(Z22<>"#N/A",$F22,"") -> #DIV/0!
B23: B05 | E23: =(C23-MIN(C$7:C$102))/(MAX(C$7:C$102)-MIN(C$7:C$102))*100 -> #DIV/0! | F23: =(D23-MIN(D$7:D$102))/(MAX(D$7:D$102)-MIN(D$7:D$102))*100 -> #DIV/0! | G23: =F23-E23 -> #DIV/0! | H23: =_xlfn.IFS(AND(E23<$R$13,F23<$S$9),"No amplification",G23>$S$34,"BB",G23<$S$31,"AA",AND(G23<$S$34,G23>$S$31),"AB") -> #DIV/0! | I23: =IF(AND(E23<$R$13,F23<$S$9),G23,"") -> #DIV/0! | J23: =IF(OR(AND(($S$31-$S$36)<G23,($S$31+$S$36)>G23),AND(($S$34-$S$36)<G23,($S$34+$S$36)>G23)),"CHECK","") -> #DIV/0! | U23: B05 | V23: =IF(I23="",NA(),G23) -> #DIV/0! | W23: =IF(AND(I23="",G23<$S$31),G23,NA()) -> #DIV/0! | X23: =IF(AND(I23="",G23<$S$34,G23>$S$31),G23,NA()) -> #DIV/0! | Y23: =IF(AND(I23="",G23>$S$34),G23,NA()) -> #DIV/0! | Z23: =IF(J23="CHECK",G23,NA()) -> #DIV/0! | AC23: B05 | AD23: =IF(V23<>"#N/A",$F23,"") -> #DIV/0! | AE23: =IF(W23<>"#N/A",$F23,"") -> #DIV/0! | AF23: =IF(X23<>"#N/A",$F23,"") -> #DIV/0! | AG23: =IF(Y23<>"#N/A",$F23,"") -> #DIV/0! | AH23: =IF(Z23<>"#N/A",$F23,"") -> #DIV/0!
B24: B06 | E24: =(C24-MIN(C$7:C$102))/(MAX(C$7:C$102)-MIN(C$7:C$102))*100 -> #DIV/0! | F24: =(D24-MIN(D$7:D$102))/(MAX(D$7:D$102)-MIN(D$7:D$102))*100 -> #DIV/0! | G24: =F24-E24 -> #DIV/0! | H24: =_xlfn.IFS(AND(E24<$R$13,F24<$S$9),"No amplification",G24>$S$34,"BB",G24<$S$31,"AA",AND(G24<$S$34,G24>$S$31),"AB") -> #DIV/0! | I24: =IF(AND(E24<$R$13,F24<$S$9),G24,"") -> #DIV/0! | J24: =IF(OR(AND(($S$31-$S$36)<G24,($S$31+$S$36)>G24),AND(($S$34-$S$36)<G24,($S$34+$S$36)>G24)),"CHECK","") -> #DIV/0! | U24: B06 | V24: =IF(I24="",NA(),G24) -> #DIV/0! | W24: =IF(AND(I24="",G24<$S$31),G24,NA()) -> #DIV/0! | X24: =IF(AND(I24="",G24<$S$34,G24>$S$31),G24,NA()) -> #DIV/0! | Y24: =IF(AND(I24="",G24>$S$34),G24,NA()) -> #DIV/0! | Z24: =IF(J24="CHECK",G24,NA()) -> #DIV/0! | AC24: B06 | AD24: =IF(V24<>"#N/A",$F24,"") -> #DIV/0! | AE24: =IF(W24<>"#N/A",$F24,"") -> #DIV/0! | AF24: =IF(X24<>"#N/A",$F24,"") -> #DIV/0! | AG24: =IF(Y24<>"#N/A",$F24,"") -> #DIV/0! | AH24: =IF(Z24<>"#N/A",$F24,"") -> #DIV/0!
B25: B07 | E25: =(C25-MIN(C$7:C$102))/(MAX(C$7:C$102)-MIN(C$7:C$102))*100 -> #DIV/0! | F25: =(D25-MIN(D$7:D$102))/(MAX(D$7:D$102)-MIN(D$7:D$102))*100 -> #DIV/0! | G25: =F25-E25 -> #DIV/0! | H25: =_xlfn.IFS(AND(E25<$R$13,F25<$S$9),"No amplification",G25>$S$34,"BB",G25<$S$31,"AA",AND(G25<$S$34,G25>$S$31),"AB") -> #DIV/0! | I25: =IF(AND(E25<$R$13,F25<$S$9),G25,"") -> #DIV/0! | J25: =IF(OR(AND(($S$31-$S$36)<G25,($S$31+$S$36)>G25),AND(($S$34-$S$36)<G25,($S$34+$S$36)>G25)),"CHECK","") -> #DIV/0! | U25: B07 | V25: =IF(I25="",NA(),G25) -> #DIV/0! | W25: =IF(AND(I25="",G25<$S$31),G25,NA()) -> #DIV/0! | X25: =IF(AND(I25="",G25<$S$34,G25>$S$31),G25,NA()) -> #DIV/0! | Y25: =IF(AND(I25="",G25>$S$34),G25,NA()) -> #DIV/0! | Z25: =IF(J25="CHECK",G25,NA()) -> #DIV/0! | AC25: B07 | AD25: =IF(V25<>"#N/A",$F25,"") -> #DIV/0! | AE25: =IF(W25<>"#N/A",$F25,"") -> #DIV/0! | AF25: =IF(X25<>"#N/A",$F25,"") -> #DIV/0! | AG25: =IF(Y25<>"#N/A",$F25,"") -> #DIV/0! | AH25: =IF(Z25<>"#N/A",$F25,"") -> #DIV/0!
B26: B08 | E26: =(C26-MIN(C$7:C$102))/(MAX(C$7:C$102)-MIN(C$7:C$102))*100 -> #DIV/0! | F26: =(D26-MIN(D$7:D$102))/(MAX(D$7:D$102)-MIN(D$7:D$102))*100 -> #DIV/0! | G26: =F26-E26 -> #DIV/0! | H26: =_xlfn.IFS(AND(E26<$R$13,F26<$S$9),"No amplification",G26>$S$34,"BB",G26<$S$31,"AA",AND(G26<$S$34,G26>$S$31),"AB") -> #DIV/0! | I26: =IF(AND(E26<$R$13,F26<$S$9),G26,"") -> #DIV/0! | J26: =IF(OR(AND(($S$31-$S$36)<G26,($S$31+$S$36)>G26),AND(($S$34-$S$36)<G26,($S$34+$S$36)>G26)),"CHECK","") -> #DIV/0! | U26: B08 | V26: =IF(I26="",NA(),G26) -> #DIV/0! | W26: =IF(AND(I26="",G26<$S$31),G26,NA()) -> #DIV/0! | X26: =IF(AND(I26="",G26<$S$34,G26>$S$31),G26,NA()) -> #DIV/0! | Y26: =IF(AND(I26="",G26>$S$34),G26,NA()) -> #DIV/0! | Z26: =IF(J26="CHECK",G26,NA()) -> #DIV/0! | AC26: B08 | AD26: =IF(V26<>"#N/A",$F26,"") -> #DIV/0! | AE26: =IF(W26<>"#N/A",$F26,"") -> #DIV/0! | AF26: =IF(X26<>"#N/A",$F26,"") -> #DIV/0! | AG26: =IF(Y26<>"#N/A",$F26,"") -> #DIV/0! | AH26: =IF(Z26<>"#N/A",$F26,"") -> #DIV/0!
B27: B09 | E27: =(C27-MIN(C$7:C$102))/(MAX(C$7:C$102)-MIN(C$7:C$102))*100 -> #DIV/0! | F27: =(D27-MIN(D$7:D$102))/(MAX(D$7:D$102)-MIN(D$7:D$102))*100 -> #DIV/0! | G27: =F27-E27 -> #DIV/0! | H27: =_xlfn.IFS(AND(E27<$R$13,F27<$S$9),"No amplification",G27>$S$34,"BB",G27<$S$31,"AA",AND(G27<$S$34,G27>$S$31),"AB") -> #DIV/0! | I27: =IF(AND(E27<$R$13,F27<$S$9),G27,"") -> #DIV/0! | J27: =IF(OR(AND(($S$31-$S$36)<G27,($S$31+$S$36)>G27),AND(($S$34-$S$36)<G27,($S$34+$S$36)>G27)),"CHECK","") -> #DIV/0! | U27: B09 | V27: =IF(I27="",NA(),G27) -> #DIV/0! | W27: =IF(AND(I27="",G27<$S$31),G27,NA()) -> #DIV/0! | X27: =IF(AND(I27="",G27<$S$34,G27>$S$31),G27,NA()) -> #DIV/0! | Y27: =IF(AND(I27="",G27>$S$34),G27,NA()) -> #DIV/0! | Z27: =IF(J27="CHECK",G27,NA()) -> #DIV/0! | AC27: B09 | AD27: =IF(V27<>"#N/A",$F27,"") -> #DIV/0! | AE27: =IF(W27<>"#N/A",$F27,"") -> #DIV/0! | AF27: =IF(X27<>"#N/A",$F27,"") -> #DIV/0! | AG27: =IF(Y27<>"#N/A",$F27,"") -> #DIV/0! | AH27: =IF(Z27<>"#N/A",$F27,"") -> #DIV/0!
B28: B10 | E28: =(C28-MIN(C$7:C$102))/(MAX(C$7:C$102)-MIN(C$7:C$102))*100 -> #DIV/0! | F28: =(D28-MIN(D$7:D$102))/(MAX(D$7:D$102)-MIN(D$7:D$102))*100 -> #DIV/0! | G28: =F28-E28 -> #DIV/0! | H28: =_xlfn.IFS(AND(E28<$R$13,F28<$S$9),"No amplification",G28>$S$34,"BB",G28<$S$31,"AA",AND(G28<$S$34,G28>$S$31),"AB") -> #DIV/0! | I28: =IF(AND(E28<$R$13,F28<$S$9),G28,"") -> #DIV/0! | J28: =IF(OR(AND(($S$31-$S$36)<G28,($S$31+$S$36)>G28),AND(($S$34-$S$36)<G28,($S$34+$S$36)>G28)),"CHECK","") -> #DIV/0! | U28: B10 | V28: =IF(I28="",NA(),G28) -> #DIV/0! | W28: =IF(AND(I28="",G28<$S$31),G28,NA()) -> #DIV/0! | X28: =IF(AND(I28="",G28<$S$34,G28>$S$31),G28,NA()) -> #DIV/0! | Y28: =IF(AND(I28="",G28>$S$34),G28,NA()) -> #DIV/0! | Z28: =IF(J28="CHECK",G28,NA()) -> #DIV/0! | AC28: B10 | AD28: =IF(V28<>"#N/A",$F28,"") -> #DIV/0! | AE28: =IF(W28<>"#N/A",$F28,"") -> #DIV/0! | AF28: =IF(X28<>"#N/A",$F28,"") -> #DIV/0! | AG28: =IF(Y28<>"#N/A",$F28,"") -> #DIV/0! | AH28: =IF(Z28<>"#N/A",$F28,"") -> #DIV/0!
B29: B11 | E29: =(C29-MIN(C$7:C$102))/(MAX(C$7:C$102)-MIN(C$7:C$102))*100 -> #DIV/0! | F29: =(D29-MIN(D$7:D$102))/(MAX(D$7:D$102)-MIN(D$7:D$102))*100 -> #DIV/0! | G29: =F29-E29 -> #DIV/0! | H29: =_xlfn.IFS(AND(E29<$R$13,F29<$S$9),"No amplification",G29>$S$34,"BB",G29<$S$31,"AA",AND(G29<$S$34,G29>$S$31),"AB") -> #DIV/0! | I29: =IF(AND(E29<$R$13,F29<$S$9),G29,"") -> #DIV/0! | J29: =IF(OR(AND(($S$31-$S$36)<G29,($S$31+$S$36)>G29),AND(($S$34-$S$36)<G29,($S$34+$S$36)>G29)),"CHECK","") -> #DIV/0! | U29: B11 | V29: =IF(I29="",NA(),G29) -> #DIV/0! | W29: =IF(AND(I29="",G29<$S$31),G29,NA()) -> #DIV/0! | X29: =IF(AND(I29="",G29<$S$34,G29>$S$31),G29,NA()) -> #DIV/0! | Y29: =IF(AND(I29="",G29>$S$34),G29,NA()) -> #DIV/0! | Z29: =IF(J29="CHECK",G29,NA()) -> #DIV/0! | AC29: B11 | AD29: =IF(V29<>"#N/A",$F29,"") -> #DIV/0! | AE29: =IF(W29<>"#N/A",$F29,"") -> #DIV/0! | AF29: =IF(X29<>"#N/A",$F29,"") -> #DIV/0! | AG29: =IF(Y29<>"#N/A",$F29,"") -> #DIV/0! | AH29: =IF(Z29<>"#N/A",$F29,"") -> #DIV/0!
B30: B12 | E30: =(C30-MIN(C$7:C$102))/(MAX(C$7:C$102)-MIN(C$7:C$102))*100 -> #DIV/0! | F30: =(D30-MIN(D$7:D$102))/(MAX(D$7:D$102)-MIN(D$7:D$102))*100 -> #DIV/0! | G30: =F30-E30 -> #DIV/0! | H30: =_xlfn.IFS(AND(E30<$R$13,F30<$S$9),"No amplification",G30>$S$34,"BB",G30<$S$31,"AA",AND(G30<$S$34,G30>$S$31),"AB") -> #DIV/0! | I30: =IF(AND(E30<$R$13,F30<$S$9),G30,"") -> #DIV/0! | J30: =IF(OR(AND(($S$31-$S$36)<G30,($S$31+$S$36)>G30),AND(($S$34-$S$36)<G30,($S$34+$S$36)>G30)),"CHECK","") -> #DIV/0! | R30: lower bound for heterozygotes | U30: B12 | V30: =IF(I30="",NA(),G30) -> #DIV/0! | W30: =IF(AND(I30="",G30<$S$31),G30,NA()) -> #DIV/0! | X30: =IF(AND(I30="",G30<$S$34,G30>$S$31),G30,NA()) -> #DIV/0! | Y30: =IF(AND(I30="",G30>$S$34),G30,NA()) -> #DIV/0! | Z30: =IF(J30="CHECK",G30,NA()) -> #DIV/0! | AC30: B12 | AD30: =IF(V30<>"#N/A",$F30,"") -> #DIV/0! | AE30: =IF(W30<>"#N/A",$F30,"") -> #DIV/0! | AF30: =IF(X30<>"#N/A",$F30,"") -> #DIV/0! | AG30: =IF(Y30<>"#N/A",$F30,"") -> #DIV/0! | AH30: =IF(Z30<>"#N/A",$F30,"") -> #DIV/0!
B31: C01 | E31: =(C31-MIN(C$7:C$102))/(MAX(C$7:C$102)-MIN(C$7:C$102))*100 -> #DIV/0! | F31: =(D31-MIN(D$7:D$102))/(MAX(D$7:D$102)-MIN(D$7:D$102))*100 -> #DIV/0! | G31: =F31-E31 -> #DIV/0! | H31: =_xlfn.IFS(AND(E31<$R$13,F31<$S$9),"No amplification",G31>$S$34,"BB",G31<$S$31,"AA",AND(G31<$S$34,G31>$S$31),"AB") -> #DIV/0! | I31: =IF(AND(E31<$R$13,F31<$S$9),G31,"") -> #DIV/0! | J31: =IF(OR(AND(($S$31-$S$36)<G31,($S$31+$S$36)>G31),AND(($S$34-$S$36)<G31,($S$34+$S$36)>G31)),"CHECK","") -> #DIV/0! | R31: 0 | S31: -20 | U31: C01 | V31: =IF(I31="",NA(),G31) -> #DIV/0! | W31: =IF(AND(I31="",G31<$S$31),G31,NA()) -> #DIV/0! | X31: =IF(AND(I31="",G31<$S$34,G31>$S$31),G31,NA()) -> #DIV/0! | Y31: =IF(AND(I31="",G31>$S$34),G31,NA()) -> #DIV/0! | Z31: =IF(J31="CHECK",G31,NA()) -> #DIV/0! | AC31: C01 | AD31: =IF(V31<>"#N/A",$F31,"") -> #DIV/0! | AE31: =IF(W31<>"#N/A",$F31,"") -> #DIV/0! | AF31: =IF(X31<>"#N/A",$F31,"") -> #DIV/0! | AG31: =IF(Y31<>"#N/A",$F31,"") -> #DIV/0! | AH31: =IF(Z31<>"#N/A",$F31,"") -> #DIV/0!
B32: C02 | E32: =(C32-MIN(C$7:C$102))/(MAX(C$7:C$102)-MIN(C$7:C$102))*100 -> #DIV/0! | F32: =(D32-MIN(D$7:D$102))/(MAX(D$7:D$102)-MIN(D$7:D$102))*100 -> #DIV/0! | G32: =F32-E32 -> #DIV/0! | H32: =_xlfn.IFS(AND(E32<$R$13,F32<$S$9),"No amplification",G32>$S$34,"BB",G32<$S$31,"AA",AND(G32<$S$34,G32>$S$31),"AB") -> #DIV/0! | I32: =IF(AND(E32<$R$13,F32<$S$9),G32,"") -> #DIV/0! | J32: =IF(OR(AND(($S$31-$S$36)<G32,($S$31+$S$36)>G32),AND(($S$34-$S$36)<G32,($S$34+$S$36)>G32)),"CHECK","") -> #DIV/0! | R32: 100 | S32: =S31 -> -20 | U32: C02 | V32: =IF(I32="",NA(),G32) -> #DIV/0! | W32: =IF(AND(I32="",G32<$S$31),G32,NA()) -> #DIV/0! | X32: =IF(AND(I32="",G32<$S$34,G32>$S$31),G32,NA()) -> #DIV/0! | Y32: =IF(AND(I32="",G32>$S$34),G32,NA()) -> #DIV/0! | Z32: =IF(J32="CHECK",G32,NA()) -> #DIV/0! | AC32: C02 | AD32: =IF(V32<>"#N/A",$F32,"") -> #DIV/0! | AE32: =IF(W32<>"#N/A",$F32,"") -> #DIV/0! | AF32: =IF(X32<>"#N/A",$F32,"") -> #DIV/0! | AG32: =IF(Y32<>"#N/A",$F32,"") -> #DIV/0! | AH32: =IF(Z32<>"#N/A",$F32,"") -> #DIV/0!
B33: C03 | E33: =(C33-MIN(C$7:C$102))/(MAX(C$7:C$102)-MIN(C$7:C$102))*100 -> #DIV/0! | F33: =(D33-MIN(D$7:D$102))/(MAX(D$7:D$102)-MIN(D$7:D$102))*100 -> #DIV/0! | G33: =F33-E33 -> #DIV/0! | H33: =_xlfn.IFS(AND(E33<$R$13,F33<$S$9),"No amplification",G33>$S$34,"BB",G33<$S$31,"AA",AND(G33<$S$34,G33>$S$31),"AB") -> #DIV/0! | I33: =IF(AND(E33<$R$13,F33<$S$9),G33,"") -> #DIV/0! | J33: =IF(OR(AND(($S$31-$S$36)<G33,($S$31+$S$36)>G33),AND(($S$34-$S$36)<G33,($S$34+$S$36)>G33)),"CHECK","") -> #DIV/0! | R33: upper bound for heterozygotes | U33: C03 | V33: =IF(I33="",NA(),G33) -> #DIV/0! | W33: =IF(AND(I33="",G33<$S$31),G33,NA()) -> #DIV/0! | X33: =IF(AND(I33="",G33<$S$34,G33>$S$31),G33,NA()) -> #DIV/0! | Y33: =IF(AND(I33="",G33>$S$34),G33,NA()) -> #DIV/0! | Z33: =IF(J33="CHECK",G33,NA()) -> #DIV/0! | AC33: C03 | AD33: =IF(V33<>"#N/A",$F33,"") -> #DIV/0! | AE33: =IF(W33<>"#N/A",$F33,"") -> #DIV/0! | AF33: =IF(X33<>"#N/A",$F33,"") -> #DIV/0! | AG33: =IF(Y33<>"#N/A",$F33,"") -> #DIV/0! | AH33: =IF(Z33<>"#N/A",$F33,"") -> #DIV/0!
B34: C04 | E34: =(C34-MIN(C$7:C$102))/(MAX(C$7:C$102)-MIN(C$7:C$102))*100 -> #DIV/0! | F34: =(D34-MIN(D$7:D$102))/(MAX(D$7:D$102)-MIN(D$7:D$102))*100 -> #DIV/0! | G34: =F34-E34 -> #DIV/0! | H34: =_xlfn.IFS(AND(E34<$R$13,F34<$S$9),"No amplification",G34>$S$34,"BB",G34<$S$31,"AA",AND(G34<$S$34,G34>$S$31),"AB") -> #DIV/0! | I34: =IF(AND(E34<$R$13,F34<$S$9),G34,"") -> #DIV/0! | J34: =IF(OR(AND(($S$31-$S$36)<G34,($S$31+$S$36)>G34),AND(($S$34-$S$36)<G34,($S$34+$S$36)>G34)),"CHECK","") -> #DIV/0! | R34: 0 | S34: 30 | U34: C04 | V34: =IF(I34="",NA(),G34) -> #DIV/0! | W34: =IF(AND(I34="",G34<$S$31),G34,NA()) -> #DIV/0! | X34: =IF(AND(I34="",G34<$S$34,G34>$S$31),G34,NA()) -> #DIV/0! | Y34: =IF(AND(I34="",G34>$S$34),G34,NA()) -> #DIV/0! | Z34: =IF(J34="CHECK",G34,NA()) -> #DIV/0! | AC34: C04 | AD34: =IF(V34<>"#N/A",$F34,"") -> #DIV/0! | AE34: =IF(W34<>"#N/A",$F34,"") -> #DIV/0! | AF34: =IF(X34<>"#N/A",$F34,"") -> #DIV/0! | AG34: =IF(Y34<>"#N/A",$F34,"") -> #DIV/0! | AH34: =IF(Z34<>"#N/A",$F34,"") -> #DIV/0!
B35: C05 | E35: =(C35-MIN(C$7:C$102))/(MAX(C$7:C$102)-MIN(C$7:C$102))*100 -> #DIV/0! | F35: =(D35-MIN(D$7:D$102))/(MAX(D$7:D$102)-MIN(D$7:D$102))*100 -> #DIV/0! | G35: =F35-E35 -> #DIV/0! | H35: =_xlfn.IFS(AND(E35<$R$13,F35<$S$9),"No amplification",G35>$S$34,"BB",G35<$S$31,"AA",AND(G35<$S$34,G35>$S$31),"AB") -> #DIV/0! | I35: =IF(AND(E35<$R$13,F35<$S$9),G35,"") -> #DIV/0! | J35: =IF(OR(AND(($S$31-$S$36)<G35,($S$31+$S$36)>G35),AND(($S$34-$S$36)<G35,($S$34+$S$36)>G35)),"CHECK","") -> #DIV/0! | R35: 100 | S35: =S34 -> 30 | U35: C05 | V35: =IF(I35="",NA(),G35) -> #DIV/0! | W35: =IF(AND(I35="",G35<$S$31),G35,NA()) -> #DIV/0! | X35: =IF(AND(I35="",G35<$S$34,G35>$S$31),G35,NA()) -> #DIV/0! | Y35: =IF(AND(I35="",G35>$S$34),G35,NA()) -> #DIV/0! | Z35: =IF(J35="CHECK",G35,NA()) -> #DIV/0! | AC35: C05 | AD35: =IF(V35<>"#N/A",$F35,"") -> #DIV/0! | AE35: =IF(W35<>"#N/A",$F35,"") -> #DIV/0! | AF35: =IF(X35<>"#N/A",$F35,"") -> #DIV/0! | AG35: =IF(Y35<>"#N/A",$F35,"") -> #DIV/0! | AH35: =IF(Z35<>"#N/A",$F35,"") -> #DIV/0!
B36: C06 | E36: =(C36-MIN(C$7:C$102))/(MAX(C$7:C$102)-MIN(C$7:C$102))*100 -> #DIV/0! | F36: =(D36-MIN(D$7:D$102))/(MAX(D$7:D$102)-MIN(D$7:D$102))*100 -> #DIV/0! | G36: =F36-E36 -> #DIV/0! | H36: =_xlfn.IFS(AND(E36<$R$13,F36<$S$9),"No amplification",G36>$S$34,"BB",G36<$S$31,"AA",AND(G36<$S$34,G36>$S$31),"AB") -> #DIV/0! | I36: =IF(AND(E36<$R$13,F36<$S$9),G36,"") -> #DIV/0! | J36: =IF(OR(AND(($S$31-$S$36)<G36,($S$31+$S$36)>G36),AND(($S$34-$S$36)<G36,($S$34+$S$36)>G36)),"CHECK","") -> #DIV/0! | R36: Margin | S36: 2 | U36: C06 | V36: =IF(I36="",NA(),G36) -> #DIV/0! | W36: =IF(AND(I36="",G36<$S$31),G36,NA()) -> #DIV/0! | X36: =IF(AND(I36="",G36<$S$34,G36>$S$31),G36,NA()) -> #DIV/0! | Y36: =IF(AND(I36="",G36>$S$34),G36,NA()) -> #DIV/0! | Z36: =IF(J36="CHECK",G36,NA()) -> #DIV/0! | AC36: C06 | AD36: =IF(V36<>"#N/A",$F36,"") -> #DIV/0! | AE36: =IF(W36<>"#N/A",$F36,"") -> #DIV/0! | AF36: =IF(X36<>"#N/A",$F36,"") -> #DIV/0! | AG36: =IF(Y36<>"#N/A",$F36,"") -> #DIV/0! | AH36: =IF(Z36<>"#N/A",$F36,"") -> #DIV/0!
B37: C07 | E37: =(C37-MIN(C$7:C$102))/(MAX(C$7:C$102)-MIN(C$7:C$102))*100 -> #DIV/0! | F37: =(D37-MIN(D$7:D$102))/(MAX(D$7:D$102)-MIN(D$7:D$102))*100 -> #DIV/0! | G37: =F37-E37 -> #DIV/0! | H37: =_xlfn.IFS(AND(E37<$R$13,F37<$S$9),"No amplification",G37>$S$34,"BB",G37<$S$31,"AA",AND(G37<$S$34,G37>$S$31),"AB") -> #DIV/0! | I37: =IF(AND(E37<$R$13,F37<$S$9),G37,"") -> #DIV/0! | J37: =IF(OR(AND(($S$31-$S$36)<G37,($S$31+$S$36)>G37),AND(($S$34-$S$36)<G37,($S$34+$S$36)>G37)),"CHECK","") -> #DIV/0! | U37: C07 | V37: =IF(I37="",NA(),G37) -> #DIV/0! | W37: =IF(AND(I37="",G37<$S$31),G37,NA()) -> #DIV/0! | X37: =IF(AND(I37="",G37<$S$34,G37>$S$31),G37,NA()) -> #DIV/0! | Y37: =IF(AND(I37="",G37>$S$34),G37,NA()) -> #DIV/0! | Z37: =IF(J37="CHECK",G37,NA()) -> #DIV/0! | AC37: C07 | AD37: =IF(V37<>"#N/A",$F37,"") -> #DIV/0! | AE37: =IF(W37<>"#N/A",$F37,"") -> #DIV/0! | AF37: =IF(X37<>"#N/A",$F37,"") -> #DIV/0! | AG37: =IF(Y37<>"#N/A",$F37,"") -> #DIV/0! | AH37: =IF(Z37<>"#N/A",$F37,"") -> #DIV/0!
B38: C08 | E38: =(C38-MIN(C$7:C$102))/(MAX(C$7:C$102)-MIN(C$7:C$102))*100 -> #DIV/0! | F38: =(D38-MIN(D$7:D$102))/(MAX(D$7:D$102)-MIN(D$7:D$102))*100 -> #DIV/0! | G38: =F38-E38 -> #DIV/0! | H38: =_xlfn.IFS(AND(E38<$R$13,F38<$S$9),"No amplification",G38>$S$34,"BB",G38<$S$31,"AA",AND(G38<$S$34,G38>$S$31),"AB") -> #DIV/0! | I38: =IF(AND(E38<$R$13,F38<$S$9),G38,"") -> #DIV/0! | J38: =IF(OR(AND(($S$31-$S$36)<G38,($S$31+$S$36)>G38),AND(($S$34-$S$36)<G38,($S$34+$S$36)>G38)),"CHECK","") -> #DIV/0! | U38: C08 | V38: =IF(I38="",NA(),G38) -> #DIV/0! | W38: =IF(AND(I38="",G38<$S$31),G38,NA()) -> #DIV/0! | X38: =IF(AND(I38="",G38<$S$34,G38>$S$31),G38,NA()) -> #DIV/0! | Y38: =IF(AND(I38="",G38>$S$34),G38,NA()) -> #DIV/0! | Z38: =IF(J38="CHECK",G38,NA()) -> #DIV/0! | AC38: C08 | AD38: =IF(V38<>"#N/A",$F38,"") -> #DIV/0! | AE38: =IF(W38<>"#N/A",$F38,"") -> #DIV/0! | AF38: =IF(X38<>"#N/A",$F38,"") -> #DIV/0! | AG38: =IF(Y38<>"#N/A",$F38,"") -> #DIV/0! | AH38: =IF(Z38<>"#N/A",$F38,"") -> #DIV/0!
B39: C09 | E39: =(C39-MIN(C$7:C$102))/(MAX(C$7:C$102)-MIN(C$7:C$102))*100 -> #DIV/0! | F39: =(D39-MIN(D$7:D$102))/(MAX(D$7:D$102)-MIN(D$7:D$102))*100 -> #DIV/0! | G39: =F39-E39 -> #DIV/0! | H39: =_xlfn.IFS(AND(E39<$R$13,F39<$S$9),"No amplification",G39>$S$34,"BB",G39<$S$31,"AA",AND(G39<$S$34,G39>$S$31),"AB") -> #DIV/0! | I39: =IF(AND(E39<$R$13,F39<$S$9),G39,"") -> #DIV/0! | J39: =IF(OR(AND(($S$31-$S$36)<G39,($S$31+$S$36)>G39),AND(($S$34-$S$36)<G39,($S$34+$S$36)>G39)),"CHECK","") -> #DIV/0! | U39: C09 | V39: =IF(I39="",NA(),G39) -> #DIV/0! | W39: =IF(AND(I39="",G39<$S$31),G39,NA()) -> #DIV/0! | X39: =IF(AND(I39="",G39<$S$34,G39>$S$31),G39,NA()) -> #DIV/0! | Y39: =IF(AND(I39="",G39>$S$34),G39,NA()) -> #DIV/0! | Z39: =IF(J39="CHECK",G39,NA()) -> #DIV/0! | AC39: C09 | AD39: =IF(V39<>"#N/A",$F39,"") -> #DIV/0! | AE39: =IF(W39<>"#N/A",$F39,"") -> #DIV/0! | AF39: =IF(X39<>"#N/A",$F39,"") -> #DIV/0! | AG39: =IF(Y39<>"#N/A",$F39,"") -> #DIV/0! | AH39: =IF(Z39<>"#N/A",$F39,"") -> #DIV/0!
B40: C10 | E40: =(C40-MIN(C$7:C$102))/(MAX(C$7:C$102)-MIN(C$7:C$102))*100 -> #DIV/0! | F40: =(D40-MIN(D$7:D$102))/(MAX(D$7:D$102)-MIN(D$7:D$102))*100 -> #DIV/0! | G40: =F40-E40 -> #DIV/0! | H40: =_xlfn.IFS(AND(E40<$R$13,F40<$S$9),"No amplification",G40>$S$34,"BB",G40<$S$31,"AA",AND(G40<$S$34,G40>$S$31),"AB") -> #DIV/0! | I40: =IF(AND(E40<$R$13,F40<$S$9),G40,"") -> #DIV/0! | J40: =IF(OR(AND(($S$31-$S$36)<G40,($S$31+$S$36)>G40),AND(($S$34-$S$36)<G40,($S$34+$S$36)>G40)),"CHECK","") -> #DIV/0! | U40: C10 | V40: =IF(I40="",NA(),G40) -> #DIV/0! | W40: =IF(AND(I40="",G40<$S$31),G40,NA()) -> #DIV/0! | X40: =IF(AND(I40="",G40<$S$34,G40>$S$31),G40,NA()) -> #DIV/0! | Y40: =IF(AND(I40="",G40>$S$34),G40,NA()) -> #DIV/0! | Z40: =IF(J40="CHECK",G40,NA()) -> #DIV/0! | AC40: C10 | AD40: =IF(V40<>"#N/A",$F40,"") -> #DIV/0! | AE40: =IF(W40<>"#N/A",$F40,"") -> #DIV/0! | AF40: =IF(X40<>"#N/A",$F40,"") -> #DIV/0! | AG40: =IF(Y40<>"#N/A",$F40,"") -> #DIV/0! | AH40: =IF(Z40<>"#N/A",$F40,"") -> #DIV/0!
B41: C11 | E41: =(C41-MIN(C$7:C$102))/(MAX(C$7:C$102)-MIN(C$7:C$102))*100 -> #DIV/0! | F41: =(D41-MIN(D$7:D$102))/(MAX(D$7:D$102)-MIN(D$7:D$102))*100 -> #DIV/0! | G41: =F41-E41 -> #DIV/0! | H41: =_xlfn.IFS(AND(E41<$R$13,F41<$S$9),"No amplification",G41>$S$34,"BB",G41<$S$31,"AA",AND(G41<$S$34,G41>$S$31),"AB") -> #DIV/0! | I41: =IF(AND(E41<$R$13,F41<$S$9),G41,"") -> #DIV/0! | J41: =IF(OR(AND(($S$31-$S$36)<G41,($S$31+$S$36)>G41),AND(($S$34-$S$36)<G41,($S$34+$S$36)>G41)),"CHECK","") -> #DIV/0! | U41: C11 | V41: =IF(I41="",NA(),G41) -> #DIV/0! | W41: =IF(AND(I41="",G41<$S$31),G41,NA()) -> #DIV/0! | X41: =IF(AND(I41="",G41<$S$34,G41>$S$31),G41,NA()) -> #DIV/0! | Y41: =IF(AND(I41="",G41>$S$34),G41,NA()) -> #DIV/0! | Z41: =IF(J41="CHECK",G41,NA()) -> #DIV/0! | AC41: C11 | AD41: =IF(V41<>"#N/A",$F41,"") -> #DIV/0! | AE41: =IF(W41<>"#N/A",$F41,"") -> #DIV/0! | AF41: =IF(X41<>"#N/A",$F41,"") -> #DIV/0! | AG41: =IF(Y41<>"#N/A",$F41,"") -> #DIV/0! | AH41: =IF(Z41<>"#N/A",$F41,"") -> #DIV/0!
B42: C12 | E42: =(C42-MIN(C$7:C$102))/(MAX(C$7:C$102)-MIN(C$7:C$102))*100 -> #DIV/0! | F42: =(D42-MIN(D$7:D$102))/(MAX(D$7:D$102)-MIN(D$7:D$102))*100 -> #DIV/0! | G42: =F42-E42 -> #DIV/0! | H42: =_xlfn.IFS(AND(E42<$R$13,F42<$S$9),"No amplification",G42>$S$34,"BB",G42<$S$31,"AA",AND(G42<$S$34,G42>$S$31),"AB") -> #DIV/0! | I42: =IF(AND(E42<$R$13,F42<$S$9),G42,"") -> #DIV/0! | J42: =IF(OR(AND(($S$31-$S$36)<G42,($S$31+$S$36)>G42),AND(($S$34-$S$36)<G42,($S$34+$S$36)>G42)),"CHECK","") -> #DIV/0! | U42: C12 | V42: =IF(I42="",NA(),G42) -> #DIV/0! | W42: =IF(AND(I42="",G42<$S$31),G42,NA()) -> #DIV/0! | X42: =IF(AND(I42="",G42<$S$34,G42>$S$31),G42,NA()) -> #DIV/0! | Y42: =IF(AND(I42="",G42>$S$34),G42,NA()) -> #DIV/0! | Z42: =IF(J42="CHECK",G42,NA()) -> #DIV/0! | AC42: C12 | AD42: =IF(V42<>"#N/A",$F42,"") -> #DIV/0! | AE42: =IF(W42<>"#N/A",$F42,"") -> #DIV/0! | AF42: =IF(X42<>"#N/A",$F42,"") -> #DIV/0! | AG42: =IF(Y42<>"#N/A",$F42,"") -> #DIV/0! | AH42: =IF(Z42<>"#N/A",$F42,"") -> #DIV/0!
B43: D01 | E43: =(C43-MIN(C$7:C$102))/(MAX(C$7:C$102)-MIN(C$7:C$102))*100 -> #DIV/0! | F43: =(D43-MIN(D$7:D$102))/(MAX(D$7:D$102)-MIN(D$7:D$102))*100 -> #DIV/0! | G43: =F43-E43 -> #DIV/0! | H43: =_xlfn.IFS(AND(E43<$R$13,F43<$S$9),"No amplification",G43>$S$34,"BB",G43<$S$31,"AA",AND(G43<$S$34,G43>$S$31),"AB") -> #DIV/0! | I43: =IF(AND(E43<$R$13,F43<$S$9),G43,"") -> #DIV/0! | J43: =IF(OR(AND(($S$31-$S$36)<G43,($S$31+$S$36)>G43),AND(($S$34-$S$36)<G43,($S$34+$S$36)>G43)),"CHECK","") -> #DIV/0! | U43: D01 | V43: =IF(I43="",NA(),G43) -> #DIV/0! | W43: =IF(AND(I43="",G43<$S$31),G43,NA()) -> #DIV/0! | X43: =IF(AND(I43="",G43<$S$34,G43>$S$31),G43,NA()) -> #DIV/0! | Y43: =IF(AND(I43="",G43>$S$34),G43,NA()) -> #DIV/0! | Z43: =IF(J43="CHECK",G43,NA()) -> #DIV/0! | AC43: D01 | AD43: =IF(V43<>"#N/A",$F43,"") -> #DIV/0! | AE43: =IF(W43<>"#N/A",$F43,"") -> #DIV/0! | AF43: =IF(X43<>"#N/A",$F43,"") -> #DIV/0! | AG43: =IF(Y43<>"#N/A",$F43,"") -> #DIV/0! | AH43: =IF(Z43<>"#N/A",$F43,"") -> #DIV/0!
B44: D02 | E44: =(C44-MIN(C$7:C$102))/(MAX(C$7:C$102)-MIN(C$7:C$102))*100 -> #DIV/0! | F44: =(D44-MIN(D$7:D$102))/(MAX(D$7:D$102)-MIN(D$7:D$102))*100 -> #DIV/0! | G44: =F44-E44 -> #DIV/0! | H44: =_xlfn.IFS(AND(E44<$R$13,F44<$S$9),"No amplification",G44>$S$34,"BB",G44<$S$31,"AA",AND(G44<$S$34,G44>$S$31),"AB") -> #DIV/0! | I44: =IF(AND(E44<$R$13,F44<$S$9),G44,"") -> #DIV/0! | J44: =IF(OR(AND(($S$31-$S$36)<G44,($S$31+$S$36)>G44),AND(($S$34-$S$36)<G44,($S$34+$S$36)>G44)),"CHECK","") -> #DIV/0! | U44: D02 | V44: =IF(I44="",NA(),G44) -> #DIV/0! | W44: =IF(AND(I44="",G44<$S$31),G44,NA()) -> #DIV/0! | X44: =IF(AND(I44="",G44<$S$34,G44>$S$31),G44,NA()) -> #DIV/0! | Y44: =IF(AND(I44="",G44>$S$34),G44,NA()) -> #DIV/0! | Z44: =IF(J44="CHECK",G44,NA()) -> #DIV/0! | AC44: D02 | AD44: =IF(V44<>"#N/A",$F44,"") -> #DIV/0! | AE44: =IF(W44<>"#N/A",$F44,"") -> #DIV/0! | AF44: =IF(X44<>"#N/A",$F44,"") -> #DIV/0! | AG44: =IF(Y44<>"#N/A",$F44,"") -> #DIV/0! | AH44: =IF(Z44<>"#N/A",$F44,"") -> #DIV/0!
B45: D03 | E45: =(C45-MIN(C$7:C$102))/(MAX(C$7:C$102)-MIN(C$7:C$102))*100 -> #DIV/0! | F45: =(D45-MIN(D$7:D$102))/(MAX(D$7:D$102)-MIN(D$7:D$102))*100 -> #DIV/0! | G45: =F45-E45 -> #DIV/0! | H45: =_xlfn.IFS(AND(E45<$R$13,F45<$S$9),"No amplification",G45>$S$34,"BB",G45<$S$31,"AA",AND(G45<$S$34,G45>$S$31),"AB") -> #DIV/0! | I45: =IF(AND(E45<$R$13,F45<$S$9),G45,"") -> #DIV/0! | J45: =IF(OR(AND(($S$31-$S$36)<G45,($S$31+$S$36)>G45),AND(($S$34-$S$36)<G45,($S$34+$S$36)>G45)),"CHECK","") -> #DIV/0! | U45: D03 | V45: =IF(I45="",NA(),G45) -> #DIV/0! | W45: =IF(AND(I45="",G45<$S$31),G45,NA()) -> #DIV/0! | X45: =IF(AND(I45="",G45<$S$34,G45>$S$31),G45,NA()) -> #DIV/0! | Y45: =IF(AND(I45="",G45>$S$34),G45,NA()) -> #DIV/0! | Z45: =IF(J45="CHECK",G45,NA()) -> #DIV/0! | AC45: D03 | AD45: =IF(V45<>"#N/A",$F45,"") -> #DIV/0! | AE45: =IF(W45<>"#N/A",$F45,"") -> #DIV/0! | AF45: =IF(X45<>"#N/A",$F45,"") -> #DIV/0! | AG45: =IF(Y45<>"#N/A",$F45,"") -> #DIV/0! | AH45: =IF(Z45<>"#N/A",$F45,"") -> #DIV/0!
B46: D04 | E46: =(C46-MIN(C$7:C$102))/(MAX(C$7:C$102)-MIN(C$7:C$102))*100 -> #DIV/0! | F46: =(D46-MIN(D$7:D$102))/(MAX(D$7:D$102)-MIN(D$7:D$102))*100 -> #DIV/0! | G46: =F46-E46 -> #DIV/0! | H46: =_xlfn.IFS(AND(E46<$R$13,F46<$S$9),"No amplification",G46>$S$34,"BB",G46<$S$31,"AA",AND(G46<$S$34,G46>$S$31),"AB") -> #DIV/0! | I46: =IF(AND(E46<$R$13,F46<$S$9),G46,"") -> #DIV/0! | J46: =IF(OR(AND(($S$31-$S$36)<G46,($S$31+$S$36)>G46),AND(($S$34-$S$36)<G46,($S$34+$S$36)>G46)),"CHECK","") -> #DIV/0! | U46: D04 | V46: =IF(I46="",NA(),G46) -> #DIV/0! | W46: =IF(AND(I46="",G46<$S$31),G46,NA()) -> #DIV/0! | X46: =IF(AND(I46="",G46<$S$34,G46>$S$31),G46,NA()) -> #DIV/0! | Y46: =IF(AND(I46="",G46>$S$34),G46,NA()) -> #DIV/0! | Z46: =IF(J46="CHECK",G46,NA()) -> #DIV/0! | AC46: D04 | AD46: =IF(V46<>"#N/A",$F46,"") -> #DIV/0! | AE46: =IF(W46<>"#N/A",$F46,"") -> #DIV/0! | AF46: =IF(X46<>"#N/A",$F46,"") -> #DIV/0! | AG46: =IF(Y46<>"#N/A",$F46,"") -> #DIV/0! | AH46: =IF(Z46<>"#N/A",$F46,"") -> #DIV/0!
B47: D05 | E47: =(C47-MIN(C$7:C$102))/(MAX(C$7:C$102)-MIN(C$7:C$102))*100 -> #DIV/0! | F47: =(D47-MIN(D$7:D$102))/(MAX(D$7:D$102)-MIN(D$7:D$102))*100 -> #DIV/0! | G47: =F47-E47 -> #DIV/0! | H47: =_xlfn.IFS(AND(E47<$R$13,F47<$S$9),"No amplification",G47>$S$34,"BB",G47<$S$31,"AA",AND(G47<$S$34,G47>$S$31),"AB") -> #DIV/0! | I47: =IF(AND(E47<$R$13,F47<$S$9),G47,"") -> #DIV/0! | J47: =IF(OR(AND(($S$31-$S$36)<G47,($S$31+$S$36)>G47),AND(($S$34-$S$36)<G47,($S$34+$S$36)>G47)),"CHECK","") -> #DIV/0! | U47: D05 | V47: =IF(I47="",NA(),G47) -> #DIV/0! | W47: =IF(AND(I47="",G47<$S$31),G47,NA()) -> #DIV/0! | X47: =IF(AND(I47="",G47<$S$34,G47>$S$31),G47,NA()) -> #DIV/0! | Y47: =IF(AND(I47="",G47>$S$34),G47,NA()) -> #DIV/0! | Z47: =IF(J47="CHECK",G47,NA()) -> #DIV/0! | AC47: D05 | AD47: =IF(V47<>"#N/A",$F47,"") -> #DIV/0! | AE47: =IF(W47<>"#N/A",$F47,"") -> #DIV/0! | AF47: =IF(X47<>"#N/A",$F47,"") -> #DIV/0! | AG47: =IF(Y47<>"#N/A",$F47,"") -> #DIV/0! | AH47: =IF(Z47<>"#N/A",$F47,"") -> #DIV/0!
B48: D06 | E48: =(C48-MIN(C$7:C$102))/(MAX(C$7:C$102)-MIN(C$7:C$102))*100 -> #DIV/0! | F48: =(D48-MIN(D$7:D$102))/(MAX(D$7:D$102)-MIN(D$7:D$102))*100 -> #DIV/0! | G48: =F48-E48 -> #DIV/0! | H48: =_xlfn.IFS(AND(E48<$R$13,F48<$S$9),"No amplification",G48>$S$34,"BB",G48<$S$31,"AA",AND(G48<$S$34,G48>$S$31),"AB") -> #DIV/0! | I48: =IF(AND(E48<$R$13,F48<$S$9),G48,"") -> #DIV/0! | J48: =IF(OR(AND(($S$31-$S$36)<G48,($S$31+$S$36)>G48),AND(($S$34-$S$36)<G48,($S$34+$S$36)>G48)),"CHECK","") -> #DIV/0! | U48: D06 | V48: =IF(I48="",NA(),G48) -> #DIV/0! | W48: =IF(AND(I48="",G48<$S$31),G48,NA()) -> #DIV/0! | X48: =IF(AND(I48="",G48<$S$34,G48>$S$31),G48,NA()) -> #DIV/0! | Y48: =IF(AND(I48="",G48>$S$34),G48,NA()) -> #DIV/0! | Z48: =IF(J48="CHECK",G48,NA()) -> #DIV/0! | AC48: D06 | AD48: =IF(V48<>"#N/A",$F48,"") -> #DIV/0! | AE48: =IF(W48<>"#N/A",$F48,"") -> #DIV/0! | AF48: =IF(X48<>"#N/A",$F48,"") -> #DIV/0! | AG48: =IF(Y48<>"#N/A",$F48,"") -> #DIV/0! | AH48: =IF(Z48<>"#N/A",$F48,"") -> #DIV/0!
... B102: H12 | E102: =(C102-MIN(C$7:C$102))/(MAX(C$7:C$102)-MIN(C$7:C$102))*100 -> #DIV/0! | F102: =(D102-MIN(D$7:D$102))/(MAX(D$7:D$102)-MIN(D$7:D$102))*100 -> #DIV/0! | G102: =F102-E102 -> #DIV/0! | H102: =_xlfn.IFS(AND(E102<$R$13,F102<$S$9),"No amplification",G102>$S$34,"BB",G102<$S$31,"AA",AND(G102<$S$34,G102>$S$31),"AB") -> #DIV/0! | I102: =IF(AND(E102<$R$13,F102<$S$9),G102,"") -> #DIV/0! | J102: =IF(OR(AND(($S$31-$S$36)<G102,($S$31+$S$36)>G102),AND(($S$34-$S$36)<G102,($S$34+$S$36)>G102)),"CHECK","") -> #DIV/0! | U102: H12 | V102: =IF(I102="",NA(),G102) -> #DIV/0! | W102: =IF(AND(I102="",G102<$S$31),G102,NA()) -> #DIV/0! | X102: =IF(AND(I102="",G102<$S$34,G102>$S$31),G102,NA()) -> #DIV/0! | Y102: =IF(AND(I102="",G102>$S$34),G102,NA()) -> #DIV/0! | Z102: =IF(J102="CHECK",G102,NA()) -> #DIV/0! | AC102: H12 | AD102: =IF(V102<>"#N/A",$F102,"") -> #DIV/0! | AE102: =IF(W102<>"#N/A",$F102,"") -> #DIV/0! | AF102: =IF(X102<>"#N/A",$F102,"") -> #DIV/0! | AG102: =IF(Y102<>"#N/A",$F102,"") -> #DIV/0! | AH102: =IF(Z102<>"#N/A",$F102,"") -> #DIV/0!
W103: =SUMIF(W7:W102,"<>#N/A") -> #DIV/0! | X103: =SUMIF(X7:X102,"<>#N/A") -> #DIV/0! | Y103: =SUMIF(Y7:Y102,"<>#N/A") -> #DIV/0!

Sheet F6-2 plate 1
A1: TO USE TEMPLATE: Cells you can change are in gray. Make a copy of this worksheet. Then paste your RFUs in columns C and D. You can change the dotted boundary for no amplification in the top chart in S9 and R13. You can change the lower and upper bounds for assigning heterozygotes in the bottom chart in S31 and S34. You can also change how close the values can be to the bounds before being flagged in cell S36.
A4: For F1-3 only: FAM = BB and HEX = AA, so manually change the delta calculation in column G to (column E - column F)! | V4: FOR GRAPHING: GENOTYPING | AD4: FOR GRAPHING: SCATTERPLOT
A5: F6-2 PLATE 1 | L5: BAD PLATE? | M5: =IF(OR(I7="",I8="",I9=""),"NTCs amplified",IF(OR(W103=0,X103=0,Y103=0),"Only two clusters","AOK!")) -> #DIV/0!
A6: Plate | B6: Well | C6: FAM | D6: HEX | E6: %FAM | F6: %HEX | G6: delta | H6: genotype | I6: No amplification | J6: Marginal? | U6: cell ID | V6: No amp | W6: AA | X6: AB | Y6: BB | Z6: Marginal | AC6: cell ID | AD6: No amp | AE6: AA | AF6: AB | AG6: BB | AH6: Marginal
A7: NTC | B7: A01 | E7: =(C7-MIN(C$7:C$102))/(MAX(C$7:C$102)-MIN(C$7:C$102))*100 -> #DIV/0! | F7: =(D7-MIN(D$7:D$102))/(MAX(D$7:D$102)-MIN(D$7:D$102))*100 -> #DIV/0! | G7: =F7-E7 -> #DIV/0! | H7: NTC | I7: =IF(AND(E7<$R$13,F7<$S$9),G7,"") -> #DIV/0! | J7: =IF(OR(AND(($S$31-$S$36)<G7,($S$31+$S$36)>G7),AND(($S$34-$S$36)<G7,($S$34+$S$36)>G7)),"CHECK","") -> #DIV/0! | R7: HEX bound for no amp | U7: NTC | V7: =IF(I7="",NA(),G7) -> #DIV/0! | W7: =IF(AND(I7="",G7<$S$31),G7,NA()) -> #DIV/0! | X7: =IF(AND(I7="",G7<$S$34,G7>$S$31),G7,NA()) -> #DIV/0! | Y7: =IF(AND(I7="",G7>$S$34),G7,NA()) -> #DIV/0! | Z7: =IF(J7="CHECK",G7,NA()) -> #DIV/0! | AC7: NTC | AD7: =IF(V7<>"#N/A",$F7,"") -> #DIV/0! | AE7: =IF(W7<>"#N/A",$F7,"") -> #DIV/0! | AF7: =IF(X7<>"#N/A",$F7,"") -> #DIV/0! | AG7: =IF(Y7<>"#N/A",$F7,"") -> #DIV/0! | AH7: =IF(Z7<>"#N/A",$F7,"") -> #DIV/0!
A8: NTC | B8: A02 | E8: =(C8-MIN(C$7:C$102))/(MAX(C$7:C$102)-MIN(C$7:C$102))*100 -> #DIV/0! | F8: =(D8-MIN(D$7:D$102))/(MAX(D$7:D$102)-MIN(D$7:D$102))*100 -> #DIV/0! | G8: =F8-E8 -> #DIV/0! | H8: NTC | I8: =IF(AND(E8<$R$13,F8<$S$9),G8,"") -> #DIV/0! | J8: =IF(OR(AND(($S$31-$S$36)<G8,($S$31+$S$36)>G8),AND(($S$34-$S$36)<G8,($S$34+$S$36)>G8)),"CHECK","") -> #DIV/0! | R8: x-coordinate | S8: y-coordinate | U8: NTC | V8: =IF(I8="",NA(),G8) -> #DIV/0! | W8: =IF(AND(I8="",G8<$S$31),G8,NA()) -> #DIV/0! | X8: =IF(AND(I8="",G8<$S$34,G8>$S$31),G8,NA()) -> #DIV/0! | Y8: =IF(AND(I8="",G8>$S$34),G8,NA()) -> #DIV/0! | Z8: =IF(J8="CHECK",G8,NA()) -> #DIV/0! | AC8: NTC | AD8: =IF(V8<>"#N/A",$F8,"") -> #DIV/0! | AE8: =IF(W8<>"#N/A",$F8,"") -> #DIV/0! | AF8: =IF(X8<>"#N/A",$F8,"") -> #DIV/0! | AG8: =IF(Y8<>"#N/A",$F8,"") -> #DIV/0! | AH8: =IF(Z8<>"#N/A",$F8,"") -> #DIV/0!
A9: NTC | B9: A03 | E9: =(C9-MIN(C$7:C$102))/(MAX(C$7:C$102)-MIN(C$7:C$102))*100 -> #DIV/0! | F9: =(D9-MIN(D$7:D$102))/(MAX(D$7:D$102)-MIN(D$7:D$102))*100 -> #DIV/0! | G9: =F9-E9 -> #DIV/0! | H9: NTC | I9: =IF(AND(E9<$R$13,F9<$S$9),G9,"") -> #DIV/0! | J9: =IF(OR(AND(($S$31-$S$36)<G9,($S$31+$S$36)>G9),AND(($S$34-$S$36)<G9,($S$34+$S$36)>G9)),"CHECK","") -> #DIV/0! | R9: 0 | S9: 20 | U9: NTC | V9: =IF(I9="",NA(),G9) -> #DIV/0! | W9: =IF(AND(I9="",G9<$S$31),G9,NA()) -> #DIV/0! | X9: =IF(AND(I9="",G9<$S$34,G9>$S$31),G9,NA()) -> #DIV/0! | Y9: =IF(AND(I9="",G9>$S$34),G9,NA()) -> #DIV/0! | Z9: =IF(J9="CHECK",G9,NA()) -> #DIV/0! | AC9: NTC | AD9: =IF(V9<>"#N/A",$F9,"") -> #DIV/0! | AE9: =IF(W9<>"#N/A",$F9,"") -> #DIV/0! | AF9: =IF(X9<>"#N/A",$F9,"") -> #DIV/0! | AG9: =IF(Y9<>"#N/A",$F9,"") -> #DIV/0! | AH9: =IF(Z9<>"#N/A",$F9,"") -> #DIV/0!
A10: AA | B10: A04 | E10: =(C10-MIN(C$7:C$102))/(MAX(C$7:C$102)-MIN(C$7:C$102))*100 -> #DIV/0! | F10: =(D10-MIN(D$7:D$102))/(MAX(D$7:D$102)-MIN(D$7:D$102))*100 -> #DIV/0! | G10: =F10-E10 -> #DIV/0! | H10: AA | I10: =IF(AND(E10<$R$13,F10<$S$9),G10,"") -> #DIV/0! | J10: =IF(OR(AND(($S$31-$S$36)<G10,($S$31+$S$36)>G10),AND(($S$34-$S$36)<G10,($S$34+$S$36)>G10)),"CHECK","") -> #DIV/0! | R10: =R13 -> 20 | S10: =S9 -> 20 | U10: AA | V10: =IF(I10="",NA(),G10) -> #DIV/0! | W10: =IF(AND(I10="",G10<$S$31),G10,NA()) -> #DIV/0! | X10: =IF(AND(I10="",G10<$S$34,G10>$S$31),G10,NA()) -> #DIV/0! | Y10: =IF(AND(I10="",G10>$S$34),G10,NA()) -> #DIV/0! | Z10: =IF(J10="CHECK",G10,NA()) -> #DIV/0! | AC10: AA | AD10: =IF(V10<>"#N/A",$F10,"") -> #DIV/0! | AE10: =IF(W10<>"#N/A",$F10,"") -> #DIV/0! | AF10: =IF(X10<>"#N/A",$F10,"") -> #DIV/0! | AG10: =IF(Y10<>"#N/A",$F10,"") -> #DIV/0! | AH10: =IF(Z10<>"#N/A",$F10,"") -> #DIV/0!
A11: AA | B11: A05 | E11: =(C11-MIN(C$7:C$102))/(MAX(C$7:C$102)-MIN(C$7:C$102))*100 -> #DIV/0! | F11: =(D11-MIN(D$7:D$102))/(MAX(D$7:D$102)-MIN(D$7:D$102))*100 -> #DIV/0! | G11: =F11-E11 -> #DIV/0! | H11: AA | I11: =IF(AND(E11<$R$13,F11<$S$9),G11,"") -> #DIV/0! | J11: =IF(OR(AND(($S$31-$S$36)<G11,($S$31+$S$36)>G11),AND(($S$34-$S$36)<G11,($S$34+$S$36)>G11)),"CHECK","") -> #DIV/0! | R11: FAM bound for no amp | U11: AA | V11: =IF(I11="",NA(),G11) -> #DIV/0! | W11: =IF(AND(I11="",G11<$S$31),G11,NA()) -> #DIV/0! | X11: =IF(AND(I11="",G11<$S$34,G11>$S$31),G11,NA()) -> #DIV/0! | Y11: =IF(AND(I11="",G11>$S$34),G11,NA()) -> #DIV/0! | Z11: =IF(J11="CHECK",G11,NA()) -> #DIV/0! | AC11: AA | AD11: =IF(V11<>"#N/A",$F11,"") -> #DIV/0! | AE11: =IF(W11<>"#N/A",$F11,"") -> #DIV/0! | AF11: =IF(X11<>"#N/A",$F11,"") -> #DIV/0! | AG11: =IF(Y11<>"#N/A",$F11,"") -> #DIV/0! | AH11: =IF(Z11<>"#N/A",$F11,"") -> #DIV/0!
A12: AA | B12: A06 | E12: =(C12-MIN(C$7:C$102))/(MAX(C$7:C$102)-MIN(C$7:C$102))*100 -> #DIV/0! | F12: =(D12-MIN(D$7:D$102))/(MAX(D$7:D$102)-MIN(D$7:D$102))*100 -> #DIV/0! | G12: =F12-E12 -> #DIV/0! | H12: AA | I12: =IF(AND(E12<$R$13,F12<$S$9),G12,"") -> #DIV/0! | J12: =IF(OR(AND(($S$31-$S$36)<G12,($S$31+$S$36)>G12),AND(($S$34-$S$36)<G12,($S$34+$S$36)>G12)),"CHECK","") -> #DIV/0! | R12: x-coordinate | S12: y-coordinate | U12: AA | V12: =IF(I12="",NA(),G12) -> #DIV/0! | W12: =IF(AND(I12="",G12<$S$31),G12,NA()) -> #DIV/0! | X12: =IF(AND(I12="",G12<$S$34,G12>$S$31),G12,NA()) -> #DIV/0! | Y12: =IF(AND(I12="",G12>$S$34),G12,NA()) -> #DIV/0! | Z12: =IF(J12="CHECK",G12,NA()) -> #DIV/0! | AC12: AA | AD12: =IF(V12<>"#N/A",$F12,"") -> #DIV/0! | AE12: =IF(W12<>"#N/A",$F12,"") -> #DIV/0! | AF12: =IF(X12<>"#N/A",$F12,"") -> #DIV/0! | AG12: =IF(Y12<>"#N/A",$F12,"") -> #DIV/0! | AH12: =IF(Z12<>"#N/A",$F12,"") -> #DIV/0!
A13: AB | B13: A07 | E13: =(C13-MIN(C$7:C$102))/(MAX(C$7:C$102)-MIN(C$7:C$102))*100 -> #DIV/0! | F13: =(D13-MIN(D$7:D$102))/(MAX(D$7:D$102)-MIN(D$7:D$102))*100 -> #DIV/0! | G13: =F13-E13 -> #DIV/0! | H13: AB | I13: =IF(AND(E13<$R$13,F13<$S$9),G13,"") -> #DIV/0! | J13: =IF(OR(AND(($S$31-$S$36)<G13,($S$31+$S$36)>G13),AND(($S$34-$S$36)<G13,($S$34+$S$36)>G13)),"CHECK","") -> #DIV/0! | R13: 20 | S13: 0 | U13: AB | V13: =IF(I13="",NA(),G13) -> #DIV/0! | W13: =IF(AND(I13="",G13<$S$31),G13,NA()) -> #DIV/0! | X13: =IF(AND(I13="",G13<$S$34,G13>$S$31),G13,NA()) -> #DIV/0! | Y13: =IF(AND(I13="",G13>$S$34),G13,NA()) -> #DIV/0! | Z13: =IF(J13="CHECK",G13,NA()) -> #DIV/0! | AC13: AB | AD13: =IF(V13<>"#N/A",$F13,"") -> #DIV/0! | AE13: =IF(W13<>"#N/A",$F13,"") -> #DIV/0! | AF13: =IF(X13<>"#N/A",$F13,"") -> #DIV/0! | AG13: =IF(Y13<>"#N/A",$F13,"") -> #DIV/0! | AH13: =IF(Z13<>"#N/A",$F13,"") -> #DIV/0!
A14: AB | B14: A08 | E14: =(C14-MIN(C$7:C$102))/(MAX(C$7:C$102)-MIN(C$7:C$102))*100 -> #DIV/0! | F14: =(D14-MIN(D$7:D$102))/(MAX(D$7:D$102)-MIN(D$7:D$102))*100 -> #DIV/0! | G14: =F14-E14 -> #DIV/0! | H14: AB | I14: =IF(AND(E14<$R$13,F14<$S$9),G14,"") -> #DIV/0! | J14: =IF(OR(AND(($S$31-$S$36)<G14,($S$31+$S$36)>G14),AND(($S$34-$S$36)<G14,($S$34+$S$36)>G14)),"CHECK","") -> #DIV/0! | R14: =R13 -> 20 | S14: =S9 -> 20 | U14: AB | V14: =IF(I14="",NA(),G14) -> #DIV/0! | W14: =IF(AND(I14="",G14<$S$31),G14,NA()) -> #DIV/0! | X14: =IF(AND(I14="",G14<$S$34,G14>$S$31),G14,NA()) -> #DIV/0! | Y14: =IF(AND(I14="",G14>$S$34),G14,NA()) -> #DIV/0! | Z14: =IF(J14="CHECK",G14,NA()) -> #DIV/0! | AC14: AB | AD14: =IF(V14<>"#N/A",$F14,"") -> #DIV/0! | AE14: =IF(W14<>"#N/A",$F14,"") -> #DIV/0! | AF14: =IF(X14<>"#N/A",$F14,"") -> #DIV/0! | AG14: =IF(Y14<>"#N/A",$F14,"") -> #DIV/0! | AH14: =IF(Z14<>"#N/A",$F14,"") -> #DIV/0!
A15: AB | B15: A09 | E15: =(C15-MIN(C$7:C$102))/(MAX(C$7:C$102)-MIN(C$7:C$102))*100 -> #DIV/0! | F15: =(D15-MIN(D$7:D$102))/(MAX(D$7:D$102)-MIN(D$7:D$102))*100 -> #DIV/0! | G15: =F15-E15 -> #DIV/0! | H15: AB | I15: =IF(AND(E15<$R$13,F15<$S$9),G15,"") -> #DIV/0! | J15: =IF(OR(AND(($S$31-$S$36)<G15,($S$31+$S$36)>G15),AND(($S$34-$S$36)<G15,($S$34+$S$36)>G15)),"CHECK","") -> #DIV/0! | U15: AB | V15: =IF(I15="",NA(),G15) -> #DIV/0! | W15: =IF(AND(I15="",G15<$S$31),G15,NA()) -> #DIV/0! | X15: =IF(AND(I15="",G15<$S$34,G15>$S$31),G15,NA()) -> #DIV/0! | Y15: =IF(AND(I15="",G15>$S$34),G15,NA()) -> #DIV/0! | Z15: =IF(J15="CHECK",G15,NA()) -> #DIV/0! | AC15: AB | AD15: =IF(V15<>"#N/A",$F15,"") -> #DIV/0! | AE15: =IF(W15<>"#N/A",$F15,"") -> #DIV/0! | AF15: =IF(X15<>"#N/A",$F15,"") -> #DIV/0! | AG15: =IF(Y15<>"#N/A",$F15,"") -> #DIV/0! | AH15: =IF(Z15<>"#N/A",$F15,"") -> #DIV/0!
A16: BB | B16: A10 | E16: =(C16-MIN(C$7:C$102))/(MAX(C$7:C$102)-MIN(C$7:C$102))*100 -> #DIV/0! | F16: =(D16-MIN(D$7:D$102))/(MAX(D$7:D$102)-MIN(D$7:D$102))*100 -> #DIV/0! | G16: =F16-E16 -> #DIV/0! | H16: BB | I16: =IF(AND(E16<$R$13,F16<$S$9),G16,"") -> #DIV/0! | J16: =IF(OR(AND(($S$31-$S$36)<G16,($S$31+$S$36)>G16),AND(($S$34-$S$36)<G16,($S$34+$S$36)>G16)),"CHECK","") -> #DIV/0! | U16: BB | V16: =IF(I16="",NA(),G16) -> #DIV/0! | W16: =IF(AND(I16="",G16<$S$31),G16,NA()) -> #DIV/0! | X16: =IF(AND(I16="",G16<$S$34,G16>$S$31),G16,NA()) -> #DIV/0! | Y16: =IF(AND(I16="",G16>$S$34),G16,NA()) -> #DIV/0! | Z16: =IF(J16="CHECK",G16,NA()) -> #DIV/0! | AC16: BB | AD16: =IF(V16<>"#N/A",$F16,"") -> #DIV/0! | AE16: =IF(W16<>"#N/A",$F16,"") -> #DIV/0! | AF16: =IF(X16<>"#N/A",$F16,"") -> #DIV/0! | AG16: =IF(Y16<>"#N/A",$F16,"") -> #DIV/0! | AH16: =IF(Z16<>"#N/A",$F16,"") -> #DIV/0!
A17: BB | B17: A11 | E17: =(C17-MIN(C$7:C$102))/(MAX(C$7:C$102)-MIN(C$7:C$102))*100 -> #DIV/0! | F17: =(D17-MIN(D$7:D$102))/(MAX(D$7:D$102)-MIN(D$7:D$102))*100 -> #DIV/0! | G17: =F17-E17 -> #DIV/0! | H17: BB | I17: =IF(AND(E17<$R$13,F17<$S$9),G17,"") -> #DIV/0! | J17: =IF(OR(AND(($S$31-$S$36)<G17,($S$31+$S$36)>G17),AND(($S$34-$S$36)<G17,($S$34+$S$36)>G17)),"CHECK","") -> #DIV/0! | U17: BB | V17: =IF(I17="",NA(),G17) -> #DIV/0! | W17: =IF(AND(I17="",G17<$S$31),G17,NA()) -> #DIV/0! | X17: =IF(AND(I17="",G17<$S$34,G17>$S$31),G17,NA()) -> #DIV/0! | Y17: =IF(AND(I17="",G17>$S$34),G17,NA()) -> #DIV/0! | Z17: =IF(J17="CHECK",G17,NA()) -> #DIV/0! | AC17: BB | AD17: =IF(V17<>"#N/A",$F17,"") -> #DIV/0! | AE17: =IF(W17<>"#N/A",$F17,"") -> #DIV/0! | AF17: =IF(X17<>"#N/A",$F17,"") -> #DIV/0! | AG17: =IF(Y17<>"#N/A",$F17,"") -> #DIV/0! | AH17: =IF(Z17<>"#N/A",$F17,"") -> #DIV/0!
A18: BB | B18: A12 | E18: =(C18-MIN(C$7:C$102))/(MAX(C$7:C$102)-MIN(C$7:C$102))*100 -> #DIV/0! | F18: =(D18-MIN(D$7:D$102))/(MAX(D$7:D$102)-MIN(D$7:D$102))*100 -> #DIV/0! | G18: =F18-E18 -> #DIV/0! | H18: BB | I18: =IF(AND(E18<$R$13,F18<$S$9),G18,"") -> #DIV/0! | J18: =IF(OR(AND(($S$31-$S$36)<G18,($S$31+$S$36)>G18),AND(($S$34-$S$36)<G18,($S$34+$S$36)>G18)),"CHECK","") -> #DIV/0! | U18: BB | V18: =IF(I18="",NA(),G18) -> #DIV/0! | W18: =IF(AND(I18="",G18<$S$31),G18,NA()) -> #DIV/0! | X18: =IF(AND(I18="",G18<$S$34,G18>$S$31),G18,NA()) -> #DIV/0! | Y18: =IF(AND(I18="",G18>$S$34),G18,NA()) -> #DIV/0! | Z18: =IF(J18="CHECK",G18,NA()) -> #DIV/0! | AC18: BB | AD18: =IF(V18<>"#N/A",$F18,"") -> #DIV/0! | AE18: =IF(W18<>"#N/A",$F18,"") -> #DIV/0! | AF18: =IF(X18<>"#N/A",$F18,"") -> #DIV/0! | AG18: =IF(Y18<>"#N/A",$F18,"") -> #DIV/0! | AH18: =IF(Z18<>"#N/A",$F18,"") -> #DIV/0!
B19: B01 | E19: =(C19-MIN(C$7:C$102))/(MAX(C$7:C$102)-MIN(C$7:C$102))*100 -> #DIV/0! | F19: =(D19-MIN(D$7:D$102))/(MAX(D$7:D$102)-MIN(D$7:D$102))*100 -> #DIV/0! | G19: =F19-E19 -> #DIV/0! | H19: =_xlfn.IFS(AND(E19<$R$13,F19<$S$9),"No amplification",G19>$S$34,"BB",G19<$S$31,"AA",AND(G19<$S$34,G19>$S$31),"AB") -> #DIV/0! | I19: =IF(AND(E19<$R$13,F19<$S$9),G19,"") -> #DIV/0! | J19: =IF(OR(AND(($S$31-$S$36)<G19,($S$31+$S$36)>G19),AND(($S$34-$S$36)<G19,($S$34+$S$36)>G19)),"CHECK","") -> #DIV/0! | U19: B01 | V19: =IF(I19="",NA(),G19) -> #DIV/0! | W19: =IF(AND(I19="",G19<$S$31),G19,NA()) -> #DIV/0! | X19: =IF(AND(I19="",G19<$S$34,G19>$S$31),G19,NA()) -> #DIV/0! | Y19: =IF(AND(I19="",G19>$S$34),G19,NA()) -> #DIV/0! | Z19: =IF(J19="CHECK",G19,NA()) -> #DIV/0! | AC19: B01 | AD19: =IF(V19<>"#N/A",$F19,"") -> #DIV/0! | AE19: =IF(W19<>"#N/A",$F19,"") -> #DIV/0! | AF19: =IF(X19<>"#N/A",$F19,"") -> #DIV/0! | AG19: =IF(Y19<>"#N/A",$F19,"") -> #DIV/0! | AH19: =IF(Z19<>"#N/A",$F19,"") -> #DIV/0!
B20: B02 | E20: =(C20-MIN(C$7:C$102))/(MAX(C$7:C$102)-MIN(C$7:C$102))*100 -> #DIV/0! | F20: =(D20-MIN(D$7:D$102))/(MAX(D$7:D$102)-MIN(D$7:D$102))*100 -> #DIV/0! | G20: =F20-E20 -> #DIV/0! | H20: =_xlfn.IFS(AND(E20<$R$13,F20<$S$9),"No amplification",G20>$S$34,"BB",G20<$S$31,"AA",AND(G20<$S$34,G20>$S$31),"AB") -> #DIV/0! | I20: =IF(AND(E20<$R$13,F20<$S$9),G20,"") -> #DIV/0! | J20: =IF(OR(AND(($S$31-$S$36)<G20,($S$31+$S$36)>G20),AND(($S$34-$S$36)<G20,($S$34+$S$36)>G20)),"CHECK","") -> #DIV/0! | U20: B02 | V20: =IF(I20="",NA(),G20) -> #DIV/0! | W20: =IF(AND(I20="",G20<$S$31),G20,NA()) -> #DIV/0! | X20: =IF(AND(I20="",G20<$S$34,G20>$S$31),G20,NA()) -> #DIV/0! | Y20: =IF(AND(I20="",G20>$S$34),G20,NA()) -> #DIV/0! | Z20: =IF(J20="CHECK",G20,NA()) -> #DIV/0! | AC20: B02 | AD20: =IF(V20<>"#N/A",$F20,"") -> #DIV/0! | AE20: =IF(W20<>"#N/A",$F20,"") -> #DIV/0! | AF20: =IF(X20<>"#N/A",$F20,"") -> #DIV/0! | AG20: =IF(Y20<>"#N/A",$F20,"") -> #DIV/0! | AH20: =IF(Z20<>"#N/A",$F20,"") -> #DIV/0!
B21: B03 | E21: =(C21-MIN(C$7:C$102))/(MAX(C$7:C$102)-MIN(C$7:C$102))*100 -> #DIV/0! | F21: =(D21-MIN(D$7:D$102))/(MAX(D$7:D$102)-MIN(D$7:D$102))*100 -> #DIV/0! | G21: =F21-E21 -> #DIV/0! | H21: =_xlfn.IFS(AND(E21<$R$13,F21<$S$9),"No amplification",G21>$S$34,"BB",G21<$S$31,"AA",AND(G21<$S$34,G21>$S$31),"AB") -> #DIV/0! | I21: =IF(AND(E21<$R$13,F21<$S$9),G21,"") -> #DIV/0! | J21: =IF(OR(AND(($S$31-$S$36)<G21,($S$31+$S$36)>G21),AND(($S$34-$S$36)<G21,($S$34+$S$36)>G21)),"CHECK","") -> #DIV/0! | U21: B03 | V21: =IF(I21="",NA(),G21) -> #DIV/0! | W21: =IF(AND(I21="",G21<$S$31),G21,NA()) -> #DIV/0! | X21: =IF(AND(I21="",G21<$S$34,G21>$S$31),G21,NA()) -> #DIV/0! | Y21: =IF(AND(I21="",G21>$S$34),G21,NA()) -> #DIV/0! | Z21: =IF(J21="CHECK",G21,NA()) -> #DIV/0! | AC21: B03 | AD21: =IF(V21<>"#N/A",$F21,"") -> #DIV/0! | AE21: =IF(W21<>"#N/A",$F21,"") -> #DIV/0! | AF21: =IF(X21<>"#N/A",$F21,"") -> #DIV/0! | AG21: =IF(Y21<>"#N/A",$F21,"") -> #DIV/0! | AH21: =IF(Z21<>"#N/A",$F21,"") -> #DIV/0!
B22: B04 | E22: =(C22-MIN(C$7:C$102))/(MAX(C$7:C$102)-MIN(C$7:C$102))*100 -> #DIV/0! | F22: =(D22-MIN(D$7:D$102))/(MAX(D$7:D$102)-MIN(D$7:D$102))*100 -> #DIV/0! | G22: =F22-E22 -> #DIV/0! | H22: =_xlfn.IFS(AND(E22<$R$13,F22<$S$9),"No amplification",G22>$S$34,"BB",G22<$S$31,"AA",AND(G22<$S$34,G22>$S$31),"AB") -> #DIV/0! | I22: =IF(AND(E22<$R$13,F22<$S$9),G22,"") -> #DIV/0! | J22: =IF(OR(AND(($S$31-$S$36)<G22,($S$31+$S$36)>G22),AND(($S$34-$S$36)<G22,($S$34+$S$36)>G22)),"CHECK","") -> #DIV/0! | U22: B04 | V22: =IF(I22="",NA(),G22) -> #DIV/0! | W22: =IF(AND(I22="",G22<$S$31),G22,NA()) -> #DIV/0! | X22: =IF(AND(I22="",G22<$S$34,G22>$S$31),G22,NA()) -> #DIV/0! | Y22: =IF(AND(I22="",G22>$S$34),G22,NA()) -> #DIV/0! | Z22: =IF(J22="CHECK",G22,NA()) -> #DIV/0! | AC22: B04 | AD22: =IF(V22<>"#N/A",$F22,"") -> #DIV/0! | AE22: =IF(W22<>"#N/A",$F22,"") -> #DIV/0! | AF22: =IF(X22<>"#N/A",$F22,"") -> #DIV/0! | AG22: =IF(Y22<>"#N/A",$F22,"") -> #DIV/0! | AH22: =IF(Z22<>"#N/A",$F22,"") -> #DIV/0!
B23: B05 | E23: =(C23-MIN(C$7:C$102))/(MAX(C$7:C$102)-MIN(C$7:C$102))*100 -> #DIV/0! | F23: =(D23-MIN(D$7:D$102))/(MAX(D$7:D$102)-MIN(D$7:D$102))*100 -> #DIV/0! | G23: =F23-E23 -> #DIV/0! | H23: =_xlfn.IFS(AND(E23<$R$13,F23<$S$9),"No amplification",G23>$S$34,"BB",G23<$S$31,"AA",AND(G23<$S$34,G23>$S$31),"AB") -> #DIV/0! | I23: =IF(AND(E23<$R$13,F23<$S$9),G23,"") -> #DIV/0! | J23: =IF(OR(AND(($S$31-$S$36)<G23,($S$31+$S$36)>G23),AND(($S$34-$S$36)<G23,($S$34+$S$36)>G23)),"CHECK","") -> #DIV/0! | U23: B05 | V23: =IF(I23="",NA(),G23) -> #DIV/0! | W23: =IF(AND(I23="",G23<$S$31),G23,NA()) -> #DIV/0! | X23: =IF(AND(I23="",G23<$S$34,G23>$S$31),G23,NA()) -> #DIV/0! | Y23: =IF(AND(I23="",G23>$S$34),G23,NA()) -> #DIV/0! | Z23: =IF(J23="CHECK",G23,NA()) -> #DIV/0! | AC23: B05 | AD23: =IF(V23<>"#N/A",$F23,"") -> #DIV/0! | AE23: =IF(W23<>"#N/A",$F23,"") -> #DIV/0! | AF23: =IF(X23<>"#N/A",$F23,"") -> #DIV/0! | AG23: =IF(Y23<>"#N/A",$F23,"") -> #DIV/0! | AH23: =IF(Z23<>"#N/A",$F23,"") -> #DIV/0!
B24: B06 | E24: =(C24-MIN(C$7:C$102))/(MAX(C$7:C$102)-MIN(C$7:C$102))*100 -> #DIV/0! | F24: =(D24-MIN(D$7:D$102))/(MAX(D$7:D$102)-MIN(D$7:D$102))*100 -> #DIV/0! | G24: =F24-E24 -> #DIV/0! | H24: =_xlfn.IFS(AND(E24<$R$13,F24<$S$9),"No amplification",G24>$S$34,"BB",G24<$S$31,"AA",AND(G24<$S$34,G24>$S$31),"AB") -> #DIV/0! | I24: =IF(AND(E24<$R$13,F24<$S$9),G24,"") -> #DIV/0! | J24: =IF(OR(AND(($S$31-$S$36)<G24,($S$31+$S$36)>G24),AND(($S$34-$S$36)<G24,($S$34+$S$36)>G24)),"CHECK","") -> #DIV/0! | U24: B06 | V24: =IF(I24="",NA(),G24) -> #DIV/0! | W24: =IF(AND(I24="",G24<$S$31),G24,NA()) -> #DIV/0! | X24: =IF(AND(I24="",G24<$S$34,G24>$S$31),G24,NA()) -> #DIV/0! | Y24: =IF(AND(I24="",G24>$S$34),G24,NA()) -> #DIV/0! | Z24: =IF(J24="CHECK",G24,NA()) -> #DIV/0! | AC24: B06 | AD24: =IF(V24<>"#N/A",$F24,"") -> #DIV/0! | AE24: =IF(W24<>"#N/A",$F24,"") -> #DIV/0! | AF24: =IF(X24<>"#N/A",$F24,"") -> #DIV/0! | AG24: =IF(Y24<>"#N/A",$F24,"") -> #DIV/0! | AH24: =IF(Z24<>"#N/A",$F24,"") -> #DIV/0!
B25: B07 | E25: =(C25-MIN(C$7:C$102))/(MAX(C$7:C$102)-MIN(C$7:C$102))*100 -> #DIV/0! | F25: =(D25-MIN(D$7:D$102))/(MAX(D$7:D$102)-MIN(D$7:D$102))*100 -> #DIV/0! | G25: =F25-E25 -> #DIV/0! | H25: =_xlfn.IFS(AND(E25<$R$13,F25<$S$9),"No amplification",G25>$S$34,"BB",G25<$S$31,"AA",AND(G25<$S$34,G25>$S$31),"AB") -> #DIV/0! | I25: =IF(AND(E25<$R$13,F25<$S$9),G25,"") -> #DIV/0! | J25: =IF(OR(AND(($S$31-$S$36)<G25,($S$31+$S$36)>G25),AND(($S$34-$S$36)<G25,($S$34+$S$36)>G25)),"CHECK","") -> #DIV/0! | U25: B07 | V25: =IF(I25="",NA(),G25) -> #DIV/0! | W25: =IF(AND(I25="",G25<$S$31),G25,NA()) -> #DIV/0! | X25: =IF(AND(I25="",G25<$S$34,G25>$S$31),G25,NA()) -> #DIV/0! | Y25: =IF(AND(I25="",G25>$S$34),G25,NA()) -> #DIV/0! | Z25: =IF(J25="CHECK",G25,NA()) -> #DIV/0! | AC25: B07 | AD25: =IF(V25<>"#N/A",$F25,"") -> #DIV/0! | AE25: =IF(W25<>"#N/A",$F25,"") -> #DIV/0! | AF25: =IF(X25<>"#N/A",$F25,"") -> #DIV/0! | AG25: =IF(Y25<>"#N/A",$F25,"") -> #DIV/0! | AH25: =IF(Z25<>"#N/A",$F25,"") -> #DIV/0!
B26: B08 | E26: =(C26-MIN(C$7:C$102))/(MAX(C$7:C$102)-MIN(C$7:C$102))*100 -> #DIV/0! | F26: =(D26-MIN(D$7:D$102))/(MAX(D$7:D$102)-MIN(D$7:D$102))*100 -> #DIV/0! | G26: =F26-E26 -> #DIV/0! | H26: =_xlfn.IFS(AND(E26<$R$13,F26<$S$9),"No amplification",G26>$S$34,"BB",G26<$S$31,"AA",AND(G26<$S$34,G26>$S$31),"AB") -> #DIV/0! | I26: =IF(AND(E26<$R$13,F26<$S$9),G26,"") -> #DIV/0! | J26: =IF(OR(AND(($S$31-$S$36)<G26,($S$31+$S$36)>G26),AND(($S$34-$S$36)<G26,($S$34+$S$36)>G26)),"CHECK","") -> #DIV/0! | U26: B08 | V26: =IF(I26="",NA(),G26) -> #DIV/0! | W26: =IF(AND(I26="",G26<$S$31),G26,NA()) -> #DIV/0! | X26: =IF(AND(I26="",G26<$S$34,G26>$S$31),G26,NA()) -> #DIV/0! | Y26: =IF(AND(I26="",G26>$S$34),G26,NA()) -> #DIV/0! | Z26: =IF(J26="CHECK",G26,NA()) -> #DIV/0! | AC26: B08 | AD26: =IF(V26<>"#N/A",$F26,"") -> #DIV/0! | AE26: =IF(W26<>"#N/A",$F26,"") -> #DIV/0! | AF26: =IF(X26<>"#N/A",$F26,"") -> #DIV/0! | AG26: =IF(Y26<>"#N/A",$F26,"") -> #DIV/0! | AH26: =IF(Z26<>"#N/A",$F26,"") -> #DIV/0!
B27: B09 | E27: =(C27-MIN(C$7:C$102))/(MAX(C$7:C$102)-MIN(C$7:C$102))*100 -> #DIV/0! | F27: =(D27-MIN(D$7:D$102))/(MAX(D$7:D$102)-MIN(D$7:D$102))*100 -> #DIV/0! | G27: =F27-E27 -> #DIV/0! | H27: =_xlfn.IFS(AND(E27<$R$13,F27<$S$9),"No amplification",G27>$S$34,"BB",G27<$S$31,"AA",AND(G27<$S$34,G27>$S$31),"AB") -> #DIV/0! | I27: =IF(AND(E27<$R$13,F27<$S$9),G27,"") -> #DIV/0! | J27: =IF(OR(AND(($S$31-$S$36)<G27,($S$31+$S$36)>G27),AND(($S$34-$S$36)<G27,($S$34+$S$36)>G27)),"CHECK","") -> #DIV/0! | U27: B09 | V27: =IF(I27="",NA(),G27) -> #DIV/0! | W27: =IF(AND(I27="",G27<$S$31),G27,NA()) -> #DIV/0! | X27: =IF(AND(I27="",G27<$S$34,G27>$S$31),G27,NA()) -> #DIV/0! | Y27: =IF(AND(I27="",G27>$S$34),G27,NA()) -> #DIV/0! | Z27: =IF(J27="CHECK",G27,NA()) -> #DIV/0! | AC27: B09 | AD27: =IF(V27<>"#N/A",$F27,"") -> #DIV/0! | AE27: =IF(W27<>"#N/A",$F27,"") -> #DIV/0! | AF27: =IF(X27<>"#N/A",$F27,"") -> #DIV/0! | AG27: =IF(Y27<>"#N/A",$F27,"") -> #DIV/0! | AH27: =IF(Z27<>"#N/A",$F27,"") -> #DIV/0!
B28: B10 | E28: =(C28-MIN(C$7:C$102))/(MAX(C$7:C$102)-MIN(C$7:C$102))*100 -> #DIV/0! | F28: =(D28-MIN(D$7:D$102))/(MAX(D$7:D$102)-MIN(D$7:D$102))*100 -> #DIV/0! | G28: =F28-E28 -> #DIV/0! | H28: =_xlfn.IFS(AND(E28<$R$13,F28<$S$9),"No amplification",G28>$S$34,"BB",G28<$S$31,"AA",AND(G28<$S$34,G28>$S$31),"AB") -> #DIV/0! | I28: =IF(AND(E28<$R$13,F28<$S$9),G28,"") -> #DIV/0! | J28: =IF(OR(AND(($S$31-$S$36)<G28,($S$31+$S$36)>G28),AND(($S$34-$S$36)<G28,($S$34+$S$36)>G28)),"CHECK","") -> #DIV/0! | U28: B10 | V28: =IF(I28="",NA(),G28) -> #DIV/0! | W28: =IF(AND(I28="",G28<$S$31),G28,NA()) -> #DIV/0! | X28: =IF(AND(I28="",G28<$S$34,G28>$S$31),G28,NA()) -> #DIV/0! | Y28: =IF(AND(I28="",G28>$S$34),G28,NA()) -> #DIV/0! | Z28: =IF(J28="CHECK",G28,NA()) -> #DIV/0! | AC28: B10 | AD28: =IF(V28<>"#N/A",$F28,"") -> #DIV/0! | AE28: =IF(W28<>"#N/A",$F28,"") -> #DIV/0! | AF28: =IF(X28<>"#N/A",$F28,"") -> #DIV/0! | AG28: =IF(Y28<>"#N/A",$F28,"") -> #DIV/0! | AH28: =IF(Z28<>"#N/A",$F28,"") -> #DIV/0!
B29: B11 | E29: =(C29-MIN(C$7:C$102))/(MAX(C$7:C$102)-MIN(C$7:C$102))*100 -> #DIV/0! | F29: =(D29-MIN(D$7:D$102))/(MAX(D$7:D$102)-MIN(D$7:D$102))*100 -> #DIV/0! | G29: =F29-E29 -> #DIV/0! | H29: =_xlfn.IFS(AND(E29<$R$13,F29<$S$9),"No amplification",G29>$S$34,"BB",G29<$S$31,"AA",AND(G29<$S$34,G29>$S$31),"AB") -> #DIV/0! | I29: =IF(AND(E29<$R$13,F29<$S$9),G29,"") -> #DIV/0! | J29: =IF(OR(AND(($S$31-$S$36)<G29,($S$31+$S$36)>G29),AND(($S$34-$S$36)<G29,($S$34+$S$36)>G29)),"CHECK","") -> #DIV/0! | U29: B11 | V29: =IF(I29="",NA(),G29) -> #DIV/0! | W29: =IF(AND(I29="",G29<$S$31),G29,NA()) -> #DIV/0! | X29: =IF(AND(I29="",G29<$S$34,G29>$S$31),G29,NA()) -> #DIV/0! | Y29: =IF(AND(I29="",G29>$S$34),G29,NA()) -> #DIV/0! | Z29: =IF(J29="CHECK",G29,NA()) -> #DIV/0! | AC29: B11 | AD29: =IF(V29<>"#N/A",$F29,"") -> #DIV/0! | AE29: =IF(W29<>"#N/A",$F29,"") -> #DIV/0! | AF29: =IF(X29<>"#N/A",$F29,"") -> #DIV/0! | AG29: =IF(Y29<>"#N/A",$F29,"") -> #DIV/0! | AH29: =IF(Z29<>"#N/A",$F29,"") -> #DIV/0!
B30: B12 | E30: =(C30-MIN(C$7:C$102))/(MAX(C$7:C$102)-MIN(C$7:C$102))*100 -> #DIV/0! | F30: =(D30-MIN(D$7:D$102))/(MAX(D$7:D$102)-MIN(D$7:D$102))*100 -> #DIV/0! | G30: =F30-E30 -> #DIV/0! | H30: =_xlfn.IFS(AND(E30<$R$13,F30<$S$9),"No amplification",G30>$S$34,"BB",G30<$S$31,"AA",AND(G30<$S$34,G30>$S$31),"AB") -> #DIV/0! | I30: =IF(AND(E30<$R$13,F30<$S$9),G30,"") -> #DIV/0! | J30: =IF(OR(AND(($S$31-$S$36)<G30,($S$31+$S$36)>G30),AND(($S$34-$S$36)<G30,($S$34+$S$36)>G30)),"CHECK","") -> #DIV/0! | R30: lower bound for heterozygotes | U30: B12 | V30: =IF(I30="",NA(),G30) -> #DIV/0! | W30: =IF(AND(I30="",G30<$S$31),G30,NA()) -> #DIV/0! | X30: =IF(AND(I30="",G30<$S$34,G30>$S$31),G30,NA()) -> #DIV/0! | Y30: =IF(AND(I30="",G30>$S$34),G30,NA()) -> #DIV/0! | Z30: =IF(J30="CHECK",G30,NA()) -> #DIV/0! | AC30: B12 | AD30: =IF(V30<>"#N/A",$F30,"") -> #DIV/0! | AE30: =IF(W30<>"#N/A",$F30,"") -> #DIV/0! | AF30: =IF(X30<>"#N/A",$F30,"") -> #DIV/0! | AG30: =IF(Y30<>"#N/A",$F30,"") -> #DIV/0! | AH30: =IF(Z30<>"#N/A",$F30,"") -> #DIV/0!
B31: C01 | E31: =(C31-MIN(C$7:C$102))/(MAX(C$7:C$102)-MIN(C$7:C$102))*100 -> #DIV/0! | F31: =(D31-MIN(D$7:D$102))/(MAX(D$7:D$102)-MIN(D$7:D$102))*100 -> #DIV/0! | G31: =F31-E31 -> #DIV/0! | H31: =_xlfn.IFS(AND(E31<$R$13,F31<$S$9),"No amplification",G31>$S$34,"BB",G31<$S$31,"AA",AND(G31<$S$34,G31>$S$31),"AB") -> #DIV/0! | I31: =IF(AND(E31<$R$13,F31<$S$9),G31,"") -> #DIV/0! | J31: =IF(OR(AND(($S$31-$S$36)<G31,($S$31+$S$36)>G31),AND(($S$34-$S$36)<G31,($S$34+$S$36)>G31)),"CHECK","") -> #DIV/0! | R31: 0 | S31: -20 | U31: C01 | V31: =IF(I31="",NA(),G31) -> #DIV/0! | W31: =IF(AND(I31="",G31<$S$31),G31,NA()) -> #DIV/0! | X31: =IF(AND(I31="",G31<$S$34,G31>$S$31),G31,NA()) -> #DIV/0! | Y31: =IF(AND(I31="",G31>$S$34),G31,NA()) -> #DIV/0! | Z31: =IF(J31="CHECK",G31,NA()) -> #DIV/0! | AC31: C01 | AD31: =IF(V31<>"#N/A",$F31,"") -> #DIV/0! | AE31: =IF(W31<>"#N/A",$F31,"") -> #DIV/0! | AF31: =IF(X31<>"#N/A",$F31,"") -> #DIV/0! | AG31: =IF(Y31<>"#N/A",$F31,"") -> #DIV/0! | AH31: =IF(Z31<>"#N/A",$F31,"") -> #DIV/0!
B32: C02 | E32: =(C32-MIN(C$7:C$102))/(MAX(C$7:C$102)-MIN(C$7:C$102))*100 -> #DIV/0! | F32: =(D32-MIN(D$7:D$102))/(MAX(D$7:D$102)-MIN(D$7:D$102))*100 -> #DIV/0! | G32: =F32-E32 -> #DIV/0! | H32: =_xlfn.IFS(AND(E32<$R$13,F32<$S$9),"No amplification",G32>$S$34,"BB",G32<$S$31,"AA",AND(G32<$S$34,G32>$S$31),"AB") -> #DIV/0! | I32: =IF(AND(E32<$R$13,F32<$S$9),G32,"") -> #DIV/0! | J32: =IF(OR(AND(($S$31-$S$36)<G32,($S$31+$S$36)>G32),AND(($S$34-$S$36)<G32,($S$34+$S$36)>G32)),"CHECK","") -> #DIV/0! | R32: 100 | S32: =S31 -> -20 | U32: C02 | V32: =IF(I32="",NA(),G32) -> #DIV/0! | W32: =IF(AND(I32="",G32<$S$31),G32,NA()) -> #DIV/0! | X32: =IF(AND(I32="",G32<$S$34,G32>$S$31),G32,NA()) -> #DIV/0! | Y32: =IF(AND(I32="",G32>$S$34),G32,NA()) -> #DIV/0! | Z32: =IF(J32="CHECK",G32,NA()) -> #DIV/0! | AC32: C02 | AD32: =IF(V32<>"#N/A",$F32,"") -> #DIV/0! | AE32: =IF(W32<>"#N/A",$F32,"") -> #DIV/0! | AF32: =IF(X32<>"#N/A",$F32,"") -> #DIV/0! | AG32: =IF(Y32<>"#N/A",$F32,"") -> #DIV/0! | AH32: =IF(Z32<>"#N/A",$F32,"") -> #DIV/0!
B33: C03 | E33: =(C33-MIN(C$7:C$102))/(MAX(C$7:C$102)-MIN(C$7:C$102))*100 -> #DIV/0! | F33: =(D33-MIN(D$7:D$102))/(MAX(D$7:D$102)-MIN(D$7:D$102))*100 -> #DIV/0! | G33: =F33-E33 -> #DIV/0! | H33: =_xlfn.IFS(AND(E33<$R$13,F33<$S$9),"No amplification",G33>$S$34,"BB",G33<$S$31,"AA",AND(G33<$S$34,G33>$S$31),"AB") -> #DIV/0! | I33: =IF(AND(E33<$R$13,F33<$S$9),G33,"") -> #DIV/0! | J33: =IF(OR(AND(($S$31-$S$36)<G33,($S$31+$S$36)>G33),AND(($S$34-$S$36)<G33,($S$34+$S$36)>G33)),"CHECK","") -> #DIV/0! | R33: upper bound for heterozygotes | U33: C03 | V33: =IF(I33="",NA(),G33) -> #DIV/0! | W33: =IF(AND(I33="",G33<$S$31),G33,NA()) -> #DIV/0! | X33: =IF(AND(I33="",G33<$S$34,G33>$S$31),G33,NA()) -> #DIV/0! | Y33: =IF(AND(I33="",G33>$S$34),G33,NA()) -> #DIV/0! | Z33: =IF(J33="CHECK",G33,NA()) -> #DIV/0! | AC33: C03 | AD33: =IF(V33<>"#N/A",$F33,"") -> #DIV/0! | AE33: =IF(W33<>"#N/A",$F33,"") -> #DIV/0! | AF33: =IF(X33<>"#N/A",$F33,"") -> #DIV/0! | AG33: =IF(Y33<>"#N/A",$F33,"") -> #DIV/0! | AH33: =IF(Z33<>"#N/A",$F33,"") -> #DIV/0!
B34: C04 | E34: =(C34-MIN(C$7:C$102))/(MAX(C$7:C$102)-MIN(C$7:C$102))*100 -> #DIV/0! | F34: =(D34-MIN(D$7:D$102))/(MAX(D$7:D$102)-MIN(D$7:D$102))*100 -> #DIV/0! | G34: =F34-E34 -> #DIV/0! | H34: =_xlfn.IFS(AND(E34<$R$13,F34<$S$9),"No amplification",G34>$S$34,"BB",G34<$S$31,"AA",AND(G34<$S$34,G34>$S$31),"AB") -> #DIV/0! | I34: =IF(AND(E34<$R$13,F34<$S$9),G34,"") -> #DIV/0! | J34: =IF(OR(AND(($S$31-$S$36)<G34,($S$31+$S$36)>G34),AND(($S$34-$S$36)<G34,($S$34+$S$36)>G34)),"CHECK","") -> #DIV/0! | R34: 0 | S34: 30 | U34: C04 | V34: =IF(I34="",NA(),G34) -> #DIV/0! | W34: =IF(AND(I34="",G34<$S$31),G34,NA()) -> #DIV/0! | X34: =IF(AND(I34="",G34<$S$34,G34>$S$31),G34,NA()) -> #DIV/0! | Y34: =IF(AND(I34="",G34>$S$34),G34,NA()) -> #DIV/0! | Z34: =IF(J34="CHECK",G34,NA()) -> #DIV/0! | AC34: C04 | AD34: =IF(V34<>"#N/A",$F34,"") -> #DIV/0! | AE34: =IF(W34<>"#N/A",$F34,"") -> #DIV/0! | AF34: =IF(X34<>"#N/A",$F34,"") -> #DIV/0! | AG34: =IF(Y34<>"#N/A",$F34,"") -> #DIV/0! | AH34: =IF(Z34<>"#N/A",$F34,"") -> #DIV/0!
B35: C05 | E35: =(C35-MIN(C$7:C$102))/(MAX(C$7:C$102)-MIN(C$7:C$102))*100 -> #DIV/0! | F35: =(D35-MIN(D$7:D$102))/(MAX(D$7:D$102)-MIN(D$7:D$102))*100 -> #DIV/0! | G35: =F35-E35 -> #DIV/0! | H35: =_xlfn.IFS(AND(E35<$R$13,F35<$S$9),"No amplification",G35>$S$34,"BB",G35<$S$31,"AA",AND(G35<$S$34,G35>$S$31),"AB") -> #DIV/0! | I35: =IF(AND(E35<$R$13,F35<$S$9),G35,"") -> #DIV/0! | J35: =IF(OR(AND(($S$31-$S$36)<G35,($S$31+$S$36)>G35),AND(($S$34-$S$36)<G35,($S$34+$S$36)>G35)),"CHECK","") -> #DIV/0! | R35: 100 | S35: =S34 -> 30 | U35: C05 | V35: =IF(I35="",NA(),G35) -> #DIV/0! | W35: =IF(AND(I35="",G35<$S$31),G35,NA()) -> #DIV/0! | X35: =IF(AND(I35="",G35<$S$34,G35>$S$31),G35,NA()) -> #DIV/0! | Y35: =IF(AND(I35="",G35>$S$34),G35,NA()) -> #DIV/0! | Z35: =IF(J35="CHECK",G35,NA()) -> #DIV/0! | AC35: C05 | AD35: =IF(V35<>"#N/A",$F35,"") -> #DIV/0! | AE35: =IF(W35<>"#N/A",$F35,"") -> #DIV/0! | AF35: =IF(X35<>"#N/A",$F35,"") -> #DIV/0! | AG35: =IF(Y35<>"#N/A",$F35,"") -> #DIV/0! | AH35: =IF(Z35<>"#N/A",$F35,"") -> #DIV/0!
B36: C06 | E36: =(C36-MIN(C$7:C$102))/(MAX(C$7:C$102)-MIN(C$7:C$102))*100 -> #DIV/0! | F36: =(D36-MIN(D$7:D$102))/(MAX(D$7:D$102)-MIN(D$7:D$102))*100 -> #DIV/0! | G36: =F36-E36 -> #DIV/0! | H36: =_xlfn.IFS(AND(E36<$R$13,F36<$S$9),"No amplification",G36>$S$34,"BB",G36<$S$31,"AA",AND(G36<$S$34,G36>$S$31),"AB") -> #DIV/0! | I36: =IF(AND(E36<$R$13,F36<$S$9),G36,"") -> #DIV/0! | J36: =IF(OR(AND(($S$31-$S$36)<G36,($S$31+$S$36)>G36),AND(($S$34-$S$36)<G36,($S$34+$S$36)>G36)),"CHECK","") -> #DIV/0! | R36: Margin | S36: 2 | U36: C06 | V36: =IF(I36="",NA(),G36) -> #DIV/0! | W36: =IF(AND(I36="",G36<$S$31),G36,NA()) -> #DIV/0! | X36: =IF(AND(I36="",G36<$S$34,G36>$S$31),G36,NA()) -> #DIV/0! | Y36: =IF(AND(I36="",G36>$S$34),G36,NA()) -> #DIV/0! | Z36: =IF(J36="CHECK",G36,NA()) -> #DIV/0! | AC36: C06 | AD36: =IF(V36<>"#N/A",$F36,"") -> #DIV/0! | AE36: =IF(W36<>"#N/A",$F36,"") -> #DIV/0! | AF36: =IF(X36<>"#N/A",$F36,"") -> #DIV/0! | AG36: =IF(Y36<>"#N/A",$F36,"") -> #DIV/0! | AH36: =IF(Z36<>"#N/A",$F36,"") -> #DIV/0!
B37: C07 | E37: =(C37-MIN(C$7:C$102))/(MAX(C$7:C$102)-MIN(C$7:C$102))*100 -> #DIV/0! | F37: =(D37-MIN(D$7:D$102))/(MAX(D$7:D$102)-MIN(D$7:D$102))*100 -> #DIV/0! | G37: =F37-E37 -> #DIV/0! | H37: =_xlfn.IFS(AND(E37<$R$13,F37<$S$9),"No amplification",G37>$S$34,"BB",G37<$S$31,"AA",AND(G37<$S$34,G37>$S$31),"AB") -> #DIV/0! | I37: =IF(AND(E37<$R$13,F37<$S$9),G37,"") -> #DIV/0! | J37: =IF(OR(AND(($S$31-$S$36)<G37,($S$31+$S$36)>G37),AND(($S$34-$S$36)<G37,($S$34+$S$36)>G37)),"CHECK","") -> #DIV/0! | U37: C07 | V37: =IF(I37="",NA(),G37) -> #DIV/0! | W37: =IF(AND(I37="",G37<$S$31),G37,NA()) -> #DIV/0! | X37: =IF(AND(I37="",G37<$S$34,G37>$S$31),G37,NA()) -> #DIV/0! | Y37: =IF(AND(I37="",G37>$S$34),G37,NA()) -> #DIV/0! | Z37: =IF(J37="CHECK",G37,NA()) -> #DIV/0! | AC37: C07 | AD37: =IF(V37<>"#N/A",$F37,"") -> #DIV/0! | AE37: =IF(W37<>"#N/A",$F37,"") -> #DIV/0! | AF37: =IF(X37<>"#N/A",$F37,"") -> #DIV/0! | AG37: =IF(Y37<>"#N/A",$F37,"") -> #DIV/0! | AH37: =IF(Z37<>"#N/A",$F37,"") -> #DIV/0!
B38: C08 | E38: =(C38-MIN(C$7:C$102))/(MAX(C$7:C$102)-MIN(C$7:C$102))*100 -> #DIV/0! | F38: =(D38-MIN(D$7:D$102))/(MAX(D$7:D$102)-MIN(D$7:D$102))*100 -> #DIV/0! | G38: =F38-E38 -> #DIV/0! | H38: =_xlfn.IFS(AND(E38<$R$13,F38<$S$9),"No amplification",G38>$S$34,"BB",G38<$S$31,"AA",AND(G38<$S$34,G38>$S$31),"AB") -> #DIV/0! | I38: =IF(AND(E38<$R$13,F38<$S$9),G38,"") -> #DIV/0! | J38: =IF(OR(AND(($S$31-$S$36)<G38,($S$31+$S$36)>G38),AND(($S$34-$S$36)<G38,($S$34+$S$36)>G38)),"CHECK","") -> #DIV/0! | U38: C08 | V38: =IF(I38="",NA(),G38) -> #DIV/0! | W38: =IF(AND(I38="",G38<$S$31),G38,NA()) -> #DIV/0! | X38: =IF(AND(I38="",G38<$S$34,G38>$S$31),G38,NA()) -> #DIV/0! | Y38: =IF(AND(I38="",G38>$S$34),G38,NA()) -> #DIV/0! | Z38: =IF(J38="CHECK",G38,NA()) -> #DIV/0! | AC38: C08 | AD38: =IF(V38<>"#N/A",$F38,"") -> #DIV/0! | AE38: =IF(W38<>"#N/A",$F38,"") -> #DIV/0! | AF38: =IF(X38<>"#N/A",$F38,"") -> #DIV/0! | AG38: =IF(Y38<>"#N/A",$F38,"") -> #DIV/0! | AH38: =IF(Z38<>"#N/A",$F38,"") -> #DIV/0!
B39: C09 | E39: =(C39-MIN(C$7:C$102))/(MAX(C$7:C$102)-MIN(C$7:C$102))*100 -> #DIV/0! | F39: =(D39-MIN(D$7:D$102))/(MAX(D$7:D$102)-MIN(D$7:D$102))*100 -> #DIV/0! | G39: =F39-E39 -> #DIV/0! | H39: =_xlfn.IFS(AND(E39<$R$13,F39<$S$9),"No amplification",G39>$S$34,"BB",G39<$S$31,"AA",AND(G39<$S$34,G39>$S$31),"AB") -> #DIV/0! | I39: =IF(AND(E39<$R$13,F39<$S$9),G39,"") -> #DIV/0! | J39: =IF(OR(AND(($S$31-$S$36)<G39,($S$31+$S$36)>G39),AND(($S$34-$S$36)<G39,($S$34+$S$36)>G39)),"CHECK","") -> #DIV/0! | U39: C09 | V39: =IF(I39="",NA(),G39) -> #DIV/0! | W39: =IF(AND(I39="",G39<$S$31),G39,NA()) -> #DIV/0! | X39: =IF(AND(I39="",G39<$S$34,G39>$S$31),G39,NA()) -> #DIV/0! | Y39: =IF(AND(I39="",G39>$S$34),G39,NA()) -> #DIV/0! | Z39: =IF(J39="CHECK",G39,NA()) -> #DIV/0! | AC39: C09 | AD39: =IF(V39<>"#N/A",$F39,"") -> #DIV/0! | AE39: =IF(W39<>"#N/A",$F39,"") -> #DIV/0! | AF39: =IF(X39<>"#N/A",$F39,"") -> #DIV/0! | AG39: =IF(Y39<>"#N/A",$F39,"") -> #DIV/0! | AH39: =IF(Z39<>"#N/A",$F39,"") -> #DIV/0!
B40: C10 | E40: =(C40-MIN(C$7:C$102))/(MAX(C$7:C$102)-MIN(C$7:C$102))*100 -> #DIV/0! | F40: =(D40-MIN(D$7:D$102))/(MAX(D$7:D$102)-MIN(D$7:D$102))*100 -> #DIV/0! | G40: =F40-E40 -> #DIV/0! | H40: =_xlfn.IFS(AND(E40<$R$13,F40<$S$9),"No amplification",G40>$S$34,"BB",G40<$S$31,"AA",AND(G40<$S$34,G40>$S$31),"AB") -> #DIV/0! | I40: =IF(AND(E40<$R$13,F40<$S$9),G40,"") -> #DIV/0! | J40: =IF(OR(AND(($S$31-$S$36)<G40,($S$31+$S$36)>G40),AND(($S$34-$S$36)<G40,($S$34+$S$36)>G40)),"CHECK","") -> #DIV/0! | U40: C10 | V40: =IF(I40="",NA(),G40) -> #DIV/0! | W40: =IF(AND(I40="",G40<$S$31),G40,NA()) -> #DIV/0! | X40: =IF(AND(I40="",G40<$S$34,G40>$S$31),G40,NA()) -> #DIV/0! | Y40: =IF(AND(I40="",G40>$S$34),G40,NA()) -> #DIV/0! | Z40: =IF(J40="CHECK",G40,NA()) -> #DIV/0! | AC40: C10 | AD40: =IF(V40<>"#N/A",$F40,"") -> #DIV/0! | AE40: =IF(W40<>"#N/A",$F40,"") -> #DIV/0! | AF40: =IF(X40<>"#N/A",$F40,"") -> #DIV/0! | AG40: =IF(Y40<>"#N/A",$F40,"") -> #DIV/0! | AH40: =IF(Z40<>"#N/A",$F40,"") -> #DIV/0!
B41: C11 | E41: =(C41-MIN(C$7:C$102))/(MAX(C$7:C$102)-MIN(C$7:C$102))*100 -> #DIV/0! | F41: =(D41-MIN(D$7:D$102))/(MAX(D$7:D$102)-MIN(D$7:D$102))*100 -> #DIV/0! | G41: =F41-E41 -> #DIV/0! | H41: =_xlfn.IFS(AND(E41<$R$13,F41<$S$9),"No amplification",G41>$S$34,"BB",G41<$S$31,"AA",AND(G41<$S$34,G41>$S$31),"AB") -> #DIV/0! | I41: =IF(AND(E41<$R$13,F41<$S$9),G41,"") -> #DIV/0! | J41: =IF(OR(AND(($S$31-$S$36)<G41,($S$31+$S$36)>G41),AND(($S$34-$S$36)<G41,($S$34+$S$36)>G41)),"CHECK","") -> #DIV/0! | U41: C11 | V41: =IF(I41="",NA(),G41) -> #DIV/0! | W41: =IF(AND(I41="",G41<$S$31),G41,NA()) -> #DIV/0! | X41: =IF(AND(I41="",G41<$S$34,G41>$S$31),G41,NA()) -> #DIV/0! | Y41: =IF(AND(I41="",G41>$S$34),G41,NA()) -> #DIV/0! | Z41: =IF(J41="CHECK",G41,NA()) -> #DIV/0! | AC41: C11 | AD41: =IF(V41<>"#N/A",$F41,"") -> #DIV/0! | AE41: =IF(W41<>"#N/A",$F41,"") -> #DIV/0! | AF41: =IF(X41<>"#N/A",$F41,"") -> #DIV/0! | AG41: =IF(Y41<>"#N/A",$F41,"") -> #DIV/0! | AH41: =IF(Z41<>"#N/A",$F41,"") -> #DIV/0!
B42: C12 | E42: =(C42-MIN(C$7:C$102))/(MAX(C$7:C$102)-MIN(C$7:C$102))*100 -> #DIV/0! | F42: =(D42-MIN(D$7:D$102))/(MAX(D$7:D$102)-MIN(D$7:D$102))*100 -> #DIV/0! | G42: =F42-E42 -> #DIV/0! | H42: =_xlfn.IFS(AND(E42<$R$13,F42<$S$9),"No amplification",G42>$S$34,"BB",G42<$S$31,"AA",AND(G42<$S$34,G42>$S$31),"AB") -> #DIV/0! | I42: =IF(AND(E42<$R$13,F42<$S$9),G42,"") -> #DIV/0! | J42: =IF(OR(AND(($S$31-$S$36)<G42,($S$31+$S$36)>G42),AND(($S$34-$S$36)<G42,($S$34+$S$36)>G42)),"CHECK","") -> #DIV/0! | U42: C12 | V42: =IF(I42="",NA(),G42) -> #DIV/0! | W42: =IF(AND(I42="",G42<$S$31),G42,NA()) -> #DIV/0! | X42: =IF(AND(I42="",G42<$S$34,G42>$S$31),G42,NA()) -> #DIV/0! | Y42: =IF(AND(I42="",G42>$S$34),G42,NA()) -> #DIV/0! | Z42: =IF(J42="CHECK",G42,NA()) -> #DIV/0! | AC42: C12 | AD42: =IF(V42<>"#N/A",$F42,"") -> #DIV/0! | AE42: =IF(W42<>"#N/A",$F42,"") -> #DIV/0! | AF42: =IF(X42<>"#N/A",$F42,"") -> #DIV/0! | AG42: =IF(Y42<>"#N/A",$F42,"") -> #DIV/0! | AH42: =IF(Z42<>"#N/A",$F42,"") -> #DIV/0!
B43: D01 | E43: =(C43-MIN(C$7:C$102))/(MAX(C$7:C$102)-MIN(C$7:C$102))*100 -> #DIV/0! | F43: =(D43-MIN(D$7:D$102))/(MAX(D$7:D$102)-MIN(D$7:D$102))*100 -> #DIV/0! | G43: =F43-E43 -> #DIV/0! | H43: =_xlfn.IFS(AND(E43<$R$13,F43<$S$9),"No amplification",G43>$S$34,"BB",G43<$S$31,"AA",AND(G43<$S$34,G43>$S$31),"AB") -> #DIV/0! | I43: =IF(AND(E43<$R$13,F43<$S$9),G43,"") -> #DIV/0! | J43: =IF(OR(AND(($S$31-$S$36)<G43,($S$31+$S$36)>G43),AND(($S$34-$S$36)<G43,($S$34+$S$36)>G43)),"CHECK","") -> #DIV/0! | U43: D01 | V43: =IF(I43="",NA(),G43) -> #DIV/0! | W43: =IF(AND(I43="",G43<$S$31),G43,NA()) -> #DIV/0! | X43: =IF(AND(I43="",G43<$S$34,G43>$S$31),G43,NA()) -> #DIV/0! | Y43: =IF(AND(I43="",G43>$S$34),G43,NA()) -> #DIV/0! | Z43: =IF(J43="CHECK",G43,NA()) -> #DIV/0! | AC43: D01 | AD43: =IF(V43<>"#N/A",$F43,"") -> #DIV/0! | AE43: =IF(W43<>"#N/A",$F43,"") -> #DIV/0! | AF43: =IF(X43<>"#N/A",$F43,"") -> #DIV/0! | AG43: =IF(Y43<>"#N/A",$F43,"") -> #DIV/0! | AH43: =IF(Z43<>"#N/A",$F43,"") -> #DIV/0!
B44: D02 | E44: =(C44-MIN(C$7:C$102))/(MAX(C$7:C$102)-MIN(C$7:C$102))*100 -> #DIV/0! | F44: =(D44-MIN(D$7:D$102))/(MAX(D$7:D$102)-MIN(D$7:D$102))*100 -> #DIV/0! | G44: =F44-E44 -> #DIV/0! | H44: =_xlfn.IFS(AND(E44<$R$13,F44<$S$9),"No amplification",G44>$S$34,"BB",G44<$S$31,"AA",AND(G44<$S$34,G44>$S$31),"AB") -> #DIV/0! | I44: =IF(AND(E44<$R$13,F44<$S$9),G44,"") -> #DIV/0! | J44: =IF(OR(AND(($S$31-$S$36)<G44,($S$31+$S$36)>G44),AND(($S$34-$S$36)<G44,($S$34+$S$36)>G44)),"CHECK","") -> #DIV/0! | U44: D02 | V44: =IF(I44="",NA(),G44) -> #DIV/0! | W44: =IF(AND(I44="",G44<$S$31),G44,NA()) -> #DIV/0! | X44: =IF(AND(I44="",G44<$S$34,G44>$S$31),G44,NA()) -> #DIV/0! | Y44: =IF(AND(I44="",G44>$S$34),G44,NA()) -> #DIV/0! | Z44: =IF(J44="CHECK",G44,NA()) -> #DIV/0! | AC44: D02 | AD44: =IF(V44<>"#N/A",$F44,"") -> #DIV/0! | AE44: =IF(W44<>"#N/A",$F44,"") -> #DIV/0! | AF44: =IF(X44<>"#N/A",$F44,"") -> #DIV/0! | AG44: =IF(Y44<>"#N/A",$F44,"") -> #DIV/0! | AH44: =IF(Z44<>"#N/A",$F44,"") -> #DIV/0!
B45: D03 | E45: =(C45-MIN(C$7:C$102))/(MAX(C$7:C$102)-MIN(C$7:C$102))*100 -> #DIV/0! | F45: =(D45-MIN(D$7:D$102))/(MAX(D$7:D$102)-MIN(D$7:D$102))*100 -> #DIV/0! | G45: =F45-E45 -> #DIV/0! | H45: =_xlfn.IFS(AND(E45<$R$13,F45<$S$9),"No amplification",G45>$S$34,"BB",G45<$S$31,"AA",AND(G45<$S$34,G45>$S$31),"AB") -> #DIV/0! | I45: =IF(AND(E45<$R$13,F45<$S$9),G45,"") -> #DIV/0! | J45: =IF(OR(AND(($S$31-$S$36)<G45,($S$31+$S$36)>G45),AND(($S$34-$S$36)<G45,($S$34+$S$36)>G45)),"CHECK","") -> #DIV/0! | U45: D03 | V45: =IF(I45="",NA(),G45) -> #DIV/0! | W45: =IF(AND(I45="",G45<$S$31),G45,NA()) -> #DIV/0! | X45: =IF(AND(I45="",G45<$S$34,G45>$S$31),G45,NA()) -> #DIV/0! | Y45: =IF(AND(I45="",G45>$S$34),G45,NA()) -> #DIV/0! | Z45: =IF(J45="CHECK",G45,NA()) -> #DIV/0! | AC45: D03 | AD45: =IF(V45<>"#N/A",$F45,"") -> #DIV/0! | AE45: =IF(W45<>"#N/A",$F45,"") -> #DIV/0! | AF45: =IF(X45<>"#N/A",$F45,"") -> #DIV/0! | AG45: =IF(Y45<>"#N/A",$F45,"") -> #DIV/0! | AH45: =IF(Z45<>"#N/A",$F45,"") -> #DIV/0!
B46: D04 | E46: =(C46-MIN(C$7:C$102))/(MAX(C$7:C$102)-MIN(C$7:C$102))*100 -> #DIV/0! | F46: =(D46-MIN(D$7:D$102))/(MAX(D$7:D$102)-MIN(D$7:D$102))*100 -> #DIV/0! | G46: =F46-E46 -> #DIV/0! | H46: =_xlfn.IFS(AND(E46<$R$13,F46<$S$9),"No amplification",G46>$S$34,"BB",G46<$S$31,"AA",AND(G46<$S$34,G46>$S$31),"AB") -> #DIV/0! | I46: =IF(AND(E46<$R$13,F46<$S$9),G46,"") -> #DIV/0! | J46: =IF(OR(AND(($S$31-$S$36)<G46,($S$31+$S$36)>G46),AND(($S$34-$S$36)<G46,($S$34+$S$36)>G46)),"CHECK","") -> #DIV/0! | U46: D04 | V46: =IF(I46="",NA(),G46) -> #DIV/0! | W46: =IF(AND(I46="",G46<$S$31),G46,NA()) -> #DIV/0! | X46: =IF(AND(I46="",G46<$S$34,G46>$S$31),G46,NA()) -> #DIV/0! | Y46: =IF(AND(I46="",G46>$S$34),G46,NA()) -> #DIV/0! | Z46: =IF(J46="CHECK",G46,NA()) -> #DIV/0! | AC46: D04 | AD46: =IF(V46<>"#N/A",$F46,"") -> #DIV/0! | AE46: =IF(W46<>"#N/A",$F46,"") -> #DIV/0! | AF46: =IF(X46<>"#N/A",$F46,"") -> #DIV/0! | AG46: =IF(Y46<>"#N/A",$F46,"") -> #DIV/0! | AH46: =IF(Z46<>"#N/A",$F46,"") -> #DIV/0!
B47: D05 | E47: =(C47-MIN(C$7:C$102))/(MAX(C$7:C$102)-MIN(C$7:C$102))*100 -> #DIV/0! | F47: =(D47-MIN(D$7:D$102))/(MAX(D$7:D$102)-MIN(D$7:D$102))*100 -> #DIV/0! | G47: =F47-E47 -> #DIV/0! | H47: =_xlfn.IFS(AND(E47<$R$13,F47<$S$9),"No amplification",G47>$S$34,"BB",G47<$S$31,"AA",AND(G47<$S$34,G47>$S$31),"AB") -> #DIV/0! | I47: =IF(AND(E47<$R$13,F47<$S$9),G47,"") -> #DIV/0! | J47: =IF(OR(AND(($S$31-$S$36)<G47,($S$31+$S$36)>G47),AND(($S$34-$S$36)<G47,($S$34+$S$36)>G47)),"CHECK","") -> #DIV/0! | U47: D05 | V47: =IF(I47="",NA(),G47) -> #DIV/0! | W47: =IF(AND(I47="",G47<$S$31),G47,NA()) -> #DIV/0! | X47: =IF(AND(I47="",G47<$S$34,G47>$S$31),G47,NA()) -> #DIV/0! | Y47: =IF(AND(I47="",G47>$S$34),G47,NA()) -> #DIV/0! | Z47: =IF(J47="CHECK",G47,NA()) -> #DIV/0! | AC47: D05 | AD47: =IF(V47<>"#N/A",$F47,"") -> #DIV/0! | AE47: =IF(W47<>"#N/A",$F47,"") -> #DIV/0! | AF47: =IF(X47<>"#N/A",$F47,"") -> #DIV/0! | AG47: =IF(Y47<>"#N/A",$F47,"") -> #DIV/0! | AH47: =IF(Z47<>"#N/A",$F47,"") -> #DIV/0!
B48: D06 | E48: =(C48-MIN(C$7:C$102))/(MAX(C$7:C$102)-MIN(C$7:C$102))*100 -> #DIV/0! | F48: =(D48-MIN(D$7:D$102))/(MAX(D$7:D$102)-MIN(D$7:D$102))*100 -> #DIV/0! | G48: =F48-E48 -> #DIV/0! | H48: =_xlfn.IFS(AND(E48<$R$13,F48<$S$9),"No amplification",G48>$S$34,"BB",G48<$S$31,"AA",AND(G48<$S$34,G48>$S$31),"AB") -> #DIV/0! | I48: =IF(AND(E48<$R$13,F48<$S$9),G48,"") -> #DIV/0! | J48: =IF(OR(AND(($S$31-$S$36)<G48,($S$31+$S$36)>G48),AND(($S$34-$S$36)<G48,($S$34+$S$36)>G48)),"CHECK","") -> #DIV/0! | U48: D06 | V48: =IF(I48="",NA(),G48) -> #DIV/0! | W48: =IF(AND(I48="",G48<$S$31),G48,NA()) -> #DIV/0! | X48: =IF(AND(I48="",G48<$S$34,G48>$S$31),G48,NA()) -> #DIV/0! | Y48: =IF(AND(I48="",G48>$S$34),G48,NA()) -> #DIV/0! | Z48: =IF(J48="CHECK",G48,NA()) -> #DIV/0! | AC48: D06 | AD48: =IF(V48<>"#N/A",$F48,"") -> #DIV/0! | AE48: =IF(W48<>"#N/A",$F48,"") -> #DIV/0! | AF48: =IF(X48<>"#N/A",$F48,"") -> #DIV/0! | AG48: =IF(Y48<>"#N/A",$F48,"") -> #DIV/0! | AH48: =IF(Z48<>"#N/A",$F48,"") -> #DIV/0!
... B102: H12 | E102: =(C102-MIN(C$7:C$102))/(MAX(C$7:C$102)-MIN(C$7:C$102))*100 -> #DIV/0! | F102: =(D102-MIN(D$7:D$102))/(MAX(D$7:D$102)-MIN(D$7:D$102))*100 -> #DIV/0! | G102: =F102-E102 -> #DIV/0! | H102: =_xlfn.IFS(AND(E102<$R$13,F102<$S$9),"No amplification",G102>$S$34,"BB",G102<$S$31,"AA",AND(G102<$S$34,G102>$S$31),"AB") -> #DIV/0! | I102: =IF(AND(E102<$R$13,F102<$S$9),G102,"") -> #DIV/0! | J102: =IF(OR(AND(($S$31-$S$36)<G102,($S$31+$S$36)>G102),AND(($S$34-$S$36)<G102,($S$34+$S$36)>G102)),"CHECK","") -> #DIV/0! | U102: H12 | V102: =IF(I102="",NA(),G102) -> #DIV/0! | W102: =IF(AND(I102="",G102<$S$31),G102,NA()) -> #DIV/0! | X102: =IF(AND(I102="",G102<$S$34,G102>$S$31),G102,NA()) -> #DIV/0! | Y102: =IF(AND(I102="",G102>$S$34),G102,NA()) -> #DIV/0! | Z102: =IF(J102="CHECK",G102,NA()) -> #DIV/0! | AC102: H12 | AD102: =IF(V102<>"#N/A",$F102,"") -> #DIV/0! | AE102: =IF(W102<>"#N/A",$F102,"") -> #DIV/0! | AF102: =IF(X102<>"#N/A",$F102,"") -> #DIV/0! | AG102: =IF(Y102<>"#N/A",$F102,"") -> #DIV/0! | AH102: =IF(Z102<>"#N/A",$F102,"") -> #DIV/0!
W103: =SUMIF(W7:W102,"<>#N/A") -> #DIV/0! | X103: =SUMIF(X7:X102,"<>#N/A") -> #DIV/0! | Y103: =SUMIF(Y7:Y102,"<>#N/A") -> #DIV/0!

Sheet F1-1 plate 2
A1: TO USE TEMPLATE: Cells you can change are in gray. Make a copy of this worksheet. Then paste your RFUs in columns C and D. You can change the dotted boundary for no amplification in the top chart in S9 and R13. You can change the lower and upper bounds for assigning heterozygotes in the bottom chart in S31 and S34. You can also change how close the values can be to the bounds before being flagged in cell S36.
A4: For F1-3 only: FAM = BB and HEX = AA, so manually change the delta calculation in column G to (column E - column F)! | V4: FOR GRAPHING: GENOTYPING | AD4: FOR GRAPHING: SCATTERPLOT
A5: F1-1 PLATE 2 | L5: BAD PLATE? | M5: =IF(OR(I7="",I8="",I9=""),"NTCs amplified",IF(OR(W103=0,X103=0,Y103=0),"Only two clusters","AOK!")) -> #DIV/0!
A6: Plate | B6: Well | C6: FAM | D6: HEX | E6: %FAM | F6: %HEX | G6: delta | H6: genotype | I6: No amplification | J6: Marginal? | U6: cell ID | V6: No amp | W6: AA | X6: AB | Y6: BB | Z6: Marginal | AC6: cell ID | AD6: No amp | AE6: AA | AF6: AB | AG6: BB | AH6: Marginal
A7: NTC | B7: A01 | E7: =(C7-MIN(C$7:C$102))/(MAX(C$7:C$102)-MIN(C$7:C$102))*100 -> #DIV/0! | F7: =(D7-MIN(D$7:D$102))/(MAX(D$7:D$102)-MIN(D$7:D$102))*100 -> #DIV/0! | G7: =F7-E7 -> #DIV/0! | H7: NTC | I7: =IF(AND(E7<$R$13,F7<$S$9),G7,"") -> #DIV/0! | J7: =IF(OR(AND(($S$31-$S$36)<G7,($S$31+$S$36)>G7),AND(($S$34-$S$36)<G7,($S$34+$S$36)>G7)),"CHECK","") -> #DIV/0! | R7: HEX bound for no amp | U7: NTC | V7: =IF(I7="",NA(),G7) -> #DIV/0! | W7: =IF(AND(I7="",G7<$S$31),G7,NA()) -> #DIV/0! | X7: =IF(AND(I7="",G7<$S$34,G7>$S$31),G7,NA()) -> #DIV/0! | Y7: =IF(AND(I7="",G7>$S$34),G7,NA()) -> #DIV/0! | Z7: =IF(J7="CHECK",G7,NA()) -> #DIV/0! | AC7: NTC | AD7: =IF(V7<>"#N/A",$F7,"") -> #DIV/0! | AE7: =IF(W7<>"#N/A",$F7,"") -> #DIV/0! | AF7: =IF(X7<>"#N/A",$F7,"") -> #DIV/0! | AG7: =IF(Y7<>"#N/A",$F7,"") -> #DIV/0! | AH7: =IF(Z7<>"#N/A",$F7,"") -> #DIV/0!
A8: NTC | B8: A02 | E8: =(C8-MIN(C$7:C$102))/(MAX(C$7:C$102)-MIN(C$7:C$102))*100 -> #DIV/0! | F8: =(D8-MIN(D$7:D$102))/(MAX(D$7:D$102)-MIN(D$7:D$102))*100 -> #DIV/0! | G8: =F8-E8 -> #DIV/0! | H8: NTC | I8: =IF(AND(E8<$R$13,F8<$S$9),G8,"") -> #DIV/0! | J8: =IF(OR(AND(($S$31-$S$36)<G8,($S$31+$S$36)>G8),AND(($S$34-$S$36)<G8,($S$34+$S$36)>G8)),"CHECK","") -> #DIV/0! | R8: x-coordinate | S8: y-coordinate | U8: NTC | V8: =IF(I8="",NA(),G8) -> #DIV/0! | W8: =IF(AND(I8="",G8<$S$31),G8,NA()) -> #DIV/0! | X8: =IF(AND(I8="",G8<$S$34,G8>$S$31),G8,NA()) -> #DIV/0! | Y8: =IF(AND(I8="",G8>$S$34),G8,NA()) -> #DIV/0! | Z8: =IF(J8="CHECK",G8,NA()) -> #DIV/0! | AC8: NTC | AD8: =IF(V8<>"#N/A",$F8,"") -> #DIV/0! | AE8: =IF(W8<>"#N/A",$F8,"") -> #DIV/0! | AF8: =IF(X8<>"#N/A",$F8,"") -> #DIV/0! | AG8: =IF(Y8<>"#N/A",$F8,"") -> #DIV/0! | AH8: =IF(Z8<>"#N/A",$F8,"") -> #DIV/0!
A9: NTC | B9: A03 | E9: =(C9-MIN(C$7:C$102))/(MAX(C$7:C$102)-MIN(C$7:C$102))*100 -> #DIV/0! | F9: =(D9-MIN(D$7:D$102))/(MAX(D$7:D$102)-MIN(D$7:D$102))*100 -> #DIV/0! | G9: =F9-E9 -> #DIV/0! | H9: NTC | I9: =IF(AND(E9<$R$13,F9<$S$9),G9,"") -> #DIV/0! | J9: =IF(OR(AND(($S$31-$S$36)<G9,($S$31+$S$36)>G9),AND(($S$34-$S$36)<G9,($S$34+$S$36)>G9)),"CHECK","") -> #DIV/0! | R9: 0 | S9: 20 | U9: NTC | V9: =IF(I9="",NA(),G9) -> #DIV/0! | W9: =IF(AND(I9="",G9<$S$31),G9,NA()) -> #DIV/0! | X9: =IF(AND(I9="",G9<$S$34,G9>$S$31),G9,NA()) -> #DIV/0! | Y9: =IF(AND(I9="",G9>$S$34),G9,NA()) -> #DIV/0! | Z9: =IF(J9="CHECK",G9,NA()) -> #DIV/0! | AC9: NTC | AD9: =IF(V9<>"#N/A",$F9,"") -> #DIV/0! | AE9: =IF(W9<>"#N/A",$F9,"") -> #DIV/0! | AF9: =IF(X9<>"#N/A",$F9,"") -> #DIV/0! | AG9: =IF(Y9<>"#N/A",$F9,"") -> #DIV/0! | AH9: =IF(Z9<>"#N/A",$F9,"") -> #DIV/0!
A10: AA | B10: A04 | E10: =(C10-MIN(C$7:C$102))/(MAX(C$7:C$102)-MIN(C$7:C$102))*100 -> #DIV/0! | F10: =(D10-MIN(D$7:D$102))/(MAX(D$7:D$102)-MIN(D$7:D$102))*100 -> #DIV/0! | G10: =F10-E10 -> #DIV/0! | H10: AA | I10: =IF(AND(E10<$R$13,F10<$S$9),G10,"") -> #DIV/0! | J10: =IF(OR(AND(($S$31-$S$36)<G10,($S$31+$S$36)>G10),AND(($S$34-$S$36)<G10,($S$34+$S$36)>G10)),"CHECK","") -> #DIV/0! | R10: =R13 -> 20 | S10: =S9 -> 20 | U10: AA | V10: =IF(I10="",NA(),G10) -> #DIV/0! | W10: =IF(AND(I10="",G10<$S$31),G10,NA()) -> #DIV/0! | X10: =IF(AND(I10="",G10<$S$34,G10>$S$31),G10,NA()) -> #DIV/0! | Y10: =IF(AND(I10="",G10>$S$34),G10,NA()) -> #DIV/0! | Z10: =IF(J10="CHECK",G10,NA()) -> #DIV/0! | AC10: AA | AD10: =IF(V10<>"#N/A",$F10,"") -> #DIV/0! | AE10: =IF(W10<>"#N/A",$F10,"") -> #DIV/0! | AF10: =IF(X10<>"#N/A",$F10,"") -> #DIV/0! | AG10: =IF(Y10<>"#N/A",$F10,"") -> #DIV/0! | AH10: =IF(Z10<>"#N/A",$F10,"") -> #DIV/0!
A11: AA | B11: A05 | E11: =(C11-MIN(C$7:C$102))/(MAX(C$7:C$102)-MIN(C$7:C$102))*100 -> #DIV/0! | F11: =(D11-MIN(D$7:D$102))/(MAX(D$7:D$102)-MIN(D$7:D$102))*100 -> #DIV/0! | G11: =F11-E11 -> #DIV/0! | H11: AA | I11: =IF(AND(E11<$R$13,F11<$S$9),G11,"") -> #DIV/0! | J11: =IF(OR(AND(($S$31-$S$36)<G11,($S$31+$S$36)>G11),AND(($S$34-$S$36)<G11,($S$34+$S$36)>G11)),"CHECK","") -> #DIV/0! | R11: FAM bound for no amp | U11: AA | V11: =IF(I11="",NA(),G11) -> #DIV/0! | W11: =IF(AND(I11="",G11<$S$31),G11,NA()) -> #DIV/0! | X11: =IF(AND(I11="",G11<$S$34,G11>$S$31),G11,NA()) -> #DIV/0! | Y11: =IF(AND(I11="",G11>$S$34),G11,NA()) -> #DIV/0! | Z11: =IF(J11="CHECK",G11,NA()) -> #DIV/0! | AC11: AA | AD11: =IF(V11<>"#N/A",$F11,"") -> #DIV/0! | AE11: =IF(W11<>"#N/A",$F11,"") -> #DIV/0! | AF11: =IF(X11<>"#N/A",$F11,"") -> #DIV/0! | AG11: =IF(Y11<>"#N/A",$F11,"") -> #DIV/0! | AH11: =IF(Z11<>"#N/A",$F11,"") -> #DIV/0!
A12: AA | B12: A06 | E12: =(C12-MIN(C$7:C$102))/(MAX(C$7:C$102)-MIN(C$7:C$102))*100 -> #DIV/0! | F12: =(D12-MIN(D$7:D$102))/(MAX(D$7:D$102)-MIN(D$7:D$102))*100 -> #DIV/0! | G12: =F12-E12 -> #DIV/0! | H12: AA | I12: =IF(AND(E12<$R$13,F12<$S$9),G12,"") -> #DIV/0! | J12: =IF(OR(AND(($S$31-$S$36)<G12,($S$31+$S$36)>G12),AND(($S$34-$S$36)<G12,($S$34+$S$36)>G12)),"CHECK","") -> #DIV/0! | R12: x-coordinate | S12: y-coordinate | U12: AA | V12: =IF(I12="",NA(),G12) -> #DIV/0! | W12: =IF(AND(I12="",G12<$S$31),G12,NA()) -> #DIV/0! | X12: =IF(AND(I12="",G12<$S$34,G12>$S$31),G12,NA()) -> #DIV/0! | Y12: =IF(AND(I12="",G12>$S$34),G12,NA()) -> #DIV/0! | Z12: =IF(J12="CHECK",G12,NA()) -> #DIV/0! | AC12: AA | AD12: =IF(V12<>"#N/A",$F12,"") -> #DIV/0! | AE12: =IF(W12<>"#N/A",$F12,"") -> #DIV/0! | AF12: =IF(X12<>"#N/A",$F12,"") -> #DIV/0! | AG12: =IF(Y12<>"#N/A",$F12,"") -> #DIV/0! | AH12: =IF(Z12<>"#N/A",$F12,"") -> #DIV/0!
A13: AB | B13: A07 | E13: =(C13-MIN(C$7:C$102))/(MAX(C$7:C$102)-MIN(C$7:C$102))*100 -> #DIV/0! | F13: =(D13-MIN(D$7:D$102))/(MAX(D$7:D$102)-MIN(D$7:D$102))*100 -> #DIV/0! | G13: =F13-E13 -> #DIV/0! | H13: AB | I13: =IF(AND(E13<$R$13,F13<$S$9),G13,"") -> #DIV/0! | J13: =IF(OR(AND(($S$31-$S$36)<G13,($S$31+$S$36)>G13),AND(($S$34-$S$36)<G13,($S$34+$S$36)>G13)),"CHECK","") -> #DIV/0! | R13: 20 | S13: 0 | U13: AB | V13: =IF(I13="",NA(),G13) -> #DIV/0! | W13: =IF(AND(I13="",G13<$S$31),G13,NA()) -> #DIV/0! | X13: =IF(AND(I13="",G13<$S$34,G13>$S$31),G13,NA()) -> #DIV/0! | Y13: =IF(AND(I13="",G13>$S$34),G13,NA()) -> #DIV/0! | Z13: =IF(J13="CHECK",G13,NA()) -> #DIV/0! | AC13: AB | AD13: =IF(V13<>"#N/A",$F13,"") -> #DIV/0! | AE13: =IF(W13<>"#N/A",$F13,"") -> #DIV/0! | AF13: =IF(X13<>"#N/A",$F13,"") -> #DIV/0! | AG13: =IF(Y13<>"#N/A",$F13,"") -> #DIV/0! | AH13: =IF(Z13<>"#N/A",$F13,"") -> #DIV/0!
A14: AB | B14: A08 | E14: =(C14-MIN(C$7:C$102))/(MAX(C$7:C$102)-MIN(C$7:C$102))*100 -> #DIV/0! | F14: =(D14-MIN(D$7:D$102))/(MAX(D$7:D$102)-MIN(D$7:D$102))*100 -> #DIV/0! | G14: =F14-E14 -> #DIV/0! | H14: AB | I14: =IF(AND(E14<$R$13,F14<$S$9),G14,"") -> #DIV/0! | J14: =IF(OR(AND(($S$31-$S$36)<G14,($S$31+$S$36)>G14),AND(($S$34-$S$36)<G14,($S$34+$S$36)>G14)),"CHECK","") -> #DIV/0! | R14: =R13 -> 20 | S14: =S9 -> 20 | U14: AB | V14: =IF(I14="",NA(),G14) -> #DIV/0! | W14: =IF(AND(I14="",G14<$S$31),G14,NA()) -> #DIV/0! | X14: =IF(AND(I14="",G14<$S$34,G14>$S$31),G14,NA()) -> #DIV/0! | Y14: =IF(AND(I14="",G14>$S$34),G14,NA()) -> #DIV/0! | Z14: =IF(J14="CHECK",G14,NA()) -> #DIV/0! | AC14: AB | AD14: =IF(V14<>"#N/A",$F14,"") -> #DIV/0! | AE14: =IF(W14<>"#N/A",$F14,"") -> #DIV/0! | AF14: =IF(X14<>"#N/A",$F14,"") -> #DIV/0! | AG14: =IF(Y14<>"#N/A",$F14,"") -> #DIV/0! | AH14: =IF(Z14<>"#N/A",$F14,"") -> #DIV/0!
A15: AB | B15: A09 | E15: =(C15-MIN(C$7:C$102))/(MAX(C$7:C$102)-MIN(C$7:C$102))*100 -> #DIV/0! | F15: =(D15-MIN(D$7:D$102))/(MAX(D$7:D$102)-MIN(D$7:D$102))*100 -> #DIV/0! | G15: =F15-E15 -> #DIV/0! | H15: AB | I15: =IF(AND(E15<$R$13,F15<$S$9),G15,"") -> #DIV/0! | J15: =IF(OR(AND(($S$31-$S$36)<G15,($S$31+$S$36)>G15),AND(($S$34-$S$36)<G15,($S$34+$S$36)>G15)),"CHECK","") -> #DIV/0! | U15: AB | V15: =IF(I15="",NA(),G15) -> #DIV/0! | W15: =IF(AND(I15="",G15<$S$31),G15,NA()) -> #DIV/0! | X15: =IF(AND(I15="",G15<$S$34,G15>$S$31),G15,NA()) -> #DIV/0! | Y15: =IF(AND(I15="",G15>$S$34),G15,NA()) -> #DIV/0! | Z15: =IF(J15="CHECK",G15,NA()) -> #DIV/0! | AC15: AB | AD15: =IF(V15<>"#N/A",$F15,"") -> #DIV/0! | AE15: =IF(W15<>"#N/A",$F15,"") -> #DIV/0! | AF15: =IF(X15<>"#N/A",$F15,"") -> #DIV/0! | AG15: =IF(Y15<>"#N/A",$F15,"") -> #DIV/0! | AH15: =IF(Z15<>"#N/A",$F15,"") -> #DIV/0!
A16: BB | B16: A10 | E16: =(C16-MIN(C$7:C$102))/(MAX(C$7:C$102)-MIN(C$7:C$102))*100 -> #DIV/0! | F16: =(D16-MIN(D$7:D$102))/(MAX(D$7:D$102)-MIN(D$7:D$102))*100 -> #DIV/0! | G16: =F16-E16 -> #DIV/0! | H16: BB | I16: =IF(AND(E16<$R$13,F16<$S$9),G16,"") -> #DIV/0! | J16: =IF(OR(AND(($S$31-$S$36)<G16,($S$31+$S$36)>G16),AND(($S$34-$S$36)<G16,($S$34+$S$36)>G16)),"CHECK","") -> #DIV/0! | U16: BB | V16: =IF(I16="",NA(),G16) -> #DIV/0! | W16: =IF(AND(I16="",G16<$S$31),G16,NA()) -> #DIV/0! | X16: =IF(AND(I16="",G16<$S$34,G16>$S$31),G16,NA()) -> #DIV/0! | Y16: =IF(AND(I16="",G16>$S$34),G16,NA()) -> #DIV/0! | Z16: =IF(J16="CHECK",G16,NA()) -> #DIV/0! | AC16: BB | AD16: =IF(V16<>"#N/A",$F16,"") -> #DIV/0! | AE16: =IF(W16<>"#N/A",$F16,"") -> #DIV/0! | AF16: =IF(X16<>"#N/A",$F16,"") -> #DIV/0! | AG16: =IF(Y16<>"#N/A",$F16,"") -> #DIV/0! | AH16: =IF(Z16<>"#N/A",$F16,"") -> #DIV/0!
A17: BB | B17: A11 | E17: =(C17-MIN(C$7:C$102))/(MAX(C$7:C$102)-MIN(C$7:C$102))*100 -> #DIV/0! | F17: =(D17-MIN(D$7:D$102))/(MAX(D$7:D$102)-MIN(D$7:D$102))*100 -> #DIV/0! | G17: =F17-E17 -> #DIV/0! | H17: BB | I17: =IF(AND(E17<$R$13,F17<$S$9),G17,"") -> #DIV/0! | J17: =IF(OR(AND(($S$31-$S$36)<G17,($S$31+$S$36)>G17),AND(($S$34-$S$36)<G17,($S$34+$S$36)>G17)),"CHECK","") -> #DIV/0! | U17: BB | V17: =IF(I17="",NA(),G17) -> #DIV/0! | W17: =IF(AND(I17="",G17<$S$31),G17,NA()) -> #DIV/0! | X17: =IF(AND(I17="",G17<$S$34,G17>$S$31),G17,NA()) -> #DIV/0! | Y17: =IF(AND(I17="",G17>$S$34),G17,NA()) -> #DIV/0! | Z17: =IF(J17="CHECK",G17,NA()) -> #DIV/0! | AC17: BB | AD17: =IF(V17<>"#N/A",$F17,"") -> #DIV/0! | AE17: =IF(W17<>"#N/A",$F17,"") -> #DIV/0! | AF17: =IF(X17<>"#N/A",$F17,"") -> #DIV/0! | AG17: =IF(Y17<>"#N/A",$F17,"") -> #DIV/0! | AH17: =IF(Z17<>"#N/A",$F17,"") -> #DIV/0!
A18: BB | B18: A12 | E18: =(C18-MIN(C$7:C$102))/(MAX(C$7:C$102)-MIN(C$7:C$102))*100 -> #DIV/0! | F18: =(D18-MIN(D$7:D$102))/(MAX(D$7:D$102)-MIN(D$7:D$102))*100 -> #DIV/0! | G18: =F18-E18 -> #DIV/0! | H18: BB | I18: =IF(AND(E18<$R$13,F18<$S$9),G18,"") -> #DIV/0! | J18: =IF(OR(AND(($S$31-$S$36)<G18,($S$31+$S$36)>G18),AND(($S$34-$S$36)<G18,($S$34+$S$36)>G18)),"CHECK","") -> #DIV/0! | U18: BB | V18: =IF(I18="",NA(),G18) -> #DIV/0! | W18: =IF(AND(I18="",G18<$S$31),G18,NA()) -> #DIV/0! | X18: =IF(AND(I18="",G18<$S$34,G18>$S$31),G18,NA()) -> #DIV/0! | Y18: =IF(AND(I18="",G18>$S$34),G18,NA()) -> #DIV/0! | Z18: =IF(J18="CHECK",G18,NA()) -> #DIV/0! | AC18: BB | AD18: =IF(V18<>"#N/A",$F18,"") -> #DIV/0! | AE18: =IF(W18<>"#N/A",$F18,"") -> #DIV/0! | AF18: =IF(X18<>"#N/A",$F18,"") -> #DIV/0! | AG18: =IF(Y18<>"#N/A",$F18,"") -> #DIV/0! | AH18: =IF(Z18<>"#N/A",$F18,"") -> #DIV/0!
B19: B01 | E19: =(C19-MIN(C$7:C$102))/(MAX(C$7:C$102)-MIN(C$7:C$102))*100 -> #DIV/0! | F19: =(D19-MIN(D$7:D$102))/(MAX(D$7:D$102)-MIN(D$7:D$102))*100 -> #DIV/0! | G19: =F19-E19 -> #DIV/0! | H19: =_xlfn.IFS(AND(E19<$R$13,F19<$S$9),"No amplification",G19>$S$34,"BB",G19<$S$31,"AA",AND(G19<$S$34,G19>$S$31),"AB") -> #DIV/0! | I19: =IF(AND(E19<$R$13,F19<$S$9),G19,"") -> #DIV/0! | J19: =IF(OR(AND(($S$31-$S$36)<G19,($S$31+$S$36)>G19),AND(($S$34-$S$36)<G19,($S$34+$S$36)>G19)),"CHECK","") -> #DIV/0! | U19: B01 | V19: =IF(I19="",NA(),G19) -> #DIV/0! | W19: =IF(AND(I19="",G19<$S$31),G19,NA()) -> #DIV/0! | X19: =IF(AND(I19="",G19<$S$34,G19>$S$31),G19,NA()) -> #DIV/0! | Y19: =IF(AND(I19="",G19>$S$34),G19,NA()) -> #DIV/0! | Z19: =IF(J19="CHECK",G19,NA()) -> #DIV/0! | AC19: B01 | AD19: =IF(V19<>"#N/A",$F19,"") -> #DIV/0! | AE19: =IF(W19<>"#N/A",$F19,"") -> #DIV/0! | AF19: =IF(X19<>"#N/A",$F19,"") -> #DIV/0! | AG19: =IF(Y19<>"#N/A",$F19,"") -> #DIV/0! | AH19: =IF(Z19<>"#N/A",$F19,"") -> #DIV/0!
B20: B02 | E20: =(C20-MIN(C$7:C$102))/(MAX(C$7:C$102)-MIN(C$7:C$102))*100 -> #DIV/0! | F20: =(D20-MIN(D$7:D$102))/(MAX(D$7:D$102)-MIN(D$7:D$102))*100 -> #DIV/0! | G20: =F20-E20 -> #DIV/0! | H20: =_xlfn.IFS(AND(E20<$R$13,F20<$S$9),"No amplification",G20>$S$34,"BB",G20<$S$31,"AA",AND(G20<$S$34,G20>$S$31),"AB") -> #DIV/0! | I20: =IF(AND(E20<$R$13,F20<$S$9),G20,"") -> #DIV/0! | J20: =IF(OR(AND(($S$31-$S$36)<G20,($S$31+$S$36)>G20),AND(($S$34-$S$36)<G20,($S$34+$S$36)>G20)),"CHECK","") -> #DIV/0! | U20: B02 | V20: =IF(I20="",NA(),G20) -> #DIV/0! | W20: =IF(AND(I20="",G20<$S$31),G20,NA()) -> #DIV/0! | X20: =IF(AND(I20="",G20<$S$34,G20>$S$31),G20,NA()) -> #DIV/0! | Y20: =IF(AND(I20="",G20>$S$34),G20,NA()) -> #DIV/0! | Z20: =IF(J20="CHECK",G20,NA()) -> #DIV/0! | AC20: B02 | AD20: =IF(V20<>"#N/A",$F20,"") -> #DIV/0! | AE20: =IF(W20<>"#N/A",$F20,"") -> #DIV/0! | AF20: =IF(X20<>"#N/A",$F20,"") -> #DIV/0! | AG20: =IF(Y20<>"#N/A",$F20,"") -> #DIV/0! | AH20: =IF(Z20<>"#N/A",$F20,"") -> #DIV/0!
B21: B03 | E21: =(C21-MIN(C$7:C$102))/(MAX(C$7:C$102)-MIN(C$7:C$102))*100 -> #DIV/0! | F21: =(D21-MIN(D$7:D$102))/(MAX(D$7:D$102)-MIN(D$7:D$102))*100 -> #DIV/0! | G21: =F21-E21 -> #DIV/0! | H21: =_xlfn.IFS(AND(E21<$R$13,F21<$S$9),"No amplification",G21>$S$34,"BB",G21<$S$31,"AA",AND(G21<$S$34,G21>$S$31),"AB") -> #DIV/0! | I21: =IF(AND(E21<$R$13,F21<$S$9),G21,"") -> #DIV/0! | J21: =IF(OR(AND(($S$31-$S$36)<G21,($S$31+$S$36)>G21),AND(($S$34-$S$36)<G21,($S$34+$S$36)>G21)),"CHECK","") -> #DIV/0! | U21: B03 | V21: =IF(I21="",NA(),G21) -> #DIV/0! | W21: =IF(AND(I21="",G21<$S$31),G21,NA()) -> #DIV/0! | X21: =IF(AND(I21="",G21<$S$34,G21>$S$31),G21,NA()) -> #DIV/0! | Y21: =IF(AND(I21="",G21>$S$34),G21,NA()) -> #DIV/0! | Z21: =IF(J21="CHECK",G21,NA()) -> #DIV/0! | AC21: B03 | AD21: =IF(V21<>"#N/A",$F21,"") -> #DIV/0! | AE21: =IF(W21<>"#N/A",$F21,"") -> #DIV/0! | AF21: =IF(X21<>"#N/A",$F21,"") -> #DIV/0! | AG21: =IF(Y21<>"#N/A",$F21,"") -> #DIV/0! | AH21: =IF(Z21<>"#N/A",$F21,"") -> #DIV/0!
B22: B04 | E22: =(C22-MIN(C$7:C$102))/(MAX(C$7:C$102)-MIN(C$7:C$102))*100 -> #DIV/0! | F22: =(D22-MIN(D$7:D$102))/(MAX(D$7:D$102)-MIN(D$7:D$102))*100 -> #DIV/0! | G22: =F22-E22 -> #DIV/0! | H22: =_xlfn.IFS(AND(E22<$R$13,F22<$S$9),"No amplification",G22>$S$34,"BB",G22<$S$31,"AA",AND(G22<$S$34,G22>$S$31),"AB") -> #DIV/0! | I22: =IF(AND(E22<$R$13,F22<$S$9),G22,"") -> #DIV/0! | J22: =IF(OR(AND(($S$31-$S$36)<G22,($S$31+$S$36)>G22),AND(($S$34-$S$36)<G22,($S$34+$S$36)>G22)),"CHECK","") -> #DIV/0! | U22: B04 | V22: =IF(I22="",NA(),G22) -> #DIV/0! | W22: =IF(AND(I22="",G22<$S$31),G22,NA()) -> #DIV/0! | X22: =IF(AND(I22="",G22<$S$34,G22>$S$31),G22,NA()) -> #DIV/0! | Y22: =IF(AND(I22="",G22>$S$34),G22,NA()) -> #DIV/0! | Z22: =IF(J22="CHECK",G22,NA()) -> #DIV/0! | AC22: B04 | AD22: =IF(V22<>"#N/A",$F22,"") -> #DIV/0! | AE22: =IF(W22<>"#N/A",$F22,"") -> #DIV/0! | AF22: =IF(X22<>"#N/A",$F22,"") -> #DIV/0! | AG22: =IF(Y22<>"#N/A",$F22,"") -> #DIV/0! | AH22: =IF(Z22<>"#N/A",$F22,"") -> #DIV/0!
B23: B05 | E23: =(C23-MIN(C$7:C$102))/(MAX(C$7:C$102)-MIN(C$7:C$102))*100 -> #DIV/0! | F23: =(D23-MIN(D$7:D$102))/(MAX(D$7:D$102)-MIN(D$7:D$102))*100 -> #DIV/0! | G23: =F23-E23 -> #DIV/0! | H23: =_xlfn.IFS(AND(E23<$R$13,F23<$S$9),"No amplification",G23>$S$34,"BB",G23<$S$31,"AA",AND(G23<$S$34,G23>$S$31),"AB") -> #DIV/0! | I23: =IF(AND(E23<$R$13,F23<$S$9),G23,"") -> #DIV/0! | J23: =IF(OR(AND(($S$31-$S$36)<G23,($S$31+$S$36)>G23),AND(($S$34-$S$36)<G23,($S$34+$S$36)>G23)),"CHECK","") -> #DIV/0! | U23: B05 | V23: =IF(I23="",NA(),G23) -> #DIV/0! | W23: =IF(AND(I23="",G23<$S$31),G23,NA()) -> #DIV/0! | X23: =IF(AND(I23="",G23<$S$34,G23>$S$31),G23,NA()) -> #DIV/0! | Y23: =IF(AND(I23="",G23>$S$34),G23,NA()) -> #DIV/0! | Z23: =IF(J23="CHECK",G23,NA()) -> #DIV/0! | AC23: B05 | AD23: =IF(V23<>"#N/A",$F23,"") -> #DIV/0! | AE23: =IF(W23<>"#N/A",$F23,"") -> #DIV/0! | AF23: =IF(X23<>"#N/A",$F23,"") -> #DIV/0! | AG23: =IF(Y23<>"#N/A",$F23,"") -> #DIV/0! | AH23: =IF(Z23<>"#N/A",$F23,"") -> #DIV/0!
B24: B06 | E24: =(C24-MIN(C$7:C$102))/(MAX(C$7:C$102)-MIN(C$7:C$102))*100 -> #DIV/0! | F24: =(D24-MIN(D$7:D$102))/(MAX(D$7:D$102)-MIN(D$7:D$102))*100 -> #DIV/0! | G24: =F24-E24 -> #DIV/0! | H24: =_xlfn.IFS(AND(E24<$R$13,F24<$S$9),"No amplification",G24>$S$34,"BB",G24<$S$31,"AA",AND(G24<$S$34,G24>$S$31),"AB") -> #DIV/0! | I24: =IF(AND(E24<$R$13,F24<$S$9),G24,"") -> #DIV/0! | J24: =IF(OR(AND(($S$31-$S$36)<G24,($S$31+$S$36)>G24),AND(($S$34-$S$36)<G24,($S$34+$S$36)>G24)),"CHECK","") -> #DIV/0! | U24: B06 | V24: =IF(I24="",NA(),G24) -> #DIV/0! | W24: =IF(AND(I24="",G24<$S$31),G24,NA()) -> #DIV/0! | X24: =IF(AND(I24="",G24<$S$34,G24>$S$31),G24,NA()) -> #DIV/0! | Y24: =IF(AND(I24="",G24>$S$34),G24,NA()) -> #DIV/0! | Z24: =IF(J24="CHECK",G24,NA()) -> #DIV/0! | AC24: B06 | AD24: =IF(V24<>"#N/A",$F24,"") -> #DIV/0! | AE24: =IF(W24<>"#N/A",$F24,"") -> #DIV/0! | AF24: =IF(X24<>"#N/A",$F24,"") -> #DIV/0! | AG24: =IF(Y24<>"#N/A",$F24,"") -> #DIV/0! | AH24: =IF(Z24<>"#N/A",$F24,"") -> #DIV/0!
B25: B07 | E25: =(C25-MIN(C$7:C$102))/(MAX(C$7:C$102)-MIN(C$7:C$102))*100 -> #DIV/0! | F25: =(D25-MIN(D$7:D$102))/(MAX(D$7:D$102)-MIN(D$7:D$102))*100 -> #DIV/0! | G25: =F25-E25 -> #DIV/0! | H25: =_xlfn.IFS(AND(E25<$R$13,F25<$S$9),"No amplification",G25>$S$34,"BB",G25<$S$31,"AA",AND(G25<$S$34,G25>$S$31),"AB") -> #DIV/0! | I25: =IF(AND(E25<$R$13,F25<$S$9),G25,"") -> #DIV/0! | J25: =IF(OR(AND(($S$31-$S$36)<G25,($S$31+$S$36)>G25),AND(($S$34-$S$36)<G25,($S$34+$S$36)>G25)),"CHECK","") -> #DIV/0! | U25: B07 | V25: =IF(I25="",NA(),G25) -> #DIV/0! | W25: =IF(AND(I25="",G25<$S$31),G25,NA()) -> #DIV/0! | X25: =IF(AND(I25="",G25<$S$34,G25>$S$31),G25,NA()) -> #DIV/0! | Y25: =IF(AND(I25="",G25>$S$34),G25,NA()) -> #DIV/0! | Z25: =IF(J25="CHECK",G25,NA()) -> #DIV/0! | AC25: B07 | AD25: =IF(V25<>"#N/A",$F25,"") -> #DIV/0! | AE25: =IF(W25<>"#N/A",$F25,"") -> #DIV/0! | AF25: =IF(X25<>"#N/A",$F25,"") -> #DIV/0! | AG25: =IF(Y25<>"#N/A",$F25,"") -> #DIV/0! | AH25: =IF(Z25<>"#N/A",$F25,"") -> #DIV/0!
B26: B08 | E26: =(C26-MIN(C$7:C$102))/(MAX(C$7:C$102)-MIN(C$7:C$102))*100 -> #DIV/0! | F26: =(D26-MIN(D$7:D$102))/(MAX(D$7:D$102)-MIN(D$7:D$102))*100 -> #DIV/0! | G26: =F26-E26 -> #DIV/0! | H26: =_xlfn.IFS(AND(E26<$R$13,F26<$S$9),"No amplification",G26>$S$34,"BB",G26<$S$31,"AA",AND(G26<$S$34,G26>$S$31),"AB") -> #DIV/0! | I26: =IF(AND(E26<$R$13,F26<$S$9),G26,"") -> #DIV/0! | J26: =IF(OR(AND(($S$31-$S$36)<G26,($S$31+$S$36)>G26),AND(($S$34-$S$36)<G26,($S$34+$S$36)>G26)),"CHECK","") -> #DIV/0! | U26: B08 | V26: =IF(I26="",NA(),G26) -> #DIV/0! | W26: =IF(AND(I26="",G26<$S$31),G26,NA()) -> #DIV/0! | X26: =IF(AND(I26="",G26<$S$34,G26>$S$31),G26,NA()) -> #DIV/0! | Y26: =IF(AND(I26="",G26>$S$34),G26,NA()) -> #DIV/0! | Z26: =IF(J26="CHECK",G26,NA()) -> #DIV/0! | AC26: B08 | AD26: =IF(V26<>"#N/A",$F26,"") -> #DIV/0! | AE26: =IF(W26<>"#N/A",$F26,"") -> #DIV/0! | AF26: =IF(X26<>"#N/A",$F26,"") -> #DIV/0! | AG26: =IF(Y26<>"#N/A",$F26,"") -> #DIV/0! | AH26: =IF(Z26<>"#N/A",$F26,"") -> #DIV/0!
B27: B09 | E27: =(C27-MIN(C$7:C$102))/(MAX(C$7:C$102)-MIN(C$7:C$102))*100 -> #DIV/0! | F27: =(D27-MIN(D$7:D$102))/(MAX(D$7:D$102)-MIN(D$7:D$102))*100 -> #DIV/0! | G27: =F27-E27 -> #DIV/0! | H27: =_xlfn.IFS(AND(E27<$R$13,F27<$S$9),"No amplification",G27>$S$34,"BB",G27<$S$31,"AA",AND(G27<$S$34,G27>$S$31),"AB") -> #DIV/0! | I27: =IF(AND(E27<$R$13,F27<$S$9),G27,"") -> #DIV/0! | J27: =IF(OR(AND(($S$31-$S$36)<G27,($S$31+$S$36)>G27),AND(($S$34-$S$36)<G27,($S$34+$S$36)>G27)),"CHECK","") -> #DIV/0! | U27: B09 | V27: =IF(I27="",NA(),G27) -> #DIV/0! | W27: =IF(AND(I27="",G27<$S$31),G27,NA()) -> #DIV/0! | X27: =IF(AND(I27="",G27<$S$34,G27>$S$31),G27,NA()) -> #DIV/0! | Y27: =IF(AND(I27="",G27>$S$34),G27,NA()) -> #DIV/0! | Z27: =IF(J27="CHECK",G27,NA()) -> #DIV/0! | AC27: B09 | AD27: =IF(V27<>"#N/A",$F27,"") -> #DIV/0! | AE27: =IF(W27<>"#N/A",$F27,"") -> #DIV/0! | AF27: =IF(X27<>"#N/A",$F27,"") -> #DIV/0! | AG27: =IF(Y27<>"#N/A",$F27,"") -> #DIV/0! | AH27: =IF(Z27<>"#N/A",$F27,"") -> #DIV/0!
B28: B10 | E28: =(C28-MIN(C$7:C$102))/(MAX(C$7:C$102)-MIN(C$7:C$102))*100 -> #DIV/0! | F28: =(D28-MIN(D$7:D$102))/(MAX(D$7:D$102)-MIN(D$7:D$102))*100 -> #DIV/0! | G28: =F28-E28 -> #DIV/0! | H28: =_xlfn.IFS(AND(E28<$R$13,F28<$S$9),"No amplification",G28>$S$34,"BB",G28<$S$31,"AA",AND(G28<$S$34,G28>$S$31),"AB") -> #DIV/0! | I28: =IF(AND(E28<$R$13,F28<$S$9),G28,"") -> #DIV/0! | J28: =IF(OR(AND(($S$31-$S$36)<G28,($S$31+$S$36)>G28),AND(($S$34-$S$36)<G28,($S$34+$S$36)>G28)),"CHECK","") -> #DIV/0! | U28: B10 | V28: =IF(I28="",NA(),G28) -> #DIV/0! | W28: =IF(AND(I28="",G28<$S$31),G28,NA()) -> #DIV/0! | X28: =IF(AND(I28="",G28<$S$34,G28>$S$31),G28,NA()) -> #DIV/0! | Y28: =IF(AND(I28="",G28>$S$34),G28,NA()) -> #DIV/0! | Z28: =IF(J28="CHECK",G28,NA()) -> #DIV/0! | AC28: B10 | AD28: =IF(V28<>"#N/A",$F28,"") -> #DIV/0! | AE28: =IF(W28<>"#N/A",$F28,"") -> #DIV/0! | AF28: =IF(X28<>"#N/A",$F28,"") -> #DIV/0! | AG28: =IF(Y28<>"#N/A",$F28,"") -> #DIV/0! | AH28: =IF(Z28<>"#N/A",$F28,"") -> #DIV/0!
B29: B11 | E29: =(C29-MIN(C$7:C$102))/(MAX(C$7:C$102)-MIN(C$7:C$102))*100 -> #DIV/0! | F29: =(D29-MIN(D$7:D$102))/(MAX(D$7:D$102)-MIN(D$7:D$102))*100 -> #DIV/0! | G29: =F29-E29 -> #DIV/0! | H29: =_xlfn.IFS(AND(E29<$R$13,F29<$S$9),"No amplification",G29>$S$34,"BB",G29<$S$31,"AA",AND(G29<$S$34,G29>$S$31),"AB") -> #DIV/0! | I29: =IF(AND(E29<$R$13,F29<$S$9),G29,"") -> #DIV/0! | J29: =IF(OR(AND(($S$31-$S$36)<G29,($S$31+$S$36)>G29),AND(($S$34-$S$36)<G29,($S$34+$S$36)>G29)),"CHECK","") -> #DIV/0! | U29: B11 | V29: =IF(I29="",NA(),G29) -> #DIV/0! | W29: =IF(AND(I29="",G29<$S$31),G29,NA()) -> #DIV/0! | X29: =IF(AND(I29="",G29<$S$34,G29>$S$31),G29,NA()) -> #DIV/0! | Y29: =IF(AND(I29="",G29>$S$34),G29,NA()) -> #DIV/0! | Z29: =IF(J29="CHECK",G29,NA()) -> #DIV/0! | AC29: B11 | AD29: =IF(V29<>"#N/A",$F29,"") -> #DIV/0! | AE29: =IF(W29<>"#N/A",$F29,"") -> #DIV/0! | AF29: =IF(X29<>"#N/A",$F29,"") -> #DIV/0! | AG29: =IF(Y29<>"#N/A",$F29,"") -> #DIV/0! | AH29: =IF(Z29<>"#N/A",$F29,"") -> #DIV/0!
B30: B12 | E30: =(C30-MIN(C$7:C$102))/(MAX(C$7:C$102)-MIN(C$7:C$102))*100 -> #DIV/0! | F30: =(D30-MIN(D$7:D$102))/(MAX(D$7:D$102)-MIN(D$7:D$102))*100 -> #DIV/0! | G30: =F30-E30 -> #DIV/0! | H30: =_xlfn.IFS(AND(E30<$R$13,F30<$S$9),"No amplification",G30>$S$34,"BB",G30<$S$31,"AA",AND(G30<$S$34,G30>$S$31),"AB") -> #DIV/0! | I30: =IF(AND(E30<$R$13,F30<$S$9),G30,"") -> #DIV/0! | J30: =IF(OR(AND(($S$31-$S$36)<G30,($S$31+$S$36)>G30),AND(($S$34-$S$36)<G30,($S$34+$S$36)>G30)),"CHECK","") -> #DIV/0! | R30: lower bound for heterozygotes | U30: B12 | V30: =IF(I30="",NA(),G30) -> #DIV/0! | W30: =IF(AND(I30="",G30<$S$31),G30,NA()) -> #DIV/0! | X30: =IF(AND(I30="",G30<$S$34,G30>$S$31),G30,NA()) -> #DIV/0! | Y30: =IF(AND(I30="",G30>$S$34),G30,NA()) -> #DIV/0! | Z30: =IF(J30="CHECK",G30,NA()) -> #DIV/0! | AC30: B12 | AD30: =IF(V30<>"#N/A",$F30,"") -> #DIV/0! | AE30: =IF(W30<>"#N/A",$F30,"") -> #DIV/0! | AF30: =IF(X30<>"#N/A",$F30,"") -> #DIV/0! | AG30: =IF(Y30<>"#N/A",$F30,"") -> #DIV/0! | AH30: =IF(Z30<>"#N/A",$F30,"") -> #DIV/0!
B31: C01 | E31: =(C31-MIN(C$7:C$102))/(MAX(C$7:C$102)-MIN(C$7:C$102))*100 -> #DIV/0! | F31: =(D31-MIN(D$7:D$102))/(MAX(D$7:D$102)-MIN(D$7:D$102))*100 -> #DIV/0! | G31: =F31-E31 -> #DIV/0! | H31: =_xlfn.IFS(AND(E31<$R$13,F31<$S$9),"No amplification",G31>$S$34,"BB",G31<$S$31,"AA",AND(G31<$S$34,G31>$S$31),"AB") -> #DIV/0! | I31: =IF(AND(E31<$R$13,F31<$S$9),G31,"") -> #DIV/0! | J31: =IF(OR(AND(($S$31-$S$36)<G31,($S$31+$S$36)>G31),AND(($S$34-$S$36)<G31,($S$34+$S$36)>G31)),"CHECK","") -> #DIV/0! | R31: 0 | S31: -20 | U31: C01 | V31: =IF(I31="",NA(),G31) -> #DIV/0! | W31: =IF(AND(I31="",G31<$S$31),G31,NA()) -> #DIV/0! | X31: =IF(AND(I31="",G31<$S$34,G31>$S$31),G31,NA()) -> #DIV/0! | Y31: =IF(AND(I31="",G31>$S$34),G31,NA()) -> #DIV/0! | Z31: =IF(J31="CHECK",G31,NA()) -> #DIV/0! | AC31: C01 | AD31: =IF(V31<>"#N/A",$F31,"") -> #DIV/0! | AE31: =IF(W31<>"#N/A",$F31,"") -> #DIV/0! | AF31: =IF(X31<>"#N/A",$F31,"") -> #DIV/0! | AG31: =IF(Y31<>"#N/A",$F31,"") -> #DIV/0! | AH31: =IF(Z31<>"#N/A",$F31,"") -> #DIV/0!
B32: C02 | E32: =(C32-MIN(C$7:C$102))/(MAX(C$7:C$102)-MIN(C$7:C$102))*100 -> #DIV/0! | F32: =(D32-MIN(D$7:D$102))/(MAX(D$7:D$102)-MIN(D$7:D$102))*100 -> #DIV/0! | G32: =F32-E32 -> #DIV/0! | H32: =_xlfn.IFS(AND(E32<$R$13,F32<$S$9),"No amplification",G32>$S$34,"BB",G32<$S$31,"AA",AND(G32<$S$34,G32>$S$31),"AB") -> #DIV/0! | I32: =IF(AND(E32<$R$13,F32<$S$9),G32,"") -> #DIV/0! | J32: =IF(OR(AND(($S$31-$S$36)<G32,($S$31+$S$36)>G32),AND(($S$34-$S$36)<G32,($S$34+$S$36)>G32)),"CHECK","") -> #DIV/0! | R32: 100 | S32: =S31 -> -20 | U32: C02 | V32: =IF(I32="",NA(),G32) -> #DIV/0! | W32: =IF(AND(I32="",G32<$S$31),G32,NA()) -> #DIV/0! | X32: =IF(AND(I32="",G32<$S$34,G32>$S$31),G32,NA()) -> #DIV/0! | Y32: =IF(AND(I32="",G32>$S$34),G32,NA()) -> #DIV/0! | Z32: =IF(J32="CHECK",G32,NA()) -> #DIV/0! | AC32: C02 | AD32: =IF(V32<>"#N/A",$F32,"") -> #DIV/0! | AE32: =IF(W32<>"#N/A",$F32,"") -> #DIV/0! | AF32: =IF(X32<>"#N/A",$F32,"") -> #DIV/0! | AG32: =IF(Y32<>"#N/A",$F32,"") -> #DIV/0! | AH32: =IF(Z32<>"#N/A",$F32,"") -> #DIV/0!
B33: C03 | E33: =(C33-MIN(C$7:C$102))/(MAX(C$7:C$102)-MIN(C$7:C$102))*100 -> #DIV/0! | F33: =(D33-MIN(D$7:D$102))/(MAX(D$7:D$102)-MIN(D$7:D$102))*100 -> #DIV/0! | G33: =F33-E33 -> #DIV/0! | H33: =_xlfn.IFS(AND(E33<$R$13,F33<$S$9),"No amplification",G33>$S$34,"BB",G33<$S$31,"AA",AND(G33<$S$34,G33>$S$31),"AB") -> #DIV/0! | I33: =IF(AND(E33<$R$13,F33<$S$9),G33,"") -> #DIV/0! | J33: =IF(OR(AND(($S$31-$S$36)<G33,($S$31+$S$36)>G33),AND(($S$34-$S$36)<G33,($S$34+$S$36)>G33)),"CHECK","") -> #DIV/0! | R33: upper bound for heterozygotes | U33: C03 | V33: =IF(I33="",NA(),G33) -> #DIV/0! | W33: =IF(AND(I33="",G33<$S$31),G33,NA()) -> #DIV/0! | X33: =IF(AND(I33="",G33<$S$34,G33>$S$31),G33,NA()) -> #DIV/0! | Y33: =IF(AND(I33="",G33>$S$34),G33,NA()) -> #DIV/0! | Z33: =IF(J33="CHECK",G33,NA()) -> #DIV/0! | AC33: C03 | AD33: =IF(V33<>"#N/A",$F33,"") -> #DIV/0! | AE33: =IF(W33<>"#N/A",$F33,"") -> #DIV/0! | AF33: =IF(X33<>"#N/A",$F33,"") -> #DIV/0! | AG33: =IF(Y33<>"#N/A",$F33,"") -> #DIV/0! | AH33: =IF(Z33<>"#N/A",$F33,"") -> #DIV/0!
B34: C04 | E34: =(C34-MIN(C$7:C$102))/(MAX(C$7:C$102)-MIN(C$7:C$102))*100 -> #DIV/0! | F34: =(D34-MIN(D$7:D$102))/(MAX(D$7:D$102)-MIN(D$7:D$102))*100 -> #DIV/0! | G34: =F34-E34 -> #DIV/0! | H34: =_xlfn.IFS(AND(E34<$R$13,F34<$S$9),"No amplification",G34>$S$34,"BB",G34<$S$31,"AA",AND(G34<$S$34,G34>$S$31),"AB") -> #DIV/0! | I34: =IF(AND(E34<$R$13,F34<$S$9),G34,"") -> #DIV/0! | J34: =IF(OR(AND(($S$31-$S$36)<G34,($S$31+$S$36)>G34),AND(($S$34-$S$36)<G34,($S$34+$S$36)>G34)),"CHECK","") -> #DIV/0! | R34: 0 | S34: 30 | U34: C04 | V34: =IF(I34="",NA(),G34) -> #DIV/0! | W34: =IF(AND(I34="",G34<$S$31),G34,NA()) -> #DIV/0! | X34: =IF(AND(I34="",G34<$S$34,G34>$S$31),G34,NA()) -> #DIV/0! | Y34: =IF(AND(I34="",G34>$S$34),G34,NA()) -> #DIV/0! | Z34: =IF(J34="CHECK",G34,NA()) -> #DIV/0! | AC34: C04 | AD34: =IF(V34<>"#N/A",$F34,"") -> #DIV/0! | AE34: =IF(W34<>"#N/A",$F34,"") -> #DIV/0! | AF34: =IF(X34<>"#N/A",$F34,"") -> #DIV/0! | AG34: =IF(Y34<>"#N/A",$F34,"") -> #DIV/0! | AH34: =IF(Z34<>"#N/A",$F34,"") -> #DIV/0!
B35: C05 | E35: =(C35-MIN(C$7:C$102))/(MAX(C$7:C$102)-MIN(C$7:C$102))*100 -> #DIV/0! | F35: =(D35-MIN(D$7:D$102))/(MAX(D$7:D$102)-MIN(D$7:D$102))*100 -> #DIV/0! | G35: =F35-E35 -> #DIV/0! | H35: =_xlfn.IFS(AND(E35<$R$13,F35<$S$9),"No amplification",G35>$S$34,"BB",G35<$S$31,"AA",AND(G35<$S$34,G35>$S$31),"AB") -> #DIV/0! | I35: =IF(AND(E35<$R$13,F35<$S$9),G35,"") -> #DIV/0! | J35: =IF(OR(AND(($S$31-$S$36)<G35,($S$31+$S$36)>G35),AND(($S$34-$S$36)<G35,($S$34+$S$36)>G35)),"CHECK","") -> #DIV/0! | R35: 100 | S35: =S34 -> 30 | U35: C05 | V35: =IF(I35="",NA(),G35) -> #DIV/0! | W35: =IF(AND(I35="",G35<$S$31),G35,NA()) -> #DIV/0! | X35: =IF(AND(I35="",G35<$S$34,G35>$S$31),G35,NA()) -> #DIV/0! | Y35: =IF(AND(I35="",G35>$S$34),G35,NA()) -> #DIV/0! | Z35: =IF(J35="CHECK",G35,NA()) -> #DIV/0! | AC35: C05 | AD35: =IF(V35<>"#N/A",$F35,"") -> #DIV/0! | AE35: =IF(W35<>"#N/A",$F35,"") -> #DIV/0! | AF35: =IF(X35<>"#N/A",$F35,"") -> #DIV/0! | AG35: =IF(Y35<>"#N/A",$F35,"") -> #DIV/0! | AH35: =IF(Z35<>"#N/A",$F35,"") -> #DIV/0!
B36: C06 | E36: =(C36-MIN(C$7:C$102))/(MAX(C$7:C$102)-MIN(C$7:C$102))*100 -> #DIV/0! | F36: =(D36-MIN(D$7:D$102))/(MAX(D$7:D$102)-MIN(D$7:D$102))*100 -> #DIV/0! | G36: =F36-E36 -> #DIV/0! | H36: =_xlfn.IFS(AND(E36<$R$13,F36<$S$9),"No amplification",G36>$S$34,"BB",G36<$S$31,"AA",AND(G36<$S$34,G36>$S$31),"AB") -> #DIV/0! | I36: =IF(AND(E36<$R$13,F36<$S$9),G36,"") -> #DIV/0! | J36: =IF(OR(AND(($S$31-$S$36)<G36,($S$31+$S$36)>G36),AND(($S$34-$S$36)<G36,($S$34+$S$36)>G36)),"CHECK","") -> #DIV/0! | R36: Margin | S36: 2 | U36: C06 | V36: =IF(I36="",NA(),G36) -> #DIV/0! | W36: =IF(AND(I36="",G36<$S$31),G36,NA()) -> #DIV/0! | X36: =IF(AND(I36="",G36<$S$34,G36>$S$31),G36,NA()) -> #DIV/0! | Y36: =IF(AND(I36="",G36>$S$34),G36,NA()) -> #DIV/0! | Z36: =IF(J36="CHECK",G36,NA()) -> #DIV/0! | AC36: C06 | AD36: =IF(V36<>"#N/A",$F36,"") -> #DIV/0! | AE36: =IF(W36<>"#N/A",$F36,"") -> #DIV/0! | AF36: =IF(X36<>"#N/A",$F36,"") -> #DIV/0! | AG36: =IF(Y36<>"#N/A",$F36,"") -> #DIV/0! | AH36: =IF(Z36<>"#N/A",$F36,"") -> #DIV/0!
B37: C07 | E37: =(C37-MIN(C$7:C$102))/(MAX(C$7:C$102)-MIN(C$7:C$102))*100 -> #DIV/0! | F37: =(D37-MIN(D$7:D$102))/(MAX(D$7:D$102)-MIN(D$7:D$102))*100 -> #DIV/0! | G37: =F37-E37 -> #DIV/0! | H37: =_xlfn.IFS(AND(E37<$R$13,F37<$S$9),"No amplification",G37>$S$34,"BB",G37<$S$31,"AA",AND(G37<$S$34,G37>$S$31),"AB") -> #DIV/0! | I37: =IF(AND(E37<$R$13,F37<$S$9),G37,"") -> #DIV/0! | J37: =IF(OR(AND(($S$31-$S$36)<G37,($S$31+$S$36)>G37),AND(($S$34-$S$36)<G37,($S$34+$S$36)>G37)),"CHECK","") -> #DIV/0! | U37: C07 | V37: =IF(I37="",NA(),G37) -> #DIV/0! | W37: =IF(AND(I37="",G37<$S$31),G37,NA()) -> #DIV/0! | X37: =IF(AND(I37="",G37<$S$34,G37>$S$31),G37,NA()) -> #DIV/0! | Y37: =IF(AND(I37="",G37>$S$34),G37,NA()) -> #DIV/0! | Z37: =IF(J37="CHECK",G37,NA()) -> #DIV/0! | AC37: C07 | AD37: =IF(V37<>"#N/A",$F37,"") -> #DIV/0! | AE37: =IF(W37<>"#N/A",$F37,"") -> #DIV/0! | AF37: =IF(X37<>"#N/A",$F37,"") -> #DIV/0! | AG37: =IF(Y37<>"#N/A",$F37,"") -> #DIV/0! | AH37: =IF(Z37<>"#N/A",$F37,"") -> #DIV/0!
B38: C08 | E38: =(C38-MIN(C$7:C$102))/(MAX(C$7:C$102)-MIN(C$7:C$102))*100 -> #DIV/0! | F38: =(D38-MIN(D$7:D$102))/(MAX(D$7:D$102)-MIN(D$7:D$102))*100 -> #DIV/0! | G38: =F38-E38 -> #DIV/0! | H38: =_xlfn.IFS(AND(E38<$R$13,F38<$S$9),"No amplification",G38>$S$34,"BB",G38<$S$31,"AA",AND(G38<$S$34,G38>$S$31),"AB") -> #DIV/0! | I38: =IF(AND(E38<$R$13,F38<$S$9),G38,"") -> #DIV/0! | J38: =IF(OR(AND(($S$31-$S$36)<G38,($S$31+$S$36)>G38),AND(($S$34-$S$36)<G38,($S$34+$S$36)>G38)),"CHECK","") -> #DIV/0! | U38: C08 | V38: =IF(I38="",NA(),G38) -> #DIV/0! | W38: =IF(AND(I38="",G38<$S$31),G38,NA()) -> #DIV/0! | X38: =IF(AND(I38="",G38<$S$34,G38>$S$31),G38,NA()) -> #DIV/0! | Y38: =IF(AND(I38="",G38>$S$34),G38,NA()) -> #DIV/0! | Z38: =IF(J38="CHECK",G38,NA()) -> #DIV/0! | AC38: C08 | AD38: =IF(V38<>"#N/A",$F38,"") -> #DIV/0! | AE38: =IF(W38<>"#N/A",$F38,"") -> #DIV/0! | AF38: =IF(X38<>"#N/A",$F38,"") -> #DIV/0! | AG38: =IF(Y38<>"#N/A",$F38,"") -> #DIV/0! | AH38: =IF(Z38<>"#N/A",$F38,"") -> #DIV/0!
B39: C09 | E39: =(C39-MIN(C$7:C$102))/(MAX(C$7:C$102)-MIN(C$7:C$102))*100 -> #DIV/0! | F39: =(D39-MIN(D$7:D$102))/(MAX(D$7:D$102)-MIN(D$7:D$102))*100 -> #DIV/0! | G39: =F39-E39 -> #DIV/0! | H39: =_xlfn.IFS(AND(E39<$R$13,F39<$S$9),"No amplification",G39>$S$34,"BB",G39<$S$31,"AA",AND(G39<$S$34,G39>$S$31),"AB") -> #DIV/0! | I39: =IF(AND(E39<$R$13,F39<$S$9),G39,"") -> #DIV/0! | J39: =IF(OR(AND(($S$31-$S$36)<G39,($S$31+$S$36)>G39),AND(($S$34-$S$36)<G39,($S$34+$S$36)>G39)),"CHECK","") -> #DIV/0! | U39: C09 | V39: =IF(I39="",NA(),G39) -> #DIV/0! | W39: =IF(AND(I39="",G39<$S$31),G39,NA()) -> #DIV/0! | X39: =IF(AND(I39="",G39<$S$34,G39>$S$31),G39,NA()) -> #DIV/0! | Y39: =IF(AND(I39="",G39>$S$34),G39,NA()) -> #DIV/0! | Z39: =IF(J39="CHECK",G39,NA()) -> #DIV/0! | AC39: C09 | AD39: =IF(V39<>"#N/A",$F39,"") -> #DIV/0! | AE39: =IF(W39<>"#N/A",$F39,"") -> #DIV/0! | AF39: =IF(X39<>"#N/A",$F39,"") -> #DIV/0! | AG39: =IF(Y39<>"#N/A",$F39,"") -> #DIV/0! | AH39: =IF(Z39<>"#N/A",$F39,"") -> #DIV/0!
B40: C10 | E40: =(C40-MIN(C$7:C$102))/(MAX(C$7:C$102)-MIN(C$7:C$102))*100 -> #DIV/0! | F40: =(D40-MIN(D$7:D$102))/(MAX(D$7:D$102)-MIN(D$7:D$102))*100 -> #DIV/0! | G40: =F40-E40 -> #DIV/0! | H40: =_xlfn.IFS(AND(E40<$R$13,F40<$S$9),"No amplification",G40>$S$34,"BB",G40<$S$31,"AA",AND(G40<$S$34,G40>$S$31),"AB") -> #DIV/0! | I40: =IF(AND(E40<$R$13,F40<$S$9),G40,"") -> #DIV/0! | J40: =IF(OR(AND(($S$31-$S$36)<G40,($S$31+$S$36)>G40),AND(($S$34-$S$36)<G40,($S$34+$S$36)>G40)),"CHECK","") -> #DIV/0! | U40: C10 | V40: =IF(I40="",NA(),G40) -> #DIV/0! | W40: =IF(AND(I40="",G40<$S$31),G40,NA()) -> #DIV/0! | X40: =IF(AND(I40="",G40<$S$34,G40>$S$31),G40,NA()) -> #DIV/0! | Y40: =IF(AND(I40="",G40>$S$34),G40,NA()) -> #DIV/0! | Z40: =IF(J40="CHECK",G40,NA()) -> #DIV/0! | AC40: C10 | AD40: =IF(V40<>"#N/A",$F40,"") -> #DIV/0! | AE40: =IF(W40<>"#N/A",$F40,"") -> #DIV/0! | AF40: =IF(X40<>"#N/A",$F40,"") -> #DIV/0! | AG40: =IF(Y40<>"#N/A",$F40,"") -> #DIV/0! | AH40: =IF(Z40<>"#N/A",$F40,"") -> #DIV/0!
B41: C11 | E41: =(C41-MIN(C$7:C$102))/(MAX(C$7:C$102)-MIN(C$7:C$102))*100 -> #DIV/0! | F41: =(D41-MIN(D$7:D$102))/(MAX(D$7:D$102)-MIN(D$7:D$102))*100 -> #DIV/0! | G41: =F41-E41 -> #DIV/0! | H41: =_xlfn.IFS(AND(E41<$R$13,F41<$S$9),"No amplification",G41>$S$34,"BB",G41<$S$31,"AA",AND(G41<$S$34,G41>$S$31),"AB") -> #DIV/0! | I41: =IF(AND(E41<$R$13,F41<$S$9),G41,"") -> #DIV/0! | J41: =IF(OR(AND(($S$31-$S$36)<G41,($S$31+$S$36)>G41),AND(($S$34-$S$36)<G41,($S$34+$S$36)>G41)),"CHECK","") -> #DIV/0! | U41: C11 | V41: =IF(I41="",NA(),G41) -> #DIV/0! | W41: =IF(AND(I41="",G41<$S$31),G41,NA()) -> #DIV/0! | X41: =IF(AND(I41="",G41<$S$34,G41>$S$31),G41,NA()) -> #DIV/0! | Y41: =IF(AND(I41="",G41>$S$34),G41,NA()) -> #DIV/0! | Z41: =IF(J41="CHECK",G41,NA()) -> #DIV/0! | AC41: C11 | AD41: =IF(V41<>"#N/A",$F41,"") -> #DIV/0! | AE41: =IF(W41<>"#N/A",$F41,"") -> #DIV/0! | AF41: =IF(X41<>"#N/A",$F41,"") -> #DIV/0! | AG41: =IF(Y41<>"#N/A",$F41,"") -> #DIV/0! | AH41: =IF(Z41<>"#N/A",$F41,"") -> #DIV/0!
B42: C12 | E42: =(C42-MIN(C$7:C$102))/(MAX(C$7:C$102)-MIN(C$7:C$102))*100 -> #DIV/0! | F42: =(D42-MIN(D$7:D$102))/(MAX(D$7:D$102)-MIN(D$7:D$102))*100 -> #DIV/0! | G42: =F42-E42 -> #DIV/0! | H42: =_xlfn.IFS(AND(E42<$R$13,F42<$S$9),"No amplification",G42>$S$34,"BB",G42<$S$31,"AA",AND(G42<$S$34,G42>$S$31),"AB") -> #DIV/0! | I42: =IF(AND(E42<$R$13,F42<$S$9),G42,"") -> #DIV/0! | J42: =IF(OR(AND(($S$31-$S$36)<G42,($S$31+$S$36)>G42),AND(($S$34-$S$36)<G42,($S$34+$S$36)>G42)),"CHECK","") -> #DIV/0! | U42: C12 | V42: =IF(I42="",NA(),G42) -> #DIV/0! | W42: =IF(AND(I42="",G42<$S$31),G42,NA()) -> #DIV/0! | X42: =IF(AND(I42="",G42<$S$34,G42>$S$31),G42,NA()) -> #DIV/0! | Y42: =IF(AND(I42="",G42>$S$34),G42,NA()) -> #DIV/0! | Z42: =IF(J42="CHECK",G42,NA()) -> #DIV/0! | AC42: C12 | AD42: =IF(V42<>"#N/A",$F42,"") -> #DIV/0! | AE42: =IF(W42<>"#N/A",$F42,"") -> #DIV/0! | AF42: =IF(X42<>"#N/A",$F42,"") -> #DIV/0! | AG42: =IF(Y42<>"#N/A",$F42,"") -> #DIV/0! | AH42: =IF(Z42<>"#N/A",$F42,"") -> #DIV/0!
B43: D01 | E43: =(C43-MIN(C$7:C$102))/(MAX(C$7:C$102)-MIN(C$7:C$102))*100 -> #DIV/0! | F43: =(D43-MIN(D$7:D$102))/(MAX(D$7:D$102)-MIN(D$7:D$102))*100 -> #DIV/0! | G43: =F43-E43 -> #DIV/0! | H43: =_xlfn.IFS(AND(E43<$R$13,F43<$S$9),"No amplification",G43>$S$34,"BB",G43<$S$31,"AA",AND(G43<$S$34,G43>$S$31),"AB") -> #DIV/0! | I43: =IF(AND(E43<$R$13,F43<$S$9),G43,"") -> #DIV/0! | J43: =IF(OR(AND(($S$31-$S$36)<G43,($S$31+$S$36)>G43),AND(($S$34-$S$36)<G43,($S$34+$S$36)>G43)),"CHECK","") -> #DIV/0! | U43: D01 | V43: =IF(I43="",NA(),G43) -> #DIV/0! | W43: =IF(AND(I43="",G43<$S$31),G43,NA()) -> #DIV/0! | X43: =IF(AND(I43="",G43<$S$34,G43>$S$31),G43,NA()) -> #DIV/0! | Y43: =IF(AND(I43="",G43>$S$34),G43,NA()) -> #DIV/0! | Z43: =IF(J43="CHECK",G43,NA()) -> #DIV/0! | AC43: D01 | AD43: =IF(V43<>"#N/A",$F43,"") -> #DIV/0! | AE43: =IF(W43<>"#N/A",$F43,"") -> #DIV/0! | AF43: =IF(X43<>"#N/A",$F43,"") -> #DIV/0! | AG43: =IF(Y43<>"#N/A",$F43,"") -> #DIV/0! | AH43: =IF(Z43<>"#N/A",$F43,"") -> #DIV/0!
B44: D02 | E44: =(C44-MIN(C$7:C$102))/(MAX(C$7:C$102)-MIN(C$7:C$102))*100 -> #DIV/0! | F44: =(D44-MIN(D$7:D$102))/(MAX(D$7:D$102)-MIN(D$7:D$102))*100 -> #DIV/0! | G44: =F44-E44 -> #DIV/0! | H44: =_xlfn.IFS(AND(E44<$R$13,F44<$S$9),"No amplification",G44>$S$34,"BB",G44<$S$31,"AA",AND(G44<$S$34,G44>$S$31),"AB") -> #DIV/0! | I44: =IF(AND(E44<$R$13,F44<$S$9),G44,"") -> #DIV/0! | J44: =IF(OR(AND(($S$31-$S$36)<G44,($S$31+$S$36)>G44),AND(($S$34-$S$36)<G44,($S$34+$S$36)>G44)),"CHECK","") -> #DIV/0! | U44: D02 | V44: =IF(I44="",NA(),G44) -> #DIV/0! | W44: =IF(AND(I44="",G44<$S$31),G44,NA()) -> #DIV/0! | X44: =IF(AND(I44="",G44<$S$34,G44>$S$31),G44,NA()) -> #DIV/0! | Y44: =IF(AND(I44="",G44>$S$34),G44,NA()) -> #DIV/0! | Z44: =IF(J44="CHECK",G44,NA()) -> #DIV/0! | AC44: D02 | AD44: =IF(V44<>"#N/A",$F44,"") -> #DIV/0! | AE44: =IF(W44<>"#N/A",$F44,"") -> #DIV/0! | AF44: =IF(X44<>"#N/A",$F44,"") -> #DIV/0! | AG44: =IF(Y44<>"#N/A",$F44,"") -> #DIV/0! | AH44: =IF(Z44<>"#N/A",$F44,"") -> #DIV/0!
B45: D03 | E45: =(C45-MIN(C$7:C$102))/(MAX(C$7:C$102)-MIN(C$7:C$102))*100 -> #DIV/0! | F45: =(D45-MIN(D$7:D$102))/(MAX(D$7:D$102)-MIN(D$7:D$102))*100 -> #DIV/0! | G45: =F45-E45 -> #DIV/0! | H45: =_xlfn.IFS(AND(E45<$R$13,F45<$S$9),"No amplification",G45>$S$34,"BB",G45<$S$31,"AA",AND(G45<$S$34,G45>$S$31),"AB") -> #DIV/0! | I45: =IF(AND(E45<$R$13,F45<$S$9),G45,"") -> #DIV/0! | J45: =IF(OR(AND(($S$31-$S$36)<G45,($S$31+$S$36)>G45),AND(($S$34-$S$36)<G45,($S$34+$S$36)>G45)),"CHECK","") -> #DIV/0! | U45: D03 | V45: =IF(I45="",NA(),G45) -> #DIV/0! | W45: =IF(AND(I45="",G45<$S$31),G45,NA()) -> #DIV/0! | X45: =IF(AND(I45="",G45<$S$34,G45>$S$31),G45,NA()) -> #DIV/0! | Y45: =IF(AND(I45="",G45>$S$34),G45,NA()) -> #DIV/0! | Z45: =IF(J45="CHECK",G45,NA()) -> #DIV/0! | AC45: D03 | AD45: =IF(V45<>"#N/A",$F45,"") -> #DIV/0! | AE45: =IF(W45<>"#N/A",$F45,"") -> #DIV/0! | AF45: =IF(X45<>"#N/A",$F45,"") -> #DIV/0! | AG45: =IF(Y45<>"#N/A",$F45,"") -> #DIV/0! | AH45: =IF(Z45<>"#N/A",$F45,"") -> #DIV/0!
B46: D04 | E46: =(C46-MIN(C$7:C$102))/(MAX(C$7:C$102)-MIN(C$7:C$102))*100 -> #DIV/0! | F46: =(D46-MIN(D$7:D$102))/(MAX(D$7:D$102)-MIN(D$7:D$102))*100 -> #DIV/0! | G46: =F46-E46 -> #DIV/0! | H46: =_xlfn.IFS(AND(E46<$R$13,F46<$S$9),"No amplification",G46>$S$34,"BB",G46<$S$31,"AA",AND(G46<$S$34,G46>$S$31),"AB") -> #DIV/0! | I46: =IF(AND(E46<$R$13,F46<$S$9),G46,"") -> #DIV/0! | J46: =IF(OR(AND(($S$31-$S$36)<G46,($S$31+$S$36)>G46),AND(($S$34-$S$36)<G46,($S$34+$S$36)>G46)),"CHECK","") -> #DIV/0! | U46: D04 | V46: =IF(I46="",NA(),G46) -> #DIV/0! | W46: =IF(AND(I46="",G46<$S$31),G46,NA()) -> #DIV/0! | X46: =IF(AND(I46="",G46<$S$34,G46>$S$31),G46,NA()) -> #DIV/0! | Y46: =IF(AND(I46="",G46>$S$34),G46,NA()) -> #DIV/0! | Z46: =IF(J46="CHECK",G46,NA()) -> #DIV/0! | AC46: D04 | AD46: =IF(V46<>"#N/A",$F46,"") -> #DIV/0! | AE46: =IF(W46<>"#N/A",$F46,"") -> #DIV/0! | AF46: =IF(X46<>"#N/A",$F46,"") -> #DIV/0! | AG46: =IF(Y46<>"#N/A",$F46,"") -> #DIV/0! | AH46: =IF(Z46<>"#N/A",$F46,"") -> #DIV/0!
B47: D05 | E47: =(C47-MIN(C$7:C$102))/(MAX(C$7:C$102)-MIN(C$7:C$102))*100 -> #DIV/0! | F47: =(D47-MIN(D$7:D$102))/(MAX(D$7:D$102)-MIN(D$7:D$102))*100 -> #DIV/0! | G47: =F47-E47 -> #DIV/0! | H47: =_xlfn.IFS(AND(E47<$R$13,F47<$S$9),"No amplification",G47>$S$34,"BB",G47<$S$31,"AA",AND(G47<$S$34,G47>$S$31),"AB") -> #DIV/0! | I47: =IF(AND(E47<$R$13,F47<$S$9),G47,"") -> #DIV/0! | J47: =IF(OR(AND(($S$31-$S$36)<G47,($S$31+$S$36)>G47),AND(($S$34-$S$36)<G47,($S$34+$S$36)>G47)),"CHECK","") -> #DIV/0! | U47: D05 | V47: =IF(I47="",NA(),G47) -> #DIV/0! | W47: =IF(AND(I47="",G47<$S$31),G47,NA()) -> #DIV/0! | X47: =IF(AND(I47="",G47<$S$34,G47>$S$31),G47,NA()) -> #DIV/0! | Y47: =IF(AND(I47="",G47>$S$34),G47,NA()) -> #DIV/0! | Z47: =IF(J47="CHECK",G47,NA()) -> #DIV/0! | AC47: D05 | AD47: =IF(V47<>"#N/A",$F47,"") -> #DIV/0! | AE47: =IF(W47<>"#N/A",$F47,"") -> #DIV/0! | AF47: =IF(X47<>"#N/A",$F47,"") -> #DIV/0! | AG47: =IF(Y47<>"#N/A",$F47,"") -> #DIV/0! | AH47: =IF(Z47<>"#N/A",$F47,"") -> #DIV/0!
B48: D06 | E48: =(C48-MIN(C$7:C$102))/(MAX(C$7:C$102)-MIN(C$7:C$102))*100 -> #DIV/0! | F48: =(D48-MIN(D$7:D$102))/(MAX(D$7:D$102)-MIN(D$7:D$102))*100 -> #DIV/0! | G48: =F48-E48 -> #DIV/0! | H48: =_xlfn.IFS(AND(E48<$R$13,F48<$S$9),"No amplification",G48>$S$34,"BB",G48<$S$31,"AA",AND(G48<$S$34,G48>$S$31),"AB") -> #DIV/0! | I48: =IF(AND(E48<$R$13,F48<$S$9),G48,"") -> #DIV/0! | J48: =IF(OR(AND(($S$31-$S$36)<G48,($S$31+$S$36)>G48),AND(($S$34-$S$36)<G48,($S$34+$S$36)>G48)),"CHECK","") -> #DIV/0! | U48: D06 | V48: =IF(I48="",NA(),G48) -> #DIV/0! | W48: =IF(AND(I48="",G48<$S$31),G48,NA()) -> #DIV/0! | X48: =IF(AND(I48="",G48<$S$34,G48>$S$31),G48,NA()) -> #DIV/0! | Y48: =IF(AND(I48="",G48>$S$34),G48,NA()) -> #DIV/0! | Z48: =IF(J48="CHECK",G48,NA()) -> #DIV/0! | AC48: D06 | AD48: =IF(V48<>"#N/A",$F48,"") -> #DIV/0! | AE48: =IF(W48<>"#N/A",$F48,"") -> #DIV/0! | AF48: =IF(X48<>"#N/A",$F48,"") -> #DIV/0! | AG48: =IF(Y48<>"#N/A",$F48,"") -> #DIV/0! | AH48: =IF(Z48<>"#N/A",$F48,"") -> #DIV/0!
... B102: H12 | E102: =(C102-MIN(C$7:C$102))/(MAX(C$7:C$102)-MIN(C$7:C$102))*100 -> #DIV/0! | F102: =(D102-MIN(D$7:D$102))/(MAX(D$7:D$102)-MIN(D$7:D$102))*100 -> #DIV/0! | G102: =F102-E102 -> #DIV/0! | H102: =_xlfn.IFS(AND(E102<$R$13,F102<$S$9),"No amplification",G102>$S$34,"BB",G102<$S$31,"AA",AND(G102<$S$34,G102>$S$31),"AB") -> #DIV/0! | I102: =IF(AND(E102<$R$13,F102<$S$9),G102,"") -> #DIV/0! | J102: =IF(OR(AND(($S$31-$S$36)<G102,($S$31+$S$36)>G102),AND(($S$34-$S$36)<G102,($S$34+$S$36)>G102)),"CHECK","") -> #DIV/0! | U102: H12 | V102: =IF(I102="",NA(),G102) -> #DIV/0! | W102: =IF(AND(I102="",G102<$S$31),G102,NA()) -> #DIV/0! | X102: =IF(AND(I102="",G102<$S$34,G102>$S$31),G102,NA()) -> #DIV/0! | Y102: =IF(AND(I102="",G102>$S$34),G102,NA()) -> #DIV/0! | Z102: =IF(J102="CHECK",G102,NA()) -> #DIV/0! | AC102: H12 | AD102: =IF(V102<>"#N/A",$F102,"") -> #DIV/0! | AE102: =IF(W102<>"#N/A",$F102,"") -> #DIV/0! | AF102: =IF(X102<>"#N/A",$F102,"") -> #DIV/0! | AG102: =IF(Y102<>"#N/A",$F102,"") -> #DIV/0! | AH102: =IF(Z102<>"#N/A",$F102,"") -> #DIV/0!
W103: =SUMIF(W7:W102,"<>#N/A") -> #DIV/0! | X103: =SUMIF(X7:X102,"<>#N/A") -> #DIV/0! | Y103: =SUMIF(Y7:Y102,"<>#N/A") -> #DIV/0!

Sheet F6-2 plate 2
A1: TO USE TEMPLATE: Cells you can change are in gray. Make a copy of this worksheet. Then paste your RFUs in columns C and D. You can change the dotted boundary for no amplification in the top chart in S9 and R13. You can change the lower and upper bounds for assigning heterozygotes in the bottom chart in S31 and S34. You can also change how close the values can be to the bounds before being flagged in cell S36.
A4: For F1-3 only: FAM = BB and HEX = AA, so manually change the delta calculation in column G to (column E - column F)! | V4: FOR GRAPHING: GENOTYPING | AD4: FOR GRAPHING: SCATTERPLOT
A5: F6-2 PLATE 2 | L5: BAD PLATE? | M5: =IF(OR(I7="",I8="",I9=""),"NTCs amplified",IF(OR(W103=0,X103=0,Y103=0),"Only two clusters","AOK!")) -> #DIV/0!
A6: Plate | B6: Well | C6: FAM | D6: HEX | E6: %FAM | F6: %HEX | G6: delta | H6: genotype | I6: No amplification | J6: Marginal? | U6: cell ID | V6: No amp | W6: AA | X6: AB | Y6: BB | Z6: Marginal | AC6: cell ID | AD6: No amp | AE6: AA | AF6: AB | AG6: BB | AH6: Marginal
A7: NTC | B7: A01 | E7: =(C7-MIN(C$7:C$102))/(MAX(C$7:C$102)-MIN(C$7:C$102))*100 -> #DIV/0! | F7: =(D7-MIN(D$7:D$102))/(MAX(D$7:D$102)-MIN(D$7:D$102))*100 -> #DIV/0! | G7: =F7-E7 -> #DIV/0! | H7: NTC | I7: =IF(AND(E7<$R$13,F7<$S$9),G7,"") -> #DIV/0! | J7: =IF(OR(AND(($S$31-$S$36)<G7,($S$31+$S$36)>G7),AND(($S$34-$S$36)<G7,($S$34+$S$36)>G7)),"CHECK","") -> #DIV/0! | R7: HEX bound for no amp | U7: NTC | V7: =IF(I7="",NA(),G7) -> #DIV/0! | W7: =IF(AND(I7="",G7<$S$31),G7,NA()) -> #DIV/0! | X7: =IF(AND(I7="",G7<$S$34,G7>$S$31),G7,NA()) -> #DIV/0! | Y7: =IF(AND(I7="",G7>$S$34),G7,NA()) -> #DIV/0! | Z7: =IF(J7="CHECK",G7,NA()) -> #DIV/0! | AC7: NTC | AD7: =IF(V7<>"#N/A",$F7,"") -> #DIV/0! | AE7: =IF(W7<>"#N/A",$F7,"") -> #DIV/0! | AF7: =IF(X7<>"#N/A",$F7,"") -> #DIV/0! | AG7: =IF(Y7<>"#N/A",$F7,"") -> #DIV/0! | AH7: =IF(Z7<>"#N/A",$F7,"") -> #DIV/0!
A8: NTC | B8: A02 | E8: =(C8-MIN(C$7:C$102))/(MAX(C$7:C$102)-MIN(C$7:C$102))*100 -> #DIV/0! | F8: =(D8-MIN(D$7:D$102))/(MAX(D$7:D$102)-MIN(D$7:D$102))*100 -> #DIV/0! | G8: =F8-E8 -> #DIV/0! | H8: NTC | I8: =IF(AND(E8<$R$13,F8<$S$9),G8,"") -> #DIV/0! | J8: =IF(OR(AND(($S$31-$S$36)<G8,($S$31+$S$36)>G8),AND(($S$34-$S$36)<G8,($S$34+$S$36)>G8)),"CHECK","") -> #DIV/0! | R8: x-coordinate | S8: y-coordinate | U8: NTC | V8: =IF(I8="",NA(),G8) -> #DIV/0! | W8: =IF(AND(I8="",G8<$S$31),G8,NA()) -> #DIV/0! | X8: =IF(AND(I8="",G8<$S$34,G8>$S$31),G8,NA()) -> #DIV/0! | Y8: =IF(AND(I8="",G8>$S$34),G8,NA()) -> #DIV/0! | Z8: =IF(J8="CHECK",G8,NA()) -> #DIV/0! | AC8: NTC | AD8: =IF(V8<>"#N/A",$F8,"") -> #DIV/0! | AE8: =IF(W8<>"#N/A",$F8,"") -> #DIV/0! | AF8: =IF(X8<>"#N/A",$F8,"") -> #DIV/0! | AG8: =IF(Y8<>"#N/A",$F8,"") -> #DIV/0! | AH8: =IF(Z8<>"#N/A",$F8,"") -> #DIV/0!
A9: NTC | B9: A03 | E9: =(C9-MIN(C$7:C$102))/(MAX(C$7:C$102)-MIN(C$7:C$102))*100 -> #DIV/0! | F9: =(D9-MIN(D$7:D$102))/(MAX(D$7:D$102)-MIN(D$7:D$102))*100 -> #DIV/0! | G9: =F9-E9 -> #DIV/0! | H9: NTC | I9: =IF(AND(E9<$R$13,F9<$S$9),G9,"") -> #DIV/0! | J9: =IF(OR(AND(($S$31-$S$36)<G9,($S$31+$S$36)>G9),AND(($S$34-$S$36)<G9,($S$34+$S$36)>G9)),"CHECK","") -> #DIV/0! | R9: 0 | S9: 20 | U9: NTC | V9: =IF(I9="",NA(),G9) -> #DIV/0! | W9: =IF(AND(I9="",G9<$S$31),G9,NA()) -> #DIV/0! | X9: =IF(AND(I9="",G9<$S$34,G9>$S$31),G9,NA()) -> #DIV/0! | Y9: =IF(AND(I9="",G9>$S$34),G9,NA()) -> #DIV/0! | Z9: =IF(J9="CHECK",G9,NA()) -> #DIV/0! | AC9: NTC | AD9: =IF(V9<>"#N/A",$F9,"") -> #DIV/0! | AE9: =IF(W9<>"#N/A",$F9,"") -> #DIV/0! | AF9: =IF(X9<>"#N/A",$F9,"") -> #DIV/0! | AG9: =IF(Y9<>"#N/A",$F9,"") -> #DIV/0! | AH9: =IF(Z9<>"#N/A",$F9,"") -> #DIV/0!
A10: AA | B10: A04 | E10: =(C10-MIN(C$7:C$102))/(MAX(C$7:C$102)-MIN(C$7:C$102))*100 -> #DIV/0! | F10: =(D10-MIN(D$7:D$102))/(MAX(D$7:D$102)-MIN(D$7:D$102))*100 -> #DIV/0! | G10: =F10-E10 -> #DIV/0! | H10: AA | I10: =IF(AND(E10<$R$13,F10<$S$9),G10,"") -> #DIV/0! | J10: =IF(OR(AND(($S$31-$S$36)<G10,($S$31+$S$36)>G10),AND(($S$34-$S$36)<G10,($S$34+$S$36)>G10)),"CHECK","") -> #DIV/0! | R10: =R13 -> 20 | S10: =S9 -> 20 | U10: AA | V10: =IF(I10="",NA(),G10) -> #DIV/0! | W10: =IF(AND(I10="",G10<$S$31),G10,NA()) -> #DIV/0! | X10: =IF(AND(I10="",G10<$S$34,G10>$S$31),G10,NA()) -> #DIV/0! | Y10: =IF(AND(I10="",G10>$S$34),G10,NA()) -> #DIV/0! | Z10: =IF(J10="CHECK",G10,NA()) -> #DIV/0! | AC10: AA | AD10: =IF(V10<>"#N/A",$F10,"") -> #DIV/0! | AE10: =IF(W10<>"#N/A",$F10,"") -> #DIV/0! | AF10: =IF(X10<>"#N/A",$F10,"") -> #DIV/0! | AG10: =IF(Y10<>"#N/A",$F10,"") -> #DIV/0! | AH10: =IF(Z10<>"#N/A",$F10,"") -> #DIV/0!
A11: AA | B11: A05 | E11: =(C11-MIN(C$7:C$102))/(MAX(C$7:C$102)-MIN(C$7:C$102))*100 -> #DIV/0! | F11: =(D11-MIN(D$7:D$102))/(MAX(D$7:D$102)-MIN(D$7:D$102))*100 -> #DIV/0! | G11: =F11-E11 -> #DIV/0! | H11: AA | I11: =IF(AND(E11<$R$13,F11<$S$9),G11,"") -> #DIV/0! | J11: =IF(OR(AND(($S$31-$S$36)<G11,($S$31+$S$36)>G11),AND(($S$34-$S$36)<G11,($S$34+$S$36)>G11)),"CHECK","") -> #DIV/0! | R11: FAM bound for no amp | U11: AA | V11: =IF(I11="",NA(),G11) -> #DIV/0! | W11: =IF(AND(I11="",G11<$S$31),G11,NA()) -> #DIV/0! | X11: =IF(AND(I11="",G11<$S$34,G11>$S$31),G11,NA()) -> #DIV/0! | Y11: =IF(AND(I11="",G11>$S$34),G11,NA()) -> #DIV/0! | Z11: =IF(J11="CHECK",G11,NA()) -> #DIV/0! | AC11: AA | AD11: =IF(V11<>"#N/A",$F11,"") -> #DIV/0! | AE11: =IF(W11<>"#N/A",$F11,"") -> #DIV/0! | AF11: =IF(X11<>"#N/A",$F11,"") -> #DIV/0! | AG11: =IF(Y11<>"#N/A",$F11,"") -> #DIV/0! | AH11: =IF(Z11<>"#N/A",$F11,"") -> #DIV/0!
A12: AA | B12: A06 | E12: =(C12-MIN(C$7:C$102))/(MAX(C$7:C$102)-MIN(C$7:C$102))*100 -> #DIV/0! | F12: =(D12-MIN(D$7:D$102))/(MAX(D$7:D$102)-MIN(D$7:D$102))*100 -> #DIV/0! | G12: =F12-E12 -> #DIV/0! | H12: AA | I12: =IF(AND(E12<$R$13,F12<$S$9),G12,"") -> #DIV/0! | J12: =IF(OR(AND(($S$31-$S$36)<G12,($S$31+$S$36)>G12),AND(($S$34-$S$36)<G12,($S$34+$S$36)>G12)),"CHECK","") -> #DIV/0! | R12: x-coordinate | S12: y-coordinate | U12: AA | V12: =IF(I12="",NA(),G12) -> #DIV/0! | W12: =IF(AND(I12="",G12<$S$31),G12,NA()) -> #DIV/0! | X12: =IF(AND(I12="",G12<$S$34,G12>$S$31),G12,NA()) -> #DIV/0! | Y12: =IF(AND(I12="",G12>$S$34),G12,NA()) -> #DIV/0! | Z12: =IF(J12="CHECK",G12,NA()) -> #DIV/0! | AC12: AA | AD12: =IF(V12<>"#N/A",$F12,"") -> #DIV/0! | AE12: =IF(W12<>"#N/A",$F12,"") -> #DIV/0! | AF12: =IF(X12<>"#N/A",$F12,"") -> #DIV/0! | AG12: =IF(Y12<>"#N/A",$F12,"") -> #DIV/0! | AH12: =IF(Z12<>"#N/A",$F12,"") -> #DIV/0!
A13: AB | B13: A07 | E13: =(C13-MIN(C$7:C$102))/(MAX(C$7:C$102)-MIN(C$7:C$102))*100 -> #DIV/0! | F13: =(D13-MIN(D$7:D$102))/(MAX(D$7:D$102)-MIN(D$7:D$102))*100 -> #DIV/0! | G13: =F13-E13 -> #DIV/0! | H13: AB | I13: =IF(AND(E13<$R$13,F13<$S$9),G13,"") -> #DIV/0! | J13: =IF(OR(AND(($S$31-$S$36)<G13,($S$31+$S$36)>G13),AND(($S$34-$S$36)<G13,($S$34+$S$36)>G13)),"CHECK","") -> #DIV/0! | R13: 20 | S13: 0 | U13: AB | V13: =IF(I13="",NA(),G13) -> #DIV/0! | W13: =IF(AND(I13="",G13<$S$31),G13,NA()) -> #DIV/0! | X13: =IF(AND(I13="",G13<$S$34,G13>$S$31),G13,NA()) -> #DIV/0! | Y13: =IF(AND(I13="",G13>$S$34),G13,NA()) -> #DIV/0! | Z13: =IF(J13="CHECK",G13,NA()) -> #DIV/0! | AC13: AB | AD13: =IF(V13<>"#N/A",$F13,"") -> #DIV/0! | AE13: =IF(W13<>"#N/A",$F13,"") -> #DIV/0! | AF13: =IF(X13<>"#N/A",$F13,"") -> #DIV/0! | AG13: =IF(Y13<>"#N/A",$F13,"") -> #DIV/0! | AH13: =IF(Z13<>"#N/A",$F13,"") -> #DIV/0!
A14: AB | B14: A08 | E14: =(C14-MIN(C$7:C$102))/(MAX(C$7:C$102)-MIN(C$7:C$102))*100 -> #DIV/0! | F14: =(D14-MIN(D$7:D$102))/(MAX(D$7:D$102)-MIN(D$7:D$102))*100 -> #DIV/0! | G14: =F14-E14 -> #DIV/0! | H14: AB | I14: =IF(AND(E14<$R$13,F14<$S$9),G14,"") -> #DIV/0! | J14: =IF(OR(AND(($S$31-$S$36)<G14,($S$31+$S$36)>G14),AND(($S$34-$S$36)<G14,($S$34+$S$36)>G14)),"CHECK","") -> #DIV/0! | R14: =R13 -> 20 | S14: =S9 -> 20 | U14: AB | V14: =IF(I14="",NA(),G14) -> #DIV/0! | W14: =IF(AND(I14="",G14<$S$31),G14,NA()) -> #DIV/0! | X14: =IF(AND(I14="",G14<$S$34,G14>$S$31),G14,NA()) -> #DIV/0! | Y14: =IF(AND(I14="",G14>$S$34),G14,NA()) -> #DIV/0! | Z14: =IF(J14="CHECK",G14,NA()) -> #DIV/0! | AC14: AB | AD14: =IF(V14<>"#N/A",$F14,"") -> #DIV/0! | AE14: =IF(W14<>"#N/A",$F14,"") -> #DIV/0! | AF14: =IF(X14<>"#N/A",$F14,"") -> #DIV/0! | AG14: =IF(Y14<>"#N/A",$F14,"") -> #DIV/0! | AH14: =IF(Z14<>"#N/A",$F14,"") -> #DIV/0!
A15: AB | B15: A09 | E15: =(C15-MIN(C$7:C$102))/(MAX(C$7:C$102)-MIN(C$7:C$102))*100 -> #DIV/0! | F15: =(D15-MIN(D$7:D$102))/(MAX(D$7:D$102)-MIN(D$7:D$102))*100 -> #DIV/0! | G15: =F15-E15 -> #DIV/0! | H15: AB | I15: =IF(AND(E15<$R$13,F15<$S$9),G15,"") -> #DIV/0! | J15: =IF(OR(AND(($S$31-$S$36)<G15,($S$31+$S$36)>G15),AND(($S$34-$S$36)<G15,($S$34+$S$36)>G15)),"CHECK","") -> #DIV/0! | U15: AB | V15: =IF(I15="",NA(),G15) -> #DIV/0! | W15: =IF(AND(I15="",G15<$S$31),G15,NA()) -> #DIV/0! | X15: =IF(AND(I15="",G15<$S$34,G15>$S$31),G15,NA()) -> #DIV/0! | Y15: =IF(AND(I15="",G15>$S$34),G15,NA()) -> #DIV/0! | Z15: =IF(J15="CHECK",G15,NA()) -> #DIV/0! | AC15: AB | AD15: =IF(V15<>"#N/A",$F15,"") -> #DIV/0! | AE15: =IF(W15<>"#N/A",$F15,"") -> #DIV/0! | AF15: =IF(X15<>"#N/A",$F15,"") -> #DIV/0! | AG15: =IF(Y15<>"#N/A",$F15,"") -> #DIV/0! | AH15: =IF(Z15<>"#N/A",$F15,"") -> #DIV/0!
A16: BB | B16: A10 | E16: =(C16-MIN(C$7:C$102))/(MAX(C$7:C$102)-MIN(C$7:C$102))*100 -> #DIV/0! | F16: =(D16-MIN(D$7:D$102))/(MAX(D$7:D$102)-MIN(D$7:D$102))*100 -> #DIV/0! | G16: =F16-E16 -> #DIV/0! | H16: BB | I16: =IF(AND(E16<$R$13,F16<$S$9),G16,"") -> #DIV/0! | J16: =IF(OR(AND(($S$31-$S$36)<G16,($S$31+$S$36)>G16),AND(($S$34-$S$36)<G16,($S$34+$S$36)>G16)),"CHECK","") -> #DIV/0! | U16: BB | V16: =IF(I16="",NA(),G16) -> #DIV/0! | W16: =IF(AND(I16="",G16<$S$31),G16,NA()) -> #DIV/0! | X16: =IF(AND(I16="",G16<$S$34,G16>$S$31),G16,NA()) -> #DIV/0! | Y16: =IF(AND(I16="",G16>$S$34),G16,NA()) -> #DIV/0! | Z16: =IF(J16="CHECK",G16,NA()) -> #DIV/0! | AC16: BB | AD16: =IF(V16<>"#N/A",$F16,"") -> #DIV/0! | AE16: =IF(W16<>"#N/A",$F16,"") -> #DIV/0! | AF16: =IF(X16<>"#N/A",$F16,"") -> #DIV/0! | AG16: =IF(Y16<>"#N/A",$F16,"") -> #DIV/0! | AH16: =IF(Z16<>"#N/A",$F16,"") -> #DIV/0!
A17: BB | B17: A11 | E17: =(C17-MIN(C$7:C$102))/(MAX(C$7:C$102)-MIN(C$7:C$102))*100 -> #DIV/0! | F17: =(D17-MIN(D$7:D$102))/(MAX(D$7:D$102)-MIN(D$7:D$102))*100 -> #DIV/0! | G17: =F17-E17 -> #DIV/0! | H17: BB | I17: =IF(AND(E17<$R$13,F17<$S$9),G17,"") -> #DIV/0! | J17: =IF(OR(AND(($S$31-$S$36)<G17,($S$31+$S$36)>G17),AND(($S$34-$S$36)<G17,($S$34+$S$36)>G17)),"CHECK","") -> #DIV/0! | U17: BB | V17: =IF(I17="",NA(),G17) -> #DIV/0! | W17: =IF(AND(I17="",G17<$S$31),G17,NA()) -> #DIV/0! | X17: =IF(AND(I17="",G17<$S$34,G17>$S$31),G17,NA()) -> #DIV/0! | Y17: =IF(AND(I17="",G17>$S$34),G17,NA()) -> #DIV/0! | Z17: =IF(J17="CHECK",G17,NA()) -> #DIV/0! | AC17: BB | AD17: =IF(V17<>"#N/A",$F17,"") -> #DIV/0! | AE17: =IF(W17<>"#N/A",$F17,"") -> #DIV/0! | AF17: =IF(X17<>"#N/A",$F17,"") -> #DIV/0! | AG17: =IF(Y17<>"#N/A",$F17,"") -> #DIV/0! | AH17: =IF(Z17<>"#N/A",$F17,"") -> #DIV/0!
A18: BB | B18: A12 | E18: =(C18-MIN(C$7:C$102))/(MAX(C$7:C$102)-MIN(C$7:C$102))*100 -> #DIV/0! | F18: =(D18-MIN(D$7:D$102))/(MAX(D$7:D$102)-MIN(D$7:D$102))*100 -> #DIV/0! | G18: =F18-E18 -> #DIV/0! | H18: BB | I18: =IF(AND(E18<$R$13,F18<$S$9),G18,"") -> #DIV/0! | J18: =IF(OR(AND(($S$31-$S$36)<G18,($S$31+$S$36)>G18),AND(($S$34-$S$36)<G18,($S$34+$S$36)>G18)),"CHECK","") -> #DIV/0! | U18: BB | V18: =IF(I18="",NA(),G18) -> #DIV/0! | W18: =IF(AND(I18="",G18<$S$31),G18,NA()) -> #DIV/0! | X18: =IF(AND(I18="",G18<$S$34,G18>$S$31),G18,NA()) -> #DIV/0! | Y18: =IF(AND(I18="",G18>$S$34),G18,NA()) -> #DIV/0! | Z18: =IF(J18="CHECK",G18,NA()) -> #DIV/0! | AC18: BB | AD18: =IF(V18<>"#N/A",$F18,"") -> #DIV/0! | AE18: =IF(W18<>"#N/A",$F18,"") -> #DIV/0! | AF18: =IF(X18<>"#N/A",$F18,"") -> #DIV/0! | AG18: =IF(Y18<>"#N/A",$F18,"") -> #DIV/0! | AH18: =IF(Z18<>"#N/A",$F18,"") -> #DIV/0!
B19: B01 | E19: =(C19-MIN(C$7:C$102))/(MAX(C$7:C$102)-MIN(C$7:C$102))*100 -> #DIV/0! | F19: =(D19-MIN(D$7:D$102))/(MAX(D$7:D$102)-MIN(D$7:D$102))*100 -> #DIV/0! | G19: =F19-E19 -> #DIV/0! | H19: =_xlfn.IFS(AND(E19<$R$13,F19<$S$9),"No amplification",G19>$S$34,"BB",G19<$S$31,"AA",AND(G19<$S$34,G19>$S$31),"AB") -> #DIV/0! | I19: =IF(AND(E19<$R$13,F19<$S$9),G19,"") -> #DIV/0! | J19: =IF(OR(AND(($S$31-$S$36)<G19,($S$31+$S$36)>G19),AND(($S$34-$S$36)<G19,($S$34+$S$36)>G19)),"CHECK","") -> #DIV/0! | U19: B01 | V19: =IF(I19="",NA(),G19) -> #DIV/0! | W19: =IF(AND(I19="",G19<$S$31),G19,NA()) -> #DIV/0! | X19: =IF(AND(I19="",G19<$S$34,G19>$S$31),G19,NA()) -> #DIV/0! | Y19: =IF(AND(I19="",G19>$S$34),G19,NA()) -> #DIV/0! | Z19: =IF(J19="CHECK",G19,NA()) -> #DIV/0! | AC19: B01 | AD19: =IF(V19<>"#N/A",$F19,"") -> #DIV/0! | AE19: =IF(W19<>"#N/A",$F19,"") -> #DIV/0! | AF19: =IF(X19<>"#N/A",$F19,"") -> #DIV/0! | AG19: =IF(Y19<>"#N/A",$F19,"") -> #DIV/0! | AH19: =IF(Z19<>"#N/A",$F19,"") -> #DIV/0!
B20: B02 | E20: =(C20-MIN(C$7:C$102))/(MAX(C$7:C$102)-MIN(C$7:C$102))*100 -> #DIV/0! | F20: =(D20-MIN(D$7:D$102))/(MAX(D$7:D$102)-MIN(D$7:D$102))*100 -> #DIV/0! | G20: =F20-E20 -> #DIV/0! | H20: =_xlfn.IFS(AND(E20<$R$13,F20<$S$9),"No amplification",G20>$S$34,"BB",G20<$S$31,"AA",AND(G20<$S$34,G20>$S$31),"AB") -> #DIV/0! | I20: =IF(AND(E20<$R$13,F20<$S$9),G20,"") -> #DIV/0! | J20: =IF(OR(AND(($S$31-$S$36)<G20,($S$31+$S$36)>G20),AND(($S$34-$S$36)<G20,($S$34+$S$36)>G20)),"CHECK","") -> #DIV/0! | U20: B02 | V20: =IF(I20="",NA(),G20) -> #DIV/0! | W20: =IF(AND(I20="",G20<$S$31),G20,NA()) -> #DIV/0! | X20: =IF(AND(I20="",G20<$S$34,G20>$S$31),G20,NA()) -> #DIV/0! | Y20: =IF(AND(I20="",G20>$S$34),G20,NA()) -> #DIV/0! | Z20: =IF(J20="CHECK",G20,NA()) -> #DIV/0! | AC20: B02 | AD20: =IF(V20<>"#N/A",$F20,"") -> #DIV/0! | AE20: =IF(W20<>"#N/A",$F20,"") -> #DIV/0! | AF20: =IF(X20<>"#N/A",$F20,"") -> #DIV/0! | AG20: =IF(Y20<>"#N/A",$F20,"") -> #DIV/0! | AH20: =IF(Z20<>"#N/A",$F20,"") -> #DIV/0!
B21: B03 | E21: =(C21-MIN(C$7:C$102))/(MAX(C$7:C$102)-MIN(C$7:C$102))*100 -> #DIV/0! | F21: =(D21-MIN(D$7:D$102))/(MAX(D$7:D$102)-MIN(D$7:D$102))*100 -> #DIV/0! | G21: =F21-E21 -> #DIV/0! | H21: =_xlfn.IFS(AND(E21<$R$13,F21<$S$9),"No amplification",G21>$S$34,"BB",G21<$S$31,"AA",AND(G21<$S$34,G21>$S$31),"AB") -> #DIV/0! | I21: =IF(AND(E21<$R$13,F21<$S$9),G21,"") -> #DIV/0! | J21: =IF(OR(AND(($S$31-$S$36)<G21,($S$31+$S$36)>G21),AND(($S$34-$S$36)<G21,($S$34+$S$36)>G21)),"CHECK","") -> #DIV/0! | U21: B03 | V21: =IF(I21="",NA(),G21) -> #DIV/0! | W21: =IF(AND(I21="",G21<$S$31),G21,NA()) -> #DIV/0! | X21: =IF(AND(I21="",G21<$S$34,G21>$S$31),G21,NA()) -> #DIV/0! | Y21: =IF(AND(I21="",G21>$S$34),G21,NA()) -> #DIV/0! | Z21: =IF(J21="CHECK",G21,NA()) -> #DIV/0! | AC21: B03 | AD21: =IF(V21<>"#N/A",$F21,"") -> #DIV/0! | AE21: =IF(W21<>"#N/A",$F21,"") -> #DIV/0! | AF21: =IF(X21<>"#N/A",$F21,"") -> #DIV/0! | AG21: =IF(Y21<>"#N/A",$F21,"") -> #DIV/0! | AH21: =IF(Z21<>"#N/A",$F21,"") -> #DIV/0!
B22: B04 | E22: =(C22-MIN(C$7:C$102))/(MAX(C$7:C$102)-MIN(C$7:C$102))*100 -> #DIV/0! | F22: =(D22-MIN(D$7:D$102))/(MAX(D$7:D$102)-MIN(D$7:D$102))*100 -> #DIV/0! | G22: =F22-E22 -> #DIV/0! | H22: =_xlfn.IFS(AND(E22<$R$13,F22<$S$9),"No amplification",G22>$S$34,"BB",G22<$S$31,"AA",AND(G22<$S$34,G22>$S$31),"AB") -> #DIV/0! | I22: =IF(AND(E22<$R$13,F22<$S$9),G22,"") -> #DIV/0! | J22: =IF(OR(AND(($S$31-$S$36)<G22,($S$31+$S$36)>G22),AND(($S$34-$S$36)<G22,($S$34+$S$36)>G22)),"CHECK","") -> #DIV/0! | U22: B04 | V22: =IF(I22="",NA(),G22) -> #DIV/0! | W22: =IF(AND(I22="",G22<$S$31),G22,NA()) -> #DIV/0! | X22: =IF(AND(I22="",G22<$S$34,G22>$S$31),G22,NA()) -> #DIV/0! | Y22: =IF(AND(I22="",G22>$S$34),G22,NA()) -> #DIV/0! | Z22: =IF(J22="CHECK",G22,NA()) -> #DIV/0! | AC22: B04 | AD22: =IF(V22<>"#N/A",$F22,"") -> #DIV/0! | AE22: =IF(W22<>"#N/A",$F22,"") -> #DIV/0! | AF22: =IF(X22<>"#N/A",$F22,"") -> #DIV/0! | AG22: =IF(Y22<>"#N/A",$F22,"") -> #DIV/0! | AH22: =IF(Z22<>"#N/A",$F22,"") -> #DIV/0!
B23: B05 | E23: =(C23-MIN(C$7:C$102))/(MAX(C$7:C$102)-MIN(C$7:C$102))*100 -> #DIV/0! | F23: =(D23-MIN(D$7:D$102))/(MAX(D$7:D$102)-MIN(D$7:D$102))*100 -> #DIV/0! | G23: =F23-E23 -> #DIV/0! | H23: =_xlfn.IFS(AND(E23<$R$13,F23<$S$9),"No amplification",G23>$S$34,"BB",G23<$S$31,"AA",AND(G23<$S$34,G23>$S$31),"AB") -> #DIV/0! | I23: =IF(AND(E23<$R$13,F23<$S$9),G23,"") -> #DIV/0! | J23: =IF(OR(AND(($S$31-$S$36)<G23,($S$31+$S$36)>G23),AND(($S$34-$S$36)<G23,($S$34+$S$36)>G23)),"CHECK","") -> #DIV/0! | U23: B05 | V23: =IF(I23="",NA(),G23) -> #DIV/0! | W23: =IF(AND(I23="",G23<$S$31),G23,NA()) -> #DIV/0! | X23: =IF(AND(I23="",G23<$S$34,G23>$S$31),G23,NA()) -> #DIV/0! | Y23: =IF(AND(I23="",G23>$S$34),G23,NA()) -> #DIV/0! | Z23: =IF(J23="CHECK",G23,NA()) -> #DIV/0! | AC23: B05 | AD23: =IF(V23<>"#N/A",$F23,"") -> #DIV/0! | AE23: =IF(W23<>"#N/A",$F23,"") -> #DIV/0! | AF23: =IF(X23<>"#N/A",$F23,"") -> #DIV/0! | AG23: =IF(Y23<>"#N/A",$F23,"") -> #DIV/0! | AH23: =IF(Z23<>"#N/A",$F23,"") -> #DIV/0!
B24: B06 | E24: =(C24-MIN(C$7:C$102))/(MAX(C$7:C$102)-MIN(C$7:C$102))*100 -> #DIV/0! | F24: =(D24-MIN(D$7:D$102))/(MAX(D$7:D$102)-MIN(D$7:D$102))*100 -> #DIV/0! | G24: =F24-E24 -> #DIV/0! | H24: =_xlfn.IFS(AND(E24<$R$13,F24<$S$9),"No amplification",G24>$S$34,"BB",G24<$S$31,"AA",AND(G24<$S$34,G24>$S$31),"AB") -> #DIV/0! | I24: =IF(AND(E24<$R$13,F24<$S$9),G24,"") -> #DIV/0! | J24: =IF(OR(AND(($S$31-$S$36)<G24,($S$31+$S$36)>G24),AND(($S$34-$S$36)<G24,($S$34+$S$36)>G24)),"CHECK","") -> #DIV/0! | U24: B06 | V24: =IF(I24="",NA(),G24) -> #DIV/0! | W24: =IF(AND(I24="",G24<$S$31),G24,NA()) -> #DIV/0! | X24: =IF(AND(I24="",G24<$S$34,G24>$S$31),G24,NA()) -> #DIV/0! | Y24: =IF(AND(I24="",G24>$S$34),G24,NA()) -> #DIV/0! | Z24: =IF(J24="CHECK",G24,NA()) -> #DIV/0! | AC24: B06 | AD24: =IF(V24<>"#N/A",$F24,"") -> #DIV/0! | AE24: =IF(W24<>"#N/A",$F24,"") -> #DIV/0! | AF24: =IF(X24<>"#N/A",$F24,"") -> #DIV/0! | AG24: =IF(Y24<>"#N/A",$F24,"") -> #DIV/0! | AH24: =IF(Z24<>"#N/A",$F24,"") -> #DIV/0!
B25: B07 | E25: =(C25-MIN(C$7:C$102))/(MAX(C$7:C$102)-MIN(C$7:C$102))*100 -> #DIV/0! | F25: =(D25-MIN(D$7:D$102))/(MAX(D$7:D$102)-MIN(D$7:D$102))*100 -> #DIV/0! | G25: =F25-E25 -> #DIV/0! | H25: =_xlfn.IFS(AND(E25<$R$13,F25<$S$9),"No amplification",G25>$S$34,"BB",G25<$S$31,"AA",AND(G25<$S$34,G25>$S$31),"AB") -> #DIV/0! | I25: =IF(AND(E25<$R$13,F25<$S$9),G25,"") -> #DIV/0! | J25: =IF(OR(AND(($S$31-$S$36)<G25,($S$31+$S$36)>G25),AND(($S$34-$S$36)<G25,($S$34+$S$36)>G25)),"CHECK","") -> #DIV/0! | U25: B07 | V25: =IF(I25="",NA(),G25) -> #DIV/0! | W25: =IF(AND(I25="",G25<$S$31),G25,NA()) -> #DIV/0! | X25: =IF(AND(I25="",G25<$S$34,G25>$S$31),G25,NA()) -> #DIV/0! | Y25: =IF(AND(I25="",G25>$S$34),G25,NA()) -> #DIV/0! | Z25: =IF(J25="CHECK",G25,NA()) -> #DIV/0! | AC25: B07 | AD25: =IF(V25<>"#N/A",$F25,"") -> #DIV/0! | AE25: =IF(W25<>"#N/A",$F25,"") -> #DIV/0! | AF25: =IF(X25<>"#N/A",$F25,"") -> #DIV/0! | AG25: =IF(Y25<>"#N/A",$F25,"") -> #DIV/0! | AH25: =IF(Z25<>"#N/A",$F25,"") -> #DIV/0!
B26: B08 | E26: =(C26-MIN(C$7:C$102))/(MAX(C$7:C$102)-MIN(C$7:C$102))*100 -> #DIV/0! | F26: =(D26-MIN(D$7:D$102))/(MAX(D$7:D$102)-MIN(D$7:D$102))*100 -> #DIV/0! | G26: =F26-E26 -> #DIV/0! | H26: =_xlfn.IFS(AND(E26<$R$13,F26<$S$9),"No amplification",G26>$S$34,"BB",G26<$S$31,"AA",AND(G26<$S$34,G26>$S$31),"AB") -> #DIV/0! | I26: =IF(AND(E26<$R$13,F26<$S$9),G26,"") -> #DIV/0! | J26: =IF(OR(AND(($S$31-$S$36)<G26,($S$31+$S$36)>G26),AND(($S$34-$S$36)<G26,($S$34+$S$36)>G26)),"CHECK","") -> #DIV/0! | U26: B08 | V26: =IF(I26="",NA(),G26) -> #DIV/0! | W26: =IF(AND(I26="",G26<$S$31),G26,NA()) -> #DIV/0! | X26: =IF(AND(I26="",G26<$S$34,G26>$S$31),G26,NA()) -> #DIV/0! | Y26: =IF(AND(I26="",G26>$S$34),G26,NA()) -> #DIV/0! | Z26: =IF(J26="CHECK",G26,NA()) -> #DIV/0! | AC26: B08 | AD26: =IF(V26<>"#N/A",$F26,"") -> #DIV/0! | AE26: =IF(W26<>"#N/A",$F26,"") -> #DIV/0! | AF26: =IF(X26<>"#N/A",$F26,"") -> #DIV/0! | AG26: =IF(Y26<>"#N/A",$F26,"") -> #DIV/0! | AH26: =IF(Z26<>"#N/A",$F26,"") -> #DIV/0!
