Workbook

Sheet genotyping
G1: code for assigning haplotypes
G2: =IF(E3="BB","R or I",IF(E3="AA","S/S",IF(E3="AB","S/R","Unknown"))) | H2: =IF(E7="BB","R or A",IF(E7="AA","S or I",IF(E7="AB","S/R or R/I or S/A or I/A","Unknown")))
A3: Well ID | B3: Well | C3: F1-1 genotype | D3: marginal? | E3: F6-2 genotype | F3: marginal? | G3: F1 predicted haplotype | H3: F6 predicted haplotype | I3: Redo plate F1-1? | J3: Redo plate F6-2? | K3: genotype | L3: F1-1 predicted haplotype | M3: F6-2 predicted haplotype
A4: ='F6-2 plate 1'!A7 -> NTC | B4: A01 | C4: =VLOOKUP(B4,'F1-1 plate 1'!B$7:H$102,7,FALSE) -> NTC | D4: =VLOOKUP(B4,'F1-1 plate 1'!B$7:J$102,9,FALSE) -> #DIV/0! | E4: =VLOOKUP(B4,'F6-2 plate 1'!B$7:H$102,7,FALSE) -> NTC | F4: =VLOOKUP(genotyping!B4,'F6-2 plate 1'!B$7:J$102,9,FALSE) -> #DIV/0! | G4: =IF(C4="BB","R or I",IF(C4="AA","S/S",IF(C4="AB","S/R or S/I","Unknown"))) -> Unknown | H4: =IF(E4="BB","R or A",IF(E4="AA","S or I",IF(E4="AB","S/R or R/I or S/A or I/A","Unknown"))) -> Unknown | K4: AA | L4: S/S | M4: S or I
A5: ='F6-2 plate 1'!A8 -> NTC | B5: A02 | C5: =VLOOKUP(B5,'F1-1 plate 1'!B$7:H$102,7,FALSE) -> NTC | D5: =VLOOKUP(B5,'F1-1 plate 1'!B$7:J$102,9,FALSE) -> #DIV/0! | E5: =VLOOKUP(B5,'F6-2 plate 1'!B$7:H$102,7,FALSE) -> NTC | F5: =VLOOKUP(genotyping!B5,'F6-2 plate 1'!B$7:J$102,9,FALSE) -> #DIV/0! | G5: =IF(C5="BB","R or I",IF(C5="AA","S/S",IF(C5="AB","S/R or S/I","Unknown"))) -> Unknown | H5: =IF(E5="BB","R or A",IF(E5="AA","S or I",IF(E5="AB","S/R or R/I or S/A or I/A","Unknown"))) -> Unknown | K5: AB | L5: S/R | M5: S/R or R/I or S/A or I/A
A6: ='F6-2 plate 1'!A9 -> NTC | B6: A03 | C6: =VLOOKUP(B6,'F1-1 plate 1'!B$7:H$102,7,FALSE) -> NTC | D6: =VLOOKUP(B6,'F1-1 plate 1'!B$7:J$102,9,FALSE) -> #DIV/0! | E6: =VLOOKUP(B6,'F6-2 plate 1'!B$7:H$102,7,FALSE) -> NTC | F6: =VLOOKUP(genotyping!B6,'F6-2 plate 1'!B$7:J$102,9,FALSE) -> #DIV/0! | G6: =IF(C6="BB","R or I",IF(C6="AA","S/S",IF(C6="AB","S/R or S/I","Unknown"))) -> Unknown | H6: =IF(E6="BB","R or A",IF(E6="AA","S or I",IF(E6="AB","S/R or R/I or S/A or I/A","Unknown"))) -> Unknown | K6: BB | L6: R or I | M6: R or A
A7: ='F6-2 plate 1'!A10 -> AA | B7: A04 | C7: =VLOOKUP(B7,'F1-1 plate 1'!B$7:H$102,7,FALSE) -> AA | D7: =VLOOKUP(B7,'F1-1 plate 1'!B$7:J$102,9,FALSE) -> #DIV/0! | E7: =VLOOKUP(B7,'F6-2 plate 1'!B$7:H$102,7,FALSE) -> AA | F7: =VLOOKUP(genotyping!B7,'F6-2 plate 1'!B$7:J$102,9,FALSE) -> #DIV/0! | G7: =IF(C7="BB","R or I",IF(C7="AA","S/S",IF(C7="AB","S/R or S/I","Unknown"))) -> S/S | H7: =IF(E7="BB","R or A",IF(E7="AA","S or I",IF(E7="AB","S/R or R/I or S/A or I/A","Unknown"))) -> S or I
A8: ='F6-2 plate 1'!A11 -> AA | B8: A05 | C8: =VLOOKUP(B8,'F1-1 plate 1'!B$7:H$102,7,FALSE) -> AA | D8: =VLOOKUP(B8,'F1-1 plate 1'!B$7:J$102,9,FALSE) -> #DIV/0! | E8: =VLOOKUP(B8,'F6-2 plate 1'!B$7:H$102,7,FALSE) -> AA | F8: =VLOOKUP(genotyping!B8,'F6-2 plate 1'!B$7:J$102,9,FALSE) -> #DIV/0! | G8: =IF(C8="BB","R or I",IF(C8="AA","S/S",IF(C8="AB","S/R or S/I","Unknown"))) -> S/S | H8: =IF(E8="BB","R or A",IF(E8="AA","S or I",IF(E8="AB","S/R or R/I or S/A or I/A","Unknown"))) -> S or I
A9: ='F6-2 plate 1'!A12 -> AA | B9: A06 | C9: =VLOOKUP(B9,'F1-1 plate 1'!B$7:H$102,7,FALSE) -> AA | D9: =VLOOKUP(B9,'F1-1 plate 1'!B$7:J$102,9,FALSE) -> #DIV/0! | E9: =VLOOKUP(B9,'F6-2 plate 1'!B$7:H$102,7,FALSE) -> AA | F9: =VLOOKUP(genotyping!B9,'F6-2 plate 1'!B$7:J$102,9,FALSE) -> #DIV/0! | G9: =IF(C9="BB","R or I",IF(C9="AA","S/S",IF(C9="AB","S/R or S/I","Unknown"))) -> S/S | H9: =IF(E9="BB","R or A",IF(E9="AA","S or I",IF(E9="AB","S/R or R/I or S/A or I/A","Unknown"))) -> S or I
A10: ='F6-2 plate 1'!A13 -> AB | B10: A07 | C10: =VLOOKUP(B10,'F1-1 plate 1'!B$7:H$102,7,FALSE) -> AB | D10: =VLOOKUP(B10,'F1-1 plate 1'!B$7:J$102,9,FALSE) -> #DIV/0! | E10: =VLOOKUP(B10,'F6-2 plate 1'!B$7:H$102,7,FALSE) -> AB | F10: =VLOOKUP(genotyping!B10,'F6-2 plate 1'!B$7:J$102,9,FALSE) -> #DIV/0! | G10: =IF(C10="BB","R or I",IF(C10="AA","S/S",IF(C10="AB","S/R or S/I","Unknown"))) -> S/R or S/I | H10: =IF(E10="BB","R or A",IF(E10="AA","S or I",IF(E10="AB","S/R or R/I or S/A or I/A","Unknown"))) -> S/R or R/I or S/A or I/A
A11: ='F6-2 plate 1'!A14 -> AB | B11: A08 | C11: =VLOOKUP(B11,'F1-1 plate 1'!B$7:H$102,7,FALSE) -> AB | D11: =VLOOKUP(B11,'F1-1 plate 1'!B$7:J$102,9,FALSE) -> #DIV/0! | E11: =VLOOKUP(B11,'F6-2 plate 1'!B$7:H$102,7,FALSE) -> AB | F11: =VLOOKUP(genotyping!B11,'F6-2 plate 1'!B$7:J$102,9,FALSE) -> #DIV/0! | G11: =IF(C11="BB","R or I",IF(C11="AA","S/S",IF(C11="AB","S/R or S/I","Unknown"))) -> S/R or S/I | H11: =IF(E11="BB","R or A",IF(E11="AA","S or I",IF(E11="AB","S/R or R/I or S/A or I/A","Unknown"))) -> S/R or R/I or S/A or I/A
A12: ='F6-2 plate 1'!A15 -> AB | B12: A09 | C12: =VLOOKUP(B12,'F1-1 plate 1'!B$7:H$102,7,FALSE) -> AB | D12: =VLOOKUP(B12,'F1-1 plate 1'!B$7:J$102,9,FALSE) -> #DIV/0! | E12: =VLOOKUP(B12,'F6-2 plate 1'!B$7:H$102,7,FALSE) -> AB | F12: =VLOOKUP(genotyping!B12,'F6-2 plate 1'!B$7:J$102,9,FALSE) -> #DIV/0! | G12: =IF(C12="BB","R or I",IF(C12="AA","S/S",IF(C12="AB","S/R or S/I","Unknown"))) -> S/R or S/I | H12: =IF(E12="BB","R or A",IF(E12="AA","S or I",IF(E12="AB","S/R or R/I or S/A or I/A","Unknown"))) -> S/R or R/I or S/A or I/A
A13: ='F6-2 plate 1'!A16 -> BB | B13: A10 | C13: =VLOOKUP(B13,'F1-1 plate 1'!B$7:H$102,7,FALSE) -> BB | D13: =VLOOKUP(B13,'F1-1 plate 1'!B$7:J$102,9,FALSE) -> #DIV/0! | E13: =VLOOKUP(B13,'F6-2 plate 1'!B$7:H$102,7,FALSE) -> BB | F13: =VLOOKUP(genotyping!B13,'F6-2 plate 1'!B$7:J$102,9,FALSE) -> #DIV/0! | G13: =IF(C13="BB","R or I",IF(C13="AA","S/S",IF(C13="AB","S/R or S/I","Unknown"))) -> R or I | H13: =IF(E13="BB","R or A",IF(E13="AA","S or I",IF(E13="AB","S/R or R/I or S/A or I/A","Unknown"))) -> R or A
A14: ='F6-2 plate 1'!A17 -> BB | B14: A11 | C14: =VLOOKUP(B14,'F1-1 plate 1'!B$7:H$102,7,FALSE) -> BB | D14: =VLOOKUP(B14,'F1-1 plate 1'!B$7:J$102,9,FALSE) -> #DIV/0! | E14: =VLOOKUP(B14,'F6-2 plate 1'!B$7:H$102,7,FALSE) -> BB | F14: =VLOOKUP(genotyping!B14,'F6-2 plate 1'!B$7:J$102,9,FALSE) -> #DIV/0! | G14: =IF(C14="BB","R or I",IF(C14="AA","S/S",IF(C14="AB","S/R or S/I","Unknown"))) -> R or I | H14: =IF(E14="BB","R or A",IF(E14="AA","S or I",IF(E14="AB","S/R or R/I or S/A or I/A","Unknown"))) -> R or A
A15: ='F6-2 plate 1'!A18 -> BB | B15: A12 | C15: =VLOOKUP(B15,'F1-1 plate 1'!B$7:H$102,7,FALSE) -> BB | D15: =VLOOKUP(B15,'F1-1 plate 1'!B$7:J$102,9,FALSE) -> #DIV/0! | E15: =VLOOKUP(B15,'F6-2 plate 1'!B$7:H$102,7,FALSE) -> BB | F15: =VLOOKUP(genotyping!B15,'F6-2 plate 1'!B$7:J$102,9,FALSE) -> #DIV/0! | G15: =IF(C15="BB","R or I",IF(C15="AA","S/S",IF(C15="AB","S/R or S/I","Unknown"))) -> R or I | H15: =IF(E15="BB","R or A",IF(E15="AA","S or I",IF(E15="AB","S/R or R/I or S/A or I/A","Unknown"))) -> R or A
A16: plate 1 | B16: B01 | C16: =VLOOKUP(B16,'F1-1 plate 1'!B$7:H$102,7,FALSE) -> #DIV/0! | D16: =VLOOKUP(B16,'F1-1 plate 1'!B$7:J$102,9,FALSE) -> #DIV/0! | E16: =VLOOKUP(B16,'F6-2 plate 1'!B$7:H$102,7,FALSE) -> #DIV/0! | F16: =VLOOKUP(genotyping!B16,'F6-2 plate 1'!B$7:J$102,9,FALSE) -> #DIV/0! | G16: =IF(C16="BB","R or I",IF(C16="AA","S/S",IF(C16="AB","S/R or S/I","Unknown"))) -> #DIV/0! | H16: =IF(E16="BB","R or A",IF(E16="AA","S or I",IF(E16="AB","S/R or R/I or S/A or I/A","Unknown"))) -> #DIV/0! | I16: ='F1-1 plate 1'!$M$5 -> #DIV/0! | J16: ='F6-2 plate 1'!$M$5 -> #DIV/0!
A17: plate 1 | B17: B02 | C17: =VLOOKUP(B17,'F1-1 plate 1'!B$7:H$102,7,FALSE) -> #DIV/0! | D17: =VLOOKUP(B17,'F1-1 plate 1'!B$7:J$102,9,FALSE) -> #DIV/0! | E17: =VLOOKUP(B17,'F6-2 plate 1'!B$7:H$102,7,FALSE) -> #DIV/0! | F17: =VLOOKUP(genotyping!B17,'F6-2 plate 1'!B$7:J$102,9,FALSE) -> #DIV/0! | G17: =IF(C17="BB","R or I",IF(C17="AA","S/S",IF(C17="AB","S/R or S/I","Unknown"))) -> #DIV/0! | H17: =IF(E17="BB","R or A",IF(E17="AA","S or I",IF(E17="AB","S/R or R/I or S/A or I/A","Unknown"))) -> #DIV/0!
A18: plate 1 | B18: B03 | C18: =VLOOKUP(B18,'F1-1 plate 1'!B$7:H$102,7,FALSE) -> #DIV/0! | D18: =VLOOKUP(B18,'F1-1 plate 1'!B$7:J$102,9,FALSE) -> #DIV/0! | E18: =VLOOKUP(B18,'F6-2 plate 1'!B$7:H$102,7,FALSE) -> #DIV/0! | F18: =VLOOKUP(genotyping!B18,'F6-2 plate 1'!B$7:J$102,9,FALSE) -> #DIV/0! | G18: =IF(C18="BB","R or I",IF(C18="AA","S/S",IF(C18="AB","S/R or S/I","Unknown"))) -> #DIV/0! | H18: =IF(E18="BB","R or A",IF(E18="AA","S or I",IF(E18="AB","S/R or R/I or S/A or I/A","Unknown"))) -> #DIV/0!
A19: plate 1 | B19: B04 | C19: =VLOOKUP(B19,'F1-1 plate 1'!B$7:H$102,7,FALSE) -> #DIV/0! | D19: =VLOOKUP(B19,'F1-1 plate 1'!B$7:J$102,9,FALSE) -> #DIV/0! | E19: =VLOOKUP(B19,'F6-2 plate 1'!B$7:H$102,7,FALSE) -> #DIV/0! | F19: =VLOOKUP(genotyping!B19,'F6-2 plate 1'!B$7:J$102,9,FALSE) -> #DIV/0! | G19: =IF(C19="BB","R or I",IF(C19="AA","S/S",IF(C19="AB","S/R or S/I","Unknown"))) -> #DIV/0! | H19: =IF(E19="BB","R or A",IF(E19="AA","S or I",IF(E19="AB","S/R or R/I or S/A or I/A","Unknown"))) -> #DIV/0!
A20: plate 1 | B20: B05 | C20: =VLOOKUP(B20,'F1-1 plate 1'!B$7:H$102,7,FALSE) -> #DIV/0! | D20: =VLOOKUP(B20,'F1-1 plate 1'!B$7:J$102,9,FALSE) -> #DIV/0! | E20: =VLOOKUP(B20,'F6-2 plate 1'!B$7:H$102,7,FALSE) -> #DIV/0! | F20: =VLOOKUP(genotyping!B20,'F6-2 plate 1'!B$7:J$102,9,FALSE) -> #DIV/0! | G20: =IF(C20="BB","R or I",IF(C20="AA","S/S",IF(C20="AB","S/R or S/I","Unknown"))) -> #DIV/0! | H20: =IF(E20="BB","R or A",IF(E20="AA","S or I",IF(E20="AB","S/R or R/I or S/A or I/A","Unknown"))) -> #DIV/0!
A21: plate 1 | B21: B06 | C21: =VLOOKUP(B21,'F1-1 plate 1'!B$7:H$102,7,FALSE) -> #DIV/0! | D21: =VLOOKUP(B21,'F1-1 plate 1'!B$7:J$102,9,FALSE) -> #DIV/0! | E21: =VLOOKUP(B21,'F6-2 plate 1'!B$7:H$102,7,FALSE) -> #DIV/0! | F21: =VLOOKUP(genotyping!B21,'F6-2 plate 1'!B$7:J$102,9,FALSE) -> #DIV/0! | G21: =IF(C21="BB","R or I",IF(C21="AA","S/S",IF(C21="AB","S/R or S/I","Unknown"))) -> #DIV/0! | H21: =IF(E21="BB","R or A",IF(E21="AA","S or I",IF(E21="AB","S/R or R/I or S/A or I/A","Unknown"))) -> #DIV/0!
A22: plate 1 | B22: B07 | C22: =VLOOKUP(B22,'F1-1 plate 1'!B$7:H$102,7,FALSE) -> #DIV/0! | D22: =VLOOKUP(B22,'F1-1 plate 1'!B$7:J$102,9,FALSE) -> #DIV/0! | E22: =VLOOKUP(B22,'F6-2 plate 1'!B$7:H$102,7,FALSE) -> #DIV/0! | F22: =VLOOKUP(genotyping!B22,'F6-2 plate 1'!B$7:J$102,9,FALSE) -> #DIV/0! | G22: =IF(C22="BB","R or I",IF(C22="AA","S/S",IF(C22="AB","S/R or S/I","Unknown"))) -> #DIV/0! | H22: =IF(E22="BB","R or A",IF(E22="AA","S or I",IF(E22="AB","S/R or R/I or S/A or I/A","Unknown"))) -> #DIV/0!
A23: plate 1 | B23: B08 | C23: =VLOOKUP(B23,'F1-1 plate 1'!B$7:H$102,7,FALSE) -> #DIV/0! | D23: =VLOOKUP(B23,'F1-1 plate 1'!B$7:J$102,9,FALSE) -> #DIV/0! | E23: =VLOOKUP(B23,'F6-2 plate 1'!B$7:H$102,7,FALSE) -> #DIV/0! | F23: =VLOOKUP(genotyping!B23,'F6-2 plate 1'!B$7:J$102,9,FALSE) -> #DIV/0! | G23: =IF(C23="BB","R or I",IF(C23="AA","S/S",IF(C23="AB","S/R or S/I","Unknown"))) -> #DIV/0! | H23: =IF(E23="BB","R or A",IF(E23="AA","S or I",IF(E23="AB","S/R or R/I or S/A or I/A","Unknown"))) -> #DIV/0!
A24: plate 1 | B24: B09 | C24: =VLOOKUP(B24,'F1-1 plate 1'!B$7:H$102,7,FALSE) -> #DIV/0! | D24: =VLOOKUP(B24,'F1-1 plate 1'!B$7:J$102,9,FALSE) -> #DIV/0! | E24: =VLOOKUP(B24,'F6-2 plate 1'!B$7:H$102,7,FALSE) -> #DIV/0! | F24: =VLOOKUP(genotyping!B24,'F6-2 plate 1'!B$7:J$102,9,FALSE) -> #DIV/0! | G24: =IF(C24="BB","R or I",IF(C24="AA","S/S",IF(C24="AB","S/R or S/I","Unknown"))) -> #DIV/0! | H24: =IF(E24="BB","R or A",IF(E24="AA","S or I",IF(E24="AB","S/R or R/I or S/A or I/A","Unknown"))) -> #DIV/0!
A25: plate 1 | B25: B10 | C25: =VLOOKUP(B25,'F1-1 plate 1'!B$7:H$102,7,FALSE) -> #DIV/0! | D25: =VLOOKUP(B25,'F1-1 plate 1'!B$7:J$102,9,FALSE) -> #DIV/0! | E25: =VLOOKUP(B25,'F6-2 plate 1'!B$7:H$102,7,FALSE) -> #DIV/0! | F25: =VLOOKUP(genotyping!B25,'F6-2 plate 1'!B$7:J$102,9,FALSE) -> #DIV/0! | G25: =IF(C25="BB","R or I",IF(C25="AA","S/S",IF(C25="AB","S/R or S/I","Unknown"))) -> #DIV/0! | H25: =IF(E25="BB","R or A",IF(E25="AA","S or I",IF(E25="AB","S/R or R/I or S/A or I/A","Unknown"))) -> #DIV/0!
A26: plate 1 | B26: B11 | C26: =VLOOKUP(B26,'F1-1 plate 1'!B$7:H$102,7,FALSE) -> #DIV/0! | D26: =VLOOKUP(B26,'F1-1 plate 1'!B$7:J$102,9,FALSE) -> #DIV/0! | E26: =VLOOKUP(B26,'F6-2 plate 1'!B$7:H$102,7,FALSE) -> #DIV/0! | F26: =VLOOKUP(genotyping!B26,'F6-2 plate 1'!B$7:J$102,9,FALSE) -> #DIV/0! | G26: =IF(C26="BB","R or I",IF(C26="AA","S/S",IF(C26="AB","S/R or S/I","Unknown"))) -> #DIV/0! | H26: =IF(E26="BB","R or A",IF(E26="AA","S or I",IF(E26="AB","S/R or R/I or S/A or I/A","Unknown"))) -> #DIV/0!
A27: plate 1 | B27: B12 | C27: =VLOOKUP(B27,'F1-1 plate 1'!B$7:H$102,7,FALSE) -> #DIV/0! | D27: =VLOOKUP(B27,'F1-1 plate 1'!B$7:J$102,9,FALSE) -> #DIV/0! | E27: =VLOOKUP(B27,'F6-2 plate 1'!B$7:H$102,7,FALSE) -> #DIV/0! | F27: =VLOOKUP(genotyping!B27,'F6-2 plate 1'!B$7:J$102,9,FALSE) -> #DIV/0! | G27: =IF(C27="BB","R or I",IF(C27="AA","S/S",IF(C27="AB","S/R or S/I","Unknown"))) -> #DIV/0! | H27: =IF(E27="BB","R or A",IF(E27="AA","S or I",IF(E27="AB","S/R or R/I or S/A or I/A","Unknown"))) -> #DIV/0!
A28: plate 1 | B28: C01 | C28: =VLOOKUP(B28,'F1-1 plate 1'!B$7:H$102,7,FALSE) -> #DIV/0! | D28: =VLOOKUP(B28,'F1-1 plate 1'!B$7:J$102,9,FALSE) -> #DIV/0! | E28: =VLOOKUP(B28,'F6-2 plate 1'!B$7:H$102,7,FALSE) -> #DIV/0! | F28: =VLOOKUP(genotyping!B28,'F6-2 plate 1'!B$7:J$102,9,FALSE) -> #DIV/0! | G28: =IF(C28="BB","R or I",IF(C28="AA","S/S",IF(C28="AB","S/R or S/I","Unknown"))) -> #DIV/0! | H28: =IF(E28="BB","R or A",IF(E28="AA","S or I",IF(E28="AB","S/R or R/I or S/A or I/A","Unknown"))) -> #DIV/0!
... A99: plate 1 | B99: H12 | C99: =VLOOKUP(B99,'F1-1 plate 1'!B$7:H$102,7,FALSE) -> #DIV/0! | D99: =VLOOKUP(B99,'F1-1 plate 1'!B$7:J$102,9,FALSE) -> #DIV/0! | E99: =VLOOKUP(B99,'F6-2 plate 1'!B$7:H$102,7,FALSE) -> #DIV/0! | F99: =VLOOKUP(genotyping!B99,'F6-2 plate 1'!B$7:J$102,9,FALSE) -> #DIV/0! | G99: =IF(C99="BB","R or I",IF(C99="AA","S/S",IF(C99="AB","S/R or S/I","Unknown"))) -> #DIV/0! | H99: =IF(E99="BB","R or A",IF(E99="AA","S or I",IF(E99="AB","S/R or R/I or S/A or I/A","Unknown"))) -> #DIV/0!
A100: plate 2 | B100: B01 | C100: =VLOOKUP(B100,'F1-1 plate 2'!B$7:H$102,7,FALSE) -> #DIV/0! | D100: =VLOOKUP(B100,'F1-1 plate 2'!B$7:J$102,9,FALSE) -> #DIV/0! | E100: =VLOOKUP(B100,'F6-2 plate 2'!B$7:H$102,7,FALSE) -> #DIV/0! | F100: =VLOOKUP(genotyping!B100,'F6-2 plate 2'!B$7:J$102,9,FALSE) -> #DIV/0! | G100: =IF(C100="BB","R or I",IF(C100="AA","S/S",IF(C100="AB","S/R or S/I","Unknown"))) -> #DIV/0! | H100: =IF(E100="BB","R or A",IF(E100="AA","S or I",IF(E100="AB","S/R or R/I or S/A or I/A","Unknown"))) -> #DIV/0! | I100: ='F1-1 plate 2'!$M$5 -> #DIV/0! | J100: ='F6-2 plate 2'!$M$5 -> #DIV/0!
A101: plate 2 | B101: B02 | C101: =VLOOKUP(B101,'F1-1 plate 2'!B$7:H$102,7,FALSE) -> #DIV/0! | D101: =VLOOKUP(B101,'F1-1 plate 2'!B$7:J$102,9,FALSE) -> #DIV/0! | E101: =VLOOKUP(B101,'F6-2 plate 2'!B$7:H$102,7,FALSE) -> #DIV/0! | F101: =VLOOKUP(genotyping!B101,'F6-2 plate 2'!B$7:J$102,9,FALSE) -> #DIV/0! | G101: =IF(C101="BB","R or I",IF(C101="AA","S/S",IF(C101="AB","S/R or S/I","Unknown"))) -> #DIV/0! | H101: =IF(E101="BB","R or A",IF(E101="AA","S or I",IF(E101="AB","S/R or R/I or S/A or I/A","Unknown"))) -> #DIV/0!
A102: plate 2 | B102: B03 | C102: =VLOOKUP(B102,'F1-1 plate 2'!B$7:H$102,7,FALSE) -> #DIV/0! | D102: =VLOOKUP(B102,'F1-1 plate 2'!B$7:J$102,9,FALSE) -> #DIV/0! | E102: =VLOOKUP(B102,'F6-2 plate 2'!B$7:H$102,7,FALSE) -> #DIV/0! | F102: =VLOOKUP(genotyping!B102,'F6-2 plate 2'!B$7:J$102,9,FALSE) -> #DIV/0! | G102: =IF(C102="BB","R or I",IF(C102="AA","S/S",IF(C102="AB","S/R or S/I","Unknown"))) -> #DIV/0! | H102: =IF(E102="BB","R or A",IF(E102="AA","S or I",IF(E102="AB","S/R or R/I or S/A or I/A","Unknown"))) -> #DIV/0!
A103: plate 2 | B103: B04 | C103: =VLOOKUP(B103,'F1-1 plate 2'!B$7:H$102,7,FALSE) -> #DIV/0! | D103: =VLOOKUP(B103,'F1-1 plate 2'!B$7:J$102,9,FALSE) -> #DIV/0! | E103: =VLOOKUP(B103,'F6-2 plate 2'!B$7:H$102,7,FALSE) -> #DIV/0! | F103: =VLOOKUP(genotyping!B103,'F6-2 plate 2'!B$7:J$102,9,FALSE) -> #DIV/0! | G103: =IF(C103="BB","R or I",IF(C103="AA","S/S",IF(C103="AB","S/R or S/I","Unknown"))) -> #DIV/0! | H103: =IF(E103="BB","R or A",IF(E103="AA","S or I",IF(E103="AB","S/R or R/I or S/A or I/A","Unknown"))) -> #DIV/0!
A104: plate 2 | B104: B05 | C104: =VLOOKUP(B104,'F1-1 plate 2'!B$7:H$102,7,FALSE) -> #DIV/0! | D104: =VLOOKUP(B104,'F1-1 plate 2'!B$7:J$102,9,FALSE) -> #DIV/0! | E104: =VLOOKUP(B104,'F6-2 plate 2'!B$7:H$102,7,FALSE) -> #DIV/0! | F104: =VLOOKUP(genotyping!B104,'F6-2 plate 2'!B$7:J$102,9,FALSE) -> #DIV/0! | G104: =IF(C104="BB","R or I",IF(C104="AA","S/S",IF(C104="AB","S/R or S/I","Unknown"))) -> #DIV/0! | H104: =IF(E104="BB","R or A",IF(E104="AA","S or I",IF(E104="AB","S/R or R/I or S/A or I/A","Unknown"))) -> #DIV/0!
A105: plate 2 | B105: B06 | C105: =VLOOKUP(B105,'F1-1 plate 2'!B$7:H$102,7,FALSE) -> #DIV/0! | D105: =VLOOKUP(B105,'F1-1 plate 2'!B$7:J$102,9,FALSE) -> #DIV/0! | E105: =VLOOKUP(B105,'F6-2 plate 2'!B$7:H$102,7,FALSE) -> #DIV/0! | F105: =VLOOKUP(genotyping!B105,'F6-2 plate 2'!B$7:J$102,9,FALSE) -> #DIV/0! | G105: =IF(C105="BB","R or I",IF(C105="AA","S/S",IF(C105="AB","S/R or S/I","Unknown"))) -> #DIV/0! | H105: =IF(E105="BB","R or A",IF(E105="AA","S or I",IF(E105="AB","S/R or R/I or S/A or I/A","Unknown"))) -> #DIV/0!
A106: plate 2 | B106: B07 | C106: =VLOOKUP(B106,'F1-1 plate 2'!B$7:H$102,7,FALSE) -> #DIV/0! | D106: =VLOOKUP(B106,'F1-1 plate 2'!B$7:J$102,9,FALSE) -> #DIV/0! | E106: =VLOOKUP(B106,'F6-2 plate 2'!B$7:H$102,7,FALSE) -> #DIV/0! | F106: =VLOOKUP(genotyping!B106,'F6-2 plate 2'!B$7:J$102,9,FALSE) -> #DIV/0! | G106: =IF(C106="BB","R or I",IF(C106="AA","S/S",IF(C106="AB","S/R or S/I","Unknown"))) -> #DIV/0! | H106: =IF(E106="BB","R or A",IF(E106="AA","S or I",IF(E106="AB","S/R or R/I or S/A or I/A","Unknown"))) -> #DIV/0!
A107: plate 2 | B107: B08 | C107: =VLOOKUP(B107,'F1-1 plate 2'!B$7:H$102,7,FALSE) -> #DIV/0! | D107: =VLOOKUP(B107,'F1-1 plate 2'!B$7:J$102,9,FALSE) -> #DIV/0! | E107: =VLOOKUP(B107,'F6-2 plate 2'!B$7:H$102,7,FALSE) -> #DIV/0! | F107: =VLOOKUP(genotyping!B107,'F6-2 plate 2'!B$7:J$102,9,FALSE) -> #DIV/0! | G107: =IF(C107="BB","R or I",IF(C107="AA","S/S",IF(C107="AB","S/R or S/I","Unknown"))) -> #DIV/0! | H107: =IF(E107="BB","R or A",IF(E107="AA","S or I",IF(E107="AB","S/R or R/I or S/A or I/A","Unknown"))) -> #DIV/0!
A108: plate 2 | B108: B09 | C108: =VLOOKUP(B108,'F1-1 plate 2'!B$7:H$102,7,FALSE) -> #DIV/0! | D108: =VLOOKUP(B108,'F1-1 plate 2'!B$7:J$102,9,FALSE) -> #DIV/0! | E108: =VLOOKUP(B108,'F6-2 plate 2'!B$7:H$102,7,FALSE) -> #DIV/0! | F108: =VLOOKUP(genotyping!B108,'F6-2 plate 2'!B$7:J$102,9,FALSE) -> #DIV/0! | G108: =IF(C108="BB","R or I",IF(C108="AA","S/S",IF(C108="AB","S/R or S/I","Unknown"))) -> #DIV/0! | H108: =IF(E108="BB","R or A",IF(E108="AA","S or I",IF(E108="AB","S/R or R/I or S/A or I/A","Unknown"))) -> #DIV/0!
A109: plate 2 | B109: B10 | C109: =VLOOKUP(B109,'F1-1 plate 2'!B$7:H$102,7,FALSE) -> #DIV/0! | D109: =VLOOKUP(B109,'F1-1 plate 2'!B$7:J$102,9,FALSE) -> #DIV/0! | E109: =VLOOKUP(B109,'F6-2 plate 2'!B$7:H$102,7,FALSE) -> #DIV/0! | F109: =VLOOKUP(genotyping!B109,'F6-2 plate 2'!B$7:J$102,9,FALSE) -> #DIV/0! | G109: =IF(C109="BB","R or I",IF(C109="AA","S/S",IF(C109="AB","S/R or S/I","Unknown"))) -> #DIV/0! | H109: =IF(E109="BB","R or A",IF(E109="AA","S or I",IF(E109="AB","S/R or R/I or S/A or I/A","Unknown"))) -> #DIV/0!
A110: plate 2 | B110: B11 | C110: =VLOOKUP(B110,'F1-1 plate 2'!B$7:H$102,7,FALSE) -> #DIV/0! | D110: =VLOOKUP(B110,'F1-1 plate 2'!B$7:J$102,9,FALSE) -> #DIV/0! | E110: =VLOOKUP(B110,'F6-2 plate 2'!B$7:H$102,7,FALSE) -> #DIV/0! | F110: =VLOOKUP(genotyping!B110,'F6-2 plate 2'!B$7:J$102,9,FALSE) -> #DIV/0! | G110: =IF(C110="BB","R or I",IF(C110="AA","S/S",IF(C110="AB","S/R or S/I","Unknown"))) -> #DIV/0! | H110: =IF(E110="BB","R or A",IF(E110="AA","S or I",IF(E110="AB","S/R or R/I or S/A or I/A","Unknown"))) -> #DIV/0!
...

Sheet F1-1 plate 1
A1: TO USE TEMPLATE: Cells you can change are in gray. Make a copy of this worksheet. Then paste your RFUs in columns C and D. You can change the dotted boundary for no amplification in the top chart in S9 and R13. You can change the lower and upper bounds for assigning heterozygotes in the bottom chart in S31 and S34. You can also change how close the values can be to the bounds before being flagged in cell S36.
V4: FOR GRAPHING: GENOTYPING | AD4: FOR GRAPHING: SCATTERPLOT
A5: F1-1 PLATE 1 | L5: BAD PLATE? | M5: =IF(OR(I7="",I8="",I9=""),"NTCs amplified",IF(OR(W103=0,X103=0,Y103=0),"Only two clusters","AOK!")) -> #DIV/0!
A6: Plate | B6: Well | C6: FAM | D6: HEX | E6: %FAM | F6: %HEX | G6: delta | H6: genotype | I6: No amplification | J6: Marginal? | U6: cell ID | V6: No amp | W6: AA | X6: AB | Y6: BB | Z6: Marginal | AC6: cell ID | AD6: No amp | AE6: AA | AF6: AB | AG6: BB | AH6: Marginal
A7: NTC | B7: A01 | E7: =(C7-MIN(C$7:C$102))/(MAX(C$7:C$102)-MIN(C$7:C$102))*100 -> #DIV/0! | F7: =(D7-MIN(D$7:D$102))/(MAX(D$7:D$102)-MIN(D$7:D$102))*100 -> #DIV/0! | G7: =F7-E7 -> #DIV/0! | H7: NTC | I7: =IF(AND(E7<$R$13,F7<$S$9),G7,"") -> #DIV/0! | J7: =IF(OR(AND(($S$31-$S$36)<G7,($S$31+$S$36)>G7),AND(($S$34-$S$36)<G7,($S$34+$S$36)>G7)),"CHECK","") -> #DIV/0! | R7: HEX bound for no amp | U7: NTC | V7: =IF(I7="",NA(),G7) -> #DIV/0! | W7: =IF(AND(I7="",G7<$S$31),G7,NA()) -> #DIV/0! | X7: =IF(AND(I7="",G7<$S$34,G7>$S$31),G7,NA()) -> #DIV/0! | Y7: =IF(AND(I7="",G7>$S$34),G7,NA()) -> #DIV/0! | Z7: =IF(J7="CHECK",G7,NA()) -> #DIV/0! | AC7: NTC | AD7: =IF(V7<>"#N/A",$F7,"") -> #DIV/0! | AE7: =IF(W7<>"#N/A",$F7,"") -> #DIV/0! | AF7: =IF(X7<>"#N/A",$F7,"") -> #DIV/0! | AG7: =IF(Y7<>"#N/A",$F7,"") -> #DIV/0! | AH7: =IF(Z7<>"#N/A",$F7,"") -> #DIV/0!
A8: NTC | B8: A02 | E8: =(C8-MIN(C$7:C$102))/(MAX(C$7:C$102)-MIN(C$7:C$102))*100 -> #DIV/0! | F8: =(D8-MIN(D$7:D$102))/(MAX(D$7:D$102)-MIN(D$7:D$102))*100 -> #DIV/0! | G8: =F8-E8 -> #DIV/0! | H8: NTC | I8: =IF(AND(E8<$R$13,F8<$S$9),G8,"") -> #DIV/0! | J8: =IF(OR(AND(($S$31-$S$36)<G8,($S$31+$S$36)>G8),AND(($S$34-$S$36)<G8,($S$34+$S$36)>G8)),"CHECK","") -> #DIV/0! | R8: x-coordinate | S8: y-coordinate | U8: NTC | V8: =IF(I8="",NA(),G8) -> #DIV/0! | W8: =IF(AND(I8="",G8<$S$31),G8,NA()) -> #DIV/0! | X8: =IF(AND(I8="",G8<$S$34,G8>$S$31),G8,NA()) -> #DIV/0! | Y8: =IF(AND(I8="",G8>$S$34),G8,NA()) -> #DIV/0! | Z8: =IF(J8="CHECK",G8,NA()) -> #DIV/0! | AC8: NTC | AD8: =IF(V8<>"#N/A",$F8,"") -> #DIV/0! | AE8: =IF(W8<>"#N/A",$F8,"") -> #DIV/0! | AF8: =IF(X8<>"#N/A",$F8,"") -> #DIV/0! | AG8: =IF(Y8<>"#N/A",$F8,"") -> #DIV/0! | AH8: =IF(Z8<>"#N/A",$F8,"") -> #DIV/0!
A9: NTC | B9: A03 | E9: =(C9-MIN(C$7:C$102))/(MAX(C$7:C$102)-MIN(C$7:C$102))*100 -> #DIV/0! | F9: =(D9-MIN(D$7:D$102))/(MAX(D$7:D$102)-MIN(D$7:D$102))*100 -> #DIV/0! | G9: =F9-E9 -> #DIV/0! | H9: NTC | I9: =IF(AND(E9<$R$13,F9<$S$9),G9,"") -> #DIV/0! | J9: =IF(OR(AND(($S$31-$S$36)<G9,($S$31+$S$36)>G9),AND(($S$34-$S$36)<G9,($S$34+$S$36)>G9)),"CHECK","") -> #DIV/0! | R9: 0 | S9: 20 | U9: NTC | V9: =IF(I9="",NA(),G9) -> #DIV/0! | W9: =IF(AND(I9="",G9<$S$31),G9,NA()) -> #DIV/0! | X9: =IF(AND(I9="",G9<$S$34,G9>$S$31),G9,NA()) -> #DIV/0! | Y9: =IF(AND(I9="",G9>$S$34),G9,NA()) -> #DIV/0! | Z9: =IF(J9="CHECK",G9,NA()) -> #DIV/0! | AC9: NTC | AD9: =IF(V9<>"#N/A",$F9,"") -> #DIV/0! | AE9: =IF(W9<>"#N/A",$F9,"") -> #DIV/0! | AF9: =IF(X9<>"#N/A",$F9,"") -> #DIV/0! | AG9: =IF(Y9<>"#N/A",$F9,"") -> #DIV/0! | AH9: =IF(Z9<>"#N/A",$F9,"") -> #DIV/0!
A10: AA | B10: A04 | E10: =(C10-MIN(C$7:C$102))/(MAX(C$7:C$102)-MIN(C$7:C$102))*100 -> #DIV/0! | F10: =(D10-MIN(D$7:D$102))/(MAX(D$7:D$102)-MIN(D$7:D$102))*100 -> #DIV/0! | G10: =F10-E10 -> #DIV/0! | H10: AA | I10: =IF(AND(E10<$R$13,F10<$S$9),G10,"") -> #DIV/0! | J10: =IF(OR(AND(($S$31-$S$36)<G10,($S$31+$S$36)>G10),AND(($S$34-$S$36)<G10,($S$34+$S$36)>G10)),"CHECK","") -> #DIV/0! | R10: =R13 -> 20 | S10: =S9 -> 20 | U10: AA | V10: =IF(I10="",NA(),G10) -> #DIV/0! | W10: =IF(AND(I10="",G10<$S$31),G10,NA()) -> #DIV/0! | X10: =IF(AND(I10="",G10<$S$34,G10>$S$31),G10,NA()) -> #DIV/0! | Y10: =IF(AND(I10="",G10>$S$34),G10,NA()) -> #DIV/0! | Z10: =IF(J10="CHECK",G10,NA()) -> #DIV/0! | AC10: AA | AD10: =IF(V10<>"#N/A",$F10,"") -> #DIV/0! | AE10: =IF(W10<>"#N/A",$F10,"") -> #DIV/0! | AF10: =IF(X10<>"#N/A",$F10,"") -> #DIV/0! | AG10: =IF(Y10<>"#N/A",$F10,"") -> #DIV/0! | AH10: =IF(Z10<>"#N/A",$F10,"") -> #DIV/0!
A11: AA | B11: A05 | E11: =(C11-MIN(C$7:C$102))/(MAX(C$7:C$102)-MIN(C$7:C$102))*100 -> #DIV/0! | F11: =(D11-MIN(D$7:D$102))/(MAX(D$7:D$102)-MIN(D$7:D$102))*100 -> #DIV/0! | G11: =F11-E11 -> #DIV/0! | H11: AA | I11: =IF(AND(E11<$R$13,F11<$S$9),G11,"") -> #DIV/0! | J11: =IF(OR(AND(($S$31-$S$36)<G11,($S$31+$S$36)>G11),AND(($S$34-$S$36)<G11,($S$34+$S$36)>G11)),"CHECK","") -> #DIV/0! | R11: FAM bound for no amp | U11: AA | V11: =IF(I11="",NA(),G11) -> #DIV/0! | W11: =IF(AND(I11="",G11<$S$31),G11,NA()) -> #DIV/0! | X11: =IF(AND(I11="",G11<$S$34,G11>$S$31),G11,NA()) -> #DIV/0! | Y11: =IF(AND(I11="",G11>$S$34),G11,NA()) -> #DIV/0! | Z11: =IF(J11="CHECK",G11,NA()) -> #DIV/0! | AC11: AA | AD11: =IF(V11<>"#N/A",$F11,"") -> #DIV/0! | AE11: =IF(W11<>"#N/A",$F11,"") -> #DIV/0! | AF11: =IF(X11<>"#N/A",$F11,"") -> #DIV/0! | AG11: =IF(Y11<>"#N/A",$F11,"") -> #DIV/0! | AH11: =IF(Z11<>"#N/A",$F11,"") -> #DIV/0!
A12: AA | B12: A06 | E12: =(C12-MIN(C$7:C$102))/(MAX(C$7:C$102)-MIN(C$7:C$102))*100 -> #DIV/0! | F12: =(D12-MIN(D$7:D$102))/(MAX(D$7:D$102)-MIN(D$7:D$102))*100 -> #DIV/0! | G12: =F12-E12 -> #DIV/0! | H12: AA | I12: =IF(AND(E12<$R$13,F12<$S$9),G12,"") -> #DIV/0! | J12: =IF(OR(AND(($S$31-$S$36)<G12,($S$31+$S$36)>G12),AND(($S$34-$S$36)<G12,($S$34+$S$36)>G12)),"CHECK","") -> #DIV/0! | R12: x-coordinate | S12: y-coordinate | U12: AA | V12: =IF(I12="",NA(),G12) -> #DIV/0! | W12: =IF(AND(I12="",G12<$S$31),G12,NA()) -> #DIV/0! | X12: =IF(AND(I12="",G12<$S$34,G12>$S$31),G12,NA()) -> #DIV/0! | Y12: =IF(AND(I12="",G12>$S$34),G12,NA()) -> #DIV/0! | Z12: =IF(J12="CHECK",G12,NA()) -> #DIV/0! | AC12: AA | AD12: =IF(V12<>"#N/A",$F12,"") -> #DIV/0! | AE12: =IF(W12<>"#N/A",$F12,"") -> #DIV/0! | AF12: =IF(X12<>"#N/A",$F12,"") -> #DIV/0! | AG12: =IF(Y12<>"#N/A",$F12,"") -> #DIV/0! | AH12: =IF(Z12<>"#N/A",$F12,"") -> #DIV/0!
A13: AB | B13: A07 | E13: =(C13-MIN(C$7:C$102))/(MAX(C$7:C$102)-MIN(C$7:C$102))*100 -> #DIV/0! | F13: =(D13-MIN(D$7:D$102))/(MAX(D$7:D$102)-MIN(D$7:D$102))*100 -> #DIV/0! | G13: =F13-E13 -> #DIV/0! | H13: AB | I13: =IF(AND(E13<$R$13,F13<$S$9),G13,"") -> #DIV/0! | J13: =IF(OR(AND(($S$31-$S$36)<G13,($S$31+$S$36)>G13),AND(($S$34-$S$36)<G13,($S$34+$S$36)>G13)),"CHECK","") -> #DIV/0! | R13: 20 | S13: 0 | U13: AB | V13: =IF(I13="",NA(),G13) -> #DIV/0! | W13: =IF(AND(I13="",G13<$S$31),G13,NA()) -> #DIV/0! | X13: =IF(AND(I13="",G13<$S$34,G13>$S$31),G13,NA()) -> #DIV/0! | Y13: =IF(AND(I13="",G13>$S$34),G13,NA()) -> #DIV/0! | Z13: =IF(J13="CHECK",G13,NA()) -> #DIV/0! | AC13: AB | AD13: =IF(V13<>"#N/A",$F13,"") -> #DIV/0! | AE13: =IF(W13<>"#N/A",$F13,"") -> #DIV/0! | AF13: =IF(X13<>"#N/A",$F13,"") -> #DIV/0! | AG13: =IF(Y13<>"#N/A",$F13,"") -> #DIV/0! | AH13: =IF(Z13<>"#N/A",$F13,"") -> #DIV/0!
A14: AB | B14: A08 | E14: =(C14-MIN(C$7:C$102))/(MAX(C$7:C$102)-MIN(C$7:C$102))*100 -> #DIV/0! | F14: =(D14-MIN(D$7:D$102))/(MAX(D$7:D$102)-MIN(D$7:D$102))*100 -> #DIV/0! | G14: =F14-E14 -> #DIV/0! | H14: AB | I14: =IF(AND(E14<$R$13,F14<$S$9),G14,"") -> #DIV/0! | J14: =IF(OR(AND(($S$31-$S$36)<G14,($S$31+$S$36)>G14),AND(($S$34-$S$36)<G14,($S$34+$S$36)>G14)),"CHECK","") -> #DIV/0! | R14: =R13 -> 20 | S14: =S9 -> 20 | U14: AB | V14: =IF(I14="",NA(),G14) -> #DIV/0! | W14: =IF(AND(I14="",G14<$S$31),G14,NA()) -> #DIV/0! | X14: =IF(AND(I14="",G14<$S$34,G14>$S$31),G14,NA()) -> #DIV/0! | Y14: =IF(AND(I14="",G14>$S$34),G14,NA()) -> #DIV/0! | Z14: =IF(J14="CHECK",G14,NA()) -> #DIV/0! | AC14: AB | AD14: =IF(V14<>"#N/A",$F14,"") -> #DIV/0! | AE14: =IF(W14<>"#N/A",$F14,"") -> #DIV/0! | AF14: =IF(X14<>"#N/A",$F14,"") -> #DIV/0! | AG14: =IF(Y14<>"#N/A",$F14,"") -> #DIV/0! | AH14: =IF(Z14<>"#N/A",$F14,"") -> #DIV/0!
A15: AB | B15: A09 | E15: =(C15-MIN(C$7:C$102))/(MAX(C$7:C$102)-MIN(C$7:C$102))*100 -> #DIV/0! | F15: =(D15-MIN(D$7:D$102))/(MAX(D$7:D$102)-MIN(D$7:D$102))*100 -> #DIV/0! | G15: =F15-E15 -> #DIV/0! | H15: AB | I15: =IF(AND(E15<$R$13,F15<$S$9),G15,"") -> #DIV/0! | J15: =IF(OR(AND(($S$31-$S$36)<G15,($S$31+$S$36)>G15),AND(($S$34-$S$36)<G15,($S$34+$S$36)>G15)),"CHECK","") -> #DIV/0! | U15: AB | V15: =IF(I15="",NA(),G15) -> #DIV/0! | W15: =IF(AND(I15="",G15<$S$31),G15,NA()) -> #DIV/0! | X15: =IF(AND(I15="",G15<$S$34,G15>$S$31),G15,NA()) -> #DIV/0! | Y15: =IF(AND(I15="",G15>$S$34),G15,NA()) -> #DIV/0! | Z15: =IF(J15="CHECK",G15,NA()) -> #DIV/0! | AC15: AB | AD15: =IF(V15<>"#N/A",$F15,"") -> #DIV/0! | AE15: =IF(W15<>"#N/A",$F15,"") -> #DIV/0! | AF15: =IF(X15<>"#N/A",$F15,"") -> #DIV/0! | AG15: =IF(Y15<>"#N/A",$F15,"") -> #DIV/0! | AH15: =IF(Z15<>"#N/A",$F15,"") -> #DIV/0!
A16: BB | B16: A10 | E16: =(C16-MIN(C$7:C$102))/(MAX(C$7:C$102)-MIN(C$7:C$102))*100 -> #DIV/0! | F16: =(D16-MIN(D$7:D$102))/(MAX(D$7:D$102)-MIN(D$7:D$102))*100 -> #DIV/0! | G16: =F16-E16 -> #DIV/0! | H16: BB | I16: =IF(AND(E16<$R$13,F16<$S$9),G16,"") -> #DIV/0! | J16: =IF(OR(AND(($S$31-$S$36)<G16,($S$31+$S$36)>G16),AND(($S$34-$S$36)<G16,($S$34+$S$36)>G16)),"CHECK","") -> #DIV/0! | U16: BB | V16: =IF(I16="",NA(),G16) -> #DIV/0! | W16: =IF(AND(I16="",G16<$S$31),G16,NA()) -> #DIV/0! | X16: =IF(AND(I16="",G16<$S$34,G16>$S$31),G16,NA()) -> #DIV/0! | Y16: =IF(AND(I16="",G16>$S$34),G16,NA()) -> #DIV/0! | Z16: =IF(J16="CHECK",G16,NA()) -> #DIV/0! | AC16: BB | AD16: =IF(V16<>"#N/A",$F16,"") -> #DIV/0! | AE16: =IF(W16<>"#N/A",$F16,"") -> #DIV/0! | AF16: =IF(X16<>"#N/A",$F16,"") -> #DIV/0! | AG16: =IF(Y16<>"#N/A",$F16,"") -> #DIV/0! | AH16: =IF(Z16<>"#N/A",$F16,"") -> #DIV/0!
A17: BB | B17: A11 | E17: =(C17-MIN(C$7:C$102))/(MAX(C$7:C$102)-MIN(C$7:C$102))*100 -> #DIV/0! | F17: =(D17-MIN(D$7:D$102))/(MAX(D$7:D$102)-MIN(D$7:D$102))*100 -> #DIV/0! | G17: =F17-E17 -> #DIV/0! | H17: BB | I17: =IF(AND(E17<$R$13,F17<$S$9),G17,"") -> #DIV/0! | J17: =IF(OR(AND(($S$31-$S$36)<G17,($S$31+$S$36)>G17),AND(($S$34-$S$36)<G17,($S$34+$S$36)>G17)),"CHECK","") -> #DIV/0! | U17: BB | V17: =IF(I17="",NA(),G17) -> #DIV/0! | W17: =IF(AND(I17="",G17<$S$31),G17,NA()) -> #DIV/0! | X17: =IF(AND(I17="",G17<$S$34,G17>$S$31),G17,NA()) -> #DIV/0! | Y17: =IF(AND(I17="",G17>$S$34),G17,NA()) -> #DIV/0! | Z17: =IF(J17="CHECK",G17,NA()) -> #DIV/0! | AC17: BB | AD17: =IF(V17<>"#N/A",$F17,"") -> #DIV/0! | AE17: =IF(W17<>"#N/A",$F17,"") -> #DIV/0! | AF17: =IF(X17<>"#N/A",$F17,"") -> #DIV/0! | AG17: =IF(Y17<>"#N/A",$F17,"") -> #DIV/0! | AH17: =IF(Z17<>"#N/A",$F17,"") -> #DIV/0!
A18: BB | B18: A12 | E18: =(C18-MIN(C$7:C$102))/(MAX(C$7:C$102)-MIN(C$7:C$102))*100 -> #DIV/0! | F18: =(D18-MIN(D$7:D$102))/(MAX(D$7:D$102)-MIN(D$7:D$102))*100 -> #DIV/0! | G18: =F18-E18 -> #DIV/0! | H18: BB | I18: =IF(AND(E18<$R$13,F18<$S$9),G18,"") -> #DIV/0! | J18: =IF(OR(AND(($S$31-$S$36)<G18,($S$31+$S$36)>G18),AND(($S$34-$S$36)<G18,($S$34+$S$36)>G18)),"CHECK","") -> #DIV/0! | U18: BB | V18: =IF(I18="",NA(),G18) -> #DIV/0! | W18: =IF(AND(I18="",G18<$S$31),G18,NA()) -> #DIV/0! | X18: =IF(AND(I18="",G18<$S$34,G18>$S$31),G18,NA()) -> #DIV/0! | Y18: =IF(AND(I18="",G18>$S$34),G18,NA()) -> #DIV/0! | Z18: =IF(J18="CHECK",G18,NA()) -> #DIV/0! | AC18: BB | AD18: =IF(V18<>"#N/A",$F18,"") -> #DIV/0! | AE18: =IF(W18<>"#N/A",$F18,"") -> #DIV/0! | AF18: =IF(X18<>"#N/A",$F18,"") -> #DIV/0! | AG18: =IF(Y18<>"#N/A",$F18,"") -> #DIV/0! | AH18: =IF(Z18<>"#N/A",$F18,"") -> #DIV/0!
B19: B01 | E19: =(C19-MIN(C$7:C$102))/(MAX(C$7:C$102)-MIN(C$7:C$102))*100 -> #DIV/0! | F19: =(D19-MIN(D$7:D$102))/(MAX(D$7:D$102)-MIN(D$7:D$102))*100 -> #DIV/0! | G19: =F19-E19 -> #DIV/0! | H19: =_xlfn.IFS(AND(E19<$R$13,F19<$S$9),"No amplification",G19>$S$34,"BB",G19<$S$31,"AA",AND(G19<$S$34,G19>$S$31),"AB") -> #DIV/0! | I19: =IF(AND(E19<$R$13,F19<$S$9),G19,"") -> #DIV/0! | J19: =IF(OR(AND(($S$31-$S$36)<G19,($S$31+$S$36)>G19),AND(($S$34-$S$36)<G19,($S$34+$S$36)>G19)),"CHECK","") -> #DIV/0! | U19: B01 | V19: =IF(I19="",NA(),G19) -> #DIV/0! | W19: =IF(AND(I19="",G19<$S$31),G19,NA()) -> #DIV/0! | X19: =IF(AND(I19="",G19<$S$34,G19>$S$31),G19,NA()) -> #DIV/0! | Y19: =IF(AND(I19="",G19>$S$34),G19,NA()) -> #DIV/0! | Z19: =IF(J19="CHECK",G19,NA()) -> #DIV/0! | AC19: B01 | AD19: =IF(V19<>"#N/A",$F19,"") -> #DIV/0! | AE19: =IF(W19<>"#N/A",$F19,"") -> #DIV/0! | AF19: =IF(X19<>"#N/A",$F19,"") -> #DIV/0! | AG19: =IF(Y19<>"#N/A",$F19,"") -> #DIV/0! | AH19: =IF(Z19<>"#N/A",$F19,"") -> #DIV/0!
B20: B02 | E20: =(C20-MIN(C$7:C$102))/(MAX(C$7:C$102)-MIN(C$7:C$102))*100 -> #DIV/0! | F20: =(D20-MIN(D$7:D$102))/(MAX(D$7:D$102)-MIN(D$7:D$102))*100 -> #DIV/0! | G20: =F20-E20 -> #DIV/0! | H20: =_xlfn.IFS(AND(E20<$R$13,F20<$S$9),"No amplification",G20>$S$34,"BB",G20<$S$31,"AA",AND(G20<$S$34,G20>$S$31),"AB") -> #DIV/0! | I20: =IF(AND(E20<$R$13,F20<$S$9),G20,"") -> #DIV/0! | J20: =IF(OR(AND(($S$31-$S$36)<G20,($S$31+$S$36)>G20),AND(($S$34-$S$36)<G20,($S$34+$S$36)>G20)),"CHECK","") -> #DIV/0! | U20: B02 | V20: =IF(I20="",NA(),G20) -> #DIV/0! | W20: =IF(AND(I20="",G20<$S$31),G20,NA()) -> #DIV/0! | X20: =IF(AND(I20="",G20<$S$34,G20>$S$31),G20,NA()) -> #DIV/0! | Y20: =IF(AND(I20="",G20>$S$34),G20,NA()) -> #DIV/0! | Z20: =IF(J20="CHECK",G20,NA()) -> #DIV/0! | AC20: B02 | AD20: =IF(V20<>"#N/A",$F20,"") -> #DIV/0! | AE20: =IF(W20<>"#N/A",$F20,"") -> #DIV/0! | AF20: =IF(X20<>"#N/A",$F20,"") -> #DIV/0! | AG20: =IF(Y20<>"#N/A",$F20,"") -> #DIV/0! | AH20: =IF(Z20<>"#N/A",$F20,"") -> #DIV/0!
B21: B03 | E21: =(C21-MIN(C$7:C$102))/(MAX(C$7:C$102)-MIN(C$7:C$102))*100 -> #DIV/0! | F21: =(D21-MIN(D$7:D$102))/(MAX(D$7:D$102)-MIN(D$7:D$102))*100 -> #DIV/0! | G21: =F21-E21 -> #DIV/0! | H21: =_xlfn.IFS(AND(E21<$R$13,F21<$S$9),"No amplification",G21>$S$34,"BB",G21<$S$31,"AA",AND(G21<$S$34,G21>$S$31),"AB") -> #DIV/0! | I21: =IF(AND(E21<$R$13,F21<$S$9),G21,"") -> #DIV/0! | J21: =IF(OR(AND(($S$31-$S$36)<G21,($S$31+$S$36)>G21),AND(($S$34-$S$36)<G21,($S$34+$S$36)>G21)),"CHECK","") -> #DIV/0! | U21: B03 | V21: =IF(I21="",NA(),G21) -> #DIV/0! | W21: =IF(AND(I21="",G21<$S$31),G21,NA()) -> #DIV/0! | X21: =IF(AND(I21="",G21<$S$34,G21>$S$31),G21,NA()) -> #DIV/0! | Y21: =IF(AND(I21="",G21>$S$34),G21,NA()) -> #DIV/0! | Z21: =IF(J21="CHECK",G21,NA()) -> #DIV/0! | AC21: B03 | AD21: =IF(V21<>"#N/A",$F21,"") -> #DIV/0! | AE21: =IF(W21<>"#N/A",$F21,"") -> #DIV/0! | AF21: =IF(X21<>"#N/A",$F21,"") -> #DIV/0! | AG21: =IF(Y21<>"#N/A",$F21,"") -> #DIV/0! | AH21: =IF(Z21<>"#N/A",$F21,"") -> #DIV/0!
B22: B04 | E22: =(C22-MIN(C$7:C$102))/(MAX(C$7:C$102)-MIN(C$7:C$102))*100 -> #DIV/0! | F22: =(D22-MIN(D$7:D$102))/(MAX(D$7:D$102)-MIN(D$7:D$102))*100 -> #DIV/0! | G22: =F22-E22 -> #DIV/0! | H22: =_xlfn.IFS(AND(E22<$R$13,F22<$S$9),"No amplification",G22>$S$34,"BB",G22<$S$31,"AA",AND(G22<$S$34,G22>$S$31),"AB") -> #DIV/0! | I22: =IF(AND(E22<$R$13,F22<$S$9),G22,"") -> #DIV/0! | J22: =IF(OR(AND(($S$31-$S$36)<G22,($S$31+$S$36)>G22),AND(($S$34-$S$36)<G22,($S$34+$S$36)>G22)),"CHECK","") -> #DIV/0! | U22: B04 | V22: =IF(I22="",NA(),G22) -> #DIV/0! | W22: =IF(AND(I22="",G22<$S$31),G22,NA()) -> #DIV/0! | X22: =IF(AND(I22="",G22<$S$34,G22>$S$31),G22,NA()) -> #DIV/0! | Y22: =IF(AND(I22="",G22>$S$34),G22,NA()) -> #DIV/0! | Z22: =IF(J22="CHECK",G22,NA()) -> #DIV/0! | AC22: B04 | AD22: =IF(V22<>"#N/A",$F22,"") -> #DIV/0! | AE22: =IF(W22<>"#N/A",$F22,"") -> #DIV/0! | AF22: =IF(X22<>"#N/A",$F22,"") -> #DIV/0! | AG22: =IF(Y22<>"#N/A",$F22,"") -> #DIV/0! | AH22: =IF(Z22<>"#N/A",$F22,"") -> #DIV/0!
B23: B05 | E23: =(C23-MIN(C$7:C$102))/(MAX(C$7:C$102)-MIN(C$7:C$102))*100 -> #DIV/0! | F23: =(D23-MIN(D$7:D$102))/(MAX(D$7:D$102)-MIN(D$7:D$102))*100 -> #DIV/0! | G23: =F23-E23 -> #DIV/0! | H23: =_xlfn.IFS(AND(E23<$R$13,F23<$S$9),"No amplification",G23>$S$34,"BB",G23<$S$31,"AA",AND(G23<$S$34,G23>$S$31),"AB") -> #DIV/0! | I23: =IF(AND(E23<$R$13,F23<$S$9),G23,"") -> #DIV/0! | J23: =IF(OR(AND(($S$31-$S$36)<G23,($S$31+$S$36)>G23),AND(($S$34-$S$36)<G23,($S$34+$S$36)>G23)),"CHECK","") -> #DIV/0! | U23: B05 | V23: =IF(I23="",NA(),G23) -> #DIV/0! | W23: =IF(AND(I23="",G23<$S$31),G23,NA()) -> #DIV/0! | X23: =IF(AND(I23="",G23<$S$34,G23>$S$31),G23,NA()) -> #DIV/0! | Y23: =IF(AND(I23="",G23>$S$34),G23,NA()) -> #DIV/0! | Z23: =IF(J23="CHECK",G23,NA()) -> #DIV/0! | AC23: B05 | AD23: =IF(V23<>"#N/A",$F23,"") -> #DIV/0! | AE23: =IF(W23<>"#N/A",$F23,"") -> #DIV/0! | AF23: =IF(X23<>"#N/A",$F23,"") -> #DIV/0! | AG23: =IF(Y23<>"#N/A",$F23,"") -> #DIV/0! | AH23: =IF(Z23<>"#N/A",$F23,"") -> #DIV/0!
B24: B06 | E24: =(C24-MIN(C$7:C$102))/(MAX(C$7:C$102)-MIN(C$7:C$102))*100 -> #DIV/0! | F24: =(D24-MIN(D$7:D$102))/(MAX(D$7:D$102)-MIN(D$7:D$102))*100 -> #DIV/0! | G24: =F24-E24 -> #DIV/0! | H24: =_xlfn.IFS(AND(E24<$R$13,F24<$S$9),"No amplification",G24>$S$34,"BB",G24<$S$31,"AA",AND(G24<$S$34,G24>$S$31),"AB") -> #DIV/0! | I24: =IF(AND(E24<$R$13,F24<$S$9),G24,"") -> #DIV/0! | J24: =IF(OR(AND(($S$31-$S$36)<G24,($S$31+$S$36)>G24),AND(($S$34-$S$36)<G24,($S$34+$S$36)>G24)),"CHECK","") -> #DIV/0! | U24: B06 | V24: =IF(I24="",NA(),G24) -> #DIV/0! | W24: =IF(AND(I24="",G24<$S$31),G24,NA()) -> #DIV/0! | X24: =IF(AND(I24="",G24<$S$34,G24>$S$31),G24,NA()) -> #DIV/0! | Y24: =IF(AND(I24="",G24>$S$34),G24,NA()) -> #DIV/0! | Z24: =IF(J24="CHECK",G24,NA()) -> #DIV/0! | AC24: B06 | AD24: =IF(V24<>"#N/A",$F24,"") -> #DIV/0! | AE24: =IF(W24<>"#N/A",$F24,"") -> #DIV/0! | AF24: =IF(X24<>"#N/A",$F24,"") -> #DIV/0! | AG24: =IF(Y24<>"#N/A",$F24,"") -> #DIV/0! | AH24: =IF(Z24<>"#N/A",$F24,"") -> #DIV/0!
B25: B07 | E25: =(C25-MIN(C$7:C$102))/(MAX(C$7:C$102)-MIN(C$7:C$102))*100 -> #DIV/0! | F25: =(D25-MIN(D$7:D$102))/(MAX(D$7:D$102)-MIN(D$7:D$102))*100 -> #DIV/0! | G25: =F25-E25 -> #DIV/0! | H25: =_xlfn.IFS(AND(E25<$R$13,F25<$S$9),"No amplification",G25>$S$34,"BB",G25<$S$31,"AA",AND(G25<$S$34,G25>$S$31),"AB") -> #DIV/0! | I25: =IF(AND(E25<$R$13,F25<$S$9),G25,"") -> #DIV/0! | J25: =IF(OR(AND(($S$31-$S$36)<G25,($S$31+$S$36)>G25),AND(($S$34-$S$36)<G25,($S$34+$S$36)>G25)),"CHECK","") -> #DIV/0! | U25: B07 | V25: =IF(I25="",NA(),G25) -> #DIV/0! | W25: =IF(AND(I25="",G25<$S$31),G25,NA()) -> #DIV/0! | X25: =IF(AND(I25="",G25<$S$34,G25>$S$31),G25,NA()) -> #DIV/0! | Y25: =IF(AND(I25="",G25>$S$34),G25,NA()) -> #DIV/0! | Z25: =IF(J25="CHECK",G25,NA()) -> #DIV/0! | AC25: B07 | AD25: =IF(V25<>"#N/A",$F25,"") -> #DIV/0! | AE25: =IF(W25<>"#N/A",$F25,"") -> #DIV/0! | AF25: =IF(X25<>"#N/A",$F25,"") -> #DIV/0! | AG25: =IF(Y25<>"#N/A",$F25,"") -> #DIV/0! | AH25: =IF(Z25<>"#N/A",$F25,"") -> #DIV/0!
B26: B08 | E26: =(C26-MIN(C$7:C$102))/(MAX(C$7:C$102)-MIN(C$7:C$102))*100 -> #DIV/0! | F26: =(D26-MIN(D$7:D$102))/(MAX(D$7:D$102)-MIN(D$7:D$102))*100 -> #DIV/0! | G26: =F26-E26 -> #DIV/0! | H26: =_xlfn.IFS(AND(E26<$R$13,F26<$S$9),"No amplification",G26>$S$34,"BB",G26<$S$31,"AA",AND(G26<$S$34,G26>$S$31),"AB") -> #DIV/0! | I26: =IF(AND(E26<$R$13,F26<$S$9),G26,"") -> #DIV/0! | J26: =IF(OR(AND(($S$31-$S$36)<G26,($S$31+$S$36)>G26),AND(($S$34-$S$36)<G26,($S$34+$S$36)>G26)),"CHECK","") -> #DIV/0! | U26: B08 | V26: =IF(I26="",NA(),G26) -> #DIV/0! | W26: =IF(AND(I26="",G26<$S$31),G26,NA()) -> #DIV/0! | X26: =IF(AND(I26="",G26<$S$34,G26>$S$31),G26,NA()) -> #DIV/0! | Y26: =IF(AND(I26="",G26>$S$34),G26,NA()) -> #DIV/0! | Z26: =IF(J26="CHECK",G26,NA()) -> #DIV/0! | AC26: B08 | AD26: =IF(V26<>"#N/A",$F26,"") -> #DIV/0! | AE26: =IF(W26<>"#N/A",$F26,"") -> #DIV/0! | AF26: =IF(X26<>"#N/A",$F26,"") -> #DIV/0! | AG26: =IF(Y26<>"#N/A",$F26,"") -> #DIV/0! | AH26: =IF(Z26<>"#N/A",$F26,"") -> #DIV/0!
B27: B09 | E27: =(C27-MIN(C$7:C$102))/(MAX(C$7:C$102)-MIN(C$7:C$102))*100 -> #DIV/0! | F27: =(D27-MIN(D$7:D$102))/(MAX(D$7:D$102)-MIN(D$7:D$102))*100 -> #DIV/0! | G27: =F27-E27 -> #DIV/0! | H27: =_xlfn.IFS(AND(E27<$R$13,F27<$S$9),"No amplification",G27>$S$34,"BB",G27<$S$31,"AA",AND(G27<$S$34,G27>$S$31),"AB") -> #DIV/0! | I27: =IF(AND(E27<$R$13,F27<$S$9),G27,"") -> #DIV/0! | J27: =IF(OR(AND(($S$31-$S$36)<G27,($S$31+$S$36)>G27),AND(($S$34-$S$36)<G27,($S$34+$S$36)>G27)),"CHECK","") -> #DIV/0! | U27: B09 | V27: =IF(I27="",NA(),G27) -> #DIV/0! | W27: =IF(AND(I27="",G27<$S$31),G27,NA()) -> #DIV/0! | X27: =IF(AND(I27="",G27<$S$34,G27>$S$31),G27,NA()) -> #DIV/0! | Y27: =IF(AND(I27="",G27>$S$34),G27,NA()) -> #DIV/0! | Z27: =IF(J27="CHECK",G27,NA()) -> #DIV/0! | AC27: B09 | AD27: =IF(V27<>"#N/A",$F27,"") -> #DIV/0! | AE27: =IF(W27<>"#N/A",$F27,"") -> #DIV/0! | AF27: =IF(X27<>"#N/A",$F27,"") -> #DIV/0! | AG27: =IF(Y27<>"#N/A",$F27,"") -> #DIV/0! | AH27: =IF(Z27<>"#N/A",$F27,"") -> #DIV/0!
B28: B10 | E28: =(C28-MIN(C$7:C$102))/(MAX(C$7:C$102)-MIN(C$7:C$102))*100 -> #DIV/0! | F28: =(D28-MIN(D$7:D$102))/(MAX(D$7:D$102)-MIN(D$7:D$102))*100 -> #DIV/0! | G28: =F28-E28 -> #DIV/0! | H28: =_xlfn.IFS(AND(E28<$R$13,F28<$S$9),"No amplification",G28>$S$34,"BB",G28<$S$31,"AA",AND(G28<$S$34,G28>$S$31),"AB") -> #DIV/0! | I28: =IF(AND(E28<$R$13,F28<$S$9),G28,"") -> #DIV/0! | J28: =IF(OR(AND(($S$31-$S$36)<G28,($S$31+$S$36)>G28),AND(($S$34-$S$36)<G28,($S$34+$S$36)>G28)),"CHECK","") -> #DIV/0! | U28: B10 | V28: =IF(I28="",NA(),G28) -> #DIV/0! | W28: =IF(AND(I28="",G28<$S$31),G28,NA()) -> #DIV/0! | X28: =IF(AND(I28="",G28<$S$34,G28>$S$31),G28,NA()) -> #DIV/0! | Y28: =IF(AND(I28="",G28>$S$34),G28,NA()) -> #DIV/0! | Z28: =IF(J28="CHECK",G28,NA()) -> #DIV/0! | AC28: B10 | AD28: =IF(V28<>"#N/A",$F28,"") -> #DIV/0! | AE28: =IF(W28<>"#N/A",$F28,"") -> #DIV/0! | AF28: =IF(X28<>"#N/A",$F28,"") -> #DIV/0! | AG28: =IF(Y28<>"#N/A",$F28,"") -> #DIV/0! | AH28: =IF(Z28<>"#N/A",$F28,"") -> #DIV/0!
B29: B11 | E29: =(C29-MIN(C$7:C$102))/(MAX(C$7:C$102)-MIN(C$7:C$102))*100 -> #DIV/0! | F29: =(D29-MIN(D$7:D$102))/(MAX(D$7:D$102)-MIN(D$7:D$102))*100 -> #DIV/0! | G29: =F29-E29 -> #DIV/0! | H29: =_xlfn.IFS(AND(E29<$R$13,F29<$S$9),"No amplification",G29>$S$34,"BB",G29<$S$31,"AA",AND(G29<$S$34,G29>$S$31),"AB") -> #DIV/0! | I29: =IF(AND(E29<$R$13,F29<$S$9),G29,"") -> #DIV/0! | J29: =IF(OR(AND(($S$31-$S$36)<G29,($S$31+$S$36)>G29),AND(($S$34-$S$36)<G29,($S$34+$S$36)>G29)),"CHECK","") -> #DIV/0! | U29: B11 | V29: =IF(I29="",NA(),G29) -> #DIV/0! | W29: =IF(AND(I29="",G29<$S$31),G29,NA()) -> #DIV/0! | X29: =IF(AND(I29="",G29<$S$34,G29>$S$31),G29,NA()) -> #DIV/0! | Y29: =IF(AND(I29="",G29>$S$34),G29,NA()) -> #DIV/0! | Z29: =IF(J29="CHECK",G29,NA()) -> #DIV/0! | AC29: B11 | AD29: =IF(V29<>"#N/A",$F29,"") -> #DIV/0! | AE29: =IF(W29<>"#N/A",$F29,"") -> #DIV/0! | AF29: =IF(X29<>"#N/A",$F29,"") -> #DIV/0! | AG29: =IF(Y29<>"#N/A",$F29,"") -> #DIV/0! | AH29: =IF(Z29<>"#N/A",$F29,"") -> #DIV/0!
B30: B12 | E30: =(C30-MIN(C$7:C$102))/(MAX(C$7:C$102)-MIN(C$7:C$102))*100 -> #DIV/0! | F30: =(D30-MIN(D$7:D$102))/(MAX(D$7:D$102)-MIN(D$7:D$102))*100 -> #DIV/0! | G30: =F30-E30 -> #DIV/0! | H30: =_xlfn.IFS(AND(E30<$R$13,F30<$S$9),"No amplification",G30>$S$34,"BB",G30<$S$31,"AA",AND(G30<$S$34,G30>$S$31),"AB") -> #DIV/0! | I30: =IF(AND(E30<$R$13,F30<$S$9),G30,"") -> #DIV/0! | J30: =IF(OR(AND(($S$31-$S$36)<G30,($S$31+$S$36)>G30),AND(($S$34-$S$36)<G30,($S$34+$S$36)>G30)),"CHECK","") -> #DIV/0! | R30: lower bound for heterozygotes | U30: B12 | V30: =IF(I30="",NA(),G30) -> #DIV/0! | W30: =IF(AND(I30="",G30<$S$31),G30,NA()) -> #DIV/0! | X30: =IF(AND(I30="",G30<$S$34,G30>$S$31),G30,NA()) -> #DIV/0! | Y30: =IF(AND(I30="",G30>$S$34),G30,NA()) -> #DIV/0! | Z30: =IF(J30="CHECK",G30,NA()) -> #DIV/0! | AC30: B12 | AD30: =IF(V30<>"#N/A",$F30,"") -> #DIV/0! | AE30: =IF(W30<>"#N/A",$F30,"") -> #DIV/0! | AF30: =IF(X30<>"#N/A",$F30,"") -> #DIV/0! | AG30: =IF(Y30<>"#N/A",$F30,"") -> #DIV/0! | AH30: =IF(Z30<>"#N/A",$F30,"") -> #DIV/0!
B31: C01 | E31: =(C31-MIN(C$7:C$102))/(MAX(C$7:C$102)-MIN(C$7:C$102))*100 -> #DIV/0! | F31: =(D31-MIN(D$7:D$102))/(MAX(D$7:D$102)-MIN(D$7:D$102))*100 -> #DIV/0! | G31: =F31-E31 -> #DIV/0! | H31: =_xlfn.IFS(AND(E31<$R$13,F31<$S$9),"No amplification",G31>$S$34,"BB",G31<$S$31,"AA",AND(G31<$S$34,G31>$S$31),"AB") -> #DIV/0! | I31: =IF(AND(E31<$R$13,F31<$S$9),G31,"") -> #DIV/0! | J31: =IF(OR(AND(($S$31-$S$36)<G31,($S$31+$S$36)>G31),AND(($S$34-$S$36)<G31,($S$34+$S$36)>G31)),"CHECK","") -> #DIV/0! | R31: 0 | S31: -20 | U31: C01 | V31: =IF(I31="",NA(),G31) -> #DIV/0! | W31: =IF(AND(I31="",G31<$S$31),G31,NA()) -> #DIV/0! | X31: =IF(AND(I31="",G31<$S$34,G31>$S$31),G31,NA()) -> #DIV/0! | Y31: =IF(AND(I31="",G31>$S$34),G31,NA()) -> #DIV/0! | Z31: =IF(J31="CHECK",G31,NA()) -> #DIV/0! | AC31: C01 | AD31: =IF(V31<>"#N/A",$F31,"") -> #DIV/0! | AE31: =IF(W31<>"#N/A",$F31,"") -> #DIV/0! | AF31: =IF(X31<>"#N/A",$F31,"") -> #DIV/0! | AG31: =IF(Y31<>"#N/A",$F31,"") -> #DIV/0! | AH31: =IF(Z31<>"#N/A",$F31,"") -> #DIV/0!
B32: C02 | E32: =(C32-MIN(C$7:C$102))/(MAX(C$7:C$102)-MIN(C$7:C$102))*100 -> #DIV/0! | F32: =(D32-MIN(D$7:D$102))/(MAX(D$7:D$102)-MIN(D$7:D$102))*100 -> #DIV/0! | G32: =F32-E32 -> #DIV/0! | H32: =_xlfn.IFS(AND(E32<$R$13,F32<$S$9),"No amplification",G32>$S$34,"BB",G32<$S$31,"AA",AND(G32<$S$34,G32>$S$31),"AB") -> #DIV/0! | I32: =IF(AND(E32<$R$13,F32<$S$9),G32,"") -> #DIV/0! | J32: =IF(OR(AND(($S$31-$S$36)<G32,($S$31+$S$36)>G32),AND(($S$34-$S$36)<G32,($S$34+$S$36)>G32)),"CHECK","") -> #DIV/0! | R32: 100 | S32: =S31 -> -20 | U32: C02 | V32: =IF(I32="",NA(),G32) -> #DIV/0! | W32: =IF(AND(I32="",G32<$S$31),G32,NA()) -> #DIV/0! | X32: =IF(AND(I32="",G32<$S$34,G32>$S$31),G32,NA()) -> #DIV/0! | Y32: =IF(AND(I32="",G32>$S$34),G32,NA()) -> #DIV/0! | Z32: =IF(J32="CHECK",G32,NA()) -> #DIV/0! | AC32: C02 | AD32: =IF(V32<>"#N/A",$F32,"") -> #DIV/0! | AE32: =IF(W32<>"#N/A",$F32,"") -> #DIV/0! | AF32: =IF(X32<>"#N/A",$F32,"") -> #DIV/0! | AG32: =IF(Y32<>"#N/A",$F32,"") -> #DIV/0! | AH32: =IF(Z32<>"#N/A",$F32,"") -> #DIV/0!
B33: C03 | E33: =(C33-MIN(C$7:C$102))/(MAX(C$7:C$102)-MIN(C$7:C$102))*100 -> #DIV/0! | F33: =(D33-MIN(D$7:D$102))/(MAX(D$7:D$102)-MIN(D$7:D$102))*100 -> #DIV/0! | G33: =F33-E33 -> #DIV/0! | H33: =_xlfn.IFS(AND(E33<$R$13,F33<$S$9),"No amplification",G33>$S$34,"BB",G33<$S$31,"AA",AND(G33<$S$34,G33>$S$31),"AB") -> #DIV/0! | I33: =IF(AND(E33<$R$13,F33<$S$9),G33,"") -> #DIV/0! | J33: =IF(OR(AND(($S$31-$S$36)<G33,($S$31+$S$36)>G33),AND(($S$34-$S$36)<G33,($S$34+$S$36)>G33)),"CHECK","") -> #DIV/0! | R33: upper bound for heterozygotes | U33: C03 | V33: =IF(I33="",NA(),G33) -> #DIV/0! | W33: =IF(AND(I33="",G33<$S$31),G33,NA()) -> #DIV/0! | X33: =IF(AND(I33="",G33<$S$34,G33>$S$31),G33,NA()) -> #DIV/0! | Y33: =IF(AND(I33="",G33>$S$34),G33,NA()) -> #DIV/0! | Z33: =IF(J33="CHECK",G33,NA()) -> #DIV/0! | AC33: C03 | AD33: =IF(V33<>"#N/A",$F33,"") -> #DIV/0! | AE33: =IF(W33<>"#N/A",$F33,"") -> #DIV/0! | AF33: =IF(X33<>"#N/A",$F33,"") -> #DIV/0! | AG33: =IF(Y33<>"#N/A",$F33,"") -> #DIV/0! | AH33: =IF(Z33<>"#N/A",$F33,"") -> #DIV/0!
B34: C04 | E34: =(C34-MIN(C$7:C$102))/(MAX(C$7:C$102)-MIN(C$7:C$102))*100 -> #DIV/0! | F34: =(D34-MIN(D$7:D$102))/(MAX(D$7:D$102)-MIN(D$7:D$102))*100 -> #DIV/0! | G34: =F34-E34 -> #DIV/0! | H34: =_xlfn.IFS(AND(E34<$R$13,F34<$S$9),"No amplification",G34>$S$34,"BB",G34<$S$31,"AA",AND(G34<$S$34,G34>$S$31),"AB") -> #DIV/0! | I34: =IF(AND(E34<$R$13,F34<$S$9),G34,"") -> #DIV/0! | J34: =IF(OR(AND(($S$31-$S$36)<G34,($S$31+$S$36)>G34),AND(($S$34-$S$36)<G34,($S$34+$S$36)>G34)),"CHECK","") -> #DIV/0! | R34: 0 | S34: 30 | U34: C04 | V34: =IF(I34="",NA(),G34) -> #DIV/0! | W34: =IF(AND(I34="",G34<$S$31),G34,NA()) -> #DIV/0! | X34: =IF(AND(I34="",G34<$S$34,G34>$S$31),G34,NA()) -> #DIV/0! | Y34: =IF(AND(I34="",G34>$S$34),G34,NA()) -> #DIV/0! | Z34: =IF(J34="CHECK",G34,NA()) -> #DIV/0! | AC34: C04 | AD34: =IF(V34<>"#N/A",$F34,"") -> #DIV/0! | AE34: =IF(W34<>"#N/A",$F34,"") -> #DIV/0! | AF34: =IF(X34<>"#N/A",$F34,"") -> #DIV/0! | AG34: =IF(Y34<>"#N/A",$F34,"") -> #DIV/0! | AH34: =IF(Z34<>"#N/A",$F34,"") -> #DIV/0!
B35: C05 | E35: =(C35-MIN(C$7:C$102))/(MAX(C$7:C$102)-MIN(C$7:C$102))*100 -> #DIV/0! | F35: =(D35-MIN(D$7:D$102))/(MAX(D$7:D$102)-MIN(D$7:D$102))*100 -> #DIV/0! | G35: =F35-E35 -> #DIV/0! | H35: =_xlfn.IFS(AND(E35<$R$13,F35<$S$9),"No amplification",G35>$S$34,"BB",G35<$S$31,"AA",AND(G35<$S$34,G35>$S$31),"AB") -> #DIV/0! | I35: =IF(AND(E35<$R$13,F35<$S$9),G35,"") -> #DIV/0! | J35: =IF(OR(AND(($S$31-$S$36)<G35,($S$31+$S$36)>G35),AND(($S$34-$S$36)<G35,($S$34+$S$36)>G35)),"CHECK","") -> #DIV/0! | R35: 100 | S35: =S34 -> 30 | U35: C05 | V35: =IF(I35="",NA(),G35) -> #DIV/0! | W35: =IF(AND(I35="",G35<$S$31),G35,NA()) -> #DIV/0! | X35: =IF(AND(I35="",G35<$S$34,G35>$S$31),G35,NA()) -> #DIV/0! | Y35: =IF(AND(I35="",G35>$S$34),G35,NA()) -> #DIV/0! | Z35: =IF(J35="CHECK",G35,NA()) -> #DIV/0! | AC35: C05 | AD35: =IF(V35<>"#N/A",$F35,"") -> #DIV/0! | AE35: =IF(W35<>"#N/A",$F35,"") -> #DIV/0! | AF35: =IF(X35<>"#N/A",$F35,"") -> #DIV/0! | AG35: =IF(Y35<>"#N/A",$F35,"") -> #DIV/0! | AH35: =IF(Z35<>"#N/A",$F35,"") -> #DIV/0!
B36: C06 | E36: =(C36-MIN(C$7:C$102))/(MAX(C$7:C$102)-MIN(C$7:C$102))*100 -> #DIV/0! | F36: =(D36-MIN(D$7:D$102))/(MAX(D$7:D$102)-MIN(D$7:D$102))*100 -> #DIV/0! | G36: =F36-E36 -> #DIV/0! | H36: =_xlfn.IFS(AND(E36<$R$13,F36<$S$9),"No amplification",G36>$S$34,"BB",G36<$S$31,"AA",AND(G36<$S$34,G36>$S$31),"AB") -> #DIV/0! | I36: =IF(AND(E36<$R$13,F36<$S$9),G36,"") -> #DIV/0! | J36: =IF(OR(AND(($S$31-$S$36)<G36,($S$31+$S$36)>G36),AND(($S$34-$S$36)<G36,($S$34+$S$36)>G36)),"CHECK","") -> #DIV/0! | R36: Margin | S36: 2 | U36: C06 | V36: =IF(I36="",NA(),G36) -> #DIV/0! | W36: =IF(AND(I36="",G36<$S$31),G36,NA()) -> #DIV/0! | X36: =IF(AND(I36="",G36<$S$34,G36>$S$31),G36,NA()) -> #DIV/0! | Y36: =IF(AND(I36="",G36>$S$34),G36,NA()) -> #DIV/0! | Z36: =IF(J36="CHECK",G36,NA()) -> #DIV/0! | AC36: C06 | AD36: =IF(V36<>"#N/A",$F36,"") -> #DIV/0! | AE36: =IF(W36<>"#N/A",$F36,"") -> #DIV/0! | AF36: =IF(X36<>"#N/A",$F36,"") -> #DIV/0! | AG36: =IF(Y36<>"#N/A",$F36,"") -> #DIV/0! | AH36: =IF(Z36<>"#N/A",$F36,"") -> #DIV/0!
B37: C07 | E37: =(C37-MIN(C$7:C$102))/(MAX(C$7:C$102)-MIN(C$7:C$102))*100 -> #DIV/0! | F37: =(D37-MIN(D$7:D$102))/(MAX(D$7:D$102)-MIN(D$7:D$102))*100 -> #DIV/0! | G37: =F37-E37 -> #DIV/0! | H37: =_xlfn.IFS(AND(E37<$R$13,F37<$S$9),"No amplification",G37>$S$34,"BB",G37<$S$31,"AA",AND(G37<$S$34,G37>$S$31),"AB") -> #DIV/0! | I37: =IF(AND(E37<$R$13,F37<$S$9),G37,"") -> #DIV/0! | J37: =IF(OR(AND(($S$31-$S$36)<G37,($S$31+$S$36)>G37),AND(($S$34-$S$36)<G37,($S$34+$S$36)>G37)),"CHECK","") -> #DIV/0! | U37: C07 | V37: =IF(I37="",NA(),G37) -> #DIV/0! | W37: =IF(AND(I37="",G37<$S$31),G37,NA()) -> #DIV/0! | X37: =IF(AND(I37="",G37<$S$34,G37>$S$31),G37,NA()) -> #DIV/0! | Y37: =IF(AND(I37="",G37>$S$34),G37,NA()) -> #DIV/0! | Z37: =IF(J37="CHECK",G37,NA()) -> #DIV/0! | AC37: C07 | AD37: =IF(V37<>"#N/A",$F37,"") -> #DIV/0! | AE37: =IF(W37<>"#N/A",$F37,"") -> #DIV/0! | AF37: =IF(X37<>"#N/A",$F37,"") -> #DIV/0! | AG37: =IF(Y37<>"#N/A",$F37,"") -> #DIV/0! | AH37: =IF(Z37<>"#N/A",$F37,"") -> #DIV/0!
B38: C08 | E38: =(C38-MIN(C$7:C$102))/(MAX(C$7:C$102)-MIN(C$7:C$102))*100 -> #DIV/0! | F38: =(D38-MIN(D$7:D$102))/(MAX(D$7:D$102)-MIN(D$7:D$102))*100 -> #DIV/0! | G38: =F38-E38 -> #DIV/0! | H38: =_xlfn.IFS(AND(E38<$R$13,F38<$S$9),"No amplification",G38>$S$34,"BB",G38<$S$31,"AA",AND(G38<$S$34,G38>$S$31),"AB") -> #DIV/0! | I38: =IF(AND(E38<$R$13,F38<$S$9),G38,"") -> #DIV/0! | J38: =IF(OR(AND(($S$31-$S$36)<G38,($S$31+$S$36)>G38),AND(($S$34-$S$36)<G38,($S$34+$S$36)>G38)),"CHECK","") -> #DIV/0! | U38: C08 | V38: =IF(I38="",NA(),G38) -> #DIV/0! | W38: =IF(AND(I38="",G38<$S$31),G38,NA()) -> #DIV/0! | X38: =IF(AND(I38="",G38<$S$34,G38>$S$31),G38,NA()) -> #DIV/0! | Y38: =IF(AND(I38="",G38>$S$34),G38,NA()) -> #DIV/0! | Z38: =IF(J38="CHECK",G38,NA()) -> #DIV/0! | AC38: C08 | AD38: =IF(V38<>"#N/A",$F38,"") -> #DIV/0! | AE38: =IF(W38<>"#N/A",$F38,"") -> #DIV/0! | AF38: =IF(X38<>"#N/A",$F38,"") -> #DIV/0! | AG38: =IF(Y38<>"#N/A",$F38,"") -> #DIV/0! | AH38: =IF(Z38<>"#N/A",$F38,"") -> #DIV/0!
B39: C09 | E39: =(C39-MIN(C$7:C$102))/(MAX(C$7:C$102)-MIN(C$7:C$102))*100 -> #DIV/0! | F39: =(D39-MIN(D$7:D$102))/(MAX(D$7:D$102)-MIN(D$7:D$102))*100 -> #DIV/0! | G39: =F39-E39 -> #DIV/0! | H39: =_xlfn.IFS(AND(E39<$R$13,F39<$S$9),"No amplification",G39>$S$34,"BB",G39<$S$31,"AA",AND(G39<$S$34,G39>$S$31),"AB") -> #DIV/0! | I39: =IF(AND(E39<$R$13,F39<$S$9),G39,"") -> #DIV/0! | J39: =IF(OR(AND(($S$31-$S$36)<G39,($S$31+$S$36)>G39),AND(($S$34-$S$36)<G39,($S$34+$S$36)>G39)),"CHECK","") -> #DIV/0! | U39: C09 | V39: =IF(I39="",NA(),G39) -> #DIV/0! | W39: =IF(AND(I39="",G39<$S$31),G39,NA()) -> #DIV/0! | X39: =IF(AND(I39="",G39<$S$34,G39>$S$31),G39,NA()) -> #DIV/0! | Y39: =IF(AND(I39="",G39>$S$34),G39,NA()) -> #DIV/0! | Z39: =IF(J39="CHECK",G39,NA()) -> #DIV/0! | AC39: C09 | AD39: =IF(V39<>"#N/A",$F39,"") -> #DIV/0! | AE39: =IF(W39<>"#N/A",$F39,"") -> #DIV/0! | AF39: =IF(X39<>"#N/A",$F39,"") -> #DIV/0! | AG39: =IF(Y39<>"#N/A",$F39,"") -> #DIV/0! | AH39: =IF(Z39<>"#N/A",$F39,"") -> #DIV/0!
B40: C10 | E40: =(C40-MIN(C$7:C$102))/(MAX(C$7:C$102)-MIN(C$7:C$102))*100 -> #DIV/0! | F40: =(D40-MIN(D$7:D$102))/(MAX(D$7:D$102)-MIN(D$7:D$102))*100 -> #DIV/0! | G40: =F40-E40 -> #DIV/0! | H40: =_xlfn.IFS(AND(E40<$R$13,F40<$S$9),"No amplification",G40>$S$34,"BB",G40<$S$31,"AA",AND(G40<$S$34,G40>$S$31),"AB") -> #DIV/0! | I40: =IF(AND(E40<$R$13,F40<$S$9),G40,"") -> #DIV/0! | J40: =IF(OR(AND(($S$31-$S$36)<G40,($S$31+$S$36)>G40),AND(($S$34-$S$36)<G40,($S$34+$S$36)>G40)),"CHECK","") -> #DIV/0! | U40: C10 | V40: =IF(I40="",NA(),G40) -> #DIV/0! | W40: =IF(AND(I40="",G40<$S$31),G40,NA()) -> #DIV/0! | X40: =IF(AND(I40="",G40<$S$34,G40>$S$31),G40,NA()) -> #DIV/0! | Y40: =IF(AND(I40="",G40>$S$34),G40,NA()) -> #DIV/0! | Z40: =IF(J40="CHECK",G40,NA()) -> #DIV/0! | AC40: C10 | AD40: =IF(V40<>"#N/A",$F40,"") -> #DIV/0! | AE40: =IF(W40<>"#N/A",$F40,"") -> #DIV/0! | AF40: =IF(X40<>"#N/A",$F40,"") -> #DIV/0! | AG40: =IF(Y40<>"#N/A",$F40,"") -> #DIV/0! | AH40: =IF(Z40<>"#N/A",$F40,"") -> #DIV/0!
B41: C11 | E41: =(C41-MIN(C$7:C$102))/(MAX(C$7:C$102)-MIN(C$7:C$102))*100 -> #DIV/0! | F41: =(D41-MIN(D$7:D$102))/(MAX(D$7:D$102)-MIN(D$7:D$102))*100 -> #DIV/0! | G41: =F41-E41 -> #DIV/0! | H41: =_xlfn.IFS(AND(E41<$R$13,F41<$S$9),"No amplification",G41>$S$34,"BB",G41<$S$31,"AA",AND(G41<$S$34,G41>$S$31),"AB") -> #DIV/0! | I41: =IF(AND(E41<$R$13,F41<$S$9),G41,"") -> #DIV/0! | J41: =IF(OR(AND(($S$31-$S$36)<G41,($S$31+$S$36)>G41),AND(($S$34-$S$36)<G41,($S$34+$S$36)>G41)),"CHECK","") -> #DIV/0! | U41: C11 | V41: =IF(I41="",NA(),G41) -> #DIV/0! | W41: =IF(AND(I41="",G41<$S$31),G41,NA()) -> #DIV/0! | X41: =IF(AND(I41="",G41<$S$34,G41>$S$31),G41,NA()) -> #DIV/0! | Y41: =IF(AND(I41="",G41>$S$34),G41,NA()) -> #DIV/0! | Z41: =IF(J41="CHECK",G41,NA()) -> #DIV/0! | AC41: C11 | AD41: =IF(V41<>"#N/A",$F41,"") -> #DIV/0! | AE41: =IF(W41<>"#N/A",$F41,"") -> #DIV/0! | AF41: =IF(X41<>"#N/A",$F41,"") -> #DIV/0! | AG41: =IF(Y41<>"#N/A",$F41,"") -> #DIV/0! | AH41: =IF(Z41<>"#N/A",$F41,"") -> #DIV/0!
B42: C12 | E42: =(C42-MIN(C$7:C$102))/(MAX(C$7:C$102)-MIN(C$7:C$102))*100 -> #DIV/0! | F42: =(D42-MIN(D$7:D$102))/(MAX(D$7:D$102)-MIN(D$7:D$102))*100 -> #DIV/0! | G42: =F42-E42 -> #DIV/0! | H42: =_xlfn.IFS(AND(E42<$R$13,F42<$S$9),"No amplification",G42>$S$34,"BB",G42<$S$31,"AA",AND(G42<$S$34,G42>$S$31),"AB") -> #DIV/0! | I42: =IF(AND(E42<$R$13,F42<$S$9),G42,"") -> #DIV/0! | J42: =IF(OR(AND(($S$31-$S$36)<G42,($S$31+$S$36)>G42),AND(($S$34-$S$36)<G42,($S$34+$S$36)>G42)),"CHECK","") -> #DIV/0! | U42: C12 | V42: =IF(I42="",NA(),G42) -> #DIV/0! | W42: =IF(AND(I42="",G42<$S$31),G42,NA()) -> #DIV/0! | X42: =IF(AND(I42="",G42<$S$34,G42>$S$31),G42,NA()) -> #DIV/0! | Y42: =IF(AND(I42="",G42>$S$34),G42,NA()) -> #DIV/0! | Z42: =IF(J42="CHECK",G42,NA()) -> #DIV/0! | AC42: C12 | AD42: =IF(V42<>"#N/A",$F42,"") -> #DIV/0! | AE42: =IF(W42<>"#N/A",$F42,"") -> #DIV/0! | AF42: =IF(X42<>"#N/A",$F42,"") -> #DIV/0! | AG42: =IF(Y42<>"#N/A",$F42,"") -> #DIV/0! | AH42: =IF(Z42<>"#N/A",$F42,"") -> #DIV/0!
...

Sheet F6-2 plate 1
A1: TO USE TEMPLATE: Cells you can change are in gray. Make a copy of this worksheet. Then paste your RFUs in columns C and D. You can change the dotted boundary for no amplification in the top chart in S9 and R13. You can change the lower and upper bounds for assigning heterozygotes in the bottom chart in S31 and S34. You can also change how close the values can be to the bounds before being flagged in cell S36.
A4: For F1-3 only: FAM = BB and HEX = AA, so manually change the delta calculation in column G to (column E - column F)! | V4: FOR GRAPHING: GENOTYPING | AD4: FOR GRAPHING: SCATTERPLOT
A5: F6-2 PLATE 1 | L5: BAD PLATE? | M5: =IF(OR(I7="",I8="",I9=""),"NTCs amplified",IF(OR(W103=0,X103=0,Y103=0),"Only two clusters","AOK!")) -> #DIV/0!
A6: Plate | B6: Well | C6: FAM | D6: HEX | E6: %FAM | F6: %HEX | G6: delta | H6: genotype | I6: No amplification | J6: Marginal? | U6: cell ID | V6: No amp | W6: AA | X6: AB | Y6: BB | Z6: Marginal | AC6: cell ID | AD6: No amp | AE6: AA | AF6: AB | AG6: BB | AH6: Marginal
A7: NTC | B7: A01 | E7: =(C7-MIN(C$7:C$102))/(MAX(C$7:C$102)-MIN(C$7:C$102))*100 -> #DIV/0! | F7: =(D7-MIN(D$7:D$102))/(MAX(D$7:D$102)-MIN(D$7:D$102))*100 -> #DIV/0! | G7: =F7-E7 -> #DIV/0! | H7: NTC | I7: =IF(AND(E7<$R$13,F7<$S$9),G7,"") -> #DIV/0! | J7: =IF(OR(AND(($S$31-$S$36)<G7,($S$31+$S$36)>G7),AND(($S$34-$S$36)<G7,($S$34+$S$36)>G7)),"CHECK","") -> #DIV/0! | R7: HEX bound for no amp | U7: NTC | V7: =IF(I7="",NA(),G7) -> #DIV/0! | W7: =IF(AND(I7="",G7<$S$31),G7,NA()) -> #DIV/0! | X7: =IF(AND(I7="",G7<$S$34,G7>$S$31),G7,NA()) -> #DIV/0! | Y7: =IF(AND(I7="",G7>$S$34),G7,NA()) -> #DIV/0! | Z7: =IF(J7="CHECK",G7,NA()) -> #DIV/0! | AC7: NTC | AD7: =IF(V7<>"#N/A",$F7,"") -> #DIV/0! | AE7: =IF(W7<>"#N/A",$F7,"") -> #DIV/0! | AF7: =IF(X7<>"#N/A",$F7,"") -> #DIV/0! | AG7: =IF(Y7<>"#N/A",$F7,"") -> #DIV/0! | AH7: =IF(Z7<>"#N/A",$F7,"") -> #DIV/0!
A8: NTC | B8: A02 | E8: =(C8-MIN(C$7:C$102))/(MAX(C$7:C$102)-MIN(C$7:C$102))*100 -> #DIV/0! | F8: =(D8-MIN(D$7:D$102))/(MAX(D$7:D$102)-MIN(D$7:D$102))*100 -> #DIV/0! | G8: =F8-E8 -> #DIV/0! | H8: NTC | I8: =IF(AND(E8<$R$13,F8<$S$9),G8,"") -> #DIV/0! | J8: =IF(OR(AND(($S$31-$S$36)<G8,($S$31+$S$36)>G8),AND(($S$34-$S$36)<G8,($S$34+$S$36)>G8)),"CHECK","") -> #DIV/0! | R8: x-coordinate | S8: y-coordinate | U8: NTC | V8: =IF(I8="",NA(),G8) -> #DIV/0! | W8: =IF(AND(I8="",G8<$S$31),G8,NA()) -> #DIV/0! | X8: =IF(AND(I8="",G8<$S$34,G8>$S$31),G8,NA()) -> #DIV/0! | Y8: =IF(AND(I8="",G8>$S$34),G8,NA()) -> #DIV/0! | Z8: =IF(J8="CHECK",G8,NA()) -> #DIV/0! | AC8: NTC | AD8: =IF(V8<>"#N/A",$F8,"") -> #DIV/0! | AE8: =IF(W8<>"#N/A",$F8,"") -> #DIV/0! | AF8: =IF(X8<>"#N/A",$F8,"") -> #DIV/0! | AG8: =IF(Y8<>"#N/A",$F8,"") -> #DIV/0! | AH8: =IF(Z8<>"#N/A",$F8,"") -> #DIV/0!
A9: NTC | B9: A03 | E9: =(C9-MIN(C$7:C$102))/(MAX(C$7:C$102)-MIN(C$7:C$102))*100 -> #DIV/0! | F9: =(D9-MIN(D$7:D$102))/(MAX(D$7:D$102)-MIN(D$7:D$102))*100 -> #DIV/0! | G9: =F9-E9 -> #DIV/0! | H9: NTC | I9: =IF(AND(E9<$R$13,F9<$S$9),G9,"") -> #DIV/0! | J9: =IF(OR(AND(($S$31-$S$36)<G9,($S$31+$S$36)>G9),AND(($S$34-$S$36)<G9,($S$34+$S$36)>G9)),"CHECK","") -> #DIV/0! | R9: 0 | S9: 20 | U9: NTC | V9: =IF(I9="",NA(),G9) -> #DIV/0! | W9: =IF(AND(I9="",G9<$S$31),G9,NA()) -> #DIV/0! | X9: =IF(AND(I9="",G9<$S$34,G9>$S$31),G9,NA()) -> #DIV/0! | Y9: =IF(AND(I9="",G9>$S$34),G9,NA()) -> #DIV/0! | Z9: =IF(J9="CHECK",G9,NA()) -> #DIV/0! | AC9: NTC | AD9: =IF(V9<>"#N/A",$F9,"") -> #DIV/0! | AE9: =IF(W9<>"#N/A",$F9,"") -> #DIV/0! | AF9: =IF(X9<>"#N/A",$F9,"") -> #DIV/0! | AG9: =IF(Y9<>"#N/A",$F9,"") -> #DIV/0! | AH9: =IF(Z9<>"#N/A",$F9,"") -> #DIV/0!
A10: AA | B10: A04 | E10: =(C10-MIN(C$7:C$102))/(MAX(C$7:C$102)-MIN(C$7:C$102))*100 -> #DIV/0! | F10: =(D10-MIN(D$7:D$102))/(MAX(D$7:D$102)-MIN(D$7:D$102))*100 -> #DIV/0! | G10: =F10-E10 -> #DIV/0! | H10: AA | I10: =IF(AND(E10<$R$13,F10<$S$9),G10,"") -> #DIV/0! | J10: =IF(OR(AND(($S$31-$S$36)<G10,($S$31+$S$36)>G10),AND(($S$34-$S$36)<G10,($S$34+$S$36)>G10)),"CHECK","") -> #DIV/0! | R10: =R13 -> 20 | S10: =S9 -> 20 | U10: AA | V10: =IF(I10="",NA(),G10) -> #DIV/0! | W10: =IF(AND(I10="",G10<$S$31),G10,NA()) -> #DIV/0! | X10: =IF(AND(I10="",G10<$S$34,G10>$S$31),G10,NA()) -> #DIV/0! | Y10: =IF(AND(I10="",G10>$S$34),G10,NA()) -> #DIV/0! | Z10: =IF(J10="CHECK",G10,NA()) -> #DIV/0! | AC10: AA | AD10: =IF(V10<>"#N/A",$F10,"") -> #DIV/0! | AE10: =IF(W10<>"#N/A",$F10,"") -> #DIV/0! | AF10: =IF(X10<>"#N/A",$F10,"") -> #DIV/0! | AG10: =IF(Y10<>"#N/A",$F10,"") -> #DIV/0! | AH10: =IF(Z10<>"#N/A",$F10,"") -> #DIV/0!
