Workbook

Sheet raw_data
B1: Well | C1: Fluor | D1: Target | E1: Content | F1: Sample | G1: Biological Set Name | H1: Cq | I1: Cq Mean | J1: Cq Std. Dev | K1: Starting Quantity (SQ) | L1: Log Starting Quantity | M1: SQ Mean | N1: SQ Std. Dev | O1: Set Point | P1: Well Note
B2: A01 | C2: SYBR | E2: Unkn | H2: 18.69836 | I2: 18.69836 | J2: 0 | N2: 0 | O2: 66
B3: A02 | C3: SYBR | E3: Unkn | H3: 22.137846 | I3: 22.137846 | J3: 0 | N3: 0 | O3: 66
B4: A03 | C4: SYBR | E4: Unkn | H4: 20.895478 | I4: 20.895478 | J4: 0 | N4: 0 | O4: 66
B5: A04 | C5: SYBR | E5: Unkn | H5: 20.939526 | I5: 20.939526 | J5: 0 | N5: 0 | O5: 66
B6: A05 | C6: SYBR | E6: Unkn | H6: 20.499876 | I6: 20.499876 | J6: 0 | N6: 0 | O6: 66
B7: A06 | C7: SYBR | E7: Unkn | H7: 21.745719 | I7: 21.745719 | J7: 0 | N7: 0 | O7: 66
B8: A07 | C8: SYBR | E8: Unkn | H8: 21.564467 | I8: 21.564467 | J8: 0 | N8: 0 | O8: 66
B9: A08 | C9: SYBR | E9: Unkn | H9: 21.398042 | I9: 21.398042 | J9: 0 | N9: 0 | O9: 66
B10: A09 | C10: SYBR | E10: Unkn | H10: 20.915492 | I10: 20.915492 | J10: 0 | N10: 0 | O10: 66
B11: A10 | C11: SYBR | E11: Unkn | H11: 21.45386 | I11: 21.45386 | J11: 0 | N11: 0 | O11: 66
B12: A11 | C12: SYBR | E12: Unkn | H12: 21.290079 | I12: 21.290079 | J12: 0 | N12: 0 | O12: 66
B13: A12 | C13: SYBR | E13: Unkn | I13: 0 | J13: 0 | M13: 0 | N13: 0 | O13: 66
B14: A13 | C14: SYBR | E14: Unkn | I14: 0 | J14: 0 | M14: 0 | N14: 0 | O14: 66
B15: A14 | C15: SYBR | E15: Unkn | H15: 21.860451 | I15: 21.860451 | J15: 0 | N15: 0 | O15: 66
B16: A15 | C16: SYBR | E16: Unkn | H16: 23.781368 | I16: 23.781368 | J16: 0 | N16: 0 | O16: 66
B17: A16 | C17: SYBR | E17: Unkn | H17: 24.012952 | I17: 24.012952 | J17: 0 | N17: 0 | O17: 66
B18: A17 | C18: SYBR | E18: Unkn | H18: 23.660229 | I18: 23.660229 | J18: 0 | N18: 0 | O18: 66
B19: A18 | C19: SYBR | E19: Unkn | H19: 23.77791 | I19: 23.77791 | J19: 0 | N19: 0 | O19: 66
B20: A19 | C20: SYBR | E20: Unkn | H20: 23.747293 | I20: 23.747293 | J20: 0 | N20: 0 | O20: 66
B21: A20 | C21: SYBR | E21: Unkn | H21: 24.057321 | I21: 24.057321 | J21: 0 | N21: 0 | O21: 66
B22: A21 | C22: SYBR | E22: Unkn | H22: 24.237475 | I22: 24.237475 | J22: 0 | N22: 0 | O22: 66
B23: A22 | C23: SYBR | E23: Unkn | H23: 24.389631 | I23: 24.389631 | J23: 0 | N23: 0 | O23: 66
B24: A23 | C24: SYBR | E24: Unkn | H24: 23.704854 | I24: 23.704854 | J24: 0 | N24: 0 | O24: 66
B25: A24 | C25: SYBR | E25: Unkn | H25: 24.203625 | I25: 24.203625 | J25: 0 | N25: 0 | O25: 66
B26: B01 | C26: SYBR | E26: Unkn | H26: 18.63054 | I26: 18.63054 | J26: 0 | N26: 0 | O26: 66
... B36: B11 | C36: SYBR | E36: Unkn | H36: 21.365813 | I36: 21.365813 | J36: 0 | N36: 0 | O36: 66
B37: B12 | C37: SYBR | E37: Unkn | I37: 0 | J37: 0 | M37: 0 | N37: 0 | O37: 66
B38: B13 | C38: SYBR | E38: Unkn | I38: 0 | J38: 0 | M38: 0 | N38: 0 | O38: 66
B39: B14 | C39: SYBR | E39: Unkn | H39: 21.771072 | I39: 21.771072 | J39: 0 | N39: 0 | O39: 66
B40: B15 | C40: SYBR | E40: Unkn | H40: 24.009825 | I40: 24.009825 | J40: 0 | N40: 0 | O40: 66
B41: B16 | C41: SYBR | E41: Unkn | H41: 24.047607 | I41: 24.047607 | J41: 0 | N41: 0 | O41: 66
B42: B17 | C42: SYBR | E42: Unkn | H42: 23.944207 | I42: 23.944207 | J42: 0 | N42: 0 | O42: 66
B43: B18 | C43: SYBR | E43: Unkn | H43: 23.892079 | I43: 23.892079 | J43: 0 | N43: 0 | O43: 66
B44: B19 | C44: SYBR | E44: Unkn | H44: 23.918355 | I44: 23.918355 | J44: 0 | N44: 0 | O44: 66
B45: B20 | C45: SYBR | E45: Unkn | H45: 23.947393 | I45: 23.947393 | J45: 0 | N45: 0 | O45: 66
B46: B21 | C46: SYBR | E46: Unkn | H46: 23.941541 | I46: 23.941541 | J46: 0 | N46: 0 | O46: 66
B47: B22 | C47: SYBR | E47: Unkn | H47: 24.363579 | I47: 24.363579 | J47: 0 | N47: 0 | O47: 66
B48: B23 | C48: SYBR | E48: Unkn | H48: 23.622001 | I48: 23.622001 | J48: 0 | N48: 0 | O48: 66
B49: B24 | C49: SYBR | E49: Unkn | H49: 24.230776 | I49: 24.230776 | J49: 0 | N49: 0 | O49: 66
...

Sheet Plate
B1: 1 | C1: 2 | D1: 3 | E1: 4 | F1: 5 | G1: 6 | H1: 7 | I1: 8 | J1: 9 | K1: 10 | L1: 11 | M1: =L1+1 -> 12 | N1: 13 | O1: 14 | P1: 15 | Q1: 16 | R1: 17 | S1: 18 | T1: 19 | U1: 20 | V1: 21 | W1: 22 | X1: 23 | Y1: 24
A2: A | B2: SD1.1 | C2: 9300-A1.1 | D2: 9301-B1.1 | E2: 9302-C1.1 | F2: 9305-D1.1 | G2: 9307-A1.1 | H2: 9309-B1.1 | I2: 9310-C1.1 | J2: 9311-D1.1 | K2: 9313-A1.1 | L2: 9315-B1.1 | M2: Blank | N2: Blank | O2: SD1.1 | P2: 9300-A1.1 | Q2: 9301-B1.1 | R2: 9302-C1.1 | S2: 9305-D1.1 | T2: 9307-A1.1 | U2: 9309-B1.1 | V2: 9310-C1.1 | W2: 9311-D1.1 | X2: 9313-A1.1 | Y2: 9315-B1.1
A3: B | B3: SD1.2 | C3: 9300-A1.2 | D3: 9301-B1.2 | E3: 9302-C1.2 | F3: 9305-D1.2 | G3: 9307-A1.2 | H3: 9309-B1.2 | I3: 9310-C1.2 | J3: 9311-D1.2 | K3: 9313-A1.2 | L3: 9315-B1.2 | M3: Blank | N3: Blank | O3: SD1.2 | P3: 9300-A1.2 | Q3: 9301-B1.2 | R3: 9302-C1.2 | S3: 9305-D1.2 | T3: 9307-A1.2 | U3: 9309-B1.2 | V3: 9310-C1.2 | W3: 9311-D1.2 | X3: 9313-A1.2 | Y3: 9315-B1.2
A4: C | B4: SD1.3 | C4: 9300-A1.3 | D4: 9301-B1.3 | E4: 9302-C1.3 | F4: 9305-D1.3 | G4: 9307-A1.3 | H4: 9309-B1.3 | I4: 9310-C1.3 | J4: 9311-D1.3 | K4: 9313-A1.3 | L4: 9315-B1.3 | M4: Blank | N4: Blank | O4: SD1.3 | P4: 9300-A1.3 | Q4: 9301-B1.3 | R4: 9302-C1.3 | S4: 9305-D1.3 | T4: 9307-A1.3 | U4: 9309-B1.3 | V4: 9310-C1.3 | W4: 9311-D1.3 | X4: 9313-A1.3 | Y4: 9315-B1.3
A5: D | B5: SD2.1 | C5: 9300-B1.1 | D5: 9301-C1.1 | E5: 9302-D1.1 | F5: 9306-A1.1 | G5: 9307-B1.1 | H5: 9309-C1.1 | I5: 9310-D1.1 | J5: 9312-A1.1 | K5: 9313-B1.1 | L5: 9315-C1.1 | M5: Blank | N5: Blank | O5: SD2.1 | P5: 9300-B1.1 | Q5: 9301-C1.1 | R5: 9302-D1.1 | S5: 9306-A1.1 | T5: 9307-B1.1 | U5: 9309-C1.1 | V5: 9310-D1.1 | W5: 9312-A1.1 | X5: 9313-B1.1 | Y5: 9315-C1.1
A6: E | B6: SD2.2 | C6: 9300-B1.2 | D6: 9301-C1.2 | E6: 9302-D1.2 | F6: 9306-A1.2 | G6: 9307-B1.2 | H6: 9309-C1.2 | I6: 9310-D1.2 | J6: 9312-A1.2 | K6: 9313-B1.2 | L6: 9315-C1.2 | M6: Blank | N6: Blank | O6: SD2.2 | P6: 9300-B1.2 | Q6: 9301-C1.2 | R6: 9302-D1.2 | S6: 9306-A1.2 | T6: 9307-B1.2 | U6: 9309-C1.2 | V6: 9310-D1.2 | W6: 9312-A1.2 | X6: 9313-B1.2 | Y6: 9315-C1.2
A7: F | B7: SD2.3 | C7: 9300-B1.3 | D7: 9301-C1.3 | E7: 9302-D1.3 | F7: 9306-A1.3 | G7: 9307-B1.3 | H7: 9309-C1.3 | I7: 9310-D1.3 | J7: 9312-A1.3 | K7: 9313-B1.3 | L7: 9315-C1.3 | M7: Blank | N7: Blank | O7: SD2.3 | P7: 9300-B1.3 | Q7: 9301-C1.3 | R7: 9302-D1.3 | S7: 9306-A1.3 | T7: 9307-B1.3 | U7: 9309-C1.3 | V7: 9310-D1.3 | W7: 9312-A1.3 | X7: 9313-B1.3 | Y7: 9315-C1.3
A8: G | B8: SD3.1 | C8: 9300-C1.1 | D8: 9301-D1.1 | E8: 9305-A1.1 | F8: 9306-B1.1 | G8: 9307-C1.1 | H8: 9309-D1.1 | I8: 9311-A1.1 | J8: 9312-B1.1 | K8: 9313-C1.1 | L8: 9315-D1.1 | M8: Blank | N8: Blank | O8: SD3.1 | P8: 9300-C1.1 | Q8: 9301-D1.1 | R8: 9305-A1.1 | S8: 9306-B1.1 | T8: 9307-C1.1 | U8: 9309-D1.1 | V8: 9311-A1.1 | W8: 9312-B1.1 | X8: 9313-C1.1 | Y8: 9315-D1.1
A9: H | B9: SD3.2 | C9: 9300-C1.2 | D9: 9301-D1.2 | E9: 9305-A1.2 | F9: 9306-B1.2 | G9: 9307-C1.2 | H9: 9309-D1.2 | I9: 9311-A1.2 | J9: 9312-B1.2 | K9: 9313-C1.2 | L9: 9315-D1.2 | M9: Blank | N9: Blank | O9: SD3.2 | P9: 9300-C1.2 | Q9: 9301-D1.2 | R9: 9305-A1.2 | S9: 9306-B1.2 | T9: 9307-C1.2 | U9: 9309-D1.2 | V9: 9311-A1.2 | W9: 9312-B1.2 | X9: 9313-C1.2 | Y9: 9315-D1.2
A10: I | B10: SD3.3 | C10: 9300-C1.3 | D10: 9301-D1.3 | E10: 9305-A1.3 | F10: 9306-B1.3 | G10: 9307-C1.3 | H10: 9309-D1.3 | I10: 9311-A1.3 | J10: 9312-B1.3 | K10: 9313-C1.3 | L10: 9315-D1.3 | M10: Blank | N10: Blank | O10: SD3.3 | P10: 9300-C1.3 | Q10: 9301-D1.3 | R10: 9305-A1.3 | S10: 9306-B1.3 | T10: 9307-C1.3 | U10: 9309-D1.3 | V10: 9311-A1.3 | W10: 9312-B1.3 | X10: 9313-C1.3 | Y10: 9315-D1.3
A11: J | B11: SD4.1 | C11: 9300-D1.1 | D11: 9302-A1.1 | E11: 9305-B1.1 | F11: 9306-C1.1 | G11: 9307-D1.1 | H11: 9310-A1.1 | I11: 9311-B1.1 | J11: 9312-C1.1 | K11: 9313-D1.1 | L11: Blank | M11: Blank | N11: Blank | O11: SD4.1 | P11: 9300-D1.1 | Q11: 9302-A1.1 | R11: 9305-B1.1 | S11: 9306-C1.1 | T11: 9307-D1.1 | U11: 9310-A1.1 | V11: 9311-B1.1 | W11: 9312-C1.1 | X11: 9313-D1.1 | Y11: Blank
A12: K | B12: SD4.2 | C12: 9300-D1.2 | D12: 9302-A1.2 | E12: 9305-B1.2 | F12: 9306-C1.2 | G12: 9307-D1.2 | H12: 9310-A1.2 | I12: 9311-B1.2 | J12: 9312-C1.2 | K12: 9313-D1.2 | L12: Blank | M12: Blank | N12: Blank | O12: SD4.2 | P12: 9300-D1.2 | Q12: 9302-A1.2 | R12: 9305-B1.2 | S12: 9306-C1.2 | T12: 9307-D1.2 | U12: 9310-A1.2 | V12: 9311-B1.2 | W12: 9312-C1.2 | X12: 9313-D1.2 | Y12: Blank
A13: L | B13: SD4.3 | C13: 9300-D1.3 | D13: 9302-A1.3 | E13: 9305-B1.3 | F13: 9306-C1.3 | G13: 9307-D1.3 | H13: 9310-A1.3 | I13: 9311-B1.3 | J13: 9312-C1.3 | K13: 9313-D1.3 | L13: Blank | M13: Blank | N13: Blank | O13: SD4.3 | P13: 9300-D1.3 | Q13: 9302-A1.3 | R13: 9305-B1.3 | S13: 9306-C1.3 | T13: 9307-D1.3 | U13: 9310-A1.3 | V13: 9311-B1.3 | W13: 9312-C1.3 | X13: 9313-D1.3 | Y13: Blank
... A17: P | B17: Blank | C17: Blank | D17: Blank | E17: Blank | F17: Blank | G17: Blank | H17: Blank | I17: Blank | J17: Blank | K17: Blank | L17: Blank | M17: Blank | N17: Blank | O17: Blank | P17: Blank | Q17: Blank | R17: Blank | S17: Blank | T17: Blank | U17: Blank | V17: Blank | W17: Blank | X17: Blank | Y17: Blank
B20: 1 | C20: 2 | D20: 3 | E20: 4 | F20: 5 | G20: 6 | H20: 7 | I20: 8 | J20: 9 | K20: 10 | L20: 11 | M20: =L20+1 -> 12 | N20: 13 | O20: 14 | P20: 15 | Q20: 16 | R20: 17 | S20: 18 | T20: 19 | U20: 20 | V20: 21 | W20: 22 | X20: 23 | Y20: 24
A21: A | B21: =raw_data!$H2 -> 18.69836 | C21: =raw_data!$H3 -> 22.137846 | D21: =raw_data!$H4 -> 20.895478 | E21: =raw_data!$H5 -> 20.939526 | F21: =raw_data!$H6 -> 20.499876 | G21: =raw_data!$H7 -> 21.745719 | H21: =raw_data!$H8 -> 21.564467 | I21: =raw_data!$H9 -> 21.398042 | J21: =raw_data!$H10 -> 20.915492 | K21: =raw_data!$H11 -> 21.45386 | L21: =raw_data!$H12 -> 21.290079 | M21: =raw_data!$H13 -> 0 | N21: =raw_data!$H14 -> 0 | O21: =raw_data!$H15 -> 21.860451 | P21: =raw_data!$H16 -> 23.781368 | Q21: =raw_data!$H17 -> 24.012952 | R21: =raw_data!$H18 -> 23.660229 | S21: =raw_data!$H19 -> 23.77791 | T21: =raw_data!$H20 -> 23.747293 | U21: =raw_data!$H21 -> 24.057321 | V21: =raw_data!$H22 -> 24.237475 | W21: =raw_data!$H23 -> 24.389631 | X21: =raw_data!$H24 -> 23.704854 | Y21: =raw_data!$H25 -> 24.203625
A22: B | B22: =raw_data!$H26 -> 18.63054 | C22: =raw_data!$H27 -> 21.697359 | D22: =raw_data!$H28 -> 21.093697 | E22: =raw_data!$H29 -> 21.019515 | F22: =raw_data!$H30 -> 20.690224 | G22: =raw_data!$H31 -> 22.182107 | H22: =raw_data!$H32 -> 21.57053 | I22: =raw_data!$H33 -> 21.441339 | J22: =raw_data!$H34 -> 21.529115 | K22: =raw_data!$H35 -> 21.176008 | L22: =raw_data!$H36 -> 21.365813 | M22: =raw_data!$H37 -> 0 | N22: =raw_data!$H38 -> 0 | O22: =raw_data!$H39 -> 21.771072 | P22: =raw_data!$H40 -> 24.009825 | Q22: =raw_data!$H41 -> 24.047607 | R22: =raw_data!$H42 -> 23.944207 | S22: =raw_data!$H43 -> 23.892079 | T22: =raw_data!$H44 -> 23.918355 | U22: =raw_data!$H45 -> 23.947393 | V22: =raw_data!$H46 -> 23.941541 | W22: =raw_data!$H47 -> 24.363579 | X22: =raw_data!$H48 -> 23.622001 | Y22: =raw_data!$H49 -> 24.230776
A23: C | B23: =raw_data!$H50 -> 19.124079 | C23: =raw_data!$H51 -> 21.366894 | D23: =raw_data!$H52 -> 21.233328 | E23: =raw_data!$H53 -> 21.153754 | F23: =raw_data!$H54 -> 21.062294 | G23: =raw_data!$H55 -> 21.879732 | H23: =raw_data!$H56 -> 21.66989 | I23: =raw_data!$H57 -> 21.335066 | J23: =raw_data!$H58 -> 21.516039 | K23: =raw_data!$H59 -> 21.266758 | L23: =raw_data!$H60 -> 21.321725 | M23: =raw_data!$H61 -> 0 | N23: =raw_data!$H62 -> 0 | O23: =raw_data!$H63 -> 21.333438 | P23: =raw_data!$H64 -> 23.88734 | Q23: =raw_data!$H65 -> 23.973452 | R23: =raw_data!$H66 -> 23.845812 | S23: =raw_data!$H67 -> 23.688185 | T23: =raw_data!$H68 -> 23.721686 | U23: =raw_data!$H69 -> 23.722405 | V23: =raw_data!$H70 -> 23.680926 | W23: =raw_data!$H71 -> 24.099983 | X23: =raw_data!$H72 -> 23.340651 | Y23: =raw_data!$H73 -> 23.889032
A24: D | B24: =raw_data!$H74 -> 19.578778 | C24: =raw_data!$H75 -> 21.685169 | D24: =raw_data!$H76 -> 21.917948 | E24: =raw_data!$H77 -> 22.344784 | F24: =raw_data!$H78 -> 21.559198 | G24: =raw_data!$H79 -> 21.154155 | H24: =raw_data!$H80 -> 23.103409 | I24: =raw_data!$H81 -> 21.374 | J24: =raw_data!$H82 -> 21.87743 | K24: =raw_data!$H83 -> 21.63718 | L24: =raw_data!$H84 -> 21.171308 | M24: =raw_data!$H85 -> 0 | N24: =raw_data!$H86 -> 0 | O24: =raw_data!$H87 -> 23.0327 | P24: =raw_data!$H88 -> 24.12916 | Q24: =raw_data!$H89 -> 25.022468 | R24: =raw_data!$H90 -> 25.111858 | S24: =raw_data!$H91 -> 24.020586 | T24: =raw_data!$H92 -> 23.637738 | U24: =raw_data!$H93 -> 24.854378 | V24: =raw_data!$H94 -> 24.065308 | W24: =raw_data!$H95 -> 24.869948 | X24: =raw_data!$H96 -> 24.142885 | Y24: =raw_data!$H97 -> 24.106244
A25: E | B25: =raw_data!$H98 -> 19.653394 | C25: =raw_data!$H99 -> 21.449541 | D25: =raw_data!$H100 -> 21.968202 | E25: =raw_data!$H101 -> 22.146791 | F25: =raw_data!$H102 -> 21.848964 | G25: =raw_data!$H103 -> 21.366197 | H25: =raw_data!$H104 -> 21.853472 | I25: =raw_data!$H105 -> 21.425509 | J25: =raw_data!$H106 -> 21.867745 | K25: =raw_data!$H107 -> 21.630333 | L25: =raw_data!$H108 -> 21.194647 | M25: =raw_data!$H109 -> 0 | N25: =raw_data!$H110 -> 0 | O25: =raw_data!$H111 -> 22.425414 | P25: =raw_data!$H112 -> 24.29582 | Q25: =raw_data!$H113 -> 25.099559 | R25: =raw_data!$H114 -> 24.87313 | S25: =raw_data!$H115 -> 23.841126 | T25: =raw_data!$H116 -> 23.700772 | U25: =raw_data!$H117 -> 24.608558 | V25: =raw_data!$H118 -> 23.937874 | W25: =raw_data!$H119 -> 24.006534 | X25: =raw_data!$H120 -> 24.396675 | Y25: =raw_data!$H121 -> 24.000427
A26: F | B26: =raw_data!$H122 -> 19.668282 | C26: =raw_data!$H123 -> 21.438808 | D26: =raw_data!$H124 -> 22.086981 | E26: =raw_data!$H125 -> 22.103069 | F26: =raw_data!$H126 -> 21.782407 | G26: =raw_data!$H127 -> 21.650816 | H26: =raw_data!$H128 -> 22.452074 | I26: =raw_data!$H129 -> 21.163742 | J26: =raw_data!$H130 -> 21.983997 | K26: =raw_data!$H131 -> 21.783644 | L26: =raw_data!$H132 -> 21.13109 | M26: =raw_data!$H133 -> 0 | N26: =raw_data!$H134 -> 0 | O26: =raw_data!$H135 -> 22.589225 | P26: =raw_data!$H136 -> 24.311523 | Q26: =raw_data!$H137 -> 24.836871 | R26: =raw_data!$H138 -> 24.831464 | S26: =raw_data!$H139 -> 23.586597 | T26: =raw_data!$H140 -> 23.471838 | U26: =raw_data!$H141 -> 24.608681 | V26: =raw_data!$H142 -> 23.971304 | W26: =raw_data!$H143 -> 23.876576 | X26: =raw_data!$H144 -> 24.17267 | Y26: =raw_data!$H145 -> 23.893723
A27: G | B27: =raw_data!$H146 -> 20.938061 | C27: =raw_data!$H147 -> 21.177164 | D27: =raw_data!$H148 -> 20.585934 | E27: =raw_data!$H149 -> 21.093794 | F27: =raw_data!$H150 -> 21.19476 | G27: =raw_data!$H151 -> 21.826847 | H27: =raw_data!$H152 -> 22.165644 | I27: =raw_data!$H153 -> 21.96437 | J27: =raw_data!$H154 -> 21.904179 | K27: =raw_data!$H155 -> 21.86851 | L27: =raw_data!$H156 -> 21.145721 | M27: =raw_data!$H157 -> 0 | N27: =raw_data!$H158 -> 0 | O27: =raw_data!$H159 -> 23.850196 | P27: =raw_data!$H160 -> 24.204484 | Q27: =raw_data!$H161 -> 24.216619 | R27: =raw_data!$H162 -> 23.949568 | S27: =raw_data!$H163 -> 23.893319 | T27: =raw_data!$H164 -> 24.611559 | U27: =raw_data!$H165 -> 24.6712 | V27: =raw_data!$H166 -> 24.115216 | W27: =raw_data!$H167 -> 24.160796 | X27: =raw_data!$H168 -> 24.513626 | Y27: =raw_data!$H169 -> 24.540772
A28: H | B28: =raw_data!$H170 -> 20.773734 | C28: =raw_data!$H171 -> 21.433634 | D28: =raw_data!$H172 -> 20.896982 | E28: =raw_data!$H173 -> 21.260281 | F28: =raw_data!$H174 -> 21.338904 | G28: =raw_data!$H175 -> 21.76151 | H28: =raw_data!$H176 -> 22.124254 | I28: =raw_data!$H177 -> 22.577833 | J28: =raw_data!$H178 -> 22.031557 | K28: =raw_data!$H179 -> 21.760975 | L28: =raw_data!$H180 -> 21.072043 | M28: =raw_data!$H181 -> 0 | N28: =raw_data!$H182 -> 0 | O28: =raw_data!$H183 -> 23.731035 | P28: =raw_data!$H184 -> 24.16551 | Q28: =raw_data!$H185 -> 24.261517 | R28: =raw_data!$H186 -> 23.844375 | S28: =raw_data!$H187 -> 23.593823 | T28: =raw_data!$H188 -> 24.382136 | U28: =raw_data!$H189 -> 25.023906 | V28: =raw_data!$H190 -> 24.028231 | W28: =raw_data!$H191 -> 24.343827 | X28: =raw_data!$H192 -> 24.843291 | Y28: =raw_data!$H193 -> 24.515768
A29: I | B29: =raw_data!$H194 -> 21.163623 | C29: =raw_data!$H195 -> 21.651732 | D29: =raw_data!$H196 -> 20.75037 | E29: =raw_data!$H197 -> 21.298518 | F29: =raw_data!$H198 -> 21.133965 | G29: =raw_data!$H199 -> 21.698531 | H29: =raw_data!$H200 -> 22.221526 | I29: =raw_data!$H201 -> 21.751795 | J29: =raw_data!$H202 -> 22.008144 | K29: =raw_data!$H203 -> 21.697469 | L29: =raw_data!$H204 -> 21.039228 | M29: =raw_data!$H205 -> 0 | N29: =raw_data!$H206 -> 0 | O29: =raw_data!$H207 -> 23.644044 | P29: =raw_data!$H208 -> 24.098644 | Q29: =raw_data!$H209 -> 24.054766 | R29: =raw_data!$H210 -> 23.706681 | S29: =raw_data!$H211 -> 23.527865 | T29: =raw_data!$H212 -> 24.376066 | U29: =raw_data!$H213 -> 24.693571 | V29: =raw_data!$H214 -> 23.804085 | W29: =raw_data!$H215 -> 24.058788 | X29: =raw_data!$H216 -> 24.842219 | Y29: =raw_data!$H217 -> 24.328943
A30: J | B30: =raw_data!$H218 -> 22.181424 | C30: =raw_data!$H219 -> 21.664691 | D30: =raw_data!$H220 -> 21.208804 | E30: =raw_data!$H221 -> 20.731117 | F30: =raw_data!$H222 -> 21.23067 | G30: =raw_data!$H223 -> 21.534721 | H30: =raw_data!$H224 -> 22.07695 | I30: =raw_data!$H225 -> 22.173158 | J30: =raw_data!$H226 -> 22.377717 | K30: =raw_data!$H227 -> 20.731671 | L30: =raw_data!$H228 -> 0 | M30: =raw_data!$H229 -> 0 | N30: =raw_data!$H230 -> 0 | O30: =raw_data!$H231 -> 24.993087 | P30: =raw_data!$H232 -> 24.282414 | Q30: =raw_data!$H233 -> 23.604652 | R30: =raw_data!$H234 -> 23.501822 | S30: =raw_data!$H235 -> 24.062081 | T30: =raw_data!$H236 -> 24.27345 | U30: =raw_data!$H237 -> 24.239535 | V30: =raw_data!$H238 -> 24.238108 | W30: =raw_data!$H239 -> 24.928852 | X30: =raw_data!$H240 -> 23.821155 | Y30: =raw_data!$H241 -> 0
A31: K | B31: =raw_data!$H242 -> 21.939484 | C31: =raw_data!$H243 -> 21.742601 | D31: =raw_data!$H244 -> 22.015599 | E31: =raw_data!$H245 -> 20.836758 | F31: =raw_data!$H246 -> 21.036067 | G31: =raw_data!$H247 -> 21.621186 | H31: =raw_data!$H248 -> 22.072761 | I31: =raw_data!$H249 -> 22.091916 | J31: =raw_data!$H250 -> 22.623868 | K31: =raw_data!$H251 -> 20.802345 | L31: =raw_data!$H252 -> 0 | M31: =raw_data!$H253 -> 0 | N31: =raw_data!$H254 -> 0 | O31: =raw_data!$H255 -> 24.891664 | P31: =raw_data!$H256 -> 24.220174 | Q31: =raw_data!$H257 -> 23.651179 | R31: =raw_data!$H258 -> 23.53372 | S31: =raw_data!$H259 -> 23.888198 | T31: =raw_data!$H260 -> 24.244664 | U31: =raw_data!$H261 -> 23.911738 | V31: =raw_data!$H262 -> 24.277105 | W31: =raw_data!$H263 -> 24.945294 | X31: =raw_data!$H264 -> 23.98688 | Y31: =raw_data!$H265 -> 0
A32: L | B32: =raw_data!$H266 -> 22.212029 | C32: =raw_data!$H267 -> 21.539155 | D32: =raw_data!$H268 -> 21.215907 | E32: =raw_data!$H269 -> 20.769795 | F32: =raw_data!$H270 -> 21.014026 | G32: =raw_data!$H271 -> 21.598734 | H32: =raw_data!$H272 -> 21.879515 | I32: =raw_data!$H273 -> 22.029851 | J32: =raw_data!$H274 -> 22.568318 | K32: =raw_data!$H275 -> 20.805358 | L32: =raw_data!$H276 -> 0 | M32: =raw_data!$H277 -> 0 | N32: =raw_data!$H278 -> 0 | O32: =raw_data!$H279 -> 24.830528 | P32: =raw_data!$H280 -> 24.23258 | Q32: =raw_data!$H281 -> 23.590222 | R32: =raw_data!$H282 -> 23.473971 | S32: =raw_data!$H283 -> 23.516613 | T32: =raw_data!$H284 -> 24.094962 | U32: =raw_data!$H285 -> 23.947088 | V32: =raw_data!$H286 -> 24.240235 | W32: =raw_data!$H287 -> 24.658364 | X32: =raw_data!$H288 -> 23.867449 | Y32: =raw_data!$H289 -> 0
A33: M | B33: =raw_data!$H290 -> 22.686951 | C33: =raw_data!$H291 -> 21.492766 | D33: =raw_data!$H292 -> 21.452502 | E33: =raw_data!$H293 -> 20.971272 | F33: =raw_data!$H294 -> 20.877251 | G33: =raw_data!$H295 -> 21.672585 | H33: =raw_data!$H296 -> 22.098683 | I33: =raw_data!$H297 -> 21.8105 | J33: =raw_data!$H298 -> 21.046483 | K33: =raw_data!$H299 -> 20.956472 | L33: =raw_data!$H300 -> 0 | M33: =raw_data!$H301 -> 0 | N33: =raw_data!$H302 -> 0 | O33: =raw_data!$H303 -> 25.680296 | P33: =raw_data!$H304 -> 23.909365 | Q33: =raw_data!$H305 -> 23.590433 | R33: =raw_data!$H306 -> 24.286071 | S33: =raw_data!$H307 -> 23.868537 | T33: =raw_data!$H308 -> 24.170562 | U33: =raw_data!$H309 -> 24.270779 | V33: =raw_data!$H310 -> 24.701485 | W33: =raw_data!$H311 -> 24.162035 | X33: =raw_data!$H312 -> 23.680624 | Y33: =raw_data!$H313 -> 0
A34: N | B34: =raw_data!$H314 -> 22.883132 | C34: =raw_data!$H315 -> 21.337446 | D34: =raw_data!$H316 -> 21.343563 | E34: =raw_data!$H317 -> 20.81918 | F34: =raw_data!$H318 -> 21.038103 | G34: =raw_data!$H319 -> 22.089303 | H34: =raw_data!$H320 -> 22.028267 | I34: =raw_data!$H321 -> 22.008382 | J34: =raw_data!$H322 -> 21.122052 | K34: =raw_data!$H323 -> 21.190956 | L34: =raw_data!$H324 -> 0 | M34: =raw_data!$H325 -> 0 | N34: =raw_data!$H326 -> 0 | O34: =raw_data!$H327 -> 25.676507 | P34: =raw_data!$H328 -> 24.057078 | Q34: =raw_data!$H329 -> 23.417584 | R34: =raw_data!$H330 -> 24.128256 | S34: =raw_data!$H331 -> 23.972766 | T34: =raw_data!$H332 -> 24.105708 | U34: =raw_data!$H333 -> 24.168262 | V34: =raw_data!$H334 -> 24.558524 | W34: =raw_data!$H335 -> 24.143047 | X34: =raw_data!$H336 -> 23.799827 | Y34: =raw_data!$H337 -> 0
A35: O | B35: =raw_data!$H338 -> 22.696059 | C35: =raw_data!$H339 -> 21.33323 | D35: =raw_data!$H340 -> 21.359893 | E35: =raw_data!$H341 -> 21.129628 | F35: =raw_data!$H342 -> 20.981516 | G35: =raw_data!$H343 -> 22.016719 | H35: =raw_data!$H344 -> 22.083592 | I35: =raw_data!$H345 -> 21.902032 | J35: =raw_data!$H346 -> 21.098432 | K35: =raw_data!$H347 -> 20.975669 | L35: =raw_data!$H348 -> 0 | M35: =raw_data!$H349 -> 0 | N35: =raw_data!$H350 -> 0 | O35: =raw_data!$H351 -> 25.48064 | P35: =raw_data!$H352 -> 23.793787 | Q35: =raw_data!$H353 -> 23.388864 | R35: =raw_data!$H354 -> 24.14936 | S35: =raw_data!$H355 -> 23.758639 | T35: =raw_data!$H356 -> 24.246242 | U35: =raw_data!$H357 -> 24.082605 | V35: =raw_data!$H358 -> 24.24481 | W35: =raw_data!$H359 -> 24.060226 | X35: =raw_data!$H360 -> 23.88181 | Y35: =raw_data!$H361 -> 0
A36: P | B36: =raw_data!$H362 -> 0 | C36: =raw_data!$H363 -> 0 | D36: =raw_data!$H364 -> 0 | E36: =raw_data!$H365 -> 0 | F36: =raw_data!$H366 -> 0 | G36: =raw_data!$H367 -> 0 | H36: =raw_data!$H368 -> 0 | I36: =raw_data!$H369 -> 0 | J36: =raw_data!$H370 -> 0 | K36: =raw_data!$H371 -> 0 | L36: =raw_data!$H372 -> 0 | M36: =raw_data!$H373 -> 0 | N36: =raw_data!$H374 -> 0 | O36: =raw_data!$H375 -> 0 | P36: =raw_data!$H376 -> 0 | Q36: =raw_data!$H377 -> 0 | R36: =raw_data!$H378 -> 0 | S36: =raw_data!$H379 -> 0 | T36: =raw_data!$H380 -> 0 | U36: =raw_data!$H381 -> 0 | V36: =raw_data!$H382 -> 0 | W36: =raw_data!$H383 -> 0 | X36: =raw_data!$H384 -> 0 | Y36: =raw_data!$H385 -> 0
A39: Gene Name | B39: Color | D39: Reaction | F39: Gene 1 | G39: Gene 2
A40: =F40 -> Psd95 | D40: Gene Name | F40: Psd95 | G40: HPRT
A41: =G40 -> HPRT | D41: Primer F Name | F41: Psd95 F | G41: HPRT F
D42: Primer R Name | F42: Psd95 R | G42: HPRT R
D43: # of samples +5 | F43: 175 | G43: 175
D44: Luna Mix | E44: 5μL | F44: =5*F43 -> 875 | G44: =5*G43 -> 875
D45: Primer F | E45: 0.5μL | F45: =0.5*F43 -> 87.5 | G45: =0.5*G43 -> 87.5
D46: Primer R | E46: 0.5μL | F46: =0.5*F43 -> 87.5 | G46: =0.5*G43 -> 87.5
D47: Nuclease-free Water | E47: 2μL | F47: =2*F43 -> 350 | G47: =2*G43 -> 350
...

Sheet SDGraphs
R1: Place information from graphs here
S2: =D3 -> Psd95 | T2: =D20 -> 18.784608
A3: Sample | B3: Dilutions | C3: log Dilutions | D3: =Plate!A40 -> Psd95 | E3: Mean | F3: Sd | G3: Grubb's Test | I3: Sample | J3: Dilutions | K3: log Dilutions | L3: =Plate!A41 -> HPRT | M3: Mean | N3: Sd | O3: Grubb's Test | R3: a | S3: -0.8092 | T3: -0.9576
A4: SD1.1 | B4: 1 | C4: =LOG(B4,2) -> 0 | D4: =Plate!$B21 -> 18.69836 | E4: =AVERAGE(D4:D6) -> 18.81766 | F4: =STDEV(D4:D6) -> 0.26752462 | I4: SD1.1 | J4: 1 | K4: =LOG(J4,2) -> 0 | L4: =Plate!$O21 -> 21.860451 | M4: =AVERAGE(L4:L6) -> 21.654987 | N4: =STDEV(L4:L6) -> 0.28203272 | R4: b | S4: 26.372 | T4: 24.65
A5: SD1.2 | B5: 1 | C5: =LOG(B5,2) -> 0 | D5: =Plate!$B22 -> 18.63054 | I5: SD1.2 | J5: 1 | K5: =LOG(J5,2) -> 0 | L5: =Plate!$O22 -> 21.771072
A6: SD3.1 | B6: 1 | C6: =LOG(B6,2) -> 0 | D6: =Plate!$B23 -> 19.124079 | I6: SD3.1 | J6: 1 | K6: =LOG(J6,2) -> 0 | L6: =Plate!$O23 -> 21.333438
A7: SD2.1 | B7: 0.5 | C7: =LOG(B7,2) -> -1 | D7: =Plate!$B24 -> 19.578778 | E7: =AVERAGE(D7:D9) -> 19.633485 | F7: =STDEV(D7:D9) -> 0.047958556 | I7: SD2.1 | J7: 0.5 | K7: =LOG(J7,2) -> -1 | L7: =Plate!$O24 -> 23.0327 | M7: =AVERAGE(L7:L9) -> 22.682446 | N7: =STDEV(L7:L9) -> 0.31419236
A8: SD2.2 | B8: 0.5 | C8: =LOG(B8,2) -> -1 | D8: =Plate!$B25 -> 19.653394 | I8: SD2.2 | J8: 0.5 | K8: =LOG(J8,2) -> -1 | L8: =Plate!$O25 -> 22.425414
A9: SD2.3 | B9: 0.5 | C9: =LOG(B9,2) -> -1 | D9: =Plate!$B26 -> 19.668282 | I9: SD2.3 | J9: 0.5 | K9: =LOG(J9,2) -> -1 | L9: =Plate!$O26 -> 22.589225
A10: SD3.1 | B10: 0.25 | C10: =LOG(B10,2) -> -2 | D10: =Plate!$B27 -> 20.938061 | E10: =AVERAGE(D10,D12) -> 21.050842 | F10: =STDEV(D10,D12) -> 0.15949615 | I10: SD3.1 | J10: 0.25 | K10: =LOG(J10,2) -> -2 | L10: =Plate!$O27 -> 23.850196 | M10: =AVERAGE(L10:L12) -> 23.741758 | N10: =STDEV(L10:L12) -> 0.10349376
A11: SD3.2 | B11: 0.25 | C11: =LOG(B11,2) -> -2 | D11: =Plate!$B28 -> 20.773734 | I11: SD3.2 | J11: 0.25 | K11: =LOG(J11,2) -> -2 | L11: =Plate!$O28 -> 23.731035
A12: SD3.3 | B12: 0.25 | C12: =LOG(B12,2) -> -2 | D12: =Plate!$B29 -> 21.163623 | I12: SD3.3 | J12: 0.25 | K12: =LOG(J12,2) -> -2 | L12: =Plate!$O29 -> 23.644044
A13: SD4.1 | B13: 0.125 | C13: =LOG(B13,2) -> -3 | D13: =Plate!$B30 -> 22.181424 | E13: =AVERAGE(D13:D15) -> 22.110979 | F13: =STDEV(D13:D15) -> 0.14930527 | I13: SD4.1 | J13: 0.125 | K13: =LOG(J13,2) -> -3 | L13: =Plate!$O30 -> 24.993087 | M13: =AVERAGE(L13:L15) -> 24.905093 | N13: =STDEV(L13:L15) -> 0.0821076
A14: SD4.2 | B14: 0.125 | C14: =LOG(B14,2) -> -3 | D14: =Plate!$B31 -> 21.939484 | I14: SD4.2 | J14: 0.125 | K14: =LOG(J14,2) -> -3 | L14: =Plate!$O31 -> 24.891664
A15: SD4.3 | B15: 0.125 | C15: =LOG(B15,2) -> -3 | D15: =Plate!$B32 -> 22.212029 | I15: SD4.3 | J15: 0.125 | K15: =LOG(J15,2) -> -3 | L15: =Plate!$O32 -> 24.830528
A16: SD5.1 | B16: 0.0625 | C16: =LOG(B16,2) -> -4 | D16: =Plate!$B33 -> 22.686951 | E16: =AVERAGE(D16:D18) -> 22.755381 | F16: =STDEV(D16:D18) -> 0.11072944 | I16: SD5.1 | J16: 0.0625 | K16: =LOG(J16,2) -> -4 | L16: =Plate!$O33 -> 25.680296 | M16: =AVERAGE(L16:L18) -> 25.612481 | N16: =STDEV(L16:L18) -> 0.11419341
A17: SD5.2 | B17: 0.0625 | C17: =LOG(B17,2) -> -4 | D17: =Plate!$B34 -> 22.883132 | I17: SD5.2 | J17: 0.0625 | K17: =LOG(J17,2) -> -4 | L17: =Plate!$O34 -> 25.676507
A18: SD5.3 | B18: 0.0625 | C18: =LOG(B18,2) -> -4 | D18: =Plate!$B35 -> 22.696059 | I18: SD5.3 | J18: 0.0625 | K18: =LOG(J18,2) -> -4 | L18: =Plate!$O35 -> 25.48064
C19: a | D19: =SLOPE(D4:D18,C4:C18) -> -1.0352936 | K19: a | L19: =SLOPE(L4:L18,K4:K18) -> -1.0137635
B20: =D3 -> Psd95 | C20: b | D20: =INTERCEPT(D4:D18,C4:C18) -> 18.784608 | J20: =L3 -> HPRT | K20: b | L20: =INTERCEPT(L4:L18,K4:K18) -> 21.691826

Sheet Calculations
M1: X= (CT-b)/a) log(Gene) | N1: X= (CT-b)/a) log(Gene) | P1: 2^X Amount Gene | Q1: 2^X Amount Gene | S1: Average Housekeeping | T1: Normalized Gene
B2: =SDGraphs!D3 -> Psd95 | C2: =SDGraphs!L3 -> HPRT | J2: =B2 -> Psd95 | K2: =C2 -> HPRT | M2: =B2 -> Psd95 | N2: =C2 -> HPRT | P2: =M2 -> Psd95 | Q2: =N2 -> HPRT | S2: HPRT | T2: =J2 -> Psd95
A3: a | B3: =SDGraphs!D19 -> -1.0352936 | C3: =SDGraphs!L19 -> -1.0137635 | I3: =Plate!C2 -> 9300-A1.1 | J3: =Plate!$C21 -> 22.137846 | K3: =Plate!$P21 -> 23.781368 | L3: =I3 -> 9300-A1.1 | M3: =(J3-$B$4)/$B$3 -> -3.2389247 | N3: =(K3-$C$4)/$C$3 -> -2.0611729 | O3: =I3 -> 9300-A1.1 | P3: =2^M3 -> 0.10592208 | Q3: =2^N3 -> 0.23962115 | R3: =I3 -> 9300-A1.1 | S3: =AVERAGE(Q3:Q5) -> 0.22248746 | T3: =P3/$S$3 -> 0.47608113 | V3: Mouse | W3: Tissue
A4: b | B4: =SDGraphs!D20 -> 18.784608 | C4: =SDGraphs!L20 -> 21.691826 | I4: =Plate!C3 -> 9300-A1.2 | J4: =Plate!$C22 -> 21.697359 | K4: =Plate!$P22 -> 24.009825 | L4: =I4 -> 9300-A1.2 | M4: =(J4-$B$4)/$B$3 -> -2.8134538 | N4: =(K4-$C$4)/$C$3 -> -2.2865282 | O4: =I4 -> 9300-A1.2 | P4: =2^M4 -> 0.1422545 | Q4: =2^N4 -> 0.20496817 | R4: =I4 -> 9300-A1.2 | T4: =P4/$S$3 -> 0.63938213 | V4: 9300 | W4: Acc | X4: =AVERAGE(T3:T5) -> 0.63772686 | AA4: Acc | AB4: M1 | AC4: CA1 | AD4: Cpu | AG4: DSS | AH4: StDev | AJ4: Tissue | AK4: DSS vs Non DSS
I5: =Plate!C4 -> 9300-A1.3 | J5: =Plate!$C23 -> 21.366894 | K5: =Plate!$P23 -> 23.88734 | L5: =I5 -> 9300-A1.3 | M5: =(J5-$B$4)/$B$3 -> -2.4942546 | N5: =(K5-$C$4)/$C$3 -> -2.1657059 | O5: =I5 -> 9300-A1.3 | P5: =2^M5 -> 0.1774821 | Q5: =2^N5 -> 0.22287305 | R5: =I5 -> 9300-A1.3 | T5: =P5/$S$3 -> 0.79771732 | W5: M1 | X5: =AVERAGE(T6:T8) -> 0.91655154 | Z5: DSS 1 | AA5: =X4 -> 0.63772686 | AB5: =X5 -> 0.91655154 | AC5: =X6 -> 0.93051883 | AD5: =X7 -> 0.84325418 | AF5: Acc | AG5: =AVERAGE(AA5:AA10) -> 0.67086832 | AH5: =STDEV(AA5:AA10) -> 0.12800491 | AJ5: Acc | AK5: =_xlfn.T.TEST(AA5:AA10,AA12:AA17,2,2) -> 0.80162545 | AL5: =IF(AK5<0.05,"Significant","Not Significant") -> Not Significant
I6: =Plate!C5 -> 9300-B1.1 | J6: =Plate!$C24 -> 21.685169 | K6: =Plate!$P24 -> 24.12916 | L6: =I6 -> 9300-B1.1 | M6: =(J6-$B$4)/$B$3 -> -2.8016798 | N6: =(K6-$C$4)/$C$3 -> -2.4042431 | O6: =I6 -> 9300-B1.1 | P6: =2^M6 -> 0.14342021 | Q6: =2^N6 -> 0.18890816 | R6: =I6 -> 9300-B1.1 | S6: =AVERAGE(Q6:Q8) -> 0.17474467 | T6: =P6/$S$6 -> 0.82074152 | W6: CA1 | X6: =AVERAGE(T9:T11) -> 0.93051883 | Z6: DSS 2 | AA6: =X8 -> 0.80184688 | AB6: =X9 -> 1.0588135 | AC6: =X10 -> 1.1096369 | AD6: =X11 -> 1.4758914 | AF6: M1 | AG6: =AVERAGE(AB5:AB10) -> 0.81264757 | AH6: =STDEV(AB5:AB10) -> 0.17914383 | AJ6: M1 | AK6: =_xlfn.T.TEST(AB5:AB10,AB12:AB17,2,2) -> 0.36914688 | AL6: =IF(AK6<0.05,"Significant","Not Significant") -> Not Significant
I7: =Plate!C6 -> 9300-B1.2 | J7: =Plate!$C25 -> 21.449541 | K7: =Plate!$P25 -> 24.29582 | L7: =I7 -> 9300-B1.2 | M7: =(J7-$B$4)/$B$3 -> -2.5740846 | N7: =(K7-$C$4)/$C$3 -> -2.5686404 | O7: =I7 -> 9300-B1.2 | P7: =2^M7 -> 0.16792808 | Q7: =2^N7 -> 0.16856298 | R7: =I7 -> 9300-B1.2 | T7: =P7/$S$6 -> 0.96099112 | W7: Cpu | X7: =AVERAGE(T12:T14) -> 0.84325418 | Z7: DSS 3 | AA7: =X12 -> 0.63150542 | AB7: =X13 -> 0.58876721 | AC7: =X14 -> 0.94453976 | AD7: =X15 -> 0.93571849 | AF7: CA1 | AG7: =AVERAGE(AC5:AC10) -> 1.0109971 | AH7: =STDEV(AC5:AC10) -> 0.15121222 | AJ7: CA1 | AK7: =_xlfn.T.TEST(AC5:AC10,AC12:AC17,2,2) -> 0.097164948 | AL7: =IF(AK7<0.05,"Significant","Not Significant") -> Not Significant
I8: =Plate!C7 -> 9300-B1.3 | J8: =Plate!$C26 -> 21.438808 | K8: =Plate!$P26 -> 24.311523 | L8: =I8 -> 9300-B1.3 | M8: =(J8-$B$4)/$B$3 -> -2.5637169 | N8: =(K8-$C$4)/$C$3 -> -2.5841299 | O8: =I8 -> 9300-B1.3 | P8: =2^M8 -> 0.16913921 | Q8: =2^N8 -> 0.16676288 | R8: =I8 -> 9300-B1.3 | T8: =P8/$S$6 -> 0.96792199 | V8: 9301 | W8: Acc | X8: =AVERAGE(T15:T17) -> 0.80184688 | Z8: DSS 4 | AA8: =X16 -> 0.84785663 | AB8: =X17 -> 0.90786405 | AC8: =X18 -> 1.2759741 | AD8: =X19 -> 1.1340973 | AF8: Cpu | AG8: =AVERAGE(AD5:AD10) -> 1.0448476 | AH8: =STDEV(AD5:AD10) -> 0.23797383 | AJ8: Cpu | AK8: =_xlfn.T.TEST(AD5:AD10,AD12:AD17,2,2) -> 0.70679008 | AL8: =IF(AK8<0.05,"Significant","Not Significant") -> Not Significant
I9: =Plate!C8 -> 9300-C1.1 | J9: =Plate!$C27 -> 21.177164 | K9: =Plate!$P27 -> 24.204484 | L9: =I9 -> 9300-C1.1 | M9: =(J9-$B$4)/$B$3 -> -2.310993 | N9: =(K9-$C$4)/$C$3 -> -2.4785447 | O9: =I9 -> 9300-C1.1 | P9: =2^M9 -> 0.20152169 | Q9: =2^N9 -> 0.17942531 | R9: =I9 -> 9300-C1.1 | S9: =AVERAGE(Q9:Q11) -> 0.18552911 | T9: =P9/$S$9 -> 1.0861998 | W9: M1 | X9: =AVERAGE(T18:T20) -> 1.0588135 | Z9: DSS 5 | AA9: =X20 -> 0.59236046 | AB9: =X21 -> 0.75376131 | AC9: =X22 -> 0.90533791 | AD9: =X23 -> 1.0263301 | AG9: No DSS
I10: =Plate!C9 -> 9300-C1.2 | J10: =Plate!$C28 -> 21.433634 | K10: =Plate!$P28 -> 24.16551 | L10: =I10 -> 9300-C1.2 | M10: =(J10-$B$4)/$B$3 -> -2.5587193 | N10: =(K10-$C$4)/$C$3 -> -2.4400995 | O10: =I10 -> 9300-C1.2 | P10: =2^M10 -> 0.16972614 | Q10: =2^N10 -> 0.18427095 | R10: =I10 -> 9300-C1.2 | T10: =P10/$S$9 -> 0.91482211 | W10: CA1 | X10: =AVERAGE(T21:T23) -> 1.1096369 | Z10: DSS 6 | AA10: =X24 -> 0.51391365 | AB10: =X25 -> 0.6501278 | AC10: =X26 -> 0.89997521 | AD10: =X27 -> 0.85379392 | AF10: Acc | AG10: =AVERAGE(AA12:AA17) -> 0.68954198 | AH10: =STDEV(AA12:AA17) -> 0.12264709
I11: =Plate!C10 -> 9300-C1.3 | J11: =Plate!$C29 -> 21.651732 | K11: =Plate!$P29 -> 24.098644 | L11: =I11 -> 9300-C1.3 | M11: =(J11-$B$4)/$B$3 -> -2.769382 | N11: =(K11-$C$4)/$C$3 -> -2.3741416 | O11: =I11 -> 9300-C1.3 | P11: =2^M11 -> 0.14666718 | Q11: =2^N11 -> 0.19289109 | R11: =I11 -> 9300-C1.3 | T11: =P11/$S$9 -> 0.79053457 | W11: Cpu | X11: =AVERAGE(T24:T26) -> 1.4758914 | AF11: M1 | AG11: =AVERAGE(AB12:AB17) -> 0.72587476 | AH11: =STDEV(AB12:AB17) -> 0.1377921
I12: =Plate!C11 -> 9300-D1.1 | J12: =Plate!$C30 -> 21.664691 | K12: =Plate!$P30 -> 24.282414 | L12: =I12 -> 9300-D1.1 | M12: =(J12-$B$4)/$B$3 -> -2.7818992 | N12: =(K12-$C$4)/$C$3 -> -2.5554164 | O12: =I12 -> 9300-D1.1 | P12: =2^M12 -> 0.14540017 | Q12: =2^N12 -> 0.17011516 | R12: =I12 -> 9300-D1.1 | S12: =AVERAGE(Q12:Q14) -> 0.17454579 | T12: =P12/$S$12 -> 0.83302019 | V12: 9302 | W12: Acc | X12: =AVERAGE(T27:T29) -> 0.63150542 | Z12: No DSS 1 | AA12: =X28 -> 0.67080614 | AB12: =X29 -> 0.68788881 | AC12: =X30 -> 0.69578596 | AD12: =X31 -> 0.86082524 | AF12: CA1 | AG12: =AVERAGE(AC12:AC17) -> 0.85111442 | AH12: =STDEV(AC12:AC17) -> 0.15142664
I13: =Plate!C12 -> 9300-D1.2 | J13: =Plate!$C31 -> 21.742601 | K13: =Plate!$P31 -> 24.220174 | L13: =I13 -> 9300-D1.2 | M13: =(J13-$B$4)/$B$3 -> -2.8571536 | N13: =(K13-$C$4)/$C$3 -> -2.4940211 | O13: =I13 -> 9300-D1.2 | P13: =2^M13 -> 0.13801016 | Q13: =2^N13 -> 0.17751082 | R13: =I13 -> 9300-D1.2 | T13: =P13/$S$12 -> 0.79068171 | W13: M1 | X13: =AVERAGE(T30:T32) -> 0.58876721 | Z13: No DSS 2 | AA13: =X32 -> 0.57025052 | AB13: =X33 -> 0.6042 | AC13: =X34 -> 0.81005154 | AD13: =X35 -> 0.88372601 | AF13: Cpu | AG13: =AVERAGE(AD12:AD17) -> 1.0947115 | AH13: =STDEV(AD12:AD17) -> 0.20718352
I14: =Plate!C13 -> 9300-D1.3 | J14: =Plate!$C32 -> 21.539155 | K14: =Plate!$P32 -> 24.23258 | L14: =I14 -> 9300-D1.3 | M14: =(J14-$B$4)/$B$3 -> -2.660643 | N14: =(K14-$C$4)/$C$3 -> -2.5062593 | O14: =I14 -> 9300-D1.3 | P14: =2^M14 -> 0.15814907 | Q14: =2^N14 -> 0.17601139 | R14: =I14 -> 9300-D1.3 | T14: =P14/$S$12 -> 0.90606063 | W14: CA1 | X14: =AVERAGE(T33:T35) -> 0.94453976 | Z14: No DSS 3 | AA14: =X36 -> 0.6265502 | AB14: =X37 -> 0.6265502 | AC14: =X38 -> 0.83819475 | AD14: =X39 -> 1.0941952
I15: =Plate!C14 -> 9301-A1.1 | J15: =Plate!$C33 -> 21.492766 | K15: =Plate!$P33 -> 23.909365 | L15: =I15 -> 9301-A1.1 | M15: =(J15-$B$4)/$B$3 -> -2.6158355 | N15: =(K15-$C$4)/$C$3 -> -2.187432 | O15: =I15 -> 9301-A1.1 | P15: =2^M15 -> 0.16313797 | Q15: =2^N15 -> 0.21954187 | R15: =I15 -> 9301-A1.1 | S15: =AVERAGE(Q15:Q17) -> 0.21852956 | T15: =P15/$S$15 -> 0.74652588 | W15: Cpu | X15: =AVERAGE(T36:T38) -> 0.93571849 | Z15: No DSS 4 | AA15: =X40 -> 0.68120645 | AB15: =X41 -> 0.64650618 | AC15: =X42 -> 0.70514539 | AD15: =X43 -> 1.1256741 | AG15: Acc | AH15: StDev
I16: =Plate!C15 -> 9301-A1.2 | J16: =Plate!$C34 -> 21.337446 | K16: =Plate!$P34 -> 24.057078 | L16: =I16 -> 9301-A1.2 | M16: =(J16-$B$4)/$B$3 -> -2.4658105 | N16: =(K16-$C$4)/$C$3 -> -2.33314 | O16: =I16 -> 9301-A1.2 | P16: =2^M16 -> 0.18101605 | Q16: =2^N16 -> 0.19845172 | R16: =I16 -> 9301-A1.2 | T16: =P16/$S$15 -> 0.8283367 | V16: 9305 | W16: Acc | X16: =AVERAGE(T39:T41) -> 0.84785663 | Z16: No DSS 5 | AA16: =X44 -> 0.66254177 | AB16: =X45 -> 0.84367452 | AC16: =X46 -> 1.0748587 | AD16: =X47 -> 1.1823954 | AF16: DSS | AG16: =AG5 -> 0.67086832 | AH16: =AH5 -> 0.12800491
I17: =Plate!C16 -> 9301-A1.3 | J17: =Plate!$C35 -> 21.33323 | K17: =Plate!$P35 -> 23.793787 | L17: =I17 -> 9301-A1.3 | M17: =(J17-$B$4)/$B$3 -> -2.4617384 | N17: =(K17-$C$4)/$C$3 -> -2.0734232 | O17: =I17 -> 9301-A1.3 | P17: =2^M17 -> 0.1815277 | Q17: =2^N17 -> 0.23759507 | R17: =I17 -> 9301-A1.3 | T17: =P17/$S$15 -> 0.83067805 | W17: M1 | X17: =AVERAGE(T42:T44) -> 0.90786405 | Z17: No DSS 6 | AA17: =X48 -> 0.92589679 | AB17: =X49 -> 0.94642885 | AC17: =X50 -> 0.98265019 | AD17: =X51 -> 1.421453 | AF17: No DSS | AG17: =AG10 -> 0.68954198 | AH17: =AH10 -> 0.12264709
I18: =Plate!D2 -> 9301-B1.1 | J18: =Plate!$D21 -> 20.895478 | K18: =Plate!$Q21 -> 24.012952 | L18: =I18 -> 9301-B1.1 | M18: =(J18-$B$4)/$B$3 -> -2.0389097 | N18: =(K18-$C$4)/$C$3 -> -2.2896124 | O18: =I18 -> 9301-B1.1 | P18: =2^M18 -> 0.24334758 | Q18: =2^N18 -> 0.20453046 | R18: =I18 -> 9301-B1.1 | S18: =AVERAGE(Q18:Q20) -> 0.20480037 | T18: =P18/$S$18 -> 1.1882185 | W18: CA1 | X18: =AVERAGE(T45:T47) -> 1.2759741 | AG18: M1 | AH18: StDev
I19: =Plate!D3 -> 9301-B1.2 | J19: =Plate!$D22 -> 21.093697 | K19: =Plate!$Q22 -> 24.047607 | L19: =I19 -> 9301-B1.2 | M19: =(J19-$B$4)/$B$3 -> -2.2303712 | N19: =(K19-$C$4)/$C$3 -> -2.323797 | O19: =I19 -> 9301-B1.2 | P19: =2^M19 -> 0.21310389 | Q19: =2^N19 -> 0.19974108 | R19: =I19 -> 9301-B1.2 | T19: =P19/$S$18 -> 1.0405444 | W19: Cpu | X19: =AVERAGE(T48:T50) -> 1.1340973 | AF19: DSS | AG19: =AG6 -> 0.81264757 | AH19: =AH6 -> 0.17914383
I20: =Plate!D4 -> 9301-B1.3 | J20: =Plate!$D23 -> 21.233328 | K20: =Plate!$Q23 -> 23.973452 | L20: =I20 -> 9301-B1.3 | M20: =(J20-$B$4)/$B$3 -> -2.3652415 | N20: =(K20-$C$4)/$C$3 -> -2.2506489 | O20: =I20 -> 9301-B1.3 | P20: =2^M20 -> 0.19408473 | Q20: =2^N20 -> 0.21012957 | R20: =I20 -> 9301-B1.3 | T20: =P20/$S$18 -> 0.94767763 | V20: 9306 | W20: Acc | X20: =AVERAGE(T51:T53) -> 0.59236046 | AF20: No DSS | AG20: =AG11 -> 0.72587476 | AH20: =AH11 -> 0.1377921
I21: =Plate!D5 -> 9301-C1.1 | J21: =Plate!$D24 -> 21.917948 | K21: =Plate!$Q24 -> 25.022468 | L21: =I21 -> 9301-C1.1 | M21: =(J21-$B$4)/$B$3 -> -3.0265229 | N21: =(K21-$C$4)/$C$3 -> -3.2854227 | O21: =I21 -> 9301-C1.1 | P21: =2^M21 -> 0.12272296 | Q21: =2^N21 -> 0.10256265 | R21: =I21 -> 9301-C1.1 | S21: =AVERAGE(Q21:Q23) -> 0.10543296 | T21: =P21/$S$21 -> 1.1639904 | W21: M1 | X21: =AVERAGE(T54:T56) -> 0.75376131 | AG21: CA1 | AH21: StDev
I22: =Plate!D6 -> 9301-C1.2 | J22: =Plate!$D25 -> 21.968202 | K22: =Plate!$Q25 -> 25.099559 | L22: =I22 -> 9301-C1.2 | M22: =(J22-$B$4)/$B$3 -> -3.0750635 | N22: =(K22-$C$4)/$C$3 -> -3.3614674 | O22: =I22 -> 9301-C1.2 | P22: =2^M22 -> 0.11866254 | Q22: =2^N22 -> 0.097296561 | R22: =I22 -> 9301-C1.2 | T22: =P22/$S$21 -> 1.1254786 | W22: CA1 | X22: =AVERAGE(T57:T59) -> 0.90533791 | AF22: DSS | AG22: =AG7 -> 1.0109971 | AH22: =AH7 -> 0.15121222
I23: =Plate!D7 -> 9301-C1.3 | J23: =Plate!$D26 -> 22.086981 | K23: =Plate!$Q26 -> 24.836871 | L23: =I23 -> 9301-C1.3 | M23: =(J23-$B$4)/$B$3 -> -3.1897934 | N23: =(K23-$C$4)/$C$3 -> -3.1023453 | O23: =I23 -> 9301-C1.3 | P23: =2^M23 -> 0.10959141 | Q23: =2^N23 -> 0.11643968 | R23: =I23 -> 9301-C1.3 | T23: =P23/$S$21 -> 1.0394416 | W23: Cpu | X23: =AVERAGE(T60:T62) -> 1.0263301 | AF23: No DSS | AG23: =AG12 -> 0.85111442 | AH23: =AH12 -> 0.15142664
I24: =Plate!D8 -> 9301-D1.1 | J24: =Plate!$D27 -> 20.585934 | K24: =Plate!$Q27 -> 24.216619 | L24: =I24 -> 9301-D1.1 | M24: =(J24-$B$4)/$B$3 -> -1.7399176 | N24: =(K24-$C$4)/$C$3 -> -2.4905144 | O24: =I24 -> 9301-D1.1 | P24: =2^M24 -> 0.29938677 | Q24: =2^N24 -> 0.17794281 | R24: =I24 -> 9301-D1.1 | S24: =AVERAGE(Q24:Q26) -> 0.18309059 | T24: =P24/$S$24 -> 1.6351838 | V24: 9307 | W24: Acc | X24: =AVERAGE(T63:T65) -> 0.51391365 | AG24: Cpu | AH24: StDev
I25: =Plate!D9 -> 9301-D1.2 | J25: =Plate!$D28 -> 20.896982 | K25: =Plate!$Q28 -> 24.261517 | L25: =I25 -> 9301-D1.2 | M25: =(J25-$B$4)/$B$3 -> -2.040362 | N25: =(K25-$C$4)/$C$3 -> -2.5348033 | O25: =I25 -> 9301-D1.2 | P25: =2^M25 -> 0.24310272 | Q25: =2^N25 -> 0.1725632 | R25: =I25 -> 9301-D1.2 | T25: =P25/$S$24 -> 1.3277729 | W25: M1 | X25: =AVERAGE(T66:T68) -> 0.6501278 | AF25: DSS | AG25: =AG8 -> 1.0448476 | AH25: =AH8 -> 0.23797383
I26: =Plate!D10 -> 9301-D1.3 | J26: =Plate!$D29 -> 20.75037 | K26: =Plate!$Q29 -> 24.054766 | L26: =I26 -> 9301-D1.3 | M26: =(J26-$B$4)/$B$3 -> -1.8987481 | N26: =(K26-$C$4)/$C$3 -> -2.3308589 | O26: =I26 -> 9301-D1.3 | P26: =2^M26 -> 0.26817598 | Q26: =2^N26 -> 0.19876575 | R26: =I26 -> 9301-D1.3 | T26: =P26/$S$24 -> 1.4647174 | W26: CA1 | X26: =AVERAGE(T69:T71) -> 0.89997521 | AF26: No DSS | AG26: =AG13 -> 1.0947115 | AH26: =AH13 -> 0.20718352
I27: =Plate!D11 -> 9302-A1.1 | J27: =Plate!$D30 -> 21.208804 | K27: =Plate!$Q30 -> 23.604652 | L27: =I27 -> 9302-A1.1 | M27: =(J27-$B$4)/$B$3 -> -2.3415541 | N27: =(K27-$C$4)/$C$3 -> -1.8868556 | O27: =I27 -> 9302-A1.1 | P27: =2^M27 -> 0.19729768 | Q27: =2^N27 -> 0.27039575 | R27: =I27 -> 9302-A1.1 | S27: =AVERAGE(Q27:Q29) -> 0.26846716 | T27: =P27/$S$27 -> 0.73490432 | W27: Cpu | X27: =AVERAGE(T72:T74) -> 0.85379392
I28: =Plate!D12 -> 9302-A1.2 | J28: =Plate!$D31 -> 22.015599 | K28: =Plate!$Q31 -> 23.651179 | L28: =I28 -> 9302-A1.2 | M28: =(J28-$B$4)/$B$3 -> -3.120845 | N28: =(K28-$C$4)/$C$3 -> -1.9327517 | O28: =I28 -> 9302-A1.2 | P28: =2^M28 -> 0.1149561 | Q28: =2^N28 -> 0.26192911 | R28: =I28 -> 9302-A1.2 | T28: =P28/$S$27 -> 0.42819428 | V28: 9309 | W28: Acc | X28: =AVERAGE(T75:T77) -> 0.67080614
I29: =Plate!D13 -> 9302-A1.3 | J29: =Plate!$D32 -> 21.215907 | K29: =Plate!$Q32 -> 23.590222 | L29: =I29 -> 9302-A1.3 | M29: =(J29-$B$4)/$B$3 -> -2.3484151 | N29: =(K29-$C$4)/$C$3 -> -1.8726223 | O29: =I29 -> 9302-A1.3 | P29: =2^M29 -> 0.19636162 | Q29: =2^N29 -> 0.27307662 | R29: =I29 -> 9302-A1.3 | T29: =P29/$S$27 -> 0.73141766 | W29: M1 | X29: =AVERAGE(T78:T80) -> 0.68788881
I30: =Plate!D14 -> 9302-B1.1 | J30: =Plate!$D33 -> 21.452502 | K30: =Plate!$Q33 -> 23.590433 | L30: =I30 -> 9302-B1.1 | M30: =(J30-$B$4)/$B$3 -> -2.5769442 | N30: =(K30-$C$4)/$C$3 -> -1.8728298 | O30: =I30 -> 9302-B1.1 | P30: =2^M30 -> 0.16759556 | Q30: =2^N30 -> 0.27303734 | R30: =I30 -> 9302-B1.1 | S30: =AVERAGE(Q30:Q32) -> 0.29790366 | T30: =P30/$S$30 -> 0.56258308 | W30: CA1 | X30: =AVERAGE(T81:T83) -> 0.69578596
I31: =Plate!D15 -> 9302-B1.2 | J31: =Plate!$D34 -> 21.343563 | K31: =Plate!$Q34 -> 23.417584 | L31: =I31 -> 9302-B1.2 | M31: =(J31-$B$4)/$B$3 -> -2.4717192 | N31: =(K31-$C$4)/$C$3 -> -1.7023276 | O31: =I31 -> 9302-B1.2 | P31: =2^M31 -> 0.18027619 | Q31: =2^N31 -> 0.30728992 | R31: =I31 -> 9302-B1.2 | T31: =P31/$S$30 -> 0.6051493 | W31: Cpu | X31: =AVERAGE(T84:T86) -> 0.86082524
I32: =Plate!D16 -> 9302-B1.3 | J32: =Plate!$D35 -> 21.359893 | K32: =Plate!$Q35 -> 23.388864 | L32: =I32 -> 9302-B1.3 | M32: =(J32-$B$4)/$B$3 -> -2.4874921 | N32: =(K32-$C$4)/$C$3 -> -1.6739978 | O32: =I32 -> 9302-B1.3 | P32: =2^M32 -> 0.17831598 | Q32: =2^N32 -> 0.31338372 | R32: =I32 -> 9302-B1.3 | T32: =P32/$S$30 -> 0.59856927 | V32: 9310 | W32: Acc | X32: =AVERAGE(T87:T89) -> 0.57025052
I33: =Plate!E2 -> 9302-C1.1 | J33: =Plate!$E21 -> 20.939526 | K33: =Plate!$R21 -> 23.660229 | L33: =I33 -> 9302-C1.1 | M33: =(J33-$B$4)/$B$3 -> -2.0814554 | N33: =(K33-$C$4)/$C$3 -> -1.9416781 | O33: =I33 -> 9302-C1.1 | P33: =2^M33 -> 0.23627593 | Q33: =2^N33 -> 0.26031348 | R33: =I33 -> 9302-C1.1 | S33: =AVERAGE(Q33:Q35) -> 0.23465968 | T33: =P33/$S$33 -> 1.0068876 | W33: M1 | X33: =AVERAGE(T90:T92) -> 0.6042
I34: =Plate!E3 -> 9302-C1.2 | J34: =Plate!$E22 -> 21.019515 | K34: =Plate!$R22 -> 23.944207 | L34: =I34 -> 9302-C1.2 | M34: =(J34-$B$4)/$B$3 -> -2.1587181 | N34: =(K34-$C$4)/$C$3 -> -2.2218012 | O34: =I34 -> 9302-C1.2 | P34: =2^M34 -> 0.22395517 | Q34: =2^N34 -> 0.21437355 | R34: =I34 -> 9302-C1.2 | T34: =P34/$S$33 -> 0.95438284 | W34: CA1 | X34: =AVERAGE(T93:T95) -> 0.81005154
I35: =Plate!E4 -> 9302-C1.3 | J35: =Plate!$E23 -> 21.153754 | K35: =Plate!$R23 -> 23.845812 | L35: =I35 -> 9302-C1.3 | M35: =(J35-$B$4)/$B$3 -> -2.2883811 | N35: =(K35-$C$4)/$C$3 -> -2.1247419 | O35: =I35 -> 9302-C1.3 | P35: =2^M35 -> 0.20470509 | Q35: =2^N35 -> 0.22929202 | R35: =I35 -> 9302-C1.3 | T35: =P35/$S$33 -> 0.87234881 | W35: Cpu | X35: =AVERAGE(T96:T98) -> 0.88372601
I36: =Plate!E5 -> 9302-D1.1 | J36: =Plate!$E24 -> 22.344784 | K36: =Plate!$R24 -> 25.111858 | L36: =I36 -> 9302-D1.1 | M36: =(J36-$B$4)/$B$3 -> -3.4388082 | N36: =(K36-$C$4)/$C$3 -> -3.3735992 | O36: =I36 -> 9302-D1.1 | P36: =2^M36 -> 0.092217973 | Q36: =2^N36 -> 0.096481812 | R36: =I36 -> 9302-D1.1 | S36: =AVERAGE(Q36:Q38) -> 0.1089804 | T36: =P36/$S$36 -> 0.84618862 | V36: 9311 | W36: Acc | X36: =AVERAGE(T102:T104) -> 0.6265502
I37: =Plate!E6 -> 9302-D1.2 | J37: =Plate!$E25 -> 22.146791 | K37: =Plate!$R25 -> 24.87313 | L37: =I37 -> 9302-D1.2 | M37: =(J37-$B$4)/$B$3 -> -3.2475645 | N37: =(K37-$C$4)/$C$3 -> -3.1381121 | O37: =I37 -> 9302-D1.2 | P37: =2^M37 -> 0.10528965 | Q37: =2^N37 -> 0.11358844 | R37: =I37 -> 9302-D1.2 | T37: =P37/$S$36 -> 0.96613382 | W37: M1 | X37: =AVERAGE(T102:T104) -> 0.6265502
I38: =Plate!E7 -> 9302-D1.3 | J38: =Plate!$E26 -> 22.103069 | K38: =Plate!$R26 -> 24.831464 | L38: =I38 -> 9302-D1.3 | M38: =(J38-$B$4)/$B$3 -> -3.2053331 | N38: =(K38-$C$4)/$C$3 -> -3.0970118 | O38: =I38 -> 9302-D1.3 | P38: =2^M38 -> 0.1084173 | Q38: =2^N38 -> 0.11687094 | R38: =I38 -> 9302-D1.3 | T38: =P38/$S$36 -> 0.99483302 | W38: CA1 | X38: =AVERAGE(T105:T107) -> 0.83819475
I39: =Plate!E8 -> 9305-A1.1 | J39: =Plate!$E27 -> 21.093794 | K39: =Plate!$R27 -> 23.949568 | L39: =I39 -> 9305-A1.1 | M39: =(J39-$B$4)/$B$3 -> -2.2304651 | N39: =(K39-$C$4)/$C$3 -> -2.2270889 | O39: =I39 -> 9305-A1.1 | P39: =2^M39 -> 0.21309001 | Q39: =2^N39 -> 0.21358927 | R39: =I39 -> 9305-A1.1 | S39: =AVERAGE(Q39:Q41) -> 0.23176073 | T39: =P39/$S$39 -> 0.91943968 | W39: Cpu | X39: =AVERAGE(T108:T110) -> 1.0941952
I40: =Plate!E9 -> 9305-A1.2 | J40: =Plate!$E28 -> 21.260281 | K40: =Plate!$R28 -> 23.844375 | L40: =I40 -> 9305-A1.2 | M40: =(J40-$B$4)/$B$3 -> -2.3912757 | N40: =(K40-$C$4)/$C$3 -> -2.1233246 | O40: =I40 -> 9305-A1.2 | P40: =2^M40 -> 0.19061378 | Q40: =2^N40 -> 0.2295174 | R40: =I40 -> 9305-A1.2 | T40: =P40/$S$39 -> 0.82245935 | V40: 9312 | W40: Acc | X40: =AVERAGE(T111:T113) -> 0.68120645
...
