Workbook

Sheet Table of contents
A2: Table of contents:
B4: Supplementary Table S-1 | C4: ='Supplementary Table S-1'!$B$2 -> Supplementary Table S-1: GWAS datasets utilised for AD, CAD traits, and lipids analyses in this study
B5: Supplementary Table S-2 | C5: ='Supplementary Table S-2'!$B$2 -> Supplementary Table S-2: LDSC analysis - global genetic correlation between AD, CAD traits and lipids
B6: Supplementary Table S-3 | C6: ='Supplementary Table S-3'!$B$2 -> Supplementary Table S-3: LDSC analysis - global genetic correlation between CAD traits and lipids
B7: Supplementary Table S-4 | C7: ='Supplementary Table S-4'!$B$2 -> Supplementary Table S-4: Gene-overlap analysis between lipids, CAD traits, and AD
B8: Supplementary Table S-5 | C8: ='Supplementary Table S-5'!$B$2 -> Supplementary Table S-5: Bi-directional two-sample Mendelian Randomisation analysis between lipids, CAD traits, and AD
B9: Supplementary Table S-6 | C9: ='Supplementary Table S-6'!$B$2 -> Supplementary Table S-6: LAVA bivariate analysis at nominal significance between lipids, CAD traits, and AD

Sheet Supplementary Table S-1
B2: Supplementary Table S-1: GWAS datasets utilised for AD, CAD traits, and lipids analyses in this study
A4: Summary of GWAS datasets analysed
B5: Data | C5: Cases | D5: control | E5: n | F5: 1/cases = a | G5: 1/control = b | H5: a+b | I5: n(eff) | J5: Ancestry | K5: Phenotype source/definition | L5: Source (link) | M5: Publication or website link
A6: Main - AD | B6: AD (Jansen et al 2019) | C6: 71880 | D6: 383378 | E6: =C6+D6 -> 455258 | F6: =1/C6 -> 1.3912076e-05 | G6: =1/D6 -> 2.6083917e-06 | H6: =F6+G6 -> 1.6520467e-05 | I6: =4/H6 -> 242123.9 | J6: European | K6: Clinically diagnosed | L6: https://ctg.cncr.nl/documents/p1651/AD_sumstats_Jansenetal_2019sept.txt.gz | M6: https://www.nature.com/articles/s41588-018-0311-9
K7: UKB AD-by-proxy 24 | L7: *Source link identified from: https://www.biorxiv.org/content/10.1101/2021.05.14.444131v1.full | M7: *Publication identified from: https://www.nature.com/articles/s42003-022-03607-2
A9: Validation - AD | B9: AD (Lambert et al 2013) clinically diagnosed | C9: 17008 | D9: 37154 | E9: =C9+D9 -> 54162 | F9: =1/C9 -> 5.8795861e-05 | G9: =1/D9 -> 2.6915002e-05 | H9: =F9+G9 -> 8.5710863e-05 | I9: =4/H9 -> 46668.53 | J9: European | K9: European Alzheimer's Disease Initiative (EADI) | L9: http://ftp.ebi.ac.uk/pub/databases/gwas/summary_statistics/GCST002001-GCST003000/GCST002245 | M9: https://www.nature.com/articles/ng.2802
K10: Genetic and Environment Risk in Alzheimer's Disease (GERAD) | L10: *Source link identified from GWAS catalogue: https://www.ebi.ac.uk/gwas/publications/24162737 | M10: *Publication identified from: https://www.nature.com/articles/s42003-022-03607-2
K11: Alzheimer's Disease Genetic Consortium (ADGC)
K12: Cohorts for Heart and Ageing Research in Genomic Epidemiology (CHARGE)
A13: Lipid class:
A14: sphingolipids | B14: ML (Shin et al 2014) [Palmitoyl sphingomyelin] | E14: 7814 | J14: European | K14: TwinsUK (n=6,056 = UK) and KORA F4 (n=1,768 = Germany) | L14: http://ftp.ebi.ac.uk/pub/databases/gwas/summary_statistics/GCST90243001-GCST90244000/GCST90243883/GCST90243883_buildNCBI36.tsv.gz | M14: https://www.nature.com/articles/ng.2982
A15: glycerophospholipids | B15: ML (Shin et al 2014) [lysophosphatidylinositol (20:4) / 1-arachidonoylglycerophosphoinositol*] | E15: 7797 | J15: European | K15: TwinsUK and KORA F4 | L15: http://ftp.ebi.ac.uk/pub/databases/gwas/summary_statistics/GCST90243001-GCST90244000/GCST90243754/GCST90243754_buildNCBI36.tsv.gz | M15: *Publication identified from: https://www.sciencedirect.com/science/article/pii/S0002929721003475?via%3Dihub
A16: glycerophospholipids | B16: ML (Shin et al 2014) [beta-Glycerophosphoric acid / Glycerol 2-phosphate] | E16: 5912 | J16: European | K16: TwinsUK and KORA | L16: http://ftp.ebi.ac.uk/pub/databases/gwas/summary_statistics/GCST90243001-GCST90244000/GCST90243565/GCST90243565_buildNCBI36.tsv.gz
A17: organic compounds known as medium-chain fatty acids | B17: ML (Shin et al 2014) [Dodecanoic acid/ Laurate (12:0)] | E17: 7793 | J17: European | K17: TwinsUK and KORA | L17: http://ftp.ebi.ac.uk/pub/databases/gwas/summary_statistics/GCST90243001-GCST90244000/GCST90243452/GCST90243452_buildNCBI36.tsv.gz
A18: fatty acyls [lipids or lipid-like molecules] | B18: ML (Shin et al 2014) [Caprylic acid / Caprylate (8:0)] | E18: 7802 | J18: European | K18: TwinsUK and KORA | L18: http://ftp.ebi.ac.uk/pub/databases/gwas/summary_statistics/GCST90243001-GCST90244000/GCST90243595/GCST90243595_buildNCBI36.tsv.gz
A19: fatty acyls | B19: ML (Shin et al 2014) [Palmitic acid / Palmitate (16:0)] | E19: 7800 | J19: European | K19: TwinsUK and KORA | L19: http://ftp.ebi.ac.uk/pub/databases/gwas/summary_statistics/GCST90243001-GCST90244000/GCST90243429/GCST90243429_buildNCBI36.tsv.gz
A20: fatty acyls | B20: ML (Shin et al 2014) [Stearic acid / Stearate (18:0)] | E20: 7803 | J20: European | K20: TwinsUK and KORA | L20: http://ftp.ebi.ac.uk/pub/databases/gwas/summary_statistics/GCST90243001-GCST90244000/GCST90243431/GCST90243431_buildNCBI36.tsv.gz
L21: *Source link identified from GWAS catalogue: https://www.ebi.ac.uk/gwas/publications/24816252
A23: sphingolipids | B23: ML (Draisma 2015) [154 SM C16:1 sphingomyelin C16:1 ] | E23: 7428 | J23: European | K23: Seven cohorts originating from five countries (Netherlands, Germany, AUSTRALIA, Estonis, UK) | L23: https://dataverse.nl/api/access/datafile/38105 | M23: https://www.nature.com/articles/ncomms8208
A24: sphingolipids | B24: ML (Draisma 2015) [156 SM C18:1 sphingomyelin C18:1] | E24: 7428 | J24: European | K24: Seven cohorts originating from five countries (Netherlands, Germany, AUSTRALIA, Estonis, UK) | L24: https://dataverse.nl/api/access/datafile/38119 | M24: https://tweelingenregister.vu.nl/information_for_researchers/publications/publications-in-scientific-journals-2015
L25: *Source link identified from: https://dataverse.nl/dataset.xhtml?persistentId=doi%3A10.34894%2FJFWWS4&version=&q=&fileTypeGroupFacet=&fileAccess=&fileSortField=type | M25: *Publication identified from: https://www.sciencedirect.com/science/article/pii/S0002929721003475?via%3Dihub
A27: lipoproteins | B27: LDL (GLGC 2013) | E27: 188577 | J27: European | K27: T | L27: http://csg.sph.umich.edu/abecasis/public/lipids2013/jointGwasMc_LDL.txt.gz | M27: https://www.nature.com/articles/ng.2797
A28: lipoproteins | B28: HDL (GLGC 2013) | E28: 188577 | J28: European | K28: Population based and Case/Control studies---Measurements | L28: http://csg.sph.umich.edu/abecasis/public/lipids2013/jointGwasMc_HDL.txt.gz | M28: *Publication identified from: https://pubmed.ncbi.nlm.nih.gov/24097068/
A29: neutral lipids | B29: Triglycerides (GLGC 2013) | E29: 188577 | J29: European | K29: Population based and Case/Control studies---Measurements | L29: http://csg.sph.umich.edu/abecasis/public/lipids2013/jointGwasMc_TG.txt.gz
A30: steroids and steroid derivatives | B30: Total cholesterol (GLGC 2013) | E30: 188577 | J30: European | K30: Population based and Case/Control studies---Measurements | L30: http://csg.sph.umich.edu/abecasis/public/lipids2013/jointGwasMc_TC.txt.gz
L31: *Source link derived from GWAS atlas
A33: coronary artery disease (CAD) traits: | B33: CAD (Leelabs) [coronary arteriosclerosis_phecode 411.4] | C33: 20023 | D33: 377103 | E33: =C33+D33 -> 397126 | F33: =1/C33 -> 4.9942566e-05 | G33: =1/D33 -> 2.6517954e-06 | H33: =F33+G33 -> 5.2594361e-05 | I33: =4/H33 -> 76053.78 | J33: European | K33: United Kingdom Biobank | L33: (https://leelabsg.org/resources) | M33: https://www.nature.com/articles/s41588-020-0621-6
B34: CAD (Leelabs) [angina pectoris_phecode 411.3] | C34: 16175 | D34: 377103 | E34: =C34+D34 -> 393278 | F34: =1/C34 -> 6.1823802e-05 | G34: =1/D34 -> 2.6517954e-06 | H34: =F34+G34 -> 6.4475598e-05 | I34: =4/H34 -> 62038.975 | J34: European | M34: *Publication identified from: https://www.sciencedirect.com/science/article/pii/S0378111922006217?via%3Dihub
B35: CAD (Leelabs) [ischemic heart disease_phecode 411] | C35: 31355 | D35: 377103 | E35: =C35+D35 -> 408458 | F35: =1/C35 -> 3.189284e-05 | G35: =1/D35 -> 2.6517954e-06 | H35: =F35+G35 -> 3.4544635e-05 | I35: =4/H35 -> 115792.22 | J35: European
B37: CAD (Leelabs) [non specific chest pain_phecode 418] | C37: 31429 | D37: 377532 | E37: =C37+D37 -> 408961 | F37: =1/C37 -> 3.1817748e-05 | G37: =1/D37 -> 2.6487821e-06 | H37: =F37+G37 -> 3.446653e-05 | I37: =4/H37 -> 116054.62 | J37: European
B38: CAD (Leelabs) [cardiac dysrythmias_phecode 427] | C38: 24681 | D38: 380919 | E38: =C38+D38 -> 405600 | F38: =1/C38 -> 4.0516997e-05 | G38: =1/D38 -> 2.62523e-06 | H38: =F38+G38 -> 4.3142227e-05 | I38: =4/H38 -> 92716.586 | J38: European
B39: CAD (Leelabs) [myocardial infarction_phecode 411.2] | C39: 11703 | D39: 377103 | E39: =C39+D39 -> 388806 | F39: =1/C39 -> 8.5448176e-05 | G39: =1/D39 -> 2.6517954e-06 | H39: =F39+G39 -> 8.8099971e-05 | I39: =4/H39 -> 45402.966 | J39: European
M40: https://www.nature.com/articles/ng.784
B41: CAD (CARDIoGRAMplusC4D consortium) [CARDIoGRAMplusC4D] | C41: 22233 | D41: 64762 | E41: =C41+D41 -> 86995 | F41: =1/C41 -> 4.4978186e-05 | G41: =1/D41 -> 1.5441154e-05 | H41: =F41+G41 -> 6.0419339e-05 | I41: =4/H41 -> 66203.968 | J41: European | K41: CARDIoGRAMplusC4D consortium | M41: *Publication identified from: https://www.sciencedirect.com/science/article/pii/S0378111922006217?via%3Dihub

Sheet Supplementary Table S-2
B2: Supplementary Table S-2: LDSC analysis - global genetic correlation between AD, CAD traits and lipids
A4: Summary of Genetic Correlation Results for ad_jansen2019 and lipid metabolic profiles [MAIN] --no-intercept
A5: p1 | B5: p2 | C5: rg | D5: se | E5: z | F5: p | G5: h2_obs | H5: h2_obs_se | I5: h2_int | J5: h2_int_se | K5: gcov_int | L5: gcov_int_se
A6: ad_jansen.sumstats.gz | B6: palmitoyl.sumstats.gz | C6: -0.0288 | D6: 0.0422 | E6: -0.6811 | F6: 0.4958 | G6: 0.6623 | H6: 0.0416 | I6: 1 | J6: NA | K6: 0 | L6: NA
A7: ad_jansen.sumstats.gz | B7: c16.1.sumstats.gz | C7: -0.0163 | D7: 0.1065 | E7: -0.153 | F7: 0.8784 | G7: 0.0854 | H7: 0.0476 | I7: 1 | J7: NA | K7: 0 | L7: NA
A8: ad_jansen.sumstats.gz | B8: c18.1.sumstats.gz | C8: 0.1389 | D8: 0.1368 | E8: 1.0153 | F8: 0.31 | G8: 0.0716 | H8: 0.0432 | I8: 1 | J8: NA | K8: 0 | L8: NA
A9: ad_jansen.sumstats.gz | B9: 1arachidonoyl.sumstats.gz | C9: 0.036 | D9: 0.0548 | E9: 0.6569 | F9: 0.5112 | G9: 0.3571 | H9: 0.0448 | I9: 1 | J9: NA | K9: 0 | L9: NA
A10: ad_jansen.sumstats.gz | B10: glycero2p.sumstats.gz | C10: 0.0451 | D10: 0.0569 | E10: 0.7928 | F10: 0.4279 | G10: 0.4725 | H10: 0.0559 | I10: 1 | J10: NA | K10: 0 | L10: NA
A11: ad_jansen.sumstats.gz | B11: dodecanoic.sumstats.gz | C11: -0.0141 | D11: 0.0394 | E11: -0.3583 | F11: 0.7201 | G11: 0.7006 | H11: 0.0419 | I11: 1 | J11: NA | K11: 0 | L11: NA
A12: ad_jansen.sumstats.gz | B12: caprylic.sumstats.gz | C12: 0.0028 | D12: 0.0456 | E12: 0.061 | F12: 0.9513 | G12: 0.5954 | H12: 0.0454 | I12: 1 | J12: NA | K12: 0 | L12: NA
A13: ad_jansen.sumstats.gz | B13: stearic.sumstats.gz | C13: -0.026 | D13: 0.0434 | E13: -0.5989 | F13: 0.5493 | G13: 0.6114 | H13: 0.0464 | I13: 1 | J13: NA | K13: 0 | L13: NA
A14: ad_jansen.sumstats.gz | B14: palmitic.sumstats.gz | C14: 0.0002 | D14: 0.0508 | E14: 0.0045 | F14: 0.9964 | G14: 0.4257 | H14: 0.0443 | I14: 1 | J14: NA | K14: 0 | L14: NA
A15: ad_jansen.sumstats.gz | B15: LDL.sumstats.gz | C15: 0.1311 | D15: 0.071 | E15: 1.8461 | F15: 0.0649 | G15: 0.1305 | H15: 0.0332 | I15: 1 | J15: NA | K15: 0 | L15: NA
A16: ad_jansen.sumstats.gz | B16: HDL.sumstats.gz | C16: -0.0516 | D16: 0.0385 | E16: -1.3384 | F16: 0.1808 | G16: 0.1263 | H16: 0.031 | I16: 1 | J16: NA | K16: 0 | L16: NA
A17: ad_jansen.sumstats.gz | B17: TG.sumstats.gz | C17: 0.0926 | D17: 0.0364 | E17: 2.5444 | F17: 0.0109 | G17: 0.133 | H17: 0.0425 | I17: 1 | J17: NA | K17: 0 | L17: NA
A18: ad_jansen.sumstats.gz | B18: TC.sumstats.gz | C18: 0.1345 | D18: 0.0701 | E18: 1.9201 | F18: 0.0548 | G18: 0.1383 | H18: 0.0281 | I18: 1 | J18: NA | K18: 0 | L18: NA
A21: Summary of Genetic Correlation Results for ad_igap2013 and lipid metabolic profiles [VALIDATION] --no-intercept
A22: p1 | B22: p2 | C22: rg | D22: se | E22: z | F22: p | G22: h2_obs | H22: h2_obs_se | I22: h2_int | J22: h2_int_se | K22: gcov_int | L22: gcov_int_se
A23: ad_igap.sumstats.gz | B23: palmitoyl.sumstats.gz | C23: -0.0313 | D23: 0.0436 | E23: -0.719 | F23: 0.4721 | G23: 0.6863 | H23: 0.0424 | I23: 1 | J23: NA | K23: 0 | L23: NA
A24: ad_igap.sumstats.gz | B24: c16.1.sumstats.gz | C24: -0.0584 | D24: 0.127 | E24: -0.4601 | F24: 0.6454 | G24: 0.0845 | H24: 0.0472 | I24: 1 | J24: NA | K24: 0 | L24: NA
A25: ad_igap.sumstats.gz | B25: c18.1.sumstats.gz | C25: 0.1191 | D25: 0.1302 | E25: 0.9143 | F25: 0.3605 | G25: 0.0657 | H25: 0.0441 | I25: 1 | J25: NA | K25: 0 | L25: NA
A26: ad_igap.sumstats.gz | B26: 1arachidonoyl.sumstats.gz | C26: 0.0725 | D26: 0.058 | E26: 1.2508 | F26: 0.211 | G26: 0.36 | H26: 0.0479 | I26: 1 | J26: NA | K26: 0 | L26: NA
A27: ad_igap.sumstats.gz | B27: glycero2p.sumstats.gz | C27: 0.1083 | D27: 0.0531 | E27: 2.0388 | F27: 0.0415 | G27: 0.4854 | H27: 0.0549 | I27: 1 | J27: NA | K27: 0 | L27: NA
A28: ad_igap.sumstats.gz | B28: dodecanoic.sumstats.gz | C28: -0.0002 | D28: 0.0431 | E28: -0.004 | F28: 0.9968 | G28: 0.7174 | H28: 0.0414 | I28: 1 | J28: NA | K28: 0 | L28: NA
A29: ad_igap.sumstats.gz | B29: caprylic.sumstats.gz | C29: 0.0028 | D29: 0.0442 | E29: 0.0627 | F29: 0.95 | G29: 0.5958 | H29: 0.0425 | I29: 1 | J29: NA | K29: 0 | L29: NA
A30: ad_igap.sumstats.gz | B30: stearic.sumstats.gz | C30: -0.0209 | D30: 0.0434 | E30: -0.4819 | F30: 0.6299 | G30: 0.6266 | H30: 0.0446 | I30: 1 | J30: NA | K30: 0 | L30: NA
A31: ad_igap.sumstats.gz | B31: palmitic.sumstats.gz | C31: 0.0185 | D31: 0.0506 | E31: 0.3669 | F31: 0.7137 | G31: 0.4365 | H31: 0.0452 | I31: 1 | J31: NA | K31: 0 | L31: NA
A32: ad_igap.sumstats.gz | B32: LDL.sumstats.gz | C32: 0.1203 | D32: 0.0511 | E32: 2.3521 | F32: 0.0187 | G32: 0.1294 | H32: 0.0338 | I32: 1 | J32: NA | K32: 0 | L32: NA
A33: ad_igap.sumstats.gz | B33: HDL.sumstats.gz | C33: -0.018 | D33: 0.0356 | E33: -0.5045 | F33: 0.6139 | G33: 0.1272 | H33: 0.0313 | I33: 1 | J33: NA | K33: 0 | L33: NA
A34: ad_igap.sumstats.gz | B34: TG.sumstats.gz | C34: 0.0829 | D34: 0.0369 | E34: 2.2469 | F34: 0.0246 | G34: 0.132 | H34: 0.0424 | I34: 1 | J34: NA | K34: 0 | L34: NA
A35: ad_igap.sumstats.gz | B35: TC.sumstats.gz | C35: 0.1207 | D35: 0.0499 | E35: 2.4214 | F35: 0.0155 | G35: 0.1376 | H35: 0.0291 | I35: 1 | J35: NA | K35: 0 | L35: NA
A37: Summary of Genetic Correlation (with no intercept) Results for ad_jansen2019 and CAD [MAIN]
A38: p1 | B38: p2 | C38: rg | D38: se | E38: z | F38: p | G38: h2_obs | H38: h2_obs_se | I38: h2_int | J38: h2_int_se | K38: gcov_int | L38: gcov_int_se
A39: ad_jansen.sumstats.gz | B39: coronary-arteriosclerosis_411.4.sumstats.gz | C39: 0.1655 | D39: 0.0296 | E39: 5.5908 | F39: 2.2604e-08 | G39: 0.037 | H39: 0.0025 | I39: 1 | J39: NA | K39: 0 | L39: NA
A40: ad_jansen.sumstats.gz | B40: angina-pectoris_411.3.sumstats.gz | C40: 0.2068 | D40: 0.0355 | E40: 5.8202 | F40: 5.879e-09 | G40: 0.0291 | H40: 0.0016 | I40: 1 | J40: NA | K40: 0 | L40: NA
A41: ad_jansen.sumstats.gz | B41: myocardial-infarction_411.2.sumstats.gz | C41: 0.1694 | D41: 0.0384 | E41: 4.41 | F41: 1.0338e-05 | G41: 0.0239 | H41: 0.0016 | I41: 1 | J41: NA | K41: 0 | L41: NA
A42: ad_jansen.sumstats.gz | B42: ischemic-h-dx_411.sumstats.gz | C42: 0.2009 | D42: 0.0313 | E42: 6.4168 | F42: 1.3915e-10 | G42: 0.0399 | H42: 0.002 | I42: 1 | J42: NA | K42: 0 | L42: NA
A43: ad_jansen.sumstats.gz | B43: non-specific-chest-pain_418.sumstats.gz | C43: 0.2192 | D43: 0.0391 | E43: 5.6068 | F43: 2.0615e-08 | G43: 0.0248 | H43: 0.001 | I43: 1 | J43: NA | K43: 0 | L43: NA
A44: ad_jansen.sumstats.gz | B44: cardiac-dysrythmias_427.sumstats.gz | C44: 0.1353 | D44: 0.0378 | E44: 3.5762 | F44: 0.00034862 | G44: 0.0214 | H44: 0.0021 | I44: 1 | J44: NA | K44: 0 | L44: NA
A45: ad_jansen.sumstats.gz | B45: CAD_CARDIoGRAM.sumstats.gz | C45: 0.1512 | D45: 0.0425 | E45: 3.5579 | F45: 0.00037379 | G45: 0.0894 | H45: 0.0068 | I45: 1 | J45: NA | K45: 0 | L45: NA
...

Sheet Supplementary Table S-3
B2: Supplementary Table S-3: LDSC analysis - global genetic correlation between CAD traits and lipids
A4: Summary of genetic correlation results
A5: p1 | B5: p2 | C5: rg | D5: se | E5: z | F5: p | G5: h2_obs | H5: h2_obs_se | I5: h2_int | J5: h2_int_se | K5: gcov_int | L5: gcov_int_se
A6: angina-pectoris_411.3.sumstats.gz | B6: Lipid_HDL.sumstats.gz | C6: -0.3938 | D6: 0.0477 | E6: -8.2528 | F6: 1.5477e-16 | G6: 0.127 | H6: 0.0311 | I6: 1 | J6: NA | K6: 0 | L6: NA
A7: angina-pectoris_411.3.sumstats.gz | B7: Lipid_LDL.sumstats.gz | C7: 0.2752 | D7: 0.0366 | E7: 7.5152 | F7: 5.6832e-14 | G7: 0.1316 | H7: 0.0346 | I7: 1 | J7: NA | K7: 0 | L7: NA
A8: angina-pectoris_411.3.sumstats.gz | B8: Lipid_TG.sumstats.gz | C8: 0.4094 | D8: 0.0573 | E8: 7.1462 | F8: 8.9188e-13 | G8: 0.1318 | H8: 0.042 | I8: 1 | J8: NA | K8: 0 | L8: NA
A9: angina-pectoris_411.3.sumstats.gz | B9: Lipid_TC.sumstats.gz | C9: 0.2337 | D9: 0.0344 | E9: 6.7963 | F9: 1.0731e-11 | G9: 0.1392 | H9: 0.0295 | I9: 1 | J9: NA | K9: 0 | L9: NA
A10: angina-pectoris_411.3.sumstats.gz | B10: glycero2p.sumstats.gz | C10: 0.0464 | D10: 0.0463 | E10: 1.0034 | F10: 0.31567 | G10: 0.487 | H10: 0.0554 | I10: 1 | J10: NA | K10: 0 | L10: NA
A11: angina-pectoris_411.3.sumstats.gz | B11: palmitoyl.sumstats.gz | C11: 0.0323 | D11: 0.034 | E11: 0.9499 | F11: 0.34219 | G11: 0.6837 | H11: 0.0426 | I11: 1 | J11: NA | K11: 0 | L11: NA
A12: angina-pectoris_411.3.sumstats.gz | B12: c16.1.sumstats.gz | C12: -0.1445 | D12: 0.104 | E12: -1.3898 | F12: 0.16458 | G12: 0.0848 | H12: 0.0462 | I12: 1 | J12: NA | K12: 0 | L12: NA
A13: angina-pectoris_411.3.sumstats.gz | B13: c18.1.sumstats.gz | C13: -0.0878 | D13: 0.1137 | E13: -0.772 | F13: 0.44014 | G13: 0.0659 | H13: 0.0443 | I13: 1 | J13: NA | K13: 0 | L13: NA
A14: angina-pectoris_411.3.sumstats.gz | B14: 1arachidonoyl.sumstats.gz | C14: 0.0872 | D14: 0.045 | E14: 1.9377 | F14: 0.052657 | G14: 0.3567 | H14: 0.0488 | I14: 1 | J14: NA | K14: 0 | L14: NA
A15: angina-pectoris_411.3.sumstats.gz | B15: dodecanoic.sumstats.gz | C15: -0.0152 | D15: 0.0342 | E15: -0.4453 | F15: 0.65609 | G15: 0.7143 | H15: 0.0394 | I15: 1 | J15: NA | K15: 0 | L15: NA
A16: angina-pectoris_411.3.sumstats.gz | B16: caprylic.sumstats.gz | C16: 0.0156 | D16: 0.0377 | E16: 0.4149 | F16: 0.67818 | G16: 0.5968 | H16: 0.0431 | I16: 1 | J16: NA | K16: 0 | L16: NA
A17: angina-pectoris_411.3.sumstats.gz | B17: stearic.sumstats.gz | C17: 0.0129 | D17: 0.0333 | E17: 0.3861 | F17: 0.69941 | G17: 0.6259 | H17: 0.0436 | I17: 1 | J17: NA | K17: 0 | L17: NA
A18: angina-pectoris_411.3.sumstats.gz | B18: palmitic.sumstats.gz | C18: 0.0796 | D18: 0.0383 | E18: 2.0782 | F18: 0.03769 | G18: 0.4344 | H18: 0.0447 | I18: 1 | J18: NA | K18: 0 | L18: NA
A20: Summary of genetic correlation results
A21: p1 | B21: p2 | C21: rg | D21: se | E21: z | F21: p | G21: h2_obs | H21: h2_obs_se | I21: h2_int | J21: h2_int_se | K21: gcov_int | L21: gcov_int_se
A22: cardiac-dysrythmias_427.sumstats.gz | B22: Lipid_HDL.sumstats.gz | C22: -0.1846 | D22: 0.036 | E22: -5.1277 | F22: 2.9331e-07 | G22: 0.127 | H22: 0.0311 | I22: 1 | J22: NA | K22: 0 | L22: NA
A23: cardiac-dysrythmias_427.sumstats.gz | B23: Lipid_LDL.sumstats.gz | C23: 0.0236 | D23: 0.0323 | E23: 0.7292 | F23: 0.46586 | G23: 0.1316 | H23: 0.0346 | I23: 1 | J23: NA | K23: 0 | L23: NA
A24: cardiac-dysrythmias_427.sumstats.gz | B24: Lipid_TG.sumstats.gz | C24: 0.1423 | D24: 0.04 | E24: 3.5603 | F24: 0.00037049 | G24: 0.1318 | H24: 0.042 | I24: 1 | J24: NA | K24: 0 | L24: NA
A25: cardiac-dysrythmias_427.sumstats.gz | B25: Lipid_TC.sumstats.gz | C25: 0.0031 | D25: 0.0311 | E25: 0.0985 | F25: 0.92154 | G25: 0.1392 | H25: 0.0295 | I25: 1 | J25: NA | K25: 0 | L25: NA
A26: cardiac-dysrythmias_427.sumstats.gz | B26: glycero2p.sumstats.gz | C26: 0.0201 | D26: 0.0478 | E26: 0.4199 | F26: 0.67456 | G26: 0.4871 | H26: 0.0553 | I26: 1 | J26: NA | K26: 0 | L26: NA
A27: cardiac-dysrythmias_427.sumstats.gz | B27: palmitoyl.sumstats.gz | C27: 0.0036 | D27: 0.0407 | E27: 0.0896 | F27: 0.92862 | G27: 0.6837 | H27: 0.0426 | I27: 1 | J27: NA | K27: 0 | L27: NA
A28: cardiac-dysrythmias_427.sumstats.gz | B28: c16.1.sumstats.gz | C28: -0.0699 | D28: 0.1144 | E28: -0.6108 | F28: 0.54135 | G28: 0.0848 | H28: 0.0462 | I28: 1 | J28: NA | K28: 0 | L28: NA
A29: cardiac-dysrythmias_427.sumstats.gz | B29: c18.1.sumstats.gz | C29: -0.0466 | D29: 0.1213 | E29: -0.3846 | F29: 0.70053 | G29: 0.0659 | H29: 0.0443 | I29: 1 | J29: NA | K29: 0 | L29: NA
A30: cardiac-dysrythmias_427.sumstats.gz | B30: 1arachidonoyl.sumstats.gz | C30: -0.0069 | D30: 0.0493 | E30: -0.1408 | F30: 0.88806 | G30: 0.3567 | H30: 0.0488 | I30: 1 | J30: NA | K30: 0 | L30: NA
A31: cardiac-dysrythmias_427.sumstats.gz | B31: dodecanoic.sumstats.gz | C31: -0.0169 | D31: 0.0391 | E31: -0.4328 | F31: 0.66519 | G31: 0.7142 | H31: 0.0394 | I31: 1 | J31: NA | K31: 0 | L31: NA
A32: cardiac-dysrythmias_427.sumstats.gz | B32: caprylic.sumstats.gz | C32: -0.004 | D32: 0.0422 | E32: -0.0942 | F32: 0.92492 | G32: 0.5968 | H32: 0.0431 | I32: 1 | J32: NA | K32: 0 | L32: NA
A33: cardiac-dysrythmias_427.sumstats.gz | B33: stearic.sumstats.gz | C33: 0.0007 | D33: 0.041 | E33: 0.0167 | F33: 0.98668 | G33: 0.6259 | H33: 0.0436 | I33: 1 | J33: NA | K33: 0 | L33: NA
A34: cardiac-dysrythmias_427.sumstats.gz | B34: palmitic.sumstats.gz | C34: 0.0261 | D34: 0.0459 | E34: 0.5691 | F34: 0.56932 | G34: 0.4344 | H34: 0.0447 | I34: 1 | J34: NA | K34: 0 | L34: NA
A36: Summary of genetic correlation results
A37: p1 | B37: p2 | C37: rg | D37: se | E37: z | F37: p | G37: h2_obs | H37: h2_obs_se | I37: h2_int | J37: h2_int_se | K37: gcov_int | L37: gcov_int_se
A38: coronary-arteriosclerosis_411.4.sumstats.gz | B38: Lipid_HDL.sumstats.gz | C38: -0.3575 | D38: 0.0444 | E38: -8.0436 | F38: 8.723e-16 | G38: 0.127 | H38: 0.0311 | I38: 1 | J38: NA | K38: 0 | L38: NA
A39: coronary-arteriosclerosis_411.4.sumstats.gz | B39: Lipid_LDL.sumstats.gz | C39: 0.2958 | D39: 0.0378 | E39: 7.8286 | F39: 4.9314e-15 | G39: 0.1316 | H39: 0.0346 | I39: 1 | J39: NA | K39: 0 | L39: NA
A40: coronary-arteriosclerosis_411.4.sumstats.gz | B40: Lipid_TG.sumstats.gz | C40: 0.3667 | D40: 0.0462 | E40: 7.9347 | F40: 2.1102e-15 | G40: 0.1318 | H40: 0.042 | I40: 1 | J40: NA | K40: 0 | L40: NA
A41: coronary-arteriosclerosis_411.4.sumstats.gz | B41: Lipid_TC.sumstats.gz | C41: 0.2523 | D41: 0.0359 | E41: 7.028 | F41: 2.0957e-12 | G41: 0.1392 | H41: 0.0295 | I41: 1 | J41: NA | K41: 0 | L41: NA
A42: coronary-arteriosclerosis_411.4.sumstats.gz | B42: glycero2p.sumstats.gz | C42: -0.0111 | D42: 0.0441 | E42: -0.2517 | F42: 0.80125 | G42: 0.4871 | H42: 0.0554 | I42: 1 | J42: NA | K42: 0 | L42: NA
A43: coronary-arteriosclerosis_411.4.sumstats.gz | B43: palmitoyl.sumstats.gz | C43: -0.0009 | D43: 0.0324 | E43: -0.0292 | F43: 0.97667 | G43: 0.6837 | H43: 0.0426 | I43: 1 | J43: NA | K43: 0 | L43: NA
A44: coronary-arteriosclerosis_411.4.sumstats.gz | B44: c16.1.sumstats.gz | C44: -0.3101 | D44: 0.1231 | E44: -2.5195 | F44: 0.011751 | G44: 0.0848 | H44: 0.0462 | I44: 1 | J44: NA | K44: 0 | L44: NA
...

Sheet Supplementary Table S-4
B2: Supplementary Table S-4: Gene-overlap analysis between lipids, CAD traits, and AD
B5: Summary of SNPs overlapping ADjansen2019, with lipids, and with CAD traits
B6: Analysis information | C6: file containing SNPs | D6: no. of SNPs | E6: magma.out.genes
B7: ADjansen and CADap [angina pectoris] | C7: ADjansen_merged_CADap.txt | D7: 11250658 | E7: 18961
B8: ADjansen and CADcd [cardiac dysrhythmias] | C8: ADjansen_merged_CADcd.txt | D8: 11251568 | E8: 18961
B9: ADjansen and CADca [coronary arteriosclerosis] | C9: ADjansen_merged_CADca.txt | D9: 11250900 | E9: 18961
B10: ADjansen and CADihdx [ischemic heart disease] | C10: ADjansen_merged_CADihdx.txt | D10: 11251741 | E10: 18961
B11: ADjansen and CADmi [myocardial infarction] | C11: ADjansen_merged_CADmi.txt | D11: 11250320 | E11: 18961
B12: ADjansen and CADnscp [non-specific chest pain] | C12: ADjansen_merged_CADnscp.txt | D12: 11251773 | E12: 18961
B13: ADjansen and CADcg [CARDIoGRAMpluC4D] | C13: CADcg_merged_adjansen.txt | D13: 2393041 | E13: 17736
B14: ADjansen and Lipid-HDL [High density lipoproteins] | C14: Lipid-HDL_merged_adjansen.txt | D14: 2402800 | E14: 17685
B15: ADjansen and Lipid-LDL [Low density lipoproteins] | C15: Lipid-LDL_merged_adjansen.txt | D15: 2394019 | E15: 17671
B16: ADjansen and Lipid-TG [Triglycerides] | C16: Lipid-TG_merged_adjansen.txt | D16: 2395509 | E16: 17673
B17: ADjansen and Lipid-TC [Total cholesterol] | C17: Lipid-TC_merged_adjansen.txt | D17: 2402374 | E17: 17685

Sheet Supplementary Table S-5
B2: Supplementary Table S-5: Bi-directional two-sample Mendelian Randomisation analysis between lipids, CAD traits, and AD
B5: Outcome | C5: Exposure | D5: nIV | E5: IVW | G5: Weighted median | I5: MR-Egger | K5: *ρ pleiotropy | L5: #ρ heterogeneity | M5: MR-PRESSO
E6: OR (95% CI) | F6: ρ Value | G6: OR (95% CI) | H6: ρ Value | I6: OR (95% CI) | J6: ρ Value | M6: RAW OR (95% CI) | N6: ρ Value | O6: Corrected OR (95% CI) | P6: ρ Value
C7: Lipid - HDL | D7: 77 | E7: 0.99 (0.91 - 1.09) | F7: 9.09 x 10-01 | G7: 1.05 (0.90 - 1.24) | H7: 5.16 x 10-01 | I7: 0.99 (0.83 - 1.16) | J7: 8.61 x 10-01 | K7: 8.93 x 10-01 | L7: 6.20 x 10-01 | M7: 0.99 (0.91 - 1.09) | N7: 9.07 x 10-01 | O7: NA | P7: NA
C8: Lipid - LDL | D8: 62 | E8: 1.04 (0.94 - 1.14) | F8: 4.55 x 10-01 | G8: 1.04 (0.91 - 1.20) | H8: 5.60 x 10-01 | I8: 0.97 (0.82 - 1.15) | J8: 7.20 x 10-01 | K8: 3.54 x 10-01 | L8: 6.61 x 10-01 | M8: 1.04 (0.95 - 1.13) | N8: 4.38 x 10-01 | O8: NA | P8: NA
C9: Lipid - Triglycerides | D9: 44 | E9: 1.03 (0.93 - 1.14) | F9: 6.11 x 10-01 | G9: 1.03 (0.89 - 1.19) | H9: 6.66 x 10-01 | I9: 1.02 (0.87 - 1.19) | J9: 8.47 x 10-01 | K9: 8.55 x 10-01 | L9: 9.49 x 10-01 | M9: 1.03 (0.94 - 1.12) | N9: 5.39 x 10-01 | O9: NA | P9: NA
C10: Lipid - Total Cholesterol | D10: 66 | E10: 1.02 (0.93 - 1.12) | F10: 6.54 x 10-01 | G10: 1.04 (0.90 - 1.21) | H10: 5.50 x 10-01 | I10: 0.92 (0.76 - 1.11) | J10: 4.05 x 10-01 | K10: 2.21 x 10-01 | L10: 7.09 x 10-01 | M10: 1.02 (0.93 - 1.12) | N10: 6.38 x 10-01 | O10: NA | P10: NA
C11: CAD - Angina Pectoris | D11: 14 | E11: 1.02 (0.93 - 1.12) | F11: 6.22 x 10-01 | G11: 1.06 (0.93 - 1.21) | H11: 3.64 x 10-01 | I11: 0.92 (0.75 - 1.14) | J11: 4.68 x 10-01 | K11: 3.06 x 10-01 | L11: 4.76 x 10-01 | M11: 1.02 (0.93 - 1.12) | N11: 6.26 x 10-01 | O11: NA | P11: NA
B12: AD_iGAP2013 | C12: CAD - Cardiac Dysrhythmias | D12: 19 | E12: 0.96 (0.87 - 1.07) | F12: 4.82 x 10-01 | G12: 0.95 (0.81 - 1.10) | H12: 4.79 x 10-01 | I12: 1.07 (0.75 - 1.53) | J12: 7.07 x 10-01 | K12: 5.50 x 10-01 | L12: 6.34 x 10-01 | M12: 0.96 (0.88 - 1.06) | N12: 4.57 x 10-01 | O12: NA | P12: NA
C13: CAD - Coronary Arteriosclerosis | D13: 22 | E13: 0.99 (0.92 - 1.06) | F13: 6.90 x 10-01 | G13: 0.99 (0.90 - 1.10) | H13: 9.11 x 10-01 | I13: 1.08 (0.92 - 1.26) | J13: 3.67 x 10-01 | K13: 2.29 x 10-01 | L13: 7.17 x 10-01 | M13: 0.99 (0.93 - 1.05) | N13: 6.61 x 10-01 | O13: NA | P13: NA
C14: CAD - Ischemic Heart Disease | D14: 24 | E14: 1.01 (0.92 - 1.10) | F14: 9.04 x 10-01 | G14: 1.00 (0.87 - 1.14) | H14: 9.68 x 10-01 | I14: 0.98 (0.80 - 1.21) | J14: 8.82 x 10-01 | K14: 8.24 x 10-01 | L14: 4.76 x 10-01 | M14: 1.01 (0.92 - 1.10) | N14: 9.04 x 10-01 | O14: NA | P14: NA
C15: CAD - Myocardial Infarction | D15: 12 | E15: 0.96 (0.86 - 1.06) | F15: 4.31 x 10-01 | G15: 0.93 (0.81 - 1.06) | H15: 2.58 x 10-01 | I15: 0.91 (0.69 - 1.20) | J15: 5.16 x 10-01 | K15: 6.91 x 10-01 | L15: 3.08 x 10-01 | M15: 0.96 (0.86 - 1.06) | N15: 4.48 x 10-01 | O15: NA | P15: NA
C16: CAD - Non-specific Chest Pain | D16: 2 | E16: 0.83 (0.52 - 1.32) | F16: 4.29 x 10-01 | G16: - | H16: - | I16: - | J16: - | K16: - | L16: 3.02 x 10-01 | M16: - | N16: - | O16: NA | P16: NA
C17: CAD - CARDIoGRAMplusC4D | D17: 12 | E17: 1.00 (0.92 - 1.08) | F17: 9.53 x 10-01 | G17: 1.00 (0.90 - 1.12) | H17: 9.93 x 10-01 | I17: 1.05 (0.83 - 1.31) | J17: 7.01 x 10-01 | K17: 6.66 x 10-01 | L17: 6.11 x 10-01 | M17: 1.00 (0.93 - 1.07) | N17: 9.50 x 10-01 | O17: NA | P17: NA
B18: Lipid - HDL | D18: 3 | E18: 0.97 (0.92 - 1.02) | F18: 2.34 x 10-01 | G18: 0.98 (0.93 - 1.04) | H18: 5.62 x 10-01 | I18: 0.88 (0.73 - 1.06) | J18: 4.13 x 10-01 | K18: 4.93 x 10-01 | L18: 4.37 x 10-01 | M18: - | N18: - | O18: NA | P18: NA
B19: Lipid - LDL | D19: 4 | E19: 1.02 (0.97 - 1.08) | F19: 4.32 x 10-01 | G19: 1.04 (0.98 - 1.10) | H19: 2.29 x 10-01 | I19: 1.01 (0.90 - 1.14) | J19: 8.58 x 10-01 | K19: 8.82 x 10-01 | L19: 7.22 x 10-01 | M19: 1.02 (0.99 - 1.06) | N19: 3.23 x 10-01 | O19: NA | P19: NA
B20: Lipid - Triglycerides | D20: 3 | E20: 1.00 (0.94 - 1.07) | F20: 8.82 x 10-01 | G20: 1.01 (0.94 - 1.08) | H20: 8.72 x 10-01 | I20: 1.05 (0.95 - 1.16) | J20: 4.99 x 10-01 | K20: 4.57 x 10-01 | L20: 3.37 x 10-01 | M20: - | N20: - | O20: NA | P20: NA
B21: Lipid - Total Cholesterol | D21: 4 | E21: 0.98 (0.94 - 1.03) | F21: 5.21 x 10-01 | G21: 1.00 (0.94 - 1.06) | H21: 9.10 x 10-01 | I21: 0.98 (0.88 - 1.10) | J21: 7.49 x 10-01 | K21: 9.38 x 10-01 | L21: 7.46 x 10-01 | M21: 0.98 (0.95 - 1.02) | N21: 3.90 x 10-01 | O21: NA | P21: NA
B22: CAD - Angina Pectoris | D22: 12 | E22: 0.99 (0.94 - 1.04) | F22: 7.66 x 10-01 | G22: 1.01 (0.94 - 1.08) | H22: 7.76 x 10-01 | I22: 1.06 (0.98 - 1.16) | J22: 1.93 x 10-01 | K22: 8.85 x 10-02 | L22: 3.14 x 10-01 | M22: 0.99 (0.94 - 1.04) | N22: 7.72 x 10-01 | O22: NA | P22: NA
B23: CAD - Cardiac Dysrhythmias | C23: AD_iGAP2013 | D23: 11 | E23: 0.99 (0.95 - 1.03) | F23: 5.65 x 10-01 | G23: 1.00 (0.95 - 1.06) | H23: 8.83 x 10-01 | I23: 1.04 (0.96 - 1.12) | J23: 3.90 x 10-01 | K23: 1.87 x 10-01 | L23: 4.68 x 10-01 | M23: 0.99 (0.95 - 1.03) | N23: 5.72 x 10-01 | O23: NA | P23: NA
B24: CAD - Coronary Arteriosclerosis | D24: 11 | E24: 0.97 (0.92 - 1.03) | F24: 3.05 x 10-01 | G24: 0.97 (0.90 - 1.05) | H24: 4.64 x 10-02 | I24: 0.99 (0.83 - 1.18) | J24: 9.02 x 10-01 | K24: 8.39 x 10-01 | L24: 3.61 x 10-01 | M24: 0.97 (0.92 - 1.03) | N24: 3.29 x 10-01 | O24: NA | P24: NA
B25: CAD - Ischemic Heart Disease | D25: 10 | E25: 0.99 (0.94 - 1.04) | F25: 7.05 x 10-01 | G25: 1.00 (0.94 - 1.07) | H25: 9.69 x 10-01 | I25: 1.04 (0.89 - 1.20) | J25: 6.48 x 10-01 | K25: 5.39 x 10-01 | L25: 3.56 x 10-01 | M25: 0.99 (0.94 - 1.04) | N25: 7.14 x 10-01 | O25: NA | P25: NA
B26: CAD - Myocardial Infarction | D26: 11 | E26: 1.00 (0.93 - 1.07) | F26: 9.21 x 10-01 | G26: 0.99 (0.91 - 1.09) | H26: 8.69 x 10-01 | I26: 0.91 (0.75 -1.12) | J26: 3.97 x 10-01 | K26: 3.89 x 10-01 | L26: 8.99 x 10-01 | M26: 1.00 (0.95 - 1.04) | N26: 8.90 x 10-01 | O26: NA | P26: NA
B27: CAD - Non-specific Chest Pain | D27: 10 | E27: 1.00 (0.96 - 1.03) | F27: 8.31 x 10-01 | G27: 1.02 (0.97 - 1.07) | H27: 5.11 x 10-01 | I27: 1.02 (0.96 - 1.09) | J27: 4.95 x 10-01 | K27: 3.25 x 10-01 | L27: 8.08 x 10-01 | M27: 1.00 (0.97 - 1.02) | N27: 7.87 x 10-01 | O27: NA | P27: NA
B28: CAD - CARDIoGRAMplusC4D | D28: 4 | E28: 1.01 (0.88 - 1.17) | F28: 8.69 x 10-01 | G28: 1.04 (0.89 - 1.22) | H28: 6.26 x 10-01 | I28: 1.12 (0.83 - 1.52) | J28: 5.30 x 10-01 | K28: 5.24 x 10-01 | L28: 7.37 x 10-01 | M28: 1.01 (0.92 - 1.11) | N28: 8.17 x 10-01 | O28: NA | P28: NA

Sheet Supplementary Table S-6
B2: Supplementary Table S-6: LAVA bivariate analysis at nominal significance between lipids, CAD traits, and AD
A4: ADjansen (ADj)_LAVA bivariate output at nominal significance p ≤ 0.05
A6: *Adjusting for nominal significance for 2 traits with p-value ≤ 0.05
A7: locus | B7: chr | C7: start | D7: stop | E7: n.snps | F7: n.pcs | G7: phen1 | H7: phen2 | I7: rho | J7: rho.lower | K7: rho.upper | L7: r2 | M7: r2.lower | N7: r2.upper | O7: p
A8: 266 | B8: 2 | C8: 57952946 | D8: 59251996 | E8: 3387 | F8: 334 | G8: ADjansen | H8: CAD_ap | I8: -0.536952 | J8: -1 | K8: -0.10243 | L8: 0.288317 | M8: 0.01247 | N8: 1 | O8: 0.0193421
A9: 965 | B9: 6 | C9: 32586785 | D9: 32629239 | E9: 651 | F9: 150 | G9: ADjansen | H9: CAD_ap | I9: 0.34147 | J9: 0.16322 | K9: 0.53569 | L9: 0.116602 | M9: 0.02664 | N9: 0.28697 | O9: 0.000268686
A10: 2209 | B10: 17 | C10: 45883902 | D10: 47516224 | E10: 4658 | F10: 357 | G10: ADjansen | H10: CAD_ap | I10: 0.267903 | J10: 0.02662 | K10: 0.53455 | L10: 0.0717719 | M10: 0.00145 | N10: 0.28575 | O10: 0.03374
A11: 2351 | B11: 19 | C11: 45040933 | D11: 45893307 | E11: 2620 | F11: 368 | G11: ADjansen | H11: CAD_ap | I11: 0.368071 | J11: 0.25786 | K11: 0.48131 | L11: 0.135476 | M11: 0.06649 | N11: 0.23166 | O11: 1.28816e-10
A12: 956 | B12: 6 | C12: 30070718 | D12: 30715006 | E12: 3935 | F12: 139 | G12: ADjansen | H12: CAD_ca | I12: -0.746547 | J12: -1 | K12: -0.31496 | L12: 0.557333 | M12: 0.0992 | N12: 1 | O12: 0.00189542
A13: 964 | B13: 6 | C13: 32539568 | D13: 32586784 | E13: 496 | F13: 73 | G13: ADjansen | H13: CAD_ca | I13: 0.18227 | J13: 0.01927 | K13: 0.34343 | L13: 0.0332222 | M13: 0.00075 | N13: 0.11794 | O13: 0.0284408
A14: 1351 | B14: 8 | C14: 125453323 | D14: 126766827 | E14: 4257 | F14: 384 | G14: ADjansen | H14: CAD_ca | I14: 0.293321 | J14: 0.10854 | K14: 0.48943 | L14: 0.0860373 | M14: 0.01179 | N14: 0.23954 | O14: 0.00231668
A15: 2209 | B15: 17 | C15: 45883902 | D15: 47516224 | E15: 4658 | F15: 357 | G15: ADjansen | H15: CAD_ca | I15: 0.335767 | J15: 0.12572 | K15: 0.55825 | L15: 0.112739 | M15: 0.0158 | N15: 0.31164 | O15: 0.00246775
A16: 2255 | B16: 18 | C16: 20009697 | D16: 21622716 | E16: 3943 | F16: 329 | G16: ADjansen | H16: CAD_ca | I16: -0.3497 | J16: -0.66516 | K16: -0.12306 | L16: 0.12229 | M16: 0.01514 | N16: 0.44244 | O16: 0.00384271
A17: 2351 | B17: 19 | C17: 45040933 | D17: 45893307 | E17: 2620 | F17: 368 | G17: ADjansen | H17: CAD_ca | I17: 0.527498 | J17: 0.44176 | K17: 0.61667 | L17: 0.278254 | M17: 0.19515 | N17: 0.38028 | O17: 9.80373e-28
A18: 963 | B18: 6 | C18: 32454578 | D18: 32539567 | E18: 89 | F18: 54 | G18: ADjansen | H18: CAD_cd | I18: -0.376513 | J18: -0.52934 | K18: -0.22367 | L18: 0.141762 | M18: 0.05003 | N18: 0.2802 | O18: 7.254e-06
A19: 1957 | B19: 14 | C19: 22760701 | D19: 23985936 | E19: 3601 | F19: 408 | G19: ADjansen | H19: CAD_cd | I19: 0.375064 | J19: 0.11535 | K19: 0.74317 | L19: 0.140673 | M19: 0.01347 | N19: 0.5523 | O19: 0.00554951
... A65: 2351 | B65: 19 | C65: 45040933 | D65: 45893307 | E65: 373 | F65: 133 | G65: ADjansen | H65: Lipid_TC | I65: 0.375111 | J65: 0.33939 | K65: 0.41091 | L65: 0.140708 | M65: 0.11519 | N65: 0.16885 | O65: 1.03506e-79
