Workbook

Sheet Odbornosti_léčiva_base
B2: Přehled relevantních odborností a nejčastějších preskripcí pacientům, kteří prodělali covid-19
B4: Vyfiltrovány všechny léčivé látky, které mají více než 20 záznamů v průměru připadajících na lékaře dané odbornosti za celé sledované období.
B5: Zobrazeny počty preskripcí léčiva připadající na jednoho lékaře dané odbornosti a celkový počet preskripcí léčivá dané odbornosti celkem.
B7: Odbornost_relevance | C7: ano
B8: Odbornost_name | C8: (Multiple Items)
B10: Odbornost_agg | C10: ATC_code | D10: ATC_name | E10: Sum of Počet záznamů celkem | F10: Sum of Počet záznamů - 1 lékař
B11: infekční lékařství | C11: J01DD04 | D11: CEFTRIAXON | E11: 64458 | F11: 477.46667
C12: J01CR02 | D12: AMOXICILIN A INHIBITOR BETA-LAKTAMASY | E12: 33248 | F12: 246.28148
C13: J01DD01 | D13: CEFOTAXIM | E13: 17138 | F13: 126.94815
C14: J05AX | D14: JINÁ ANTIVIROTIKA | E14: 13215 | F14: 97.888889
C15: B05BB01 | D15: ELEKTROLYTY | E15: 11368 | F15: 84.207407
C16: J05AB16 | D16: REMDESIVIR | E16: 10039 | F16: 74.362963
C17: J01DC02 | D17: CEFUROXIM | E17: 9695 | F17: 71.814815
C18: J01XA01 | D18: VANKOMYCIN | E18: 9272 | F18: 68.681481
C19: J01DH02 | D19: MEROPENEM | E19: 9184 | F19: 68.02963
C20: J01CE09 | D20: PROKAIN-BENZYLPENICILIN | E20: 7816 | F20: 57.896296
C21: J01CR05 | D21: PIPERACILIN A INHIBITOR BETA-LAKTAMASY | E21: 7157 | F21: 53.014815
C22: J01CE01 | D22: BENZYLPENICILIN | E22: 6831 | F22: 50.6
C23: J05AB01 | D23: ACIKLOVIR | E23: 6263 | F23: 46.392593
... C673: C09BA06 | D673: CHINAPRIL A DIURETIKA | E673: 1 | F673: 0.0074074074
B674: Grand Total | E674: 376375 | F674: 2787.963

Sheet Table 2A-D
A1: ATC skupina | B1: Počet preskripcí na lékaře* | C1: SPC | D1: Liverpool checker (LC) | E1: Celkové riziko | F1: Evidence | G1: Mechanismus interakce | H1: Doporučené opatření dle SPC | I1: Možné opatření dle LC | J1: Doporučení Společnosti infekčního lékařství | K1: Poznámka | L1: Odbornost-specific
A2: INSULIN GLARGIN | B2: =_xlfn.XLOOKUP(A2,#REF!,#REF!,"") -> #REF! | C2: není zmíněn | D2: bez interakce | E2: bez interakce | F2: velmi nízká | G2: - | H2: - | I2: - | J2: - | K2: v LC je uváděn pouze "insulin" | L2: diabetologie
A3: INSULIN ASPART | B3: =_xlfn.XLOOKUP(A3,#REF!,#REF!,"") -> #REF! | C3: není zmíněn | D3: bez interakce | E3: bez interakce | F3: velmi nízká | G3: - | H3: - | I3: - | J3: - | K3: v LC je uváděn pouze "insulin" | L3: diabetologie
A4: GLIMEPIRID | B4: =_xlfn.XLOOKUP(A4,#REF!,#REF!,"") -> #REF! | C4: není zmíněn | D4: bez interakce | E4: bez interakce | F4: - | G4: - | H4: - | I4: - | J4: - | K4: - | L4: diabetologie
A5: GLIKLAZID | B5: =_xlfn.XLOOKUP(A5,#REF!,#REF!,"") -> #REF! | C5: není zmíněn | D5: bez interakce | E5: bez interakce | F5: - | G5: - | H5: - | I5: - | J5: - | K5: - | L5: diabetologie
A6: INSULIN DEGLUDEK | B6: =_xlfn.XLOOKUP(A6,#REF!,#REF!,"") -> #REF! | C6: není zmíněn | D6: bez interakce | E6: bez interakce | F6: - | G6: - | H6: - | I6: - | J6: - | K6: - | L6: diabetologie
A7: CEFTRIAXON | B7: =_xlfn.XLOOKUP(A7,#REF!,#REF!,"") -> #REF! | C7: není zmíněn | D7: bez interakce | E7: bez interakce | F7: velmi nízká | G7: - | H7: - | I7: - | J7: - | K7: - | L7: infekční lékařství
A8: CEFOTAXIM | B8: =_xlfn.XLOOKUP(A8,#REF!,#REF!,"") -> #REF! | C8: není zmíněn | D8: bez interakce | E8: bez interakce | F8: velmi nízká | G8: - | H8: - | I8: - | J8: - | K8: - | L8: infekční lékařství
A9: VANKOMYCIN | B9: =_xlfn.XLOOKUP(A9,#REF!,#REF!,"") -> #REF! | C9: není zmíněn | D9: bez interakce | E9: bez interakce | F9: velmi nízká | G9: - | H9: - | I9: - | J9: - | K9: - | L9: infekční lékařství
A10: MEROPENEM | B10: =_xlfn.XLOOKUP(A10,#REF!,#REF!,"") -> #REF! | C10: není zmíněn | D10: bez interakce | E10: bez interakce | F10: velmi nízká | G10: - | H10: - | I10: - | J10: - | K10: - | L10: infekční lékařství
A11: PROKAIN-BENZYLPENICILIN | B11: =_xlfn.XLOOKUP(A11,#REF!,#REF!,"") -> #REF! | C11: není zmíněn | D11: bez interakce | E11: bez interakce | F11: velmi nízká | G11: - | H11: - | I11: - | J11: - | K11: v LC zmíněny peniciliny jako celek | L11: infekční lékařství
A12: POTRAVINY PRO ZVLÁŠTNÍ LÉKAŘSKÉ ÚČELY (PZLÚ) (ČESKÁ ATC SKUPINA) | B12: =_xlfn.XLOOKUP(A12,#REF!,#REF!,"") -> #REF! | C12: nejsou zmíněny | D12: nejsou zmíněny | E12: není zmíněno (bez interakce) | F12: - | G12: - | H12: - | I12: - | J12: - | K12: - | L12: vnitřní lékařství - interna
A13: RIVAROXABAN | B13: =_xlfn.XLOOKUP(A13,#REF!,#REF!,"") -> #REF! | C13: možná interakce | D13: kontraindikace | E13: kontraindikace | F13: velmi nízká | G13: možné zvýšení hladiny rivaroxabanu v důsledku inhibice CYP 3A4 | H13: současné užívání se nedoporučuje | I13: nutnost nasazení alternativní antikoagulační léčby | J13: KI: použit jiné antivirotikum | K13: - | L13: vnitřní lékařství - interna
... A21: LOSARTAN | B21: =_xlfn.XLOOKUP(A21,#REF!,#REF!,"") -> #REF! | C21: není zmíněn | D21: potenciálně slabá interakce | E21: potenciálně slabá interakce | F21: velmi nízká | G21: možná vyšší přeměn losartanu na aktivní metabolit z důvodu indukce CYP 2C9 | H21: - | I21: - | J21: - | K21: - | L21: všeobecné praktické lékařství
A23: *Průměrný počet preskripcí za sledované období (září 2019 - únor 2022) na 1 lékaře v ambulantním segmentu v dané odbornosti
A26: Diabetology
A28: ATC group | B28: Number of prescriptions per doctor* | C28: SPC | D28: Liverpool checker (LC) | E28: Total risk | F28: Evidence | G28: Mechanism of interaction | H28: Recommended measures according to SPC | I28: Possible measures according to LC | J28: Recommendation of the Czech Society of Infectious Diseases | K28: Note
A29: INSULIN GLARGINE | B29: 175 | C29: not mentioned | D29: no interaction | E29: no interaction | F29: very low | G29: - | H29: - | I29: - | J29: - | K29: only "insulin" listed in LC
A30: INSULIN ASPART | B30: =_xlfn.XLOOKUP(A30,#REF!,#REF!,"") -> #REF! | C30: not mentioned | D30: no interaction | E30: no interaction | F30: very low | G30: - | H30: - | I30: - | J30: - | K30: only "insulin" listed in LC
A31: GLIMEPIRIDE | B31: 102 | C31: not mentioned | D31: no interaction | E31: no interaction | F31: - | G31: - | H31: - | I31: - | J31: - | K31: -
A32: GLICLAZIDE | B32: 99 | C32: not mentioned | D32: no interaction | E32: no interaction | F32: - | G32: - | H32: - | I32: - | J32: - | K32: -
A33: INSULIN DEGLUDEK | B33: =_xlfn.XLOOKUP(A33,#REF!,#REF!,"") -> #REF! | C33: not mentioned | D33: no interaction | E33: no interaction | F33: - | G33: - | H33: - | I33: - | J33: - | K33: -
A34: *The average number of prescriptions for patients with COVID-19 per doctor in the outpatient segment within the specified specialty during the observed period (September 2019 - February 2022).
A36: Infectious Diseases
A38: ATC group | B38: Number of prescriptions per doctor* | C38: SPC | D38: Liverpool checker (LC) | E38: Total risk | F38: Evidence | G38: Mechanism of interaction | H38: Recommended measures according to SPC | I38: Possible measures according to LC | J38: Recommendation of the Czech Society of Infectious Diseases | K38: Note
A39: CEFTRIAXONE | B39: 477.46667 | C39: not mentioned | D39: no interaction | E39: no interaction | F39: very low | G39: - | H39: - | I39: - | J39: - | K39: -
A40: CEFOTAXIME | B40: 126.94815 | C40: not mentioned | D40: no interaction | E40: no interaction | F40: very low | G40: - | H40: - | I40: - | J40: - | K40: -
A41: VANKOMYCIN | B41: 68.681481 | C41: not mentioned | D41: no interaction | E41: no interaction | F41: very low | G41: - | H41: - | I41: - | J41: - | K41: -
A42: MEROPENEM | B42: 68.02963 | C42: not mentioned | D42: no interaction | E42: no interaction | F42: very low | G42: - | H42: - | I42: - | J42: - | K42: -
A43: PROCAINE BENZYLPENICILLIN | B43: 57.896296 | C43: not mentioned | D43: no interaction | E43: no interaction | F43: very low | G43: - | H43: - | I43: - | J43: - | K43: penicillins as a whole listed in LC
A44: *The average number of prescriptions for patients with COVID-19 per doctor in the outpatient segment within the specified specialty during the observed period (September 2019 - February 2022).
A46: Internal medicine
A48: ATC group | B48: Number of prescriptions per doctor* | C48: SPC | D48: Liverpool checker (LC) | E48: Total risk | F48: Evidence | G48: Mechanism of interaction | H48: Recommended measures according to SPC | I48: Possible measures according to LC | J48: Recommendation of the Czech Society of Infectious Diseases | K48: Note
A49: FOOD FOR SPECIAL MEDICAL PURPOSES (CZECH ATC GROUP) | B49: 26.467068 | C49: not mentioned | D49: not mentioned | E49: not mentioned (no interaction) | F49: - | G49: - | H49: - | I49: - | J49: - | K49: -
A50: RIVAROXABAN | B50: 26.302195 | C50: potential interaction | D50: contraindication | E50: contraindication | F50: very low | G50: possible increase in the level of rivaroxaban due to inhibition of CYP 3A4 | H50: simultaneous administration not recommended | I50: the need to use alternative anticoagulant treatment | J50: CI: use different antiviral drug | K50: -
A51: APIXABAN | B51: 22.872579 | C51: not mentioned | D51: potential interaction | E51: potential interaction | F51: very low | G51: possible increase in the level of rivaroxaban due to inhibition of CYP 3A4 and P-gp | H51: - | I51: consider transferring the patient to LMWH or acetylsalicylic acid with renewal 3 days after the end of treatment | J51: CI: use different antiviral drug | K51: -
A52: MAGNESIUM (COMBINATION OF DIFFERENT SALTS) | B52: 19.20749 | C52: not mentioned | D52: no interaction | E52: no interaction | F52: - | G52: - | H52: - | I52: - | J52: - | K52: -
A53: FENOFIBRATE | B53: 18.948343 | C53: not mentioned | D53: no interaction | E53: no interaction | F53: - | G53: - | H53: - | I53: - | J53: - | K53: -
A54: *The average number of prescriptions for patients with COVID-19 per doctor in the outpatient segment within the specified specialty during the observed period (September 2019 - February 2022).
A56: General medicine
...

Sheet T_relevantní odbornosti
A1: Odbornost_code | B1: Odbornost_name | C1: Odb_agg | D1: Relevance
A2: 1 | B2: všeobecné praktické lékařství | C2: =IF(OR(B2="odbornost neidentifikovaná",B2="název odbornosti neidentifikován"),B2,_xlfn.XLOOKUP(B2,'[1]Odbornost - kmen_číselník'!$A:$A,'[1]Odbornost - kmen_číselník'!$B:$B,"")) -> všeobecné praktické lékařství | D2: =IF(COUNTIF('T_relevantní_odb_agg_počty MD'!$A$1:$A$10,'T_relevantní odbornosti'!C2)=1,"ano","") -> ano
A3: 104 | B3: endokrinologie | C3: =IF(OR(B3="odbornost neidentifikovaná",B3="název odbornosti neidentifikován"),B3,_xlfn.XLOOKUP(B3,'[1]Odbornost - kmen_číselník'!$A:$A,'[1]Odbornost - kmen_číselník'!$B:$B,"")) -> endokrinologie | D3: =IF(COUNTIF('T_relevantní_odb_agg_počty MD'!$A$1:$A$10,'T_relevantní odbornosti'!C3)=1,"ano","")
A4: 606 | B4: ortopedie | C4: =IF(OR(B4="odbornost neidentifikovaná",B4="název odbornosti neidentifikován"),B4,_xlfn.XLOOKUP(B4,'[1]Odbornost - kmen_číselník'!$A:$A,'[1]Odbornost - kmen_číselník'!$B:$B,"")) -> ortopedie | D4: =IF(COUNTIF('T_relevantní_odb_agg_počty MD'!$A$1:$A$10,'T_relevantní odbornosti'!C4)=1,"ano","")
A5: 103 | B5: diabetologie | C5: =IF(OR(B5="odbornost neidentifikovaná",B5="název odbornosti neidentifikován"),B5,_xlfn.XLOOKUP(B5,'[1]Odbornost - kmen_číselník'!$A:$A,'[1]Odbornost - kmen_číselník'!$B:$B,"")) -> diabetologie | D5: =IF(COUNTIF('T_relevantní_odb_agg_počty MD'!$A$1:$A$10,'T_relevantní odbornosti'!C5)=1,"ano","") -> ano
A6: 128 | B6: pracoviště hemodialýzy | C6: =IF(OR(B6="odbornost neidentifikovaná",B6="název odbornosti neidentifikován"),B6,_xlfn.XLOOKUP(B6,'[1]Odbornost - kmen_číselník'!$A:$A,'[1]Odbornost - kmen_číselník'!$B:$B,"")) -> pracoviště hemodialýzy | D6: =IF(COUNTIF('T_relevantní_odb_agg_počty MD'!$A$1:$A$10,'T_relevantní odbornosti'!C6)=1,"ano","")
A7: 501 | B7: chirurgie | C7: =IF(OR(B7="odbornost neidentifikovaná",B7="název odbornosti neidentifikován"),B7,_xlfn.XLOOKUP(B7,'[1]Odbornost - kmen_číselník'!$A:$A,'[1]Odbornost - kmen_číselník'!$B:$B,"")) -> chirurgie | D7: =IF(COUNTIF('T_relevantní_odb_agg_počty MD'!$A$1:$A$10,'T_relevantní odbornosti'!C7)=1,"ano","")
A8: 705 | B8: oftalmologie | C8: =IF(OR(B8="odbornost neidentifikovaná",B8="název odbornosti neidentifikován"),B8,_xlfn.XLOOKUP(B8,'[1]Odbornost - kmen_číselník'!$A:$A,'[1]Odbornost - kmen_číselník'!$B:$B,"")) -> oftalmologie | D8: =IF(COUNTIF('T_relevantní_odb_agg_počty MD'!$A$1:$A$10,'T_relevantní odbornosti'!C8)=1,"ano","")
A9: 706 | B9: urologie | C9: =IF(OR(B9="odbornost neidentifikovaná",B9="název odbornosti neidentifikován"),B9,_xlfn.XLOOKUP(B9,'[1]Odbornost - kmen_číselník'!$A:$A,'[1]Odbornost - kmen_číselník'!$B:$B,"")) -> urologie | D9: =IF(COUNTIF('T_relevantní_odb_agg_počty MD'!$A$1:$A$10,'T_relevantní odbornosti'!C9)=1,"ano","") -> ano
A10: 207 | B10: alergologie a klinická imunologie | C10: =IF(OR(B10="odbornost neidentifikovaná",B10="název odbornosti neidentifikován"),B10,_xlfn.XLOOKUP(B10,'[1]Odbornost - kmen_číselník'!$A:$A,'[1]Odbornost - kmen_číselník'!$B:$B,"")) -> alergologie a klinická imunologie | D10: =IF(COUNTIF('T_relevantní_odb_agg_počty MD'!$A$1:$A$10,'T_relevantní odbornosti'!C10)=1,"ano","")
A11: 305 | B11: psychiatrie | C11: =IF(OR(B11="odbornost neidentifikovaná",B11="název odbornosti neidentifikován"),B11,_xlfn.XLOOKUP(B11,'[1]Odbornost - kmen_číselník'!$A:$A,'[1]Odbornost - kmen_číselník'!$B:$B,"")) -> psychiatrie | D11: =IF(COUNTIF('T_relevantní_odb_agg_počty MD'!$A$1:$A$10,'T_relevantní odbornosti'!C11)=1,"ano","")
A12: 2 | B12: praktické lékařství pro děti a dorost | C12: =IF(OR(B12="odbornost neidentifikovaná",B12="název odbornosti neidentifikován"),B12,_xlfn.XLOOKUP(B12,'[1]Odbornost - kmen_číselník'!$A:$A,'[1]Odbornost - kmen_číselník'!$B:$B,"")) -> pediatrie | D12: =IF(COUNTIF('T_relevantní_odb_agg_počty MD'!$A$1:$A$10,'T_relevantní odbornosti'!C12)=1,"ano","")
A13: 101 | B13: vnitřní lékařství - interna | C13: =IF(OR(B13="odbornost neidentifikovaná",B13="název odbornosti neidentifikován"),B13,_xlfn.XLOOKUP(B13,'[1]Odbornost - kmen_číselník'!$A:$A,'[1]Odbornost - kmen_číselník'!$B:$B,"")) -> vnitřní lékařství - interna | D13: =IF(COUNTIF('T_relevantní_odb_agg_počty MD'!$A$1:$A$10,'T_relevantní odbornosti'!C13)=1,"ano","") -> ano
... A16: 701 | B16: otorinolaryngologie | C16: =IF(OR(B16="odbornost neidentifikovaná",B16="název odbornosti neidentifikován"),B16,_xlfn.XLOOKUP(B16,'[1]Odbornost - kmen_číselník'!$A:$A,'[1]Odbornost - kmen_číselník'!$B:$B,"")) -> ORL | D16: =IF(COUNTIF('T_relevantní_odb_agg_počty MD'!$A$1:$A$10,'T_relevantní odbornosti'!C16)=1,"ano","")
B17: odbornost neidentifikovaná | C17: =IF(OR(B17="odbornost neidentifikovaná",B17="název odbornosti neidentifikován"),B17,_xlfn.XLOOKUP(B17,'[1]Odbornost - kmen_číselník'!$A:$A,'[1]Odbornost - kmen_číselník'!$B:$B,"")) -> odbornost neidentifikovaná | D17: =IF(COUNTIF('T_relevantní_odb_agg_počty MD'!$A$1:$A$10,'T_relevantní odbornosti'!C17)=1,"ano","")
A18: 1H1 | B18: akutní LP vnitřního lékařství - interny - typ H | C18: =IF(OR(B18="odbornost neidentifikovaná",B18="název odbornosti neidentifikován"),B18,_xlfn.XLOOKUP(B18,'[1]Odbornost - kmen_číselník'!$A:$A,'[1]Odbornost - kmen_číselník'!$B:$B,"")) -> vnitřní lékařství - interna | D18: =IF(COUNTIF('T_relevantní_odb_agg_počty MD'!$A$1:$A$10,'T_relevantní odbornosti'!C18)=1,"ano","") -> ano
A19: 402 | B19: klinická onkologie | C19: =IF(OR(B19="odbornost neidentifikovaná",B19="název odbornosti neidentifikován"),B19,_xlfn.XLOOKUP(B19,'[1]Odbornost - kmen_číselník'!$A:$A,'[1]Odbornost - kmen_číselník'!$B:$B,"")) -> onkologie | D19: =IF(COUNTIF('T_relevantní_odb_agg_počty MD'!$A$1:$A$10,'T_relevantní odbornosti'!C19)=1,"ano","") -> ano
A20: 404 | B20: dermatovenerologie | C20: =IF(OR(B20="odbornost neidentifikovaná",B20="název odbornosti neidentifikován"),B20,_xlfn.XLOOKUP(B20,'[1]Odbornost - kmen_číselník'!$A:$A,'[1]Odbornost - kmen_číselník'!$B:$B,"")) -> dermatovenerologie | D20: =IF(COUNTIF('T_relevantní_odb_agg_počty MD'!$A$1:$A$10,'T_relevantní odbornosti'!C20)=1,"ano","")
A21: 14 | B21: klinická stomatologie | C21: =IF(OR(B21="odbornost neidentifikovaná",B21="název odbornosti neidentifikován"),B21,_xlfn.XLOOKUP(B21,'[1]Odbornost - kmen_číselník'!$A:$A,'[1]Odbornost - kmen_číselník'!$B:$B,"")) -> stomatologie | D21: =IF(COUNTIF('T_relevantní_odb_agg_počty MD'!$A$1:$A$10,'T_relevantní odbornosti'!C21)=1,"ano","")
A22: 107 | B22: kardiologie | C22: =IF(OR(B22="odbornost neidentifikovaná",B22="název odbornosti neidentifikován"),B22,_xlfn.XLOOKUP(B22,'[1]Odbornost - kmen_číselník'!$A:$A,'[1]Odbornost - kmen_číselník'!$B:$B,"")) -> kardiologie | D22: =IF(COUNTIF('T_relevantní_odb_agg_počty MD'!$A$1:$A$10,'T_relevantní odbornosti'!C22)=1,"ano","") -> ano
A23: 105 | B23: gastroenterologie | C23: =IF(OR(B23="odbornost neidentifikovaná",B23="název odbornosti neidentifikován"),B23,_xlfn.XLOOKUP(B23,'[1]Odbornost - kmen_číselník'!$A:$A,'[1]Odbornost - kmen_číselník'!$B:$B,"")) -> gastroenterologie | D23: =IF(COUNTIF('T_relevantní_odb_agg_počty MD'!$A$1:$A$10,'T_relevantní odbornosti'!C23)=1,"ano","")
A24: 205 | B24: pneumologie a ftizeologie | C24: =IF(OR(B24="odbornost neidentifikovaná",B24="název odbornosti neidentifikován"),B24,_xlfn.XLOOKUP(B24,'[1]Odbornost - kmen_číselník'!$A:$A,'[1]Odbornost - kmen_číselník'!$B:$B,"")) -> pneumologie a ftizeologie | D24: =IF(COUNTIF('T_relevantní_odb_agg_počty MD'!$A$1:$A$10,'T_relevantní odbornosti'!C24)=1,"ano","") -> ano
A25: 109 | B25: revmatologie | C25: =IF(OR(B25="odbornost neidentifikovaná",B25="název odbornosti neidentifikován"),B25,_xlfn.XLOOKUP(B25,'[1]Odbornost - kmen_číselník'!$A:$A,'[1]Odbornost - kmen_číselník'!$B:$B,"")) -> revmatologie | D25: =IF(COUNTIF('T_relevantní_odb_agg_počty MD'!$A$1:$A$10,'T_relevantní odbornosti'!C25)=1,"ano","") -> ano
A26: 5H1 | B26: akutní LP chirurgie - typ H | C26: =IF(OR(B26="odbornost neidentifikovaná",B26="název odbornosti neidentifikován"),B26,_xlfn.XLOOKUP(B26,'[1]Odbornost - kmen_číselník'!$A:$A,'[1]Odbornost - kmen_číselník'!$B:$B,"")) -> chirurgie | D26: =IF(COUNTIF('T_relevantní_odb_agg_počty MD'!$A$1:$A$10,'T_relevantní odbornosti'!C26)=1,"ano","")
A27: 202 | B27: hematologie | C27: =IF(OR(B27="odbornost neidentifikovaná",B27="název odbornosti neidentifikován"),B27,_xlfn.XLOOKUP(B27,'[1]Odbornost - kmen_číselník'!$A:$A,'[1]Odbornost - kmen_číselník'!$B:$B,"")) -> hematologie | D27: =IF(COUNTIF('T_relevantní_odb_agg_počty MD'!$A$1:$A$10,'T_relevantní odbornosti'!C27)=1,"ano","")
A28: 3 | B28: lékařská pohotovostní služba | C28: =IF(OR(B28="odbornost neidentifikovaná",B28="název odbornosti neidentifikován"),B28,_xlfn.XLOOKUP(B28,'[1]Odbornost - kmen_číselník'!$A:$A,'[1]Odbornost - kmen_číselník'!$B:$B,"")) -> lékařská pohotovostní služba | D28: =IF(COUNTIF('T_relevantní_odb_agg_počty MD'!$A$1:$A$10,'T_relevantní odbornosti'!C28)=1,"ano","")
A29: 801 | B29: klinická biochemie | C29: =IF(OR(B29="odbornost neidentifikovaná",B29="název odbornosti neidentifikován"),B29,_xlfn.XLOOKUP(B29,'[1]Odbornost - kmen_číselník'!$A:$A,'[1]Odbornost - kmen_číselník'!$B:$B,"")) -> klinická biochemie | D29: =IF(COUNTIF('T_relevantní_odb_agg_počty MD'!$A$1:$A$10,'T_relevantní odbornosti'!C29)=1,"ano","")
A30: 201 | B30: rehabilitační a fyzikální medicína | C30: =IF(OR(B30="odbornost neidentifikovaná",B30="název odbornosti neidentifikován"),B30,_xlfn.XLOOKUP(B30,'[1]Odbornost - kmen_číselník'!$A:$A,'[1]Odbornost - kmen_číselník'!$B:$B,"")) -> rehabilitační a fyzikální medicína | D30: =IF(COUNTIF('T_relevantní_odb_agg_počty MD'!$A$1:$A$10,'T_relevantní odbornosti'!C30)=1,"ano","")
A31: 1F1 | B31: akutní LP vnitřního lékařství - interny - typ F | C31: =IF(OR(B31="odbornost neidentifikovaná",B31="název odbornosti neidentifikován"),B31,_xlfn.XLOOKUP(B31,'[1]Odbornost - kmen_číselník'!$A:$A,'[1]Odbornost - kmen_číselník'!$B:$B,"")) -> vnitřní lékařství - interna | D31: =IF(COUNTIF('T_relevantní_odb_agg_počty MD'!$A$1:$A$10,'T_relevantní odbornosti'!C31)=1,"ano","") -> ano
A32: 708 | B32: anesteziologie a intenzivní medicína | C32: =IF(OR(B32="odbornost neidentifikovaná",B32="název odbornosti neidentifikován"),B32,_xlfn.XLOOKUP(B32,'[1]Odbornost - kmen_číselník'!$A:$A,'[1]Odbornost - kmen_číselník'!$B:$B,"")) -> anesteziologie a intenzivní medicína | D32: =IF(COUNTIF('T_relevantní_odb_agg_počty MD'!$A$1:$A$10,'T_relevantní odbornosti'!C32)=1,"ano","")
A33: 102 | B33: angiologie | C33: =IF(OR(B33="odbornost neidentifikovaná",B33="název odbornosti neidentifikován"),B33,_xlfn.XLOOKUP(B33,'[1]Odbornost - kmen_číselník'!$A:$A,'[1]Odbornost - kmen_číselník'!$B:$B,"")) -> angiologie | D33: =IF(COUNTIF('T_relevantní_odb_agg_počty MD'!$A$1:$A$10,'T_relevantní odbornosti'!C33)=1,"ano","")
A34: 719 | B34: urgentní medicína - skupina 1 | C34: =IF(OR(B34="odbornost neidentifikovaná",B34="název odbornosti neidentifikován"),B34,_xlfn.XLOOKUP(B34,'[1]Odbornost - kmen_číselník'!$A:$A,'[1]Odbornost - kmen_číselník'!$B:$B,"")) -> urgentní medicína | D34: =IF(COUNTIF('T_relevantní_odb_agg_počty MD'!$A$1:$A$10,'T_relevantní odbornosti'!C34)=1,"ano","")
A35: 7I8 | B35: resuscitační lůžková péče - ARO - typ I | C35: =IF(OR(B35="odbornost neidentifikovaná",B35="název odbornosti neidentifikován"),B35,_xlfn.XLOOKUP(B35,'[1]Odbornost - kmen_číselník'!$A:$A,'[1]Odbornost - kmen_číselník'!$B:$B,"")) -> resuscitační LP - ARO | D35: =IF(COUNTIF('T_relevantní_odb_agg_počty MD'!$A$1:$A$10,'T_relevantní odbornosti'!C35)=1,"ano","")
A36: 6H6 | B36: akutní LP ortopedie - typ H | C36: =IF(OR(B36="odbornost neidentifikovaná",B36="název odbornosti neidentifikován"),B36,_xlfn.XLOOKUP(B36,'[1]Odbornost - kmen_číselník'!$A:$A,'[1]Odbornost - kmen_číselník'!$B:$B,"")) -> ortopedie | D36: =IF(COUNTIF('T_relevantní_odb_agg_počty MD'!$A$1:$A$10,'T_relevantní odbornosti'!C36)=1,"ano","")
A37: 306 | B37: dětská a dorostová psychiatrie | C37: =IF(OR(B37="odbornost neidentifikovaná",B37="název odbornosti neidentifikován"),B37,_xlfn.XLOOKUP(B37,'[1]Odbornost - kmen_číselník'!$A:$A,'[1]Odbornost - kmen_číselník'!$B:$B,"")) -> psychiatrie | D37: =IF(COUNTIF('T_relevantní_odb_agg_počty MD'!$A$1:$A$10,'T_relevantní odbornosti'!C37)=1,"ano","")
A38: 2H3 | B38: pracoviště standard. úst. LP přenosných nemocí - H typu | C38: =IF(OR(B38="odbornost neidentifikovaná",B38="název odbornosti neidentifikován"),B38,_xlfn.XLOOKUP(B38,'[1]Odbornost - kmen_číselník'!$A:$A,'[1]Odbornost - kmen_číselník'!$B:$B,"")) -> infekční lékařství | D38: ano
A39: 108 | B39: nefrologie | C39: =IF(OR(B39="odbornost neidentifikovaná",B39="název odbornosti neidentifikován"),B39,_xlfn.XLOOKUP(B39,'[1]Odbornost - kmen_číselník'!$A:$A,'[1]Odbornost - kmen_číselník'!$B:$B,"")) -> nefrologie | D39: =IF(COUNTIF('T_relevantní_odb_agg_počty MD'!$A$1:$A$10,'T_relevantní odbornosti'!C39)=1,"ano","")
A40: 601 | B40: plastická chirurgie | C40: =IF(OR(B40="odbornost neidentifikovaná",B40="název odbornosti neidentifikován"),B40,_xlfn.XLOOKUP(B40,'[1]Odbornost - kmen_číselník'!$A:$A,'[1]Odbornost - kmen_číselník'!$B:$B,"")) -> plastická chirurgie | D40: =IF(COUNTIF('T_relevantní_odb_agg_počty MD'!$A$1:$A$10,'T_relevantní odbornosti'!C40)=1,"ano","")
A41: 6H3 | B41: akutní LP gynekologie a porodnictví - typ H | C41: =IF(OR(B41="odbornost neidentifikovaná",B41="název odbornosti neidentifikován"),B41,_xlfn.XLOOKUP(B41,'[1]Odbornost - kmen_číselník'!$A:$A,'[1]Odbornost - kmen_číselník'!$B:$B,"")) -> gynekologie a porodnictví | D41: =IF(COUNTIF('T_relevantní_odb_agg_počty MD'!$A$1:$A$10,'T_relevantní odbornosti'!C41)=1,"ano","")
A42: 5F1 | B42: akutní LP chirurgie - typ F | C42: =IF(OR(B42="odbornost neidentifikovaná",B42="název odbornosti neidentifikován"),B42,_xlfn.XLOOKUP(B42,'[1]Odbornost - kmen_číselník'!$A:$A,'[1]Odbornost - kmen_číselník'!$B:$B,"")) -> chirurgie | D42: =IF(COUNTIF('T_relevantní_odb_agg_počty MD'!$A$1:$A$10,'T_relevantní odbornosti'!C42)=1,"ano","")
...

Sheet T_relevantní_odb_agg_počty MD
A1: Odb_agg | B1: Počet lékařů (ČLK) | C1: Počet lékařů (VZP) - ambulantní | D1: Počet lékařů (VZP) - Lůžková | E1: Počet FTE (VZP) | F1: Počet lékařů (final)
A2: všeobecné praktické lékařství | B2: 5107 | C2: 5329 | D2: 0 | F2: =C2 -> 5329
A3: vnitřní lékařství - interna | B3: 7249 | C3: 2323 | D3: 4206 | F3: =C3 -> 2323 | G3: Předpokládáme pouze ambulantní péči - zde probíhá většina (cca 83 %) preskripce pacientům
A4: neurologie | B4: 1589 | C4: 1207 | D4: 1288 | F4: =B4 -> 1589
A5: diabetologie | B5: 939 | C5: 1172 | D5: 0 | F5: =AVERAGE(B5:C5) -> 1055.5
A6: kardiologie | B6: 1109 | C6: 1140 | D6: 788 | F6: =C6 -> 1140
A7: pneumologie a ftizeologie | B7: 616 | C7: 562 | D7: 0 | F7: =AVERAGE(B7:C7) -> 589
A8: urologie | B8: 627 | C8: 633 | D8: 582 | F8: =C8 -> 633
A9: revmatologie | B9: 254 | C9: 287 | D9: 34 | F9: =C9 -> 287
A10: onkologie | B10: 360 | C10: 400 | D10: 426 | F10: =C10 -> 400
A11: hematologie | B11: 440 | C11: 347 | D11: 232 | F11: =B11 -> 440
A12: nefrologie | B12: 343 | C12: 304 | D12: 0 | F12: =AVERAGE(B12:C12) -> 323.5
A13: infekční lékařství | F13: 135
