Workbook

Sheet Odbornosti_léčiva_base
B2: Přehled relevantních odborností a nejčastějších preskripcí pacientům, kteří prodělali covid-19
B4: Vyfiltrovány všechny léčivé látky, které mají více než 20 záznamů v průměru připadajících na lékaře dané odbornosti za celé sledované období.
B5: Zobrazeny počty preskripcí léčiva připadající na jednoho lékaře dané odbornosti a celkový počet preskripcí léčivá dané odbornosti celkem.
B7: Odbornost_relevance | C7: ano
B8: Odbornost_name | C8: (Multiple Items)
B10: Odbornost_agg | C10: ATC_code | D10: ATC_name | E10: Sum of Počet záznamů celkem | F10: Sum of Počet záznamů - 1 lékař
B11: infekční lékařství | C11: J01DD04 | D11: CEFTRIAXON | E11: 64458 | F11: 477.46667
C12: J01CR02 | D12: AMOXICILIN A INHIBITOR BETA-LAKTAMASY | E12: 33248 | F12: 246.28148
C13: J01DD01 | D13: CEFOTAXIM | E13: 17138 | F13: 126.94815
C14: J05AX | D14: JINÁ ANTIVIROTIKA | E14: 13215 | F14: 97.888889
C15: B05BB01 | D15: ELEKTROLYTY | E15: 11368 | F15: 84.207407
C16: J05AB16 | D16: REMDESIVIR | E16: 10039 | F16: 74.362963
C17: J01DC02 | D17: CEFUROXIM | E17: 9695 | F17: 71.814815
C18: J01XA01 | D18: VANKOMYCIN | E18: 9272 | F18: 68.681481
C19: J01DH02 | D19: MEROPENEM | E19: 9184 | F19: 68.02963
C20: J01CE09 | D20: PROKAIN-BENZYLPENICILIN | E20: 7816 | F20: 57.896296
C21: J01CR05 | D21: PIPERACILIN A INHIBITOR BETA-LAKTAMASY | E21: 7157 | F21: 53.014815
C22: J01CE01 | D22: BENZYLPENICILIN | E22: 6831 | F22: 50.6
C23: J05AB01 | D23: ACIKLOVIR | E23: 6263 | F23: 46.392593
... C673: C09BA06 | D673: CHINAPRIL A DIURETIKA | E673: 1 | F673: 0.0074074074
B674: Grand Total | E674: 376375 | F674: 2787.963

Sheet Table 2A-D
A1: ATC skupina | B1: Počet preskripcí na lékaře* | C1: SPC | D1: Liverpool checker (LC) | E1: Celkové riziko | F1: Evidence | G1: Mechanismus interakce | H1: Doporučené opatření dle SPC | I1: Možné opatření dle LC | J1: Doporučení Společnosti infekčního lékařství | K1: Poznámka | L1: Odbornost-specific
A2: INSULIN GLARGIN | B2: =_xlfn.XLOOKUP(A2,#REF!,#REF!,"") -> #REF! | C2: není zmíněn | D2: bez interakce | E2: bez interakce | F2: velmi nízká | G2: - | H2: - | I2: - | J2: - | K2: v LC je uváděn pouze "insulin" | L2: diabetologie
A3: INSULIN ASPART | B3: =_xlfn.XLOOKUP(A3,#REF!,#REF!,"") -> #REF! | C3: není zmíněn | D3: bez interakce | E3: bez interakce | F3: velmi nízká | G3: - | H3: - | I3: - | J3: - | K3: v LC je uváděn pouze "insulin" | L3: diabetologie
A4: GLIMEPIRID | B4: =_xlfn.XLOOKUP(A4,#REF!,#REF!,"") -> #REF! | C4: není zmíněn | D4: bez interakce | E4: bez interakce | F4: - | G4: - | H4: - | I4: - | J4: - | K4: - | L4: diabetologie
A5: GLIKLAZID | B5: =_xlfn.XLOOKUP(A5,#REF!,#REF!,"") -> #REF! | C5: není zmíněn | D5: bez interakce | E5: bez interakce | F5: - | G5: - | H5: - | I5: - | J5: - | K5: - | L5: diabetologie
A6: INSULIN DEGLUDEK | B6: =_xlfn.XLOOKUP(A6,#REF!,#REF!,"") -> #REF! | C6: není zmíněn | D6: bez interakce | E6: bez interakce | F6: - | G6: - | H6: - | I6: - | J6: - | K6: - | L6: diabetologie
A7: CEFTRIAXON | B7: =_xlfn.XLOOKUP(A7,#REF!,#REF!,"") -> #REF! | C7: není zmíněn | D7: bez interakce | E7: bez interakce | F7: velmi nízká | G7: - | H7: - | I7: - | J7: - | K7: - | L7: infekční lékařství
A8: CEFOTAXIM | B8: =_xlfn.XLOOKUP(A8,#REF!,#REF!,"") -> #REF! | C8: není zmíněn | D8: bez interakce | E8: bez interakce | F8: velmi nízká | G8: - | H8: - | I8: - | J8: - | K8: - | L8: infekční lékařství
A9: VANKOMYCIN | B9: =_xlfn.XLOOKUP(A9,#REF!,#REF!,"") -> #REF! | C9: není zmíněn | D9: bez interakce | E9: bez interakce | F9: velmi nízká | G9: - | H9: - | I9: - | J9: - | K9: - | L9: infekční lékařství
A10: MEROPENEM | B10: =_xlfn.XLOOKUP(A10,#REF!,#REF!,"") -> #REF! | C10: není zmíněn | D10: bez interakce | E10: bez interakce | F10: velmi nízká | G10: - | H10: - | I10: - | J10: - | K10: - | L10: infekční lékařství
A11: PROKAIN-BENZYLPENICILIN | B11: =_xlfn.XLOOKUP(A11,#REF!,#REF!,"") -> #REF! | C11: není zmíněn | D11: bez interakce | E11: bez interakce | F11: velmi nízká | G11: - | H11: - | I11: - | J11: - | K11: v LC zmíněny peniciliny jako celek | L11: infekční lékařství
A12: POTRAVINY PRO ZVLÁŠTNÍ LÉKAŘSKÉ ÚČELY (PZLÚ) (ČESKÁ ATC SKUPINA) | B12: =_xlfn.XLOOKUP(A12,#REF!,#REF!,"") -> #REF! | C12: nejsou zmíněny | D12: nejsou zmíněny | E12: není zmíněno (bez interakce) | F12: - | G12: - | H12: - | I12: - | J12: - | K12: - | L12: vnitřní lékařství - interna
A13: RIVAROXABAN | B13: =_xlfn.XLOOKUP(A13,#REF!,#REF!,"") -> #REF! | C13: možná interakce | D13: kontraindikace | E13: kontraindikace | F13: velmi nízká | G13: možné zvýšení hladiny rivaroxabanu v důsledku inhibice CYP 3A4 | H13: současné užívání se nedoporučuje | I13: nutnost nasazení alternativní antikoagulační léčby | J13: KI: použit jiné antivirotikum | K13: - | L13: vnitřní lékařství - interna
... A21: LOSARTAN | B21: =_xlfn.XLOOKUP(A21,#REF!,#REF!,"") -> #REF! | C21: není zmíněn | D21: potenciálně slabá interakce | E21: potenciálně slabá interakce | F21: velmi nízká | G21: možná vyšší přeměn losartanu na aktivní metabolit z důvodu indukce CYP 2C9 | H21: - | I21: - | J21: - | K21: - | L21: všeobecné praktické lékařství
A23: *Průměrný počet preskripcí za sledované období (září 2019 - únor 2022) na 1 lékaře v ambulantním segmentu v dané odbornosti
A26: Diabetology
A28: ATC group | B28: Number of prescriptions per doctor* | C28: SPC | D28: Liverpool checker (LC) | E28: Total risk | F28: Evidence | G28: Mechanism of interaction | H28: Recommended measures according to SPC | I28: Possible measures according to LC | J28: Recommendation of the Czech Society of Infectious Diseases | K28: Note
A29: INSULIN GLARGINE | B29: 175 | C29: not mentioned | D29: no interaction | E29: no interaction | F29: very low | G29: - | H29: - | I29: - | J29: - | K29: only "insulin" listed in LC
A30: INSULIN ASPART | B30: =_xlfn.XLOOKUP(A30,#REF!,#REF!,"") -> #REF! | C30: not mentioned | D30: no interaction | E30: no interaction | F30: very low | G30: - | H30: - | I30: - | J30: - | K30: only "insulin" listed in LC
A31: GLIMEPIRIDE | B31: 102 | C31: not mentioned | D31: no interaction | E31: no interaction | F31: - | G31: - | H31: - | I31: - | J31: - | K31: -
A32: GLICLAZIDE | B32: 99 | C32: not mentioned | D32: no interaction | E32: no interaction | F32: - | G32: - | H32: - | I32: - | J32: - | K32: -
A33: INSULIN DEGLUDEK | B33: =_xlfn.XLOOKUP(A33,#REF!,#REF!,"") -> #REF! | C33: not mentioned | D33: no interaction | E33: no interaction | F33: - | G33: - | H33: - | I33: - | J33: - | K33: -
A34: *The average number of prescriptions for patients with COVID-19 per doctor in the outpatient segment within the specified specialty during the observed period (September 2019 - February 2022).
A36: Infectious Diseases
A38: ATC group | B38: Number of prescriptions per doctor* | C38: SPC | D38: Liverpool checker (LC) | E38: Total risk | F38: Evidence | G38: Mechanism of interaction | H38: Recommended measures according to SPC | I38: Possible measures according to LC | J38: Recommendation of the Czech Society of Infectious Diseases | K38: Note
A39: CEFTRIAXONE | B39: 477.46667 | C39: not mentioned | D39: no interaction | E39: no interaction | F39: very low | G39: - | H39: - | I39: - | J39: - | K39: -
A40: CEFOTAXIME | B40: 126.94815 | C40: not mentioned | D40: no interaction | E40: no interaction | F40: very low | G40: - | H40: - | I40: - | J40: - | K40: -
A41: VANKOMYCIN | B41: 68.681481 | C41: not mentioned | D41: no interaction | E41: no interaction | F41: very low | G41: - | H41: - | I41: - | J41: - | K41: -
A42: MEROPENEM | B42: 68.02963 | C42: not mentioned | D42: no interaction | E42: no interaction | F42: very low | G42: - | H42: - | I42: - | J42: - | K42: -
A43: PROCAINE BENZYLPENICILLIN | B43: 57.896296 | C43: not mentioned | D43: no interaction | E43: no interaction | F43: very low | G43: - | H43: - | I43: - | J43: - | K43: penicillins as a whole listed in LC
A44: *The average number of prescriptions for patients with COVID-19 per doctor in the outpatient segment within the specified specialty during the observed period (September 2019 - February 2022).
A46: Internal medicine
A48: ATC group | B48: Number of prescriptions per doctor* | C48: SPC | D48: Liverpool checker (LC) | E48: Total risk | F48: Evidence | G48: Mechanism of interaction | H48: Recommended measures according to SPC | I48: Possible measures according to LC | J48: Recommendation of the Czech Society of Infectious Diseases | K48: Note
A49: FOOD FOR SPECIAL MEDICAL PURPOSES (CZECH ATC GROUP) | B49: 26.467068 | C49: not mentioned | D49: not mentioned | E49: not mentioned (no interaction) | F49: - | G49: - | H49: - | I49: - | J49: - | K49: -
A50: RIVAROXABAN | B50: 26.302195 | C50: potential interaction | D50: contraindication | E50: contraindication | F50: very low | G50: possible increase in the level of rivaroxaban due to inhibition of CYP 3A4 | H50: simultaneous administration not recommended | I50: the need to use alternative anticoagulant treatment | J50: CI: use different antiviral drug | K50: -
A51: APIXABAN | B51: 22.872579 | C51: not mentioned | D51: potential interaction | E51: potential interaction | F51: very low | G51: possible increase in the level of rivaroxaban due to inhibition of CYP 3A4 and P-gp | H51: - | I51: consider transferring the patient to LMWH or acetylsalicylic acid with renewal 3 days after the end of treatment | J51: CI: use different antiviral drug | K51: -
A52: MAGNESIUM (COMBINATION OF DIFFERENT SALTS) | B52: 19.20749 | C52: not mentioned | D52: no interaction | E52: no interaction | F52: - | G52: - | H52: - | I52: - | J52: - | K52: -
A53: FENOFIBRATE | B53: 18.948343 | C53: not mentioned | D53: no interaction | E53: no interaction | F53: - | G53: - | H53: - | I53: - | J53: - | K53: -
A54: *The average number of prescriptions for patients with COVID-19 per doctor in the outpatient segment within the specified specialty during the observed period (September 2019 - February 2022).
A56: General medicine
A58: ATC group | B58: Number of prescriptions per doctor* | C58: SPC | D58: Liverpool checker (LC) | E58: Total risk | F58: Evidence | G58: Mechanism of interaction | H58: Recommended measures according to SPC | I58: Possible measures according to LC | J58: Recommendation of the Czech Society of Infectious Diseases | K58: Note
A59: WARFARIN | B59: 53.405329 | C59: potential interaction | D59: potential interaction | E59: potential interaction | F59: very low | G59: possible changes in warfarin levels by inhibition of CYP 3A4 and induction of 1A2 | H59: monitoring of coagulation parameters | I59: more careful INR control | J59: - | K59: -
A60: CODEINE | B60: 53.296116 | C60: not mentioned | D60: potentially weak interaction | E60: potentially weak interaction | F60: very low | G60: possible reduction of codeine effectiveness due to inhibition of CYP 2D6 | H60: - | I60: - | J60: not suitable for combination with strong CYP 3A4 inhibitors | K60: -
A61: INDAPAMIDE | B61: 49.343404 | C61: not mentioned | D61: potential interaction | E61: potential interaction | F61: very low | G61: possible increase in the level of indapamide due to inhibition of its metabolism at the level of CYP 3A4 | H61: - | I61: more careful blood pressure control | J61: - | K61: -
A62: NEBIVOLOL | B62: 46.366298 | C62: not mentioned | D62: no interaction | E62: no interaction | F62: - | G62: - | H62: - | I62: - | J62: - | K62: -
A63: LOSARTAN | B63: 43.64346 | C63: not mentioned | D63: potentially weak interaction | E63: potentially weak interaction | F63: very low | G63: possible higher conversion of losartan to active metabolite due to induction of CYP 2C9 | H63: - | I63: - | J63: - | K63: -
A64: *The average number of prescriptions for patients with COVID-19 per doctor in the outpatient segment within the specified specialty during the observed period (September 2019 - February 2022).

Sheet T_relevantní odbornosti
A1: Odbornost_code | B1: Odbornost_name | C1: Odb_agg | D1: Relevance
A2: 1 | B2: všeobecné praktické lékařství | C2: =IF(OR(B2="odbornost neidentifikovaná",B2="název odbornosti neidentifikován"),B2,_xlfn.XLOOKUP(B2,'[1]Odbornost - kmen_číselník'!$A:$A,'[1]Odbornost - kmen_číselník'!$B:$B,"")) -> všeobecné praktické lékařství | D2: =IF(COUNTIF('T_relevantní_odb_agg_počty MD'!$A$1:$A$10,'T_relevantní odbornosti'!C2)=1,"ano","") -> ano
A3: 104 | B3: endokrinologie | C3: =IF(OR(B3="odbornost neidentifikovaná",B3="název odbornosti neidentifikován"),B3,_xlfn.XLOOKUP(B3,'[1]Odbornost - kmen_číselník'!$A:$A,'[1]Odbornost - kmen_číselník'!$B:$B,"")) -> endokrinologie | D3: =IF(COUNTIF('T_relevantní_odb_agg_počty MD'!$A$1:$A$10,'T_relevantní odbornosti'!C3)=1,"ano","")
A4: 606 | B4: ortopedie | C4: =IF(OR(B4="odbornost neidentifikovaná",B4="název odbornosti neidentifikován"),B4,_xlfn.XLOOKUP(B4,'[1]Odbornost - kmen_číselník'!$A:$A,'[1]Odbornost - kmen_číselník'!$B:$B,"")) -> ortopedie | D4: =IF(COUNTIF('T_relevantní_odb_agg_počty MD'!$A$1:$A$10,'T_relevantní odbornosti'!C4)=1,"ano","")
A5: 103 | B5: diabetologie | C5: =IF(OR(B5="odbornost neidentifikovaná",B5="název odbornosti neidentifikován"),B5,_xlfn.XLOOKUP(B5,'[1]Odbornost - kmen_číselník'!$A:$A,'[1]Odbornost - kmen_číselník'!$B:$B,"")) -> diabetologie | D5: =IF(COUNTIF('T_relevantní_odb_agg_počty MD'!$A$1:$A$10,'T_relevantní odbornosti'!C5)=1,"ano","") -> ano
A6: 128 | B6: pracoviště hemodialýzy | C6: =IF(OR(B6="odbornost neidentifikovaná",B6="název odbornosti neidentifikován"),B6,_xlfn.XLOOKUP(B6,'[1]Odbornost - kmen_číselník'!$A:$A,'[1]Odbornost - kmen_číselník'!$B:$B,"")) -> pracoviště hemodialýzy | D6: =IF(COUNTIF('T_relevantní_odb_agg_počty MD'!$A$1:$A$10,'T_relevantní odbornosti'!C6)=1,"ano","")
A7: 501 | B7: chirurgie | C7: =IF(OR(B7="odbornost neidentifikovaná",B7="název odbornosti neidentifikován"),B7,_xlfn.XLOOKUP(B7,'[1]Odbornost - kmen_číselník'!$A:$A,'[1]Odbornost - kmen_číselník'!$B:$B,"")) -> chirurgie | D7: =IF(COUNTIF('T_relevantní_odb_agg_počty MD'!$A$1:$A$10,'T_relevantní odbornosti'!C7)=1,"ano","")
A8: 705 | B8: oftalmologie | C8: =IF(OR(B8="odbornost neidentifikovaná",B8="název odbornosti neidentifikován"),B8,_xlfn.XLOOKUP(B8,'[1]Odbornost - kmen_číselník'!$A:$A,'[1]Odbornost - kmen_číselník'!$B:$B,"")) -> oftalmologie | D8: =IF(COUNTIF('T_relevantní_odb_agg_počty MD'!$A$1:$A$10,'T_relevantní odbornosti'!C8)=1,"ano","")
A9: 706 | B9: urologie | C9: =IF(OR(B9="odbornost neidentifikovaná",B9="název odbornosti neidentifikován"),B9,_xlfn.XLOOKUP(B9,'[1]Odbornost - kmen_číselník'!$A:$A,'[1]Odbornost - kmen_číselník'!$B:$B,"")) -> urologie | D9: =IF(COUNTIF('T_relevantní_odb_agg_počty MD'!$A$1:$A$10,'T_relevantní odbornosti'!C9)=1,"ano","") -> ano
A10: 207 | B10: alergologie a klinická imunologie | C10: =IF(OR(B10="odbornost neidentifikovaná",B10="název odbornosti neidentifikován"),B10,_xlfn.XLOOKUP(B10,'[1]Odbornost - kmen_číselník'!$A:$A,'[1]Odbornost - kmen_číselník'!$B:$B,"")) -> alergologie a klinická imunologie | D10: =IF(COUNTIF('T_relevantní_odb_agg_počty MD'!$A$1:$A$10,'T_relevantní odbornosti'!C10)=1,"ano","")
A11: 305 | B11: psychiatrie | C11: =IF(OR(B11="odbornost neidentifikovaná",B11="název odbornosti neidentifikován"),B11,_xlfn.XLOOKUP(B11,'[1]Odbornost - kmen_číselník'!$A:$A,'[1]Odbornost - kmen_číselník'!$B:$B,"")) -> psychiatrie | D11: =IF(COUNTIF('T_relevantní_odb_agg_počty MD'!$A$1:$A$10,'T_relevantní odbornosti'!C11)=1,"ano","")
A12: 2 | B12: praktické lékařství pro děti a dorost | C12: =IF(OR(B12="odbornost neidentifikovaná",B12="název odbornosti neidentifikován"),B12,_xlfn.XLOOKUP(B12,'[1]Odbornost - kmen_číselník'!$A:$A,'[1]Odbornost - kmen_číselník'!$B:$B,"")) -> pediatrie | D12: =IF(COUNTIF('T_relevantní_odb_agg_počty MD'!$A$1:$A$10,'T_relevantní odbornosti'!C12)=1,"ano","")
A13: 101 | B13: vnitřní lékařství - interna | C13: =IF(OR(B13="odbornost neidentifikovaná",B13="název odbornosti neidentifikován"),B13,_xlfn.XLOOKUP(B13,'[1]Odbornost - kmen_číselník'!$A:$A,'[1]Odbornost - kmen_číselník'!$B:$B,"")) -> vnitřní lékařství - interna | D13: =IF(COUNTIF('T_relevantní_odb_agg_počty MD'!$A$1:$A$10,'T_relevantní odbornosti'!C13)=1,"ano","") -> ano
... A16: 701 | B16: otorinolaryngologie | C16: =IF(OR(B16="odbornost neidentifikovaná",B16="název odbornosti neidentifikován"),B16,_xlfn.XLOOKUP(B16,'[1]Odbornost - kmen_číselník'!$A:$A,'[1]Odbornost - kmen_číselník'!$B:$B,"")) -> ORL | D16: =IF(COUNTIF('T_relevantní_odb_agg_počty MD'!$A$1:$A$10,'T_relevantní odbornosti'!C16)=1,"ano","")
B17: odbornost neidentifikovaná | C17: =IF(OR(B17="odbornost neidentifikovaná",B17="název odbornosti neidentifikován"),B17,_xlfn.XLOOKUP(B17,'[1]Odbornost - kmen_číselník'!$A:$A,'[1]Odbornost - kmen_číselník'!$B:$B,"")) -> odbornost neidentifikovaná | D17: =IF(COUNTIF('T_relevantní_odb_agg_počty MD'!$A$1:$A$10,'T_relevantní odbornosti'!C17)=1,"ano","")
A18: 1H1 | B18: akutní LP vnitřního lékařství - interny - typ H | C18: =IF(OR(B18="odbornost neidentifikovaná",B18="název odbornosti neidentifikován"),B18,_xlfn.XLOOKUP(B18,'[1]Odbornost - kmen_číselník'!$A:$A,'[1]Odbornost - kmen_číselník'!$B:$B,"")) -> vnitřní lékařství - interna | D18: =IF(COUNTIF('T_relevantní_odb_agg_počty MD'!$A$1:$A$10,'T_relevantní odbornosti'!C18)=1,"ano","") -> ano
A19: 402 | B19: klinická onkologie | C19: =IF(OR(B19="odbornost neidentifikovaná",B19="název odbornosti neidentifikován"),B19,_xlfn.XLOOKUP(B19,'[1]Odbornost - kmen_číselník'!$A:$A,'[1]Odbornost - kmen_číselník'!$B:$B,"")) -> onkologie | D19: =IF(COUNTIF('T_relevantní_odb_agg_počty MD'!$A$1:$A$10,'T_relevantní odbornosti'!C19)=1,"ano","") -> ano
A20: 404 | B20: dermatovenerologie | C20: =IF(OR(B20="odbornost neidentifikovaná",B20="název odbornosti neidentifikován"),B20,_xlfn.XLOOKUP(B20,'[1]Odbornost - kmen_číselník'!$A:$A,'[1]Odbornost - kmen_číselník'!$B:$B,"")) -> dermatovenerologie | D20: =IF(COUNTIF('T_relevantní_odb_agg_počty MD'!$A$1:$A$10,'T_relevantní odbornosti'!C20)=1,"ano","")
A21: 14 | B21: klinická stomatologie | C21: =IF(OR(B21="odbornost neidentifikovaná",B21="název odbornosti neidentifikován"),B21,_xlfn.XLOOKUP(B21,'[1]Odbornost - kmen_číselník'!$A:$A,'[1]Odbornost - kmen_číselník'!$B:$B,"")) -> stomatologie | D21: =IF(COUNTIF('T_relevantní_odb_agg_počty MD'!$A$1:$A$10,'T_relevantní odbornosti'!C21)=1,"ano","")
A22: 107 | B22: kardiologie | C22: =IF(OR(B22="odbornost neidentifikovaná",B22="název odbornosti neidentifikován"),B22,_xlfn.XLOOKUP(B22,'[1]Odbornost - kmen_číselník'!$A:$A,'[1]Odbornost - kmen_číselník'!$B:$B,"")) -> kardiologie | D22: =IF(COUNTIF('T_relevantní_odb_agg_počty MD'!$A$1:$A$10,'T_relevantní odbornosti'!C22)=1,"ano","") -> ano
A23: 105 | B23: gastroenterologie | C23: =IF(OR(B23="odbornost neidentifikovaná",B23="název odbornosti neidentifikován"),B23,_xlfn.XLOOKUP(B23,'[1]Odbornost - kmen_číselník'!$A:$A,'[1]Odbornost - kmen_číselník'!$B:$B,"")) -> gastroenterologie | D23: =IF(COUNTIF('T_relevantní_odb_agg_počty MD'!$A$1:$A$10,'T_relevantní odbornosti'!C23)=1,"ano","")
A24: 205 | B24: pneumologie a ftizeologie | C24: =IF(OR(B24="odbornost neidentifikovaná",B24="název odbornosti neidentifikován"),B24,_xlfn.XLOOKUP(B24,'[1]Odbornost - kmen_číselník'!$A:$A,'[1]Odbornost - kmen_číselník'!$B:$B,"")) -> pneumologie a ftizeologie | D24: =IF(COUNTIF('T_relevantní_odb_agg_počty MD'!$A$1:$A$10,'T_relevantní odbornosti'!C24)=1,"ano","") -> ano
A25: 109 | B25: revmatologie | C25: =IF(OR(B25="odbornost neidentifikovaná",B25="název odbornosti neidentifikován"),B25,_xlfn.XLOOKUP(B25,'[1]Odbornost - kmen_číselník'!$A:$A,'[1]Odbornost - kmen_číselník'!$B:$B,"")) -> revmatologie | D25: =IF(COUNTIF('T_relevantní_odb_agg_počty MD'!$A$1:$A$10,'T_relevantní odbornosti'!C25)=1,"ano","") -> ano
A26: 5H1 | B26: akutní LP chirurgie - typ H | C26: =IF(OR(B26="odbornost neidentifikovaná",B26="název odbornosti neidentifikován"),B26,_xlfn.XLOOKUP(B26,'[1]Odbornost - kmen_číselník'!$A:$A,'[1]Odbornost - kmen_číselník'!$B:$B,"")) -> chirurgie | D26: =IF(COUNTIF('T_relevantní_odb_agg_počty MD'!$A$1:$A$10,'T_relevantní odbornosti'!C26)=1,"ano","")
A27: 202 | B27: hematologie | C27: =IF(OR(B27="odbornost neidentifikovaná",B27="název odbornosti neidentifikován"),B27,_xlfn.XLOOKUP(B27,'[1]Odbornost - kmen_číselník'!$A:$A,'[1]Odbornost - kmen_číselník'!$B:$B,"")) -> hematologie | D27: =IF(COUNTIF('T_relevantní_odb_agg_počty MD'!$A$1:$A$10,'T_relevantní odbornosti'!C27)=1,"ano","")
A28: 3 | B28: lékařská pohotovostní služba | C28: =IF(OR(B28="odbornost neidentifikovaná",B28="název odbornosti neidentifikován"),B28,_xlfn.XLOOKUP(B28,'[1]Odbornost - kmen_číselník'!$A:$A,'[1]Odbornost - kmen_číselník'!$B:$B,"")) -> lékařská pohotovostní služba | D28: =IF(COUNTIF('T_relevantní_odb_agg_počty MD'!$A$1:$A$10,'T_relevantní odbornosti'!C28)=1,"ano","")
A29: 801 | B29: klinická biochemie | C29: =IF(OR(B29="odbornost neidentifikovaná",B29="název odbornosti neidentifikován"),B29,_xlfn.XLOOKUP(B29,'[1]Odbornost - kmen_číselník'!$A:$A,'[1]Odbornost - kmen_číselník'!$B:$B,"")) -> klinická biochemie | D29: =IF(COUNTIF('T_relevantní_odb_agg_počty MD'!$A$1:$A$10,'T_relevantní odbornosti'!C29)=1,"ano","")
A30: 201 | B30: rehabilitační a fyzikální medicína | C30: =IF(OR(B30="odbornost neidentifikovaná",B30="název odbornosti neidentifikován"),B30,_xlfn.XLOOKUP(B30,'[1]Odbornost - kmen_číselník'!$A:$A,'[1]Odbornost - kmen_číselník'!$B:$B,"")) -> rehabilitační a fyzikální medicína | D30: =IF(COUNTIF('T_relevantní_odb_agg_počty MD'!$A$1:$A$10,'T_relevantní odbornosti'!C30)=1,"ano","")
A31: 1F1 | B31: akutní LP vnitřního lékařství - interny - typ F | C31: =IF(OR(B31="odbornost neidentifikovaná",B31="název odbornosti neidentifikován"),B31,_xlfn.XLOOKUP(B31,'[1]Odbornost - kmen_číselník'!$A:$A,'[1]Odbornost - kmen_číselník'!$B:$B,"")) -> vnitřní lékařství - interna | D31: =IF(COUNTIF('T_relevantní_odb_agg_počty MD'!$A$1:$A$10,'T_relevantní odbornosti'!C31)=1,"ano","") -> ano
A32: 708 | B32: anesteziologie a intenzivní medicína | C32: =IF(OR(B32="odbornost neidentifikovaná",B32="název odbornosti neidentifikován"),B32,_xlfn.XLOOKUP(B32,'[1]Odbornost - kmen_číselník'!$A:$A,'[1]Odbornost - kmen_číselník'!$B:$B,"")) -> anesteziologie a intenzivní medicína | D32: =IF(COUNTIF('T_relevantní_odb_agg_počty MD'!$A$1:$A$10,'T_relevantní odbornosti'!C32)=1,"ano","")
A33: 102 | B33: angiologie | C33: =IF(OR(B33="odbornost neidentifikovaná",B33="název odbornosti neidentifikován"),B33,_xlfn.XLOOKUP(B33,'[1]Odbornost - kmen_číselník'!$A:$A,'[1]Odbornost - kmen_číselník'!$B:$B,"")) -> angiologie | D33: =IF(COUNTIF('T_relevantní_odb_agg_počty MD'!$A$1:$A$10,'T_relevantní odbornosti'!C33)=1,"ano","")
A34: 719 | B34: urgentní medicína - skupina 1 | C34: =IF(OR(B34="odbornost neidentifikovaná",B34="název odbornosti neidentifikován"),B34,_xlfn.XLOOKUP(B34,'[1]Odbornost - kmen_číselník'!$A:$A,'[1]Odbornost - kmen_číselník'!$B:$B,"")) -> urgentní medicína | D34: =IF(COUNTIF('T_relevantní_odb_agg_počty MD'!$A$1:$A$10,'T_relevantní odbornosti'!C34)=1,"ano","")
A35: 7I8 | B35: resuscitační lůžková péče - ARO - typ I | C35: =IF(OR(B35="odbornost neidentifikovaná",B35="název odbornosti neidentifikován"),B35,_xlfn.XLOOKUP(B35,'[1]Odbornost - kmen_číselník'!$A:$A,'[1]Odbornost - kmen_číselník'!$B:$B,"")) -> resuscitační LP - ARO | D35: =IF(COUNTIF('T_relevantní_odb_agg_počty MD'!$A$1:$A$10,'T_relevantní odbornosti'!C35)=1,"ano","")
A36: 6H6 | B36: akutní LP ortopedie - typ H | C36: =IF(OR(B36="odbornost neidentifikovaná",B36="název odbornosti neidentifikován"),B36,_xlfn.XLOOKUP(B36,'[1]Odbornost - kmen_číselník'!$A:$A,'[1]Odbornost - kmen_číselník'!$B:$B,"")) -> ortopedie | D36: =IF(COUNTIF('T_relevantní_odb_agg_počty MD'!$A$1:$A$10,'T_relevantní odbornosti'!C36)=1,"ano","")
A37: 306 | B37: dětská a dorostová psychiatrie | C37: =IF(OR(B37="odbornost neidentifikovaná",B37="název odbornosti neidentifikován"),B37,_xlfn.XLOOKUP(B37,'[1]Odbornost - kmen_číselník'!$A:$A,'[1]Odbornost - kmen_číselník'!$B:$B,"")) -> psychiatrie | D37: =IF(COUNTIF('T_relevantní_odb_agg_počty MD'!$A$1:$A$10,'T_relevantní odbornosti'!C37)=1,"ano","")
A38: 2H3 | B38: pracoviště standard. úst. LP přenosných nemocí - H typu | C38: =IF(OR(B38="odbornost neidentifikovaná",B38="název odbornosti neidentifikován"),B38,_xlfn.XLOOKUP(B38,'[1]Odbornost - kmen_číselník'!$A:$A,'[1]Odbornost - kmen_číselník'!$B:$B,"")) -> infekční lékařství | D38: ano
A39: 108 | B39: nefrologie | C39: =IF(OR(B39="odbornost neidentifikovaná",B39="název odbornosti neidentifikován"),B39,_xlfn.XLOOKUP(B39,'[1]Odbornost - kmen_číselník'!$A:$A,'[1]Odbornost - kmen_číselník'!$B:$B,"")) -> nefrologie | D39: =IF(COUNTIF('T_relevantní_odb_agg_počty MD'!$A$1:$A$10,'T_relevantní odbornosti'!C39)=1,"ano","")
A40: 601 | B40: plastická chirurgie | C40: =IF(OR(B40="odbornost neidentifikovaná",B40="název odbornosti neidentifikován"),B40,_xlfn.XLOOKUP(B40,'[1]Odbornost - kmen_číselník'!$A:$A,'[1]Odbornost - kmen_číselník'!$B:$B,"")) -> plastická chirurgie | D40: =IF(COUNTIF('T_relevantní_odb_agg_počty MD'!$A$1:$A$10,'T_relevantní odbornosti'!C40)=1,"ano","")
A41: 6H3 | B41: akutní LP gynekologie a porodnictví - typ H | C41: =IF(OR(B41="odbornost neidentifikovaná",B41="název odbornosti neidentifikován"),B41,_xlfn.XLOOKUP(B41,'[1]Odbornost - kmen_číselník'!$A:$A,'[1]Odbornost - kmen_číselník'!$B:$B,"")) -> gynekologie a porodnictví | D41: =IF(COUNTIF('T_relevantní_odb_agg_počty MD'!$A$1:$A$10,'T_relevantní odbornosti'!C41)=1,"ano","")
A42: 5F1 | B42: akutní LP chirurgie - typ F | C42: =IF(OR(B42="odbornost neidentifikovaná",B42="název odbornosti neidentifikován"),B42,_xlfn.XLOOKUP(B42,'[1]Odbornost - kmen_číselník'!$A:$A,'[1]Odbornost - kmen_číselník'!$B:$B,"")) -> chirurgie | D42: =IF(COUNTIF('T_relevantní_odb_agg_počty MD'!$A$1:$A$10,'T_relevantní odbornosti'!C42)=1,"ano","")
A43: 2H5 | B43: pracoviště standard. ústav. LP TRN a pneumologie - H typu | C43: =IF(OR(B43="odbornost neidentifikovaná",B43="název odbornosti neidentifikován"),B43,_xlfn.XLOOKUP(B43,'[1]Odbornost - kmen_číselník'!$A:$A,'[1]Odbornost - kmen_číselník'!$B:$B,"")) -> pneumologie a ftizeologie | D43: =IF(COUNTIF('T_relevantní_odb_agg_počty MD'!$A$1:$A$10,'T_relevantní odbornosti'!C43)=1,"ano","") -> ano
A44: 2F3 | B44: pracoviště standard. úst. LP přenosných nemocí - F typu | C44: =IF(OR(B44="odbornost neidentifikovaná",B44="název odbornosti neidentifikován"),B44,_xlfn.XLOOKUP(B44,'[1]Odbornost - kmen_číselník'!$A:$A,'[1]Odbornost - kmen_číselník'!$B:$B,"")) -> infekční lékařství | D44: ano
A45: 1I1 | B45: intenzivní LP vnitřního lékařství - interny - typ I | C45: =IF(OR(B45="odbornost neidentifikovaná",B45="název odbornosti neidentifikován"),B45,_xlfn.XLOOKUP(B45,'[1]Odbornost - kmen_číselník'!$A:$A,'[1]Odbornost - kmen_číselník'!$B:$B,"")) -> vnitřní lékařství - interna | D45: =IF(COUNTIF('T_relevantní_odb_agg_počty MD'!$A$1:$A$10,'T_relevantní odbornosti'!C45)=1,"ano","") -> ano
A46: 5I1 | B46: resuscitační a intenzivní LP chirurgie typu I | C46: =IF(OR(B46="odbornost neidentifikovaná",B46="název odbornosti neidentifikován"),B46,_xlfn.XLOOKUP(B46,'[1]Odbornost - kmen_číselník'!$A:$A,'[1]Odbornost - kmen_číselník'!$B:$B,"")) -> chirurgie | D46: =IF(COUNTIF('T_relevantní_odb_agg_počty MD'!$A$1:$A$10,'T_relevantní odbornosti'!C46)=1,"ano","")
A47: 503 | B47: úrazová chirurgie (traumatologie) | C47: =IF(OR(B47="odbornost neidentifikovaná",B47="název odbornosti neidentifikován"),B47,_xlfn.XLOOKUP(B47,'[1]Odbornost - kmen_číselník'!$A:$A,'[1]Odbornost - kmen_číselník'!$B:$B,"")) -> úrazová chirurgie (traumatologie) | D47: =IF(COUNTIF('T_relevantní_odb_agg_počty MD'!$A$1:$A$10,'T_relevantní odbornosti'!C47)=1,"ano","")
A48: 7T8 | B48: resuscitační a intenzivní LP anesteziologie a intenzivní medicína typu T | C48: =IF(OR(B48="odbornost neidentifikovaná",B48="název odbornosti neidentifikován"),B48,_xlfn.XLOOKUP(B48,'[1]Odbornost - kmen_číselník'!$A:$A,'[1]Odbornost - kmen_číselník'!$B:$B,"")) -> anesteziologie a intenzivní medicína | D48: =IF(COUNTIF('T_relevantní_odb_agg_počty MD'!$A$1:$A$10,'T_relevantní odbornosti'!C48)=1,"ano","")
A49: 709 | B49: urgentní medicína | C49: =IF(OR(B49="odbornost neidentifikovaná",B49="název odbornosti neidentifikován"),B49,_xlfn.XLOOKUP(B49,'[1]Odbornost - kmen_číselník'!$A:$A,'[1]Odbornost - kmen_číselník'!$B:$B,"")) -> urgentní medicína | D49: =IF(COUNTIF('T_relevantní_odb_agg_počty MD'!$A$1:$A$10,'T_relevantní odbornosti'!C49)=1,"ano","")
A50: 7H6 | B50: akutní LP urologie - typ H | C50: =IF(OR(B50="odbornost neidentifikovaná",B50="název odbornosti neidentifikován"),B50,_xlfn.XLOOKUP(B50,'[1]Odbornost - kmen_číselník'!$A:$A,'[1]Odbornost - kmen_číselník'!$B:$B,"")) -> urologie | D50: =IF(COUNTIF('T_relevantní_odb_agg_počty MD'!$A$1:$A$10,'T_relevantní odbornosti'!C50)=1,"ano","") -> ano
A51: 710 | B51: algeziologie - léčba bolesti | C51: =IF(OR(B51="odbornost neidentifikovaná",B51="název odbornosti neidentifikován"),B51,_xlfn.XLOOKUP(B51,'[1]Odbornost - kmen_číselník'!$A:$A,'[1]Odbornost - kmen_číselník'!$B:$B,"")) -> algeziologie | D51: =IF(COUNTIF('T_relevantní_odb_agg_počty MD'!$A$1:$A$10,'T_relevantní odbornosti'!C51)=1,"ano","")
A52: 409 | B52: dětská neurologie | C52: =IF(OR(B52="odbornost neidentifikovaná",B52="název odbornosti neidentifikován"),B52,_xlfn.XLOOKUP(B52,'[1]Odbornost - kmen_číselník'!$A:$A,'[1]Odbornost - kmen_číselník'!$B:$B,"")) -> neurologie | D52: =IF(COUNTIF('T_relevantní_odb_agg_počty MD'!$A$1:$A$10,'T_relevantní odbornosti'!C52)=1,"ano","") -> ano
A53: 1F7 | B53: pracoviště standard. úst. LP kardiologické - F typu | C53: =IF(OR(B53="odbornost neidentifikovaná",B53="název odbornosti neidentifikován"),B53,_xlfn.XLOOKUP(B53,'[1]Odbornost - kmen_číselník'!$A:$A,'[1]Odbornost - kmen_číselník'!$B:$B,"")) -> kardiologie | D53: =IF(COUNTIF('T_relevantní_odb_agg_počty MD'!$A$1:$A$10,'T_relevantní odbornosti'!C53)=1,"ano","") -> ano
A54: 7F6 | B54: akutní LP urologie - typ F | C54: =IF(OR(B54="odbornost neidentifikovaná",B54="název odbornosti neidentifikován"),B54,_xlfn.XLOOKUP(B54,'[1]Odbornost - kmen_číselník'!$A:$A,'[1]Odbornost - kmen_číselník'!$B:$B,"")) -> urologie | D54: =IF(COUNTIF('T_relevantní_odb_agg_počty MD'!$A$1:$A$10,'T_relevantní odbornosti'!C54)=1,"ano","") -> ano
A55: 6F6 | B55: akutní LP ortopedie - typ F | C55: =IF(OR(B55="odbornost neidentifikovaná",B55="název odbornosti neidentifikován"),B55,_xlfn.XLOOKUP(B55,'[1]Odbornost - kmen_číselník'!$A:$A,'[1]Odbornost - kmen_číselník'!$B:$B,"")) -> ortopedie | D55: =IF(COUNTIF('T_relevantní_odb_agg_počty MD'!$A$1:$A$10,'T_relevantní odbornosti'!C55)=1,"ano","")
A56: 7D8 | B56: dlouhodobá intenzivní péče (DIP) | C56: =IF(OR(B56="odbornost neidentifikovaná",B56="název odbornosti neidentifikován"),B56,_xlfn.XLOOKUP(B56,'[1]Odbornost - kmen_číselník'!$A:$A,'[1]Odbornost - kmen_číselník'!$B:$B,"")) -> dlouhodobá intenzivní péče | D56: =IF(COUNTIF('T_relevantní_odb_agg_počty MD'!$A$1:$A$10,'T_relevantní odbornosti'!C56)=1,"ano","")
A57: 2H9 | B57: akutní LP neurologie - typ H | C57: =IF(OR(B57="odbornost neidentifikovaná",B57="název odbornosti neidentifikován"),B57,_xlfn.XLOOKUP(B57,'[1]Odbornost - kmen_číselník'!$A:$A,'[1]Odbornost - kmen_číselník'!$B:$B,"")) -> neurologie | D57: =IF(COUNTIF('T_relevantní_odb_agg_počty MD'!$A$1:$A$10,'T_relevantní odbornosti'!C57)=1,"ano","") -> ano
A58: 613 | B58: gynekologie a porodnictví - skupina 1 | C58: =IF(OR(B58="odbornost neidentifikovaná",B58="název odbornosti neidentifikován"),B58,_xlfn.XLOOKUP(B58,'[1]Odbornost - kmen_číselník'!$A:$A,'[1]Odbornost - kmen_číselník'!$B:$B,"")) -> gynekologie a porodnictví | D58: =IF(COUNTIF('T_relevantní_odb_agg_počty MD'!$A$1:$A$10,'T_relevantní odbornosti'!C58)=1,"ano","")
A59: 19 | B59: pracoviště stomatologické LSPP | C59: =IF(OR(B59="odbornost neidentifikovaná",B59="název odbornosti neidentifikován"),B59,_xlfn.XLOOKUP(B59,'[1]Odbornost - kmen_číselník'!$A:$A,'[1]Odbornost - kmen_číselník'!$B:$B,"")) -> stomatologie | D59: =IF(COUNTIF('T_relevantní_odb_agg_počty MD'!$A$1:$A$10,'T_relevantní odbornosti'!C59)=1,"ano","")
A60: 6F3 | B60: akutní LP gynekologie a porodnictví - typ F | C60: =IF(OR(B60="odbornost neidentifikovaná",B60="název odbornosti neidentifikován"),B60,_xlfn.XLOOKUP(B60,'[1]Odbornost - kmen_číselník'!$A:$A,'[1]Odbornost - kmen_číselník'!$B:$B,"")) -> gynekologie a porodnictví | D60: =IF(COUNTIF('T_relevantní_odb_agg_počty MD'!$A$1:$A$10,'T_relevantní odbornosti'!C60)=1,"ano","")
A61: 203 | B61: infekční lékařství | C61: =IF(OR(B61="odbornost neidentifikovaná",B61="název odbornosti neidentifikován"),B61,_xlfn.XLOOKUP(B61,'[1]Odbornost - kmen_číselník'!$A:$A,'[1]Odbornost - kmen_číselník'!$B:$B,"")) -> infekční lékařství | D61: ano
A62: 301 | B62: dětské lékařství | C62: =IF(OR(B62="odbornost neidentifikovaná",B62="název odbornosti neidentifikován"),B62,_xlfn.XLOOKUP(B62,'[1]Odbornost - kmen_číselník'!$A:$A,'[1]Odbornost - kmen_číselník'!$B:$B,"")) -> dětské lékařství | D62: =IF(COUNTIF('T_relevantní_odb_agg_počty MD'!$A$1:$A$10,'T_relevantní odbornosti'!C62)=1,"ano","")
A63: 902 | B63: fyzioterapeut | C63: =IF(OR(B63="odbornost neidentifikovaná",B63="název odbornosti neidentifikován"),B63,_xlfn.XLOOKUP(B63,'[1]Odbornost - kmen_číselník'!$A:$A,'[1]Odbornost - kmen_číselník'!$B:$B,"")) -> fyzioterapeut | D63: =IF(COUNTIF('T_relevantní_odb_agg_počty MD'!$A$1:$A$10,'T_relevantní odbornosti'!C63)=1,"ano","")
A64: 2F5 | B64: akutní LP pneumologie a ftizeologie - typ F | C64: =IF(OR(B64="odbornost neidentifikovaná",B64="název odbornosti neidentifikován"),B64,_xlfn.XLOOKUP(B64,'[1]Odbornost - kmen_číselník'!$A:$A,'[1]Odbornost - kmen_číselník'!$B:$B,"")) -> pneumologie a ftizeologie | D64: =IF(COUNTIF('T_relevantní_odb_agg_počty MD'!$A$1:$A$10,'T_relevantní odbornosti'!C64)=1,"ano","") -> ano
A65: 3H1 | B65: LP dětské lékařství typu H | C65: =IF(OR(B65="odbornost neidentifikovaná",B65="název odbornosti neidentifikován"),B65,_xlfn.XLOOKUP(B65,'[1]Odbornost - kmen_číselník'!$A:$A,'[1]Odbornost - kmen_číselník'!$B:$B,"")) -> dětské lékařství | D65: =IF(COUNTIF('T_relevantní_odb_agg_počty MD'!$A$1:$A$10,'T_relevantní odbornosti'!C65)=1,"ano","")
A66: 5F3 | B66: akutní LP úrazové chirurgie (traumatologie) - typ F | C66: =IF(OR(B66="odbornost neidentifikovaná",B66="název odbornosti neidentifikován"),B66,_xlfn.XLOOKUP(B66,'[1]Odbornost - kmen_číselník'!$A:$A,'[1]Odbornost - kmen_číselník'!$B:$B,"")) -> úrazová chirurgie (traumatologie) | D66: =IF(COUNTIF('T_relevantní_odb_agg_počty MD'!$A$1:$A$10,'T_relevantní odbornosti'!C66)=1,"ano","")
A67: 5T1 | B67: pracoviště resuscitační a intenzivní ústavní LP chirurgické - T typu | C67: =IF(OR(B67="odbornost neidentifikovaná",B67="název odbornosti neidentifikován"),B67,_xlfn.XLOOKUP(B67,'[1]Odbornost - kmen_číselník'!$A:$A,'[1]Odbornost - kmen_číselník'!$B:$B,"")) -> chirurgie | D67: =IF(COUNTIF('T_relevantní_odb_agg_počty MD'!$A$1:$A$10,'T_relevantní odbornosti'!C67)=1,"ano","")
A68: 4F2 | B68: akutní LP klinické onkologie - typ F | C68: =IF(OR(B68="odbornost neidentifikovaná",B68="název odbornosti neidentifikován"),B68,_xlfn.XLOOKUP(B68,'[1]Odbornost - kmen_číselník'!$A:$A,'[1]Odbornost - kmen_číselník'!$B:$B,"")) -> onkologie | D68: =IF(COUNTIF('T_relevantní_odb_agg_počty MD'!$A$1:$A$10,'T_relevantní odbornosti'!C68)=1,"ano","") -> ano
A69: 6T6 | B69: pracoviště resuscitační a intenzivní ústavní LP ortopedické - T typu | C69: =IF(OR(B69="odbornost neidentifikovaná",B69="název odbornosti neidentifikován"),B69,_xlfn.XLOOKUP(B69,'[1]Odbornost - kmen_číselník'!$A:$A,'[1]Odbornost - kmen_číselník'!$B:$B,"")) -> ortopedie | D69: =IF(COUNTIF('T_relevantní_odb_agg_počty MD'!$A$1:$A$10,'T_relevantní odbornosti'!C69)=1,"ano","")
A70: 5F6 | B70: akutní LP neurochirurgie - typ F | C70: =IF(OR(B70="odbornost neidentifikovaná",B70="název odbornosti neidentifikován"),B70,_xlfn.XLOOKUP(B70,'[1]Odbornost - kmen_číselník'!$A:$A,'[1]Odbornost - kmen_číselník'!$B:$B,"")) -> neurochirurgie | D70: =IF(COUNTIF('T_relevantní_odb_agg_počty MD'!$A$1:$A$10,'T_relevantní odbornosti'!C70)=1,"ano","")
A71: 2F2 | B71: akutní LP hematologie - typ F | C71: =IF(OR(B71="odbornost neidentifikovaná",B71="název odbornosti neidentifikován"),B71,_xlfn.XLOOKUP(B71,'[1]Odbornost - kmen_číselník'!$A:$A,'[1]Odbornost - kmen_číselník'!$B:$B,"")) -> hematologie | D71: =IF(COUNTIF('T_relevantní_odb_agg_počty MD'!$A$1:$A$10,'T_relevantní odbornosti'!C71)=1,"ano","")
A72: 9U7 | B72: pracoviště ústavní následné péče v LDN | C72: =IF(OR(B72="odbornost neidentifikovaná",B72="název odbornosti neidentifikován"),B72,_xlfn.XLOOKUP(B72,'[1]Odbornost - kmen_číselník'!$A:$A,'[1]Odbornost - kmen_číselník'!$B:$B,"")) -> ústavní následná péče v LDN | D72: =IF(COUNTIF('T_relevantní_odb_agg_počty MD'!$A$1:$A$10,'T_relevantní odbornosti'!C72)=1,"ano","")
A73: 1H7 | B73: akutní LP kardiologie - typ H | C73: =IF(OR(B73="odbornost neidentifikovaná",B73="název odbornosti neidentifikován"),B73,_xlfn.XLOOKUP(B73,'[1]Odbornost - kmen_číselník'!$A:$A,'[1]Odbornost - kmen_číselník'!$B:$B,"")) -> kardiologie | D73: =IF(COUNTIF('T_relevantní_odb_agg_počty MD'!$A$1:$A$10,'T_relevantní odbornosti'!C73)=1,"ano","") -> ano
A74: 110 | B74: klinická osteologie | C74: =IF(OR(B74="odbornost neidentifikovaná",B74="název odbornosti neidentifikován"),B74,_xlfn.XLOOKUP(B74,'[1]Odbornost - kmen_číselník'!$A:$A,'[1]Odbornost - kmen_číselník'!$B:$B,"")) -> klinická osteologie | D74: =IF(COUNTIF('T_relevantní_odb_agg_počty MD'!$A$1:$A$10,'T_relevantní odbornosti'!C74)=1,"ano","")
A75: 7H1 | B75: pracoviště standardní ústavní LP ORL - H typu | C75: =IF(OR(B75="odbornost neidentifikovaná",B75="název odbornosti neidentifikován"),B75,_xlfn.XLOOKUP(B75,'[1]Odbornost - kmen_číselník'!$A:$A,'[1]Odbornost - kmen_číselník'!$B:$B,"")) -> ORL | D75: =IF(COUNTIF('T_relevantní_odb_agg_počty MD'!$A$1:$A$10,'T_relevantní odbornosti'!C75)=1,"ano","")
A76: 403 | B76: radiační onkologie | C76: =IF(OR(B76="odbornost neidentifikovaná",B76="název odbornosti neidentifikován"),B76,_xlfn.XLOOKUP(B76,'[1]Odbornost - kmen_číselník'!$A:$A,'[1]Odbornost - kmen_číselník'!$B:$B,"")) -> onkologie | D76: =IF(COUNTIF('T_relevantní_odb_agg_počty MD'!$A$1:$A$10,'T_relevantní odbornosti'!C76)=1,"ano","") -> ano
A77: 309 | B77: sexuologie | C77: =IF(OR(B77="odbornost neidentifikovaná",B77="název odbornosti neidentifikován"),B77,_xlfn.XLOOKUP(B77,'[1]Odbornost - kmen_číselník'!$A:$A,'[1]Odbornost - kmen_číselník'!$B:$B,"")) -> sexuologie | D77: =IF(COUNTIF('T_relevantní_odb_agg_počty MD'!$A$1:$A$10,'T_relevantní odbornosti'!C77)=1,"ano","")
A78: 1T1 | B78: intenzivní LP vnitřního lékařství - interny - typ T | C78: =IF(OR(B78="odbornost neidentifikovaná",B78="název odbornosti neidentifikován"),B78,_xlfn.XLOOKUP(B78,'[1]Odbornost - kmen_číselník'!$A:$A,'[1]Odbornost - kmen_číselník'!$B:$B,"")) -> vnitřní lékařství - interna | D78: =IF(COUNTIF('T_relevantní_odb_agg_počty MD'!$A$1:$A$10,'T_relevantní odbornosti'!C78)=1,"ano","") -> ano
A79: 881 | B79: ambulance klinické biochemie | C79: =IF(OR(B79="odbornost neidentifikovaná",B79="název odbornosti neidentifikován"),B79,_xlfn.XLOOKUP(B79,'[1]Odbornost - kmen_číselník'!$A:$A,'[1]Odbornost - kmen_číselník'!$B:$B,"")) -> klinická biochemie | D79: =IF(COUNTIF('T_relevantní_odb_agg_počty MD'!$A$1:$A$10,'T_relevantní odbornosti'!C79)=1,"ano","")
A80: 7F1 | B80: akutní LP otorinolaryngologie - typ F | C80: =IF(OR(B80="odbornost neidentifikovaná",B80="název odbornosti neidentifikován"),B80,_xlfn.XLOOKUP(B80,'[1]Odbornost - kmen_číselník'!$A:$A,'[1]Odbornost - kmen_číselník'!$B:$B,"")) -> ORL | D80: =IF(COUNTIF('T_relevantní_odb_agg_počty MD'!$A$1:$A$10,'T_relevantní odbornosti'!C80)=1,"ano","")
A81: 506 | B81: neurochirurgie | C81: =IF(OR(B81="odbornost neidentifikovaná",B81="název odbornosti neidentifikován"),B81,_xlfn.XLOOKUP(B81,'[1]Odbornost - kmen_číselník'!$A:$A,'[1]Odbornost - kmen_číselník'!$B:$B,"")) -> neurochirurgie | D81: =IF(COUNTIF('T_relevantní_odb_agg_počty MD'!$A$1:$A$10,'T_relevantní odbornosti'!C81)=1,"ano","")
A82: 407 | B82: nukleární medicína | C82: =IF(OR(B82="odbornost neidentifikovaná",B82="název odbornosti neidentifikován"),B82,_xlfn.XLOOKUP(B82,'[1]Odbornost - kmen_číselník'!$A:$A,'[1]Odbornost - kmen_číselník'!$B:$B,"")) -> nukleární medicína | D82: =IF(COUNTIF('T_relevantní_odb_agg_počty MD'!$A$1:$A$10,'T_relevantní odbornosti'!C82)=1,"ano","")
A83: 1T7 | B83: pracoviště resusc. a intenziv. ústavní LP kardiologie - T typu | C83: =IF(OR(B83="odbornost neidentifikovaná",B83="název odbornosti neidentifikován"),B83,_xlfn.XLOOKUP(B83,'[1]Odbornost - kmen_číselník'!$A:$A,'[1]Odbornost - kmen_číselník'!$B:$B,"")) -> kardiologie | D83: =IF(COUNTIF('T_relevantní_odb_agg_počty MD'!$A$1:$A$10,'T_relevantní odbornosti'!C83)=1,"ano","") -> ano
A84: 6I6 | B84: resuscitační a intenzivní LP ortopedie typu I | C84: =IF(OR(B84="odbornost neidentifikovaná",B84="název odbornosti neidentifikován"),B84,_xlfn.XLOOKUP(B84,'[1]Odbornost - kmen_číselník'!$A:$A,'[1]Odbornost - kmen_číselník'!$B:$B,"")) -> ortopedie | D84: =IF(COUNTIF('T_relevantní_odb_agg_počty MD'!$A$1:$A$10,'T_relevantní odbornosti'!C84)=1,"ano","")
A85: 106 | B85: geriatrie | C85: =IF(OR(B85="odbornost neidentifikovaná",B85="název odbornosti neidentifikován"),B85,_xlfn.XLOOKUP(B85,'[1]Odbornost - kmen_číselník'!$A:$A,'[1]Odbornost - kmen_číselník'!$B:$B,"")) -> geriatrie | D85: =IF(COUNTIF('T_relevantní_odb_agg_počty MD'!$A$1:$A$10,'T_relevantní odbornosti'!C85)=1,"ano","")
A86: 2T3 | B86: resuscitační a intenzivní LP infekční lékařství typu T | C86: =IF(OR(B86="odbornost neidentifikovaná",B86="název odbornosti neidentifikován"),B86,_xlfn.XLOOKUP(B86,'[1]Odbornost - kmen_číselník'!$A:$A,'[1]Odbornost - kmen_číselník'!$B:$B,"")) -> infekční lékařství | D86: ano
A87: 504 | B87: cévní chirurgie | C87: =IF(OR(B87="odbornost neidentifikovaná",B87="název odbornosti neidentifikován"),B87,_xlfn.XLOOKUP(B87,'[1]Odbornost - kmen_číselník'!$A:$A,'[1]Odbornost - kmen_číselník'!$B:$B,"")) -> cévní chirurgie | D87: =IF(COUNTIF('T_relevantní_odb_agg_počty MD'!$A$1:$A$10,'T_relevantní odbornosti'!C87)=1,"ano","")
A88: 2T2 | B88: resuscitační a intenzivní LP hematologie typu T | C88: =IF(OR(B88="odbornost neidentifikovaná",B88="název odbornosti neidentifikován"),B88,_xlfn.XLOOKUP(B88,'[1]Odbornost - kmen_číselník'!$A:$A,'[1]Odbornost - kmen_číselník'!$B:$B,"")) -> hematologie | D88: =IF(COUNTIF('T_relevantní_odb_agg_počty MD'!$A$1:$A$10,'T_relevantní odbornosti'!C88)=1,"ano","")
A89: 3I1 | B89: resuscitační a intenzivní LP dětské lékařství typu I | C89: =IF(OR(B89="odbornost neidentifikovaná",B89="název odbornosti neidentifikován"),B89,_xlfn.XLOOKUP(B89,'[1]Odbornost - kmen_číselník'!$A:$A,'[1]Odbornost - kmen_číselník'!$B:$B,"")) -> dětské lékařství | D89: =IF(COUNTIF('T_relevantní_odb_agg_počty MD'!$A$1:$A$10,'T_relevantní odbornosti'!C89)=1,"ano","")
A90: 1F5 | B90: LP gastroenterologie typu F | C90: =IF(OR(B90="odbornost neidentifikovaná",B90="název odbornosti neidentifikován"),B90,_xlfn.XLOOKUP(B90,'[1]Odbornost - kmen_číselník'!$A:$A,'[1]Odbornost - kmen_číselník'!$B:$B,"")) -> gastroenterologie | D90: =IF(COUNTIF('T_relevantní_odb_agg_počty MD'!$A$1:$A$10,'T_relevantní odbornosti'!C90)=1,"ano","")
A91: 2F9 | B91: akutní LP neurologie - typ F | C91: =IF(OR(B91="odbornost neidentifikovaná",B91="název odbornosti neidentifikován"),B91,_xlfn.XLOOKUP(B91,'[1]Odbornost - kmen_číselník'!$A:$A,'[1]Odbornost - kmen_číselník'!$B:$B,"")) -> neurologie | D91: =IF(COUNTIF('T_relevantní_odb_agg_počty MD'!$A$1:$A$10,'T_relevantní odbornosti'!C91)=1,"ano","") -> ano
A92: 3F1 | B92: LP dětské lékařství typu F | C92: =IF(OR(B92="odbornost neidentifikovaná",B92="název odbornosti neidentifikován"),B92,_xlfn.XLOOKUP(B92,'[1]Odbornost - kmen_číselník'!$A:$A,'[1]Odbornost - kmen_číselník'!$B:$B,"")) -> dětské lékařství | D92: =IF(COUNTIF('T_relevantní_odb_agg_počty MD'!$A$1:$A$10,'T_relevantní odbornosti'!C92)=1,"ano","")
A93: 6F5 | B93: LP orální a maxilofaciální chirurgie typu F | C93: =IF(OR(B93="odbornost neidentifikovaná",B93="název odbornosti neidentifikován"),B93,_xlfn.XLOOKUP(B93,'[1]Odbornost - kmen_číselník'!$A:$A,'[1]Odbornost - kmen_číselník'!$B:$B,"")) -> orální a maxilofaciální chirurgie | D93: =IF(COUNTIF('T_relevantní_odb_agg_počty MD'!$A$1:$A$10,'T_relevantní odbornosti'!C93)=1,"ano","")
A94: 5T5 | B94: resuscitační a intenzivní LP kardiochirurgie typu T | C94: =IF(OR(B94="odbornost neidentifikovaná",B94="název odbornosti neidentifikován"),B94,_xlfn.XLOOKUP(B94,'[1]Odbornost - kmen_číselník'!$A:$A,'[1]Odbornost - kmen_číselník'!$B:$B,"")) -> kardiochirurgie | D94: =IF(COUNTIF('T_relevantní_odb_agg_počty MD'!$A$1:$A$10,'T_relevantní odbornosti'!C94)=1,"ano","")
A95: 6J6 | B95: jednodenní péče ortopedie | C95: =IF(OR(B95="odbornost neidentifikovaná",B95="název odbornosti neidentifikován"),B95,_xlfn.XLOOKUP(B95,'[1]Odbornost - kmen_číselník'!$A:$A,'[1]Odbornost - kmen_číselník'!$B:$B,"")) -> ortopedie | D95: =IF(COUNTIF('T_relevantní_odb_agg_počty MD'!$A$1:$A$10,'T_relevantní odbornosti'!C95)=1,"ano","")
A96: 502 | B96: dětská chirurgie | C96: =IF(OR(B96="odbornost neidentifikovaná",B96="název odbornosti neidentifikován"),B96,_xlfn.XLOOKUP(B96,'[1]Odbornost - kmen_číselník'!$A:$A,'[1]Odbornost - kmen_číselník'!$B:$B,"")) -> chirurgie | D96: =IF(COUNTIF('T_relevantní_odb_agg_počty MD'!$A$1:$A$10,'T_relevantní odbornosti'!C96)=1,"ano","")
A97: 9H9 | B97: ošetřovatelská lůžková péče - typ H | C97: =IF(OR(B97="odbornost neidentifikovaná",B97="název odbornosti neidentifikován"),B97,_xlfn.XLOOKUP(B97,'[1]Odbornost - kmen_číselník'!$A:$A,'[1]Odbornost - kmen_číselník'!$B:$B,"")) -> ošetřovatelská LP | D97: =IF(COUNTIF('T_relevantní_odb_agg_počty MD'!$A$1:$A$10,'T_relevantní odbornosti'!C97)=1,"ano","")
A98: 1F6 | B98: pracoviště standardní ústav. LP geriatrické - F typu | C98: =IF(OR(B98="odbornost neidentifikovaná",B98="název odbornosti neidentifikován"),B98,_xlfn.XLOOKUP(B98,'[1]Odbornost - kmen_číselník'!$A:$A,'[1]Odbornost - kmen_číselník'!$B:$B,"")) -> geriatrie | D98: =IF(COUNTIF('T_relevantní_odb_agg_počty MD'!$A$1:$A$10,'T_relevantní odbornosti'!C98)=1,"ano","")
A99: 4F3 | B99: akutní LP radiační onkologie - typ F | C99: =IF(OR(B99="odbornost neidentifikovaná",B99="název odbornosti neidentifikován"),B99,_xlfn.XLOOKUP(B99,'[1]Odbornost - kmen_číselník'!$A:$A,'[1]Odbornost - kmen_číselník'!$B:$B,"")) -> onkologie | D99: =IF(COUNTIF('T_relevantní_odb_agg_počty MD'!$A$1:$A$10,'T_relevantní odbornosti'!C99)=1,"ano","") -> ano
A100: 5T3 | B100: pracoviště resuscitační a intezivní ústavní LP úrazové chirurgie - typ T | C100: =IF(OR(B100="odbornost neidentifikovaná",B100="název odbornosti neidentifikován"),B100,_xlfn.XLOOKUP(B100,'[1]Odbornost - kmen_číselník'!$A:$A,'[1]Odbornost - kmen_číselník'!$B:$B,"")) -> chirurgie | D100: =IF(COUNTIF('T_relevantní_odb_agg_počty MD'!$A$1:$A$10,'T_relevantní odbornosti'!C100)=1,"ano","")
A101: 2I9 | B101: resuscitační a intenzivní LP neurologie typu I | C101: =IF(OR(B101="odbornost neidentifikovaná",B101="název odbornosti neidentifikován"),B101,_xlfn.XLOOKUP(B101,'[1]Odbornost - kmen_číselník'!$A:$A,'[1]Odbornost - kmen_číselník'!$B:$B,"")) -> neurologie | D101: =IF(COUNTIF('T_relevantní_odb_agg_počty MD'!$A$1:$A$10,'T_relevantní odbornosti'!C101)=1,"ano","") -> ano
A102: 507 | B102: hrudní chirurgie | C102: =IF(OR(B102="odbornost neidentifikovaná",B102="název odbornosti neidentifikován"),B102,_xlfn.XLOOKUP(B102,'[1]Odbornost - kmen_číselník'!$A:$A,'[1]Odbornost - kmen_číselník'!$B:$B,"")) -> chirurgie | D102: =IF(COUNTIF('T_relevantní_odb_agg_počty MD'!$A$1:$A$10,'T_relevantní odbornosti'!C102)=1,"ano","")
...

Sheet T_relevantní_odb_agg_počty MD
A1: Odb_agg | B1: Počet lékařů (ČLK) | C1: Počet lékařů (VZP) - ambulantní | D1: Počet lékařů (VZP) - Lůžková | E1: Počet FTE (VZP) | F1: Počet lékařů (final)
A2: všeobecné praktické lékařství | B2: 5107 | C2: 5329 | D2: 0 | F2: =C2 -> 5329
A3: vnitřní lékařství - interna | B3: 7249 | C3: 2323 | D3: 4206 | F3: =C3 -> 2323 | G3: Předpokládáme pouze ambulantní péči - zde probíhá většina (cca 83 %) preskripce pacientům
A4: neurologie | B4: 1589 | C4: 1207 | D4: 1288 | F4: =B4 -> 1589
A5: diabetologie | B5: 939 | C5: 1172 | D5: 0 | F5: =AVERAGE(B5:C5) -> 1055.5
A6: kardiologie | B6: 1109 | C6: 1140 | D6: 788 | F6: =C6 -> 1140
A7: pneumologie a ftizeologie | B7: 616 | C7: 562 | D7: 0 | F7: =AVERAGE(B7:C7) -> 589
A8: urologie | B8: 627 | C8: 633 | D8: 582 | F8: =C8 -> 633
A9: revmatologie | B9: 254 | C9: 287 | D9: 34 | F9: =C9 -> 287
A10: onkologie | B10: 360 | C10: 400 | D10: 426 | F10: =C10 -> 400
A11: hematologie | B11: 440 | C11: 347 | D11: 232 | F11: =B11 -> 440
A12: nefrologie | B12: 343 | C12: 304 | D12: 0 | F12: =AVERAGE(B12:C12) -> 323.5
A13: infekční lékařství | F13: 135
