Workbook

Sheet Treated
A1: Eye number | B1: Pt number | C1: First Initial | D1: OD | E1: OS | F1: Age | G1: Male | H1: Female | I1: Phakic | J1: IOL | K1: AMD? | L1: Date first SDM | M1: Date entry | N1: Date last | O1: Days VPT = M thru O | P1: Days OCT FU = N thru O | Q1: Initial VA 20/Final VA 20/Initial IOP | T1: Final IOP | U1: No. topicals | V1: Oral med? | W1: Gl Surg? | X1: Retinal Thickness avg start | Y1: Avg Center thick start | Z1: Mac Volume start | AA1: NFL Avg Start | AB1: Avg Retinal Thick End | AC1: Center Thick End | AD1: Mac Volume End | AE1: Avg Ret Thick Trend | AF1: Ret Thick Trend + | AG1: Ret Thick Trend - | AH1: Avg NFL trend | AI1: NFL T + | AJ1: NFL T- | AK1: GCC Trend | AL1: GCC Trend + | AM1: GCC T - | AN1: GC Trend | AO1: GC Trend + | AP1: GC Trend - | AQ1: Comments
B2: 1 | C2: V | D2: 1 | F2: 81 | G2: 1 | J2: 1 | L2: 43381 | M2: 44179 | N2: 44922 | O2: =N2-L2 -> 1541 | P2: =N2-M2 -> 743 | Q2: 40 | R2: 40 | S2: 8 | T2: 9 | U2: 1 | X2: 263.3 | Y2: 261 | Z2: 7.45 | AA2: 90 | AB2: 263.6 | AC2: 215 | AD2: 7.45 | AE2: 2.26 | AF2: 1 | AH2: -0.46 | AJ2: 1 | AK2: -1 | AM2: 1 | AN2: -1.71
B3: 3 | C3: J | D3: 1 | F3: 75 | G3: 1 | J3: 1 | L3: 42677 | M3: 44176 | N3: 44894 | O3: =N3-L3 -> 2217 | P3: =N3-M3 -> 718 | Q3: 30 | R3: 30 | S3: 14 | T3: 11 | U3: 1 | X3: 230.6 | Y3: 172 | Z3: 6.52 | AA3: 46 | AB3: 229.3 | AC3: 172 | AD3: 6.48 | AE3: -2.21 | AG3: 1 | AH3: 0.2 | AI3: 1 | AK3: -1.05 | AM3: 1 | AN3: 0.03
B4: 4 | C4: B | D4: 1 | F4: 90 | H4: 1 | J4: 1 | K4: 1 | L4: 42066 | M4: 44207 | N4: 44915 | O4: =N4-L4 -> 2849 | P4: =N4-M4 -> 708 | Q4: 30 | R4: 50 | S4: 15 | T4: 11 | U4: 2 | X4: 242.1 | Y4: 220 | Z4: 6.85 | AA4: 61 | AB4: 239.9 | AC4: 198 | AD4: 6.78 | AE4: -1.14 | AG4: 1 | AH4: 0.38 | AI4: 1 | AK4: 0.38 | AL4: 1 | AN4: -0.23
B5: 5 | C5: G | E5: 1 | F5: 76 | H5: 1 | J5: 1 | K5: 1 | L5: 43404 | M5: 44537 | N5: 44929 | O5: =N5-L5 -> 1525 | P5: =N5-M5 -> 392 | Q5: 30 | R5: 40 | S5: 10 | T5: 10 | X5: 254 | Y5: 190 | Z5: 7.18 | AA5: 59 | AB5: 250,8 | AC5: 188 | AD5: 7.09 | AE5: -0.28 | AG5: 1 | AH5: -0.49 | AJ5: 1 | AK5: 0.29 | AL5: 1 | AN5: -0.62
B6: 6 | C6: T | D6: 1 | F6: 72 | H6: 1 | J6: 1 | K6: 1 | L6: 42129 | M6: 44418 | N6: 44936 | O6: =N6-L6 -> 2807 | P6: =N6-M6 -> 518 | Q6: 20 | R6: 25 | S6: 19 | T6: 8 | W6: 1 | X6: 263.1 | Y6: 198 | Z6: 7.44 | AA6: 82 | AB6: 258.8 | AC6: 186 | AD6: 7.32 | AE6: -1.25 | AG6: 1 | AH6: 0.62 | AI6: 1 | AK6: 1.01 | AL6: 1 | AN6: -1.15
E7: 1 | F7: 72 | H7: 1 | J7: 1 | K7: 1 | L7: 42076 | M7: 44428 | N7: 44936 | O7: =N7-L7 -> 2860 | P7: =N7-M7 -> 508 | Q7: 25 | R7: 30 | S7: 20 | T7: 8 | W7: 1 | X7: 272.9 | Y7: 196 | Z7: 7.72 | AA7: 83 | AB7: 268.5 | AC7: 178 | AD7: 7.59 | AE7: -1.22 | AG7: 1 | AH7: 0.42 | AI7: 1 | AK7: -0.55 | AM7: 1 | AN7: -4.12
B8: 7 | C8: J | E8: 1 | F8: 81 | G8: 1 | J8: 1 | K8: 1 | L8: 42146 | M8: 44159 | N8: 44950 | O8: =N8-L8 -> 2804 | P8: =N8-M8 -> 791 | Q8: 40 | R8: 20 | S8: 13 | T8: 13 | X8: 252.6 | Y8: 220 | Z8: 7.14 | AA8: 78 | AB8: 239.3 | AC8: 201 | AD8: 6.77 | AE8: 0.94 | AF8: 1 | AH8: 0.98 | AI8: 1 | AK8: 0.05 | AL8: 1 | AN8: -1.16 | AQ8: Developed CNV OS. Trends based on pre-conversion
B9: 8 | C9: S | D9: 1 | F9: 82 | H9: 1 | J9: 1 | K9: 1 | L9: 42083 | M9: 44208 | N9: 44916 | O9: =N9-L9 -> 2833 | P9: =N9-M9 -> 708 | Q9: 60 | R9: 60 | S9: 10 | T9: 17 | U9: 2 | W9: 1 | X9: 253.1 | Y9: 266 | Z9: 7.16 | AA9: 60 | AB9: 256.7 | AC9: 131 | AD9: 7.26 | AE9: 5.85 | AF9: 1 | AH9: 0.44 | AI9: 1 | AK9: 3.63 | AL9: 1 | AN9: 2.82
B10: 9 | C10: D | D10: 1 | F10: 95 | G10: 1 | J10: 1 | K10: 1 | L10: 42190 | M10: 44166 | N10: 44875 | O10: =N10-L10 -> 2685 | P10: =N10-M10 -> 709 | Q10: 25 | R10: 50 | S10: 18 | T10: 17 | U10: 1 | X10: 245.9 | Y10: 208 | Z10: 6.95 | AA10: 72 | AB10: 240.7 | AC10: 210 | AD10: 6.81 | AE10: -1.64 | AG10: 1 | AH10: 0.13 | AI10: 1 | AK10: -0.48 | AM10: 1 | AN10: -0.97
B11: 10 | C11: T | D11: 1 | F11: 84 | G11: 1 | J11: 1 | K11: 1 | L11: 42076 | M11: 44285 | N11: 44879 | O11: =N11-L11 -> 2803 | P11: =N11-M11 -> 594 | Q11: 30 | R11: 30 | S11: 10 | T11: 19 | X11: 277.5 | Y11: 244 | Z11: 7.85 | AA11: 94 | AB11: 274.6 | AC11: 241 | AD11: 7.76 | AE11: -3.46 | AG11: 1 | AH11: 0.8 | AI11: 1 | AK11: -0.09 | AM11: 1 | AN11: -1.71 | AQ11: Left eye deleted due to uncontrolled IOP and progressive VA loss, surgery
B12: 11 | E12: 1 | F12: 75 | G12: 1 | J12: 1 | L12: 44081 | M12: 44134 | N12: 44950 | O12: =N12-L12 -> 869 | P12: =N12-M12 -> 816 | Q12: 30 | R12: 25 | S12: 16 | T12: 16 | U12: 1 | X12: 260.1 | Y12: 202 | Z12: 7.35 | AA12: 92 | AB12: 264.3 | AC12: 208 | AD12: 7.47 | AE12: 2.13 | AF12: 1 | AH12: 0.26 | AI12: 1 | AK12: 0.75 | AL12: 1 | AN12: -0.29
B13: 13 | C13: L | E13: 1 | F13: 86 | H13: 1 | J13: 1 | L13: 42642 | M13: 44221 | N13: 44893 | O13: =N13-L13 -> 2251 | P13: =N13-M13 -> 672 | Q13: 50 | R13: 40 | S13: 19 | T13: 14 | X13: 249.5 | Y13: 196 | Z13: 7.05 | AA13: 75 | AB13: 247.9 | AC13: 202 | AD13: 7.01 | AE13: -1.5 | AG13: 1 | AH13: -0.07 | AJ13: 1 | AK13: -0.07 | AM13: 1 | AN13: -0.6 | AQ13: Kada OD deleted due to ERM / ME
B14: 14 | C14: M | D14: 1 | F14: 71 | H14: 1 | I14: 1 | L14: 42810 | M14: 44124 | N14: 44866 | O14: =N14-L14 -> 2056 | P14: =N14-M14 -> 742 | Q14: 25 | R14: 25 | S14: 18 | T14: 20 | W14: 1 | X14: 281.4 | Y14: 168 | Z14: 7.96 | AA14: 101 | AB14: 279.9 | AC14: 169 | AD14: 7.91 | AE14: -0.33 | AG14: 1 | AH14: -1.28 | AJ14: 1 | AK14: -0.87 | AM14: 1 | AN14: -0.8
E15: 1 | F15: 71 | H15: 1 | I15: 1 | L15: 42817 | M15: 44124 | N15: 44866 | O15: =N15-L15 -> 2049 | P15: =N15-M15 -> 742 | Q15: 25 | R15: 20 | S15: 16 | T15: 18 | X15: 290 | Y15: 180 | Z15: 8.2 | AA15: 107 | AB15: 295.3 | AC15: 187 | AD15: 8.35 | AE15: 0.52 | AF15: 1 | AH15: 0.4 | AI15: 1 | AK15: 0.39 | AL15: 1 | AN15: -1.82 | AQ15: OS estimates due to outlier point
B16: 15 | C16: A | E16: 1 | F16: 86 | H16: 1 | J16: 1 | K16: 1 | L16: 42161 | M16: 44185 | N16: 44950 | O16: =N16-L16 -> 2789 | P16: =N16-M16 -> 765 | Q16: 50 | R16: 60 | S16: 19 | T16: 15 | X16: 226.9 | Y16: 188 | Z16: 6.41 | AA16: 70 | AB16: 230.8 | AC16: 234 | AD16: 6.53 | AE16: -3.01 | AG16: 1 | AH16: 2.3 | AI16: 1 | AK16: 0.6 | AL16: 1 | AN16: -1.76 | AQ16: same
B17: 16 | C17: N | D17: 1 | F17: 76 | G17: 1 | J17: 1 | L17: 42156 | M17: 44229 | N17: 44914 | O17: =N17-L17 -> 2758 | P17: =N17-M17 -> 685 | Q17: 30 | R17: 20 | S17: 12 | T17: 14 | U17: 3 | W17: 1 | X17: 273.1 | Y17: 160 | Z17: 7.7 | AA17: 71 | AB17: 270.7 | AC17: 159 | AD17: 7.66 | AE17: 1.1 | AF17: 1 | AH17: -0.84 | AJ17: 1 | AK17: -0.75 | AM17: 1 | AN17: -0.35 | AQ17: Wolf R deleted - no glaucoma, + GA
E18: 1 | F18: 76 | G18: 1 | J18: 1 | L18: 42163 | M18: 44229 | N18: 44914 | O18: =N18-L18 -> 2751 | P18: =N18-M18 -> 685 | Q18: 30 | R18: 20 | S18: 14 | T18: 13 | U18: 3 | X18: 257.2 | Y18: 168 | Z18: 7.27 | AA18: 65 | AB18: 255.1 | AC18: 167 | AD18: 7.21 | AE18: 1.71 | AF18: 1 | AH18: 0.26 | AI18: 1 | AK18: 0.64 | AL18: 1 | AN18: 0.08
B19: 17 | C19: M | D19: 1 | F19: 75 | H19: 1 | I19: 1 | K19: 1 | L19: 43633 | M19: 44173 | N19: 44971 | O19: =N19-L19 -> 1338 | P19: =N19-M19 -> 798 | Q19: 25 | R19: 30 | S19: 18 | T19: 19 | X19: 287.9 | Y19: 223 | Z19: 8.14 | AA19: 108 | AB19: 282.3 | AC19: 238 | AD19: 7.98 | AE19: 2.02 | AF19: 1 | AH19: 0.7 | AI19: 1 | AK19: 1/ 1.28 | AL19: 1 | AN19: -0.72
E20: 1 | F20: 75 | H20: 1 | I20: 1 | K20: 1 | L20: 43640 | M20: 44173 | N20: 44971 | O20: =N20-L20 -> 1331 | P20: =N20-M20 -> 798 | Q20: 30 | R20: 30 | S20: 18 | T20: 16 | W20: 1 | X20: 283.7 | Y20: 227 | Z20: 8.02 | AA20: 105 | AB20: 280.8 | AC20: 228 | AD20: 7.94 | AE20: 0.48 | AF20: 1 | AH20: 0.34 | AI20: 1 | AK20: 0.46 | AL20: 1 | AN20: -1.22
B21: 18 | C21: A | D21: 1 | F21: 57 | H21: 1 | I21: 1 | K21: 1 | L21: 43286 | M21: 44158 | N21: 44931 | O21: =N21-L21 -> 1645 | P21: =N21-M21 -> 773 | Q21: 25 | R21: 30 | S21: 21 | T21: 20 | X21: 282.9 | Y21: 202 | Z21: 8 | AA21: 110 | AB21: 283.4 | AC21: 206 | AD21: 8.01 | AE21: -2.75 | AG21: 1 | AH21: 0.77 | AI21: 1 | AK21: 0.21 | AL21: 1 | AN21: -0.62
E22: 1 | F22: 57 | H22: 1 | I22: 1 | K22: 1 | L22: 43292 | M22: 44148 | N22: 44931 | O22: =N22-L22 -> 1639 | P22: =N22-M22 -> 783 | Q22: 25 | R22: 40 | S22: 23 | T22: 21 | X22: 291.8 | Y22: 228 | Z22: 8.25 | AA22: 113 | AB22: 290.5 | AC22: 234 | AD22: 8.21 | AE22: -1.75 | AG22: 1 | AH22: 0.67 | AI22: 1 | AK22: -0.94 | AM22: 1 | AN22: -1.15
B23: 19 | C23: B | D23: 1 | F23: 71 | G23: 1 | J23: 1 | L23: 43634 | M23: 44124 | N23: 44922 | O23: =N23-L23 -> 1288 | P23: =N23-M23 -> 798 | Q23: 50 | R23: 50 | S23: 21 | T23: 16 | X23: 271.2 | Y23: 203 | Z23: 7.67 | AA23: 57 | AB23: 265.6 | AC23: 203 | AD23: 7.51 | AE23: -3.31 | AG23: 1 | AH23: -0.71 | AJ23: 1 | AK23: -1.07 | AM23: 1 | AN23: -1.55
E24: 1 | F24: 71 | G24: 1 | J24: 1 | L24: 43634 | M24: 44124 | N24: 44922 | O24: =N24-L24 -> 1288 | P24: =N24-M24 -> 798 | Q24: 25 | R24: 20 | S24: 23 | T24: 15 | X24: 293.7 | Y24: 221 | Z24: 8.3 | AA24: 92 | AB24: 287.7 | AC24: 220 | AD24: 8.13 | AE24: -3.35 | AG24: 1 | AH24: -0.17 | AJ24: 1 | AK24: -1.78 | AM24: 1 | AN24: -1.45
B25: 20 | C25: L | D25: 1 | F25: 87 | H25: 1 | J25: 1 | K25: 1 | L25: 42903 | M25: 44158 | N25: 44973 | O25: =N25-L25 -> 2070 | P25: =N25-M25 -> 815 | Q25: 30 | R25: 25 | S25: 18 | T25: 13 | X25: 256.9 | Y25: 166 | Z25: 7.26 | AA25: 80 | AB25: 247.9 | AC25: 167 | AD25: 7.01 | AE25: -3.84 | AG25: 1 | AH25: 1 | AI25: 1 | AK25: -0.12 | AM25: 1 | AN25: 0.18 | AQ25: OD GCC est due to outlier
E26: 1 | F26: 87 | H26: 1 | J26: 1 | K26: 1 | L26: 43633 | M26: 44158 | N26: 44973 | O26: =N26-L26 -> 1340 | P26: =N26-M26 -> 815 | Q26: 30 | R26: 25 | S26: 14 | T26: 15 | X26: 252.9 | Y26: 175 | Z26: 7.15 | AA26: 96 | AB26: 245 | AC26: 169 | AD26: 6.93 | AE26: -2.99 | AG26: 1 | AH26: -1.44 | AJ26: 1 | AK26: -2.06 | AM26: 1 | AN26: -3.32
B27: 21 | C27: M | D27: 1 | F27: 84 | H27: 1 | J27: 1 | K27: 1 | L27: 44004 | M27: 44221 | N27: 44949 | O27: =N27-L27 -> 945 | P27: =N27-M27 -> 728 | Q27: 60 | R27: 25 | S27: 12 | T27: 14 | U27: 2 | W27: 1 | X27: 290.3 | Y27: 207 | Z27: 8.21 | AA27: 95 | AB27: 284 | AC27: 198 | AD27: 8.03 | AE27: -3.19 | AG27: 1 | AH27: 1.3 | AI27: 1 | AK27: -0.37 | AM27: 1 | AN27: -2.55
E28: 1 | F28: 84 | H28: 1 | J28: 1 | K28: 1 | L28: 44004 | M28: 44221 | N28: 44949 | O28: =N28-L28 -> 945 | P28: =N28-M28 -> 728 | Q28: 25 | R28: 25 | S28: 12 | T28: 13 | U28: 2 | AE28: -3.06 | AG28: 1 | AH28: -0.59 | AJ28: 1 | AK28: -1.48 | AM28: 1
B29: 22 | C29: F | D29: 1 | F29: 76 | G29: 1 | J29: 1 | L29: 44385 | M29: 44375 | N29: 44964 | O29: =N29-L29 -> 579 | P29: =N29-M29 -> 589 | Q29: 20 | R29: 25 | S29: 15 | T29: 15 | U29: 2 | X29: 252.6 | Y29: 191 | Z29: 7.14 | AA29: 82 | AB29: 247.4 | AC29: 174 | AD29: 7 | AE29: -4.48 | AG29: 1 | AH29: 0.86 | AI29: 1 | AK29: 1/0/1900 0.37 | AL29: 1
E30: 1 | F30: 76 | G30: 1 | J30: 1 | L30: 44427 | M30: 44375 | N30: 44964 | O30: =N30-L30 -> 537 | P30: =N30-M30 -> 589 | Q30: 25 | R30: 25 | S30: 23 | T30: 12 | U30: 2 | X30: 260.3 | Y30: 180 | Z30: 7.36 | AA30: 57 | AB30: 260 | AC30: 183 | AD30: 7.35 | AE30: -3.94 | AG30: 1 | AH30: 0.16 | AI30: 1 | AK30: -0.38 | AM30: 1
B31: 23 | C31: G | D31: 1 | F31: 88 | G31: 1 | J31: 1 | K31: 1 | L31: 44003 | M31: 44217 | N31: 44938 | O31: =N31-L31 -> 935 | P31: =N31-M31 -> 721 | Q31: 30 | R31: 60 | S31: 23 | T31: 15 | X31: 233.2 | Y31: 205 | Z31: 6.59 | AA31: 50 | AB31: 227.5 | AC31: 209 | AD31: 6.43 | AE31: -2.86 | AG31: 1 | AH31: -0.65 | AJ31: 1 | AK31: -0.9 | AM31: 1 | AN31: -1.59
E32: 1 | F32: 88 | G32: 1 | J32: 1 | K32: 1 | L32: 43997 | M32: 44217 | N32: 44938 | O32: =N32-L32 -> 941 | P32: =N32-M32 -> 721 | Q32: 30 | R32: 30 | S32: 21 | T32: 11 | X32: 236.4 | Y32: 186 | Z32: 6.68 | AA32: 59 | AB32: 230 | AC32: 221 | AD32: 6.5 | AE32: -4.36 | AG32: 1 | AH32: 0.7 | AI32: 1 | AK32: -0.58 | AM32: 1 | AN32: -0.48
B33: 24 | C33: R | E33: 1 | F33: 67 | H33: 1 | J33: 1 | K33: 1 | L33: 43983 | M33: 44229 | N33: 44957 | O33: =N33-L33 -> 974 | P33: =N33-M33 -> 728 | Q33: 25 | R33: 25 | S33: 22 | T33: 15 | U33: 1 | X33: 251.7 | Y33: 163 | Z33: 7.12 | AA33: 93 | AB33: 254.5 | AC33: 165 | AD33: 7.2 | AE33: 0.36 | AF33: 1 | AH33: -1.2 | AJ33: 1 | AK33: -0.19 | AM33: 1 | AN33: 2.06 | AQ33: Tribbitt OD deleted due to ERM / lamellar hole
B34: 25 | C34: S | D34: 1 | F34: 88 | H34: 1 | J34: 1 | K34: 1 | L34: 44047 | M34: 44154 | N34: 44959 | O34: =N34-L34 -> 912 | P34: =N34-M34 -> 805 | Q34: 25 | R34: 25 | S34: 13 | T34: 15 | U34: 1 | X34: 264.5 | Y34: 201 | Z34: 7.48 | AA34: 7.46 | AB34: 270.4 | AC34: 294 | AD34: 7.65 | AE34: -1.93 | AG34: 1 | AH34: 0.61 | AI34: 1 | AK34: 0.15 | AL34: 1 | AN34: -0.99 | AQ34: Harsha deleted too short FU and ERM / lamellar hole OS
B35: 27 | C35: J | D35: 1 | F35: 91 | H35: 1 | J35: 1 | K35: 1 | L35: 44074 | M35: 44145 | N35: 44729 | O35: =N35-L35 -> 655 | P35: =N35-M35 -> 584 | Q35: 20 | R35: 30 | S35: 19 | T35: 21 | W35: 1 | X35: 271 | Y35: 207 | Z35: 7.66 | AA35: 104 | AB35: 267.7 | AC35: 201 | AD35: 7.57 | AE35: -2.39 | AG35: 1 | AH35: 0.82 | AI35: 1 | AK35: -0.95 | AM35: 1 | AQ35: OS deleted due to CRVO / CME
B36: 29 | C36: T | D36: 1 | F36: 67 | H36: 1 | I36: 1 | K36: 1 | L36: 42209 | M36: 44224 | N36: 44903 | O36: =N36-L36 -> 2694 | P36: =N36-M36 -> 679 | Q36: 40 | R36: 30 | S36: 11 | T36: 13 | X36: 289.1 | Y36: 194 | Z36: 8.17 | AA36: 108 | AB36: 289.4 | AC36: 182 | AD36: 8.18 | AE36: -1.97 | AG36: 1 | AH36: 0.38 | AI36: 1 | AK36: -0.14 | AM36: 1
E37: 1 | F37: 67 | H37: 1 | I37: 1 | K37: 1 | L37: 42217 | M37: 44224 | N37: 44903 | O37: =N37-L37 -> 2686 | P37: =N37-M37 -> 679 | Q37: 20 | R37: 20 | S37: 11 | T37: 15 | X37: 288.5 | Y37: 238 | Z37: 8.16 | AA37: 104 | AB37: 289.9 | AC37: 258 | AD37: 8.2 | AE37: -0.09 | AG37: 1 | AH37: 0.9 | AI37: 1 | AK37: 0.79 | AL37: 1
B38: 30 | C38: L | E38: 1 | F38: 78 | H38: 1 | J38: 1 | K38: 1 | L38: 43862 | M38: 44148 | N38: 44929 | O38: =N38-L38 -> 1067 | P38: =N38-M38 -> 781 | Q38: 40 | R38: 40 | S38: 11 | T38: 19 | X38: 213.9 | Y38: 115 | Z38: 6.05 | AA38: 97 | AB38: 260 | AC38: 140 | AD38: 7.35 | AE38: -3.06 | AG38: 1 | AH38: -0.84 | AJ38: 1 | AK38: -1.6 | AM38: 1 | AQ38: OD deleted due to prior macular hole surgery. OS disregard first scan / bad
B39: 31 | C39: G | D39: 1 | F39: 82 | H39: 1 | I39: 1 | K39: 1 | L39: 44148 | M39: 44242 | N39: 44952 | O39: =N39-L39 -> 804 | P39: =N39-M39 -> 710 | Q39: 25 | R39: 25 | S39: 15 | T39: 9 | U39: 2 | X39: 290.5 | Y39: 206 | Z39: 8.21 | AA39: 102 | AB39: 287.4 | AC39: 198 | AD39: 8.13 | AE39: -3.16 | AG39: 1 | AH39: 1.18 | AI39: 1 | AK39: 0.23 | AL39: 1
E40: 1 | F40: 82 | H40: 1 | I40: 1 | K40: 1 | L40: 44148 | M40: 44242 | N40: 44952 | O40: =N40-L40 -> 804 | P40: =N40-M40 -> 710 | Q40: 25 | R40: 40 | S40: 14 | T40: 8 | U40: 2 | X40: 276.8 | Y40: 182 | Z40: 7.83 | AA40: 91 | AB40: 275.1 | AC40: 186 | AD40: 7.78 | AE40: -1.77 | AG40: 1 | AH40: 1.26 | AI40: 1 | AK40: 0.87 | AL40: 1
...

Sheet Untreated
A1: eye number | B1: Pt numbeR | C1: Last name | D1: First Initial | E1: Age | F1: Name | G1: Patent No. | H1: Age | I1: Male | J1: Female | K1: Phakic | L1: IOL | M1: GL Surg | N1: Prior GL surg? | O1: OD | P1: OS | Q1: Days FU | R1: Initial VA 20/ | S1: Final VA 20/ | T1: Initial IOP | U1: Final IOP | V1: No. topicals | W1: GL Surg No. | X1: NFL Avg Start | Y1: GCC Avg Start | Z1: Avg Retinal Thick Start | AA1: Avg Ret Thickness Last | AB1: Change Avg Ret Thickness | AC1: Avg Ret Thikcnkess Trend (um/yr) | AD1: NFL Trend um/Y = AC- AD/P x 365 | AE1: NFL Treand + | AF1: NFL Trend - | AG1: GCC Trend um/Y = AH - AI/P x 365 | AH1: GCC Trend + | AI1: GCC Trend -
A2: 2 | B2: 1 | C2: GUTIERREZ | D2: R | E2: 86 | F2: Guiterrez R | G2: 1 | H2: 87 | J2: 1 | L2: 1 | N2: OD SLTX4 | O2: 1 | Q2: 1022 | R2: 30 | S2: 30 | T2: 25 | U2: 20 | V2: 2 | W2: 4 | X2: 85 | Y2: 84 | AD2: -0.47 | AF2: 1 | AG2: -0.45 | AI2: 1
E3: 86 | H3: 87 | J3: 1 | L3: 1 | N3: OS SLTX4 | P3: 1 | Q3: 1022 | R3: 25 | S3: 25 | T3: 25 | U3: 20 | W3: 4 | X3: 77 | Y3: 81 | AD3: -0.96 | AF3: 1 | AG3: -0.52 | AI3: 1
A4: 2 | B4: 2 | C4: STEIGER | D4: R | E4: 81 | F4: Steiger R | G4: 2 | H4: 82 | I4: 1 | L4: 1 | N4: OD SLTX1 | O4: 1 | Q4: 730 | R4: 40 | S4: 25 | T4: 16 | U4: 11 | W4: 1 | X4: 88 | Y4: 81 | Z4: 276 | AD4: -0.51 | AF4: 1 | AG4: -0.29 | AI4: 1
E5: 81 | H5: 82 | I5: 1 | L5: 1 | N5: OS SLTX1 | P5: 1 | Q5: 730 | R5: 40 | S5: 30 | T5: 15 | U5: 12 | W5: 1 | X5: 82 | Y5: 78 | Z5: 275 | AD5: -0.49 | AF5: 1 | AG5: -0.39 | AI5: 1
A6: 2 | B6: 3 | C6: HEINZ | D6: D | E6: 58 | F6: Heinz D | G6: 3 | H6: 59 | J6: 1 | K6: 1 | N6: OD SLTX1 | O6: 1 | Q6: 702 | R6: 30 | S6: 25 | T6: 16 | U6: 18 | V6: 1 | W6: 1 | X6: 93 | Y6: 83 | AD6: -0.43 | AF6: 1 | AG6: -0.21 | AI6: 1
E7: 58 | H7: 59 | J7: 1 | K7: 1 | N7: OS SLTX1 | P7: 1 | Q7: 702 | R7: 30 | S7: 25 | T7: 20 | U7: 17 | W7: 1 | X7: 92 | Y7: 82 | AD7: -0.3 | AF7: 1 | AG7: -0.5 | AI7: 1
A8: 2 | B8: 4 | C8: ESTRADA | D8: M | E8: 66 | F8: Estrada M | G8: 4 | H8: 69 | J8: 1 | K8: 1 | N8: OD SLTX1 | O8: 1 | Q8: 1154 | R8: 40 | S8: 25 | T8: 19 | U8: 18 | V8: 2 | W8: 1 | X8: 117 | Y8: 98 | Z8: 213 | AD8: -0.76 | AF8: 1 | AG8: -0.63 | AI8: 1
E9: 66 | H9: 69 | J9: 1 | K9: 1 | N9: OS SLTX1 | P9: 1 | Q9: 1154 | R9: 20 | S9: 25 | T9: 20 | U9: 16 | W9: 1 | X9: 118 | Y9: 96 | Z9: 214 | AD9: -0.99 | AF9: 1 | AG9: -0.51 | AI9: 1
A10: 2 | B10: 5 | C10: HANCHEY | D10: D | E10: 50 | F10: Hanchey D | G10: 5 | H10: 51 | J10: 1 | K10: 1 | N10: OD SLTX1 | O10: 1 | Q10: 803 | R10: 20 | S10: 20 | T10: 22 | U10: 14 | V10: 1 | W10: 1 | X10: 98 | Y10: 89 | AD10: -1.09 | AF10: 1 | AG10: -0.42 | AI10: 1
E11: 50 | H11: 51 | J11: 1 | K11: 1 | N11: OS SLTX2 | P11: 1 | Q11: 803 | R11: 20 | S11: 20 | T11: 22 | U11: 14 | W11: 2 | X11: 92 | Y11: 89 | AD11: -0.56 | AF11: 1 | AG11: -0.51 | AI11: 1
A12: 2 | B12: 6 | C12: VISSER | D12: K | E12: 66 | F12: Visser K | G12: 6 | H12: 67 | J12: 1 | L12: 1 | N12: OD SLT X 1 | O12: 1 | Q12: 689 | R12: 20 | S12: 20 | T12: 21 | U12: 14 | V12: 2 | W12: 1 | X12: 96 | Y12: 94 | Z12: 254 | AD12: -0.2 | AF12: 1 | AG12: -0.06 | AI12: 1
E13: 66 | H13: 67 | J13: 1 | L13: 1 | M13: MIGS | N13: OS SLTX2 XENEX X1 | P13: 1 | Q13: 689 | R13: 20 | S13: 20 | T13: 21 | U13: 14 | W13: 3 | X13: 94 | Y13: 89 | Z13: 254 | AD13: -1.22 | AF13: 1 | AG13: -1.33 | AI13: 1
A14: 2 | B14: 7 | C14: BEHRENDT | D14: E | E14: 63 | F14: Behrendt E | G14: 7 | H14: 64 | I14: 1 | K14: 1 | N14: OD SLTX1 | O14: 1 | Q14: 1216 | R14: 20 | S14: 20 | T14: 19 | U14: 15 | V14: 2 | W14: 1 | X14: 99 | Y14: 95 | AD14: -0.18 | AF14: 1 | AG14: -0.5 | AI14: 1
E15: 63 | H15: 64 | J15: 1 | K15: 1 | N15: OS SLTX3 | P15: 1 | Q15: 1216 | R15: 20 | S15: 20 | T15: 20 | U15: 14 | W15: 3 | X15: 107 | Y15: 97 | AD15: -0.45 | AF15: 1 | AG15: -2.1 | AI15: 1
A16: 2 | B16: 8 | C16: TORRENCE | D16: S | E16: 72 | F16: Torrence S | G16: 8 | H16: 73 | J16: 1 | K16: 1 | M16: MIGS | N16: OD SLT X 2 ISTENTX1 | O16: 1 | Q16: 1278 | R16: 30 | S16: 30 | T16: 21 | U16: 16 | V16: 2 | W16: 3 | X16: 103 | Y16: 89 | AD16: -1.33 | AF16: 1 | AG16: -0.2 | AI16: 1
E17: 72 | H17: 73 | J17: 1 | K17: 1 | M17: MIGS | N17: OS SLT X 2 ISTENTX1 | P17: 1 | Q17: 1278 | R17: 40 | S17: 30 | T17: 22 | U17: 17 | W17: 3 | X17: 102 | Y17: 90 | AD17: -0.39 | AF17: 1 | AG17: -0.15 | AI17: 1
A18: 2 | B18: 9 | C18: HEINKEL | D18: S | E18: 71 | F18: Heinkel S | G18: 9 | H18: 72 | J18: 1 | K18: 1 | N18: OD SLTX3 | O18: 1 | Q18: 810 | R18: 25 | S18: 30 | T18: 24 | U18: 18 | W18: 3 | X18: 96 | Y18: 90 | AD18: -2.22 | AF18: 1 | AG18: -0.7 | AI18: 1
E19: 71 | H19: 72 | J19: 1 | L19: 1 | N19: OS SLTX3 | P19: 1 | Q19: 810 | R19: 25 | S19: 25 | T19: 25 | U19: 17 | W19: 3 | X19: 93 | Y19: 89 | AD19: -0.57 | AF19: 1 | AG19: -0.65 | AI19: 1
A20: 2 | B20: 10 | C20: BURRIER | D20: R | E20: 75 | F20: Burrier R | G20: 10 | H20: 76 | J20: 1 | L20: 1 | N20: OD SLTX1 | O20: 1 | Q20: 1260 | R20: 20 | S20: 25 | T20: 27 | U20: 20 | W20: 1 | X20: 98 | Y20: 92 | AD20: -0.01 | AF20: 1 | AG20: -0.21 | AI20: 1
E21: 75 | H21: 76 | J21: 1 | K21: 1 | N21: OS SLTX1 | P21: 1 | Q21: 1260 | R21: 20 | S21: 25 | T21: 25 | U21: 19 | W21: 1 | X21: 85 | Y21: 87 | AD21: 0.12 | AE21: 1 | AG21: 0.03 | AH21: 1
A22: 2 | B22: 11 | C22: CAMPBELL | D22: J | E22: 39 | F22: Campbell J | G22: 11 | H22: 40 | J22: 1 | L22: 1 | N22: OD SLTX1 | O22: 1 | Q22: 821 | R22: 30 | S22: 25 | T22: 23 | U22: 14 | V22: 2 | W22: 1 | X22: 85 | Y22: 88 | AD22: -0.05 | AF22: 1 | AG22: -0.62 | AI22: 1
E23: 39 | H23: 40 | J23: 1 | K23: 1 | N23: OS SLTX1 | P23: 1 | Q23: 821 | R23: 25 | S23: 25 | T23: 23 | U23: 15 | W23: 1 | X23: 82 | Y23: 85 | AD23: 0.19 | AE23: 1 | AG23: -0.15 | AI23: 1
A24: 2 | B24: 12 | C24: CAREY | D24: B | E24: 58 | F24: Carey B | G24: 12 | H24: 59 | J24: 1 | K24: 1 | N24: OD SLTX1 | O24: 1 | Q24: 548 | R24: 20 | S24: 20 | T24: 15 | U24: 14 | V24: 1 | W24: 2 | X24: 96 | Y24: 79 | AD24: -0.51 | AF24: 1 | AG24: -0.69 | AI24: 1
E25: 58 | H25: 59 | J25: 1 | K25: 1 | N25: OS SLTX1 | P25: 1 | Q25: 548 | R25: 25 | S25: 20 | T25: 15 | U25: 14 | W25: 2 | X25: 95 | Y25: 80 | AD25: -1 | AF25: 1 | AG25: -1.68 | AI25: 1
A26: 2 | B26: 14 | C26: WOLFE | D26: E | E26: 68 | F26: Wolfe E | G26: 13 | H26: 69 | J26: 1 | K26: 1 | N26: OD NONE | O26: 1 | Q26: 1098 | R26: 30 | S26: 25 | T26: 18 | U26: 19 | X26: 83 | Y26: 79 | Z26: 289 | AD26: -0.26 | AF26: 1 | AG26: -0.58 | AI26: 1
E27: 68 | H27: 69 | J27: 1 | K27: 1 | N27: OS | P27: 1 | Q27: 1098 | R27: 40 | S27: 30 | T27: 20 | U27: 20 | X27: 84 | Y27: 81 | Z27: 429 | AD27: -0.18 | AF27: 1 | AG27: -0.1 | AI27: 1
A28: 2 | B28: 15 | C28: TENNESSEN | D28: V | E28: 74 | F28: Tennesen V | G28: 14 | H28: 75 | J28: 1 | L28: 1 | M28: MIGS | N28: OD SLTX 4 DURYSTA X 1 | O28: 1 | Q28: 721 | R28: 30 | S28: 30 | T28: 21 | U28: 16 | V28: 2 | W28: 5 | X28: 82 | Y28: 83 | Z28: 270 | AD28: -0.34 | AF28: 1 | AG28: -0.41 | AI28: 1
E29: 74 | H29: 75 | J29: 1 | L29: 1 | M29: MIGS | N29: OS SLTX 4 XENEX X 1 | P29: 1 | Q29: 721 | R29: 40 | S29: 30 | T29: 22 | U29: 17 | W29: 5 | X29: 79 | Y29: 75 | Z29: 277 | AD29: -0.39 | AF29: 1 | AG29: -0.15 | AI29: 1
A30: 2 | B30: 18 | C30: MYERS | D30: D | E30: 78 | F30: Myers D | G30: 15 | H30: 79 | J30: 1 | L30: 1 | M30: Trab | N30: ODTRAB SLTX4 | O30: 1 | Q30: 1215 | R30: 60 | S30: 25 | T30: 13 | U30: 10 | W30: 9 | X30: 82 | Y30: 86 | Z30: 251 | AD30: -1.24 | AF30: 1 | AG30: -1.03 | AI30: 1
E31: 78 | H31: 79 | J31: 1 | L31: 1 | N31: OSSLTX$ | P31: 1 | Q31: 1215 | R31: 20 | S31: 25 | T31: 18 | U31: 14 | X31: 85 | Y31: 85 | Z31: 250 | AD31: -0.26 | AF31: 1 | AG31: -0.32 | AI31: 1
A32: 2 | B32: 19 | C32: MAGDELANO | D32: J | E32: 64 | F32: Magdeleno J | G32: 16 | H32: 65 | I32: 1 | K32: 1 | N32: NONE | O32: 1 | Q32: 425 | R32: 20 | S32: 20 | T32: 10 | U32: 10 | X32: 81 | Y32: 81 | Z32: 246 | AD32: -0.83 | AF32: 1 | AG32: -0.13 | AI32: 1
E33: 64 | H33: 65 | I33: 1 | K33: 1 | P33: 1 | Q33: 425 | R33: 25 | S33: 20 | T33: 11 | U33: 11 | X33: 95 | Y33: 85 | Z33: 244 | AD33: -0.98 | AF33: 1 | AG33: -0.26 | AI33: 1
A34: 2 | B34: 20 | C34: RUIZ | D34: A | E34: 71 | F34: Ruiz A | G34: 17 | H34: 72 | J34: 1 | L34: 1 | N34: OD NONE | O34: 1 | Q34: 700 | R34: 30 | S34: 25 | T34: 17 | U34: 16 | W34: 1 | X34: 81 | Y34: 90 | Z34: 286 | AD34: -0.87 | AF34: 1 | AG34: -2.17 | AI34: 1
E35: 71 | H35: 72 | J35: 1 | L35: 1 | M35: MIGS | N35: OS HYDRUS | P35: 1 | Q35: 700 | R35: 30 | S35: 20 | T35: 17 | U35: 17 | X35: 71 | Y35: 90 | Z35: 271 | AD35: -0.64 | AF35: 1 | AG35: -0.61 | AI35: 1
A36: 2 | B36: 23 | C36: WATERMAN | D36: J | E36: 79 | F36: Waterman J | G36: 18 | H36: 80 | J36: 1 | L36: 1 | N36: ODSLTX1 | O36: 1 | Q36: 730 | R36: 25 | S36: 25 | T36: 16 | U36: 20 | W36: 1 | X36: 103 | Y36: 100 | AD36: -0.57 | AF36: 1 | AG36: -0.21 | AI36: 1
E37: 79 | H37: 80 | J37: 1 | K37: 1 | N37: OS NONE | P37: 1 | Q37: 730 | R37: 20 | S37: 20 | T37: 16 | U37: 19 | X37: 99 | Y37: 100 | AD37: -0.73 | AF37: 1 | AG37: -0.17 | AI37: 1
A38: 2 | B38: 24 | C38: ELLIOTT | D38: P | E38: 73 | F38: Elliot P | G38: 19 | H38: 74 | J38: 1 | L38: 1 | M38: MiGS | N38: ODHYDRUS | O38: 1 | Q38: 1095 | R38: 30 | S38: 25 | T38: 26 | U38: 21 | X38: 91 | Y38: 87 | Z38: 243 | AD38: -0.99 | AF38: 1 | AG38: -0.5 | AI38: 1
E39: 73 | H39: 74 | J39: 1 | L39: 1 | M39: MIGS | N39: OSHYDRUS | P39: 1 | Q39: 1095 | R39: 30 | S39: 25 | T39: 26 | U39: 21 | X39: 92 | Y39: 89 | Z39: 248 | AD39: -0.04 | AF39: 1 | AG39: -1.13 | AI39: 1
A40: 2 | B40: 25 | C40: DAILY | D40: N | E40: 87 | F40: Daily N | G40: 20 | H40: 88 | J40: 1 | L40: 1 | M40: Trab | N40: OD TRAB | O40: 1 | Q40: 430 | R40: 50 | S40: 400 | T40: 18 | U40: 12 | V40: 2 | W40: 2 | X40: 76 | Y40: 70 | Z40: 238 | AD40: 0.34 | AE40: 1 | AG40: 0.32 | AH40: 1
...

Sheet Quick Stats
C2: Average | D2: Median
B3: Days FU in Untreated | C3: =AVERAGE(Untreated!Q2:Q79) -> 809.48718 | D3: =MEDIAN(Untreated!Q2:Q79) -> 730.5
B4: Days OCT in Treated | C4: =AVERAGE(Treated!P2:P62) -> 656.40984 | D4: =MEDIAN(Treated!P2:P62) -> 708
C9: Avg Treated | D9: Median Treated | E9: Avg Untreated | F9: Median Untreated
B10: Age | C10: =AVERAGE(Treated!F2:F62) -> 77.95082 | D10: =MEDIAN(Treated!F2:F62) -> 76 | E10: =AVERAGE(Untreated!H2:H79) -> 72.782051 | F10: =MEDIAN(Untreated!H2:H79) -> 73
B11: Proportion MALE | C11: =COUNT(Treated!G2:G62)/COUNT(Treated!H2:H62) -> 0.60526316 | D11: n/a | E11: =COUNT(Untreated!I2:I79)/COUNT(Untreated!J2:J79) -> 0.52941176 | F11: n/a
B12: Initial VA | C12: =AVERAGE(Treated!Q$2:Q$62) -> 32.540984 | D12: =MEDIAN(Treated!Q$2:Q$62) -> 30 | E12: =AVERAGE(Untreated!R2:R79) -> 37.179487 | F12: =MEDIAN(Untreated!R2:R79) -> 30
B13: Final VA | C13: =AVERAGE(Treated!R$2:R$62) -> 41.393443 | D13: =MEDIAN(Treated!R$2:R$62) -> 25 | E13: =AVERAGE(Untreated!S2:S79) -> 43.717949 | F13: =MEDIAN(Untreated!S2:S79) -> 25
B14: Initial IOP | C14: =AVERAGE(Treated!S$2:S$62) -> 16.114754 | D14: =MEDIAN(Treated!S$2:S$62) -> 16 | E14: =AVERAGE(Untreated!T2:T79) -> 18.589744 | F14: =MEDIAN(Untreated!T2:T79) -> 18
B15: Final IOP | C15: =AVERAGE(Treated!T$2:T$62) -> 15.147541 | D15: =MEDIAN(Treated!T$2:T$62) -> 15 | E15: =AVERAGE(Untreated!U2:U79) -> 14.846154 | F15: =MEDIAN(Untreated!U2:U79) -> 15
B16: NFL Trend | C16: =AVERAGE(Treated!AH$2:AH$62) -> 0.34655738 | D16: =MEDIAN(Treated!AH$2:AH$62) -> 0.42 | E16: =AVERAGE(Untreated!AD2:AD79) -> -0.69217949 | F16: =MEDIAN(Untreated!AD2:AD79) -> -0.57
B17: GCC Trend | C17: =AVERAGE(Treated!AK$2:AK$62) -> -0.18084746 | D17: =MEDIAN(Treated!AK$2:AK$62) -> -0.34 | E17: =AVERAGE(Untreated!AG2:AG79) -> -0.55397436 | F17: =MEDIAN(Untreated!AG2:AG79) -> -0.43
C22: Avg Treated | D22: Avg Untreated
B23: NFL Trend OD | C23: =AVERAGEIF(Treated!$D$2:$D$62,1, Treated!$AH$2:$AH$62) -> 0.371 | D23: =AVERAGEIF(Untreated!$P$2:$P$79, 1, Untreated!$AD$2:$AD$79) -> -0.61179487
B24: NFL Trend OS | C24: =AVERAGEIF(Treated!$E$2:$E$62,1, Treated!$AH$2:$AH$62) -> 0.32290323 | D24: =AVERAGEIF(Untreated!$O$2:$O$79, 1, Untreated!$AD$2:$AD$79) -> -0.7725641
B25: GCC Trend OD | C25: =AVERAGEIF(Treated!$D$2:$D$62,1, Treated!$AK$2:$AK$62) -> -0.24107143 | D25: =AVERAGEIF(Untreated!$P$2:$P$79, 1, Untreated!$AG$2:$AG$79) -> -0.52102564
B26: GCC Trend OS | C26: =AVERAGEIF(Treated!$E$2:$E$62,1, Treated!$AK$2:$AK$62) -> -0.12645161 | D26: =AVERAGEIF(Untreated!$O$2:$O$79, 1, Untreated!$AG$2:$AG$79) -> -0.58692308
