Workbook

Sheet Content
A1: Supplementary Information I
A2: Content
A3: S2.1. | B3: Optimization table
A4: S2.2.1 | B4: Impact on land-use
A5: S2.2.2. | B5: Impact on ecosystem services
A6: S2.2.3. | B6: Impact on building materials
A7: S2.3.1. | B7: Classification of LULC
A8: S2.3.2. | B8: Biophysical table for urban stormwater retention model
A9: S2.3.3. | B9: Biophysical table for urban cooling model
A10: S2.3.4. | B10: Assumptions for green infrastructure availability
A11: S2.4.1. | B11: Building footprints
A12: S2.4.2. | B12: Material intensities - conventional
A13: S2.4.3. | B13: Material intensities - Biobased
A14: S2.4.4 | B14: Material intensiteis - Circular
... A21: S2.4.11 | B21: Primary material demand

Sheet S2.1. Optimization_table
A1: Sustainability indicator | B1: Details | C1: Construction material | F1: Urban planning
C2: Conventional | D2: Biobased | E2: Circular | F2: Dense + Green | G2: Sparse + Green | H2: Dense + Grey | I2: Sparse + Grey | K2: Impact
A3: Primary material demand | B3: buildings constructed between 2018 and 2050 - difference from reference strategy: Conventional + Dense | C3: ='S2.2.3. material_data'!G4 -> 1 | D3: ='S2.2.3. material_data'!H4 -> 0.46548373 | E3: ='S2.2.3. material_data'!I4 -> 0.48311462 | F3: ='S2.2.3. material_data'!J4 -> 1 | G3: ='S2.2.3. material_data'!K4 -> 1.3293623 | H3: ='S2.2.3. material_data'!J4 -> 1 | I3: ='S2.2.3. material_data'!K4 -> 1.3293623 | L3: ++ | M3: >5%
A4: Embodied GHG emissions | C4: ='S2.2.3. material_data'!G6 -> 1 | D4: ='S2.2.3. material_data'!H6 -> 0.60352166 | E4: ='S2.2.3. material_data'!I6 -> 0.62463686 | F4: ='S2.2.3. material_data'!J6 -> 1 | G4: ='S2.2.3. material_data'!K6 -> 1.1196576 | H4: ='S2.2.3. material_data'!J6 -> 1 | I4: ='S2.2.3. material_data'!K6 -> 1.1196576 | L4: + | M4: 0-5%
A5: Embodied land-use | C5: ='S2.2.3. material_data'!G8 -> 1 | D5: ='S2.2.3. material_data'!H8 -> 3.4516976 | E5: ='S2.2.3. material_data'!I8 -> 1.3969245 | F5: ='S2.2.3. material_data'!J8 -> 1 | G5: ='S2.2.3. material_data'!K8 -> 1.4100182 | H5: ='S2.2.3. material_data'!J8 -> 1 | I5: ='S2.2.3. material_data'!K8 -> 1.4100182 | L5: - | M5: 0-5%
A6: Total green infrastructure | B6: difference between 2018 and 2050 | F6: ='S2.2.1. LULC_change'!$L$5 -> 1.0291216 | G6: ='S2.2.1. LULC_change'!$N$5 -> 1.0519814 | H6: ='S2.2.1. LULC_change'!$M$5 -> 0.98001715 | I6: ='S2.2.1. LULC_change'!$O$5 -> 0.9927812 | L6: -- | M6: > 5%
A7: Total agricultural area | F7: ='S2.2.1. LULC_change'!$L$7 -> 0.99225502 | G7: ='S2.2.1. LULC_change'!$N$7 -> 0.97023304 | H7: ='S2.2.1. LULC_change'!$M$7 -> 0.99225502 | I7: ='S2.2.1. LULC_change'!$O$7 -> 0.97023304 | L7: Reference
A8: Green infrastructure availability | B8: difference between 2018 and 2050 (new buildings) | F8: ='S2.2.2. ES_results'!H20 -> 1.3769755 | G8: ='S2.2.2. ES_results'!J20 -> 1.5711689 | H8: ='S2.2.2. ES_results'!I20 -> 0.8132713 | I8: ='S2.2.2. ES_results'!K20 -> 0.57977272 | L8: Not applicable
B9: difference between 2018 and 2050 (all buildings) | F9: ='S2.2.2. ES_results'!H21 -> 1.0832401 | G9: ='S2.2.2. ES_results'!J21 -> 1.0950724 | H9: ='S2.2.2. ES_results'!I21 -> 0.92765163 | I9: ='S2.2.2. ES_results'!K21 -> 0.94888239
A10: Air temperature | B10: difference between 2018 and 2050 (new buildings) | F10: ='S2.2.2. ES_results'!H5 -> 1.0053277 | G10: ='S2.2.2. ES_results'!J5 -> 0.99552657 | H10: ='S2.2.2. ES_results'!I5 -> 1.015713 | I10: ='S2.2.2. ES_results'!K5 -> 1.013322
B11: difference between 2018 and 2050 (all buildings) | F11: ='S2.2.2. ES_results'!H6 -> 0.99923172 | G11: ='S2.2.2. ES_results'!J6 -> 0.99951776 | H11: ='S2.2.2. ES_results'!I6 -> 1.0031699 | I11: ='S2.2.2. ES_results'!K6 -> 1.0033744
A12: Stormwater retention | B12: difference between 2018 and 2050 (new buildings) | F12: ='S2.2.2. ES_results'!H10 -> 1.2268981 | G12: ='S2.2.2. ES_results'!J10 -> 1.1891555 | H12: ='S2.2.2. ES_results'!I10 -> 0.53992109 | I12: ='S2.2.2. ES_results'!K10 -> 0.51526027
B13: difference between 2018 and 2050 (all buildings) | F13: ='S2.2.2. ES_results'!H11 -> 1.0209205 | G13: ='S2.2.2. ES_results'!J11 -> 1.0188262 | H13: ='S2.2.2. ES_results'!I11 -> 0.95845745 | I13: ='S2.2.2. ES_results'!K11 -> 0.95113365
A20: Other classification:
A21: Sustainability indicator | B21: Details | C21: Construction material | F21: Urban planning
C22: Conventional | D22: Biobased | E22: Circular | F22: Dense + Green | G22: Sparse + Green | H22: Dense + Grey | I22: Sparse + Grey | K22: Impact
A23: Primary material demand* | B23: buildings constructed between 2018 and 2050 | C23: 1 | D23: 0.46548373 | E23: 0.48311462 | F23: 1 | G23: 1.3293623 | H23: 1 | I23: 1.3293623 | L23: ++ | M23: >10%
A24: Embodied GHG emissions* | B24: buildings constructed between 2018 and 2050 | C24: 1 | D24: 0.60352166 | E24: 0.62463686 | F24: 1 | G24: 1.1196576 | H24: 1 | I24: 1.1196576 | L24: + | M24: 0-10%
A25: Embodied land-use* | B25: buildings constructed between 2018 and 2050 | C25: 1 | D25: 3.6161164 | E25: 1.3254377 | F25: 1 | G25: 1.4188975 | H25: 1 | I25: 1.4188975 | L25: - | M25: 0-10%
A26: Total green infrastructure** | B26: Change between 2018 and 2050 | F26: 1.0291216 | G26: 1.0519814 | H26: 0.98001715 | I26: 0.9927812 | L26: -- | M26: >10%
A27: Total agricultural area** | B27: Change between 2018 and 2050 | F27: 0.99225502 | G27: 0.97023304 | H27: 0.99225502 | I27: 0.97023304 | L27: Reference
A28: Green infrastructure availability** | B28: difference between 2018 and 2050 (new buildings) | F28: 1.3769755 | G28: 1.5711689 | H28: 0.8132713 | I28: 0.57977272 | L28: Not applicable
B29: difference between 2018 and 2050 (all buildings) | F29: 1.0832401 | G29: 1.0950724 | H29: 0.92765163 | I29: 0.94888239
A30: Air temperature** | B30: difference between 2018 and 2050 (new buildings) | F30: 1.0053277 | G30: 0.99552657 | H30: 1.015713 | I30: 1.013322
B31: difference between 2018 and 2050 (all buildings) | F31: 0.99923172 | G31: 0.99951776 | H31: 1.0031699 | I31: 1.0033744
A32: Stormwater retention** | B32: difference between 2018 and 2050 (new buildings) | F32: 1.2268981 | G32: 1.1891555 | H32: 0.53992109 | I32: 0.51526027
B33: difference between 2018 and 2050 (all buildings) | F33: 1.0209205 | G33: 1.0188262 | H33: 0.95845745 | I33: 0.95113365
A34: * The values listed under the "Construction material" header indicate the relative change when compared to conventional construction materials, while those under the "Urban planning" header show the relative change in relation to dense building construction.
A36: ** Values show the mean increase (>100%) or decrease (<100%) for the specified sustainability indicator between 2018 and 2050

Sheet S2.2.1. LULC_change
A1: # | B1: LULC | C1: Classification rules | D1: square meters (m2)
D2: 2018 | E2: Dense | G2: Sparse | L2: Dense | N2: Sparse
E3: Groen | F3: Grijs | G3: Groen | H3: Grijs | K3: 2018 | L3: Green | M3: Grey | N3: Green | O3: Grey
A4: 1 | B4: building | D4: 12816251 | E4: 12763800 | F4: 12973244 | G4: 13107597 | H4: 13377739 | K4: =D6+D7+D9+D10+SUM(D12:D17)+SUM(D21:D24) -> 97931391 | L4: =E6+E7+E9+E10+SUM(E12:E17)+SUM(E21:E24) -> 100783306 | M4: =F6+F7+F9+F10+SUM(F12:F17)+SUM(F21:F24) -> 95974443 | N4: =G6+G7+G9+G10+SUM(G12:G17)+SUM(G21:G24) -> 103022006 | O4: =H6+H7+H9+H10+SUM(H12:H17)+SUM(H21:H24) -> 97224444
A5: 2 | B5: open | C5: grass+shrub+trees <= 50% | D5: 2803670 | E5: 2797953 | F5: 2797953 | G5: 2799238 | H5: 2799238 | L5: =L4/K4 -> 1.0291216 | M5: =M4/K4 -> 0.98001715 | N5: =N4/K4 -> 1.0519814 | O5: =O4/K4 -> 0.9927812
A6: 3 | B6: open_high_veg | C6: trees+shrubs+grass > 50% & trees > (grass + shrubs) | D6: 81675 | E6: 81235 | F6: 81235 | G6: 81530 | H6: 81530 | K6: =D11 -> 179143896 | L6: =E11 -> 177756430 | M6: =F11 -> 177756430 | N6: =G11 -> 173811326 | O6: =H11 -> 173811326
A7: 4 | B7: open_low_veg | C7: trees+shrubs + grass > 50% & trees <= (shrubs + grass) | D7: 1374169 | E7: 1370376 | F7: 1370376 | G7: 1370632 | H7: 1370632 | L7: =L6/K6 -> 0.99225502 | M7: =M6/K6 -> 0.99225502 | N7: =N6/K6 -> 0.97023304 | O7: =O6/K6 -> 0.97023304
A8: 5 | B8: sealed | C8: grass+shrub+trees <= 50% | D8: 12019774 | E8: 11673550 | F8: 15905921 | G8: 12264342 | H8: 17271784
A9: 6 | B9: sealed_high_veg | C9: trees+shrubs+grass > 50% & trees > (grass + shrubs) | D9: 2015001 | E9: 2272413 | F9: 1949382 | G9: 2431216 | H9: 2015445
A10: =A9+1 -> 7 | B10: sealed_low_veg | C10: trees+shrubs + grass > 50% & trees <= (shrubs + grass) | D10: 2900961 | E10: 2853302 | F10: 2818645 | G10: 2959054 | H10: 2945503 | L10: Grey infrastructure | M10: Green infrastructure | N10: Agricultural land | O10: Other
A11: =A10+1 -> 8 | B11: agriculture | D11: 179143896 | E11: 177756430 | F11: 177756430 | G11: 173811326 | H11: 173811326 | J11: Dense | K11: 2018 | L11: 124943700 | M11: 261457900 | N11: 138746600 | O11: 100002300
A12: =A11+1 -> 9 | B12: forest_closed | C12: trees > 50 | D12: 24722159 | E12: 28031009 | F12: 24682187 | G12: 28788256 | H12: 24668394 | K12: Green 2050 | L12: 85053500 | M12: 535361300 | N12: 0 | O12: 4545700
A13: =A12+1 -> 10 | B13: forest_open | C13: trees <= 50 | D13: 8875616 | E13: 8873404 | F13: 8820262 | G13: 8775655 | H13: 8753918 | K13: Grey 2050 | L13: 529097800 | M13: 34775900 | N13: 0 | O13: 61086800
A14: =A13+1 -> 11 | B14: shrubs_closed | C14: shrubs > 50 | D14: 603558 | E14: 595811 | F14: 595811 | G14: 600772 | H14: 600772 | J14: Sparse | K14: 2018 | L14: 26801500 | M14: 102794100 | N14: 533257000 | O14: 64024800
A15: =A14+1 -> 12 | B15: shrubs_open | C15: shrubs <= 50 | D15: 45295 | E15: 43990 | F15: 43990 | G15: 44961 | H15: 44961 | K15: Green 2050 | L15: 80392900 | M15: 644638300 | N15: 0 | O15: 1846200
A16: =A15+1 -> 13 | B16: grass_closed | C16: grass > 50 | D16: 13532669 | E16: 13374845 | F16: 13374845 | G16: 13404685 | H16: 13404685 | K16: Grey 2050 | L16: 608151300 | M16: 42455300 | N16: 0 | O16: 76270800
A17: =A16+1 -> 14 | B17: grass_open | C17: grass <= 50 | D17: 6816866 | E17: 6874185 | F17: 6716168 | G17: 6956219 | H17: 6752556
A18: =A17+1 -> 15 | B18: mix_sparse | C18: grass+trees+shrubs<10 | D18: 10802458 | E18: 10296131 | F18: 10861725 | G18: 10495712 | H18: 11239958 | K18: m2 | L18: Increase Dense | M18: =M12-M11 -> 273903400
A19: =A18+1 -> 16 | B19: mix_high_veg_open | C19: grass+trees+shrubs>10 & grass+trees+shrub <= 50 & trees > (grass + shrubs) | D19: 606353 | E19: 582532 | F19: 577852 | G19: 606729 | H19: 601101 | K19: m2 | L19: Increase Sparse | M19: =M15-M14 -> 541844200
A20: =A19+1 -> 17 | B20: mix_low_veg_open | C20: grass+trees+shrubs>10 & grass+trees+shrub <= 50 & trees <= (grass + shrubs) | D20: 8672240 | E20: 8584843 | F20: 8390977 | G20: 8999691 | H20: 8781051 | K20: ha | L20: Increase Dense | M20: =M18/10000 -> 27390.34
A21: =A20+1 -> 18 | B21: mix_high_veg_closed | C21: grass+trees+shrubs>50 & grass+trees+shrub <= 70 & trees > (grass + shrubs) | D21: 565947 | E21: 536305 | F21: 536305 | G21: 562213 | H21: 562213 | K21: ha | L21: Increase Sparse | M21: =M19/10000 -> 54184.42
A22: =A21+1 -> 19 | B22: mix_low_veg_closed | C22: grass+trees+shrubs>50 & grass+trees+shrub <= 70 & trees <= (grass + shrubs) | D22: 4917373 | E22: 4983474 | F22: 4700442 | G22: 5280447 | H22: 4931398
A23: =A22+1 -> 20 | B23: mix_high_veg_dense | C23: grass+trees+shrubs > 70 & trees > (grass + shrubs) | D23: 8197145 | E23: 7912323 | F23: 7883301 | G23: 8161528 | H23: 8140683
A24: =A23+1 -> 21 | B24: mix_low_veg_dense | C24: grass+trees+shrubs > 70 & trees <= (grass + shrubs) | D24: 23282957 | E24: 22980634 | F24: 22401494 | G24: 23604838 | H24: 22951754
A25: =A24+1 -> 22 | B25: water | D25: 89522078 | E25: 88996836 | F25: 88996836 | G25: 89128740 | H25: 89128740

Sheet S2.2.2. ES_results
H1: Deviation from 2018
A2: Air temperature (Mean oC) | C2: Dense | E2: Sparse | H2: Dense | J2: Sparse
C3: Green | D3: Grey | E3: Green | F3: Grey | H3: Green | I3: Grey | J3: Green | K3: Grey
B4: 2018 | C4: 27.073319 | D4: 27.073319 | E4: 27.073319 | F4: 27.073319
B5: Newly constructed 2050 | C5: 27.217557 | D5: 27.498722 | E5: 26.952208 | F5: 27.433989 | H5: =C5/C4 -> 1.0053277 | I5: =D5/D4 -> 1.015713 | J5: =E5/E4 -> 0.99552657 | K5: =F5/F4 -> 1.013322
B6: Total 2050 | C6: 27.052519 | D6: 27.159139 | E6: 27.060263 | F6: 27.164676 | H6: =C6/C4 -> 0.99923172 | I6: =D6/D4 -> 1.0031699 | J6: =E6/E4 -> 0.99951776 | K6: =F6/F4 -> 1.0033744
A7: Stormwater retention ratio (%) | C7: Dense | E7: Sparse
C8: Green | D8: Grey | E8: Green | F8: Grey
B9: =B4 -> 2018 | C9: 0.5317779 | D9: 0.5317779 | E9: 0.5317779 | F9: 0.5317779
B10: New 2050 | C10: 0.65243729 | D10: 0.28711811 | E10: 0.6323666 | F10: 0.27400403 | H10: =C10/C9 -> 1.2268981 | I10: =D10/D9 -> 0.53992109 | J10: =E10/E9 -> 1.1891555 | K10: =F10/F9 -> 0.51526027
B11: Total 2050 | C11: 0.54290295 | D11: 0.50968649 | E11: 0.54178926 | F11: 0.50579186 | H11: =C11/C9 -> 1.0209205 | I11: =D11/D9 -> 0.95845745 | J11: =E11/E9 -> 1.0188262 | K11: =F11/F9 -> 0.95113365
A12: Green infrastructure per capita (m2) | C12: Dense | E12: Sparse
C13: Green | D13: Grey | E13: Green | F13: Grey
B14: 2018 | C14: 33.550272 | D14: 33.550272 | E14: 33.550272 | F14: 33.550272
B15: New 2050 | C15: 2.4061245 | D15: 1.6632311 | E15: 5.4436673 | F15: 3.435354 | H15: =C15/C14 -> 0.071716989 | I15: =D15/D14 -> 0.049574294 | J15: =E15/E14 -> 0.16225404 | K15: =F15/F14 -> 0.10239422
B16: Total 2050 | C16: 22.205984 | D16: 21.96397 | E16: 21.810446 | F16: 21.311306 | H16: =C16/C14 -> 0.66187196 | I16: =D16/D14 -> 0.65465848 | J16: =E16/E14 -> 0.65008253 | K16: =F16/F14 -> 0.63520516
A17: Green infrastructure within 1 km2 area (km2/km2) | C17: Dense | E17: Sparse
C18: Green | D18: Grey | E18: Green | F18: Grey
B19: 2018 | C19: 0.30317796 | D19: 0.30317796 | E19: 0.30317796 | F19: 0.30317796
B20: New 2050 | C20: 0.41746861 | D20: 0.24656593 | E20: 0.47634378 | F20: 0.17577431 | H20: =C20/C19 -> 1.3769755 | I20: =D20/D19 -> 0.8132713 | J20: =E20/E19 -> 1.5711689 | K20: =F20/F19 -> 0.57977272
B21: Total 2050 | C21: 0.32841451 | D21: 0.28124353 | E21: 0.3320018 | F21: 0.28768022 | H21: =C21/C19 -> 1.0832401 | I21: =D21/D19 -> 0.92765163 | J21: =E21/E19 -> 1.0950724 | K21: =F21/F19 -> 0.94888239

Sheet S2.2.3. material_data
A1: Building material | B1: Urbanization | C1: Primary material inflow | D1: GWP | E1: Land use | G1: Combined with Dense | J1: Combined with Conventional | M1: Mean of Dense and Sparse | P1: Mean of Conventional, Biobased & Circular
C2: Megaton | D2: Megaton CO2 eq. | E2: km2 | G2: Conventional | H2: Biobased | I2: Circular | J2: Dense | K2: Sparse | M2: Conventional | N2: Biobased | O2: Circular | P2: Dense | Q2: Sparse
A3: Conventional | B3: Dense | C3: 347.52972 | D3: 112.88049 | E3: ='S2.4.11. Primary_material'!L50 -> 4322.0382 | F3: =C1 -> Primary material inflow | G3: =C3 -> 347.52972 | H3: =C5 -> 161.76943 | I3: =C7 -> 167.89669 | J3: =C3 -> 347.52972 | K3: =C4 -> 461.99291 | M3: =AVERAGE(C3:C4) -> 404.76132 | N3: =AVERAGE(C5:C6) -> 202.2588 | O3: =AVERAGE(C7:C8) -> 224.77335 | P3: =AVERAGE(C3,C5,C7) -> 225.73195 | Q3: =AVERAGE(C4,C6,C8) -> 328.79703
B4: Sparse | C4: 461.99291 | D4: 126.3875 | E4: ='S2.4.11. Primary_material'!L51 -> 6094.1527 | G4: =G3/G3 -> 1 | H4: =H3/G3 -> 0.46548373 | I4: =I3/G3 -> 0.48311462 | J4: =J3/J3 -> 1 | K4: =K3/J3 -> 1.3293623 | M4: =M3/M3 -> 1 | N4: =N3/$M3 -> 0.49969895 | O4: =O3/$M3 -> 0.55532319 | P4: =P3/$M3 -> 0.5576915 | Q4: =Q3/$M3 -> 0.81232325
A5: Biobased | B5: Dense | C5: 161.76943 | D5: 68.125822 | E5: ='S2.4.11. Primary_material'!L52 -> 14918.369 | F5: =D1 -> GWP | G5: =D3 -> 112.88049 | H5: =D5 -> 68.125822 | I5: =D7 -> 70.509317 | J5: =D3 -> 112.88049 | K5: =D4 -> 126.3875 | M5: =AVERAGE(D3:D4) -> 119.634 | N5: =AVERAGE(D5:D6) -> 73.881531 | O5: =AVERAGE(D7:D8) -> 75.730292 | P5: =AVERAGE(D3,D5,D7) -> 83.838544 | Q5: =AVERAGE(D4,D6,D8) -> 95.658669
B6: Sparse | C6: 242.74818 | D6: 79.63724 | E6: ='S2.4.11. Primary_material'!L53 -> 16373.948 | G6: =G5/G5 -> 1 | H6: =H5/G5 -> 0.60352166 | I6: =I5/G5 -> 0.62463686 | J6: =J5/J5 -> 1 | K6: =K5/J5 -> 1.1196576 | M6: =M5/M5 -> 1 | N6: =N5/$M5 -> 0.61756301 | O6: =O5/$M5 -> 0.63301649 | P6: =P5/$M5 -> 0.70079197 | Q6: =Q5/$M5 -> 0.79959436
A7: Circular | B7: Dense | C7: 167.89669 | D7: 70.509317 | E7: ='S2.4.11. Primary_material'!L54 -> 6037.5609 | F7: =E1 -> Land use | G7: =E3 -> 4322.0382 | H7: =E5 -> 14918.369 | I7: =E7 -> 6037.5609 | J7: =E3 -> 4322.0382 | K7: =E4 -> 6094.1527 | M7: =AVERAGE(E3:E4) -> 5208.0955 | N7: =AVERAGE(E5:E6) -> 15646.158 | O7: =AVERAGE(E7:E8) -> 6621.2019 | P7: =AVERAGE(E3,E5,E7) -> 8425.9894 | Q7: =AVERAGE(E4,E6,E8) -> 9890.981
B8: Sparse | C8: 281.65 | D8: 80.951268 | E8: ='S2.4.11. Primary_material'!L55 -> 7204.8428 | G8: =G7/G7 -> 1 | H8: =H7/G7 -> 3.4516976 | I8: =I7/G7 -> 1.3969245 | J8: =J7/J7 -> 1 | K8: =K7/J7 -> 1.4100182 | M8: =M7/M7 -> 1 | N8: =N7/$M7 -> 3.0041996 | O8: =O7/$M7 -> 1.2713288 | P8: =P7/$M7 -> 1.6178639 | Q8: =Q7/$M7 -> 1.8991551
N12: Building material | O12: Urbanization | P12: Stock 2050
P13: Megaton | Q13: inflow/stock
N14: Conventional | O14: Dense | P14: 2954.6923 | Q14: =C3/P14 -> 0.1176196
O15: Sparse | P15: 3142.1804 | Q15: =C4/P15 -> 0.1470294
N16: Biobased | O16: Dense | P16: 2707.4768 | Q16: =C5/P16 -> 0.059749147
O17: Sparse | P17: 2914.8146 | Q17: =C6/P17 -> 0.083280828
N18: Circular | O18: Dense | P18: 2733.5114 | Q18: =C7/P18 -> 0.061421618
O19: Sparse | P19: 2953.501 | Q19: =C8/P19 -> 0.095361403

Sheet S2.3.1. LULC_class
A1: Class | B1: Class name | C1: Assumptions
A2: 1 | B2: building
A3: 2 | B3: open | C3: grass+shrub+trees <= 50%
A4: 3 | B4: open_high_veg | C4: trees+shrubs+grass > 50% & trees > (grass + shrubs)
A5: 4 | B5: open_low_veg | C5: trees+shrubs + grass > 50% & trees <= (shrubs + grass)
A6: 5 | B6: sealed | C6: grass+shrub+trees <= 50%
A7: 6 | B7: sealed_high_veg | C7: trees+shrubs+grass > 50% & trees > (grass + shrubs)
A8: 7 | B8: sealed_low_veg | C8: trees+shrubs + grass > 50% & trees <= (shrubs + grass)
A9: 8 | B9: agriculture
A10: 9 | B10: forest_closed | C10: trees > 50
A11: 10 | B11: forest_open | C11: trees <= 50
A12: 11 | B12: shrubs_closed | C12: shrubs > 50
A13: 12 | B13: shrubs_open | C13: shrubs <= 50
A14: 13 | B14: grass_closed | C14: grass > 50
A15: 14 | B15: grass_open | C15: grass <= 50
A16: 15 | B16: mix_sparse | C16: grass+trees+shrubs<10
A17: 16 | B17: mix_high_veg_open | C17: grass+trees+shrubs>10 & grass+trees+shrub <= 50 & trees > (grass + shrubs)
A18: 17 | B18: mix_low_veg_open | C18: grass+trees+shrubs>10 & grass+trees+shrub <= 50 & trees <= (grass + shrubs)
A19: 18 | B19: mix_high_veg_closed | C19: grass+trees+shrubs>50 & grass+trees+shrub <= 70 & trees > (grass + shrubs)
A20: 19 | B20: mix_low_veg_closed | C20: grass+trees+shrubs>50 & grass+trees+shrub <= 70 & trees <= (grass + shrubs)
A21: 20 | B21: mix_high_veg_dense | C21: grass+trees+shrubs > 70 & trees > (grass + shrubs)
A22: 21 | B22: mix_low_veg_dense | C22: grass+trees+shrubs > 70 & trees <= (grass + shrubs)
A23: 22 | B23: water

Sheet S2.3.2. biophys_stormwater
C1: Curve number | H1: S | O1: RC
A2: Class | B2: Class name | C2: A | D2: B | E2: C | F2: D | G2: Source | H2: A | I2: B | J2: C | K2: D | M2: Rainfall (inches) | N2: Source | O2: A | P2: B | Q2: C | R2: D
A3: 1 | B3: building | C3: 98 | D3: 98 | E3: 98 | F3: 98 | G3: USDA, 1986 | H3: =(1000/C3)-10 -> 0.20408163 | I3: =(1000/D3)-10 -> 0.20408163 | J3: =(1000/E3)-10 -> 0.20408163 | K3: =(1000/F3)-10 -> 0.20408163 | M3: =100*0.0393700787 -> 3.9370079 | N3: KNMI, n.d. | O3: =(($M3-0.2*H3)^2/($M3+0.8*H3))/$M3 -> 0.94037597 | P3: =(($M3-0.2*I3)^2/($M3+0.8*I3))/$M3 -> 0.94037597 | Q3: =(($M3-0.2*J3)^2/($M3+0.8*J3))/$M3 -> 0.94037597 | R3: =(($M3-0.2*K3)^2/($M3+0.8*K3))/$M3 -> 0.94037597
A4: 2 | B4: open | C4: 68 | D4: 79 | E4: 86 | F4: 89 | H4: =(1000/C4)-10 -> 4.7058824 | I4: =(1000/D4)-10 -> 2.6582278 | J4: =(1000/E4)-10 -> 1.627907 | K4: =(1000/F4)-10 -> 1.2359551 | M4: =100*0.0393700787 -> 3.9370079 | O4: =(($M4-0.2*H4)^2/($M4+0.8*H4))/$M4 -> 0.29599275 | P4: =(($M4-0.2*I4)^2/($M4+0.8*I4))/$M4 -> 0.48576982 | Q4: =(($M4-0.2*J4)^2/($M4+0.8*J4))/$M4 -> 0.63228843 | R4: =(($M4-0.2*K4)^2/($M4+0.8*K4))/$M4 -> 0.70205161
A5: 3 | B5: open_high_veg | C5: 43 | D5: 65 | E5: 76 | F5: 82 | H5: =(1000/C5)-10 -> 13.255814 | I5: =(1000/D5)-10 -> 5.3846154 | J5: =(1000/E5)-10 -> 3.1578947 | K5: =(1000/F5)-10 -> 2.195122 | M5: =100*0.0393700787 -> 3.9370079 | O5: =(($M5-0.2*H5)^2/($M5+0.8*H5))/$M5 -> 0.028879991 | P5: =(($M5-0.2*I5)^2/($M5+0.8*I5))/$M5 -> 0.25200936 | Q5: =(($M5-0.2*J5)^2/($M5+0.8*J5))/$M5 -> 0.42937174 | R5: =(($M5-0.2*K5)^2/($M5+0.8*K5))/$M5 -> 0.54590868
A6: 4 | B6: open_low_veg | C6: 49 | D6: 69 | E6: 79 | F6: 84 | H6: =(1000/C6)-10 -> 10.408163 | I6: =(1000/D6)-10 -> 4.4927536 | J6: =(1000/E6)-10 -> 2.6582278 | K6: =(1000/F6)-10 -> 1.9047619 | M6: =100*0.0393700787 -> 3.9370079 | O6: =(($M6-0.2*H6)^2/($M6+0.8*H6))/$M6 -> 0.071298669 | P6: =(($M6-0.2*I6)^2/($M6+0.8*I6))/$M6 -> 0.31136884 | Q6: =(($M6-0.2*J6)^2/($M6+0.8*J6))/$M6 -> 0.48576982 | R6: =(($M6-0.2*K6)^2/($M6+0.8*K6))/$M6 -> 0.58818388
A7: 5 | B7: sealed | C7: =(98+68)/2 -> 83 | D7: =(98+79)/2 -> 88.5 | E7: =(98+86)/2 -> 92 | F7: =(89+98)/2 -> 93.5 | H7: =(1000/C7)-10 -> 2.0481928 | I7: =(1000/D7)-10 -> 1.299435 | J7: =(1000/E7)-10 -> 0.86956522 | K7: =(1000/F7)-10 -> 0.69518717 | M7: =100*0.0393700787 -> 3.9370079 | O7: =(($M7-0.2*H7)^2/($M7+0.8*H7))/$M7 -> 0.5668223 | P7: =(($M7-0.2*I7)^2/($M7+0.8*I7))/$M7 -> 0.69011369 | Q7: =(($M7-0.2*J7)^2/($M7+0.8*J7))/$M7 -> 0.77641445 | R7: =(($M7-0.2*K7)^2/($M7+0.8*K7))/$M7 -> 0.81542726
A8: 6 | B8: sealed_high_veg | C8: =(C7+C11)/2 -> 57.5 | D8: =(D7+D11)/2 -> 73.25 | E8: =(E7+E11)/2 -> 82 | F8: =(F7+F11)/2 -> 86.25 | H8: =(1000/C8)-10 -> 7.3913043 | I8: =(1000/D8)-10 -> 3.6518771 | J8: =(1000/E8)-10 -> 2.195122 | K8: =(1000/F8)-10 -> 1.5942029 | M8: =100*0.0393700787 -> 3.9370079 | O8: =(($M8-0.2*H8)^2/($M8+0.8*H8))/$M8 -> 0.15589167 | P8: =(($M8-0.2*I8)^2/($M8+0.8*I8))/$M8 -> 0.38080473 | Q8: =(($M8-0.2*J8)^2/($M8+0.8*J8))/$M8 -> 0.54590868 | R8: =(($M8-0.2*K8)^2/($M8+0.8*K8))/$M8 -> 0.637934
A9: 7 | B9: sealed_low_veg | C9: =(C7+C15)/2 -> 61 | D9: =(D7+D15)/2 -> 74.75 | E9: =(E7+E15)/2 -> 83 | F9: =(F7+F15)/2 -> 86.75 | H9: =(1000/C9)-10 -> 6.3934426 | I9: =(1000/D9)-10 -> 3.3779264 | J9: =(1000/E9)-10 -> 2.0481928 | K9: =(1000/F9)-10 -> 1.5273775 | M9: =100*0.0393700787 -> 3.9370079 | O9: =(($M9-0.2*H9)^2/($M9+0.8*H9))/$M9 -> 0.19829643 | P9: =(($M9-0.2*I9)^2/($M9+0.8*I9))/$M9 -> 0.40693249 | Q9: =(($M9-0.2*J9)^2/($M9+0.8*J9))/$M9 -> 0.5668223 | R9: =(($M9-0.2*K9)^2/($M9+0.8*K9))/$M9 -> 0.64931527
A10: 8 | B10: agriculture | C10: 39 | D10: 61 | E10: 74 | F10: 80 | H10: =(1000/C10)-10 -> 15.641026 | I10: =(1000/D10)-10 -> 6.3934426 | J10: =(1000/E10)-10 -> 3.5135135 | K10: =(1000/F10)-10 -> 2.5 | M10: =100*0.0393700787 -> 3.9370079 | O10: =(($M10-0.2*H10)^2/($M10+0.8*H10))/$M10 -> 0.010100842 | P10: =(($M10-0.2*I10)^2/($M10+0.8*I10))/$M10 -> 0.19829643 | Q10: =(($M10-0.2*J10)^2/($M10+0.8*J10))/$M10 -> 0.39376064 | R10: =(($M10-0.2*K10)^2/($M10+0.8*K10))/$M10 -> 0.50539058
A11: 9 | B11: forest_closed | C11: 32 | D11: 58 | E11: 72 | F11: 79 | H11: =(1000/C11)-10 -> 21.25 | I11: =(1000/D11)-10 -> 7.2413793 | J11: =(1000/E11)-10 -> 3.8888889 | K11: =(1000/F11)-10 -> 2.6582278 | M11: =100*0.0393700787 -> 3.9370079 | O11: =(($M11-0.2*H11)^2/($M11+0.8*H11))/$M11 -> 0.0011884637 | P11: =(($M11-0.2*I11)^2/($M11+0.8*I11))/$M11 -> 0.16168591 | Q11: =(($M11-0.2*J11)^2/($M11+0.8*J11))/$M11 -> 0.35968556 | R11: =(($M11-0.2*K11)^2/($M11+0.8*K11))/$M11 -> 0.48576982
A12: 10 | B12: forest_open | C12: 43 | D12: 65 | E12: 76 | F12: 82 | H12: =(1000/C12)-10 -> 13.255814 | I12: =(1000/D12)-10 -> 5.3846154 | J12: =(1000/E12)-10 -> 3.1578947 | K12: =(1000/F12)-10 -> 2.195122 | M12: =100*0.0393700787 -> 3.9370079 | O12: =(($M12-0.2*H12)^2/($M12+0.8*H12))/$M12 -> 0.028879991 | P12: =(($M12-0.2*I12)^2/($M12+0.8*I12))/$M12 -> 0.25200936 | Q12: =(($M12-0.2*J12)^2/($M12+0.8*J12))/$M12 -> 0.42937174 | R12: =(($M12-0.2*K12)^2/($M12+0.8*K12))/$M12 -> 0.54590868
A13: 11 | B13: shrubs_closed | C13: 30 | D13: 48 | E13: 65 | F13: 73 | H13: =(1000/C13)-10 -> 23.333333 | I13: =(1000/D13)-10 -> 10.833333 | J13: =(1000/E13)-10 -> 5.3846154 | K13: =(1000/F13)-10 -> 3.6986301 | M13: =100*0.0393700787 -> 3.9370079 | O13: =(($M13-0.2*H13)^2/($M13+0.8*H13))/$M13 -> 0.0059826599 | P13: =(($M13-0.2*I13)^2/($M13+0.8*I13))/$M13 -> 0.063161217 | Q13: =(($M13-0.2*J13)^2/($M13+0.8*J13))/$M13 -> 0.25200936 | R13: =(($M13-0.2*K13)^2/($M13+0.8*K13))/$M13 -> 0.3765337
A14: 12 | B14: shrubs_open | C14: 35 | D14: 56 | E14: 70 | F14: 77 | H14: =(1000/C14)-10 -> 18.571429 | I14: =(1000/D14)-10 -> 7.8571429 | J14: =(1000/E14)-10 -> 4.2857143 | K14: =(1000/F14)-10 -> 2.987013 | M14: =100*0.0393700787 -> 3.9370079 | O14: =(($M14-0.2*H14)^2/($M14+0.8*H14))/$M14 -> 0.00067040594 | P14: =(($M14-0.2*I14)^2/($M14+0.8*I14))/$M14 -> 0.13904078 | Q14: =(($M14-0.2*J14)^2/($M14+0.8*J14))/$M14 -> 0.32710725 | R14: =(($M14-0.2*K14)^2/($M14+0.8*K14))/$M14 -> 0.44776729
A15: 13 | B15: grass_closed | C15: 39 | D15: 61 | E15: 74 | F15: 80 | H15: =(1000/C15)-10 -> 15.641026 | I15: =(1000/D15)-10 -> 6.3934426 | J15: =(1000/E15)-10 -> 3.5135135 | K15: =(1000/F15)-10 -> 2.5 | M15: =100*0.0393700787 -> 3.9370079 | O15: =(($M15-0.2*H15)^2/($M15+0.8*H15))/$M15 -> 0.010100842 | P15: =(($M15-0.2*I15)^2/($M15+0.8*I15))/$M15 -> 0.19829643 | Q15: =(($M15-0.2*J15)^2/($M15+0.8*J15))/$M15 -> 0.39376064 | R15: =(($M15-0.2*K15)^2/($M15+0.8*K15))/$M15 -> 0.50539058
A16: 14 | B16: grass_open | C16: 49 | D16: 69 | E16: 79 | F16: 84 | H16: =(1000/C16)-10 -> 10.408163 | I16: =(1000/D16)-10 -> 4.4927536 | J16: =(1000/E16)-10 -> 2.6582278 | K16: =(1000/F16)-10 -> 1.9047619 | M16: =100*0.0393700787 -> 3.9370079 | O16: =(($M16-0.2*H16)^2/($M16+0.8*H16))/$M16 -> 0.071298669 | P16: =(($M16-0.2*I16)^2/($M16+0.8*I16))/$M16 -> 0.31136884 | Q16: =(($M16-0.2*J16)^2/($M16+0.8*J16))/$M16 -> 0.48576982 | R16: =(($M16-0.2*K16)^2/($M16+0.8*K16))/$M16 -> 0.58818388
A17: 15 | B17: mix_sparse | C17: 68 | D17: 79 | E17: 86 | F17: 89 | H17: =(1000/C17)-10 -> 4.7058824 | I17: =(1000/D17)-10 -> 2.6582278 | J17: =(1000/E17)-10 -> 1.627907 | K17: =(1000/F17)-10 -> 1.2359551 | M17: =100*0.0393700787 -> 3.9370079 | O17: =(($M17-0.2*H17)^2/($M17+0.8*H17))/$M17 -> 0.29599275 | P17: =(($M17-0.2*I17)^2/($M17+0.8*I17))/$M17 -> 0.48576982 | Q17: =(($M17-0.2*J17)^2/($M17+0.8*J17))/$M17 -> 0.63228843 | R17: =(($M17-0.2*K17)^2/($M17+0.8*K17))/$M17 -> 0.70205161
A18: 16 | B18: mix_high_veg_open | C18: 57 | D18: 73 | E18: 82 | F18: 86 | H18: =(1000/C18)-10 -> 7.5438596 | I18: =(1000/D18)-10 -> 3.6986301 | J18: =(1000/E18)-10 -> 2.195122 | K18: =(1000/F18)-10 -> 1.627907 | M18: =100*0.0393700787 -> 3.9370079 | O18: =(($M18-0.2*H18)^2/($M18+0.8*H18))/$M18 -> 0.15018586 | P18: =(($M18-0.2*I18)^2/($M18+0.8*I18))/$M18 -> 0.3765337 | Q18: =(($M18-0.2*J18)^2/($M18+0.8*J18))/$M18 -> 0.54590868 | R18: =(($M18-0.2*K18)^2/($M18+0.8*K18))/$M18 -> 0.63228843
A19: 17 | B19: mix_low_veg_open | C19: 48 | D19: 67 | E19: 77 | F19: 81 | H19: =(1000/C19)-10 -> 10.833333 | I19: =(1000/D19)-10 -> 4.9253731 | J19: =(1000/E19)-10 -> 2.987013 | K19: =(1000/F19)-10 -> 2.345679 | M19: =100*0.0393700787 -> 3.9370079 | O19: =(($M19-0.2*H19)^2/($M19+0.8*H19))/$M19 -> 0.063161217 | P19: =(($M19-0.2*I19)^2/($M19+0.8*I19))/$M19 -> 0.28097588 | Q19: =(($M19-0.2*J19)^2/($M19+0.8*J19))/$M19 -> 0.44776729 | R19: =(($M19-0.2*K19)^2/($M19+0.8*K19))/$M19 -> 0.52543423
A20: 18 | B20: mix_high_veg_closed | C20: =C12 -> 43 | D20: =D12 -> 65 | E20: =E12 -> 76 | F20: =F12 -> 82 | H20: =(1000/C20)-10 -> 13.255814 | I20: =(1000/D20)-10 -> 5.3846154 | J20: =(1000/E20)-10 -> 3.1578947 | K20: =(1000/F20)-10 -> 2.195122 | M20: =100*0.0393700787 -> 3.9370079 | O20: =(($M20-0.2*H20)^2/($M20+0.8*H20))/$M20 -> 0.028879991 | P20: =(($M20-0.2*I20)^2/($M20+0.8*I20))/$M20 -> 0.25200936 | Q20: =(($M20-0.2*J20)^2/($M20+0.8*J20))/$M20 -> 0.42937174 | R20: =(($M20-0.2*K20)^2/($M20+0.8*K20))/$M20 -> 0.54590868
A21: 19 | B21: mix_low_veg_closed | C21: =C14 -> 35 | D21: =D14 -> 56 | E21: =E14 -> 70 | F21: =F14 -> 77 | H21: =(1000/C21)-10 -> 18.571429 | I21: =(1000/D21)-10 -> 7.8571429 | J21: =(1000/E21)-10 -> 4.2857143 | K21: =(1000/F21)-10 -> 2.987013 | M21: =100*0.0393700787 -> 3.9370079 | O21: =(($M21-0.2*H21)^2/($M21+0.8*H21))/$M21 -> 0.00067040594 | P21: =(($M21-0.2*I21)^2/($M21+0.8*I21))/$M21 -> 0.13904078 | Q21: =(($M21-0.2*J21)^2/($M21+0.8*J21))/$M21 -> 0.32710725 | R21: =(($M21-0.2*K21)^2/($M21+0.8*K21))/$M21 -> 0.44776729
A22: 20 | B22: mix_high_veg_dense | C22: =C11 -> 32 | D22: =D11 -> 58 | E22: =E11 -> 72 | F22: =F11 -> 79 | H22: =(1000/C22)-10 -> 21.25 | I22: =(1000/D22)-10 -> 7.2413793 | J22: =(1000/E22)-10 -> 3.8888889 | K22: =(1000/F22)-10 -> 2.6582278 | M22: =100*0.0393700787 -> 3.9370079 | O22: =(($M22-0.2*H22)^2/($M22+0.8*H22))/$M22 -> 0.0011884637 | P22: =(($M22-0.2*I22)^2/($M22+0.8*I22))/$M22 -> 0.16168591 | Q22: =(($M22-0.2*J22)^2/($M22+0.8*J22))/$M22 -> 0.35968556 | R22: =(($M22-0.2*K22)^2/($M22+0.8*K22))/$M22 -> 0.48576982
A23: 21 | B23: mix_low_veg_dense | C23: =C13 -> 30 | D23: =D13 -> 48 | E23: =E13 -> 65 | F23: =F13 -> 73 | H23: =(1000/C23)-10 -> 23.333333 | I23: =(1000/D23)-10 -> 10.833333 | J23: =(1000/E23)-10 -> 5.3846154 | K23: =(1000/F23)-10 -> 3.6986301 | M23: =100*0.0393700787 -> 3.9370079 | O23: =(($M23-0.2*H23)^2/($M23+0.8*H23))/$M23 -> 0.0059826599 | P23: =(($M23-0.2*I23)^2/($M23+0.8*I23))/$M23 -> 0.063161217 | Q23: =(($M23-0.2*J23)^2/($M23+0.8*J23))/$M23 -> 0.25200936 | R23: =(($M23-0.2*K23)^2/($M23+0.8*K23))/$M23 -> 0.3765337
A24: 22 | B24: water | C24: 100 | D24: 100 | E24: 100 | F24: 100 | H24: =(1000/C24)-10 -> 0 | I24: =(1000/D24)-10 -> 0 | J24: =(1000/E24)-10 -> 0 | K24: =(1000/F24)-10 -> 0 | M24: =100*0.0393700787 -> 3.9370079 | O24: =(($M24-0.2*H24)^2/($M24+0.8*H24))/$M24 -> 1 | P24: =(($M24-0.2*I24)^2/($M24+0.8*I24))/$M24 -> 1 | Q24: =(($M24-0.2*J24)^2/($M24+0.8*J24))/$M24 -> 1 | R24: =(($M24-0.2*K24)^2/($M24+0.8*K24))/$M24 -> 1
A27: References:
A28: KNMI. (n.d.). Extreme neerslag. Retrieved April 5, 2023, from https://www.knmi.nl/kennis-en-datacentrum/uitleg/extreme-neerslag
A29: USDA. (1986). Urban Hydrology for Small Watersheds (TR-55). United States Department of Agriculture.
D66: 25

Sheet S2.3.3. biophys_urbanheat
A1: Class | B1: Class name | C1: Shade | D1: Crop coefficient | E1: Surface Albedo | F1: building_intensity | G1: green_area | H1: Sources
A2: 1 | B2: building | C2: 0.01 | D2: 0.565 | E2: 0.15 | F2: 1 | G2: 0 | H2: Bosch et al. (2021) & Veerkamp et al. (2022)
A3: 2 | B3: open | C3: 0.01 | D3: 0.515 | E3: 0.265 | F3: 0 | G3: 0
A4: 3 | B4: open_high_veg | C4: 0.3 | D4: 0.7575 | E4: 0.2 | F4: 0 | G4: 1
A5: 4 | B5: open_low_veg | C5: 0.1 | D5: 0.5975 | E5: 0.2 | F5: 0 | G5: 1
A6: 5 | B6: sealed | C6: 0.08 | D6: 0.75 | E6: 0.15 | F6: 0 | G6: 0
A7: 6 | B7: sealed_high_veg | C7: 0.3 | D7: 0.715 | E7: 0.175 | F7: 0 | G7: 1
A8: 7 | B8: sealed_low_veg | C8: 0.1 | D8: 0.75 | E8: 0.175 | F8: 0 | G8: 1
A9: 8 | B9: agriculture | C9: 0.25 | D9: 0.75 | E9: 0.2 | F9: 0 | G9: 1
A10: 9 | B10: forest_closed | C10: 0.75 | D10: 1 | E10: 0.2 | F10: 0 | G10: 1
A11: 10 | B11: forest_open | C11: 0.5 | D11: 0.68 | E11: 0.18 | F11: 0 | G11: 1
A12: 11 | B12: shrubs_closed | C12: 0.4 | D12: 0.75 | E12: 0.2 | F12: 0 | G12: 1
A13: 12 | B13: shrubs_open | C13: 0.2 | D13: 0.6325 | E13: 0.2325 | F13: 0 | G13: 1
A14: 13 | B14: grass_closed | C14: 0.1 | D14: 0.75 | E14: 0.2 | F14: 0 | G14: 1
... A23: 22 | B23: water | C23: 0 | D23: 0.85 | E23: 0.06 | F23: 0 | G23: 1
A25: References:
A26: Bosch, M., Locatelli, M., Hamel, P., Remme, R. P., Chenal, J., & Joost, S. (2021). A spatially explicit approach to simulate urban heat mitigation with InVEST (v3.8.0). Geoscientific Model Development, 14(6), 3521–3537. https://doi.org/10.5194/gmd-14-3521-2021
A27: Veerkamp, C. J., Loreti, M., Benavidez, R., Jackson, B., & Schipper, A. M. (2023). Comparing three spatial modeling tools for assessing urban ecosystem services. Ecosystem Services, 59, 101500. https://doi.org/10.1016/j.ecoser.2022.101500

Sheet S2.3.4. info_GI_availability
B1: lucode | C1: urban_nature | D1: search_radius_m | E1: Source
A2: building | B2: 1 | C2: 0 | D2: 0 | E2: Roo et al. (2011)
A3: open | B3: 2 | C3: 0 | D3: 0
A4: open_high_veg | B4: 3 | C4: 1 | D4: 500
A5: open_low_veg | B5: 4 | C5: 1 | D5: 500
A6: sealed | B6: 5 | C6: 0 | D6: 0
A7: sealed_high_veg | B7: 6 | C7: 1 | D7: 500
A8: sealed_low_veg | B8: 7 | C8: 1 | D8: 500
A9: agriculture | B9: 8 | C9: 0 | D9: 0
A10: forest_closed | B10: 9 | C10: 1 | D10: 500
A11: forest_open | B11: 10 | C11: 1 | D11: 500
A12: shrubs_closed | B12: 11 | C12: 1 | D12: 500
A13: shrubs_open | B13: 12 | C13: 1 | D13: 500
A14: grass_closed | B14: 13 | C14: 1 | D14: 500
... A23: water | B23: 22 | C23: 0 | D23: 0
B25: References:
B26: Roo, M. D., Kuypers, V. H. M., & Lenzholzer, S. (2011). The green city guidelines: Techniques for a healthy liveable city. http://library.wur.nl/WebQuery/wurpubs/fulltext/178666

Sheet S2.4.1. building_footprints
B1: BAU_low_rise | C1: small_low_rise | D1: large_low_rise | E1: BAU_mid_rise | F1: small_mid_rise | G1: large_mid_rise | H1: BAU_high_rise | I1: small_high_rise | J1: large_high_rise | K1: start | L1: stop
A2: office | B2: 1.2 | C2: 1 | D2: 1.4 | E2: 1 | F2: 0.8 | G2: 1.2 | H2: 0.8 | I2: 0.6 | J2: 1
A3: retail | B3: 1.2 | C3: 1 | D3: 1.4 | E3: 1 | F3: 0.8 | G3: 1.2 | H3: 0.8 | I3: 0.6 | J3: 1
A4: industry | B4: 1 | C4: 0.8 | D4: 1.2 | E4: 1 | F4: 0.8 | G4: 1.2 | H4: 1 | I4: 0.8 | J4: 1.2
A5: services | B5: 1.2 | C5: 1 | D5: 1.4 | E5: 1 | F5: 0.8 | G5: 1.2 | H5: 0.8 | I5: 0.6 | J5: 1
A6: rowHouse | B6: 45.39 | C6: 36.312 | D6: 54.468 | E6: 45.39 | F6: 36.312 | G6: 54.468 | H6: 45.39 | I6: 36.312 | J6: 54.468
A7: detachedHouse | B7: 61.2 | C7: 48.96 | D7: 73.44 | E7: 61.2 | F7: 48.96 | G7: 73.44 | H7: 61.2 | I7: 48.96 | J7: 73.44
A8: app_6 | B8: 678.3 | C8: 542.64 | D8: 813.96 | E8: 678.3 | F8: 542.64 | G8: 813.96 | H8: 678.3 | I8: 542.64 | J8: 813.96 | K8: 2 | L8: 6
A9: app_24 | B9: 678.3 | C9: 542.64 | D9: 813.96 | E9: 678.3 | F9: 542.64 | G9: 813.96 | H9: 678.3 | I9: 542.64 | J9: 813.96 | K9: 7 | L9: 24
A10: app_48 | B10: 1356.6 | C10: 1085.28 | D10: 1627.92 | E10: 678.3 | F10: 542.64 | G10: 813.96 | H10: 678.3 | I10: 542.64 | J10: 813.96 | K10: 25 | L10: 48
A11: app_72 | B11: 2034.9 | C11: 1627.92 | D11: 2441.88 | E11: 678.3 | F11: 542.64 | G11: 813.96 | H11: 678.3 | I11: 542.64 | J11: 813.96 | K11: 49 | L11: 72
A12: app_96 | B12: 3391.5 | C12: 2713.2 | D12: 4069.8 | E12: 1356.6 | F12: 1085.28 | G12: 1627.92 | H12: 1017.45 | I12: 813.96 | J12: 1220.94 | K12: 73 | L12: 96
A13: app_120 | B13: 5426.4 | C13: 4341.12 | D13: 6511.68 | E13: 1356.6 | F13: 1085.28 | G13: 1627.92 | H13: 1017.45 | I13: 813.96 | J13: 1220.94 | K13: 97 | L13: 120
A14: app_144 | B14: 8817.9 | C14: 7054.32 | D14: 10581.48 | E14: 1356.6 | F14: 1085.28 | G14: 1627.92 | H14: 1017.45 | I14: 813.96 | J14: 1220.94 | K14: 121 | L14: 144
A15: app_168 | B15: 10000 | C15: 8000 | D15: 12000 | E15: 2034.9 | F15: 1627.92 | G15: 2441.88 | H15: 1017.45 | I15: 813.96 | J15: 1220.94 | K15: 145 | L15: 168
A16: app_192 | B16: 10000 | C16: 8000 | D16: 12000 | E16: 2034.9 | F16: 1627.92 | G16: 2441.88 | H16: 1017.45 | I16: 813.96 | J16: 1220.94 | K16: 169 | L16: 192
A17: app_216 | B17: 10000 | C17: 8000 | D17: 12000 | E17: 2034.9 | F17: 1627.92 | G17: 2441.88 | H17: 1356.6 | I17: 1085.28 | J17: 1627.92 | K17: 193 | L17: 216
A18: app_240 | B18: 10000 | C18: 8000 | D18: 12000 | E18: 2713.2 | F18: 2170.56 | G18: 3255.84 | H18: 1356.6 | I18: 1085.28 | J18: 1627.92 | K18: 217 | L18: 240
A19: app_264 | B19: 10000 | C19: 8000 | D19: 12000 | E19: 2713.2 | F19: 2170.56 | G19: 3255.84 | H19: 1356.6 | I19: 1085.28 | J19: 1627.92 | K19: 241 | L19: 264
... A23: app_360 | B23: 10000 | C23: 8000 | D23: 12000 | E23: 3391.5 | F23: 2713.2 | G23: 4069.8 | H23: 1356.6 | I23: 1085.28 | J23: 1627.92 | K23: 337 | L23: 400

Sheet S2.4.2. MI_Conventional
A1: Building type | B1: Aluminum | C1: Brick | D1: Concrete | E1: Bitumen | F1: Electronics | G1: Gypsum | H1: Glass | I1: Wood | J1: Insulation | K1: Lime sandstone | L1: Ceramics | M1: Copper | N1: Plastics | O1: Glue & paint | P1: Mortar | Q1: Other biobased materials | R1: Other metals | S1: Paper | T1: Steel & iron | U1: Stone | V1: Sand | X1: Source
B2: kg/m2 UFA
A3: Row | B3: 1.1565217 | C3: 143.97295 | D3: 1365.4705 | E3: 0.51400966 | F3: 0.89855072 | G3: 20.342995 | H3: 7.5458937 | I3: 71.697585 | J3: 24.311111 | K3: 0 | L3: 6.5748792 | M3: 0.58454106 | N3: 2.8743961 | O3: 1.4251208 | P3: 51.301449 | Q3: 0.57584541 | R3: 0.11690821 | S3: 0.58454106 | T3: 26.750725 | U3: 0.096618357 | V3: 128.72947 | X3: van Oorschot et al. (2023)
A4: Detached | B4: 1.7492537 | C4: 174.73433 | D4: 982.04478 | E4: 0.08358209 | F4: 0.62686567 | G4: 26.716418 | H4: 11.134328 | I4: 81.029851 | J4: 31.671642 | K4: 0 | L4: 5.358209 | M4: 0.47761194 | N4: 2.3731343 | O4: 1.5044776 | P4: 66.677612 | Q4: 0.51044776 | R4: 0.11940299 | S4: 1.3731343 | T4: 22.758209 | U4: 0.044776119 | V4: 99.507463
A5: Ap_S | B5: 1.3565217 | C5: 168.82609 | D5: 895.76304 | E5: 0.29565217 | F5: 1.5869565 | G5: 18.806522 | H5: 6.1847826 | I5: 42.608696 | J5: 7.5173913 | K5: 0 | L5: 6.7173913 | M5: 0.32608696 | N5: 2.1326087 | O5: 0.64565217 | P5: 54.36087 | Q5: 0.12826087 | R5: 0.11956522 | S5: 0 | T5: 18.936957 | U5: 0.18478261 | V5: 36.228261
A6: Ap_L | B6: 1.4413043 | C6: 210.47826 | D6: 892.33913 | E6: 0.20869565 | F6: 0.98913043 | G6: 45.445652 | H6: 5.5978261 | I6: 41.076087 | J6: 6.0304348 | K6: 0 | L6: 18.445652 | M6: 0.42391304 | N6: 2.9652174 | O6: 1.6847826 | P6: 45.854348 | Q6: 0.091304348 | R6: 0.11956522 | S6: 0.54347826 | T6: 18.11087 | U6: 0.88043478 | V6: 24
A7: Office_S | B7: 2.0065217 | C7: 40.765217 | D7: 970.25217 | E7: 0.3826087 | F7: 2.3369565 | G7: 10.308696 | H7: 8.326087 | I7: 38.008696 | J7: 9.6586957 | K7: 0 | L7: 0.97826087 | M7: 0.076086957 | N7: 2.0478261 | O7: 0.79130435 | P7: 18.958696 | Q7: 0.16521739 | R7: 0.080434783 | S7: 0.086956522 | T7: 24 | U7: 0.065217391 | V7: 43.478261
A8: Office_L | B8: 2.4022472 | C8: 0 | D8: 792.14607 | E8: 0.16179775 | F8: 1.8 | G8: 7.9191011 | H8: 12.88764 | I8: 26.946067 | J8: 3.1370787 | K8: 0 | L8: 0.68539326 | M8: 0.1011236 | N8: 2.047191 | O8: 0.44719101 | P8: 0.24719101 | Q8: 0.069662921 | R8: 0.10337079 | S8: 0.056179775 | T8: 27.080899 | U8: 0.04494382 | V8: 30.977528
A9: Industry | B9: 0.16122449 | C9: 3.377551 | D9: 663.9449 | E9: 0 | F9: 0.051020408 | G9: 0.66122449 | H9: 0.13265306 | I9: 28.320408 | J9: 53.346939 | K9: 13.044898 | L9: 0.15306122 | M9: 0.23469388 | N9: 1.1326531 | O9: 0.14285714 | P9: 1.4183673 | Q9: 0 | R9: 0.1122449 | S9: 0 | T9: 67.002041 | U9: 0.010204082 | V9: 19.622449
A10: Services | B10: 6.4113786 | C10: 55.317287 | D10: 1082.954 | E10: 0.32275711 | F10: 0.071115974 | G10: 31.415755 | H10: 4.6608315 | I10: 29.66302 | J10: 11.871991 | K10: 222.75711 | L10: 5.9956236 | M10: 0.31728665 | N10: 1.3205689 | O10: 2.7275711 | P10: 23.741794 | Q10: 0 | R10: 0.74507659 | S10: 0.087527352 | T10: 70.103939 | U10: 0.37199125 | V10: 12.871991
A11: Retail | B11: 1.1846154 | C11: 68.549451 | D11: 1006.7033 | E11: 0 | F11: 0.032967033 | G11: 21.320879 | H11: 17.296703 | I11: 37.008791 | J11: 9.5802198 | K11: 271.14725 | L11: 5.2527473 | M11: 0.20879121 | N11: 1.8021978 | O11: 2.5318681 | P11: 30.505495 | Q11: 1.2307692 | R11: 0.48791209 | S11: 0.42857143 | T11: 41.303297 | U11: 0.087912088 | V11: 13.505495
A12: References:
A13: van Oorschot, J., Sprecher, B., Roelofs, B., van der Horst, J., & van der Voet, E. (2022). Towards a low-carbon and circular economy: Scenarios for metal stocks and flows in the Dutch electricity system. Resources, Conservation and Recycling, 178, 106105. https://doi.org/10.1016/j.resconrec.2021.106105

Sheet S2.4.3. MI_Biobased
A1: Building type | B1: Aluminum | C1: Brick | D1: Concrete | E1: Bitumen | F1: Electronics | G1: Gypsum | H1: Glass | I1: Wood | J1: Insulation | K1: Lime sandstone | L1: Ceramics | M1: Copper | N1: Plastics | O1: Glue & paint | P1: Mortar | Q1: Other biobased materials | R1: Other metals | S1: Paper | T1: Steel & iron | U1: Stone | V1: Sand | X1: Source
B2: kg/m2 UFA
A3: Row | B3: 1.0318841 | C3: 35.993237 | D3: 474.01256 | E3: 0.12850242 | F3: 0.89855072 | G3: 40.748792 | H3: 7.5458937 | I3: 212.08019 | J3: 17.998068 | K3: 0 | L3: 6.5748792 | M3: 0.58454106 | N3: 2.8743961 | O3: 3.3381643 | P3: 14.394203 | Q3: 2.3033816 | R3: 0.10531401 | S3: 0.58454106 | T3: 17.437681 | U3: 0.096618357 | V3: 128.72947 | X3: van Oorschot et al. (2023)
A4: Detached | B4: 1.5791045 | C4: 43.683582 | D4: 357.01493 | E4: 0.020895522 | F4: 0.62686567 | G4: 59.402985 | H4: 11.134328 | I4: 221.13433 | J4: 24.373134 | K4: 0 | L4: 5.358209 | M4: 0.47761194 | N4: 2.2835821 | O4: 3.241791 | P4: 17.979104 | Q4: 2.041791 | R4: 0.11940299 | S4: 1.3731343 | T4: 13.973134 | U4: 0.044776119 | V4: 99.507463
A5: Ap_S | B5: 0.99130435 | C5: 42.206522 | D5: 256.28043 | E5: 0.073913043 | F5: 1.5869565 | G5: 27.682609 | H5: 6.1847826 | I5: 162.31522 | J5: 4.5043478 | K5: 0 | L5: 6.7173913 | M5: 0.32608696 | N5: 2.2043478 | O5: 1.2456522 | P5: 15.204348 | Q5: 0.51304348 | R5: 0.11956522 | S5: 0 | T5: 9.9434783 | U5: 0.18478261 | V5: 36.228261
A6: Ap_L | B6: 0.90652174 | C6: 52.619565 | D6: 248.68261 | E6: 0.052173913 | F6: 0.98913043 | G6: 44.076087 | H6: 5.5978261 | I6: 159.18478 | J6: 3.4478261 | K6: 0 | L6: 18.445652 | M6: 0.42391304 | N6: 3.1543478 | O6: 2.1086957 | P6: 16.46087 | Q6: 0.36521739 | R6: 0.086956522 | S6: 0.54347826 | T6: 8.2043478 | U6: 0.88043478 | V6: 24
A7: Office_S | B7: 1.3086957 | C7: 10.191304 | D7: 289.2913 | E7: 0.095652174 | F7: 2.3369565 | G7: 14.723913 | H7: 8.326087 | I7: 147.2087 | J7: 5.2108696 | K7: 0 | L7: 0.97826087 | M7: 0.076086957 | N7: 1.9956522 | O7: 1.6652174 | P7: 4.9108696 | Q7: 0.66086957 | R7: 0.060869565 | S7: 0.086956522 | T7: 13.565217 | U7: 0.065217391 | V7: 43.478261
A8: Office_L | B8: 1.5865169 | C8: 0 | D8: 276.7191 | E8: 0.040449438 | F8: 2.0764045 | G8: 8.9235955 | H8: 12.88764 | I8: 104.78427 | J8: 2.9078652 | K8: 0 | L8: 0.68539326 | M8: 0.1011236 | N8: 2.0876404 | O8: 0.81123596 | P8: 0.24719101 | Q8: 0.27865169 | R8: 0.076404494 | S8: 0.056179775 | T8: 16.031461 | U8: 0.04494382 | V8: 30.977528
A9: Industry | B9: 0.1244898 | C9: 3.377551 | D9: 248.61633 | E9: 0 | F9: 0.051020408 | G9: 1.3285714 | H9: 0.13265306 | I9: 101.74082 | J9: 53.377551 | K9: 3.2612245 | L9: 0.15306122 | M9: 0.23469388 | N9: 1.1326531 | O9: 0.14285714 | P9: 1.4183673 | Q9: 0 | R9: 0.1122449 | S9: 0 | T9: 34.191837 | U9: 0.010204082 | V9: 19.622449
A10: Services | B10: 1.6356674 | C10: 55.317287 | D10: 531.64661 | E10: 0.32275711 | F10: 0.071115974 | G10: 70.028446 | H10: 4.6608315 | I10: 92.328228 | J10: 12.810722 | K10: 55.689278 | L10: 5.9956236 | M10: 0.31728665 | N10: 1.2450766 | O10: 2.0809628 | P10: 23.741794 | Q10: 0 | R10: 0.73194748 | S10: 0.087527352 | T10: 30.2407 | U10: 0.37199125 | V10: 12.871991
A11: Retail | B11: 0.32087912 | C11: 68.549451 | D11: 492.41758 | E11: 0 | F11: 0.032967033 | G11: 52.90989 | H11: 17.296703 | I11: 100.03516 | J11: 10.76044 | K11: 67.786813 | L11: 5.2527473 | M11: 0.20879121 | N11: 1.7692308 | O11: 2.1824176 | P11: 30.505495 | Q11: 1.2307692 | R11: 0.46813187 | S11: 0.42857143 | T11: 21.015385 | U11: 0.087912088 | V11: 13.505495
A12: References:
A13: van Oorschot, J., Sprecher, B., Roelofs, B., van der Horst, J., & van der Voet, E. (2022). Towards a low-carbon and circular economy: Scenarios for metal stocks and flows in the Dutch electricity system. Resources, Conservation and Recycling, 178, 106105. https://doi.org/10.1016/j.resconrec.2021.106105

Sheet S2.4.4. MI_Circular
A1: Building type | B1: Aluminum | C1: Brick | D1: Concrete | E1: Bitumen | F1: Electronics | G1: Gypsum | H1: Glass | I1: Wood | J1: Insulation | K1: Lime sandstone | L1: Ceramics | M1: Copper | N1: Plastics | O1: Glue & paint | P1: Mortar | Q1: Other biobased materials | R1: Other metals | S1: Paper | T1: Steel & iron | U1: Stone | V1: Sand | X1: Source
B2: kg/m2 UFA
A3: Row | B3: 0.99033816 | C3: 92.077295 | D3: 769.69469 | E3: 0.51400966 | F3: 0.89855072 | G3: 12.377778 | H3: 7.5458937 | I3: 79.129469 | J3: 14.490821 | K3: 0 | L3: 6.5748792 | M3: 0.58454106 | N3: 3.1758454 | O3: 1.2357488 | P3: 2.0917874 | Q3: 0.57584541 | R3: 0.11690821 | S3: 0.58454106 | T3: 23.968116 | U3: 0.096618357 | V3: 128.72947 | X3: van Oorschot et al. (2023)
A4: Detached | B4: 1.4985075 | C4: 127.27164 | D4: 639.7403 | E4: 0.08358209 | F4: 0.62686567 | G4: 16.4 | H4: 11.134328 | I4: 79.895522 | J4: 16.101493 | K4: 0 | L4: 5.358209 | M4: 0.47761194 | N4: 2.7910448 | O4: 1.1701493 | P4: 1.7462687 | Q4: 0.51044776 | R4: 0.11940299 | S4: 0.70447761 | T4: 23.080597 | U4: 0.044776119 | V4: 99.507463
A5: Ap_S | B5: 1.3130435 | C5: 90.382609 | D5: 333.54565 | E5: 0.29565217 | F5: 1.5869565 | G5: 9.1195652 | H5: 6.1847826 | I5: 64.026087 | J5: 5.273913 | K5: 0 | L5: 6.7173913 | M5: 0.32608696 | N5: 2.376087 | O5: 0.66304348 | P5: 23.630435 | Q5: 0.12826087 | R5: 0.11956522 | S5: 0.48695652 | T5: 15.276087 | U5: 0.18478261 | V5: 36.228261
A6: Ap_L | B6: 0.78913043 | C6: 37.965217 | D6: 355.51304 | E6: 0.20869565 | F6: 0.98913043 | G6: 20.767391 | H6: 5.5978261 | I6: 74.345652 | J6: 5.1695652 | K6: 0 | L6: 18.445652 | M6: 0.42391304 | N6: 3.1913043 | O6: 1.5978261 | P6: 9.2021739 | Q6: 0.091304348 | R6: 0.11956522 | S6: 0.54347826 | T6: 15.98913 | U6: 0.88043478 | V6: 24
A7: Office_S | B7: 1.1369565 | C7: 40.765217 | D7: 382.26957 | E7: 0.3826087 | F7: 2.3369565 | G7: 3.326087 | H7: 8.326087 | I7: 47.13913 | J7: 6.0934783 | K7: 0 | L7: 0.97826087 | M7: 0.076086957 | N7: 2.3434783 | O7: 0.66956522 | P7: 1.3326087 | Q7: 0.16521739 | R7: 0.080434783 | S7: 0.086956522 | T7: 17.278261 | U7: 0.065217391 | V7: 43.478261
A8: Office_L | B8: 2.3662921 | C8: 0 | D8: 383.99326 | E8: 0.16179775 | F8: 1.8 | G8: 1.8516854 | H8: 12.88764 | I8: 34.011236 | J8: 3.2179775 | K8: 0 | L8: 0.68539326 | M8: 0.1011236 | N8: 2.047191 | O8: 0.44719101 | P8: 0.24719101 | Q8: 0.069662921 | R8: 0.10337079 | S8: 0.056179775 | T8: 22.253933 | U8: 0.04494382 | V8: 30.977528
A9: Industry | B9: 0.13673469 | C9: 3.377551 | D9: 620.15714 | E9: 0 | F9: 0.051020408 | G9: 0.62857143 | H9: 0.13265306 | I9: 29.806122 | J9: 53.338776 | K9: 13.044898 | L9: 0.15306122 | M9: 0.23469388 | N9: 1.1326531 | O9: 0.14285714 | P9: 0.3 | Q9: 0 | R9: 0.1122449 | S9: 0 | T9: 65.083673 | U9: 0.010204082 | V9: 19.622449
A10: Services | B10: 0.31947484 | C10: 55.317287 | D10: 471.09847 | E10: 0.32275711 | F10: 0.071115974 | G10: 24.522976 | H10: 4.6608315 | I10: 103.81182 | J10: 11.329322 | K10: 191.03282 | L10: 5.9956236 | M10: 0.31728665 | N10: 1.3118162 | O10: 1.8129103 | P10: 5.5185996 | Q10: 0 | R10: 0.73632385 | S10: 0.087527352 | T10: 45.666302 | U10: 0.37199125 | V10: 12.871991
A11: Retail | B11: 0.41978022 | C11: 68.549451 | D11: 387.92527 | E11: 0 | F11: 0.032967033 | G11: 20.336264 | H11: 17.296703 | I11: 79.602198 | J11: 9.6241758 | K11: 235.34066 | L11: 5.2527473 | M11: 0.20879121 | N11: 1.7846154 | O11: 2.0131868 | P11: 7.9208791 | Q11: 1.2307692 | R11: 0.48791209 | S11: 0.42857143 | T11: 18.331868 | U11: 0.087912088 | V11: 13.505495
A12: References:
A13: van Oorschot, J., Sprecher, B., Roelofs, B., van der Horst, J., & van der Voet, E. (2022). Towards a low-carbon and circular economy: Scenarios for metal stocks and flows in the Dutch electricity system. Resources, Conservation and Recycling, 178, 106105. https://doi.org/10.1016/j.resconrec.2021.106105

Sheet S2.4.5. MI_historic
A1: Building type | B1: Cohort | C1: Steel | D1: Copper | E1: Aluminum | F1: Other metals | G1: Wood | H1: Concrete | I1: Brick | J1: Other construction minerals | K1: Glass | L1: Ceramics | M1: Plastics | N1: Insulation material | O1: Other | Q1: Source
C2: kg/m2 UFA
A3: Detached | B3: <1945 | C3: 45.820789 | D3: 0.62756276 | E3: 0.10691757 | F3: 1.8734171 | G3: 95.560484 | H3: 981.7131 | I3: 217.36759 | J3: 256.64803 | K3: 0.064095503 | L3: 13.155106 | M3: 0.91015753 | N3: 9.9237258 | O3: 1.1263105 | Q3: van Oorschot et al. (2023)
B4: 1945-1970 | C4: 41.948604 | D4: 0.62756276 | E4: 0.17563292 | F4: 1.8893782 | G4: 53.593486 | H4: 1023.8611 | I4: 217.36759 | J4: 277.50219 | K4: 2.0310533 | L4: 13.155106 | M4: 1.1093955 | N4: 10.266793 | O4: 1.3698499
B5: 1970-2000 | C5: 38.171551 | D5: 0.62756276 | E5: 0.15853083 | F5: 1.8893782 | G5: 19.067704 | H5: 1029.7607 | I5: 86.947037 | J5: 543.97959 | K5: 3.9980112 | L5: 2.0122485 | M5: 1.2783626 | N5: 10.664723 | O5: 1.3625509
B6: >2000 | C6: 38.160887 | D6: 0.62756276 | E6: 0.15853083 | F6: 1.8893782 | G6: 27.727072 | H6: 1029.7607 | I6: 86.947037 | J6: 543.97959 | K6: 3.9980112 | L6: 2.0122485 | M6: 1.2783626 | N6: 11.403621 | O6: 1.4276374
A7: Row | B7: <1945 | C7: 35.353124 | D7: 0.24253059 | E7: 0.26119913 | F7: 1.0141026 | G7: 44.690205 | H7: 789.57893 | I7: 112.37758 | J7: 205.04599 | K7: 0.15899959 | L7: 1.9061614 | M7: 0.56460626 | N7: 9.1212639 | O7: 0.94814668
B8: 1945-1970 | C8: 36.697892 | D8: 0.24253059 | E8: 0.32804135 | F8: 1.0490018 | G8: 28.194149 | H8: 845.69976 | I8: 112.37758 | J8: 211.27605 | K8: 1.5965341 | L8: 1.9061614 | M8: 0.79031577 | N8: 9.2993444 | O8: 1.3532217
B9: 1970-2000 | C9: 37.829304 | D9: 0.24253059 | E9: 0.26087922 | F9: 1.0490018 | G9: 14.009761 | H9: 900.09205 | I9: 44.951034 | J9: 324.95349 | K9: 3.0340686 | L9: 1.9061614 | M9: 1.2912736 | N9: 9.5518509 | O9: 1.3502932
B10: >2000 | C10: 37.81905 | D10: 0.24253059 | E10: 0.26087922 | F10: 1.0490018 | G10: 22.656091 | H10: 900.09205 | I10: 44.951034 | J10: 324.95349 | K10: 3.0340686 | L10: 1.9061614 | M10: 1.2912736 | N10: 10.008663 | O10: 1.416833
A11: Ap_S | B11: <1945 | C11: 67.686133 | D11: 0.28106237 | E11: 0.29165699 | F11: 0.44321347 | G11: 16.380864 | H11: 1390.5585 | I11: 164.61566 | J11: 260.55656 | K11: 0.096199469 | L11: 5.3701495 | M11: 0.93256629 | N11: 18.215106 | O11: 1.8746815
B12: 1945-1970 | C12: 66.099658 | D12: 0.28106237 | E12: 0.3086819 | F12: 0.44321347 | G12: 16.611288 | H12: 1458.5791 | I12: 164.61566 | J12: 260.3156 | K12: 2.296818 | L12: 5.3701495 | M12: 1.1660222 | N12: 18.986639 | O12: 6.7580653
B13: 1970-2000 | C13: 66.57371 | D13: 0.28106237 | E13: 1.3812466 | F13: 0.44822414 | G13: 16.686209 | H13: 1412.4568 | I13: 41.153915 | J13: 267.80301 | K13: 4.4974365 | L13: 5.0678314 | M13: 1.855927 | N13: 13.120642 | O13: 6.8689849
B14: >2000 | C14: 66.555649 | D14: 0.28106237 | E14: 1.3812466 | F14: 0.44822414 | G14: 16.686209 | H14: 1412.4568 | I14: 41.153915 | J14: 267.80301 | K14: 4.4974365 | L14: 5.0678314 | M14: 1.855927 | N14: 8.2788695 | O14: 6.7976899
A15: Ap_L | B15: <1945 | C15: 48.16017 | D15: 0.2488484 | E15: 0.05479018 | F15: 0.79425378 | G15: 67.163381 | H15: 792.18886 | I15: 51.616171 | J15: 170.67217 | K15: 1.4580546 | L15: 5.0668361 | M15: 0.91780702 | N15: 17.387607 | O15: 1.7452969
B16: 1945-1970 | C16: 49.597555 | D16: 0.2488484 | E16: 0.04415821 | F16: 0.79425378 | G16: 33.528782 | H16: 897.20786 | I16: 51.616171 | J16: 170.67217 | K16: 5.2348672 | L16: 5.0668361 | M16: 1.2603854 | N16: 17.522552 | O16: 1.6743375
B17: 1970-2000 | C17: 76.382994 | D17: 0.2488484 | E17: 11.29548 | F17: 0.79868872 | G17: 1.4432375 | H17: 1498.7297 | I17: 0 | J17: 58.442799 | K17: 9.0116799 | L17: 5.0668361 | M17: 1.9355677 | N17: 12.448165 | O17: 1.9479923
B18: >2000 | C18: 76.364889 | D18: 0.2488484 | E18: 11.29548 | F18: 0.79868872 | G18: 1.4432375 | H18: 1498.7297 | I18: 0 | J18: 58.442799 | K18: 9.0116799 | L18: 5.0668361 | M18: 1.9355677 | N18: 6.2555218 | O18: 1.8765267
A19: Retail | B19: <1945 | C19: 42.284529 | D19: 0.18850881 | E19: 0.10647928 | F19: 0.41963662 | G19: 38.977568 | H19: 999.04998 | I19: 155.94231 | J19: 251.15716 | K19: 10.026584 | L19: 17.125232 | M19: 1.3640619 | N19: 15.363703 | O19: 1.8299436
B20: 1945-1970 | C20: 42.37487 | D20: 0.18850881 | E20: 0.11906594 | F20: 0.4504429 | G20: 22.213172 | H20: 1063.764 | I20: 155.94231 | J20: 251.11116 | K20: 12.884037 | L20: 17.125232 | M20: 1.6123516 | N20: 15.657417 | O20: 2.8855014
B21: 1970-2000 | C21: 43.72996 | D21: 0.18884196 | E21: 1.3391788 | F21: 0.4504429 | G21: 8.6198209 | H21: 1099.8552 | I21: 62.376923 | J21: 330.44359 | K21: 15.74149 | L21: 4.4089247 | M21: 1.6484215 | N21: 11.246243 | O21: 2.8502001
B22: >2000 | C22: 43.712271 | D22: 0.18884196 | E22: 1.3391788 | F22: 0.4504429 | G22: 12.900599 | H22: 1099.8552 | I22: 62.376923 | J22: 330.44359 | K22: 15.74149 | L22: 4.4089247 | M22: 1.6484215 | N22: 7.1400955 | O22: 2.8333597
A23: Office_S | B23: <1945 | C23: 87.398945 | D23: 0.37119638 | E23: 0.12551012 | F23: 0.62574699 | G23: 23.703894 | H23: 893.42429 | I23: 107.04866 | J23: 387.6828 | K23: 1.5870028 | L23: 4.5984246 | M23: 1.5033556 | N23: 19.011658 | O23: 2.1169409
B24: 1945-1970 | C24: 86.098813 | D24: 0.37119638 | E24: 0.11294636 | F24: 0.62574699 | G24: 12.761825 | H24: 893.32787 | I24: 107.04866 | J24: 387.6828 | K24: 4.3503681 | L24: 4.5984246 | M24: 1.8071658 | N24: 20.656423 | O24: 2.0089607
B25: 1970-2000 | C25: 85.403492 | D25: 0.37119638 | E25: 1.7288783 | F25: 0.63776489 | G25: 4.3536502 | H25: 879.49387 | I25: 71.365772 | J25: 478.85338 | K25: 7.1137333 | L25: 4.5984246 | M25: 1.3135385 | N25: 16.091001 | O25: 2.0911304
B26: >2000 | C26: 85.385753 | D26: 0.37119638 | E26: 1.7288783 | F26: 0.63776489 | G26: 4.3536502 | H26: 879.49387 | I26: 71.365772 | J26: 478.85338 | K26: 7.1137333 | L26: 4.5984246 | M26: 1.3135385 | N26: 14.81511 | O26: 2.0211085
A27: Office_L | B27: <1945 | C27: 48.16017 | D27: 0.2488484 | E27: 0.05479018 | F27: 0.79425378 | G27: 67.163381 | H27: 792.18886 | I27: 51.616171 | J27: 170.67217 | K27: 1.4580546 | L27: 5.0668361 | M27: 0.91780702 | N27: 17.387607 | O27: 1.7452969
B28: 1945-1970 | C28: 49.597555 | D28: 0.2488484 | E28: 0.04415821 | F28: 0.79425378 | G28: 33.528782 | H28: 897.20786 | I28: 51.616171 | J28: 170.67217 | K28: 5.2348672 | L28: 5.0668361 | M28: 1.2603854 | N28: 17.522552 | O28: 1.6743375
B29: 1970-2000 | C29: 76.382994 | D29: 0.2488484 | E29: 11.29548 | F29: 0.79868872 | G29: 1.4432375 | H29: 1498.7297 | I29: 0 | J29: 58.442799 | K29: 9.0116799 | L29: 5.0668361 | M29: 1.9355677 | N29: 12.448165 | O29: 1.9479923
B30: >2000 | C30: 76.364889 | D30: 0.2488484 | E30: 11.29548 | F30: 0.79868872 | G30: 1.4432375 | H30: 1498.7297 | I30: 0 | J30: 58.442799 | K30: 9.0116799 | L30: 5.0668361 | M30: 1.9355677 | N30: 6.2555218 | O30: 1.8765267
A31: Industry | B31: <1945 | C31: 87.948256 | D31: 0.23317349 | E31: 0.12172776 | F31: 0.17298982 | G31: 74.056317 | H31: 779.83228 | I31: 9.5329802 | J31: 37.914346 | K31: 0.075442487 | L31: 0.19007067 | M31: 1.8032502 | N31: 11.818299 | O31: 0.37888272
B32: 1945-1970 | C32: 82.044831 | D32: 0.23317349 | E32: 0.13520564 | F32: 0.17298982 | G32: 37.367265 | H32: 779.42103 | I32: 9.5329802 | J32: 37.914346 | K32: 0.48744792 | L32: 0.19007067 | M32: 2.0269603 | N32: 14.922255 | O32: 0.37350029
B33: 1970-2000 | C33: 76.543823 | D33: 0.23317349 | E33: 0.42281903 | F33: 0.17300746 | G33: 0.76666465 | H33: 782.2794 | I33: 3.8338455 | J33: 48.365361 | K33: 0.89945336 | L33: 0.19007067 | M33: 1.9977901 | N33: 19.272512 | O33: 0.29756651
B34: >2000 | C34: 76.542164 | D34: 0.23317349 | E34: 0.42281903 | F34: 0.17300746 | G34: 0.76666465 | H34: 782.2794 | I34: 3.8338455 | J34: 48.365361 | K34: 0.89945336 | L34: 0.19007067 | M34: 1.9977901 | N34: 29.759951 | O34: 0.29101457
A35: Service | B35: <1945 | C35: 69.409801 | D35: 0.29145977 | E35: 0.099795952 | F35: 0.67656187 | G35: 51.401322 | H35: 1124.0527 | I35: 127.61018 | J35: 206.9085 | K35: 0.74501963 | L35: 10.939252 | M35: 1.0300175 | N35: 16.043151 | O35: 1.8388517
B36: 1945-1970 | C36: 68.860193 | D36: 0.29145977 | E36: 0.095852336 | F36: 0.68823491 | G36: 28.366709 | H36: 1190.8607 | I36: 127.61018 | J36: 206.9085 | K36: 2.3793092 | L36: 10.939252 | M36: 1.2133622 | N36: 16.449437 | O36: 2.9185808
B37: 1970-2000 | C37: 70.276895 | D37: 0.29237352 | E37: 5.7104637 | F37: 0.69239412 | G37: 5.5337023 | H37: 1244.4293 | I37: 51.044073 | J37: 293.50661 | K37: 3.6813253 | L37: 5.2996032 | M37: 1.5057037 | N37: 12.438097 | O37: 2.8496816
B38: >2000 | C38: 70.277866 | D38: 0.29237352 | E38: 5.7104637 | F38: 0.69239412 | G38: 6.6935217 | H38: 1244.4293 | I38: 51.044073 | J38: 293.50661 | K38: 3.9843603 | L38: 5.2996032 | M38: 1.5105522 | N38: 8.0812526 | O38: 2.795155
A39: References:
A40: van Oorschot, J., Sprecher, B., Roelofs, B., van der Horst, J., & van der Voet, E. (2022). Towards a low-carbon and circular economy: Scenarios for metal stocks and flows in the Dutch electricity system. Resources, Conservation and Recycling, 178, 106105. https://doi.org/10.1016/j.resconrec.2021.106105

Sheet S2.4.6. UFA
A1: Building type | B1: Value | C1: unit | D1: Source
A2: Apartment | B2: 92.1 | C2: UFA (m2)/dwelling | D2: RVO (2016)
A3: Row | B3: 124.3 | C3: UFA (m2)/dwelling | D3: RVO (2016)
A4: Detached | B4: 169.5 | C4: UFA (m2)/dwelling | D4: RVO (2016)
A5: Retail | B5: 1.31 | C5: UFA (m2) / footprint (m2) | D5: BAG (2018)
A6: Office | B6: 1.67 | C6: UFA (m2) / footprint (m2) | D6: BAG (2018)
A7: Industry | B7: 1.14 | C7: UFA (m2) / footprint (m2) | D7: BAG (2018)
A8: Services | B8: 1.65 | C8: UFA (m2) / footprint (m2) | D8: BAG (2018)
A9: References:
A10: RVO. (2016). Referentie gebouwen BENG (Bijna EnergieNeutrale Gebouwen). (E.2015.1371.00.R001). Rijksdienst voor Ondernemend Nederland.
A11: BAG. (2018). Basisregistratie Adressen en Gebouwen (Basic registration of addresses and buildings). Https://Www.Geobasisregistraties.Nl/Basisregistraties/Adressen-En-Gebouwen.

Sheet S2.4.7. EOL_RR
A1: Material | B1: EOL recycling rate (actual) | C1: EOL recycling rate (best practice) | D1: EOL recycling rate (100%) | E1: Maximum recycled content | F1: Sources | G1: Assumptions
A2: Concrete | B2: 0.285 | C2: =0.53*0.85 -> 0.4505 | D2: 1 | E2: 0.37 | F2: Betonakkoord (2018), Zhang (2021, chapter 2), Verhagen et al. (2021) | G2: In wet processing, 53% can be recycled as coarse aggregate. All gravel in primary concrete production is replaced with secondary coarse aggregate (37%)
A3: Brick | B3: 0.01 | C3: 0.95 | D3: 1 | E3: 0.25 | F3: KNB (n.d.), KNB (2022), Verhagen et al. (2021), BDA (2014)
A4: Other construction materials | B4: 0.285 | C4: =0.53*0.85 -> 0.4505 | D4: 1 | E4: 0.37 | F4: See Concrete
A5: Steel & iron | B5: 0.9 | C5: 0.95 | D5: 1 | E5: 1 | F5: EuRIC (2018a), Bouwen met Staal (n.d.), Verhagen et al. (2021), Bowyer et al. (2015)
A6: PUR | B6: 0 | C6: 0 | D6: 1 | E6: 0 | F6: Wiprachtiger et al. (2020)
A7: XPS | B7: 0 | C7: 0 | D7: 1 | E7: 0 | F7: Wiprachtiger et al. (2020)
A8: EPS | B8: 0.005 | C8: =0.75*0.9 -> 0.675 | D8: 1 | E8: 0.12 | F8: Wiprachtiger et al. (2020), EPS Industry Alliance (2016)
A9: Glass wool | B9: 0.024 | C9: =0.75*0.9 -> 0.675 | D9: 1 | E9: 0.8 | F9: Wiprachtiger et al. (2020), Isover (2018)
A10: Rock wool | B10: 0.017 | C10: =0.75*0.9 -> 0.675 | D10: 1 | E10: 0.5 | F10: Wiprachtiger et al. (2020), Bouwfisica (2018) & Rockwool (n.d.)
A11: Wood insulation | B11: 0.005 | C11: =0.75*0.9 -> 0.675 | D11: 1 | E11: 0.8 | F11: Wiprachtiger et al. (2020) | G11: Maximum recycled content as glass wool
A12: Ceramics | B12: 0.01 | C12: 0.95 | D12: 1 | E12: 0.25 | F12: See Brick
A13: Glass to glass | B13: =0.073*0.95 -> 0.06935 | C13: 0.95 | D13: 1 | E13: 0.933 | F13: Vlakglas Recycling Nederland (2020) & Verhagen et al. (2021)
A14: Glass to glass wool | B14: =0.43*0.95 -> 0.4085 | C14: 0.95 | D14: 0 | E14: 0.77 | F14: Vlakglas Recycling Nederland (2020), ISOVER St. Gobain (2018) & Verhagen et al. (2021)
A15: Wooden beam to board* | B15: =0.25*0.95 -> 0.2375 | C15: 0.95 | D15: 1 | E15: 1 | F15: Mehr et al. (2018) & Verhagen et al. (2021) | G15: Beam is sawn into smaller pieces: boards
A16: Wooden board to particle board* | B16: =0.8*0.95 -> 0.76 | C16: 0.95 | D16: 1 | E16: 1 | F16: Mehr et al. (2018) & Verhagen et al. (2021) | G16: particle board consists of secondary wood and chemicals
A17: Other | B17: p.m. | C17: p.m. | D17: p.m. | E17: p.m. | F17: Metabolic (2021) | G17: Maximum recycled content based upon plastics and copper (electronics)
A18: Plastics | B18: 0.25 | C18: 0.9 | D18: 1 | E18: 0.5 | F18: EuRIC (2018b) & ASBP (2021), Verhagen et al. (2021) | G18: Theoretical EOL RR based upon mean of Verhagen et al. (2020)
A19: Aluminum | B19: 0.9 | C19: 0.95 | D19: 1 | E19: 1 | F19: EuRIC (2018a)
A20: Copper | B20: 0.8 | C20: 0.95 | D20: 1 | E20: 1 | F20: EuRIC (2018a)
A21: Other metals | B21: 0.9 | C21: 0.95 | D21: 1 | E21: 1 | F21: See steel & iron
A22: Other biobased materials | B22: =(B15+B16)/2 -> 0.49875 | C22: 0.95 | D22: 1 | E22: 1 | F22: See wood
A25: * 82% is beam, 18% is board, 25% of beam can be recycled into boards, 80% of board can be recycled into particleboard (Mehr et al., 2018)
A26: * beam, board ratio is based on : Heeren et al. (2015)
A29: References:
A30: ASBP (2021). Recycled plastics in construction – Is it a good thing? https://asbp.org.uk/asbp-news/think-piece-recycled-plastics
A31: BDA (2014). BDA comment on the use of Reclaimed Clay Bricks. https://www.brick.org.uk/admin/resources/g-reclaimed-brickwork.pdf
A32: Betonakkoord (2018). Betonakkoord voor duurzame groei. https://www.betonakkoord.nl/
A33: Bouwfysica (2018). De circulariteitsprestatie van isolatiematerialen. https://nvbv.org/l/library/download/urn:uuid:01978c2a-35de-4e92-85c4-6d21d0a69c0e/de+circulariteitsprestatie+van+isolatiematerialen.pdf?format=save_to_disk&ext=.pdf
A34: Bowyer, J., Bratkovich, S., Fernholz, K., Frank, M., Groot, H., Howe, J., & Pepke, E. (2015). Understanding steel recovery and recycling rates and limitations to recycling. Dovetail Partners Inc.: Minneapolis, MN, USA, 1-12.
A35: EPS Industry Alliance (2016). Recycled Content in Expanded Polystyrene Foam Protective Packaging. http://www.epsindustry.org/sites/default/files/Recycled%20Content%20In%20Expanded%20Polystyrene%20Foam%20Protective%20Packaging.pdf
A36: EuRIC (2018a). Metal Recycling Factsheet. https://www.euric-aisbl.eu/position-papers/download/591/335/32
A37: EuRIC (2018b). Plastic Recycling Factsheet. https://circulareconomy.europa.eu/platform/sites/default/files/euric_-_plastic_recycling_fact_sheet.pdf
A38: Isover (2018). ISOVER Recycling. https://www.isover.fr/presse/isover-recycling
... A50: Bouwen met Staal (n.d.). Recycling en hergebruik. https://www.bouwenmetstaal.nl/themas/duurzaam/recycling-en-hergebruik/

Sheet S2.4.8. Insulation_shares
B1: Glass wool | C1: EPS | D1: Stone wool | E1: PUR | F1: XPS | G1: Biobased insulation
A2: 2018 | B2: 0.37 | C2: 0.27 | D2: 0.22 | E2: 0.08 | F2: 0.06
A3: Conventional | B3: 0.37 | C3: 0.27 | D3: 0.22 | E3: 0.08 | F3: 0.06
A4: Circular | B4: 0.37 | D4: 0.3 | G4: 0.33
A5: Biobased | B5: 0.37 | D5: 0.22 | G5: 0.41

Sheet S2.4.9. LCI_landuse
C1: Primary material demand
A2: Material | B2: selected LCI results | resource | land occupation (m2 year) | C2: Conventional | D2: Biboased | E2: Circular | F2: Source | G2: Building material | H2: Urbanization | I2: Aluminum | J2: Clay brick | K2: Concrete | L2: Glass | M2: Wood & other biobased materials | N2: Insulation | O2: Ceramic tile | P2: Copper | Q2: Steel & iron, and other metals | R2: Plastics | S2: Other construction materials
A3: Aluminum | B3: 0.44394423 | C3: 306806.18 | D3: 136219.08 | E3: 133779.57 | F3: Wernet et al. (2016) | G3: Conventional | H3: Dense | I3: 1.5792253e+08 | J3: 3.7969304e+08 | K3: 2.8080862e+09 | L3: 2.5828382e+08 | M3: 6.3898124e+10 | N3: 3.5029632e+08 | O3: 1.380071e+08 | P3: 1.2974952e+08 | Q3: 1.332547e+08 | R3: 51974479 | S3: 1.5107481e+09 | U3: 6.981614e+10
A4: Clay brick | B4: 0.011608828 | C4: 41578302 | D4: 10291436 | E4: 18353018 | H4: Sparse | I4: 1.988031e+08 | J4: 4.6323412e+08 | K4: 3.5630466e+09 | L4: 3.330805e+08 | M4: 9.009752e+10 | N4: 5.3524082e+08 | O4: 1.6856222e+08 | P4: 2.2926802e+08 | Q4: 8.0715329e+08 | R4: 66758066 | S4: 2.5992798e+09 | U4: 6.981614e+10
A5: Concrete | B5: 0.010754438 | C5: 3.0322386e+08 | D5: 76110290 | E5: 1.1002491e+08 | G5: Biobased | H5: Dense | I5: 92366946 | J5: 1.0293428e+08 | K5: 7.4758351e+08 | L5: 2.5828382e+08 | M5: 2.4946732e+11 | N5: 2.5564953e+08 | O5: 1.380071e+08 | P5: 1.2974952e+08 | Q5: 0 | R5: 52607457 | S5: 1.2187875e+09 | U5: 6.981614e+10
A6: Bitumen | B6: 0.11708439 | H6: Sparse | I6: 1.449961e+08 | J6: 1.2509498e+08 | K6: 1.2487913e+09 | L6: 3.330805e+08 | M6: 2.7142839e+11 | N6: 4.0821015e+08 | O6: 1.6856222e+08 | P6: 2.2926802e+08 | Q6: 4.7915449e+08 | R6: 66505653 | S6: 2.2249898e+09 | U6: 6.981614e+10
A7: Gypsum | B7: 0.037240974 | G7: Circular | H7: Dense | I7: 1.0299356e+08 | J7: 2.2909577e+08 | K7: 1.0909831e+09 | L7: 2.5828382e+08 | M7: 8.9260853e+10 | N7: 2.1653074e+08 | O7: 1.380071e+08 | P7: 1.2974952e+08 | Q7: 0 | R7: 59091548 | S7: 1.0513594e+09 | U7: 6.981614e+10
A8: Glass | B8: 0.14319652 | C8: 1859162.5 | D8: 1859162.5 | E8: 1859162.5 | H8: Sparse | I8: 1.4109921e+08 | J8: 3.0030193e+08 | K8: 1.9485102e+09 | L8: 3.330805e+08 | M8: 1.0651825e+11 | N8: 3.2464677e+08 | O8: 1.6856222e+08 | P8: 2.2926802e+08 | Q8: 6.9588363e+08 | R8: 74222519 | S8: 1.8110477e+09 | U8: 6.981614e+10
A9: Wood & other biobased materials | B9: 4.9520651 | C9: 14501871 | D9: 56323561 | E9: 22172682
A10: Insulation | B10: 0.085740983 | C10: 4226916.3 | D10: 1576150.4 | E10: 1623310.3
A11: stone, sand-lime stone | B11: 0.022454081
A12: Ceramic tile | B12: 0.098040546 | C12: 2476411.4 | D12: 2476411.4 | E12: 2476411.4
A13: Copper | B13: 1.6878697 | C13: 98253.124 | D13: 98253.124 | E13: 98253.124
A14: Steel & iron, and other metals | B14: 0.10262438 | C14: 1937453.2 | D14: 0 | E14: 593564.61
A15: Sand | B15: 0.022454081
A16: Plastics | B16: 0.093379211 | C16: 677690.78 | D16: 695473.2 | E16: 758748.48
A17: Other construction materials | B17: 0.049808383 | C17: 22459665 | D17: 22789343 | E17: 19500825
C18: =SUM(C3:C17) -> 3.9334639e+08
A21: References
A22: Wernet, G., Bauer, C., Steubing, B., Reinhard, J., Moreno-Ruiz, E., & Weidema, B. (2016). The ecoinvent database version 3 (part I): Overview and methodology. The International Journal of Life Cycle Assessment, 21(9), 1218–1230. https://doi.org/10.1007/s11367-016-1087-8

Sheet S2.4.10. LCI_GWP
A1: Primary material impact | D1: Secondary material impact
B2: IPCC 2013 | climate change | GWP 100a | E2: IPCC 2013 | climate change | GWP 100a | F2: Secondary_share_GWP | H2: Source
A3: Concrete | B3: 0.11748738 | D3: Concrete | E3: 0.12620658 | F3: 0.37 | H3: Wernet et al. (2016)
A4: Brick | B4: 0.24253743 | D4: Brick | E4: 0.23291802
A5: Other_cons | B5: 0.44673738 | D5: Other_cons | E5: 0.14221915
A6: Steel | B6: 2.1587681 | D6: Steel | E6: 0.5493453
A7: PUR | B7: 4.6140345 | D7: PUR
A8: XPS | B8: 4.2734114 | D8: XPS
A9: EPS | B9: 3.5415258 | D9: EPS | E9: 3.2437948 | F9: 0.12
A10: Glass wool | B10: 2.672248 | D10: Glass wool | E10: 0.57929596 | F10: 0.77
A11: Stone wool | B11: 1.3052964 | D11: Stone wool | E11: 0.67278638 | F11: 0.5
A12: Biobased insulation | B12: 0.089873878 | D12: Biobased insulation | E12: 0.039036843
A13: Ceramics | B13: 0.72968192 | D13: Ceramics | E13: 0.23291802
A14: Glass | B14: 0.96429253 | D14: Glass | E14: 0.82424066
A15: Wood_beam | B15: 0.10443501 | D15: Glass_glasswool | E15: 0.60506759 | F15: 0.41
A16: Wood_board | B16: 0.083101444 | D16: Wood_beam | E16: 0.050685597
A17: CLT | B17: 0.29640801 | D17: Wood_board | E17: 1.4375665
A18: Other | B18: 2.9976764 | D18: CLT
A19: Plastics | B19: 1.897504 | D19: Other
A20: Aluminum | B20: 20.974113 | D20: Plastics | E20: 1.1430134
A21: Copper | B21: 6.7357284 | D21: Aluminum | E21: 0.81035366
A22: Other_meta | B22: 2.1587681 | D22: Copper | E22: 0.30538773
A23: Other biobased | B23: 0.10443501 | D23: Other_meta | E23: 0.5493453
D24: Other biobased | E24: 1.4375665
A29: Material | B29: Urbanization | C29: Steel | D29: Copper | E29: Aluminum | F29: Other_meta | G29: Wood_beam | H29: Wood_board | I29: CLT | J29: Concrete | K29: Brick | L29: Other_cons | M29: Glass | N29: Ceramics | O29: Plastics | P29: Other | Q29: Other biobased | R29: Glass wool | S29: EPS | T29: Stone wool | U29: XPS | V29: PUR | W29: Biobased insulation | Z29: Building material | AA29: Urbanization | AB29: Megaton CO2 eq.
A30: Conventional | B30: Dense | C30: 6.4366213e+09 | D30: 5.3298774e+08 | E30: 7.5546516e+09 | F30: 25627279 | G30: 1.2561815e+09 | H30: 1.1342603e+09 | I30: 0 | J30: 4.7881016e+10 | K30: 1.0472107e+10 | L30: 1.6083511e+10 | M30: 2.0778699e+09 | N30: 1.1364285e+09 | O30: 1.2430702e+09 | P30: 2.3751383e+09 | Q30: 10603310 | R30: 4.9215781e+09 | S30: 5.1692062e+09 | T30: 1.4983826e+09 | U30: 1.2589105e+09 | V30: 1.8123402e+09 | W30: 0 | Z30: Conventional | AA30: Dense | AB30: 112.88049
B31: Sparse | C31: 1.6913325e+10 | D31: 9.1502469e+08 | E31: 9.3933375e+09 | F31: 92980718 | G31: 1.5592113e+09 | H31: 2.7926614e+08 | I31: 0 | J31: 3.901764e+10 | K31: 9.6974532e+09 | L31: 2.332471e+10 | M31: 2.2445902e+09 | N31: 1.2557836e+09 | O31: 1.3577527e+09 | P31: 2.4570449e+09 | Q31: 13487924 | R31: 6.1794146e+09 | S31: 5.9821083e+09 | T31: 1.7952222e+09 | U31: 1.6023657e+09 | V31: 2.3067817e+09 | W31: 0 | AA31: Sparse | AB31: 126.3875
A32: Biobased | B32: Dense | C32: 2.4699609e+09 | D32: 5.3298774e+08 | E32: 4.4574829e+09 | F32: 24537928 | G32: 2.2912335e+09 | H32: 1.315054e+09 | I32: 7.5247761e+09 | J32: 1.8340238e+10 | K32: 2.8389744e+09 | L32: 1.2975282e+10 | M32: 2.0778699e+09 | N32: 1.1364285e+09 | O32: 1.2559326e+09 | P32: 3.3581065e+09 | Q32: 39798617 | R32: 3.6728612e+09 | S32: 2.544208e+09 | T32: 1.1357079e+09 | U32: 0 | V32: 0 | W32: 1.3438238e+08 | Z32: Biobased | AA32: Dense | AB32: 68.125822
B33: Sparse | C33: 1.0018916e+10 | D33: 9.1502469e+08 | E33: 6.8512296e+09 | F33: 87729206 | G33: 2.4877749e+09 | H33: 4.4145938e+08 | I33: 7.6396698e+09 | J33: 1.3735444e+10 | K33: 2.6328813e+09 | L33: 1.9967658e+10 | M33: 2.2445902e+09 | N33: 1.2557836e+09 | O33: 1.3526236e+09 | P33: 3.6797633e+09 | Q33: 51587831 | R33: 4.7124261e+09 | S33: 17919660 | T33: 1.369153e+09 | U33: 0 | V33: 0 | W33: 1.7560622e+08 | AA33: Sparse | AB33: 79.63724
A34: Circular | B34: Dense | C34: 3.5878457e+09 | D34: 5.3298774e+08 | E34: 4.9595364e+09 | F34: 25562536 | G34: 1.6947825e+09 | H34: 1.2108712e+09 | I34: 0 | J34: 2.6764754e+10 | K34: 6.3185658e+09 | L34: 1.1192832e+10 | M34: 2.0778699e+09 | N34: 1.1364285e+09 | O34: 1.387692e+09 | P34: 2.4105168e+09 | Q34: 10603310 | R34: 3.2217585e+09 | S34: 2.544208e+09 | T34: 1.3378717e+09 | U34: 0 | V34: 0 | W34: 94629978 | Z34: Circular | AA34: Dense | AB34: 70.509317
B35: Sparse | C35: 1.4572942e+10 | D35: 9.1502469e+08 | E35: 6.6671214e+09 | F35: 92736624 | G35: 1.8431771e+09 | H35: 3.2886676e+08 | I35: 0 | J35: 2.1379558e+10 | K35: 6.2933924e+09 | L35: 1.6254961e+10 | M35: 2.2445902e+09 | N35: 1.2557836e+09 | O35: 1.5094335e+09 | P35: 2.2158739e+09 | Q35: 13487924 | R35: 3.7488057e+09 | S35: 17919660 | T35: 1.4851568e+09 | U35: 0 | V35: 0 | W35: 1.1243646e+08 | AA35: Sparse | AB35: 80.951268
A37: References
A38: Wernet, G., Bauer, C., Steubing, B., Reinhard, J., Moreno-Ruiz, E., & Weidema, B. (2016). The ecoinvent database version 3 (part I): Overview and methodology. The International Journal of Life Cycle Assessment, 21(9), 1218–1230. https://doi.org/10.1007/s11367-016-1087-8

Sheet S2.4.11. Primary_material
A1: Building material | B1: Urbanization | C1: Steel | D1: Copper | E1: Aluminum | F1: Other_meta | G1: Wood_beam | H1: Wood_board | I1: CLT | J1: Concrete | K1: Brick | L1: Other_cons | M1: Glass | N1: Ceramics | O1: Plastics | P1: Other | Q1: Other biobased | R1: Glass wool | S1: EPS | T1: Stone wool | U1: XPS | V1: PUR | W1: Biobased insulation
A2: Conventional | B2: Dense | C2: 1.2984703e+09 | D2: 76871764 | E2: 3.5572605e+08 | F2: 0 | G2: 1.058073e+10 | H2: 2.3225992e+09 | I2: 0 | J2: 2.6110953e+11 | K2: 3.2707268e+10 | L2: 3.0331202e+10 | M2: 1.8037018e+09 | N2: 1.4076533e+09 | O2: 5.5659583e+08 | P2: 7.9232644e+08 | Q2: 1.0153022e+08 | R2: 1.3994501e+09 | S2: 1.1665822e+09 | T2: 8.3210548e+08 | U2: 2.9459146e+08 | V2: 3.9278861e+08 | W2: 0 | Y2: 3.4752972e+11
B3: Sparse | C3: 7.8222391e+09 | D3: 1.3583277e+08 | E3: 4.4781098e+08 | F3: 42883470 | G3: 1.4919022e+10 | H3: 3.2749072e+09 | I3: 0 | J3: 3.3130942e+11 | K3: 3.9903609e+10 | L3: 5.2185588e+10 | M3: 2.3260377e+09 | N3: 1.7193113e+09 | O3: 7.1491359e+08 | P3: 8.196498e+08 | Q3: 1.2915136e+08 | R3: 2.3093254e+09 | S3: 1.6851834e+09 | T3: 1.3731124e+09 | U3: 3.7496171e+08 | V3: 4.9994895e+08 | W3: 0 | Y3: 4.6199291e+11
A4: Biobased | B4: Dense | C4: 0 | D4: 76871764 | E4: 2.080598e+08 | F4: 0 | G4: 2.0491697e+10 | H4: 4.4981774e+09 | I4: 2.5386547e+10 | J4: 6.9513954e+10 | K4: 8.8668969e+09 | L4: 2.4469525e+10 | M4: 1.8037018e+09 | N4: 1.4076533e+09 | O4: 5.6337441e+08 | P4: 1.1202365e+09 | Q4: 3.81085e+08 | R4: 9.3215935e+08 | S4: 0 | T4: 5.5425691e+08 | U4: 0 | V4: 0 | W4: 1.4952329e+09 | Y4: 1.6176943e+11
B5: Sparse | C5: 4.6285617e+09 | D5: 1.3583277e+08 | E5: 3.2660881e+08 | F5: 40450826 | G5: 2.3810327e+10 | H5: 5.2266572e+09 | I5: 2.5774168e+10 | J5: 1.1611869e+11 | K5: 1.0775849e+10 | L5: 4.4670991e+10 | M5: 2.3260377e+09 | N5: 1.7193113e+09 | O5: 7.1221049e+08 | P5: 1.2275385e+09 | Q5: 4.9397064e+08 | R5: 1.7603537e+09 | S5: 0 | T5: 1.0466968e+09 | U5: 0 | V5: 0 | W5: 1.9539183e+09 | Y5: 2.4274818e+11
A6: Circular | B6: Dense | C6: 0 | D6: 76871764 | E6: 2.3199662e+08 | F6: 0 | G6: 1.478048e+10 | H6: 3.2444957e+09 | I6: 0 | J6: 1.0144492e+11 | K6: 1.9734617e+10 | L6: 2.1108081e+10 | M6: 1.8037018e+09 | N6: 1.4076533e+09 | O6: 6.3281267e+08 | P6: 8.0412843e+08 | Q6: 1.0153022e+08 | R6: 7.6334914e+08 | S6: 0 | T6: 7.0913654e+08 | U6: 0 | V6: 0 | W6: 1.0529197e+09 | Y6: 1.6789669e+11
B7: Sparse | C7: 6.7381102e+09 | D7: 1.3583277e+08 | E7: 3.1783093e+08 | F7: 42770398 | G7: 1.7638089e+10 | H7: 3.8717756e+09 | I7: 0 | J7: 1.8118197e+11 | K7: 2.5868411e+10 | L7: 3.6360299e+10 | M7: 2.3260377e+09 | N7: 1.7193113e+09 | O7: 7.9485057e+08 | P7: 7.3919715e+08 | Q7: 1.2915136e+08 | R7: 1.3997508e+09 | S7: 0 | T7: 1.1355684e+09 | U7: 0 | V7: 0 | W7: 1.2510472e+09 | Y7: 2.8165e+11
G14: Land use related to wood production, based on Van Oorschot et al., 2023
J16: Primary wood demand
H17: kg | J17: Board hardwood | K17: Beam softwood | L17: Beam hardwood | M17: CLT
H18: Conventional | I18: Dense | J18: =H2 -> 2.3225992e+09 | K18: =G2*0.65 -> 6.8774743e+09 | L18: =G2*0.35 -> 3.7032554e+09 | M18: 0
I19: Sparse | J19: =H3 -> 3.2749072e+09 | K19: =G3*0.65 -> 9.6973642e+09 | L19: =G3*0.35 -> 5.2216576e+09 | M19: =I3 -> 0
H20: Biobased | I20: Dense | J20: =H4 -> 4.4981774e+09 | K20: =G4*0.65 -> 1.3319603e+10 | L20: =G4*0.35 -> 7.1720939e+09 | M20: =I4 -> 2.5386547e+10
I21: Sparse | J21: =H5 -> 5.2266572e+09 | K21: =G5*0.65 -> 1.5476713e+10 | L21: =G5*0.35 -> 8.3336145e+09 | M21: =I5 -> 2.5774168e+10
H22: Circular | I22: Dense | J22: =H6 -> 3.2444957e+09 | K22: =G6*0.65 -> 9.6073121e+09 | L22: =G6*0.35 -> 5.1731681e+09 | M22: =I6 -> 0
I23: Sparse | J23: =H7 -> 3.8717756e+09 | K23: =G7*0.65 -> 1.1464758e+10 | L23: =G7*0.35 -> 6.1733311e+09 | M23: =I7 -> 0
J24: Board hardwood | K24: Beam softwood | L24: Beam hardwood | M24: CLT
H25: kg/m3 | J25: 650 | K25: 460 | L25: 650 | M25: 490
H26: amount needed for 1 m3 | J26: 1.7321033 | K26: 1.5901181 | L26: 1.6777732 | M26: 1.9817055
H28: Total primary sawlog demand 2018-2050 (m3) | J28: Board hardwood | K28: Beam softwood | L28: Beam hardwood | M28: CLT
H29: Conventional | I29: Dense | J29: =J18/J$25*J$26 -> 6189202.8 | K29: =K18/K$25*K$26 -> 23773905 | L29: =L18/L$25*L$26 -> 9558804.3 | M29: =M18/M$25*M$26 -> 0
I30: Sparse | J30: =J19/J$25*J$26 -> 8726888.8 | K30: =K19/K$25*K$26 -> 33521640 | L30: =L19/L$25*L$26 -> 13478088 | M30: =M19/M$25*M$26 -> 0
H31: Biobased | I31: Dense | J31: =J20/J$25*J$26 -> 11986628 | K31: =K20/K$25*K$26 -> 46042917 | L31: =L20/L$25*L$26 -> 18512534 | M31: =M20/M$25*M$26 -> 1.0267074e+08
I32: Sparse | J32: =J21/J$25*J$26 -> 13927862 | K32: =K21/K$25*K$26 -> 53499567 | L32: =L21/L$25*L$26 -> 21510639 | M32: =M21/M$25*M$26 -> 1.0423839e+08
H33: Circular | I33: Dense | J33: =J22/J$25*J$26 -> 8645848.8 | K33: =K22/K$25*K$26 -> 33210350 | L33: =L22/L$25*L$26 -> 13352928 | M33: =M22/M$25*M$26 -> 0
I34: Sparse | J34: =J23/J$25*J$26 -> 10317408 | K34: =K23/K$25*K$26 -> 39631128 | L34: =L23/L$25*L$26 -> 15934538 | M34: =M23/M$25*M$26 -> 0
I36: Hardwood | J36: Softwood
H37: Yield (m3/m2) (excluding bark)* | I37: =(0.0214+0.02771)/2 -> 0.024555 | J37: =(0.0694+0.0384)/2 -> 0.0539
H38: rotation period (years) * | I38: 140 | J38: 110
H40: Yield (m3/m2) (excluding bark)/year * | I40: =I37/I38 -> 0.00017539286 | J40: =J37/J38 -> 0.00049
G41: Demand in m3/year
G42: Conventional | H42: Dense | I42: =(J29+L29)/32 -> 492125.22 | J42: =(K29+M29)/32 -> 742934.53
H43: Sparse | I43: =(J30+L30)/32 -> 693905.54 | J43: =(K30+M30)/32 -> 1047551.2
G44: Biobased | H44: Dense | I44: =(J31+L31)/32 -> 953098.81 | J44: =(K31+M31)/32 -> 4647301.6
H45: Sparse | I45: =(J32+L32)/32 -> 1107453.2 | J45: =(K32+M32)/32 -> 4929311
G46: Circular | H46: Dense | I46: =(J33+L33)/32 -> 687461.76 | J46: =(K33+M33)/32 -> 1037823.4
H47: Sparse | I47: =(J34+L34)/32 -> 820373.33 | J47: =(K34+M34)/32 -> 1238472.7
G49: Land occupation | K49: Total m2 | L49: Total km2 | M49: % of surface area NL
G50: Conventional | H50: Dense | I50: =I42/I$40 -> 2.8058453e+09 | J50: =J42/J$40 -> 1.5161929e+09 | K50: =I50+J50 -> 4.3220382e+09 | L50: =K50/1000000 -> 4322.0382 | M50: =K50/H$58 -> 0.1040377
H51: Sparse | I51: =I43/I$40 -> 3.956293e+09 | J51: =J43/J$40 -> 2.1378597e+09 | K51: =I51+J51 -> 6.0941527e+09 | L51: =K51/1000000 -> 6094.1527 | M51: =K51/H$58 -> 0.14669506
G52: Biobased | H52: Dense | I52: =I44/I$40 -> 5.43408e+09 | J52: =J44/J$40 -> 9.484289e+09 | K52: =I52+J52 -> 1.4918369e+10 | L52: =K52/1000000 -> 14918.369 | M52: =K52/H$58 -> 0.35910668
H53: Sparse | I53: =I45/I$40 -> 6.3141292e+09 | J53: =J45/J$40 -> 1.0059818e+10 | K53: =I53+J53 -> 1.6373948e+10 | L53: =K53/1000000 -> 16373.948 | M53: =K53/H$58 -> 0.39414456
G54: Circular | H54: Dense | I54: =I46/I$40 -> 3.9195539e+09 | J54: =J46/J$40 -> 2.118007e+09 | K54: =I54+J54 -> 6.0375609e+09 | L54: =K54/1000000 -> 6037.5609 | M54: =K54/H$58 -> 0.14533281
H55: Sparse | I55: =I47/I$40 -> 4.6773474e+09 | J55: =J47/J$40 -> 2.5274954e+09 | K55: =I55+J55 -> 7.2048428e+09 | L55: =K55/1000000 -> 7204.8428 | M55: =K55/H$58 -> 0.17343097
G58: Surface area NL | H58: 41543000000 | I58: m2
