Workbook

Sheet Study metadata
R1: Temporal samples
A2: Title | B2: Year | C2: First author | D2: Short description | E2: Environment | F2: Environment Sub | G2: Type sample | H2: Extraction mass/Extraction volume | I2: extraction method | J2: Longitudinal controls? | K2: Repeated sampling? | L2: disturbance | M2: #Time Series | N2: Forward Primer | O2: Reverse Primer | P2: replicates | Q2: Control | R2: 0 | S2: 1 | T2: 2 | U2: 3 | V2: 4 | W2: 5 | X2: 6 | Y2: 7 | Z2: 8 | AA2: 9 | AB2: 10 | AC2: 11 | AD2: 12 | AE2: 13 | AF2: 14 | AG2: 15 | AH2: 16 | AI2: 17 | AJ2: 18 | AK2: 19 | AL2: 20 | AM2: 21 | AN2: 22 | AO2: 23 | AP2: 24 | AQ2: 25 | AR2: 26 | AS2: 27 | AT2: 28 | AU2: 29 | AV2: 30 | AW2: Extra times | AX2: Accession | AY2: DOI | AZ2: TruncF | BA2: Trimleft | BB2: Excluded from before/after
A3: Microbial interactions lead to rapid micro-scale successions on model marine particles | B3: 2016 | C3: Datta | D3: Tracked the taxon and trait dynamics of bacteria attached to model marine particles | E3: Seawater Microcosm | F3: ~800 ml | G3: chitin beads from microcosm | H3: 1 ml | I3: MasterPure DNA Purification Kit (Epicentre Technologies | J3: No | K3: Yes | L3: Colonization of sterile chitin beads | M3: 1 | N3: 515 | O3: 786 | P3: 3 | Q3: y | R3: y | S3: y | T3: y | U3: y | V3: y | W3: y | X3: y | AX3: PRJNA319196 | AY3: 10.1038/ncomms11965 | AZ3: =VLOOKUP(C3,'Processing parameters'!$C$1:$E$30,2,FALSE) -> 115 | BA3: =VLOOKUP(C3,'Processing parameters'!$C$1:$E$30,3,FALSE) -> 25 | BB3: FALSE
A4: Gut Microbial Succession Follows Acute Secretory Diarrhea in Humans | B4: 2015 | C4: David | D4: Reported that after Vibrio cholerae infection, the human gut microbiota undergoes an orderly and reproducible succession | E4: Mammal Host | F4: Human-Children | G4: Rectal swabs | H4: NA | I4: Mobio Powersoil DNA isolation kit (Qiagen) | J4: No | K4: Yes | L4: Azithromycin in cholera or cholera + E. coli infected patients | M4: 2 | N4: 515 | O4: 806 | P4: 18 | Q4: Y | R4: Y | Y4: Y | AV4: Y | AW4: 90, 180 | AX4: PRJEB9150 | AY4: 10.1128/mBio.00381-15 | AZ4: =VLOOKUP(C4,'Processing parameters'!$C$1:$E$30,2,FALSE) -> 100 | BA4: =VLOOKUP(C4,'Processing parameters'!$C$1:$E$30,3,FALSE) -> 10 | BB4: FALSE
A5: Soil Bacterial networks are less stable under drought than fungal networks | B5: 2018 | C5: de Vries | D5: Showed in grassland mesocosms that drought promotes destabilising properties in soil bacterial, but not fungal, co-occurrence networks. | E5: Soil Microcosm | F5: 42 L | G5: soil | H5: 0.3 g | I5: Mobio Powersoil DNA isolation kit (Qiagen) | J5: Yes | K5: Yes | L5: Drought | M5: 8 | N5: 341 | O5: 806 | P5: 4 | Q5: Y | R5: Y | Y5: Y | AW5: 60 | AX5: PRJEB27398 | AY5: 10.1038/s41467-018-05516-7 | AZ5: =VLOOKUP(C5,'Processing parameters'!$C$1:$E$30,2,FALSE) -> 115 | BA5: =VLOOKUP(C5,'Processing parameters'!$C$1:$E$30,3,FALSE) -> 25 | BB5: FALSE
A6: Temporal dynamics of bacterioplankton communities in response to excessive nitrate loading in oligotrophic coastal water | B6: 2017 | C6: Dong | D6: Oligotrophic coastal water microcosms were perturbed with nitrate in two loading modes: one-off loading at the beginning of the incubation period; and periodic loading every two days for 16 days. | E6: Seawater Microcosm | F6: 35 L | G6: seawater | H6: 500 ml | I6: Mobio Powersoil DNA isolation kit (Qiagen) | J6: Yes | K6: Yes | L6: One-off nitrogen loading | M6: 1 | N6: 515 | O6: 806 | P6: 4 | Q6: Y | R6: Y | T6: Y | V6: Y | Z6: Y | AH6: Y | AX6: PRJDB5020 | AY6: 10.1016/j.marpolbul.2016.10.041 | AZ6: =VLOOKUP(C6,'Processing parameters'!$C$1:$E$30,2,FALSE) -> 115 | BA6: =VLOOKUP(C6,'Processing parameters'!$C$1:$E$30,3,FALSE) -> 25 | BB6: FALSE
A7: The Monoclonal Antitoxin Antibodies (Actoxumab–Bezlotoxumab) Treatment Facilitates Normalization of the Gut Microbiota of Mice with Clostridium difficile Infection | B7: 2016 | C7: Dzunkova | D7: compared the bacterial diversity of the gut microbiome of mice under different treatments including MK-3415A, vancomycin, or vancomycin combined with MK-3415A, sampled longitudinally | E7: Mammal Host | F7: Mice | G7: feces | H7: 100 ul | I7: CTAB, Phenol-chloroform extraction | J7: No | K7: Yes | L7: Antibodies, clostridium difficile infection, and vancomycin | M7: 3 | N7: 341 | O7: 785 | P7: 10 | Q7: Y | R7: y | T7: y | V7: y | X7: y | Z7: y | AB7: y | AD7: y | AF7: y | AH7: y | AX7: PRJEB10920 | AY7: 10.3389/fcimb.2016.00119 | AZ7: =VLOOKUP(C7,'Processing parameters'!$C$1:$E$30,2,FALSE) -> 140 | BA7: =VLOOKUP(C7,'Processing parameters'!$C$1:$E$30,3,FALSE) -> 50 | BB7: FALSE
A8: Evaluation of the impact of dental prophylaxis on the oral microbiota of dogs | B8: 2018 | C8: Flancman | D8: Thirty dogs received a dental prophylaxis. Supragingival plaque and composite oral samples were collected just prior to, and one week after dental prophylaxis. A subsample of 10 dogs was followed, and additional samples were collected two and five weeks post-prophylaxis | E8: Mammal Host | F8: Dog | G8: Oral swabs | H8: NA | I8: E.Z.N.A. Forensic DNA Kit (Buccal Swabs Protocol, Omega Bio-Tek) | J8: No | K8: Yes | L8: Dental prophylaxis | M8: 1 | N8: 564 | O8: 785 | P8: 10 | Q8: Y | Y8: Y | AT8: y | AX8: https://doi.org/10.5683/SP/RZM9HE | AY8: 10.1371/journal.pone.0199676 | AZ8: =VLOOKUP(C8,'Processing parameters'!$C$1:$E$30,2,FALSE) -> 115 | BA8: =VLOOKUP(C8,'Processing parameters'!$C$1:$E$30,3,FALSE) -> 25 | BB8: TRUE
A9: Quality of Irrigation Water Affects Soil Functionality and Bacterial Community Stability in Response to Heat Disturbance | B9: 2017 | C9: Frenk | D9: Exposed soil microcosms to different irrigation water types, including freshwater, fertilized freshwater, treated wastewater, and artificial wastewater, and evaluated their response to a disturbance caused by heat. | E9: Soil Microcosm | F9: 80 g | G9: soil | H9: 0.5 g | I9: CTAB, Phenol-chloroform extraction | J9: Yes | K9: No | L9: Irrigation, water quality, single heat stress | M9: 4 | N9: 515 | O9: 806 | P9: 3 | Q9: Y | R9: Y | V9: Y | Z9: y | AM9: Y | AX9: PRJNA284605 | AY9: 10.1128/AEM.02087-17 | AZ9: =VLOOKUP(C9,'Processing parameters'!$C$1:$E$30,2,FALSE) -> 115 | BA9: =VLOOKUP(C9,'Processing parameters'!$C$1:$E$30,3,FALSE) -> 25 | BB9: FALSE
A10: From rare to dominant: a fine-tuned soil bacterial bloom during petroleum hydrocarbon bioremediation | B10: 2016 | C10: Fuentes | D10: Replicate diesel-spiked soil microcosms were inoculated with either a defined bacterial consortium or a hydrocarbonoclastic bacterial enrichment and incubated for 12 weeks. The microbial community dynamics was followed weekly in microcosms | E10: Soil Microcosm | F10: 300 g | G10: soil | H10: 0.5 g | I10: Mobio Powersoil DNA isolation kit (Qiagen) | J10: Yes | K10: Yes | L10: Diesel-pollution, diesel-pollution + bioaugmentation with bacterial consortium, diesel-pollution + bioaugmentation with bacterial enrichments | M10: 3 | N10: 515 | O10: 806 | P10: 3 | Q10: Y | R10: Y | Y10: Y | AF10: Y | AM10: Y | AT10: Y | AW10: 35; 42;49;…. Weekly for 12 weeks | AX10: PRJNA291526 | AY10: 10.1128/AEM.02625-15 | AZ10: =VLOOKUP(C10,'Processing parameters'!$C$1:$E$30,2,FALSE) -> 100 | BA10: =VLOOKUP(C10,'Processing parameters'!$C$1:$E$30,3,FALSE) -> 10 | BB10: FALSE
A11: Effects of bio‐based residue amendments on greenhouse gas emission from agricultural soil are stronger than effects of soil type with different microbial community composition | B11: 2017 | C11: Ho | D11: Applied six bio‐based residues with broad C : N ratios (5–521) in two agricultural soils (sandy loam and clay; representative of vast production areas in north‐western Europe). | E11: Soil Microcosm | F11: 2500 g | G11: soil | H11: NA | I11: Mobio PowerMag soil DNA isolation bead plate (Qiagen) | J11: Yes | K11: No | L11: Ammendments | M11: 12 | N11: 515 | O11: 909 | Q11: Y | R11: Y | Y11: y | AE11: y | AG11: y | AX11: PRJEB20909 | AY11: 10.1111/gcbb.12457 | AZ11: =VLOOKUP(C11,'Processing parameters'!$C$1:$E$30,2,FALSE) -> 115 | BA11: =VLOOKUP(C11,'Processing parameters'!$C$1:$E$30,3,FALSE) -> 25 | BB11: TRUE
A12: Bacterial communities in soil become sensitive to drought under intensive grazing | B12: 2017 | C12: Jurburg | D12: Exposed soils from sustainably- or intensively-managed grasslands in an agro-silvo-pastoral oak woodland to month-long intensified drought and flood simulation treatments in a controlled mesocosm setting. | E12: Soil Microcosm | F12: 8.55 L | G12: soil | H12: 0.5 g | I12: Mobio Powersoil DNA isolation kit (Qiagen) | J12: Yes | K12: Yes | L12: Drought, flood | M12: 4 | N12: 515 | O12: 806 | P12: 3 | Q12: Y | R12: Y | W12: y | AD12: y | AR12: y | AX12: PRJNA412478 | AY12: 10.1016/j.scitotenv.2017.10.012 | AZ12: =VLOOKUP(C12,'Processing parameters'!$C$1:$E$30,2,FALSE) -> 115 | BA12: =VLOOKUP(C12,'Processing parameters'!$C$1:$E$30,3,FALSE) -> 25 | BB12: TRUE
A13: Successional dynamics in the gut microbiome determine the success of Clostridium difficile infection in adult pig models | B13: 2019 | C13: Jurburg | D13: Pre-treated weaned pigs with the antibiotics Clindamycin or Ciprofloxacin for one day, and subsequently inoculated them with a human and pig enteropathogenic C. difficile strain 078 spores. | E13: Mammal Host | F13: Pig | G13: Feces | H13: NA | I13: mag Mini DNA Isolation Kit (AGOWA) | J13: Yes | K13: Yes | L13: Ciprofloxacin, clindamycin, Ciprofloxacin+C.difficile, Clindamycin+C.difficile | M13: 4 | N13: 515 | O13: 806 | P13: 5 | Q13: Y | R13: Y | S13: Y | T13: y | U13: y | V13: y | W13: y | X13: y | Y13: y | Z13: y | AA13: y | AB13: y | AC13: y | AD13: y | AE13: y | AF13: y | AG13: y | AX13: PRJNA528235 | AY13: 10.3389/fcimb.2019.00271 | AZ13: =VLOOKUP(C13,'Processing parameters'!$C$1:$E$30,2,FALSE) -> 115 | BA13: =VLOOKUP(C13,'Processing parameters'!$C$1:$E$30,3,FALSE) -> 25 | BB13: FALSE
A14: Differential responses of RNA and DNA during secondary succession in soil microbiomes | B14: Unpub | C14: Jurburg | D14: Soil microcosms were exposed to a heat shock and they were monitored for 49 days | E14: Soil Microcosm | F14: 50 g | G14: soil | H14: 0.5 g | I14: Mobio Powersoil DNA isolation kit (Qiagen) | J14: Yes | K14: No | L14: Microwave heat shock | M14: 2 | N14: 515 | O14: 806 | P14: 5 | Q14: Y | R14: Y | S14: y | V14: y | AB14: y | AJ14: y | AP14: y | AQ14: y | AU14: y | AX14: PRJNA329541 | AY14: 10.1038/srep45691 | AZ14: =VLOOKUP(C14,'Processing parameters'!$C$1:$E$30,2,FALSE) -> 115 | BA14: =VLOOKUP(C14,'Processing parameters'!$C$1:$E$30,3,FALSE) -> 25 | BB14: FALSE
A15: Temporal dynamics of gut microbiota in triclocarban-exposed weaned rats | B15: 2018 | C15: Kennedy | D15: Rats were provided ad lib access to TCC-supplemented diet (0.2% w/w or 0.5% w/w) for 4 weeks (phase I) followed by a 4-week washout period (phase II) to determine gut microflora changes both during continuous exposure to TCC and to determine the potential rebound following TCC withdrawal. | E15: Mammal Host | F15: Rat | G15: Feces | H15: NA | I15: QIAamp DNA Stool Mini Kit (Qiagen) | J15: Yes | K15: Yes | L15: 28 days of TCC exposure | M15: 2 | N15: 515 | O15: 806 | P15: 4 | Q15: y | T15: y | Z15: y | AC15: y | AT15: Y | AX15: PRJNA351840 | AY15: 10.1007/s11356-018-1627-9 | AZ15: =VLOOKUP(C15,'Processing parameters'!$C$1:$E$30,2,FALSE) -> 115 | BA15: =VLOOKUP(C15,'Processing parameters'!$C$1:$E$30,3,FALSE) -> 25 | BB15: FALSE
A16: Microwave Heat Disturbance Alters Soil Microbial Communities from Three Australian Agricultural Lands | B16: NA | C16: Khan | D16: Weeds reduce agricultural productivity by competing for resources intended for crops. Recently, the deactivation of weed seedbanks by microwave (MW) radiation has been developed as a chemical-free weed management practice. It is unknown, if these extreme heat disturbances permanently alter the soil microbiome, or if this positively (e.g., soil disinfestation) or negatively (e.g., a reduction in ecosystem services) affects soil health. We performed a microcosm experiment to quantify the immediate and short-term effect of MW heating on the soil microbiome. We exposed three different soil types (dryland, temperate and irrigated farming systems) to MW heating, and monitored the fungal and bacterial communities immediately after heating as well as 14 and 28 days later. Bacterial and fungal community composition were strongly dependent on the soil of origin. Following MW heating, bacterial and fungal richness decreased in all soils and did not recover during the period studied (four weeks). Notably, in all soils, bacterial communities became more dissimilar to each other following disturbance, but in fungi, this depended on the soil of origin. These results suggest that bacterial communities may be less resilient to MW soil heating required for weed seedbank deactivation than fungi, and highlight the need to understand how microbial functions are affected by this management technique in the long term. | E16: Soil Microcosm | F16: 20 g | G16: soil | H16: 0.25 g | I16: Mobio Powersoil DNA isolation kit (Qiagen) | J16: Yes | K16: Yes | L16: Microwave | M16: 3 | N16: 341 | O16: 806 | P16: 4 | Q16: y | R16: y | AF16: y | AT16: y | AW16: 42, 56 | AX16: PRJNA755954 | AY16: 10.2139/ssrn.4333636 | AZ16: =VLOOKUP(C16,'Processing parameters'!$C$1:$E$30,2,FALSE) -> 115 | BA16: =VLOOKUP(C16,'Processing parameters'!$C$1:$E$30,3,FALSE) -> 25 | BB16: FALSE
A17: Resistance and Recovery of Methane-Oxidizing Communities Depends on Stress Regime and History; A Microcosm Study | B17: 2018 | C17: Kruistum | D17: Tested resistance and recovery of soil methane-oxidizing communities to two different, repeated, perturbations: soil drying, ammonium addition and their combination. | E17: Soil Microcosm | F17: Petri dish | G17: soil | H17: 0.5 g | I17: Mobio Powersoil DNA isolation kit (Qiagen) | J17: Yes | K17: Yes | L17: Drying and ammonium addition | M17: 3 | N17: 515 | O17: 806 | P17: 6 | Q17: Y | R17: Y | S17: Y | Y17: Y | Z17: y | AF17: y | AX17: PRJEB24893 | AY17: 10.3389/fmicb.2018.01714 | AZ17: =VLOOKUP(C17,'Processing parameters'!$C$1:$E$30,2,FALSE) -> 115 | BA17: =VLOOKUP(C17,'Processing parameters'!$C$1:$E$30,3,FALSE) -> 25 | BB17: FALSE
A18: Baseline microbiota composition modulates antibiotic-mediated effects on the gut microbiota and host | B18: 2019 | C18: Lavelle | D18: tested whether different human microbiomes have different responses to commonly prescribed antibiotics in humanized mouse microbiomes | E18: Mammal Host | F18: Mice | G18: Colon luminal content (feces) | H18: All contents? | I18: Custom protocol, TRIS EDTA | J18: No | K18: Yes | L18: 7 day amoxicillin challenge | M18: 1 | N18: 343 | O18: 806 | P18: 4 | Q18: y | S18: y | V18: y | AC18: y | AX18: PRJNA544904 | AY18: 10.1186/s40168-019-0725-3 | AZ18: =VLOOKUP(C18,'Processing parameters'!$C$1:$E$30,2,FALSE) -> 115 | BA18: =VLOOKUP(C18,'Processing parameters'!$C$1:$E$30,3,FALSE) -> 25 | BB18: FALSE
A19: Distinct Successions of Common and Rare Bacteria in Soil Under Humic Acid Amendment – A Microcosm Study | B19: 2019 | C19: Li | D19: Performed a microcosm experiment with a gradient of humic acid ammendments. | E19: Soil microcosms | F19: 30g | G19: soil | H19: 0.5g | I19: Fast DNA SPIN kit (MP biomedicals) | J19: Yes | K19: No | L19: humic acid addition | M19: 7 | N19: 515 | O19: 907 | P19: 3 | Q19: y | Y19: y | AG19: y | AV19: y | AW19: 60 | AX19: PRJNA505996 | AY19: 10.3389/fmicb.2019.02271 | AZ19: =VLOOKUP(C19,'Processing parameters'!$C$1:$E$30,2,FALSE) -> 115 | BA19: =VLOOKUP(C19,'Processing parameters'!$C$1:$E$30,3,FALSE) -> 25 | BB19: TRUE
A20: Effects of Pseudomonas chenduensis and biochar on cadmium availability and microbial community in the paddy soil | B20: 2018 | C20: Li | D20: Added a heavy metal resistant bacterium and biochar derived from oil palm fibers to simulated Cd-contaminated paddy soil to investigate the roles of these additives in the soil remediation and regulating local microbial community. | E20: Soil Microcosm | F20: 4 L/ 3000 g | G20: paddy soil | H20: NA | I20: Mobio Powersoil DNA isolation kit (Qiagen) | J20: Yes | K20: No | L20: Biochar and MBR bacteria addition on Cd contaminated soil | M20: 2 | N20: 515 | O20: 909 | P20: 3 | Q20: Y | S20: y | Y20: y | AV20: y | AX20: PRJEB24063 | AY20: 10.1016/j.scitotenv.2018.05.287 | AZ20: =VLOOKUP(C20,'Processing parameters'!$C$1:$E$30,2,FALSE) -> 115 | BA20: =VLOOKUP(C20,'Processing parameters'!$C$1:$E$30,3,FALSE) -> 25 | BB20: FALSE
A21: Ecotoxicological Effects of Fungicides Azoxystrobin and Pyraclostrobin on Freshwater Aquatic Bacterial Communities | B21: 2019 | C21: Lu | D21: Evaluated the effect of fungicides azoxystrobin and pyraclostrobin on the freshwater microbiome | E21: Fresh water microcosms | F21: 100 ml | G21: Freshwater | H21: ? | I21: Dneasy Tissue Reagents (Qiagen) | J21: Yes | K21: Yes | L21: Pyraclostrobin and azoxystrobin addition | M21: 2 | N21: 341 | O21: 805 | P21: 3 | Q21: y | Y21: y | AF21: y | AX21: PRJNA499161 | AY21: 10.1007/s00128-019-02706-x | AZ21: =VLOOKUP(C21,'Processing parameters'!$C$1:$E$30,2,FALSE) -> 115 | BA21: =VLOOKUP(C21,'Processing parameters'!$C$1:$E$30,3,FALSE) -> 25 | BB21: TRUE
A22: Fumonisin-Exposure Impairs Age-Related Ecological Succession of Bacterial Species in Weaned Pig Gut Microbiota | B22: 2018 | C22: Mateos | D22: Investigated the effects of the fumonisin (FB1, 12 mg/kg feed) on the fecal microbiota of piglets (n = 6) after 0, 8, 15, 22, and 29 days of exposure. | E22: Mammal Host | F22: Pig-Piglet | G22: Fecal Swabs | H22: NA | I22: Quick-DNA™ Fecal/Soil Microbe Kit (Zymo Research) | J22: Yes | K22: Yes | L22: fumonisin-enriched feed | M22: 1 | N22: 343 | O22: 784 | P22: 6 | Q22: Y | R22: Y | Z22: Y | AG22: Y | AN22: Y | AU22: Y | AX22: PRJNA449994 | AY22: 10.3390/toxins10060230 | AZ22: =VLOOKUP(C22,'Processing parameters'!$C$1:$E$30,2,FALSE) -> 115 | BA22: =VLOOKUP(C22,'Processing parameters'!$C$1:$E$30,3,FALSE) -> 25 | BB22: FALSE
A23: Weathered crude oil alters biogeochemical cycles and microbial populations in permeable subtidal sediments | B23: 2019 EST | C23: Overholt | D23: employed advective-flow chambers that simulate in-situ pressure gradients found in saturated subtidal coastal sediments to test the underlying ecological principles governing the microbial response to an oil disturbance | E23: Seawater Microcosm | F23: 8.5 L | G23: seawater | H23: NA | I23: Mobio Powersoil DNA isolation kit (Qiagen) | J23: Yes | K23: Yes | L23: One-off oil contamination | M23: 1 | N23: 515 | O23: 806 | Q23: Y | AX23: NA | AY23: In prep | AZ23: =VLOOKUP(C23,'Processing parameters'!$C$1:$E$30,2,FALSE) -> 115 | BA23: =VLOOKUP(C23,'Processing parameters'!$C$1:$E$30,3,FALSE) -> 25 | BB23: FALSE
A24: Alteration in successional trajectories of bacterioplankton communities in response to co-exposure of cadmium and phenanthrene in coastal water microcosms | B24: 2017 | C24: Qian | D24: Mimicked contaminations using coastal water microcosms spiked with Cd (1 mg/L), phenanthrene as representatives of metals and PAHs (1 mg/L), and their mixture over two weeks. | E24: Seawater Microcosm | F24: 42 L | G24: seawater | H24: 500 ml | I24: Mobio Powersoil DNA isolation kit (Qiagen) | J24: Yes | K24: Yes | L24: Cd and PAH contamination, full factorial | M24: 3 | N24: 515 | O24: 806 | P24: 5 | Q24: Y | S24: y | V24: Y | Y24: Y | AF24: Y | AX24: PRJDB4992 | AY24: 10.1016/j.envpol.2016.12.020 | AZ24: =VLOOKUP(C24,'Processing parameters'!$C$1:$E$30,2,FALSE) -> 115 | BA24: =VLOOKUP(C24,'Processing parameters'!$C$1:$E$30,3,FALSE) -> 25 | BB24: FALSE
A25: Prokaryotic and eukaryotic microbial community responses to N and P nutrient addition in oligotrophic Mediterranean coastal waters: Novel insights from DNA metabarcoding and network analysis | B25: 2019 | C25: Santi | D25: Investigated how abrupt inputs of high quantities of dissolved inorganic nitrogen and phosphorus affected the seawater microbiome at two nutrient levels | E25: Seawater mesocosms | F25: 1500L | G25: seawater | H25: 6L | I25: MoBio PowerWater DNA isolation kits | J25: Yes | K25: Yes | L25: Phosphorus and Nitrogen addition | M25: 2 | N25: 515 | O25: 806 | P25: 3 | Q25: y | R25: y | X25: y | AD25: y | AX25: PRJEB25787 | AY25: 10.1016/j.marenvres.2019.104752 | AZ25: =VLOOKUP(C25,'Processing parameters'!$C$1:$E$30,2,FALSE) -> 140 | BA25: =VLOOKUP(C25,'Processing parameters'!$C$1:$E$30,3,FALSE) -> 50 | BB25: FALSE
A26: Fecal microbiota transplant eliminates Clostridium difficile in a murine model of relapzing disease | B26: 2015 | C26: Seekatz | D26: Presented a murine model of CDI relapse to further define the microbiota recovery following FMT. Cefoperazone-treated mice were infected with C. difficile 630 spores and treated with vancomycin after development of clinical disease. | E26: Mammal Host | F26: Mouse | G26: Feces | H26: NA | I26: MoBio PowerMag Soil Isolation Kit (Qiagen) | J26: No | K26: Yes | L26: Cefoperazone and vancomycin, clindamycin | M26: 5 | N26: 515 | O26: 806 | P26: 5 | Q26: Y | R26: Y | S26: y | V26: Y | AB26: Y | AD26: Y | AH26: Y | AK26: Y | AN26: Y | AS26: Y | AW26: 33,36,42 | AX26: PRJNA279891 | AY26: 10.1128/IAI.00459-15 | AZ26: =VLOOKUP(C26,'Processing parameters'!$C$1:$E$30,2,FALSE) -> 115 | BA26: =VLOOKUP(C26,'Processing parameters'!$C$1:$E$30,3,FALSE) -> 25 | BB26: FALSE
A27: Effects of wastewater treatment plant effluent inputs on planktonic metabolic rates and microbial community composition in the Baltic Sea | B27: 2016 | C27: Vaquer-Sunyer | D27: Evaluated the effects of wastewater treatment plant effluent inputs on Baltic Sea planktonic communities | E27: Seawater Microcosm | F27: 2.3 L | G27: seawater | H27: NA | I27: NA | J27: Yes | K27: Yes | L27: WWTP effluent contamination | M27: 4 | N27: 341 | O27: 805 | Q27: Y | R27: Y | U27: Y | Y27: Y | AX27: PRJNA285527 | AY27: 10.5194/bg-13-4751-2016 | AZ27: =VLOOKUP(C27,'Processing parameters'!$C$1:$E$30,2,FALSE) -> 115 | BA27: =VLOOKUP(C27,'Processing parameters'!$C$1:$E$30,3,FALSE) -> 25 | BB27: FALSE
A28: Variable responses of human microbiomes to dietary supplementation with resistant starch | B28: 2016 | C28: Venkataraman | D28: Sought to increase the concentration of butyrate in 20 healthy young adults through dietary supplementation with resistant starch (unmodified potato starch—resistant starch (RS) type 2). | E28: Mammal Host | F28: Human | G28: Feces | H28: 0.25 mL fecal suspension | I28: Mobio PowerMag soil DNA isolation bead plate (Qiagen) | J28: No | K28: Yes | L28: Supplementation of diet with resistant starch | M28: 1 | N28: 515 | O28: 806 | P28: 20 | Q28: Y | R28: Y | U28: Y | W28: Y | Y28: Y | AA28: Y | AX28: PRJNA306884 | AY28: 10.1186/s40168-016-0178-x | AZ28: =VLOOKUP(C28,'Processing parameters'!$C$1:$E$30,2,FALSE) -> 115 | BA28: =VLOOKUP(C28,'Processing parameters'!$C$1:$E$30,3,FALSE) -> 25 | BB28: FALSE
A29: Conserved Microbial Toxicity Responses for Acute and Chronic Silver Nanoparticle Treatments in Wetland Mesocosms | B29: 2019 | C29: Ward | D29: Compared microbial community responses to pulse (single 450 mg dose of silver) and chronic (weekly 8.7 mg doses of silver for 1 year) silver nanoparticle (Ag0 NP) treatments, as well as a chronic treatment of “aged” sulfidized silver nanoparticles (Ag2S NPs). | E29: Wetland mesocosms (aquatic fraction) | F29: 610 L | G29: Wetland microcosm | H29: 250 ml | I29: Gentra Puregene kit (Qiagen) | J29: Yes | K29: Yes | L29: pulse zerovalent silver NPs (P-Ag0 NPs) | M29: 1 | N29: 349 | O29: 806 | P29: 3 | Q29: Y | R29: y | S29: y | U29: y | Y29: y | AF29: y | AT29: y | AW29: up to 364 | AX29: PRJNA431636 | AY29: 10.1021/acs.est.8b06654 | AZ29: =VLOOKUP(C29,'Processing parameters'!$C$1:$E$30,2,FALSE) -> 115 | BA29: =VLOOKUP(C29,'Processing parameters'!$C$1:$E$30,3,FALSE) -> 25 | BB29: FALSE
A30: Effects of Bacillus amyloliquefaciens ZM9 on bacterial wilt and rhizosphere microbial communities of tobacco | B30: 2016 | C30: Wu | D30: evaluated the effect of different biocontrol agent inoculants on TBW and rhizosphere microbial communities | E30: Soil Microcosm | F30: ~500 g | G30: rhisozphere | I30: QIAamp DNA micro Kit | J30: Yes | K30: Yes | L30: Inocculation with two different Bacillus mixtures | M30: 2 | N30: 515 | O30: 806 | P30: 3 | Q30: y | Y30: Y | AW30: 35, 91 | AX30: PRJNA288991 | AY30: 10.1016/j.apsoil.2016.03.002 | AZ30: =VLOOKUP(C30,'Processing parameters'!$C$1:$E$30,2,FALSE) -> 115 | BA30: =VLOOKUP(C30,'Processing parameters'!$C$1:$E$30,3,FALSE) -> 25 | BB30: TRUE
A31: Simulation of Microbial Response to Accidental Diesel Spills in Basins Containing Brackish Sea Water and Sediment | B31: 2020 | C31: Yan | D31: Studied the effect of diesel oil spills on microbial communities in the monitored basin experiment | E31: Seawater Microcosm | F31: 265 L | G31: seawater | H31: 0.5 g | I31: Mobio Powersoil DNA isolation kit (Qiagen) | J31: Yes | K31: Yes | L31: Diesel Oil spill | M31: 4 | N31: 341 | O31: 806 | P31: 4 | Q31: Y | R31: Y | S31: Y | Z31: Y | AF31: Y | AX31: PRJNA419286 | AY31: 10.3389/fmicb.2020.593232 | AZ31: =VLOOKUP(C31,'Processing parameters'!$C$1:$E$30,2,FALSE) -> 115 | BA31: =VLOOKUP(C31,'Processing parameters'!$C$1:$E$30,3,FALSE) -> 25 | BB31: FALSE

Sheet Processing parameters
A1: Title | B1: Year | C1: First author | D1: TruncF | E1: Trimleft | F1: Mean richness | G1: Maximum rarefaction depth | H1: Richness at maximum rarefaction depth
A2: Microbial interactions lead to rapid micro-scale successions on model marine particles | B2: 2016 | C2: Datta | D2: 115 | E2: 25 | F2: 230.2222 | G2: 1767 | H2: 246.5926
A3: Gut Microbial Succession Follows Acute Secretory Diarrhea in Humans | B3: 2015 | C3: David | D3: 100 | E3: 10 | F3: 67.96154 | G3: 59704 | H3: 126.7115
A4: Soil Bacterial networks are less stable under drought than fungal networks | B4: 2018 | C4: de Vries | D4: 115 | E4: 25 | F4: 326.3983 | G4: 2999 | H4: 378.7034
A5: Temporal dynamics of bacterioplankton communities in response to excessive nitrate loading in oligotrophic coastal water | B5: 2017 | C5: Dong | D5: 115 | E5: 25 | F5: 156.75 | G5: 15006 | H5: 256.65
A6: Evaluation of the impact of dental prophylaxis on the oral microbiota of dogs | B6: 2018 | C6: Flancman | D6: 115 | E6: 25 | F6: 163.6609 | G6: 21051 | H6: 305.3826
A7: Quality of Irrigation Water Affects Soil Functionality and Bacterial Community Stability in Response to Heat Disturbance | B7: 2017 | C7: Frenk | D7: 115 | E7: 25 | F7: 256.4016 | G7: 1500 | H7: 256.6803
A8: From rare to dominant: a fine-tuned soil bacterial bloom during petroleum hydrocarbon bioremediation | B8: 2016 | C8: Fuentes | D8: 100 | E8: 10 | F8: 189.5185 | G8: 9776 | H8: 238.2222
A9: Effects of bio‐based residue amendments on greenhouse gas emission from agricultural soil are stronger than effects of soil type with different microbial community composition | B9: 2017 | C9: Ho | D9: 115 | E9: 25 | F9: 280.2222 | G9: 1500 | H9: 278.4722
A10: Bacterial communities in soil become sensitive to drought under intensive grazing | B10: 2017 | C10: Jurburg | D10: 115 | E10: 25 | F10: 664.9556 | G10: 1500 | H10: 665.6667
A11: Successional dynamics in the gut microbiome determine the success of Clostridium difficile infection in adult pig models | B11: 2019 | C11: Jurburg | D11: 115 | E11: 25 | F11: 169.6483 | G11: 8025 | H11: 227.5382
A12: Differential responses of RNA and DNA during secondary succession in soil microbiomes | B12: Unpub | C12: Jurburg | D12: 115 | E12: 25 | F12: 221.9145 | G12: 1500 | H12: 221.1795
A13: Temporal dynamics of gut microbiota in triclocarban-exposed weaned rats | B13: 2018 | C13: Kennedy | D13: 115 | E13: 25 | F13: 95.08667 | G13: 25451 | H13: 114.5467
A14: Resistance and Recovery of Methane-Oxidizing Communities Depends on Stress Regime and History; A Microcosm Study | B14: 2018 | C14: Kruistum | D14: 115 | E14: 25 | F14: 226.8333 | G14: 1525 | H14: 226.5556
A15: Effects of Pseudomonas chenduensis and biochar on cadmium availability and microbial community in the paddy soil | B15: 2018 | C15: Li | D15: 115 | E15: 25 | F15: 299.5417 | G15: 7812 | H15: 438.7083
A16: Fumonisin-Exposure Impairs Age-Related Ecological Succession of Bacterial Species in Weaned Pig Gut Microbiota | B16: 2018 | C16: Mateos | D16: 115 | E16: 25 | F16: 151.5143 | G16: 20338 | H16: 195.8
A17: Weathered crude oil alters biogeochemical cycles and microbial populations in permeable subtidal sediments | B17: 2019 EST | C17: Overholt | D17: 115 | E17: 25 | F17: 314.4 | G17: 14918 | H17: 425.9333
A18: Alteration in successional trajectories of bacterioplankton communities in response to co-exposure of cadmium and phenanthrene in coastal water microcosms | B18: 2017 | C18: Qian | D18: 115 | E18: 25 | F18: 143.5 | G18: 13893 | H18: 219.16
A19: Fecal microbiota transplant eliminates Clostridium difficile in a murine model of relapzing disease | B19: 2015 | C19: Seekatz | D19: 115 | E19: 25 | F19: 52.24786 | G19: 10377 | H19: 73.50855
A20: Effects of wastewater treatment plant effluent inputs on planktonic metabolic rates and microbial community composition in the Baltic Sea | B20: 2016 | C20: Vaquer-Sunyer | D20: 115 | E20: 25 | F20: 157.5476 | G20: 35426 | H20: 326.4143
A21: Variable responses of human microbiomes to dietary supplementation with resistant starch | B21: 2016 | C21: Venkataraman | D21: 115 | E21: 25 | F21: 105.3608 | G21: 6476 | H21: 138.3814
A22: Simulation of microbial response to accidental oil spills at the coast of the Gulf of Finland | B22: 2020 | C22: Yan | D22: 115 | E22: 25 | F22: 213.1042 | G22: 47740 | H22: 412.5417
A23: The Monoclonal Antitoxin Antibodies (Actoxumab–Bezlotoxumab) Treatment Facilitates Normalization of the Gut Microbiota of Mice with Clostridium difficile Infection | B23: 2016 | C23: Dzunkova | D23: 140 | E23: 50 | F23: 10.45506 | G23: 1500 | H23: 10.42135
A24: Baseline microbiota composition modulates antibiotic-mediated effects on the gut microbiota and host | B24: 2019 | C24: Lavelle | D24: 115 | E24: 25 | F24: 42.1 | G24: 6971 | H24: 45.3
A25: Distinct Successions of Common and Rare Bacteria in Soil Under Humic Acid Amendment – A Microcosm Study | B25: 2019 | C25: Li | D25: 115 | E25: 25 | F25: 464.4286 | G25: 31402 | H25: 825.0571
A26: Ecotoxicological Effects of Fungicides Azoxystrobin and Pyraclostrobin on Freshwater Aquatic Bacterial Communities | B26: 2019 | C26: Lu | D26: 115 | E26: 25 | F26: 49.72222 | G26: 51207 | H26: 80.38889
A27: Prokaryotic and eukaryotic microbial community responses to N and P nutrient addition in oligotrophic Mediterranean coastal waters: Novel insights from DNA metabarcoding and network analysis | B27: 2019 | C27: Santi | D27: 140 | E27: 50 | F27: 78.33333 | G27: 1500 | H27: 78
A28: Conserved Microbial Toxicity Responses for Acute and Chronic Silver Nanoparticle Treatments in Wetland Mesocosms | B28: 2019 | C28: Ward | D28: 115 | E28: 25 | F28: 136.6667 | G28: 29605 | H28: 288.5641
B29: 2020 EST | C29: Khan | D29: 115 | E29: 25 | F29: 218.2254 | G29: 1500 | H29: 219.662
A30: Effects of Bacillus amyloliquefaciens ZM9 on bacterial wilt and rhizosphere microbial communities of tobacco | B30: 2016 | C30: Wu | D30: 115 | E30: 25 | F30: 385.1667 | G30: 18349 | H30: 412.5417
