Workbook

Sheet callibration 
A1: Conc mg/50ml | B1: Absorbance @280nm
A2: 1 | B2: 0.337
A3: 3 | B3: 0.899
A4: 5 | B4: 1.445
A5: 10 | B5: 2.86

Sheet SA-LS-LD
A1: m(slope) | B1: c{intercept) | C1: time(hr) | D1: y(absorbance) | E1: y-c | F1: conc= y-c/m | G1: drug conc.loaded | I1: time(hr) | J1: Release %
A2: 0.2802 | B2: 0.0543 | C2: 0.16 | D2: 0.539 | E2: =D2-B2 -> 0.4847 | F2: =E2/A2 -> 1.7298358 | G2: 35.495004 | I2: 0.16 | J2: =F2/G2*100 -> 4.8734629
A3: 0.2802 | B3: 0.0543 | C3: 0.33 | D3: 0.788 | E3: =D3-B3 -> 0.7337 | F3: =E3/A3 -> 2.6184868 | G3: 35.495004 | I3: 0.33 | J3: =F3/G3*100 -> 7.3770574
A4: 0.2802 | B4: 0.0543 | C4: 0.5 | D4: 0.941 | E4: =D4-B4 -> 0.8867 | F4: =E4/A4 -> 3.1645253 | G4: 35.495004 | I4: 0.5 | J4: =F4/G4*100 -> 8.9154107
A5: 0.2802 | B5: 0.0543 | C5: 0.66 | D5: 1.008 | E5: =D5-B5 -> 0.9537 | F5: =E5/A5 -> 3.4036403 | G5: 35.495004 | I5: 0.66 | J5: =F5/G5*100 -> 9.5890686
A6: 0.2802 | B6: 0.0543 | C6: 0.83 | D6: 1.104 | E6: =D6-B6 -> 1.0497 | F6: =E6/A6 -> 3.7462527 | G6: 35.495004 | I6: 0.83 | J6: =F6/G6*100 -> 10.55431
A7: 0.2802 | B7: 0.0543 | C7: 1 | D7: 1.261 | E7: =D7-B7 -> 1.2067 | F7: =E7/A7 -> 4.3065667 | G7: 35.495004 | I7: 1 | J7: =F7/G7*100 -> 12.132882
A8: 0.2802 | B8: 0.0543 | C8: 2 | D8: 1.727 | E8: =D8-B8 -> 1.6727 | F8: =E8/A8 -> 5.9696645 | G8: 35.495004 | I8: 2 | J8: =F8/G8*100 -> 16.818323
A9: 0.2802 | B9: 0.0543 | C9: 4 | D9: 4.796 | E9: =D9-B9 -> 4.7417 | F9: =E9/A9 -> 16.922555 | G9: 35.495004 | I9: 4 | J9: =F9/G9*100 -> 47.67588
A10: 0.2802 | B10: 0.0543 | C10: 6 | D10: 6.842 | E10: =D10-B10 -> 6.7877 | F10: =E10/A10 -> 24.224483 | G10: 35.495004 | I10: 6 | J10: =F10/G10*100 -> 68.247584
A11: 0.2802 | B11: 0.0543 | C11: 24 | D11: 7.876 | E11: =D11-B11 -> 7.8217 | F11: =E11/A11 -> 27.914704 | G11: 35.495004 | I11: 24 | J11: =F11/G11*100 -> 78.644037
A12: 0.2802 | B12: 0.0543 | C12: 30 | D12: 7.852 | E12: =D12-B12 -> 7.7977 | F12: =E12/A12 -> 27.829051 | G12: 35.495004 | I12: 30 | J12: =F12/G12*100 -> 78.402727
A13: 0.2802 | B13: 0.0543 | C13: 48 | D13: 5.036 | E13: =D13-B13 -> 4.9817 | F13: =E13/A13 -> 17.779086 | G13: 35.495004 | I13: 48 | J13: =F13/G13*100 -> 50.088983
A15: 0.2802 | B15: 0.0543 | C15: supernatant | D15: 4.491 | E15: =D15-B15 -> 4.4367 | F15: =E15/A15 -> 15.834047 | G15: 35.495004
A16: 0.2802 | B16: 0.0543 | C16: initial drug coating | D16: 14.1 | E16: =D16-B16 -> 14.0457 | F16: =E16/A16 -> 50.127409 | G16: 35.495004
A17: 0.2802 | B17: 0.0543 | C17: CONC OF DRUG LOADED | D17: 10 | E17: =D17-B17 -> 9.9457 | F17: =E17/A17 -> 35.495004
A18: 0.2802 | B18: 0.0543 | C18: REMAINING DRUG CONTENT | D18: 2.2 | E18: =D18-B18 -> 2.1457 | F18: =E18/A18 -> 7.6577445
A20: DRUG LOADING EFFICIENCY | B20: =(F16-F15)/F16 * 100 -> 68.412397

Sheet SA-LS-FE-LD
A1: m(slope) | B1: c{intercept) | C1: time(1hr) | D1: y(absorbance) | E1: y-c | F1: conc= y-c/m | G1: Conc. drug loaded | I1: time(hr) | J1: Release %
A2: 0.2802 | B2: 0.0543 | C2: 0.16 | D2: 1.4 | E2: =D2-B2 -> 1.3457 | F2: =E2/A2 -> 4.802641 | G2: 31.926124 | I2: 0.16 | J2: =F2/G2*100 -> 15.042982
A3: 0.2802 | B3: 0.0543 | C3: 0.33 | D3: 1.52 | E3: =D3-B3 -> 1.4657 | F3: =E3/A3 -> 5.2309065 | G3: 31.926124 | I3: 0.33 | J3: =F3/G3*100 -> 16.384408
A4: 0.2802 | B4: 0.0543 | C4: 0.5 | D4: 1.682 | E4: =D4-B4 -> 1.6277 | F4: =E4/A4 -> 5.809065 | G4: 31.926124 | I4: 0.5 | J4: =F4/G4*100 -> 18.195334
A5: 0.2802 | B5: 0.0543 | C5: 0.66 | D5: 1.946 | E5: =D5-B5 -> 1.8917 | F5: =E5/A5 -> 6.7512491 | G5: 31.926124 | I5: 0.66 | J5: =F5/G5*100 -> 21.146473
A6: 0.2802 | B6: 0.0543 | C6: 0.83 | D6: 1.956 | E6: =D6-B6 -> 1.9017 | F6: =E6/A6 -> 6.7869379 | G6: 31.926124 | I6: 0.83 | J6: =F6/G6*100 -> 21.258258
A7: 0.2802 | B7: 0.0543 | C7: 1 | D7: 2.193 | E7: =D7-B7 -> 2.1387 | F7: =E7/A7 -> 7.6327623 | G7: 31.926124 | I7: 1 | J7: =F7/G7*100 -> 23.907576
A8: 0.2802 | B8: 0.0543 | C8: 2 | D8: 2.455 | E8: =D8-B8 -> 2.4007 | F8: =E8/A8 -> 8.5678087 | G8: 31.926124 | I8: 2 | J8: =F8/G8*100 -> 26.836357
A9: 0.2802 | B9: 0.0543 | C9: 4 | D9: 2.641 | E9: =D9-B9 -> 2.5867 | F9: =E9/A9 -> 9.2316203 | G9: 31.926124 | I9: 4 | J9: =F9/G9*100 -> 28.915568
A10: 0.2802 | B10: 0.0543 | C10: 6 | D10: 3.067 | E10: =D10-B10 -> 3.0127 | F10: =E10/A10 -> 10.751963 | G10: 31.926124 | I10: 6 | J10: =F10/G10*100 -> 33.677633
A11: 0.2802 | B11: 0.0543 | C11: 24 | D11: 3.522 | E11: =D11-B11 -> 3.4677 | F11: =E11/A11 -> 12.375803 | G11: 31.926124 | I11: 24 | J11: =F11/G11*100 -> 38.763875
A12: 0.2802 | B12: 0.0543 | C12: 30 | D12: 3.698 | E12: =D12-B12 -> 3.6437 | F12: =E12/A12 -> 13.003926 | G12: 31.926124 | I12: 30 | J12: =F12/G12*100 -> 40.731301
A13: 0.2802 | B13: 0.0543 | C13: 48 | D13: 3.947 | E13: =D13-B13 -> 3.8927 | F13: =E13/A13 -> 13.892577 | G13: 31.926124 | I13: 48 | J13: =F13/G13*100 -> 43.514761
A15: 0.2802 | B15: 0.0543 | C15: supernatant | D15: 5.24 | E15: =D15-B15 -> 5.1857 | F15: =E15/A15 -> 18.507138
A16: 0.2802 | B16: 0.0543 | C16: initial drug coating | D16: 14.1 | E16: =D16-B16 -> 14.0457 | F16: =E16/A16 -> 50.127409
A17: 0.2802 | B17: 0.0543 | C17: CONC OF DRUG LOADED | D17: 9 | E17: =D17-'SA-LS-LD'!B13 -> 8.9457 | F17: =E17/'SA-LS-LD'!A13 -> 31.926124
A18: 0.2802 | B18: 0.0543 | C18: REMAINING DRUG CONTENT | D18: 5 | E18: =D18-B18 -> 4.9457 | F18: =E18/A18 -> 17.650607
A20: DRUG LOADING EFFICIENCY(%) | B20: =(F16-F15)/F16*100 -> 63.079804

Sheet SA-LS-GO-LD
A1: m(slope) | B1: c{intercept) | C1: time(hr) | D1: y(absorbance) | E1: y-c | F1: conc= y-c/m | G1: Conc of drug load | I1: time(hr) | J1: Release %
A2: 0.2802 | B2: 0.0543 | C2: 0.16 | D2: 0.352 | E2: =D2-B2 -> 0.2977 | F2: =E2/A2 -> 1.0624554 | G2: 34.781228 | I2: 0.16 | J2: =F2/G2*100 -> 3.0546805
A3: 0.2802 | B3: 0.0543 | C3: 0.33 | D3: 0.38 | E3: =D3-B3 -> 0.3257 | F3: =E3/A3 -> 1.162384 | G3: 34.781228 | I3: 0.33 | J3: =F3/G3*100 -> 3.3419867
A4: 0.2802 | B4: 0.0543 | C4: 0.5 | D4: 0.458 | E4: =D4-B4 -> 0.4037 | F4: =E4/A4 -> 1.4407566 | G4: 34.781228 | I4: 0.5 | J4: =F4/G4*100 -> 4.1423397
A5: 0.2802 | B5: 0.0543 | C5: 0.66 | D5: 0.613 | E5: =D5-B5 -> 0.5587 | F5: =E5/A5 -> 1.9939329 | G5: 34.781228 | I5: 0.66 | J5: =F5/G5*100 -> 5.7327847
A6: 0.2802 | B6: 0.0543 | C6: 0.83 | D6: 0.695 | E6: =D6-B6 -> 0.6407 | F6: =E6/A6 -> 2.286581 | G6: 34.781228 | I6: 0.83 | J6: =F6/G6*100 -> 6.5741814
A7: 0.2802 | B7: 0.0543 | C7: 1 | D7: 0.767 | E7: =D7-B7 -> 0.7127 | F7: =E7/A7 -> 2.5435403 | G7: 34.781228 | I7: 1 | J7: =F7/G7*100 -> 7.3129688
A8: 0.2802 | B8: 0.0543 | C8: 2 | D8: 1.288 | E8: =D8-B8 -> 1.2337 | F8: =E8/A8 -> 4.4029265 | G8: 34.781228 | I8: 2 | J8: =F8/G8*100 -> 12.658916
A9: 0.2802 | B9: 0.0543 | C9: 4 | D9: 1.466 | E9: =D9-B9 -> 1.4117 | F9: =E9/A9 -> 5.038187 | G9: 34.781228 | I9: 4 | J9: =F9/G9*100 -> 14.485363
A10: 0.2802 | B10: 0.0543 | C10: 6 | D10: 2.013 | E10: =D10-B10 -> 1.9587 | F10: =E10/A10 -> 6.990364 | G10: 34.781228 | I10: 6 | J10: =F10/G10*100 -> 20.098095
A11: 0.2802 | B11: 0.0543 | C11: 24 | D11: 2.189 | E11: =D11-B11 -> 2.1347 | F11: =E11/A11 -> 7.6184868 | G11: 34.781228 | I11: 24 | J11: =F11/G11*100 -> 21.904019
A12: 0.2802 | B12: 0.0543 | C12: 30 | D12: 2.271 | E12: =D12-B12 -> 2.2167 | F12: =E12/A12 -> 7.9111349 | G12: 34.781228 | I12: 30 | J12: =F12/G12*100 -> 22.745416
A13: 0.2802 | B13: 0.0543 | C13: 48 | D13: 2.428 | E13: =D13-B13 -> 2.3737 | F13: =E13/A13 -> 8.471449 | G13: 34.781228 | I13: 48 | J13: =F13/G13*100 -> 24.356383
A15: 0.2802 | B15: 0.0543 | C15: supernatant | D15: 4.313 | E15: =D15-B15 -> 4.2587 | F15: =E15/A15 -> 15.198787
A16: 0.2802 | B16: 0.0543 | C16: initial drug coating | D16: 14.1 | E16: =D16-B16 -> 14.0457 | F16: =E16/A16 -> 50.127409
A17: 0.2802 | B17: 0.0543 | C17: AMOUNT OF DRUG LOADED | D17: 9.8 | E17: =D17-'SA-LS-LD'!B13 -> 9.7457 | F17: =E17/'SA-LS-LD'!A13 -> 34.781228
A18: 0.2802 | B18: 0.0543 | C18: REMAINING DRUG CONTENT | D18: 7.2 | E18: =D18-B18 -> 7.1457 | F18: =E18/A18 -> 25.502141
A19: DRUG LOADING EFFICIENCY | B19: =(F16-F15)/F16*100 -> 69.679688

Sheet SA-LS-FE-GO-LD
A1: m(slope) | B1: c{intercept) | C1: time(hr) | D1: y(absorbance) | E1: y-c | F1: conc= y-c/m | G1: Conc drug loaded | I1: time(hr) | J1: release(%)
A2: 0.2802 | B2: 0.0543 | C2: 0.16 | D2: 0.81 | E2: =D2-B2 -> 0.7557 | F2: =E2/A2 -> 2.6970021 | G2: 28.714133 | I2: 0.16 | J2: =F2/G2*100 -> 9.3925948
A3: 0.2802 | B3: 0.0543 | C3: 0.33 | D3: 0.947 | E3: =D3-B3 -> 0.8927 | F3: =E3/A3 -> 3.1859386 | G3: 28.714133 | I3: 0.33 | J3: =F3/G3*100 -> 11.095368
A4: 0.2802 | B4: 0.0543 | C4: 0.5 | D4: 1.161 | E4: =D4-B4 -> 1.1067 | F4: =E4/A4 -> 3.9496788 | G4: 28.714133 | I4: 0.5 | J4: =F4/G4*100 -> 13.755174
A5: 0.2802 | B5: 0.0543 | C5: 0.66 | D5: 1.269 | E5: =D5-B5 -> 1.2147 | F5: =E5/A5 -> 4.3351178 | G5: 28.714133 | I5: 0.66 | J5: =F5/G5*100 -> 15.097506
A6: 0.2802 | B6: 0.0543 | C6: 0.83 | D6: 1.297 | E6: =D6-B6 -> 1.2427 | F6: =E6/A6 -> 4.4350464 | G6: 28.714133 | I6: 0.83 | J6: =F6/G6*100 -> 15.445517
A7: 0.2802 | B7: 0.0543 | C7: 1 | D7: 1.461 | E7: =D7-B7 -> 1.4067 | F7: =E7/A7 -> 5.0203426 | G7: 28.714133 | I7: 1 | J7: =F7/G7*100 -> 17.483873
A8: 0.2802 | B8: 0.0543 | C8: 2 | D8: 1.653 | E8: =D8-B8 -> 1.5987 | F8: =E8/A8 -> 5.7055675 | G8: 28.714133 | I8: 2 | J8: =F8/G8*100 -> 19.870241
A9: 0.2802 | B9: 0.0543 | C9: 4 | D9: 1.75 | E9: =D9-B9 -> 1.6957 | F9: =E9/A9 -> 6.0517488 | G9: 28.714133 | I9: 4 | J9: =F9/G9*100 -> 21.075854
A10: 0.2802 | B10: 0.0543 | C10: 6 | D10: 2.061 | E10: =D10-B10 -> 2.0067 | F10: =E10/A10 -> 7.1616702 | G10: 28.714133 | I10: 6 | J10: =F10/G10*100 -> 24.941273
A11: 0.2802 | B11: 0.0543 | C11: 24 | D11: 2.314 | E11: =D11-B11 -> 2.2597 | F11: =E11/A11 -> 8.0645967 | G11: 28.714133 | I11: 24 | J11: =F11/G11*100 -> 28.08581
A12: 0.2802 | B12: 0.0543 | C12: 30 | D12: 2.337 | E12: =D12-B12 -> 2.2827 | F12: =E12/A12 -> 8.1466809 | G12: 28.714133 | I12: 30 | J12: =F12/G12*100 -> 28.371677
A13: 0.2802 | B13: 0.0543 | C13: 48 | D13: 2.376 | E13: =D13-B13 -> 2.3217 | F13: =E13/A13 -> 8.2858672 | G13: 28.714133 | I13: 48 | J13: =F13/G13*100 -> 28.856408
A15: 0.2802 | B15: 0.0543 | C15: supernatant | D15: 6.068 | E15: =D15-B15 -> 6.0137 | F15: =E15/A15 -> 21.46217
A16: 0.2802 | B16: 0.0543 | C16: initial drug coating | D16: 14.1 | E16: =D16-B16 -> 14.0457 | F16: =E16/A16 -> 50.127409
A17: 0.2802 | B17: 0.0543 | C17: AMOUNT OF DRUG LOADED | D17: 8.1 | E17: =D17-'SA-LS-LD'!B13 -> 8.0457 | F17: =E17/'SA-LS-LD'!A13 -> 28.714133
A18: 0.2802 | B18: 0.0543 | C18: REMIANING DRUG CONTENT | D18: 5.4 | E18: =D18-B18 -> 5.3457 | F18: =E18/A18 -> 19.078158
A19: DRUG LOADING EFFICIENCY | C19: =(F16-F15)/F16*100 -> 57.184761

Sheet COMBINED
A1: time(hr) | B1: SA-LS-LD | C1: SA-LS-Fe-LD | D1: SA-LS-GO-LD | E1: SA-LS-Fe-GO-LD
A2: 0.16 | B2: 4.8734629 | C2: 15.042982 | D2: 3.0546805 | E2: 9.3925948
A3: 0.33 | B3: 7.3770574 | C3: 16.384408 | D3: 3.3419867 | E3: 11.095368
A4: 0.5 | B4: 8.9154107 | C4: 18.195334 | D4: 4.1423397 | E4: 13.755174
A5: 0.66 | B5: 9.5890686 | C5: 21.146473 | D5: 5.7327847 | E5: 15.097506
A6: 0.83 | B6: 10.55431 | C6: 21.258258 | D6: 6.5741814 | E6: 15.445517
A7: 1 | B7: 12.132882 | C7: 23.907576 | D7: 7.3129688 | E7: 17.483873
A8: 2 | B8: 16.818323 | C8: 26.836357 | D8: 12.658916 | E8: 19.870241
A9: 4 | B9: 47.67588 | C9: 28.915568 | D9: 14.485363 | E9: 21.075854
A10: 6 | B10: 68.247584 | C10: 33.677633 | D10: 20.098095 | E10: 24.941273
A11: 24 | B11: 78.644037 | C11: 38.763875 | D11: 21.904019 | E11: 28.08581
A12: 30 | B12: 78.402727 | C12: 40.731301 | D12: 22.745416 | E12: 28.371677
A13: 48 | B13: 50.088983 | C13: 43.514761 | D13: 24.356383 | E13: 28.856408
