Workbook

Sheet ANOVA approach 1
A1: Lignin qNMR Lignin Sampling Uncertainty using ANOVA (Summary in cells C5:E7) | L1: Approach based on: A.M.H. van der Veen, J. Pauwels, Accred. Qual. Assur. 2000, 5, 464
A2: With baseline correction, differences between spectra, up to little more than a week
A3: Top 1-5: four corners and middle. NMR-1 to NMR-4: spectra from the same solution
A5: Reference peak for caluclating intensity ratios: 8.40–8.65 ppm
A10: ANOVA
T11: ALL_Samples
C12: Sums of squares | G12: Degrees of freedom | K12: Mean squares | O12: Absolute std deviations | T12: Relative std deviations
C13: Total | D13: Within | E13: Between | G13: Total | H13: Within | I13: Between | K13: Total | L13: Within | M13: Between | O13: Total | P13: Within | Q13: Between | S13: Overall | T13: Measurement | U13: Sampling
A14: =A37 -> Aldehyde Integral 1 | C14: =SUMSQ(C56:BJ56) -> 0.022106572 | D14: =SUMSQ(C37:BJ37) -> 0.0031855283 | E14: =C14-D14 -> 0.018921043 | G14: =60-1 -> 59 | H14: =60-15 -> 45 | I14: =15-1 -> 14 | K14: =C14/G14 -> 0.00037468766 | L14: =D14/H14 -> 7.0789519e-05 | M14: =E14/I14 -> 0.0013515031 | O14: =SQRT(SUMSQ(P14:Q14)) -> 0.020215472 | P14: =SQRT(L14) -> 0.0084136507 | Q14: =SQRT((M14)/4) -> 0.018381397 | S14: =O14/$C76 -> 0.43714484 | T14: =P14/$C76 -> 0.18193906 | U14: =Q14/$C76 -> 0.39748432
A15: =A38 -> Aldehyde Integral 2
A16: =A39 -> Aromatic region Integral 3 | C16: =SUMSQ(C58:BJ58) -> 87.397202 | D16: =SUMSQ(C39:BJ39) -> 27.933525 | E16: =C16-D16 -> 59.463677 | G16: =60-1 -> 59 | H16: =60-15 -> 45 | I16: =15-1 -> 14 | K16: =C16/G16 -> 1.4813085 | L16: =D16/H16 -> 0.620745 | M16: =E16/I16 -> 4.2474055 | O16: =SQRT(SUMSQ(P16:Q16)) -> 1.2358844 | P16: =SQRT(L16) -> 0.78787372 | Q16: =SQRT((M16-L16)/4) -> 0.95218965 | S16: =O16/$C78 -> 0.053661608 | T16: =P16/$C78 -> 0.034209164 | U16: =Q16/$C78 -> 0.041343697
A17: =A40 -> OCH/O-CH2 Integral 4 | C17: =SUMSQ(C59:BJ59) -> 1.4170775 | D17: =SUMSQ(C40:BJ40) -> 0.83642135 | E17: =C17-D17 -> 0.58065619 | G17: =60-1 -> 59 | H17: =60-15 -> 45 | I17: =15-1 -> 14 | K17: =C17/G17 -> 0.024018263 | L17: =D17/H17 -> 0.018587141 | M17: =E17/I17 -> 0.041475442 | O17: =SQRT(SUMSQ(P17:Q17)) -> 0.15591413 | P17: =SQRT(L17) -> 0.13633467 | Q17: =SQRT((M17-L17)/4) -> 0.0756444 | S17: =O17/$C79 -> 0.077974376 | T17: =P17/$C79 -> 0.068182469 | U17: =Q17/$C79 -> 0.037830598
A18: =A41 -> Methoxy Integral 5 | C18: =SUMSQ(C60:BJ60) -> 129865.17 | D18: =SUMSQ(C41:BJ41) -> 8217.9536 | E18: =C18-D18 -> 121647.21 | G18: =60-1 -> 59 | H18: =60-15 -> 45 | I18: =15-1 -> 14 | K18: =C18/G18 -> 2201.1045 | L18: =D18/H18 -> 182.62119 | M18: =E18/I18 -> 8689.0867 | O18: =SQRT(SUMSQ(P18:Q18)) -> 48.054527 | P18: =SQRT(L18) -> 13.513741 | Q18: =SQRT((M18-L18)/4) -> 46.115251 | S18: =O18/$C80 -> 0.37885378 | T18: =P18/$C80 -> 0.10654005 | U18: =Q18/$C80 -> 0.36356486
A19: =A42 -> DMSO | C19: =SUMSQ(C61:BJ61) -> 1126.7456 | D19: =SUMSQ(C42:BJ42) -> 71.766016 | E19: =C19-D19 -> 1054.9796 | G19: =60-1 -> 59 | H19: =60-15 -> 45 | I19: =15-1 -> 14 | K19: =C19/G19 -> 19.097384 | L19: =D19/H19 -> 1.5948004 | M19: =E19/I19 -> 75.355688 | O19: =SQRT(SUMSQ(P19:Q19)) -> 4.4760499 | P19: =SQRT(L19) -> 1.262854 | Q19: =SQRT((M19-L19)/4) -> 4.294208 | S19: =O19/$C81 -> 0.10367779 | T19: =P19/$C81 -> 0.029251219 | U19: =Q19/$C81 -> 0.099465822
A20: =A43 -> Integral 7 | C20: =SUMSQ(C62:BJ62) -> 0.036502201 | D20: =SUMSQ(C43:BJ43) -> 0.019710093 | E20: =C20-D20 -> 0.016792109 | G20: =60-1 -> 59 | H20: =60-15 -> 45 | I20: =15-1 -> 14 | K20: =C20/G20 -> 0.00061868138 | L20: =D20/H20 -> 0.00043800206 | M20: =E20/I20 -> 0.0011994363 | O20: =SQRT(SUMSQ(P20:Q20)) -> 0.025067123 | P20: =SQRT(L20) -> 0.020928499 | Q20: =SQRT((M20-L20)/4) -> 0.013797049 | S20: =O20/$C82 -> 0.04638236 | T20: =P20/$C82 -> 0.038724555 | U20: =Q20/$C82 -> 0.025529045
A21: =A44 -> Integral 8 | C21: =SUMSQ(C63:BJ63) -> 0.4491584 | D21: =SUMSQ(C44:BJ44) -> 0.20775956 | E21: =C21-D21 -> 0.24139883 | G21: =60-1 -> 59 | H21: =60-15 -> 45 | I21: =15-1 -> 14 | K21: =C21/G21 -> 0.0076128542 | L21: =D21/H21 -> 0.0046168792 | M21: =E21/I21 -> 0.017242774 | O21: =SQRT(SUMSQ(P21:Q21)) -> 0.08816662 | P21: =SQRT(L21) -> 0.067947621 | Q21: =SQRT((M21-L21)/4) -> 0.056182503 | S21: =O21/$C83 -> 0.035017158 | T21: =P21/$C83 -> 0.026986773 | U21: =Q21/$C83 -> 0.022314018
A22: =A45 -> Integral 9 | C22: =SUMSQ(C64:BJ64) -> 0.076775145 | D22: =SUMSQ(C45:BJ45) -> 0.044635249 | E22: =C22-D22 -> 0.032139896 | G22: =60-1 -> 59 | H22: =60-15 -> 45 | I22: =15-1 -> 14 | K22: =C22/G22 -> 0.0013012736 | L22: =D22/H22 -> 0.00099189441 | M22: =E22/I22 -> 0.0022957069 | O22: =SQRT(SUMSQ(P22:Q22)) -> 0.03630217 | P22: =SQRT(L22) -> 0.031494355 | Q22: =SQRT((M22-L22)/4) -> 0.018054172 | S22: =O22/$C84 -> 0.054357572 | T22: =P22/$C84 -> 0.047158522 | U22: =Q22/$C84 -> 0.027033671
A23: =A46 -> Integral 10 | C23: =SUMSQ(C65:BJ65) -> 0.18393224 | D23: =SUMSQ(C46:BJ46) -> 0.11905222 | E23: =C23-D23 -> 0.064880021 | G23: =60-1 -> 59 | H23: =60-15 -> 45 | I23: =15-1 -> 14 | K23: =C23/G23 -> 0.0031174956 | L23: =D23/H23 -> 0.0026456049 | M23: =E23/I23 -> 0.0046342872 | O23: =SQRT(SUMSQ(P23:Q23)) -> 0.056060463 | P23: =SQRT(L23) -> 0.051435444 | Q23: =SQRT((M23-L23)/4) -> 0.022297322 | S23: =O23/$C85 -> 0.053702176 | T23: =P23/$C85 -> 0.049271717 | U23: =Q23/$C85 -> 0.021359344
A24: =A47 -> Integral 11 | C24: =SUMSQ(C66:BJ66) -> 0.085252969 | D24: =SUMSQ(C47:BJ47) -> 0.06157913 | E24: =C24-D24 -> 0.023673839 | G24: =60-1 -> 59 | H24: =60-15 -> 45 | I24: =15-1 -> 14 | K24: =C24/G24 -> 0.0014449656 | L24: =D24/H24 -> 0.0013684251 | M24: =E24/I24 -> 0.0016909885 | O24: =SQRT(SUMSQ(P24:Q24)) -> 0.038066599 | P24: =SQRT(L24) -> 0.03699223 | Q24: =SQRT((M24-L24)/4) -> 0.0089800254 | S24: =O24/$C86 -> 0.06443522 | T24: =P24/$C86 -> 0.062616639 | U24: =Q24/$C86 -> 0.015200462
A25: =A48 -> Integral 12 | C25: =SUMSQ(C67:BJ67) -> 0.053787375 | D25: =SUMSQ(C48:BJ48) -> 0.037224075 | E25: =C25-D25 -> 0.0165633 | G25: =60-1 -> 59 | H25: =60-15 -> 45 | I25: =15-1 -> 14 | K25: =C25/G25 -> 0.00091165043 | L25: =D25/H25 -> 0.00082720167 | M25: =E25/I25 -> 0.0011830929 | O25: =SQRT(SUMSQ(P25:Q25)) -> 0.030268374 | P25: =SQRT(L25) -> 0.028761114 | Q25: =SQRT((M25-L25)/4) -> 0.0094325392 | S25: =O25/$C87 -> 0.075361263 | T25: =P25/$C87 -> 0.071608533 | U25: =Q25/$C87 -> 0.023484845
A26: =A49 -> Integral 13 | C26: =SUMSQ(C68:BJ68) -> 0.27641733 | D26: =SUMSQ(C49:BJ49) -> 0.14642963 | E26: =C26-D26 -> 0.12998771 | G26: =60-1 -> 59 | H26: =60-15 -> 45 | I26: =15-1 -> 14 | K26: =C26/G26 -> 0.0046850395 | L26: =D26/H26 -> 0.0032539917 | M26: =E26/I26 -> 0.0092848361 | O26: =SQRT(SUMSQ(P26:Q26)) -> 0.069005093 | P26: =SQRT(L26) -> 0.05704377 | Q26: =SQRT((M26-L26)/4) -> 0.038829256 | S26: =O26/$C88 -> 0.043566778 | T26: =P26/$C88 -> 0.036014925 | U26: =Q26/$C88 -> 0.024515083
A27: =A50 -> Integral 14 | C27: =SUMSQ(C69:BJ69) -> 0.027203054 | D27: =SUMSQ(C50:BJ50) -> 0.017783879 | E27: =C27-D27 -> 0.0094191747 | G27: =60-1 -> 59 | H27: =60-15 -> 45 | I27: =15-1 -> 14 | K27: =C27/G27 -> 0.00046106871 | L27: =D27/H27 -> 0.00039519731 | M27: =E27/I27 -> 0.00067279819 | O27: =SQRT(SUMSQ(P27:Q27)) -> 0.021554525 | P27: =SQRT(L27) -> 0.01987957 | Q27: =SQRT((M27-L27)/4) -> 0.0083306795 | S27: =O27/$C89 -> 0.062205463 | T27: =P27/$C89 -> 0.057371614 | U27: =Q27/$C89 -> 0.024041995
A28: =A51 -> TMS | C28: =SUMSQ(C70:BJ70) -> 27.53468 | D28: =SUMSQ(C51:BJ51) -> 0.23477464 | E28: =C28-D28 -> 27.299905 | G28: =60-1 -> 59 | H28: =60-15 -> 45 | I28: =15-1 -> 14 | K28: =C28/G28 -> 0.46668949 | L28: =D28/H28 -> 0.0052172143 | M28: =E28/I28 -> 1.9499932 | O28: =SQRT(SUMSQ(P28:Q28)) -> 0.70100729 | P28: =SQRT(L28) -> 0.072230286 | Q28: =SQRT((M28-L28)/4) -> 0.69727613 | S28: =O28/$C90 -> 0.63075903 | T28: =P28/$C90 -> 0.064992056 | U28: =Q28/$C90 -> 0.62740177
T31: Grand average RSD values:
S32: Overall | T32: Measurement | U32: Sampling
S33: =SQRT(SUMSQ(S16:S17,S20:S27)/COUNT(S16:S17,S20:S27)) -> 0.05811589 | T33: =SQRT(SUMSQ(T16:T17,T20:T27)/COUNT(T16:T17,T20:T27)) -> 0.051318441 | U33: =SQRT(SUMSQ(U16:U17,U20:U27)/COUNT(U16:U17,U20:U27)) -> 0.027274059
A35: Within-group error terms
A37: =A56 -> Aldehyde Integral 1 | C37: =C95-$F76 -> -0.0044575 | D37: =D95-$F76 -> 0.0007125 | E37: =E95-$F76 -> 0.0081725 | F37: =F95-$F76 -> -0.0044275 | G37: =G95-$J76 -> 0.00167 | H37: =H95-$J76 -> 0.00637 | I37: =I95-$J76 -> -0.00348 | J37: =J95-$J76 -> -0.00456 | K37: =K95-$N76 -> 0.0029325 | L37: =L95-$N76 -> 0.0052725 | M37: =M95-$N76 -> 0.0017925 | N37: =N95-$N76 -> -0.0099975 | O37: =O95-$R76 -> -0.0040725 | P37: =P95-$R76 -> 0.0105375 | Q37: =Q95-$R76 -> -0.0009025 | R37: =R95-$R76 -> -0.0055625 | S37: =S95-$V76 -> -0.004445 | T37: =T95-$V76 -> 0.005685 | U37: =U95-$V76 -> 0.006435 | V37: =V95-$V76 -> -0.007675 | W37: =W95-$Z76 -> 0.0140025 | X37: =X95-$Z76 -> -0.0143975 | Y37: =Y95-$Z76 -> -0.0079975 | Z37: =Z95-$Z76 -> 0.0083925 | AA37: =AA95-$AD76 -> -0.0111175 | AB37: =AB95-$AD76 -> -0.0052375 | AC37: =AC95-$AD76 -> 0.0055825 | AD37: =AD95-$AD76 -> 0.0107725 | AE37: =AE95-$AH76 -> -0.0010325 | AF37: =AF95-$AH76 -> 0.0019175 | AG37: =AG95-$AH76 -> -0.0087325 | AH37: =AH95-$AH76 -> 0.0078475 | AI37: =AI95-$AL76 -> 0.0110975 | AJ37: =AJ95-$AL76 -> -0.0041725 | AK37: =AK95-$AL76 -> -0.0046125 | AL37: =AL95-$AL76 -> -0.0023125 | AM37: =AM95-$AP76 -> 0.000895 | AN37: =AN95-$AP76 -> -0.009625 | AO37: =AO95-$AP76 -> 0.007745 | AP37: =AP95-$AP76 -> 0.000985 | AQ37: =AQ95-$AT76 -> 0.0138025 | AR37: =AR95-$AT76 -> 0.0058825 | AS37: =AS95-$AT76 -> -0.0134875 | AT37: =AT95-$AT76 -> -0.0061975 | AU37: =AU95-$AX76 -> -0.0025475 | AV37: =AV95-$AX76 -> -0.0035575 | AW37: =AW95-$AX76 -> -0.0019775 | AX37: =AX95-$AX76 -> 0.0080825 | AY37: =AY95-$BB76 -> 0.0075775 | AZ37: =AZ95-$BB76 -> -0.0143125 | BA37: =BA95-$BB76 -> 0.0101075 | BB37: =BB95-$BB76 -> -0.0033725 | BC37: =BC95-$BF76 -> -7.5e-05 | BD37: =BD95-$BF76 -> 0.010775 | BE37: =BE95-$BF76 -> -0.003325 | BF37: =BF95-$BF76 -> -0.007375 | BG37: =BG95-$BJ76 -> -0.000935 | BH37: =BH95-$BJ76 -> -0.001035 | BI37: =BI95-$BJ76 -> -0.007845 | BJ37: =BJ95-$BJ76 -> 0.009815
A38: =A57 -> Aldehyde Integral 2 | C38: =C96-$F77 -> 0 | D38: =D96-$F77 -> 0 | E38: =E96-$F77 -> 0 | F38: =F96-$F77 -> 0 | G38: =G96-$J77 -> 0 | H38: =H96-$J77 -> 0 | I38: =I96-$J77 -> 0 | J38: =J96-$J77 -> 0 | K38: =K96-$N77 -> 0 | L38: =L96-$N77 -> 0 | M38: =M96-$N77 -> 0 | N38: =N96-$N77 -> 0 | O38: =O96-$R77 -> 0 | P38: =P96-$R77 -> 0 | Q38: =Q96-$R77 -> 0 | R38: =R96-$R77 -> 0 | S38: =S96-$V77 -> 0 | T38: =T96-$V77 -> 0 | U38: =U96-$V77 -> 0 | V38: =V96-$V77 -> 0 | W38: =W96-$Z77 -> 0 | X38: =X96-$Z77 -> 0 | Y38: =Y96-$Z77 -> 0 | Z38: =Z96-$Z77 -> 0 | AA38: =AA96-$AD77 -> 0 | AB38: =AB96-$AD77 -> 0 | AC38: =AC96-$AD77 -> 0 | AD38: =AD96-$AD77 -> 0 | AE38: =AE96-$AH77 -> 0 | AF38: =AF96-$AH77 -> 0 | AG38: =AG96-$AH77 -> 0 | AH38: =AH96-$AH77 -> 0 | AI38: =AI96-$AL77 -> 0 | AJ38: =AJ96-$AL77 -> 0 | AK38: =AK96-$AL77 -> 0 | AL38: =AL96-$AL77 -> 0 | AM38: =AM96-$AP77 -> 0 | AN38: =AN96-$AP77 -> 0 | AO38: =AO96-$AP77 -> 0 | AP38: =AP96-$AP77 -> 0 | AQ38: =AQ96-$AT77 -> 0 | AR38: =AR96-$AT77 -> 0 | AS38: =AS96-$AT77 -> 0 | AT38: =AT96-$AT77 -> 0 | AU38: =AU96-$AX77 -> 0 | AV38: =AV96-$AX77 -> 0 | AW38: =AW96-$AX77 -> 0 | AX38: =AX96-$AX77 -> 0 | AY38: =AY96-$BB77 -> 0 | AZ38: =AZ96-$BB77 -> 0 | BA38: =BA96-$BB77 -> 0 | BB38: =BB96-$BB77 -> 0 | BC38: =BC96-$BF77 -> 0 | BD38: =BD96-$BF77 -> 0 | BE38: =BE96-$BF77 -> 0 | BF38: =BF96-$BF77 -> 0 | BG38: =BG96-$BJ77 -> 0 | BH38: =BH96-$BJ77 -> 0 | BI38: =BI96-$BJ77 -> 0 | BJ38: =BJ96-$BJ77 -> 0
A39: =A58 -> Aromatic region Integral 3 | C39: =C97-$F78 -> 0.099915 | D39: =D97-$F78 -> -1.107885 | E39: =E97-$F78 -> 0.908035 | F39: =F97-$F78 -> 0.099935 | G39: =G97-$J78 -> -0.5918275 | H39: =H97-$J78 -> 0.7673625 | I39: =I97-$J78 -> -0.4316475 | J39: =J97-$J78 -> 0.2561125 | K39: =K97-$N78 -> 0.08197 | L39: =L97-$N78 -> -0.35219 | M39: =M97-$N78 -> 0.25493 | N39: =N97-$N78 -> 0.01529 | O39: =O97-$R78 -> -0.70166 | P39: =P97-$R78 -> -0.4625 | Q39: =Q97-$R78 -> 1.15425 | R39: =R97-$R78 -> 0.00991 | S39: =S97-$V78 -> 0.7974275 | T39: =T97-$V78 -> -0.5505125 | U39: =U97-$V78 -> 0.6249175 | V39: =V97-$V78 -> -0.8718325 | W39: =W97-$Z78 -> -0.605295 | X39: =X97-$Z78 -> -0.313065 | Y39: =Y97-$Z78 -> -0.067855 | Z39: =Z97-$Z78 -> 0.986215 | AA39: =AA97-$AD78 -> 1.0775325 | AB39: =AB97-$AD78 -> -0.1097675 | AC39: =AC97-$AD78 -> 0.1637525 | AD39: =AD97-$AD78 -> -1.1315175 | AE39: =AE97-$AH78 -> 0.15394 | AF39: =AF97-$AH78 -> 1.30807 | AG39: =AG97-$AH78 -> -0.10584 | AH39: =AH97-$AH78 -> -1.35617 | AI39: =AI97-$AL78 -> 0.2409875 | AJ39: =AJ97-$AL78 -> -0.4133625 | AK39: =AK97-$AL78 -> -0.2083425 | AL39: =AL97-$AL78 -> 0.3807175 | AM39: =AM97-$AP78 -> 0.007685 | AN39: =AN97-$AP78 -> -0.121685 | AO39: =AO97-$AP78 -> -0.017935 | AP39: =AP97-$AP78 -> 0.131935 | AQ39: =AQ97-$AT78 -> -0.8018375 | AR39: =AR97-$AT78 -> 0.4983725 | AS39: =AS97-$AT78 -> 0.5245725 | AT39: =AT97-$AT78 -> -0.2211075 | AU39: =AU97-$AX78 -> -0.1936875 | AV39: =AV97-$AX78 -> -0.2145275 | AW39: =AW97-$AX78 -> -0.0904475 | AX39: =AX97-$AX78 -> 0.4986625 | AY39: =AY97-$BB78 -> 0.9625075 | AZ39: =AZ97-$BB78 -> -0.9264725 | BA39: =BA97-$BB78 -> -0.0960625 | BB39: =BB97-$BB78 -> 0.0600275 | BC39: =BC97-$BF78 -> -2.2526225 | BD39: =BD97-$BF78 -> 0.3600975 | BE39: =BE97-$BF78 -> 0.5853175 | BF39: =BF97-$BF78 -> 1.3072075 | BG39: =BG97-$BJ78 -> -1.0506725 | BH39: =BH97-$BJ78 -> 0.7753075 | BI39: =BI97-$BJ78 -> 0.0001275 | BJ39: =BJ97-$BJ78 -> 0.2752375
A40: =A59 -> OCH/O-CH2 Integral 4 | C40: =C98-$F79 -> -0.06487 | D40: =D98-$F79 -> -0.00182 | E40: =E98-$F79 -> 0.13156 | F40: =F98-$F79 -> -0.06487 | G40: =G98-$J79 -> -0.1471675 | H40: =H98-$J79 -> -0.0548375 | I40: =I98-$J79 -> 0.0964225 | J40: =J98-$J79 -> 0.1055825 | K40: =K98-$N79 -> 0.06983 | L40: =L98-$N79 -> -0.01796 | M40: =M98-$N79 -> 0.01523 | N40: =N98-$N79 -> -0.0671 | O40: =O98-$R79 -> 0.0011725 | P40: =P98-$R79 -> 0.0080225 | Q40: =Q98-$R79 -> -0.0339175 | R40: =R98-$R79 -> 0.0247225 | S40: =S98-$V79 -> -0.02817 | T40: =T98-$V79 -> -0.05868 | U40: =U98-$V79 -> 0.03519 | V40: =V98-$V79 -> 0.05166 | W40: =W98-$Z79 -> -0.0229 | X40: =X98-$Z79 -> -0.11613 | Y40: =Y98-$Z79 -> -0.07067 | Z40: =Z98-$Z79 -> 0.2097 | AA40: =AA98-$AD79 -> -0.24868 | AB40: =AB98-$AD79 -> -0.01005 | AC40: =AC98-$AD79 -> 0.06233 | AD40: =AD98-$AD79 -> 0.1964 | AE40: =AE98-$AH79 -> -0.0382125 | AF40: =AF98-$AH79 -> 0.0054275 | AG40: =AG98-$AH79 -> -0.0768325 | AH40: =AH98-$AH79 -> 0.1096175 | AI40: =AI98-$AL79 -> -0.08525 | AJ40: =AJ98-$AL79 -> 0.02619 | AK40: =AK98-$AL79 -> -0.03638 | AL40: =AL98-$AL79 -> 0.09544 | AM40: =AM98-$AP79 -> -0.122165 | AN40: =AN98-$AP79 -> -0.070605 | AO40: =AO98-$AP79 -> -0.124445 | AP40: =AP98-$AP79 -> 0.317215 | AQ40: =AQ98-$AT79 -> -0.1206825 | AR40: =AR98-$AT79 -> 0.0132575 | AS40: =AS98-$AT79 -> 0.0808275 | AT40: =AT98-$AT79 -> 0.0265975 | AU40: =AU98-$AX79 -> -0.037895 | AV40: =AV98-$AX79 -> -0.044565 | AW40: =AW98-$AX79 -> -0.051765 | AX40: =AX98-$AX79 -> 0.134225 | AY40: =AY98-$BB79 -> 0.02719 | AZ40: =AZ98-$BB79 -> -0.24974 | BA40: =BA98-$BB79 -> 0.09589 | BB40: =BB98-$BB79 -> 0.12666 | BC40: =BC98-$BF79 -> -0.28701 | BD40: =BD98-$BF79 -> -0.03017 | BE40: =BE98-$BF79 -> 0.00581 | BF40: =BF98-$BF79 -> 0.31137 | BG40: =BG98-$BJ79 -> -0.11828 | BH40: =BH98-$BJ79 -> 0.24228 | BI40: =BI98-$BJ79 -> -0.13052 | BJ40: =BJ98-$BJ79 -> 0.00652
A41: =A60 -> Methoxy Integral 5 | C41: =C99-$F80 -> 1.0150625 | D41: =D99-$F80 -> -2.2248975 | E41: =E99-$F80 -> 0.1947825 | F41: =F99-$F80 -> 1.0150525 | G41: =G99-$J80 -> -3.9532075 | H41: =H99-$J80 -> -0.7474175 | I41: =I99-$J80 -> 0.5767025 | J41: =J99-$J80 -> 4.1239225 | K41: =K99-$N80 -> -2.77149 | L41: =L99-$N80 -> -4.66795 | M41: =M99-$N80 -> 6.38189 | N41: =N99-$N80 -> 1.05755 | O41: =O99-$R80 -> -2.0279875 | P41: =P99-$R80 -> -0.0014175 | Q41: =Q99-$R80 -> 2.8138025 | R41: =R99-$R80 -> -0.7843975 | S41: =S99-$V80 -> -1.809455 | T41: =T99-$V80 -> -2.628465 | U41: =U99-$V80 -> 1.530165 | V41: =V99-$V80 -> 2.907755 | W41: =W99-$Z80 -> -4.6025175 | X41: =X99-$Z80 -> -3.3698775 | Y41: =Y99-$Z80 -> -0.4395475 | Z41: =Z99-$Z80 -> 8.4119425 | AA41: =AA99-$AD80 -> -5.3646725 | AB41: =AB99-$AD80 -> 3.4620275 | AC41: =AC99-$AD80 -> -1.6562325 | AD41: =AD99-$AD80 -> 3.5588775 | AE41: =AE99-$AH80 -> -1.1306525 | AF41: =AF99-$AH80 -> 4.2544275 | AG41: =AG99-$AH80 -> -3.7218025 | AH41: =AH99-$AH80 -> 0.5980275 | AI41: =AI99-$AL80 -> -4.9895575 | AJ41: =AJ99-$AL80 -> 2.3577425 | AK41: =AK99-$AL80 -> -2.7192775 | AL41: =AL99-$AL80 -> 5.3510925 | AM41: =AM99-$AP80 -> -6.31831 | AN41: =AN99-$AP80 -> -1.46661 | AO41: =AO99-$AP80 -> -0.0876 | AP41: =AP99-$AP80 -> 7.87252 | AQ41: =AQ99-$AT80 -> -9.0362425 | AR41: =AR99-$AT80 -> -0.9548425 | AS41: =AS99-$AT80 -> 5.7825575 | AT41: =AT99-$AT80 -> 4.2085275 | AU41: =AU99-$AX80 -> -1.220705 | AV41: =AV99-$AX80 -> -0.153735 | AW41: =AW99-$AX80 -> -1.065045 | AX41: =AX99-$AX80 -> 2.439485 | AY41: =AY99-$BB80 -> 0.0970925 | AZ41: =AZ99-$BB80 -> -5.3861375 | BA41: =BA99-$BB80 -> 1.8926325 | BB41: =BB99-$BB80 -> 3.3964125 | BC41: =BC99-$BF80 -> -3.0517375 | BD41: =BD99-$BF80 -> -1.4707075 | BE41: =BE99-$BF80 -> 0.5802325 | BF41: =BF99-$BF80 -> 3.9422125 | BG41: =BG99-$BJ80 -> 74.865338 | BH41: =BH99-$BJ80 -> -21.596422 | BI41: =BI99-$BJ80 -> -28.187352 | BJ41: =BJ99-$BJ80 -> -25.081562
A42: =A61 -> DMSO | C42: =C100-$F81 -> 1.69216 | D42: =D100-$F81 -> -2.05648 | E42: =E100-$F81 -> -1.3278 | F42: =F100-$F81 -> 1.69212 | G42: =G100-$J81 -> -0.1807775 | H42: =H100-$J81 -> -0.0111075 | I42: =I100-$J81 -> 0.1542825 | J42: =J100-$J81 -> 0.0376025 | K42: =K100-$N81 -> 0.6210725 | L42: =L100-$N81 -> -0.9651775 | M42: =M100-$N81 -> 1.1675225 | N42: =N100-$N81 -> -0.8234175 | O42: =O100-$R81 -> -0.2113625 | P42: =P100-$R81 -> 0.0529775 | Q42: =Q100-$R81 -> 0.9147675 | R42: =R100-$R81 -> -0.7563825 | S42: =S100-$V81 -> 0.724005 | T42: =T100-$V81 -> -0.963835 | U42: =U100-$V81 -> 1.107365 | V42: =V100-$V81 -> -0.867535 | W42: =W100-$Z81 -> -1.1617175 | X42: =X100-$Z81 -> -1.0849375 | Y42: =Y100-$Z81 -> -0.4150275 | Z42: =Z100-$Z81 -> 2.6616825 | AA42: =AA100-$AD81 -> -0.50524 | AB42: =AB100-$AD81 -> 0.91574 | AC42: =AC100-$AD81 -> -0.89298 | AD42: =AD100-$AD81 -> 0.48248 | AE42: =AE100-$AH81 -> 0.4493375 | AF42: =AF100-$AH81 -> 1.7149075 | AG42: =AG100-$AH81 -> -0.4015125 | AH42: =AH100-$AH81 -> -1.7627325 | AI42: =AI100-$AL81 -> -0.670505 | AJ42: =AJ100-$AL81 -> 0.697665 | AK42: =AK100-$AL81 -> -0.946495 | AL42: =AL100-$AL81 -> 0.919335 | AM42: =AM100-$AP81 -> -1.722485 | AN42: =AN100-$AP81 -> -0.321655 | AO42: =AO100-$AP81 -> -0.565935 | AP42: =AP100-$AP81 -> 2.610075 | AQ42: =AQ100-$AT81 -> -1.4468975 | AR42: =AR100-$AT81 -> -0.1400475 | AS42: =AS100-$AT81 -> 1.0882125 | AT42: =AT100-$AT81 -> 0.4987325 | AU42: =AU100-$AX81 -> 0.38658 | AV42: =AV100-$AX81 -> 0.24897 | AW42: =AW100-$AX81 -> -1.07937 | AX42: =AX100-$AX81 -> 0.44382 | AY42: =AY100-$BB81 -> 0.9375575 | AZ42: =AZ100-$BB81 -> -1.9483525 | BA42: =BA100-$BB81 -> 0.2253775 | BB42: =BB100-$BB81 -> 0.7854175 | BC42: =BC100-$BF81 -> -0.6403575 | BD42: =BD100-$BF81 -> -0.4169175 | BE42: =BE100-$BF81 -> -0.2771575 | BF42: =BF100-$BF81 -> 1.3344325 | BG42: =BG100-$BJ81 -> 1.1832125 | BH42: =BH100-$BJ81 -> 1.5362625 | BI42: =BI100-$BJ81 -> -1.6609375 | BJ42: =BJ100-$BJ81 -> -1.0585375
A43: =A62 -> Integral 7 | C43: =C101-$F82 -> -0.02463 | D43: =D101-$F82 -> 0.01842 | E43: =E101-$F82 -> 0.03084 | F43: =F101-$F82 -> -0.02463 | G43: =G101-$J82 -> 0.004205 | H43: =H101-$J82 -> 0.011215 | I43: =I101-$J82 -> -0.017365 | J43: =J101-$J82 -> 0.001945 | K43: =K101-$N82 -> 0.00466 | L43: =L101-$N82 -> -0.01302 | M43: =M101-$N82 -> 0.01467 | N43: =N101-$N82 -> -0.00631 | O43: =O101-$R82 -> -0.0305675 | P43: =P101-$R82 -> 0.0367125 | Q43: =Q101-$R82 -> -0.0081975 | R43: =R101-$R82 -> 0.0020525 | S43: =S101-$V82 -> 0.0006 | T43: =T101-$V82 -> -0.01016 | U43: =U101-$V82 -> 0.03067 | V43: =V101-$V82 -> -0.02111 | W43: =W101-$Z82 -> -0.00281 | X43: =X101-$Z82 -> 0.01679 | Y43: =Y101-$Z82 -> -0.03173 | Z43: =Z101-$Z82 -> 0.01775 | AA43: =AA101-$AD82 -> -0.010625 | AB43: =AB101-$AD82 -> 0.013645 | AC43: =AC101-$AD82 -> 0.012685 | AD43: =AD101-$AD82 -> -0.015705 | AE43: =AE101-$AH82 -> 0.0064875 | AF43: =AF101-$AH82 -> 0.0099275 | AG43: =AG101-$AH82 -> -0.0062825 | AH43: =AH101-$AH82 -> -0.0101325 | AI43: =AI101-$AL82 -> -0.0214925 | AJ43: =AJ101-$AL82 -> 0.0111575 | AK43: =AK101-$AL82 -> -0.0001125 | AL43: =AL101-$AL82 -> 0.0104475 | AM43: =AM101-$AP82 -> -0.04263 | AN43: =AN101-$AP82 -> -0.00568 | AO43: =AO101-$AP82 -> 0.01308 | AP43: =AP101-$AP82 -> 0.03523 | AQ43: =AQ101-$AT82 -> -0.0141725 | AR43: =AR101-$AT82 -> -0.0123325 | AS43: =AS101-$AT82 -> 0.0157675 | AT43: =AT101-$AT82 -> 0.0107375 | AU43: =AU101-$AX82 -> 0.0286275 | AV43: =AV101-$AX82 -> 0.0127575 | AW43: =AW101-$AX82 -> -0.0227025 | AX43: =AX101-$AX82 -> -0.0186825 | AY43: =AY101-$BB82 -> -0.0020275 | AZ43: =AZ101-$BB82 -> -0.0012275 | BA43: =BA101-$BB82 -> 0.0037825 | BB43: =BB101-$BB82 -> -0.0005275 | BC43: =BC101-$BF82 -> 0.016015 | BD43: =BD101-$BF82 -> -0.026585 | BE43: =BE101-$BF82 -> -0.001855 | BF43: =BF101-$BF82 -> 0.012425 | BG43: =BG101-$BJ82 -> -0.0098675 | BH43: =BH101-$BJ82 -> 0.0404525 | BI43: =BI101-$BJ82 -> -0.0140475 | BJ43: =BJ101-$BJ82 -> -0.0165375
A44: =A63 -> Integral 8 | C44: =C102-$F83 -> -0.0449325 | D44: =D102-$F83 -> 0.0041275 | E44: =E102-$F83 -> 0.0857475 | F44: =F102-$F83 -> -0.0449425 | G44: =G102-$J83 -> -0.0112775 | H44: =H102-$J83 -> 0.0185825 | I44: =I102-$J83 -> -0.0322875 | J44: =J102-$J83 -> 0.0249825 | K44: =K102-$N83 -> 0.021765 | L44: =L102-$N83 -> -0.044695 | M44: =M102-$N83 -> 0.066225 | N44: =N102-$N83 -> -0.043295 | O44: =O102-$R83 -> -0.0783575 | P44: =P102-$R83 -> 0.0717225 | Q44: =Q102-$R83 -> 0.0254525 | R44: =R102-$R83 -> -0.0188175 | S44: =S102-$V83 -> 0.02652 | T44: =T102-$V83 -> -0.04923 | U44: =U102-$V83 -> 0.09475 | V44: =V102-$V83 -> -0.07204 | W44: =W102-$Z83 -> -0.0292475 | X44: =X102-$Z83 -> 0.0090925 | Y44: =Y102-$Z83 -> -0.0693775 | Z44: =Z102-$Z83 -> 0.0895325 | AA44: =AA102-$AD83 -> -0.04711 | AB44: =AB102-$AD83 -> 0.05132 | AC44: =AC102-$AD83 -> 0.00582 | AD44: =AD102-$AD83 -> -0.01003 | AE44: =AE102-$AH83 -> 0.0123225 | AF44: =AF102-$AH83 -> 0.0720825 | AG44: =AG102-$AH83 -> -0.0462075 | AH44: =AH102-$AH83 -> -0.0381975 | AI44: =AI102-$AL83 -> -0.06182 | AJ44: =AJ102-$AL83 -> 0.06359 | AK44: =AK102-$AL83 -> -0.04369 | AL44: =AL102-$AL83 -> 0.04192 | AM44: =AM102-$AP83 -> -0.14248 | AN44: =AN102-$AP83 -> -0.01704 | AO44: =AO102-$AP83 -> 0.01387 | AP44: =AP102-$AP83 -> 0.14565 | AQ44: =AQ102-$AT83 -> -0.087745 | AR44: =AR102-$AT83 -> -0.019355 | AS44: =AS102-$AT83 -> 0.067155 | AT44: =AT102-$AT83 -> 0.039945 | AU44: =AU102-$AX83 -> 0.0646225 | AV44: =AV102-$AX83 -> 0.0288025 | AW44: =AW102-$AX83 -> -0.0724975 | AX44: =AX102-$AX83 -> -0.0209275 | AY44: =AY102-$BB83 -> 0.0267725 | AZ44: =AZ102-$BB83 -> -0.0820075 | BA44: =BA102-$BB83 -> 0.0191025 | BB44: =BB102-$BB83 -> 0.0361325 | BC44: =BC102-$BF83 -> 0.00143 | BD44: =BD102-$BF83 -> -0.05135 | BE44: =BE102-$BF83 -> 0.00236 | BF44: =BF102-$BF83 -> 0.04756 | BG44: =BG102-$BJ83 -> -0.0412525 | BH44: =BH102-$BJ83 -> 0.1624775 | BI44: =BI102-$BJ83 -> -0.0734325 | BJ44: =BJ102-$BJ83 -> -0.0477925
A45: =A64 -> Integral 9 | C45: =C103-$F84 -> -0.0441375 | D45: =D103-$F84 -> 0.0411425 | E45: =E103-$F84 -> 0.0471425 | F45: =F103-$F84 -> -0.0441475 | G45: =G103-$J84 -> 0.010065 | H45: =H103-$J84 -> 0.020145 | I45: =I103-$J84 -> -0.031855 | J45: =J103-$J84 -> 0.001645 | K45: =K103-$N84 -> 0.01032 | L45: =L103-$N84 -> -0.01272 | M45: =M103-$N84 -> 0.01444 | N45: =N103-$N84 -> -0.01204 | O45: =O103-$R84 -> -0.0465425 | P45: =P103-$R84 -> 0.0608875 | Q45: =Q103-$R84 -> -0.0186725 | R45: =R103-$R84 -> 0.0043275 | S45: =S103-$V84 -> 0.00708 | T45: =T103-$V84 -> -0.01301 | U45: =U103-$V84 -> 0.04634 | V45: =V103-$V84 -> -0.04041 | W45: =W103-$Z84 -> 0.0157875 | X45: =X103-$Z84 -> 0.0291975 | Y45: =Y103-$Z84 -> -0.0595025 | Z45: =Z103-$Z84 -> 0.0145175 | AA45: =AA103-$AD84 -> -0.01895 | AB45: =AB103-$AD84 -> 0.02356 | AC45: =AC103-$AD84 -> 0.0142 | AD45: =AD103-$AD84 -> -0.01881 | AE45: =AE103-$AH84 -> 0.0122575 | AF45: =AF103-$AH84 -> 0.0093175 | AG45: =AG103-$AH84 -> -0.0018725 | AH45: =AH103-$AH84 -> -0.0197025 | AI45: =AI103-$AL84 -> -0.0214525 | AJ45: =AJ103-$AL84 -> 0.0182175 | AK45: =AK103-$AL84 -> -0.0074125 | AL45: =AL103-$AL84 -> 0.0106475 | AM45: =AM103-$AP84 -> -0.050925 | AN45: =AN103-$AP84 -> -0.006005 | AO45: =AO103-$AP84 -> 0.018445 | AP45: =AP103-$AP84 -> 0.038485 | AQ45: =AQ103-$AT84 -> -0.016445 | AR45: =AR103-$AT84 -> -0.014775 | AS45: =AS103-$AT84 -> 0.016055 | AT45: =AT103-$AT84 -> 0.015165 | AU45: =AU103-$AX84 -> 0.046485 | AV45: =AV103-$AX84 -> 0.018105 | AW45: =AW103-$AX84 -> -0.033385 | AX45: =AX103-$AX84 -> -0.031205 | AY45: =AY103-$BB84 -> -0.00019 | AZ45: =AZ103-$BB84 -> 0.00332 | BA45: =BA103-$BB84 -> -0.00049 | BB45: =BB103-$BB84 -> -0.00264 | BC45: =BC103-$BF84 -> 0.02593 | BD45: =BD103-$BF84 -> -0.0296 | BE45: =BE103-$BF84 -> -0.00442 | BF45: =BF103-$BF84 -> 0.00809 | BG45: =BG103-$BJ84 -> 0.000215 | BH45: =BH103-$BJ84 -> 0.056895 | BI45: =BI103-$BJ84 -> -0.028115 | BJ45: =BJ103-$BJ84 -> -0.028995
A46: =A65 -> Integral 10 | C46: =C104-$F85 -> -0.07207 | D46: =D104-$F85 -> 0.0684 | E46: =E104-$F85 -> 0.07572 | F46: =F104-$F85 -> -0.07205 | G46: =G104-$J85 -> 0.00939 | H46: =H104-$J85 -> 0.03294 | I46: =I104-$J85 -> -0.05381 | J46: =J104-$J85 -> 0.01148 | K46: =K104-$N85 -> 0.011145 | L46: =L104-$N85 -> -0.023125 | M46: =M104-$N85 -> 0.028195 | N46: =N104-$N85 -> -0.016215 | O46: =O104-$R85 -> -0.0801225 | P46: =P104-$R85 -> 0.1015875 | Q46: =Q104-$R85 -> -0.0304125 | R46: =R104-$R85 -> 0.0089475 | S46: =S104-$V85 -> 0.0070825 | T46: =T104-$V85 -> -0.0263875 | U46: =U104-$V85 -> 0.0742325 | V46: =V104-$V85 -> -0.0549275 | W46: =W104-$Z85 -> 0.0188275 | X46: =X104-$Z85 -> 0.0459975 | Y46: =Y104-$Z85 -> -0.0955225 | Z46: =Z104-$Z85 -> 0.0306975 | AA46: =AA104-$AD85 -> -0.0433975 | AB46: =AB104-$AD85 -> 0.0384825 | AC46: =AC104-$AD85 -> 0.0230225 | AD46: =AD104-$AD85 -> -0.0181075 | AE46: =AE104-$AH85 -> 0.01064 | AF46: =AF104-$AH85 -> 0.00756 | AG46: =AG104-$AH85 -> -0.00376 | AH46: =AH104-$AH85 -> -0.01444 | AI46: =AI104-$AL85 -> -0.03857 | AJ46: =AJ104-$AL85 -> 0.02846 | AK46: =AK104-$AL85 -> -0.0147 | AL46: =AL104-$AL85 -> 0.02481 | AM46: =AM104-$AP85 -> -0.089755 | AN46: =AN104-$AP85 -> -0.017105 | AO46: =AO104-$AP85 -> 0.031295 | AP46: =AP104-$AP85 -> 0.075565 | AQ46: =AQ104-$AT85 -> -0.034425 | AR46: =AR104-$AT85 -> -0.027235 | AS46: =AS104-$AT85 -> 0.028985 | AT46: =AT104-$AT85 -> 0.032675 | AU46: =AU104-$AX85 -> 0.06905 | AV46: =AV104-$AX85 -> 0.02685 | AW46: =AW104-$AX85 -> -0.05111 | AX46: =AX104-$AX85 -> -0.04479 | AY46: =AY104-$BB85 -> -0.00493 | AZ46: =AZ104-$BB85 -> 0.00048 | BA46: =BA104-$BB85 -> 0.0022 | BB46: =BB104-$BB85 -> 0.00225 | BC46: =BC104-$BF85 -> 0.031075 | BD46: =BD104-$BF85 -> -0.047925 | BE46: =BE104-$BF85 -> -0.003065 | BF46: =BF104-$BF85 -> 0.019915 | BG46: =BG104-$BJ85 -> -0.0135825 | BH46: =BH104-$BJ85 -> 0.0940275 | BI46: =BI104-$BJ85 -> -0.0470525 | BJ46: =BJ104-$BJ85 -> -0.0333925
A47: =A66 -> Integral 11 | C47: =C105-$F86 -> -0.05123 | D47: =D105-$F86 -> 0.05406 | E47: =E105-$F86 -> 0.04845 | F47: =F105-$F86 -> -0.05128 | G47: =G105-$J86 -> 0.0093525 | H47: =H105-$J86 -> 0.0265425 | I47: =I105-$J86 -> -0.0438975 | J47: =J105-$J86 -> 0.0080025 | K47: =K105-$N86 -> 0.0055725 | L47: =L105-$N86 -> -0.0173975 | M47: =M105-$N86 -> 0.0185025 | N47: =N105-$N86 -> -0.0066775 | O47: =O105-$R86 -> -0.058675 | P47: =P105-$R86 -> 0.079515 | Q47: =Q105-$R86 -> -0.029075 | R47: =R105-$R86 -> 0.008235 | S47: =S105-$V86 -> 0.0044425 | T47: =T105-$V86 -> -0.0180775 | U47: =U105-$V86 -> 0.0526825 | V47: =V105-$V86 -> -0.0390475 | W47: =W105-$Z86 -> 0.019685 | X47: =X105-$Z86 -> 0.036545 | Y47: =Y105-$Z86 -> -0.072205 | Z47: =Z105-$Z86 -> 0.015975 | AA47: =AA105-$AD86 -> -0.034245 | AB47: =AB105-$AD86 -> 0.029095 | AC47: =AC105-$AD86 -> 0.017405 | AD47: =AD105-$AD86 -> -0.012255 | AE47: =AE105-$AH86 -> 0.006625 | AF47: =AF105-$AH86 -> -0.005675 | AG47: =AG105-$AH86 -> 0.003145 | AH47: =AH105-$AH86 -> -0.004095 | AI47: =AI105-$AL86 -> -0.02692 | AJ47: =AJ105-$AL86 -> 0.01547 | AK47: =AK105-$AL86 -> -0.00799 | AL47: =AL105-$AL86 -> 0.01944 | AM47: =AM105-$AP86 -> -0.05834 | AN47: =AN105-$AP86 -> -0.01424 | AO47: =AO105-$AP86 -> 0.02532 | AP47: =AP105-$AP86 -> 0.04726 | AQ47: =AQ105-$AT86 -> -0.0205025 | AR47: =AR105-$AT86 -> -0.0208025 | AS47: =AS105-$AT86 -> 0.0170375 | AT47: =AT105-$AT86 -> 0.0242675 | AU47: =AU105-$AX86 -> 0.04968 | AV47: =AV105-$AX86 -> 0.01957 | AW47: =AW105-$AX86 -> -0.03457 | AX47: =AX105-$AX86 -> -0.03468 | AY47: =AY105-$BB86 -> -0.0104275 | AZ47: =AZ105-$BB86 -> 0.0080125 | BA47: =BA105-$BB86 -> 0.0027925 | BB47: =BB105-$BB86 -> -0.0003775 | BC47: =BC105-$BF86 -> 0.0212875 | BD47: =BD105-$BF86 -> -0.0361625 | BE47: =BE105-$BF86 -> -0.0011625 | BF47: =BF105-$BF86 -> 0.0160375 | BG47: =BG105-$BJ86 -> 0.0029675 | BH47: =BH105-$BJ86 -> 0.0585675 | BI47: =BI105-$BJ86 -> -0.0361925 | BJ47: =BJ105-$BJ86 -> -0.0253425
A48: =A67 -> Integral 12 | C48: =C106-$F87 -> -0.041765 | D48: =D106-$F87 -> 0.045205 | E48: =E106-$F87 -> 0.038275 | F48: =F106-$F87 -> -0.041715 | G48: =G106-$J87 -> 0.007855 | H48: =H106-$J87 -> 0.020905 | I48: =I106-$J87 -> -0.035545 | J48: =J106-$J87 -> 0.006785 | K48: =K106-$N87 -> 0.0052875 | L48: =L106-$N87 -> -0.0108125 | M48: =M106-$N87 -> 0.0110175 | N48: =N106-$N87 -> -0.0054925 | O48: =O106-$R87 -> -0.0462275 | P48: =P106-$R87 -> 0.0624625 | Q48: =Q106-$R87 -> -0.0234675 | R48: =R106-$R87 -> 0.0072325 | S48: =S106-$V87 -> 0.0059275 | T48: =T106-$V87 -> -0.0139225 | U48: =U106-$V87 -> 0.0385075 | V48: =V106-$V87 -> -0.0305125 | W48: =W106-$Z87 -> 0.0187125 | X48: =X106-$Z87 -> 0.0294525 | Y48: =Y106-$Z87 -> -0.0590175 | Z48: =Z106-$Z87 -> 0.0108525 | AA48: =AA106-$AD87 -> -0.026675 | AB48: =AB106-$AD87 -> 0.021875 | AC48: =AC106-$AD87 -> 0.012385 | AD48: =AD106-$AD87 -> -0.007585 | AE48: =AE106-$AH87 -> 0.0059825 | AF48: =AF106-$AH87 -> -0.0042675 | AG48: =AG106-$AH87 -> 0.0041325 | AH48: =AH106-$AH87 -> -0.0058475 | AI48: =AI106-$AL87 -> -0.0178625 | AJ48: =AJ106-$AL87 -> 0.0133675 | AK48: =AK106-$AL87 -> -0.0078625 | AL48: =AL106-$AL87 -> 0.0123575 | AM48: =AM106-$AP87 -> -0.04261 | AN48: =AN106-$AP87 -> -0.00984 | AO48: =AO106-$AP87 -> 0.01855 | AP48: =AP106-$AP87 -> 0.0339 | AQ48: =AQ106-$AT87 -> -0.014425 | AR48: =AR106-$AT87 -> -0.014725 | AS48: =AS106-$AT87 -> 0.011435 | AT48: =AT106-$AT87 -> 0.017715 | AU48: =AU106-$AX87 -> 0.0381575 | AV48: =AV106-$AX87 -> 0.0123775 | AW48: =AW106-$AX87 -> -0.0253825 | AX48: =AX106-$AX87 -> -0.0251525 | AY48: =AY106-$BB87 -> -0.0065525 | AZ48: =AZ106-$BB87 -> 0.0043075 | BA48: =BA106-$BB87 -> 0.0015275 | BB48: =BB106-$BB87 -> 0.0007175 | BC48: =BC106-$BF87 -> 0.0086175 | BD48: =BD106-$BF87 -> -0.0229525 | BE48: =BE106-$BF87 -> 0.0015575 | BF48: =BF106-$BF87 -> 0.0127775 | BG48: =BG106-$BJ87 -> 0.0025725 | BH48: =BH106-$BJ87 -> 0.0488925 | BI48: =BI106-$BJ87 -> -0.0324875 | BJ48: =BJ106-$BJ87 -> -0.0189775
... A51: =A70 -> TMS | C51: =C109-$F90 -> 0.0906575 | D51: =D109-$F90 -> -0.1072525 | E51: =E109-$F90 -> -0.0740425 | F51: =F109-$F90 -> 0.0906375 | G51: =G109-$J90 -> -0.070575 | H51: =H109-$J90 -> 0.011545 | I51: =I109-$J90 -> 0.065455 | J51: =J109-$J90 -> -0.006425 | K51: =K109-$N90 -> 0.0582 | L51: =L109-$N90 -> -0.00577 | M51: =M109-$N90 -> 0.02478 | N51: =N109-$N90 -> -0.07721 | O51: =O109-$R90 -> 0.0070575 | P51: =P109-$R90 -> -0.0234025 | Q51: =Q109-$R90 -> 0.0444475 | R51: =R109-$R90 -> -0.0281025 | S51: =S109-$V90 -> 0.0435325 | T51: =T109-$V90 -> -0.0130675 | U51: =U109-$V90 -> 0.0717625 | V51: =V109-$V90 -> -0.1022275 | W51: =W109-$Z90 -> -0.0217725 | X51: =X109-$Z90 -> -0.0227825 | Y51: =Y109-$Z90 -> 0.0230375 | Z51: =Z109-$Z90 -> 0.0215175 | AA51: =AA109-$AD90 -> 0.0134875 | AB51: =AB109-$AD90 -> 0.0260075 | AC51: =AC109-$AD90 -> -0.0257525 | AD51: =AD109-$AD90 -> -0.0137425 | AE51: =AE109-$AH90 -> 0.01216 | AF51: =AF109-$AH90 -> 0.02144 | AG51: =AG109-$AH90 -> -0.00223 | AH51: =AH109-$AH90 -> -0.03137 | AI51: =AI109-$AL90 -> -0.0097 | AJ51: =AJ109-$AL90 -> 0.01105 | AK51: =AK109-$AL90 -> -0.01081 | AL51: =AL109-$AL90 -> 0.00946 | AM51: =AM109-$AP90 -> 0.0056575 | AN51: =AN109-$AP90 -> 0.0169475 | AO51: =AO109-$AP90 -> -0.0172725 | AP51: =AP109-$AP90 -> -0.0053325 | AQ51: =AQ109-$AT90 -> -0.0022825 | AR51: =AR109-$AT90 -> 0.0209375 | AS51: =AS109-$AT90 -> -0.0008625 | AT51: =AT109-$AT90 -> -0.0177925 | AU51: =AU109-$AX90 -> 0.02766 | AV51: =AV109-$AX90 -> -0.00233 | AW51: =AW109-$AX90 -> -0.01292 | AX51: =AX109-$AX90 -> -0.01241 | AY51: =AY109-$BB90 -> 0.045095 | AZ51: =AZ109-$BB90 -> -0.038445 | BA51: =BA109-$BB90 -> 0.003155 | BB51: =BB109-$BB90 -> -0.009805 | BC51: =BC109-$BF90 -> -0.0079725 | BD51: =BD109-$BF90 -> 0.0063375 | BE51: =BE109-$BF90 -> -0.0023025 | BF51: =BF109-$BF90 -> 0.0039375 | BG51: =BG109-$BJ90 -> 0.33415 | BH51: =BH109-$BJ90 -> -0.10526 | BI51: =BI109-$BJ90 -> -0.11331 | BJ51: =BJ109-$BJ90 -> -0.11558
A54: Total error terms
A56: =A76 -> Aldehyde Integral 1 | C56: =C95-$C76 -> 0.010425667 | D56: =D95-$C76 -> 0.015595667 | E56: =E95-$C76 -> 0.023055667 | F56: =F95-$C76 -> 0.010455667 | G56: =G95-$C76 -> 0.0072356667 | H56: =H95-$C76 -> 0.011935667 | I56: =I95-$C76 -> 0.0020856667 | J56: =J95-$C76 -> 0.0010056667 | ... BJ56: =BJ95-$C76 -> 0.011985667
A57: =A77 -> Aldehyde Integral 2 | C57: =C96-$C77 -> 0 | D57: =D96-$C77 -> 0 | E57: =E96-$C77 -> 0 | F57: =F96-$C77 -> 0 | G57: =G96-$C77 -> 0 | H57: =H96-$C77 -> 0 | I57: =I96-$C77 -> 0 | J57: =J96-$C77 -> 0 | ... BJ57: =BJ96-$C77 -> 0
A58: =A78 -> Aromatic region Integral 3 | C58: =C97-$C78 -> 0.87050817 | D58: =D97-$C78 -> -0.33729183 | E58: =E97-$C78 -> 1.6786282 | F58: =F97-$C78 -> 0.87052817 | G58: =G97-$C78 -> -1.7293618 | H58: =H97-$C78 -> -0.37017183 | I58: =I97-$C78 -> -1.5691818 | J58: =J97-$C78 -> -0.88142183 | ... BJ58: =BJ97-$C78 -> 1.3635282
A59: =A79 -> OCH/O-CH2 Integral 4 | C59: =C98-$C79 -> -0.123856 | D59: =D98-$C79 -> -0.060806 | E59: =E98-$C79 -> 0.072574 | F59: =F98-$C79 -> -0.123856 | G59: =G98-$C79 -> -0.203806 | H59: =H98-$C79 -> -0.111476 | I59: =I98-$C79 -> 0.039784 | J59: =J98-$C79 -> 0.048944 | ... BJ59: =BJ98-$C79 -> 0.066944
A60: =A80 -> Methoxy Integral 5 | C60: =C99-$C80 -> -33.648073 | D60: =D99-$C80 -> -36.888033 | E60: =E99-$C80 -> -34.468353 | F60: =F99-$C80 -> -33.648083 | G60: =G99-$C80 -> -9.5899635 | H60: =H99-$C80 -> -6.3841735 | I60: =I99-$C80 -> -5.0600535 | J60: =J99-$C80 -> -1.5128335 | ... BJ60: =BJ99-$C80 -> -45.743123
A61: =A81 -> DMSO | C61: =C100-$C81 -> -0.9253585 | D61: =D100-$C81 -> -4.6739985 | E61: =E100-$C81 -> -3.9453185 | F61: =F100-$C81 -> -0.9253985 | G61: =G100-$C81 -> -2.6589785 | H61: =H100-$C81 -> -2.4893085 | I61: =I100-$C81 -> -2.3239185 | J61: =J100-$C81 -> -2.4405985 | ... BJ61: =BJ100-$C81 -> -4.0010685
A62: =A82 -> Integral 7 | C62: =C101-$C82 -> -0.032645167 | D62: =D101-$C82 -> 0.010404833 | E62: =E101-$C82 -> 0.022824833 | F62: =F101-$C82 -> -0.032645167 | G62: =G101-$C82 -> -0.019825167 | H62: =H101-$C82 -> -0.012815167 | I62: =I101-$C82 -> -0.041395167 | J62: =J101-$C82 -> -0.022085167 | ... BJ62: =BJ101-$C82 -> -0.014505167
A63: =A83 -> Integral 8 | C63: =C102-$C83 -> -0.021502 | D63: =D102-$C83 -> 0.027558 | E63: =E102-$C83 -> 0.109178 | F63: =F102-$C83 -> -0.021512 | G63: =G102-$C83 -> -0.094082 | H63: =H102-$C83 -> -0.064222 | I63: =I102-$C83 -> -0.115092 | J63: =J102-$C83 -> -0.057822 | ... BJ63: =BJ102-$C83 -> -0.048992
A64: =A84 -> Integral 9 | C64: =C103-$C84 -> -0.058330167 | D64: =D103-$C84 -> 0.026949833 | E64: =E103-$C84 -> 0.032949833 | F64: =F103-$C84 -> -0.058340167 | G64: =G103-$C84 -> -0.029080167 | H64: =H103-$C84 -> -0.019000167 | I64: =I103-$C84 -> -0.071000167 | J64: =J103-$C84 -> -0.037500167 | ... BJ64: =BJ103-$C84 -> -0.024260167
A65: =A85 -> Integral 10 | C65: =C104-$C85 -> -0.097734167 | D65: =D104-$C85 -> 0.042735833 | E65: =E104-$C85 -> 0.050055833 | F65: =F104-$C85 -> -0.097714167 | G65: =G104-$C85 -> -0.043034167 | H65: =H104-$C85 -> -0.019484167 | I65: =I104-$C85 -> -0.10623417 | J65: =J104-$C85 -> -0.040944167 | ... BJ65: =BJ104-$C85 -> -0.032854167
A66: =A86 -> Integral 11 | C66: =C105-$C86 -> -0.077523167 | D66: =D105-$C86 -> 0.027766833 | E66: =E105-$C86 -> 0.022156833 | F66: =F105-$C86 -> -0.077573167 | G66: =G105-$C86 -> -0.023093167 | H66: =H105-$C86 -> -0.0059031667 | I66: =I105-$C86 -> -0.076343167 | J66: =J105-$C86 -> -0.024443167 | ... BJ66: =BJ105-$C86 -> -0.034623167
A67: =A87 -> Integral 12 | C67: =C106-$C87 -> -0.059993667 | D67: =D106-$C87 -> 0.026976333 | E67: =E106-$C87 -> 0.020046333 | F67: =F106-$C87 -> -0.059943667 | G67: =G106-$C87 -> -0.018883667 | H67: =H106-$C87 -> -0.0058336667 | I67: =I106-$C87 -> -0.062283667 | J67: =J106-$C87 -> -0.019953667 | ... BJ67: =BJ106-$C87 -> -0.018443667
... A70: =A90 -> TMS | C70: =C109-$C90 -> 1.473349 | D70: =D109-$C90 -> 1.275439 | E70: =E109-$C90 -> 1.308649 | F70: =F109-$C90 -> 1.473329 | G70: =G109-$C90 -> 0.724979 | H70: =H109-$C90 -> 0.807099 | I70: =I109-$C90 -> 0.861009 | J70: =J109-$C90 -> 0.789129 | ... BJ70: =BJ109-$C90 -> -0.544531
A73: Means
C75: Grand mean | F75: Sample means
A76: =A95 -> Aldehyde Integral 1 | C76: =AVERAGE(C95:BJ95) -> 0.046244333 | F76: =AVERAGE(C95:F95) -> 0.0611275 | J76: =AVERAGE(G95:J95) -> 0.05181 | N76: =AVERAGE(K95:N95) -> 0.0472675 | R76: =AVERAGE(O95:R95) -> 0.0500525 | V76: =AVERAGE(S95:V95) -> 0.042205 | Z76: =AVERAGE(W95:Z95) -> -0.0151525 | AD76: =AVERAGE(AA95:AD95) -> 0.0544375 | AH76: =AVERAGE(AE95:AH95) -> 0.0473525 | AL76: =AVERAGE(AI95:AL95) -> 0.0574725 | AP76: =AVERAGE(AM95:AP95) -> 0.052925 | AT76: =AVERAGE(AQ95:AT95) -> 0.0336775 | AX76: =AVERAGE(AU95:AX95) -> 0.0462575 | BB76: =AVERAGE(AY95:BB95) -> 0.0590325 | BF76: =AVERAGE(BC95:BF95) -> 0.056785 | BJ76: =AVERAGE(BG95:BJ95) -> 0.048415
A77: =A96 -> Aldehyde Integral 2 | C77: =AVERAGE(C96:BJ96) -> 1 | F77: =AVERAGE(C96:F96) -> 1 | J77: =AVERAGE(G96:J96) -> 1 | N77: =AVERAGE(K96:N96) -> 1 | R77: =AVERAGE(O96:R96) -> 1 | V77: =AVERAGE(S96:V96) -> 1 | Z77: =AVERAGE(W96:Z96) -> 1 | AD77: =AVERAGE(AA96:AD96) -> 1 | AH77: =AVERAGE(AE96:AH96) -> 1 | AL77: =AVERAGE(AI96:AL96) -> 1 | AP77: =AVERAGE(AM96:AP96) -> 1 | AT77: =AVERAGE(AQ96:AT96) -> 1 | AX77: =AVERAGE(AU96:AX96) -> 1 | BB77: =AVERAGE(AY96:BB96) -> 1 | BF77: =AVERAGE(BC96:BF96) -> 1 | BJ77: =AVERAGE(BG96:BJ96) -> 1
A78: =A97 -> Aromatic region Integral 3 | C78: =AVERAGE(C97:BJ97) -> 23.031072 | F78: =AVERAGE(C97:F97) -> 23.801665 | J78: =AVERAGE(G97:J97) -> 21.893538 | N78: =AVERAGE(K97:N97) -> 23.7215 | R78: =AVERAGE(O97:R97) -> 23.36655 | V78: =AVERAGE(S97:V97) -> 22.317443 | Z78: =AVERAGE(W97:Z97) -> 23.366125 | AD78: =AVERAGE(AA97:AD97) -> 20.616577 | AH78: =AVERAGE(AE97:AH97) -> 24.20167 | AL78: =AVERAGE(AI97:AL97) -> 22.464802 | AP78: =AVERAGE(AM97:AP97) -> 22.008085 | AT78: =AVERAGE(AQ97:AT97) -> 23.870528 | AX78: =AVERAGE(AU97:AX97) -> 24.076428 | BB78: =AVERAGE(AY97:BB97) -> 23.075792 | BF78: =AVERAGE(BC97:BF97) -> 22.566012 | BJ78: =AVERAGE(BG97:BJ97) -> 24.119363
A79: =A98 -> OCH/O-CH2 Integral 4 | C79: =AVERAGE(C98:BJ98) -> 1.999556 | F79: =AVERAGE(C98:F98) -> 1.94057 | J79: =AVERAGE(G98:J98) -> 1.9429175 | N79: =AVERAGE(K98:N98) -> 2.05259 | R79: =AVERAGE(O98:R98) -> 2.0225075 | V79: =AVERAGE(S98:V98) -> 2.05793 | Z79: =AVERAGE(W98:Z98) -> 2.0687 | AD79: =AVERAGE(AA98:AD98) -> 1.7538 | AH79: =AVERAGE(AE98:AH98) -> 1.8677825 | AL79: =AVERAGE(AI98:AL98) -> 1.88192 | AP79: =AVERAGE(AM98:AP98) -> 2.127315 | AT79: =AVERAGE(AQ98:AT98) -> 2.0623825 | AX79: =AVERAGE(AU98:AX98) -> 2.029565 | BB79: =AVERAGE(AY98:BB98) -> 2.02693 | BF79: =AVERAGE(BC98:BF98) -> 2.09845 | BJ79: =AVERAGE(BG98:BJ98) -> 2.05998
A80: =A99 -> Methoxy Integral 5 | C80: =AVERAGE(C99:BJ99) -> 126.84188 | F80: =AVERAGE(C99:F99) -> 92.178748 | J80: =AVERAGE(G99:J99) -> 121.20513 | N80: =AVERAGE(K99:N99) -> 118.36474 | R80: =AVERAGE(O99:R99) -> 98.749898 | V80: =AVERAGE(S99:V99) -> 73.719665 | Z80: =AVERAGE(W99:Z99) -> 171.74721 | AD80: =AVERAGE(AA99:AD99) -> 239.92012 | AH80: =AVERAGE(AE99:AH99) -> 159.57987 | AL80: =AVERAGE(AI99:AL99) -> 154.82683 | AP80: =AVERAGE(AM99:AP99) -> 100.89348 | AT80: =AVERAGE(AQ99:AT99) -> 190.0819 | AX80: =AVERAGE(AU99:AX99) -> 94.997635 | BB80: =AVERAGE(AY99:BB99) -> 93.454207 | BF80: =AVERAGE(BC99:BF99) -> 86.728498 | BJ80: =AVERAGE(BG99:BJ99) -> 106.18032
A81: =A100 -> DMSO | C81: =AVERAGE(C100:BJ100) -> 43.172698 | F81: =AVERAGE(C100:F100) -> 40.55518 | J81: =AVERAGE(G100:J100) -> 40.694498 | N81: =AVERAGE(K100:N100) -> 42.853577 | R81: =AVERAGE(O100:R100) -> 42.414623 | V81: =AVERAGE(S100:V100) -> 43.082935 | Z81: =AVERAGE(W100:Z100) -> 57.370508 | AD81: =AVERAGE(AA100:AD100) -> 46.6115 | AH81: =AVERAGE(AE100:AH100) -> 42.652832 | AL81: =AVERAGE(AI100:AL100) -> 39.970795 | AP81: =AVERAGE(AM100:AP100) -> 44.729075 | AT81: =AVERAGE(AQ100:AT100) -> 42.860277 | AX81: =AVERAGE(AU100:AX100) -> 41.19513 | BB81: =AVERAGE(AY100:BB100) -> 39.930032 | BF81: =AVERAGE(BC100:BF100) -> 42.439347 | BJ81: =AVERAGE(BG100:BJ100) -> 40.230168
A82: =A101 -> Integral 7 | C82: =AVERAGE(C101:BJ101) -> 0.54044517 | F82: =AVERAGE(C101:F101) -> 0.53243 | J82: =AVERAGE(G101:J101) -> 0.516415 | N82: =AVERAGE(K101:N101) -> 0.55131 | R82: =AVERAGE(O101:R101) -> 0.5317675 | V82: =AVERAGE(S101:V101) -> 0.52928 | Z82: =AVERAGE(W101:Z101) -> 0.53196 | AD82: =AVERAGE(AA101:AD101) -> 0.511465 | AH82: =AVERAGE(AE101:AH101) -> 0.5798325 | AL82: =AVERAGE(AI101:AL101) -> 0.5592325 | AP82: =AVERAGE(AM101:AP101) -> 0.5512 | AT82: =AVERAGE(AQ101:AT101) -> 0.5467825 | AX82: =AVERAGE(AU101:AX101) -> 0.5538425 | BB82: =AVERAGE(AY101:BB101) -> 0.5323175 | BF82: =AVERAGE(BC101:BF101) -> 0.536365 | BJ82: =AVERAGE(BG101:BJ101) -> 0.5424775
A83: =A102 -> Integral 8 | C83: =AVERAGE(C102:BJ102) -> 2.517812 | F83: =AVERAGE(C102:F102) -> 2.5412425 | J83: =AVERAGE(G102:J102) -> 2.4350075 | N83: =AVERAGE(K102:N102) -> 2.542575 | R83: =AVERAGE(O102:R102) -> 2.4868975 | V83: =AVERAGE(S102:V102) -> 2.43134 | Z83: =AVERAGE(W102:Z102) -> 2.5509675 | AD83: =AVERAGE(AA102:AD102) -> 2.36509 | AH83: =AVERAGE(AE102:AH102) -> 2.6384975 | AL83: =AVERAGE(AI102:AL102) -> 2.5584 | AP83: =AVERAGE(AM102:AP102) -> 2.53038 | AT83: =AVERAGE(AQ102:AT102) -> 2.563105 | AX83: =AVERAGE(AU102:AX102) -> 2.5420975 | BB83: =AVERAGE(AY102:BB102) -> 2.5285475 | BF83: =AVERAGE(BC102:BF102) -> 2.53642 | BJ83: =AVERAGE(BG102:BJ102) -> 2.5166125
A84: =A103 -> Integral 9 | C84: =AVERAGE(C103:BJ103) -> 0.66784017 | F84: =AVERAGE(C103:F103) -> 0.6536475 | J84: =AVERAGE(G103:J103) -> 0.628695 | N84: =AVERAGE(K103:N103) -> 0.68295 | R84: =AVERAGE(O103:R103) -> 0.6653025 | V84: =AVERAGE(S103:V103) -> 0.6577 | Z84: =AVERAGE(W103:Z103) -> 0.6570625 | AD84: =AVERAGE(AA103:AD103) -> 0.62488 | AH84: =AVERAGE(AE103:AH103) -> 0.7174025 | AL84: =AVERAGE(AI103:AL103) -> 0.6870525 | AP84: =AVERAGE(AM103:AP103) -> 0.680745 | AT84: =AVERAGE(AQ103:AT103) -> 0.689235 | AX84: =AVERAGE(AU103:AX103) -> 0.684795 | BB84: =AVERAGE(AY103:BB103) -> 0.65332 | BF84: =AVERAGE(BC103:BF103) -> 0.66224 | BJ84: =AVERAGE(BG103:BJ103) -> 0.672575
A85: =A104 -> Integral 10 | C85: =AVERAGE(C104:BJ104) -> 1.0439142 | F85: =AVERAGE(C104:F104) -> 1.01825 | J85: =AVERAGE(G104:J104) -> 0.99149 | N85: =AVERAGE(K104:N104) -> 1.065625 | R85: =AVERAGE(O104:R104) -> 1.0345625 | V85: =AVERAGE(S104:V104) -> 1.0378875 | Z85: =AVERAGE(W104:Z104) -> 1.0200825 | AD85: =AVERAGE(AA104:AD104) -> 0.9824775 | AH85: =AVERAGE(AE104:AH104) -> 1.11274 | AL85: =AVERAGE(AI104:AL104) -> 1.07353 | AP85: =AVERAGE(AM104:AP104) -> 1.075145 | AT85: =AVERAGE(AQ104:AT104) -> 1.065295 | AX85: =AVERAGE(AU104:AX104) -> 1.06655 | BB85: =AVERAGE(AY104:BB104) -> 1.02614 | BF85: =AVERAGE(BC104:BF104) -> 1.044485 | BJ85: =AVERAGE(BG104:BJ104) -> 1.0444525
A86: =A105 -> Integral 11 | C86: =AVERAGE(C105:BJ105) -> 0.59077317 | F86: =AVERAGE(C105:F105) -> 0.56448 | J86: =AVERAGE(G105:J105) -> 0.5583275 | N86: =AVERAGE(K105:N105) -> 0.6121675 | R86: =AVERAGE(O105:R105) -> 0.601915 | V86: =AVERAGE(S105:V105) -> 0.5961175 | Z86: =AVERAGE(W105:Z105) -> 0.578085 | AD86: =AVERAGE(AA105:AD105) -> 0.570455 | AH86: =AVERAGE(AE105:AH105) -> 0.630195 | AL86: =AVERAGE(AI105:AL105) -> 0.60666 | AP86: =AVERAGE(AM105:AP105) -> 0.6052 | AT86: =AVERAGE(AQ105:AT105) -> 0.6049625 | AX86: =AVERAGE(AU105:AX105) -> 0.60163 | BB86: =AVERAGE(AY105:BB105) -> 0.5690475 | BF86: =AVERAGE(BC105:BF105) -> 0.5808625 | BJ86: =AVERAGE(BG105:BJ105) -> 0.5814925
A87: =A106 -> Integral 12 | C87: =AVERAGE(C106:BJ106) -> 0.40164367 | F87: =AVERAGE(C106:F106) -> 0.383415 | J87: =AVERAGE(G106:J106) -> 0.374905 | N87: =AVERAGE(K106:N106) -> 0.4155925 | R87: =AVERAGE(O106:R106) -> 0.4030075 | V87: =AVERAGE(S106:V106) -> 0.4060925 | Z87: =AVERAGE(W106:Z106) -> 0.3861075 | AD87: =AVERAGE(AA106:AD106) -> 0.376925 | AH87: =AVERAGE(AE106:AH106) -> 0.4325475 | AL87: =AVERAGE(AI106:AL106) -> 0.4143425 | AP87: =AVERAGE(AM106:AP106) -> 0.41238 | AT87: =AVERAGE(AQ106:AT106) -> 0.419175 | AX87: =AVERAGE(AU106:AX106) -> 0.4157225 | BB87: =AVERAGE(AY106:BB106) -> 0.3853625 | BF87: =AVERAGE(BC106:BF106) -> 0.3969025 | BJ87: =AVERAGE(BG106:BJ106) -> 0.4021775
... A90: =A109 -> TMS | C90: =AVERAGE(C109:BJ109) -> 1.111371 | F90: =AVERAGE(C109:F109) -> 2.4940625 | J90: =AVERAGE(G109:J109) -> 1.906925 | N90: =AVERAGE(K109:N109) -> 1.92805 | R90: =AVERAGE(O109:R109) -> 1.4554525 | V90: =AVERAGE(S109:V109) -> 2.0984975 | Z90: =AVERAGE(W109:Z109) -> 0.8891125 | AD90: =AVERAGE(AA109:AD109) -> 0.6640525 | AH90: =AVERAGE(AE109:AH109) -> 0.37787 | AL90: =AVERAGE(AI109:AL109) -> 0.33705 | AP90: =AVERAGE(AM109:AP109) -> 0.3008625 | AT90: =AVERAGE(AQ109:AT109) -> 1.0188525 | AX90: =AVERAGE(AU109:AX109) -> 1.03513 | BB90: =AVERAGE(AY109:BB109) -> 0.785235 | BF90: =AVERAGE(BC109:BF109) -> 0.6969925 | BJ90: =AVERAGE(BG109:BJ109) -> 0.68242
A93: Data
A95: ='RSD approach 1'!A11 -> Aldehyde Integral 1 | C95: ='RSD approach 1'!C11 -> 0.05667 | D95: ='RSD approach 1'!D11 -> 0.06184 | E95: ='RSD approach 1'!E11 -> 0.0693 | F95: ='RSD approach 1'!F11 -> 0.0567 | G95: ='RSD approach 1'!K11 -> 0.05348 | H95: ='RSD approach 1'!L11 -> 0.05818 | I95: ='RSD approach 1'!M11 -> 0.04833 | J95: ='RSD approach 1'!N11 -> 0.04725 | K95: ='RSD approach 1'!S11 -> 0.0502 | L95: ='RSD approach 1'!T11 -> 0.05254 | M95: ='RSD approach 1'!U11 -> 0.04906 | N95: ='RSD approach 1'!V11 -> 0.03727 | O95: ='RSD approach 1'!AA11 -> 0.04598 | P95: ='RSD approach 1'!AB11 -> 0.06059 | Q95: ='RSD approach 1'!AC11 -> 0.04915 | R95: ='RSD approach 1'!AD11 -> 0.04449 | S95: ='RSD approach 1'!AI11 -> 0.03776 | T95: ='RSD approach 1'!AJ11 -> 0.04789 | U95: ='RSD approach 1'!AK11 -> 0.04864 | V95: ='RSD approach 1'!AL11 -> 0.03453 | W95: ='RSD approach 1'!C32 -> -0.00115 | X95: ='RSD approach 1'!D32 -> -0.02955 | Y95: ='RSD approach 1'!E32 -> -0.02315 | Z95: ='RSD approach 1'!F32 -> -0.00676 | AA95: ='RSD approach 1'!K32 -> 0.04332 | AB95: ='RSD approach 1'!L32 -> 0.0492 | AC95: ='RSD approach 1'!M32 -> 0.06002 | AD95: ='RSD approach 1'!N32 -> 0.06521 | AE95: ='RSD approach 1'!S32 -> 0.04632 | AF95: ='RSD approach 1'!T32 -> 0.04927 | AG95: ='RSD approach 1'!U32 -> 0.03862 | AH95: ='RSD approach 1'!V32 -> 0.0552 | AI95: ='RSD approach 1'!AA32 -> 0.06857 | AJ95: ='RSD approach 1'!AB32 -> 0.0533 | AK95: ='RSD approach 1'!AC32 -> 0.05286 | AL95: ='RSD approach 1'!AD32 -> 0.05516 | AM95: ='RSD approach 1'!AI32 -> 0.05382 | AN95: ='RSD approach 1'!AJ32 -> 0.0433 | AO95: ='RSD approach 1'!AK32 -> 0.06067 | AP95: ='RSD approach 1'!AL32 -> 0.05391 | AQ95: ='RSD approach 1'!C53 -> 0.04748 | AR95: ='RSD approach 1'!D53 -> 0.03956 | AS95: ='RSD approach 1'!E53 -> 0.02019 | AT95: ='RSD approach 1'!F53 -> 0.02748 | AU95: ='RSD approach 1'!K53 -> 0.04371 | AV95: ='RSD approach 1'!L53 -> 0.0427 | AW95: ='RSD approach 1'!M53 -> 0.04428 | AX95: ='RSD approach 1'!N53 -> 0.05434 | AY95: ='RSD approach 1'!S53 -> 0.06661 | AZ95: ='RSD approach 1'!T53 -> 0.04472 | BA95: ='RSD approach 1'!U53 -> 0.06914 | BB95: ='RSD approach 1'!V53 -> 0.05566 | BC95: ='RSD approach 1'!AA53 -> 0.05671 | BD95: ='RSD approach 1'!AB53 -> 0.06756 | BE95: ='RSD approach 1'!AC53 -> 0.05346 | BF95: ='RSD approach 1'!AD53 -> 0.04941 | BG95: ='RSD approach 1'!AI53 -> 0.04748 | BH95: ='RSD approach 1'!AJ53 -> 0.04738 | BI95: ='RSD approach 1'!AK53 -> 0.04057 | BJ95: ='RSD approach 1'!AL53 -> 0.05823
A96: ='RSD approach 1'!A12 -> Aldehyde Integral 2 | C96: ='RSD approach 1'!C12 -> 1 | D96: ='RSD approach 1'!D12 -> 1 | E96: ='RSD approach 1'!E12 -> 1 | F96: ='RSD approach 1'!F12 -> 1 | G96: ='RSD approach 1'!K12 -> 1 | H96: ='RSD approach 1'!L12 -> 1 | I96: ='RSD approach 1'!M12 -> 1 | J96: ='RSD approach 1'!N12 -> 1 | K96: ='RSD approach 1'!S12 -> 1 | L96: ='RSD approach 1'!T12 -> 1 | M96: ='RSD approach 1'!U12 -> 1 | N96: ='RSD approach 1'!V12 -> 1 | O96: ='RSD approach 1'!AA12 -> 1 | P96: ='RSD approach 1'!AB12 -> 1 | Q96: ='RSD approach 1'!AC12 -> 1 | R96: ='RSD approach 1'!AD12 -> 1 | S96: ='RSD approach 1'!AI12 -> 1 | T96: ='RSD approach 1'!AJ12 -> 1 | U96: ='RSD approach 1'!AK12 -> 1 | V96: ='RSD approach 1'!AL12 -> 1 | W96: ='RSD approach 1'!C33 -> 1 | X96: ='RSD approach 1'!D33 -> 1 | Y96: ='RSD approach 1'!E33 -> 1 | Z96: ='RSD approach 1'!F33 -> 1 | AA96: ='RSD approach 1'!K33 -> 1 | AB96: ='RSD approach 1'!L33 -> 1 | AC96: ='RSD approach 1'!M33 -> 1 | AD96: ='RSD approach 1'!N33 -> 1 | AE96: ='RSD approach 1'!S33 -> 1 | AF96: ='RSD approach 1'!T33 -> 1 | AG96: ='RSD approach 1'!U33 -> 1 | AH96: ='RSD approach 1'!V33 -> 1 | AI96: ='RSD approach 1'!AA33 -> 1 | AJ96: ='RSD approach 1'!AB33 -> 1 | AK96: ='RSD approach 1'!AC33 -> 1 | AL96: ='RSD approach 1'!AD33 -> 1 | AM96: ='RSD approach 1'!AI33 -> 1 | AN96: ='RSD approach 1'!AJ33 -> 1 | AO96: ='RSD approach 1'!AK33 -> 1 | AP96: ='RSD approach 1'!AL33 -> 1 | AQ96: ='RSD approach 1'!C54 -> 1 | AR96: ='RSD approach 1'!D54 -> 1 | AS96: ='RSD approach 1'!E54 -> 1 | AT96: ='RSD approach 1'!F54 -> 1 | AU96: ='RSD approach 1'!K54 -> 1 | AV96: ='RSD approach 1'!L54 -> 1 | AW96: ='RSD approach 1'!M54 -> 1 | AX96: ='RSD approach 1'!N54 -> 1 | AY96: ='RSD approach 1'!S54 -> 1 | AZ96: ='RSD approach 1'!T54 -> 1 | BA96: ='RSD approach 1'!U54 -> 1 | BB96: ='RSD approach 1'!V54 -> 1 | BC96: ='RSD approach 1'!AA54 -> 1 | BD96: ='RSD approach 1'!AB54 -> 1 | BE96: ='RSD approach 1'!AC54 -> 1 | BF96: ='RSD approach 1'!AD54 -> 1 | BG96: ='RSD approach 1'!AI54 -> 1 | BH96: ='RSD approach 1'!AJ54 -> 1 | BI96: ='RSD approach 1'!AK54 -> 1 | BJ96: ='RSD approach 1'!AL54 -> 1
A97: ='RSD approach 1'!A13 -> Aromatic region Integral 3 | C97: ='RSD approach 1'!C13 -> 23.90158 | D97: ='RSD approach 1'!D13 -> 22.69378 | E97: ='RSD approach 1'!E13 -> 24.7097 | F97: ='RSD approach 1'!F13 -> 23.9016 | G97: ='RSD approach 1'!K13 -> 21.30171 | H97: ='RSD approach 1'!L13 -> 22.6609 | I97: ='RSD approach 1'!M13 -> 21.46189 | J97: ='RSD approach 1'!N13 -> 22.14965 | K97: ='RSD approach 1'!S13 -> 23.80347 | L97: ='RSD approach 1'!T13 -> 23.36931 | M97: ='RSD approach 1'!U13 -> 23.97643 | N97: ='RSD approach 1'!V13 -> 23.73679 | O97: ='RSD approach 1'!AA13 -> 22.66489 | P97: ='RSD approach 1'!AB13 -> 22.90405 | Q97: ='RSD approach 1'!AC13 -> 24.5208 | R97: ='RSD approach 1'!AD13 -> 23.37646 | S97: ='RSD approach 1'!AI13 -> 23.11487 | T97: ='RSD approach 1'!AJ13 -> 21.76693 | U97: ='RSD approach 1'!AK13 -> 22.94236 | V97: ='RSD approach 1'!AL13 -> 21.44561 | W97: ='RSD approach 1'!C34 -> 22.76083 | X97: ='RSD approach 1'!D34 -> 23.05306 | Y97: ='RSD approach 1'!E34 -> 23.29827 | Z97: ='RSD approach 1'!F34 -> 24.35234 | AA97: ='RSD approach 1'!K34 -> 21.69411 | AB97: ='RSD approach 1'!L34 -> 20.50681 | AC97: ='RSD approach 1'!M34 -> 20.78033 | AD97: ='RSD approach 1'!N34 -> 19.48506 | AE97: ='RSD approach 1'!S34 -> 24.35561 | AF97: ='RSD approach 1'!T34 -> 25.50974 | AG97: ='RSD approach 1'!U34 -> 24.09583 | AH97: ='RSD approach 1'!V34 -> 22.8455 | AI97: ='RSD approach 1'!AA34 -> 22.70579 | AJ97: ='RSD approach 1'!AB34 -> 22.05144 | AK97: ='RSD approach 1'!AC34 -> 22.25646 | AL97: ='RSD approach 1'!AD34 -> 22.84552 | AM97: ='RSD approach 1'!AI34 -> 22.01577 | AN97: ='RSD approach 1'!AJ34 -> 21.8864 | AO97: ='RSD approach 1'!AK34 -> 21.99015 | AP97: ='RSD approach 1'!AL34 -> 22.14002 | AQ97: ='RSD approach 1'!C55 -> 23.06869 | AR97: ='RSD approach 1'!D55 -> 24.3689 | AS97: ='RSD approach 1'!E55 -> 24.3951 | AT97: ='RSD approach 1'!F55 -> 23.64942 | AU97: ='RSD approach 1'!K55 -> 23.88274 | AV97: ='RSD approach 1'!L55 -> 23.8619 | AW97: ='RSD approach 1'!M55 -> 23.98598 | AX97: ='RSD approach 1'!N55 -> 24.57509 | AY97: ='RSD approach 1'!S55 -> 24.0383 | AZ97: ='RSD approach 1'!T55 -> 22.14932 | BA97: ='RSD approach 1'!U55 -> 22.97973 | BB97: ='RSD approach 1'!V55 -> 23.13582 | BC97: ='RSD approach 1'!AA55 -> 20.31339 | BD97: ='RSD approach 1'!AB55 -> 22.92611 | BE97: ='RSD approach 1'!AC55 -> 23.15133 | BF97: ='RSD approach 1'!AD55 -> 23.87322 | BG97: ='RSD approach 1'!AI55 -> 23.06869 | BH97: ='RSD approach 1'!AJ55 -> 24.89467 | BI97: ='RSD approach 1'!AK55 -> 24.11949 | BJ97: ='RSD approach 1'!AL55 -> 24.3946
A98: ='RSD approach 1'!A14 -> OCH/O-CH2 Integral 4 | C98: ='RSD approach 1'!C14 -> 1.8757 | D98: ='RSD approach 1'!D14 -> 1.93875 | E98: ='RSD approach 1'!E14 -> 2.07213 | F98: ='RSD approach 1'!F14 -> 1.8757 | G98: ='RSD approach 1'!K14 -> 1.79575 | H98: ='RSD approach 1'!L14 -> 1.88808 | I98: ='RSD approach 1'!M14 -> 2.03934 | J98: ='RSD approach 1'!N14 -> 2.0485 | K98: ='RSD approach 1'!S14 -> 2.12242 | L98: ='RSD approach 1'!T14 -> 2.03463 | M98: ='RSD approach 1'!U14 -> 2.06782 | N98: ='RSD approach 1'!V14 -> 1.98549 | O98: ='RSD approach 1'!AA14 -> 2.02368 | P98: ='RSD approach 1'!AB14 -> 2.03053 | Q98: ='RSD approach 1'!AC14 -> 1.98859 | R98: ='RSD approach 1'!AD14 -> 2.04723 | S98: ='RSD approach 1'!AI14 -> 2.02976 | T98: ='RSD approach 1'!AJ14 -> 1.99925 | U98: ='RSD approach 1'!AK14 -> 2.09312 | V98: ='RSD approach 1'!AL14 -> 2.10959 | W98: ='RSD approach 1'!C35 -> 2.0458 | X98: ='RSD approach 1'!D35 -> 1.95257 | Y98: ='RSD approach 1'!E35 -> 1.99803 | Z98: ='RSD approach 1'!F35 -> 2.2784 | AA98: ='RSD approach 1'!K35 -> 1.50512 | AB98: ='RSD approach 1'!L35 -> 1.74375 | AC98: ='RSD approach 1'!M35 -> 1.81613 | AD98: ='RSD approach 1'!N35 -> 1.9502 | AE98: ='RSD approach 1'!S35 -> 1.82957 | AF98: ='RSD approach 1'!T35 -> 1.87321 | AG98: ='RSD approach 1'!U35 -> 1.79095 | AH98: ='RSD approach 1'!V35 -> 1.9774 | AI98: ='RSD approach 1'!AA35 -> 1.79667 | AJ98: ='RSD approach 1'!AB35 -> 1.90811 | AK98: ='RSD approach 1'!AC35 -> 1.84554 | AL98: ='RSD approach 1'!AD35 -> 1.97736 | AM98: ='RSD approach 1'!AI35 -> 2.00515 | AN98: ='RSD approach 1'!AJ35 -> 2.05671 | AO98: ='RSD approach 1'!AK35 -> 2.00287 | AP98: ='RSD approach 1'!AL35 -> 2.44453 | AQ98: ='RSD approach 1'!C56 -> 1.9417 | AR98: ='RSD approach 1'!D56 -> 2.07564 | AS98: ='RSD approach 1'!E56 -> 2.14321 | AT98: ='RSD approach 1'!F56 -> 2.08898 | AU98: ='RSD approach 1'!K56 -> 1.99167 | AV98: ='RSD approach 1'!L56 -> 1.985 | AW98: ='RSD approach 1'!M56 -> 1.9778 | AX98: ='RSD approach 1'!N56 -> 2.16379 | AY98: ='RSD approach 1'!S56 -> 2.05412 | AZ98: ='RSD approach 1'!T56 -> 1.77719 | BA98: ='RSD approach 1'!U56 -> 2.12282 | BB98: ='RSD approach 1'!V56 -> 2.15359 | BC98: ='RSD approach 1'!AA56 -> 1.81144 | BD98: ='RSD approach 1'!AB56 -> 2.06828 | BE98: ='RSD approach 1'!AC56 -> 2.10426 | BF98: ='RSD approach 1'!AD56 -> 2.40982 | BG98: ='RSD approach 1'!AI56 -> 1.9417 | BH98: ='RSD approach 1'!AJ56 -> 2.30226 | BI98: ='RSD approach 1'!AK56 -> 1.92946 | BJ98: ='RSD approach 1'!AL56 -> 2.0665
A99: ='RSD approach 1'!A15 -> Methoxy Integral 5 | C99: ='RSD approach 1'!C15 -> 93.19381 | D99: ='RSD approach 1'!D15 -> 89.95385 | E99: ='RSD approach 1'!E15 -> 92.37353 | F99: ='RSD approach 1'!F15 -> 93.1938 | G99: ='RSD approach 1'!K15 -> 117.25192 | H99: ='RSD approach 1'!L15 -> 120.45771 | I99: ='RSD approach 1'!M15 -> 121.78183 | J99: ='RSD approach 1'!N15 -> 125.32905 | K99: ='RSD approach 1'!S15 -> 115.59325 | L99: ='RSD approach 1'!T15 -> 113.69679 | M99: ='RSD approach 1'!U15 -> 124.74663 | N99: ='RSD approach 1'!V15 -> 119.42229 | O99: ='RSD approach 1'!AA15 -> 96.72191 | P99: ='RSD approach 1'!AB15 -> 98.74848 | Q99: ='RSD approach 1'!AC15 -> 101.5637 | R99: ='RSD approach 1'!AD15 -> 97.9655 | S99: ='RSD approach 1'!AI15 -> 71.91021 | T99: ='RSD approach 1'!AJ15 -> 71.0912 | U99: ='RSD approach 1'!AK15 -> 75.24983 | V99: ='RSD approach 1'!AL15 -> 76.62742 | W99: ='RSD approach 1'!C36 -> 167.14469 | X99: ='RSD approach 1'!D36 -> 168.37733 | Y99: ='RSD approach 1'!E36 -> 171.30766 | Z99: ='RSD approach 1'!F36 -> 180.15915 | AA99: ='RSD approach 1'!K36 -> 234.55545 | AB99: ='RSD approach 1'!L36 -> 243.38215 | AC99: ='RSD approach 1'!M36 -> 238.26389 | AD99: ='RSD approach 1'!N36 -> 243.479 | AE99: ='RSD approach 1'!S36 -> 158.44922 | AF99: ='RSD approach 1'!T36 -> 163.8343 | AG99: ='RSD approach 1'!U36 -> 155.85807 | AH99: ='RSD approach 1'!V36 -> 160.1779 | AI99: ='RSD approach 1'!AA36 -> 149.83727 | AJ99: ='RSD approach 1'!AB36 -> 157.18457 | AK99: ='RSD approach 1'!AC36 -> 152.10755 | AL99: ='RSD approach 1'!AD36 -> 160.17792 | AM99: ='RSD approach 1'!AI36 -> 94.57517 | AN99: ='RSD approach 1'!AJ36 -> 99.42687 | AO99: ='RSD approach 1'!AK36 -> 100.80588 | AP99: ='RSD approach 1'!AL36 -> 108.766 | AQ99: ='RSD approach 1'!C57 -> 181.04566 | AR99: ='RSD approach 1'!D57 -> 189.12706 | AS99: ='RSD approach 1'!E57 -> 195.86446 | AT99: ='RSD approach 1'!F57 -> 194.29043 | AU99: ='RSD approach 1'!K57 -> 93.77693 | AV99: ='RSD approach 1'!L57 -> 94.8439 | AW99: ='RSD approach 1'!M57 -> 93.93259 | AX99: ='RSD approach 1'!N57 -> 97.43712 | AY99: ='RSD approach 1'!S57 -> 93.5513 | AZ99: ='RSD approach 1'!T57 -> 88.06807 | BA99: ='RSD approach 1'!U57 -> 95.34684 | BB99: ='RSD approach 1'!V57 -> 96.85062 | BC99: ='RSD approach 1'!AA57 -> 83.67676 | BD99: ='RSD approach 1'!AB57 -> 85.25779 | BE99: ='RSD approach 1'!AC57 -> 87.30873 | BF99: ='RSD approach 1'!AD57 -> 90.67071 | BG99: ='RSD approach 1'!AI57 -> 181.04566 | BH99: ='RSD approach 1'!AJ57 -> 84.5839 | BI99: ='RSD approach 1'!AK57 -> 77.99297 | BJ99: ='RSD approach 1'!AL57 -> 81.09876
A100: ='RSD approach 1'!A16 -> DMSO | C100: ='RSD approach 1'!C16 -> 42.24734 | D100: ='RSD approach 1'!D16 -> 38.4987 | E100: ='RSD approach 1'!E16 -> 39.22738 | F100: ='RSD approach 1'!F16 -> 42.2473 | G100: ='RSD approach 1'!K16 -> 40.51372 | H100: ='RSD approach 1'!L16 -> 40.68339 | I100: ='RSD approach 1'!M16 -> 40.84878 | J100: ='RSD approach 1'!N16 -> 40.7321 | K100: ='RSD approach 1'!S16 -> 43.47465 | L100: ='RSD approach 1'!T16 -> 41.8884 | M100: ='RSD approach 1'!U16 -> 44.0211 | N100: ='RSD approach 1'!V16 -> 42.03016 | O100: ='RSD approach 1'!AA16 -> 42.20326 | P100: ='RSD approach 1'!AB16 -> 42.4676 | Q100: ='RSD approach 1'!AC16 -> 43.32939 | R100: ='RSD approach 1'!AD16 -> 41.65824 | S100: ='RSD approach 1'!AI16 -> 43.80694 | T100: ='RSD approach 1'!AJ16 -> 42.1191 | U100: ='RSD approach 1'!AK16 -> 44.1903 | V100: ='RSD approach 1'!AL16 -> 42.2154 | W100: ='RSD approach 1'!C37 -> 56.20879 | X100: ='RSD approach 1'!D37 -> 56.28557 | Y100: ='RSD approach 1'!E37 -> 56.95548 | Z100: ='RSD approach 1'!F37 -> 60.03219 | AA100: ='RSD approach 1'!K37 -> 46.10626 | AB100: ='RSD approach 1'!L37 -> 47.52724 | AC100: ='RSD approach 1'!M37 -> 45.71852 | AD100: ='RSD approach 1'!N37 -> 47.09398 | AE100: ='RSD approach 1'!S37 -> 43.10217 | AF100: ='RSD approach 1'!T37 -> 44.36774 | AG100: ='RSD approach 1'!U37 -> 42.25132 | AH100: ='RSD approach 1'!V37 -> 40.8901 | AI100: ='RSD approach 1'!AA37 -> 39.30029 | AJ100: ='RSD approach 1'!AB37 -> 40.66846 | AK100: ='RSD approach 1'!AC37 -> 39.0243 | AL100: ='RSD approach 1'!AD37 -> 40.89013 | AM100: ='RSD approach 1'!AI37 -> 43.00659 | AN100: ='RSD approach 1'!AJ37 -> 44.40742 | AO100: ='RSD approach 1'!AK37 -> 44.16314 | AP100: ='RSD approach 1'!AL37 -> 47.33915 | AQ100: ='RSD approach 1'!C58 -> 41.41338 | AR100: ='RSD approach 1'!D58 -> 42.72023 | AS100: ='RSD approach 1'!E58 -> 43.94849 | AT100: ='RSD approach 1'!F58 -> 43.35901 | AU100: ='RSD approach 1'!K58 -> 41.58171 | AV100: ='RSD approach 1'!L58 -> 41.4441 | AW100: ='RSD approach 1'!M58 -> 40.11576 | AX100: ='RSD approach 1'!N58 -> 41.63895 | AY100: ='RSD approach 1'!S58 -> 40.86759 | AZ100: ='RSD approach 1'!T58 -> 37.98168 | BA100: ='RSD approach 1'!U58 -> 40.15541 | BB100: ='RSD approach 1'!V58 -> 40.71545 | BC100: ='RSD approach 1'!AA58 -> 41.79899 | BD100: ='RSD approach 1'!AB58 -> 42.02243 | BE100: ='RSD approach 1'!AC58 -> 42.16219 | BF100: ='RSD approach 1'!AD58 -> 43.77378 | BG100: ='RSD approach 1'!AI58 -> 41.41338 | BH100: ='RSD approach 1'!AJ58 -> 41.76643 | BI100: ='RSD approach 1'!AK58 -> 38.56923 | BJ100: ='RSD approach 1'!AL58 -> 39.17163
A101: ='RSD approach 1'!A17 -> Integral 7 | C101: ='RSD approach 1'!C17 -> 0.5078 | D101: ='RSD approach 1'!D17 -> 0.55085 | E101: ='RSD approach 1'!E17 -> 0.56327 | F101: ='RSD approach 1'!F17 -> 0.5078 | G101: ='RSD approach 1'!K17 -> 0.52062 | H101: ='RSD approach 1'!L17 -> 0.52763 | I101: ='RSD approach 1'!M17 -> 0.49905 | J101: ='RSD approach 1'!N17 -> 0.51836 | K101: ='RSD approach 1'!S17 -> 0.55597 | L101: ='RSD approach 1'!T17 -> 0.53829 | M101: ='RSD approach 1'!U17 -> 0.56598 | N101: ='RSD approach 1'!V17 -> 0.545 | O101: ='RSD approach 1'!AA17 -> 0.5012 | P101: ='RSD approach 1'!AB17 -> 0.56848 | Q101: ='RSD approach 1'!AC17 -> 0.52357 | R101: ='RSD approach 1'!AD17 -> 0.53382 | S101: ='RSD approach 1'!AI17 -> 0.52988 | T101: ='RSD approach 1'!AJ17 -> 0.51912 | U101: ='RSD approach 1'!AK17 -> 0.55995 | V101: ='RSD approach 1'!AL17 -> 0.50817 | W101: ='RSD approach 1'!C38 -> 0.52915 | X101: ='RSD approach 1'!D38 -> 0.54875 | Y101: ='RSD approach 1'!E38 -> 0.50023 | Z101: ='RSD approach 1'!F38 -> 0.54971 | AA101: ='RSD approach 1'!K38 -> 0.50084 | AB101: ='RSD approach 1'!L38 -> 0.52511 | AC101: ='RSD approach 1'!M38 -> 0.52415 | AD101: ='RSD approach 1'!N38 -> 0.49576 | AE101: ='RSD approach 1'!S38 -> 0.58632 | AF101: ='RSD approach 1'!T38 -> 0.58976 | AG101: ='RSD approach 1'!U38 -> 0.57355 | AH101: ='RSD approach 1'!V38 -> 0.5697 | AI101: ='RSD approach 1'!AA38 -> 0.53774 | AJ101: ='RSD approach 1'!AB38 -> 0.57039 | AK101: ='RSD approach 1'!AC38 -> 0.55912 | AL101: ='RSD approach 1'!AD38 -> 0.56968 | AM101: ='RSD approach 1'!AI38 -> 0.50857 | AN101: ='RSD approach 1'!AJ38 -> 0.54552 | AO101: ='RSD approach 1'!AK38 -> 0.56428 | AP101: ='RSD approach 1'!AL38 -> 0.58643 | AQ101: ='RSD approach 1'!C59 -> 0.53261 | AR101: ='RSD approach 1'!D59 -> 0.53445 | AS101: ='RSD approach 1'!E59 -> 0.56255 | AT101: ='RSD approach 1'!F59 -> 0.55752 | AU101: ='RSD approach 1'!K59 -> 0.58247 | AV101: ='RSD approach 1'!L59 -> 0.5666 | AW101: ='RSD approach 1'!M59 -> 0.53114 | AX101: ='RSD approach 1'!N59 -> 0.53516 | AY101: ='RSD approach 1'!S59 -> 0.53029 | AZ101: ='RSD approach 1'!T59 -> 0.53109 | BA101: ='RSD approach 1'!U59 -> 0.5361 | BB101: ='RSD approach 1'!V59 -> 0.53179 | BC101: ='RSD approach 1'!AA59 -> 0.55238 | BD101: ='RSD approach 1'!AB59 -> 0.50978 | BE101: ='RSD approach 1'!AC59 -> 0.53451 | BF101: ='RSD approach 1'!AD59 -> 0.54879 | BG101: ='RSD approach 1'!AI59 -> 0.53261 | BH101: ='RSD approach 1'!AJ59 -> 0.58293 | BI101: ='RSD approach 1'!AK59 -> 0.52843 | BJ101: ='RSD approach 1'!AL59 -> 0.52594
A102: ='RSD approach 1'!A18 -> Integral 8 | C102: ='RSD approach 1'!C18 -> 2.49631 | D102: ='RSD approach 1'!D18 -> 2.54537 | E102: ='RSD approach 1'!E18 -> 2.62699 | F102: ='RSD approach 1'!F18 -> 2.4963 | G102: ='RSD approach 1'!K18 -> 2.42373 | H102: ='RSD approach 1'!L18 -> 2.45359 | I102: ='RSD approach 1'!M18 -> 2.40272 | J102: ='RSD approach 1'!N18 -> 2.45999 | K102: ='RSD approach 1'!S18 -> 2.56434 | L102: ='RSD approach 1'!T18 -> 2.49788 | M102: ='RSD approach 1'!U18 -> 2.6088 | N102: ='RSD approach 1'!V18 -> 2.49928 | O102: ='RSD approach 1'!AA18 -> 2.40854 | P102: ='RSD approach 1'!AB18 -> 2.55862 | Q102: ='RSD approach 1'!AC18 -> 2.51235 | R102: ='RSD approach 1'!AD18 -> 2.46808 | S102: ='RSD approach 1'!AI18 -> 2.45786 | T102: ='RSD approach 1'!AJ18 -> 2.38211 | U102: ='RSD approach 1'!AK18 -> 2.52609 | V102: ='RSD approach 1'!AL18 -> 2.3593 | W102: ='RSD approach 1'!C39 -> 2.52172 | X102: ='RSD approach 1'!D39 -> 2.56006 | Y102: ='RSD approach 1'!E39 -> 2.48159 | Z102: ='RSD approach 1'!F39 -> 2.6405 | AA102: ='RSD approach 1'!K39 -> 2.31798 | AB102: ='RSD approach 1'!L39 -> 2.41641 | AC102: ='RSD approach 1'!M39 -> 2.37091 | AD102: ='RSD approach 1'!N39 -> 2.35506 | AE102: ='RSD approach 1'!S39 -> 2.65082 | AF102: ='RSD approach 1'!T39 -> 2.71058 | AG102: ='RSD approach 1'!U39 -> 2.59229 | AH102: ='RSD approach 1'!V39 -> 2.6003 | AI102: ='RSD approach 1'!AA39 -> 2.49658 | AJ102: ='RSD approach 1'!AB39 -> 2.62199 | AK102: ='RSD approach 1'!AC39 -> 2.51471 | AL102: ='RSD approach 1'!AD39 -> 2.60032 | AM102: ='RSD approach 1'!AI39 -> 2.3879 | AN102: ='RSD approach 1'!AJ39 -> 2.51334 | AO102: ='RSD approach 1'!AK39 -> 2.54425 | AP102: ='RSD approach 1'!AL39 -> 2.67603 | AQ102: ='RSD approach 1'!C60 -> 2.47536 | AR102: ='RSD approach 1'!D60 -> 2.54375 | AS102: ='RSD approach 1'!E60 -> 2.63026 | AT102: ='RSD approach 1'!F60 -> 2.60305 | AU102: ='RSD approach 1'!K60 -> 2.60672 | AV102: ='RSD approach 1'!L60 -> 2.5709 | AW102: ='RSD approach 1'!M60 -> 2.4696 | AX102: ='RSD approach 1'!N60 -> 2.52117 | AY102: ='RSD approach 1'!S60 -> 2.55532 | AZ102: ='RSD approach 1'!T60 -> 2.44654 | BA102: ='RSD approach 1'!U60 -> 2.54765 | BB102: ='RSD approach 1'!V60 -> 2.56468 | BC102: ='RSD approach 1'!AA60 -> 2.53785 | BD102: ='RSD approach 1'!AB60 -> 2.48507 | BE102: ='RSD approach 1'!AC60 -> 2.53878 | BF102: ='RSD approach 1'!AD60 -> 2.58398 | BG102: ='RSD approach 1'!AI60 -> 2.47536 | BH102: ='RSD approach 1'!AJ60 -> 2.67909 | BI102: ='RSD approach 1'!AK60 -> 2.44318 | BJ102: ='RSD approach 1'!AL60 -> 2.46882
A103: ='RSD approach 1'!A19 -> Integral 9 | C103: ='RSD approach 1'!C19 -> 0.60951 | D103: ='RSD approach 1'!D19 -> 0.69479 | E103: ='RSD approach 1'!E19 -> 0.70079 | F103: ='RSD approach 1'!F19 -> 0.6095 | G103: ='RSD approach 1'!K19 -> 0.63876 | H103: ='RSD approach 1'!L19 -> 0.64884 | I103: ='RSD approach 1'!M19 -> 0.59684 | J103: ='RSD approach 1'!N19 -> 0.63034 | K103: ='RSD approach 1'!S19 -> 0.69327 | L103: ='RSD approach 1'!T19 -> 0.67023 | M103: ='RSD approach 1'!U19 -> 0.69739 | N103: ='RSD approach 1'!V19 -> 0.67091 | O103: ='RSD approach 1'!AA19 -> 0.61876 | P103: ='RSD approach 1'!AB19 -> 0.72619 | Q103: ='RSD approach 1'!AC19 -> 0.64663 | R103: ='RSD approach 1'!AD19 -> 0.66963 | S103: ='RSD approach 1'!AI19 -> 0.66478 | T103: ='RSD approach 1'!AJ19 -> 0.64469 | U103: ='RSD approach 1'!AK19 -> 0.70404 | V103: ='RSD approach 1'!AL19 -> 0.61729 | W103: ='RSD approach 1'!C40 -> 0.67285 | X103: ='RSD approach 1'!D40 -> 0.68626 | Y103: ='RSD approach 1'!E40 -> 0.59756 | Z103: ='RSD approach 1'!F40 -> 0.67158 | AA103: ='RSD approach 1'!K40 -> 0.60593 | AB103: ='RSD approach 1'!L40 -> 0.64844 | AC103: ='RSD approach 1'!M40 -> 0.63908 | AD103: ='RSD approach 1'!N40 -> 0.60607 | AE103: ='RSD approach 1'!S40 -> 0.72966 | AF103: ='RSD approach 1'!T40 -> 0.72672 | AG103: ='RSD approach 1'!U40 -> 0.71553 | AH103: ='RSD approach 1'!V40 -> 0.6977 | AI103: ='RSD approach 1'!AA40 -> 0.6656 | AJ103: ='RSD approach 1'!AB40 -> 0.70527 | AK103: ='RSD approach 1'!AC40 -> 0.67964 | AL103: ='RSD approach 1'!AD40 -> 0.6977 | AM103: ='RSD approach 1'!AI40 -> 0.62982 | AN103: ='RSD approach 1'!AJ40 -> 0.67474 | AO103: ='RSD approach 1'!AK40 -> 0.69919 | AP103: ='RSD approach 1'!AL40 -> 0.71923 | AQ103: ='RSD approach 1'!C61 -> 0.67279 | AR103: ='RSD approach 1'!D61 -> 0.67446 | AS103: ='RSD approach 1'!E61 -> 0.70529 | AT103: ='RSD approach 1'!F61 -> 0.7044 | AU103: ='RSD approach 1'!K61 -> 0.73128 | AV103: ='RSD approach 1'!L61 -> 0.7029 | AW103: ='RSD approach 1'!M61 -> 0.65141 | AX103: ='RSD approach 1'!N61 -> 0.65359 | AY103: ='RSD approach 1'!S61 -> 0.65313 | AZ103: ='RSD approach 1'!T61 -> 0.65664 | BA103: ='RSD approach 1'!U61 -> 0.65283 | BB103: ='RSD approach 1'!V61 -> 0.65068 | BC103: ='RSD approach 1'!AA61 -> 0.68817 | BD103: ='RSD approach 1'!AB61 -> 0.63264 | BE103: ='RSD approach 1'!AC61 -> 0.65782 | BF103: ='RSD approach 1'!AD61 -> 0.67033 | BG103: ='RSD approach 1'!AI61 -> 0.67279 | BH103: ='RSD approach 1'!AJ61 -> 0.72947 | BI103: ='RSD approach 1'!AK61 -> 0.64446 | BJ103: ='RSD approach 1'!AL61 -> 0.64358
A104: ='RSD approach 1'!A20 -> Integral 10 | C104: ='RSD approach 1'!C20 -> 0.94618 | D104: ='RSD approach 1'!D20 -> 1.08665 | E104: ='RSD approach 1'!E20 -> 1.09397 | F104: ='RSD approach 1'!F20 -> 0.9462 | G104: ='RSD approach 1'!K20 -> 1.00088 | H104: ='RSD approach 1'!L20 -> 1.02443 | I104: ='RSD approach 1'!M20 -> 0.93768 | J104: ='RSD approach 1'!N20 -> 1.00297 | K104: ='RSD approach 1'!S20 -> 1.07677 | L104: ='RSD approach 1'!T20 -> 1.0425 | M104: ='RSD approach 1'!U20 -> 1.09382 | N104: ='RSD approach 1'!V20 -> 1.04941 | O104: ='RSD approach 1'!AA20 -> 0.95444 | P104: ='RSD approach 1'!AB20 -> 1.13615 | Q104: ='RSD approach 1'!AC20 -> 1.00415 | R104: ='RSD approach 1'!AD20 -> 1.04351 | S104: ='RSD approach 1'!AI20 -> 1.04497 | T104: ='RSD approach 1'!AJ20 -> 1.0115 | U104: ='RSD approach 1'!AK20 -> 1.11212 | V104: ='RSD approach 1'!AL20 -> 0.98296 | W104: ='RSD approach 1'!C41 -> 1.03891 | X104: ='RSD approach 1'!D41 -> 1.06608 | Y104: ='RSD approach 1'!E41 -> 0.92456 | Z104: ='RSD approach 1'!F41 -> 1.05078 | AA104: ='RSD approach 1'!K41 -> 0.93908 | AB104: ='RSD approach 1'!L41 -> 1.02096 | AC104: ='RSD approach 1'!M41 -> 1.0055 | AD104: ='RSD approach 1'!N41 -> 0.96437 | AE104: ='RSD approach 1'!S41 -> 1.12338 | AF104: ='RSD approach 1'!T41 -> 1.1203 | AG104: ='RSD approach 1'!U41 -> 1.10898 | AH104: ='RSD approach 1'!V41 -> 1.0983 | AI104: ='RSD approach 1'!AA41 -> 1.03496 | AJ104: ='RSD approach 1'!AB41 -> 1.10199 | AK104: ='RSD approach 1'!AC41 -> 1.05883 | AL104: ='RSD approach 1'!AD41 -> 1.09834 | AM104: ='RSD approach 1'!AI41 -> 0.98539 | AN104: ='RSD approach 1'!AJ41 -> 1.05804 | AO104: ='RSD approach 1'!AK41 -> 1.10644 | AP104: ='RSD approach 1'!AL41 -> 1.15071 | AQ104: ='RSD approach 1'!C62 -> 1.03087 | AR104: ='RSD approach 1'!D62 -> 1.03806 | AS104: ='RSD approach 1'!E62 -> 1.09428 | AT104: ='RSD approach 1'!F62 -> 1.09797 | AU104: ='RSD approach 1'!K62 -> 1.1356 | AV104: ='RSD approach 1'!L62 -> 1.0934 | AW104: ='RSD approach 1'!M62 -> 1.01544 | AX104: ='RSD approach 1'!N62 -> 1.02176 | AY104: ='RSD approach 1'!S62 -> 1.02121 | AZ104: ='RSD approach 1'!T62 -> 1.02662 | BA104: ='RSD approach 1'!U62 -> 1.02834 | BB104: ='RSD approach 1'!V62 -> 1.02839 | BC104: ='RSD approach 1'!AA62 -> 1.07556 | BD104: ='RSD approach 1'!AB62 -> 0.99656 | BE104: ='RSD approach 1'!AC62 -> 1.04142 | BF104: ='RSD approach 1'!AD62 -> 1.0644 | BG104: ='RSD approach 1'!AI62 -> 1.03087 | BH104: ='RSD approach 1'!AJ62 -> 1.13848 | BI104: ='RSD approach 1'!AK62 -> 0.9974 | BJ104: ='RSD approach 1'!AL62 -> 1.01106
A105: ='RSD approach 1'!A21 -> Integral 11 | C105: ='RSD approach 1'!C21 -> 0.51325 | D105: ='RSD approach 1'!D21 -> 0.61854 | E105: ='RSD approach 1'!E21 -> 0.61293 | F105: ='RSD approach 1'!F21 -> 0.5132 | G105: ='RSD approach 1'!K21 -> 0.56768 | H105: ='RSD approach 1'!L21 -> 0.58487 | I105: ='RSD approach 1'!M21 -> 0.51443 | J105: ='RSD approach 1'!N21 -> 0.56633 | K105: ='RSD approach 1'!S21 -> 0.61774 | L105: ='RSD approach 1'!T21 -> 0.59477 | M105: ='RSD approach 1'!U21 -> 0.63067 | N105: ='RSD approach 1'!V21 -> 0.60549 | O105: ='RSD approach 1'!AA21 -> 0.54324 | P105: ='RSD approach 1'!AB21 -> 0.68143 | Q105: ='RSD approach 1'!AC21 -> 0.57284 | R105: ='RSD approach 1'!AD21 -> 0.61015 | S105: ='RSD approach 1'!AI21 -> 0.60056 | T105: ='RSD approach 1'!AJ21 -> 0.57804 | U105: ='RSD approach 1'!AK21 -> 0.6488 | V105: ='RSD approach 1'!AL21 -> 0.55707 | W105: ='RSD approach 1'!C42 -> 0.59777 | X105: ='RSD approach 1'!D42 -> 0.61463 | Y105: ='RSD approach 1'!E42 -> 0.50588 | Z105: ='RSD approach 1'!F42 -> 0.59406 | AA105: ='RSD approach 1'!K42 -> 0.53621 | AB105: ='RSD approach 1'!L42 -> 0.59955 | AC105: ='RSD approach 1'!M42 -> 0.58786 | AD105: ='RSD approach 1'!N42 -> 0.5582 | AE105: ='RSD approach 1'!S42 -> 0.63682 | AF105: ='RSD approach 1'!T42 -> 0.62452 | AG105: ='RSD approach 1'!U42 -> 0.63334 | AH105: ='RSD approach 1'!V42 -> 0.6261 | AI105: ='RSD approach 1'!AA42 -> 0.57974 | AJ105: ='RSD approach 1'!AB42 -> 0.62213 | AK105: ='RSD approach 1'!AC42 -> 0.59867 | AL105: ='RSD approach 1'!AD42 -> 0.6261 | AM105: ='RSD approach 1'!AI42 -> 0.54686 | AN105: ='RSD approach 1'!AJ42 -> 0.59096 | AO105: ='RSD approach 1'!AK42 -> 0.63052 | AP105: ='RSD approach 1'!AL42 -> 0.65246 | AQ105: ='RSD approach 1'!C63 -> 0.58446 | AR105: ='RSD approach 1'!D63 -> 0.58416 | AS105: ='RSD approach 1'!E63 -> 0.622 | AT105: ='RSD approach 1'!F63 -> 0.62923 | AU105: ='RSD approach 1'!K63 -> 0.65131 | AV105: ='RSD approach 1'!L63 -> 0.6212 | AW105: ='RSD approach 1'!M63 -> 0.56706 | AX105: ='RSD approach 1'!N63 -> 0.56695 | AY105: ='RSD approach 1'!S63 -> 0.55862 | AZ105: ='RSD approach 1'!T63 -> 0.57706 | BA105: ='RSD approach 1'!U63 -> 0.57184 | BB105: ='RSD approach 1'!V63 -> 0.56867 | BC105: ='RSD approach 1'!AA63 -> 0.60215 | BD105: ='RSD approach 1'!AB63 -> 0.5447 | BE105: ='RSD approach 1'!AC63 -> 0.5797 | BF105: ='RSD approach 1'!AD63 -> 0.5969 | BG105: ='RSD approach 1'!AI63 -> 0.58446 | BH105: ='RSD approach 1'!AJ63 -> 0.64006 | BI105: ='RSD approach 1'!AK63 -> 0.5453 | BJ105: ='RSD approach 1'!AL63 -> 0.55615
A106: ='RSD approach 1'!A22 -> Integral 12 | C106: ='RSD approach 1'!C22 -> 0.34165 | D106: ='RSD approach 1'!D22 -> 0.42862 | E106: ='RSD approach 1'!E22 -> 0.42169 | F106: ='RSD approach 1'!F22 -> 0.3417 | G106: ='RSD approach 1'!K22 -> 0.38276 | H106: ='RSD approach 1'!L22 -> 0.39581 | I106: ='RSD approach 1'!M22 -> 0.33936 | J106: ='RSD approach 1'!N22 -> 0.38169 | K106: ='RSD approach 1'!S22 -> 0.42088 | L106: ='RSD approach 1'!T22 -> 0.40478 | M106: ='RSD approach 1'!U22 -> 0.42661 | N106: ='RSD approach 1'!V22 -> 0.4101 | O106: ='RSD approach 1'!AA22 -> 0.35678 | P106: ='RSD approach 1'!AB22 -> 0.46547 | Q106: ='RSD approach 1'!AC22 -> 0.37954 | R106: ='RSD approach 1'!AD22 -> 0.41024 | S106: ='RSD approach 1'!AI22 -> 0.41202 | T106: ='RSD approach 1'!AJ22 -> 0.39217 | U106: ='RSD approach 1'!AK22 -> 0.4446 | V106: ='RSD approach 1'!AL22 -> 0.37558 | W106: ='RSD approach 1'!C43 -> 0.40482 | X106: ='RSD approach 1'!D43 -> 0.41556 | Y106: ='RSD approach 1'!E43 -> 0.32709 | Z106: ='RSD approach 1'!F43 -> 0.39696 | AA106: ='RSD approach 1'!K43 -> 0.35025 | AB106: ='RSD approach 1'!L43 -> 0.3988 | AC106: ='RSD approach 1'!M43 -> 0.38931 | AD106: ='RSD approach 1'!N43 -> 0.36934 | AE106: ='RSD approach 1'!S43 -> 0.43853 | AF106: ='RSD approach 1'!T43 -> 0.42828 | AG106: ='RSD approach 1'!U43 -> 0.43668 | AH106: ='RSD approach 1'!V43 -> 0.4267 | AI106: ='RSD approach 1'!AA43 -> 0.39648 | AJ106: ='RSD approach 1'!AB43 -> 0.42771 | AK106: ='RSD approach 1'!AC43 -> 0.40648 | AL106: ='RSD approach 1'!AD43 -> 0.4267 | AM106: ='RSD approach 1'!AI43 -> 0.36977 | AN106: ='RSD approach 1'!AJ43 -> 0.40254 | AO106: ='RSD approach 1'!AK43 -> 0.43093 | AP106: ='RSD approach 1'!AL43 -> 0.44628 | AQ106: ='RSD approach 1'!C64 -> 0.40475 | AR106: ='RSD approach 1'!D64 -> 0.40445 | AS106: ='RSD approach 1'!E64 -> 0.43061 | AT106: ='RSD approach 1'!F64 -> 0.43689 | AU106: ='RSD approach 1'!K64 -> 0.45388 | AV106: ='RSD approach 1'!L64 -> 0.4281 | AW106: ='RSD approach 1'!M64 -> 0.39034 | AX106: ='RSD approach 1'!N64 -> 0.39057 | AY106: ='RSD approach 1'!S64 -> 0.37881 | AZ106: ='RSD approach 1'!T64 -> 0.38967 | BA106: ='RSD approach 1'!U64 -> 0.38689 | BB106: ='RSD approach 1'!V64 -> 0.38608 | BC106: ='RSD approach 1'!AA64 -> 0.40552 | BD106: ='RSD approach 1'!AB64 -> 0.37395 | BE106: ='RSD approach 1'!AC64 -> 0.39846 | BF106: ='RSD approach 1'!AD64 -> 0.40968 | BG106: ='RSD approach 1'!AI64 -> 0.40475 | BH106: ='RSD approach 1'!AJ64 -> 0.45107 | BI106: ='RSD approach 1'!AK64 -> 0.36969 | BJ106: ='RSD approach 1'!AL64 -> 0.3832
... A109: ='RSD approach 1'!A25 -> TMS | C109: ='RSD approach 1'!C25 -> 2.58472 | D109: ='RSD approach 1'!D25 -> 2.38681 | E109: ='RSD approach 1'!E25 -> 2.42002 | F109: ='RSD approach 1'!F25 -> 2.5847 | G109: ='RSD approach 1'!K25 -> 1.83635 | H109: ='RSD approach 1'!L25 -> 1.91847 | I109: ='RSD approach 1'!M25 -> 1.97238 | J109: ='RSD approach 1'!N25 -> 1.9005 | K109: ='RSD approach 1'!S25 -> 1.98625 | L109: ='RSD approach 1'!T25 -> 1.92228 | M109: ='RSD approach 1'!U25 -> 1.95283 | N109: ='RSD approach 1'!V25 -> 1.85084 | O109: ='RSD approach 1'!AA25 -> 1.46251 | P109: ='RSD approach 1'!AB25 -> 1.43205 | Q109: ='RSD approach 1'!AC25 -> 1.4999 | R109: ='RSD approach 1'!AD25 -> 1.42735 | S109: ='RSD approach 1'!AI25 -> 2.14203 | T109: ='RSD approach 1'!AJ25 -> 2.08543 | U109: ='RSD approach 1'!AK25 -> 2.17026 | V109: ='RSD approach 1'!AL25 -> 1.99627 | W109: ='RSD approach 1'!C46 -> 0.86734 | X109: ='RSD approach 1'!D46 -> 0.86633 | Y109: ='RSD approach 1'!E46 -> 0.91215 | Z109: ='RSD approach 1'!F46 -> 0.91063 | AA109: ='RSD approach 1'!K46 -> 0.67754 | AB109: ='RSD approach 1'!L46 -> 0.69006 | AC109: ='RSD approach 1'!M46 -> 0.6383 | AD109: ='RSD approach 1'!N46 -> 0.65031 | AE109: ='RSD approach 1'!S46 -> 0.39003 | AF109: ='RSD approach 1'!T46 -> 0.39931 | AG109: ='RSD approach 1'!U46 -> 0.37564 | AH109: ='RSD approach 1'!V46 -> 0.3465 | AI109: ='RSD approach 1'!AA46 -> 0.32735 | AJ109: ='RSD approach 1'!AB46 -> 0.3481 | AK109: ='RSD approach 1'!AC46 -> 0.32624 | AL109: ='RSD approach 1'!AD46 -> 0.34651 | AM109: ='RSD approach 1'!AI46 -> 0.30652 | AN109: ='RSD approach 1'!AJ46 -> 0.31781 | AO109: ='RSD approach 1'!AK46 -> 0.28359 | AP109: ='RSD approach 1'!AL46 -> 0.29553 | AQ109: ='RSD approach 1'!C67 -> 1.01657 | AR109: ='RSD approach 1'!D67 -> 1.03979 | AS109: ='RSD approach 1'!E67 -> 1.01799 | AT109: ='RSD approach 1'!F67 -> 1.00106 | AU109: ='RSD approach 1'!K67 -> 1.06279 | AV109: ='RSD approach 1'!L67 -> 1.0328 | AW109: ='RSD approach 1'!M67 -> 1.02221 | AX109: ='RSD approach 1'!N67 -> 1.02272 | AY109: ='RSD approach 1'!S67 -> 0.83033 | AZ109: ='RSD approach 1'!T67 -> 0.74679 | BA109: ='RSD approach 1'!U67 -> 0.78839 | BB109: ='RSD approach 1'!V67 -> 0.77543 | BC109: ='RSD approach 1'!AA67 -> 0.68902 | BD109: ='RSD approach 1'!AB67 -> 0.70333 | BE109: ='RSD approach 1'!AC67 -> 0.69469 | BF109: ='RSD approach 1'!AD67 -> 0.70093 | BG109: ='RSD approach 1'!AI67 -> 1.01657 | BH109: ='RSD approach 1'!AJ67 -> 0.57716 | BI109: ='RSD approach 1'!AK67 -> 0.56911 | BJ109: ='RSD approach 1'!AL67 -> 0.56684

Sheet ANOVA approach 2
A1: Lignin qNMR Lignin Sampling Uncertainty using ANOVA (Summary in cells C5:E7) | L1: Approach based on: A.M.H. van der Veen, J. Pauwels, Accred. Qual. Assur. 2000, 5, 464
A2: With baseline correction, differences between spectra, up to little more than a week
A3: Top 1-5: four corners and middle. NMR-1 to NMR-4: spectra from the same solution
A5: Reference peak for caluclating intensity ratios: 1.56–1.60 ppm
A10: ANOVA
T11: ALL_Samples
C12: Sums of squares | G12: Degrees of freedom | K12: Mean squares | O12: Absolute std deviations | T12: Relative std deviations
C13: Total | D13: Within | E13: Between | G13: Total | H13: Within | I13: Between | K13: Total | L13: Within | M13: Between | O13: Total | P13: Within | Q13: Between | S13: Overall | T13: Measurement | U13: Sampling
A14: =A37 -> Aldehyde Integral 1 | C14: =SUMSQ(C56:BJ56) -> 0.0035086683 | D14: =SUMSQ(C37:BJ37) -> 0.00050755181 | E14: =C14-D14 -> 0.0030011165 | G14: =60-1 -> 59 | H14: =60-15 -> 45 | I14: =15-1 -> 14 | K14: =C14/G14 -> 5.9468954e-05 | L14: =D14/H14 -> 1.1278929e-05 | M14: =E14/I14 -> 0.00021436546 | O14: =SQRT(SUMSQ(P14:Q14)) -> 0.0080542098 | P14: =SQRT(L14) -> 0.0033584117 | Q14: =SQRT((M14)/4) -> 0.0073206124 | S14: =O14/$C76 -> 0.43743284 | T14: =P14/$C76 -> 0.18239897 | U14: =Q14/$C76 -> 0.39759037
A15: =A38 -> Aldehyde Integral 2 | C15: =SUMSQ(C57:BJ57) -> 0.01132573 | D15: =SUMSQ(C38:BJ38) -> 0.0050726454 | E15: =C15-D15 -> 0.0062530846 | G15: =60-1 -> 59 | H15: =60-15 -> 45 | I15: =15-1 -> 14 | K15: =C15/G15 -> 0.00019196153 | L15: =D15/H15 -> 0.00011272545 | M15: =E15/I15 -> 0.0004466489 | O15: =SQRT(SUMSQ(P15:Q15)) -> 0.014007366 | P15: =SQRT(L15) -> 0.010617224 | Q15: =SQRT((M15-L15)/4) -> 0.0091367862 | S15: =O15/$C77 -> 0.03522608 | T15: =P15/$C77 -> 0.026700465 | U15: =Q15/$C77 -> 0.022977421
A16: =A39 -> Aromatic region Integral 3 | C16: =SUMSQ(C58:BJ58) -> 8.7117289 | D16: =SUMSQ(C39:BJ39) -> 4.4265764 | E16: =C16-D16 -> 4.2851525 | G16: =60-1 -> 59 | H16: =60-15 -> 45 | I16: =15-1 -> 14 | K16: =C16/G16 -> 0.14765642 | L16: =D16/H16 -> 0.098368365 | M16: =E16/I16 -> 0.30608232 | O16: =SQRT(SUMSQ(P16:Q16)) -> 0.38768138 | P16: =SQRT(L16) -> 0.31363731 | Q16: =SQRT((M16-L16)/4) -> 0.22787823 | S16: =O16/$C78 -> 0.042379261 | T16: =P16/$C78 -> 0.034285158 | U16: =Q16/$C78 -> 0.024910433
A17: =A40 -> OCH/O-CH2 Integral 4 | C17: =SUMSQ(C59:BJ59) -> 0.18040831 | D17: =SUMSQ(C40:BJ40) -> 0.092058721 | E17: =C17-D17 -> 0.088349593 | G17: =60-1 -> 59 | H17: =60-15 -> 45 | I17: =15-1 -> 14 | K17: =C17/G17 -> 0.003057768 | L17: =D17/H17 -> 0.0020457494 | M17: =E17/I17 -> 0.0063106852 | O17: =SQRT(SUMSQ(P17:Q17)) -> 0.055785153 | P17: =SQRT(L17) -> 0.045229961 | Q17: =SQRT((M17-L17)/4) -> 0.032653238 | S17: =O17/$C79 -> 0.070241542 | T17: =P17/$C79 -> 0.056951035 | U17: =Q17/$C79 -> 0.04111513
A18: =A41 -> Methoxy Integral 5 | C18: =SUMSQ(C60:BJ60) -> 22031.908 | D18: =SUMSQ(C41:BJ41) -> 1313.5657 | E18: =C18-D18 -> 20718.342 | G18: =60-1 -> 59 | H18: =60-15 -> 45 | I18: =15-1 -> 14 | K18: =C18/G18 -> 373.42216 | L18: =D18/H18 -> 29.190349 | M18: =E18/I18 -> 1479.8816 | O18: =SQRT(SUMSQ(P18:Q18)) -> 19.795534 | P18: =SQRT(L18) -> 5.4028094 | Q18: =SQRT((M18-L18)/4) -> 19.04397 | S18: =O18/$C80 -> 0.39206642 | T18: =P18/$C80 -> 0.10700697 | U18: =Q18/$C80 -> 0.37718111
A19: =A42 -> DMSO | C19: =SUMSQ(C61:BJ61) -> 187.29406 | D19: =SUMSQ(C42:BJ42) -> 6.9532466 | E19: =C19-D19 -> 180.34081 | G19: =60-1 -> 59 | H19: =60-15 -> 45 | I19: =15-1 -> 14 | K19: =C19/G19 -> 3.1744756 | L19: =D19/H19 -> 0.15451659 | M19: =E19/I19 -> 12.881487 | O19: =SQRT(SUMSQ(P19:Q19)) -> 1.8265429 | P19: =SQRT(L19) -> 0.39308598 | Q19: =SQRT((M19-L19)/4) -> 1.7837439 | S19: =O19/$C81 -> 0.10642471 | T19: =P19/$C81 -> 0.02290341 | U19: =Q19/$C81 -> 0.103931
A20: =A43 -> Integral 7 | C20: =SUMSQ(C62:BJ62) -> 0.0015313188 | D20: =SUMSQ(C43:BJ43) -> 0.00081292742 | E20: =C20-D20 -> 0.00071839135 | G20: =60-1 -> 59 | H20: =60-15 -> 45 | I20: =15-1 -> 14 | K20: =C20/G20 -> 2.5954556e-05 | L20: =D20/H20 -> 1.8065054e-05 | M20: =E20/I20 -> 5.1313668e-05 | O20: =SQRT(SUMSQ(P20:Q20)) -> 0.0051358746 | P20: =SQRT(L20) -> 0.0042503004 | Q20: =SQRT((M20-L20)/4) -> 0.0028830806 | S20: =O20/$C82 -> 0.023930878 | T20: =P20/$C82 -> 0.019804499 | U20: =Q20/$C82 -> 0.013433866
A21: =A44 -> Integral 8
A22: =A45 -> Integral 9 | C22: =SUMSQ(C64:BJ64) -> 0.0044377477 | D22: =SUMSQ(C45:BJ45) -> 0.0028924036 | E22: =C22-D22 -> 0.0015453442 | G22: =60-1 -> 59 | H22: =60-15 -> 45 | I22: =15-1 -> 14 | K22: =C22/G22 -> 7.5216063e-05 | L22: =D22/H22 -> 6.4275635e-05 | M22: =E22/I22 -> 0.00011038173 | O22: =SQRT(SUMSQ(P22:Q22)) -> 0.0087064435 | P22: =SQRT(L22) -> 0.0080172087 | Q22: =SQRT((M22-L22)/4) -> 0.0033950733 | S22: =O22/$C84 -> 0.032834417 | T22: =P22/$C84 -> 0.030235121 | U22: =Q22/$C84 -> 0.012803765
A23: =A46 -> Integral 10 | C23: =SUMSQ(C65:BJ65) -> 0.011041434 | D23: =SUMSQ(C46:BJ46) -> 0.0073172136 | E23: =C23-D23 -> 0.0037242201 | G23: =60-1 -> 59 | H23: =60-15 -> 45 | I23: =15-1 -> 14 | K23: =C23/G23 -> 0.00018714294 | L23: =D23/H23 -> 0.00016260475 | M23: =E23/I23 -> 0.00026601572 | O23: =SQRT(SUMSQ(P23:Q23)) -> 0.013727982 | P23: =SQRT(L23) -> 0.012751657 | Q23: =SQRT((M23-L23)/4) -> 0.0050845593 | S23: =O23/$C85 -> 0.033119715 | T23: =P23/$C85 -> 0.030764262 | U23: =Q23/$C85 -> 0.012266854
A24: =A47 -> Integral 11 | C24: =SUMSQ(C66:BJ66) -> 0.0078494234 | D24: =SUMSQ(C47:BJ47) -> 0.0051286127 | E24: =C24-D24 -> 0.0027208108 | G24: =60-1 -> 59 | H24: =60-15 -> 45 | I24: =15-1 -> 14 | K24: =C24/G24 -> 0.00013304107 | L24: =D24/H24 -> 0.00011396917 | M24: =E24/I24 -> 0.00019434363 | O24: =SQRT(SUMSQ(P24:Q24)) -> 0.011578548 | P24: =SQRT(L24) -> 0.010675634 | Q24: =SQRT((M24-L24)/4) -> 0.0044825901 | S24: =O24/$C86 -> 0.0493593 | T24: =P24/$C86 -> 0.045510181 | U24: =Q24/$C86 -> 0.019109261
A25: =A48 -> Integral 12 | C25: =SUMSQ(C67:BJ67) -> 0.0049051188 | D25: =SUMSQ(C48:BJ48) -> 0.003387057 | E25: =C25-D25 -> 0.0015180618 | G25: =60-1 -> 59 | H25: =60-15 -> 45 | I25: =15-1 -> 14 | K25: =C25/G25 -> 8.3137606e-05 | L25: =D25/H25 -> 7.5267933e-05 | M25: =E25/I25 -> 0.00010843298 | O25: =SQRT(SUMSQ(P25:Q25)) -> 0.0091410719 | P25: =SQRT(L25) -> 0.0086757094 | Q25: =SQRT((M25-L25)/4) -> 0.0028794552 | S25: =O25/$C87 -> 0.057336963 | T25: =P25/$C87 -> 0.054417997 | U25: =Q25/$C87 -> 0.018061253
A26: =A49 -> Integral 13 | C26: =SUMSQ(C68:BJ68) -> 0.0062829395 | D26: =SUMSQ(C49:BJ49) -> 0.0038858464 | E26: =C26-D26 -> 0.0023970932 | G26: =60-1 -> 59 | H26: =60-15 -> 45 | I26: =15-1 -> 14 | K26: =C26/G26 -> 0.0001064905 | L26: =D26/H26 -> 8.6352141e-05 | M26: =E26/I26 -> 0.00017122094 | O26: =SQRT(SUMSQ(P26:Q26)) -> 0.010371564 | P26: =SQRT(L26) -> 0.0092925853 | Q26: =SQRT((M26-L26)/4) -> 0.0046062132 | S26: =O26/$C88 -> 0.016490279 | T26: =P26/$C88 -> 0.014774756 | U26: =Q26/$C88 -> 0.0073236536
A27: =A50 -> Integral 14 | C27: =SUMSQ(C69:BJ69) -> 0.0021031162 | D27: =SUMSQ(C50:BJ50) -> 0.0013979023 | E27: =C27-D27 -> 0.00070521395 | G27: =60-1 -> 59 | H27: =60-15 -> 45 | I27: =15-1 -> 14 | K27: =C27/G27 -> 3.5646037e-05 | L27: =D27/H27 -> 3.1064494e-05 | M27: =E27/I27 -> 5.0372425e-05 | O27: =SQRT(SUMSQ(P27:Q27)) -> 0.0059909496 | P27: =SQRT(L27) -> 0.0055735531 | Q27: =SQRT((M27-L27)/4) -> 0.0021970395 | S27: =O27/$C89 -> 0.043548552 | T27: =P27/$C89 -> 0.040514473 | U27: =Q27/$C89 -> 0.015970405
A28: =A51 -> TMS | C28: =SUMSQ(C70:BJ70) -> 4.47683 | D28: =SUMSQ(C51:BJ51) -> 0.04423099 | E28: =C28-D28 -> 4.432599 | G28: =60-1 -> 59 | H28: =60-15 -> 45 | I28: =15-1 -> 14 | K28: =C28/G28 -> 0.075878474 | L28: =D28/H28 -> 0.00098291089 | M28: =E28/I28 -> 0.31661421 | O28: =SQRT(SUMSQ(P28:Q28)) -> 0.28264949 | P28: =SQRT(L28) -> 0.03135141 | Q28: =SQRT((M28-L28)/4) -> 0.28090537 | S28: =O28/$C90 -> 0.63672282 | T28: =P28/$C90 -> 0.070625132 | U28: =Q28/$C90 -> 0.63279383
T31: Grand average RSD values:
S32: Overall | T32: Measurement | U32: Sampling
S33: =SQRT(SUMSQ(S15:S17,S20,S22:S27)/COUNT(S15:S17,S20,S22:S27)) -> 0.043140153 | T33: =SQRT(SUMSQ(T15:T17,T20,T22:T27)/COUNT(T15:T17,T20,T22:T27)) -> 0.037784704 | U33: =SQRT(SUMSQ(U15:U17,U20,U22:U27)/COUNT(U15:U17,U20,U22:U27)) -> 0.020817994
A35: Within-group error terms
A37: =A56 -> Aldehyde Integral 1 | C37: =C95-$F76 -> -0.001321047 | D37: =D95-$F76 -> 0.00027253824 | E37: =E95-$F76 -> 0.002357447 | F37: =F95-$F76 -> -0.0013089383 | G37: =G95-$J76 -> 0.00079030011 | H37: =H95-$J76 -> 0.0024373292 | I37: =I95-$J76 -> -0.0011601606 | J37: =J95-$J76 -> -0.0020674688 | K37: =K95-$N76 -> 0.0009942123 | L37: =L95-$N76 -> 0.0024518617 | M37: =M95-$N76 -> 0.00022360616 | N37: =N95-$N76 -> -0.0036696802 | O37: =O95-$R76 -> -0.0009997598 | P37: =P95-$R76 -> 0.003590571 | Q37: =Q95-$R76 -> -0.0005268061 | R37: =R95-$R76 -> -0.0020640051 | S37: =S95-$V76 -> -0.0019764757 | T37: =T95-$V76 -> 0.0027645917 | U37: =U95-$V76 -> 0.0019156206 | V37: =V95-$V76 -> -0.0027037367 | W37: =W95-$Z76 -> 0.0055158505 | X37: =X95-$Z76 -> -0.0055708098 | Y37: =Y95-$Z76 -> -0.0033568081 | Z37: =Z95-$Z76 -> 0.0034117673 | AA37: =AA95-$AD76 -> -0.0043248039 | AB37: =AB95-$AD76 -> -0.0026527066 | AC37: =AC95-$AD76 -> 0.0023016846 | AD37: =AD95-$AD76 -> 0.004675826 | AE37: =AE95-$AH76 -> -0.00047043776 | AF37: =AF95-$AH76 -> 0.0002326455 | AG37: =AG95-$AH76 -> -0.0030462515 | AH37: =AH95-$AH76 -> 0.0032840438 | AI37: =AI95-$AL76 -> 0.0049588893 | AJ37: =AJ95-$AL76 -> -0.0021786122 | AK37: =AK95-$AL76 -> -0.0014863672 | AL37: =AL95-$AL76 -> -0.0012939098 | AM37: =AM95-$AP76 -> 0.0015990962 | AN37: =AN95-$AP76 -> -0.0037114651 | AO37: =AO95-$AP76 -> 0.002906391 | AP37: =AP95-$AP76 -> -0.00079402205 | AQ37: =AQ95-$AT76 -> 0.0059396021 | AR37: =AR95-$AT76 -> 0.0023103965 | AS37: =AS95-$AT76 -> -0.0055653991 | AT37: =AT95-$AT76 -> -0.0026845995 | AU37: =AU95-$AX76 -> -0.0014469716 | AV37: =AV95-$AX76 -> -0.0016062011 | AW37: =AW95-$AX76 -> -0.00028514159 | AX37: =AX95-$AX76 -> 0.0033383143 | AY37: =AY95-$BB76 -> 0.0027703581 | AZ37: =AZ95-$BB76 -> -0.0050179518 | BA37: =BA95-$BB76 -> 0.0038419084 | BB37: =BB95-$BB76 -> -0.0015943147 | BC37: =BC95-$BF76 -> -8.2080321e-05 | BD37: =BD95-$BF76 -> 0.0047585903 | BE37: =BE95-$BF76 -> -0.0013704084 | BF37: =BF95-$BF76 -> -0.0033061016 | BG37: =BG95-$BJ76 -> -8.3384658e-05 | BH37: =BH95-$BJ76 -> -0.0015793236 | BI37: =BI95-$BJ76 -> -0.0026590254 | BJ37: =BJ95-$BJ76 -> 0.0043217336
A38: =A57 -> Aldehyde Integral 2 | C38: =C96-$F77 -> 0.0069117368 | D38: =D96-$F77 -> -0.00080934411 | E38: =E96-$F77 -> -0.013015734 | F38: =F96-$F77 -> 0.0069133416 | G38: =G96-$J77 -> 0.0018737198 | H38: =H96-$J77 -> -0.0031474346 | I38: =I96-$J77 -> 0.0054814882 | J38: =J96-$J77 -> -0.0042077734 | K38: =K96-$N77 -> -0.0034702634 | L38: =L96-$N77 -> 0.0069053351 | M38: =M96-$N77 -> -0.010116152 | N38: =N96-$N77 -> 0.0066810804 | O38: =O96-$R77 -> 0.012881301 | P38: =P96-$R77 -> -0.011472299 | Q38: =Q96-$R77 -> -0.0042742703 | R38: =R96-$R77 -> 0.0028652683 | S38: =S96-$V77 -> -0.0047362868 | T38: =T96-$V77 -> 0.00820161 | U38: =U96-$V77 -> -0.015725571 | V38: =V96-$V77 -> 0.012260248 | W38: =W96-$Z77 -> 0.004341187 | X38: =X96-$Z77 -> -0.0015977006 | Y38: =Y96-$Z77 -> 0.010753907 | Z38: =Z96-$Z77 -> -0.013497393 | AA38: =AA96-$AD77 -> 0.0084991636 | AB38: =AB96-$AD77 -> -0.0090738877 | AC38: =AC96-$AD77 -> -0.0011319641 | AD38: =AD96-$AD77 -> 0.0017066883 | AE38: =AE96-$AH77 -> -0.0018824437 | AF38: =AF96-$AH77 -> -0.010199471 | AG38: =AG96-$AH77 -> 0.0066351065 | AH38: =AH96-$AH77 -> 0.0054468082 | AI38: =AI96-$AL77 -> 0.0095064801 | AJ38: =AJ96-$AL77 -> -0.0096517617 | AK38: =AK96-$AL77 -> 0.006618698 | AL38: =AL96-$AL77 -> -0.0064734164 | AM38: =AM96-$AP77 -> 0.022931516 | AN38: =AN96-$AP77 -> 0.0020304389 | AO38: =AO96-$AP77 -> -0.0028033534 | AP38: =AP96-$AP77 -> -0.022158601 | AQ38: =AQ96-$AT77 -> 0.013617314 | AR38: =AR96-$AT77 -> 0.0027560637 | AS38: =AS96-$AT77 -> -0.010173778 | AT38: =AT96-$AT77 -> -0.0061995995 | AU38: =AU96-$AX77 -> -0.0099155916 | AV38: =AV96-$AX77 -> -0.0045706125 | AW38: =AW96-$AX77 -> 0.011384418 | AX38: =AX96-$AX77 -> 0.0031017859 | AY38: =AY96-$BB77 -> -0.0042875092 | AZ38: =AZ96-$BB77 -> 0.013112579 | BA38: =BA96-$BB77 -> -0.0031093328 | BB38: =BB96-$BB77 -> -0.0057157366 | BC38: =BC96-$BF77 -> -0.00029751712 | BD38: =BD96-$BF77 -> 0.0080713141 | BE38: =BE96-$BF77 -> -0.00044185886 | BF38: =BF96-$BF77 -> -0.0073319381 | BG38: =BG96-$BJ77 -> 0.0060823557 | BH38: =BH96-$BJ77 -> -0.024638217 | BI38: =BI96-$BJ77 -> 0.011403343 | BJ38: =BJ96-$BJ77 -> 0.0071525188
A39: =A58 -> Aromatic region Integral 3 | C39: =C97-$F78 -> 0.20692107 | D39: =D97-$F78 -> -0.45213358 | E39: =E97-$F78 -> 0.03824506 | F39: =F97-$F78 -> 0.20696744 | G39: =G97-$J78 -> -0.20141613 | H39: =H97-$J78 -> 0.2455844 | I39: =I97-$J78 -> -0.057898386 | J39: =J97-$J78 -> 0.013730121 | K39: =K97-$N78 -> -0.049056212 | L39: =L97-$N78 -> 0.024107644 | M39: =M97-$N78 -> -0.14095274 | N39: =N97-$N78 -> 0.16590131 | O39: =O97-$R78 -> 0.011829235 | P39: =P97-$R78 -> -0.44667017 | Q39: =Q97-$R78 -> 0.36171485 | R39: =R97-$R78 -> 0.073126086 | S39: =S97-$V78 -> 0.22593995 | T39: =T97-$V78 -> -0.040861928 | U39: =U97-$V78 -> -0.096367242 | V39: =V97-$V78 -> -0.088710779 | W39: =W97-$Z78 -> -0.13455374 | X39: =X97-$Z78 -> -0.15557808 | Y39: =Y97-$Z78 -> 0.22797591 | Z39: =Z97-$Z78 -> 0.06215591 | AA39: =AA97-$AD78 -> 0.63807267 | AB39: =AB97-$AD78 -> -0.23450778 | AC39: =AC97-$AD78 -> 0.043720728 | AD39: =AD97-$AD78 -> -0.44728562 | AE39: =AE97-$AH78 -> 0.01794443 | AF39: =AF97-$AH78 -> 0.24116526 | AG39: =AG97-$AH78 -> 0.12518201 | AH39: =AH97-$AH78 -> -0.3842917 | AI39: =AI97-$AL78 -> 0.30947897 | AJ39: =AJ97-$AL78 -> -0.3750864 | AK39: =AK97-$AL78 -> 0.065228951 | AL39: =AL97-$AL78 -> 0.00037848737 | AM39: =AM97-$AP78 -> 0.50863308 | AN39: =AN97-$AP78 -> -0.0029935674 | AO39: =AO97-$AP78 -> -0.068009652 | AP39: =AP97-$AP78 -> -0.43762986 | AQ39: =AQ97-$AT78 -> 0.0045026883 | AR39: =AR97-$AT78 -> 0.26508695 | AS39: =AS97-$AT78 -> -0.040038078 | AT39: =AT97-$AT78 -> -0.22955156 | AU39: =AU97-$AX78 -> -0.31388969 | AV39: =AV97-$AX78 -> -0.19434306 | AW39: =AW97-$AX78 -> 0.23661724 | AX39: =AX97-$AX78 -> 0.27161551 | AY39: =AY97-$BB78 -> 0.28181032 | AZ39: =AZ97-$BB78 -> -0.072023793 | BA39: =BA97-$BB78 -> -0.10537673 | BB39: =BB97-$BB78 -> -0.10440979 | BC39: =BC97-$BF78 -> -0.89275777 | BD39: =BD97-$BF78 -> 0.32860833 | BE39: =BE97-$BF78 -> 0.22214629 | BF39: =BF97-$BF78 -> 0.34200315 | BG39: =BG97-$BJ78 -> -0.27186919 | BH39: =BH97-$BJ78 -> -0.29898532 | BI39: =BI97-$BJ78 -> 0.28097421 | BJ39: =BJ97-$BJ78 -> 0.28988031
A40: =A59 -> OCH/O-CH2 Integral 4 | C40: =C98-$F79 -> -0.011921719 | D40: =D98-$F79 -> -0.0016336852 | E40: =E98-$F79 -> 0.025474114 | F40: =F98-$F79 -> -0.011918709 | G40: =G98-$J79 -> -0.057074225 | H40: =H98-$J79 -> -0.028460389 | I40: =I98-$J79 -> 0.05078536 | J40: =J98-$J79 -> 0.034749254 | K40: =K98-$N79 -> 0.02035033 | L40: =L98-$N79 -> 0.0072259041 | M40: =M98-$N79 -> -0.0146842 | N40: =N98-$N79 -> -0.012892034 | O40: =O98-$R79 -> 0.026504618 | P40: =P98-$R79 -> -0.02010205 | Q40: =Q98-$R79 -> -0.022179771 | R40: =R98-$R79 -> 0.015777203 | S40: =S98-$V79 -> -0.02114117 | T40: =T98-$V79 -> -0.0076883169 | U40: =U98-$V79 -> -0.018364538 | V40: =V98-$V79 -> 0.047194024 | W40: =W98-$Z79 -> 0.00077557369 | X40: =X98-$Z79 -> -0.047791318 | Y40: =Y98-$Z79 -> -0.0053550393 | Z40: =Z98-$Z79 -> 0.052370783 | AA40: =AA98-$AD79 -> -0.091937797 | AB40: =AB98-$AD79 -> -0.019633411 | AC40: =AC98-$AD79 -> 0.02474368 | AD40: =AD98-$AD79 -> 0.086827528 | AE40: =AE98-$AH79 -> -0.017957308 | AF40: =AF98-$AH79 -> -0.017074017 | AG40: =AG98-$AH79 -> -0.017271879 | AH40: =AH98-$AH79 -> 0.052303204 | AI40: =AI98-$AL79 -> -0.015775823 | AJ40: =AJ98-$AL79 -> -0.0076947924 | AK40: =AK98-$AL79 -> -0.0015305621 | AL40: =AL98-$AL79 -> 0.025001178 | AM40: =AM98-$AP79 -> 2.8784054e-05 | AN40: =AN98-$AP79 -> -0.021366476 | AO40: =AO98-$AP79 -> -0.052469627 | AP40: =AP98-$AP79 -> 0.07380732 | AQ40: =AQ98-$AT79 -> -0.020020893 | AR40: =AR98-$AT79 -> 0.011544363 | AS40: =AS98-$AT79 -> 0.010396142 | AT40: =AT98-$AT79 -> -0.0019196123 | AU40: =AU98-$AX79 -> -0.03476338 | AV40: =AV98-$AX79 -> -0.026712368 | AW40: =AW98-$AX79 -> 0.0020429166 | AX40: =AX98-$AX79 -> 0.059432831 | AY40: =AY98-$BB79 -> 0.0030534205 | AZ40: =AZ98-$BB79 -> -0.07439722 | BA40: =BA98-$BB79 -> 0.032439564 | BB40: =BB98-$BB79 -> 0.038904236 | BC40: =BC98-$BF79 -> -0.11310521 | BD40: =BD98-$BF79 -> 0.0054076545 | BE40: =BE98-$BF79 -> 0.0019721905 | BF40: =BF98-$BF79 -> 0.10572536 | BG40: =BG98-$BJ79 -> -0.033220793 | BH40: =BH98-$BJ79 -> 0.041712082 | BI40: =BI98-$BJ79 -> -0.027898897 | BJ40: =BJ98-$BJ79 -> 0.019407608
A41: =A60 -> Methoxy Integral 5 | C41: =C99-$F80 -> 1.0404157 | D41: =D99-$F80 -> -0.95202491 | E41: =E99-$F80 -> -1.1289521 | F41: =F99-$F80 -> 1.0405613 | G41: =G99-$J80 -> -1.3991269 | H41: =H99-$J80 -> -0.68129569 | I41: =I99-$J80 -> 0.90921668 | J41: =J99-$J80 -> 1.1712059 | K41: =K99-$N80 -> -1.4715102 | L41: =L99-$N80 -> -1.0313889 | M41: =M99-$N80 -> 1.2689252 | N41: =N99-$N80 -> 1.2339739 | O41: =O99-$R80 -> 0.4401238 | P41: =P99-$R80 -> -1.123347 | Q41: =Q99-$R80 -> 0.70799983 | R41: =R99-$R80 -> -0.024776607 | S41: =S99-$V80 -> -1.0849986 | T41: =T99-$V80 -> -0.49844876 | U41: =U99-$V80 -> -0.55318927 | V41: =V99-$V80 -> 2.1366366 | W41: =W99-$Z80 -> -1.0463477 | X41: =X99-$Z80 -> -1.5575125 | Y41: =Y99-$Z80 -> 1.7030458 | Z41: =Z99-$Z80 -> 0.90081452 | AA41: =AA99-$AD80 -> -0.25798843 | AB41: =AB99-$AD80 -> -0.72702784 | AC41: =AC99-$AD80 -> -0.95287988 | AD41: =AD99-$AD80 -> 1.9378961 | AE41: =AE99-$AH80 -> -0.71125403 | AF41: =AF99-$AH80 -> -0.042391307 | AG41: =AG99-$AH80 -> -0.36121509 | AH41: =AH99-$AH80 -> 1.1148604 | AI41: =AI99-$AL80 -> -0.49599202 | AJ41: =AJ99-$AL80 -> -0.56442607 | AK41: =AK99-$AL80 -> -0.025889471 | AL41: =AL99-$AL80 -> 1.0863076 | AM41: =AM99-$AP80 -> -0.25181263 | AN41: =AN99-$AP80 -> -0.29815605 | AO41: =AO99-$AP80 -> -0.23675447 | AP41: =AP99-$AP80 -> 0.78672315 | AQ41: =AQ99-$AT80 -> -1.0094206 | AR41: =AR99-$AT80 -> 0.20116043 | AS41: =AS99-$AT80 -> 0.31727332 | AT41: =AT99-$AT80 -> 0.4909868 | AU41: =AU99-$AX80 -> -1.4123115 | AV41: =AV99-$AX80 -> -0.49605763 | AW41: =AW99-$AX80 -> 0.64816853 | AX41: =AX99-$AX80 -> 1.2602006 | AY41: =AY99-$BB80 -> -0.33860449 | AZ41: =AZ99-$BB80 -> -0.95202186 | BA41: =BA99-$BB80 -> 0.47639828 | BB41: =BB99-$BB80 -> 0.81422807 | BC41: =BC99-$BF80 -> -1.2182618 | BD41: =BD99-$BF80 -> 0.11822637 | BE41: =BE99-$BF80 -> 0.20025677 | BF41: =BF99-$BF80 -> 0.89977862 | BG41: =BG99-$BJ80 -> 30.768391 | BH41: =BH99-$BJ80 -> -10.798855 | BI41: =BI99-$BJ80 -> -10.448004 | BJ41: =BJ99-$BJ80 -> -9.5215326
A42: =A61 -> DMSO | C42: =C100-$F81 -> 0.9475861 | D42: =D100-$F81 -> -0.85133795 | E42: =E100-$F81 -> -1.043886 | F42: =F100-$F81 -> 0.94763787 | G42: =G100-$J81 -> 0.0015676728 | H42: =H100-$J81 -> -0.13270624 | I42: =I100-$J81 -> 0.28718208 | J42: =J100-$J81 -> -0.15604352 | K42: =K100-$N81 -> 0.10001572 | L42: =L100-$N81 -> -0.083947274 | M42: =M100-$N81 -> 0.020552159 | N42: =N100-$N81 -> -0.036620609 | O42: =O100-$R81 -> 0.46095197 | P42: =P100-$R81 -> -0.46353583 | Q42: =Q100-$R81 -> 0.18516864 | R42: =R100-$R81 -> -0.18258478 | S42: =S100-$V81 -> 0.10036015 | T42: =T100-$V81 -> -0.041418487 | U42: =U100-$V81 -> -0.22928654 | V42: =V100-$V81 -> 0.17034488 | W42: =W100-$Z81 -> -0.20070378 | X42: =X100-$Z81 -> -0.50452998 | Y42: =Y100-$Z81 -> 0.46063921 | Z42: =Z100-$Z81 -> 0.24459455 | AA42: =AA100-$AD81 -> 0.18088541 | AB42: =AB100-$AD81 -> -0.041288078 | AC42: =AC100-$AD81 -> -0.42671045 | AD42: =AD100-$AD81 -> 0.28711311 | AE42: =AE100-$AH81 -> 0.096867899 | AF42: =AF100-$AH81 -> 0.20528605 | AG42: =AG100-$AH81 -> 0.13576949 | AH42: =AH100-$AH81 -> -0.43792344 | AI42: =AI100-$AL81 -> 0.11774307 | AJ42: =AJ100-$AL81 -> -0.11337543 | AK42: =AK100-$AL81 -> -0.10549783 | AL42: =AL100-$AL81 -> 0.10113018 | AM42: =AM100-$AP81 -> 0.32846701 | AN42: =AN100-$AP81 -> -0.013059104 | AO42: =AO100-$AP81 -> -0.32372792 | AP42: =AP100-$AP81 -> 0.0083200168 | AQ42: =AQ100-$AT81 -> 0.0076848169 | AR42: =AR100-$AT81 -> 0.071633131 | AS42: =AS100-$AT81 -> -0.01375983 | AT42: =AT100-$AT81 -> -0.065558118 | AU42: =AU100-$AX81 -> -0.25620215 | AV42: =AV100-$AX81 -> -0.087474783 | AW42: =AW100-$AX81 -> 0.035890526 | AX42: =AX100-$AX81 -> 0.30778641 | AY42: =AY100-$BB81 -> 0.2043932 | AZ42: =AZ100-$BB81 -> -0.26409547 | BA42: =BA100-$BB81 -> -0.027001469 | BB42: =BB100-$BB81 -> 0.086703741 | BC42: =BC100-$BF81 -> -0.26174025 | BD42: =BD100-$BF81 -> 0.17798141 | BE42: =BE100-$BF81 -> -0.12471275 | BF42: =BF100-$BF81 -> 0.20847159 | BG42: =BG100-$BJ81 -> 0.73698169 | BH42: =BH100-$BJ81 -> -0.40348125 | BI42: =BI100-$BJ81 -> -0.20677632 | BJ42: =BJ100-$BJ81 -> -0.12672412
A43: =A62 -> Integral 7 | C43: =C101-$F82 -> -0.0059973407 | D43: =D101-$F82 -> 0.0069949561 | E43: =E101-$F82 -> 0.0049989105 | F43: =F101-$F82 -> -0.0059965258 | G43: =G101-$J82 -> 0.0027352436 | H43: =H101-$J82 -> 0.0029781683 | I43: =I101-$J82 -> -0.0043638057 | J43: =J101-$J82 -> -0.0013496062 | K43: =K101-$N82 -> -2.1799083e-05 | L43: =L101-$N82 -> -0.0013312797 | M43: =M101-$N82 -> 0.00012029935 | N43: =N101-$N82 -> 0.0012327794 | O43: =O101-$R82 -> -0.0056479396 | P43: =P101-$R82 -> 0.008441461 | Q43: =Q101-$R82 -> -0.0053422978 | R43: =R101-$R82 -> 0.0025487763 | S43: =S101-$V82 -> -0.0020558853 | T43: =T101-$V82 -> 0.00028264366 | U43: =U101-$V82 -> 0.004024885 | V43: =V101-$V82 -> -0.0022516434 | W43: =W101-$Z82 -> 0.0013499751 | X43: =X101-$Z82 -> 0.0058634833 | Y43: =Y101-$Z82 -> -0.0069105529 | Z43: =Z101-$Z82 -> -0.00030290553 | AA43: =AA101-$AD82 -> -0.00017288787 | AB43: =AB101-$AD82 -> 0.0010696505 | AC43: =AC101-$AD82 -> 0.0048351261 | AD43: =AD101-$AD82 -> -0.0057318887 | AE43: =AE101-$AH82 -> 0.0014084395 | AF43: =AF101-$AH82 -> -0.0021988988 | AG43: =AG101-$AH82 -> 0.0014763031 | AH43: =AH101-$AH82 -> -0.00068584377 | AI43: =AI101-$AL82 -> -0.0031973484 | AJ43: =AJ101-$AL82 -> -0.0010471274 | AK43: =AK101-$AL82 -> 0.0037517501 | AL43: =AL101-$AL82 -> 0.00049272571 | AM43: =AM101-$AP82 -> -0.0047610501 | AN43: =AN101-$AP82 -> -0.00068915835 | AO43: =AO101-$AP82 -> 0.0040474006 | AP43: =AP101-$AP82 -> 0.0014028079 | AQ43: =AQ101-$AT82 -> 0.0018337699 | AR43: =AR101-$AT82 -> -0.0032276989 | AS43: =AS101-$AT82 -> 0.00054530176 | AT43: =AT101-$AT82 -> 0.00084862719 | AU43: =AU101-$AX82 -> 0.0056551591 | AV43: =AV101-$AX82 -> 0.0025955136 | AW43: =AW101-$AX82 -> -0.0027229666 | AX43: =AX101-$AX82 -> -0.0055277061 | AY43: =AY101-$BB82 -> -0.0030717217 | AZ43: =AZ101-$BB82 -> 0.0064823633 | BA43: =BA101-$BB82 -> -0.00016641349 | BB43: =BB101-$BB82 -> -0.0032442281 | BC43: =BC101-$BF82 -> 0.0062282869 | BD43: =BD101-$BF82 -> -0.0062913123 | BE43: =BE101-$BF82 -> -0.00089025846 | BF43: =BF101-$BF82 -> 0.00095328383 | BG43: =BG101-$BJ82 -> -0.00035295564 | BH43: =BH101-$BJ82 -> 0.002067457 | BI43: =BI101-$BJ82 -> 0.00077017031 | BJ43: =BJ101-$BJ82 -> -0.0024846716
A44: =A63 -> Integral 8 | C44: =C102-$F83 -> 0 | D44: =D102-$F83 -> 0 | E44: =E102-$F83 -> 0 | F44: =F102-$F83 -> 0 | G44: =G102-$J83 -> 0 | H44: =H102-$J83 -> 0 | I44: =I102-$J83 -> 0 | J44: =J102-$J83 -> 0 | K44: =K102-$N83 -> 0 | L44: =L102-$N83 -> 0 | M44: =M102-$N83 -> 0 | N44: =N102-$N83 -> 0 | O44: =O102-$R83 -> 0 | P44: =P102-$R83 -> 0 | Q44: =Q102-$R83 -> 0 | R44: =R102-$R83 -> 0 | S44: =S102-$V83 -> 0 | T44: =T102-$V83 -> 0 | U44: =U102-$V83 -> 0 | V44: =V102-$V83 -> 0 | W44: =W102-$Z83 -> 0 | X44: =X102-$Z83 -> 0 | Y44: =Y102-$Z83 -> 0 | Z44: =Z102-$Z83 -> 0 | AA44: =AA102-$AD83 -> 0 | AB44: =AB102-$AD83 -> 0 | AC44: =AC102-$AD83 -> 0 | AD44: =AD102-$AD83 -> 0 | AE44: =AE102-$AH83 -> 0 | AF44: =AF102-$AH83 -> 0 | AG44: =AG102-$AH83 -> 0 | AH44: =AH102-$AH83 -> 0 | AI44: =AI102-$AL83 -> 0 | AJ44: =AJ102-$AL83 -> 0 | AK44: =AK102-$AL83 -> 0 | AL44: =AL102-$AL83 -> 0 | AM44: =AM102-$AP83 -> 0 | AN44: =AN102-$AP83 -> 0 | AO44: =AO102-$AP83 -> 0 | AP44: =AP102-$AP83 -> 0 | AQ44: =AQ102-$AT83 -> 0 | AR44: =AR102-$AT83 -> 0 | AS44: =AS102-$AT83 -> 0 | AT44: =AT102-$AT83 -> 0 | AU44: =AU102-$AX83 -> 0 | AV44: =AV102-$AX83 -> 0 | AW44: =AW102-$AX83 -> 0 | AX44: =AX102-$AX83 -> 0 | AY44: =AY102-$BB83 -> 0 | AZ44: =AZ102-$BB83 -> 0 | BA44: =BA102-$BB83 -> 0 | BB44: =BB102-$BB83 -> 0 | BC44: =BC102-$BF83 -> 0 | BD44: =BD102-$BF83 -> 0 | BE44: =BE102-$BF83 -> 0 | BF44: =BF102-$BF83 -> 0 | BG44: =BG102-$BJ83 -> 0 | BH44: =BH102-$BJ83 -> 0 | BI44: =BI102-$BJ83 -> 0 | BJ44: =BJ102-$BJ83 -> 0
A45: =A64 -> Integral 9 | C45: =C103-$F84 -> -0.012848966 | D45: =D103-$F84 -> 0.015948928 | E45: =E103-$F84 -> 0.0097520326 | F45: =F103-$F84 -> -0.012851994 | G45: =G103-$J84 -> 0.0053872087 | H45: =H103-$J84 -> 0.006288162 | I45: =I103-$J84 -> -0.0097551867 | J45: =J103-$J84 -> -0.001920184 | K45: =K103-$N84 -> 0.0017419525 | L45: =L103-$N84 -> -0.00028877805 | M45: =M103-$N84 -> -0.0012861726 | N45: =N103-$N84 -> -0.00016700192 | O45: =O103-$R84 -> -0.010452526 | P45: =P103-$R84 -> 0.016465918 | Q45: =Q103-$R84 -> -0.0099745081 | R45: =R103-$R84 -> 0.0039611166 | S45: =S103-$V84 -> 0.00010659766 | T45: =T103-$V84 -> 0.00027375317 | U45: =U103-$V84 -> 0.0083429469 | V45: =V103-$V84 -> -0.0087232978 | W45: =W103-$Z84 -> 0.0093165253 | X45: =X103-$Z84 -> 0.010558703 | Y45: =Y103-$Z84 -> -0.016708096 | Z45: =Z103-$Z84 -> -0.0031671329 | AA45: =AA103-$AD84 -> -0.00275851 | AB45: =AB103-$AD84 -> 0.0041856642 | AC45: =AC103-$AD84 -> 0.0053876739 | AD45: =AD103-$AD84 -> -0.0068148281 | AE45: =AE103-$AH84 -> 0.0033330329 | AF45: =AF103-$AH84 -> -0.0038202078 | AG45: =AG103-$AH84 -> 0.0040971696 | AH45: =AH103-$AH84 -> -0.0036099947 | AI45: =AI103-$AL84 -> -0.0019368651 | AJ45: =AJ103-$AL84 -> 0.00044113887 | AK45: =AK103-$AL84 -> 0.0017241759 | AL45: =AL103-$AL84 -> -0.00022844967 | AM45: =AM103-$AP84 -> -0.0051946397 | AN45: =AN103-$AP84 -> -0.00048592439 | AO45: =AO103-$AP84 -> 0.0058624273 | AP45: =AP103-$AP84 -> -0.00018186329 | AQ45: =AQ103-$AT84 -> 0.0028725547 | AR45: =AR103-$AT84 -> -0.0037782746 | AS45: =AS103-$AT84 -> -0.00077766087 | AT45: =AT103-$AT84 -> 0.0016833808 | AU45: =AU103-$AX84 -> 0.011297742 | AV45: =AV103-$AX84 -> 0.0041674826 | AW45: =AW103-$AX84 -> -0.0054672566 | AX45: =AX103-$AX84 -> -0.0099979682 | AY45: =AY103-$BB84 -> -0.0028907106 | AZ45: =AZ103-$BB84 -> 0.009908488 | BA45: =BA103-$BB84 -> -0.0022389638 | BB45: =BB103-$BB84 -> -0.0047788136 | BC45: =BC103-$BF84 -> 0.010096279 | BD45: =BD103-$BF84 -> -0.0064899893 | BE45: =BE103-$BF84 -> -0.0019576133 | BF45: =BF103-$BF84 -> -0.0016486766 | BG45: =BG103-$BJ84 -> 0.0046598154 | BH45: =BH103-$BJ84 -> 0.0051477585 | BI45: =BI103-$BJ84 -> -0.0033558212 | BJ45: =BJ103-$BJ84 -> -0.0064517528
A46: =A65 -> Integral 10 | C46: =C104-$F85 -> -0.021323451 | D46: =D104-$F85 -> 0.026557493 | E46: =E104-$F85 -> 0.016079878 | F46: =F104-$F85 -> -0.02131392 | G46: =G104-$J85 -> 0.0058393049 | H46: =H104-$J85 -> 0.010411913 | I46: =I104-$J85 -> -0.016853275 | J46: =J104-$J85 -> 0.00060205703 | K46: =K104-$N85 -> 0.00079612824 | L46: =L104-$N85 -> -0.0017513728 | M46: =M104-$N85 -> 0.00017560655 | N46: =N104-$N85 -> 0.00077963797 | O46: =O104-$R85 -> -0.019429019 | P46: =P104-$R85 -> 0.028345684 | Q46: =Q104-$R85 -> -0.016016726 | R46: =R104-$R85 -> 0.0071000608 | S46: =S104-$V85 -> -0.0015114766 | T46: =T104-$V85 -> -0.0020423312 | U46: =U104-$V85 -> 0.013587635 | V46: =V104-$V85 -> -0.010033827 | W46: =W104-$Z85 -> 0.012252836 | X46: =X104-$Z85 -> 0.016695899 | Y46: =Y104-$Z85 -> -0.027164253 | Z46: =Z104-$Z85 -> -0.0017844824 | AA46: =AA104-$AD85 -> -0.010178135 | AB46: =AB104-$AD85 -> 0.0072043422 | AC46: =AC104-$AD85 -> 0.0087920255 | AD46: =AD104-$AD85 -> -0.0058182327 | AE46: =AE104-$AH85 -> 0.0019693662 | AF46: =AF104-$AH85 -> -0.008510104 | AG46: =AG104-$AH85 -> 0.0059828776 | AH46: =AH104-$AH85 -> 0.00055786019 | AI46: =AI104-$AL85 -> -0.0050188293 | AJ46: =AJ104-$AL85 -> 0.00071770892 | AK46: =AK104-$AL85 -> 0.00148458 | AL46: =AL104-$AL85 -> 0.0028165403 | AM46: =AM104-$AP85 -> -0.011968942 | AN46: =AN104-$AP85 -> -0.003658895 | AO46: =AO104-$AP85 -> 0.010250047 | AP46: =AP104-$AP85 -> 0.0053777894 | AQ46: =AQ104-$AT85 -> 0.0008597122 | AR46: =AR104-$AT85 -> -0.0075102889 | AS46: =AS104-$AT85 -> 0.0004420725 | AT46: =AT104-$AT85 -> 0.0062085042 | AU46: =AU104-$AX85 -> 0.016295798 | AV46: =AV104-$AX85 -> 0.0059510715 | AW46: =AW104-$AX85 -> -0.0081715632 | AX46: =AX104-$AX85 -> -0.014075307 | AY46: =AY104-$BB85 -> -0.0063308256 | AZ46: =AZ104-$BB85 -> 0.013649604 | BA46: =BA104-$BB85 -> -0.0023290025 | BB46: =BB104-$BB85 -> -0.0049897762 | BC46: =BC104-$BF85 -> 0.012069045 | BD46: =BD104-$BF85 -> -0.010719623 | BE46: =BE104-$BF85 -> -0.0015336067 | BF46: =BF104-$BF85 -> 0.00018418468 | BG46: =BG104-$BJ85 -> 0.0016593209 | BH46: =BH104-$BJ85 -> 0.010157028 | BI46: =BI104-$BJ85 -> -0.0065547921 | BJ46: =BJ104-$BJ85 -> -0.0052615563
A47: =A66 -> Integral 11 | C47: =C105-$F86 -> -0.016275011 | D47: =D105-$F86 -> 0.021127446 | E47: =E105-$F86 -> 0.011441782 | F47: =F105-$F86 -> -0.016294217 | G47: =G105-$J86 -> 0.0049899494 | H47: =H105-$J86 -> 0.0091456011 | I47: =I105-$J86 -> -0.015124375 | J47: =J105-$J86 -> 0.00098882472 | K47: =K105-$N86 -> 0.00014150645 | L47: =L105-$N86 -> -0.0026448693 | M47: =M105-$N86 -> 0.0009923769 | N47: =N105-$N86 -> 0.001510986 | O47: =O105-$R86 -> -0.016227743 | P47: =P105-$R86 -> 0.024551991 | Q47: =Q105-$R86 -> -0.013765538 | R47: =R105-$R86 -> 0.0054412898 | S47: =S105-$V86 -> -0.00064679179 | T47: =T105-$V86 -> -0.002330612 | U47: =U105-$V86 -> 0.01185019 | V47: =V105-$V86 -> -0.0088727866 | W47: =W105-$Z86 -> 0.010557015 | X47: =X105-$Z86 -> 0.013592709 | Y47: =Y105-$Z86 -> -0.022638333 | Z47: =Z105-$Z86 -> -0.0015113904 | AA47: =AA105-$AD86 -> -0.0097763298 | AB47: =AB105-$AD86 -> 0.0070132635 | AC47: =AC105-$AD86 -> 0.0068442475 | AD47: =AD105-$AD86 -> -0.0040811812 | AE47: =AE105-$AH86 -> 0.0013019266 | AF47: =AF105-$AH86 -> -0.0085322968 | AG47: =AG105-$AH86 -> 0.0053836306 | AH47: =AH105-$AH86 -> 0.0018467396 | AI47: =AI105-$AL86 -> -0.0048695612 | AJ47: =AJ105-$AL86 -> 0.00019074947 | AK47: =AK105-$AL86 -> 0.00098398306 | AL47: =AL105-$AL86 -> 0.0036948286 | AM47: =AM105-$AP86 -> -0.0099321218 | AN47: =AN105-$AP86 -> -0.0038157122 | AO47: =AO105-$AP86 -> 0.0088764964 | AP47: =AP105-$AP86 -> 0.0048713376 | AQ47: =AQ105-$AT86 -> 0.00012040712 | AR47: =AR105-$AT86 -> -0.0063454951 | AS47: =AS105-$AT86 -> 0.00048781905 | AT47: =AT105-$AT86 -> 0.005737269 | AU47: =AU105-$AX86 -> 0.013363712 | AV47: =AV105-$AX86 -> 0.0051330984 | AW47: =AW105-$AX86 -> -0.0068782151 | AX47: =AX105-$AX86 -> -0.011618595 | AY47: =AY105-$BB86 -> -0.0065563105 | AZ47: =AZ105-$BB86 -> 0.010700902 | BA47: =BA105-$BB86 -> -0.00070906174 | BB47: =BB105-$BB86 -> -0.0034355293 | BC47: =BC105-$BF86 -> 0.0083190102 | BD47: =BD105-$BF86 -> -0.0097597591 | BE47: =BE105-$BF86 -> -0.00061073519 | BF47: =BF105-$BF86 -> 0.0020514841 | BG47: =BG105-$BJ86 -> 0.0052403917 | BH47: =BH105-$BJ86 -> 0.008038761 | BI47: =BI105-$BJ86 -> -0.0076779952 | BJ47: =BJ105-$BJ86 -> -0.0056011575
A48: =A67 -> Integral 12 | C48: =C106-$F87 -> -0.013802675 | D48: =D106-$F87 -> 0.017727338 | E48: =E106-$F87 -> 0.0098574348 | F48: =F106-$F87 -> -0.013782097 | G48: =G106-$J87 -> 0.0040119565 | H48: =H106-$J87 -> 0.0074087965 | I48: =I106-$J87 -> -0.012669996 | J48: =J106-$J87 -> 0.0012492431 | K48: =K106-$N87 -> 0.00068000949 | L48: =L106-$N87 -> -0.0013985743 | M48: =M106-$N87 -> 7.9299985e-05 | N48: =N106-$N87 -> 0.00063926487 | O48: =O106-$R87 -> -0.013704144 | P48: =P106-$R87 -> 0.020086909 | Q48: =Q106-$R87 -> -0.010765662 | R48: =R106-$R87 -> 0.0043828975 | S48: =S106-$V87 -> 0.00076875636 | T48: =T106-$V87 -> -0.0022335199 | U48: =U106-$V87 -> 0.0091383541 | V48: =V106-$V87 -> -0.0076735906 | W48: =W106-$Z87 -> 0.009283438 | X48: =X106-$Z87 -> 0.011074472 | Y48: =Y106-$Z87 -> -0.019443225 | Z48: =Z106-$Z87 -> -0.00091468498 | AA48: =AA106-$AD87 -> -0.0081912746 | AB48: =AB106-$AD87 -> 0.0057455532 | AC48: =AC106-$AD87 -> 0.0049101098 | AD48: =AD106-$AD87 -> -0.0024643885 | AE48: =AE106-$AH87 -> 0.001435644 | AF48: =AF106-$AH87 -> -0.0059931004 | AG48: =AG106-$AH87 -> 0.0044571906 | AH48: =AH106-$AH87 -> 0.00010026579 | AI48: =AI106-$AL87 -> -0.003108133 | AJ48: =AJ106-$AL87 -> 0.0012068079 | AK48: =AK106-$AL87 -> -0.00027647913 | AL48: =AL106-$AL87 -> 0.0021778042 | AM48: =AM106-$AP87 -> -0.0079375647 | AN48: =AN106-$AP87 -> -0.002627729 | AO48: =AO106-$AP87 -> 0.0065849709 | AP48: =AP106-$AP87 -> 0.0039803229 | AQ48: =AQ106-$AT87 -> -3.6037741e-06 | AR48: =AR106-$AT87 -> -0.0045176308 | AS48: =AS106-$AT87 -> 0.00019867958 | AT48: =AT106-$AT87 -> 0.004322555 | AU48: =AU106-$AX87 -> 0.01071647 | AV48: =AV106-$AX87 -> 0.0031148328 | AW48: =AW106-$AX87 -> -0.005344744 | AX48: =AX106-$AX87 -> -0.0084865593 | AY48: =AY106-$BB87 -> -0.0042354348 | AZ48: =AZ106-$BB87 -> 0.0067948144 | BA48: =BA106-$BB87 -> -0.00061757956 | BB48: =BB106-$BB87 -> -0.0019418 | BC48: =BC106-$BF87 -> 0.0033480536 | BD48: =BD106-$BF87 -> -0.0059620854 | BE48: =BE106-$BF87 -> 0.00050865694 | BF48: =BF106-$BF87 -> 0.0021053748 | BG48: =BG106-$BJ87 -> 0.0039092245 | BH48: =BH106-$BJ87 -> 0.0087645253 | BI48: =BI106-$BJ87 -> -0.0082872562 | BJ48: =BJ106-$BJ87 -> -0.0043864935
... A51: =A70 -> TMS | C51: =C109-$F90 -> 0.052978974 | D51: =D109-$F90 -> -0.044730798 | E51: =E109-$F90 -> -0.061223287 | F51: =F109-$F90 -> 0.05297511 | G51: =G109-$J90 -> -0.025599612 | H51: =H109-$J90 -> -0.0013508843 | I51: =I109-$J90 -> 0.037640516 | J51: =J109-$J90 -> -0.01069002 | K51: =K109-$N90 -> 0.016257141 | L51: =L109-$N90 -> 0.011255957 | M51: =M109-$N90 -> -0.0097537427 | N51: =N109-$N90 -> -0.017759356 | O51: =O109-$R90 -> 0.021656098 | P51: =P109-$R90 -> -0.02586614 | Q51: =Q109-$R90 -> 0.011448384 | R51: =R109-$R90 -> -0.0072383415 | S51: =S109-$V90 -> 0.0084462592 | T51: =T109-$V90 -> 0.012399175 | U51: =U109-$V90 -> -0.0039177437 | V51: =V109-$V90 -> -0.01692769 | W51: =W109-$Z90 -> -0.0047489828 | X51: =X109-$Z90 -> -0.01029454 | Y51: =Y109-$Z90 -> 0.018869997 | Z51: =Z109-$Z90 -> -0.0038264748 | AA51: =AA109-$AD90 -> 0.01149145 | AB51: =AB109-$AD90 -> 0.0047662444 | AC51: =AC109-$AD90 -> -0.011584632 | AD51: =AD109-$AD90 -> -0.0046730622 | AE51: =AE109-$AH90 -> 0.0039827482 | AF51: =AF109-$AH90 -> 0.0041624796 | AG51: =AG109-$AH90 -> 0.0017537719 | AH51: =AH109-$AH90 -> -0.0098989998 | AI51: =AI109-$AL90 -> -0.00059824314 | AJ51: =AJ109-$AL90 -> 0.0010441429 | AK51: =AK109-$AL90 -> -0.0019849614 | AL51: =AL109-$AL90 -> 0.0015390617 | AM51: =AM109-$AP90 -> 0.0091857879 | AN51: =AN109-$AP90 -> 0.0072712203 | AO51: =AO109-$AP90 -> -0.0077149434 | AP51: =AP109-$AP90 -> -0.0087420648 | AQ51: =AQ109-$AT90 -> 0.01291552 | AR51: =AR109-$AT90 -> 0.011002554 | AS51: =AS109-$AT90 -> -0.01072992 | AT51: =AT109-$AT90 -> -0.013188155 | AU51: =AU109-$AX90 -> 0.00045940864 | AV51: =AV109-$AX90 -> -0.0055251766 | AW51: =AW109-$AX90 -> 0.0066650353 | AX51: =AX109-$AX90 -> -0.0015992673 | AY51: =AY109-$BB90 -> 0.0144436 | AZ51: =AZ109-$BB90 -> -0.0052547668 | BA51: =BA109-$BB90 -> -0.0010403544 | BB51: =BB109-$BB90 -> -0.0081484791 | BC51: =BC109-$BF90 -> -0.0033552238 | BD51: =BD109-$BF90 -> 0.0081694574 | BE51: =BE109-$BF90 -> -0.0012213219 | BF51: =BF109-$BF90 -> -0.0035929117 | BG51: =BG109-$BJ90 -> 0.13851443 | BH51: =BH109-$BJ90 -> -0.056729832 | BI51: =BI109-$BJ90 -> -0.039222971 | BJ51: =BJ109-$BJ90 -> -0.042561625
A54: Total error terms
A56: =A76 -> Aldehyde Integral 1 | C56: =C95-$C76 -> 0.0042890587 | D56: =D95-$C76 -> 0.0058826439 | E56: =E95-$C76 -> 0.0079675527 | F56: =F95-$C76 -> 0.0043011674 | G56: =G95-$C76 -> 0.0036527153 | H56: =H95-$C76 -> 0.0052997444 | I56: =I95-$C76 -> 0.0017022546 | J56: =J95-$C76 -> 0.00079494641 | ... BJ56: =BJ95-$C76 -> 0.0051737179
A57: =A77 -> Aldehyde Integral 2 | C57: =C96-$C77 -> 0.0029493435 | D57: =D96-$C77 -> -0.0047717375 | E57: =E96-$C77 -> -0.016978128 | F57: =F96-$C77 -> 0.0029509482 | G57: =G96-$C77 -> 0.014945281 | H57: =H96-$C77 -> 0.009924127 | I57: =I96-$C77 -> 0.01855305 | J57: =J96-$C77 -> 0.0088637883 | ... BJ57: =BJ96-$C77 -> 0.0074098769
A58: =A78 -> Aromatic region Integral 3 | C58: =C97-$C78 -> 0.42686103 | D58: =D97-$C78 -> -0.23219362 | E58: =E97-$C78 -> 0.25818502 | F58: =F97-$C78 -> 0.4269074 | G58: =G97-$C78 -> -0.35909021 | H58: =H97-$C78 -> 0.087910326 | I58: =I97-$C78 -> -0.21557246 | J58: =J97-$C78 -> -0.14394395 | ... BJ58: =BJ97-$C78 -> 0.73317347
A59: =A79 -> OCH/O-CH2 Integral 4 | C59: =C98-$C79 -> -0.042801273 | D59: =D98-$C79 -> -0.032513239 | E59: =E98-$C79 -> -0.0054054402 | F59: =F98-$C79 -> -0.042798263 | G59: =G98-$C79 -> -0.05328684 | H59: =H98-$C79 -> -0.024673004 | I59: =I98-$C79 -> 0.054572745 | J59: =J98-$C79 -> 0.038536639 | ... BJ59: =BJ98-$C79 -> 0.042849234
A60: =A80 -> Methoxy Integral 5 | C60: =C99-$C80 -> -13.157628 | D60: =D99-$C80 -> -15.150069 | E60: =E99-$C80 -> -15.326996 | F60: =F99-$C80 -> -13.157482 | G60: =G99-$C80 -> -2.1136124 | H60: =H99-$C80 -> -1.3957812 | I60: =I99-$C80 -> 0.19473119 | J60: =J99-$C80 -> 0.4567204 | ... BJ60: =BJ99-$C80 -> -17.641056
A61: =A81 -> DMSO | C61: =C100-$C81 -> -0.23885519 | D61: =D100-$C81 -> -2.0377792 | E61: =E100-$C81 -> -2.2303273 | F61: =F100-$C81 -> -0.23880342 | G61: =G100-$C81 -> -0.44732816 | H61: =H100-$C81 -> -0.58160207 | I61: =I100-$C81 -> -0.16171375 | J61: =J100-$C81 -> -0.60493935 | ... BJ61: =BJ100-$C81 -> -1.2962314
A62: =A82 -> Integral 7 | C62: =C101-$C82 -> -0.011192626 | D62: =D101-$C82 -> 0.0017996705 | E62: =E101-$C82 -> -0.00019637518 | F62: =F101-$C82 -> -0.011191811 | G62: =G101-$C82 -> 0.00018827892 | H62: =H101-$C82 -> 0.0004312036 | I62: =I101-$C82 -> -0.0069107704 | J62: =J101-$C82 -> -0.0038965709 | ... BJ62: =BJ101-$C82 -> -0.0015799278
A63: =A83 -> Integral 8 | C63: =C102-$C83 -> 0 | D63: =D102-$C83 -> 0 | E63: =E102-$C83 -> 0 | F63: =F102-$C83 -> 0 | G63: =G102-$C83 -> 0 | H63: =H102-$C83 -> 0 | I63: =I102-$C83 -> 0 | J63: =J102-$C83 -> 0 | ... BJ63: =BJ102-$C83 -> 0
A64: =A84 -> Integral 9 | C64: =C103-$C84 -> -0.020997725 | D64: =D103-$C84 -> 0.0078001689 | E64: =E103-$C84 -> 0.0016032739 | F64: =F103-$C84 -> -0.021000753 | G64: =G103-$C84 -> -0.001617905 | H64: =H103-$C84 -> -0.00071695167 | I64: =I103-$C84 -> -0.0167603 | J64: =J103-$C84 -> -0.0089252976 | ... BJ64: =BJ103-$C84 -> -0.0044788702
A65: =A85 -> Integral 10 | C65: =C104-$C85 -> -0.03546432 | D65: =D104-$C85 -> 0.012416624 | E65: =E104-$C85 -> 0.0019390088 | F65: =F104-$C85 -> -0.03545479 | G65: =G104-$C85 -> -0.0015454828 | H65: =H104-$C85 -> 0.0030271249 | I65: =I104-$C85 -> -0.024238062 | J65: =J104-$C85 -> -0.0067827307 | ... BJ65: =BJ104-$C85 -> -0.0049640911
A66: =A86 -> Integral 11 | C66: =C105-$C86 -> -0.028973367 | D66: =D105-$C86 -> 0.0084290909 | E66: =E105-$C86 -> -0.0012565737 | F66: =F105-$C86 -> -0.028992573 | G66: =G105-$C86 -> -0.00035932981 | H66: =H105-$C86 -> 0.0037963218 | I66: =I105-$C86 -> -0.020473654 | J66: =J105-$C86 -> -0.0043604545 | ... BJ66: =BJ105-$C86 -> -0.0093072756
A67: =A87 -> Integral 12 | C67: =C106-$C87 -> -0.022565201 | D67: =D106-$C87 -> 0.0089648126 | E67: =E106-$C87 -> 0.0010949095 | F67: =F106-$C87 -> -0.022544623 | G67: =G106-$C87 -> -0.0015053283 | H67: =H106-$C87 -> 0.0018915117 | I67: =I106-$C87 -> -0.018187281 | J67: =J106-$C87 -> -0.0042680417 | ... BJ67: =BJ106-$C87 -> -0.0042113569
... A70: =A90 -> TMS | C70: =C109-$C90 -> 0.59150334 | D70: =D109-$C90 -> 0.49379357 | E70: =E109-$C90 -> 0.47730108 | F70: =F109-$C90 -> 0.59149948 | G70: =G109-$C90 -> 0.31374159 | H70: =H109-$C90 -> 0.33799032 | I70: =I109-$C90 -> 0.37698172 | J70: =J109-$C90 -> 0.32865118 | ... BJ70: =BJ109-$C90 -> -0.21431337
A73: Means
C75: Grand mean | F75: Sample means
A76: =A95 -> Aldehyde Integral 1 | C76: =AVERAGE(C95:BJ95) -> 0.018412449 | F76: =AVERAGE(C95:F95) -> 0.024022554 | J76: =AVERAGE(G95:J95) -> 0.021274864 | N76: =AVERAGE(K95:N95) -> 0.018581975 | R76: =AVERAGE(O95:R95) -> 0.020090163 | V76: =AVERAGE(S95:V95) -> 0.017339434 | Z76: =AVERAGE(W95:Z95) -> -0.0059718885 | AD76: =AVERAGE(AA95:AD95) -> 0.02301349 | AH76: =AVERAGE(AE95:AH95) -> 0.017944276 | AL76: =AVERAGE(AI95:AL95) -> 0.022506684 | AP76: =AVERAGE(AM95:AP95) -> 0.020939536 | AT76: =AVERAGE(AQ95:AT95) -> 0.013241446 | AX76: =AVERAGE(AU95:AX95) -> 0.018215171 | BB76: =AVERAGE(AY95:BB95) -> 0.023296827 | BF76: =AVERAGE(BC95:BF95) -> 0.022427767 | BJ76: =AVERAGE(BG95:BJ95) -> 0.019264433
A77: =A96 -> Aldehyde Integral 2 | C77: =AVERAGE(C96:BJ96) -> 0.39764193 | F77: =AVERAGE(C96:F96) -> 0.39367954 | J77: =AVERAGE(G96:J96) -> 0.41071349 | N77: =AVERAGE(K96:N96) -> 0.39343415 | R77: =AVERAGE(O96:R96) -> 0.40230798 | V77: =AVERAGE(S96:V96) -> 0.41159429 | Z77: =AVERAGE(W96:Z96) -> 0.39221355 | AD77: =AVERAGE(AA96:AD96) -> 0.42291094 | AH77: =AVERAGE(AE96:AH96) -> 0.3791242 | AL77: =AVERAGE(AI96:AL96) -> 0.39104147 | AP77: =AVERAGE(AM96:AP96) -> 0.39584649 | AT77: =AVERAGE(AQ96:AT96) -> 0.39036433 | AX77: =AVERAGE(AU96:AX96) -> 0.39353946 | BB77: =AVERAGE(AY96:BB96) -> 0.39562793 | BF77: =AVERAGE(BC96:BF96) -> 0.39433184 | BJ77: =AVERAGE(BG96:BJ96) -> 0.39789929
A78: =A97 -> Aromatic region Integral 3 | C78: =AVERAGE(C97:BJ97) -> 9.1479033 | F78: =AVERAGE(C97:F97) -> 9.3678433 | J78: =AVERAGE(G97:J97) -> 8.9902292 | N78: =AVERAGE(K97:N97) -> 9.33155 | R78: =AVERAGE(O97:R97) -> 9.3983902 | V78: =AVERAGE(S97:V97) -> 9.1785298 | Z78: =AVERAGE(W97:Z97) -> 9.1604686 | AD78: =AVERAGE(AA97:AD97) -> 8.7209857 | AH78: =AVERAGE(AE97:AH97) -> 9.1700087 | AL78: =AVERAGE(AI97:AL97) -> 8.7852787 | AP78: =AVERAGE(AM97:AP97) -> 8.7110872 | AT78: =AVERAGE(AQ97:AT97) -> 9.3148246 | AX78: =AVERAGE(AU97:AX97) -> 9.4758787 | BB78: =AVERAGE(AY97:BB97) -> 9.1253481 | BF78: =AVERAGE(BC97:BF97) -> 8.8969306 | BJ78: =AVERAGE(BG97:BJ97) -> 9.5911965
A79: =A98 -> OCH/O-CH2 Integral 4 | C79: =AVERAGE(C98:BJ98) -> 0.79419032 | F79: =AVERAGE(C98:F98) -> 0.76331077 | J79: =AVERAGE(G98:J98) -> 0.79797771 | N79: =AVERAGE(K98:N98) -> 0.80731683 | R79: =AVERAGE(O98:R98) -> 0.81370563 | V79: =AVERAGE(S98:V98) -> 0.84696526 | Z79: =AVERAGE(W98:Z98) -> 0.8104961 | AD79: =AVERAGE(AA98:AD98) -> 0.74126178 | AH79: =AVERAGE(AE98:AH98) -> 0.70814751 | AL79: =AVERAGE(AI98:AL98) -> 0.73542831 | AP79: =AVERAGE(AM98:AP98) -> 0.83968393 | AT79: =AVERAGE(AQ98:AT98) -> 0.80443205 | AX79: =AVERAGE(AU98:AX98) -> 0.79881552 | BB79: =AVERAGE(AY98:BB98) -> 0.80080676 | BF79: =AVERAGE(BC98:BF98) -> 0.82687474 | BJ79: =AVERAGE(BG98:BJ98) -> 0.81763195
A80: =A99 -> Methoxy Integral 5 | C80: =AVERAGE(C99:BJ99) -> 50.490255 | F80: =AVERAGE(C99:F99) -> 36.292211 | J80: =AVERAGE(G99:J99) -> 49.77577 | N80: =AVERAGE(K99:N99) -> 46.548704 | R80: =AVERAGE(O99:R99) -> 39.717777 | V80: =AVERAGE(S99:V99) -> 30.342243 | Z80: =AVERAGE(W99:Z99) -> 67.328366 | AD80: =AVERAGE(AA99:AD99) -> 101.44758 | AH80: =AVERAGE(AE99:AH99) -> 60.484917 | AL80: =AVERAGE(AI99:AL99) -> 60.513003 | AP80: =AVERAGE(AM99:AP99) -> 39.857814 | AT80: =AVERAGE(AQ99:AT99) -> 74.148544 | AX80: =AVERAGE(AU99:AX99) -> 37.38738 | BB80: =AVERAGE(AY99:BB99) -> 36.949009 | BF80: =AVERAGE(BC99:BF99) -> 34.189777 | BJ80: =AVERAGE(BG99:BJ99) -> 42.370732
A81: =A100 -> DMSO | C81: =AVERAGE(C100:BJ100) -> 17.162771 | F81: =AVERAGE(C100:F100) -> 15.97633 | J81: =AVERAGE(G100:J100) -> 16.713875 | N81: =AVERAGE(K100:N100) -> 16.853528 | R81: =AVERAGE(O100:R100) -> 17.061389 | V81: =AVERAGE(S100:V100) -> 17.722844 | Z81: =AVERAGE(W100:Z100) -> 22.490565 | AD81: =AVERAGE(AA100:AD100) -> 19.709821 | AH81: =AVERAGE(AE100:AH100) -> 16.163071 | AL81: =AVERAGE(AI100:AL100) -> 15.623908 | AP81: =AVERAGE(AM100:AP100) -> 17.681747 | AT81: =AVERAGE(AQ100:AT100) -> 16.72256 | AX81: =AVERAGE(AU100:AX100) -> 16.207938 | BB81: =AVERAGE(AY100:BB100) -> 15.788747 | BF81: =AVERAGE(BC100:BF100) -> 16.731977 | BJ81: =AVERAGE(BG100:BJ100) -> 15.993264
A82: =A101 -> Integral 7 | C82: =AVERAGE(C101:BJ101) -> 0.21461287 | F82: =AVERAGE(C101:F101) -> 0.20941759 | J82: =AVERAGE(G101:J101) -> 0.21206591 | N82: =AVERAGE(K101:N101) -> 0.21683002 | R82: =AVERAGE(O101:R101) -> 0.21374081 | V82: =AVERAGE(S101:V101) -> 0.2176418 | Z82: =AVERAGE(W101:Z101) -> 0.20848696 | AD82: =AVERAGE(AA101:AD101) -> 0.21624033 | AH82: =AVERAGE(AE101:AH101) -> 0.21977595 | AL82: =AVERAGE(AI101:AL101) -> 0.218588 | AP82: =AVERAGE(AM101:AP101) -> 0.21773898 | AT82: =AVERAGE(AQ101:AT101) -> 0.21333089 | AX82: =AVERAGE(AU101:AX101) -> 0.21779423 | BB82: =AVERAGE(AY101:BB101) -> 0.21059563 | BF82: =AVERAGE(BC101:BF101) -> 0.21142839 | BJ82: =AVERAGE(BG101:BJ101) -> 0.21551762
A83: =A102 -> Integral 8 | C83: =AVERAGE(C102:BJ102) -> 1 | F83: =AVERAGE(C102:F102) -> 1 | J83: =AVERAGE(G102:J102) -> 1 | N83: =AVERAGE(K102:N102) -> 1 | R83: =AVERAGE(O102:R102) -> 1 | V83: =AVERAGE(S102:V102) -> 1 | Z83: =AVERAGE(W102:Z102) -> 1 | AD83: =AVERAGE(AA102:AD102) -> 1 | AH83: =AVERAGE(AE102:AH102) -> 1 | AL83: =AVERAGE(AI102:AL102) -> 1 | AP83: =AVERAGE(AM102:AP102) -> 1 | AT83: =AVERAGE(AQ102:AT102) -> 1 | AX83: =AVERAGE(AU102:AX102) -> 1 | BB83: =AVERAGE(AY102:BB102) -> 1 | BF83: =AVERAGE(BC102:BF102) -> 1 | BJ83: =AVERAGE(BG102:BJ102) -> 1
A84: =A103 -> Integral 9 | C84: =AVERAGE(C103:BJ103) -> 0.26516211 | F84: =AVERAGE(C103:F103) -> 0.25701335 | J84: =AVERAGE(G103:J103) -> 0.258157 | N84: =AVERAGE(K103:N103) -> 0.26860831 | R84: =AVERAGE(O103:R103) -> 0.26735505 | V84: =AVERAGE(S103:V103) -> 0.27036446 | Z84: =AVERAGE(W103:Z103) -> 0.25750533 | AD84: =AVERAGE(AA103:AD103) -> 0.26416284 | AH84: =AVERAGE(AE103:AH103) -> 0.27192519 | AL84: =AVERAGE(AI103:AL103) -> 0.26854158 | AP84: =AVERAGE(AM103:AP103) -> 0.2689494 | AT84: =AVERAGE(AQ103:AT103) -> 0.26892225 | AX84: =AVERAGE(AU103:AX103) -> 0.26923872 | BB84: =AVERAGE(AY103:BB103) -> 0.25848688 | BF84: =AVERAGE(BC103:BF103) -> 0.26106632 | BJ84: =AVERAGE(BG103:BJ103) -> 0.26713499
A85: =A104 -> Integral 10 | C85: =AVERAGE(C104:BJ104) -> 0.41449577 | F85: =AVERAGE(C104:F104) -> 0.4003549 | J85: =AVERAGE(G104:J104) -> 0.40711098 | N85: =AVERAGE(K104:N104) -> 0.41910529 | R85: =AVERAGE(O104:R104) -> 0.41570228 | V85: =AVERAGE(S104:V104) -> 0.42666588 | Z85: =AVERAGE(W104:Z104) -> 0.39973184 | AD85: =AVERAGE(AA104:AD104) -> 0.41530674 | AH85: =AVERAGE(AE104:AH104) -> 0.42181648 | AL85: =AVERAGE(AI104:AL104) -> 0.41956994 | AP85: =AVERAGE(AM104:AP104) -> 0.4246286 | AT85: =AVERAGE(AQ104:AT104) -> 0.41559284 | AX85: =AVERAGE(AU104:AX104) -> 0.41934746 | BB85: =AVERAGE(AY104:BB104) -> 0.40597158 | BF85: =AVERAGE(BC104:BF104) -> 0.41173851 | BJ85: =AVERAGE(BG104:BJ104) -> 0.41479324
A86: =A105 -> Integral 11 | C86: =AVERAGE(C105:BJ105) -> 0.23457684 | F86: =AVERAGE(C105:F105) -> 0.22187848 | J86: =AVERAGE(G105:J105) -> 0.22922756 | N86: =AVERAGE(K105:N105) -> 0.24075479 | R86: =AVERAGE(O105:R105) -> 0.24177517 | V86: =AVERAGE(S105:V105) -> 0.24498943 | Z86: =AVERAGE(W105:Z105) -> 0.22649151 | AD86: =AVERAGE(AA105:AD105) -> 0.24110274 | AH86: =AVERAGE(AE105:AH105) -> 0.23893317 | AL86: =AVERAGE(AI105:AL105) -> 0.23708323 | AP86: =AVERAGE(AM105:AP105) -> 0.23894506 | AT86: =AVERAGE(AQ105:AT105) -> 0.2359907 | AX86: =AVERAGE(AU105:AX105) -> 0.23649435 | BB86: =AVERAGE(AY105:BB105) -> 0.2251669 | BF86: =AVERAGE(BC105:BF105) -> 0.22894876 | BJ86: =AVERAGE(BG105:BJ105) -> 0.23087072
A87: =A106 -> Integral 12 | C87: =AVERAGE(C106:BJ106) -> 0.15942721 | F87: =AVERAGE(C106:F106) -> 0.15066468 | J87: =AVERAGE(G106:J106) -> 0.15390992 | N87: =AVERAGE(K106:N106) -> 0.16344799 | R87: =AVERAGE(O106:R106) -> 0.16183538 | V87: =AVERAGE(S106:V106) -> 0.16686488 | Z87: =AVERAGE(W106:Z106) -> 0.15124985 | AD87: =AVERAGE(AA106:AD106) -> 0.15929266 | AH87: =AVERAGE(AE106:AH106) -> 0.16399618 | AL87: =AVERAGE(AI106:AL106) -> 0.16191738 | AP87: =AVERAGE(AM106:AP106) -> 0.16278911 | AT87: =AVERAGE(AQ106:AT106) -> 0.16351517 | AX87: =AVERAGE(AU106:AX106) -> 0.16340273 | BB87: =AVERAGE(AY106:BB106) -> 0.1524791 | BF87: =AVERAGE(BC106:BF106) -> 0.15644074 | BJ87: =AVERAGE(BG106:BJ106) -> 0.15960235
... A90: =A109 -> TMS | C90: =AVERAGE(C109:BJ109) -> 0.44391293 | F90: =AVERAGE(C109:F109) -> 0.9824373 | J90: =AVERAGE(G109:J109) -> 0.78325414 | N90: =AVERAGE(K109:N109) -> 0.75830863 | R90: =AVERAGE(O109:R109) -> 0.58556238 | V90: =AVERAGE(S109:V109) -> 0.86305578 | Z90: =AVERAGE(W109:Z109) -> 0.34869676 | AD90: =AVERAGE(AA109:AD109) -> 0.28080615 | AH90: =AVERAGE(AE109:AH109) -> 0.14315286 | AL90: =AVERAGE(AI109:AL109) -> 0.13171761 | AP90: =AVERAGE(AM109:AP109) -> 0.11917805 | AT90: =AVERAGE(AQ109:AT109) -> 0.3977601 | AX90: =AVERAGE(AU109:AX109) -> 0.4072522 | BB90: =AVERAGE(AY109:BB109) -> 0.31049809 | BF90: =AVERAGE(BC109:BF109) -> 0.27485275 | BJ90: =AVERAGE(BG109:BJ109) -> 0.27216119
A93: Data
A95: ='RSD approach 1'!A11 -> Aldehyde Integral 1 | C95: ='RSD approach 2'!C11 -> 0.022701507 | D95: ='RSD approach 2'!D11 -> 0.024295093 | E95: ='RSD approach 2'!E11 -> 0.026380001 | F95: ='RSD approach 2'!F11 -> 0.022713616 | G95: ='RSD approach 2'!K11 -> 0.022065164 | H95: ='RSD approach 2'!L11 -> 0.023712193 | I95: ='RSD approach 2'!M11 -> 0.020114703 | J95: ='RSD approach 2'!N11 -> 0.019207395 | K95: ='RSD approach 2'!S11 -> 0.019576187 | L95: ='RSD approach 2'!T11 -> 0.021033837 | M95: ='RSD approach 2'!U11 -> 0.018805581 | N95: ='RSD approach 2'!V11 -> 0.014912295 | O95: ='RSD approach 2'!AA11 -> 0.019090403 | P95: ='RSD approach 2'!AB11 -> 0.023680734 | Q95: ='RSD approach 2'!AC11 -> 0.019563357 | R95: ='RSD approach 2'!AD11 -> 0.018026158 | S95: ='RSD approach 2'!AI11 -> 0.015362958 | T95: ='RSD approach 2'!AJ11 -> 0.020104025 | U95: ='RSD approach 2'!AK11 -> 0.019255054 | V95: ='RSD approach 2'!AL11 -> 0.014635697 | W95: ='RSD approach 2'!C32 -> -0.00045603794 | X95: ='RSD approach 2'!D32 -> -0.011542698 | Y95: ='RSD approach 2'!E32 -> -0.0093286965 | Z95: ='RSD approach 2'!F32 -> -0.0025601212 | AA95: ='RSD approach 2'!K32 -> 0.018688686 | AB95: ='RSD approach 2'!L32 -> 0.020360783 | AC95: ='RSD approach 2'!M32 -> 0.025315174 | AD95: ='RSD approach 2'!N32 -> 0.027689316 | AE95: ='RSD approach 2'!S32 -> 0.017473838 | AF95: ='RSD approach 2'!T32 -> 0.018176922 | AG95: ='RSD approach 2'!U32 -> 0.014898025 | AH95: ='RSD approach 2'!V32 -> 0.02122832 | AI95: ='RSD approach 2'!AA32 -> 0.027465573 | AJ95: ='RSD approach 2'!AB32 -> 0.020328071 | AK95: ='RSD approach 2'!AC32 -> 0.021020316 | AL95: ='RSD approach 2'!AD32 -> 0.021212774 | AM95: ='RSD approach 2'!AI32 -> 0.022538632 | AN95: ='RSD approach 2'!AJ32 -> 0.017228071 | AO95: ='RSD approach 2'!AK32 -> 0.023845927 | AP95: ='RSD approach 2'!AL32 -> 0.020145514 | AQ95: ='RSD approach 2'!C53 -> 0.019181048 | AR95: ='RSD approach 2'!D53 -> 0.015551843 | AS95: ='RSD approach 2'!E53 -> 0.0076760472 | AT95: ='RSD approach 2'!F53 -> 0.010556847 | AU95: ='RSD approach 2'!K53 -> 0.016768199 | AV95: ='RSD approach 2'!L53 -> 0.01660897 | AW95: ='RSD approach 2'!M53 -> 0.017930029 | AX95: ='RSD approach 2'!N53 -> 0.021553485 | AY95: ='RSD approach 2'!S53 -> 0.026067185 | AZ95: ='RSD approach 2'!T53 -> 0.018278875 | BA95: ='RSD approach 2'!U53 -> 0.027138736 | BB95: ='RSD approach 2'!V53 -> 0.021702513 | BC95: ='RSD approach 2'!AA53 -> 0.022345686 | BD95: ='RSD approach 2'!AB53 -> 0.027186357 | BE95: ='RSD approach 2'!AC53 -> 0.021057358 | BF95: ='RSD approach 2'!AD53 -> 0.019121665 | BG95: ='RSD approach 2'!AI53 -> 0.019181048 | BH95: ='RSD approach 2'!AJ53 -> 0.017685109 | BI95: ='RSD approach 2'!AK53 -> 0.016605408 | BJ95: ='RSD approach 2'!AL53 -> 0.023586167
A96: ='RSD approach 1'!A12 -> Aldehyde Integral 2 | C96: ='RSD approach 2'!C12 -> 0.40059127 | D96: ='RSD approach 2'!D12 -> 0.39287019 | E96: ='RSD approach 2'!E12 -> 0.3806638 | F96: ='RSD approach 2'!F12 -> 0.40059288 | G96: ='RSD approach 2'!K12 -> 0.41258721 | H96: ='RSD approach 2'!L12 -> 0.40756606 | I96: ='RSD approach 2'!M12 -> 0.41619498 | J96: ='RSD approach 2'!N12 -> 0.40650572 | K96: ='RSD approach 2'!S12 -> 0.38996389 | L96: ='RSD approach 2'!T12 -> 0.40033949 | M96: ='RSD approach 2'!U12 -> 0.383318 | N96: ='RSD approach 2'!V12 -> 0.40011523 | O96: ='RSD approach 2'!AA12 -> 0.41518928 | P96: ='RSD approach 2'!AB12 -> 0.39083568 | Q96: ='RSD approach 2'!AC12 -> 0.39803371 | R96: ='RSD approach 2'!AD12 -> 0.40517325 | S96: ='RSD approach 2'!AI12 -> 0.406858 | T96: ='RSD approach 2'!AJ12 -> 0.4197959 | U96: ='RSD approach 2'!AK12 -> 0.39586871 | V96: ='RSD approach 2'!AL12 -> 0.42385453 | W96: ='RSD approach 2'!C33 -> 0.39655473 | X96: ='RSD approach 2'!D33 -> 0.39061584 | Y96: ='RSD approach 2'!E33 -> 0.40296745 | Z96: ='RSD approach 2'!F33 -> 0.37871615 | AA96: ='RSD approach 2'!K33 -> 0.43141011 | AB96: ='RSD approach 2'!L33 -> 0.41383706 | AC96: ='RSD approach 2'!M33 -> 0.42177898 | AD96: ='RSD approach 2'!N33 -> 0.42461763 | AE96: ='RSD approach 2'!S33 -> 0.37724176 | AF96: ='RSD approach 2'!T33 -> 0.36892473 | AG96: ='RSD approach 2'!U33 -> 0.38575931 | AH96: ='RSD approach 2'!V33 -> 0.38457101 | AI96: ='RSD approach 2'!AA33 -> 0.40054795 | AJ96: ='RSD approach 2'!AB33 -> 0.38138971 | AK96: ='RSD approach 2'!AC33 -> 0.39766017 | AL96: ='RSD approach 2'!AD33 -> 0.38456805 | AM96: ='RSD approach 2'!AI33 -> 0.41877801 | AN96: ='RSD approach 2'!AJ33 -> 0.39787693 | AO96: ='RSD approach 2'!AK33 -> 0.39304314 | AP96: ='RSD approach 2'!AL33 -> 0.37368789 | AQ96: ='RSD approach 2'!C54 -> 0.40398164 | AR96: ='RSD approach 2'!D54 -> 0.39312039 | AS96: ='RSD approach 2'!E54 -> 0.38019055 | AT96: ='RSD approach 2'!F54 -> 0.38416473 | AU96: ='RSD approach 2'!K54 -> 0.38362386 | AV96: ='RSD approach 2'!L54 -> 0.38896884 | AW96: ='RSD approach 2'!M54 -> 0.40492387 | AX96: ='RSD approach 2'!N54 -> 0.39664124 | AY96: ='RSD approach 2'!S54 -> 0.39134042 | AZ96: ='RSD approach 2'!T54 -> 0.40874051 | BA96: ='RSD approach 2'!U54 -> 0.3925186 | BB96: ='RSD approach 2'!V54 -> 0.38991219 | BC96: ='RSD approach 2'!AA54 -> 0.39403432 | BD96: ='RSD approach 2'!AB54 -> 0.40240315 | BE96: ='RSD approach 2'!AC54 -> 0.39388998 | BF96: ='RSD approach 2'!AD54 -> 0.3869999 | BG96: ='RSD approach 2'!AI54 -> 0.40398164 | BH96: ='RSD approach 2'!AJ54 -> 0.37326107 | BI96: ='RSD approach 2'!AK54 -> 0.40930263 | BJ96: ='RSD approach 2'!AL54 -> 0.40505181
A97: ='RSD approach 1'!A13 -> Aromatic region Integral 3 | C97: ='RSD approach 2'!C13 -> 9.5747644 | D97: ='RSD approach 2'!D13 -> 8.9157097 | E97: ='RSD approach 2'!E13 -> 9.4060883 | F97: ='RSD approach 2'!F13 -> 9.5748107 | G97: ='RSD approach 2'!K13 -> 8.7888131 | H97: ='RSD approach 2'!L13 -> 9.2358136 | I97: ='RSD approach 2'!M13 -> 8.9323309 | J97: ='RSD approach 2'!N13 -> 9.0039594 | K97: ='RSD approach 2'!S13 -> 9.2824937 | L97: ='RSD approach 2'!T13 -> 9.3556576 | M97: ='RSD approach 2'!U13 -> 9.1905972 | N97: ='RSD approach 2'!V13 -> 9.4974513 | O97: ='RSD approach 2'!AA13 -> 9.4102195 | P97: ='RSD approach 2'!AB13 -> 8.9517201 | Q97: ='RSD approach 2'!AC13 -> 9.7601051 | R97: ='RSD approach 2'!AD13 -> 9.4715163 | S97: ='RSD approach 2'!AI13 -> 9.4044697 | T97: ='RSD approach 2'!AJ13 -> 9.1376679 | U97: ='RSD approach 2'!AK13 -> 9.0821626 | V97: ='RSD approach 2'!AL13 -> 9.089819 | W97: ='RSD approach 2'!C34 -> 9.0259149 | X97: ='RSD approach 2'!D34 -> 9.0048905 | Y97: ='RSD approach 2'!E34 -> 9.3884445 | Z97: ='RSD approach 2'!F34 -> 9.2226245 | AA97: ='RSD approach 2'!K34 -> 9.3590583 | AB97: ='RSD approach 2'!L34 -> 8.4864779 | AC97: ='RSD approach 2'!M34 -> 8.7647064 | AD97: ='RSD approach 2'!N34 -> 8.2737 | AE97: ='RSD approach 2'!S34 -> 9.1879532 | AF97: ='RSD approach 2'!T34 -> 9.411174 | AG97: ='RSD approach 2'!U34 -> 9.2951907 | AH97: ='RSD approach 2'!V34 -> 8.785717 | AI97: ='RSD approach 2'!AA34 -> 9.0947576 | AJ97: ='RSD approach 2'!AB34 -> 8.4101923 | AK97: ='RSD approach 2'!AC34 -> 8.8505076 | AL97: ='RSD approach 2'!AD34 -> 8.7856571 | AM97: ='RSD approach 2'!AI34 -> 9.2197203 | AN97: ='RSD approach 2'!AJ34 -> 8.7080936 | AO97: ='RSD approach 2'!AK34 -> 8.6430775 | AP97: ='RSD approach 2'!AL34 -> 8.2734573 | AQ97: ='RSD approach 2'!C55 -> 9.3193273 | AR97: ='RSD approach 2'!D55 -> 9.5799115 | AS97: ='RSD approach 2'!E55 -> 9.2747865 | AT97: ='RSD approach 2'!F55 -> 9.085273 | AU97: ='RSD approach 2'!K55 -> 9.161989 | AV97: ='RSD approach 2'!L55 -> 9.2815356 | AW97: ='RSD approach 2'!M55 -> 9.712496 | AX97: ='RSD approach 2'!N55 -> 9.7474942 | AY97: ='RSD approach 2'!S55 -> 9.4071584 | AZ97: ='RSD approach 2'!T55 -> 9.0533243 | BA97: ='RSD approach 2'!U55 -> 9.0199713 | BB97: ='RSD approach 2'!V55 -> 9.0209383 | BC97: ='RSD approach 2'!AA55 -> 8.0041728 | BD97: ='RSD approach 2'!AB55 -> 9.2255389 | BE97: ='RSD approach 2'!AC55 -> 9.1190769 | BF97: ='RSD approach 2'!AD55 -> 9.2389337 | BG97: ='RSD approach 2'!AI55 -> 9.3193273 | BH97: ='RSD approach 2'!AJ55 -> 9.2922112 | BI97: ='RSD approach 2'!AK55 -> 9.8721707 | BJ97: ='RSD approach 2'!AL55 -> 9.8810768
A98: ='RSD approach 1'!A14 -> OCH/O-CH2 Integral 4 | C98: ='RSD approach 2'!C14 -> 0.75138905 | D98: ='RSD approach 2'!D14 -> 0.76167708 | E98: ='RSD approach 2'!E14 -> 0.78878488 | F98: ='RSD approach 2'!F14 -> 0.75139206 | G98: ='RSD approach 2'!K14 -> 0.74090348 | H98: ='RSD approach 2'!L14 -> 0.76951732 | I98: ='RSD approach 2'!M14 -> 0.84876307 | J98: ='RSD approach 2'!N14 -> 0.83272696 | K98: ='RSD approach 2'!S14 -> 0.82766716 | L98: ='RSD approach 2'!T14 -> 0.81454273 | M98: ='RSD approach 2'!U14 -> 0.79263263 | N98: ='RSD approach 2'!V14 -> 0.79442479 | O98: ='RSD approach 2'!AA14 -> 0.84021025 | P98: ='RSD approach 2'!AB14 -> 0.79360358 | Q98: ='RSD approach 2'!AC14 -> 0.79152586 | R98: ='RSD approach 2'!AD14 -> 0.82948284 | S98: ='RSD approach 2'!AI14 -> 0.82582409 | T98: ='RSD approach 2'!AJ14 -> 0.83927694 | U98: ='RSD approach 2'!AK14 -> 0.82860072 | V98: ='RSD approach 2'!AL14 -> 0.89415928 | W98: ='RSD approach 2'!C35 -> 0.81127167 | X98: ='RSD approach 2'!D35 -> 0.76270478 | Y98: ='RSD approach 2'!E35 -> 0.80514106 | Z98: ='RSD approach 2'!F35 -> 0.86286688 | AA98: ='RSD approach 2'!K35 -> 0.64932398 | AB98: ='RSD approach 2'!L35 -> 0.72162837 | AC98: ='RSD approach 2'!M35 -> 0.76600546 | AD98: ='RSD approach 2'!N35 -> 0.82808931 | AE98: ='RSD approach 2'!S35 -> 0.69019021 | AF98: ='RSD approach 2'!T35 -> 0.6910735 | AG98: ='RSD approach 2'!U35 -> 0.69087564 | AH98: ='RSD approach 2'!V35 -> 0.76045072 | AI98: ='RSD approach 2'!AA35 -> 0.71965248 | AJ98: ='RSD approach 2'!AB35 -> 0.72773352 | AK98: ='RSD approach 2'!AC35 -> 0.73389775 | AL98: ='RSD approach 2'!AD35 -> 0.76042949 | AM98: ='RSD approach 2'!AI35 -> 0.83971272 | AN98: ='RSD approach 2'!AJ35 -> 0.81831746 | AO98: ='RSD approach 2'!AK35 -> 0.78721431 | AP98: ='RSD approach 2'!AL35 -> 0.91349125 | AQ98: ='RSD approach 2'!C56 -> 0.78441116 | AR98: ='RSD approach 2'!D56 -> 0.81597641 | AS98: ='RSD approach 2'!E56 -> 0.81482819 | AT98: ='RSD approach 2'!F56 -> 0.80251244 | AU98: ='RSD approach 2'!K56 -> 0.76405214 | AV98: ='RSD approach 2'!L56 -> 0.77210315 | AW98: ='RSD approach 2'!M56 -> 0.80085844 | AX98: ='RSD approach 2'!N56 -> 0.85824835 | AY98: ='RSD approach 2'!S56 -> 0.80386018 | AZ98: ='RSD approach 2'!T56 -> 0.72640954 | BA98: ='RSD approach 2'!U56 -> 0.83324633 | BB98: ='RSD approach 2'!V56 -> 0.839711 | BC98: ='RSD approach 2'!AA56 -> 0.71376953 | BD98: ='RSD approach 2'!AB56 -> 0.83228239 | BE98: ='RSD approach 2'!AC56 -> 0.82884693 | BF98: ='RSD approach 2'!AD56 -> 0.9326001 | BG98: ='RSD approach 2'!AI56 -> 0.78441116 | BH98: ='RSD approach 2'!AJ56 -> 0.85934403 | BI98: ='RSD approach 2'!AK56 -> 0.78973305 | BJ98: ='RSD approach 2'!AL56 -> 0.83703956
A99: ='RSD approach 1'!A15 -> Methoxy Integral 5 | C99: ='RSD approach 2'!C15 -> 37.332627 | D99: ='RSD approach 2'!D15 -> 35.340186 | E99: ='RSD approach 2'!E15 -> 35.163259 | F99: ='RSD approach 2'!F15 -> 37.332773 | G99: ='RSD approach 2'!K15 -> 48.376643 | H99: ='RSD approach 2'!L15 -> 49.094474 | I99: ='RSD approach 2'!M15 -> 50.684986 | J99: ='RSD approach 2'!N15 -> 50.946975 | K99: ='RSD approach 2'!S15 -> 45.077193 | L99: ='RSD approach 2'!T15 -> 45.517315 | M99: ='RSD approach 2'!U15 -> 47.817629 | N99: ='RSD approach 2'!V15 -> 47.782677 | O99: ='RSD approach 2'!AA15 -> 40.157901 | P99: ='RSD approach 2'!AB15 -> 38.59443 | Q99: ='RSD approach 2'!AC15 -> 40.425777 | R99: ='RSD approach 2'!AD15 -> 39.693 | S99: ='RSD approach 2'!AI15 -> 29.257244 | T99: ='RSD approach 2'!AJ15 -> 29.843794 | U99: ='RSD approach 2'!AK15 -> 29.789053 | V99: ='RSD approach 2'!AL15 -> 32.478879 | W99: ='RSD approach 2'!C36 -> 66.282018 | X99: ='RSD approach 2'!D36 -> 65.770853 | Y99: ='RSD approach 2'!E36 -> 69.031411 | Z99: ='RSD approach 2'!F36 -> 68.22918 | AA99: ='RSD approach 2'!K36 -> 101.18959 | AB99: ='RSD approach 2'!L36 -> 100.72055 | AC99: ='RSD approach 2'!M36 -> 100.4947 | AD99: ='RSD approach 2'!N36 -> 103.38548 | AE99: ='RSD approach 2'!S36 -> 59.773662 | AF99: ='RSD approach 2'!T36 -> 60.442525 | AG99: ='RSD approach 2'!U36 -> 60.123701 | AH99: ='RSD approach 2'!V36 -> 61.599777 | AI99: ='RSD approach 2'!AA36 -> 60.017011 | AJ99: ='RSD approach 2'!AB36 -> 59.948577 | AK99: ='RSD approach 2'!AC36 -> 60.487114 | AL99: ='RSD approach 2'!AD36 -> 61.599311 | AM99: ='RSD approach 2'!AI36 -> 39.606001 | AN99: ='RSD approach 2'!AJ36 -> 39.559658 | AO99: ='RSD approach 2'!AK36 -> 39.621059 | AP99: ='RSD approach 2'!AL36 -> 40.644537 | AQ99: ='RSD approach 2'!C57 -> 73.139123 | AR99: ='RSD approach 2'!D57 -> 74.349704 | AS99: ='RSD approach 2'!E57 -> 74.465817 | AT99: ='RSD approach 2'!F57 -> 74.639531 | AU99: ='RSD approach 2'!K57 -> 35.975068 | AV99: ='RSD approach 2'!L57 -> 36.891322 | AW99: ='RSD approach 2'!M57 -> 38.035548 | AX99: ='RSD approach 2'!N57 -> 38.64758 | AY99: ='RSD approach 2'!S57 -> 36.610405 | AZ99: ='RSD approach 2'!T57 -> 35.996988 | BA99: ='RSD approach 2'!U57 -> 37.425408 | BB99: ='RSD approach 2'!V57 -> 37.763238 | BC99: ='RSD approach 2'!AA57 -> 32.971515 | BD99: ='RSD approach 2'!AB57 -> 34.308003 | BE99: ='RSD approach 2'!AC57 -> 34.390034 | BF99: ='RSD approach 2'!AD57 -> 35.089556 | BG99: ='RSD approach 2'!AI57 -> 73.139123 | BH99: ='RSD approach 2'!AJ57 -> 31.571877 | BI99: ='RSD approach 2'!AK57 -> 31.922728 | BJ99: ='RSD approach 2'!AL57 -> 32.849199
A100: ='RSD approach 1'!A16 -> DMSO | C100: ='RSD approach 2'!C16 -> 16.923916 | D100: ='RSD approach 2'!D16 -> 15.124992 | E100: ='RSD approach 2'!E16 -> 14.932444 | F100: ='RSD approach 2'!F16 -> 16.923967 | G100: ='RSD approach 2'!K16 -> 16.715443 | H100: ='RSD approach 2'!L16 -> 16.581169 | I100: ='RSD approach 2'!M16 -> 17.001057 | J100: ='RSD approach 2'!N16 -> 16.557832 | K100: ='RSD approach 2'!S16 -> 16.953544 | L100: ='RSD approach 2'!T16 -> 16.769581 | M100: ='RSD approach 2'!U16 -> 16.87408 | N100: ='RSD approach 2'!V16 -> 16.816907 | O100: ='RSD approach 2'!AA16 -> 17.522341 | P100: ='RSD approach 2'!AB16 -> 16.597854 | Q100: ='RSD approach 2'!AC16 -> 17.246558 | R100: ='RSD approach 2'!AD16 -> 16.878805 | S100: ='RSD approach 2'!AI16 -> 17.823204 | T100: ='RSD approach 2'!AJ16 -> 17.681425 | U100: ='RSD approach 2'!AK16 -> 17.493557 | V100: ='RSD approach 2'!AL16 -> 17.893189 | W100: ='RSD approach 2'!C37 -> 22.289862 | X100: ='RSD approach 2'!D37 -> 21.986035 | Y100: ='RSD approach 2'!E37 -> 22.951205 | Z100: ='RSD approach 2'!F37 -> 22.73516 | AA100: ='RSD approach 2'!K37 -> 19.890707 | AB100: ='RSD approach 2'!L37 -> 19.668533 | AC100: ='RSD approach 2'!M37 -> 19.283111 | AD100: ='RSD approach 2'!N37 -> 19.996934 | AE100: ='RSD approach 2'!S37 -> 16.259938 | AF100: ='RSD approach 2'!T37 -> 16.368357 | AG100: ='RSD approach 2'!U37 -> 16.29884 | AH100: ='RSD approach 2'!V37 -> 15.725147 | AI100: ='RSD approach 2'!AA37 -> 15.741651 | AJ100: ='RSD approach 2'!AB37 -> 15.510532 | AK100: ='RSD approach 2'!AC37 -> 15.51841 | AL100: ='RSD approach 2'!AD37 -> 15.725038 | AM100: ='RSD approach 2'!AI37 -> 18.010214 | AN100: ='RSD approach 2'!AJ37 -> 17.668688 | AO100: ='RSD approach 2'!AK37 -> 17.358019 | AP100: ='RSD approach 2'!AL37 -> 17.690067 | AQ100: ='RSD approach 2'!C58 -> 16.730245 | AR100: ='RSD approach 2'!D58 -> 16.794194 | AS100: ='RSD approach 2'!E58 -> 16.708801 | AT100: ='RSD approach 2'!F58 -> 16.657002 | AU100: ='RSD approach 2'!K58 -> 15.951736 | AV100: ='RSD approach 2'!L58 -> 16.120464 | AW100: ='RSD approach 2'!M58 -> 16.243829 | AX100: ='RSD approach 2'!N58 -> 16.515725 | AY100: ='RSD approach 2'!S58 -> 15.99314 | AZ100: ='RSD approach 2'!T58 -> 15.524651 | BA100: ='RSD approach 2'!U58 -> 15.761745 | BB100: ='RSD approach 2'!V58 -> 15.87545 | BC100: ='RSD approach 2'!AA58 -> 16.470237 | BD100: ='RSD approach 2'!AB58 -> 16.909958 | BE100: ='RSD approach 2'!AC58 -> 16.607264 | BF100: ='RSD approach 2'!AD58 -> 16.940448 | BG100: ='RSD approach 2'!AI58 -> 16.730245 | BH100: ='RSD approach 2'!AJ58 -> 15.589782 | BI100: ='RSD approach 2'!AK58 -> 15.786487 | BJ100: ='RSD approach 2'!AL58 -> 15.866539
A101: ='RSD approach 1'!A17 -> Integral 7 | C101: ='RSD approach 2'!C17 -> 0.20342025 | D101: ='RSD approach 2'!D17 -> 0.21641255 | E101: ='RSD approach 2'!E17 -> 0.2144165 | F101: ='RSD approach 2'!F17 -> 0.20342106 | G101: ='RSD approach 2'!K17 -> 0.21480115 | H101: ='RSD approach 2'!L17 -> 0.21504408 | I101: ='RSD approach 2'!M17 -> 0.2077021 | J101: ='RSD approach 2'!N17 -> 0.2107163 | K101: ='RSD approach 2'!S17 -> 0.21680822 | L101: ='RSD approach 2'!T17 -> 0.21549874 | M101: ='RSD approach 2'!U17 -> 0.21695032 | N101: ='RSD approach 2'!V17 -> 0.2180628 | O101: ='RSD approach 2'!AA17 -> 0.20809287 | P101: ='RSD approach 2'!AB17 -> 0.22218227 | Q101: ='RSD approach 2'!AC17 -> 0.20839851 | R101: ='RSD approach 2'!AD17 -> 0.21628959 | S101: ='RSD approach 2'!AI17 -> 0.21558592 | T101: ='RSD approach 2'!AJ17 -> 0.21792445 | U101: ='RSD approach 2'!AK17 -> 0.22166669 | V101: ='RSD approach 2'!AL17 -> 0.21539016 | W101: ='RSD approach 2'!C38 -> 0.20983694 | X101: ='RSD approach 2'!D38 -> 0.21435044 | Y101: ='RSD approach 2'!E38 -> 0.20157641 | Z101: ='RSD approach 2'!F38 -> 0.20818406 | AA101: ='RSD approach 2'!K38 -> 0.21606744 | AB101: ='RSD approach 2'!L38 -> 0.21730998 | AC101: ='RSD approach 2'!M38 -> 0.22107545 | AD101: ='RSD approach 2'!N38 -> 0.21050844 | AE101: ='RSD approach 2'!S38 -> 0.22118439 | AF101: ='RSD approach 2'!T38 -> 0.21757705 | AG101: ='RSD approach 2'!U38 -> 0.22125225 | AH101: ='RSD approach 2'!V38 -> 0.2190901 | AI101: ='RSD approach 2'!AA38 -> 0.21539065 | AJ101: ='RSD approach 2'!AB38 -> 0.21754088 | AK101: ='RSD approach 2'!AC38 -> 0.22233975 | AL101: ='RSD approach 2'!AD38 -> 0.21908073 | AM101: ='RSD approach 2'!AI38 -> 0.21297793 | AN101: ='RSD approach 2'!AJ38 -> 0.21704982 | AO101: ='RSD approach 2'!AK38 -> 0.22178638 | AP101: ='RSD approach 2'!AL38 -> 0.21914179 | AQ101: ='RSD approach 2'!C59 -> 0.21516466 | AR101: ='RSD approach 2'!D59 -> 0.21010319 | AS101: ='RSD approach 2'!E59 -> 0.21387619 | AT101: ='RSD approach 2'!F59 -> 0.21417952 | AU101: ='RSD approach 2'!K59 -> 0.22344939 | AV101: ='RSD approach 2'!L59 -> 0.22038975 | AW101: ='RSD approach 2'!M59 -> 0.21507127 | AX101: ='RSD approach 2'!N59 -> 0.21226653 | AY101: ='RSD approach 2'!S59 -> 0.20752391 | AZ101: ='RSD approach 2'!T59 -> 0.217078 | BA101: ='RSD approach 2'!U59 -> 0.21042922 | BB101: ='RSD approach 2'!V59 -> 0.2073514 | BC101: ='RSD approach 2'!AA59 -> 0.21765668 | BD101: ='RSD approach 2'!AB59 -> 0.20513708 | BE101: ='RSD approach 2'!AC59 -> 0.21053813 | BF101: ='RSD approach 2'!AD59 -> 0.21238167 | BG101: ='RSD approach 2'!AI59 -> 0.21516466 | BH101: ='RSD approach 2'!AJ59 -> 0.21758508 | BI101: ='RSD approach 2'!AK59 -> 0.21628779 | BJ101: ='RSD approach 2'!AL59 -> 0.21303295
A102: ='RSD approach 1'!A18 -> Integral 8 | C102: ='RSD approach 2'!C18 -> 1 | D102: ='RSD approach 2'!D18 -> 1 | E102: ='RSD approach 2'!E18 -> 1 | F102: ='RSD approach 2'!F18 -> 1 | G102: ='RSD approach 2'!K18 -> 1 | H102: ='RSD approach 2'!L18 -> 1 | I102: ='RSD approach 2'!M18 -> 1 | J102: ='RSD approach 2'!N18 -> 1 | K102: ='RSD approach 2'!S18 -> 1 | L102: ='RSD approach 2'!T18 -> 1 | M102: ='RSD approach 2'!U18 -> 1 | N102: ='RSD approach 2'!V18 -> 1 | O102: ='RSD approach 2'!AA18 -> 1 | P102: ='RSD approach 2'!AB18 -> 1 | Q102: ='RSD approach 2'!AC18 -> 1 | R102: ='RSD approach 2'!AD18 -> 1 | S102: ='RSD approach 2'!AI18 -> 1 | T102: ='RSD approach 2'!AJ18 -> 1 | U102: ='RSD approach 2'!AK18 -> 1 | V102: ='RSD approach 2'!AL18 -> 1 | W102: ='RSD approach 2'!C39 -> 1 | X102: ='RSD approach 2'!D39 -> 1 | Y102: ='RSD approach 2'!E39 -> 1 | Z102: ='RSD approach 2'!F39 -> 1 | AA102: ='RSD approach 2'!K39 -> 1 | AB102: ='RSD approach 2'!L39 -> 1 | AC102: ='RSD approach 2'!M39 -> 1 | AD102: ='RSD approach 2'!N39 -> 1 | AE102: ='RSD approach 2'!S39 -> 1 | AF102: ='RSD approach 2'!T39 -> 1 | AG102: ='RSD approach 2'!U39 -> 1 | AH102: ='RSD approach 2'!V39 -> 1 | AI102: ='RSD approach 2'!AA39 -> 1 | AJ102: ='RSD approach 2'!AB39 -> 1 | AK102: ='RSD approach 2'!AC39 -> 1 | AL102: ='RSD approach 2'!AD39 -> 1 | AM102: ='RSD approach 2'!AI39 -> 1 | AN102: ='RSD approach 2'!AJ39 -> 1 | AO102: ='RSD approach 2'!AK39 -> 1 | AP102: ='RSD approach 2'!AL39 -> 1 | AQ102: ='RSD approach 2'!C60 -> 1 | AR102: ='RSD approach 2'!D60 -> 1 | AS102: ='RSD approach 2'!E60 -> 1 | AT102: ='RSD approach 2'!F60 -> 1 | AU102: ='RSD approach 2'!K60 -> 1 | AV102: ='RSD approach 2'!L60 -> 1 | AW102: ='RSD approach 2'!M60 -> 1 | AX102: ='RSD approach 2'!N60 -> 1 | AY102: ='RSD approach 2'!S60 -> 1 | AZ102: ='RSD approach 2'!T60 -> 1 | BA102: ='RSD approach 2'!U60 -> 1 | BB102: ='RSD approach 2'!V60 -> 1 | BC102: ='RSD approach 2'!AA60 -> 1 | BD102: ='RSD approach 2'!AB60 -> 1 | BE102: ='RSD approach 2'!AC60 -> 1 | BF102: ='RSD approach 2'!AD60 -> 1 | BG102: ='RSD approach 2'!AI60 -> 1 | BH102: ='RSD approach 2'!AJ60 -> 1 | BI102: ='RSD approach 2'!AK60 -> 1 | BJ102: ='RSD approach 2'!AL60 -> 1
A103: ='RSD approach 1'!A19 -> Integral 9 | C103: ='RSD approach 2'!C19 -> 0.24416439 | D103: ='RSD approach 2'!D19 -> 0.27296228 | E103: ='RSD approach 2'!E19 -> 0.26676539 | F103: ='RSD approach 2'!F19 -> 0.24416136 | G103: ='RSD approach 2'!K19 -> 0.26354421 | H103: ='RSD approach 2'!L19 -> 0.26444516 | I103: ='RSD approach 2'!M19 -> 0.24840181 | J103: ='RSD approach 2'!N19 -> 0.25623681 | K103: ='RSD approach 2'!S19 -> 0.27035027 | L103: ='RSD approach 2'!T19 -> 0.26831953 | M103: ='RSD approach 2'!U19 -> 0.26732214 | N103: ='RSD approach 2'!V19 -> 0.26844131 | O103: ='RSD approach 2'!AA19 -> 0.25690252 | P103: ='RSD approach 2'!AB19 -> 0.28382097 | Q103: ='RSD approach 2'!AC19 -> 0.25738054 | R103: ='RSD approach 2'!AD19 -> 0.27131616 | S103: ='RSD approach 2'!AI19 -> 0.27047106 | T103: ='RSD approach 2'!AJ19 -> 0.27063822 | U103: ='RSD approach 2'!AK19 -> 0.27870741 | V103: ='RSD approach 2'!AL19 -> 0.26164116 | W103: ='RSD approach 2'!C40 -> 0.26682185 | X103: ='RSD approach 2'!D40 -> 0.26806403 | Y103: ='RSD approach 2'!E40 -> 0.24079723 | Z103: ='RSD approach 2'!F40 -> 0.25433819 | AA103: ='RSD approach 2'!K40 -> 0.26140433 | AB103: ='RSD approach 2'!L40 -> 0.2683485 | AC103: ='RSD approach 2'!M40 -> 0.26955051 | AD103: ='RSD approach 2'!N40 -> 0.25734801 | AE103: ='RSD approach 2'!S40 -> 0.27525822 | AF103: ='RSD approach 2'!T40 -> 0.26810498 | AG103: ='RSD approach 2'!U40 -> 0.27602236 | AH103: ='RSD approach 2'!V40 -> 0.26831519 | AI103: ='RSD approach 2'!AA40 -> 0.26660472 | AJ103: ='RSD approach 2'!AB40 -> 0.26898272 | AK103: ='RSD approach 2'!AC40 -> 0.27026576 | AL103: ='RSD approach 2'!AD40 -> 0.26831313 | AM103: ='RSD approach 2'!AI40 -> 0.26375476 | AN103: ='RSD approach 2'!AJ40 -> 0.26846348 | AO103: ='RSD approach 2'!AK40 -> 0.27481183 | AP103: ='RSD approach 2'!AL40 -> 0.26876754 | AQ103: ='RSD approach 2'!C61 -> 0.27179481 | AR103: ='RSD approach 2'!D61 -> 0.26514398 | AS103: ='RSD approach 2'!E61 -> 0.26814459 | AT103: ='RSD approach 2'!F61 -> 0.27060564 | AU103: ='RSD approach 2'!K61 -> 0.28053646 | AV103: ='RSD approach 2'!L61 -> 0.2734062 | AW103: ='RSD approach 2'!M61 -> 0.26377146 | AX103: ='RSD approach 2'!N61 -> 0.25924075 | AY103: ='RSD approach 2'!S61 -> 0.25559617 | AZ103: ='RSD approach 2'!T61 -> 0.26839537 | BA103: ='RSD approach 2'!U61 -> 0.25624791 | BB103: ='RSD approach 2'!V61 -> 0.25370806 | BC103: ='RSD approach 2'!AA61 -> 0.2711626 | BD103: ='RSD approach 2'!AB61 -> 0.25457633 | BE103: ='RSD approach 2'!AC61 -> 0.25910871 | BF103: ='RSD approach 2'!AD61 -> 0.25941764 | BG103: ='RSD approach 2'!AI61 -> 0.27179481 | BH103: ='RSD approach 2'!AJ61 -> 0.27228275 | BI103: ='RSD approach 2'!AK61 -> 0.26377917 | BJ103: ='RSD approach 2'!AL61 -> 0.26068324
A104: ='RSD approach 1'!A20 -> Integral 10 | C104: ='RSD approach 2'!C20 -> 0.37903145 | D104: ='RSD approach 2'!D20 -> 0.42691239 | E104: ='RSD approach 2'!E20 -> 0.41643478 | F104: ='RSD approach 2'!F20 -> 0.37904098 | G104: ='RSD approach 2'!K20 -> 0.41295029 | H104: ='RSD approach 2'!L20 -> 0.4175229 | I104: ='RSD approach 2'!M20 -> 0.39025771 | J104: ='RSD approach 2'!N20 -> 0.40771304 | K104: ='RSD approach 2'!S20 -> 0.41990142 | L104: ='RSD approach 2'!T20 -> 0.41735392 | M104: ='RSD approach 2'!U20 -> 0.4192809 | N104: ='RSD approach 2'!V20 -> 0.41988493 | O104: ='RSD approach 2'!AA20 -> 0.39627326 | P104: ='RSD approach 2'!AB20 -> 0.44404796 | Q104: ='RSD approach 2'!AC20 -> 0.39968555 | R104: ='RSD approach 2'!AD20 -> 0.42280234 | S104: ='RSD approach 2'!AI20 -> 0.4251544 | T104: ='RSD approach 2'!AJ20 -> 0.42462355 | U104: ='RSD approach 2'!AK20 -> 0.44025351 | V104: ='RSD approach 2'!AL20 -> 0.41663205 | W104: ='RSD approach 2'!C41 -> 0.41198468 | X104: ='RSD approach 2'!D41 -> 0.41642774 | Y104: ='RSD approach 2'!E41 -> 0.37256759 | Z104: ='RSD approach 2'!F41 -> 0.39794736 | AA104: ='RSD approach 2'!K41 -> 0.4051286 | AB104: ='RSD approach 2'!L41 -> 0.42251108 | AC104: ='RSD approach 2'!M41 -> 0.42409876 | AD104: ='RSD approach 2'!N41 -> 0.40948851 | AE104: ='RSD approach 2'!S41 -> 0.42378585 | AF104: ='RSD approach 2'!T41 -> 0.41330638 | AG104: ='RSD approach 2'!U41 -> 0.42779936 | AH104: ='RSD approach 2'!V41 -> 0.42237434 | AI104: ='RSD approach 2'!AA41 -> 0.41455111 | AJ104: ='RSD approach 2'!AB41 -> 0.42028764 | AK104: ='RSD approach 2'!AC41 -> 0.42105452 | AL104: ='RSD approach 2'!AD41 -> 0.42238648 | AM104: ='RSD approach 2'!AI41 -> 0.41265966 | AN104: ='RSD approach 2'!AJ41 -> 0.42096971 | AO104: ='RSD approach 2'!AK41 -> 0.43487865 | AP104: ='RSD approach 2'!AL41 -> 0.43000639 | AQ104: ='RSD approach 2'!C62 -> 0.41645256 | AR104: ='RSD approach 2'!D62 -> 0.40808256 | AS104: ='RSD approach 2'!E62 -> 0.41603492 | AT104: ='RSD approach 2'!F62 -> 0.42180135 | AU104: ='RSD approach 2'!K62 -> 0.43564326 | AV104: ='RSD approach 2'!L62 -> 0.42529853 | AW104: ='RSD approach 2'!M62 -> 0.4111759 | AX104: ='RSD approach 2'!N62 -> 0.40527216 | AY104: ='RSD approach 2'!S62 -> 0.39964075 | AZ104: ='RSD approach 2'!T62 -> 0.41962118 | BA104: ='RSD approach 2'!U62 -> 0.40364257 | BB104: ='RSD approach 2'!V62 -> 0.4009818 | BC104: ='RSD approach 2'!AA62 -> 0.42380755 | BD104: ='RSD approach 2'!AB62 -> 0.40101888 | BE104: ='RSD approach 2'!AC62 -> 0.4102049 | BF104: ='RSD approach 2'!AD62 -> 0.41192269 | BG104: ='RSD approach 2'!AI62 -> 0.41645256 | BH104: ='RSD approach 2'!AJ62 -> 0.42495026 | BI104: ='RSD approach 2'!AK62 -> 0.40823844 | BJ104: ='RSD approach 2'!AL62 -> 0.40953168
A105: ='RSD approach 1'!A21 -> Integral 11 | C105: ='RSD approach 2'!C21 -> 0.20560347 | D105: ='RSD approach 2'!D21 -> 0.24300593 | E105: ='RSD approach 2'!E21 -> 0.23332026 | F105: ='RSD approach 2'!F21 -> 0.20558426 | G105: ='RSD approach 2'!K21 -> 0.23421751 | H105: ='RSD approach 2'!L21 -> 0.23837316 | I105: ='RSD approach 2'!M21 -> 0.21410318 | J105: ='RSD approach 2'!N21 -> 0.23021638 | K105: ='RSD approach 2'!S21 -> 0.24089629 | L105: ='RSD approach 2'!T21 -> 0.23810992 | M105: ='RSD approach 2'!U21 -> 0.24174716 | N105: ='RSD approach 2'!V21 -> 0.24226577 | O105: ='RSD approach 2'!AA21 -> 0.22554743 | P105: ='RSD approach 2'!AB21 -> 0.26632716 | Q105: ='RSD approach 2'!AC21 -> 0.22800963 | R105: ='RSD approach 2'!AD21 -> 0.24721646 | S105: ='RSD approach 2'!AI21 -> 0.24434264 | T105: ='RSD approach 2'!AJ21 -> 0.24265882 | U105: ='RSD approach 2'!AK21 -> 0.25683962 | V105: ='RSD approach 2'!AL21 -> 0.23611664 | W105: ='RSD approach 2'!C42 -> 0.23704852 | X105: ='RSD approach 2'!D42 -> 0.24008422 | Y105: ='RSD approach 2'!E42 -> 0.20385317 | Z105: ='RSD approach 2'!F42 -> 0.22498012 | AA105: ='RSD approach 2'!K42 -> 0.23132641 | AB105: ='RSD approach 2'!L42 -> 0.24811601 | AC105: ='RSD approach 2'!M42 -> 0.24794699 | AD105: ='RSD approach 2'!N42 -> 0.23702156 | AE105: ='RSD approach 2'!S42 -> 0.2402351 | AF105: ='RSD approach 2'!T42 -> 0.23040087 | AG105: ='RSD approach 2'!U42 -> 0.2443168 | AH105: ='RSD approach 2'!V42 -> 0.24077991 | AI105: ='RSD approach 2'!AA42 -> 0.23221367 | AJ105: ='RSD approach 2'!AB42 -> 0.23727398 | AK105: ='RSD approach 2'!AC42 -> 0.23806721 | AL105: ='RSD approach 2'!AD42 -> 0.24077806 | AM105: ='RSD approach 2'!AI42 -> 0.22901294 | AN105: ='RSD approach 2'!AJ42 -> 0.23512935 | AO105: ='RSD approach 2'!AK42 -> 0.24782156 | AP105: ='RSD approach 2'!AL42 -> 0.2438164 | AQ105: ='RSD approach 2'!C63 -> 0.23611111 | AR105: ='RSD approach 2'!D63 -> 0.22964521 | AS105: ='RSD approach 2'!E63 -> 0.23647852 | AT105: ='RSD approach 2'!F63 -> 0.24172797 | AU105: ='RSD approach 2'!K63 -> 0.24985806 | AV105: ='RSD approach 2'!L63 -> 0.24162745 | AW105: ='RSD approach 2'!M63 -> 0.22961613 | AX105: ='RSD approach 2'!N63 -> 0.22487575 | AY105: ='RSD approach 2'!S63 -> 0.21861058 | AZ105: ='RSD approach 2'!T63 -> 0.2358678 | BA105: ='RSD approach 2'!U63 -> 0.22445783 | BB105: ='RSD approach 2'!V63 -> 0.22173137 | BC105: ='RSD approach 2'!AA63 -> 0.23726777 | BD105: ='RSD approach 2'!AB63 -> 0.219189 | BE105: ='RSD approach 2'!AC63 -> 0.22833802 | BF105: ='RSD approach 2'!AD63 -> 0.23100024 | BG105: ='RSD approach 2'!AI63 -> 0.23611111 | BH105: ='RSD approach 2'!AJ63 -> 0.23890948 | BI105: ='RSD approach 2'!AK63 -> 0.22319272 | BJ105: ='RSD approach 2'!AL63 -> 0.22526956
A106: ='RSD approach 1'!A22 -> Integral 12 | C106: ='RSD approach 2'!C22 -> 0.13686201 | D106: ='RSD approach 2'!D22 -> 0.16839202 | E106: ='RSD approach 2'!E22 -> 0.16052212 | F106: ='RSD approach 2'!F22 -> 0.13688259 | G106: ='RSD approach 2'!K22 -> 0.15792188 | H106: ='RSD approach 2'!L22 -> 0.16131872 | I106: ='RSD approach 2'!M22 -> 0.14123993 | J106: ='RSD approach 2'!N22 -> 0.15515917 | K106: ='RSD approach 2'!S22 -> 0.164128 | L106: ='RSD approach 2'!T22 -> 0.16204942 | M106: ='RSD approach 2'!U22 -> 0.16352729 | N106: ='RSD approach 2'!V22 -> 0.16408726 | O106: ='RSD approach 2'!AA22 -> 0.14813123 | P106: ='RSD approach 2'!AB22 -> 0.18192229 | Q106: ='RSD approach 2'!AC22 -> 0.15106972 | R106: ='RSD approach 2'!AD22 -> 0.16621827 | S106: ='RSD approach 2'!AI22 -> 0.16763363 | T106: ='RSD approach 2'!AJ22 -> 0.16463136 | U106: ='RSD approach 2'!AK22 -> 0.17600323 | V106: ='RSD approach 2'!AL22 -> 0.15919129 | W106: ='RSD approach 2'!C43 -> 0.16053329 | X106: ='RSD approach 2'!D43 -> 0.16232432 | Y106: ='RSD approach 2'!E43 -> 0.13180662 | Z106: ='RSD approach 2'!F43 -> 0.15033516 | AA106: ='RSD approach 2'!K43 -> 0.15110139 | AB106: ='RSD approach 2'!L43 -> 0.16503822 | AC106: ='RSD approach 2'!M43 -> 0.16420277 | AD106: ='RSD approach 2'!N43 -> 0.15682828 | AE106: ='RSD approach 2'!S43 -> 0.16543183 | AF106: ='RSD approach 2'!T43 -> 0.15800308 | AG106: ='RSD approach 2'!U43 -> 0.16845338 | AH106: ='RSD approach 2'!V43 -> 0.16409645 | AI106: ='RSD approach 2'!AA43 -> 0.15880925 | AJ106: ='RSD approach 2'!AB43 -> 0.16312419 | AK106: ='RSD approach 2'!AC43 -> 0.1616409 | AL106: ='RSD approach 2'!AD43 -> 0.16409519 | AM106: ='RSD approach 2'!AI43 -> 0.15485154 | AN106: ='RSD approach 2'!AJ43 -> 0.16016138 | AO106: ='RSD approach 2'!AK43 -> 0.16937408 | AP106: ='RSD approach 2'!AL43 -> 0.16676943 | AQ106: ='RSD approach 2'!C64 -> 0.16351157 | AR106: ='RSD approach 2'!D64 -> 0.15899754 | AS106: ='RSD approach 2'!E64 -> 0.16371385 | AT106: ='RSD approach 2'!F64 -> 0.16783773 | AU106: ='RSD approach 2'!K64 -> 0.1741192 | AV106: ='RSD approach 2'!L64 -> 0.16651756 | AW106: ='RSD approach 2'!M64 -> 0.15805799 | AX106: ='RSD approach 2'!N64 -> 0.15491617 | AY106: ='RSD approach 2'!S64 -> 0.14824366 | AZ106: ='RSD approach 2'!T64 -> 0.15927391 | BA106: ='RSD approach 2'!U64 -> 0.15186152 | BB106: ='RSD approach 2'!V64 -> 0.1505373 | BC106: ='RSD approach 2'!AA64 -> 0.1597888 | BD106: ='RSD approach 2'!AB64 -> 0.15047866 | BE106: ='RSD approach 2'!AC64 -> 0.1569494 | BF106: ='RSD approach 2'!AD64 -> 0.15854612 | BG106: ='RSD approach 2'!AI64 -> 0.16351157 | BH106: ='RSD approach 2'!AJ64 -> 0.16836687 | BI106: ='RSD approach 2'!AK64 -> 0.15131509 | BJ106: ='RSD approach 2'!AL64 -> 0.15521585
... A109: ='RSD approach 1'!A25 -> TMS | C109: ='RSD approach 2'!C25 -> 1.0354163 | D109: ='RSD approach 2'!D25 -> 0.9377065 | E109: ='RSD approach 2'!E25 -> 0.92121401 | F109: ='RSD approach 2'!F25 -> 1.0354124 | G109: ='RSD approach 2'!K25 -> 0.75765452 | H109: ='RSD approach 2'!L25 -> 0.78190325 | I109: ='RSD approach 2'!M25 -> 0.82089465 | J109: ='RSD approach 2'!N25 -> 0.77256412 | K109: ='RSD approach 2'!S25 -> 0.77456578 | L109: ='RSD approach 2'!T25 -> 0.76956459 | M109: ='RSD approach 2'!U25 -> 0.74855489 | N109: ='RSD approach 2'!V25 -> 0.74054928 | O109: ='RSD approach 2'!AA25 -> 0.60721848 | P109: ='RSD approach 2'!AB25 -> 0.55969624 | Q109: ='RSD approach 2'!AC25 -> 0.59701077 | R109: ='RSD approach 2'!AD25 -> 0.57832404 | S109: ='RSD approach 2'!AI25 -> 0.87150204 | T109: ='RSD approach 2'!AJ25 -> 0.87545495 | U109: ='RSD approach 2'!AK25 -> 0.85913804 | V109: ='RSD approach 2'!AL25 -> 0.84612809 | W109: ='RSD approach 2'!C46 -> 0.34394778 | X109: ='RSD approach 2'!D46 -> 0.33840222 | Y109: ='RSD approach 2'!E46 -> 0.36756676 | Z109: ='RSD approach 2'!F46 -> 0.34487029 | AA109: ='RSD approach 2'!K46 -> 0.2922976 | AB109: ='RSD approach 2'!L46 -> 0.2855724 | AC109: ='RSD approach 2'!M46 -> 0.26922152 | AD109: ='RSD approach 2'!N46 -> 0.27613309 | AE109: ='RSD approach 2'!S46 -> 0.1471356 | AF109: ='RSD approach 2'!T46 -> 0.14731533 | AG109: ='RSD approach 2'!U46 -> 0.14490663 | AH109: ='RSD approach 2'!V46 -> 0.13325386 | AI109: ='RSD approach 2'!AA46 -> 0.13111937 | AJ109: ='RSD approach 2'!AB46 -> 0.13276176 | AK109: ='RSD approach 2'!AC46 -> 0.12973265 | AL109: ='RSD approach 2'!AD46 -> 0.13325668 | AM109: ='RSD approach 2'!AI46 -> 0.12836383 | AN109: ='RSD approach 2'!AJ46 -> 0.12644927 | AO109: ='RSD approach 2'!AK46 -> 0.1114631 | AP109: ='RSD approach 2'!AL46 -> 0.11043598 | AQ109: ='RSD approach 2'!C67 -> 0.41067562 | AR109: ='RSD approach 2'!D67 -> 0.40876265 | AS109: ='RSD approach 2'!E67 -> 0.38703018 | AT109: ='RSD approach 2'!F67 -> 0.38457194 | AU109: ='RSD approach 2'!K67 -> 0.40771161 | AV109: ='RSD approach 2'!L67 -> 0.40172702 | AW109: ='RSD approach 2'!M67 -> 0.41391723 | AX109: ='RSD approach 2'!N67 -> 0.40565293 | AY109: ='RSD approach 2'!S67 -> 0.32494169 | AZ109: ='RSD approach 2'!T67 -> 0.30524332 | BA109: ='RSD approach 2'!U67 -> 0.30945774 | BB109: ='RSD approach 2'!V67 -> 0.30234961 | BC109: ='RSD approach 2'!AA67 -> 0.27149753 | BD109: ='RSD approach 2'!AB67 -> 0.28302221 | BE109: ='RSD approach 2'!AC67 -> 0.27363143 | BF109: ='RSD approach 2'!AD67 -> 0.27125984 | BG109: ='RSD approach 2'!AI67 -> 0.41067562 | BH109: ='RSD approach 2'!AJ67 -> 0.21543136 | BI109: ='RSD approach 2'!AK67 -> 0.23293822 | BJ109: ='RSD approach 2'!AL67 -> 0.22959957

Sheet RSD approach 1
A1: Lignin qNMR Lignin Sampling Uncertainty based on eq 1 an 2 (Summary in cells AN89:AL91) | L1: Approach based on equations 1 and 2 in the text
A2: With baseline correction, differences between spectra, up to little more than a week
A3: Top 1-5: four corners and middle. NMR-1 to NMR-4: spectra from the same solution
A5: Reference peak for caluclating intensity ratios: 8.40–8.65 ppm
C8: TOP-01 | K8: TOP-02 | S8: TOP-03 | AA8: TOP-04 | AI8: TOP-05
A9: Integral region | C9: NMR-1 | D9: NMR-2 | E9: NMR-3 | F9: NMR-4 | G9: STD DEV | H9: AVERAGE | I9: RSD | K9: NMR-1 | L9: NMR-2 | M9: NMR-3 | N9: NMR-4 | O9: STD DEV | P9: AVERAGE | Q9: RSD | S9: NMR-1 | T9: NMR-2 | U9: NMR-3 | V9: NMR-4 | W9: STD DEV | X9: AVERAGE | Y9: RSD | AA9: NMR-1 | AB9: NMR-2 | AC9: NMR-3 | AD9: NMR-4 | AE9: STD DEV | AF9: AVERAGE | AG9: RSD | AI9: NMR-1 | AJ9: NMR-2 | AK9: NMR-3 | AL9: NMR-4 | AM9: STD DEV | AN9: AVERAGE | AO9: RSD
A11: Aldehyde Integral 1 | C11: 0.05667 | D11: 0.06184 | E11: 0.0693 | F11: 0.0567 | G11: =STDEV(C11:F11) -> 0.0059657208 | H11: =AVERAGE(C11:F11) -> 0.0611275 | I11: =G11/H11 -> 0.097594713 | K11: 0.05348 | L11: 0.05818 | M11: 0.04833 | N11: 0.04725 | O11: =STDEV(K11:N11) -> 0.005042149 | P11: =AVERAGE(K11:N11) -> 0.05181 | Q11: =O11/P11 -> 0.097319996 | S11: 0.0502 | T11: 0.05254 | U11: 0.04906 | V11: 0.03727 | W11: =STDEV(S11:V11) -> 0.006820603 | X11: =AVERAGE(S11:V11) -> 0.0472675 | Y11: =W11/X11 -> 0.14429794 | AA11: 0.04598 | AB11: 0.06059 | AC11: 0.04915 | AD11: 0.04449 | AE11: =STDEV(AA11:AD11) -> 0.0072888059 | AF11: =AVERAGE(AA11:AD11) -> 0.0500525 | AG11: =AE11/AF11 -> 0.14562321 | AI11: 0.03776 | AJ11: 0.04789 | AK11: 0.04864 | AL11: 0.03453 | AM11: =STDEV(AI11:AL11) -> 0.0071272271 | AN11: =AVERAGE(AI11:AL11) -> 0.042205 | AO11: =AM11/AN11 -> 0.16887163
A12: Aldehyde Integral 2 | C12: 1 | D12: 1 | E12: 1 | F12: 1 | G12: =STDEV(C12:F12) -> 0 | H12: =AVERAGE(C12:F12) -> 1 | I12: =G12/H12 -> 0 | K12: 1 | L12: 1 | M12: 1 | N12: 1 | O12: =STDEV(K12:N12) -> 0 | P12: =AVERAGE(K12:N12) -> 1 | Q12: =O12/P12 -> 0 | S12: 1 | T12: 1 | U12: 1 | V12: 1 | W12: =STDEV(S12:V12) -> 0 | X12: =AVERAGE(S12:V12) -> 1 | Y12: =W12/X12 -> 0 | AA12: 1 | AB12: 1 | AC12: 1 | AD12: 1 | AE12: =STDEV(AA12:AD12) -> 0 | AF12: =AVERAGE(AA12:AD12) -> 1 | AG12: =AE12/AF12 -> 0 | AI12: 1 | AJ12: 1 | AK12: 1 | AL12: 1 | AM12: =STDEV(AI12:AL12) -> 0 | AN12: =AVERAGE(AI12:AL12) -> 1 | AO12: =AM12/AN12 -> 0
A13: Aromatic region Integral 3 | C13: 23.90158 | D13: 22.69378 | E13: 24.7097 | F13: 23.9016 | G13: =STDEV(C13:F13) -> 0.83104487 | H13: =AVERAGE(C13:F13) -> 23.801665 | I13: =G13/H13 -> 0.034915409 | K13: 21.30171 | L13: 22.6609 | M13: 21.46189 | N13: 22.14965 | O13: =STDEV(K13:N13) -> 0.63008417 | P13: =AVERAGE(K13:N13) -> 21.893538 | Q13: =O13/P13 -> 0.028779459 | S13: 23.80347 | T13: 23.36931 | U13: 23.97643 | V13: 23.73679 | W13: =STDEV(S13:V13) -> 0.2555908 | X13: =AVERAGE(S13:V13) -> 23.7215 | Y13: =W13/X13 -> 0.010774647 | AA13: 22.66489 | AB13: 22.90405 | AC13: 24.5208 | AD13: 23.37646 | AE13: =STDEV(AA13:AD13) -> 0.82434303 | AF13: =AVERAGE(AA13:AD13) -> 23.36655 | AG13: =AE13/AF13 -> 0.035278765 | AI13: 23.11487 | AJ13: 21.76693 | AK13: 22.94236 | AL13: 21.44561 | AM13: =STDEV(AI13:AL13) -> 0.83457942 | AN13: =AVERAGE(AI13:AL13) -> 22.317443 | AO13: =AM13/AN13 -> 0.037395836
A14: OCH/O-CH2 Integral 4 | C14: 1.8757 | D14: 1.93875 | E14: 2.07213 | F14: 1.8757 | G14: =STDEV(C14:F14) -> 0.092605939 | H14: =AVERAGE(C14:F14) -> 1.94057 | I14: =G14/H14 -> 0.047720999 | K14: 1.79575 | L14: 1.88808 | M14: 2.03934 | N14: 2.0485 | O14: =STDEV(K14:N14) -> 0.12262461 | P14: =AVERAGE(K14:N14) -> 1.9429175 | Q14: =O14/P14 -> 0.063113649 | S14: 2.12242 | T14: 2.03463 | U14: 2.06782 | V14: 1.98549 | W14: =STDEV(S14:V14) -> 0.057541734 | X14: =AVERAGE(S14:V14) -> 2.05259 | Y14: =W14/X14 -> 0.02803372 | AA14: 2.02368 | AB14: 2.03053 | AC14: 1.98859 | AD14: 2.04723 | AE14: =STDEV(AA14:AD14) -> 0.024680181 | AF14: =AVERAGE(AA14:AD14) -> 2.0225075 | AG14: =AE14/AF14 -> 0.012202764 | AI14: 2.02976 | AJ14: 1.99925 | AK14: 2.09312 | AL14: 2.10959 | AM14: =STDEV(AI14:AL14) -> 0.052102409 | AN14: =AVERAGE(AI14:AL14) -> 2.05793 | AO14: =AM14/AN14 -> 0.025317872
A15: Methoxy Integral 5 | C15: 93.19381 | D15: 89.95385 | E15: 92.37353 | F15: 93.1938 | G15: =STDEV(C15:F15) -> 1.5328397 | H15: =AVERAGE(C15:F15) -> 92.178748 | I15: =G15/H15 -> 0.016628992 | K15: 117.25192 | L15: 120.45771 | M15: 121.78183 | N15: 125.32905 | O15: =STDEV(K15:N15) -> 3.3429431 | P15: =AVERAGE(K15:N15) -> 121.20513 | Q15: =O15/P15 -> 0.027580872 | S15: 115.59325 | T15: 113.69679 | U15: 124.74663 | V15: 119.42229 | W15: =STDEV(S15:V15) -> 4.8757169 | X15: =AVERAGE(S15:V15) -> 118.36474 | Y15: =W15/X15 -> 0.041192309 | AA15: 96.72191 | AB15: 98.74848 | AC15: 101.5637 | AD15: 97.9655 | AE15: =STDEV(AA15:AD15) -> 2.053087 | AF15: =AVERAGE(AA15:AD15) -> 98.749898 | AG15: =AE15/AF15 -> 0.020790776 | AI15: 71.91021 | AJ15: 71.0912 | AK15: 75.24983 | AL15: 76.62742 | AM15: =STDEV(AI15:AL15) -> 2.6444533 | AN15: =AVERAGE(AI15:AL15) -> 73.719665 | AO15: =AM15/AN15 -> 0.035871749
A16: DMSO | C16: 42.24734 | D16: 38.4987 | E16: 39.22738 | F16: 42.2473 | G16: =STDEV(C16:F16) -> 1.976431 | H16: =AVERAGE(C16:F16) -> 40.55518 | I16: =G16/H16 -> 0.048734366 | K16: 40.51372 | L16: 40.68339 | M16: 40.84878 | N16: 40.7321 | O16: =STDEV(K16:N16) -> 0.13906943 | P16: =AVERAGE(K16:N16) -> 40.694498 | Q16: =O16/P16 -> 0.0034174013 | S16: 43.47465 | T16: 41.8884 | U16: 44.0211 | V16: 42.03016 | W16: =STDEV(S16:V16) -> 1.0580523 | X16: =AVERAGE(S16:V16) -> 42.853577 | Y16: =W16/X16 -> 0.02468994 | AA16: 42.20326 | AB16: 42.4676 | AC16: 43.32939 | AD16: 41.65824 | AE16: =STDEV(AA16:AD16) -> 0.69675313 | AF16: =AVERAGE(AA16:AD16) -> 42.414623 | AG16: =AE16/AF16 -> 0.016427192 | AI16: 43.80694 | AJ16: 42.1191 | AK16: 44.1903 | AL16: 42.2154 | AM16: =STDEV(AI16:AL16) -> 1.0695849 | AN16: =AVERAGE(AI16:AL16) -> 43.082935 | AO16: =AM16/AN16 -> 0.024826184
A17: Integral 7 | C17: 0.5078 | D17: 0.55085 | E17: 0.56327 | F17: 0.5078 | G17: =STDEV(C17:F17) -> 0.028888728 | H17: =AVERAGE(C17:F17) -> 0.53243 | I17: =G17/H17 -> 0.054258265 | K17: 0.52062 | L17: 0.52763 | M17: 0.49905 | N17: 0.51836 | O17: =STDEV(K17:N17) -> 0.012230897 | P17: =AVERAGE(K17:N17) -> 0.516415 | Q17: =O17/P17 -> 0.02368424 | S17: 0.55597 | T17: 0.53829 | U17: 0.56598 | V17: 0.545 | W17: =STDEV(S17:V17) -> 0.012196461 | X17: =AVERAGE(S17:V17) -> 0.55131 | Y17: =W17/X17 -> 0.022122692 | AA17: 0.5012 | AB17: 0.56848 | AC17: 0.52357 | AD17: 0.53382 | AE17: =STDEV(AA17:AD17) -> 0.028009471 | AF17: =AVERAGE(AA17:AD17) -> 0.5317675 | AG17: =AE17/AF17 -> 0.052672402 | AI17: 0.52988 | AJ17: 0.51912 | AK17: 0.55995 | AL17: 0.50817 | AM17: =STDEV(AI17:AL17) -> 0.022285022 | AN17: =AVERAGE(AI17:AL17) -> 0.52928 | AO17: =AM17/AN17 -> 0.04210441
A18: Integral 8 | C18: 2.49631 | D18: 2.54537 | E18: 2.62699 | F18: 2.4963 | G18: =STDEV(C18:F18) -> 0.061666922 | H18: =AVERAGE(C18:F18) -> 2.5412425 | I18: =G18/H18 -> 0.024266445 | K18: 2.42373 | L18: 2.45359 | M18: 2.40272 | N18: 2.45999 | O18: =STDEV(K18:N18) -> 0.026702679 | P18: =AVERAGE(K18:N18) -> 2.4350075 | Q18: =O18/P18 -> 0.010966159 | S18: 2.56434 | T18: 2.49788 | U18: 2.6088 | V18: 2.49928 | W18: =STDEV(S18:V18) -> 0.053949254 | X18: =AVERAGE(S18:V18) -> 2.542575 | Y18: =W18/X18 -> 0.021218353 | AA18: 2.40854 | AB18: 2.55862 | AC18: 2.51235 | AD18: 2.46808 | AE18: =STDEV(AA18:AD18) -> 0.063994643 | AF18: =AVERAGE(AA18:AD18) -> 2.4868975 | AG18: =AE18/AF18 -> 0.025732722 | AI18: 2.45786 | AJ18: 2.38211 | AK18: 2.52609 | AL18: 2.3593 | AM18: =STDEV(AI18:AL18) -> 0.075925901 | AN18: =AVERAGE(AI18:AL18) -> 2.43134 | AO18: =AM18/AN18 -> 0.031228006
A19: Integral 9 | C19: 0.60951 | D19: 0.69479 | E19: 0.70079 | F19: 0.6095 | G19: =STDEV(C19:F19) -> 0.051030191 | H19: =AVERAGE(C19:F19) -> 0.6536475 | I19: =G19/H19 -> 0.078069894 | K19: 0.63876 | L19: 0.64884 | M19: 0.59684 | N19: 0.63034 | O19: =STDEV(K19:N19) -> 0.022543087 | P19: =AVERAGE(K19:N19) -> 0.628695 | Q19: =O19/P19 -> 0.035856953 | S19: 0.69327 | T19: 0.67023 | U19: 0.69739 | V19: 0.67091 | W19: =STDEV(S19:V19) -> 0.014396481 | X19: =AVERAGE(S19:V19) -> 0.68295 | Y19: =W19/X19 -> 0.021079846 | AA19: 0.61876 | AB19: 0.72619 | AC19: 0.64663 | AD19: 0.66963 | AE19: =STDEV(AA19:AD19) -> 0.045610238 | AF19: =AVERAGE(AA19:AD19) -> 0.6653025 | AG19: =AE19/AF19 -> 0.068555639 | AI19: 0.66478 | AJ19: 0.64469 | AK19: 0.70404 | AL19: 0.61729 | AM19: =STDEV(AI19:AL19) -> 0.036513697 | AN19: =AVERAGE(AI19:AL19) -> 0.6577 | AO19: =AM19/AN19 -> 0.055517253
A20: Integral 10 | C20: 0.94618 | D20: 1.08665 | E20: 1.09397 | F20: 0.9462 | G20: =STDEV(C20:F20) -> 0.083261367 | H20: =AVERAGE(C20:F20) -> 1.01825 | I20: =G20/H20 -> 0.081769081 | K20: 1.00088 | L20: 1.02443 | M20: 0.93768 | N20: 1.00297 | O20: =STDEV(K20:N20) -> 0.0374189 | P20: =AVERAGE(K20:N20) -> 0.99149 | Q20: =O20/P20 -> 0.037740068 | S20: 1.07677 | T20: 1.0425 | U20: 1.09382 | V20: 1.04941 | W20: =STDEV(S20:V20) -> 0.02392252 | X20: =AVERAGE(S20:V20) -> 1.065625 | Y20: =W20/X20 -> 0.022449286 | AA20: 0.95444 | AB20: 1.13615 | AC20: 1.00415 | AD20: 1.04351 | AE20: =STDEV(AA20:AD20) -> 0.076908199 | AF20: =AVERAGE(AA20:AD20) -> 1.0345625 | AG20: =AE20/AF20 -> 0.074338862 | AI20: 1.04497 | AJ20: 1.0115 | AK20: 1.11212 | AL20: 0.98296 | AM20: =STDEV(AI20:AL20) -> 0.055599629 | AN20: =AVERAGE(AI20:AL20) -> 1.0378875 | AO20: =AM20/AN20 -> 0.053569996
A21: Integral 11 | C21: 0.51325 | D21: 0.61854 | E21: 0.61293 | F21: 0.5132 | G21: =STDEV(C21:F21) -> 0.059228477 | H21: =AVERAGE(C21:F21) -> 0.56448 | I21: =G21/H21 -> 0.10492573 | K21: 0.56768 | L21: 0.58487 | M21: 0.51443 | N21: 0.56633 | O21: =STDEV(K21:N21) -> 0.030457643 | P21: =AVERAGE(K21:N21) -> 0.5583275 | Q21: =O21/P21 -> 0.054551573 | S21: 0.61774 | T21: 0.59477 | U21: 0.63067 | V21: 0.60549 | W21: =STDEV(S21:V21) -> 0.015499003 | X21: =AVERAGE(S21:V21) -> 0.6121675 | Y21: =W21/X21 -> 0.025318239 | AA21: 0.54324 | AB21: 0.68143 | AC21: 0.57284 | AD21: 0.61015 | AE21: =STDEV(AA21:AD21) -> 0.059661718 | AF21: =AVERAGE(AA21:AD21) -> 0.601915 | AG21: =AE21/AF21 -> 0.099119839 | AI21: 0.60056 | AJ21: 0.57804 | AK21: 0.6488 | AL21: 0.55707 | AM21: =STDEV(AI21:AL21) -> 0.039356003 | AN21: =AVERAGE(AI21:AL21) -> 0.5961175 | AO21: =AM21/AN21 -> 0.066020546
A22: Integral 12 | C22: 0.34165 | D22: 0.42862 | E22: 0.42169 | F22: 0.3417 | G22: =STDEV(C22:F22) -> 0.048280169 | H22: =AVERAGE(C22:F22) -> 0.383415 | I22: =G22/H22 -> 0.12592144 | K22: 0.38276 | L22: 0.39581 | M22: 0.33936 | N22: 0.38169 | O22: =STDEV(K22:N22) -> 0.02455065 | P22: =AVERAGE(K22:N22) -> 0.374905 | Q22: =O22/P22 -> 0.065484991 | S22: 0.42088 | T22: 0.40478 | U22: 0.42661 | V22: 0.4101 | W22: =STDEV(S22:V22) -> 0.0099401656 | X22: =AVERAGE(S22:V22) -> 0.4155925 | Y22: =W22/X22 -> 0.023918058 | AA22: 0.35678 | AB22: 0.46547 | AC22: 0.37954 | AD22: 0.41024 | AE22: =STDEV(AA22:AD22) -> 0.047051668 | AF22: =AVERAGE(AA22:AD22) -> 0.4030075 | AG22: =AE22/AF22 -> 0.11675134 | AI22: 0.41202 | AJ22: 0.39217 | AK22: 0.4446 | AL22: 0.37558 | AM22: =STDEV(AI22:AL22) -> 0.029680586 | AN22: =AVERAGE(AI22:AL22) -> 0.4060925 | AO22: =AM22/AN22 -> 0.073088239
... A25: TMS | C25: 2.58472 | D25: 2.38681 | E25: 2.42002 | F25: 2.5847 | G25: =STDEV(C25:F25) -> 0.10554514 | H25: =AVERAGE(C25:F25) -> 2.4940625 | I25: =G25/H25 -> 0.042318562 | K25: 1.83635 | L25: 1.91847 | M25: 1.97238 | N25: 1.9005 | O25: =STDEV(K25:N25) -> 0.05609443 | P25: =AVERAGE(K25:N25) -> 1.906925 | Q25: =O25/P25 -> 0.02941617 | S25: 1.98625 | T25: 1.92228 | U25: 1.95283 | V25: 1.85084 | W25: =STDEV(S25:V25) -> 0.057723379 | X25: =AVERAGE(S25:V25) -> 1.92805 | Y25: =W25/X25 -> 0.029938735 | AA25: 1.46251 | AB25: 1.43205 | AC25: 1.4999 | AD25: 1.42735 | AE25: =STDEV(AA25:AD25) -> 0.033480423 | AF25: =AVERAGE(AA25:AD25) -> 1.4554525 | AG25: =AE25/AF25 -> 0.023003446 | AI25: 2.14203 | AJ25: 2.08543 | AK25: 2.17026 | AL25: 1.99627 | AM25: =STDEV(AI25:AL25) -> 0.076737988 | AN25: =AVERAGE(AI25:AL25) -> 2.0984975 | AO25: =AM25/AN25 -> 0.036568062
C29: MIDDLE-01 | K29: MIDDLE-02 | S29: MIDDLE-03 | AA29: MIDDLE-04 | AI29: MIDDLE-05
A30: Integral region | C30: NMR-1 | D30: NMR-2 | E30: NMR-3 | F30: NMR-4 | G30: STD DEV | H30: AVERAGE | I30: RSD | K30: NMR-1 | L30: NMR-2 | M30: NMR-3 | N30: NMR-4 | O30: STD DEV | P30: AVERAGE | Q30: RSD | S30: NMR-1 | T30: NMR-2 | U30: NMR-3 | V30: NMR-4 | W30: STD DEV | X30: AVERAGE | Y30: RSD | AA30: NMR-1 | AB30: NMR-2 | AC30: NMR-3 | AD30: NMR-4 | AE30: STD DEV | AF30: AVERAGE | AG30: RSD | AI30: NMR-1 | AJ30: NMR-2 | AK30: NMR-3 | AL30: NMR-4 | AM30: STD DEV | AN30: AVERAGE | AO30: RSD
A32: Aldehyde Integral 1 | C32: -0.00115 | D32: -0.02955 | E32: -0.02315 | F32: -0.00676 | G32: =STDEV(C32:F32) -> 0.013388454 | H32: =AVERAGE(C32:F32) -> -0.0151525 | I32: =G32/H32 -> -0.88358051 | K32: 0.04332 | L32: 0.0492 | M32: 0.06002 | N32: 0.06521 | O32: =STDEV(K32:N32) -> 0.0099706448 | P32: =AVERAGE(K32:N32) -> 0.0544375 | Q32: =O32/P32 -> 0.18315765 | S32: 0.04632 | T32: 0.04927 | U32: 0.03862 | V32: 0.0552 | W32: =STDEV(S32:V32) -> 0.0068940234 | X32: =AVERAGE(S32:V32) -> 0.0473525 | Y32: =W32/X32 -> 0.14558943 | AA32: 0.06857 | AB32: 0.0533 | AC32: 0.05286 | AD32: 0.05516 | AE32: =STDEV(AA32:AD32) -> 0.0074651875 | AF32: =AVERAGE(AA32:AD32) -> 0.0574725 | AG32: =AE32/AF32 -> 0.12989147 | AI32: 0.05382 | AJ32: 0.0433 | AK32: 0.06067 | AL32: 0.05391 | AM32: =STDEV(AI32:AL32) -> 0.0071739552 | AN32: =AVERAGE(AI32:AL32) -> 0.052925 | AO32: =AM32/AN32 -> 0.13554946
A33: Aldehyde Integral 2 | C33: 1 | D33: 1 | E33: 1 | F33: 1 | G33: =STDEV(C33:F33) -> 0 | H33: =AVERAGE(C33:F33) -> 1 | I33: =G33/H33 -> 0 | K33: 1 | L33: 1 | M33: 1 | N33: 1 | O33: =STDEV(K33:N33) -> 0 | P33: =AVERAGE(K33:N33) -> 1 | Q33: =O33/P33 -> 0 | S33: 1 | T33: 1 | U33: 1 | V33: 1 | W33: =STDEV(S33:V33) -> 0 | X33: =AVERAGE(S33:V33) -> 1 | Y33: =W33/X33 -> 0 | AA33: 1 | AB33: 1 | AC33: 1 | AD33: 1 | AE33: =STDEV(AA33:AD33) -> 0 | AF33: =AVERAGE(AA33:AD33) -> 1 | AG33: =AE33/AF33 -> 0 | AI33: 1 | AJ33: 1 | AK33: 1 | AL33: 1 | AM33: =STDEV(AI33:AL33) -> 0 | AN33: =AVERAGE(AI33:AL33) -> 1 | AO33: =AM33/AN33 -> 0
A34: Aromatic region Integral 3 | C34: 22.76083 | D34: 23.05306 | E34: 23.29827 | F34: 24.35234 | G34: =STDEV(C34:F34) -> 0.69320898 | H34: =AVERAGE(C34:F34) -> 23.366125 | I34: =G34/H34 -> 0.029667263 | K34: 21.69411 | L34: 20.50681 | M34: 20.78033 | N34: 19.48506 | O34: =STDEV(K34:N34) -> 0.90926196 | P34: =AVERAGE(K34:N34) -> 20.616577 | Q34: =O34/P34 -> 0.044103439 | S34: 24.35561 | T34: 25.50974 | U34: 24.09583 | V34: 22.8455 | W34: =STDEV(S34:V34) -> 1.0931825 | X34: =AVERAGE(S34:V34) -> 24.20167 | Y34: =W34/X34 -> 0.045169713 | AA34: 22.70579 | AB34: 22.05144 | AC34: 22.25646 | AD34: 22.84552 | AE34: =STDEV(AA34:AD34) -> 0.37295931 | AF34: =AVERAGE(AA34:AD34) -> 22.464802 | AG34: =AE34/AF34 -> 0.01660194 | AI34: 22.01577 | AJ34: 21.8864 | AK34: 21.99015 | AL34: 22.14002 | AM34: =STDEV(AI34:AL34) -> 0.104235 | AN34: =AVERAGE(AI34:AL34) -> 22.008085 | AO34: =AM34/AN34 -> 0.0047362141
A35: OCH/O-CH2 Integral 4 | C35: 2.0458 | D35: 1.95257 | E35: 1.99803 | F35: 2.2784 | G35: =STDEV(C35:F35) -> 0.14488953 | H35: =AVERAGE(C35:F35) -> 2.0687 | I35: =G35/H35 -> 0.070038927 | K35: 1.50512 | L35: 1.74375 | M35: 1.81613 | N35: 1.9502 | O35: =STDEV(K35:N35) -> 0.18654824 | P35: =AVERAGE(K35:N35) -> 1.7538 | Q35: =O35/P35 -> 0.10636802 | S35: 1.82957 | T35: 1.87321 | U35: 1.79095 | V35: 1.9774 | W35: =STDEV(S35:V35) -> 0.080433994 | X35: =AVERAGE(S35:V35) -> 1.8677825 | Y35: =W35/X35 -> 0.043063898 | AA35: 1.79667 | AB35: 1.90811 | AC35: 1.84554 | AD35: 1.97736 | AE35: =STDEV(AA35:AD35) -> 0.078285326 | AF35: =AVERAGE(AA35:AD35) -> 1.88192 | AG35: =AE35/AF35 -> 0.041598647 | AI35: 2.00515 | AJ35: 2.05671 | AK35: 2.00287 | AL35: 2.44453 | AM35: =STDEV(AI35:AL35) -> 0.21293291 | AN35: =AVERAGE(AI35:AL35) -> 2.127315 | AO35: =AM35/AN35 -> 0.10009468
A36: Methoxy Integral 5 | C36: 167.14469 | D36: 168.37733 | E36: 171.30766 | F36: 180.15915 | G36: =STDEV(C36:F36) -> 5.8734777 | H36: =AVERAGE(C36:F36) -> 171.74721 | I36: =G36/H36 -> 0.034198388 | K36: 234.55545 | L36: 243.38215 | M36: 238.26389 | N36: 243.479 | O36: =STDEV(K36:N36) -> 4.3272031 | P36: =AVERAGE(K36:N36) -> 239.92012 | Q36: =O36/P36 -> 0.018036016 | S36: 158.44922 | T36: 163.8343 | U36: 155.85807 | V36: 160.1779 | W36: =STDEV(S36:V36) -> 3.3460414 | X36: =AVERAGE(S36:V36) -> 159.57987 | Y36: =W36/X36 -> 0.020967816 | AA36: 149.83727 | AB36: 157.18457 | AC36: 152.10755 | AD36: 160.17792 | AE36: =STDEV(AA36:AD36) -> 4.7075576 | AF36: =AVERAGE(AA36:AD36) -> 154.82683 | AG36: =AE36/AF36 -> 0.030405309 | AI36: 94.57517 | AJ36: 99.42687 | AK36: 100.80588 | AL36: 108.766 | AM36: =STDEV(AI36:AL36) -> 5.8894321 | AN36: =AVERAGE(AI36:AL36) -> 100.89348 | AO36: =AM36/AN36 -> 0.058372772
A37: DMSO | C37: 56.20879 | D37: 56.28557 | E37: 56.95548 | F37: 60.03219 | G37: =STDEV(C37:F37) -> 1.8058681 | H37: =AVERAGE(C37:F37) -> 57.370508 | I37: =G37/H37 -> 0.031477289 | K37: 46.10626 | L37: 47.52724 | M37: 45.71852 | N37: 47.09398 | O37: =STDEV(K37:N37) -> 0.84143675 | P37: =AVERAGE(K37:N37) -> 46.6115 | Q37: =O37/P37 -> 0.018052128 | S37: 43.10217 | T37: 44.36774 | U37: 42.25132 | V37: 40.8901 | W37: =STDEV(S37:V37) -> 1.4618767 | X37: =AVERAGE(S37:V37) -> 42.652832 | Y37: =W37/X37 -> 0.034273847 | AA37: 39.30029 | AB37: 40.66846 | AC37: 39.0243 | AD37: 40.89013 | AE37: =STDEV(AA37:AD37) -> 0.94469449 | AF37: =AVERAGE(AA37:AD37) -> 39.970795 | AG37: =AE37/AF37 -> 0.023634618 | AI37: 43.00659 | AJ37: 44.40742 | AK37: 44.16314 | AL37: 47.33915 | AM37: =STDEV(AI37:AL37) -> 1.8441972 | AN37: =AVERAGE(AI37:AL37) -> 44.729075 | AO37: =AM37/AN37 -> 0.041230391
A38: Integral 7 | C38: 0.52915 | D38: 0.54875 | E38: 0.50023 | F38: 0.54971 | G38: =STDEV(C38:F38) -> 0.023177975 | H38: =AVERAGE(C38:F38) -> 0.53196 | I38: =G38/H38 -> 0.043570899 | K38: 0.50084 | L38: 0.52511 | M38: 0.52415 | N38: 0.49576 | O38: =STDEV(K38:N38) -> 0.015347453 | P38: =AVERAGE(K38:N38) -> 0.511465 | Q38: =O38/P38 -> 0.030006848 | S38: 0.58632 | T38: 0.58976 | U38: 0.57355 | V38: 0.5697 | W38: =STDEV(S38:V38) -> 0.0097087637 | X38: =AVERAGE(S38:V38) -> 0.5798325 | Y38: =W38/X38 -> 0.016744083 | AA38: 0.53774 | AB38: 0.57039 | AC38: 0.55912 | AD38: 0.56968 | AE38: =STDEV(AA38:AD38) -> 0.015226953 | AF38: =AVERAGE(AA38:AD38) -> 0.5592325 | AG38: =AE38/AF38 -> 0.027228305 | AI38: 0.50857 | AJ38: 0.54552 | AK38: 0.56428 | AL38: 0.58643 | AM38: =STDEV(AI38:AL38) -> 0.032973821 | AN38: =AVERAGE(AI38:AL38) -> 0.5512 | AO38: =AM38/AN38 -> 0.059821881
A39: Integral 8 | C39: 2.52172 | D39: 2.56006 | E39: 2.48159 | F39: 2.6405 | G39: =STDEV(C39:F39) -> 0.067743132 | H39: =AVERAGE(C39:F39) -> 2.5509675 | I39: =G39/H39 -> 0.026555859 | K39: 2.31798 | L39: 2.41641 | M39: 2.37091 | N39: 2.35506 | O39: =STDEV(K39:N39) -> 0.040774043 | P39: =AVERAGE(K39:N39) -> 2.36509 | Q39: =O39/P39 -> 0.017239954 | S39: 2.65082 | T39: 2.71058 | U39: 2.59229 | V39: 2.6003 | W39: =STDEV(S39:V39) -> 0.054595216 | X39: =AVERAGE(S39:V39) -> 2.6384975 | Y39: =W39/X39 -> 0.020691782 | AA39: 2.49658 | AB39: 2.62199 | AC39: 2.51471 | AD39: 2.60032 | AE39: =STDEV(AA39:AD39) -> 0.061998664 | AF39: =AVERAGE(AA39:AD39) -> 2.5584 | AG39: =AE39/AF39 -> 0.024233374 | AI39: 2.3879 | AJ39: 2.51334 | AK39: 2.54425 | AL39: 2.67603 | AM39: =STDEV(AI39:AL39) -> 0.11831767 | AN39: =AVERAGE(AI39:AL39) -> 2.53038 | AO39: =AM39/AN39 -> 0.046758853
A40: Integral 9 | C40: 0.67285 | D40: 0.68626 | E40: 0.59756 | F40: 0.67158 | G40: =STDEV(C40:F40) -> 0.040220411 | H40: =AVERAGE(C40:F40) -> 0.6570625 | I40: =G40/H40 -> 0.061212459 | K40: 0.60593 | L40: 0.64844 | M40: 0.63908 | N40: 0.60607 | O40: =STDEV(K40:N40) -> 0.022133174 | P40: =AVERAGE(K40:N40) -> 0.62488 | Q40: =O40/P40 -> 0.035419879 | S40: 0.72966 | T40: 0.72672 | U40: 0.71553 | V40: 0.6977 | W40: =STDEV(S40:V40) -> 0.014477072 | X40: =AVERAGE(S40:V40) -> 0.7174025 | Y40: =W40/X40 -> 0.020179847 | AA40: 0.6656 | AB40: 0.70527 | AC40: 0.67964 | AD40: 0.6977 | AE40: =STDEV(AA40:AD40) -> 0.017892284 | AF40: =AVERAGE(AA40:AD40) -> 0.6870525 | AG40: =AE40/AF40 -> 0.026042091 | AI40: 0.62982 | AJ40: 0.67474 | AK40: 0.69919 | AL40: 0.71923 | AM40: =STDEV(AI40:AL40) -> 0.038517221 | AN40: =AVERAGE(AI40:AL40) -> 0.680745 | AO40: =AM40/AN40 -> 0.056580982
A41: Integral 10 | C41: 1.03891 | D41: 1.06608 | E41: 0.92456 | F41: 1.05078 | G41: =STDEV(C41:F41) -> 0.064645519 | H41: =AVERAGE(C41:F41) -> 1.0200825 | I41: =G41/H41 -> 0.063372834 | K41: 0.93908 | L41: 1.02096 | M41: 1.0055 | N41: 0.96437 | O41: =STDEV(K41:N41) -> 0.037515165 | P41: =AVERAGE(K41:N41) -> 0.9824775 | Q41: =O41/P41 -> 0.038184249 | S41: 1.12338 | T41: 1.1203 | U41: 1.10898 | V41: 1.0983 | W41: =STDEV(S41:V41) -> 0.011445733 | X41: =AVERAGE(S41:V41) -> 1.11274 | Y41: =W41/X41 -> 0.01028608 | AA41: 1.03496 | AB41: 1.10199 | AC41: 1.05883 | AD41: 1.09834 | AE41: =STDEV(AA41:AD41) -> 0.032296762 | AF41: =AVERAGE(AA41:AD41) -> 1.07353 | AG41: =AE41/AF41 -> 0.030084639 | AI41: 0.98539 | AJ41: 1.05804 | AK41: 1.10644 | AL41: 1.15071 | AM41: =STDEV(AI41:AL41) -> 0.070800158 | AN41: =AVERAGE(AI41:AL41) -> 1.075145 | AO41: =AM41/AN41 -> 0.06585173
A42: Integral 11 | C42: 0.59777 | D42: 0.61463 | E42: 0.50588 | F42: 0.59406 | G42: =STDEV(C42:F42) -> 0.048961886 | H42: =AVERAGE(C42:F42) -> 0.578085 | I42: =G42/H42 -> 0.08469669 | K42: 0.53621 | L42: 0.59955 | M42: 0.58786 | N42: 0.5582 | O42: =STDEV(K42:N42) -> 0.028707479 | P42: =AVERAGE(K42:N42) -> 0.570455 | Q42: =O42/P42 -> 0.050323828 | S42: 0.63682 | T42: 0.62452 | U42: 0.63334 | V42: 0.6261 | W42: =STDEV(S42:V42) -> 0.0058525294 | X42: =AVERAGE(S42:V42) -> 0.630195 | Y42: =W42/X42 -> 0.0092868547 | AA42: 0.57974 | AB42: 0.62213 | AC42: 0.59867 | AD42: 0.6261 | AE42: =STDEV(AA42:AD42) -> 0.02164687 | AF42: =AVERAGE(AA42:AD42) -> 0.60666 | AG42: =AE42/AF42 -> 0.035682047 | AI42: 0.54686 | AJ42: 0.59096 | AK42: 0.63052 | AL42: 0.65246 | AM42: =STDEV(AI42:AL42) -> 0.046479182 | AN42: =AVERAGE(AI42:AL42) -> 0.6052 | AO42: =AM42/AN42 -> 0.076799707
A43: Integral 12 | C43: 0.40482 | D43: 0.41556 | E43: 0.32709 | F43: 0.39696 | G43: =STDEV(C43:F43) -> 0.040076799 | H43: =AVERAGE(C43:F43) -> 0.3861075 | I43: =G43/H43 -> 0.103797 | K43: 0.35025 | L43: 0.3988 | M43: 0.38931 | N43: 0.36934 | O43: =STDEV(K43:N43) -> 0.021610119 | P43: =AVERAGE(K43:N43) -> 0.376925 | Q43: =O43/P43 -> 0.057332676 | S43: 0.43853 | T43: 0.42828 | U43: 0.43668 | V43: 0.4267 | W43: =STDEV(S43:V43) -> 0.0059237566 | X43: =AVERAGE(S43:V43) -> 0.4325475 | Y43: =W43/X43 -> 0.013695043 | AA43: 0.39648 | AB43: 0.42771 | AC43: 0.40648 | AD43: 0.4267 | AE43: =STDEV(AA43:AD43) -> 0.015408717 | AF43: =AVERAGE(AA43:AD43) -> 0.4143425 | AG43: =AE43/AF43 -> 0.037188357 | AI43: 0.36977 | AJ43: 0.40254 | AK43: 0.43093 | AL43: 0.44628 | AM43: =STDEV(AI43:AL43) -> 0.033693472 | AN43: =AVERAGE(AI43:AL43) -> 0.41238 | AO43: =AM43/AN43 -> 0.081704913
... A46: TMS | C46: 0.86734 | D46: 0.86633 | E46: 0.91215 | F46: 0.91063 | G46: =STDEV(C46:F46) -> 0.025734628 | H46: =AVERAGE(C46:F46) -> 0.8891125 | I46: =G46/H46 -> 0.028944176 | K46: 0.67754 | L46: 0.69006 | M46: 0.6383 | N46: 0.65031 | O46: =STDEV(K46:N46) -> 0.023877118 | P46: =AVERAGE(K46:N46) -> 0.6640525 | Q46: =O46/P46 -> 0.035956672 | S46: 0.39003 | T46: 0.39931 | U46: 0.37564 | V46: 0.3465 | W46: =STDEV(S46:V46) -> 0.023069381 | X46: =AVERAGE(S46:V46) -> 0.37787 | Y46: =W46/X46 -> 0.061051105 | AA46: 0.32735 | AB46: 0.3481 | AC46: 0.32624 | AD46: 0.34651 | AE46: =STDEV(AA46:AD46) -> 0.011867887 | AF46: =AVERAGE(AA46:AD46) -> 0.33705 | AG46: =AE46/AF46 -> 0.035211057 | AI46: 0.30652 | AJ46: 0.31781 | AK46: 0.28359 | AL46: 0.29553 | AM46: =STDEV(AI46:AL46) -> 0.014674239 | AN46: =AVERAGE(AI46:AL46) -> 0.3008625 | AO46: =AM46/AN46 -> 0.048773905
C50: BOTTOM-01 | K50: BOTTOM-02 | S50: BOTTOM-03 | AA50: BOTTOM-04 | AI50: BOTTOM-05
A51: Integral region | C51: NMR-1 | D51: NMR-2 | E51: NMR-3 | F51: NMR-4 | G51: STD DEV | H51: AVERAGE | I51: RSD | K51: NMR-1 | L51: NMR-2 | M51: NMR-3 | N51: NMR-4 | O51: STD DEV | P51: AVERAGE | Q51: RSD | S51: NMR-1 | T51: NMR-2 | U51: NMR-3 | V51: NMR-4 | W51: STD DEV | X51: AVERAGE | Y51: RSD | AA51: NMR-1 | AB51: NMR-2 | AC51: NMR-3 | AD51: NMR-4 | AE51: STD DEV | AF51: AVERAGE | AG51: RSD | AI51: NMR-1 | AJ51: NMR-2 | AK51: NMR-3 | AL51: NMR-4 | AM51: STD DEV | AN51: AVERAGE | AO51: RSD
A53: Aldehyde | C53: 0.04748 | D53: 0.03956 | E53: 0.02019 | F53: 0.02748 | G53: =STDEV(C53:F53) -> 0.012185161 | H53: =AVERAGE(C53:F53) -> 0.0336775 | I53: =G53/H53 -> 0.36181906 | K53: 0.04371 | L53: 0.0427 | M53: 0.04428 | N53: 0.05434 | O53: =STDEV(K53:N53) -> 0.005427795 | P53: =AVERAGE(K53:N53) -> 0.0462575 | Q53: =O53/P53 -> 0.1173387 | S53: 0.06661 | T53: 0.04472 | U53: 0.06914 | V53: 0.05566 | W53: =STDEV(S53:V53) -> 0.011192281 | X53: =AVERAGE(S53:V53) -> 0.0590325 | Y53: =W53/X53 -> 0.18959524 | AA53: 0.05671 | AB53: 0.06756 | AC53: 0.05346 | AD53: 0.04941 | AE53: =STDEV(AA53:AD53) -> 0.0077792995 | AF53: =AVERAGE(AA53:AD53) -> 0.056785 | AG53: =AE53/AF53 -> 0.13699568 | AI53: 0.04748 | AJ53: 0.04738 | AK53: 0.04057 | AL53: 0.05823 | AM53: =STDEV(AI53:AL53) -> 0.0072989428 | AN53: =AVERAGE(AI53:AL53) -> 0.048415 | AO53: =AM53/AN53 -> 0.15075788
A54: Aldehyde | C54: 1 | D54: 1 | E54: 1 | F54: 1 | G54: =STDEV(C54:F54) -> 0 | H54: =AVERAGE(C54:F54) -> 1 | I54: =G54/H54 -> 0 | K54: 1 | L54: 1 | M54: 1 | N54: 1 | O54: =STDEV(K54:N54) -> 0 | P54: =AVERAGE(K54:N54) -> 1 | Q54: =O54/P54 -> 0 | S54: 1 | T54: 1 | U54: 1 | V54: 1 | W54: =STDEV(S54:V54) -> 0 | X54: =AVERAGE(S54:V54) -> 1 | Y54: =W54/X54 -> 0 | AA54: 1 | AB54: 1 | AC54: 1 | AD54: 1 | AE54: =STDEV(AA54:AD54) -> 0 | AF54: =AVERAGE(AA54:AD54) -> 1 | AG54: =AE54/AF54 -> 0 | AI54: 1 | AJ54: 1 | AK54: 1 | AL54: 1 | AM54: =STDEV(AI54:AL54) -> 0 | AN54: =AVERAGE(AI54:AL54) -> 1 | AO54: =AM54/AN54 -> 0
A55: Aromatics | C55: 23.06869 | D55: 24.3689 | E55: 24.3951 | F55: 23.64942 | G55: =STDEV(C55:F55) -> 0.63649649 | H55: =AVERAGE(C55:F55) -> 23.870528 | I55: =G55/H55 -> 0.026664534 | K55: 23.88274 | L55: 23.8619 | M55: 23.98598 | N55: 24.57509 | O55: =STDEV(K55:N55) -> 0.3368392 | P55: =AVERAGE(K55:N55) -> 24.076428 | Q55: =O55/P55 -> 0.013990414 | S55: 24.0383 | T55: 22.14932 | U55: 22.97973 | V55: 23.13582 | W55: =STDEV(S55:V55) -> 0.77408081 | X55: =AVERAGE(S55:V55) -> 23.075792 | Y55: =W55/X55 -> 0.033545145 | AA55: 20.31339 | AB55: 22.92611 | AC55: 23.15133 | AD55: 23.87322 | AE55: =STDEV(AA55:AD55) -> 1.5551384 | AF55: =AVERAGE(AA55:AD55) -> 22.566012 | AG55: =AE55/AF55 -> 0.068915073 | AI55: 23.06869 | AJ55: 24.89467 | AK55: 24.11949 | AL55: 24.3946 | AM55: =STDEV(AI55:AL55) -> 0.77044795 | AN55: =AVERAGE(AI55:AL55) -> 24.119363 | AO55: =AM55/AN55 -> 0.031943131
A56: OCH/O-CH2 | C56: 1.9417 | D56: 2.07564 | E56: 2.14321 | F56: 2.08898 | G56: =STDEV(C56:F56) -> 0.085596999 | H56: =AVERAGE(C56:F56) -> 2.0623825 | I56: =G56/H56 -> 0.04150394 | K56: 1.99167 | L56: 1.985 | M56: 1.9778 | N56: 2.16379 | O56: =STDEV(K56:N56) -> 0.089662397 | P56: =AVERAGE(K56:N56) -> 2.029565 | Q56: =O56/P56 -> 0.044178135 | S56: 2.05412 | T56: 1.77719 | U56: 2.12282 | V56: 2.15359 | W56: =STDEV(S56:V56) -> 0.17160712 | X56: =AVERAGE(S56:V56) -> 2.02693 | Y56: =W56/X56 -> 0.084663565 | AA56: 1.81144 | AB56: 2.06828 | AC56: 2.10426 | AD56: 2.40982 | AE56: =STDEV(AA56:AD56) -> 0.24513262 | AF56: =AVERAGE(AA56:AD56) -> 2.09845 | AG56: =AE56/AF56 -> 0.11681604 | AI56: 1.9417 | AJ56: 2.30226 | AK56: 1.92946 | AL56: 2.0665 | AM56: =STDEV(AI56:AL56) -> 0.17298144 | AN56: =AVERAGE(AI56:AL56) -> 2.05998 | AO56: =AM56/AN56 -> 0.083972389
A57: Methoxy | C57: 181.04566 | D57: 189.12706 | E57: 195.86446 | F57: 194.29043 | G57: =STDEV(C57:F57) -> 6.6762035 | H57: =AVERAGE(C57:F57) -> 190.0819 | I57: =G57/H57 -> 0.035122773 | K57: 93.77693 | L57: 94.8439 | M57: 93.93259 | N57: 97.43712 | O57: =STDEV(K57:N57) -> 1.693041 | P57: =AVERAGE(K57:N57) -> 94.997635 | Q57: =O57/P57 -> 0.017821927 | S57: 93.5513 | T57: 88.06807 | U57: 95.34684 | V57: 96.85062 | W57: =STDEV(S57:V57) -> 3.8356911 | X57: =AVERAGE(S57:V57) -> 93.454207 | Y57: =W57/X57 -> 0.041043536 | AA57: 83.67676 | AB57: 85.25779 | AC57: 87.30873 | AD57: 90.67071 | AE57: =STDEV(AA57:AD57) -> 3.0195911 | AF57: =AVERAGE(AA57:AD57) -> 86.728498 | AG57: =AE57/AF57 -> 0.034816597 | AI57: 181.04566 | AJ57: 84.5839 | AK57: 77.99297 | AL57: 81.09876 | AM57: =STDEV(AI57:AL57) -> 49.982783 | AN57: =AVERAGE(AI57:AL57) -> 106.18032 | AO57: =AM57/AN57 -> 0.4707349
A58: DMSO | C58: 41.41338 | D58: 42.72023 | E58: 43.94849 | F58: 43.35901 | G58: =STDEV(C58:F58) -> 1.0872084 | H58: =AVERAGE(C58:F58) -> 42.860277 | I58: =G58/H58 -> 0.02536634 | K58: 41.58171 | L58: 41.4441 | M58: 40.11576 | N58: 41.63895 | O58: =STDEV(K58:N58) -> 0.72421128 | P58: =AVERAGE(K58:N58) -> 41.19513 | Q58: =O58/P58 -> 0.017580022 | S58: 40.86759 | T58: 37.98168 | U58: 40.15541 | V58: 40.71545 | W58: =STDEV(S58:V58) -> 1.334512 | X58: =AVERAGE(S58:V58) -> 39.930032 | Y58: =W58/X58 -> 0.033421261 | AA58: 41.79899 | AB58: 42.02243 | AC58: 42.16219 | AD58: 43.77378 | AE58: =STDEV(AA58:AD58) -> 0.90210944 | AF58: =AVERAGE(AA58:AD58) -> 42.439347 | AG58: =AE58/AF58 -> 0.02125644 | AI58: 41.41338 | AJ58: 41.76643 | AK58: 38.56923 | AL58: 39.17163 | AM58: =STDEV(AI58:AL58) -> 1.5957558 | AN58: =AVERAGE(AI58:AL58) -> 40.230168 | AO58: =AM58/AN58 -> 0.03966565
A59: Integral 7 | C59: 0.53261 | D59: 0.53445 | E59: 0.56255 | F59: 0.55752 | G59: =STDEV(C59:F59) -> 0.015458097 | H59: =AVERAGE(C59:F59) -> 0.5467825 | I59: =G59/H59 -> 0.028271016 | K59: 0.58247 | L59: 0.5666 | M59: 0.53114 | N59: 0.53516 | O59: =STDEV(K59:N59) -> 0.024810797 | P59: =AVERAGE(K59:N59) -> 0.5538425 | Q59: =O59/P59 -> 0.044797567 | S59: 0.53029 | T59: 0.53109 | U59: 0.5361 | V59: 0.53179 | W59: =STDEV(S59:V59) -> 0.0025950642 | X59: =AVERAGE(S59:V59) -> 0.5323175 | Y59: =W59/X59 -> 0.0048750308 | AA59: 0.55238 | AB59: 0.50978 | AC59: 0.53451 | AD59: 0.54879 | AE59: =STDEV(AA59:AD59) -> 0.019331012 | AF59: =AVERAGE(AA59:AD59) -> 0.536365 | AG59: =AE59/AF59 -> 0.036040779 | AI59: 0.53261 | AJ59: 0.58293 | AK59: 0.52843 | AL59: 0.52594 | AM59: =STDEV(AI59:AL59) -> 0.027108384 | AN59: =AVERAGE(AI59:AL59) -> 0.5424775 | AO59: =AM59/AN59 -> 0.049971444
A60: Integral 8 | C60: 2.47536 | D60: 2.54375 | E60: 2.63026 | F60: 2.60305 | G60: =STDEV(C60:F60) -> 0.068748814 | H60: =AVERAGE(C60:F60) -> 2.563105 | I60: =G60/H60 -> 0.026822473 | K60: 2.60672 | L60: 2.5709 | M60: 2.4696 | N60: 2.52117 | O60: =STDEV(K60:N60) -> 0.059720179 | P60: =AVERAGE(K60:N60) -> 2.5420975 | Q60: =O60/P60 -> 0.023492482 | S60: 2.55532 | T60: 2.44654 | U60: 2.54765 | V60: 2.56468 | W60: =STDEV(S60:V60) -> 0.055113398 | X60: =AVERAGE(S60:V60) -> 2.5285475 | Y60: =W60/X60 -> 0.021796465 | AA60: 2.53785 | AB60: 2.48507 | AC60: 2.53878 | AD60: 2.58398 | AE60: =STDEV(AA60:AD60) -> 0.040440865 | AF60: =AVERAGE(AA60:AD60) -> 2.53642 | AG60: =AE60/AF60 -> 0.015944073 | AI60: 2.47536 | AJ60: 2.67909 | AK60: 2.44318 | AL60: 2.46882 | AM60: =STDEV(AI60:AL60) -> 0.10920495 | AN60: =AVERAGE(AI60:AL60) -> 2.5166125 | AO60: =AM60/AN60 -> 0.043393628
A61: Integral 9 | C61: 0.67279 | D61: 0.67446 | E61: 0.70529 | F61: 0.7044 | G61: =STDEV(C61:F61) -> 0.018041424 | H61: =AVERAGE(C61:F61) -> 0.689235 | I61: =G61/H61 -> 0.026176012 | K61: 0.73128 | L61: 0.7029 | M61: 0.65141 | N61: 0.65359 | O61: =STDEV(K61:N61) -> 0.039059598 | P61: =AVERAGE(K61:N61) -> 0.684795 | Q61: =O61/P61 -> 0.05703838 | S61: 0.65313 | T61: 0.65664 | U61: 0.65283 | V61: 0.65068 | W61: =STDEV(S61:V61) -> 0.002467671 | X61: =AVERAGE(S61:V61) -> 0.65332 | Y61: =W61/X61 -> 0.0037771245 | AA61: 0.68817 | AB61: 0.63264 | AC61: 0.65782 | AD61: 0.67033 | AE61: =STDEV(AA61:AD61) -> 0.023334591 | AF61: =AVERAGE(AA61:AD61) -> 0.66224 | AG61: =AE61/AF61 -> 0.035235852 | AI61: 0.67279 | AJ61: 0.72947 | AK61: 0.64446 | AL61: 0.64358 | AM61: =STDEV(AI61:AL61) -> 0.040283373 | AN61: =AVERAGE(AI61:AL61) -> 0.672575 | AO61: =AM61/AN61 -> 0.059894247
A62: Integral 10 | C62: 1.03087 | D62: 1.03806 | E62: 1.09428 | F62: 1.09797 | G62: =STDEV(C62:F62) -> 0.035751978 | H62: =AVERAGE(C62:F62) -> 1.065295 | I62: =G62/H62 -> 0.033560636 | K62: 1.1356 | L62: 1.0934 | M62: 1.01544 | N62: 1.02176 | O62: =STDEV(K62:N62) -> 0.058043665 | P62: =AVERAGE(K62:N62) -> 1.06655 | Q62: =O62/P62 -> 0.054421888 | S62: 1.02121 | T62: 1.02662 | U62: 1.02834 | V62: 1.02839 | W62: =STDEV(S62:V62) -> 0.0033881066 | X62: =AVERAGE(S62:V62) -> 1.02614 | Y62: =W62/X62 -> 0.0033017977 | AA62: 1.07556 | AB62: 0.99656 | AC62: 1.04142 | AD62: 1.0644 | AE62: =STDEV(AA62:AD62) -> 0.034968856 | AF62: =AVERAGE(AA62:AD62) -> 1.044485 | AG62: =AE62/AF62 -> 0.03347952 | AI62: 1.03087 | AJ62: 1.13848 | AK62: 0.9974 | AL62: 1.01106 | AM62: =STDEV(AI62:AL62) -> 0.064173338 | AN62: =AVERAGE(AI62:AL62) -> 1.0444525 | AO62: =AM62/AN62 -> 0.061442084
A63: Integral 11 | C63: 0.58446 | D63: 0.58416 | E63: 0.622 | F63: 0.62923 | G63: =STDEV(C63:F63) -> 0.024029735 | H63: =AVERAGE(C63:F63) -> 0.6049625 | I63: =G63/H63 -> 0.039721032 | K63: 0.65131 | L63: 0.6212 | M63: 0.56706 | N63: 0.56695 | O63: =STDEV(K63:N63) -> 0.041828517 | P63: =AVERAGE(K63:N63) -> 0.60163 | Q63: =O63/P63 -> 0.069525319 | S63: 0.55862 | T63: 0.57706 | U63: 0.57184 | V63: 0.56867 | W63: =STDEV(S63:V63) -> 0.0077647381 | X63: =AVERAGE(S63:V63) -> 0.5690475 | Y63: =W63/X63 -> 0.013645149 | AA63: 0.60215 | AB63: 0.5447 | AC63: 0.5797 | AD63: 0.5969 | AE63: =STDEV(AA63:AD63) -> 0.02594505 | AF63: =AVERAGE(AA63:AD63) -> 0.5808625 | AG63: =AE63/AF63 -> 0.044666423 | AI63: 0.58446 | AJ63: 0.64006 | AK63: 0.5453 | AL63: 0.55615 | AM63: =STDEV(AI63:AL63) -> 0.04239142 | AN63: =AVERAGE(AI63:AL63) -> 0.5814925 | AO63: =AM63/AN63 -> 0.072901061
A64: Integral 12 | C64: 0.40475 | D64: 0.40445 | E64: 0.43061 | F64: 0.43689 | G64: =STDEV(C64:F64) -> 0.017024362 | H64: =AVERAGE(C64:F64) -> 0.419175 | I64: =G64/H64 -> 0.040613973 | K64: 0.45388 | L64: 0.4281 | M64: 0.39034 | N64: 0.39057 | O64: =STDEV(K64:N64) -> 0.031016753 | P64: =AVERAGE(K64:N64) -> 0.4157225 | Q64: =O64/P64 -> 0.074609271 | S64: 0.37881 | T64: 0.38967 | U64: 0.38689 | V64: 0.38608 | W64: =STDEV(S64:V64) -> 0.0046309781 | X64: =AVERAGE(S64:V64) -> 0.3853625 | Y64: =W64/X64 -> 0.0120172 | AA64: 0.40552 | AB64: 0.37395 | AC64: 0.39846 | AD64: 0.40968 | AE64: =STDEV(AA64:AD64) -> 0.015987171 | AF64: =AVERAGE(AA64:AD64) -> 0.3969025 | AG64: =AE64/AF64 -> 0.040279844 | AI64: 0.40475 | AJ64: 0.45107 | AK64: 0.36969 | AL64: 0.3832 | AM64: =STDEV(AI64:AL64) -> 0.035649579 | AN64: =AVERAGE(AI64:AL64) -> 0.4021775 | AO64: =AM64/AN64 -> 0.088641406
... A67: TMS | C67: 1.01657 | D67: 1.03979 | E67: 1.01799 | F67: 1.00106 | G67: =STDEV(C67:F67) -> 0.015925929 | H67: =AVERAGE(C67:F67) -> 1.0188525 | I67: =G67/H67 -> 0.015631241 | K67: 1.06279 | L67: 1.0328 | M67: 1.02221 | N67: 1.02272 | O67: =STDEV(K67:N67) -> 0.019073883 | P67: =AVERAGE(K67:N67) -> 1.03513 | Q67: =O67/P67 -> 0.018426558 | S67: 0.83033 | T67: 0.74679 | U67: 0.78839 | V67: 0.77543 | W67: =STDEV(S67:V67) -> 0.034725923 | X67: =AVERAGE(S67:V67) -> 0.785235 | Y67: =W67/X67 -> 0.044223605 | AA67: 0.68902 | AB67: 0.70333 | AC67: 0.69469 | AD67: 0.70093 | AE67: =STDEV(AA67:AD67) -> 0.0064428274 | AF67: =AVERAGE(AA67:AD67) -> 0.6969925 | AG67: =AE67/AF67 -> 0.0092437543 | AI67: 1.01657 | AJ67: 0.57716 | AK67: 0.56911 | AL67: 0.56684 | AM67: =STDEV(AI67:AL67) -> 0.22281067 | AN67: =AVERAGE(AI67:AL67) -> 0.68242 | AO67: =AM67/AN67 -> 0.32650079
A72: Integral region | C72: Bottom_Samples | O72: MIDDLE_Samples | Z72: TOP_Samples | AM72: ALL_Samples
C73: Averages over all spectra (same sample): | I73: overall RSD over all samples (measurement and sampling): | J73: averaged RSD over all spectra (measurement only): | O73: Averages over all spectra (same sample): | U73: overall RSD over all samples (measurement and sampling): | V73: averaged RSD over all spectra (measurement only): | Z73: Averages over all spectra (same sample): | AF73: overall RSD over all samples (measurement and sampling): | AG73: averaged RSD over all spectra (measurement only): | AL73: overall RSD over all samples (measurement and sampling): | AM73: averaged RSD over all spectra (measurement only): | AN73: averaged RSD over all spectra (sampling only):
A74: Aldehyde Integral 1 | C74: =AVERAGE(C53:F53) -> 0.0336775 | D74: =AVERAGE(K53:N53) -> 0.0462575 | E74: =AVERAGE(S53:V53) -> 0.0590325 | F74: =AVERAGE(AA53:AD53) -> 0.056785 | G74: =AVERAGE(AI53:AL53) -> 0.048415 | I74: =STDEV(C74:G74)/AVERAGE(C74:G74)*SQRT(4) -> 0.41147594 | J74: =SQRT(SUMSQ(C94:G94)/COUNT(C94:G94)) -> 0.21077168 | O74: =AVERAGE(C32:F32) -> -0.0151525 | P74: =AVERAGE(K32:N32) -> 0.0544375 | Q74: =AVERAGE(S32:V32) -> 0.0473525 | R74: =AVERAGE(AA32:AD32) -> 0.0574725 | S74: =AVERAGE(AI32:AL32) -> 0.052925 | U74: =STDEV(O74:S74)/AVERAGE(O74:S74)*SQRT(4) -> 1.5591161 | V74: =SQRT(SUMSQ(O94:S94)/COUNT(O94:S94)) -> 0.41730156 | Z74: =AVERAGE(C11:F11) -> 0.0611275 | AA74: =AVERAGE(K11:N11) -> 0.05181 | AB74: =AVERAGE(S11:V11) -> 0.0472675 | AC74: =AVERAGE(AA11:AD11) -> 0.0500525 | AD74: =AVERAGE(AI11:AL11) -> 0.042205 | AF74: =STDEV(Z74:AD74)/AVERAGE(Z74:AD74)*SQRT(4) -> 0.27593303 | AG74: =SQRT(SUMSQ(Z94:AD94)/COUNT(Z94:AD94)) -> 0.13382194 | AL74: =STDEV(C11:F11,K11:N11,S11:V11,AA11:AD11,AI11:AL11,C32:F32,K32:N32,S32:V32,AA32:AD32,AI32:AL32,C53:F53,K53:N53,S53:V53,AA53:AD53,AI53:AL53)/AVERAGE(C11:F11,K11:N11,S11:V11,AA11:AD11,AI11:AL11,C32:F32,K32:N32,S32:V32,AA32:AD32,AI32:AL32,C53:F53,K53:N53,S53:V53,AA53:AD53,AI53:AL53) -> 0.41857778 | AM74: =SQRT(SUMSQ(Z94:AD94,O94:S94,C94:G94)/COUNT(Z94:AD94,O94:S94,C94:G94)) -> 0.28075708 | AN74: =SQRT(AL74^2-AM74^2) -> 0.31045583
A75: Aldehyde Integral 2
