Workbook

Sheet ANOVA approach 1
A1: Lignin qNMR Lignin Sampling Uncertainty using ANOVA (Summary in cells C5:E7) | L1: Approach based on: A.M.H. van der Veen, J. Pauwels, Accred. Qual. Assur. 2000, 5, 464
A2: With baseline correction, differences between spectra, up to little more than a week
A3: Top 1-5: four corners and middle. NMR-1 to NMR-4: spectra from the same solution
A5: Reference peak for caluclating intensity ratios: 8.40–8.65 ppm
A10: ANOVA
T11: ALL_Samples
C12: Sums of squares | G12: Degrees of freedom | K12: Mean squares | O12: Absolute std deviations | T12: Relative std deviations
C13: Total | D13: Within | E13: Between | G13: Total | H13: Within | I13: Between | K13: Total | L13: Within | M13: Between | O13: Total | P13: Within | Q13: Between | S13: Overall | T13: Measurement | U13: Sampling
A14: =A37 -> Aldehyde Integral 1 | C14: =SUMSQ(C56:BJ56) -> 0.022106572 | D14: =SUMSQ(C37:BJ37) -> 0.0031855283 | E14: =C14-D14 -> 0.018921043 | G14: =60-1 -> 59 | H14: =60-15 -> 45 | I14: =15-1 -> 14 | K14: =C14/G14 -> 0.00037468766 | L14: =D14/H14 -> 7.0789519e-05 | M14: =E14/I14 -> 0.0013515031 | O14: =SQRT(SUMSQ(P14:Q14)) -> 0.020215472 | P14: =SQRT(L14) -> 0.0084136507 | Q14: =SQRT((M14)/4) -> 0.018381397 | S14: =O14/$C76 -> 0.43714484 | T14: =P14/$C76 -> 0.18193906 | U14: =Q14/$C76 -> 0.39748432
A15: =A38 -> Aldehyde Integral 2
A16: =A39 -> Aromatic region Integral 3 | C16: =SUMSQ(C58:BJ58) -> 87.397202 | D16: =SUMSQ(C39:BJ39) -> 27.933525 | E16: =C16-D16 -> 59.463677 | G16: =60-1 -> 59 | H16: =60-15 -> 45 | I16: =15-1 -> 14 | K16: =C16/G16 -> 1.4813085 | L16: =D16/H16 -> 0.620745 | M16: =E16/I16 -> 4.2474055 | O16: =SQRT(SUMSQ(P16:Q16)) -> 1.2358844 | P16: =SQRT(L16) -> 0.78787372 | Q16: =SQRT((M16-L16)/4) -> 0.95218965 | S16: =O16/$C78 -> 0.053661608 | T16: =P16/$C78 -> 0.034209164 | U16: =Q16/$C78 -> 0.041343697
A17: =A40 -> OCH/O-CH2 Integral 4 | C17: =SUMSQ(C59:BJ59) -> 1.4170775 | D17: =SUMSQ(C40:BJ40) -> 0.83642135 | E17: =C17-D17 -> 0.58065619 | G17: =60-1 -> 59 | H17: =60-15 -> 45 | I17: =15-1 -> 14 | K17: =C17/G17 -> 0.024018263 | L17: =D17/H17 -> 0.018587141 | M17: =E17/I17 -> 0.041475442 | O17: =SQRT(SUMSQ(P17:Q17)) -> 0.15591413 | P17: =SQRT(L17) -> 0.13633467 | Q17: =SQRT((M17-L17)/4) -> 0.0756444 | S17: =O17/$C79 -> 0.077974376 | T17: =P17/$C79 -> 0.068182469 | U17: =Q17/$C79 -> 0.037830598
A18: =A41 -> Methoxy Integral 5 | C18: =SUMSQ(C60:BJ60) -> 129865.17 | D18: =SUMSQ(C41:BJ41) -> 8217.9536 | E18: =C18-D18 -> 121647.21 | G18: =60-1 -> 59 | H18: =60-15 -> 45 | I18: =15-1 -> 14 | K18: =C18/G18 -> 2201.1045 | L18: =D18/H18 -> 182.62119 | M18: =E18/I18 -> 8689.0867 | O18: =SQRT(SUMSQ(P18:Q18)) -> 48.054527 | P18: =SQRT(L18) -> 13.513741 | Q18: =SQRT((M18-L18)/4) -> 46.115251 | S18: =O18/$C80 -> 0.37885378 | T18: =P18/$C80 -> 0.10654005 | U18: =Q18/$C80 -> 0.36356486
A19: =A42 -> DMSO | C19: =SUMSQ(C61:BJ61) -> 1126.7456 | D19: =SUMSQ(C42:BJ42) -> 71.766016 | E19: =C19-D19 -> 1054.9796 | G19: =60-1 -> 59 | H19: =60-15 -> 45 | I19: =15-1 -> 14 | K19: =C19/G19 -> 19.097384 | L19: =D19/H19 -> 1.5948004 | M19: =E19/I19 -> 75.355688 | O19: =SQRT(SUMSQ(P19:Q19)) -> 4.4760499 | P19: =SQRT(L19) -> 1.262854 | Q19: =SQRT((M19-L19)/4) -> 4.294208 | S19: =O19/$C81 -> 0.10367779 | T19: =P19/$C81 -> 0.029251219 | U19: =Q19/$C81 -> 0.099465822
A20: =A43 -> Integral 7 | C20: =SUMSQ(C62:BJ62) -> 0.036502201 | D20: =SUMSQ(C43:BJ43) -> 0.019710093 | E20: =C20-D20 -> 0.016792109 | G20: =60-1 -> 59 | H20: =60-15 -> 45 | I20: =15-1 -> 14 | K20: =C20/G20 -> 0.00061868138 | L20: =D20/H20 -> 0.00043800206 | M20: =E20/I20 -> 0.0011994363 | O20: =SQRT(SUMSQ(P20:Q20)) -> 0.025067123 | P20: =SQRT(L20) -> 0.020928499 | Q20: =SQRT((M20-L20)/4) -> 0.013797049 | S20: =O20/$C82 -> 0.04638236 | T20: =P20/$C82 -> 0.038724555 | U20: =Q20/$C82 -> 0.025529045
A21: =A44 -> Integral 8 | C21: =SUMSQ(C63:BJ63) -> 0.4491584 | D21: =SUMSQ(C44:BJ44) -> 0.20775956 | E21: =C21-D21 -> 0.24139883 | G21: =60-1 -> 59 | H21: =60-15 -> 45 | I21: =15-1 -> 14 | K21: =C21/G21 -> 0.0076128542 | L21: =D21/H21 -> 0.0046168792 | M21: =E21/I21 -> 0.017242774 | O21: =SQRT(SUMSQ(P21:Q21)) -> 0.08816662 | P21: =SQRT(L21) -> 0.067947621 | Q21: =SQRT((M21-L21)/4) -> 0.056182503 | S21: =O21/$C83 -> 0.035017158 | T21: =P21/$C83 -> 0.026986773 | U21: =Q21/$C83 -> 0.022314018
A22: =A45 -> Integral 9 | C22: =SUMSQ(C64:BJ64) -> 0.076775145 | D22: =SUMSQ(C45:BJ45) -> 0.044635249 | E22: =C22-D22 -> 0.032139896 | G22: =60-1 -> 59 | H22: =60-15 -> 45 | I22: =15-1 -> 14 | K22: =C22/G22 -> 0.0013012736 | L22: =D22/H22 -> 0.00099189441 | M22: =E22/I22 -> 0.0022957069 | O22: =SQRT(SUMSQ(P22:Q22)) -> 0.03630217 | P22: =SQRT(L22) -> 0.031494355 | Q22: =SQRT((M22-L22)/4) -> 0.018054172 | S22: =O22/$C84 -> 0.054357572 | T22: =P22/$C84 -> 0.047158522 | U22: =Q22/$C84 -> 0.027033671
A23: =A46 -> Integral 10 | C23: =SUMSQ(C65:BJ65) -> 0.18393224 | D23: =SUMSQ(C46:BJ46) -> 0.11905222 | E23: =C23-D23 -> 0.064880021 | G23: =60-1 -> 59 | H23: =60-15 -> 45 | I23: =15-1 -> 14 | K23: =C23/G23 -> 0.0031174956 | L23: =D23/H23 -> 0.0026456049 | M23: =E23/I23 -> 0.0046342872 | O23: =SQRT(SUMSQ(P23:Q23)) -> 0.056060463 | P23: =SQRT(L23) -> 0.051435444 | Q23: =SQRT((M23-L23)/4) -> 0.022297322 | S23: =O23/$C85 -> 0.053702176 | T23: =P23/$C85 -> 0.049271717 | U23: =Q23/$C85 -> 0.021359344
A24: =A47 -> Integral 11 | C24: =SUMSQ(C66:BJ66) -> 0.085252969 | D24: =SUMSQ(C47:BJ47) -> 0.06157913 | E24: =C24-D24 -> 0.023673839 | G24: =60-1 -> 59 | H24: =60-15 -> 45 | I24: =15-1 -> 14 | K24: =C24/G24 -> 0.0014449656 | L24: =D24/H24 -> 0.0013684251 | M24: =E24/I24 -> 0.0016909885 | O24: =SQRT(SUMSQ(P24:Q24)) -> 0.038066599 | P24: =SQRT(L24) -> 0.03699223 | Q24: =SQRT((M24-L24)/4) -> 0.0089800254 | S24: =O24/$C86 -> 0.06443522 | T24: =P24/$C86 -> 0.062616639 | U24: =Q24/$C86 -> 0.015200462
A25: =A48 -> Integral 12 | C25: =SUMSQ(C67:BJ67) -> 0.053787375 | D25: =SUMSQ(C48:BJ48) -> 0.037224075 | E25: =C25-D25 -> 0.0165633 | G25: =60-1 -> 59 | H25: =60-15 -> 45 | I25: =15-1 -> 14 | K25: =C25/G25 -> 0.00091165043 | L25: =D25/H25 -> 0.00082720167 | M25: =E25/I25 -> 0.0011830929 | O25: =SQRT(SUMSQ(P25:Q25)) -> 0.030268374 | P25: =SQRT(L25) -> 0.028761114 | Q25: =SQRT((M25-L25)/4) -> 0.0094325392 | S25: =O25/$C87 -> 0.075361263 | T25: =P25/$C87 -> 0.071608533 | U25: =Q25/$C87 -> 0.023484845
A26: =A49 -> Integral 13 | C26: =SUMSQ(C68:BJ68) -> 0.27641733 | D26: =SUMSQ(C49:BJ49) -> 0.14642963 | E26: =C26-D26 -> 0.12998771 | G26: =60-1 -> 59 | H26: =60-15 -> 45 | I26: =15-1 -> 14 | K26: =C26/G26 -> 0.0046850395 | L26: =D26/H26 -> 0.0032539917 | M26: =E26/I26 -> 0.0092848361 | O26: =SQRT(SUMSQ(P26:Q26)) -> 0.069005093 | P26: =SQRT(L26) -> 0.05704377 | Q26: =SQRT((M26-L26)/4) -> 0.038829256 | S26: =O26/$C88 -> 0.043566778 | T26: =P26/$C88 -> 0.036014925 | U26: =Q26/$C88 -> 0.024515083
A27: =A50 -> Integral 14 | C27: =SUMSQ(C69:BJ69) -> 0.027203054 | D27: =SUMSQ(C50:BJ50) -> 0.017783879 | E27: =C27-D27 -> 0.0094191747 | G27: =60-1 -> 59 | H27: =60-15 -> 45 | I27: =15-1 -> 14 | K27: =C27/G27 -> 0.00046106871 | L27: =D27/H27 -> 0.00039519731 | M27: =E27/I27 -> 0.00067279819 | O27: =SQRT(SUMSQ(P27:Q27)) -> 0.021554525 | P27: =SQRT(L27) -> 0.01987957 | Q27: =SQRT((M27-L27)/4) -> 0.0083306795 | S27: =O27/$C89 -> 0.062205463 | T27: =P27/$C89 -> 0.057371614 | U27: =Q27/$C89 -> 0.024041995
A28: =A51 -> TMS | C28: =SUMSQ(C70:BJ70) -> 27.53468 | D28: =SUMSQ(C51:BJ51) -> 0.23477464 | E28: =C28-D28 -> 27.299905 | G28: =60-1 -> 59 | H28: =60-15 -> 45 | I28: =15-1 -> 14 | K28: =C28/G28 -> 0.46668949 | L28: =D28/H28 -> 0.0052172143 | M28: =E28/I28 -> 1.9499932 | O28: =SQRT(SUMSQ(P28:Q28)) -> 0.70100729 | P28: =SQRT(L28) -> 0.072230286 | Q28: =SQRT((M28-L28)/4) -> 0.69727613 | S28: =O28/$C90 -> 0.63075903 | T28: =P28/$C90 -> 0.064992056 | U28: =Q28/$C90 -> 0.62740177
T31: Grand average RSD values:
S32: Overall | T32: Measurement | U32: Sampling
S33: =SQRT(SUMSQ(S16:S17,S20:S27)/COUNT(S16:S17,S20:S27)) -> 0.05811589 | T33: =SQRT(SUMSQ(T16:T17,T20:T27)/COUNT(T16:T17,T20:T27)) -> 0.051318441 | U33: =SQRT(SUMSQ(U16:U17,U20:U27)/COUNT(U16:U17,U20:U27)) -> 0.027274059
A35: Within-group error terms
A37: =A56 -> Aldehyde Integral 1 | C37: =C95-$F76 -> -0.0044575 | D37: =D95-$F76 -> 0.0007125 | E37: =E95-$F76 -> 0.0081725 | F37: =F95-$F76 -> -0.0044275 | G37: =G95-$J76 -> 0.00167 | H37: =H95-$J76 -> 0.00637 | I37: =I95-$J76 -> -0.00348 | J37: =J95-$J76 -> -0.00456 | K37: =K95-$N76 -> 0.0029325 | L37: =L95-$N76 -> 0.0052725 | M37: =M95-$N76 -> 0.0017925 | N37: =N95-$N76 -> -0.0099975 | O37: =O95-$R76 -> -0.0040725 | P37: =P95-$R76 -> 0.0105375 | Q37: =Q95-$R76 -> -0.0009025 | R37: =R95-$R76 -> -0.0055625 | S37: =S95-$V76 -> -0.004445 | T37: =T95-$V76 -> 0.005685 | U37: =U95-$V76 -> 0.006435 | V37: =V95-$V76 -> -0.007675 | W37: =W95-$Z76 -> 0.0140025 | X37: =X95-$Z76 -> -0.0143975 | Y37: =Y95-$Z76 -> -0.0079975 | Z37: =Z95-$Z76 -> 0.0083925 | AA37: =AA95-$AD76 -> -0.0111175 | AB37: =AB95-$AD76 -> -0.0052375 | AC37: =AC95-$AD76 -> 0.0055825 | AD37: =AD95-$AD76 -> 0.0107725 | AE37: =AE95-$AH76 -> -0.0010325 | AF37: =AF95-$AH76 -> 0.0019175 | AG37: =AG95-$AH76 -> -0.0087325 | AH37: =AH95-$AH76 -> 0.0078475 | AI37: =AI95-$AL76 -> 0.0110975 | AJ37: =AJ95-$AL76 -> -0.0041725 | AK37: =AK95-$AL76 -> -0.0046125 | AL37: =AL95-$AL76 -> -0.0023125 | AM37: =AM95-$AP76 -> 0.000895 | AN37: =AN95-$AP76 -> -0.009625 | AO37: =AO95-$AP76 -> 0.007745 | AP37: =AP95-$AP76 -> 0.000985 | AQ37: =AQ95-$AT76 -> 0.0138025 | AR37: =AR95-$AT76 -> 0.0058825 | AS37: =AS95-$AT76 -> -0.0134875 | AT37: =AT95-$AT76 -> -0.0061975 | AU37: =AU95-$AX76 -> -0.0025475 | AV37: =AV95-$AX76 -> -0.0035575 | AW37: =AW95-$AX76 -> -0.0019775 | AX37: =AX95-$AX76 -> 0.0080825 | AY37: =AY95-$BB76 -> 0.0075775 | AZ37: =AZ95-$BB76 -> -0.0143125 | BA37: =BA95-$BB76 -> 0.0101075 | BB37: =BB95-$BB76 -> -0.0033725 | BC37: =BC95-$BF76 -> -7.5e-05 | BD37: =BD95-$BF76 -> 0.010775 | BE37: =BE95-$BF76 -> -0.003325 | BF37: =BF95-$BF76 -> -0.007375 | BG37: =BG95-$BJ76 -> -0.000935 | BH37: =BH95-$BJ76 -> -0.001035 | BI37: =BI95-$BJ76 -> -0.007845 | BJ37: =BJ95-$BJ76 -> 0.009815
A38: =A57 -> Aldehyde Integral 2 | C38: =C96-$F77 -> 0 | D38: =D96-$F77 -> 0 | E38: =E96-$F77 -> 0 | F38: =F96-$F77 -> 0 | G38: =G96-$J77 -> 0 | H38: =H96-$J77 -> 0 | I38: =I96-$J77 -> 0 | J38: =J96-$J77 -> 0 | K38: =K96-$N77 -> 0 | L38: =L96-$N77 -> 0 | M38: =M96-$N77 -> 0 | N38: =N96-$N77 -> 0 | O38: =O96-$R77 -> 0 | P38: =P96-$R77 -> 0 | Q38: =Q96-$R77 -> 0 | R38: =R96-$R77 -> 0 | S38: =S96-$V77 -> 0 | T38: =T96-$V77 -> 0 | U38: =U96-$V77 -> 0 | V38: =V96-$V77 -> 0 | W38: =W96-$Z77 -> 0 | X38: =X96-$Z77 -> 0 | Y38: =Y96-$Z77 -> 0 | Z38: =Z96-$Z77 -> 0 | AA38: =AA96-$AD77 -> 0 | AB38: =AB96-$AD77 -> 0 | AC38: =AC96-$AD77 -> 0 | AD38: =AD96-$AD77 -> 0 | AE38: =AE96-$AH77 -> 0 | AF38: =AF96-$AH77 -> 0 | AG38: =AG96-$AH77 -> 0 | AH38: =AH96-$AH77 -> 0 | AI38: =AI96-$AL77 -> 0 | AJ38: =AJ96-$AL77 -> 0 | AK38: =AK96-$AL77 -> 0 | AL38: =AL96-$AL77 -> 0 | AM38: =AM96-$AP77 -> 0 | AN38: =AN96-$AP77 -> 0 | AO38: =AO96-$AP77 -> 0 | AP38: =AP96-$AP77 -> 0 | AQ38: =AQ96-$AT77 -> 0 | AR38: =AR96-$AT77 -> 0 | AS38: =AS96-$AT77 -> 0 | AT38: =AT96-$AT77 -> 0 | AU38: =AU96-$AX77 -> 0 | AV38: =AV96-$AX77 -> 0 | AW38: =AW96-$AX77 -> 0 | AX38: =AX96-$AX77 -> 0 | AY38: =AY96-$BB77 -> 0 | AZ38: =AZ96-$BB77 -> 0 | BA38: =BA96-$BB77 -> 0 | BB38: =BB96-$BB77 -> 0 | BC38: =BC96-$BF77 -> 0 | BD38: =BD96-$BF77 -> 0 | BE38: =BE96-$BF77 -> 0 | BF38: =BF96-$BF77 -> 0 | BG38: =BG96-$BJ77 -> 0 | BH38: =BH96-$BJ77 -> 0 | BI38: =BI96-$BJ77 -> 0 | BJ38: =BJ96-$BJ77 -> 0
A39: =A58 -> Aromatic region Integral 3 | C39: =C97-$F78 -> 0.099915 | D39: =D97-$F78 -> -1.107885 | E39: =E97-$F78 -> 0.908035 | F39: =F97-$F78 -> 0.099935 | G39: =G97-$J78 -> -0.5918275 | H39: =H97-$J78 -> 0.7673625 | I39: =I97-$J78 -> -0.4316475 | J39: =J97-$J78 -> 0.2561125 | K39: =K97-$N78 -> 0.08197 | L39: =L97-$N78 -> -0.35219 | M39: =M97-$N78 -> 0.25493 | N39: =N97-$N78 -> 0.01529 | O39: =O97-$R78 -> -0.70166 | P39: =P97-$R78 -> -0.4625 | Q39: =Q97-$R78 -> 1.15425 | R39: =R97-$R78 -> 0.00991 | S39: =S97-$V78 -> 0.7974275 | T39: =T97-$V78 -> -0.5505125 | U39: =U97-$V78 -> 0.6249175 | V39: =V97-$V78 -> -0.8718325 | W39: =W97-$Z78 -> -0.605295 | X39: =X97-$Z78 -> -0.313065 | Y39: =Y97-$Z78 -> -0.067855 | Z39: =Z97-$Z78 -> 0.986215 | AA39: =AA97-$AD78 -> 1.0775325 | AB39: =AB97-$AD78 -> -0.1097675 | AC39: =AC97-$AD78 -> 0.1637525 | AD39: =AD97-$AD78 -> -1.1315175 | AE39: =AE97-$AH78 -> 0.15394 | AF39: =AF97-$AH78 -> 1.30807 | AG39: =AG97-$AH78 -> -0.10584 | AH39: =AH97-$AH78 -> -1.35617 | AI39: =AI97-$AL78 -> 0.2409875 | AJ39: =AJ97-$AL78 -> -0.4133625 | AK39: =AK97-$AL78 -> -0.2083425 | AL39: =AL97-$AL78 -> 0.3807175 | AM39: =AM97-$AP78 -> 0.007685 | AN39: =AN97-$AP78 -> -0.121685 | AO39: =AO97-$AP78 -> -0.017935 | AP39: =AP97-$AP78 -> 0.131935 | AQ39: =AQ97-$AT78 -> -0.8018375 | AR39: =AR97-$AT78 -> 0.4983725 | AS39: =AS97-$AT78 -> 0.5245725 | AT39: =AT97-$AT78 -> -0.2211075 | AU39: =AU97-$AX78 -> -0.1936875 | AV39: =AV97-$AX78 -> -0.2145275 | AW39: =AW97-$AX78 -> -0.0904475 | AX39: =AX97-$AX78 -> 0.4986625 | AY39: =AY97-$BB78 -> 0.9625075 | AZ39: =AZ97-$BB78 -> -0.9264725 | BA39: =BA97-$BB78 -> -0.0960625 | BB39: =BB97-$BB78 -> 0.0600275 | BC39: =BC97-$BF78 -> -2.2526225 | BD39: =BD97-$BF78 -> 0.3600975 | BE39: =BE97-$BF78 -> 0.5853175 | BF39: =BF97-$BF78 -> 1.3072075 | BG39: =BG97-$BJ78 -> -1.0506725 | BH39: =BH97-$BJ78 -> 0.7753075 | BI39: =BI97-$BJ78 -> 0.0001275 | BJ39: =BJ97-$BJ78 -> 0.2752375
A40: =A59 -> OCH/O-CH2 Integral 4 | C40: =C98-$F79 -> -0.06487 | D40: =D98-$F79 -> -0.00182 | E40: =E98-$F79 -> 0.13156 | F40: =F98-$F79 -> -0.06487 | G40: =G98-$J79 -> -0.1471675 | H40: =H98-$J79 -> -0.0548375 | I40: =I98-$J79 -> 0.0964225 | J40: =J98-$J79 -> 0.1055825 | K40: =K98-$N79 -> 0.06983 | L40: =L98-$N79 -> -0.01796 | M40: =M98-$N79 -> 0.01523 | N40: =N98-$N79 -> -0.0671 | O40: =O98-$R79 -> 0.0011725 | P40: =P98-$R79 -> 0.0080225 | Q40: =Q98-$R79 -> -0.0339175 | R40: =R98-$R79 -> 0.0247225 | S40: =S98-$V79 -> -0.02817 | T40: =T98-$V79 -> -0.05868 | U40: =U98-$V79 -> 0.03519 | V40: =V98-$V79 -> 0.05166 | W40: =W98-$Z79 -> -0.0229 | X40: =X98-$Z79 -> -0.11613 | Y40: =Y98-$Z79 -> -0.07067 | Z40: =Z98-$Z79 -> 0.2097 | AA40: =AA98-$AD79 -> -0.24868 | AB40: =AB98-$AD79 -> -0.01005 | AC40: =AC98-$AD79 -> 0.06233 | AD40: =AD98-$AD79 -> 0.1964 | AE40: =AE98-$AH79 -> -0.0382125 | AF40: =AF98-$AH79 -> 0.0054275 | AG40: =AG98-$AH79 -> -0.0768325 | AH40: =AH98-$AH79 -> 0.1096175 | AI40: =AI98-$AL79 -> -0.08525 | AJ40: =AJ98-$AL79 -> 0.02619 | AK40: =AK98-$AL79 -> -0.03638 | AL40: =AL98-$AL79 -> 0.09544 | AM40: =AM98-$AP79 -> -0.122165 | AN40: =AN98-$AP79 -> -0.070605 | AO40: =AO98-$AP79 -> -0.124445 | AP40: =AP98-$AP79 -> 0.317215 | AQ40: =AQ98-$AT79 -> -0.1206825 | AR40: =AR98-$AT79 -> 0.0132575 | AS40: =AS98-$AT79 -> 0.0808275 | AT40: =AT98-$AT79 -> 0.0265975 | AU40: =AU98-$AX79 -> -0.037895 | AV40: =AV98-$AX79 -> -0.044565 | AW40: =AW98-$AX79 -> -0.051765 | AX40: =AX98-$AX79 -> 0.134225 | AY40: =AY98-$BB79 -> 0.02719 | AZ40: =AZ98-$BB79 -> -0.24974 | BA40: =BA98-$BB79 -> 0.09589 | BB40: =BB98-$BB79 -> 0.12666 | BC40: =BC98-$BF79 -> -0.28701 | BD40: =BD98-$BF79 -> -0.03017 | BE40: =BE98-$BF79 -> 0.00581 | BF40: =BF98-$BF79 -> 0.31137 | BG40: =BG98-$BJ79 -> -0.11828 | BH40: =BH98-$BJ79 -> 0.24228 | BI40: =BI98-$BJ79 -> -0.13052 | BJ40: =BJ98-$BJ79 -> 0.00652
A41: =A60 -> Methoxy Integral 5 | C41: =C99-$F80 -> 1.0150625 | D41: =D99-$F80 -> -2.2248975 | E41: =E99-$F80 -> 0.1947825 | F41: =F99-$F80 -> 1.0150525 | G41: =G99-$J80 -> -3.9532075 | H41: =H99-$J80 -> -0.7474175 | I41: =I99-$J80 -> 0.5767025 | J41: =J99-$J80 -> 4.1239225 | K41: =K99-$N80 -> -2.77149 | L41: =L99-$N80 -> -4.66795 | M41: =M99-$N80 -> 6.38189 | N41: =N99-$N80 -> 1.05755 | O41: =O99-$R80 -> -2.0279875 | P41: =P99-$R80 -> -0.0014175 | Q41: =Q99-$R80 -> 2.8138025 | R41: =R99-$R80 -> -0.7843975 | S41: =S99-$V80 -> -1.809455 | T41: =T99-$V80 -> -2.628465 | U41: =U99-$V80 -> 1.530165 | V41: =V99-$V80 -> 2.907755 | W41: =W99-$Z80 -> -4.6025175 | X41: =X99-$Z80 -> -3.3698775 | Y41: =Y99-$Z80 -> -0.4395475 | Z41: =Z99-$Z80 -> 8.4119425 | AA41: =AA99-$AD80 -> -5.3646725 | AB41: =AB99-$AD80 -> 3.4620275 | AC41: =AC99-$AD80 -> -1.6562325 | AD41: =AD99-$AD80 -> 3.5588775 | AE41: =AE99-$AH80 -> -1.1306525 | AF41: =AF99-$AH80 -> 4.2544275 | AG41: =AG99-$AH80 -> -3.7218025 | AH41: =AH99-$AH80 -> 0.5980275 | AI41: =AI99-$AL80 -> -4.9895575 | AJ41: =AJ99-$AL80 -> 2.3577425 | AK41: =AK99-$AL80 -> -2.7192775 | AL41: =AL99-$AL80 -> 5.3510925 | AM41: =AM99-$AP80 -> -6.31831 | AN41: =AN99-$AP80 -> -1.46661 | AO41: =AO99-$AP80 -> -0.0876 | AP41: =AP99-$AP80 -> 7.87252 | AQ41: =AQ99-$AT80 -> -9.0362425 | AR41: =AR99-$AT80 -> -0.9548425 | AS41: =AS99-$AT80 -> 5.7825575 | AT41: =AT99-$AT80 -> 4.2085275 | AU41: =AU99-$AX80 -> -1.220705 | AV41: =AV99-$AX80 -> -0.153735 | AW41: =AW99-$AX80 -> -1.065045 | AX41: =AX99-$AX80 -> 2.439485 | AY41: =AY99-$BB80 -> 0.0970925 | AZ41: =AZ99-$BB80 -> -5.3861375 | BA41: =BA99-$BB80 -> 1.8926325 | BB41: =BB99-$BB80 -> 3.3964125 | BC41: =BC99-$BF80 -> -3.0517375 | BD41: =BD99-$BF80 -> -1.4707075 | BE41: =BE99-$BF80 -> 0.5802325 | BF41: =BF99-$BF80 -> 3.9422125 | BG41: =BG99-$BJ80 -> 74.865338 | BH41: =BH99-$BJ80 -> -21.596422 | BI41: =BI99-$BJ80 -> -28.187352 | BJ41: =BJ99-$BJ80 -> -25.081562
A42: =A61 -> DMSO | C42: =C100-$F81 -> 1.69216 | D42: =D100-$F81 -> -2.05648 | E42: =E100-$F81 -> -1.3278 | F42: =F100-$F81 -> 1.69212 | G42: =G100-$J81 -> -0.1807775 | H42: =H100-$J81 -> -0.0111075 | I42: =I100-$J81 -> 0.1542825 | J42: =J100-$J81 -> 0.0376025 | K42: =K100-$N81 -> 0.6210725 | L42: =L100-$N81 -> -0.9651775 | M42: =M100-$N81 -> 1.1675225 | N42: =N100-$N81 -> -0.8234175 | O42: =O100-$R81 -> -0.2113625 | P42: =P100-$R81 -> 0.0529775 | Q42: =Q100-$R81 -> 0.9147675 | R42: =R100-$R81 -> -0.7563825 | S42: =S100-$V81 -> 0.724005 | T42: =T100-$V81 -> -0.963835 | U42: =U100-$V81 -> 1.107365 | V42: =V100-$V81 -> -0.867535 | W42: =W100-$Z81 -> -1.1617175 | X42: =X100-$Z81 -> -1.0849375 | Y42: =Y100-$Z81 -> -0.4150275 | Z42: =Z100-$Z81 -> 2.6616825 | AA42: =AA100-$AD81 -> -0.50524 | AB42: =AB100-$AD81 -> 0.91574 | AC42: =AC100-$AD81 -> -0.89298 | AD42: =AD100-$AD81 -> 0.48248 | AE42: =AE100-$AH81 -> 0.4493375 | AF42: =AF100-$AH81 -> 1.7149075 | AG42: =AG100-$AH81 -> -0.4015125 | AH42: =AH100-$AH81 -> -1.7627325 | AI42: =AI100-$AL81 -> -0.670505 | AJ42: =AJ100-$AL81 -> 0.697665 | AK42: =AK100-$AL81 -> -0.946495 | AL42: =AL100-$AL81 -> 0.919335 | AM42: =AM100-$AP81 -> -1.722485 | AN42: =AN100-$AP81 -> -0.321655 | AO42: =AO100-$AP81 -> -0.565935 | AP42: =AP100-$AP81 -> 2.610075 | AQ42: =AQ100-$AT81 -> -1.4468975 | AR42: =AR100-$AT81 -> -0.1400475 | AS42: =AS100-$AT81 -> 1.0882125 | AT42: =AT100-$AT81 -> 0.4987325 | AU42: =AU100-$AX81 -> 0.38658 | AV42: =AV100-$AX81 -> 0.24897 | AW42: =AW100-$AX81 -> -1.07937 | AX42: =AX100-$AX81 -> 0.44382 | AY42: =AY100-$BB81 -> 0.9375575 | AZ42: =AZ100-$BB81 -> -1.9483525 | BA42: =BA100-$BB81 -> 0.2253775 | BB42: =BB100-$BB81 -> 0.7854175 | BC42: =BC100-$BF81 -> -0.6403575 | BD42: =BD100-$BF81 -> -0.4169175 | BE42: =BE100-$BF81 -> -0.2771575 | BF42: =BF100-$BF81 -> 1.3344325 | BG42: =BG100-$BJ81 -> 1.1832125 | BH42: =BH100-$BJ81 -> 1.5362625 | BI42: =BI100-$BJ81 -> -1.6609375 | BJ42: =BJ100-$BJ81 -> -1.0585375
A43: =A62 -> Integral 7 | C43: =C101-$F82 -> -0.02463 | D43: =D101-$F82 -> 0.01842 | E43: =E101-$F82 -> 0.03084 | F43: =F101-$F82 -> -0.02463 | G43: =G101-$J82 -> 0.004205 | H43: =H101-$J82 -> 0.011215 | I43: =I101-$J82 -> -0.017365 | J43: =J101-$J82 -> 0.001945 | K43: =K101-$N82 -> 0.00466 | L43: =L101-$N82 -> -0.01302 | M43: =M101-$N82 -> 0.01467 | N43: =N101-$N82 -> -0.00631 | O43: =O101-$R82 -> -0.0305675 | P43: =P101-$R82 -> 0.0367125 | Q43: =Q101-$R82 -> -0.0081975 | R43: =R101-$R82 -> 0.0020525 | S43: =S101-$V82 -> 0.0006 | T43: =T101-$V82 -> -0.01016 | U43: =U101-$V82 -> 0.03067 | V43: =V101-$V82 -> -0.02111 | W43: =W101-$Z82 -> -0.00281 | X43: =X101-$Z82 -> 0.01679 | Y43: =Y101-$Z82 -> -0.03173 | Z43: =Z101-$Z82 -> 0.01775 | AA43: =AA101-$AD82 -> -0.010625 | AB43: =AB101-$AD82 -> 0.013645 | AC43: =AC101-$AD82 -> 0.012685 | AD43: =AD101-$AD82 -> -0.015705 | AE43: =AE101-$AH82 -> 0.0064875 | AF43: =AF101-$AH82 -> 0.0099275 | AG43: =AG101-$AH82 -> -0.0062825 | AH43: =AH101-$AH82 -> -0.0101325 | AI43: =AI101-$AL82 -> -0.0214925 | AJ43: =AJ101-$AL82 -> 0.0111575 | AK43: =AK101-$AL82 -> -0.0001125 | AL43: =AL101-$AL82 -> 0.0104475 | AM43: =AM101-$AP82 -> -0.04263 | AN43: =AN101-$AP82 -> -0.00568 | AO43: =AO101-$AP82 -> 0.01308 | AP43: =AP101-$AP82 -> 0.03523 | AQ43: =AQ101-$AT82 -> -0.0141725 | AR43: =AR101-$AT82 -> -0.0123325 | AS43: =AS101-$AT82 -> 0.0157675 | AT43: =AT101-$AT82 -> 0.0107375 | AU43: =AU101-$AX82 -> 0.0286275 | AV43: =AV101-$AX82 -> 0.0127575 | AW43: =AW101-$AX82 -> -0.0227025 | AX43: =AX101-$AX82 -> -0.0186825 | AY43: =AY101-$BB82 -> -0.0020275 | AZ43: =AZ101-$BB82 -> -0.0012275 | BA43: =BA101-$BB82 -> 0.0037825 | BB43: =BB101-$BB82 -> -0.0005275 | BC43: =BC101-$BF82 -> 0.016015 | BD43: =BD101-$BF82 -> -0.026585 | BE43: =BE101-$BF82 -> -0.001855 | BF43: =BF101-$BF82 -> 0.012425 | BG43: =BG101-$BJ82 -> -0.0098675 | BH43: =BH101-$BJ82 -> 0.0404525 | BI43: =BI101-$BJ82 -> -0.0140475 | BJ43: =BJ101-$BJ82 -> -0.0165375
A44: =A63 -> Integral 8 | C44: =C102-$F83 -> -0.0449325 | D44: =D102-$F83 -> 0.0041275 | E44: =E102-$F83 -> 0.0857475 | F44: =F102-$F83 -> -0.0449425 | G44: =G102-$J83 -> -0.0112775 | H44: =H102-$J83 -> 0.0185825 | I44: =I102-$J83 -> -0.0322875 | J44: =J102-$J83 -> 0.0249825 | K44: =K102-$N83 -> 0.021765 | L44: =L102-$N83 -> -0.044695 | M44: =M102-$N83 -> 0.066225 | N44: =N102-$N83 -> -0.043295 | O44: =O102-$R83 -> -0.0783575 | P44: =P102-$R83 -> 0.0717225 | Q44: =Q102-$R83 -> 0.0254525 | R44: =R102-$R83 -> -0.0188175 | S44: =S102-$V83 -> 0.02652 | T44: =T102-$V83 -> -0.04923 | U44: =U102-$V83 -> 0.09475 | V44: =V102-$V83 -> -0.07204 | W44: =W102-$Z83 -> -0.0292475 | X44: =X102-$Z83 -> 0.0090925 | Y44: =Y102-$Z83 -> -0.0693775 | Z44: =Z102-$Z83 -> 0.0895325 | AA44: =AA102-$AD83 -> -0.04711 | AB44: =AB102-$AD83 -> 0.05132 | AC44: =AC102-$AD83 -> 0.00582 | AD44: =AD102-$AD83 -> -0.01003 | AE44: =AE102-$AH83 -> 0.0123225 | AF44: =AF102-$AH83 -> 0.0720825 | AG44: =AG102-$AH83 -> -0.0462075 | AH44: =AH102-$AH83 -> -0.0381975 | AI44: =AI102-$AL83 -> -0.06182 | AJ44: =AJ102-$AL83 -> 0.06359 | AK44: =AK102-$AL83 -> -0.04369 | AL44: =AL102-$AL83 -> 0.04192 | AM44: =AM102-$AP83 -> -0.14248 | AN44: =AN102-$AP83 -> -0.01704 | AO44: =AO102-$AP83 -> 0.01387 | AP44: =AP102-$AP83 -> 0.14565 | AQ44: =AQ102-$AT83 -> -0.087745 | AR44: =AR102-$AT83 -> -0.019355 | AS44: =AS102-$AT83 -> 0.067155 | AT44: =AT102-$AT83 -> 0.039945 | AU44: =AU102-$AX83 -> 0.0646225 | AV44: =AV102-$AX83 -> 0.0288025 | AW44: =AW102-$AX83 -> -0.0724975 | AX44: =AX102-$AX83 -> -0.0209275 | AY44: =AY102-$BB83 -> 0.0267725 | AZ44: =AZ102-$BB83 -> -0.0820075 | BA44: =BA102-$BB83 -> 0.0191025 | BB44: =BB102-$BB83 -> 0.0361325 | BC44: =BC102-$BF83 -> 0.00143 | BD44: =BD102-$BF83 -> -0.05135 | BE44: =BE102-$BF83 -> 0.00236 | BF44: =BF102-$BF83 -> 0.04756 | BG44: =BG102-$BJ83 -> -0.0412525 | BH44: =BH102-$BJ83 -> 0.1624775 | BI44: =BI102-$BJ83 -> -0.0734325 | BJ44: =BJ102-$BJ83 -> -0.0477925
A45: =A64 -> Integral 9 | C45: =C103-$F84 -> -0.0441375 | D45: =D103-$F84 -> 0.0411425 | E45: =E103-$F84 -> 0.0471425 | F45: =F103-$F84 -> -0.0441475 | G45: =G103-$J84 -> 0.010065 | H45: =H103-$J84 -> 0.020145 | I45: =I103-$J84 -> -0.031855 | J45: =J103-$J84 -> 0.001645 | K45: =K103-$N84 -> 0.01032 | L45: =L103-$N84 -> -0.01272 | M45: =M103-$N84 -> 0.01444 | N45: =N103-$N84 -> -0.01204 | O45: =O103-$R84 -> -0.0465425 | P45: =P103-$R84 -> 0.0608875 | Q45: =Q103-$R84 -> -0.0186725 | R45: =R103-$R84 -> 0.0043275 | S45: =S103-$V84 -> 0.00708 | T45: =T103-$V84 -> -0.01301 | U45: =U103-$V84 -> 0.04634 | V45: =V103-$V84 -> -0.04041 | W45: =W103-$Z84 -> 0.0157875 | X45: =X103-$Z84 -> 0.0291975 | Y45: =Y103-$Z84 -> -0.0595025 | Z45: =Z103-$Z84 -> 0.0145175 | AA45: =AA103-$AD84 -> -0.01895 | AB45: =AB103-$AD84 -> 0.02356 | AC45: =AC103-$AD84 -> 0.0142 | AD45: =AD103-$AD84 -> -0.01881 | AE45: =AE103-$AH84 -> 0.0122575 | AF45: =AF103-$AH84 -> 0.0093175 | AG45: =AG103-$AH84 -> -0.0018725 | AH45: =AH103-$AH84 -> -0.0197025 | AI45: =AI103-$AL84 -> -0.0214525 | AJ45: =AJ103-$AL84 -> 0.0182175 | AK45: =AK103-$AL84 -> -0.0074125 | AL45: =AL103-$AL84 -> 0.0106475 | AM45: =AM103-$AP84 -> -0.050925 | AN45: =AN103-$AP84 -> -0.006005 | AO45: =AO103-$AP84 -> 0.018445 | AP45: =AP103-$AP84 -> 0.038485 | AQ45: =AQ103-$AT84 -> -0.016445 | AR45: =AR103-$AT84 -> -0.014775 | AS45: =AS103-$AT84 -> 0.016055 | AT45: =AT103-$AT84 -> 0.015165 | AU45: =AU103-$AX84 -> 0.046485 | AV45: =AV103-$AX84 -> 0.018105 | AW45: =AW103-$AX84 -> -0.033385 | AX45: =AX103-$AX84 -> -0.031205 | AY45: =AY103-$BB84 -> -0.00019 | AZ45: =AZ103-$BB84 -> 0.00332 | BA45: =BA103-$BB84 -> -0.00049 | BB45: =BB103-$BB84 -> -0.00264 | BC45: =BC103-$BF84 -> 0.02593 | BD45: =BD103-$BF84 -> -0.0296 | BE45: =BE103-$BF84 -> -0.00442 | BF45: =BF103-$BF84 -> 0.00809 | BG45: =BG103-$BJ84 -> 0.000215 | BH45: =BH103-$BJ84 -> 0.056895 | BI45: =BI103-$BJ84 -> -0.028115 | BJ45: =BJ103-$BJ84 -> -0.028995
A46: =A65 -> Integral 10 | C46: =C104-$F85 -> -0.07207 | D46: =D104-$F85 -> 0.0684 | E46: =E104-$F85 -> 0.07572 | F46: =F104-$F85 -> -0.07205 | G46: =G104-$J85 -> 0.00939 | H46: =H104-$J85 -> 0.03294 | I46: =I104-$J85 -> -0.05381 | J46: =J104-$J85 -> 0.01148 | K46: =K104-$N85 -> 0.011145 | L46: =L104-$N85 -> -0.023125 | M46: =M104-$N85 -> 0.028195 | N46: =N104-$N85 -> -0.016215 | O46: =O104-$R85 -> -0.0801225 | P46: =P104-$R85 -> 0.1015875 | Q46: =Q104-$R85 -> -0.0304125 | R46: =R104-$R85 -> 0.0089475 | S46: =S104-$V85 -> 0.0070825 | T46: =T104-$V85 -> -0.0263875 | U46: =U104-$V85 -> 0.0742325 | V46: =V104-$V85 -> -0.0549275 | W46: =W104-$Z85 -> 0.0188275 | X46: =X104-$Z85 -> 0.0459975 | Y46: =Y104-$Z85 -> -0.0955225 | Z46: =Z104-$Z85 -> 0.0306975 | AA46: =AA104-$AD85 -> -0.0433975 | AB46: =AB104-$AD85 -> 0.0384825 | AC46: =AC104-$AD85 -> 0.0230225 | AD46: =AD104-$AD85 -> -0.0181075 | AE46: =AE104-$AH85 -> 0.01064 | AF46: =AF104-$AH85 -> 0.00756 | AG46: =AG104-$AH85 -> -0.00376 | AH46: =AH104-$AH85 -> -0.01444 | AI46: =AI104-$AL85 -> -0.03857 | AJ46: =AJ104-$AL85 -> 0.02846 | AK46: =AK104-$AL85 -> -0.0147 | AL46: =AL104-$AL85 -> 0.02481 | AM46: =AM104-$AP85 -> -0.089755 | AN46: =AN104-$AP85 -> -0.017105 | AO46: =AO104-$AP85 -> 0.031295 | AP46: =AP104-$AP85 -> 0.075565 | AQ46: =AQ104-$AT85 -> -0.034425 | AR46: =AR104-$AT85 -> -0.027235 | AS46: =AS104-$AT85 -> 0.028985 | AT46: =AT104-$AT85 -> 0.032675 | AU46: =AU104-$AX85 -> 0.06905 | AV46: =AV104-$AX85 -> 0.02685 | AW46: =AW104-$AX85 -> -0.05111 | AX46: =AX104-$AX85 -> -0.04479 | AY46: =AY104-$BB85 -> -0.00493 | AZ46: =AZ104-$BB85 -> 0.00048 | BA46: =BA104-$BB85 -> 0.0022 | BB46: =BB104-$BB85 -> 0.00225 | BC46: =BC104-$BF85 -> 0.031075 | BD46: =BD104-$BF85 -> -0.047925 | BE46: =BE104-$BF85 -> -0.003065 | BF46: =BF104-$BF85 -> 0.019915 | BG46: =BG104-$BJ85 -> -0.0135825 | BH46: =BH104-$BJ85 -> 0.0940275 | BI46: =BI104-$BJ85 -> -0.0470525 | BJ46: =BJ104-$BJ85 -> -0.0333925
A47: =A66 -> Integral 11 | C47: =C105-$F86 -> -0.05123 | D47: =D105-$F86 -> 0.05406 | E47: =E105-$F86 -> 0.04845 | F47: =F105-$F86 -> -0.05128 | G47: =G105-$J86 -> 0.0093525 | H47: =H105-$J86 -> 0.0265425 | I47: =I105-$J86 -> -0.0438975 | J47: =J105-$J86 -> 0.0080025 | K47: =K105-$N86 -> 0.0055725 | L47: =L105-$N86 -> -0.0173975 | M47: =M105-$N86 -> 0.0185025 | N47: =N105-$N86 -> -0.0066775 | O47: =O105-$R86 -> -0.058675 | P47: =P105-$R86 -> 0.079515 | Q47: =Q105-$R86 -> -0.029075 | R47: =R105-$R86 -> 0.008235 | S47: =S105-$V86 -> 0.0044425 | T47: =T105-$V86 -> -0.0180775 | U47: =U105-$V86 -> 0.0526825 | V47: =V105-$V86 -> -0.0390475 | W47: =W105-$Z86 -> 0.019685 | X47: =X105-$Z86 -> 0.036545 | Y47: =Y105-$Z86 -> -0.072205 | Z47: =Z105-$Z86 -> 0.015975 | AA47: =AA105-$AD86 -> -0.034245 | AB47: =AB105-$AD86 -> 0.029095 | AC47: =AC105-$AD86 -> 0.017405 | AD47: =AD105-$AD86 -> -0.012255 | AE47: =AE105-$AH86 -> 0.006625 | AF47: =AF105-$AH86 -> -0.005675 | AG47: =AG105-$AH86 -> 0.003145 | AH47: =AH105-$AH86 -> -0.004095 | AI47: =AI105-$AL86 -> -0.02692 | AJ47: =AJ105-$AL86 -> 0.01547 | AK47: =AK105-$AL86 -> -0.00799 | AL47: =AL105-$AL86 -> 0.01944 | AM47: =AM105-$AP86 -> -0.05834 | AN47: =AN105-$AP86 -> -0.01424 | AO47: =AO105-$AP86 -> 0.02532 | AP47: =AP105-$AP86 -> 0.04726 | AQ47: =AQ105-$AT86 -> -0.0205025 | AR47: =AR105-$AT86 -> -0.0208025 | AS47: =AS105-$AT86 -> 0.0170375 | AT47: =AT105-$AT86 -> 0.0242675 | AU47: =AU105-$AX86 -> 0.04968 | AV47: =AV105-$AX86 -> 0.01957 | AW47: =AW105-$AX86 -> -0.03457 | AX47: =AX105-$AX86 -> -0.03468 | AY47: =AY105-$BB86 -> -0.0104275 | AZ47: =AZ105-$BB86 -> 0.0080125 | BA47: =BA105-$BB86 -> 0.0027925 | BB47: =BB105-$BB86 -> -0.0003775 | BC47: =BC105-$BF86 -> 0.0212875 | BD47: =BD105-$BF86 -> -0.0361625 | BE47: =BE105-$BF86 -> -0.0011625 | BF47: =BF105-$BF86 -> 0.0160375 | BG47: =BG105-$BJ86 -> 0.0029675 | BH47: =BH105-$BJ86 -> 0.0585675 | BI47: =BI105-$BJ86 -> -0.0361925 | BJ47: =BJ105-$BJ86 -> -0.0253425
A48: =A67 -> Integral 12 | C48: =C106-$F87 -> -0.041765 | D48: =D106-$F87 -> 0.045205 | E48: =E106-$F87 -> 0.038275 | F48: =F106-$F87 -> -0.041715 | G48: =G106-$J87 -> 0.007855 | H48: =H106-$J87 -> 0.020905 | I48: =I106-$J87 -> -0.035545 | J48: =J106-$J87 -> 0.006785 | K48: =K106-$N87 -> 0.0052875 | L48: =L106-$N87 -> -0.0108125 | M48: =M106-$N87 -> 0.0110175 | N48: =N106-$N87 -> -0.0054925 | O48: =O106-$R87 -> -0.0462275 | P48: =P106-$R87 -> 0.0624625 | Q48: =Q106-$R87 -> -0.0234675 | R48: =R106-$R87 -> 0.0072325 | S48: =S106-$V87 -> 0.0059275 | T48: =T106-$V87 -> -0.0139225 | U48: =U106-$V87 -> 0.0385075 | V48: =V106-$V87 -> -0.0305125 | W48: =W106-$Z87 -> 0.0187125 | X48: =X106-$Z87 -> 0.0294525 | Y48: =Y106-$Z87 -> -0.0590175 | Z48: =Z106-$Z87 -> 0.0108525 | AA48: =AA106-$AD87 -> -0.026675 | AB48: =AB106-$AD87 -> 0.021875 | AC48: =AC106-$AD87 -> 0.012385 | AD48: =AD106-$AD87 -> -0.007585 | AE48: =AE106-$AH87 -> 0.0059825 | AF48: =AF106-$AH87 -> -0.0042675 | AG48: =AG106-$AH87 -> 0.0041325 | AH48: =AH106-$AH87 -> -0.0058475 | AI48: =AI106-$AL87 -> -0.0178625 | AJ48: =AJ106-$AL87 -> 0.0133675 | AK48: =AK106-$AL87 -> -0.0078625 | AL48: =AL106-$AL87 -> 0.0123575 | AM48: =AM106-$AP87 -> -0.04261 | AN48: =AN106-$AP87 -> -0.00984 | AO48: =AO106-$AP87 -> 0.01855 | AP48: =AP106-$AP87 -> 0.0339 | AQ48: =AQ106-$AT87 -> -0.014425 | AR48: =AR106-$AT87 -> -0.014725 | AS48: =AS106-$AT87 -> 0.011435 | AT48: =AT106-$AT87 -> 0.017715 | AU48: =AU106-$AX87 -> 0.0381575 | AV48: =AV106-$AX87 -> 0.0123775 | AW48: =AW106-$AX87 -> -0.0253825 | AX48: =AX106-$AX87 -> -0.0251525 | AY48: =AY106-$BB87 -> -0.0065525 | AZ48: =AZ106-$BB87 -> 0.0043075 | BA48: =BA106-$BB87 -> 0.0015275 | BB48: =BB106-$BB87 -> 0.0007175 | BC48: =BC106-$BF87 -> 0.0086175 | BD48: =BD106-$BF87 -> -0.0229525 | BE48: =BE106-$BF87 -> 0.0015575 | BF48: =BF106-$BF87 -> 0.0127775 | BG48: =BG106-$BJ87 -> 0.0025725 | BH48: =BH106-$BJ87 -> 0.0488925 | BI48: =BI106-$BJ87 -> -0.0324875 | BJ48: =BJ106-$BJ87 -> -0.0189775
... A51: =A70 -> TMS | C51: =C109-$F90 -> 0.0906575 | D51: =D109-$F90 -> -0.1072525 | E51: =E109-$F90 -> -0.0740425 | F51: =F109-$F90 -> 0.0906375 | G51: =G109-$J90 -> -0.070575 | H51: =H109-$J90 -> 0.011545 | I51: =I109-$J90 -> 0.065455 | J51: =J109-$J90 -> -0.006425 | K51: =K109-$N90 -> 0.0582 | L51: =L109-$N90 -> -0.00577 | M51: =M109-$N90 -> 0.02478 | N51: =N109-$N90 -> -0.07721 | O51: =O109-$R90 -> 0.0070575 | P51: =P109-$R90 -> -0.0234025 | Q51: =Q109-$R90 -> 0.0444475 | R51: =R109-$R90 -> -0.0281025 | S51: =S109-$V90 -> 0.0435325 | T51: =T109-$V90 -> -0.0130675 | U51: =U109-$V90 -> 0.0717625 | V51: =V109-$V90 -> -0.1022275 | W51: =W109-$Z90 -> -0.0217725 | X51: =X109-$Z90 -> -0.0227825 | Y51: =Y109-$Z90 -> 0.0230375 | Z51: =Z109-$Z90 -> 0.0215175 | AA51: =AA109-$AD90 -> 0.0134875 | AB51: =AB109-$AD90 -> 0.0260075 | AC51: =AC109-$AD90 -> -0.0257525 | AD51: =AD109-$AD90 -> -0.0137425 | AE51: =AE109-$AH90 -> 0.01216 | AF51: =AF109-$AH90 -> 0.02144 | AG51: =AG109-$AH90 -> -0.00223 | AH51: =AH109-$AH90 -> -0.03137 | AI51: =AI109-$AL90 -> -0.0097 | AJ51: =AJ109-$AL90 -> 0.01105 | AK51: =AK109-$AL90 -> -0.01081 | AL51: =AL109-$AL90 -> 0.00946 | AM51: =AM109-$AP90 -> 0.0056575 | AN51: =AN109-$AP90 -> 0.0169475 | AO51: =AO109-$AP90 -> -0.0172725 | AP51: =AP109-$AP90 -> -0.0053325 | AQ51: =AQ109-$AT90 -> -0.0022825 | AR51: =AR109-$AT90 -> 0.0209375 | AS51: =AS109-$AT90 -> -0.0008625 | AT51: =AT109-$AT90 -> -0.0177925 | AU51: =AU109-$AX90 -> 0.02766 | AV51: =AV109-$AX90 -> -0.00233 | AW51: =AW109-$AX90 -> -0.01292 | AX51: =AX109-$AX90 -> -0.01241 | AY51: =AY109-$BB90 -> 0.045095 | AZ51: =AZ109-$BB90 -> -0.038445 | BA51: =BA109-$BB90 -> 0.003155 | BB51: =BB109-$BB90 -> -0.009805 | BC51: =BC109-$BF90 -> -0.0079725 | BD51: =BD109-$BF90 -> 0.0063375 | BE51: =BE109-$BF90 -> -0.0023025 | BF51: =BF109-$BF90 -> 0.0039375 | BG51: =BG109-$BJ90 -> 0.33415 | BH51: =BH109-$BJ90 -> -0.10526 | BI51: =BI109-$BJ90 -> -0.11331 | BJ51: =BJ109-$BJ90 -> -0.11558
...

Sheet ANOVA approach 2
A1: Lignin qNMR Lignin Sampling Uncertainty using ANOVA (Summary in cells C5:E7) | L1: Approach based on: A.M.H. van der Veen, J. Pauwels, Accred. Qual. Assur. 2000, 5, 464
A2: With baseline correction, differences between spectra, up to little more than a week
A3: Top 1-5: four corners and middle. NMR-1 to NMR-4: spectra from the same solution
A5: Reference peak for caluclating intensity ratios: 1.56–1.60 ppm
A10: ANOVA
T11: ALL_Samples
C12: Sums of squares | G12: Degrees of freedom | K12: Mean squares | O12: Absolute std deviations | T12: Relative std deviations
C13: Total | D13: Within | E13: Between | G13: Total | H13: Within | I13: Between | K13: Total | L13: Within | M13: Between | O13: Total | P13: Within | Q13: Between | S13: Overall | T13: Measurement | U13: Sampling
A14: =A37 -> Aldehyde Integral 1 | C14: =SUMSQ(C56:BJ56) -> 0.0035086683 | D14: =SUMSQ(C37:BJ37) -> 0.00050755181 | E14: =C14-D14 -> 0.0030011165 | G14: =60-1 -> 59 | H14: =60-15 -> 45 | I14: =15-1 -> 14 | K14: =C14/G14 -> 5.9468954e-05 | L14: =D14/H14 -> 1.1278929e-05 | M14: =E14/I14 -> 0.00021436546 | O14: =SQRT(SUMSQ(P14:Q14)) -> 0.0080542098 | P14: =SQRT(L14) -> 0.0033584117 | Q14: =SQRT((M14)/4) -> 0.0073206124 | S14: =O14/$C76 -> 0.43743284 | T14: =P14/$C76 -> 0.18239897 | U14: =Q14/$C76 -> 0.39759037
A15: =A38 -> Aldehyde Integral 2 | C15: =SUMSQ(C57:BJ57) -> 0.01132573 | D15: =SUMSQ(C38:BJ38) -> 0.0050726454 | E15: =C15-D15 -> 0.0062530846 | G15: =60-1 -> 59 | H15: =60-15 -> 45 | I15: =15-1 -> 14 | K15: =C15/G15 -> 0.00019196153 | L15: =D15/H15 -> 0.00011272545 | M15: =E15/I15 -> 0.0004466489 | O15: =SQRT(SUMSQ(P15:Q15)) -> 0.014007366 | P15: =SQRT(L15) -> 0.010617224 | Q15: =SQRT((M15-L15)/4) -> 0.0091367862 | S15: =O15/$C77 -> 0.03522608 | T15: =P15/$C77 -> 0.026700465 | U15: =Q15/$C77 -> 0.022977421
A16: =A39 -> Aromatic region Integral 3 | C16: =SUMSQ(C58:BJ58) -> 8.7117289 | D16: =SUMSQ(C39:BJ39) -> 4.4265764 | E16: =C16-D16 -> 4.2851525 | G16: =60-1 -> 59 | H16: =60-15 -> 45 | I16: =15-1 -> 14 | K16: =C16/G16 -> 0.14765642 | L16: =D16/H16 -> 0.098368365 | M16: =E16/I16 -> 0.30608232 | O16: =SQRT(SUMSQ(P16:Q16)) -> 0.38768138 | P16: =SQRT(L16) -> 0.31363731 | Q16: =SQRT((M16-L16)/4) -> 0.22787823 | S16: =O16/$C78 -> 0.042379261 | T16: =P16/$C78 -> 0.034285158 | U16: =Q16/$C78 -> 0.024910433
A17: =A40 -> OCH/O-CH2 Integral 4 | C17: =SUMSQ(C59:BJ59) -> 0.18040831 | D17: =SUMSQ(C40:BJ40) -> 0.092058721 | E17: =C17-D17 -> 0.088349593 | G17: =60-1 -> 59 | H17: =60-15 -> 45 | I17: =15-1 -> 14 | K17: =C17/G17 -> 0.003057768 | L17: =D17/H17 -> 0.0020457494 | M17: =E17/I17 -> 0.0063106852 | O17: =SQRT(SUMSQ(P17:Q17)) -> 0.055785153 | P17: =SQRT(L17) -> 0.045229961 | Q17: =SQRT((M17-L17)/4) -> 0.032653238 | S17: =O17/$C79 -> 0.070241542 | T17: =P17/$C79 -> 0.056951035 | U17: =Q17/$C79 -> 0.04111513
A18: =A41 -> Methoxy Integral 5 | C18: =SUMSQ(C60:BJ60) -> 22031.908 | D18: =SUMSQ(C41:BJ41) -> 1313.5657 | E18: =C18-D18 -> 20718.342 | G18: =60-1 -> 59 | H18: =60-15 -> 45 | I18: =15-1 -> 14 | K18: =C18/G18 -> 373.42216 | L18: =D18/H18 -> 29.190349 | M18: =E18/I18 -> 1479.8816 | O18: =SQRT(SUMSQ(P18:Q18)) -> 19.795534 | P18: =SQRT(L18) -> 5.4028094 | Q18: =SQRT((M18-L18)/4) -> 19.04397 | S18: =O18/$C80 -> 0.39206642 | T18: =P18/$C80 -> 0.10700697 | U18: =Q18/$C80 -> 0.37718111
A19: =A42 -> DMSO | C19: =SUMSQ(C61:BJ61) -> 187.29406 | D19: =SUMSQ(C42:BJ42) -> 6.9532466 | E19: =C19-D19 -> 180.34081 | G19: =60-1 -> 59 | H19: =60-15 -> 45 | I19: =15-1 -> 14 | K19: =C19/G19 -> 3.1744756 | L19: =D19/H19 -> 0.15451659 | M19: =E19/I19 -> 12.881487 | O19: =SQRT(SUMSQ(P19:Q19)) -> 1.8265429 | P19: =SQRT(L19) -> 0.39308598 | Q19: =SQRT((M19-L19)/4) -> 1.7837439 | S19: =O19/$C81 -> 0.10642471 | T19: =P19/$C81 -> 0.02290341 | U19: =Q19/$C81 -> 0.103931
A20: =A43 -> Integral 7 | C20: =SUMSQ(C62:BJ62) -> 0.0015313188 | D20: =SUMSQ(C43:BJ43) -> 0.00081292742 | E20: =C20-D20 -> 0.00071839135 | G20: =60-1 -> 59 | H20: =60-15 -> 45 | I20: =15-1 -> 14 | K20: =C20/G20 -> 2.5954556e-05 | L20: =D20/H20 -> 1.8065054e-05 | M20: =E20/I20 -> 5.1313668e-05 | O20: =SQRT(SUMSQ(P20:Q20)) -> 0.0051358746 | P20: =SQRT(L20) -> 0.0042503004 | Q20: =SQRT((M20-L20)/4) -> 0.0028830806 | S20: =O20/$C82 -> 0.023930878 | T20: =P20/$C82 -> 0.019804499 | U20: =Q20/$C82 -> 0.013433866
A21: =A44 -> Integral 8
A22: =A45 -> Integral 9 | C22: =SUMSQ(C64:BJ64) -> 0.0044377477 | D22: =SUMSQ(C45:BJ45) -> 0.0028924036 | E22: =C22-D22 -> 0.0015453442 | G22: =60-1 -> 59 | H22: =60-15 -> 45 | I22: =15-1 -> 14 | K22: =C22/G22 -> 7.5216063e-05 | L22: =D22/H22 -> 6.4275635e-05 | M22: =E22/I22 -> 0.00011038173 | O22: =SQRT(SUMSQ(P22:Q22)) -> 0.0087064435 | P22: =SQRT(L22) -> 0.0080172087 | Q22: =SQRT((M22-L22)/4) -> 0.0033950733 | S22: =O22/$C84 -> 0.032834417 | T22: =P22/$C84 -> 0.030235121 | U22: =Q22/$C84 -> 0.012803765
A23: =A46 -> Integral 10 | C23: =SUMSQ(C65:BJ65) -> 0.011041434 | D23: =SUMSQ(C46:BJ46) -> 0.0073172136 | E23: =C23-D23 -> 0.0037242201 | G23: =60-1 -> 59 | H23: =60-15 -> 45 | I23: =15-1 -> 14 | K23: =C23/G23 -> 0.00018714294 | L23: =D23/H23 -> 0.00016260475 | M23: =E23/I23 -> 0.00026601572 | O23: =SQRT(SUMSQ(P23:Q23)) -> 0.013727982 | P23: =SQRT(L23) -> 0.012751657 | Q23: =SQRT((M23-L23)/4) -> 0.0050845593 | S23: =O23/$C85 -> 0.033119715 | T23: =P23/$C85 -> 0.030764262 | U23: =Q23/$C85 -> 0.012266854
A24: =A47 -> Integral 11 | C24: =SUMSQ(C66:BJ66) -> 0.0078494234 | D24: =SUMSQ(C47:BJ47) -> 0.0051286127 | E24: =C24-D24 -> 0.0027208108 | G24: =60-1 -> 59 | H24: =60-15 -> 45 | I24: =15-1 -> 14 | K24: =C24/G24 -> 0.00013304107 | L24: =D24/H24 -> 0.00011396917 | M24: =E24/I24 -> 0.00019434363 | O24: =SQRT(SUMSQ(P24:Q24)) -> 0.011578548 | P24: =SQRT(L24) -> 0.010675634 | Q24: =SQRT((M24-L24)/4) -> 0.0044825901 | S24: =O24/$C86 -> 0.0493593 | T24: =P24/$C86 -> 0.045510181 | U24: =Q24/$C86 -> 0.019109261
A25: =A48 -> Integral 12 | C25: =SUMSQ(C67:BJ67) -> 0.0049051188 | D25: =SUMSQ(C48:BJ48) -> 0.003387057 | E25: =C25-D25 -> 0.0015180618 | G25: =60-1 -> 59 | H25: =60-15 -> 45 | I25: =15-1 -> 14 | K25: =C25/G25 -> 8.3137606e-05 | L25: =D25/H25 -> 7.5267933e-05 | M25: =E25/I25 -> 0.00010843298 | O25: =SQRT(SUMSQ(P25:Q25)) -> 0.0091410719 | P25: =SQRT(L25) -> 0.0086757094 | Q25: =SQRT((M25-L25)/4) -> 0.0028794552 | S25: =O25/$C87 -> 0.057336963 | T25: =P25/$C87 -> 0.054417997 | U25: =Q25/$C87 -> 0.018061253
A26: =A49 -> Integral 13 | C26: =SUMSQ(C68:BJ68) -> 0.0062829395 | D26: =SUMSQ(C49:BJ49) -> 0.0038858464 | E26: =C26-D26 -> 0.0023970932 | G26: =60-1 -> 59 | H26: =60-15 -> 45 | I26: =15-1 -> 14 | K26: =C26/G26 -> 0.0001064905 | L26: =D26/H26 -> 8.6352141e-05 | M26: =E26/I26 -> 0.00017122094 | O26: =SQRT(SUMSQ(P26:Q26)) -> 0.010371564 | P26: =SQRT(L26) -> 0.0092925853 | Q26: =SQRT((M26-L26)/4) -> 0.0046062132 | S26: =O26/$C88 -> 0.016490279 | T26: =P26/$C88 -> 0.014774756 | U26: =Q26/$C88 -> 0.0073236536
A27: =A50 -> Integral 14 | C27: =SUMSQ(C69:BJ69) -> 0.0021031162 | D27: =SUMSQ(C50:BJ50) -> 0.0013979023 | E27: =C27-D27 -> 0.00070521395 | G27: =60-1 -> 59 | H27: =60-15 -> 45 | I27: =15-1 -> 14 | K27: =C27/G27 -> 3.5646037e-05 | L27: =D27/H27 -> 3.1064494e-05 | M27: =E27/I27 -> 5.0372425e-05 | O27: =SQRT(SUMSQ(P27:Q27)) -> 0.0059909496 | P27: =SQRT(L27) -> 0.0055735531 | Q27: =SQRT((M27-L27)/4) -> 0.0021970395 | S27: =O27/$C89 -> 0.043548552 | T27: =P27/$C89 -> 0.040514473 | U27: =Q27/$C89 -> 0.015970405
A28: =A51 -> TMS | C28: =SUMSQ(C70:BJ70) -> 4.47683 | D28: =SUMSQ(C51:BJ51) -> 0.04423099 | E28: =C28-D28 -> 4.432599 | G28: =60-1 -> 59 | H28: =60-15 -> 45 | I28: =15-1 -> 14 | K28: =C28/G28 -> 0.075878474 | L28: =D28/H28 -> 0.00098291089 | M28: =E28/I28 -> 0.31661421 | O28: =SQRT(SUMSQ(P28:Q28)) -> 0.28264949 | P28: =SQRT(L28) -> 0.03135141 | Q28: =SQRT((M28-L28)/4) -> 0.28090537 | S28: =O28/$C90 -> 0.63672282 | T28: =P28/$C90 -> 0.070625132 | U28: =Q28/$C90 -> 0.63279383
T31: Grand average RSD values:
S32: Overall | T32: Measurement | U32: Sampling
S33: =SQRT(SUMSQ(S15:S17,S20,S22:S27)/COUNT(S15:S17,S20,S22:S27)) -> 0.043140153 | T33: =SQRT(SUMSQ(T15:T17,T20,T22:T27)/COUNT(T15:T17,T20,T22:T27)) -> 0.037784704 | U33: =SQRT(SUMSQ(U15:U17,U20,U22:U27)/COUNT(U15:U17,U20,U22:U27)) -> 0.020817994
A35: Within-group error terms
A37: =A56 -> Aldehyde Integral 1 | C37: =C95-$F76 -> -0.001321047 | D37: =D95-$F76 -> 0.00027253824 | E37: =E95-$F76 -> 0.002357447 | F37: =F95-$F76 -> -0.0013089383 | G37: =G95-$J76 -> 0.00079030011 | H37: =H95-$J76 -> 0.0024373292 | I37: =I95-$J76 -> -0.0011601606 | J37: =J95-$J76 -> -0.0020674688 | K37: =K95-$N76 -> 0.0009942123 | L37: =L95-$N76 -> 0.0024518617 | M37: =M95-$N76 -> 0.00022360616 | N37: =N95-$N76 -> -0.0036696802 | O37: =O95-$R76 -> -0.0009997598 | P37: =P95-$R76 -> 0.003590571 | Q37: =Q95-$R76 -> -0.0005268061 | R37: =R95-$R76 -> -0.0020640051 | S37: =S95-$V76 -> -0.0019764757 | T37: =T95-$V76 -> 0.0027645917 | U37: =U95-$V76 -> 0.0019156206 | V37: =V95-$V76 -> -0.0027037367 | W37: =W95-$Z76 -> 0.0055158505 | X37: =X95-$Z76 -> -0.0055708098 | Y37: =Y95-$Z76 -> -0.0033568081 | Z37: =Z95-$Z76 -> 0.0034117673 | AA37: =AA95-$AD76 -> -0.0043248039 | AB37: =AB95-$AD76 -> -0.0026527066 | AC37: =AC95-$AD76 -> 0.0023016846 | AD37: =AD95-$AD76 -> 0.004675826 | AE37: =AE95-$AH76 -> -0.00047043776 | AF37: =AF95-$AH76 -> 0.0002326455 | AG37: =AG95-$AH76 -> -0.0030462515 | AH37: =AH95-$AH76 -> 0.0032840438 | AI37: =AI95-$AL76 -> 0.0049588893 | AJ37: =AJ95-$AL76 -> -0.0021786122 | AK37: =AK95-$AL76 -> -0.0014863672 | AL37: =AL95-$AL76 -> -0.0012939098 | AM37: =AM95-$AP76 -> 0.0015990962 | AN37: =AN95-$AP76 -> -0.0037114651 | AO37: =AO95-$AP76 -> 0.002906391 | AP37: =AP95-$AP76 -> -0.00079402205 | AQ37: =AQ95-$AT76 -> 0.0059396021 | AR37: =AR95-$AT76 -> 0.0023103965 | AS37: =AS95-$AT76 -> -0.0055653991 | AT37: =AT95-$AT76 -> -0.0026845995 | AU37: =AU95-$AX76 -> -0.0014469716 | AV37: =AV95-$AX76 -> -0.0016062011 | AW37: =AW95-$AX76 -> -0.00028514159 | AX37: =AX95-$AX76 -> 0.0033383143 | AY37: =AY95-$BB76 -> 0.0027703581 | AZ37: =AZ95-$BB76 -> -0.0050179518 | BA37: =BA95-$BB76 -> 0.0038419084 | BB37: =BB95-$BB76 -> -0.0015943147 | BC37: =BC95-$BF76 -> -8.2080321e-05 | BD37: =BD95-$BF76 -> 0.0047585903 | BE37: =BE95-$BF76 -> -0.0013704084 | BF37: =BF95-$BF76 -> -0.0033061016 | BG37: =BG95-$BJ76 -> -8.3384658e-05 | BH37: =BH95-$BJ76 -> -0.0015793236 | BI37: =BI95-$BJ76 -> -0.0026590254 | BJ37: =BJ95-$BJ76 -> 0.0043217336
A38: =A57 -> Aldehyde Integral 2 | C38: =C96-$F77 -> 0.0069117368 | D38: =D96-$F77 -> -0.00080934411 | E38: =E96-$F77 -> -0.013015734 | F38: =F96-$F77 -> 0.0069133416 | G38: =G96-$J77 -> 0.0018737198 | H38: =H96-$J77 -> -0.0031474346 | I38: =I96-$J77 -> 0.0054814882 | J38: =J96-$J77 -> -0.0042077734 | K38: =K96-$N77 -> -0.0034702634 | L38: =L96-$N77 -> 0.0069053351 | M38: =M96-$N77 -> -0.010116152 | N38: =N96-$N77 -> 0.0066810804 | O38: =O96-$R77 -> 0.012881301 | P38: =P96-$R77 -> -0.011472299 | Q38: =Q96-$R77 -> -0.0042742703 | R38: =R96-$R77 -> 0.0028652683 | S38: =S96-$V77 -> -0.0047362868 | T38: =T96-$V77 -> 0.00820161 | U38: =U96-$V77 -> -0.015725571 | V38: =V96-$V77 -> 0.012260248 | W38: =W96-$Z77 -> 0.004341187 | X38: =X96-$Z77 -> -0.0015977006 | Y38: =Y96-$Z77 -> 0.010753907 | Z38: =Z96-$Z77 -> -0.013497393 | AA38: =AA96-$AD77 -> 0.0084991636 | AB38: =AB96-$AD77 -> -0.0090738877 | AC38: =AC96-$AD77 -> -0.0011319641 | AD38: =AD96-$AD77 -> 0.0017066883 | AE38: =AE96-$AH77 -> -0.0018824437 | AF38: =AF96-$AH77 -> -0.010199471 | AG38: =AG96-$AH77 -> 0.0066351065 | AH38: =AH96-$AH77 -> 0.0054468082 | AI38: =AI96-$AL77 -> 0.0095064801 | AJ38: =AJ96-$AL77 -> -0.0096517617 | AK38: =AK96-$AL77 -> 0.006618698 | AL38: =AL96-$AL77 -> -0.0064734164 | AM38: =AM96-$AP77 -> 0.022931516 | AN38: =AN96-$AP77 -> 0.0020304389 | AO38: =AO96-$AP77 -> -0.0028033534 | AP38: =AP96-$AP77 -> -0.022158601 | AQ38: =AQ96-$AT77 -> 0.013617314 | AR38: =AR96-$AT77 -> 0.0027560637 | AS38: =AS96-$AT77 -> -0.010173778 | AT38: =AT96-$AT77 -> -0.0061995995 | AU38: =AU96-$AX77 -> -0.0099155916 | AV38: =AV96-$AX77 -> -0.0045706125 | AW38: =AW96-$AX77 -> 0.011384418 | AX38: =AX96-$AX77 -> 0.0031017859 | AY38: =AY96-$BB77 -> -0.0042875092 | AZ38: =AZ96-$BB77 -> 0.013112579 | BA38: =BA96-$BB77 -> -0.0031093328 | BB38: =BB96-$BB77 -> -0.0057157366 | BC38: =BC96-$BF77 -> -0.00029751712 | BD38: =BD96-$BF77 -> 0.0080713141 | BE38: =BE96-$BF77 -> -0.00044185886 | BF38: =BF96-$BF77 -> -0.0073319381 | BG38: =BG96-$BJ77 -> 0.0060823557 | BH38: =BH96-$BJ77 -> -0.024638217 | BI38: =BI96-$BJ77 -> 0.011403343 | BJ38: =BJ96-$BJ77 -> 0.0071525188
A39: =A58 -> Aromatic region Integral 3 | C39: =C97-$F78 -> 0.20692107 | D39: =D97-$F78 -> -0.45213358 | E39: =E97-$F78 -> 0.03824506 | F39: =F97-$F78 -> 0.20696744 | G39: =G97-$J78 -> -0.20141613 | H39: =H97-$J78 -> 0.2455844 | I39: =I97-$J78 -> -0.057898386 | J39: =J97-$J78 -> 0.013730121 | K39: =K97-$N78 -> -0.049056212 | L39: =L97-$N78 -> 0.024107644 | M39: =M97-$N78 -> -0.14095274 | N39: =N97-$N78 -> 0.16590131 | O39: =O97-$R78 -> 0.011829235 | P39: =P97-$R78 -> -0.44667017 | Q39: =Q97-$R78 -> 0.36171485 | R39: =R97-$R78 -> 0.073126086 | S39: =S97-$V78 -> 0.22593995 | T39: =T97-$V78 -> -0.040861928 | U39: =U97-$V78 -> -0.096367242 | V39: =V97-$V78 -> -0.088710779 | W39: =W97-$Z78 -> -0.13455374 | X39: =X97-$Z78 -> -0.15557808 | Y39: =Y97-$Z78 -> 0.22797591 | Z39: =Z97-$Z78 -> 0.06215591 | AA39: =AA97-$AD78 -> 0.63807267 | AB39: =AB97-$AD78 -> -0.23450778 | AC39: =AC97-$AD78 -> 0.043720728 | AD39: =AD97-$AD78 -> -0.44728562 | AE39: =AE97-$AH78 -> 0.01794443 | AF39: =AF97-$AH78 -> 0.24116526 | AG39: =AG97-$AH78 -> 0.12518201 | AH39: =AH97-$AH78 -> -0.3842917 | AI39: =AI97-$AL78 -> 0.30947897 | AJ39: =AJ97-$AL78 -> -0.3750864 | AK39: =AK97-$AL78 -> 0.065228951 | AL39: =AL97-$AL78 -> 0.00037848737 | AM39: =AM97-$AP78 -> 0.50863308 | AN39: =AN97-$AP78 -> -0.0029935674 | AO39: =AO97-$AP78 -> -0.068009652 | AP39: =AP97-$AP78 -> -0.43762986 | AQ39: =AQ97-$AT78 -> 0.0045026883 | AR39: =AR97-$AT78 -> 0.26508695 | AS39: =AS97-$AT78 -> -0.040038078 | AT39: =AT97-$AT78 -> -0.22955156 | AU39: =AU97-$AX78 -> -0.31388969 | AV39: =AV97-$AX78 -> -0.19434306 | AW39: =AW97-$AX78 -> 0.23661724 | AX39: =AX97-$AX78 -> 0.27161551 | AY39: =AY97-$BB78 -> 0.28181032 | AZ39: =AZ97-$BB78 -> -0.072023793 | BA39: =BA97-$BB78 -> -0.10537673 | BB39: =BB97-$BB78 -> -0.10440979 | BC39: =BC97-$BF78 -> -0.89275777 | BD39: =BD97-$BF78 -> 0.32860833 | BE39: =BE97-$BF78 -> 0.22214629 | BF39: =BF97-$BF78 -> 0.34200315 | BG39: =BG97-$BJ78 -> -0.27186919 | BH39: =BH97-$BJ78 -> -0.29898532 | BI39: =BI97-$BJ78 -> 0.28097421 | BJ39: =BJ97-$BJ78 -> 0.28988031
A40: =A59 -> OCH/O-CH2 Integral 4 | C40: =C98-$F79 -> -0.011921719 | D40: =D98-$F79 -> -0.0016336852 | E40: =E98-$F79 -> 0.025474114 | F40: =F98-$F79 -> -0.011918709 | G40: =G98-$J79 -> -0.057074225 | H40: =H98-$J79 -> -0.028460389 | I40: =I98-$J79 -> 0.05078536 | J40: =J98-$J79 -> 0.034749254 | K40: =K98-$N79 -> 0.02035033 | L40: =L98-$N79 -> 0.0072259041 | M40: =M98-$N79 -> -0.0146842 | N40: =N98-$N79 -> -0.012892034 | O40: =O98-$R79 -> 0.026504618 | P40: =P98-$R79 -> -0.02010205 | Q40: =Q98-$R79 -> -0.022179771 | R40: =R98-$R79 -> 0.015777203 | S40: =S98-$V79 -> -0.02114117 | T40: =T98-$V79 -> -0.0076883169 | U40: =U98-$V79 -> -0.018364538 | V40: =V98-$V79 -> 0.047194024 | W40: =W98-$Z79 -> 0.00077557369 | X40: =X98-$Z79 -> -0.047791318 | Y40: =Y98-$Z79 -> -0.0053550393 | Z40: =Z98-$Z79 -> 0.052370783 | AA40: =AA98-$AD79 -> -0.091937797 | AB40: =AB98-$AD79 -> -0.019633411 | AC40: =AC98-$AD79 -> 0.02474368 | AD40: =AD98-$AD79 -> 0.086827528 | AE40: =AE98-$AH79 -> -0.017957308 | AF40: =AF98-$AH79 -> -0.017074017 | AG40: =AG98-$AH79 -> -0.017271879 | AH40: =AH98-$AH79 -> 0.052303204 | AI40: =AI98-$AL79 -> -0.015775823 | AJ40: =AJ98-$AL79 -> -0.0076947924 | AK40: =AK98-$AL79 -> -0.0015305621 | AL40: =AL98-$AL79 -> 0.025001178 | AM40: =AM98-$AP79 -> 2.8784054e-05 | AN40: =AN98-$AP79 -> -0.021366476 | AO40: =AO98-$AP79 -> -0.052469627 | AP40: =AP98-$AP79 -> 0.07380732 | AQ40: =AQ98-$AT79 -> -0.020020893 | AR40: =AR98-$AT79 -> 0.011544363 | AS40: =AS98-$AT79 -> 0.010396142 | AT40: =AT98-$AT79 -> -0.0019196123 | AU40: =AU98-$AX79 -> -0.03476338 | AV40: =AV98-$AX79 -> -0.026712368 | AW40: =AW98-$AX79 -> 0.0020429166 | AX40: =AX98-$AX79 -> 0.059432831 | AY40: =AY98-$BB79 -> 0.0030534205 | AZ40: =AZ98-$BB79 -> -0.07439722 | BA40: =BA98-$BB79 -> 0.032439564 | BB40: =BB98-$BB79 -> 0.038904236 | BC40: =BC98-$BF79 -> -0.11310521 | BD40: =BD98-$BF79 -> 0.0054076545 | BE40: =BE98-$BF79 -> 0.0019721905 | BF40: =BF98-$BF79 -> 0.10572536 | BG40: =BG98-$BJ79 -> -0.033220793 | BH40: =BH98-$BJ79 -> 0.041712082 | BI40: =BI98-$BJ79 -> -0.027898897 | BJ40: =BJ98-$BJ79 -> 0.019407608
A41: =A60 -> Methoxy Integral 5 | C41: =C99-$F80 -> 1.0404157 | D41: =D99-$F80 -> -0.95202491 | E41: =E99-$F80 -> -1.1289521 | F41: =F99-$F80 -> 1.0405613 | G41: =G99-$J80 -> -1.3991269 | H41: =H99-$J80 -> -0.68129569 | I41: =I99-$J80 -> 0.90921668 | J41: =J99-$J80 -> 1.1712059 | K41: =K99-$N80 -> -1.4715102 | L41: =L99-$N80 -> -1.0313889 | M41: =M99-$N80 -> 1.2689252 | N41: =N99-$N80 -> 1.2339739 | O41: =O99-$R80 -> 0.4401238 | P41: =P99-$R80 -> -1.123347 | Q41: =Q99-$R80 -> 0.70799983 | R41: =R99-$R80 -> -0.024776607 | S41: =S99-$V80 -> -1.0849986 | T41: =T99-$V80 -> -0.49844876 | U41: =U99-$V80 -> -0.55318927 | V41: =V99-$V80 -> 2.1366366 | W41: =W99-$Z80 -> -1.0463477 | X41: =X99-$Z80 -> -1.5575125 | Y41: =Y99-$Z80 -> 1.7030458 | Z41: =Z99-$Z80 -> 0.90081452 | AA41: =AA99-$AD80 -> -0.25798843 | AB41: =AB99-$AD80 -> -0.72702784 | AC41: =AC99-$AD80 -> -0.95287988 | AD41: =AD99-$AD80 -> 1.9378961 | AE41: =AE99-$AH80 -> -0.71125403 | AF41: =AF99-$AH80 -> -0.042391307 | AG41: =AG99-$AH80 -> -0.36121509 | AH41: =AH99-$AH80 -> 1.1148604 | AI41: =AI99-$AL80 -> -0.49599202 | AJ41: =AJ99-$AL80 -> -0.56442607 | AK41: =AK99-$AL80 -> -0.025889471 | AL41: =AL99-$AL80 -> 1.0863076 | AM41: =AM99-$AP80 -> -0.25181263 | AN41: =AN99-$AP80 -> -0.29815605 | AO41: =AO99-$AP80 -> -0.23675447 | AP41: =AP99-$AP80 -> 0.78672315 | AQ41: =AQ99-$AT80 -> -1.0094206 | AR41: =AR99-$AT80 -> 0.20116043 | AS41: =AS99-$AT80 -> 0.31727332 | AT41: =AT99-$AT80 -> 0.4909868 | AU41: =AU99-$AX80 -> -1.4123115 | AV41: =AV99-$AX80 -> -0.49605763 | AW41: =AW99-$AX80 -> 0.64816853 | AX41: =AX99-$AX80 -> 1.2602006 | AY41: =AY99-$BB80 -> -0.33860449 | AZ41: =AZ99-$BB80 -> -0.95202186 | BA41: =BA99-$BB80 -> 0.47639828 | BB41: =BB99-$BB80 -> 0.81422807 | BC41: =BC99-$BF80 -> -1.2182618 | BD41: =BD99-$BF80 -> 0.11822637 | BE41: =BE99-$BF80 -> 0.20025677 | BF41: =BF99-$BF80 -> 0.89977862 | BG41: =BG99-$BJ80 -> 30.768391 | BH41: =BH99-$BJ80 -> -10.798855 | BI41: =BI99-$BJ80 -> -10.448004 | BJ41: =BJ99-$BJ80 -> -9.5215326
A42: =A61 -> DMSO | C42: =C100-$F81 -> 0.9475861 | D42: =D100-$F81 -> -0.85133795 | E42: =E100-$F81 -> -1.043886 | F42: =F100-$F81 -> 0.94763787 | G42: =G100-$J81 -> 0.0015676728 | H42: =H100-$J81 -> -0.13270624 | I42: =I100-$J81 -> 0.28718208 | J42: =J100-$J81 -> -0.15604352 | K42: =K100-$N81 -> 0.10001572 | L42: =L100-$N81 -> -0.083947274 | M42: =M100-$N81 -> 0.020552159 | N42: =N100-$N81 -> -0.036620609 | O42: =O100-$R81 -> 0.46095197 | P42: =P100-$R81 -> -0.46353583 | Q42: =Q100-$R81 -> 0.18516864 | R42: =R100-$R81 -> -0.18258478 | S42: =S100-$V81 -> 0.10036015 | T42: =T100-$V81 -> -0.041418487 | U42: =U100-$V81 -> -0.22928654 | V42: =V100-$V81 -> 0.17034488 | W42: =W100-$Z81 -> -0.20070378 | X42: =X100-$Z81 -> -0.50452998 | Y42: =Y100-$Z81 -> 0.46063921 | Z42: =Z100-$Z81 -> 0.24459455 | AA42: =AA100-$AD81 -> 0.18088541 | AB42: =AB100-$AD81 -> -0.041288078 | AC42: =AC100-$AD81 -> -0.42671045 | AD42: =AD100-$AD81 -> 0.28711311 | AE42: =AE100-$AH81 -> 0.096867899 | AF42: =AF100-$AH81 -> 0.20528605 | AG42: =AG100-$AH81 -> 0.13576949 | AH42: =AH100-$AH81 -> -0.43792344 | AI42: =AI100-$AL81 -> 0.11774307 | AJ42: =AJ100-$AL81 -> -0.11337543 | AK42: =AK100-$AL81 -> -0.10549783 | AL42: =AL100-$AL81 -> 0.10113018 | AM42: =AM100-$AP81 -> 0.32846701 | AN42: =AN100-$AP81 -> -0.013059104 | AO42: =AO100-$AP81 -> -0.32372792 | AP42: =AP100-$AP81 -> 0.0083200168 | AQ42: =AQ100-$AT81 -> 0.0076848169 | AR42: =AR100-$AT81 -> 0.071633131 | AS42: =AS100-$AT81 -> -0.01375983 | AT42: =AT100-$AT81 -> -0.065558118 | AU42: =AU100-$AX81 -> -0.25620215 | AV42: =AV100-$AX81 -> -0.087474783 | AW42: =AW100-$AX81 -> 0.035890526 | AX42: =AX100-$AX81 -> 0.30778641 | AY42: =AY100-$BB81 -> 0.2043932 | AZ42: =AZ100-$BB81 -> -0.26409547 | BA42: =BA100-$BB81 -> -0.027001469 | BB42: =BB100-$BB81 -> 0.086703741 | BC42: =BC100-$BF81 -> -0.26174025 | BD42: =BD100-$BF81 -> 0.17798141 | BE42: =BE100-$BF81 -> -0.12471275 | BF42: =BF100-$BF81 -> 0.20847159 | BG42: =BG100-$BJ81 -> 0.73698169 | BH42: =BH100-$BJ81 -> -0.40348125 | BI42: =BI100-$BJ81 -> -0.20677632 | BJ42: =BJ100-$BJ81 -> -0.12672412
A43: =A62 -> Integral 7 | C43: =C101-$F82 -> -0.0059973407 | D43: =D101-$F82 -> 0.0069949561 | E43: =E101-$F82 -> 0.0049989105 | F43: =F101-$F82 -> -0.0059965258 | G43: =G101-$J82 -> 0.0027352436 | H43: =H101-$J82 -> 0.0029781683 | I43: =I101-$J82 -> -0.0043638057 | J43: =J101-$J82 -> -0.0013496062 | K43: =K101-$N82 -> -2.1799083e-05 | L43: =L101-$N82 -> -0.0013312797 | M43: =M101-$N82 -> 0.00012029935 | N43: =N101-$N82 -> 0.0012327794 | O43: =O101-$R82 -> -0.0056479396 | P43: =P101-$R82 -> 0.008441461 | Q43: =Q101-$R82 -> -0.0053422978 | R43: =R101-$R82 -> 0.0025487763 | S43: =S101-$V82 -> -0.0020558853 | T43: =T101-$V82 -> 0.00028264366 | U43: =U101-$V82 -> 0.004024885 | V43: =V101-$V82 -> -0.0022516434 | W43: =W101-$Z82 -> 0.0013499751 | X43: =X101-$Z82 -> 0.0058634833 | Y43: =Y101-$Z82 -> -0.0069105529 | Z43: =Z101-$Z82 -> -0.00030290553 | AA43: =AA101-$AD82 -> -0.00017288787 | AB43: =AB101-$AD82 -> 0.0010696505 | AC43: =AC101-$AD82 -> 0.0048351261 | AD43: =AD101-$AD82 -> -0.0057318887 | AE43: =AE101-$AH82 -> 0.0014084395 | AF43: =AF101-$AH82 -> -0.0021988988 | AG43: =AG101-$AH82 -> 0.0014763031 | AH43: =AH101-$AH82 -> -0.00068584377 | AI43: =AI101-$AL82 -> -0.0031973484 | AJ43: =AJ101-$AL82 -> -0.0010471274 | AK43: =AK101-$AL82 -> 0.0037517501 | AL43: =AL101-$AL82 -> 0.00049272571 | AM43: =AM101-$AP82 -> -0.0047610501 | AN43: =AN101-$AP82 -> -0.00068915835 | AO43: =AO101-$AP82 -> 0.0040474006 | AP43: =AP101-$AP82 -> 0.0014028079 | AQ43: =AQ101-$AT82 -> 0.0018337699 | AR43: =AR101-$AT82 -> -0.0032276989 | AS43: =AS101-$AT82 -> 0.00054530176 | AT43: =AT101-$AT82 -> 0.00084862719 | AU43: =AU101-$AX82 -> 0.0056551591 | AV43: =AV101-$AX82 -> 0.0025955136 | AW43: =AW101-$AX82 -> -0.0027229666 | AX43: =AX101-$AX82 -> -0.0055277061 | AY43: =AY101-$BB82 -> -0.0030717217 | AZ43: =AZ101-$BB82 -> 0.0064823633 | BA43: =BA101-$BB82 -> -0.00016641349 | BB43: =BB101-$BB82 -> -0.0032442281 | BC43: =BC101-$BF82 -> 0.0062282869 | BD43: =BD101-$BF82 -> -0.0062913123 | BE43: =BE101-$BF82 -> -0.00089025846 | BF43: =BF101-$BF82 -> 0.00095328383 | BG43: =BG101-$BJ82 -> -0.00035295564 | BH43: =BH101-$BJ82 -> 0.002067457 | BI43: =BI101-$BJ82 -> 0.00077017031 | BJ43: =BJ101-$BJ82 -> -0.0024846716
A44: =A63 -> Integral 8 | C44: =C102-$F83 -> 0 | D44: =D102-$F83 -> 0 | E44: =E102-$F83 -> 0 | F44: =F102-$F83 -> 0 | G44: =G102-$J83 -> 0 | H44: =H102-$J83 -> 0 | I44: =I102-$J83 -> 0 | J44: =J102-$J83 -> 0 | K44: =K102-$N83 -> 0 | L44: =L102-$N83 -> 0 | M44: =M102-$N83 -> 0 | N44: =N102-$N83 -> 0 | O44: =O102-$R83 -> 0 | P44: =P102-$R83 -> 0 | Q44: =Q102-$R83 -> 0 | R44: =R102-$R83 -> 0 | S44: =S102-$V83 -> 0 | T44: =T102-$V83 -> 0 | U44: =U102-$V83 -> 0 | V44: =V102-$V83 -> 0 | W44: =W102-$Z83 -> 0 | X44: =X102-$Z83 -> 0 | Y44: =Y102-$Z83 -> 0 | Z44: =Z102-$Z83 -> 0 | AA44: =AA102-$AD83 -> 0 | AB44: =AB102-$AD83 -> 0 | AC44: =AC102-$AD83 -> 0 | AD44: =AD102-$AD83 -> 0 | AE44: =AE102-$AH83 -> 0 | AF44: =AF102-$AH83 -> 0 | AG44: =AG102-$AH83 -> 0 | AH44: =AH102-$AH83 -> 0 | AI44: =AI102-$AL83 -> 0 | AJ44: =AJ102-$AL83 -> 0 | AK44: =AK102-$AL83 -> 0 | AL44: =AL102-$AL83 -> 0 | AM44: =AM102-$AP83 -> 0 | AN44: =AN102-$AP83 -> 0 | AO44: =AO102-$AP83 -> 0 | AP44: =AP102-$AP83 -> 0 | AQ44: =AQ102-$AT83 -> 0 | AR44: =AR102-$AT83 -> 0 | AS44: =AS102-$AT83 -> 0 | AT44: =AT102-$AT83 -> 0 | AU44: =AU102-$AX83 -> 0 | AV44: =AV102-$AX83 -> 0 | AW44: =AW102-$AX83 -> 0 | AX44: =AX102-$AX83 -> 0 | AY44: =AY102-$BB83 -> 0 | AZ44: =AZ102-$BB83 -> 0 | BA44: =BA102-$BB83 -> 0 | BB44: =BB102-$BB83 -> 0 | BC44: =BC102-$BF83 -> 0 | BD44: =BD102-$BF83 -> 0 | BE44: =BE102-$BF83 -> 0 | BF44: =BF102-$BF83 -> 0 | BG44: =BG102-$BJ83 -> 0 | BH44: =BH102-$BJ83 -> 0 | BI44: =BI102-$BJ83 -> 0 | BJ44: =BJ102-$BJ83 -> 0
A45: =A64 -> Integral 9 | C45: =C103-$F84 -> -0.012848966 | D45: =D103-$F84 -> 0.015948928 | E45: =E103-$F84 -> 0.0097520326 | F45: =F103-$F84 -> -0.012851994 | G45: =G103-$J84 -> 0.0053872087 | H45: =H103-$J84 -> 0.006288162 | I45: =I103-$J84 -> -0.0097551867 | J45: =J103-$J84 -> -0.001920184 | K45: =K103-$N84 -> 0.0017419525 | L45: =L103-$N84 -> -0.00028877805 | M45: =M103-$N84 -> -0.0012861726 | N45: =N103-$N84 -> -0.00016700192 | O45: =O103-$R84 -> -0.010452526 | P45: =P103-$R84 -> 0.016465918 | Q45: =Q103-$R84 -> -0.0099745081 | R45: =R103-$R84 -> 0.0039611166 | S45: =S103-$V84 -> 0.00010659766 | T45: =T103-$V84 -> 0.00027375317 | U45: =U103-$V84 -> 0.0083429469 | V45: =V103-$V84 -> -0.0087232978 | W45: =W103-$Z84 -> 0.0093165253 | X45: =X103-$Z84 -> 0.010558703 | Y45: =Y103-$Z84 -> -0.016708096 | Z45: =Z103-$Z84 -> -0.0031671329 | AA45: =AA103-$AD84 -> -0.00275851 | AB45: =AB103-$AD84 -> 0.0041856642 | AC45: =AC103-$AD84 -> 0.0053876739 | AD45: =AD103-$AD84 -> -0.0068148281 | AE45: =AE103-$AH84 -> 0.0033330329 | AF45: =AF103-$AH84 -> -0.0038202078 | AG45: =AG103-$AH84 -> 0.0040971696 | AH45: =AH103-$AH84 -> -0.0036099947 | AI45: =AI103-$AL84 -> -0.0019368651 | AJ45: =AJ103-$AL84 -> 0.00044113887 | AK45: =AK103-$AL84 -> 0.0017241759 | AL45: =AL103-$AL84 -> -0.00022844967 | AM45: =AM103-$AP84 -> -0.0051946397 | AN45: =AN103-$AP84 -> -0.00048592439 | AO45: =AO103-$AP84 -> 0.0058624273 | AP45: =AP103-$AP84 -> -0.00018186329 | AQ45: =AQ103-$AT84 -> 0.0028725547 | AR45: =AR103-$AT84 -> -0.0037782746 | AS45: =AS103-$AT84 -> -0.00077766087 | AT45: =AT103-$AT84 -> 0.0016833808 | AU45: =AU103-$AX84 -> 0.011297742 | AV45: =AV103-$AX84 -> 0.0041674826 | AW45: =AW103-$AX84 -> -0.0054672566 | AX45: =AX103-$AX84 -> -0.0099979682 | AY45: =AY103-$BB84 -> -0.0028907106 | AZ45: =AZ103-$BB84 -> 0.009908488 | BA45: =BA103-$BB84 -> -0.0022389638 | BB45: =BB103-$BB84 -> -0.0047788136 | BC45: =BC103-$BF84 -> 0.010096279 | BD45: =BD103-$BF84 -> -0.0064899893 | BE45: =BE103-$BF84 -> -0.0019576133 | BF45: =BF103-$BF84 -> -0.0016486766 | BG45: =BG103-$BJ84 -> 0.0046598154 | BH45: =BH103-$BJ84 -> 0.0051477585 | BI45: =BI103-$BJ84 -> -0.0033558212 | BJ45: =BJ103-$BJ84 -> -0.0064517528
