Workbook

Sheet IO Table 2015 OECD
A3: Dataset: Input-Output Tables 2018 edition
A4: Variable | C4: DOMIMP: Domestic output and imports
A5: Country | C5: TUN: Tunisia
A6: Time | C6: 2015
A7: Unit | C7: US Dollar, Millions
A8: To: (sector in column) | C8: D01T03: Agriculture, forestry and fishing | D8: D05T06: Mining and extraction of energy producing products | E8: D07T08: Mining and quarrying of non-energy producing products | F8: D09: Mining support service activities | G8: D10T12: Food products, beverages and tobacco | H8: D13T15: Textiles, wearing apparel, leather and related products | I8: D16: Wood and products of wood and cork | J8: D17T18: Paper products and printing | K8: D19: Coke and refined petroleum products | L8: D20T21: Chemicals and pharmaceutical products | M8: D22: Rubber and plastic products | N8: D23: Other non-metallic mineral products | O8: D24: Basic metals | P8: D25: Fabricated metal products | Q8: D26: Computer, electronic and optical products | R8: D27: Electrical equipment | S8: D28: Machinery and equipment, nec | T8: D29: Motor vehicles, trailers and semi-trailers | U8: D30: Other transport equipment | V8: D31T33: Other manufacturing; repair and installation of machinery and equipment | W8: D35T39: Electricity, gas, water supply, sewerage, waste and remediation services | X8: D41T43: Construction | Y8: D45T47: Wholesale and retail trade; repair of motor vehicles | Z8: D49T53: Transportation and storage | AA8: D55T56: Accomodation and food services | AB8: D58T60: Publishing, audiovisual and broadcasting activities | AC8: D61: Telecommunications | AD8: D62T63: IT and other information services | AE8: D64T66: Financial and insurance activities | AF8: D68: Real estate activities | AG8: D69T82: Other business sector services | AH8: D84: Public admin. and defence; compulsory social security | AI8: D85: Education | AJ8: D86T88: Human health and social work | AK8: D90T96: Arts, entertainment, recreation and other service activities | AL8: D97T98: Private households with employed persons | AM8: HFCE: Final consumption expenditure of households | AN8: NPISH: Final consumption expenditure of non-profit institutions serving households | AO8: GGFC: Final consumption expenditure of general government | AP8: GFCF: Gross Fixed Capital Formation | AQ8: INVNT: Changes in inventories | AR8: CONS_ABR: Direct purchases abroad by residents (imports) | AS8: CONS_NONRES: Direct purchases by non-residents (exports) | AT8: EXPO: Exports (cross border) | AU8: IMPO: Imports (cross border) | AV8: TOTAL: Total
A9: From: (sector in row)
A10: DOM_01T03: Agriculture, forestry and fishing | C10: 854 | D10: 1.7 | E10: 1.3 | F10: 0.5 | G10: 1704.7 | H10: 119.5 | I10: 75.5 | J10: 43.2 | K10: 0.7 | L10: 41 | M10: 10.9 | N10: 1 | O10: 2.4 | P10: 0.5 | Q10: 0.4 | R10: 1.5 | S10: 0.6 | T10: 0.4 | U10: 0.2 | V10: 12.1 | W10: 2.9 | X10: 15.4 | Y10: 53.1 | Z10: 4.2 | AA10: 192.1 | AB10: 1.4 | AC10: 0.1 | AD10: 0.1 | AE10: 0.5 | AF10: 1.2 | AG10: 4.2 | AH10: 72.5 | AI10: 7.4 | AJ10: 51.6 | AK10: 10.8 | AL10: 0 | AM10: 2463.2 | AN10: 0.2 | AO10: 104.5 | AP10: 77.4 | AQ10: -21.7 | AR10: 0 | AS10: 3.6 | AT10: 451.7 | AU10: 0 | AV10: 6368.4
A11: DOM_05T06: Mining and extraction of energy producing products | C11: 13.5 | D11: 240.3 | E11: 1.2 | F11: 33.9 | G11: 12.6 | H11: 4.9 | I11: 0.4 | J11: 6.8 | K11: 778.7 | L11: 123.3 | M11: 5 | N11: 15.6 | O11: 16.7 | P11: 1.2 | Q11: 0.8 | R11: 4.1 | S11: 1.5 | T11: 5.1 | U11: 0.6 | V11: 1.7 | W11: 165.6 | X11: 4.5 | Y11: 13.5 | Z11: 19.9 | AA11: 22.9 | AB11: 0.9 | AC11: 2.6 | AD11: 0.1 | AE11: 0.9 | AF11: 2.9 | AG11: 2.1 | AH11: 18.4 | AI11: 4.1 | AJ11: 70.1 | AK11: 16.7 | AL11: 0 | AM11: 65.9 | AN11: 0 | AO11: 1.3 | AP11: 22.4 | AQ11: -16.8 | AR11: 0 | AS11: 0 | AT11: 681.6 | AU11: 0 | AV11: 2367.2
A12: DOM_07T08: Mining and quarrying of non-energy producing products | C12: 9 | D12: 5.1 | E12: 49.3 | F12: 3.8 | G12: 2.1 | H12: 2.4 | I12: 0.2 | J12: 3.7 | K12: 1.3 | L12: 67.9 | M12: 0.6 | N12: 153.3 | O12: 45.8 | P12: 1.5 | Q12: 0.7 | R12: 2.7 | S12: 1.5 | T12: 0.3 | U12: 0.3 | V12: 6.6 | W12: 3.8 | X12: 134 | Y12: 3.2 | Z12: 2.3 | AA12: 0.1 | AB12: 0 | AC12: 0 | AD12: 0 | AE12: 0 | AF12: 2.7 | AG12: 0.4 | AH12: 17.1 | AI12: 0.2 | AJ12: 0.7 | AK12: 1 | AL12: 0 | AM12: 6.5 | AN12: 0 | AO12: 0.1 | AP12: 2.2 | AQ12: -0.5 | AR12: 0 | AS12: 0 | AT12: 38.1 | AU12: 0 | AV12: 570
A13: DOM_09: Mining support service activities | C13: 33.7 | D13: 195.8 | E13: 23.6 | F13: 29.3 | G13: 2 | H13: 0 | I13: 0.1 | J13: 1 | K13: 0.7 | L13: 1 | M13: 1.1 | N13: 1 | O13: 0.2 | P13: 0 | Q13: 0 | R13: 0 | S13: 0.6 | T13: 0 | U13: 0 | V13: 0.5 | W13: 4.7 | X13: 20.1 | Y13: 0 | Z13: 0.9 | AA13: 0 | AB13: 0 | AC13: 0 | AD13: 0 | AE13: 0 | AF13: 0 | AG13: 0.2 | AH13: 8.1 | AI13: 0.6 | AJ13: 0.1 | AK13: 0 | AL13: 0 | AM13: 0 | AN13: 0 | AO13: 24.6 | AP13: 0 | AQ13: 0 | AR13: 0 | AS13: 0 | AT13: 1.6 | AU13: 0 | AV13: 351.6
A14: DOM_10T12: Food products, beverages and tobacco | C14: 554.8 | D14: 0.1 | E14: 0.2 | F14: 0.2 | G14: 780.3 | H14: 52.4 | I14: 0.6 | J14: 5.1 | K14: 0.8 | L14: 43.6 | M14: 0.9 | N14: 1.5 | O14: 0.2 | P14: 0.2 | Q14: 0.4 | R14: 0.7 | S14: 0.3 | T14: 0.3 | U14: 0.2 | V14: 1.7 | W14: 3.4 | X14: 4.9 | Y14: 36.7 | Z14: 4 | AA14: 731.8 | AB14: 2 | AC14: 0.5 | AD14: 0.1 | AE14: 1.2 | AF14: 1.1 | AG14: 3.5 | AH14: 161.6 | AI14: 16.4 | AJ14: 307.3 | AK14: 44.1 | AL14: 0 | AM14: 901 | AN14: 0.5 | AO14: 53.5 | AP14: 0.1 | AQ14: 8.7 | AR14: 0 | AS14: 16.5 | AT14: 1528.4 | AU14: 0 | AV14: 5271.9
A15: DOM_13T15: Textiles, wearing apparel, leather and related products | C15: 8.2 | D15: 2.5 | E15: 0.7 | F15: 0.6 | G15: 3 | H15: 954.6 | I15: 1.1 | J15: 4.8 | K15: 0.2 | L15: 8.8 | M15: 6.8 | N15: 2.4 | O15: 0.3 | P15: 0.9 | Q15: 2.9 | R15: 4.4 | S15: 1.4 | T15: 10.4 | U15: 1.3 | V15: 27.6 | W15: 2.2 | X15: 8.1 | Y15: 18.4 | Z15: 5.1 | AA15: 9.9 | AB15: 2.4 | AC15: 0.7 | AD15: 0.2 | AE15: 1.9 | AF15: 0.2 | AG15: 2.3 | AH15: 47.8 | AI15: 2.6 | AJ15: 105.4 | AK15: 12.3 | AL15: 0 | AM15: 1410.3 | AN15: 0 | AO15: 5.7 | AP15: 4.5 | AQ15: 2.6 | AR15: 0 | AS15: 10.5 | AT15: 2246.3 | AU15: 0 | AV15: 4942.7
A16: DOM_16: Wood and of products of wood and cork (except furniture) | C16: 5.3 | D16: 1.9 | E16: 0.9 | F16: 0.3 | G16: 2.1 | H16: 3.4 | I16: 40.9 | J16: 7.7 | K16: 0.2 | L16: 3.3 | M16: 1.4 | N16: 4.2 | O16: 0.3 | P16: 1.7 | Q16: 1.7 | R16: 4 | S16: 1.5 | T16: 3.8 | U16: 1.2 | V16: 57.8 | W16: 1.7 | X16: 91.7 | Y16: 5.8 | Z16: 1.7 | AA16: 2.6 | AB16: 1.2 | AC16: 0.4 | AD16: 0.1 | AE16: 0.2 | AF16: 7.4 | AG16: 1.2 | AH16: 5.5 | AI16: 1.1 | AJ16: 2.5 | AK16: 4.1 | AL16: 0 | AM16: 35.3 | AN16: 0 | AO16: 0.1 | AP16: 11.7 | AQ16: -6.7 | AR16: 0 | AS16: 0.4 | AT16: 23.4 | AU16: 0 | AV16: 335.3
A17: DOM_17T18: Paper products and printing | C17: 0.2 | D17: 0.1 | E17: 0.1 | F17: 0 | G17: 0.6 | H17: 0.6 | I17: 0 | J17: 5 | K17: 0 | L17: 0.4 | M17: 0.1 | N17: 0.2 | O17: 0 | P17: 0.1 | Q17: 0.2 | R17: 0.2 | S17: 0.1 | T17: 0.1 | U17: 0 | V17: 0.2 | W17: 0.2 | X17: 0.2 | Y17: 2.1 | Z17: 0.5 | AA17: 0.4 | AB17: 6.6 | AC17: 0.9 | AD17: 0.2 | AE17: 0.9 | AF17: 0.1 | AG17: 0.6 | AH17: 5.8 | AI17: 1.2 | AJ17: 3.4 | AK17: 1.4 | AL17: 0 | AM17: 202.9 | AN17: 0 | AO17: 0.1 | AP17: 99.6 | AQ17: -97.3 | AR17: 0 | AS17: 1.4 | AT17: 221.5 | AU17: 0 | AV17: 461
A18: DOM_19: Coke and refined petroleum products | C18: 67.2 | D18: 24.7 | E18: 15.1 | F18: 5.5 | G18: 11.2 | H18: 12.9 | I18: 1.6 | J18: 4.8 | K18: 30.5 | L18: 65.6 | M18: 2.9 | N18: 19.3 | O18: 16.9 | P18: 2.6 | Q18: 3.6 | R18: 9.6 | S18: 3.3 | T18: 3.5 | U18: 0.8 | V18: 4.8 | W18: 23.3 | X18: 42.9 | Y18: 36 | Z18: 209.9 | AA18: 11.4 | AB18: 2.5 | AC18: 5.5 | AD18: 0.9 | AE18: 5.5 | AF18: 3.6 | AG18: 7.4 | AH18: 91.4 | AI18: 6 | AJ18: 61.7 | AK18: 10.7 | AL18: 0 | AM18: 528 | AN18: 0 | AO18: 5 | AP18: 71.9 | AQ18: -54.6 | AR18: 0 | AS18: 3.4 | AT18: 376.8 | AU18: 0 | AV18: 1755.8
A19: DOM_20T21: Chemicals and pharmaceutical products | C19: 30.1 | D19: 4.1 | E19: 2 | F19: 0.6 | G19: 4.9 | H19: 27.8 | I19: 1.6 | J19: 8.6 | K19: 4.2 | L19: 95.8 | M19: 26 | N19: 7 | O19: 4.9 | P19: 2.3 | Q19: 6.1 | R19: 12.7 | S19: 1.9 | T19: 3.8 | U19: 0.8 | V19: 4.9 | W19: 2.2 | X19: 8.1 | Y19: 3.4 | Z19: 1.6 | AA19: 1.7 | AB19: 1.4 | AC19: 0.2 | AD19: 0 | AE19: 0.3 | AF19: 1.1 | AG19: 1.3 | AH19: 8.2 | AI19: 1.4 | AJ19: 117.5 | AK19: 4.3 | AL19: 0 | AM19: 463.2 | AN19: 0 | AO19: 43.2 | AP19: 1.6 | AQ19: 4.9 | AR19: 0 | AS19: 2.9 | AT19: 896.2 | AU19: 0 | AV19: 1814.6
A20: DOM_22: Rubber and plastics products | C20: 2 | D20: 1.5 | E20: 0.7 | F20: 0.3 | G20: 7 | H20: 6.4 | I20: 0.4 | J20: 2.1 | K20: 0.2 | L20: 4.5 | M20: 10.2 | N20: 1.9 | O20: 0.8 | P20: 1.1 | Q20: 6 | R20: 11.8 | S20: 3 | T20: 8.7 | U20: 0.6 | V20: 4 | W20: 1 | X20: 13.8 | Y20: 5.6 | Z20: 3.8 | AA20: 1.9 | AB20: 0.4 | AC20: 1.1 | AD20: 0.1 | AE20: 0.3 | AF20: 0.4 | AG20: 0.7 | AH20: 4 | AI20: 0.4 | AJ20: 10 | AK20: 1.2 | AL20: 0 | AM20: 23.9 | AN20: 0 | AO20: 0.3 | AP20: 1.7 | AQ20: -2.3 | AR20: 0 | AS20: 0 | AT20: 301.6 | AU20: 0 | AV20: 443.1
A21: DOM_23: Other non-metallic mineral products | C21: 8.3 | D21: 5.2 | E21: 9.5 | F21: 1.6 | G21: 16.9 | H21: 5.2 | I21: 2.5 | J21: 1.1 | K21: 0.4 | L21: 10.8 | M21: 4.3 | N21: 142.8 | O21: 7.1 | P21: 5.1 | Q21: 22.8 | R21: 23.9 | S21: 5.5 | T21: 12.4 | U21: 1.5 | V21: 6.3 | W21: 3.6 | X21: 417.6 | Y21: 10.7 | Z21: 3.8 | AA21: 7.5 | AB21: 0.6 | AC21: 1.5 | AD21: 0.1 | AE21: 0.7 | AF21: 6.2 | AG21: 1.8 | AH21: 18.6 | AI21: 2.7 | AJ21: 30.6 | AK21: 3.9 | AL21: 0 | AM21: 126.4 | AN21: 0 | AO21: 0.3 | AP21: 12.4 | AQ21: -3.1 | AR21: 0 | AS21: 0 | AT21: 267.6 | AU21: 0 | AV21: 1206.8
... A86: OUTPUT: Output at basic prices | C86: 6368.4 | D86: 2367.2 | E86: 570 | F86: 351.6 | G86: 5271.9 | H86: 4942.7 | I86: 335.3 | J86: 461 | K86: 1755.8 | L86: 1814.6 | M86: 443.1 | N86: 1206.8 | O86: 853.1 | P86: 625.1 | Q86: 1594.3 | R86: 2338.2 | S86: 919.1 | T86: 1652.5 | U86: 203.5 | V86: 886.6 | W86: 1224.3 | X86: 3595 | Y86: 5021.6 | Z86: 5080.2 | AA86: 3418.7 | AB86: 756.9 | AC86: 1369.9 | AD86: 216.4 | AE86: 1568.5 | AF86: 856.3 | AG86: 1026.4 | AH86: 6456.2 | AI86: 765 | AJ86: 9286.1 | AK86: 2036.1 | AL86: 150.2 | AM86: 0 | AN86: 0 | AO86: 0 | AP86: 0 | AQ86: 0 | AR86: 0 | AS86: 0 | AT86: 0 | AU86: 0 | AV86: 77788.9
A87: Data extracted on 28 Oct 2019 14:28 UTC (GMT) from OECD.Stat
A90: Weited average for multiplier averages
C91: =C8 -> D01T03: Agriculture, forestry and fishing | D91: =D8 -> D05T06: Mining and extraction of energy producing products | E91: =E8 -> D07T08: Mining and quarrying of non-energy producing products | F91: =F8 -> D09: Mining support service activities | G91: =G8 -> D10T12: Food products, beverages and tobacco | H91: =H8 -> D13T15: Textiles, wearing apparel, leather and related products | I91: =I8 -> D16: Wood and products of wood and cork | J91: =J8 -> D17T18: Paper products and printing | ... AV91: =AV8 -> TOTAL: Total
A92: Industry | B92: =SUM(C92:X92) -> 216.8 | C92: =C30 -> 13.4 | D92: =D30 -> 13.1 | E92: =E30 -> 4 | F92: =F30 -> 1.5 | G92: =G30 -> 10.7 | H92: =H30 -> 15.2 | I92: =I30 -> 1.4 | J92: =J30 -> 10.5 | ... X92: =X30 -> 8.4
A93: Fraction | C93: =C92/$B92 -> 0.061808118 | D93: =D92/$B92 -> 0.060424354 | E93: =E92/$B92 -> 0.018450185 | F93: =F92/$B92 -> 0.0069188192 | G93: =G92/$B92 -> 0.049354244 | H93: =H92/$B92 -> 0.070110701 | I93: =I92/$B92 -> 0.0064575646 | J93: =J92/$B92 -> 0.048431734 | ... X93: =X92/$B92 -> 0.038745387
A94: Multiplier | C94: ='Leontief Inverse'!B39 -> 1.5098059 | D94: ='Leontief Inverse'!C39 -> 1.428431 | E94: ='Leontief Inverse'!D39 -> 1.440121 | F94: ='Leontief Inverse'!E39 -> 1.4459221 | G94: ='Leontief Inverse'!F39 -> 1.9610848 | H94: ='Leontief Inverse'!G39 -> 1.5094898 | I94: ='Leontief Inverse'!H39 -> 1.7394876 | J94: ='Leontief Inverse'!I39 -> 1.6469248 | ... AV94: ='Leontief Inverse'!AU39 -> 0
A95: Average | B95: =SUM(C95:AL95) -> 1.5584495 | C95: =C94*C93 -> 0.093318263 | D95: =D94*D93 -> 0.08631202 | E95: =E94*E93 -> 0.026570498 | F95: =F94*F93 -> 0.010004074 | G95: =G94*G93 -> 0.096787859 | H95: =H94*H93 -> 0.10583139 | I95: =I94*I93 -> 0.011232854 | J95: =J94*J93 -> 0.079763424 | ... AL95: =AL94*AL93 -> 0
A96: Commerce | B96: =SUM(Y96:AK96) -> 307.5 | Y96: =Y30 -> 17.3 | Z96: =Z30 -> 11.4 | AA96: =AA30 -> 16.1 | AB96: =AB30 -> 3 | AC96: =AC30 -> 6 | AD96: =AD30 -> 0.7 | AE96: =AE30 -> 4 | AF96: =AF30 -> 11.4 | ... AK96: =AK30 -> 12.4 | AL96: =AL92 -> 0 | AM96: =AM92 -> 0 | AN96: =AN92 -> 0 | AO96: =AO92 -> 0 | AP96: =AP92 -> 0 | AQ96: =AQ92 -> 0 | AR96: =AR92 -> 0 | AS96: =AS92 -> 0 | ... AV96: =AV92 -> 0
A97: Fraction | Y97: =Y96/$B96 -> 0.056260163 | Z97: =Z96/$B96 -> 0.037073171 | AA97: =AA96/$B96 -> 0.052357724 | AB97: =AB96/$B96 -> 0.0097560976 | AC97: =AC96/$B96 -> 0.019512195 | AD97: =AD96/$B96 -> 0.0022764228 | AE97: =AE96/$B96 -> 0.01300813 | AF97: =AF96/$B96 -> 0.037073171 | ... AK97: =AK96/$B96 -> 0.040325203
A98: Multiplier | C98: ='Leontief Inverse'!B39 -> 1.5098059 | D98: ='Leontief Inverse'!C39 -> 1.428431 | E98: ='Leontief Inverse'!D39 -> 1.440121 | F98: ='Leontief Inverse'!E39 -> 1.4459221 | G98: ='Leontief Inverse'!F39 -> 1.9610848 | H98: ='Leontief Inverse'!G39 -> 1.5094898 | I98: ='Leontief Inverse'!H39 -> 1.7394876 | J98: ='Leontief Inverse'!I39 -> 1.6469248 | ... AL98: ='Leontief Inverse'!AK39 -> 1
A99: Average | B99: =SUM(C99:AL99) -> 1.4315957 | C99: =C98*C97 -> 0 | D99: =D98*D97 -> 0 | E99: =E98*E97 -> 0 | F99: =F98*F97 -> 0 | G99: =G98*G97 -> 0 | H99: =H98*H97 -> 0 | I99: =I98*I97 -> 0 | J99: =J98*J97 -> 0 | ... AL99: =AL98*AL97 -> 0
A100: Household (assumed consumption is the economic driver of everything so an average accorss the economy is used)
A101: Fraction | C101: =C86/SUM($C86:$AL86) -> 0.081868037 | D101: =D86/SUM($C86:$AL86) -> 0.030431194 | E101: =E86/SUM($C86:$AL86) -> 0.0073275519 | F101: =F86/SUM($C86:$AL86) -> 0.0045199425 | G101: =G86/SUM($C86:$AL86) -> 0.067772141 | H101: =H86/SUM($C86:$AL86) -> 0.063540159 | I101: =I86/SUM($C86:$AL86) -> 0.0043104002 | J101: =J86/SUM($C86:$AL86) -> 0.0059263183 | ... AL101: =AL86/SUM($C86:$AL86) -> 0.0019308742
A102: Multiplier | C102: ='Leontief Inverse'!B39 -> 1.5098059 | D102: ='Leontief Inverse'!C39 -> 1.428431 | E102: ='Leontief Inverse'!D39 -> 1.440121 | F102: ='Leontief Inverse'!E39 -> 1.4459221 | G102: ='Leontief Inverse'!F39 -> 1.9610848 | H102: ='Leontief Inverse'!G39 -> 1.5094898 | I102: ='Leontief Inverse'!H39 -> 1.7394876 | J102: ='Leontief Inverse'!I39 -> 1.6469248 | ... AL102: ='Leontief Inverse'!AK39 -> 1
A103: Average | B103: =SUM(C103:AL103) -> 1.524173 | C103: =C102*C101 -> 0.12360485 | D103: =D102*D101 -> 0.043468861 | E103: =E102*E101 -> 0.010552561 | F103: =F102*F101 -> 0.0065354849 | G103: =G102*G101 -> 0.13290692 | H103: =H102*H101 -> 0.095913219 | I103: =I102*I101 -> 0.0074978878 | J103: =J102*J101 -> 0.0097602004 | ... AL103: =AL102*AL101 -> 0.0019308742

Sheet A-Matrix
B2: D01T03: Agriculture, forestry and fishing | C2: D05T06: Mining and extraction of energy producing products | D2: D07T08: Mining and quarrying of non-energy producing products | E2: D09: Mining support service activities | F2: D10T12: Food products, beverages and tobacco | G2: D13T15: Textiles, wearing apparel, leather and related products | H2: D16: Wood and products of wood and cork | I2: D17T18: Paper products and printing | J2: D19: Coke and refined petroleum products | K2: D20T21: Chemicals and pharmaceutical products | L2: D22: Rubber and plastic products | M2: D23: Other non-metallic mineral products | N2: D24: Basic metals | O2: D25: Fabricated metal products | P2: D26: Computer, electronic and optical products | Q2: D27: Electrical equipment | R2: D28: Machinery and equipment, nec | S2: D29: Motor vehicles, trailers and semi-trailers | T2: D30: Other transport equipment | U2: D31T33: Other manufacturing; repair and installation of machinery and equipment | V2: D35T39: Electricity, gas, water supply, sewerage, waste and remediation services | W2: D41T43: Construction | X2: D45T47: Wholesale and retail trade; repair of motor vehicles | Y2: D49T53: Transportation and storage | Z2: D55T56: Accomodation and food services | AA2: D58T60: Publishing, audiovisual and broadcasting activities | AB2: D61: Telecommunications | AC2: D62T63: IT and other information services | AD2: D64T66: Financial and insurance activities | AE2: D68: Real estate activities | AF2: D69T82: Other business sector services | AG2: D84: Public admin. and defence; compulsory social security | AH2: D85: Education | AI2: D86T88: Human health and social work | AJ2: D90T96: Arts, entertainment, recreation and other service activities | AK2: D97T98: Private households with employed persons
A3: DOM_01T03: Agriculture, forestry and fishing | B3: ='IO Table 2015 OECD'!C10/'IO Table 2015 OECD'!C$86 -> 0.13409962 | C3: ='IO Table 2015 OECD'!D10/'IO Table 2015 OECD'!D$86 -> 0.00071814802 | D3: ='IO Table 2015 OECD'!E10/'IO Table 2015 OECD'!E$86 -> 0.0022807018 | E3: ='IO Table 2015 OECD'!F10/'IO Table 2015 OECD'!F$86 -> 0.0014220705 | F3: ='IO Table 2015 OECD'!G10/'IO Table 2015 OECD'!G$86 -> 0.32335591 | G3: ='IO Table 2015 OECD'!H10/'IO Table 2015 OECD'!H$86 -> 0.024177069 | H3: ='IO Table 2015 OECD'!I10/'IO Table 2015 OECD'!I$86 -> 0.22517149 | I3: ='IO Table 2015 OECD'!J10/'IO Table 2015 OECD'!J$86 -> 0.093709328 | ... AK3: ='IO Table 2015 OECD'!AL10/'IO Table 2015 OECD'!AL$86 -> 0
A4: DOM_05T06: Mining and extraction of energy producing products | B4: ='IO Table 2015 OECD'!C11/'IO Table 2015 OECD'!C$86 -> 0.0021198417 | C4: ='IO Table 2015 OECD'!D11/'IO Table 2015 OECD'!D$86 -> 0.10151234 | D4: ='IO Table 2015 OECD'!E11/'IO Table 2015 OECD'!E$86 -> 0.0021052632 | E4: ='IO Table 2015 OECD'!F11/'IO Table 2015 OECD'!F$86 -> 0.096416382 | F4: ='IO Table 2015 OECD'!G11/'IO Table 2015 OECD'!G$86 -> 0.0023900302 | G4: ='IO Table 2015 OECD'!H11/'IO Table 2015 OECD'!H$86 -> 0.000991361 | H4: ='IO Table 2015 OECD'!I11/'IO Table 2015 OECD'!I$86 -> 0.0011929615 | I4: ='IO Table 2015 OECD'!J11/'IO Table 2015 OECD'!J$86 -> 0.014750542 | ... AK4: ='IO Table 2015 OECD'!AL11/'IO Table 2015 OECD'!AL$86 -> 0
A5: DOM_07T08: Mining and quarrying of non-energy producing products | B5: ='IO Table 2015 OECD'!C12/'IO Table 2015 OECD'!C$86 -> 0.0014132278 | C5: ='IO Table 2015 OECD'!D12/'IO Table 2015 OECD'!D$86 -> 0.0021544441 | D5: ='IO Table 2015 OECD'!E12/'IO Table 2015 OECD'!E$86 -> 0.086491228 | E5: ='IO Table 2015 OECD'!F12/'IO Table 2015 OECD'!F$86 -> 0.010807736 | F5: ='IO Table 2015 OECD'!G12/'IO Table 2015 OECD'!G$86 -> 0.00039833836 | G5: ='IO Table 2015 OECD'!H12/'IO Table 2015 OECD'!H$86 -> 0.00048556457 | H5: ='IO Table 2015 OECD'!I12/'IO Table 2015 OECD'!I$86 -> 0.00059648076 | I5: ='IO Table 2015 OECD'!J12/'IO Table 2015 OECD'!J$86 -> 0.0080260304 | ... AK5: ='IO Table 2015 OECD'!AL12/'IO Table 2015 OECD'!AL$86 -> 0
A6: DOM_09: Mining support service activities | B6: ='IO Table 2015 OECD'!C13/'IO Table 2015 OECD'!C$86 -> 0.005291753 | C6: ='IO Table 2015 OECD'!D13/'IO Table 2015 OECD'!D$86 -> 0.082713755 | D6: ='IO Table 2015 OECD'!E13/'IO Table 2015 OECD'!E$86 -> 0.041403509 | E6: ='IO Table 2015 OECD'!F13/'IO Table 2015 OECD'!F$86 -> 0.083333333 | F6: ='IO Table 2015 OECD'!G13/'IO Table 2015 OECD'!G$86 -> 0.00037936987 | G6: ='IO Table 2015 OECD'!H13/'IO Table 2015 OECD'!H$86 -> 0 | H6: ='IO Table 2015 OECD'!I13/'IO Table 2015 OECD'!I$86 -> 0.00029824038 | I6: ='IO Table 2015 OECD'!J13/'IO Table 2015 OECD'!J$86 -> 0.0021691974 | ... AK6: ='IO Table 2015 OECD'!AL13/'IO Table 2015 OECD'!AL$86 -> 0
A7: DOM_10T12: Food products, beverages and tobacco | B7: ='IO Table 2015 OECD'!C14/'IO Table 2015 OECD'!C$86 -> 0.087117643 | C7: ='IO Table 2015 OECD'!D14/'IO Table 2015 OECD'!D$86 -> 4.2244001e-05 | D7: ='IO Table 2015 OECD'!E14/'IO Table 2015 OECD'!E$86 -> 0.00035087719 | E7: ='IO Table 2015 OECD'!F14/'IO Table 2015 OECD'!F$86 -> 0.00056882821 | F7: ='IO Table 2015 OECD'!G14/'IO Table 2015 OECD'!G$86 -> 0.14801115 | G7: ='IO Table 2015 OECD'!H14/'IO Table 2015 OECD'!H$86 -> 0.010601493 | H7: ='IO Table 2015 OECD'!I14/'IO Table 2015 OECD'!I$86 -> 0.0017894423 | I7: ='IO Table 2015 OECD'!J14/'IO Table 2015 OECD'!J$86 -> 0.011062907 | ... AK7: ='IO Table 2015 OECD'!AL14/'IO Table 2015 OECD'!AL$86 -> 0
A8: DOM_13T15: Textiles, wearing apparel, leather and related products | B8: ='IO Table 2015 OECD'!C15/'IO Table 2015 OECD'!C$86 -> 0.0012876076 | C8: ='IO Table 2015 OECD'!D15/'IO Table 2015 OECD'!D$86 -> 0.0010561 | D8: ='IO Table 2015 OECD'!E15/'IO Table 2015 OECD'!E$86 -> 0.0012280702 | E8: ='IO Table 2015 OECD'!F15/'IO Table 2015 OECD'!F$86 -> 0.0017064846 | F8: ='IO Table 2015 OECD'!G15/'IO Table 2015 OECD'!G$86 -> 0.0005690548 | G8: ='IO Table 2015 OECD'!H15/'IO Table 2015 OECD'!H$86 -> 0.19313331 | H8: ='IO Table 2015 OECD'!I15/'IO Table 2015 OECD'!I$86 -> 0.0032806442 | I8: ='IO Table 2015 OECD'!J15/'IO Table 2015 OECD'!J$86 -> 0.010412148 | ... AK8: ='IO Table 2015 OECD'!AL15/'IO Table 2015 OECD'!AL$86 -> 0
A9: DOM_16: Wood and of products of wood and cork (except furniture) | B9: ='IO Table 2015 OECD'!C16/'IO Table 2015 OECD'!C$86 -> 0.00083223416 | C9: ='IO Table 2015 OECD'!D16/'IO Table 2015 OECD'!D$86 -> 0.00080263603 | D9: ='IO Table 2015 OECD'!E16/'IO Table 2015 OECD'!E$86 -> 0.0015789474 | E9: ='IO Table 2015 OECD'!F16/'IO Table 2015 OECD'!F$86 -> 0.00085324232 | F9: ='IO Table 2015 OECD'!G16/'IO Table 2015 OECD'!G$86 -> 0.00039833836 | G9: ='IO Table 2015 OECD'!H16/'IO Table 2015 OECD'!H$86 -> 0.00068788314 | H9: ='IO Table 2015 OECD'!I16/'IO Table 2015 OECD'!I$86 -> 0.12198032 | I9: ='IO Table 2015 OECD'!J16/'IO Table 2015 OECD'!J$86 -> 0.01670282 | ... AK9: ='IO Table 2015 OECD'!AL16/'IO Table 2015 OECD'!AL$86 -> 0
A10: DOM_17T18: Paper products and printing | B10: ='IO Table 2015 OECD'!C17/'IO Table 2015 OECD'!C$86 -> 3.1405062e-05 | C10: ='IO Table 2015 OECD'!D17/'IO Table 2015 OECD'!D$86 -> 4.2244001e-05 | D10: ='IO Table 2015 OECD'!E17/'IO Table 2015 OECD'!E$86 -> 0.0001754386 | E10: ='IO Table 2015 OECD'!F17/'IO Table 2015 OECD'!F$86 -> 0 | F10: ='IO Table 2015 OECD'!G17/'IO Table 2015 OECD'!G$86 -> 0.00011381096 | G10: ='IO Table 2015 OECD'!H17/'IO Table 2015 OECD'!H$86 -> 0.00012139114 | H10: ='IO Table 2015 OECD'!I17/'IO Table 2015 OECD'!I$86 -> 0 | I10: ='IO Table 2015 OECD'!J17/'IO Table 2015 OECD'!J$86 -> 0.010845987 | ... AK10: ='IO Table 2015 OECD'!AL17/'IO Table 2015 OECD'!AL$86 -> 0
A11: DOM_19: Coke and refined petroleum products | B11: ='IO Table 2015 OECD'!C18/'IO Table 2015 OECD'!C$86 -> 0.010552101 | C11: ='IO Table 2015 OECD'!D18/'IO Table 2015 OECD'!D$86 -> 0.010434268 | D11: ='IO Table 2015 OECD'!E18/'IO Table 2015 OECD'!E$86 -> 0.026491228 | E11: ='IO Table 2015 OECD'!F18/'IO Table 2015 OECD'!F$86 -> 0.015642776 | F11: ='IO Table 2015 OECD'!G18/'IO Table 2015 OECD'!G$86 -> 0.0021244713 | G11: ='IO Table 2015 OECD'!H18/'IO Table 2015 OECD'!H$86 -> 0.0026099096 | H11: ='IO Table 2015 OECD'!I18/'IO Table 2015 OECD'!I$86 -> 0.0047718461 | I11: ='IO Table 2015 OECD'!J18/'IO Table 2015 OECD'!J$86 -> 0.010412148 | ... AK11: ='IO Table 2015 OECD'!AL18/'IO Table 2015 OECD'!AL$86 -> 0
A12: DOM_20T21: Chemicals and pharmaceutical products | B12: ='IO Table 2015 OECD'!C19/'IO Table 2015 OECD'!C$86 -> 0.0047264619 | C12: ='IO Table 2015 OECD'!D19/'IO Table 2015 OECD'!D$86 -> 0.0017320041 | D12: ='IO Table 2015 OECD'!E19/'IO Table 2015 OECD'!E$86 -> 0.0035087719 | E12: ='IO Table 2015 OECD'!F19/'IO Table 2015 OECD'!F$86 -> 0.0017064846 | F12: ='IO Table 2015 OECD'!G19/'IO Table 2015 OECD'!G$86 -> 0.00092945617 | G12: ='IO Table 2015 OECD'!H19/'IO Table 2015 OECD'!H$86 -> 0.0056244563 | H12: ='IO Table 2015 OECD'!I19/'IO Table 2015 OECD'!I$86 -> 0.0047718461 | I12: ='IO Table 2015 OECD'!J19/'IO Table 2015 OECD'!J$86 -> 0.018655098 | ... AK12: ='IO Table 2015 OECD'!AL19/'IO Table 2015 OECD'!AL$86 -> 0
A13: DOM_22: Rubber and plastics products | B13: ='IO Table 2015 OECD'!C20/'IO Table 2015 OECD'!C$86 -> 0.00031405062 | C13: ='IO Table 2015 OECD'!D20/'IO Table 2015 OECD'!D$86 -> 0.00063366002 | D13: ='IO Table 2015 OECD'!E20/'IO Table 2015 OECD'!E$86 -> 0.0012280702 | E13: ='IO Table 2015 OECD'!F20/'IO Table 2015 OECD'!F$86 -> 0.00085324232 | F13: ='IO Table 2015 OECD'!G20/'IO Table 2015 OECD'!G$86 -> 0.0013277945 | G13: ='IO Table 2015 OECD'!H20/'IO Table 2015 OECD'!H$86 -> 0.0012948389 | H13: ='IO Table 2015 OECD'!I20/'IO Table 2015 OECD'!I$86 -> 0.0011929615 | I13: ='IO Table 2015 OECD'!J20/'IO Table 2015 OECD'!J$86 -> 0.0045553145 | ... AK13: ='IO Table 2015 OECD'!AL20/'IO Table 2015 OECD'!AL$86 -> 0
A14: DOM_23: Other non-metallic mineral products | B14: ='IO Table 2015 OECD'!C21/'IO Table 2015 OECD'!C$86 -> 0.0013033101 | C14: ='IO Table 2015 OECD'!D21/'IO Table 2015 OECD'!D$86 -> 0.0021966881 | D14: ='IO Table 2015 OECD'!E21/'IO Table 2015 OECD'!E$86 -> 0.016666667 | E14: ='IO Table 2015 OECD'!F21/'IO Table 2015 OECD'!F$86 -> 0.0045506257 | F14: ='IO Table 2015 OECD'!G21/'IO Table 2015 OECD'!G$86 -> 0.0032056754 | G14: ='IO Table 2015 OECD'!H21/'IO Table 2015 OECD'!H$86 -> 0.0010520566 | H14: ='IO Table 2015 OECD'!I21/'IO Table 2015 OECD'!I$86 -> 0.0074560095 | I14: ='IO Table 2015 OECD'!J21/'IO Table 2015 OECD'!J$86 -> 0.0023861171 | ... AK14: ='IO Table 2015 OECD'!AL21/'IO Table 2015 OECD'!AL$86 -> 0
... A38: DOM_97T98: Private households with employed persons | B38: ='IO Table 2015 OECD'!C45/'IO Table 2015 OECD'!C$86 -> 0 | C38: ='IO Table 2015 OECD'!D45/'IO Table 2015 OECD'!D$86 -> 0 | D38: ='IO Table 2015 OECD'!E45/'IO Table 2015 OECD'!E$86 -> 0 | E38: ='IO Table 2015 OECD'!F45/'IO Table 2015 OECD'!F$86 -> 0 | F38: ='IO Table 2015 OECD'!G45/'IO Table 2015 OECD'!G$86 -> 0 | G38: ='IO Table 2015 OECD'!H45/'IO Table 2015 OECD'!H$86 -> 0 | H38: ='IO Table 2015 OECD'!I45/'IO Table 2015 OECD'!I$86 -> 0 | I38: ='IO Table 2015 OECD'!J45/'IO Table 2015 OECD'!J$86 -> 0 | ... AK38: ='IO Table 2015 OECD'!AL45/'IO Table 2015 OECD'!AL$86 -> 0
A39: Domestic Intermediate | B39: =SUM(B3:B38) -> 0.31226054 | C39: =SUM(C3:C38) -> 0.29321561 | D39: =SUM(D3:D38) -> 0.29473684 | E39: =SUM(E3:E38) -> 0.30261661 | F39: =SUM(F3:F38) -> 0.59693849 | G39: =SUM(G3:G38) -> 0.33730552 | H39: =SUM(H3:H38) -> 0.47271101 | I39: =SUM(I3:I38) -> 0.42516269 | ... AK39: =SUM(AK3:AK38) -> 0
A40: Imports | B40: =SUM('IO Table 2015 OECD'!C46:C81)/'IO Table 2015 OECD'!C86 -> 0.079140757 | C40: =SUM('IO Table 2015 OECD'!D46:D81)/'IO Table 2015 OECD'!D86 -> 0.10658162 | D40: =SUM('IO Table 2015 OECD'!E46:E81)/'IO Table 2015 OECD'!E86 -> 0.12508772 | E40: =SUM('IO Table 2015 OECD'!F46:F81)/'IO Table 2015 OECD'!F86 -> 0.10978385 | F40: =SUM('IO Table 2015 OECD'!G46:G81)/'IO Table 2015 OECD'!G86 -> 0.12166392 | G40: =SUM('IO Table 2015 OECD'!H46:H81)/'IO Table 2015 OECD'!H86 -> 0.22750723 | H40: =SUM('IO Table 2015 OECD'!I46:I81)/'IO Table 2015 OECD'!I86 -> 0.10796302 | I40: =SUM('IO Table 2015 OECD'!J46:J81)/'IO Table 2015 OECD'!J86 -> 0.17462039 | ... AK40: =SUM('IO Table 2015 OECD'!AL46:AL81)/'IO Table 2015 OECD'!AL86 -> 0
A41: Value-Added | B41: ='IO Table 2015 OECD'!C85/'IO Table 2015 OECD'!C86 -> 0.60534828 | C41: ='IO Table 2015 OECD'!D85/'IO Table 2015 OECD'!D86 -> 0.595049 | D41: ='IO Table 2015 OECD'!E85/'IO Table 2015 OECD'!E86 -> 0.56912281 | E41: ='IO Table 2015 OECD'!F85/'IO Table 2015 OECD'!F86 -> 0.57906712 | F41: ='IO Table 2015 OECD'!G85/'IO Table 2015 OECD'!G86 -> 0.28361691 | G41: ='IO Table 2015 OECD'!H85/'IO Table 2015 OECD'!H86 -> 0.42517248 | H41: ='IO Table 2015 OECD'!I85/'IO Table 2015 OECD'!I86 -> 0.41574709 | I41: ='IO Table 2015 OECD'!J85/'IO Table 2015 OECD'!J86 -> 0.39392625 | ... AK41: ='IO Table 2015 OECD'!AL85/'IO Table 2015 OECD'!AL86 -> 1
A42: Total (with rounding errors) | B42: =B41+B40+B39 -> 0.99674958 | C42: =C41+C40+C39 -> 0.99484623 | D42: =D41+D40+D39 -> 0.98894737 | E42: =E41+E40+E39 -> 0.99146758 | F42: =F41+F40+F39 -> 1.0022193 | G42: =G41+G40+G39 -> 0.98998523 | H42: =H41+H40+H39 -> 0.99642112 | I42: =I41+I40+I39 -> 0.99370933 | ... AK42: =AK41+AK40+AK39 -> 1

Sheet Identity-Matrix
B2: D01T03: Agriculture, forestry and fishing | C2: D05T06: Mining and extraction of energy producing products | D2: D07T08: Mining and quarrying of non-energy producing products | E2: D09: Mining support service activities | F2: D10T12: Food products, beverages and tobacco | G2: D13T15: Textiles, wearing apparel, leather and related products | H2: D16: Wood and products of wood and cork | I2: D17T18: Paper products and printing | J2: D19: Coke and refined petroleum products | K2: D20T21: Chemicals and pharmaceutical products | L2: D22: Rubber and plastic products | M2: D23: Other non-metallic mineral products | N2: D24: Basic metals | O2: D25: Fabricated metal products | P2: D26: Computer, electronic and optical products | Q2: D27: Electrical equipment | R2: D28: Machinery and equipment, nec | S2: D29: Motor vehicles, trailers and semi-trailers | T2: D30: Other transport equipment | U2: D31T33: Other manufacturing; repair and installation of machinery and equipment | V2: D35T39: Electricity, gas, water supply, sewerage, waste and remediation services | W2: D41T43: Construction | X2: D45T47: Wholesale and retail trade; repair of motor vehicles | Y2: D49T53: Transportation and storage | Z2: D55T56: Accomodation and food services | AA2: D58T60: Publishing, audiovisual and broadcasting activities | AB2: D61: Telecommunications | AC2: D62T63: IT and other information services | AD2: D64T66: Financial and insurance activities | AE2: D68: Real estate activities | AF2: D69T82: Other business sector services | AG2: D84: Public admin. and defence; compulsory social security | AH2: D85: Education | AI2: D86T88: Human health and social work | AJ2: D90T96: Arts, entertainment, recreation and other service activities | AK2: D97T98: Private households with employed persons
A3: DOM_01T03: Agriculture, forestry and fishing | B3: 1
A4: DOM_05T06: Mining and extraction of energy producing products | C4: 1
A5: DOM_07T08: Mining and quarrying of non-energy producing products | D5: 1
A6: DOM_09: Mining support service activities | E6: 1
A7: DOM_10T12: Food products, beverages and tobacco | F7: 1
A8: DOM_13T15: Textiles, wearing apparel, leather and related products | G8: 1
A9: DOM_16: Wood and of products of wood and cork (except furniture) | H9: 1
A10: DOM_17T18: Paper products and printing | I10: 1
A11: DOM_19: Coke and refined petroleum products | J11: 1
A12: DOM_20T21: Chemicals and pharmaceutical products | K12: 1
A13: DOM_22: Rubber and plastics products | L13: 1
A14: DOM_23: Other non-metallic mineral products | M14: 1
A15: DOM_24: Manufacture of basic metals | N15: 1
A16: DOM_25: Fabricated metal products, except machinery and equipment | O16: 1
A17: DOM_26: Computer, electronic and optical products | P17: 1
A18: DOM_27: Electrical equipment | Q18: 1
A19: DOM_28: Machinery and equipment n.e.c. | R19: 1
A20: DOM_29: Motor vehicles, trailers and semi-trailers | S20: 1
A21: DOM_30: Other transport equipment | T21: 1
A22: DOM_31T33: Other manufacturing; repair and installation of machinery and equipment | U22: 1
A23: DOM_35T39: Electricity, gas, water supply, sewerage, waste and remediation services | V23: 1
A24: DOM_41T43: Construction | W24: 1
A25: DOM_45T47: Wholesale and retail trade; repair of motor vehicles | X25: 1
A26: DOM_49T53: Transportation and storage | Y26: 1
A27: DOM_55T56: Accomodation and food services | Z27: 1
A28: DOM_58T60: Publishing, audiovisual and broadcasting activities | AA28: 1
A29: DOM_61: Telecommunications | AB29: 1
A30: DOM_62T63: IT and other information services | AC30: 1
A31: DOM_64T66: Financial and insurance activities | AD31: 1
A32: DOM_68: Real estate activities | AE32: 1
A33: DOM_69T82: Other business sector services | AF33: 1
A34: DOM_84: Public administration and defence; compulsory social security | AG34: 1
A35: DOM_85: Education | AH35: 1
A36: DOM_86T88: Human health and social work | AI36: 1
A37: DOM_90T96: Arts, entertainment, recreation and other service activities | AJ37: 1
A38: DOM_97T98: Private households with employed persons | AK38: 1

Sheet Id-A Matrix
B2: D01T03: Agriculture, forestry and fishing | C2: D05T06: Mining and extraction of energy producing products | D2: D07T08: Mining and quarrying of non-energy producing products | E2: D09: Mining support service activities | F2: D10T12: Food products, beverages and tobacco | G2: D13T15: Textiles, wearing apparel, leather and related products | H2: D16: Wood and products of wood and cork | I2: D17T18: Paper products and printing | J2: D19: Coke and refined petroleum products | K2: D20T21: Chemicals and pharmaceutical products | L2: D22: Rubber and plastic products | M2: D23: Other non-metallic mineral products | N2: D24: Basic metals | O2: D25: Fabricated metal products | P2: D26: Computer, electronic and optical products | Q2: D27: Electrical equipment | R2: D28: Machinery and equipment, nec | S2: D29: Motor vehicles, trailers and semi-trailers | T2: D30: Other transport equipment | U2: D31T33: Other manufacturing; repair and installation of machinery and equipment | V2: D35T39: Electricity, gas, water supply, sewerage, waste and remediation services | W2: D41T43: Construction | X2: D45T47: Wholesale and retail trade; repair of motor vehicles | Y2: D49T53: Transportation and storage | Z2: D55T56: Accomodation and food services | AA2: D58T60: Publishing, audiovisual and broadcasting activities | AB2: D61: Telecommunications | AC2: D62T63: IT and other information services | AD2: D64T66: Financial and insurance activities | AE2: D68: Real estate activities | AF2: D69T82: Other business sector services | AG2: D84: Public admin. and defence; compulsory social security | AH2: D85: Education | AI2: D86T88: Human health and social work | AJ2: D90T96: Arts, entertainment, recreation and other service activities | AK2: D97T98: Private households with employed persons
A3: DOM_01T03: Agriculture, forestry and fishing | B3: ='Identity-Matrix'!B3-'A-Matrix'!B3 -> 0.86590038 | C3: ='Identity-Matrix'!C3-'A-Matrix'!C3 -> -0.00071814802 | D3: ='Identity-Matrix'!D3-'A-Matrix'!D3 -> -0.0022807018 | E3: ='Identity-Matrix'!E3-'A-Matrix'!E3 -> -0.0014220705 | F3: ='Identity-Matrix'!F3-'A-Matrix'!F3 -> -0.32335591 | G3: ='Identity-Matrix'!G3-'A-Matrix'!G3 -> -0.024177069 | H3: ='Identity-Matrix'!H3-'A-Matrix'!H3 -> -0.22517149 | I3: ='Identity-Matrix'!I3-'A-Matrix'!I3 -> -0.093709328 | ... AK3: ='Identity-Matrix'!AK3-'A-Matrix'!AK3 -> 0
A4: DOM_05T06: Mining and extraction of energy producing products | B4: ='Identity-Matrix'!B4-'A-Matrix'!B4 -> -0.0021198417 | C4: ='Identity-Matrix'!C4-'A-Matrix'!C4 -> 0.89848766 | D4: ='Identity-Matrix'!D4-'A-Matrix'!D4 -> -0.0021052632 | E4: ='Identity-Matrix'!E4-'A-Matrix'!E4 -> -0.096416382 | F4: ='Identity-Matrix'!F4-'A-Matrix'!F4 -> -0.0023900302 | G4: ='Identity-Matrix'!G4-'A-Matrix'!G4 -> -0.000991361 | H4: ='Identity-Matrix'!H4-'A-Matrix'!H4 -> -0.0011929615 | I4: ='Identity-Matrix'!I4-'A-Matrix'!I4 -> -0.014750542 | ... AK4: ='Identity-Matrix'!AK4-'A-Matrix'!AK4 -> 0
A5: DOM_07T08: Mining and quarrying of non-energy producing products | B5: ='Identity-Matrix'!B5-'A-Matrix'!B5 -> -0.0014132278 | C5: ='Identity-Matrix'!C5-'A-Matrix'!C5 -> -0.0021544441 | D5: ='Identity-Matrix'!D5-'A-Matrix'!D5 -> 0.91350877 | E5: ='Identity-Matrix'!E5-'A-Matrix'!E5 -> -0.010807736 | F5: ='Identity-Matrix'!F5-'A-Matrix'!F5 -> -0.00039833836 | G5: ='Identity-Matrix'!G5-'A-Matrix'!G5 -> -0.00048556457 | H5: ='Identity-Matrix'!H5-'A-Matrix'!H5 -> -0.00059648076 | I5: ='Identity-Matrix'!I5-'A-Matrix'!I5 -> -0.0080260304 | ... AK5: ='Identity-Matrix'!AK5-'A-Matrix'!AK5 -> 0
A6: DOM_09: Mining support service activities | B6: ='Identity-Matrix'!B6-'A-Matrix'!B6 -> -0.005291753 | C6: ='Identity-Matrix'!C6-'A-Matrix'!C6 -> -0.082713755 | D6: ='Identity-Matrix'!D6-'A-Matrix'!D6 -> -0.041403509 | E6: ='Identity-Matrix'!E6-'A-Matrix'!E6 -> 0.91666667 | F6: ='Identity-Matrix'!F6-'A-Matrix'!F6 -> -0.00037936987 | G6: ='Identity-Matrix'!G6-'A-Matrix'!G6 -> 0 | H6: ='Identity-Matrix'!H6-'A-Matrix'!H6 -> -0.00029824038 | I6: ='Identity-Matrix'!I6-'A-Matrix'!I6 -> -0.0021691974 | ... AK6: ='Identity-Matrix'!AK6-'A-Matrix'!AK6 -> 0
A7: DOM_10T12: Food products, beverages and tobacco | B7: ='Identity-Matrix'!B7-'A-Matrix'!B7 -> -0.087117643 | C7: ='Identity-Matrix'!C7-'A-Matrix'!C7 -> -4.2244001e-05 | D7: ='Identity-Matrix'!D7-'A-Matrix'!D7 -> -0.00035087719 | E7: ='Identity-Matrix'!E7-'A-Matrix'!E7 -> -0.00056882821 | F7: ='Identity-Matrix'!F7-'A-Matrix'!F7 -> 0.85198885 | G7: ='Identity-Matrix'!G7-'A-Matrix'!G7 -> -0.010601493 | H7: ='Identity-Matrix'!H7-'A-Matrix'!H7 -> -0.0017894423 | I7: ='Identity-Matrix'!I7-'A-Matrix'!I7 -> -0.011062907 | ... AK7: ='Identity-Matrix'!AK7-'A-Matrix'!AK7 -> 0
A8: DOM_13T15: Textiles, wearing apparel, leather and related products | B8: ='Identity-Matrix'!B8-'A-Matrix'!B8 -> -0.0012876076 | C8: ='Identity-Matrix'!C8-'A-Matrix'!C8 -> -0.0010561 | D8: ='Identity-Matrix'!D8-'A-Matrix'!D8 -> -0.0012280702 | E8: ='Identity-Matrix'!E8-'A-Matrix'!E8 -> -0.0017064846 | F8: ='Identity-Matrix'!F8-'A-Matrix'!F8 -> -0.0005690548 | G8: ='Identity-Matrix'!G8-'A-Matrix'!G8 -> 0.80686669 | H8: ='Identity-Matrix'!H8-'A-Matrix'!H8 -> -0.0032806442 | I8: ='Identity-Matrix'!I8-'A-Matrix'!I8 -> -0.010412148 | ... AK8: ='Identity-Matrix'!AK8-'A-Matrix'!AK8 -> 0
A9: DOM_16: Wood and of products of wood and cork (except furniture) | B9: ='Identity-Matrix'!B9-'A-Matrix'!B9 -> -0.00083223416 | C9: ='Identity-Matrix'!C9-'A-Matrix'!C9 -> -0.00080263603 | D9: ='Identity-Matrix'!D9-'A-Matrix'!D9 -> -0.0015789474 | E9: ='Identity-Matrix'!E9-'A-Matrix'!E9 -> -0.00085324232 | F9: ='Identity-Matrix'!F9-'A-Matrix'!F9 -> -0.00039833836 | G9: ='Identity-Matrix'!G9-'A-Matrix'!G9 -> -0.00068788314 | H9: ='Identity-Matrix'!H9-'A-Matrix'!H9 -> 0.87801968 | I9: ='Identity-Matrix'!I9-'A-Matrix'!I9 -> -0.01670282 | ... AK9: ='Identity-Matrix'!AK9-'A-Matrix'!AK9 -> 0
A10: DOM_17T18: Paper products and printing | B10: ='Identity-Matrix'!B10-'A-Matrix'!B10 -> -3.1405062e-05 | C10: ='Identity-Matrix'!C10-'A-Matrix'!C10 -> -4.2244001e-05 | D10: ='Identity-Matrix'!D10-'A-Matrix'!D10 -> -0.0001754386 | E10: ='Identity-Matrix'!E10-'A-Matrix'!E10 -> 0 | F10: ='Identity-Matrix'!F10-'A-Matrix'!F10 -> -0.00011381096 | G10: ='Identity-Matrix'!G10-'A-Matrix'!G10 -> -0.00012139114 | H10: ='Identity-Matrix'!H10-'A-Matrix'!H10 -> 0 | I10: ='Identity-Matrix'!I10-'A-Matrix'!I10 -> 0.98915401 | ... AK10: ='Identity-Matrix'!AK10-'A-Matrix'!AK10 -> 0
A11: DOM_19: Coke and refined petroleum products | B11: ='Identity-Matrix'!B11-'A-Matrix'!B11 -> -0.010552101 | C11: ='Identity-Matrix'!C11-'A-Matrix'!C11 -> -0.010434268 | D11: ='Identity-Matrix'!D11-'A-Matrix'!D11 -> -0.026491228 | E11: ='Identity-Matrix'!E11-'A-Matrix'!E11 -> -0.015642776 | F11: ='Identity-Matrix'!F11-'A-Matrix'!F11 -> -0.0021244713 | G11: ='Identity-Matrix'!G11-'A-Matrix'!G11 -> -0.0026099096 | H11: ='Identity-Matrix'!H11-'A-Matrix'!H11 -> -0.0047718461 | I11: ='Identity-Matrix'!I11-'A-Matrix'!I11 -> -0.010412148 | ... AK11: ='Identity-Matrix'!AK11-'A-Matrix'!AK11 -> 0
A12: DOM_20T21: Chemicals and pharmaceutical products | B12: ='Identity-Matrix'!B12-'A-Matrix'!B12 -> -0.0047264619 | C12: ='Identity-Matrix'!C12-'A-Matrix'!C12 -> -0.0017320041 | D12: ='Identity-Matrix'!D12-'A-Matrix'!D12 -> -0.0035087719 | E12: ='Identity-Matrix'!E12-'A-Matrix'!E12 -> -0.0017064846 | F12: ='Identity-Matrix'!F12-'A-Matrix'!F12 -> -0.00092945617 | G12: ='Identity-Matrix'!G12-'A-Matrix'!G12 -> -0.0056244563 | H12: ='Identity-Matrix'!H12-'A-Matrix'!H12 -> -0.0047718461 | I12: ='Identity-Matrix'!I12-'A-Matrix'!I12 -> -0.018655098 | ... AK12: ='Identity-Matrix'!AK12-'A-Matrix'!AK12 -> 0
A13: DOM_22: Rubber and plastics products | B13: ='Identity-Matrix'!B13-'A-Matrix'!B13 -> -0.00031405062 | C13: ='Identity-Matrix'!C13-'A-Matrix'!C13 -> -0.00063366002 | D13: ='Identity-Matrix'!D13-'A-Matrix'!D13 -> -0.0012280702 | E13: ='Identity-Matrix'!E13-'A-Matrix'!E13 -> -0.00085324232 | F13: ='Identity-Matrix'!F13-'A-Matrix'!F13 -> -0.0013277945 | G13: ='Identity-Matrix'!G13-'A-Matrix'!G13 -> -0.0012948389 | H13: ='Identity-Matrix'!H13-'A-Matrix'!H13 -> -0.0011929615 | I13: ='Identity-Matrix'!I13-'A-Matrix'!I13 -> -0.0045553145 | ... AK13: ='Identity-Matrix'!AK13-'A-Matrix'!AK13 -> 0
A14: DOM_23: Other non-metallic mineral products | B14: ='Identity-Matrix'!B14-'A-Matrix'!B14 -> -0.0013033101 | C14: ='Identity-Matrix'!C14-'A-Matrix'!C14 -> -0.0021966881 | D14: ='Identity-Matrix'!D14-'A-Matrix'!D14 -> -0.016666667 | E14: ='Identity-Matrix'!E14-'A-Matrix'!E14 -> -0.0045506257 | F14: ='Identity-Matrix'!F14-'A-Matrix'!F14 -> -0.0032056754 | G14: ='Identity-Matrix'!G14-'A-Matrix'!G14 -> -0.0010520566 | H14: ='Identity-Matrix'!H14-'A-Matrix'!H14 -> -0.0074560095 | I14: ='Identity-Matrix'!I14-'A-Matrix'!I14 -> -0.0023861171 | ... AK14: ='Identity-Matrix'!AK14-'A-Matrix'!AK14 -> 0
... A38: DOM_97T98: Private households with employed persons | B38: ='Identity-Matrix'!B38-'A-Matrix'!B38 -> 0 | C38: ='Identity-Matrix'!C38-'A-Matrix'!C38 -> 0 | D38: ='Identity-Matrix'!D38-'A-Matrix'!D38 -> 0 | E38: ='Identity-Matrix'!E38-'A-Matrix'!E38 -> 0 | F38: ='Identity-Matrix'!F38-'A-Matrix'!F38 -> 0 | G38: ='Identity-Matrix'!G38-'A-Matrix'!G38 -> 0 | H38: ='Identity-Matrix'!H38-'A-Matrix'!H38 -> 0 | I38: ='Identity-Matrix'!I38-'A-Matrix'!I38 -> 0 | ... AK38: ='Identity-Matrix'!AK38-'A-Matrix'!AK38 -> 1

Sheet Leontief Inverse
B2: D01T03: Agriculture, forestry and fishing | C2: D05T06: Mining and extraction of energy producing products | D2: D07T08: Mining and quarrying of non-energy producing products | E2: D09: Mining support service activities | F2: D10T12: Food products, beverages and tobacco | G2: D13T15: Textiles, wearing apparel, leather and related products | H2: D16: Wood and products of wood and cork | I2: D17T18: Paper products and printing | J2: D19: Coke and refined petroleum products | K2: D20T21: Chemicals and pharmaceutical products | L2: D22: Rubber and plastic products | M2: D23: Other non-metallic mineral products | N2: D24: Basic metals | O2: D25: Fabricated metal products | P2: D26: Computer, electronic and optical products | Q2: D27: Electrical equipment | R2: D28: Machinery and equipment, nec | S2: D29: Motor vehicles, trailers and semi-trailers | T2: D30: Other transport equipment | U2: D31T33: Other manufacturing; repair and installation of machinery and equipment | V2: D35T39: Electricity, gas, water supply, sewerage, waste and remediation services | W2: D41T43: Construction | X2: D45T47: Wholesale and retail trade; repair of motor vehicles | Y2: D49T53: Transportation and storage | Z2: D55T56: Accomodation and food services | AA2: D58T60: Publishing, audiovisual and broadcasting activities | AB2: D61: Telecommunications | AC2: D62T63: IT and other information services | AD2: D64T66: Financial and insurance activities | AE2: D68: Real estate activities | AF2: D69T82: Other business sector services | AG2: D84: Public admin. and defence; compulsory social security | AH2: D85: Education | AI2: D86T88: Human health and social work | AJ2: D90T96: Arts, entertainment, recreation and other service activities | AK2: D97T98: Private households with employed persons
A3: DOM_01T03: Agriculture, forestry and fishing | B3: {=MINVERSE('Id-A Matrix'!B3:AK38)} -> 1.203622 | C3: 0.0035631889 | D3: 0.0062891732 | E3: 0.0053583137 | F3: 0.46028257 | G3: 0.045382059 | H3: 0.31279248 | I3: 0.1317483 | J3: 0.0032408283 | K3: 0.046940834 | L3: 0.039748143 | M3: 0.0073942059 | N3: 0.0076289025 | O3: 0.0061941553 | P3: 0.0048641454 | Q3: 0.0058429419 | R3: 0.0055419118 | S3: 0.005031743 | T3: 0.0077374322 | U3: 0.043990672 | V3: 0.0096984284 | W3: 0.018728264 | X3: 0.023316575 | Y3: 0.0070673845 | Z3: 0.1701879 | AA3: 0.016038776 | AB3: 0.0078644749 | AC3: 0.011389262 | AD3: 0.011096094 | AE3: 0.0093320685 | AF3: 0.017477882 | AG3: 0.03207199 | AH3: 0.028875576 | AI3: 0.035096122 | AJ3: 0.029340543 | AK3: 0
A4: DOM_05T06: Mining and extraction of energy producing products | B4: 0.01354717 | C4: 1.1346205 | D4: 0.028625318 | E4: 0.1316558 | F4: 0.012686342 | G4: 0.007170776 | H4: 0.011791687 | I4: 0.034846564 | J4: 0.51358197 | K4: 0.10836156 | L4: 0.028749404 | M4: 0.035787646 | N4: 0.047403305 | O4: 0.014460487 | P4: 0.0069995969 | Q4: 0.011072797 | R4: 0.010866537 | S4: 0.010461866 | T4: 0.011672657 | U4: 0.012225997 | V4: 0.17492645 | W4: 0.018778004 | X4: 0.012175634 | Y4: 0.032650277 | Z4: 0.015483004 | AA4: 0.010370239 | AB4: 0.010177919 | AC4: 0.0081302892 | AD4: 0.0082557114 | AE4: 0.010643912 | AF4: 0.011596527 | AG4: 0.016777044 | AH4: 0.015544376 | AI4: 0.019253062 | AJ4: 0.019720469 | AK4: 0
A5: DOM_07T08: Mining and quarrying of non-energy producing products | B5: 0.0029032948 | C5: 0.0054077111 | D5: 1.0991205 | E5: 0.015854121 | F5: 0.0025963004 | G5: 0.0016048476 | H5: 0.003515577 | I5: 0.011560975 | J5: 0.00352834 | K5: 0.045610208 | L5: 0.0069227089 | M5: 0.15975028 | N5: 0.070236752 | O5: 0.013850572 | P5: 0.0049350119 | Q5: 0.0075084488 | R5: 0.0084081556 | S5: 0.004839437 | T5: 0.0072616367 | U5: 0.012868994 | V5: 0.0057600399 | W5: 0.063566181 | X5: 0.0017197925 | Y5: 0.0013023413 | Z5: 0.0014128646 | AA5: 0.0010496872 | AB5: 0.0010172899 | AC5: 0.00075344668 | AD5: 0.00067240096 | AE5: 0.0055147129 | AF5: 0.001442774 | AG5: 0.0043374653 | AH5: 0.0015502365 | AI5: 0.0019294395 | AJ5: 0.0018542763 | AK5: 0
A6: DOM_09: Mining support service activities | B6: 0.0083980741 | C6: 0.10272662 | D6: 0.052384969 | E6: 1.103623 | F6: 0.004482708 | G6: 0.001041766 | H6: 0.0034899082 | I6: 0.0070306654 | J6: 0.047016784 | K6: 0.01288203 | L6: 0.0060498718 | M6: 0.011633704 | N6: 0.0079845646 | O6: 0.0021044034 | P6: 0.00097243569 | Q6: 0.0014794205 | R6: 0.002248114 | S6: 0.0012875272 | T6: 0.0015300422 | U6: 0.0026826671 | V6: 0.020561486 | W6: 0.011040707 | X6: 0.0013825049 | Y6: 0.0033342267 | Z6: 0.002613727 | AA6: 0.0011787565 | AB6: 0.0010895159 | AC6: 0.00090065582 | AD6: 0.00090332518 | AE6: 0.0014035728 | AF6: 0.001501657 | AG6: 0.0034162758 | AH6: 0.0026244728 | AI6: 0.0021739825 | AJ6: 0.0021358847 | AK6: 0
A7: DOM_10T12: Food products, beverages and tobacco | B7: 0.12587021 | C7: 0.0028005615 | D7: 0.0037316098 | E7: 0.0044574765 | F7: 1.2253386 | G7: 0.022965 | H7: 0.038657758 | I7: 0.035735663 | J7: 0.0028469152 | K7: 0.042191414 | L7: 0.014197566 | M7: 0.0068379304 | N7: 0.004593693 | O7: 0.0054311139 | P7: 0.0051926464 | Q7: 0.0055364062 | R7: 0.0053047393 | S7: 0.0044904883 | T7: 0.0061265863 | U7: 0.013322116 | V7: 0.010687002 | W7: 0.008706978 | X7: 0.019054677 | Y7: 0.009407209 | Z7: 0.27457542 | AA7: 0.019059994 | AB7: 0.011124479 | AC7: 0.016373408 | AD7: 0.017758913 | AE7: 0.0084436687 | AF7: 0.021104305 | AG7: 0.041527685 | AH7: 0.037485234 | AI7: 0.060347422 | AJ7: 0.046553753 | AK7: 0
A8: DOM_13T15: Textiles, wearing apparel, leather and related products | B8: 0.0028663143 | C8: 0.0023581873 | D8: 0.0026186672 | E8: 0.0031282902 | F8: 0.0030349044 | G8: 1.2403447 | H8: 0.0063760273 | I8: 0.015756333 | J8: 0.0015010848 | K8: 0.0088023802 | L8: 0.021494948 | M8: 0.0043456151 | N8: 0.0017780859 | O8: 0.0031511076 | P8: 0.0040582763 | Q8: 0.0040879696 | R8: 0.0034389386 | S8: 0.010208651 | T8: 0.0095453948 | U8: 0.040953398 | V8: 0.0042060109 | W8: 0.0048055676 | X8: 0.0066908923 | Y8: 0.0031434738 | Z8: 0.0053468196 | AA8: 0.0078265678 | AB8: 0.0035522117 | AC8: 0.0043343403 | AD8: 0.0052718714 | AE8: 0.0015261267 | AF8: 0.0057464973 | AG8: 0.010463714 | AH8: 0.0051969918 | AI8: 0.01612808 | AJ8: 0.0117928 | AK8: 0
A9: DOM_16: Wood and of products of wood and cork (except furniture) | B9: 0.0014548157 | C9: 0.0014719831 | D9: 0.002465701 | E9: 0.0015744144 | F9: 0.0013625774 | G9: 0.0013300889 | H9: 1.1396202 | I9: 0.020067226 | J9: 0.00088512125 | K9: 0.0028712601 | L9: 0.0043256719 | M9: 0.0052341597 | N9: 0.0012308804 | O9: 0.0037048481 | P9: 0.0019650746 | Q9: 0.0026951204 | R9: 0.002588786 | S9: 0.0035023527 | T9: 0.0076669 | U9: 0.075300147 | V9: 0.0022771854 | W9: 0.030422535 | X9: 0.0018143195 | Y9: 0.00082051865 | Z9: 0.0014803448 | AA9: 0.0028738163 | AB9: 0.0010305658 | AC9: 0.0010701126 | AD9: 0.00059680986 | AE9: 0.010481387 | AF9: 0.0018649006 | AG9: 0.0016232916 | AH9: 0.0021566722 | AI9: 0.0012215944 | AJ9: 0.0030215125 | AK9: 0
A10: DOM_17T18: Paper products and printing | B10: 9.930099e-05 | C10: 9.0919711e-05 | D10: 0.0002467842 | E10: 4.5219281e-05 | F10: 0.00024302922 | G10: 0.0002210801 | H10: 8.4017069e-05 | I10: 1.0111337 | J10: 6.0384928e-05 | K10: 0.00035664549 | L10: 0.00033545657 | M10: 0.00028818442 | N10: 7.9849987e-05 | O10: 0.00023257415 | P10: 0.0002304338 | Q10: 0.00017318369 | R10: 0.00018851015 | S10: 0.00013873518 | T10: 7.2126661e-05 | U10: 0.00032576263 | V10: 0.00026109345 | W10: 0.00016838417 | X10: 0.00056255057 | Y10: 0.00018940209 | Z10: 0.00023648416 | AA10: 0.010239855 | AB10: 0.0010277529 | AC10: 0.0011604357 | AD10: 0.00077959944 | AE10: 0.00020068849 | AF10: 0.00080194208 | AG10: 0.0010244564 | AH10: 0.0017081147 | AI10: 0.00049276866 | AJ10: 0.00097062524 | AK10: 0
A11: DOM_19: Coke and refined petroleum products | B11: 0.015639093 | C11: 0.016811345 | D11: 0.035309484 | E11: 0.021994748 | F11: 0.011316319 | G11: 0.0069061672 | H11: 0.012662825 | I11: 0.018988759 | J11: 1.0266243 | K11: 0.046315589 | L11: 0.013793117 | M11: 0.027941538 | N11: 0.030133622 | O11: 0.010996039 | P11: 0.0064721302 | Q11: 0.0093459807 | R11: 0.0088090029 | S11: 0.0065090112 | T11: 0.0088956991 | U11: 0.011236414 | V11: 0.025587549 | W11: 0.021039983 | X11: 0.012537926 | Y11: 0.051067105 | Z11: 0.0086689135 | AA11: 0.009054219 | AB11: 0.008777254 | AC11: 0.0081035324 | AD11: 0.0074985035 | AE11: 0.0066040211 | AF11: 0.011339287 | AG11: 0.018543466 | AH11: 0.011059711 | AI11: 0.010851834 | AJ11: 0.01020517 | AK11: 0
A12: DOM_20T21: Chemicals and pharmaceutical products | B12: 0.0067859355 | C12: 0.0028850847 | D12: 0.005019617 | E12: 0.0029391955 | F12: 0.0045529261 | G12: 0.0081395219 | H12: 0.0083505667 | I12: 0.022877953 | J12: 0.0040507163 | K12: 1.0584048 | L12: 0.065111777 | M12: 0.0087495672 | N12: 0.0082230681 | O12: 0.0060977381 | P12: 0.0062584314 | Q12: 0.0081584193 | R12: 0.0042107156 | S12: 0.0044777179 | T12: 0.0058964747 | U12: 0.0086038884 | V12: 0.0038286549 | W12: 0.0053417251 | X12: 0.0023564722 | Y12: 0.0019729855 | Z12: 0.0026139863 | AA12: 0.0048895037 | AB12: 0.0025629892 | AC12: 0.0026330797 | AD12: 0.0034935271 | AE12: 0.0024064414 | AF12: 0.0038810043 | AG12: 0.0024591067 | AH12: 0.0027498807 | AI12: 0.014966884 | AJ12: 0.0059449584 | AK12: 0
A13: DOM_22: Rubber and plastics products | B13: 0.00075167729 | C13: 0.0010576166 | D13: 0.0017461319 | E13: 0.001321471 | F13: 0.0021081098 | G13: 0.0019124957 | H13: 0.0018263116 | I13: 0.0053328128 | J13: 0.00067258834 | K13: 0.0032439886 | L13: 1.0241297 | M13: 0.0023782075 | N13: 0.0015513735 | O13: 0.0023272495 | P13: 0.0049255304 | Q13: 0.0061209126 | R13: 0.0040836966 | S13: 0.0066152682 | T13: 0.0036948509 | U13: 0.0052494059 | V13: 0.0013372936 | W13: 0.0047486032 | X13: 0.0015915968 | Y13: 0.0011764354 | Z13: 0.0012440029 | AA13: 0.0011991706 | AB13: 0.0014842346 | AC13: 0.0009982633 | AD13: 0.00064885709 | AE13: 0.00073571653 | AF13: 0.0011539859 | AG13: 0.001059119 | AH13: 0.00082942621 | AI13: 0.0015914908 | AJ13: 0.0012193783 | AK13: 0
A14: DOM_23: Other non-metallic mineral products | B14: 0.0028384169 | C14: 0.0041453886 | D14: 0.021859575 | E14: 0.0071526777 | F14: 0.0059572058 | G14: 0.0022248162 | H14: 0.011068156 | I14: 0.0049251378 | J14: 0.0023424113 | K14: 0.0095630125 | L14: 0.012979958 | M14: 1.138336 | N14: 0.013192329 | O14: 0.01210691 | P14: 0.020096701 | Q14: 0.014619711 | R14: 0.0094343885 | S14: 0.011377495 | T14: 0.010694743 | U14: 0.01062354 | V14: 0.0052165454 | W14: 0.13574963 | X14: 0.003656068 | Y14: 0.001913331 | Z14: 0.0044672781 | AA14: 0.0026462191 | AB14: 0.0033027669 | AC14: 0.0021923272 | AD14: 0.0019935557 | AE14: 0.0099435886 | AF14: 0.0034477446 | AG14: 0.0048518586 | AH14: 0.0050545114 | AI14: 0.0053128659 | AJ14: 0.004175109 | AK14: 0
A15: DOM_24: Manufacture of basic metals | B15: 0.0012042779 | C15: 0.010928058 | D15: 0.00474383 | E15: 0.020060148 | F15: 0.0014236936 | G15: 0.00090213298 | H15: 0.0025796836 | I15: 0.0060057386 | J15: 0.0053714401 | K15: 0.0032512329 | L15: 0.0088256115 | M15: 0.010790367 | N15: 1.1492096 | O15: 0.15229617 | P15: 0.018316978 | Q15: 0.059513264 | R15: 0.080303148 | S15: 0.043820664 | T15: 0.06011229 | U15: 0.041401584 | V15: 0.0074612921 | W15: 0.049973726 | X15: 0.0017016758 | Y15: 0.0015996422 | Z15: 0.00090008568 | AA15: 0.0013099739 | AB15: 0.0021950232 | AC15: 0.0012607322 | AD15: 0.00067520315 | AE15: 0.0015888532 | AF15: 0.0017085092 | AG15: 0.0029225478 | AH15: 0.001454731 | AI15: 0.0015026255 | AJ15: 0.0019252405 | AK15: 0
... A38: DOM_97T98: Private households with employed persons | B38: 0 | C38: 0 | D38: 0 | E38: 0 | F38: 0 | G38: 0 | H38: 0 | I38: 0 | J38: 0 | K38: 0 | L38: 0 | M38: 0 | N38: 0 | O38: 0 | P38: 0 | Q38: 0 | R38: 0 | S38: 0 | T38: 0 | U38: 0 | V38: 0 | W38: 0 | X38: 0 | Y38: 0 | Z38: 0 | AA38: 0 | AB38: 0 | AC38: 0 | AD38: 0 | AE38: 0 | AF38: 0 | AG38: 0 | AH38: 0 | AI38: 0 | AJ38: 0 | AK38: 1
B39: =SUM(B3:B38) -> 1.5098059 | C39: =SUM(C3:C38) -> 1.428431 | D39: =SUM(D3:D38) -> 1.440121 | E39: =SUM(E3:E38) -> 1.4459221 | F39: =SUM(F3:F38) -> 1.9610848 | G39: =SUM(G3:G38) -> 1.5094898 | H39: =SUM(H3:H38) -> 1.7394876 | I39: =SUM(I3:I38) -> 1.6469248 | ... AK39: =SUM(AK3:AK38) -> 1

Sheet EE Potentials
A1: Source: OECD, World Energy Balances 2017 - For reference year 2015. More updated data exists, if base year is later.
A2: https://www.oecd-ilibrary.org/docserver/world_energy_bal-2017-en.pdf?expires=1586244712&id=id&accname=oid023441&checksum=C0377DFD5E7A8C5A3AC96720BD031033
A4: Total Electricity Final Consumption (ktoe) | B4: 1328 | C4: Share | D4: Share in savings | E4: Total savings | H4: *Capital Cost (M$/PJ) | I4: Capital cost (M$/GW) | J4: Life Time (years)
A5: Industry | B5: 471 | C5: =B5/B$4 -> 0.35466867 | D5: 0.32 | E5: =D5*C5 -> 0.11349398 | G5: EEI | H5: ='EE- Industry'!C6*'EE- Industry'!C7 -> 0 | I5: =H5*31.56 -> 0 | J5: 10
A6: Commerce | B6: 358 | C6: =B6/B$4 -> 0.26957831 | D6: 0.32 | E6: =D6*C6 -> 0.08626506 | G6: EEC | H6: ='EE - Commerce'!C6*'EE - Commerce'!C7 -> 69.25 | I6: =H6*31.56 -> 2185.53 | J6: 10
A7: Residential | B7: 400 | C7: =B7/B$4 -> 0.30120482 | D7: 0.32 | E7: =D7*C7 -> 0.096385542 | G7: EER | H7: ='EE - Residential'!B6*'EE - Residential'!B7 -> 83.1 | I7: =H7*31.56 -> 2622.636 | J7: 10
E8: =SUM(E5:E7) -> 0.29614458 | H8: *Calculated, assuming payback period and energy tariff from RES4MED - assumption from Paper part 1
H11: EE in each sector up to 1.3% saving every year relative to 2015
B13: 2015 | C13: 2016 | D13: 2017 | E13: 2018 | F13: 2019 | G13: 2020 | H13: 2021 | I13: 2022 | J13: 2023 | K13: 2024 | L13: 2025 | M13: 2026 | N13: 2027 | O13: 2028 | P13: 2029 | Q13: 2030 | R13: 2031 | S13: 2032 | T13: 2033 | U13: 2034 | V13: 2035 | W13: 2036 | X13: 2037 | Y13: 2038 | Z13: 2039 | AA13: 2040 | AB13: 2041 | AC13: 2042 | AD13: 2043 | AE13: 2044 | AF13: 2045 | AG13: 2046
A15: EEI | B15: =B$14*$E5*B$12 -> 0 | C15: =C$14*$E5*C$12 -> 0 | D15: =D$14*$E5*D$12 -> 0 | E15: =E$14*$E5*E$12 -> 0 | F15: =F$14*$E5*F$12 -> 0 | G15: =G$14*$E5*G$12 -> 0 | H15: =0.008*B5*0.041868 -> 0.15775862 | I15: =$H15+H15 -> 0.31551725 | J15: =$H15+I15 -> 0.47327587 | K15: =$H15+J15 -> 0.6310345 | L15: =$H15+K15 -> 0.78879312 | M15: =$H15+L15 -> 0.94655174 | N15: =$H15+M15 -> 1.1043104 | O15: =$H15+N15 -> 1.262069 | P15: =$H15+O15 -> 1.4198276 | ... AG15: =$H15+AF15 -> 4.1017242
A16: EEC | B16: =B$14*$E6*B$12 -> 0 | C16: =C$14*$E6*C$12 -> 0 | D16: =D$14*$E6*D$12 -> 0 | E16: =E$14*$E6*E$12 -> 0 | F16: =F$14*$E6*F$12 -> 0 | G16: =G$14*$E6*G$12 -> 0 | H16: =0.008*B6*0.041868 -> 0.11990995 | I16: =$H16+H16 -> 0.2398199 | J16: =$H16+I16 -> 0.35972986 | K16: =$H16+J16 -> 0.47963981 | L16: =$H16+K16 -> 0.59954976 | M16: =$H16+L16 -> 0.71945971 | N16: =$H16+M16 -> 0.83936966 | O16: =$H16+N16 -> 0.95927962 | P16: =$H16+O16 -> 1.0791896 | ... AG16: =$H16+AF16 -> 3.1176588
A17: EER | B17: =B$14*$E7*B$12 -> 0 | C17: =C$14*$E7*C$12 -> 0 | D17: =D$14*$E7*D$12 -> 0 | E17: =E$14*$E7*E$12 -> 0 | F17: =F$14*$E7*F$12 -> 0 | G17: =G$14*$E7*G$12 -> 0 | H17: =0.008*B7*0.041868 -> 0.1339776 | I17: =$H17+H17 -> 0.2679552 | J17: =$H17+I17 -> 0.4019328 | K17: =$H17+J17 -> 0.5359104 | L17: =$H17+K17 -> 0.669888 | M17: =$H17+L17 -> 0.8038656 | N17: =$H17+M17 -> 0.9378432 | O17: =$H17+N17 -> 1.0718208 | P17: =$H17+O17 -> 1.2057984 | ... AG17: =$H17+AF17 -> 3.4834176

Sheet EE - Residential
E1: Construction | F1: Services | G1: Sector x | H1: Sector x to Finance | I1: Sector x | J1: Finance | K1: Finance | L1: Electricity
A2: Generic Energy Efficency Intervention | C2: Source | E2: Invest | F2: Program | G2: Down | H2: Loan | I2: Annual | J2: Invest | L2: Annual
A3: Impact on Electricity Company | E3: (Cost of a PJ* | F3: Spend | G3: Payment | H3: Payment | I3: Save | J3: Cost of a PJ* | L3: Losses
A4: Fraction of Reduced Sales as Exports / Growth | B4: 0.5 | C4: Assumed | E4: Payback)* | F4: (Cost of a PJ* | G4: (Invest* | H4: (Invest* | I4: (Cost of a PJ) | J4: Payback* | L4: If not export (!)
A5: Invesment Required to Meet 2010 Savings | E5: Local content | F5: Prg cost) | G5: 1-Borrowed%) | H5: Loan%* Payment factor) | J5: (Borrowed%)
A6: Assumed Payback Period (Years) | B6: 6 | C6: Elaborated from Spalding-Fecher, R.
A7: Avoided cost of electricity (MUSD/PJ) | B7: =B20*B22 -> 13.85 | C7: Calculated
A8: Financial Assumptions for Investments | E8: Implementation | F8: Gov costs | G8: Down payment | H8: Repayment | I8: Saving | J8: Loan | K8: Financing | L8: Loss of sales
A9: Fraction Borrowed | B9: 0.6 | C9: Assumed | D9: 0 | E9: =B7*B6*B19 -> 16.62 | F9: =-B$7*B18 -> -1.385 | G9: =-B7*B6*(1-B9) -> -33.24 | H9: =-B$6*B$7*B$12*B9 -> -11.516403 | I9: =B$7 -> 13.85 | J9: =-B7*B6*B9 -> -49.86 | K9: =B$12*B$7*B$6*B$9 -> 11.516403 | L9: =-B$7*(1-B4) -> -6.925
A10: Interest Rate | B10: 0.05 | C10: Assumed | D10: 1 | F10: =F9 -> -1.385 | H10: =H9 -> -11.516403 | I10: =I9 -> 13.85 | K10: =K9 -> 11.516403 | L10: =L9 -> -6.925
A11: Period of Loan (Years) | B11: 5 | C11: Assumed | D11: 2 | F11: =F10 -> -1.385 | H11: =H10 -> -11.516403 | I11: =I10 -> 13.85 | K11: =K10 -> 11.516403 | L11: =L10 -> -6.925
A12: Payment Factor | B12: =-PMT(B10,B11,1,0,0) -> 0.2309748 | C12: Calculated | D12: 3 | F12: =F11 -> -1.385 | H12: =H11 -> -11.516403 | I12: =I11 -> 13.85 | K12: =K11 -> 11.516403 | L12: =L11 -> -6.925
A13: Economic Impact Assumptions | D13: 4 | F13: =F12 -> -1.385 | H13: =H12 -> -11.516403 | I13: =I12 -> 13.85 | K13: =K12 -> 11.516403 | L13: =L12 -> -6.925
A14: Assumed Average Wage (TND) | B14: 32876 | C14: Assumed | D14: 5 | F14: =F13 -> -1.385 | I14: =I13 -> 13.85 | L14: =L13 -> -6.925
A15: Assumed Average Wage (USD) | B15: =B14/1.9615 -> 16760.642 | C15: Average exchange rate 2015 | D15: 6 | F15: =F14 -> -1.385 | I15: =I14 -> 13.85 | L15: =L14 -> -6.925
A16: Wage share of value added. | B16: 0.4 | C16: Assumed | D16: 7 | F16: =F15 -> -1.385 | I16: =I15 -> 13.85 | L16: =L15 -> -6.925
A17: Program Assumptions | D17: 8 | F17: =F16 -> -1.385 | I17: =I16 -> 13.85 | L17: =L16 -> -6.925
A18: Cost as Percent of annual saving | B18: 0.1 | C18: Assumed | D18: 9 | F18: =F17 -> -1.385 | I18: =I17 -> 13.85 | L18: =L17 -> -6.925
A19: Local content | B19: 0.2 | C19: Assumed | D19: 10 | F19: =F18 -> -1.385 | I19: =I18 -> 13.85 | L19: =L18 -> -6.925
A20: Tariff (USD/kWh) | B20: 0.05 | C20: Res4Med
B21: 1 | C21: GJ
B22: 277 | C22: kWh
E23: ='Leontief Inverse'!W39 -> 1.6071591 | F23: ='Leontief Inverse'!U39 -> 1.517092 | G23: ='IO Table 2015 OECD'!B103 -> 1.524173 | H23: =G23 -> 1.524173 | I23: =H23 -> 1.524173 | J23: ='Leontief Inverse'!AD39 -> 1.486012 | K23: ='Leontief Inverse'!AD39 -> 1.486012 | L23: ='Leontief Inverse'!V39 -> 1.5230427
