Workbook

Sheet Non-normalized
C1: NTC-2 24h post | I1: NTC-2 48h co-culture | M1: NTC-2 96h plate | Q1: NTC-2 96h co-culture | T1: Pkm2-8 24h post | X1: Pkm2-8 48h co-culture | AB1: Pkm2-8 96h plate | AF1: Pkm2-8 96h co-culture
C2: Batch 1 | D2: Batch 1 | E2: Batch 2 | F2: Batch 2 | G2: Batch 2 | H2: Batch 2 | I2: Batch 1 | J2: Batch 1 | K2: Batch 2 | L2: Batch 2 | M2: Batch 1 | N2: Batch 1 | O2: Batch 2 | P2: Batch 2 | Q2: Batch 1 | R2: Batch 1 | S2: Batch 2 | T2: Batch 1 | U2: Batch 1 | V2: Batch 2 | W2: Batch 2 | X2: Batch 1 | Y2: Batch 1 | Z2: Batch 2 | AA2: Batch 2 | AB2: Batch 1 | AC2: Batch 1 | AD2: Batch 2 | AE2: Batch 2 | AF2: Batch 1 | AG2: Batch 1 | AH2: Batch 2
A3: HMDB | B3: Compound | C3: NTC2_24h_1_1 | D3: NTC2_24h_1_2 | E3: NTC2_24h_2_1 | F3: NTC2_24h_2_2 | G3: NTC2_24h_2_3 | H3: NTC2_24h_2_4 | I3: NTC2_48hco_1_1 | J3: NTC2_48hco_1_2 | K3: NTC2_48hco_2_1 | L3: NTC2_48hco_2_2 | M3: NTC2_96hpl_1_1 | N3: NTC2_96hpl_1_2 | O3: NTC2_96hpl_2_1 | P3: NTC2_96hpl_2_2 | Q3: NTC2_96hco_1_1 | R3: NTC2_96hco_1_2 | S3: NTC2_96hco_2_1 | T3: Pkm2-8_24h_1_1 | U3: Pkm2-8_24h_1_2 | V3: Pkm2-8_24h_2_1 | W3: Pkm2-8_24h_2_2 | X3: Pkm2-8_48hco_1_1 | Y3: Pkm2-8_48hco_1_2 | Z3: Pkm2-8_48hco_2_1 | AA3: Pkm2-8_48hco_2_2 | AB3: Pkm2-8_96hpl_1_1 | AC3: Pkm2-8_96hpl_1_2 | AD3: Pkm2-8_96hpl_2_1 | AE3: Pkm2-8_96hpl_2_2 | AF3: Pkm2-8_96hco_1_1 | AG3: Pkm2-8_96hco_1_2 | AH3: Pkm2-8_96hco_2_1
A4: HMDB0003331 | B4: 1-Methyladenosine | C4: 13059.82 | D4: 17720.8 | E4: 7296.697 | F4: 3573.099 | G4: 7755.794 | H4: 3580.904 | I4: 0 | J4: 0 | K4: 0 | L4: 0 | M4: 21701.94 | N4: 16157.92 | O4: 17428 | P4: 20233.05 | Q4: 19204.11 | R4: 11998.05 | S4: 12897.41 | T4: 15392.05 | U4: 15282.63 | V4: 5723.001 | W4: 3532.66 | X4: 0 | Y4: 0 | Z4: 0 | AA4: 0 | AB4: 30733.9 | AC4: 19892.78 | AD4: 19357.91 | AE4: 20884.8 | AF4: 14341.69 | AG4: 19541.56 | AH4: 13386.55
A5: HMDB0000699 | B5: 1-Methylnicotinamide | C5: 0 | D5: 0 | E5: 0 | F5: 0 | G5: 0 | H5: 0 | I5: 0 | J5: 0 | K5: 0 | L5: 0 | M5: 0 | N5: 0 | O5: 0 | P5: 0 | Q5: 0 | R5: 0 | S5: 0 | T5: 0 | U5: 0 | V5: 0 | W5: 0 | X5: 0 | Y5: 0 | Z5: 0 | AA5: 0 | AB5: 0 | AC5: 0 | AD5: 0 | AE5: 0 | AF5: 0 | AG5: 0 | AH5: 0
A6: HMDB0001624 | B6: 2-Hydroxycaproic acid | C6: 125139.4 | D6: 138899.1 | E6: 108299.8 | F6: 96929.36 | G6: 99823.88 | H6: 109778.2 | I6: 54718.1 | J6: 71705.83 | K6: 55852.01 | L6: 58563.61 | M6: 138463.3 | N6: 154152 | O6: 127010.6 | P6: 113795 | Q6: 121195.6 | R6: 112052.3 | S6: 118084.7 | T6: 116222.3 | U6: 106404.3 | V6: 98052.47 | W6: 96697.7 | X6: 48245.21 | Y6: 51729.86 | Z6: 61285.89 | AA6: 62461.2 | AB6: 130894.9 | AC6: 125593.3 | AD6: 107391.7 | AE6: 103843 | AF6: 111319.4 | AG6: 100369.4 | AH6: 99287.03
A7: HMDB0001863 | B7: 2-Hydroxyvaleric acid | C7: 189326.4 | D7: 202709.8 | E7: 134392.2 | F7: 141621 | G7: 145874 | H7: 157539.3 | I7: 67691.59 | J7: 71032.86 | K7: 76269.21 | L7: 84316.5 | M7: 157432.4 | N7: 151814.2 | O7: 169262.7 | P7: 170007.5 | Q7: 198025.7 | R7: 168464.4 | S7: 185759.3 | T7: 175967.9 | U7: 188544.1 | V7: 139117.3 | W7: 145021.2 | X7: 75394.95 | Y7: 77320.88 | Z7: 83447.96 | AA7: 72051.89 | AB7: 143200.8 | AC7: 149194.5 | AD7: 151139 | AE7: 137874.6 | AF7: 176466.9 | AG7: 165122.1 | AH7: 169888.6
A8: HMDB0000355 | B8: 3-Hydroxymethylglutaric acid | C8: 1999249 | D8: 2376959 | E8: 2694705 | F8: 2692398 | G8: 2966967 | H8: 2786367 | I8: 493660.2 | J8: 759060.6 | K8: 674646.7 | L8: 823304.5 | M8: 2550205 | N8: 3133046 | O8: 2107299 | P8: 2235728 | Q8: 3709729 | R8: 3286148 | S8: 1997799 | T8: 1939835 | U8: 2036429 | V8: 2032774 | W8: 2119279 | X8: 429110.3 | Y8: 501558.3 | Z8: 602995.4 | AA8: 651911.1 | AB8: 2435061 | AC8: 2440151 | AD8: 1249640 | AE8: 1430214 | AF8: 2619864 | AG8: 2338527 | AH8: 1986221
A9: HMDB0002302 | B9: 3-Indolepropionic acid | C9: 10432.66 | D9: 10308.28 | E9: 11296.62 | F9: 12713.52 | G9: 8678.11 | H9: 6651.468 | I9: 9102.908 | J9: 10803.14 | K9: 8381.174 | L9: 8133.438 | M9: 19247.62 | N9: 19741.48 | O9: 17019.04 | P9: 14468.31 | Q9: 13214.01 | R9: 16540.25 | S9: 13025.88 | T9: 8978.311 | U9: 6939.331 | V9: 11464.93 | W9: 10485.42 | X9: 8373.664 | Y9: 5123.723 | Z9: 8603.151 | AA9: 7194.926 | AB9: 14332.05 | AC9: 17882.82 | AD9: 13055.53 | AE9: 14832.23 | AF9: 15067.79 | AG9: 12740.21 | AH9: 10972.06
A10: HMDB0000479 | B10: 3-Methylhistidine | C10: 399290 | D10: 419653.4 | E10: 667770.9 | F10: 753371.9 | G10: 847993.8 | H10: 938456.5 | I10: 108292 | J10: 143141 | K10: 168651.4 | L10: 172155.3 | M10: 477027.3 | N10: 555466.3 | O10: 687439.7 | P10: 569606.5 | Q10: 418536 | R10: 265930.9 | S10: 515680.2 | T10: 425974 | U10: 430122.6 | V10: 484895.6 | W10: 496316.5 | X10: 102149.1 | Y10: 109843.3 | Z10: 176991.3 | AA10: 165277.7 | AB10: 416566.8 | AC10: 625788 | AD10: 826972.1 | AE10: 804013.3 | AF10: 265152.2 | AG10: 265871.6 | AH10: 505542.6
A11: HMDB0000807 | B11: 3-Phosphoglyceric acid | C11: 10504840 | D11: 10177620 | E11: 2286359 | F11: 2717556 | G11: 2978405 | H11: 2816748 | I11: 1787992 | J11: 1527924 | K11: 1142440 | L11: 796436.3 | M11: 6653730 | N11: 11559590 | O11: 6130457 | P11: 10443410 | Q11: 21285370 | R11: 13789160 | S11: 6920044 | T11: 6136881 | U11: 6579995 | V11: 2767250 | W11: 2912508 | X11: 5780564 | Y11: 4377538 | Z11: 2864027 | AA11: 3109336 | AB11: 30095410 | AC11: 32118550 | AD11: 27638380 | AE11: 19139640 | AF11: 17669970 | AG11: 18754140 | AH11: 24918280
A12: HMDB0003681 | B12: 4-Acetamidobutanoic acid | C12: 0 | D12: 0 | E12: 0 | F12: 0 | G12: 0 | H12: 0 | I12: 0 | J12: 0 | K12: 0 | L12: 0 | M12: 0 | N12: 0 | O12: 0 | P12: 0 | Q12: 0 | R12: 0 | S12: 0 | T12: 0 | U12: 0 | V12: 0 | W12: 0 | X12: 0 | Y12: 0 | Z12: 0 | AA12: 0 | AB12: 0 | AC12: 0 | AD12: 0 | AE12: 0 | AF12: 0 | AG12: 0 | AH12: 0
A13: HMDB0000725 | B13: 4-Hydroxyproline | C13: 13502650 | D13: 14798650 | E13: 17398330 | F13: 16764990 | G13: 17563550 | H13: 16208240 | I13: 1447648 | J13: 2677631 | K13: 2407638 | L13: 3025713 | M13: 11713720 | N13: 11741120 | O13: 5863852 | P13: 4584574 | Q13: 6108620 | R13: 5467200 | S13: 4620877 | T13: 14454120 | U13: 17161130 | V13: 16424020 | W13: 17803230 | X13: 1435308 | Y13: 1434382 | Z13: 2651406 | AA13: 3008521 | AB13: 11792010 | AC13: 11313430 | AD13: 4653833 | AE13: 6403818 | AF13: 7004090 | AG13: 6353180 | AH13: 5113222
A14: HMDB0000017 | B14: 4-Pyridoxic acid | C14: 0 | D14: 0 | E14: 0 | F14: 0 | G14: 0 | H14: 0 | I14: 0 | J14: 0 | K14: 0 | L14: 0 | M14: 0 | N14: 0 | O14: 0 | P14: 0 | Q14: 0 | R14: 0 | S14: 0 | T14: 0 | U14: 0 | V14: 0 | W14: 0 | X14: 0 | Y14: 0 | Z14: 0 | AA14: 0 | AB14: 0 | AC14: 0 | AD14: 0 | AE14: 0 | AF14: 0 | AG14: 0 | AH14: 0
A15: HMDB0001161 | B15: 4-Trimethylammoniobutanoic acid | C15: 1671517 | D15: 1677731 | E15: 2560390 | F15: 2908507 | G15: 2735390 | H15: 2649924 | I15: 1562951 | J15: 2480465 | K15: 2323010 | L15: 2457269 | M15: 2871714 | N15: 3114839 | O15: 1714839 | P15: 1479217 | Q15: 3399480 | R15: 3219085 | S15: 2077228 | T15: 1746413 | U15: 1767515 | V15: 3126606 | W15: 3273158 | X15: 1657782 | Y15: 1707609 | Z15: 2603192 | AA15: 2585888 | AB15: 2925545 | AC15: 3037670 | AD15: 1559827 | AE15: 1709712 | AF15: 3765938 | AG15: 3358172 | AH15: 2706150
... A206: HMDB0000292 | B206: Xanthine | C206: 1653497 | D206: 1837997 | E206: 2014655 | F206: 1396022 | G206: 1730178 | H206: 1598536 | I206: 419319.2 | J206: 1504404 | K206: 1340111 | L206: 1411231 | M206: 1091373 | N206: 900025.6 | O206: 1467926 | P206: 965720.6 | Q206: 710089.9 | R206: 721987.1 | S206: 566305.5 | T206: 1931072 | U206: 2039419 | V206: 1543459 | W206: 1634546 | X206: 370736.2 | Y206: 424483.5 | Z206: 1216898 | AA206: 1437042 | AB206: 943507.9 | AC206: 1094219 | AD206: 1108788 | AE206: 1254680 | AF206: 1986670 | AG206: 1691287 | AH206: 711722.6
B208: MEDIAN | C208: =MEDIAN(C4:C206) -> 784421 | D208: =MEDIAN(D4:D206) -> 834129.8 | E208: =MEDIAN(E4:E206) -> 742465.1 | F208: =MEDIAN(F4:F206) -> 766229.1 | G208: =MEDIAN(G4:G206) -> 809812.5 | H208: =MEDIAN(H4:H206) -> 802501.9 | I208: =MEDIAN(I4:I206) -> 160593.6 | J208: =MEDIAN(J4:J206) -> 255277.6 | ... AH208: =MEDIAN(AH4:AH206) -> 621736.6

Sheet Median normalized
A1: Calculation: Value / (Median Value in Sample)
C2: NTC-2 24h post | I2: NTC-2 48h co-culture | M2: NTC-2 96h plate | Q2: NTC-2 96h co-culture | T2: Pkm2-8 24h post | X2: Pkm2-8 48h co-culture | AB2: Pkm2-8 96h plate | AF2: Pkm2-8 96h co-culture
C3: Batch 1 | D3: Batch 1 | E3: Batch 2 | F3: Batch 2 | G3: Batch 2 | H3: Batch 2 | I3: Batch 1 | J3: Batch 1 | K3: Batch 2 | L3: Batch 2 | M3: Batch 1 | N3: Batch 1 | O3: Batch 2 | P3: Batch 2 | Q3: Batch 1 | R3: Batch 1 | S3: Batch 2 | T3: Batch 1 | U3: Batch 1 | V3: Batch 2 | W3: Batch 2 | X3: Batch 1 | Y3: Batch 1 | Z3: Batch 2 | AA3: Batch 2 | AB3: Batch 1 | AC3: Batch 1 | AD3: Batch 2 | AE3: Batch 2 | AF3: Batch 1 | AG3: Batch 1 | AH3: Batch 2
A4: HMDB | B4: Compound | C4: NTC2_24h_1_1 | D4: NTC2_24h_1_2 | E4: NTC2_24h_2_1 | F4: NTC2_24h_2_2 | G4: NTC2_24h_2_3 | H4: NTC2_24h_2_4 | I4: NTC2_48hco_1_1 | J4: NTC2_48hco_1_2 | K4: NTC2_48hco_2_1 | L4: NTC2_48hco_2_2 | M4: NTC2_96hpl_1_1 | N4: NTC2_96hpl_1_2 | O4: NTC2_96hpl_2_1 | P4: NTC2_96hpl_2_2 | Q4: NTC2_96hco_1_1 | R4: NTC2_96hco_1_2 | S4: NTC2_96hco_2_1 | T4: Pkm2-8_24h_1_1 | U4: Pkm2-8_24h_1_2 | V4: Pkm2-8_24h_2_1 | W4: Pkm2-8_24h_2_2 | X4: Pkm2-8_48hco_1_1 | Y4: Pkm2-8_48hco_1_2 | Z4: Pkm2-8_48hco_2_1 | AA4: Pkm2-8_48hco_2_2 | AB4: Pkm2-8_96hpl_1_1 | AC4: Pkm2-8_96hpl_1_2 | AD4: Pkm2-8_96hpl_2_1 | AE4: Pkm2-8_96hpl_2_2 | AF4: Pkm2-8_96hco_1_1 | AG4: Pkm2-8_96hco_1_2 | AH4: Pkm2-8_96hco_2_1
A5: HMDB0003331 | B5: 1-Methyladenosine | C5: ='Non-normalized'!C4/'Non-normalized'!C$208 -> 0.016648993 | D5: ='Non-normalized'!D4/'Non-normalized'!D$208 -> 0.021244655 | E5: ='Non-normalized'!E4/'Non-normalized'!E$208 -> 0.0098276633 | F5: ='Non-normalized'!F4/'Non-normalized'!F$208 -> 0.0046632254 | G5: ='Non-normalized'!G4/'Non-normalized'!G$208 -> 0.0095772713 | H5: ='Non-normalized'!H4/'Non-normalized'!H$208 -> 0.0044621751 | I5: ='Non-normalized'!I4/'Non-normalized'!I$208 -> 0 | J5: ='Non-normalized'!J4/'Non-normalized'!J$208 -> 0 | ... AH5: ='Non-normalized'!AH4/'Non-normalized'!AH$208 -> 0.021530902
A6: HMDB0000699 | B6: 1-Methylnicotinamide | C6: ='Non-normalized'!C5/'Non-normalized'!C$208 -> 0 | D6: ='Non-normalized'!D5/'Non-normalized'!D$208 -> 0 | E6: ='Non-normalized'!E5/'Non-normalized'!E$208 -> 0 | F6: ='Non-normalized'!F5/'Non-normalized'!F$208 -> 0 | G6: ='Non-normalized'!G5/'Non-normalized'!G$208 -> 0 | H6: ='Non-normalized'!H5/'Non-normalized'!H$208 -> 0 | I6: ='Non-normalized'!I5/'Non-normalized'!I$208 -> 0 | J6: ='Non-normalized'!J5/'Non-normalized'!J$208 -> 0 | ... AH6: ='Non-normalized'!AH5/'Non-normalized'!AH$208 -> 0
A7: HMDB0001624 | B7: 2-Hydroxycaproic acid | C7: ='Non-normalized'!C6/'Non-normalized'!C$208 -> 0.15953092 | D7: ='Non-normalized'!D6/'Non-normalized'!D$208 -> 0.16651977 | E7: ='Non-normalized'!E6/'Non-normalized'!E$208 -> 0.14586517 | F7: ='Non-normalized'!F6/'Non-normalized'!F$208 -> 0.1265018 | G7: ='Non-normalized'!G6/'Non-normalized'!G$208 -> 0.12326789 | H7: ='Non-normalized'!H6/'Non-normalized'!H$208 -> 0.13679494 | I7: ='Non-normalized'!I6/'Non-normalized'!I$208 -> 0.34072404 | J7: ='Non-normalized'!J6/'Non-normalized'!J$208 -> 0.28089354 | ... AH7: ='Non-normalized'!AH6/'Non-normalized'!AH$208 -> 0.15969308
A8: HMDB0001863 | B8: 2-Hydroxyvaleric acid | C8: ='Non-normalized'!C7/'Non-normalized'!C$208 -> 0.24135815 | D8: ='Non-normalized'!D7/'Non-normalized'!D$208 -> 0.24301949 | E8: ='Non-normalized'!E7/'Non-normalized'!E$208 -> 0.1810081 | F8: ='Non-normalized'!F7/'Non-normalized'!F$208 -> 0.18482853 | G8: ='Non-normalized'!G7/'Non-normalized'!G$208 -> 0.18013306 | H8: ='Non-normalized'!H7/'Non-normalized'!H$208 -> 0.19631019 | I8: ='Non-normalized'!I7/'Non-normalized'!I$208 -> 0.42150864 | J8: ='Non-normalized'!J7/'Non-normalized'!J$208 -> 0.27825732 | ... AH8: ='Non-normalized'!AH7/'Non-normalized'!AH$208 -> 0.27324851
A9: HMDB0000355 | B9: 3-Hydroxymethylglutaric acid | C9: ='Non-normalized'!C8/'Non-normalized'!C$208 -> 2.5486939 | D9: ='Non-normalized'!D8/'Non-normalized'!D$208 -> 2.8496272 | E9: ='Non-normalized'!E8/'Non-normalized'!E$208 -> 3.6294029 | F9: ='Non-normalized'!F8/'Non-normalized'!F$208 -> 3.513829 | G9: ='Non-normalized'!G8/'Non-normalized'!G$208 -> 3.6637703 | H9: ='Non-normalized'!H8/'Non-normalized'!H$208 -> 3.4721002 | I9: ='Non-normalized'!I8/'Non-normalized'!I$208 -> 3.0739718 | J9: ='Non-normalized'!J8/'Non-normalized'!J$208 -> 2.9734712 | ... AH9: ='Non-normalized'!AH8/'Non-normalized'!AH$208 -> 3.1946342
A10: HMDB0002302 | B10: 3-Indolepropionic acid | C10: ='Non-normalized'!C9/'Non-normalized'!C$208 -> 0.013299822 | D10: ='Non-normalized'!D9/'Non-normalized'!D$208 -> 0.012358125 | E10: ='Non-normalized'!E9/'Non-normalized'!E$208 -> 0.015215018 | F10: ='Non-normalized'!F9/'Non-normalized'!F$208 -> 0.016592322 | G10: ='Non-normalized'!G9/'Non-normalized'!G$208 -> 0.010716197 | H10: ='Non-normalized'!H9/'Non-normalized'!H$208 -> 0.008288414 | I10: ='Non-normalized'!I9/'Non-normalized'!I$208 -> 0.056682882 | J10: ='Non-normalized'!J9/'Non-normalized'!J$208 -> 0.042319185 | ... AH10: ='Non-normalized'!AH9/'Non-normalized'!AH$208 -> 0.017647441
A11: HMDB0000479 | B11: 3-Methylhistidine | C11: ='Non-normalized'!C10/'Non-normalized'!C$208 -> 0.50902513 | D11: ='Non-normalized'!D10/'Non-normalized'!D$208 -> 0.50310323 | E11: ='Non-normalized'!E10/'Non-normalized'!E$208 -> 0.89939702 | F11: ='Non-normalized'!F10/'Non-normalized'!F$208 -> 0.98322016 | G11: ='Non-normalized'!G10/'Non-normalized'!G$208 -> 1.0471483 | H11: ='Non-normalized'!H10/'Non-normalized'!H$208 -> 1.1694134 | I11: ='Non-normalized'!I10/'Non-normalized'!I$208 -> 0.67432326 | J11: ='Non-normalized'!J10/'Non-normalized'!J$208 -> 0.56072683 | ... AH11: ='Non-normalized'!AH10/'Non-normalized'!AH$208 -> 0.81311378
A12: HMDB0000807 | B12: 3-Phosphoglyceric acid | C12: ='Non-normalized'!C11/'Non-normalized'!C$208 -> 13.391839 | D12: ='Non-normalized'!D11/'Non-normalized'!D$208 -> 12.201482 | E12: ='Non-normalized'!E11/'Non-normalized'!E$208 -> 3.0794161 | F12: ='Non-normalized'!F11/'Non-normalized'!F$208 -> 3.5466625 | G12: ='Non-normalized'!G11/'Non-normalized'!G$208 -> 3.6778946 | H12: ='Non-normalized'!H11/'Non-normalized'!H$208 -> 3.509958 | I12: ='Non-normalized'!I11/'Non-normalized'!I$208 -> 11.133644 | J12: ='Non-normalized'!J11/'Non-normalized'!J$208 -> 5.985343 | ... AH12: ='Non-normalized'!AH11/'Non-normalized'!AH$208 -> 40.078516
A13: HMDB0003681 | B13: 4-Acetamidobutanoic acid | C13: ='Non-normalized'!C12/'Non-normalized'!C$208 -> 0 | D13: ='Non-normalized'!D12/'Non-normalized'!D$208 -> 0 | E13: ='Non-normalized'!E12/'Non-normalized'!E$208 -> 0 | F13: ='Non-normalized'!F12/'Non-normalized'!F$208 -> 0 | G13: ='Non-normalized'!G12/'Non-normalized'!G$208 -> 0 | H13: ='Non-normalized'!H12/'Non-normalized'!H$208 -> 0 | I13: ='Non-normalized'!I12/'Non-normalized'!I$208 -> 0 | J13: ='Non-normalized'!J12/'Non-normalized'!J$208 -> 0 | ... AH13: ='Non-normalized'!AH12/'Non-normalized'!AH$208 -> 0
A14: HMDB0000725 | B14: 4-Hydroxyproline | C14: ='Non-normalized'!C13/'Non-normalized'!C$208 -> 17.213524 | D14: ='Non-normalized'!D13/'Non-normalized'!D$208 -> 17.741423 | E14: ='Non-normalized'!E13/'Non-normalized'!E$208 -> 23.433196 | F14: ='Non-normalized'!F13/'Non-normalized'!F$208 -> 21.879866 | G14: ='Non-normalized'!G13/'Non-normalized'!G$208 -> 21.688416 | H14: ='Non-normalized'!H13/'Non-normalized'!H$208 -> 20.197136 | I14: ='Non-normalized'!I13/'Non-normalized'!I$208 -> 9.0143567 | J14: ='Non-normalized'!J13/'Non-normalized'!J$208 -> 10.489095 | ... AH14: ='Non-normalized'!AH13/'Non-normalized'!AH$208 -> 8.2240968
A15: HMDB0000017 | B15: 4-Pyridoxic acid | C15: ='Non-normalized'!C14/'Non-normalized'!C$208 -> 0 | D15: ='Non-normalized'!D14/'Non-normalized'!D$208 -> 0 | E15: ='Non-normalized'!E14/'Non-normalized'!E$208 -> 0 | F15: ='Non-normalized'!F14/'Non-normalized'!F$208 -> 0 | G15: ='Non-normalized'!G14/'Non-normalized'!G$208 -> 0 | H15: ='Non-normalized'!H14/'Non-normalized'!H$208 -> 0 | I15: ='Non-normalized'!I14/'Non-normalized'!I$208 -> 0 | J15: ='Non-normalized'!J14/'Non-normalized'!J$208 -> 0 | ... AH15: ='Non-normalized'!AH14/'Non-normalized'!AH$208 -> 0
A16: HMDB0001161 | B16: 4-Trimethylammoniobutanoic acid | C16: ='Non-normalized'!C15/'Non-normalized'!C$208 -> 2.1308927 | D16: ='Non-normalized'!D15/'Non-normalized'!D$208 -> 2.0113548 | E16: ='Non-normalized'!E15/'Non-normalized'!E$208 -> 3.4484988 | F16: ='Non-normalized'!F15/'Non-normalized'!F$208 -> 3.7958712 | G16: ='Non-normalized'!G15/'Non-normalized'!G$208 -> 3.3778066 | H16: ='Non-normalized'!H15/'Non-normalized'!H$208 -> 3.3020782 | I16: ='Non-normalized'!I15/'Non-normalized'!I$208 -> 9.7323368 | J16: ='Non-normalized'!J15/'Non-normalized'!J$208 -> 9.7167358 | ... AH16: ='Non-normalized'!AH15/'Non-normalized'!AH$208 -> 4.3525667
... A207: HMDB0000292 | B207: Xanthine | C207: ='Non-normalized'!C206/'Non-normalized'!C$208 -> 2.1079204 | D207: ='Non-normalized'!D206/'Non-normalized'!D$208 -> 2.2034904 | E207: ='Non-normalized'!E206/'Non-normalized'!E$208 -> 2.7134676 | F207: ='Non-normalized'!F206/'Non-normalized'!F$208 -> 1.8219381 | G207: ='Non-normalized'!G206/'Non-normalized'!G$208 -> 2.1365168 | H207: ='Non-normalized'!H206/'Non-normalized'!H$208 -> 1.9919405 | I207: ='Non-normalized'!I206/'Non-normalized'!I$208 -> 2.611058 | J207: ='Non-normalized'!J206/'Non-normalized'!J$208 -> 5.893208 | ... AH207: ='Non-normalized'!AH206/'Non-normalized'!AH$208 -> 1.1447333

Sheet Average of batch
A1: Calculation: Average Value of Samples in Experimental Group per Batch
C2: NTC-2 24h post | I2: NTC-2 48h co-culture | M2: NTC-2 96h plate | Q2: NTC-2 96h co-culture | T2: Pkm2-8 24h post | X2: Pkm2-8 48h co-culture | AB2: Pkm2-8 96h plate | AF2: Pkm2-8 96h co-culture
C3: Batch 1 | D3: Batch 1 | E3: Batch 2 | F3: Batch 2 | G3: Batch 2 | H3: Batch 2 | I3: Batch 1 | J3: Batch 1 | K3: Batch 2 | L3: Batch 2 | M3: Batch 1 | N3: Batch 1 | O3: Batch 2 | P3: Batch 2 | Q3: Batch 1 | R3: Batch 1 | S3: Batch 2 | T3: Batch 1 | U3: Batch 1 | V3: Batch 2 | W3: Batch 2 | X3: Batch 1 | Y3: Batch 1 | Z3: Batch 2 | AA3: Batch 2 | AB3: Batch 1 | AC3: Batch 1 | AD3: Batch 2 | AE3: Batch 2 | AF3: Batch 1 | AG3: Batch 1 | AH3: Batch 2
A4: HMDB | B4: Compound | C4: NTC2_24h_1_1 | D4: NTC2_24h_1_2 | E4: NTC2_24h_2_1 | F4: NTC2_24h_2_2 | G4: NTC2_24h_2_3 | H4: NTC2_24h_2_4 | I4: NTC2_48hco_1_1 | J4: NTC2_48hco_1_2 | K4: NTC2_48hco_2_1 | L4: NTC2_48hco_2_2 | M4: NTC2_96hpl_1_1 | N4: NTC2_96hpl_1_2 | O4: NTC2_96hpl_2_1 | P4: NTC2_96hpl_2_2 | Q4: NTC2_96hco_1_1 | R4: NTC2_96hco_1_2 | S4: NTC2_96hco_2_1 | T4: Pkm2-8_24h_1_1 | U4: Pkm2-8_24h_1_2 | V4: Pkm2-8_24h_2_1 | W4: Pkm2-8_24h_2_2 | X4: Pkm2-8_48hco_1_1 | Y4: Pkm2-8_48hco_1_2 | Z4: Pkm2-8_48hco_2_1 | AA4: Pkm2-8_48hco_2_2 | AB4: Pkm2-8_96hpl_1_1 | AC4: Pkm2-8_96hpl_1_2 | AD4: Pkm2-8_96hpl_2_1 | AE4: Pkm2-8_96hpl_2_2 | AF4: Pkm2-8_96hco_1_1 | AG4: Pkm2-8_96hco_1_2 | AH4: Pkm2-8_96hco_2_1
A5: HMDB0003331 | B5: 1-Methyladenosine | C5: =AVERAGE('Median normalized'!C5:D5) -> 0.018946824 | E5: =AVERAGE('Median normalized'!E5:H5) -> 0.0071325838 | I5: =AVERAGE('Median normalized'!I5:J5) -> 0 | K5: =AVERAGE('Median normalized'!K5:L5) -> 0 | M5: =AVERAGE('Median normalized'!M5:N5) -> 0.036108278 | O5: =AVERAGE('Median normalized'!O5:P5) -> 0.033020673 | Q5: =AVERAGE('Median normalized'!Q5:R5) -> 0.034883392 | S5: =AVERAGE('Median normalized'!S5:S5) -> 0.020851794 | T5: =AVERAGE('Median normalized'!T5:U5) -> 0.018756694 | V5: =AVERAGE('Median normalized'!V5:W5) -> 0.0054379812 | X5: =AVERAGE('Median normalized'!X5:Y5) -> 0 | Z5: =AVERAGE('Median normalized'!Z5:AA5) -> 0 | AB5: =AVERAGE('Median normalized'!AB5:AC5) -> 0.048442247 | AD5: =AVERAGE('Median normalized'!AD5:AE5) -> 0.034173411 | AF5: =AVERAGE('Median normalized'!AF5:AG5) -> 0.029896135 | AH5: =AVERAGE('Median normalized'!AH5:AH5) -> 0.021530902
A6: HMDB0000699 | B6: 1-Methylnicotinamide | C6: =AVERAGE('Median normalized'!C6:D6) -> 0 | E6: =AVERAGE('Median normalized'!E6:H6) -> 0 | I6: =AVERAGE('Median normalized'!I6:J6) -> 0 | K6: =AVERAGE('Median normalized'!K6:L6) -> 0 | M6: =AVERAGE('Median normalized'!M6:N6) -> 0 | O6: =AVERAGE('Median normalized'!O6:P6) -> 0 | Q6: =AVERAGE('Median normalized'!Q6:R6) -> 0 | S6: =AVERAGE('Median normalized'!S6:S6) -> 0 | T6: =AVERAGE('Median normalized'!T6:U6) -> 0 | V6: =AVERAGE('Median normalized'!V6:W6) -> 0 | X6: =AVERAGE('Median normalized'!X6:Y6) -> 0 | Z6: =AVERAGE('Median normalized'!Z6:AA6) -> 0 | AB6: =AVERAGE('Median normalized'!AB6:AC6) -> 0 | AD6: =AVERAGE('Median normalized'!AD6:AE6) -> 0 | AF6: =AVERAGE('Median normalized'!AF6:AG6) -> 0 | AH6: =AVERAGE('Median normalized'!AH6:AH6) -> 0
A7: HMDB0001624 | B7: 2-Hydroxycaproic acid | C7: =AVERAGE('Median normalized'!C7:D7) -> 0.16302534 | E7: =AVERAGE('Median normalized'!E7:H7) -> 0.13310745 | I7: =AVERAGE('Median normalized'!I7:J7) -> 0.31080879 | K7: =AVERAGE('Median normalized'!K7:L7) -> 0.2716496 | M7: =AVERAGE('Median normalized'!M7:N7) -> 0.27834854 | O7: =AVERAGE('Median normalized'!O7:P7) -> 0.20895927 | Q7: =AVERAGE('Median normalized'!Q7:R7) -> 0.26599424 | S7: =AVERAGE('Median normalized'!S7:S7) -> 0.19091258 | T7: =AVERAGE('Median normalized'!T7:U7) -> 0.13640787 | V7: =AVERAGE('Median normalized'!V7:W7) -> 0.11494464 | X7: =AVERAGE('Median normalized'!X7:Y7) -> 0.31336731 | Z7: =AVERAGE('Median normalized'!Z7:AA7) -> 0.25444106 | AB7: =AVERAGE('Median normalized'!AB7:AC7) -> 0.24246119 | AD7: =AVERAGE('Median normalized'!AD7:AE7) -> 0.17999788 | AF7: =AVERAGE('Median normalized'!AF7:AG7) -> 0.18616676 | AH7: =AVERAGE('Median normalized'!AH7:AH7) -> 0.15969308
A8: HMDB0001863 | B8: 2-Hydroxyvaleric acid | C8: =AVERAGE('Median normalized'!C8:D8) -> 0.24218882 | E8: =AVERAGE('Median normalized'!E8:H8) -> 0.18556997 | I8: =AVERAGE('Median normalized'!I8:J8) -> 0.34988298 | K8: =AVERAGE('Median normalized'!K8:L8) -> 0.38090676 | M8: =AVERAGE('Median normalized'!M8:N8) -> 0.29444539 | O8: =AVERAGE('Median normalized'!O8:P8) -> 0.29575445 | Q8: =AVERAGE('Median normalized'!Q8:R8) -> 0.41616661 | S8: =AVERAGE('Median normalized'!S8:S8) -> 0.300325 | T8: =AVERAGE('Median normalized'!T8:U8) -> 0.22246115 | V8: =AVERAGE('Median normalized'!V8:W8) -> 0.16779519 | X8: =AVERAGE('Median normalized'!X8:Y8) -> 0.47942554 | Z8: =AVERAGE('Median normalized'!Z8:AA8) -> 0.32169426 | AB8: =AVERAGE('Median normalized'!AB8:AC8) -> 0.27568651 | AD8: =AVERAGE('Median normalized'!AD8:AE8) -> 0.24672668 | AF8: =AVERAGE('Median normalized'!AF8:AG8) -> 0.30049482 | AH8: =AVERAGE('Median normalized'!AH8:AH8) -> 0.27324851
A9: HMDB0000355 | B9: 3-Hydroxymethylglutaric acid | C9: =AVERAGE('Median normalized'!C9:D9) -> 2.6991606 | E9: =AVERAGE('Median normalized'!E9:H9) -> 3.5697756 | I9: =AVERAGE('Median normalized'!I9:J9) -> 3.0237215 | K9: =AVERAGE('Median normalized'!K9:L9) -> 3.5468443 | M9: =AVERAGE('Median normalized'!M9:N9) -> 5.4026948 | O9: =AVERAGE('Median normalized'!O9:P9) -> 3.7942819 | Q9: =AVERAGE('Median normalized'!Q9:R9) -> 7.960592 | S9: =AVERAGE('Median normalized'!S9:S9) -> 3.229927 | T9: =AVERAGE('Median normalized'!T9:U9) -> 2.4279589 | V9: =AVERAGE('Median normalized'!V9:W9) -> 2.4519566 | X9: =AVERAGE('Median normalized'!X9:Y9) -> 2.9083672 | Z9: =AVERAGE('Median normalized'!Z9:AA9) -> 2.5746127 | AB9: =AVERAGE('Median normalized'!AB9:AC9) -> 4.6022781 | AD9: =AVERAGE('Median normalized'!AD9:AE9) -> 2.2714483 | AF9: =AVERAGE('Median normalized'!AF9:AG9) -> 4.3602376 | AH9: =AVERAGE('Median normalized'!AH9:AH9) -> 3.1946342
A10: HMDB0002302 | B10: 3-Indolepropionic acid | C10: =AVERAGE('Median normalized'!C10:D10) -> 0.012828974 | E10: =AVERAGE('Median normalized'!E10:H10) -> 0.012702988 | I10: =AVERAGE('Median normalized'!I10:J10) -> 0.049501033 | K10: =AVERAGE('Median normalized'!K10:L10) -> 0.039264046 | M10: =AVERAGE('Median normalized'!M10:N10) -> 0.037108028 | O10: =AVERAGE('Median normalized'!O10:P10) -> 0.027265718 | Q10: =AVERAGE('Median normalized'!Q10:R10) -> 0.034456674 | S10: =AVERAGE('Median normalized'!S10:S10) -> 0.021059497 | T10: =AVERAGE('Median normalized'!T10:U10) -> 0.0097942609 | V10: =AVERAGE('Median normalized'!V10:W10) -> 0.012945778 | X10: =AVERAGE('Median normalized'!X10:Y10) -> 0.043122562 | Z10: =AVERAGE('Median normalized'!Z10:AA10) -> 0.032720904 | AB10: =AVERAGE('Median normalized'!AB10:AC10) -> 0.030201547 | AD10: =AVERAGE('Median normalized'!AD10:AE10) -> 0.023643209 | AF10: =AVERAGE('Median normalized'!AF10:AG10) -> 0.024442827 | AH10: =AVERAGE('Median normalized'!AH10:AH10) -> 0.017647441
A11: HMDB0000479 | B11: 3-Methylhistidine | C11: =AVERAGE('Median normalized'!C11:D11) -> 0.50606418 | E11: =AVERAGE('Median normalized'!E11:H11) -> 1.0247947 | I11: =AVERAGE('Median normalized'!I11:J11) -> 0.61752505 | K11: =AVERAGE('Median normalized'!K11:L11) -> 0.80954504 | M11: =AVERAGE('Median normalized'!M11:N11) -> 0.98186589 | O11: =AVERAGE('Median normalized'!O11:P11) -> 1.0873915 | Q11: =AVERAGE('Median normalized'!Q11:R11) -> 0.76585979 | S11: =AVERAGE('Median normalized'!S11:S11) -> 0.83372221 | T11: =AVERAGE('Median normalized'!T11:U11) -> 0.52325678 | V11: =AVERAGE('Median normalized'!V11:W11) -> 0.57934028 | X11: =AVERAGE('Median normalized'!X11:Y11) -> 0.66441363 | Z11: =AVERAGE('Median normalized'!Z11:AA11) -> 0.70603662 | AB11: =AVERAGE('Median normalized'!AB11:AC11) -> 0.97158397 | AD11: =AVERAGE('Median normalized'!AD11:AE11) -> 1.3895612 | AF11: =AVERAGE('Median normalized'!AF11:AG11) -> 0.46739873 | AH11: =AVERAGE('Median normalized'!AH11:AH11) -> 0.81311378
A12: HMDB0000807 | B12: 3-Phosphoglyceric acid | C12: =AVERAGE('Median normalized'!C12:D12) -> 12.796661 | E12: =AVERAGE('Median normalized'!E12:H12) -> 3.4534828 | I12: =AVERAGE('Median normalized'!I12:J12) -> 8.5594936 | K12: =AVERAGE('Median normalized'!K12:L12) -> 4.6367542 | M12: =AVERAGE('Median normalized'!M12:N12) -> 17.27638 | O12: =AVERAGE('Median normalized'!O12:P12) -> 14.74674 | Q12: =AVERAGE('Median normalized'!Q12:R12) -> 39.283243 | S12: =AVERAGE('Median normalized'!S12:S12) -> 11.187931 | T12: =AVERAGE('Median normalized'!T12:U12) -> 7.7609567 | V12: =AVERAGE('Median normalized'!V12:W12) -> 3.3544436 | X12: =AVERAGE('Median normalized'!X12:Y12) -> 32.225312 | Z12: =AVERAGE('Median normalized'!Z12:AA12) -> 12.253269 | AB12: =AVERAGE('Median normalized'!AB12:AC12) -> 58.614163 | AD12: =AVERAGE('Median normalized'!AD12:AE12) -> 40.274854 | AF12: =AVERAGE('Median normalized'!AF12:AG12) -> 32.074508 | AH12: =AVERAGE('Median normalized'!AH12:AH12) -> 40.078516
A13: HMDB0003681 | B13: 4-Acetamidobutanoic acid | C13: =AVERAGE('Median normalized'!C13:D13) -> 0 | E13: =AVERAGE('Median normalized'!E13:H13) -> 0 | I13: =AVERAGE('Median normalized'!I13:J13) -> 0 | K13: =AVERAGE('Median normalized'!K13:L13) -> 0 | M13: =AVERAGE('Median normalized'!M13:N13) -> 0 | O13: =AVERAGE('Median normalized'!O13:P13) -> 0 | Q13: =AVERAGE('Median normalized'!Q13:R13) -> 0 | S13: =AVERAGE('Median normalized'!S13:S13) -> 0 | T13: =AVERAGE('Median normalized'!T13:U13) -> 0 | V13: =AVERAGE('Median normalized'!V13:W13) -> 0 | X13: =AVERAGE('Median normalized'!X13:Y13) -> 0 | Z13: =AVERAGE('Median normalized'!Z13:AA13) -> 0 | AB13: =AVERAGE('Median normalized'!AB13:AC13) -> 0 | AD13: =AVERAGE('Median normalized'!AD13:AE13) -> 0 | AF13: =AVERAGE('Median normalized'!AF13:AG13) -> 0 | AH13: =AVERAGE('Median normalized'!AH13:AH13) -> 0
A14: HMDB0000725 | B14: 4-Hydroxyproline | C14: =AVERAGE('Median normalized'!C14:D14) -> 17.477474 | E14: =AVERAGE('Median normalized'!E14:H14) -> 21.799653 | I14: =AVERAGE('Median normalized'!I14:J14) -> 9.7517259 | K14: =AVERAGE('Median normalized'!K14:L14) -> 12.85835 | M14: =AVERAGE('Median normalized'!M14:N14) -> 22.326594 | O14: =AVERAGE('Median normalized'!O14:P14) -> 9.0173321 | Q14: =AVERAGE('Median normalized'!Q14:R14) -> 13.179049 | S14: =AVERAGE('Median normalized'!S14:S14) -> 7.4707693 | T14: =AVERAGE('Median normalized'!T14:U14) -> 19.244942 | V14: =AVERAGE('Median normalized'!V14:W14) -> 20.220375 | X14: =AVERAGE('Median normalized'!X14:Y14) -> 9.0170437 | Z14: =AVERAGE('Median normalized'!Z14:AA14) -> 11.591279 | AB14: =AVERAGE('Median normalized'!AB14:AC14) -> 21.841892 | AD14: =AVERAGE('Median normalized'!AD14:AE14) -> 9.3185108 | AF14: =AVERAGE('Median normalized'!AF14:AG14) -> 11.747429 | AH14: =AVERAGE('Median normalized'!AH14:AH14) -> 8.2240968
A15: HMDB0000017 | B15: 4-Pyridoxic acid | C15: =AVERAGE('Median normalized'!C15:D15) -> 0 | E15: =AVERAGE('Median normalized'!E15:H15) -> 0 | I15: =AVERAGE('Median normalized'!I15:J15) -> 0 | K15: =AVERAGE('Median normalized'!K15:L15) -> 0 | M15: =AVERAGE('Median normalized'!M15:N15) -> 0 | O15: =AVERAGE('Median normalized'!O15:P15) -> 0 | Q15: =AVERAGE('Median normalized'!Q15:R15) -> 0 | S15: =AVERAGE('Median normalized'!S15:S15) -> 0 | T15: =AVERAGE('Median normalized'!T15:U15) -> 0 | V15: =AVERAGE('Median normalized'!V15:W15) -> 0 | X15: =AVERAGE('Median normalized'!X15:Y15) -> 0 | Z15: =AVERAGE('Median normalized'!Z15:AA15) -> 0 | AB15: =AVERAGE('Median normalized'!AB15:AC15) -> 0 | AD15: =AVERAGE('Median normalized'!AD15:AE15) -> 0 | AF15: =AVERAGE('Median normalized'!AF15:AG15) -> 0 | AH15: =AVERAGE('Median normalized'!AH15:AH15) -> 0
A16: HMDB0001161 | B16: 4-Trimethylammoniobutanoic acid | C16: =AVERAGE('Median normalized'!C16:D16) -> 2.0711238 | E16: =AVERAGE('Median normalized'!E16:H16) -> 3.4810637 | I16: =AVERAGE('Median normalized'!I16:J16) -> 9.7245363 | K16: =AVERAGE('Median normalized'!K16:L16) -> 11.34772 | M16: =AVERAGE('Median normalized'!M16:N16) -> 5.6956418 | O16: =AVERAGE('Median normalized'!O16:P16) -> 2.7674313 | Q16: =AVERAGE('Median normalized'!Q16:R16) -> 7.5570046 | S16: =AVERAGE('Median normalized'!S16:S16) -> 3.3583433 | T16: =AVERAGE('Median normalized'!T16:U16) -> 2.1476305 | V16: =AVERAGE('Median normalized'!V16:W16) -> 3.7794762 | X16: =AVERAGE('Median normalized'!X16:Y16) -> 10.563457 | Z16: =AVERAGE('Median normalized'!Z16:AA16) -> 10.679628 | AB16: =AVERAGE('Median normalized'!AB16:AC16) -> 5.6230532 | AD16: =AVERAGE('Median normalized'!AD16:AE16) -> 2.7750484 | AF16: =AVERAGE('Median normalized'!AF16:AG16) -> 6.264646 | AH16: =AVERAGE('Median normalized'!AH16:AH16) -> 4.3525667
... A207: HMDB0000292 | B207: Xanthine | C207: =AVERAGE('Median normalized'!C207:D207) -> 2.1557054 | E207: =AVERAGE('Median normalized'!E207:H207) -> 2.1659657 | I207: =AVERAGE('Median normalized'!I207:J207) -> 4.252133 | K207: =AVERAGE('Median normalized'!K207:L207) -> 6.5318291 | M207: =AVERAGE('Median normalized'!M207:N207) -> 1.8980182 | O207: =AVERAGE('Median normalized'!O207:P207) -> 2.0860521 | Q207: =AVERAGE('Median normalized'!Q207:R207) -> 1.6410828 | S207: =AVERAGE('Median normalized'!S207:S207) -> 0.9155703 | T207: =AVERAGE('Median normalized'!T207:U207) -> 2.4240674 | V207: =AVERAGE('Median normalized'!V207:W207) -> 1.8770324 | X207: =AVERAGE('Median normalized'!X207:Y207) -> 2.4868735 | Z207: =AVERAGE('Median normalized'!Z207:AA207) -> 5.4271073 | AB207: =AVERAGE('Median normalized'!AB207:AC207) -> 1.9147834 | AD207: =AVERAGE('Median normalized'!AD207:AE207) -> 2.0039967 | AF207: =AVERAGE('Median normalized'!AF207:AG207) -> 3.2330463 | AH207: =AVERAGE('Median normalized'!AH207:AH207) -> 1.1447333

Sheet Normalized to batch NTC
A1: Calculation: Median Normalize Value / (Average Batch Value in NTC Sample Group)
C2: NTC-2 24h post | I2: NTC-2 48h co-culture | M2: NTC-2 96h plate | Q2: NTC-2 96h co-culture | T2: Pkm2-8 24h post | X2: Pkm2-8 48h co-culture | AB2: Pkm2-8 96h plate | AF2: Pkm2-8 96h co-culture
C3: Batch 1 | D3: Batch 1 | E3: Batch 2 | F3: Batch 2 | G3: Batch 2 | H3: Batch 2 | I3: Batch 1 | J3: Batch 1 | K3: Batch 2 | L3: Batch 2 | M3: Batch 1 | N3: Batch 1 | O3: Batch 2 | P3: Batch 2 | Q3: Batch 1 | R3: Batch 1 | S3: Batch 2 | T3: Batch 1 | U3: Batch 1 | V3: Batch 2 | W3: Batch 2 | X3: Batch 1 | Y3: Batch 1 | Z3: Batch 2 | AA3: Batch 2 | AB3: Batch 1 | AC3: Batch 1 | AD3: Batch 2 | AE3: Batch 2 | AF3: Batch 1 | AG3: Batch 1 | AH3: Batch 2
A4: HMDB | B4: Compound | C4: NTC2_24h_1_1 | D4: NTC2_24h_1_2 | E4: NTC2_24h_2_1 | F4: NTC2_24h_2_2 | G4: NTC2_24h_2_3 | H4: NTC2_24h_2_4 | I4: NTC2_48hco_1_1 | J4: NTC2_48hco_1_2 | K4: NTC2_48hco_2_1 | L4: NTC2_48hco_2_2 | M4: NTC2_96hpl_1_1 | N4: NTC2_96hpl_1_2 | O4: NTC2_96hpl_2_1 | P4: NTC2_96hpl_2_2 | Q4: NTC2_96hco_1_1 | R4: NTC2_96hco_1_2 | S4: NTC2_96hco_2_1 | T4: Pkm2-8_24h_1_1 | U4: Pkm2-8_24h_1_2 | V4: Pkm2-8_24h_2_1 | W4: Pkm2-8_24h_2_2 | X4: Pkm2-8_48hco_1_1 | Y4: Pkm2-8_48hco_1_2 | Z4: Pkm2-8_48hco_2_1 | AA4: Pkm2-8_48hco_2_2 | AB4: Pkm2-8_96hpl_1_1 | AC4: Pkm2-8_96hpl_1_2 | AD4: Pkm2-8_96hpl_2_1 | AE4: Pkm2-8_96hpl_2_2 | AF4: Pkm2-8_96hco_1_1 | AG4: Pkm2-8_96hco_1_2 | AH4: Pkm2-8_96hco_2_1
A5: HMDB0003331 | B5: 1-Methyladenosine | C5: ='Median normalized'!C5/'Average of batch'!$C5 -> 0.87872211 | D5: ='Median normalized'!D5/'Average of batch'!$C5 -> 1.1212779 | E5: ='Median normalized'!E5/'Average of batch'!$E5 -> 1.3778546 | F5: ='Median normalized'!F5/'Average of batch'!$E5 -> 0.65379189 | G5: ='Median normalized'!G5/'Average of batch'!$E5 -> 1.3427492 | H5: ='Median normalized'!H5/'Average of batch'!$E5 -> 0.6256043 | I5: ='Median normalized'!I5/'Average of batch'!$I5 -> #DIV/0! | J5: ='Median normalized'!J5/'Average of batch'!$I5 -> #DIV/0! | K5: ='Median normalized'!K5/'Average of batch'!$K5 -> #DIV/0! | L5: ='Median normalized'!L5/'Average of batch'!$K5 -> #DIV/0! | M5: ='Median normalized'!M5/'Average of batch'!$M5 -> 1.159212 | N5: ='Median normalized'!N5/'Average of batch'!$M5 -> 0.840788 | O5: ='Median normalized'!O5/'Average of batch'!$O5 -> 0.84630363 | P5: ='Median normalized'!P5/'Average of batch'!$O5 -> 1.1536964 | Q5: ='Median normalized'!Q5/'Average of batch'!$Q5 -> 1.1319717 | R5: ='Median normalized'!R5/'Average of batch'!$Q5 -> 0.86802827 | S5: ='Median normalized'!S5/'Average of batch'!$S5 -> 1 | T5: ='Median normalized'!T5/'Average of batch'!$C5 -> 1.0433803 | U5: ='Median normalized'!U5/'Average of batch'!$C5 -> 0.9365498 | V5: ='Median normalized'!V5/'Average of batch'!$E5 -> 0.92851573 | W5: ='Median normalized'!W5/'Average of batch'!$E5 -> 0.59631214 | X5: ='Median normalized'!X5/'Average of batch'!$I5 -> #DIV/0! | Y5: ='Median normalized'!Y5/'Average of batch'!$I5 -> #DIV/0! | Z5: ='Median normalized'!Z5/'Average of batch'!$K5 -> #DIV/0! | AA5: ='Median normalized'!AA5/'Average of batch'!$K5 -> #DIV/0! | AB5: ='Median normalized'!AB5/'Average of batch'!$M5 -> 1.7086696 | AC5: ='Median normalized'!AC5/'Average of batch'!$M5 -> 0.97449617 | AD5: ='Median normalized'!AD5/'Average of batch'!$O5 -> 1.061003 | AE5: ='Median normalized'!AE5/'Average of batch'!$O5 -> 1.0088162 | AF5: ='Median normalized'!AF5/'Average of batch'!$Q5 -> 0.71214028 | AG5: ='Median normalized'!AG5/'Average of batch'!$Q5 -> 1.001921 | AH5: ='Median normalized'!AH5/'Average of batch'!$S5 -> 1.0325683
A6: HMDB0000699 | B6: 1-Methylnicotinamide | C6: ='Median normalized'!C6/'Average of batch'!$C6 -> #DIV/0! | D6: ='Median normalized'!D6/'Average of batch'!$C6 -> #DIV/0! | E6: ='Median normalized'!E6/'Average of batch'!$E6 -> #DIV/0! | F6: ='Median normalized'!F6/'Average of batch'!$E6 -> #DIV/0! | G6: ='Median normalized'!G6/'Average of batch'!$E6 -> #DIV/0! | H6: ='Median normalized'!H6/'Average of batch'!$E6 -> #DIV/0! | I6: ='Median normalized'!I6/'Average of batch'!$I6 -> #DIV/0! | J6: ='Median normalized'!J6/'Average of batch'!$I6 -> #DIV/0! | K6: ='Median normalized'!K6/'Average of batch'!$K6 -> #DIV/0! | L6: ='Median normalized'!L6/'Average of batch'!$K6 -> #DIV/0! | M6: ='Median normalized'!M6/'Average of batch'!$M6 -> #DIV/0! | N6: ='Median normalized'!N6/'Average of batch'!$M6 -> #DIV/0! | O6: ='Median normalized'!O6/'Average of batch'!$O6 -> #DIV/0! | P6: ='Median normalized'!P6/'Average of batch'!$O6 -> #DIV/0! | Q6: ='Median normalized'!Q6/'Average of batch'!$Q6 -> #DIV/0! | R6: ='Median normalized'!R6/'Average of batch'!$Q6 -> #DIV/0! | S6: ='Median normalized'!S6/'Average of batch'!$S6 -> #DIV/0! | T6: ='Median normalized'!T6/'Average of batch'!$C6 -> #DIV/0! | U6: ='Median normalized'!U6/'Average of batch'!$C6 -> #DIV/0! | V6: ='Median normalized'!V6/'Average of batch'!$E6 -> #DIV/0! | W6: ='Median normalized'!W6/'Average of batch'!$E6 -> #DIV/0! | X6: ='Median normalized'!X6/'Average of batch'!$I6 -> #DIV/0! | Y6: ='Median normalized'!Y6/'Average of batch'!$I6 -> #DIV/0! | Z6: ='Median normalized'!Z6/'Average of batch'!$K6 -> #DIV/0! | AA6: ='Median normalized'!AA6/'Average of batch'!$K6 -> #DIV/0! | AB6: ='Median normalized'!AB6/'Average of batch'!$M6 -> #DIV/0! | AC6: ='Median normalized'!AC6/'Average of batch'!$M6 -> #DIV/0! | AD6: ='Median normalized'!AD6/'Average of batch'!$O6 -> #DIV/0! | AE6: ='Median normalized'!AE6/'Average of batch'!$O6 -> #DIV/0! | AF6: ='Median normalized'!AF6/'Average of batch'!$Q6 -> #DIV/0! | AG6: ='Median normalized'!AG6/'Average of batch'!$Q6 -> #DIV/0! | AH6: ='Median normalized'!AH6/'Average of batch'!$S6 -> #DIV/0!
A7: HMDB0001624 | B7: 2-Hydroxycaproic acid | C7: ='Median normalized'!C7/'Average of batch'!$C7 -> 0.97856514 | D7: ='Median normalized'!D7/'Average of batch'!$C7 -> 1.0214349 | E7: ='Median normalized'!E7/'Average of batch'!$E7 -> 1.0958453 | F7: ='Median normalized'!F7/'Average of batch'!$E7 -> 0.95037354 | G7: ='Median normalized'!G7/'Average of batch'!$E7 -> 0.92607807 | H7: ='Median normalized'!H7/'Average of batch'!$E7 -> 1.0277031 | I7: ='Median normalized'!I7/'Average of batch'!$I7 -> 1.0962497 | J7: ='Median normalized'!J7/'Average of batch'!$I7 -> 0.90375032 | K7: ='Median normalized'!K7/'Average of batch'!$K7 -> 1.0121776 | L7: ='Median normalized'!L7/'Average of batch'!$K7 -> 0.98782235 | M7: ='Median normalized'!M7/'Average of batch'!$M7 -> 0.95943779 | N7: ='Median normalized'!N7/'Average of batch'!$M7 -> 1.0405622 | O7: ='Median normalized'!O7/'Average of batch'!$O7 -> 0.97463702 | P7: ='Median normalized'!P7/'Average of batch'!$O7 -> 1.025363 | Q7: ='Median normalized'!Q7/'Average of batch'!$Q7 -> 0.93686004 | R7: ='Median normalized'!R7/'Average of batch'!$Q7 -> 1.06314 | S7: ='Median normalized'!S7/'Average of batch'!$S7 -> 1 | T7: ='Median normalized'!T7/'Average of batch'!$C7 -> 0.91562351 | U7: ='Median normalized'!U7/'Average of batch'!$C7 -> 0.75783256 | V7: ='Median normalized'!V7/'Average of batch'!$E7 -> 0.85244917 | W7: ='Median normalized'!W7/'Average of batch'!$E7 -> 0.8746463 | X7: ='Median normalized'!X7/'Average of batch'!$I7 -> 1.0435213 | Y7: ='Median normalized'!Y7/'Average of batch'!$I7 -> 0.97294233 | Z7: ='Median normalized'!Z7/'Average of batch'!$K7 -> 0.99729116 | AA7: ='Median normalized'!AA7/'Average of batch'!$K7 -> 0.87601223 | AB7: ='Median normalized'!AB7/'Average of batch'!$M7 -> 0.94401951 | AC7: ='Median normalized'!AC7/'Average of batch'!$M7 -> 0.79812141 | AD7: ='Median normalized'!AD7/'Average of batch'!$O7 -> 0.93015031 | AE7: ='Median normalized'!AE7/'Average of batch'!$O7 -> 0.79265323 | AF7: ='Median normalized'!AF7/'Average of batch'!$Q7 -> 0.72490742 | AG7: ='Median normalized'!AG7/'Average of batch'!$Q7 -> 0.67487299 | AH7: ='Median normalized'!AH7/'Average of batch'!$S7 -> 0.83647225
A8: HMDB0001863 | B8: 2-Hydroxyvaleric acid | C8: ='Median normalized'!C8/'Average of batch'!$C8 -> 0.99657015 | D8: ='Median normalized'!D8/'Average of batch'!$C8 -> 1.0034299 | E8: ='Median normalized'!E8/'Average of batch'!$E8 -> 0.975417 | F8: ='Median normalized'!F8/'Average of batch'!$E8 -> 0.99600454 | G8: ='Median normalized'!G8/'Average of batch'!$E8 -> 0.97070154 | H8: ='Median normalized'!H8/'Average of batch'!$E8 -> 1.0578769 | I8: ='Median normalized'!I8/'Average of batch'!$I8 -> 1.2047132 | J8: ='Median normalized'!J8/'Average of batch'!$I8 -> 0.79528681 | K8: ='Median normalized'!K8/'Average of batch'!$K8 -> 0.98572909 | L8: ='Median normalized'!L8/'Average of batch'!$K8 -> 1.0142709 | M8: ='Median normalized'!M8/'Average of batch'!$M8 -> 1.0312416 | N8: ='Median normalized'!N8/'Average of batch'!$M8 -> 0.96875836 | O8: ='Median normalized'!O8/'Average of batch'!$O8 -> 0.91768695 | P8: ='Median normalized'!P8/'Average of batch'!$O8 -> 1.082313 | Q8: ='Median normalized'!Q8/'Average of batch'!$Q8 -> 0.97839546 | R8: ='Median normalized'!R8/'Average of batch'!$Q8 -> 1.0216045 | S8: ='Median normalized'!S8/'Average of batch'!$S8 -> 1 | T8: ='Median normalized'!T8/'Average of batch'!$C8 -> 0.93317254 | U8: ='Median normalized'!U8/'Average of batch'!$C8 -> 0.90391597 | V8: ='Median normalized'!V8/'Average of batch'!$E8 -> 0.86753252 | W8: ='Median normalized'!W8/'Average of batch'!$E8 -> 0.94089787 | X8: ='Median normalized'!X8/'Average of batch'!$I8 -> 1.4486379 | Y8: ='Median normalized'!Y8/'Average of batch'!$I8 -> 1.2918529 | Z8: ='Median normalized'!Z8/'Average of batch'!$K8 -> 0.96842855 | AA8: ='Median normalized'!AA8/'Average of batch'!$K8 -> 0.72066862 | AB8: ='Median normalized'!AB8/'Average of batch'!$M8 -> 0.97631029 | AC8: ='Median normalized'!AC8/'Average of batch'!$M8 -> 0.89627129 | AD8: ='Median normalized'!AD8/'Average of batch'!$O8 -> 0.92488838 | AE8: ='Median normalized'!AE8/'Average of batch'!$O8 -> 0.7435679 | AF8: ='Median normalized'!AF8/'Average of batch'!$Q8 -> 0.73447996 | AG8: ='Median normalized'!AG8/'Average of batch'!$Q8 -> 0.7096283 | AH8: ='Median normalized'!AH8/'Average of batch'!$S8 -> 0.90984271
A9: HMDB0000355 | B9: 3-Hydroxymethylglutaric acid | C9: ='Median normalized'!C9/'Average of batch'!$C9 -> 0.94425427 | D9: ='Median normalized'!D9/'Average of batch'!$C9 -> 1.0557457 | E9: ='Median normalized'!E9/'Average of batch'!$E9 -> 1.0167034 | F9: ='Median normalized'!F9/'Average of batch'!$E9 -> 0.98432769 | G9: ='Median normalized'!G9/'Average of batch'!$E9 -> 1.0263307 | H9: ='Median normalized'!H9/'Average of batch'!$E9 -> 0.97263822 | I9: ='Median normalized'!I9/'Average of batch'!$I9 -> 1.0166187 | J9: ='Median normalized'!J9/'Average of batch'!$I9 -> 0.98338131 | K9: ='Median normalized'!K9/'Average of batch'!$K9 -> 0.93639973 | L9: ='Median normalized'!L9/'Average of batch'!$K9 -> 1.0636003 | M9: ='Median normalized'!M9/'Average of batch'!$M9 -> 0.91040734 | N9: ='Median normalized'!N9/'Average of batch'!$M9 -> 1.0895927 | O9: ='Median normalized'!O9/'Average of batch'!$O9 -> 0.8905558 | P9: ='Median normalized'!P9/'Average of batch'!$O9 -> 1.1094442 | Q9: ='Median normalized'!Q9/'Average of batch'!$Q9 -> 0.95820166 | R9: ='Median normalized'!R9/'Average of batch'!$Q9 -> 1.0417983 | S9: ='Median normalized'!S9/'Average of batch'!$S9 -> 1 | T9: ='Median normalized'!T9/'Average of batch'!$C9 -> 0.92303604 | U9: ='Median normalized'!U9/'Average of batch'!$C9 -> 0.8760114 | V9: ='Median normalized'!V9/'Average of batch'!$E9 -> 0.6589622 | W9: ='Median normalized'!W9/'Average of batch'!$E9 -> 0.71476932 | X9: ='Median normalized'!X9/'Average of batch'!$I9 -> 0.95404211 | Y9: ='Median normalized'!Y9/'Average of batch'!$I9 -> 0.96965831 | Z9: ='Median normalized'!Z9/'Average of batch'!$K9 -> 0.75152324 | AA9: ='Median normalized'!AA9/'Average of batch'!$K9 -> 0.7002533 | AB9: ='Median normalized'!AB9/'Average of batch'!$M9 -> 0.90478752 | AC9: ='Median normalized'!AC9/'Average of batch'!$M9 -> 0.79890972 | AD9: ='Median normalized'!AD9/'Average of batch'!$O9 -> 0.5960729 | AE9: ='Median normalized'!AE9/'Average of batch'!$O9 -> 0.60122783 | AF9: ='Median normalized'!AF9/'Average of batch'!$Q9 -> 0.57005572 | AG9: ='Median normalized'!AG9/'Average of batch'!$Q9 -> 0.52539989 | AH9: ='Median normalized'!AH9/'Average of batch'!$S9 -> 0.98907318
A10: HMDB0002302 | B10: 3-Indolepropionic acid | C10: ='Median normalized'!C10/'Average of batch'!$C10 -> 1.036702 | D10: ='Median normalized'!D10/'Average of batch'!$C10 -> 0.96329801 | E10: ='Median normalized'!E10/'Average of batch'!$E10 -> 1.1977512 | F10: ='Median normalized'!F10/'Average of batch'!$E10 -> 1.3061748 | G10: ='Median normalized'!G10/'Average of batch'!$E10 -> 0.84359655 | H10: ='Median normalized'!H10/'Average of batch'!$E10 -> 0.65247753 | I10: ='Median normalized'!I10/'Average of batch'!$I10 -> 1.1450848 | J10: ='Median normalized'!J10/'Average of batch'!$I10 -> 0.85491519 | K10: ='Median normalized'!K10/'Average of batch'!$K10 -> 1.0508405 | L10: ='Median normalized'!L10/'Average of batch'!$K10 -> 0.94915948 | M10: ='Median normalized'!M10/'Average of batch'!$M10 -> 1.0004151 | N10: ='Median normalized'!N10/'Average of batch'!$M10 -> 0.99958486 | O10: ='Median normalized'!O10/'Average of batch'!$O10 -> 1.0008816 | P10: ='Median normalized'!P10/'Average of batch'!$O10 -> 0.99911842 | Q10: ='Median normalized'!Q10/'Average of batch'!$Q10 -> 0.78853572 | R10: ='Median normalized'!R10/'Average of batch'!$Q10 -> 1.2114643 | S10: ='Median normalized'!S10/'Average of batch'!$S10 -> 1 | T10: ='Median normalized'!T10/'Average of batch'!$C10 -> 0.89884607 | U10: ='Median normalized'!U10/'Average of batch'!$C10 -> 0.62805098 | V10: ='Median normalized'!V10/'Average of batch'!$E10 -> 1.0444264 | W10: ='Median normalized'!W10/'Average of batch'!$E10 -> 0.99379919 | X10: ='Median normalized'!X10/'Average of batch'!$I10 -> 1.1372126 | Y10: ='Median normalized'!Y10/'Average of batch'!$I10 -> 0.60507676 | Z10: ='Median normalized'!Z10/'Average of batch'!$K10 -> 0.96857451 | AA10: ='Median normalized'!AA10/'Average of batch'!$K10 -> 0.69813626 | AB10: ='Median normalized'!AB10/'Average of batch'!$M10 -> 0.77533187 | AC10: ='Median normalized'!AC10/'Average of batch'!$M10 -> 0.85243166 | AD10: ='Median normalized'!AD10/'Average of batch'!$O10 -> 0.86660588 | AE10: ='Median normalized'!AE10/'Average of batch'!$O10 -> 0.86767516 | AF10: ='Median normalized'!AF10/'Average of batch'!$Q10 -> 0.75746073 | AG10: ='Median normalized'!AG10/'Average of batch'!$Q10 -> 0.66129643 | AH10: ='Median normalized'!AH10/'Average of batch'!$S10 -> 0.83798019
A11: HMDB0000479 | B11: 3-Methylhistidine | C11: ='Median normalized'!C11/'Average of batch'!$C11 -> 1.0058509 | D11: ='Median normalized'!D11/'Average of batch'!$C11 -> 0.99414907 | E11: ='Median normalized'!E11/'Average of batch'!$E11 -> 0.87763626 | F11: ='Median normalized'!F11/'Average of batch'!$E11 -> 0.95943132 | G11: ='Median normalized'!G11/'Average of batch'!$E11 -> 1.0218127 | H11: ='Median normalized'!H11/'Average of batch'!$E11 -> 1.1411197 | I11: ='Median normalized'!I11/'Average of batch'!$I11 -> 1.0919772 | J11: ='Median normalized'!J11/'Average of batch'!$I11 -> 0.90802282 | K11: ='Median normalized'!K11/'Average of batch'!$K11 -> 1.0255951 | L11: ='Median normalized'!L11/'Average of batch'!$K11 -> 0.9744049 | M11: ='Median normalized'!M11/'Average of batch'!$M11 -> 0.93704868 | N11: ='Median normalized'!N11/'Average of batch'!$M11 -> 1.0629513 | O11: ='Median normalized'!O11/'Average of batch'!$O11 -> 1.0137089 | P11: ='Median normalized'!P11/'Average of batch'!$O11 -> 0.98629109 | Q11: ='Median normalized'!Q11/'Average of batch'!$Q11 -> 1.1236826 | R11: ='Median normalized'!R11/'Average of batch'!$Q11 -> 0.87631741 | S11: ='Median normalized'!S11/'Average of batch'!$S11 -> 1 | T11: ='Median normalized'!T11/'Average of batch'!$C11 -> 1.0810856 | U11: ='Median normalized'!U11/'Average of batch'!$C11 -> 0.98686072 | V11: ='Median normalized'!V11/'Average of batch'!$E11 -> 0.54754987 | W11: ='Median normalized'!W11/'Average of batch'!$E11 -> 0.58309661 | X11: ='Median normalized'!X11/'Average of batch'!$I11 -> 1.1120399 | Y11: ='Median normalized'!Y11/'Average of batch'!$I11 -> 1.0398198 | Z11: ='Median normalized'!Z11/'Average of batch'!$K11 -> 0.96645457 | AA11: ='Median normalized'!AA11/'Average of batch'!$K11 -> 0.77782547 | AB11: ='Median normalized'!AB11/'Average of batch'!$M11 -> 0.85168632 | AC11: ='Median normalized'!AC11/'Average of batch'!$M11 -> 1.1273701 | AD11: ='Median normalized'!AD11/'Average of batch'!$O11 -> 1.3764137 | AE11: ='Median normalized'!AE11/'Average of batch'!$O11 -> 1.1793561 | AF11: ='Median normalized'!AF11/'Average of batch'!$Q11 -> 0.59969426 | AG11: ='Median normalized'!AG11/'Average of batch'!$Q11 -> 0.62089139 | AH11: ='Median normalized'!AH11/'Average of batch'!$S11 -> 0.97528142
A12: HMDB0000807 | B12: 3-Phosphoglyceric acid | C12: ='Median normalized'!C12/'Average of batch'!$C12 -> 1.0465105 | D12: ='Median normalized'!D12/'Average of batch'!$C12 -> 0.95348955 | E12: ='Median normalized'!E12/'Average of batch'!$E12 -> 0.89168422 | F12: ='Median normalized'!F12/'Average of batch'!$E12 -> 1.0269814 | G12: ='Median normalized'!G12/'Average of batch'!$E12 -> 1.0649813 | H12: ='Median normalized'!H12/'Average of batch'!$E12 -> 1.0163531 | I12: ='Median normalized'!I12/'Average of batch'!$I12 -> 1.3007363 | J12: ='Median normalized'!J12/'Average of batch'!$I12 -> 0.69926368 | K12: ='Median normalized'!K12/'Average of batch'!$K12 -> 1.2129596 | L12: ='Median normalized'!L12/'Average of batch'!$K12 -> 0.78704043 | M12: ='Median normalized'!M12/'Average of batch'!$M12 -> 0.74281987 | N12: ='Median normalized'!N12/'Average of batch'!$M12 -> 1.2571801 | O12: ='Median normalized'!O12/'Average of batch'!$O12 -> 0.66659401 | P12: ='Median normalized'!P12/'Average of batch'!$O12 -> 1.333406 | Q12: ='Median normalized'!Q12/'Average of batch'!$Q12 -> 1.1141251 | R12: ='Median normalized'!R12/'Average of batch'!$Q12 -> 0.88587487 | S12: ='Median normalized'!S12/'Average of batch'!$S12 -> 1 | T12: ='Median normalized'!T12/'Average of batch'!$C12 -> 0.61593322 | U12: ='Median normalized'!U12/'Average of batch'!$C12 -> 0.59703268 | V12: ='Median normalized'!V12/'Average of batch'!$E12 -> 0.92726405 | W12: ='Median normalized'!W12/'Average of batch'!$E12 -> 1.0153798 | X12: ='Median normalized'!X12/'Average of batch'!$I12 -> 4.5400699 | Y12: ='Median normalized'!Y12/'Average of batch'!$I12 -> 2.9896541 | Z12: ='Median normalized'!Z12/'Average of batch'!$K12 -> 2.7304459 | AA12: ='Median normalized'!AA12/'Average of batch'!$K12 -> 2.5548328 | AB12: ='Median normalized'!AB12/'Average of batch'!$M12 -> 3.4969925 | AC12: ='Median normalized'!AC12/'Average of batch'!$M12 -> 3.2884755 | AD12: ='Median normalized'!AD12/'Average of batch'!$O12 -> 3.3920373 | AE12: ='Median normalized'!AE12/'Average of batch'!$O12 -> 2.0701671 | AF12: ='Median normalized'!AF12/'Average of batch'!$Q12 -> 0.77913444 | AG12: ='Median normalized'!AG12/'Average of batch'!$Q12 -> 0.85385234 | AH12: ='Median normalized'!AH12/'Average of batch'!$S12 -> 3.5822992
A13: HMDB0003681 | B13: 4-Acetamidobutanoic acid | C13: ='Median normalized'!C13/'Average of batch'!$C13 -> #DIV/0! | D13: ='Median normalized'!D13/'Average of batch'!$C13 -> #DIV/0! | E13: ='Median normalized'!E13/'Average of batch'!$E13 -> #DIV/0! | F13: ='Median normalized'!F13/'Average of batch'!$E13 -> #DIV/0! | G13: ='Median normalized'!G13/'Average of batch'!$E13 -> #DIV/0! | H13: ='Median normalized'!H13/'Average of batch'!$E13 -> #DIV/0! | I13: ='Median normalized'!I13/'Average of batch'!$I13 -> #DIV/0! | J13: ='Median normalized'!J13/'Average of batch'!$I13 -> #DIV/0! | K13: ='Median normalized'!K13/'Average of batch'!$K13 -> #DIV/0! | L13: ='Median normalized'!L13/'Average of batch'!$K13 -> #DIV/0! | M13: ='Median normalized'!M13/'Average of batch'!$M13 -> #DIV/0! | N13: ='Median normalized'!N13/'Average of batch'!$M13 -> #DIV/0! | O13: ='Median normalized'!O13/'Average of batch'!$O13 -> #DIV/0! | P13: ='Median normalized'!P13/'Average of batch'!$O13 -> #DIV/0! | Q13: ='Median normalized'!Q13/'Average of batch'!$Q13 -> #DIV/0! | R13: ='Median normalized'!R13/'Average of batch'!$Q13 -> #DIV/0! | S13: ='Median normalized'!S13/'Average of batch'!$S13 -> #DIV/0! | T13: ='Median normalized'!T13/'Average of batch'!$C13 -> #DIV/0! | U13: ='Median normalized'!U13/'Average of batch'!$C13 -> #DIV/0! | V13: ='Median normalized'!V13/'Average of batch'!$E13 -> #DIV/0! | W13: ='Median normalized'!W13/'Average of batch'!$E13 -> #DIV/0! | X13: ='Median normalized'!X13/'Average of batch'!$I13 -> #DIV/0! | Y13: ='Median normalized'!Y13/'Average of batch'!$I13 -> #DIV/0! | Z13: ='Median normalized'!Z13/'Average of batch'!$K13 -> #DIV/0! | AA13: ='Median normalized'!AA13/'Average of batch'!$K13 -> #DIV/0! | AB13: ='Median normalized'!AB13/'Average of batch'!$M13 -> #DIV/0! | AC13: ='Median normalized'!AC13/'Average of batch'!$M13 -> #DIV/0! | AD13: ='Median normalized'!AD13/'Average of batch'!$O13 -> #DIV/0! | AE13: ='Median normalized'!AE13/'Average of batch'!$O13 -> #DIV/0! | AF13: ='Median normalized'!AF13/'Average of batch'!$Q13 -> #DIV/0! | AG13: ='Median normalized'!AG13/'Average of batch'!$Q13 -> #DIV/0! | AH13: ='Median normalized'!AH13/'Average of batch'!$S13 -> #DIV/0!
A14: HMDB0000725 | B14: 4-Hydroxyproline | C14: ='Median normalized'!C14/'Average of batch'!$C14 -> 0.98489773 | D14: ='Median normalized'!D14/'Average of batch'!$C14 -> 1.0151023 | E14: ='Median normalized'!E14/'Average of batch'!$E14 -> 1.0749343 | F14: ='Median normalized'!F14/'Average of batch'!$E14 -> 1.0036795 | G14: ='Median normalized'!G14/'Average of batch'!$E14 -> 0.99489727 | H14: ='Median normalized'!H14/'Average of batch'!$E14 -> 0.92648886 | I14: ='Median normalized'!I14/'Average of batch'!$I14 -> 0.92438578 | J14: ='Median normalized'!J14/'Average of batch'!$I14 -> 1.0756142 | K14: ='Median normalized'!K14/'Average of batch'!$K14 -> 0.921792 | L14: ='Median normalized'!L14/'Average of batch'!$K14 -> 1.078208 | M14: ='Median normalized'!M14/'Average of batch'!$M14 -> 1.0119137 | N14: ='Median normalized'!N14/'Average of batch'!$M14 -> 0.98808633 | O14: ='Median normalized'!O14/'Average of batch'!$O14 -> 1.0427243 | P14: ='Median normalized'!P14/'Average of batch'!$O14 -> 0.95727566 | Q14: ='Median normalized'!Q14/'Average of batch'!$Q14 -> 0.95305758 | R14: ='Median normalized'!R14/'Average of batch'!$Q14 -> 1.0469424 | S14: ='Median normalized'!S14/'Average of batch'!$S14 -> 1 | T14: ='Median normalized'!T14/'Average of batch'!$C14 -> 1.0621738 | U14: ='Median normalized'!U14/'Average of batch'!$C14 -> 1.1400829 | V14: ='Median normalized'!V14/'Average of batch'!$E14 -> 0.87185086 | W14: ='Median normalized'!W14/'Average of batch'!$E14 -> 0.98325894 | X14: ='Median normalized'!X14/'Average of batch'!$I14 -> 0.98947316 | Y14: ='Median normalized'!Y14/'Average of batch'!$I14 -> 0.85984948 | Z14: ='Median normalized'!Z14/'Average of batch'!$K14 -> 0.91151017 | AA14: ='Median normalized'!AA14/'Average of batch'!$K14 -> 0.89140836 | AB14: ='Median normalized'!AB14/'Average of batch'!$M14 -> 1.0602604 | AC14: ='Median normalized'!AC14/'Average of batch'!$M14 -> 0.89632037 | AD14: ='Median normalized'!AD14/'Average of batch'!$O14 -> 0.93406433 | AE14: ='Median normalized'!AE14/'Average of batch'!$O14 -> 1.1327356 | AF14: ='Median normalized'!AF14/'Average of batch'!$Q14 -> 0.92055888 | AG14: ='Median normalized'!AG14/'Average of batch'!$Q14 -> 0.86218417 | AH14: ='Median normalized'!AH14/'Average of batch'!$S14 -> 1.1008367
A15: HMDB0000017 | B15: 4-Pyridoxic acid | C15: ='Median normalized'!C15/'Average of batch'!$C15 -> #DIV/0! | D15: ='Median normalized'!D15/'Average of batch'!$C15 -> #DIV/0! | E15: ='Median normalized'!E15/'Average of batch'!$E15 -> #DIV/0! | F15: ='Median normalized'!F15/'Average of batch'!$E15 -> #DIV/0! | G15: ='Median normalized'!G15/'Average of batch'!$E15 -> #DIV/0! | H15: ='Median normalized'!H15/'Average of batch'!$E15 -> #DIV/0! | I15: ='Median normalized'!I15/'Average of batch'!$I15 -> #DIV/0! | J15: ='Median normalized'!J15/'Average of batch'!$I15 -> #DIV/0! | K15: ='Median normalized'!K15/'Average of batch'!$K15 -> #DIV/0! | L15: ='Median normalized'!L15/'Average of batch'!$K15 -> #DIV/0! | M15: ='Median normalized'!M15/'Average of batch'!$M15 -> #DIV/0! | N15: ='Median normalized'!N15/'Average of batch'!$M15 -> #DIV/0! | O15: ='Median normalized'!O15/'Average of batch'!$O15 -> #DIV/0! | P15: ='Median normalized'!P15/'Average of batch'!$O15 -> #DIV/0! | Q15: ='Median normalized'!Q15/'Average of batch'!$Q15 -> #DIV/0! | R15: ='Median normalized'!R15/'Average of batch'!$Q15 -> #DIV/0! | S15: ='Median normalized'!S15/'Average of batch'!$S15 -> #DIV/0! | T15: ='Median normalized'!T15/'Average of batch'!$C15 -> #DIV/0! | U15: ='Median normalized'!U15/'Average of batch'!$C15 -> #DIV/0! | V15: ='Median normalized'!V15/'Average of batch'!$E15 -> #DIV/0! | W15: ='Median normalized'!W15/'Average of batch'!$E15 -> #DIV/0! | X15: ='Median normalized'!X15/'Average of batch'!$I15 -> #DIV/0! | Y15: ='Median normalized'!Y15/'Average of batch'!$I15 -> #DIV/0! | Z15: ='Median normalized'!Z15/'Average of batch'!$K15 -> #DIV/0! | AA15: ='Median normalized'!AA15/'Average of batch'!$K15 -> #DIV/0! | AB15: ='Median normalized'!AB15/'Average of batch'!$M15 -> #DIV/0! | AC15: ='Median normalized'!AC15/'Average of batch'!$M15 -> #DIV/0! | AD15: ='Median normalized'!AD15/'Average of batch'!$O15 -> #DIV/0! | AE15: ='Median normalized'!AE15/'Average of batch'!$O15 -> #DIV/0! | AF15: ='Median normalized'!AF15/'Average of batch'!$Q15 -> #DIV/0! | AG15: ='Median normalized'!AG15/'Average of batch'!$Q15 -> #DIV/0! | AH15: ='Median normalized'!AH15/'Average of batch'!$S15 -> #DIV/0!
A16: HMDB0001161 | B16: 4-Trimethylammoniobutanoic acid | C16: ='Median normalized'!C16/'Average of batch'!$C16 -> 1.0288582 | D16: ='Median normalized'!D16/'Average of batch'!$C16 -> 0.97114178 | E16: ='Median normalized'!E16/'Average of batch'!$E16 -> 0.99064513 | F16: ='Median normalized'!F16/'Average of batch'!$E16 -> 1.0904343 | G16: ='Median normalized'!G16/'Average of batch'!$E16 -> 0.97033748 | H16: ='Median normalized'!H16/'Average of batch'!$E16 -> 0.94858309 | I16: ='Median normalized'!I16/'Average of batch'!$I16 -> 1.0008021 | J16: ='Median normalized'!J16/'Average of batch'!$I16 -> 0.99919786 | K16: ='Median normalized'!K16/'Average of batch'!$K16 -> 1.0077887 | L16: ='Median normalized'!L16/'Average of batch'!$K16 -> 0.99221131 | M16: ='Median normalized'!M16/'Average of batch'!$M16 -> 0.97245521 | N16: ='Median normalized'!N16/'Average of batch'!$M16 -> 1.0275448 | O16: ='Median normalized'!O16/'Average of batch'!$O16 -> 0.99359884 | P16: ='Median normalized'!P16/'Average of batch'!$O16 -> 1.0064012 | Q16: ='Median normalized'!Q16/'Average of batch'!$Q16 -> 0.9249599 | R16: ='Median normalized'!R16/'Average of batch'!$Q16 -> 1.0750401 | S16: ='Median normalized'!S16/'Average of batch'!$S16 -> 1 | T16: ='Median normalized'!T16/'Average of batch'!$C16 -> 1.0829876 | U16: ='Median normalized'!U16/'Average of batch'!$C16 -> 0.99089185 | V16: ='Median normalized'!V16/'Average of batch'!$E16 -> 1.039378 | W16: ='Median normalized'!W16/'Average of batch'!$E16 -> 1.1320711 | X16: ='Median normalized'!X16/'Average of batch'!$I16 -> 1.1460377 | Y16: ='Median normalized'!Y16/'Average of batch'!$I16 -> 1.0264992 | Z16: ='Median normalized'!Z16/'Average of batch'!$K16 -> 1.0140705 | AA16: ='Median normalized'!AA16/'Average of batch'!$K16 -> 0.86818049 | AB16: ='Median normalized'!AB16/'Average of batch'!$M16 -> 1.031125 | AC16: ='Median normalized'!AC16/'Average of batch'!$M16 -> 0.94338585 | AD16: ='Median normalized'!AD16/'Average of batch'!$O16 -> 1.0201021 | AE16: ='Median normalized'!AE16/'Average of batch'!$O16 -> 0.98540272 | AF16: ='Median normalized'!AF16/'Average of batch'!$Q16 -> 0.863192 | AG16: ='Median normalized'!AG16/'Average of batch'!$Q16 -> 0.79477867 | AH16: ='Median normalized'!AH16/'Average of batch'!$S16 -> 1.2960458
